{"text_format":"3","workbook":"xlsx","n_sheets":16,"sheets":["Sheet1","Sheet2","Sheet3","5. Pitanje","6. Pitanje","12. Pitanje","13. Pitanje","19. Pitanje","22. Pitanje","23. Pitanje","24. Pitanje","25. Pitanje","27. Pitanje","28. Pitanje","29. Pitanje","30. Pitanje"],"not_rendered":{"defined_names":1},"read":"whole","date_system":"1900"}

{"sheet":"Sheet1","index":0,"n_rows":893,"n_cols":83,"rows_kept":893}
["Respondent ID","Collector ID","Start Date","End Date","IP Address","Email Address","First Name","Last Name","Custom Data 1","Age","Gender","Country of origin","In what country do you presently work?","Continent","For how many years have you practiced anaesthesia?","How many years of specialization are/were obligatory during your training in anaesthesia and/or intensive care?","Current professional position?","Hospital where you practice is a","Are you involved in teaching anesthesia residents?","How many days per week are you involved in teaching residents?","For how many years have you been teaching?","Do you have any knowledge or formal training in teaching?","Column1","Column2","Column3","Column4","Column5","Column6","Column7","Is there any current training in medical education (how to teach) as a part of the residency program in your country?","Column8","What are your engagements when teaching residents? Choose all appropriate answer","Column9","Column10","Column11","Column12","Column13","Which of the teaching skills do you use in your own teaching? Choose all appropriate answers","Column14","Column15","Column16","Column17","Column18","Column19","Column20","Column21","Are you involved in the organization of the teaching program at your institution?","Are you engaged as a mentor to anaesthesia residents?","Are you involved in any form of assessment of the residents? Choose all appropriate answers","Column22","Column23","Column24","Column25","Column26","Column27","Column28","Is your teaching valued in your department or institution?","Column29","Column30","Column31","Column32","What do you perceive as obstacles to your teaching? Choose all the appropriate answers","Column33","Column34","Column35","Column36","Column37","Column38","Column39","Why are you not involved in teaching anaesthesia residents?","Column40","Do you have a national anaesthesia curriculum in your country?","Do you have any knowledge of competence-based (or outcome-based) education?","Do you have any information regarding European Training Requirements (ETR) in Anaesthesiology:","Is the curriculum in the Medical Schools (pre and postgraduation) in your country outcome (competence) based?","If yes, since when?","What type of curriculum is implemented in your hospital?","Column41","Who is responsible for curriculum development and implementation?","In your country, after the completion of the residency program, how is the competence of residents assessed so that they may become specialists?","Column42","In your country, if residents have to pass an exam(s) to become specialists, how is that exam structured?"]
[{"$nulls":9},"Response","Response","Response","Response",null,"Response","Response","Response","Response","Response","Response","Response","Master in Medical Education","Obligatory teaching courses for University teachers","ESAIC Teach the Teacher (TTT) courses","Other short TTT courses","Advanced Life Support (ALS), Basic Life Support (BLS) or other specific courses","Simulation courses","None","Other (please specify)","Response","Other (please specify)","I give lectures","Perform work-based interactive teaching (operating room)","Running clinical case discussions","Involved in simulation sessions","Teach informally, during every day work","Other (please specify)","Planning and preparation for teaching session","Using visual aids","Interactive teaching","Problem based learning","Teaching the skills","Giving feedback","Organizing and leading the discussions","Organizing specific sessions (journal clubs, interactive sessions, pro and con debate…)","Other (please specify)","Response","Response","I am an examiner for the final exam","I am European Diploma in Anaesthesia and Intensive Care (EDAIC) part II examiner","I occasionally carry out assessment during the residency program (Direct Observation of Procedural Skills - DOPS)","I give feedback during simulation sessions","I give feedback during everyday work","I am involved in other forms of formative assessment (for example multisource feedback)","I am not involved in any kind of assessment","Other (please specify)","Yes, I am paid more","Yes, it is recognised for promotion in academia.","Yes, I have a more visible position in the department","No, it is assumed as being a part of everyday work","No","Lack of training","Lack of time","Lack of motivation","No recognition","Overloaded with work","Lack of opportunity","Lack of organization","Other (please specify)","Response","Other (please specify)","Response","Response","Response","Response","Date / Time","Response","Other (please specify)","Response","Response","Other (please specify)","Response","Other (please specify)"]
[13031806757,408998795,"2021-10-09T11:10:02","2021-09-23T09:39:15","79.106.104.128",{"$nulls":4},"31-35","Female","Albania","Albania","Europe","5-10",4,"Specialist","Specialized clinic","No (please refer to Q21)",{"$nulls":50},"I work in a non-teaching hospital",null,"No","I have some ideas, but it is not clear to me","Yes","I am not sure",null,"Classic surgical specialties based curriculum",null,"Department of anaesthesiology","They have to pass a national board exam",null,"It is only oral examination"]
[13028151175,408998795,"2021-10-07T23:19:23","2021-09-23T09:30:59","82.114.80.33",{"$nulls":4},"50+","Male","Albania","Albania","Europe","16-20",5,"Specialist","Private hospital","No (please refer to Q21)"]
[13027480940,408998795,"2021-10-07T19:07:50","2021-09-08T09:39:40","134.0.63.212",{"$nulls":4},"50+","Male","Albania","Albania","Europe","over 20 years",3,"Teacher (in University)","Academic hospital (Teaching or University related)","Yes (please refer to Q10)","Every day","over 16",{"$nulls":4},"Advanced Life Support (ALS), Basic Life Support (BLS) or other specific courses",{"$nulls":3},"Yes",null,"I give lectures",{"$nulls":3},"Teach informally, during every day work",null,"Planning and preparation for teaching session",null,"Interactive teaching","Problem based learning","Teaching the skills",null,"Organizing and leading the discussions",null,null,"Yes","Yes","I am an examiner for the final exam",{"$nulls":8},"Yes, it is recognised for promotion in academia.",{"$nulls":9},"Lack of organization",{"$nulls":3},"Yes","I know what is it, but outcome-based education is not implemented in my country","Yes","I am not sure",null,"Content based curriculum",null,"University","They have to pass a university board exam",null,"Written, oral examination and some practical assessment"]
[13027012243,408998795,"2021-10-07T16:44:55","2021-09-02T22:37:25","95.107.173.10",{"$nulls":4},"50+","Female","Albania","Albania","Europe","over 20 years",3,"Teacher (in University)","Academic hospital (Teaching or University related)","Yes (please refer to Q10)","Almost every day","6-10","Master in Medical Education",{"$nulls":7},"Yes",null,"I give lectures","Perform work-based interactive teaching (operating room)",null,null,"Teach informally, during every day work",null,"Planning and preparation for teaching session",null,"Interactive teaching",{"$nulls":6},"Yes","Yes","I am an examiner for the final exam",{"$nulls":7},"Yes, I am paid more",{"$nulls":4},"Lack of training",{"$nulls":4},"Lack of opportunity","Lack of organization",null,"I work with residents, but I do not see that as teaching",null,"No","Yes, I am well informed","Yes","No",null,"Classic surgical specialties based curriculum",null,"National body responsible for education (Ministry of health or education, National board for anaesthesia …)","They have to pass a national board exam",null,"Written and oral examination","they dont"]
[13023985752,408998795,"2021-10-06T17:46:30","2021-09-02T20:00:12","46.252.45.62",{"$nulls":4},"50+","Female","Albania","Albania","Europe","over 20 years",4,"Specialist","Academic hospital (Teaching or University related)","Yes (please refer to Q10)"]
[13021317791,408998795,"2021-10-05T21:14:29","2021-10-05T21:20:14","43.245.121.205",{"$nulls":4},"31-35","Male","Bangladesh","Bangladesh","Asia","5-10","Less than 3","Specialist","Specialized clinic","No (please refer to Q21)",{"$nulls":50},"I work in a non-teaching hospital",null,"Yes","I do not know much","I am not sure","I am not sure",null,"Classic surgical specialties based curriculum",null,"Department of anaesthesiology","They have to pass a university board exam",null,"VIVA (Oral examination), written and OSCE examination"]
[13020247718,408998795,"2021-10-05T15:30:43","2021-09-02T19:04:12","31.22.49.29",{"$nulls":4},"41-50","Male","Albania","Albania","Europe","over 20 years",4,"Lecturer","Academic hospital (Teaching or University related)","Yes (please refer to Q10)","Once a week","over 16","Master in Medical Education",{"$nulls":7},"No",null,"I give lectures","Perform work-based interactive teaching (operating room)","Running clinical case discussions",{"$nulls":3},"Planning and preparation for teaching session","Using visual aids",null,"Problem based learning",null,null,"Organizing and leading the discussions",null,null,"Yes","Yes","I am an examiner for the final exam",null,null,"I give feedback during simulation sessions","I give feedback during everyday work",{"$nulls":3},"Yes, I am paid more","Yes, it is recognised for promotion in academia.",{"$nulls":4},"Lack of time",null,null,"Overloaded with work",null,"Lack of organization",null,"I work in a non-teaching hospital",null,"Yes","Yes, I am well informed","No","I am not sure",null,"Competency (outcome) based curriculum",null,"University","They have to pass a national board exam",null,"Written and oral examination"]
[13020093900,408998795,"2021-10-05T14:41:31","2021-10-05T14:42:44","157.49.66.38",{"$nulls":4},"50+","Female","India","India","Asia","over 20 years","Less than 3","Senior specialist","Specialized clinic","Yes (please refer to Q10)"]
[13019052609,408998795,"2021-10-05T04:42:56","2021-10-05T04:54:45","201.105.160.123",{"$nulls":4},"50+","Female","Mexico","Mexico","North America","over 20 years",3,"Specialist","Academic hospital (Teaching or University related)","Yes (please refer to Q10)","Every day","over 16",null,"Obligatory teaching courses for University teachers",{"$nulls":6},"Yes",null,null,"Perform work-based interactive teaching (operating room)",{"$nulls":7},"Problem based learning",{"$nulls":5},"No","No",{"$nulls":4},"I give feedback during everyday work",{"$nulls":4},"Yes, it is recognised for promotion in academia.",{"$nulls":5},"Lack of motivation",{"$nulls":5},"I work with residents, but I do not see that as teaching",null,"Yes","I have some ideas, but it is not clear to me","Yes","Yes",null,"Competency (outcome) based curriculum",null,"University","They have to pass a university board exam",null,"Written, oral examination and some practical assessment"]
[]
[13017000002,408998795,"2021-10-04T15:36:01","2021-10-04T15:39:51","157.40.96.34",{"$nulls":4},"41-50","Male","India","India","Asia","11-15",4,"Specialist","Academic hospital (Teaching or University related)","No (please refer to Q21)",{"$nulls":50},"Other (please specify)","I right work as DM cardiac anesthesia trainee so dont find enough time to teach","Yes","I have some ideas, but it is not clear to me","No","No",null,"Content based curriculum",null,"National body responsible for education (Ministry of health or education, National board for anaesthesia …)","They have to pass a university board exam",null,"It is only oral examination"]
[13016326985,408998795,"2021-10-04T10:35:16","2021-09-28T19:02:31","46.70.120.132",{"$nulls":4},"50+","Male","Armenia","Armenia","Europe","over 20 years",3,"Teacher (in University)","Academic hospital (Teaching or University related)","Yes (please refer to Q10)","Every day","over 16",{"$nulls":6},"None",null,"No",null,"I give lectures","Perform work-based interactive teaching (operating room)","Running clinical case discussions",null,"Teach informally, during every day work",{"$nulls":3},"Interactive teaching","Problem based learning","Teaching the skills","Giving feedback","Organizing and leading the discussions",null,null,"Yes","Yes","I am an examiner for the final exam","I am European Diploma in Anaesthesia and Intensive Care (EDAIC) part II examiner",null,null,"I give feedback during everyday work",{"$nulls":3},"Yes, I am paid more","Yes, it is recognised for promotion in academia.","Yes, I have a more visible position in the department",{"$nulls":3},"Lack of time",null,null,"Overloaded with work",{"$nulls":5},"Yes","Yes, I am well informed","Yes","No",null,"Content based curriculum",null,"University","They have to pass a university board exam",null,"It is only oral examination"]
[13015466091,408998795,"2021-10-03T23:55:16","2021-09-02T22:34:46","101.185.113.2",{"$nulls":4},"50+","Male","Ireland","Australia","Europe","over 20 years","Over 5","Chief of Department","Academic hospital (Teaching or University related)","Yes (please refer to Q10)","Every day","over 16",{"$nulls":6},"None",null,"Yes, some elements, but not systematically",null,"I give lectures","Perform work-based interactive teaching (operating room)",null,null,"Teach informally, during every day work",null,"Planning and preparation for teaching session","Using visual aids","Interactive teaching",null,"Teaching the skills","Giving feedback",{"$nulls":3},"Yes","Yes",null,null,"I occasionally carry out assessment during the residency program (Direct Observation of Procedural Skills - DOPS)","I give feedback during simulation sessions","I give feedback during everyday work","I am involved in other forms of formative assessment (for example multisource feedback)",{"$nulls":5},"No, it is assumed as being a part of everyday work",null,"Lack of training","Lack of time",{"$nulls":3},"Lack of opportunity",{"$nulls":4},"Yes","Yes, I am well informed","No","I am not sure",null,"Competency (outcome) based curriculum",null,"Society or association of anaesthesiology","They have to pass a national board exam",null,"Written, oral examination and some practical assessment"]
[13014542432,408998795,"2021-10-03T07:36:02","2021-09-23T13:18:25","82.218.178.146",{"$nulls":4},"25-30","Male","Austria","Austria","Europe","5-10","Over 5","Senior resident","Academic hospital (Teaching or University related)","Yes (please refer to Q10)","Once a week","Less than 5",{"$nulls":6},"None",null,"No",null,"I give lectures","Perform work-based interactive teaching (operating room)",null,null,"Teach informally, during every day work",null,"Planning and preparation for teaching session","Using visual aids","Interactive teaching",null,"Teaching the skills","Giving feedback","Organizing and leading the discussions","Organizing specific sessions (journal clubs, interactive sessions, pro and con debate…)",null,"Yes","No",{"$nulls":4},"I give feedback during everyday work",{"$nulls":7},"No",null,"Lack of time",{"$nulls":3},"Lack of opportunity","Lack of organization",{"$nulls":3},"Yes","I have no knowledge of what it is","No","No",null,"Classic surgical specialties based curriculum",null,"National body responsible for education (Ministry of health or education, National board for anaesthesia …)","They have to pass EDAIC part I",null,"Written and oral examination"]
[13013465628,408998795,"2021-10-02T11:45:26","2021-09-23T12:42:46","144.208.193.169",{"$nulls":4},"41-50","Female","Austria","Austria","Europe","16-20","Over 5","Specialist","Academic hospital (Teaching or University related)","Yes (please refer to Q10)","When in the operating theater (always have an allocated resident)","11-15",{"$nulls":6},"None",null,"Yes, some elements, but not systematically",null,"I give lectures","Perform work-based interactive teaching (operating room)",null,null,"Teach informally, during every day work",{"$nulls":3},"Interactive teaching",null,null,"Giving feedback",{"$nulls":3},"No","No",{"$nulls":4},"I give feedback during everyday work",{"$nulls":6},"No, it is assumed as being a part of everyday work",null,null,"Lack of time",null,null,"Overloaded with work",null,"Lack of organization",{"$nulls":3},"Yes","I have no knowledge of what it is","No","I am not sure",null,"I do not know",null,"Society or association of anaesthesiology","Other (please specify)","Edaic part I and National exam","Written and oral examination","Written only"]
[13013270999,408998795,"2021-10-02T08:05:24","2021-09-23T09:02:27","176.96.152.5",{"$nulls":4},"50+","Female","Germany","Austria","Europe","over 20 years",5,"Senior specialist","General hospital","Yes (please refer to Q10)","Almost every day","11-15",{"$nulls":4},"Advanced Life Support (ALS), Basic Life Support (BLS) or other specific courses","Simulation courses",null,null,"No, but students are exposed to outcome based teaching",null,"I give lectures","Perform work-based interactive teaching (operating room)","Running clinical case discussions",null,"Teach informally, during every day work",null,"Planning and preparation for teaching session","Using visual aids","Interactive teaching","Problem based learning","Teaching the skills","Giving feedback","Organizing and leading the discussions",null,null,"No","Yes",{"$nulls":4},"I give feedback during everyday work",{"$nulls":6},"No, it is assumed as being a part of everyday work",{"$nulls":7},"Lack of organization",null,"I work with residents, but I do not see that as teaching",null,"Yes","Yes, I am well informed","Yes","No",null,"I do not know",null,"I do not know","They have to pass a national board exam",null,"It is only oral examination"]
[13012989065,408998795,"2021-10-02T02:56:24","2021-10-02T03:03:18","103.112.65.241",{"$nulls":4},"41-50","Male","Bangladesh","Bangladesh","North America","11-15","Over 5","Specialist","Academic hospital (Teaching or University related)","Yes (please refer to Q10)",null,"Less than 5",{"$nulls":6},"None",null,"No",{"$nulls":5},"Teach informally, during every day work",{"$nulls":5},"Teaching the skills",{"$nulls":4},"Yes","No",{"$nulls":6},"I am not involved in any kind of assessment",{"$nulls":4},"No, it is assumed as being a part of everyday work",{"$nulls":5},"Overloaded with work",{"$nulls":3},"I am not employed by the university",null,"Yes","I do not know much","No","No",null,"Content based curriculum",null,"University","They have to pass a university board exam",null,"Written, oral examination and some practical assessment"]
[13011592041,408998795,"2021-10-01T16:22:19","2021-09-18T16:39:40","217.116.64.60",{"$nulls":4},"41-50","Female","Austria","Austria","Europe","11-15",5,"Senior specialist","General hospital","Yes (please refer to Q10)","Almost every day","6-10",{"$nulls":4},"Advanced Life Support (ALS), Basic Life Support (BLS) or other specific courses",{"$nulls":3},"Yes, some elements, but not systematically",null,null,"Perform work-based interactive teaching (operating room)",null,null,"Teach informally, during every day work",{"$nulls":4},"Problem based learning","Teaching the skills","Giving feedback",{"$nulls":3},"No","No",{"$nulls":4},"I give feedback during everyday work",{"$nulls":6},"No, it is assumed as being a part of everyday work",null,null,"Lack of time",null,"No recognition","Overloaded with work",{"$nulls":5},"Yes","I do not know much","No","No","09/18/2021","I do not know",null,"I do not know","They have to pass EDAIC part I",null,"Written and oral examination"]
[13011453714,408998795,"2021-10-01T07:32:31","2021-09-08T07:32:44","212.241.76.31",{"$nulls":4},"41-50","Male","Austria","Austria","Europe","5-10","Over 5","Specialist","General hospital","Yes (please refer to Q10)","When in the operating theater (always have an allocated resident)","Less than 5",{"$nulls":6},"None",null,"Yes, some elements, but not systematically",{"$nulls":5},"Teach informally, during every day work",{"$nulls":5},"Teaching the skills","Giving feedback",{"$nulls":3},"No","No",{"$nulls":4},"I give feedback during everyday work",{"$nulls":6},"No, it is assumed as being a part of everyday work",null,"Lack of training","Lack of time",{"$nulls":3},"Lack of opportunity","Lack of organization"]
[13010859439,408998795,"2021-10-01T10:35:12","2021-10-01T10:39:02","169.149.3.69",{"$nulls":4},"36-40","Female","India","India","Asia","5-10","Less than 3","Specialist","Academic hospital (Teaching or University related)","Yes (please refer to Q10)"]
[13010645242,408998795,"2021-10-01T07:32:31","2021-09-06T10:52:54","213.225.0.62",{"$nulls":4},"36-40","Female","Austria","Austria","Europe","5-10",5,"Senior resident","General hospital","Yes (please refer to Q10)","Once a week","Less than 5",{"$nulls":4},"Advanced Life Support (ALS), Basic Life Support (BLS) or other specific courses","Simulation courses",null,null,"No",{"$nulls":4},"Involved in simulation sessions","Teach informally, during every day work",{"$nulls":4},"Problem based learning","Teaching the skills","Giving feedback",{"$nulls":3},"No","Yes",{"$nulls":3},"I give feedback during simulation sessions","I give feedback during everyday work",{"$nulls":6},"No, it is assumed as being a part of everyday work",null,"Lack of training","Lack of time",{"$nulls":3},"Lack of opportunity",{"$nulls":4},"I do not know","I do not know much","No","I am not sure",null,"I do not know",null,"Department of anaesthesiology","They have to pass a national board exam",null,"Written and oral examination"]
[13010589945,408998795,"2021-10-01T07:32:31","2021-09-03T06:32:05","213.225.11.213",{"$nulls":4},"36-40","Male","Austria","Austria","Europe","11-15","Over 5","Senior specialist","Academic hospital (Teaching or University related)","Yes (please refer to Q10)","Almost every day","6-10",{"$nulls":3},"Other short TTT courses","Advanced Life Support (ALS), Basic Life Support (BLS) or other specific courses","Simulation courses",null,null,"No",null,"I give lectures","Perform work-based interactive teaching (operating room)","Running clinical case discussions","Involved in simulation sessions","Teach informally, during every day work",{"$nulls":3},"Interactive teaching",null,"Teaching the skills","Giving feedback",null,"Organizing specific sessions (journal clubs, interactive sessions, pro and con debate…)",null,"No","Yes",{"$nulls":3},"I give feedback during simulation sessions","I give feedback during everyday work",{"$nulls":5},"Yes, I have a more visible position in the department",null,null,"Lack of training","Lack of time",null,null,"Overloaded with work",null,"Lack of organization"]
[13009507436,408998795,"2021-09-30T21:55:26","2021-09-03T04:59:21","178.112.175.12",{"$nulls":4},"41-50","Female","Austria","Austria","Europe","16-20",5,"Specialist","General hospital","Yes (please refer to Q10)",{"$nulls":32},"I give feedback during simulation sessions","I give feedback during everyday work",{"$nulls":6},"No, it is assumed as being a part of everyday work",null,"Lack of training","Lack of time",null,null,"Overloaded with work","Lack of opportunity","Lack of organization",null,"I work in a non-teaching hospital",null,"Yes","I have some ideas, but it is not clear to me","No","Yes","09/03/2021","I do not know",null,"Hospital administration","They have to pass EDAIC part I",null,"Written and oral examination, but also OSCE (Objective Structured Clinical Examination)"]
[13009380677,408998795,"2021-09-30T21:02:49","2021-09-02T23:07:19","193.154.237.214",{"$nulls":4},"50+","Male","Germany","Austria","Europe","16-20",5,"Senior specialist","Academic hospital (Teaching or University related)","Yes (please refer to Q10)","Less than once a week","6-10",{"$nulls":6},"None",null,"No",null,null,"Perform work-based interactive teaching (operating room)",null,null,"Teach informally, during every day work",{"$nulls":3},"Interactive teaching","Problem based learning","Teaching the skills","Giving feedback",{"$nulls":3},"No","No",{"$nulls":4},"I give feedback during everyday work",{"$nulls":6},"No, it is assumed as being a part of everyday work",null,null,"Lack of time",{"$nulls":8},"I do not know","I do not know much","No","I am not sure",null,"I do not know",null,"Society or association of anaesthesiology","They have to pass a national board exam"]
[13009021554,408998795,"2021-09-30T18:47:35","2021-09-30T19:03:04","85.154.203.10",{"$nulls":4},"50+","Male","Bangladesh","Oman","Asia","16-20",5,"Specialist","Academic hospital (Teaching or University related)","No (please refer to Q21)",{"$nulls":50},"I work with residents, but I do not see that as teaching",null,"Yes","Yes, I am well informed","Yes","Yes","07/24/2008","Competency (outcome) based curriculum",null,"National body responsible for education (Ministry of health or education, National board for anaesthesia …)","They have to pass a university board exam",null,"Written and oral examination, but also OSCE (Objective Structured Clinical Examination)"]
[13008715675,408998795,"2021-09-30T16:25:54","2021-09-02T20:06:59","217.149.166.110",{"$nulls":4},"50+","Male","Austria","Austria","Europe","over 20 years","Over 5","Senior specialist","Academic hospital (Teaching or University related)","Yes (please refer to Q10)","Almost every day","over 16",null,"Obligatory teaching courses for University teachers",null,"Other short TTT courses","Advanced Life Support (ALS), Basic Life Support (BLS) or other specific courses",{"$nulls":3},"Yes, some elements, but not systematically",null,"I give lectures","Perform work-based interactive teaching (operating room)",null,null,"Teach informally, during every day work",null,"Planning and preparation for teaching session","Using visual aids","Interactive teaching","Problem based learning","Teaching the skills","Giving feedback","Organizing and leading the discussions","Organizing specific sessions (journal clubs, interactive sessions, pro and con debate…)",null,"Yes","Yes",null,"I am European Diploma in Anaesthesia and Intensive Care (EDAIC) part II examiner",null,null,"I give feedback during everyday work",{"$nulls":4},"Yes, it is recognised for promotion in academia.",{"$nulls":10},"na",null,null,"Yes","Yes, I am well informed","Yes","Yes","10/01/2002","Classic surgical specialties based curriculum",null,"National body responsible for education (Ministry of health or education, National board for anaesthesia …)","They have to pass a national board exam",null,"Written and oral examination, but also OSCE (Objective Structured Clinical Examination)"]
[13007465095,408998795,"2021-09-30T08:46:11","2021-09-02T19:28:05","185.246.22.36",{"$nulls":4},"41-50","Male","Austria","Austria","Europe","over 20 years",5,"Senior resident","General hospital","Yes (please refer to Q10)","Less than once a week","11-15",{"$nulls":4},"Advanced Life Support (ALS), Basic Life Support (BLS) or other specific courses","Simulation courses",null,null,"No",null,null,"Perform work-based interactive teaching (operating room)",null,"Involved in simulation sessions","Teach informally, during every day work",null,"Planning and preparation for teaching session","Using visual aids","Interactive teaching",null,"Teaching the skills","Giving feedback","Organizing and leading the discussions",null,null,"Yes","Yes",{"$nulls":3},"I give feedback during simulation sessions","I give feedback during everyday work","I am involved in other forms of formative assessment (for example multisource feedback)",{"$nulls":4},"Yes, I have a more visible position in the department",{"$nulls":3},"Lack of time",null,null,"Overloaded with work","Lack of opportunity","Lack of organization",{"$nulls":3},"Yes","I have some ideas, but it is not clear to me","No","I am not sure",null,"Content based curriculum",null,"Department of anaesthesiology","They have to pass a national board exam",null,"Written and oral examination"]
[13007459506,408998795,"2021-09-30T08:44:25","2021-09-02T18:52:47","213.162.73.178",{"$nulls":4},"41-50","Male","Austria","Austria","Europe","16-20","Over 5","Chief of Department","General hospital","Yes (please refer to Q10)","When in the operating theater (always have an allocated resident)","11-15",null,"Obligatory teaching courses for University teachers",null,null,"Advanced Life Support (ALS), Basic Life Support (BLS) or other specific courses","Simulation courses",null,null,"No",null,"I give lectures","Perform work-based interactive teaching (operating room)","Running clinical case discussions","Involved in simulation sessions","Teach informally, during every day work",null,"Planning and preparation for teaching session","Using visual aids","Interactive teaching","Problem based learning","Teaching the skills","Giving feedback","Organizing and leading the discussions",null,null,"Yes","No",null,"I am European Diploma in Anaesthesia and Intensive Care (EDAIC) part II examiner","I occasionally carry out assessment during the residency program (Direct Observation of Procedural Skills - DOPS)",null,"I give feedback during everyday work",{"$nulls":6},"No, it is assumed as being a part of everyday work",null,null,"Lack of time","Lack of motivation",null,"Overloaded with work",null,"Lack of organization",{"$nulls":3},"Yes","I have some ideas, but it is not clear to me","Yes","I am not sure",null,"Competency (outcome) based curriculum",null,"National body responsible for education (Ministry of health or education, National board for anaesthesia …)","They have to pass a national board exam",null,"Written and oral examination"]
[13007364291,408998795,"2021-09-30T07:43:37","2021-09-02T18:44:48","193.83.54.147",{"$nulls":4},"50+","Female","Austria","Austria","Europe","over 20 years","Over 5","Senior specialist","Academic hospital (Teaching or University related)","Yes (please refer to Q10)","Almost every day","over 16",{"$nulls":5},"Simulation courses",null,null,"Yes, some elements, but not systematically",null,null,"Perform work-based interactive teaching (operating room)",{"$nulls":7},"Problem based learning","Teaching the skills","Giving feedback","Organizing and leading the discussions","Organizing specific sessions (journal clubs, interactive sessions, pro and con debate…)",null,"No","Yes",{"$nulls":4},"I give feedback during everyday work",{"$nulls":5},"Yes, I have a more visible position in the department",null,null,"Lack of training","Lack of time",{"$nulls":4},"Lack of organization",{"$nulls":3},"Yes","Yes, I am well informed","Yes","I am not sure",null,"Classic surgical specialties based curriculum",null,"National body responsible for education (Ministry of health or education, National board for anaesthesia …)","They have to pass a national board exam",null,"Written and oral examination, but also OSCE (Objective Structured Clinical Examination)"]
[13007209686,408998795,"2021-09-30T05:54:37","2021-09-02T18:29:32","84.115.210.12",{"$nulls":4},"36-40","Female","Austria","Austria","Europe","5-10","Over 5","Specialist","Academic hospital (Teaching or University related)","Yes (please refer to Q10)","When in the operating theater (always have an allocated resident)","Less than 5",{"$nulls":3},"Other short TTT courses","Advanced Life Support (ALS), Basic Life Support (BLS) or other specific courses","Simulation courses",null,null,"No",{"$nulls":4},"Involved in simulation sessions","Teach informally, during every day work",{"$nulls":4},"Problem based learning","Teaching the skills","Giving feedback","Organizing and leading the discussions",null,null,"No","Yes",{"$nulls":3},"I give feedback during simulation sessions","I give feedback during everyday work",{"$nulls":7},"No",null,"Lack of time",null,"No recognition","Overloaded with work",null,"Lack of organization",{"$nulls":3},"Yes","I do not know much","I am not sure","I am not sure",null,"I do not know",null,"I do not know","Other (please specify)","edaic I and oral exam","Written and oral examination"]
[12941488632,408998795,"2021-09-03T23:42:46","2021-09-02T18:20:51","178.115.70.46",{"$nulls":4},"36-40","Female","Austria","Austria","Europe","5-10","Over 5","Trainee","General hospital","No (please refer to Q21)",{"$nulls":50},"I work with residents, but I do not see that as teaching"]
[13006309853,408998795,"2021-09-29T23:28:08","2021-09-04T12:09:40","37.212.13.120",{"$nulls":4},"36-40","Male","Belarus","Belarus","Europe","11-15","Less than 3","Senior specialist","General hospital","Yes (please refer to Q10)","Almost every day","6-10",{"$nulls":5},"Simulation courses",null,null,"No",null,null,"Perform work-based interactive teaching (operating room)","Running clinical case discussions",null,"Teach informally, during every day work",null,null,"Using visual aids","Interactive teaching","Problem based learning","Teaching the skills","Giving feedback",{"$nulls":3},"No","Yes",{"$nulls":4},"I give feedback during everyday work",{"$nulls":6},"No, it is assumed as being a part of everyday work",null,null,"Lack of time","Lack of motivation",null,"Overloaded with work",{"$nulls":5},"No","I have no knowledge of what it is","I am not sure","I am not sure",null,"Content based curriculum",null,"National body responsible for education (Ministry of health or education, National board for anaesthesia …)","They have to pass a national board exam",null,"Written, oral examination and some practical assessment"]
[13006270865,408998795,"2021-09-29T23:15:26","2021-09-30T07:50:56","193.190.131.69",{"$nulls":4},"36-40","Male","Belgium","Belgium","Europe","11-15",5,"Senior specialist","Academic hospital (Teaching or University related)","Yes (please refer to Q10)","Every day","6-10",null,null,"ESAIC Teach the Teacher (TTT) courses","Other short TTT courses","Advanced Life Support (ALS), Basic Life Support (BLS) or other specific courses","Simulation courses",null,null,"No",null,"I give lectures","Perform work-based interactive teaching (operating room)",null,"Involved in simulation sessions","Teach informally, during every day work","skill stations","Planning and preparation for teaching session","Using visual aids","Interactive teaching",null,"Teaching the skills","Giving feedback",{"$nulls":3},"Yes","No","I am an examiner for the final exam",null,"I occasionally carry out assessment during the residency program (Direct Observation of Procedural Skills - DOPS)","I give feedback during simulation sessions","I give feedback during everyday work",{"$nulls":7},"No",null,"Lack of time",null,"No recognition",null,"Lack of opportunity","Lack of organization","residents have to perform clinically first, no time for education",null,null,"Yes","I know what is it, but outcome-based education is not implemented in my country","Yes","No",null,"Classic surgical specialties based curriculum",null,"National body responsible for education (Ministry of health or education, National board for anaesthesia …)","They have to pass EDAIC part I",null,"It is only oral examination"]
[13006118001,408998795,"2021-09-29T22:19:32","2021-09-24T10:46:38","85.201.52.80",{"$nulls":4},"50+","Male","France","Belgium","Europe","over 20 years",5,"Senior specialist","Academic hospital (Teaching or University related)","Yes (please refer to Q10)","Every day","11-15",{"$nulls":4},"Advanced Life Support (ALS), Basic Life Support (BLS) or other specific courses","Simulation courses",null,null,"No",null,"I give lectures","Perform work-based interactive teaching (operating room)",null,"Involved in simulation sessions","Teach informally, during every day work",null,"Planning and preparation for teaching session","Using visual aids",null,"Problem based learning","Teaching the skills","Giving feedback","Organizing and leading the discussions",null,null,"No","No","I am an examiner for the final exam",{"$nulls":4},"I am involved in other forms of formative assessment (for example multisource feedback)",{"$nulls":5},"No, it is assumed as being a part of everyday work",null,"Lack of training","Lack of time",null,null,"Overloaded with work",{"$nulls":5},"Yes","I do not know much","No","No",null,"Competency (outcome) based curriculum",null,"National body responsible for education (Ministry of health or education, National board for anaesthesia …)","They have to pass a national board exam",null,"It is only oral examination"]
[13006095970,408998795,"2021-09-29T22:18:07","2021-09-23T21:36:09","87.66.212.21",{"$nulls":4},"50+","Female","Belgium","Belgium","Europe","over 20 years","Over 5","Specialist","General hospital","Yes (please refer to Q10)","Every day","over 16",{"$nulls":6},"None",null,"No, but students are exposed to outcome based teaching",null,"I give lectures","Perform work-based interactive teaching (operating room)","Running clinical case discussions",null,"Teach informally, during every day work",null,"Planning and preparation for teaching session","Using visual aids",null,"Problem based learning",null,"Giving feedback","Organizing and leading the discussions","Organizing specific sessions (journal clubs, interactive sessions, pro and con debate…)",null,"Yes","Yes",{"$nulls":3},"I give feedback during simulation sessions","I give feedback during everyday work","I am involved in other forms of formative assessment (for example multisource feedback)",{"$nulls":5},"No, it is assumed as being a part of everyday work",null,null,"Lack of time"]
[13006035600,408998795,"2021-09-29T21:56:49","2021-09-23T15:02:28","193.58.148.22",{"$nulls":4},"25-30","Male","Belgium","Belgium","Europe","5-10",5,"Trainee","Academic hospital (Teaching or University related)","No (please refer to Q21)"]
[13005932943,408998795,"2021-09-29T21:18:47","2021-09-23T12:09:50","212.123.24.178",{"$nulls":4},"50+","Male","Belgium","Belgium","Europe","over 20 years",5,"Specialist","General hospital","Yes (please refer to Q10)","When in the operating theater (always have an allocated resident)","6-10",{"$nulls":3},"Other short TTT courses","Advanced Life Support (ALS), Basic Life Support (BLS) or other specific courses","Simulation courses",null,null,"Other (please specify)","I'm not aware","I give lectures","Perform work-based interactive teaching (operating room)","Running clinical case discussions","Involved in simulation sessions","Teach informally, during every day work","Journal clubs, scientific research","Planning and preparation for teaching session","Using visual aids","Interactive teaching","Problem based learning","Teaching the skills","Giving feedback","Organizing and leading the discussions","Organizing specific sessions (journal clubs, interactive sessions, pro and con debate…)",null,"Yes","Yes","I am an examiner for the final exam",null,"I occasionally carry out assessment during the residency program (Direct Observation of Procedural Skills - DOPS)","I give feedback during simulation sessions","I give feedback during everyday work",{"$nulls":3},"Yes, I am paid more",{"$nulls":5},"Lack of time",null,null,"Overloaded with work",{"$nulls":5},"Yes","I know what is it, but outcome-based education is not implemented in my country","No","I am not sure",null,"Content based curriculum",null,"University","They have to pass a national board exam",null,"It is only oral examination"]
[13005940696,408998795,"2021-09-29T21:22:55","2021-09-23T11:58:36","148.122.135.23",{"$nulls":4},"41-50","Male","Belgium","Belgium","Europe","11-15",5,"Chief of Department","General hospital","No (please refer to Q21)"]
[13005909132,408998795,"2021-09-29T21:11:45","2021-09-23T09:53:52","83.201.176.72",{"$nulls":4},"41-50","Female","Belgium","Belgium","Europe","11-15",5,"Senior specialist","Academic hospital (Teaching or University related)","Yes (please refer to Q10)","Every day","11-15",null,null,"ESAIC Teach the Teacher (TTT) courses",null,"Advanced Life Support (ALS), Basic Life Support (BLS) or other specific courses","Simulation courses",null,"non obligatory teaching courses at our University","No",null,"I give lectures",null,null,"Involved in simulation sessions","Teach informally, during every day work",null,"Planning and preparation for teaching session",null,"Interactive teaching",null,"Teaching the skills","Giving feedback","Organizing and leading the discussions",null,null,"Yes","Yes","I am an examiner for the final exam","I am European Diploma in Anaesthesia and Intensive Care (EDAIC) part II examiner",null,"I give feedback during simulation sessions","I give feedback during everyday work",{"$nulls":6},"No, it is assumed as being a part of everyday work",null,"Lack of training","Lack of time",null,"No recognition","Overloaded with work",null,"Lack of organization",{"$nulls":3},"Yes","Yes, I am well informed","No","Yes",null,"Classic surgical specialties based curriculum",null,"National body responsible for education (Ministry of health or education, National board for anaesthesia …)","They have to pass a national board exam",null,"It is only oral examination"]
[13005787026,408998795,"2021-09-29T20:31:17","2021-09-23T09:53:22","185.36.167.3",{"$nulls":4},"31-35","Male","Luxembourg","Belgium","Europe","5-10",5,"Senior resident","Academic hospital (Teaching or University related)","Yes (please refer to Q10)","Once a week","Less than 5",{"$nulls":6},"None",null,"No",null,null,"Perform work-based interactive teaching (operating room)",null,null,"Teach informally, during every day work",{"$nulls":4},"Problem based learning","Teaching the skills","Giving feedback",{"$nulls":3},"No","No",{"$nulls":6},"I am not involved in any kind of assessment",{"$nulls":4},"No, it is assumed as being a part of everyday work",null,"Lack of training","Lack of time","Lack of motivation","No recognition","Overloaded with work","Lack of opportunity","Lack of organization",null,"I work with residents, but I do not see that as teaching",null,"Yes","I do not know much","No","I am not sure",null,"I do not know",null,"National body responsible for education (Ministry of health or education, National board for anaesthesia …)","They have to pass a university board exam",null,"It is only oral examination"]
[13005737257,408998795,"2021-09-29T20:13:26","2021-09-23T09:34:09","91.180.87.151",{"$nulls":4},"50+","Male","Belgium","Belgium","Europe","over 20 years",5,"Chief of Department","Academic hospital (Teaching or University related)","Yes (please refer to Q10)","Almost every day","over 16",{"$nulls":4},"Advanced Life Support (ALS), Basic Life Support (BLS) or other specific courses",null,"None","Doctor in medical sciences","Yes",null,"I give lectures","Perform work-based interactive teaching (operating room)",null,null,"Teach informally, during every day work",{"$nulls":3},"Interactive teaching",null,"Teaching the skills","Giving feedback",null,"Organizing specific sessions (journal clubs, interactive sessions, pro and con debate…)",null,"Yes","Yes",{"$nulls":4},"I give feedback during everyday work",{"$nulls":6},"No, it is assumed as being a part of everyday work",{"$nulls":4},"No recognition","Overloaded with work","Lack of opportunity","Lack of organization",{"$nulls":3},"No","I have some ideas, but it is not clear to me","I am not sure","I am not sure",{"$nulls":3},"Department of anaesthesiology","They have to pass a university board exam",null,"Written and oral examination"]
[13005722680,408998795,"2021-09-29T20:09:59","2021-09-23T09:20:59","193.191.185.201",{"$nulls":4},"50+","Male","Belgium","Belgium","Europe","over 20 years","Over 5","Chief of Department","Academic hospital (Teaching or University related)","Yes (please refer to Q10)","Every day","over 16",null,"Obligatory teaching courses for University teachers",null,"Other short TTT courses","Advanced Life Support (ALS), Basic Life Support (BLS) or other specific courses","Simulation courses",null,null,"Yes, some elements, but not systematically",null,"I give lectures","Perform work-based interactive teaching (operating room)","Running clinical case discussions","Involved in simulation sessions","Teach informally, during every day work",null,"Planning and preparation for teaching session","Using visual aids","Interactive teaching","Problem based learning","Teaching the skills","Giving feedback","Organizing and leading the discussions","Organizing specific sessions (journal clubs, interactive sessions, pro and con debate…)",null,"Yes","Yes","I am an examiner for the final exam",null,"I occasionally carry out assessment during the residency program (Direct Observation of Procedural Skills - DOPS)","I give feedback during simulation sessions","I give feedback during everyday work","I am involved in other forms of formative assessment (for example multisource feedback)",null,null,"Yes, I am paid more","Yes, it is recognised for promotion in academia.","Yes, I have a more visible position in the department",{"$nulls":3},"Lack of time",null,"No recognition","Overloaded with work",{"$nulls":5},"Yes","I have some ideas, but it is not clear to me","Yes","Yes","09/23/2021","Competency (outcome) based curriculum",null,"National body responsible for education (Ministry of health or education, National board for anaesthesia …)","They have to pass a national board exam",null,"Written and oral examination, but also OSCE (Objective Structured Clinical Examination)"]
[13005649947,408998795,"2021-09-29T19:46:49","2021-09-23T08:33:21","157.193.158.250",{"$nulls":4},"50+","Male","Belgium","Belgium","Europe","over 20 years","Over 5","Senior specialist","Academic hospital (Teaching or University related)","Yes (please refer to Q10)","Every day","over 16",{"$nulls":3},"Other short TTT courses","Advanced Life Support (ALS), Basic Life Support (BLS) or other specific courses",{"$nulls":3},"Yes, some elements, but not systematically",null,"I give lectures","Perform work-based interactive teaching (operating room)","Running clinical case discussions","Involved in simulation sessions","Teach informally, during every day work",null,"Planning and preparation for teaching session","Using visual aids","Interactive teaching","Problem based learning","Teaching the skills","Giving feedback","Organizing and leading the discussions","Organizing specific sessions (journal clubs, interactive sessions, pro and con debate…)",null,"Yes","Yes",null,null,"I occasionally carry out assessment during the residency program (Direct Observation of Procedural Skills - DOPS)","I give feedback during simulation sessions","I give feedback during everyday work","I am involved in other forms of formative assessment (for example multisource feedback)",null,"member of the selection team for future residents",null,"Yes, it is recognised for promotion in academia.","Yes, I have a more visible position in the department",{"$nulls":3},"Lack of time",null,null,"Overloaded with work",null,"Lack of organization","the OR program should make room for 1 day/week teaching day for all the co-workers of anesthesia, surgery and nursing department",null,null,"Yes","I have some ideas, but it is not clear to me","Yes","I am not sure",null,"Content based curriculum",null,"National body responsible for education (Ministry of health or education, National board for anaesthesia …)","Other (please specify)","part I EDAIC, but pass criteria of national board exam are being used. national board exam at the end of training","Written and oral examination, but also OSCE (Objective Structured Clinical Examination)"]
[13005576965,408998795,"2021-09-29T19:20:16","2021-09-15T08:23:01","84.199.123.252",{"$nulls":4},"50+","Male","Belgium","Belgium","Europe","over 20 years",5,"Senior specialist","Academic hospital (Teaching or University related)","Yes (please refer to Q10)","Every day","over 16",{"$nulls":3},"Other short TTT courses",null,"Simulation courses",null,null,"No",null,"I give lectures","Perform work-based interactive teaching (operating room)","Running clinical case discussions","Involved in simulation sessions",null,null,"Planning and preparation for teaching session","Using visual aids",null,"Problem based learning","Teaching the skills","Giving feedback",null,"Organizing specific sessions (journal clubs, interactive sessions, pro and con debate…)",null,"Yes","Yes",null,null,"I occasionally carry out assessment during the residency program (Direct Observation of Procedural Skills - DOPS)","I give feedback during simulation sessions","I give feedback during everyday work","I am involved in other forms of formative assessment (for example multisource feedback)",{"$nulls":6},"No",{"$nulls":3},"No recognition",null,"Lack of opportunity","Lack of organization",{"$nulls":3},"Yes","Yes, I am well informed","No","No",null,"Content based curriculum",null,"National body responsible for education (Ministry of health or education, National board for anaesthesia …)","They have to pass a national board exam",null,"It is only oral examination"]
[13005399173,408998795,"2021-09-29T18:31:32","2021-09-09T15:17:27","130.104.253.80",{"$nulls":4},"50+","Female","Belgium","Belgium","Europe","over 20 years",5,"Senior specialist","Academic hospital (Teaching or University related)","Yes (please refer to Q10)","Almost every day","over 16",{"$nulls":6},"None",null,"No",null,"I give lectures","Perform work-based interactive teaching (operating room)",null,null,"Teach informally, during every day work",null,"Planning and preparation for teaching session",null,null,"Problem based learning","Teaching the skills",{"$nulls":4},"Yes","Yes",{"$nulls":4},"I give feedback during everyday work","I am involved in other forms of formative assessment (for example multisource feedback)",{"$nulls":5},"No, it is assumed as being a part of everyday work",null,null,"Lack of time",{"$nulls":4},"Lack of organization",{"$nulls":3},"Yes","I do not know much","No","I am not sure",null,"Competency (outcome) based curriculum",null,"University","They have to pass a national board exam",null,"It is only oral examination"]
[13005318252,408998795,"2021-09-29T18:07:47","2021-09-06T18:14:56","109.133.48.216",{"$nulls":4},"41-50","Male","Belgium","Belgium","Europe","over 20 years",5,"Senior specialist","General hospital","Yes (please refer to Q10)","Once a week","over 16",null,"Obligatory teaching courses for University teachers",null,"Other short TTT courses","Advanced Life Support (ALS), Basic Life Support (BLS) or other specific courses","Simulation courses",null,null,"Yes",null,"I give lectures","Perform work-based interactive teaching (operating room)",null,null,"Teach informally, during every day work",null,"Planning and preparation for teaching session",{"$nulls":4},"Giving feedback",null,"Organizing specific sessions (journal clubs, interactive sessions, pro and con debate…)",null,"Yes","Yes","I am an examiner for the final exam",null,"I occasionally carry out assessment during the residency program (Direct Observation of Procedural Skills - DOPS)",null,"I give feedback during everyday work",{"$nulls":6},"No, it is assumed as being a part of everyday work",{"$nulls":4},"No recognition","Overloaded with work",null,"Lack of organization",null,"I work with residents, but I do not see that as teaching",null,"Yes","Yes, I am well informed","No","Yes",{"$nulls":3},"National body responsible for education (Ministry of health or education, National board for anaesthesia …)",null,null,"Written and oral examination, but also OSCE (Objective Structured Clinical Examination)"]
[13005190983,408998795,"2021-09-29T17:30:48","2021-09-06T15:03:32","194.78.67.244",{"$nulls":4},"36-40","Female","Belgium","Belgium","Europe","16-20",5,"Specialist","General hospital","Yes (please refer to Q10)","Almost every day","6-10",{"$nulls":3},"Other short TTT courses",{"$nulls":4},"No",null,"I give lectures","Perform work-based interactive teaching (operating room)","Running clinical case discussions",null,"Teach informally, during every day work",null,null,"Using visual aids","Interactive teaching","Problem based learning",null,"Giving feedback",null,"Organizing specific sessions (journal clubs, interactive sessions, pro and con debate…)",null,"Yes","Yes",null,null,"I occasionally carry out assessment during the residency program (Direct Observation of Procedural Skills - DOPS)",null,"I give feedback during everyday work","I am involved in other forms of formative assessment (for example multisource feedback)",{"$nulls":4},"Yes, I have a more visible position in the department",{"$nulls":3},"Lack of time",{"$nulls":8},"Yes","I know what is it, but outcome-based education is not implemented in my country","No","I am not sure",null,"Content based curriculum",null,"National body responsible for education (Ministry of health or education, National board for anaesthesia …)","They have to pass a national board exam",null,"It is only oral examination"]
[13005187908,408998795,"2021-09-29T17:29:31","2021-09-06T12:53:19","193.191.170.24",{"$nulls":4},"50+","Female","Belgium","Belgium","Europe","over 20 years",5,"Senior specialist","Academic hospital (Teaching or University related)","Yes (please refer to Q10)","When in the operating theater (always have an allocated resident)","over 16",{"$nulls":3},"Other short TTT courses","Advanced Life Support (ALS), Basic Life Support (BLS) or other specific courses","Simulation courses",null,null,"Yes",null,"I give lectures","Perform work-based interactive teaching (operating room)",null,null,"Teach informally, during every day work",null,null,"Using visual aids","Interactive teaching","Problem based learning","Teaching the skills","Giving feedback",{"$nulls":3},"Yes","Yes","I am an examiner for the final exam",null,"I occasionally carry out assessment during the residency program (Direct Observation of Procedural Skills - DOPS)",null,"I give feedback during everyday work",{"$nulls":5},"Yes, I have a more visible position in the department","No, it is assumed as being a part of everyday work",null,"Lack of training","Lack of time","Lack of motivation","No recognition","Overloaded with work",{"$nulls":5},"Yes","I know what is it, but outcome-based education is not implemented in my country","Yes","No",null,"Content based curriculum",null,"University","They have to pass a national board exam",null,"Other (please specify)","Oral and practical"]
[13005190508,408998795,"2021-09-29T17:31:02","2021-09-06T10:38:06","193.58.148.22",{"$nulls":4},"41-50","Female","Belgium","Belgium","Europe","16-20",5,"Specialist","Academic hospital (Teaching or University related)","Yes (please refer to Q10)","When in the operating theater (always have an allocated resident)","11-15",null,null,"ESAIC Teach the Teacher (TTT) courses",null,"Advanced Life Support (ALS), Basic Life Support (BLS) or other specific courses","Simulation courses",null,null,"No",null,"I give lectures","Perform work-based interactive teaching (operating room)","Running clinical case discussions","Involved in simulation sessions","Teach informally, during every day work",null,"Planning and preparation for teaching session","Using visual aids","Interactive teaching","Problem based learning",null,"Giving feedback","Organizing and leading the discussions","Organizing specific sessions (journal clubs, interactive sessions, pro and con debate…)",null,"Yes","Yes",null,null,"I occasionally carry out assessment during the residency program (Direct Observation of Procedural Skills - DOPS)","I give feedback during simulation sessions","I give feedback during everyday work","I am involved in other forms of formative assessment (for example multisource feedback)",{"$nulls":5},"No, it is assumed as being a part of everyday work",null,null,"Lack of time",null,"No recognition","Overloaded with work",null,"Lack of organization"]
[13005145727,408998795,"2021-09-29T17:14:10","2021-09-06T10:03:32","193.190.131.67",{"$nulls":4},"50+","Female","Belgium","Belgium","Europe","over 20 years",5,"Senior specialist","Academic hospital (Teaching or University related)","Yes (please refer to Q10)","Almost every day","6-10",{"$nulls":4},"Advanced Life Support (ALS), Basic Life Support (BLS) or other specific courses",null,null,"USabcd locoregional anesthesia, basic + advanced","No",null,null,"Perform work-based interactive teaching (operating room)","Running clinical case discussions","Involved in simulation sessions","Teach informally, during every day work",null,"Planning and preparation for teaching session","Using visual aids","Interactive teaching",null,"Teaching the skills","Giving feedback",null,"Organizing specific sessions (journal clubs, interactive sessions, pro and con debate…)",null,"No","No",{"$nulls":3},"I give feedback during simulation sessions","I give feedback during everyday work",{"$nulls":6},"No, it is assumed as being a part of everyday work",null,"Lack of training","Lack of time",{"$nulls":8},"Yes","Yes, I am well informed","I am not sure","I am not sure",null,"Content based curriculum",null,"National body responsible for education (Ministry of health or education, National board for anaesthesia …)","They have to pass a national board exam",null,"Written and oral examination, but also OSCE (Objective Structured Clinical Examination)"]
[13005125317,408998795,"2021-09-29T17:13:22","2021-09-04T12:18:32","94.109.36.115",{"$nulls":4},"25-30","Female","Belgium","Belgium","Europe","5-10",5,"Trainee","Private hospital","No (please refer to Q21)",{"$nulls":50},"Other (please specify)","I'm still a trainee","Yes","I have some ideas, but it is not clear to me","Yes","I am not sure",null,"I do not know",null,"University","They have to pass EDAIC part I",null,"Written and oral examination"]
[13005124960,408998795,"2021-09-29T17:13:34","2021-09-03T13:42:49","81.83.19.90",{"$nulls":4},"50+","Male","Belgium","Belgium","Europe","over 20 years",5,"Senior specialist","General hospital","Yes (please refer to Q10)","Every day","11-15",{"$nulls":3},"Other short TTT courses",{"$nulls":4},"Yes",null,"I give lectures","Perform work-based interactive teaching (operating room)","Running clinical case discussions","Involved in simulation sessions","Teach informally, during every day work",null,null,"Using visual aids",null,null,"Teaching the skills","Giving feedback","Organizing and leading the discussions","Organizing specific sessions (journal clubs, interactive sessions, pro and con debate…)",null,"Yes","Yes","I am an examiner for the final exam",null,"I occasionally carry out assessment during the residency program (Direct Observation of Procedural Skills - DOPS)","I give feedback during simulation sessions","I give feedback during everyday work",null,null,"Mentor esaic",null,null,"Yes, I have a more visible position in the department",{"$nulls":3},"Lack of time",null,null,"Overloaded with work","Lack of opportunity","Lack of organization",null,"I do not want to be involved in teaching residents because it is not paid",null,"Yes","I have some ideas, but it is not clear to me","No","I am not sure",null,"Content based curriculum",null,"National body responsible for education (Ministry of health or education, National board for anaesthesia …)","They have to pass a national board exam",null,"It is only oral examination"]
[13005117798,408998795,"2021-09-29T17:11:09","2021-09-03T09:01:48","193.190.131.67",{"$nulls":4},"41-50","Female","Netherlands","Belgium","Europe","16-20",5,"Senior resident","Academic hospital (Teaching or University related)","Yes (please refer to Q10)","Every day","11-15",{"$nulls":3},"Other short TTT courses","Advanced Life Support (ALS), Basic Life Support (BLS) or other specific courses",{"$nulls":3},"Yes, some elements, but not systematically",null,"I give lectures","Perform work-based interactive teaching (operating room)","Running clinical case discussions","Involved in simulation sessions","Teach informally, during every day work",{"$nulls":3},"Interactive teaching","Problem based learning","Teaching the skills","Giving feedback",null,"Organizing specific sessions (journal clubs, interactive sessions, pro and con debate…)",null,"No","No",{"$nulls":4},"I give feedback during everyday work","I am involved in other forms of formative assessment (for example multisource feedback)",null,"EDRA examiner and board member",{"$nulls":3},"No, it is assumed as being a part of everyday work",null,null,"Lack of time",{"$nulls":4},"Lack of organization",{"$nulls":3},"Yes","I have some ideas, but it is not clear to me","I am not sure","No",null,"I do not know",null,"National body responsible for education (Ministry of health or education, National board for anaesthesia …)","They have to pass a national board exam",null,"It is only oral examination"]
[13005103471,408998795,"2021-09-29T17:08:00","2021-09-03T08:34:27","139.165.31.39",{"$nulls":4},"50+","Male","Belgium","Belgium","Europe","over 20 years",5,"Chief of Department","Academic hospital (Teaching or University related)","Yes (please refer to Q10)","Almost every day","over 16","Master in Medical Education","Obligatory teaching courses for University teachers",null,null,"Advanced Life Support (ALS), Basic Life Support (BLS) or other specific courses",{"$nulls":3},"No",null,"I give lectures","Perform work-based interactive teaching (operating room)","Running clinical case discussions","Involved in simulation sessions",null,null,"Planning and preparation for teaching session","Using visual aids","Interactive teaching","Problem based learning","Teaching the skills","Giving feedback","Organizing and leading the discussions","Organizing specific sessions (journal clubs, interactive sessions, pro and con debate…)",null,"Yes","Yes","I am an examiner for the final exam",{"$nulls":3},"I give feedback during everyday work",{"$nulls":3},"Yes, I am paid more","Yes, it is recognised for promotion in academia.","Yes, I have a more visible position in the department",null,null,"Lack of training","Lack of time",null,null,"Overloaded with work",{"$nulls":5},"Yes","Yes, I am well informed","Yes","Yes",null,"Competency (outcome) based curriculum",null,"University","They have to pass a national board exam",null,"Written, oral examination and some practical assessment"]
[13005028966,408998795,"2021-09-29T16:44:50","2021-09-03T07:17:49","141.134.188.143",{"$nulls":4},"50+","Female","Belgium","Belgium","Europe","over 20 years",5,"Specialist","General hospital","Yes (please refer to Q10)","Almost every day","over 16",{"$nulls":6},"None",null,"Yes",{"$nulls":5},"Teach informally, during every day work",{"$nulls":4},"Problem based learning","Teaching the skills","Giving feedback",{"$nulls":3},"No","No",{"$nulls":4},"I give feedback during everyday work",{"$nulls":6},"No, it is assumed as being a part of everyday work",null,"Lack of training","Lack of time",{"$nulls":8},"No","I have some ideas, but it is not clear to me","No","Yes",null,"I do not know",null,"University","They have to pass a national board exam",null,"It is only oral examination"]
[13005045993,408998795,"2021-09-29T16:50:45","2021-09-03T07:14:12","144.248.22.212",{"$nulls":4},"50+","Male","Belgium","Belgium","Europe","over 20 years",5,"Chief of Department","Academic hospital (Teaching or University related)","Yes (please refer to Q10)","Every day","over 16","Master in Medical Education","Obligatory teaching courses for University teachers",{"$nulls":3},"Simulation courses",null,null,"Yes",null,"I give lectures","Perform work-based interactive teaching (operating room)","Running clinical case discussions","Involved in simulation sessions","Teach informally, during every day work",null,"Planning and preparation for teaching session","Using visual aids","Interactive teaching","Problem based learning","Teaching the skills","Giving feedback","Organizing and leading the discussions","Organizing specific sessions (journal clubs, interactive sessions, pro and con debate…)",null,"Yes","Yes","I am an examiner for the final exam",null,"I occasionally carry out assessment during the residency program (Direct Observation of Procedural Skills - DOPS)","I give feedback during simulation sessions","I give feedback during everyday work","I am involved in other forms of formative assessment (for example multisource feedback)",null,null,"Yes, I am paid more","Yes, it is recognised for promotion in academia.","Yes, I have a more visible position in the department",{"$nulls":3},"Lack of time",null,null,"Overloaded with work",{"$nulls":5},"Yes","Yes, I am well informed","Yes","Yes","10/01/2012","Competency (outcome) based curriculum",null,"University","They have to pass EDAIC part I",null,"Written and oral examination, but also OSCE (Objective Structured Clinical Examination)"]
[13005034358,408998795,"2021-09-29T16:46:55","2021-09-02T22:13:12","94.104.101.145",{"$nulls":4},"41-50","Male","Belgium","Belgium","Europe","16-20",5,"Senior specialist","Academic hospital (Teaching or University related)","Yes (please refer to Q10)","When in the operating theater (always have an allocated resident)","11-15",{"$nulls":6},"None",null,"Yes, some elements, but not systematically",null,"I give lectures","Perform work-based interactive teaching (operating room)","Running clinical case discussions",null,"Teach informally, during every day work",{"$nulls":4},"Problem based learning","Teaching the skills","Giving feedback",{"$nulls":3},"No","Yes",{"$nulls":4},"I give feedback during everyday work",{"$nulls":6},"No, it is assumed as being a part of everyday work",null,"Lack of training","Lack of time",null,"No recognition","Overloaded with work","Lack of opportunity","Lack of organization",{"$nulls":3},"Yes","I have no knowledge of what it is","No","I am not sure",null,"Content based curriculum",null,"I do not know","They have to pass a national board exam",null,"Written and oral examination"]
[13005029711,408998795,"2021-09-29T16:42:26","2021-09-02T21:48:10","109.132.74.169",{"$nulls":4},"41-50","Female","Belgium","Belgium","Europe","11-15",5,"Specialist","General hospital","Yes (please refer to Q10)","Almost every day","Less than 5",{"$nulls":6},"None",null,"Yes",null,null,"Perform work-based interactive teaching (operating room)",null,null,"Teach informally, during every day work",{"$nulls":6},"Giving feedback","Organizing and leading the discussions","Organizing specific sessions (journal clubs, interactive sessions, pro and con debate…)",null,"Yes","Yes","I am an examiner for the final exam",null,"I occasionally carry out assessment during the residency program (Direct Observation of Procedural Skills - DOPS)",null,"I give feedback during everyday work","I am involved in other forms of formative assessment (for example multisource feedback)",{"$nulls":5},"No, it is assumed as being a part of everyday work",null,"Lack of training","Lack of time",null,"No recognition",{"$nulls":4},"I work in a non-teaching hospital",null,"Yes","I know what is it, but outcome-based education is not implemented in my country","I am not sure","I am not sure",null,"Classic surgical specialties based curriculum",null,"National body responsible for education (Ministry of health or education, National board for anaesthesia …)","They have to pass a national board exam",null,"It is only oral examination"]
[13005026206,408998795,"2021-09-29T16:43:56","2021-09-02T18:50:54","62.4.158.10",{"$nulls":4},"25-30","Male","Belgium","Belgium","Europe","5-10",5,"Trainee","Academic hospital (Teaching or University related)","Yes (please refer to Q10)","Once a week","Less than 5",{"$nulls":6},"None",null,"No",{"$nulls":5},"Teach informally, during every day work",{"$nulls":3},"Interactive teaching","Problem based learning","Teaching the skills","Giving feedback","Organizing and leading the discussions",null,null,"No","No",{"$nulls":4},"I give feedback during everyday work",{"$nulls":6},"No, it is assumed as being a part of everyday work",null,null,"Lack of time",null,"No recognition","Overloaded with work","Lack of opportunity","Lack of organization",{"$nulls":3},"Yes","I have some ideas, but it is not clear to me","No","No",null,"Classic surgical specialties based curriculum",null,"Department of anaesthesiology","They have to pass a national board exam",null,"It is only oral examination"]
[13005014060,408998795,"2021-09-29T16:40:24","2021-09-02T18:27:42","84.199.64.54",{"$nulls":4},"41-50","Female","Belgium","Belgium","Europe","over 20 years","Over 5","Senior specialist","General hospital","No (please refer to Q21)",{"$nulls":50},"Other (please specify)","We do not have residents","Yes","Yes, I am well informed","I am not sure","Yes",null,"I do not know",null,"Department of anaesthesiology","They have to pass a national board exam",null,"Written and oral examination"]
[13005015084,408998795,"2021-09-29T16:40:42","2021-09-02T18:25:20","109.143.55.148",{"$nulls":4},"50+","Male","Belgium","Belgium","Europe","11-15",4,"Other","General hospital","Yes (please refer to Q10)","Almost every day","11-15",null,"Obligatory teaching courses for University teachers",null,null,"Advanced Life Support (ALS), Basic Life Support (BLS) or other specific courses",{"$nulls":3},"Yes",null,"I give lectures","Perform work-based interactive teaching (operating room)","Running clinical case discussions",null,"Teach informally, during every day work",{"$nulls":3},"Interactive teaching",null,null,"Giving feedback",null,"Organizing specific sessions (journal clubs, interactive sessions, pro and con debate…)",null,"Yes","Yes",{"$nulls":4},"I give feedback during everyday work",{"$nulls":6},"No, it is assumed as being a part of everyday work",{"$nulls":5},"Overloaded with work"]
[13005015828,408998795,"2021-09-29T16:41:14","2021-09-02T18:14:51","81.245.69.122",{"$nulls":4},"50+","Male","Belgium","Belgium","Europe","over 20 years",5,"Teacher (in University)","Academic hospital (Teaching or University related)","Yes (please refer to Q10)","Almost every day","over 16","Master in Medical Education",{"$nulls":7},"No",null,"I give lectures","Perform work-based interactive teaching (operating room)","Running clinical case discussions",{"$nulls":3},"Planning and preparation for teaching session","Using visual aids","Interactive teaching","Problem based learning","Teaching the skills","Giving feedback","Organizing and leading the discussions","Organizing specific sessions (journal clubs, interactive sessions, pro and con debate…)",null,"Yes","Yes","I am an examiner for the final exam",{"$nulls":3},"I give feedback during everyday work","I am involved in other forms of formative assessment (for example multisource feedback)",{"$nulls":5},"No, it is assumed as being a part of everyday work",{"$nulls":5},"Overloaded with work",{"$nulls":5},"Yes","Yes, I am well informed","Yes","No",null,"Content based curriculum",null,"University","They have to pass EDAIC part I",null,"It is only oral examination"]
[13005009722,408998795,"2021-09-29T16:38:49","2021-10-04T21:52:04","109.175.104.211",{"$nulls":4},"41-50","Female","Bosnia and Herzegovina","Bosnia and Herzegovina","Europe","11-15",4,"Specialist","Private hospital","Yes (please refer to Q10)","Every day","Less than 5","Master in Medical Education",null,"ESAIC Teach the Teacher (TTT) courses",{"$nulls":5},"No",null,"I give lectures","Perform work-based interactive teaching (operating room)","Running clinical case discussions",null,"Teach informally, during every day work",{"$nulls":4},"Problem based learning","Teaching the skills",null,"Organizing and leading the discussions",null,null,"Yes","Yes",{"$nulls":4},"I give feedback during everyday work",{"$nulls":4},"Yes, it is recognised for promotion in academia.",{"$nulls":3},"Lack of training",{"$nulls":9},"Yes","Yes, I am well informed","No","No",null,"Classic surgical specialties based curriculum",null,"Hospital administration","They have to pass a national board exam",null,"Written and oral examination"]
[13004909964,408998795,"2021-09-29T16:00:13","2021-09-23T21:48:27","109.175.110.217",{"$nulls":4},"50+","Female","Bosnia and Herzegovina","Bosnia and Herzegovina","Europe","over 20 years",4,"Chief of Department","General hospital","Yes (please refer to Q10)","Every day","over 16",{"$nulls":6},"None",null,"No",null,null,"Perform work-based interactive teaching (operating room)","Running clinical case discussions",null,"Teach informally, during every day work",{"$nulls":3},"Interactive teaching","Problem based learning","Teaching the skills","Giving feedback","Organizing and leading the discussions",null,null,"No","Yes",{"$nulls":4},"I give feedback during everyday work",{"$nulls":6},"No, it is assumed as being a part of everyday work",{"$nulls":4},"No recognition","Overloaded with work",{"$nulls":5},"Yes","I know what is it, but outcome-based education is not implemented in my country","No","I am not sure",null,"Classic surgical specialties based curriculum",null,"National body responsible for education (Ministry of health or education, National board for anaesthesia …)","They have to pass a national board exam",null,"It is only oral examination"]
[13004896341,408998795,"2021-09-29T16:02:45","2021-09-23T08:45:34","194.181.94.3",{"$nulls":4},"36-40","Male","Bosnia and Herzegovina","Bosnia and Herzegovina","Europe","16-20",4,"Chief of Department","Academic hospital (Teaching or University related)","Yes (please refer to Q10)","Almost every day","6-10","Master in Medical Education",null,"ESAIC Teach the Teacher (TTT) courses",null,"Advanced Life Support (ALS), Basic Life Support (BLS) or other specific courses",{"$nulls":3},"No",null,"I give lectures","Perform work-based interactive teaching (operating room)","Running clinical case discussions",null,"Teach informally, during every day work",null,"Planning and preparation for teaching session",null,"Interactive teaching","Problem based learning","Teaching the skills","Giving feedback",{"$nulls":3},"Yes","Yes",null,null,"I occasionally carry out assessment during the residency program (Direct Observation of Procedural Skills - DOPS)",null,"I give feedback during everyday work","I am involved in other forms of formative assessment (for example multisource feedback)",{"$nulls":5},"No, it is assumed as being a part of everyday work",null,null,"Lack of time",null,null,"Overloaded with work",{"$nulls":3},"Other (please specify)","I work with residents","Yes","Yes, I am well informed","Yes","I am not sure",null,"Competency (outcome) based curriculum",null,"National body responsible for education (Ministry of health or education, National board for anaesthesia …)","They have to pass a university board exam",null,"Written, oral examination and some practical assessment"]
[13004845372,408998795,"2021-09-29T15:46:48","2021-09-04T15:12:25","109.175.39.174",{"$nulls":4},"50+","Female","Bosnia and Herzegovina","Bosnia and Herzegovina","Europe","over 20 years",5,"Senior specialist","General hospital","Yes (please refer to Q10)","Every day","Less than 5","Master in Medical Education",{"$nulls":7},"No",null,"I give lectures","Perform work-based interactive teaching (operating room)","Running clinical case discussions",null,"Teach informally, during every day work",{"$nulls":3},"Interactive teaching","Problem based learning","Teaching the skills",{"$nulls":4},"Yes","Yes",null,null,"I occasionally carry out assessment during the residency program (Direct Observation of Procedural Skills - DOPS)",null,"I give feedback during everyday work",{"$nulls":3},"Yes, I am paid more",{"$nulls":8},"Overloaded with work",null,"Lack of organization",{"$nulls":3},"Yes","I have some ideas, but it is not clear to me","I am not sure","I am not sure",null,"Content based curriculum",null,"National body responsible for education (Ministry of health or education, National board for anaesthesia …)","They have to pass a national board exam",null,"Other (please specify)"]
[13004844220,408998795,"2021-09-29T15:46:08","2021-09-23T12:17:37","82.103.99.226",{"$nulls":4},"50+","Male","Bulgaria","Bulgaria","Europe","over 20 years",4,"Chief of Department","Private hospital","Yes (please refer to Q10)","Every day","over 16","Master in Medical Education","Obligatory teaching courses for University teachers","ESAIC Teach the Teacher (TTT) courses","Other short TTT courses","Advanced Life Support (ALS), Basic Life Support (BLS) or other specific courses",{"$nulls":3},"Yes",null,"I give lectures","Perform work-based interactive teaching (operating room)","Running clinical case discussions",null,"Teach informally, during every day work",null,"Planning and preparation for teaching session","Using visual aids","Interactive teaching","Problem based learning","Teaching the skills","Giving feedback","Organizing and leading the discussions","Organizing specific sessions (journal clubs, interactive sessions, pro and con debate…)",null,"Yes","Yes","I am an examiner for the final exam",{"$nulls":7},"Yes, I am paid more",{"$nulls":5},"Lack of time",null,"No recognition","Overloaded with work",null,"Lack of organization",null,"I am not employed by the university",null,"Yes","Yes, I am well informed","No","I am not sure",null,"Competency (outcome) based curriculum",null,"University","They have to pass a national board exam",null,"Written, oral examination and some practical assessment"]
[13004853886,408998795,"2021-09-29T15:49:39","2021-09-23T09:04:29","78.90.201.48",{"$nulls":4},"50+","Male","Bulgaria","Bulgaria","Europe","over 20 years",4,"Teacher (in University)","Academic hospital (Teaching or University related)","Yes (please refer to Q10)","When in the operating theater (always have an allocated resident)","over 16",{"$nulls":4},"Advanced Life Support (ALS), Basic Life Support (BLS) or other specific courses","Simulation courses",null,null,"No, but students are exposed to outcome based teaching",null,"I give lectures","Perform work-based interactive teaching (operating room)","Running clinical case discussions",null,"Teach informally, during every day work",null,"Planning and preparation for teaching session","Using visual aids","Interactive teaching","Problem based learning","Teaching the skills","Giving feedback","Organizing and leading the discussions",null,null,"No","Yes","I am an examiner for the final exam",{"$nulls":3},"I give feedback during everyday work","I am involved in other forms of formative assessment (for example multisource feedback)",null,null,"Yes, I am paid more","Yes, it is recognised for promotion in academia.","Yes, I have a more visible position in the department",{"$nulls":3},"Lack of time",null,null,"Overloaded with work",{"$nulls":5},"Yes","Yes, I am well informed","I am not sure","Yes","01/22/2015","Classic surgical specialties based curriculum",null,"University","They have to pass a national board exam",null,"Written, oral examination and some practical assessment"]
[13004841448,408998795,"2021-09-29T15:45:14","2021-09-03T08:03:06","92.247.27.170",{"$nulls":4},"50+","Male","Bulgaria","Bulgaria","Europe","over 20 years",3,"Chief of Department","Academic hospital (Teaching or University related)","Yes (please refer to Q10)","Almost every day","over 16","Master in Medical Education",{"$nulls":7},"Yes, some elements, but not systematically",null,"I give lectures","Perform work-based interactive teaching (operating room)",null,"Involved in simulation sessions",null,null,"Planning and preparation for teaching session",{"$nulls":3},"Teaching the skills",null,null,"Organizing specific sessions (journal clubs, interactive sessions, pro and con debate…)",null,"Yes","Yes","I am an examiner for the final exam",{"$nulls":3},"I give feedback during everyday work",{"$nulls":3},"Yes, I am paid more","Yes, it is recognised for promotion in academia.","Yes, I have a more visible position in the department",{"$nulls":6},"Overloaded with work",{"$nulls":5},"Yes","Yes, I am well informed","Yes","Yes","09/03/2021","Competency (outcome) based curriculum",null,"National body responsible for education (Ministry of health or education, National board for anaesthesia …)","They have to pass a national board exam",null,"Written and oral examination"]
[]
[13004722891,408998795,"2021-09-29T15:05:55","2021-10-04T10:38:40","193.198.20.242",{"$nulls":4},"50+","Female","Croatia","Croatia","Europe","16-20",4,"Senior specialist","Academic hospital (Teaching or University related)","No (please refer to Q21)",{"$nulls":50},"I am not employed by the university",null,"I do not know","I know what is it, but outcome-based education is not implemented in my country","I am not sure","I am not sure",null,"I do not know",null,"National body responsible for education (Ministry of health or education, National board for anaesthesia …)","They have to pass a national board exam",null,"Written, oral examination and some practical assessment"]
[13004524902,408998795,"2021-09-29T13:51:21","2021-09-23T13:25:43","93.138.10.248",{"$nulls":4},"36-40","Female","Croatia","Croatia","Europe","11-15",4,"Senior specialist","Specialized clinic","No (please refer to Q21)",{"$nulls":50},"Other (please specify)","There are no residents at the moment","Yes","I know what is it, but outcome-based education is not implemented in my country","Yes","Yes","01/01/1999","Content based curriculum",null,"National body responsible for education (Ministry of health or education, National board for anaesthesia …)","Other (please specify)","They have to pass a specialist exam, which is oral and practical, but it is different for every applicant","Other (please specify)"]
[13004504064,408998795,"2021-09-29T13:41:20","2021-09-23T10:35:48","86.32.40.218",{"$nulls":4},"36-40","Female","Croatia","Croatia","Europe","11-15",4,"Specialist","Academic hospital (Teaching or University related)","No (please refer to Q21)",{"$nulls":50},"I am not employed by the university",null,"I do not know","I have some ideas, but it is not clear to me","I am not sure","I am not sure"]
[13004502914,408998795,"2021-09-29T13:40:19","2021-09-23T09:45:12","161.53.104.21",{"$nulls":4},"50+","Female","Croatia","Croatia","Europe","over 20 years",4,"Chief of Department","Academic hospital (Teaching or University related)","Yes (please refer to Q10)","Every day","over 16",null,"Obligatory teaching courses for University teachers",null,"Other short TTT courses","Advanced Life Support (ALS), Basic Life Support (BLS) or other specific courses",{"$nulls":3},"No",null,"I give lectures","Perform work-based interactive teaching (operating room)","Running clinical case discussions",null,"Teach informally, during every day work",null,"Planning and preparation for teaching session",null,"Interactive teaching","Problem based learning","Teaching the skills","Giving feedback","Organizing and leading the discussions","Organizing specific sessions (journal clubs, interactive sessions, pro and con debate…)",null,"Yes","Yes",null,null,"I occasionally carry out assessment during the residency program (Direct Observation of Procedural Skills - DOPS)",null,"I give feedback during everyday work","I am involved in other forms of formative assessment (for example multisource feedback)",{"$nulls":5},"No, it is assumed as being a part of everyday work",{"$nulls":4},"No recognition","Overloaded with work",null,"Lack of organization",{"$nulls":3},"Yes","I know what is it, but outcome-based education is not implemented in my country","Yes","I am not sure",null,"Content based curriculum",null,"National body responsible for education (Ministry of health or education, National board for anaesthesia …)","They have to pass a national board exam",null,"It is only oral examination"]
[13004493198,408998795,"2021-09-29T13:35:58","2021-09-23T09:23:31","46.188.136.141",{"$nulls":4},"50+","Female","Croatia","Croatia","Europe","over 20 years",5,"Specialist","Specialized clinic","No (please refer to Q21)",{"$nulls":52},"I do not know","I have no knowledge of what it is","No","I am not sure",{"$nulls":3},"National body responsible for education (Ministry of health or education, National board for anaesthesia …)","They have to pass a university board exam",null,"Written and oral examination"]
[13004474599,408998795,"2021-09-29T13:27:16","2021-09-15T18:00:25","141.136.149.241",{"$nulls":4},"41-50","Male","Croatia","Croatia","Europe","16-20",4,"Senior specialist","General hospital","Yes (please refer to Q10)"]
[13004422860,408998795,"2021-09-29T13:01:15","2021-09-06T21:08:58","213.149.51.212",{"$nulls":4},"50+","Female","Croatia","Croatia","Europe","over 20 years","Over 5","Chief of Department","General hospital","Yes (please refer to Q10)","Almost every day","6-10",{"$nulls":3},"Other short TTT courses",null,"Simulation courses",null,null,"Yes, some elements, but not systematically",null,"I give lectures","Perform work-based interactive teaching (operating room)","Running clinical case discussions",{"$nulls":3},"Planning and preparation for teaching session",null,"Interactive teaching",{"$nulls":3},"Organizing and leading the discussions",null,null,"Yes","Yes",{"$nulls":4},"I give feedback during everyday work",{"$nulls":6},"No, it is assumed as being a part of everyday work",null,null,"Lack of time",null,null,"Overloaded with work",{"$nulls":16},"Only written examination at the moment."]
[13004380093,408998795,"2021-09-29T12:38:51","2021-09-03T23:18:36","93.140.141.59",{"$nulls":4},"50+","Female","Croatia","Croatia","Europe","over 20 years",4,"Senior specialist","Academic hospital (Teaching or University related)","Yes (please refer to Q10)","Almost every day","11-15",null,"Obligatory teaching courses for University teachers",{"$nulls":6},"Yes, some elements, but not systematically",{"$nulls":5},"Teach informally, during every day work",null,"Planning and preparation for teaching session","Using visual aids",null,null,"Teaching the skills",{"$nulls":4},"Yes","Yes","I am an examiner for the final exam",null,"I occasionally carry out assessment during the residency program (Direct Observation of Procedural Skills - DOPS)",{"$nulls":7},"Yes, I have a more visible position in the department",{"$nulls":3},"Lack of time",null,null,"Overloaded with work",{"$nulls":5},"Yes","I know what is it, but outcome-based education is not implemented in my country","I am not sure","I am not sure",null,"Content based curriculum",null,"Society or association of anaesthesiology","They have to pass a university board exam",null,"Written, oral examination and some practical assessment"]
[13004337547,408998795,"2021-09-29T12:14:45","2021-09-03T10:35:48","188.129.34.63",{"$nulls":4},"36-40","Female","Croatia","Croatia","Europe","11-15",4,"Specialist","Academic hospital (Teaching or University related)","No (please refer to Q21)",{"$nulls":50},"I work with residents, but I do not see that as teaching"]
[13004304039,408998795,"2021-09-29T11:53:41","2021-09-29T11:57:10","106.198.131.243",{"$nulls":4},"36-40","Female","India","India","Asia","5-10",3,"Specialist","Academic hospital (Teaching or University related)","Yes (please refer to Q10)"]
[13004289675,408998795,"2021-09-29T11:47:20","2021-09-03T10:09:08","193.217.220.179",{"$nulls":4},"41-50","Female","Croatia","Croatia","Europe","16-20",4,"Senior specialist","Academic hospital (Teaching or University related)","Yes (please refer to Q10)","When in the operating theater (always have an allocated resident)","6-10",null,null,"ESAIC Teach the Teacher (TTT) courses","Other short TTT courses","Advanced Life Support (ALS), Basic Life Support (BLS) or other specific courses",{"$nulls":3},"No",null,"I give lectures","Perform work-based interactive teaching (operating room)",null,null,"Teach informally, during every day work",{"$nulls":3},"Interactive teaching","Problem based learning","Teaching the skills",null,null,"Organizing specific sessions (journal clubs, interactive sessions, pro and con debate…)",null,"No","Yes",{"$nulls":3},"I give feedback during simulation sessions",{"$nulls":5},"Yes, it is recognised for promotion in academia.",null,"No, it is assumed as being a part of everyday work",null,null,"Lack of time","Lack of motivation",null,"Overloaded with work","Lack of opportunity",{"$nulls":4},"I do not know","I know what is it, but outcome-based education is not implemented in my country","No","I am not sure",{"$nulls":3},"I do not know","They have to pass a national board exam",null,"Written, oral examination and some practical assessment"]
[13004269115,408998795,"2021-09-29T11:35:33","2021-09-03T01:12:57","161.53.106.41",{"$nulls":4},"50+","Female","Croatia","Croatia","Europe","over 20 years",5,"Chief of Department","Academic hospital (Teaching or University related)","Yes (please refer to Q10)","When in the operating theater (always have an allocated resident)","over 16",{"$nulls":4},"Advanced Life Support (ALS), Basic Life Support (BLS) or other specific courses",{"$nulls":3},"Yes, some elements, but not systematically",null,"I give lectures","Perform work-based interactive teaching (operating room)",null,null,"Teach informally, during every day work",null,"Planning and preparation for teaching session","Using visual aids",null,null,"Teaching the skills",null,"Organizing and leading the discussions",null,null,"Yes","Yes",null,null,"I occasionally carry out assessment during the residency program (Direct Observation of Procedural Skills - DOPS)",null,"I give feedback during everyday work",{"$nulls":6},"No, it is assumed as being a part of everyday work",null,null,"Lack of time",null,null,"Overloaded with work"]
[13004266099,408998795,"2021-09-29T11:35:06","2021-09-02T19:49:53","93.136.67.21",{"$nulls":4},"41-50","Female","Croatia","Croatia","Europe","16-20","Over 5","Chief of Department","Academic hospital (Teaching or University related)","Yes (please refer to Q10)","Almost every day","11-15",{"$nulls":4},"Advanced Life Support (ALS), Basic Life Support (BLS) or other specific courses",{"$nulls":3},"No",null,null,"Perform work-based interactive teaching (operating room)",{"$nulls":7},"Problem based learning","Teaching the skills",{"$nulls":4},"Yes","No",{"$nulls":4},"I give feedback during everyday work",{"$nulls":6},"No, it is assumed as being a part of everyday work",null,null,"Lack of time",null,null,"Overloaded with work",null,"Lack of organization",{"$nulls":3},"Yes","I have no knowledge of what it is","No","No",null,"Content based curriculum",null,"National body responsible for education (Ministry of health or education, National board for anaesthesia …)","They have to pass a national board exam",null,"Written, oral examination and some practical assessment"]
[13004257924,408998795,"2021-09-29T11:30:23","2021-09-02T19:21:28","94.253.241.241",{"$nulls":4},"50+","Female","Croatia","Croatia","Europe","over 20 years",4,"Senior specialist","Academic hospital (Teaching or University related)","Yes (please refer to Q10)","When in the operating theater (always have an allocated resident)","over 16",{"$nulls":4},"Advanced Life Support (ALS), Basic Life Support (BLS) or other specific courses",{"$nulls":3},"No",{"$nulls":5},"Teach informally, during every day work",{"$nulls":5},"Teaching the skills",{"$nulls":4},"No","No",{"$nulls":6},"I am not involved in any kind of assessment",{"$nulls":5},"No",{"$nulls":3},"No recognition",null,"Lack of opportunity","Lack of organization",{"$nulls":3},"Yes","I know what is it, but outcome-based education is not implemented in my country","No","I am not sure",null,"Classic surgical specialties based curriculum",null,"National body responsible for education (Ministry of health or education, National board for anaesthesia …)","They have to pass a national board exam",null,"Other (please specify)"]
[13004260319,408998795,"2021-09-29T11:31:51","2021-09-02T19:17:50","188.252.196.104",{"$nulls":4},"50+","Female","Croatia","Croatia","Europe","over 20 years",4,"Senior specialist","Academic hospital (Teaching or University related)","Yes (please refer to Q10)","Almost every day","over 16",null,null,"ESAIC Teach the Teacher (TTT) courses",null,"Advanced Life Support (ALS), Basic Life Support (BLS) or other specific courses","Simulation courses",null,null,"Yes, some elements, but not systematically",null,null,"Perform work-based interactive teaching (operating room)","Running clinical case discussions","Involved in simulation sessions","Teach informally, during every day work",null,"Planning and preparation for teaching session","Using visual aids",null,"Problem based learning","Teaching the skills","Giving feedback",null,"Organizing specific sessions (journal clubs, interactive sessions, pro and con debate…)",null,"No","Yes",null,null,"I occasionally carry out assessment during the residency program (Direct Observation of Procedural Skills - DOPS)",null,"I give feedback during everyday work",{"$nulls":6},"No, it is assumed as being a part of everyday work",null,null,"Lack of time",null,"No recognition","Overloaded with work",{"$nulls":5},"Yes","I know what is it, but outcome-based education is not implemented in my country","I am not sure","I am not sure",null,"Competency (outcome) based curriculum",null,"National body responsible for education (Ministry of health or education, National board for anaesthesia …)","They have to pass a national board exam",null,"Written, oral examination and some practical assessment"]
[13004256249,408998795,"2021-09-29T09:52:18","2021-09-02T18:20:52","176.62.39.181",{"$nulls":4},"41-50","Female","Croatia","Croatia","Europe","16-20",4,"Specialist","Academic hospital (Teaching or University related)","Yes (please refer to Q10)","Less than once a week","11-15",null,"Obligatory teaching courses for University teachers",{"$nulls":5},"EAMS Teaching  the Airway Teacher course","No",null,"I give lectures","Perform work-based interactive teaching (operating room)","Running clinical case discussions",null,"Teach informally, during every day work",null,"Planning and preparation for teaching session","Using visual aids",null,"Problem based learning","Teaching the skills",{"$nulls":4},"No","Yes",{"$nulls":6},"I am not involved in any kind of assessment",null,null,"Yes, it is recognised for promotion in academia.",{"$nulls":3},"Lack of training","Lack of time","Lack of motivation","No recognition","Overloaded with work","Lack of opportunity","Lack of organization",{"$nulls":3},"Yes","I have some ideas, but it is not clear to me","No","Yes","01/01/2011","Classic surgical specialties based curriculum",null,"National body responsible for education (Ministry of health or education, National board for anaesthesia …)","They have to pass a national board exam",null,"Written, oral examination and some practical assessment"]
[13004249973,408998795,"2021-09-29T11:25:52","2021-09-11T16:04:58","213.7.62.245",{"$nulls":4},"31-35","Male","Cyprus","Cyprus","Europe","5-10",5,"Trainee","Academic hospital (Teaching or University related)","No (please refer to Q21)"]
[13004219433,408998795,"2021-09-29T11:00:36","2021-09-04T23:16:40","66.205.83.224",{"$nulls":4},"25-30","Female","Cyprus","Cyprus","Europe","5-10",5,"Senior resident","General hospital","No (please refer to Q21)",{"$nulls":50},"Other (please specify)","We do not have any program for senior residents to teach trainees","Yes","I do not know much","Yes","I am not sure",null,"Classic surgical specialties based curriculum",null,"National body responsible for education (Ministry of health or education, National board for anaesthesia …)","They have to pass a national board exam",null,"Written and oral examination"]
[13004217529,408998795,"2021-09-29T11:07:31","2021-09-04T10:44:34","62.12.71.53",{"$nulls":4},"41-50","Male","Cyprus","Cyprus","Europe","16-20",5,"Chief of Department","Academic hospital (Teaching or University related)","No (please refer to Q21)",{"$nulls":62},"Written and oral examination"]
[13004201426,408998795,"2021-09-29T10:58:43","2021-09-02T23:08:22","213.7.123.124",{"$nulls":4},"41-50","Female","Cyprus","Cyprus","Europe","11-15","Over 5","Specialist","Private hospital","No (please refer to Q21)",{"$nulls":50},"I am not employed by the university",null,"No","I do not know much","Yes","I am not sure",null,"Content based curriculum",null,"University","They have to pass a national board exam",null,"Written and oral examination"]
[13004203009,408998795,"2021-09-29T11:00:38","2021-09-24T17:40:50","193.34.239.133",{"$nulls":4},"50+","Male","Czech Republic","Czech Republic","Europe","over 20 years",5,"Senior specialist","General hospital","Yes (please refer to Q10)","Less than once a week","Less than 5",{"$nulls":6},"None",null,"No",{"$nulls":5},"Teach informally, during every day work",{"$nulls":9},"it goes alone, young doctors work and if they need we answer their questions","No","No",{"$nulls":6},"I am not involved in any kind of assessment",{"$nulls":5},"No","Lack of training","Lack of time","Lack of motivation",null,"Overloaded with work",null,"Lack of organization",null,"Other (please specify)","we do not have enough people to work, so young doctors learn by peeking from colleagues, their try perform procedures under suspervison and then their perform them independently, no specific teaching","Yes","I have some ideas, but it is not clear to me","No","No",null,"I do not know",null,"National body responsible for education (Ministry of health or education, National board for anaesthesia …)","They have to pass a national board exam",null,"Written and oral examination"]
[13004110843,408998795,"2021-09-29T10:07:15","2021-09-23T11:08:11","195.113.148.241",{"$nulls":4},"50+","Male","Czech Republic","Czech Republic","Europe","over 20 years",4,"Senior specialist","Academic hospital (Teaching or University related)","No (please refer to Q21)",{"$nulls":50},"I am not employed by the university"]
[13004080154,408998795,"2021-09-29T09:48:23","2021-09-06T00:37:14","46.135.37.94",{"$nulls":4},"41-50","Male","Czech Republic","Czech Republic","Europe","16-20",5,"Senior specialist","Academic hospital (Teaching or University related)","Yes (please refer to Q10)","Almost every day","6-10",null,"Obligatory teaching courses for University teachers",null,null,"Advanced Life Support (ALS), Basic Life Support (BLS) or other specific courses","Simulation courses",null,null,"No",null,null,"Perform work-based interactive teaching (operating room)","Running clinical case discussions",{"$nulls":6},"Problem based learning",null,"Giving feedback",{"$nulls":3},"No","No",null,null,"I occasionally carry out assessment during the residency program (Direct Observation of Procedural Skills - DOPS)","I give feedback during simulation sessions",{"$nulls":7},"No, it is assumed as being a part of everyday work",null,"Lack of training",{"$nulls":5},"Lack of organization",{"$nulls":3},"Yes","I have some ideas, but it is not clear to me","I am not sure","Yes","09/01/2019","Competency (outcome) based curriculum",null,"University","They have to pass a national board exam",null,"It is only oral examination"]
[13002477181,408998795,"2021-09-28T20:28:57","2021-09-02T19:55:29","37.188.226.199",{"$nulls":4},"50+","Female",null,"Czech Republic","Europe","over 20 years",5,"Specialist","Academic hospital (Teaching or University related)","Yes (please refer to Q10)","Almost every day","11-15",{"$nulls":6},"None",null,"Yes, some elements, but not systematically",null,null,"Perform work-based interactive teaching (operating room)",null,null,"Teach informally, during every day work",{"$nulls":3},"Interactive teaching",null,"Teaching the skills","Giving feedback","Organizing and leading the discussions",null,null,"Yes","Yes",{"$nulls":3},"I give feedback during simulation sessions","I give feedback during everyday work",{"$nulls":6},"No, it is assumed as being a part of everyday work",null,null,"Lack of time",{"$nulls":6},"I am not employed by the university",null,"I do not know","I have no knowledge of what it is","I am not sure","I am not sure",null,"Competency (outcome) based curriculum",null,"University","They have to pass a national board exam",null,"Written, oral examination and some practical assessment"]
[13002447597,408998795,"2021-09-28T20:22:02","2021-09-02T19:03:47","37.48.53.208",{"$nulls":4},"36-40","Female","Czech Republic","Czech Republic","Europe","11-15",5,"Specialist","Academic hospital (Teaching or University related)","Yes (please refer to Q10)","When in the operating theater (always have an allocated resident)","11-15",{"$nulls":4},"Advanced Life Support (ALS), Basic Life Support (BLS) or other specific courses","Simulation courses",null,null,"No",null,"I give lectures","Perform work-based interactive teaching (operating room)","Running clinical case discussions","Involved in simulation sessions",null,null,"Planning and preparation for teaching session",null,"Interactive teaching","Problem based learning","Teaching the skills","Giving feedback","Organizing and leading the discussions","Organizing specific sessions (journal clubs, interactive sessions, pro and con debate…)",null,"Yes","Yes",{"$nulls":3},"I give feedback during simulation sessions","I give feedback during everyday work",{"$nulls":6},"No, it is assumed as being a part of everyday work",null,"Lack of training",{"$nulls":3},"Overloaded with work",{"$nulls":5},"Yes","I do not know much","I am not sure","I am not sure",null,"Classic surgical specialties based curriculum",null,"Department of anaesthesiology","They have to pass a university board exam",null,"It is only oral examination"]
[13002190441,408998795,"2021-09-28T18:54:14","2021-09-23T15:08:34","185.224.57.161",{"$nulls":4},"50+","Female","Denmark","Denmark","Europe","over 20 years",5,"Other","Academic hospital (Teaching or University related)","No (please refer to Q21)"]
[13001172855,408998795,"2021-09-28T12:48:37","2021-09-23T08:58:01","176.20.62.7",{"$nulls":4},"50+","Male","Denmark","Denmark","Europe","16-20",5,"Senior specialist","Academic hospital (Teaching or University related)","Yes (please refer to Q10)","Almost every day","11-15",{"$nulls":3},"Other short TTT courses","Advanced Life Support (ALS), Basic Life Support (BLS) or other specific courses","Simulation courses",null,"Other teaching courses at University","Yes",null,"I give lectures","Perform work-based interactive teaching (operating room)","Running clinical case discussions","Involved in simulation sessions",null,null,"Planning and preparation for teaching session","Using visual aids","Interactive teaching","Problem based learning","Teaching the skills","Giving feedback","Organizing and leading the discussions",null,null,"Yes","Yes","I am an examiner for the final exam",null,null,"I give feedback during simulation sessions","I give feedback during everyday work","I am involved in other forms of formative assessment (for example multisource feedback)",null,null,"Yes, I am paid more",null,"Yes, I have a more visible position in the department","No, it is assumed as being a part of everyday work",null,null,"Lack of time",null,null,"Overloaded with work","Lack of opportunity","Lack of organization",{"$nulls":3},"Yes","Yes, I am well informed","No","Yes",null,"Competency (outcome) based curriculum",null,"National body responsible for education (Ministry of health or education, National board for anaesthesia …)","They just have to complete the residency program (3-5 years)"]
[13001112725,408998795,"2021-09-28T12:15:03","2021-09-23T08:20:19","87.49.147.94",{"$nulls":4},"41-50","Male","Denmark","Denmark","Europe","11-15",5,"Specialist","General hospital","Yes (please refer to Q10)","Every day","6-10",{"$nulls":3},"Other short TTT courses","Advanced Life Support (ALS), Basic Life Support (BLS) or other specific courses","Simulation courses",null,null,"Yes",null,"I give lectures",null,"Running clinical case discussions","Involved in simulation sessions","Teach informally, during every day work",null,"Planning and preparation for teaching session",null,null,"Problem based learning","Teaching the skills","Giving feedback",{"$nulls":3},"No","Yes",null,null,"I occasionally carry out assessment during the residency program (Direct Observation of Procedural Skills - DOPS)","I give feedback during simulation sessions","I give feedback during everyday work","I am involved in other forms of formative assessment (for example multisource feedback)",{"$nulls":5},"No, it is assumed as being a part of everyday work",null,null,"Lack of time",null,null,"Overloaded with work","Lack of opportunity",{"$nulls":4},"Yes","I have some ideas, but it is not clear to me","No","I am not sure",null,"Competency (outcome) based curriculum",null,"National body responsible for education (Ministry of health or education, National board for anaesthesia …)","They just have to complete the residency program (3-5 years)"]
[13001014067,408998795,"2021-09-28T11:18:21","2021-09-28T11:35:05","105.112.37.171",{"$nulls":4},"41-50","Female",null,"Nigeria","Africa","5-10","Over 5","Senior resident","Academic hospital (Teaching or University related)","Yes (please refer to Q10)","When in the operating theater (always have an allocated resident)","6-10",{"$nulls":4},"Advanced Life Support (ALS), Basic Life Support (BLS) or other specific courses",{"$nulls":3},"Yes",null,null,"Perform work-based interactive teaching (operating room)",{"$nulls":11},"Organizing specific sessions (journal clubs, interactive sessions, pro and con debate…)",null,"Yes","No",null,null,"I occasionally carry out assessment during the residency program (Direct Observation of Procedural Skills - DOPS)",{"$nulls":8},"No, it is assumed as being a part of everyday work",null,null,"Lack of time",{"$nulls":6},"I am not employed by the university",null,"Yes","Yes, I am well informed","Yes","Yes","09/28/2021","Competency (outcome) based curriculum",null,"National body responsible for education (Ministry of health or education, National board for anaesthesia …)","They have to pass a national board exam",null,"Written and oral examination, but also OSCE (Objective Structured Clinical Examination)"]
[13000793063,408998795,"2021-09-28T09:06:26","2021-09-07T17:14:08","213.237.94.57",{"$nulls":4},"36-40","Female","Portugal","Denmark","Europe","11-15",4,"Senior specialist","Academic hospital (Teaching or University related)","Yes (please refer to Q10)","Almost every day","Less than 5",{"$nulls":4},"Advanced Life Support (ALS), Basic Life Support (BLS) or other specific courses",{"$nulls":3},"No",{"$nulls":5},"Teach informally, during every day work",null,"Planning and preparation for teaching session","Using visual aids",null,null,"Teaching the skills","Giving feedback",{"$nulls":3},"No","Yes",null,null,"I occasionally carry out assessment during the residency program (Direct Observation of Procedural Skills - DOPS)",null,"I give feedback during everyday work","I am involved in other forms of formative assessment (for example multisource feedback)",{"$nulls":5},"No, it is assumed as being a part of everyday work",null,"Lack of training","Lack of time",null,"No recognition",{"$nulls":6},"Yes","I do not know much","No","I am not sure",null,"Competency (outcome) based curriculum",null,"National body responsible for education (Ministry of health or education, National board for anaesthesia …)","They just have to complete the residency program (3-5 years)"]
[13000731279,408998795,"2021-09-28T08:22:21","2021-09-03T13:13:04","128.0.73.7",{"$nulls":4},"50+","Male","Denmark","Denmark","Europe","over 20 years",4,"Senior specialist","General hospital","Yes (please refer to Q10)","Every day","over 16",{"$nulls":3},"Other short TTT courses","Advanced Life Support (ALS), Basic Life Support (BLS) or other specific courses",{"$nulls":3},"Yes",null,"I give lectures",{"$nulls":3},"Teach informally, during every day work",{"$nulls":6},"Giving feedback",{"$nulls":3},"No","No",{"$nulls":6},"I am not involved in any kind of assessment",{"$nulls":5},"No"]
[12999707093,408998795,"2021-09-27T22:46:19","2021-09-03T02:49:29","94.189.182.4",{"$nulls":4},"50+","Female","Serbia","Denmark","Europe","over 20 years",4,"Teacher (in University)","Academic hospital (Teaching or University related)","Yes (please refer to Q10)","Almost every day","over 16",{"$nulls":3},"Other short TTT courses","Advanced Life Support (ALS), Basic Life Support (BLS) or other specific courses","Simulation courses",null,null,"No",null,"I give lectures","Perform work-based interactive teaching (operating room)",null,null,"Teach informally, during every day work",null,"Planning and preparation for teaching session","Using visual aids","Interactive teaching","Problem based learning","Teaching the skills","Giving feedback","Organizing and leading the discussions",null,null,"No","Yes","I am an examiner for the final exam",{"$nulls":3},"I give feedback during everyday work",{"$nulls":4},"Yes, it is recognised for promotion in academia.",null,"No, it is assumed as being a part of everyday work",null,null,"Lack of time",null,"No recognition","Overloaded with work","Lack of opportunity","Lack of organization",null,"Other (please specify)","I am involved","I do not know","Yes, I am well informed","I am not sure","I am not sure",null,"Competency (outcome) based curriculum",null,"National body responsible for education (Ministry of health or education, National board for anaesthesia …)","They have to pass a national board exam",null,"Written, oral examination and some practical assessment"]
[12999336557,408998795,"2021-09-27T20:22:22","2021-09-27T20:31:13","37.38.195.17",{"$nulls":4},"41-50","Male","Egypt","Kuwait","Asia","over 20 years","Over 5","Senior specialist","General hospital","Yes (please refer to Q10)","Every day","Less than 5",{"$nulls":4},"Advanced Life Support (ALS), Basic Life Support (BLS) or other specific courses",{"$nulls":3},"Yes, some elements, but not systematically",null,null,"Perform work-based interactive teaching (operating room)","Running clinical case discussions",null,"Teach informally, during every day work",{"$nulls":3},"Interactive teaching",null,"Teaching the skills","Giving feedback",{"$nulls":3},"Yes","Yes",null,null,"I occasionally carry out assessment during the residency program (Direct Observation of Procedural Skills - DOPS)",null,"I give feedback during everyday work","I am involved in other forms of formative assessment (for example multisource feedback)",null,null,"Yes, I am paid more",null,null,"No, it is assumed as being a part of everyday work",null,null,"Lack of time",{"$nulls":4},"Lack of organization",{"$nulls":3},"Yes","I have no knowledge of what it is","No","No",null,"Content based curriculum",null,"National body responsible for education (Ministry of health or education, National board for anaesthesia …)","They have to pass a national board exam",null,"Written and oral examination"]
[12999001929,408998795,"2021-09-27T18:22:15","2021-09-02T19:06:56","109.59.225.94",{"$nulls":4},"41-50","Female","Denmark","Denmark","Europe","11-15",5,"Senior specialist","Academic hospital (Teaching or University related)","Yes (please refer to Q10)","Every day","11-15",{"$nulls":3},"Other short TTT courses","Advanced Life Support (ALS), Basic Life Support (BLS) or other specific courses",{"$nulls":3},"No",null,null,"Perform work-based interactive teaching (operating room)",null,"Involved in simulation sessions","Teach informally, during every day work",null,"Planning and preparation for teaching session","Using visual aids","Interactive teaching",null,"Teaching the skills","Giving feedback","Organizing and leading the discussions",null,null,"Yes","Yes",null,null,"I occasionally carry out assessment during the residency program (Direct Observation of Procedural Skills - DOPS)","I give feedback during simulation sessions","I give feedback during everyday work",{"$nulls":5},"Yes, I have a more visible position in the department",{"$nulls":3},"Lack of time",null,null,"Overloaded with work",{"$nulls":5},"Yes","Yes, I am well informed","No","No",null,"Competency (outcome) based curriculum",null,"National body responsible for education (Ministry of health or education, National board for anaesthesia …)","They just have to complete the residency program (3-5 years)"]
[12998826063,408998795,"2021-09-27T17:25:03","2021-09-30T22:01:28","193.40.20.28",{"$nulls":4},"41-50","Male","Estonia","Estonia","Europe","over 20 years",3,"Chief of Department","Academic hospital (Teaching or University related)","Yes (please refer to Q10)","When in the operating theater (always have an allocated resident)","over 16",null,"Obligatory teaching courses for University teachers",null,null,"Advanced Life Support (ALS), Basic Life Support (BLS) or other specific courses","Simulation courses",null,null,"No",null,"I give lectures","Perform work-based interactive teaching (operating room)","Running clinical case discussions","Involved in simulation sessions","Teach informally, during every day work",null,"Planning and preparation for teaching session","Using visual aids","Interactive teaching",null,"Teaching the skills","Giving feedback","Organizing and leading the discussions",null,null,"Yes","Yes","I am an examiner for the final exam",null,null,"I give feedback during simulation sessions",{"$nulls":5},"Yes, it is recognised for promotion in academia.","Yes, I have a more visible position in the department",null,null,"Lack of training",{"$nulls":3},"Overloaded with work",{"$nulls":5},"Yes","I have some ideas, but it is not clear to me","Yes","I am not sure",null,"Content based curriculum",null,"University","They have to pass a university board exam",null,"Written, oral examination and some practical assessment"]
[12998030804,408998795,"2021-09-27T12:04:56","2021-09-27T12:10:06","157.48.67.47",{"$nulls":4},"31-35","Female","India","India","Asia","5-10",3,"Senior resident","Academic hospital (Teaching or University related)","Yes (please refer to Q10)","When in the operating theater (always have an allocated resident)","Less than 5",{"$nulls":6},"None",null,"No",null,null,"Perform work-based interactive teaching (operating room)",{"$nulls":7},"Problem based learning",{"$nulls":5},"No","No",{"$nulls":6},"I am not involved in any kind of assessment",{"$nulls":4},"No, it is assumed as being a part of everyday work",{"$nulls":5},"Overloaded with work",null,"Lack of organization",null,"I work with residents, but I do not see that as teaching",null,"Yes","I have some ideas, but it is not clear to me","No","I am not sure",null,"Classic surgical specialties based curriculum",null,"University","They have to pass a university board exam",null,"VIVA (Oral examination), written and OSCE examination"]
[12997887371,408998795,"2021-09-27T10:36:47","2021-09-30T21:16:35","46.131.33.106",{"$nulls":4},"36-40","Female","Estonia","Estonia","Europe","11-15",4,"Specialist","Academic hospital (Teaching or University related)","Yes (please refer to Q10)","Almost every day","6-10",null,"Obligatory teaching courses for University teachers",null,"Other short TTT courses","Advanced Life Support (ALS), Basic Life Support (BLS) or other specific courses","Simulation courses",null,null,"No, but students are exposed to outcome based teaching",null,"I give lectures","Perform work-based interactive teaching (operating room)",null,"Involved in simulation sessions","Teach informally, during every day work",null,"Planning and preparation for teaching session",null,"Interactive teaching","Problem based learning","Teaching the skills","Giving feedback",null,"Organizing specific sessions (journal clubs, interactive sessions, pro and con debate…)",null,"Yes","No",null,null,"I occasionally carry out assessment during the residency program (Direct Observation of Procedural Skills - DOPS)","I give feedback during simulation sessions","I give feedback during everyday work","I am involved in other forms of formative assessment (for example multisource feedback)",null,null,"Yes, I am paid more",null,null,"No, it is assumed as being a part of everyday work",null,"Lack of training","Lack of time",null,null,"Overloaded with work",null,"Lack of organization",{"$nulls":3},"Yes","I have some ideas, but it is not clear to me","I am not sure","I am not sure",null,"Content based curriculum",null,"University","They have to pass a national board exam",null,"It is only oral examination"]
[12997788858,408998795,"2021-09-27T09:36:25","2021-09-29T09:53:45","194.126.99.106",{"$nulls":4},"36-40","Female","Estonia","Estonia","Europe","5-10",4,"Specialist","Academic hospital (Teaching or University related)","Yes (please refer to Q10)","Every day","6-10",null,"Obligatory teaching courses for University teachers","ESAIC Teach the Teacher (TTT) courses",null,"Advanced Life Support (ALS), Basic Life Support (BLS) or other specific courses","Simulation courses",null,null,"Yes, some elements, but not systematically",null,"I give lectures","Perform work-based interactive teaching (operating room)",null,"Involved in simulation sessions","Teach informally, during every day work",null,"Planning and preparation for teaching session","Using visual aids","Interactive teaching",null,"Teaching the skills","Giving feedback",{"$nulls":3},"Yes","Yes","I am an examiner for the final exam",null,null,"I give feedback during simulation sessions","I give feedback during everyday work",{"$nulls":3},"Yes, I am paid more",{"$nulls":5},"Lack of time",{"$nulls":8},"Yes","Yes, I am well informed","Yes","Yes","09/01/2021","Competency (outcome) based curriculum",null,"University","They have to pass a national board exam",null,"It is only oral examination"]
[12997532371,408998795,"2021-09-27T06:06:32","2021-09-29T13:12:11","85.76.112.224",{"$nulls":4},"36-40","Female","Finland","Finland","Europe","16-20","Over 5","Specialist","Academic hospital (Teaching or University related)","Yes (please refer to Q10)","Almost every day","6-10",{"$nulls":4},"Advanced Life Support (ALS), Basic Life Support (BLS) or other specific courses","Simulation courses",null,"Voluntary teaching courses organized by University and several associations","No",null,null,"Perform work-based interactive teaching (operating room)","Running clinical case discussions","Involved in simulation sessions","Teach informally, during every day work",null,"Planning and preparation for teaching session",null,"Interactive teaching","Problem based learning","Teaching the skills","Giving feedback","Organizing and leading the discussions",null,null,"Yes","Yes",null,null,"I occasionally carry out assessment during the residency program (Direct Observation of Procedural Skills - DOPS)","I give feedback during simulation sessions","I give feedback during everyday work","I am involved in other forms of formative assessment (for example multisource feedback)",{"$nulls":5},"No, it is assumed as being a part of everyday work",null,null,"Lack of time",null,null,"Overloaded with work","Lack of opportunity",{"$nulls":4},"Yes","Yes, I am well informed","Yes","Yes","09/01/2020","Other (please specify)","We´re in the middle of implementing Competency based curriculum nationally at the moment.","University","They have to pass a national board exam",null,"Other (please specify)"]
[12996894065,408998795,"2021-09-26T21:50:39","2021-09-26T22:03:51","78.95.88.221",{"$nulls":4},"41-50","Female","India","Saudi Arabia","Asia","5-10",4,"Specialist","Academic hospital (Teaching or University related)","Yes (please refer to Q10)","When in the operating theater (always have an allocated resident)","Less than 5",{"$nulls":4},"Advanced Life Support (ALS), Basic Life Support (BLS) or other specific courses",{"$nulls":3},"Yes, some elements, but not systematically",null,"I give lectures","Perform work-based interactive teaching (operating room)","Running clinical case discussions",null,"Teach informally, during every day work",null,"Planning and preparation for teaching session","Using visual aids","Interactive teaching","Problem based learning","Teaching the skills","Giving feedback",null,"Organizing specific sessions (journal clubs, interactive sessions, pro and con debate…)",null,"No","No",{"$nulls":4},"I give feedback during everyday work",{"$nulls":6},"No, it is assumed as being a part of everyday work",null,null,"Lack of time",null,null,"Overloaded with work",{"$nulls":3},"Other (please specify)","Not allocated to teach ","Yes","I have some ideas, but it is not clear to me","I am not sure","I am not sure",null,"Content based curriculum",null,"University","They have to pass a university board exam",null,"Written and oral examination, but also OSCE (Objective Structured Clinical Examination)"]
[12996879242,408998795,"2021-09-26T21:36:01","2021-09-23T08:18:07","193.167.131.244",{"$nulls":4},"36-40","Female","Finland","Finland","Europe","11-15","Over 5","Specialist","Academic hospital (Teaching or University related)","Yes (please refer to Q10)","When in the operating theater (always have an allocated resident)","Less than 5",{"$nulls":7},"pedagogic studies for specialized medical doctors","No",{"$nulls":5},"Teach informally, during every day work",{"$nulls":6},"Giving feedback",{"$nulls":3},"No","Yes",{"$nulls":4},"I give feedback during everyday work",{"$nulls":6},"No, it is assumed as being a part of everyday work",null,null,"Lack of time",null,null,"Overloaded with work",{"$nulls":5},"I do not know","Yes, I am well informed","I am not sure","I am not sure",null,"Other (please specify)","we are in transition with content based and competency based, part of residents study still with content based","I do not know","They have to pass a national board exam",null,"Written, oral examination and some practical assessment"]
[12996874220,408998795,"2021-09-26T21:30:45","2021-09-23T08:17:01","141.98.193.4",{"$nulls":4},"36-40","Male","Finland","Finland","Europe","11-15","Over 5","Senior specialist","Academic hospital (Teaching or University related)","Yes (please refer to Q10)","Once a week","6-10",null,"Obligatory teaching courses for University teachers",null,null,"Advanced Life Support (ALS), Basic Life Support (BLS) or other specific courses","Simulation courses",null,"Special competence in medical education (Finnish Medical Association)","No",null,"I give lectures","Perform work-based interactive teaching (operating room)","Running clinical case discussions","Involved in simulation sessions","Teach informally, during every day work",null,"Planning and preparation for teaching session","Using visual aids","Interactive teaching",null,"Teaching the skills","Giving feedback","Organizing and leading the discussions","Organizing specific sessions (journal clubs, interactive sessions, pro and con debate…)",null,"Yes","No",null,null,"I occasionally carry out assessment during the residency program (Direct Observation of Procedural Skills - DOPS)","I give feedback during simulation sessions","I give feedback during everyday work","I am involved in other forms of formative assessment (for example multisource feedback)",null,null,"Yes, I am paid more","Yes, it is recognised for promotion in academia.","Yes, I have a more visible position in the department",{"$nulls":3},"Lack of time",{"$nulls":8},"Yes","Yes, I am well informed","Yes","Yes","08/01/2021","Competency (outcome) based curriculum",null,"University","They have to pass a national board exam",null,"Written, oral examination and some practical assessment"]
[12996728675,408998795,"2021-09-26T19:18:48","2021-09-03T08:36:00","193.167.131.244",{"$nulls":4},"41-50","Female","Finland","Finland","Europe","over 20 years","Over 5","Senior specialist","Academic hospital (Teaching or University related)","Yes (please refer to Q10)","Almost every day","11-15",{"$nulls":5},"Simulation courses",null,"National speciality in teaching, sc. 'Special Competence in medical education'","No",null,"I give lectures","Perform work-based interactive teaching (operating room)",null,"Involved in simulation sessions","Teach informally, during every day work",null,"Planning and preparation for teaching session","Using visual aids","Interactive teaching","Problem based learning","Teaching the skills","Giving feedback","Organizing and leading the discussions","Organizing specific sessions (journal clubs, interactive sessions, pro and con debate…)",null,"Yes","No",{"$nulls":3},"I give feedback during simulation sessions","I give feedback during everyday work","I am involved in other forms of formative assessment (for example multisource feedback)",{"$nulls":4},"Yes, I have a more visible position in the department",{"$nulls":3},"Lack of time",null,null,"Overloaded with work","Lack of opportunity",{"$nulls":4},"Yes","Yes, I am well informed","Yes","Yes","02/01/2020","Other (please specify)","Both time based (old one), and now competency based (new one)","University","Other (please specify)","National board exam is the first choice, but EDAIC is an option","Other (please specify)"]
[12996537519,408998795,"2021-09-26T16:25:26","2021-09-03T08:04:17","193.166.253.150",{"$nulls":4},"31-35","Male","Equatorial Guinea","Finland","Europe","5-10","Over 5","Senior specialist","Academic hospital (Teaching or University related)","Yes (please refer to Q10)","Almost every day","Less than 5",{"$nulls":4},"Advanced Life Support (ALS), Basic Life Support (BLS) or other specific courses","Simulation courses",null,null,"Yes, some elements, but not systematically",null,null,"Perform work-based interactive teaching (operating room)",null,null,"Teach informally, during every day work",{"$nulls":6},"Giving feedback",{"$nulls":3},"No","No",{"$nulls":4},"I give feedback during everyday work","I am involved in other forms of formative assessment (for example multisource feedback)",{"$nulls":5},"No, it is assumed as being a part of everyday work",null,null,"Lack of time",{"$nulls":4},"Lack of organization",{"$nulls":3},"Yes","I have no knowledge of what it is","I am not sure","I am not sure",null,"I do not know",null,"University","They have to pass a national board exam",null,"Other (please specify)"]
[12996501237,408998795,"2021-09-26T15:50:38","2021-09-02T21:55:16","85.23.78.213",{"$nulls":4},"41-50","Male","Finland","Finland","Europe","over 20 years","Over 5","Senior specialist","Academic hospital (Teaching or University related)","Yes (please refer to Q10)","When in the operating theater (always have an allocated resident)","11-15",{"$nulls":5},"Simulation courses",null,"Effective Management of Anesthetic Crisis EMAC Australia","Yes, some elements, but not systematically",null,null,"Perform work-based interactive teaching (operating room)","Running clinical case discussions","Involved in simulation sessions","Teach informally, during every day work",null,"Planning and preparation for teaching session","Using visual aids","Interactive teaching","Problem based learning","Teaching the skills","Giving feedback",{"$nulls":3},"No","No",{"$nulls":3},"I give feedback during simulation sessions","I give feedback during everyday work",{"$nulls":6},"No, it is assumed as being a part of everyday work",null,null,"Lack of time",null,"No recognition","Overloaded with work",null,"Lack of organization","Organisation not willing on implementing new techniques.",null,null,"Yes","I do not know much","No","I am not sure",null,"Content based curriculum",null,"University","They have to pass a national board exam",null,"Written, oral examination and some practical assessment","Written plus publication work"]
[12996446772,408998795,"2021-09-26T14:53:05","2021-09-26T15:14:16","82.215.90.27",{"$nulls":4},"50+","Male","Uzbekistan","Uzbekistan","Asia","over 20 years","Less than 3","Chief of Department","Specialized clinic","Yes (please refer to Q10)","Almost every day","6-10",{"$nulls":5},"Simulation courses",null,null,"Yes",null,"I give lectures","Perform work-based interactive teaching (operating room)",{"$nulls":4},"Planning and preparation for teaching session","Using visual aids",{"$nulls":5},"Organizing specific sessions (journal clubs, interactive sessions, pro and con debate…)",null,"Yes","Yes",null,null,"I occasionally carry out assessment during the residency program (Direct Observation of Procedural Skills - DOPS)",{"$nulls":5},"Yes, I am paid more","Yes, it is recognised for promotion in academia.","Yes, I have a more visible position in the department",null,null,"Lack of training",{"$nulls":3},"Overloaded with work",{"$nulls":3},"I work with residents, but I do not see that as teaching",null,"Yes","Yes, I am well informed","I am not sure","I am not sure",null,"Content based curriculum",null,"Hospital administration","They have to pass a national board exam",null,"Written and oral examination"]
[12996132782,408998795,"2021-09-26T08:41:43","2021-09-26T08:47:48","49.204.136.247",{"$nulls":4},"50+","Male","India","India","Asia","over 20 years",5,"Senior specialist","Academic hospital (Teaching or University related)","Yes (please refer to Q10)","When in the operating theater (always have an allocated resident)","over 16",null,"Obligatory teaching courses for University teachers",null,null,"Advanced Life Support (ALS), Basic Life Support (BLS) or other specific courses","Simulation courses",null,null,"Yes, some elements, but not systematically",null,"I give lectures","Perform work-based interactive teaching (operating room)","Running clinical case discussions",null,"Teach informally, during every day work",null,"Planning and preparation for teaching session","Using visual aids","Interactive teaching","Problem based learning","Teaching the skills","Giving feedback",{"$nulls":3},"No","Yes",{"$nulls":4},"I give feedback during everyday work",{"$nulls":7},"No",null,"Lack of time","Lack of motivation",null,"Overloaded with work",{"$nulls":3},"I work with residents, but I do not see that as teaching",null,"I do not know","I have some ideas, but it is not clear to me","No","I am not sure",null,"Content based curriculum",null,"University","They have to pass a university board exam",null,"VIVA (Oral examination), written and OSCE examination"]
[12995848166,408998795,"2021-09-26T01:06:16","2021-09-02T20:31:57","88.114.232.40",{"$nulls":4},"41-50","Female","Finland","Finland","Europe","16-20","Over 5","Chief of Department","General hospital","Yes (please refer to Q10)","Every day","Less than 5",{"$nulls":3},"Other short TTT courses",{"$nulls":4},"Yes, some elements, but not systematically",null,null,"Perform work-based interactive teaching (operating room)","Running clinical case discussions","Involved in simulation sessions","Teach informally, during every day work",null,"Planning and preparation for teaching session",null,null,"Problem based learning","Teaching the skills","Giving feedback","Organizing and leading the discussions",null,null,"No","Yes",{"$nulls":3},"I give feedback during simulation sessions","I give feedback during everyday work",{"$nulls":3},"Yes, I am paid more",{"$nulls":5},"Lack of time",null,null,"Overloaded with work",null,"Lack of organization",{"$nulls":3},"No","I do not know much","No","I am not sure",null,"I do not know",null,"University","They have to pass a national board exam",null,"Written and oral examination"]
[12995484070,408998795,"2021-09-25T18:17:26","2021-09-02T19:34:17","212.149.196.174",{"$nulls":4},"41-50","Male","Finland","Finland","Europe","11-15","Over 5","Chief of Department","Academic hospital (Teaching or University related)","Yes (please refer to Q10)","When in the operating theater (always have an allocated resident)","6-10",{"$nulls":5},"Simulation courses",null,null,"No",null,"I give lectures","Perform work-based interactive teaching (operating room)",null,"Involved in simulation sessions","Teach informally, during every day work",null,"Planning and preparation for teaching session","Using visual aids","Interactive teaching",null,"Teaching the skills","Giving feedback","Organizing and leading the discussions",null,null,"Yes","No",{"$nulls":3},"I give feedback during simulation sessions","I give feedback during everyday work",{"$nulls":6},"No, it is assumed as being a part of everyday work",null,"Lack of training","Lack of time",null,null,"Overloaded with work",null,"Lack of organization",{"$nulls":3},"Yes","I have no knowledge of what it is","Yes","No",null,"Classic surgical specialties based curriculum",null,"University","They have to pass a national board exam",null,"Other (please specify)"]
[12995453472,408998795,"2021-09-25T17:50:20","2021-09-25T17:59:00","157.49.165.79",{"$nulls":4},"41-50","Male","India","India","Asia","16-20","Over 5","Teacher (in University)","Academic hospital (Teaching or University related)","Yes (please refer to Q10)","When in the operating theater (always have an allocated resident)","over 16",{"$nulls":4},"Advanced Life Support (ALS), Basic Life Support (BLS) or other specific courses",{"$nulls":3},"Yes, some elements, but not systematically",null,"I give lectures","Perform work-based interactive teaching (operating room)","Running clinical case discussions",{"$nulls":3},"Planning and preparation for teaching session","Using visual aids","Interactive teaching","Problem based learning","Teaching the skills",{"$nulls":4},"No","Yes",{"$nulls":6},"I am not involved in any kind of assessment",{"$nulls":3},"Yes, I have a more visible position in the department",null,null,"Lack of training","Lack of time","Lack of motivation","No recognition",null,"Lack of opportunity","Lack of organization",{"$nulls":3},"No","I have some ideas, but it is not clear to me","No","No",null,"Content based curriculum",null,"Department of anaesthesiology","They have to pass a university board exam",null,"VIVA (Oral examination), written and OSCE examination"]
[12995420077,408998795,"2021-09-25T17:20:46","2021-09-30T17:32:14","109.7.27.242",{"$nulls":4},"50+","Female","France","France","Europe","over 20 years",5,"Specialist","Private hospital","No (please refer to Q21)",{"$nulls":50},"I work in a non-teaching hospital",null,"Yes","Yes, I am well informed","I am not sure","I am not sure",null,"Content based curriculum",null,"University","They have to pass a university board exam",null,"Written and oral examination"]
[12995260861,408998795,"2021-09-25T15:02:43","2021-09-23T16:12:45","159.180.241.146",{"$nulls":4},"50+","Female","France","France","Europe","over 20 years",3,"Senior specialist","General hospital","Yes (please refer to Q10)","Once a week","over 16",{"$nulls":3},"Other short TTT courses",{"$nulls":4},"No",null,"I give lectures","Perform work-based interactive teaching (operating room)",null,null,"Teach informally, during every day work",{"$nulls":3},"Interactive teaching",null,"Teaching the skills",null,"Organizing and leading the discussions",null,null,"No","No",{"$nulls":4},"I give feedback during everyday work",{"$nulls":5},"Yes, I have a more visible position in the department","No, it is assumed as being a part of everyday work",{"$nulls":8},"nothing","I work in a non-teaching hospital"]
[12995126665,408998795,"2021-09-25T12:51:13","2021-09-25T12:58:41","31.166.27.68",{"$nulls":4},"36-40","Male","Egypt","Saudi Arabia","Asia","11-15","Over 5","Specialist","Academic hospital (Teaching or University related)","Yes (please refer to Q10)","When in the operating theater (always have an allocated resident)","Less than 5",{"$nulls":6},"None",null,"No",null,null,"Perform work-based interactive teaching (operating room)",null,null,"Teach informally, during every day work",{"$nulls":3},"Interactive teaching",null,"Teaching the skills","Giving feedback",{"$nulls":3},"No","No",{"$nulls":6},"I am not involved in any kind of assessment",{"$nulls":4},"No, it is assumed as being a part of everyday work",null,"Lack of training","Lack of time",null,null,"Overloaded with work",null,"Lack of organization",null,"I work with residents, but I do not see that as teaching",null,"Yes","I do not know much","No","No",null,"I do not know",null,"National body responsible for education (Ministry of health or education, National board for anaesthesia …)","They have to pass a national board exam",null,"Written and oral examination, but also OSCE (Objective Structured Clinical Examination)"]
[12995117328,408998795,"2021-09-25T12:38:22","2021-09-23T12:42:31","92.184.108.140",{"$nulls":4},"41-50","Female","Hungary","France","Europe","11-15","Over 5","Specialist","General hospital","No (please refer to Q21)",{"$nulls":50},"I work in a non-teaching hospital",null,"Yes","Yes, I am well informed","Yes","Yes","01/01/2009","I do not know",null,"National body responsible for education (Ministry of health or education, National board for anaesthesia …)","They have to pass EDAIC part I",null,"Written and oral examination, but also OSCE (Objective Structured Clinical Examination)"]
[12995067764,408998795,"2021-09-25T11:47:20","2021-09-23T11:30:39","93.23.107.149",{"$nulls":4},"50+","Female","France","France","Europe","over 20 years",3,"Other","Academic hospital (Teaching or University related)","Yes (please refer to Q10)","Less than once a week","over 16",{"$nulls":6},"None",null,"Yes, some elements, but not systematically",null,"I give lectures","Perform work-based interactive teaching (operating room)",null,null,"Teach informally, during every day work",null,"Planning and preparation for teaching session","Using visual aids","Interactive teaching","Problem based learning",null,null,"Organizing and leading the discussions",null,null,"No","Yes",null,"I am European Diploma in Anaesthesia and Intensive Care (EDAIC) part II examiner",null,null,"I give feedback during everyday work",{"$nulls":6},"No, it is assumed as being a part of everyday work",null,null,"Lack of time",null,null,"Overloaded with work",{"$nulls":5},"No","I know what is it, but outcome-based education is not implemented in my country","Yes","I am not sure",null,"Content based curriculum",null,"University","They just have to complete the residency program (3-5 years)",null,"Written, oral examination and some practical assessment"]
[12994944981,408998795,"2021-09-25T09:28:45","2021-09-23T10:03:32","109.25.103.68",{"$nulls":4},"31-35","Male","Lebanon","France","Europe","5-10",4,"Specialist","Academic hospital (Teaching or University related)","Yes (please refer to Q10)","Every day","Less than 5",{"$nulls":4},"Advanced Life Support (ALS), Basic Life Support (BLS) or other specific courses",{"$nulls":3},"Other (please specify)","Not sure","I give lectures","Perform work-based interactive teaching (operating room)",null,null,"Teach informally, during every day work",null,"Planning and preparation for teaching session","Using visual aids","Interactive teaching","Problem based learning","Teaching the skills","Giving feedback","Organizing and leading the discussions",null,null,"No","No",null,null,"I occasionally carry out assessment during the residency program (Direct Observation of Procedural Skills - DOPS)",null,"I give feedback during everyday work",{"$nulls":5},"Yes, I have a more visible position in the department",{"$nulls":6},"Overloaded with work",{"$nulls":5},"Yes","I do not know much","Yes","I am not sure",null,"I do not know",null,"National body responsible for education (Ministry of health or education, National board for anaesthesia …)","They just have to complete the residency program (3-5 years)",null,"Written and oral examination"]
[12994941824,408998795,"2021-09-25T09:24:40","2021-09-23T09:43:20","90.126.189.161",{"$nulls":4},"41-50","Female","France","France","Europe","16-20",5,"Senior specialist","Academic hospital (Teaching or University related)","Yes (please refer to Q10)","When in the operating theater (always have an allocated resident)","over 16",null,"Obligatory teaching courses for University teachers",null,null,"Advanced Life Support (ALS), Basic Life Support (BLS) or other specific courses","Simulation courses",null,"Master in Education","No, but students are exposed to outcome based teaching",null,"I give lectures","Perform work-based interactive teaching (operating room)","Running clinical case discussions",null,"Teach informally, during every day work",null,"Planning and preparation for teaching session","Using visual aids","Interactive teaching","Problem based learning","Teaching the skills","Giving feedback","Organizing and leading the discussions",null,null,"No","Yes",null,"I am European Diploma in Anaesthesia and Intensive Care (EDAIC) part II examiner",null,null,"I give feedback during everyday work","I am involved in other forms of formative assessment (for example multisource feedback)",null,"Final note on practical skills evaluation at the end ",{"$nulls":3},"No, it is assumed as being a part of everyday work",null,null,"Lack of time",null,"No recognition","Overloaded with work",null,"Lack of organization",null,"I am not employed by the university",null,"Yes","I know what is it, but outcome-based education is not implemented in my country","Yes","I am not sure",null,"Content based curriculum",null,"National body responsible for education (Ministry of health or education, National board for anaesthesia …)","Other (please specify)","Complete program + annual evaluation","Other (please specify)"]
[12994937666,408998795,"2021-09-25T09:19:23","2021-09-25T09:27:31","49.145.106.58",{"$nulls":4},"50+","Female","Philippines","Philippines","Asia","16-20",4,"Senior specialist","Academic hospital (Teaching or University related)","Yes (please refer to Q10)","When in the operating theater (always have an allocated resident)","over 16",{"$nulls":4},"Advanced Life Support (ALS), Basic Life Support (BLS) or other specific courses","Simulation courses",null,null,"No, but students are exposed to outcome based teaching",null,"I give lectures","Perform work-based interactive teaching (operating room)","Running clinical case discussions",null,"Teach informally, during every day work",null,null,"Using visual aids","Interactive teaching","Problem based learning","Teaching the skills",null,null,"Organizing specific sessions (journal clubs, interactive sessions, pro and con debate…)",null,"Yes","Yes",null,null,"I occasionally carry out assessment during the residency program (Direct Observation of Procedural Skills - DOPS)",null,"I give feedback during everyday work","I am involved in other forms of formative assessment (for example multisource feedback)",{"$nulls":4},"Yes, I have a more visible position in the department",{"$nulls":3},"Lack of time",null,"No recognition",null,null,"Lack of organization",{"$nulls":3},"Yes","Yes, I am well informed","No","I am not sure",null,"Competency (outcome) based curriculum",null,"Society or association of anaesthesiology","They have to pass a national board exam",null,"Written, oral examination and some practical assessment"]
[12994883121,408998795,"2021-09-25T08:13:56","2021-09-23T09:27:40","176.179.137.177",{"$nulls":4},"31-35","Female","Romania","France","Europe","5-10",5,"Specialist","Academic hospital (Teaching or University related)","Yes (please refer to Q10)","Every day","Less than 5",null,"Obligatory teaching courses for University teachers",{"$nulls":6},"Yes, some elements, but not systematically",null,null,"Perform work-based interactive teaching (operating room)",null,null,"Teach informally, during every day work",{"$nulls":5},"Teaching the skills","Giving feedback",{"$nulls":3},"Yes","Yes",{"$nulls":3},"I give feedback during simulation sessions","I give feedback during everyday work","I am involved in other forms of formative assessment (for example multisource feedback)",{"$nulls":4},"Yes, I have a more visible position in the department",{"$nulls":3},"Lack of time",null,null,"Overloaded with work",null,"Lack of organization",null,"I am not employed by the university",null,"Yes","Yes, I am well informed","Yes","Yes","01/11/2021","Competency (outcome) based curriculum",null,"University","They have to pass a national board exam",null,"Written and oral examination"]
[12993994495,408998795,"2021-09-24T21:39:33","2021-09-24T21:43:25","37.142.106.175",{"$nulls":4},"50+","Male","Colombia","Israel","Asia","over 20 years","Over 5","Specialist","Private hospital","No (please refer to Q21)",{"$nulls":50},"I work in a non-teaching hospital",null,"Yes","I do not know much","I am not sure","I am not sure",null,"Other (please specify)","NONE, it is a private hospital","Society or association of anaesthesiology","They have to pass a national board exam",null,"Written, oral examination and some practical assessment"]
[12993969544,408998795,"2021-09-24T21:28:22","2021-09-23T08:41:16","37.165.246.50",{"$nulls":4},"36-40","Male","France","France","Europe","11-15",5,"Specialist","General hospital","Yes (please refer to Q10)","Less than once a week","Less than 5",{"$nulls":6},"None",null,"Yes, some elements, but not systematically",null,null,"Perform work-based interactive teaching (operating room)","Running clinical case discussions",{"$nulls":4},"Using visual aids",{"$nulls":7},"No","No",{"$nulls":6},"I am not involved in any kind of assessment",{"$nulls":4},"No, it is assumed as being a part of everyday work",null,null,"Lack of time",null,"No recognition",null,null,"Lack of organization",null,"I work with residents, but I do not see that as teaching",null,"I do not know","I do not know much","No","No",null,"I do not know",null,"I do not know","They have to pass a university board exam",null,"Written and oral examination"]
[12993937432,408998795,"2021-09-24T21:13:07","2021-09-23T08:14:29","37.164.84.139",{"$nulls":4},"50+","Female","Belgium","France","Europe","over 20 years",5,"Senior specialist","General hospital","No (please refer to Q21)",{"$nulls":50},"I work with residents, but I do not see that as teaching",null,"Yes","I have some ideas, but it is not clear to me","Yes","No",null,"Competency (outcome) based curriculum",null,"National body responsible for education (Ministry of health or education, National board for anaesthesia …)","They have to pass a national board exam",null,"Written and oral examination"]
[12993860843,408998795,"2021-09-24T20:38:25","2021-09-24T20:48:32","176.230.207.215",{"$nulls":4},"41-50","Male","Israel","Israel","Asia","11-15",5,"Specialist","Academic hospital (Teaching or University related)","Yes (please refer to Q10)","Almost every day","6-10",{"$nulls":4},"Advanced Life Support (ALS), Basic Life Support (BLS) or other specific courses","Simulation courses",null,null,"No",null,"I give lectures","Perform work-based interactive teaching (operating room)","Running clinical case discussions",null,"Teach informally, during every day work",null,"Planning and preparation for teaching session","Using visual aids","Interactive teaching","Problem based learning",null,"Giving feedback","Organizing and leading the discussions",null,null,"Yes","Yes","I am an examiner for the final exam",null,"I occasionally carry out assessment during the residency program (Direct Observation of Procedural Skills - DOPS)",null,"I give feedback during everyday work",{"$nulls":4},"Yes, it is recognised for promotion in academia.",null,"No, it is assumed as being a part of everyday work",null,null,"Lack of time",{"$nulls":8},"Yes","I know what is it, but outcome-based education is not implemented in my country","No","I am not sure",null,"Content based curriculum",null,"National body responsible for education (Ministry of health or education, National board for anaesthesia …)","They have to pass a national board exam",null,"Written and oral examination, but also OSCE (Objective Structured Clinical Examination)"]
[12993749648,408998795,"2021-09-24T19:53:55","2021-09-24T19:59:15","188.236.176.84",{"$nulls":4},"41-50","Male","Egypt","Kuwait","Asia","16-20","Over 5","Senior specialist","Private hospital","Yes (please refer to Q10)","Every day","6-10","Master in Medical Education","Obligatory teaching courses for University teachers","ESAIC Teach the Teacher (TTT) courses",null,"Advanced Life Support (ALS), Basic Life Support (BLS) or other specific courses","Simulation courses",null,null,"Yes",null,"I give lectures","Perform work-based interactive teaching (operating room)",null,"Involved in simulation sessions","Teach informally, during every day work",null,"Planning and preparation for teaching session","Using visual aids","Interactive teaching",null,"Teaching the skills","Giving feedback",{"$nulls":3},"Yes","Yes",null,"I am European Diploma in Anaesthesia and Intensive Care (EDAIC) part II examiner","I occasionally carry out assessment during the residency program (Direct Observation of Procedural Skills - DOPS)","I give feedback during simulation sessions",null,"I am involved in other forms of formative assessment (for example multisource feedback)",{"$nulls":4},"Yes, I have a more visible position in the department",null,null,"Lack of training","Lack of time","Lack of motivation",null,"Overloaded with work","Lack of opportunity",null,null,"I work in a non-teaching hospital",null,"Yes","Yes, I am well informed","Yes","Yes","11/01/2002","Competency (outcome) based curriculum",null,"National body responsible for education (Ministry of health or education, National board for anaesthesia …)","They just have to complete the residency program (3-5 years)",null,"VIVA (Oral examination), written and OSCE examination"]
[12993584060,408998795,"2021-09-24T18:50:25","2021-09-23T08:07:46","80.214.144.167",{"$nulls":4},"36-40","Male","Côte D'Ivoire","France","Europe","5-10","Less than 3","Specialist","General hospital","No (please refer to Q21)",{"$nulls":50},"I work in a non-teaching hospital"]
[12993339356,408998795,"2021-09-24T17:04:22","2021-09-02T20:54:10","78.194.146.164",{"$nulls":4},"31-35","Male","Belgium","France","Europe","5-10",5,"Trainee","Academic hospital (Teaching or University related)","No (please refer to Q21)"]
[12993334431,408998795,"2021-09-24T11:45:33","2021-09-02T18:12:12","77.158.174.2",{"$nulls":4},"31-35","Male","France","France","Europe","5-10",5,"Specialist","Academic hospital (Teaching or University related)","Yes (please refer to Q10)","Less than once a week","Less than 5","Master in Medical Education","Obligatory teaching courses for University teachers",{"$nulls":3},"Simulation courses",null,null,"No",null,null,"Perform work-based interactive teaching (operating room)","Running clinical case discussions","Involved in simulation sessions","Teach informally, during every day work",null,"Planning and preparation for teaching session","Using visual aids","Interactive teaching","Problem based learning","Teaching the skills","Giving feedback","Organizing and leading the discussions",null,null,"Yes","Yes","I am an examiner for the final exam",null,null,"I give feedback during simulation sessions","I give feedback during everyday work",{"$nulls":6},"No, it is assumed as being a part of everyday work",null,null,"Lack of time",null,"No recognition","Overloaded with work","Lack of opportunity",{"$nulls":4},"I do not know","I know what is it, but outcome-based education is not implemented in my country","No","No",null,"Classic surgical specialties based curriculum",null,"Society or association of anaesthesiology","They just have to complete the residency program (3-5 years)"]
[12993159376,408998795,"2021-09-24T16:25:24","2021-09-24T16:40:44","177.25.177.178",{"$nulls":4},"50+","Male","Brazil","Brazil","South America","over 20 years","Less than 3","Teacher (in University)","Academic hospital (Teaching or University related)","Yes (please refer to Q10)","Every day","over 16","Master in Medical Education","Obligatory teaching courses for University teachers",null,null,"Advanced Life Support (ALS), Basic Life Support (BLS) or other specific courses","Simulation courses",null,"Post Graduation in Superior Teaching ","Yes",null,"I give lectures","Perform work-based interactive teaching (operating room)","Running clinical case discussions",null,"Teach informally, during every day work",null,"Planning and preparation for teaching session","Using visual aids","Interactive teaching","Problem based learning","Teaching the skills",null,null,"Organizing specific sessions (journal clubs, interactive sessions, pro and con debate…)",null,"Yes","Yes",null,null,"I occasionally carry out assessment during the residency program (Direct Observation of Procedural Skills - DOPS)",null,"I give feedback during everyday work",{"$nulls":4},"Yes, it is recognised for promotion in academia.","Yes, I have a more visible position in the department",{"$nulls":3},"Lack of time",null,null,"Overloaded with work",{"$nulls":5},"Yes","Yes, I am well informed","Yes","I am not sure","01/01/2018","Content based curriculum",null,"University","They have to pass a national board exam",null,"Written, oral examination and some practical assessment"]
[12992843533,408998795,"2021-09-24T14:43:28","2021-09-24T14:50:14","189.122.99.56",{"$nulls":4},"50+","Male","Brazil","Brazil","South America","over 20 years","Less than 3","Senior specialist","Academic hospital (Teaching or University related)","Yes (please refer to Q10)","Once a week","over 16",{"$nulls":3},"Other short TTT courses","Advanced Life Support (ALS), Basic Life Support (BLS) or other specific courses","Simulation courses",null,null,"Yes, some elements, but not systematically",null,"I give lectures","Perform work-based interactive teaching (operating room)","Running clinical case discussions",null,"Teach informally, during every day work",null,"Planning and preparation for teaching session",null,"Interactive teaching","Problem based learning","Teaching the skills",null,"Organizing and leading the discussions","Organizing specific sessions (journal clubs, interactive sessions, pro and con debate…)",null,"Yes","Yes","I am an examiner for the final exam",null,"I occasionally carry out assessment during the residency program (Direct Observation of Procedural Skills - DOPS)","I give feedback during simulation sessions","I give feedback during everyday work",{"$nulls":3},"Yes, I am paid more",{"$nulls":6},"Lack of motivation",null,"Overloaded with work",null,"Lack of organization",{"$nulls":3},"Yes","Yes, I am well informed","I am not sure","No",null,"Content based curriculum",null,"National body responsible for education (Ministry of health or education, National board for anaesthesia …)","They just have to complete the residency program (3-5 years)"]
[12992840059,408998795,"2021-09-24T14:32:33","2021-09-24T14:45:43","197.208.250.195",{"$nulls":4},"31-35","Female","Sudan","Sudan","Africa","5-10",3,"Trainee","Academic hospital (Teaching or University related)","No (please refer to Q21)",{"$nulls":50},"I work with residents, but I do not see that as teaching"]
[12992643832,408998795,"2021-09-24T13:25:08","2021-09-24T13:29:12","223.186.221.2",{"$nulls":4},"25-30","Female","India","India","Asia","5-10",3,"Senior resident","Academic hospital (Teaching or University related)","Yes (please refer to Q10)","Almost every day","Less than 5",{"$nulls":4},"Advanced Life Support (ALS), Basic Life Support (BLS) or other specific courses","Simulation courses",null,null,"No",null,"I give lectures","Perform work-based interactive teaching (operating room)","Running clinical case discussions","Involved in simulation sessions","Teach informally, during every day work",null,"Planning and preparation for teaching session","Using visual aids","Interactive teaching","Problem based learning","Teaching the skills","Giving feedback","Organizing and leading the discussions",null,null,"No","Yes",{"$nulls":6},"I am not involved in any kind of assessment",{"$nulls":4},"No, it is assumed as being a part of everyday work",null,null,"Lack of time","Lack of motivation","No recognition","Overloaded with work",null,"Lack of organization",{"$nulls":3},"Yes","Yes, I am well informed","No","I am not sure",null,"Content based curriculum",null,"National body responsible for education (Ministry of health or education, National board for anaesthesia …)","They just have to complete the residency program (3-5 years)",null,"Written and oral examination"]
[12992597579,408998795,"2021-09-24T13:00:47","2021-09-02T18:11:42","93.9.226.233",{"$nulls":4},"36-40","Male","France","France","Europe","11-15","Over 5","Senior specialist","Private hospital","Yes (please refer to Q10)","Almost every day","6-10",{"$nulls":3},"Other short TTT courses",null,"Simulation courses",null,null,"No",null,"I give lectures","Perform work-based interactive teaching (operating room)",null,"Involved in simulation sessions","Teach informally, during every day work",{"$nulls":3},"Interactive teaching",null,"Teaching the skills","Giving feedback",null,"Organizing specific sessions (journal clubs, interactive sessions, pro and con debate…)",null,"Yes","No",{"$nulls":3},"I give feedback during simulation sessions","I give feedback during everyday work",{"$nulls":6},"No, it is assumed as being a part of everyday work",null,null,"Lack of time",null,"No recognition",null,null,"Lack of organization",{"$nulls":3},"Yes","I know what is it, but outcome-based education is not implemented in my country","No","I am not sure",null,"I do not know",null,"I do not know","They have to pass a university board exam",null,"Written and oral examination"]
[12992572873,408998795,"2021-09-24T12:45:27","2021-09-24T13:02:06","202.126.88.166",{"$nulls":4},"41-50","Female","Mongolia","Mongolia","Asia","16-20","Over 5","Specialist","General hospital","Yes (please refer to Q10)","Every day","6-10","Master in Medical Education",{"$nulls":7},"Yes",null,null,"Perform work-based interactive teaching (operating room)","Running clinical case discussions",{"$nulls":3},"Planning and preparation for teaching session",null,null,"Problem based learning",null,"Giving feedback",{"$nulls":3},"Yes","Yes","I am an examiner for the final exam",null,"I occasionally carry out assessment during the residency program (Direct Observation of Procedural Skills - DOPS)",null,"I give feedback during everyday work",{"$nulls":5},"Yes, I have a more visible position in the department",{"$nulls":4},"Lack of motivation",{"$nulls":3},"Lack of organization",null,"I do not want to be involved in teaching residents because it is not paid",null,"Yes","Yes, I am well informed","No","No",null,"I do not know",null,"Society or association of anaesthesiology","They just have to complete the residency program (3-5 years)",null,"Written, oral examination and some practical assessment"]
[12992560683,408998795,"2021-09-24T12:40:43","2021-09-02T18:11:14","194.167.111.61",{"$nulls":4},"50+","Female","France","France","Europe","over 20 years",5,"Chief of Department","Academic hospital (Teaching or University related)","Yes (please refer to Q10)","Less than once a week","over 16",{"$nulls":6},"None",null,"No",null,"I give lectures",null,"Running clinical case discussions","Involved in simulation sessions","Teach informally, during every day work",null,"Planning and preparation for teaching session","Using visual aids","Interactive teaching","Problem based learning",null,"Giving feedback","Organizing and leading the discussions",null,null,"Yes","Yes",null,null,"I occasionally carry out assessment during the residency program (Direct Observation of Procedural Skills - DOPS)",null,"I give feedback during everyday work",{"$nulls":5},"Yes, I have a more visible position in the department",{"$nulls":3},"Lack of time",null,"No recognition","Overloaded with work",{"$nulls":5},"Yes","I have no knowledge of what it is","No","I am not sure",null,"Competency (outcome) based curriculum",null,"National body responsible for education (Ministry of health or education, National board for anaesthesia …)","They have to pass a university board exam",null,"Written and oral examination"]
[12992570732,408998795,"2021-09-24T12:46:55","2021-09-23T21:14:12","109.172.155.106",{"$nulls":4},"50+","Male","Georgia","Georgia","Europe","over 20 years",4,"Chief of Department","Academic hospital (Teaching or University related)","Yes (please refer to Q10)"]
[12992566160,408998795,"2021-09-24T12:12:30","2021-09-03T13:22:16","94.43.149.210",{"$nulls":4},"25-30","Male","Georgia","Georgia","Europe",null,3,"Trainee","Academic hospital (Teaching or University related)","No (please refer to Q21)"]
[12992533576,408998795,"2021-09-24T12:25:53","2021-10-03T07:40:09","84.158.84.159",{"$nulls":4},"41-50","Male","Germany","Germany","Europe","over 20 years",5,"Chief of Department","Academic hospital (Teaching or University related)","Yes (please refer to Q10)","Less than once a week","over 16",{"$nulls":4},"Advanced Life Support (ALS), Basic Life Support (BLS) or other specific courses","Simulation courses",null,null,"Yes",null,"I give lectures","Perform work-based interactive teaching (operating room)","Running clinical case discussions",null,"Teach informally, during every day work",null,null,"Using visual aids","Interactive teaching","Problem based learning","Teaching the skills","Giving feedback",null,"Organizing specific sessions (journal clubs, interactive sessions, pro and con debate…)",null,"Yes","Yes","I am an examiner for the final exam","I am European Diploma in Anaesthesia and Intensive Care (EDAIC) part II examiner",null,"I give feedback during simulation sessions","I give feedback during everyday work","I am involved in other forms of formative assessment (for example multisource feedback)",{"$nulls":4},"Yes, I have a more visible position in the department",{"$nulls":3},"Lack of time"]
[12992513931,408998795,"2021-09-24T12:13:17","2021-10-02T08:09:52","185.146.38.167",{"$nulls":4},"50+","Male","Germany","Germany","Europe","over 20 years",5,"Chief of Department","Academic hospital (Teaching or University related)","Yes (please refer to Q10)","Every day","over 16",{"$nulls":3},"Other short TTT courses","Advanced Life Support (ALS), Basic Life Support (BLS) or other specific courses","Simulation courses",null,null,"Yes, some elements, but not systematically",null,"I give lectures","Perform work-based interactive teaching (operating room)","Running clinical case discussions",null,"Teach informally, during every day work",null,"Planning and preparation for teaching session","Using visual aids","Interactive teaching","Problem based learning","Teaching the skills","Giving feedback","Organizing and leading the discussions","Organizing specific sessions (journal clubs, interactive sessions, pro and con debate…)",null,"No","Yes",null,null,"I occasionally carry out assessment during the residency program (Direct Observation of Procedural Skills - DOPS)",{"$nulls":8},"No, it is assumed as being a part of everyday work",null,null,"Lack of time",{"$nulls":8},"Yes","I do not know much","I am not sure","I am not sure",null,"I do not know",null,"Society or association of anaesthesiology","They have to pass a national board exam",null,"It is only oral examination"]
[12992377503,408998795,"2021-09-24T10:58:42","2021-09-29T22:04:41","79.249.199.172",{"$nulls":4},"50+","Male","Germany","Germany","Europe","over 20 years","Over 5","Chief of Department","Academic hospital (Teaching or University related)","Yes (please refer to Q10)","Every day","over 16",null,"Obligatory teaching courses for University teachers",null,"Other short TTT courses",null,"Simulation courses",null,null,"No",null,"I give lectures","Perform work-based interactive teaching (operating room)","Running clinical case discussions","Involved in simulation sessions","Teach informally, during every day work",null,"Planning and preparation for teaching session","Using visual aids","Interactive teaching","Problem based learning",null,"Giving feedback","Organizing and leading the discussions","Organizing specific sessions (journal clubs, interactive sessions, pro and con debate…)",null,"Yes","Yes","I am an examiner for the final exam","I am European Diploma in Anaesthesia and Intensive Care (EDAIC) part II examiner","I occasionally carry out assessment during the residency program (Direct Observation of Procedural Skills - DOPS)","I give feedback during simulation sessions","I give feedback during everyday work",{"$nulls":4},"Yes, it is recognised for promotion in academia.","Yes, I have a more visible position in the department",{"$nulls":3},"Lack of time",{"$nulls":8},"No","Yes, I am well informed","Yes","No",null,"Content based curriculum",null,"Department of anaesthesiology","They have to pass a national board exam",null,"It is only oral examination"]
[12992340836,408998795,"2021-09-24T10:37:53","2021-09-28T09:10:57","141.53.111.31",{"$nulls":4},"31-35","Female","Germany","Germany","Europe","5-10",5,"Trainee","Academic hospital (Teaching or University related)","Yes (please refer to Q10)","Once a week","Less than 5",{"$nulls":3},"Other short TTT courses","Advanced Life Support (ALS), Basic Life Support (BLS) or other specific courses","Simulation courses",null,null,"No",null,"I give lectures","Perform work-based interactive teaching (operating room)",null,"Involved in simulation sessions","Teach informally, during every day work",null,"Planning and preparation for teaching session","Using visual aids","Interactive teaching",null,"Teaching the skills","Giving feedback","Organizing and leading the discussions","Organizing specific sessions (journal clubs, interactive sessions, pro and con debate…)",null,"No","No",{"$nulls":3},"I give feedback during simulation sessions","I give feedback during everyday work","I am involved in other forms of formative assessment (for example multisource feedback)",{"$nulls":6},"No","Lack of training","Lack of time",null,"No recognition",null,"Lack of opportunity","Lack of organization",{"$nulls":3},"Yes","Yes, I am well informed","No","No",null,"Content based curriculum",null,"University","They have to pass a national board exam",null,"It is only oral examination"]
[12992279631,408998795,"2021-09-24T09:58:43","2021-09-24T10:08:51","122.56.197.195",{"$nulls":4},"50+","Male","Zambia","New Zealand","Australia and Oceania","over 20 years",4,"Specialist","Academic hospital (Teaching or University related)","Yes (please refer to Q10)","Almost every day","over 16",{"$nulls":6},"None",null,"Other (please specify)","I don’t know current status.",null,"Perform work-based interactive teaching (operating room)",{"$nulls":8},"Teaching the skills","Giving feedback",{"$nulls":3},"No","No",null,null,"I occasionally carry out assessment during the residency program (Direct Observation of Procedural Skills - DOPS)",null,null,"I am involved in other forms of formative assessment (for example multisource feedback)",{"$nulls":5},"No, it is assumed as being a part of everyday work",{"$nulls":8},"There are no obstacles.",null,null,"Yes","I do not know much","No","I am not sure",null,"Competency (outcome) based curriculum",null,"Society or association of anaesthesiology","They have to pass a university board exam",null,"Written and oral examination"]
[12992283612,408998795,"2021-09-24T10:02:06","2021-09-27T06:21:27","82.75.129.212",{"$nulls":4},"50+","Male","Germany","Germany","Europe","over 20 years","Over 5","Teacher (in University)","Academic hospital (Teaching or University related)","Yes (please refer to Q10)","Almost every day","over 16","Master in Medical Education",{"$nulls":3},"Advanced Life Support (ALS), Basic Life Support (BLS) or other specific courses","Simulation courses",null,null,"Yes",null,"I give lectures","Perform work-based interactive teaching (operating room)","Running clinical case discussions","Involved in simulation sessions",null,null,"Planning and preparation for teaching session","Using visual aids","Interactive teaching",null,"Teaching the skills","Giving feedback","Organizing and leading the discussions",null,null,"Yes","Yes","I am an examiner for the final exam",null,"I occasionally carry out assessment during the residency program (Direct Observation of Procedural Skills - DOPS)","I give feedback during simulation sessions","I give feedback during everyday work",{"$nulls":5},"Yes, I have a more visible position in the department",{"$nulls":3},"Lack of time",null,null,"Overloaded with work",{"$nulls":5},"Yes","Yes, I am well informed","Yes","I am not sure",null,"Content based curriculum",null,"National body responsible for education (Ministry of health or education, National board for anaesthesia …)","They have to pass a national board exam",null,"Written and oral examination"]
[12992225405,408998795,"2021-09-24T09:22:57","2021-09-24T09:25:57","49.204.187.3",{"$nulls":4},"31-35","Female","India","India","Asia","5-10","Less than 3","Specialist","General hospital","No (please refer to Q21)",{"$nulls":50},"I work in a non-teaching hospital",null,"Yes","I have some ideas, but it is not clear to me","No","I am not sure","08/08/2021","I do not know",null,"National body responsible for education (Ministry of health or education, National board for anaesthesia …)","They have to pass a national board exam",null,"Written and oral examination"]
[12992189972,408998795,"2021-09-24T09:00:17","2021-09-26T21:33:20","87.187.43.113",{"$nulls":4},"36-40","Female","Germany","Germany","Europe",null,5,"Trainee","Academic hospital (Teaching or University related)","No (please refer to Q21)"]
[12992145507,408998795,"2021-09-24T08:26:25","2021-09-24T21:32:49","84.187.190.83",{"$nulls":4},"41-50","Male","Germany","Germany","Europe","over 20 years",5,"Senior specialist","Academic hospital (Teaching or University related)","Yes (please refer to Q10)","Almost every day","11-15",{"$nulls":3},"Other short TTT courses",null,"Simulation courses",null,null,"No",null,"I give lectures","Perform work-based interactive teaching (operating room)",null,"Involved in simulation sessions","Teach informally, during every day work",{"$nulls":4},"Problem based learning","Teaching the skills","Giving feedback",{"$nulls":3},"Yes","No",{"$nulls":3},"I give feedback during simulation sessions","I give feedback during everyday work",{"$nulls":6},"No, it is assumed as being a part of everyday work",null,null,"Lack of time",null,null,"Overloaded with work","Lack of opportunity","Lack of organization",{"$nulls":3},"No","I have some ideas, but it is not clear to me","No","No",null,"Content based curriculum",null,"Department of anaesthesiology","They have to pass a national board exam",null,"It is only oral examination"]
[12992117969,408998795,"2021-09-24T08:05:12","2021-09-24T21:19:45","87.142.254.213",{"$nulls":4},"36-40","Female","Germany","Germany","Europe","11-15","Over 5","Specialist","Academic hospital (Teaching or University related)","Yes (please refer to Q10)","Less than once a week","6-10",{"$nulls":6},"None",null,"Yes",{"$nulls":5},"Teach informally, during every day work",{"$nulls":3},"Interactive teaching","Problem based learning","Teaching the skills","Giving feedback",{"$nulls":3},"No","No",{"$nulls":4},"I give feedback during everyday work",{"$nulls":6},"No, it is assumed as being a part of everyday work",null,"Lack of training","Lack of time",null,null,"Overloaded with work",null,"Lack of organization",null,"I work with residents, but I do not see that as teaching",null,"Yes","I have no knowledge of what it is","No","I am not sure",null,"I do not know",null,"I do not know","They have to pass a national board exam",null,"It is only oral examination","They have to pass EDAIC (I guess part 1) in an early stage, and at the end of the residency is an oral examination. "]
[12992081856,408998795,"2021-09-24T07:33:37","2021-09-24T13:11:37","141.53.67.242",{"$nulls":4},"31-35","Female","Germany","Germany","Europe","5-10",5,"Specialist","Academic hospital (Teaching or University related)","Yes (please refer to Q10)","Less than once a week","6-10",{"$nulls":3},"Other short TTT courses","Advanced Life Support (ALS), Basic Life Support (BLS) or other specific courses","Simulation courses",null,null,"Yes, some elements, but not systematically",{"$nulls":4},"Involved in simulation sessions","Teach informally, during every day work",null,"Planning and preparation for teaching session","Using visual aids","Interactive teaching",null,"Teaching the skills","Giving feedback","Organizing and leading the discussions","Organizing specific sessions (journal clubs, interactive sessions, pro and con debate…)",null,"Yes","Yes",{"$nulls":3},"I give feedback during simulation sessions",{"$nulls":6},"Yes, I have a more visible position in the department",{"$nulls":3},"Lack of time",null,null,"Overloaded with work",{"$nulls":5},"Yes","I have some ideas, but it is not clear to me","I am not sure","I am not sure",null,"Classic surgical specialties based curriculum",null,"National body responsible for education (Ministry of health or education, National board for anaesthesia …)","They have to pass a national board exam",null,"It is only oral examination"]
[12992067281,408998795,"2021-09-24T07:19:29","2021-09-24T07:42:36","80.187.112.78",{"$nulls":4},"41-50","Male","Germany","Germany","Europe","16-20",5,"Senior specialist","Academic hospital (Teaching or University related)","Yes (please refer to Q10)","When in the operating theater (always have an allocated resident)","6-10",{"$nulls":6},"None",null,"No",null,null,"Perform work-based interactive teaching (operating room)","Running clinical case discussions",null,"Teach informally, during every day work",null,null,"Using visual aids",null,null,"Teaching the skills","Giving feedback",{"$nulls":3},"No","No",{"$nulls":6},"I am not involved in any kind of assessment",{"$nulls":4},"No, it is assumed as being a part of everyday work",null,"Lack of training","Lack of time",{"$nulls":4},"Lack of organization",{"$nulls":3},"Yes","I have some ideas, but it is not clear to me","No","I am not sure",null,"Content based curriculum",null,"Society or association of anaesthesiology","They have to pass a national board exam",null,"It is only oral examination"]
[12992050380,408998795,"2021-09-24T07:04:54","2021-09-24T07:09:18","223.189.103.214",{"$nulls":4},"25-30","Female","India","India","Asia","5-10",3,"Specialist","Academic hospital (Teaching or University related)","Yes (please refer to Q10)","Almost every day","Less than 5",{"$nulls":6},"None",null,"Yes, some elements, but not systematically",null,null,"Perform work-based interactive teaching (operating room)",{"$nulls":6},"Interactive teaching","Problem based learning","Teaching the skills",{"$nulls":4},"No","Yes",{"$nulls":4},"I give feedback during everyday work",{"$nulls":6},"No, it is assumed as being a part of everyday work",null,"Lack of training",null,null,"No recognition","Overloaded with work",{"$nulls":3},"I work with residents, but I do not see that as teaching",null,"No","I know what is it, but outcome-based education is not implemented in my country","No","No",null,"Content based curriculum",null,"University","They have to pass a university board exam",null,"Written and oral examination"]
[12992034444,408998795,"2021-09-24T06:49:38","2021-09-24T06:56:58","109.42.179.135",{"$nulls":4},"50+","Female","Germany","Germany","Europe","over 20 years",5,"Senior specialist","Academic hospital (Teaching or University related)","Yes (please refer to Q10)","Every day","11-15",{"$nulls":6},"None",null,"No",{"$nulls":5},"Teach informally, during every day work",{"$nulls":4},"Problem based learning","Teaching the skills","Giving feedback",{"$nulls":3},"No","No",{"$nulls":4},"I give feedback during everyday work",{"$nulls":6},"No, it is assumed as being a part of everyday work",null,"Lack of training","Lack of time",null,null,"Overloaded with work",{"$nulls":3},"Other (please specify)","I am not involved in a programme ","No","I have no knowledge of what it is","No","No",null,"Content based curriculum",null,"Department of anaesthesiology","They have to pass a national board exam",null,"It is only oral examination"]
[12991865383,408998795,"2021-09-24T04:24:34","2021-09-24T05:29:33","46.114.36.8",{"$nulls":4},"31-35","Male","Portugal","Germany","Europe","5-10",5,"Senior resident","Specialized clinic","Yes (please refer to Q10)","Less than once a week","Less than 5",{"$nulls":6},"None",null,"No",{"$nulls":5},"Teach informally, during every day work",{"$nulls":5},"Teaching the skills","Giving feedback","Organizing and leading the discussions",null,null,"No","Yes",{"$nulls":6},"I am not involved in any kind of assessment",{"$nulls":4},"No, it is assumed as being a part of everyday work",null,"Lack of training","Lack of time","Lack of motivation","No recognition","Overloaded with work",{"$nulls":5},"Yes","I do not know much","No","I am not sure",null,"Classic surgical specialties based curriculum",null,"I do not know","They have to pass a national board exam",null,"It is only oral examination"]
[12991474023,408998795,"2021-09-24T00:52:21","2021-09-24T01:02:07","37.211.41.47",{"$nulls":4},"50+","Male","Iraq","Qatar","Asia","5-10","Over 5","Senior specialist","Academic hospital (Teaching or University related)","Yes (please refer to Q10)","Once a week","over 16",null,"Obligatory teaching courses for University teachers",null,null,"Advanced Life Support (ALS), Basic Life Support (BLS) or other specific courses","Simulation courses",null,null,"Yes",null,"I give lectures","Perform work-based interactive teaching (operating room)","Running clinical case discussions",{"$nulls":3},"Planning and preparation for teaching session","Using visual aids","Interactive teaching",null,"Teaching the skills",{"$nulls":4},"Yes","Yes","I am an examiner for the final exam",null,null,"I give feedback during simulation sessions",null,"I am involved in other forms of formative assessment (for example multisource feedback)",{"$nulls":3},"Yes, it is recognised for promotion in academia.",{"$nulls":7},"Overloaded with work",{"$nulls":5},"Yes","Yes, I am well informed","I am not sure","I am not sure",null,"Classic surgical specialties based curriculum",null,"National body responsible for education (Ministry of health or education, National board for anaesthesia …)","They just have to complete the residency program (3-5 years)",null,"Written and oral examination, but also OSCE (Objective Structured Clinical Examination)"]
[12991457577,408998795,"2021-09-24T00:44:18","2021-09-24T00:52:16","209.6.146.59",{"$nulls":4},"50+","Male","United States of America","United States of America","North America","over 20 years",3,"Teacher (in University)","Academic hospital (Teaching or University related)","Yes (please refer to Q10)","Less than once a week","over 16",{"$nulls":7},"Educatiion on teaching Kinetics with Gas Man®","Yes, some elements, but not systematically",null,"I give lectures","Perform work-based interactive teaching (operating room)",{"$nulls":3},"Guidance on teachiung kinetics with Gas Man® simulstion","Planning and preparation for teaching session","Using visual aids","Interactive teaching","Problem based learning","Teaching the skills",{"$nulls":3},"Using computer simulation to demonstrate pharmacology ","Yes","Yes",null,null,"I occasionally carry out assessment during the residency program (Direct Observation of Procedural Skills - DOPS)","I give feedback during simulation sessions","I give feedback during everyday work",null,null,"I review Gas Man homework",{"$nulls":3},"No, it is assumed as being a part of everyday work",{"$nulls":4},"No recognition",null,"Lack of opportunity",null,null,"Other (please specify)","i dont understand your quetion","No","I have some ideas, but it is not clear to me","No","I am not sure",null,"Content based curriculum",null,"Department of anaesthesiology","They have to pass a national board exam",null,"Written and oral examination"]
[12991313499,408998795,"2021-09-23T23:37:01","2021-09-23T23:47:04","168.149.33.122",{"$nulls":4},"36-40","Male","Egypt","Saudi Arabia","Asia","11-15",4,"Specialist","Academic hospital (Teaching or University related)","Yes (please refer to Q10)","When in the operating theater (always have an allocated resident)","Less than 5",{"$nulls":4},"Advanced Life Support (ALS), Basic Life Support (BLS) or other specific courses","Simulation courses",null,null,"No, but students are exposed to outcome based teaching",null,null,"Perform work-based interactive teaching (operating room)","Running clinical case discussions",null,"Teach informally, during every day work",{"$nulls":3},"Interactive teaching","Problem based learning",null,"Giving feedback",{"$nulls":3},"No","Yes",{"$nulls":4},"I give feedback during everyday work",{"$nulls":6},"No, it is assumed as being a part of everyday work",{"$nulls":5},"Overloaded with work",null,"Lack of organization",null,"I work with residents, but I do not see that as teaching"]
[12991215258,408998795,"2021-09-23T22:54:11","2021-09-23T23:02:26","205.211.193.81",{"$nulls":4},"31-35","Female","Honduras","Honduras","South America","5-10",4,"Specialist","Academic hospital (Teaching or University related)","Yes (please refer to Q10)","When in the operating theater (always have an allocated resident)","Less than 5",{"$nulls":6},"None",null,"No",null,null,"Perform work-based interactive teaching (operating room)",{"$nulls":6},"Interactive teaching","Problem based learning","Teaching the skills",{"$nulls":4},"No","Yes",{"$nulls":5},"I am involved in other forms of formative assessment (for example multisource feedback)",{"$nulls":5},"No, it is assumed as being a part of everyday work",null,"Lack of training",{"$nulls":5},"Lack of organization",{"$nulls":3},"Yes","I do not know much",null,"I am not sure",null,"I do not know",null,"University","They just have to complete the residency program (3-5 years)",null,"Written and oral examination"]
[12991144857,408998795,"2021-09-23T22:24:19","2021-09-23T21:40:42","5.146.194.134",{"$nulls":4},"31-35","Female","Serbia","Germany","Europe","11-15",5,"Specialist","Academic hospital (Teaching or University related)","Yes (please refer to Q10)","Almost every day","Less than 5",{"$nulls":4},"Advanced Life Support (ALS), Basic Life Support (BLS) or other specific courses","Simulation courses",null,null,"No",null,null,"Perform work-based interactive teaching (operating room)","Running clinical case discussions",null,"Teach informally, during every day work",null,"Planning and preparation for teaching session","Using visual aids",null,"Problem based learning","Teaching the skills","Giving feedback","Organizing and leading the discussions",null,null,"No","Yes",{"$nulls":4},"I give feedback during everyday work",{"$nulls":6},"No, it is assumed as being a part of everyday work",null,"Lack of training","Lack of time",{"$nulls":8},"Yes","I know what is it, but outcome-based education is not implemented in my country","No","I am not sure",null,"Classic surgical specialties based curriculum",null,"National body responsible for education (Ministry of health or education, National board for anaesthesia …)","They have to pass a national board exam",null,"It is only oral examination"]
[12991122759,408998795,"2021-09-23T22:14:11","2021-09-23T22:21:14","109.186.139.209",{"$nulls":4},"50+","Male","Israel","Israel","Asia","over 20 years",5,"Senior specialist","Academic hospital (Teaching or University related)","Yes (please refer to Q10)","Once a week","over 16",{"$nulls":4},"Advanced Life Support (ALS), Basic Life Support (BLS) or other specific courses","Simulation courses",null,"3 months instructor training during military service","Yes, some elements, but not systematically",null,"I give lectures","Perform work-based interactive teaching (operating room)","Running clinical case discussions","Involved in simulation sessions","Teach informally, during every day work",null,"Planning and preparation for teaching session","Using visual aids",null,"Problem based learning",null,"Giving feedback","Organizing and leading the discussions",null,null,"Yes","No","I am an examiner for the final exam","I am European Diploma in Anaesthesia and Intensive Care (EDAIC) part II examiner",null,null,"I give feedback during everyday work",{"$nulls":5},"Yes, I have a more visible position in the department",{"$nulls":3},"Lack of time",null,null,"Overloaded with work",{"$nulls":5},"Yes","I have some ideas, but it is not clear to me","No","I am not sure",null,"Content based curriculum",null,"National body responsible for education (Ministry of health or education, National board for anaesthesia …)","They have to pass a national board exam",null,"Written and oral examination, but also OSCE (Objective Structured Clinical Examination)"]
[12991067188,408998795,"2021-09-23T21:50:11","2021-09-23T20:45:36","109.42.179.176",{"$nulls":4},"36-40","Female","Romania","Germany","Europe","5-10",5,"Specialist","Academic hospital (Teaching or University related)","No (please refer to Q21)",{"$nulls":50},"I work with residents, but I do not see that as teaching"]
[12991045296,408998795,"2021-09-23T21:41:46","2021-09-23T19:27:27","217.234.111.114",{"$nulls":4},"50+","Male","Germany","Germany","Europe","over 20 years",5,"Senior resident","General hospital","Yes (please refer to Q10)","Less than once a week","over 16",{"$nulls":4},"Advanced Life Support (ALS), Basic Life Support (BLS) or other specific courses",{"$nulls":3},"No",{"$nulls":5},"Teach informally, during every day work",{"$nulls":5},"Teaching the skills","Giving feedback",{"$nulls":3},"No","No",{"$nulls":6},"I am not involved in any kind of assessment",{"$nulls":4},"No, it is assumed as being a part of everyday work",null,"Lack of training","Lack of time",null,null,"Overloaded with work",null,"Lack of organization",{"$nulls":3},"No","I have no knowledge of what it is","No","No",null,"Competency (outcome) based curriculum",null,"Department of anaesthesiology","They have to pass a national board exam",null,"It is only oral examination"]
[12991048852,408998795,"2021-09-23T21:43:36","2021-09-23T17:39:09","80.128.85.19",{"$nulls":4},"41-50","Male","Germany","Germany","Europe","16-20",5,"Senior specialist","Academic hospital (Teaching or University related)","Yes (please refer to Q10)","Almost every day","Less than 5",{"$nulls":6},"None",null,"No",null,null,"Perform work-based interactive teaching (operating room)","Running clinical case discussions",null,"Teach informally, during every day work",{"$nulls":5},"Teaching the skills","Giving feedback","Organizing and leading the discussions",null,null,"No","No",{"$nulls":4},"I give feedback during everyday work",{"$nulls":6},"No, it is assumed as being a part of everyday work",null,"Lack of training","Lack of time","Lack of motivation",null,"Overloaded with work","Lack of opportunity","Lack of organization","Clinical Training is not paid at all in Germany. Neither for the trainer nor for the organisation.",null,null,"Yes","I do not know much","No","I am not sure",null,"I do not know",null,"I do not know","Other (please specify)","Pass 5 years \"training\" on the job and regional 30 minutes theoretical oral exam.","It is only oral examination"]
[12991030666,408998795,"2021-09-23T21:36:29","2021-09-23T17:38:33","80.187.110.140",{"$nulls":4},"41-50","Male","Germany","Germany","Europe","16-20",5,"Senior specialist","General hospital","Yes (please refer to Q10)","Every day","6-10",{"$nulls":3},"Other short TTT courses","Advanced Life Support (ALS), Basic Life Support (BLS) or other specific courses","Simulation courses",null,null,"No",null,"I give lectures","Perform work-based interactive teaching (operating room)","Running clinical case discussions",null,"Teach informally, during every day work",{"$nulls":5},"Teaching the skills","Giving feedback","Organizing and leading the discussions",null,null,"Yes","Yes",{"$nulls":6},"I am not involved in any kind of assessment",{"$nulls":4},"No, it is assumed as being a part of everyday work",null,null,"Lack of time",null,null,"Overloaded with work",{"$nulls":5},"No","I have some ideas, but it is not clear to me","I am not sure","No",null,"Classic surgical specialties based curriculum",null,"Department of anaesthesiology","They have to pass a national board exam",null,"It is only oral examination"]
[12991020425,408998795,"2021-09-23T21:32:34","2021-09-23T17:35:24","62.216.208.12",{"$nulls":4},"41-50","Female","Germany","Germany","Europe","over 20 years","Over 5","Senior specialist","Academic hospital (Teaching or University related)","Yes (please refer to Q10)","Almost every day","over 16",{"$nulls":3},"Other short TTT courses","Advanced Life Support (ALS), Basic Life Support (BLS) or other specific courses","Simulation courses",null,"InFact, longer TTT, I actually teach TTT´s, EMAC Provider Course, PCM Trainer, Deescalation Trainer, etc.","No",null,"I give lectures","Perform work-based interactive teaching (operating room)","Running clinical case discussions","Involved in simulation sessions","Teach informally, during every day work","I own a training company","Planning and preparation for teaching session","Using visual aids","Interactive teaching","Problem based learning","Teaching the skills","Giving feedback","Organizing and leading the discussions","Organizing specific sessions (journal clubs, interactive sessions, pro and con debate…)","AR/VR, Videodebreefing","Yes","Yes",null,null,"I occasionally carry out assessment during the residency program (Direct Observation of Procedural Skills - DOPS)","I give feedback during simulation sessions","I give feedback during everyday work","I am involved in other forms of formative assessment (for example multisource feedback)",{"$nulls":5},"No, it is assumed as being a part of everyday work",null,null,"Lack of time",null,null,"Overloaded with work",null,null,"Production pressure",null,null,"Yes","I know what is it, but outcome-based education is not implemented in my country","Yes","No",null,"Content based curriculum",null,"Society or association of anaesthesiology","Other (please specify)","regional Exam","It is only oral examination"]
[12991019241,408998795,"2021-09-23T21:32:21","2021-09-23T21:35:22","176.228.205.155",{"$nulls":4},"36-40","Female","Israel","Israel","Asia","over 20 years",5,"Senior specialist","Academic hospital (Teaching or University related)","Yes (please refer to Q10)","Every day","over 16",{"$nulls":5},"Simulation courses",null,null,"No",null,"I give lectures","Perform work-based interactive teaching (operating room)","Running clinical case discussions","Involved in simulation sessions","Teach informally, during every day work",null,"Planning and preparation for teaching session","Using visual aids","Interactive teaching","Problem based learning","Teaching the skills","Giving feedback","Organizing and leading the discussions","Organizing specific sessions (journal clubs, interactive sessions, pro and con debate…)",null,"No","Yes",{"$nulls":3},"I give feedback during simulation sessions","I give feedback during everyday work",{"$nulls":4},"Yes, it is recognised for promotion in academia.",{"$nulls":7},"Overloaded with work",{"$nulls":5},"Yes","Yes, I am well informed","No","No",null,"Classic surgical specialties based curriculum",null,"National body responsible for education (Ministry of health or education, National board for anaesthesia …)","They have to pass a national board exam",null,"Written and oral examination"]
[12991009991,408998795,"2021-09-23T21:27:43","2021-09-23T16:39:04","185.75.149.82",{"$nulls":4},"50+","Male","Bulgaria","Germany","Europe","over 20 years",5,"Senior specialist","General hospital","Yes (please refer to Q10)","Almost every day","over 16",null,null,"ESAIC Teach the Teacher (TTT) courses",{"$nulls":5},"No",{"$nulls":5},"Teach informally, during every day work",null,null,"Using visual aids",null,null,"Teaching the skills","Giving feedback",{"$nulls":3},"Yes","Yes",{"$nulls":4},"I give feedback during everyday work",{"$nulls":5},"Yes, I have a more visible position in the department",{"$nulls":8},"Lack of organization",null,"I work with residents, but I do not see that as teaching",null,"No","I have some ideas, but it is not clear to me","No","No",null,"Classic surgical specialties based curriculum",null,"Department of anaesthesiology","They have to pass a university board exam"]
[12990965997,408998795,"2021-09-23T21:08:32","2021-09-23T21:16:40","41.193.194.153",{"$nulls":4},"50+","Male","South Africa","South Africa","Africa","over 20 years",4,"Senior specialist","Private hospital","Yes (please refer to Q10)","When in the operating theater (always have an allocated resident)","over 16",{"$nulls":6},"None",null,"No",null,"I give lectures","Perform work-based interactive teaching (operating room)","Running clinical case discussions",null,null,"College examiner","Planning and preparation for teaching session","Using visual aids","Interactive teaching","Problem based learning",null,null,"Organizing and leading the discussions","Organizing specific sessions (journal clubs, interactive sessions, pro and con debate…)",null,"Yes","Yes",{"$nulls":7},"I have designed and examined the part 1 basic science program",{"$nulls":4},"No",{"$nulls":3},"No recognition",{"$nulls":6},"Yes","Yes, I am well informed","No","No",null,"Content based curriculum",null,"University","They have to pass a national board exam",null,"Written and oral examination, but also OSCE (Objective Structured Clinical Examination)"]
[12990974063,408998795,"2021-09-23T21:11:45","2021-09-23T14:47:49","80.187.107.16",{"$nulls":4},"50+","Male","Germany","Germany","Europe","over 20 years","Over 5","Chief of Department","General hospital","Yes (please refer to Q10)","Every day","6-10",{"$nulls":4},"Advanced Life Support (ALS), Basic Life Support (BLS) or other specific courses",null,null,"GIC of ATLS and ETC","No",null,null,"Perform work-based interactive teaching (operating room)","Running clinical case discussions",null,"Teach informally, during every day work","Run ALS and ETC courses","Planning and preparation for teaching session","Using visual aids","Interactive teaching","Problem based learning","Teaching the skills","Giving feedback","Organizing and leading the discussions","Organizing specific sessions (journal clubs, interactive sessions, pro and con debate…)",null,"Yes","Yes",{"$nulls":3},"I give feedback during simulation sessions","I give feedback during everyday work",{"$nulls":6},"No, it is assumed as being a part of everyday work",null,null,"Lack of time","Lack of motivation",null,"Overloaded with work","Lack of opportunity","Lack of organization",null,"Other (please specify)","I teach","Yes","Yes, I am well informed","No","No",null,"Content based curriculum",null,"Department of anaesthesiology","Other (please specify)","They have to pass an exam at the physician's board","It is only oral examination"]
[12990960205,408998795,"2021-09-23T21:06:28","2021-09-23T14:40:46","2.205.109.91",{"$nulls":4},"50+","Male","Germany","Germany","Europe","over 20 years",5,"Senior specialist","Private hospital","No (please refer to Q21)",{"$nulls":50},"I work in a non-teaching hospital"]
[12990920103,408998795,"2021-09-23T20:51:18","2021-09-23T20:57:02","196.149.31.216",{"$nulls":4},"31-35","Male","Egypt","Egypt","Africa","5-10",3,"Specialist","Academic hospital (Teaching or University related)","Yes (please refer to Q10)","When in the operating theater (always have an allocated resident)","Less than 5",null,"Obligatory teaching courses for University teachers",null,null,"Advanced Life Support (ALS), Basic Life Support (BLS) or other specific courses",{"$nulls":3},"No, but students are exposed to outcome based teaching",null,null,"Perform work-based interactive teaching (operating room)","Running clinical case discussions",null,"Teach informally, during every day work",null,null,"Using visual aids","Interactive teaching","Problem based learning","Teaching the skills","Giving feedback",{"$nulls":3},"No","Yes",{"$nulls":4},"I give feedback during everyday work",{"$nulls":6},"No, it is assumed as being a part of everyday work",null,null,"Lack of time","Lack of motivation",null,"Overloaded with work",null,"Lack of organization",{"$nulls":3},"I do not know","I have some ideas, but it is not clear to me","No","I am not sure",null,"Classic surgical specialties based curriculum",null,"Department of anaesthesiology","They have to pass a university board exam",null,"Written and oral examination, but also OSCE (Objective Structured Clinical Examination)"]
[12990901811,408998795,"2021-09-23T20:43:25","2021-09-23T09:50:48","195.37.151.77",{"$nulls":4},"31-35","Male","Germany","Germany","Europe","5-10","Over 5","Specialist","Academic hospital (Teaching or University related)","Yes (please refer to Q10)","Once a week","6-10",null,"Obligatory teaching courses for University teachers",null,null,"Advanced Life Support (ALS), Basic Life Support (BLS) or other specific courses","Simulation courses",null,"Medical Didactics Courses","No",null,"I give lectures","Perform work-based interactive teaching (operating room)","Running clinical case discussions","Involved in simulation sessions","Teach informally, during every day work",null,"Planning and preparation for teaching session","Using visual aids","Interactive teaching","Problem based learning","Teaching the skills","Giving feedback","Organizing and leading the discussions","Organizing specific sessions (journal clubs, interactive sessions, pro and con debate…)",null,"Yes","Yes",null,null,"I occasionally carry out assessment during the residency program (Direct Observation of Procedural Skills - DOPS)","I give feedback during simulation sessions","I give feedback during everyday work","I am involved in other forms of formative assessment (for example multisource feedback)",{"$nulls":5},"No, it is assumed as being a part of everyday work",null,null,"Lack of time",null,"No recognition","Overloaded with work",{"$nulls":5},"Yes","I do not know much","No","No",null,"Competency (outcome) based curriculum",null,"University","They have to pass a national board exam",null,"It is only oral examination"]
[12990875433,408998795,"2021-09-23T20:32:35","2021-09-23T09:14:55","195.202.44.90",{"$nulls":4},"31-35","Male","Latvia","Germany","Europe","11-15",5,"Senior specialist","Academic hospital (Teaching or University related)","Yes (please refer to Q10)","Almost every day","6-10",{"$nulls":6},"None",null,"No",null,"I give lectures","Perform work-based interactive teaching (operating room)",null,null,"Teach informally, during every day work",null,"Planning and preparation for teaching session","Using visual aids",null,"Problem based learning","Teaching the skills",{"$nulls":4},"No","No",{"$nulls":6},"I am not involved in any kind of assessment",{"$nulls":4},"No, it is assumed as being a part of everyday work",{"$nulls":5},"Overloaded with work",{"$nulls":5},"I do not know","I do not know much","Yes","I am not sure","09/23/2021","I do not know",null,"Department of anaesthesiology","They have to pass a national board exam",null,"Written and oral examination"]
[12990808335,408998795,"2021-09-23T20:06:41","2021-09-23T09:12:49","46.114.172.185",{"$nulls":4},"41-50","Male","Germany","Germany","Europe","over 20 years",5,"Senior specialist","General hospital","Yes (please refer to Q10)","Every day","over 16",{"$nulls":4},"Advanced Life Support (ALS), Basic Life Support (BLS) or other specific courses","Simulation courses",null,null,"No, but students are exposed to outcome based teaching",null,"I give lectures","Perform work-based interactive teaching (operating room)","Running clinical case discussions",null,"Teach informally, during every day work",null,"Planning and preparation for teaching session","Using visual aids","Interactive teaching",null,"Teaching the skills","Giving feedback","Organizing and leading the discussions","Organizing specific sessions (journal clubs, interactive sessions, pro and con debate…)",null,"Yes","Yes","I am an examiner for the final exam",null,"I occasionally carry out assessment during the residency program (Direct Observation of Procedural Skills - DOPS)",null,"I give feedback during everyday work",{"$nulls":6},"No, it is assumed as being a part of everyday work",null,"Lack of training","Lack of time",null,"No recognition","Overloaded with work",null,"Lack of organization",{"$nulls":3},"Yes","I have some ideas, but it is not clear to me","No","No",null,"Classic surgical specialties based curriculum",null,"Department of anaesthesiology","They have to pass a national board exam",null,"It is only oral examination"]
[12990760631,408998795,"2021-09-23T19:50:54","2021-09-23T09:01:01","93.205.155.207",{"$nulls":4},"50+","Male","Germany","Germany","Europe","over 20 years",5,"Senior specialist","Academic hospital (Teaching or University related)","Yes (please refer to Q10)","Almost every day","11-15",{"$nulls":5},"Simulation courses",null,null,"Yes, some elements, but not systematically",null,null,"Perform work-based interactive teaching (operating room)","Running clinical case discussions",null,"Teach informally, during every day work",null,null,"Using visual aids",null,"Problem based learning","Teaching the skills","Giving feedback",null,"Organizing specific sessions (journal clubs, interactive sessions, pro and con debate…)",null,"No","No",{"$nulls":4},"I give feedback during everyday work",{"$nulls":6},"No, it is assumed as being a part of everyday work",null,"Lack of training","Lack of time",{"$nulls":6},"Other (please specify)","I am not chosen as a mentor, because I am demanding to much from our Trainees.","Yes","I have some ideas, but it is not clear to me","No","I am not sure",null,"Competency (outcome) based curriculum",null,"Department of anaesthesiology","They have to pass a national board exam",null,"It is only oral examination"]
[12990644124,408998795,"2021-09-23T19:03:26","2021-09-23T08:42:53","85.240.137.164",{"$nulls":4},"31-35","Female","Germany","Germany","Europe","5-10",5,"Trainee","Academic hospital (Teaching or University related)","No (please refer to Q21)",{"$nulls":50},"I work with residents, but I do not see that as teaching",null,"Yes","I have no knowledge of what it is","No","I am not sure","09/23/2021","I do not know",null,"University","They have to pass a national board exam",null,"It is only oral examination","4 written  examps during residancy and a oral final exam"]
[12990717772,408998795,"2021-09-23T19:34:44","2021-09-23T08:24:57","87.175.194.46",{"$nulls":4},"50+","Male","Germany","Germany","Europe","over 20 years",4,"Chief of Department","Specialized clinic","Yes (please refer to Q10)","When in the operating theater (always have an allocated resident)","over 16","Master in Medical Education","Obligatory teaching courses for University teachers",null,"Other short TTT courses","Advanced Life Support (ALS), Basic Life Support (BLS) or other specific courses",{"$nulls":3},"Yes, some elements, but not systematically",null,"I give lectures","Perform work-based interactive teaching (operating room)",null,null,"Teach informally, during every day work",null,null,"Using visual aids","Interactive teaching","Problem based learning","Teaching the skills","Giving feedback",{"$nulls":3},"Yes","Yes",null,null,"I occasionally carry out assessment during the residency program (Direct Observation of Procedural Skills - DOPS)",null,"I give feedback during everyday work","I am involved in other forms of formative assessment (for example multisource feedback)",null,null,"Yes, I am paid more","Yes, it is recognised for promotion in academia.","Yes, I have a more visible position in the department",{"$nulls":5},"No recognition",{"$nulls":6},"Yes","Yes, I am well informed","I am not sure","I am not sure",null,"Competency (outcome) based curriculum",null,"National body responsible for education (Ministry of health or education, National board for anaesthesia …)","They have to pass a national board exam",null,"It is only oral examination"]
[12990692706,408998795,"2021-09-23T19:24:52","2021-09-23T19:34:30","5.28.150.19",{"$nulls":4},"50+","Male","South Africa","Israel","Asia","over 20 years","Over 5","Senior specialist","Academic hospital (Teaching or University related)","Yes (please refer to Q10)","Every day","over 16",null,"Obligatory teaching courses for University teachers",null,"Other short TTT courses","Advanced Life Support (ALS), Basic Life Support (BLS) or other specific courses","Simulation courses",null,null,"No",null,"I give lectures","Perform work-based interactive teaching (operating room)","Running clinical case discussions","Involved in simulation sessions","Teach informally, during every day work","I run a resident teaching program in pediatric anesthesia ","Planning and preparation for teaching session","Using visual aids","Interactive teaching","Problem based learning","Teaching the skills","Giving feedback","Organizing and leading the discussions","Organizing specific sessions (journal clubs, interactive sessions, pro and con debate…)","Guided residency program in pediatric anesthesia ","Yes","Yes","I am an examiner for the final exam",null,null,"I give feedback during simulation sessions","I give feedback during everyday work",{"$nulls":6},"No, it is assumed as being a part of everyday work",null,"Lack of training","Lack of time",null,"No recognition","Overloaded with work",null,"Lack of organization","No recognition through Tel Aviv University where we are affiliated!",null,null,"Yes","Yes, I am well informed","I am not sure","No",null,"Content based curriculum",null,"Department of anaesthesiology","They have to pass a national board exam",null,"Written, oral examination and some practical assessment"]
[12990683705,408998795,"2021-09-23T19:20:29","2021-09-23T08:08:57","37.4.255.80",{"$nulls":4},"31-35","Male","Germany","Germany","Europe","5-10","Less than 3","Trainee","Academic hospital (Teaching or University related)","Yes (please refer to Q10)","Once a week","Less than 5",{"$nulls":6},"None",null,"No",null,"I give lectures","Perform work-based interactive teaching (operating room)","Running clinical case discussions","Involved in simulation sessions","Teach informally, during every day work",null,"Planning and preparation for teaching session","Using visual aids","Interactive teaching","Problem based learning","Teaching the skills","Giving feedback","Organizing and leading the discussions",null,null,"No","No",{"$nulls":6},"I am not involved in any kind of assessment",{"$nulls":4},"No, it is assumed as being a part of everyday work",null,"Lack of training","Lack of time",null,"No recognition",{"$nulls":6},"Yes","I have some ideas, but it is not clear to me","No","No",null,"Competency (outcome) based curriculum",null,"Department of anaesthesiology","They have to pass a national board exam",null,"It is only oral examination"]
[12990657278,408998795,"2021-09-23T19:10:27","2021-09-23T19:23:52","93.178.1.151",{"$nulls":4},"41-50","Male","Yemen","Saudi Arabia","Asia","16-20",4,"Chief of Department","Academic hospital (Teaching or University related)","Yes (please refer to Q10)","When in the operating theater (always have an allocated resident)","Less than 5",{"$nulls":4},"Advanced Life Support (ALS), Basic Life Support (BLS) or other specific courses",{"$nulls":3},"Yes, some elements, but not systematically",null,null,"Perform work-based interactive teaching (operating room)","Running clinical case discussions",{"$nulls":7},"Teaching the skills","Giving feedback",{"$nulls":3},"Yes","Yes",{"$nulls":7},"Evaluation follow up feedback for any new resident or technician and involved in our hospital teaching programs",{"$nulls":3},"No, it is assumed as being a part of everyday work",{"$nulls":3},"Lack of motivation",null,"Overloaded with work",null,"Lack of organization",null,"Other (please specify)","We're teaching our residents ","Yes","I do not know much","No","I am not sure",null,"I do not know",null,"Hospital administration","They have to pass a national board exam",null,"Written and oral examination, but also OSCE (Objective Structured Clinical Examination)"]
[12990666216,408998795,"2021-09-23T19:15:01","2021-09-17T00:37:26","217.251.121.186",{"$nulls":4},"31-35","Female","Germany","Germany","Europe","5-10",5,"Specialist","Academic hospital (Teaching or University related)","Yes (please refer to Q10)","When in the operating theater (always have an allocated resident)","Less than 5",{"$nulls":6},"None",null,"Yes, some elements, but not systematically",null,null,"Perform work-based interactive teaching (operating room)",null,"Involved in simulation sessions","Teach informally, during every day work",{"$nulls":5},"Teaching the skills","Giving feedback",{"$nulls":3},"No","Yes",{"$nulls":3},"I give feedback during simulation sessions","I give feedback during everyday work",{"$nulls":6},"No, it is assumed as being a part of everyday work",null,"Lack of training","Lack of time",{"$nulls":8},"Yes","I know what is it, but outcome-based education is not implemented in my country","No","No",null,"I do not know",null,"National body responsible for education (Ministry of health or education, National board for anaesthesia …)","They have to pass a national board exam",null,"It is only oral examination"]
[12990640953,408998795,"2021-09-23T19:02:17","2021-09-14T11:15:57","91.7.85.100",{"$nulls":4},"31-35","Female","Germany","Germany","Europe","5-10",5,"Specialist","Academic hospital (Teaching or University related)","Yes (please refer to Q10)","Once a week","Less than 5",{"$nulls":4},"Advanced Life Support (ALS), Basic Life Support (BLS) or other specific courses","Simulation courses",null,"CRM","No",{"$nulls":4},"Involved in simulation sessions","Teach informally, during every day work","organise curriculum, in which more advanced trainees give a lecture on special topics in intensive care medicine","Planning and preparation for teaching session","Using visual aids","Interactive teaching","Problem based learning",null,"Giving feedback","Organizing and leading the discussions","Organizing specific sessions (journal clubs, interactive sessions, pro and con debate…)",null,"Yes","Yes",{"$nulls":3},"I give feedback during simulation sessions","I give feedback during everyday work",{"$nulls":5},"Yes, I have a more visible position in the department",null,null,"Lack of training","Lack of time",null,null,"Overloaded with work",{"$nulls":5},"Yes","I do not know much","No","No",null,"Content based curriculum",null,"National body responsible for education (Ministry of health or education, National board for anaesthesia …)","They have to pass a national board exam",null,"It is only oral examination","No exam but exam in the country but in the hospital is necesary to pas the Edaic part 1"]
[12990664226,408998795,"2021-09-23T19:11:25","2021-09-13T14:04:19","80.190.223.26",{"$nulls":4},"50+","Male","Germany","Germany","Europe","over 20 years","Over 5","Senior specialist","General hospital","Yes (please refer to Q10)","Every day","over 16",{"$nulls":5},"Simulation courses",null,null,"No",null,null,"Perform work-based interactive teaching (operating room)",null,null,"Teach informally, during every day work",{"$nulls":4},"Problem based learning","Teaching the skills","Giving feedback",{"$nulls":3},"No","Yes",null,null,"I occasionally carry out assessment during the residency program (Direct Observation of Procedural Skills - DOPS)",null,"I give feedback during everyday work",{"$nulls":6},"No, it is assumed as being a part of everyday work",null,"Lack of training","Lack of time",null,null,"Overloaded with work",{"$nulls":5},"Yes","I have no knowledge of what it is","No","I am not sure",null,"I do not know",null,"National body responsible for education (Ministry of health or education, National board for anaesthesia …)","They have to pass a national board exam",null,"It is only oral examination"]
[12990577483,408998795,"2021-09-23T18:40:44","2021-09-23T18:43:28","77.245.110.168",{"$nulls":4},"31-35","Male","Georgia","Kazakhstan","Asia","5-10",5,"Specialist","Specialized clinic","No (please refer to Q21)",{"$nulls":50},"I work in a non-teaching hospital"]
[12990545761,408998795,"2021-09-23T18:30:04","2021-09-12T12:30:10","109.40.241.239",{"$nulls":4},"41-50","Male","Germany","Germany","Europe","16-20",5,"Senior specialist","General hospital","Yes (please refer to Q10)","Every day","6-10",{"$nulls":7},"PBL Tutor","No",null,null,"Perform work-based interactive teaching (operating room)",null,null,"Teach informally, during every day work",{"$nulls":3},"Interactive teaching","Problem based learning","Teaching the skills","Giving feedback","Organizing and leading the discussions",null,null,"No","No",null,null,"I occasionally carry out assessment during the residency program (Direct Observation of Procedural Skills - DOPS)",null,"I give feedback during everyday work",{"$nulls":6},"No, it is assumed as being a part of everyday work",null,null,"Lack of time",{"$nulls":8},"Yes","I have some ideas, but it is not clear to me","No","No",null,"Competency (outcome) based curriculum",null,"Department of anaesthesiology","They have to pass a university board exam",null,"It is only oral examination"]
[12990520484,408998795,"2021-09-23T18:19:27","2021-09-23T18:21:41","188.249.181.147",{"$nulls":4},"41-50","Female","Egypt","Saudi Arabia","Asia","over 20 years","Over 5","Teacher (in University)","Private hospital","Yes (please refer to Q10)"]
[12990435316,408998795,"2021-09-23T17:50:35","2021-09-23T17:59:03","157.245.103.74",{"$nulls":4},"31-35","Female","Myanmar","Myanmar","Asia","5-10",5,"Specialist","Academic hospital (Teaching or University related)","No (please refer to Q21)",{"$nulls":50},"I am not employed by the university",null,"I do not know","I have some ideas, but it is not clear to me","Yes","I am not sure","01/01/2018","Competency (outcome) based curriculum",null,"University","They have to pass a university board exam",null,"Written, oral examination and some practical assessment"]
[12990419135,408998795,"2021-09-23T17:45:44","2021-09-23T17:49:58","72.142.17.131",{"$nulls":4},"36-40","Male","India","Canada","North America","11-15",3,"Teacher (in University)","Academic hospital (Teaching or University related)","Yes (please refer to Q10)","Almost every day","6-10",null,"Obligatory teaching courses for University teachers",null,null,"Advanced Life Support (ALS), Basic Life Support (BLS) or other specific courses",{"$nulls":3},"No",null,"I give lectures","Perform work-based interactive teaching (operating room)","Running clinical case discussions","Involved in simulation sessions","Teach informally, during every day work",null,"Planning and preparation for teaching session","Using visual aids","Interactive teaching","Problem based learning","Teaching the skills","Giving feedback","Organizing and leading the discussions","Organizing specific sessions (journal clubs, interactive sessions, pro and con debate…)",null,"Yes","Yes",null,null,"I occasionally carry out assessment during the residency program (Direct Observation of Procedural Skills - DOPS)","I give feedback during simulation sessions","I give feedback during everyday work","I am involved in other forms of formative assessment (for example multisource feedback)",null,null,"Yes, I am paid more","Yes, it is recognised for promotion in academia.",{"$nulls":7},"Overloaded with work",{"$nulls":5},"Yes","Yes, I am well informed","Yes","Yes","01/01/2017","Competency (outcome) based curriculum",null,"National body responsible for education (Ministry of health or education, National board for anaesthesia …)","They have to pass a national board exam",null,"Written and oral examination"]
[12990378667,408998795,"2021-09-23T17:31:47","2021-09-09T13:36:39","62.225.74.163",{"$nulls":4},"50+","Male","Germany","Germany","Europe","over 20 years",5,"Chief of Department","Academic hospital (Teaching or University related)","Yes (please refer to Q10)","Almost every day","over 16",null,"Obligatory teaching courses for University teachers",null,"Other short TTT courses","Advanced Life Support (ALS), Basic Life Support (BLS) or other specific courses",{"$nulls":3},"No",null,"I give lectures","Perform work-based interactive teaching (operating room)","Running clinical case discussions","Involved in simulation sessions","Teach informally, during every day work",null,"Planning and preparation for teaching session","Using visual aids","Interactive teaching","Problem based learning","Teaching the skills","Giving feedback","Organizing and leading the discussions",null,null,"Yes","Yes","I am an examiner for the final exam","I am European Diploma in Anaesthesia and Intensive Care (EDAIC) part II examiner",null,"I give feedback during simulation sessions","I give feedback during everyday work","I am involved in other forms of formative assessment (for example multisource feedback)",{"$nulls":3},"Yes, it is recognised for promotion in academia.",{"$nulls":4},"Lack of time",{"$nulls":8},"No","Yes, I am well informed","Yes","No",null,"Content based curriculum",null,"Department of anaesthesiology","They have to pass a national board exam",null,"It is only oral examination"]
[12990384178,408998795,"2021-09-23T17:33:26","2021-09-08T18:59:35","87.144.228.67",{"$nulls":4},"41-50","Male","Croatia","Germany","Europe","5-10",5,"Specialist","Academic hospital (Teaching or University related)","No (please refer to Q21)",{"$nulls":50},"Other (please specify)","working in another dept","No","I know what is it, but outcome-based education is not implemented in my country","No","I am not sure",null,"Content based curriculum",null,"Department of anaesthesiology","Other (please specify)","Regional Board Exam","It is only oral examination"]
[12990369741,408998795,"2021-09-23T08:10:47","2021-09-08T13:35:39","91.213.20.1",{"$nulls":4},"41-50","Male","Germany","Germany","Europe","16-20","Over 5","Specialist","Academic hospital (Teaching or University related)","Yes (please refer to Q10)","Almost every day","11-15",null,"Obligatory teaching courses for University teachers",null,"Other short TTT courses","Advanced Life Support (ALS), Basic Life Support (BLS) or other specific courses","Simulation courses",null,null,"No",null,"I give lectures","Perform work-based interactive teaching (operating room)","Running clinical case discussions","Involved in simulation sessions","Teach informally, during every day work",null,"Planning and preparation for teaching session","Using visual aids","Interactive teaching","Problem based learning","Teaching the skills","Giving feedback","Organizing and leading the discussions","Organizing specific sessions (journal clubs, interactive sessions, pro and con debate…)",null,"Yes","Yes",null,null,"I occasionally carry out assessment during the residency program (Direct Observation of Procedural Skills - DOPS)","I give feedback during simulation sessions","I give feedback during everyday work",{"$nulls":5},"Yes, I have a more visible position in the department",null,null,"Lack of training","Lack of time",null,"No recognition","Overloaded with work","Lack of opportunity","Lack of organization",{"$nulls":3},"Yes","I know what is it, but outcome-based education is not implemented in my country","I am not sure","I am not sure",null,"Content based curriculum",null,"National body responsible for education (Ministry of health or education, National board for anaesthesia …)","They have to pass a national board exam",null,"It is only oral examination"]
[12990283153,408998795,"2021-09-23T17:00:34","2021-09-06T23:19:13","217.238.126.88",{"$nulls":4},"41-50","Female","Romania","Germany","Europe","16-20",5,"Specialist","Specialized clinic","Yes (please refer to Q10)","Less than once a week","11-15",{"$nulls":6},"None",null,"No",{"$nulls":5},"Teach informally, during every day work",{"$nulls":5},"Teaching the skills","Giving feedback",{"$nulls":3},"No","No",{"$nulls":4},"I give feedback during everyday work",{"$nulls":6},"No, it is assumed as being a part of everyday work",null,"Lack of training",{"$nulls":9},"Yes","I have no knowledge of what it is","No","I am not sure",null,"I do not know",null,"I do not know","They have to pass a university board exam",null,"It is only oral examination"]
[12990274628,408998795,"2021-09-23T16:56:34","2021-09-06T15:33:09","185.29.189.60",{"$nulls":4},"50+","Male","Germany","Germany","Europe","over 20 years",5,"Chief of Department","General hospital","Yes (please refer to Q10)","When in the operating theater (always have an allocated resident)","over 16",{"$nulls":5},"Simulation courses",null,null,"Yes, some elements, but not systematically",null,"I give lectures","Perform work-based interactive teaching (operating room)","Running clinical case discussions",null,"Teach informally, during every day work",null,"Planning and preparation for teaching session",null,null,"Problem based learning","Teaching the skills","Giving feedback","Organizing and leading the discussions",null,null,"Yes","Yes",{"$nulls":3},"I give feedback during simulation sessions","I give feedback during everyday work",{"$nulls":6},"No, it is assumed as being a part of everyday work",null,"Lack of training","Lack of time",null,null,"Overloaded with work","Lack of opportunity","Lack of organization",{"$nulls":3},"No","I have some ideas, but it is not clear to me","No","I am not sure",{"$nulls":3},"I do not know","Other (please specify)","They have to pass a board exam organized by \"Ärztekammer\"","It is only oral examination"]
[12990210371,408998795,"2021-09-23T16:35:24","2021-09-06T14:17:08","195.227.11.162",{"$nulls":4},"41-50","Male","Germany","Germany","Europe","16-20",5,"Senior resident","General hospital","Yes (please refer to Q10)","Every day","over 16",{"$nulls":5},"Simulation courses",null,null,"No, but students are exposed to outcome based teaching",{"$nulls":5},"Teach informally, during every day work",{"$nulls":5},"Teaching the skills","Giving feedback",{"$nulls":3},"Yes","Yes",{"$nulls":4},"I give feedback during everyday work",{"$nulls":6},"No, it is assumed as being a part of everyday work",null,null,"Lack of time",null,null,"Overloaded with work","Lack of opportunity","Lack of organization",null,"I work with residents, but I do not see that as teaching",null,"Yes","I do not know much","No","I am not sure",null,"I do not know",null,"I do not know","They have to pass a national board exam",null,"It is only oral examination"]
[12990061222,408998795,"2021-09-23T15:43:12","2021-09-23T16:32:44","91.227.71.250",{"$nulls":4},"50+","Male","Israel","Israel","Asia","16-20",5,"Chief of Department","Academic hospital (Teaching or University related)","Yes (please refer to Q10)","Almost every day","over 16",null,null,"ESAIC Teach the Teacher (TTT) courses",null,"Advanced Life Support (ALS), Basic Life Support (BLS) or other specific courses",{"$nulls":3},"No",null,"I give lectures",null,"Running clinical case discussions","Involved in simulation sessions","Teach informally, during every day work",null,"Planning and preparation for teaching session","Using visual aids","Interactive teaching","Problem based learning","Teaching the skills","Giving feedback","Organizing and leading the discussions","Organizing specific sessions (journal clubs, interactive sessions, pro and con debate…)",null,"Yes","No","I am an examiner for the final exam",null,null,"I give feedback during simulation sessions",null,"I am involved in other forms of formative assessment (for example multisource feedback)",{"$nulls":3},"Yes, it is recognised for promotion in academia.","Yes, I have a more visible position in the department",{"$nulls":3},"Lack of time",null,null,"Overloaded with work",null,"Lack of organization",{"$nulls":3},"Yes","I know what is it, but outcome-based education is not implemented in my country","I am not sure","No",null,"Classic surgical specialties based curriculum",null,"National body responsible for education (Ministry of health or education, National board for anaesthesia …)","They have to pass a national board exam",null,"Written and oral examination, but also OSCE (Objective Structured Clinical Examination)"]
[12990124546,408998795,"2021-09-23T16:05:59","2021-09-05T17:50:55","134.76.121.184",{"$nulls":4},"41-50","Male","Germany","Germany","Europe","over 20 years",5,"Chief of Department","Academic hospital (Teaching or University related)","Yes (please refer to Q10)","Almost every day","over 16",null,"Obligatory teaching courses for University teachers",null,"Other short TTT courses",null,"Simulation courses",null,null,"Yes",null,"I give lectures","Perform work-based interactive teaching (operating room)","Running clinical case discussions",null,"Teach informally, during every day work",null,"Planning and preparation for teaching session","Using visual aids","Interactive teaching","Problem based learning","Teaching the skills","Giving feedback","Organizing and leading the discussions","Organizing specific sessions (journal clubs, interactive sessions, pro and con debate…)",null,"Yes","Yes",null,null,"I occasionally carry out assessment during the residency program (Direct Observation of Procedural Skills - DOPS)",null,"I give feedback during everyday work","I am involved in other forms of formative assessment (for example multisource feedback)",{"$nulls":4},"Yes, I have a more visible position in the department",null,null,"Lack of training","Lack of time","Lack of motivation",null,"Overloaded with work",null,"Lack of organization",{"$nulls":3},"No","Yes, I am well informed","No","Yes","01/01/2019","Classic surgical specialties based curriculum",null,"National body responsible for education (Ministry of health or education, National board for anaesthesia …)","Other (please specify)","state-based exam","It is only oral examination"]
[12990106941,408998795,"2021-09-23T15:57:42","2021-09-23T16:08:20","189.131.1.14",{"$nulls":4},"50+","Male","Mexico","Mexico","North America","over 20 years",4,"Senior specialist","Academic hospital (Teaching or University related)","Yes (please refer to Q10)","Almost every day","over 16",{"$nulls":4},"Advanced Life Support (ALS), Basic Life Support (BLS) or other specific courses","Simulation courses",null,null,"Yes",null,"I give lectures",null,"Running clinical case discussions","Involved in simulation sessions","Teach informally, during every day work",{"$nulls":3},"Interactive teaching","Problem based learning","Teaching the skills","Giving feedback",null,"Organizing specific sessions (journal clubs, interactive sessions, pro and con debate…)",null,"Yes","Yes","I am an examiner for the final exam",null,null,"I give feedback during simulation sessions","I give feedback during everyday work",{"$nulls":4},"Yes, it is recognised for promotion in academia.",{"$nulls":4},"Lack of time",{"$nulls":8},"Yes","I know what is it, but outcome-based education is not implemented in my country","No","No",null,"Classic surgical specialties based curriculum",null,"Department of anaesthesiology","They have to pass a national board exam",null,"Written and oral examination"]
[12990099824,408998795,"2021-09-23T15:57:17","2021-09-23T16:05:01","182.57.68.186",{"$nulls":4},"41-50","Female","India","India","Asia","16-20",3,"Teacher (in University)","Academic hospital (Teaching or University related)","Yes (please refer to Q10)","Almost every day","11-15","Master in Medical Education",{"$nulls":3},"Advanced Life Support (ALS), Basic Life Support (BLS) or other specific courses",{"$nulls":3},"No",null,"I give lectures","Perform work-based interactive teaching (operating room)","Running clinical case discussions",null,"Teach informally, during every day work",null,"Planning and preparation for teaching session",null,"Interactive teaching","Problem based learning","Teaching the skills","Giving feedback",null,"Organizing specific sessions (journal clubs, interactive sessions, pro and con debate…)",null,"Yes","Yes",null,null,"I occasionally carry out assessment during the residency program (Direct Observation of Procedural Skills - DOPS)",null,null,"I am involved in other forms of formative assessment (for example multisource feedback)",{"$nulls":5},"No, it is assumed as being a part of everyday work",null,"Lack of training","Lack of time",null,null,"Overloaded with work",{"$nulls":5},"Yes","I have some ideas, but it is not clear to me","No","No","09/22/2021","Classic surgical specialties based curriculum",null,"University","They have to pass a university board exam",null,"VIVA (Oral examination), written and OSCE examination"]
[12990079562,408998795,"2021-09-23T15:47:21","2021-09-23T15:55:54","190.98.241.74",{"$nulls":4},"41-50","Male","Chile","Chile","South America","over 20 years",3,"Senior specialist","Private hospital","Yes (please refer to Q10)","Once a week","11-15",{"$nulls":6},"None",null,"No",null,"I give lectures","Perform work-based interactive teaching (operating room)",null,null,"Teach informally, during every day work",null,null,"Using visual aids",null,"Problem based learning","Teaching the skills",{"$nulls":4},"No","No",{"$nulls":6},"I am not involved in any kind of assessment",{"$nulls":4},"No, it is assumed as being a part of everyday work",null,"Lack of training","Lack of time",null,null,"Overloaded with work",{"$nulls":5},"Yes","I have no knowledge of what it is","No","I am not sure",null,"Classic surgical specialties based curriculum",null,"University","They have to pass a university board exam",null,"It is only oral examination"]
[12989957961,408998795,"2021-09-23T15:06:58","2021-09-04T18:49:57","88.130.153.48",{"$nulls":4},"41-50","Female","Germany","Germany","Europe","11-15",5,"Senior specialist","Academic hospital (Teaching or University related)","Yes (please refer to Q10)","Almost every day","over 16",null,null,"ESAIC Teach the Teacher (TTT) courses",null,null,"Simulation courses",null,"Courses during PhD program ","No",null,null,"Perform work-based interactive teaching (operating room)","Running clinical case discussions",null,"Teach informally, during every day work",null,"Planning and preparation for teaching session","Using visual aids","Interactive teaching",null,null,"Giving feedback","Organizing and leading the discussions",null,null,"No","Yes",{"$nulls":4},"I give feedback during everyday work",{"$nulls":6},"No, it is assumed as being a part of everyday work",null,null,"Lack of time",null,null,"Overloaded with work","Lack of opportunity","Lack of organization"]
[12989941394,408998795,"2021-09-23T15:01:42","2021-09-23T15:03:38","177.45.27.28",{"$nulls":4},"50+","Male","Brazil","Brazil","South America","over 20 years","Less than 3","Specialist","Private hospital","No (please refer to Q21)"]
[12989941054,408998795,"2021-09-23T15:01:50","2021-09-04T09:16:31","91.14.92.228",{"$nulls":4},"41-50","Female","Germany","Germany","Europe","over 20 years",5,"Senior specialist","General hospital","Yes (please refer to Q10)","Every day","11-15",{"$nulls":4},"Advanced Life Support (ALS), Basic Life Support (BLS) or other specific courses","Simulation courses",null,null,"No",null,"I give lectures","Perform work-based interactive teaching (operating room)","Running clinical case discussions",null,"Teach informally, during every day work",null,"Planning and preparation for teaching session","Using visual aids",null,"Problem based learning","Teaching the skills","Giving feedback","Organizing and leading the discussions","Organizing specific sessions (journal clubs, interactive sessions, pro and con debate…)",null,"Yes","Yes",{"$nulls":4},"I give feedback during everyday work",{"$nulls":7},"No","Lack of training","Lack of time","Lack of motivation","No recognition","Overloaded with work",null,"Lack of organization",{"$nulls":3},"I do not know","I have some ideas, but it is not clear to me","No","No",null,"I do not know",null,"Society or association of anaesthesiology","Other (please specify)","Exam at university","It is only oral examination"]
[12989875343,408998795,"2021-09-23T14:28:43","2021-09-23T14:58:50","103.57.84.195",{"$nulls":4},"41-50","Male","India","India","Asia","16-20","Over 5","Teacher (in University)","Academic hospital (Teaching or University related)","Yes (please refer to Q10)","When in the operating theater (always have an allocated resident)","11-15",{"$nulls":3},"Other short TTT courses","Advanced Life Support (ALS), Basic Life Support (BLS) or other specific courses","Simulation courses",null,null,"No",null,"I give lectures",null,null,"Involved in simulation sessions","Teach informally, during every day work",null,null,"Using visual aids","Interactive teaching",null,"Teaching the skills",{"$nulls":4},"Yes","Yes",{"$nulls":3},"I give feedback during simulation sessions",{"$nulls":7},"No, it is assumed as being a part of everyday work",null,null,"Lack of time",{"$nulls":3},"Lack of opportunity",{"$nulls":4},"Yes","I know what is it, but outcome-based education is not implemented in my country","I am not sure","I am not sure",null,"Content based curriculum",null,"University","They have to pass a university board exam",null,"Written, oral examination and some practical assessment"]
[12989908930,408998795,"2021-09-23T14:48:58","2021-09-03T20:11:21","46.114.91.175",{"$nulls":4},"41-50","Female","Germany","Germany","Europe","11-15","Over 5","Senior specialist","Academic hospital (Teaching or University related)","Yes (please refer to Q10)","Less than once a week","11-15",null,"Obligatory teaching courses for University teachers","ESAIC Teach the Teacher (TTT) courses",null,"Advanced Life Support (ALS), Basic Life Support (BLS) or other specific courses","Simulation courses",null,null,"Yes, some elements, but not systematically",null,"I give lectures","Perform work-based interactive teaching (operating room)","Running clinical case discussions",null,"Teach informally, during every day work",null,null,"Using visual aids","Interactive teaching","Problem based learning","Teaching the skills","Giving feedback","Organizing and leading the discussions",null,null,"No","Yes",{"$nulls":4},"I give feedback during everyday work",{"$nulls":6},"No, it is assumed as being a part of everyday work",null,null,"Lack of time",{"$nulls":3},"Lack of opportunity","Lack of organization",null,"I work with residents, but I do not see that as teaching",null,"Yes","Yes, I am well informed","I am not sure","I am not sure",null,"Content based curriculum",null,"Department of anaesthesiology","They have to pass a national board exam",null,"It is only oral examination"]
[12989886711,408998795,"2021-09-23T14:38:56","2021-09-23T14:48:38","196.151.138.201",{"$nulls":4},"36-40","Female","Egypt","Egypt","Africa","11-15",3,"Lecturer","Academic hospital (Teaching or University related)","Yes (please refer to Q10)",null,"11-15",{"$nulls":6},"None",null,"No",null,null,"Perform work-based interactive teaching (operating room)",null,null,"Teach informally, during every day work",{"$nulls":3},"Interactive teaching",null,null,"Giving feedback",{"$nulls":3},"No","No",{"$nulls":6},"I am not involved in any kind of assessment",{"$nulls":3},"Yes, I have a more visible position in the department",null,null,"Lack of training",{"$nulls":7},"Other (please specify)","I am involved in teaching anaesthesia residents","Yes","I have no knowledge of what it is","No","Yes",null,"I do not know",null,"Department of anaesthesiology","They have to pass a university board exam",null,"VIVA (Oral examination), written and OSCE examination"]
[12989884913,408998795,"2021-09-23T14:39:03","2021-09-03T15:44:43","109.43.49.29",{"$nulls":4},"36-40","Male","Egypt","Germany","Europe","11-15",3,"Specialist","Academic hospital (Teaching or University related)","No (please refer to Q21)"]
[12989882732,408998795,"2021-09-23T14:38:45","2021-09-03T15:01:28","87.133.222.158",{"$nulls":4},"36-40","Female","Germany","Germany","Europe","11-15",5,"Specialist","Academic hospital (Teaching or University related)","Yes (please refer to Q10)"]
[12989856064,408998795,"2021-09-23T14:24:38","2021-09-03T14:44:38","139.30.157.140",{"$nulls":4},"36-40","Female","Germany","Germany","Europe","11-15",5,"Senior specialist","Academic hospital (Teaching or University related)","Yes (please refer to Q10)","Almost every day","Less than 5",{"$nulls":6},"None",null,"Yes, some elements, but not systematically",null,"I give lectures","Perform work-based interactive teaching (operating room)",null,null,"Teach informally, during every day work",null,"Planning and preparation for teaching session",null,"Interactive teaching","Problem based learning","Teaching the skills","Giving feedback",null,"Organizing specific sessions (journal clubs, interactive sessions, pro and con debate…)",null,"No","Yes",{"$nulls":4},"I give feedback during everyday work",{"$nulls":6},"No, it is assumed as being a part of everyday work",null,"Lack of training","Lack of time",null,null,"Overloaded with work","Lack of opportunity",{"$nulls":4},"I do not know","I have no knowledge of what it is","No","I am not sure",null,"Classic surgical specialties based curriculum",null,"Department of anaesthesiology","Other (please specify)","Exam set by federal medical boards","Other (please specify)"]
[12989873209,408998795,"2021-09-23T14:32:53","2021-09-03T14:07:14","185.109.110.6",{"$nulls":4},"50+","Male","Germany","Germany","Europe","over 20 years","Over 5","Chief of Department","Academic hospital (Teaching or University related)","Yes (please refer to Q10)","Every day","over 16",null,"Obligatory teaching courses for University teachers",null,null,"Advanced Life Support (ALS), Basic Life Support (BLS) or other specific courses","Simulation courses",null,null,"Yes, some elements, but not systematically",null,"I give lectures","Perform work-based interactive teaching (operating room)","Running clinical case discussions","Involved in simulation sessions","Teach informally, during every day work",null,"Planning and preparation for teaching session","Using visual aids","Interactive teaching","Problem based learning",null,"Giving feedback","Organizing and leading the discussions","Organizing specific sessions (journal clubs, interactive sessions, pro and con debate…)",null,"Yes","Yes","I am an examiner for the final exam",null,"I occasionally carry out assessment during the residency program (Direct Observation of Procedural Skills - DOPS)","I give feedback during simulation sessions",null,"I am involved in other forms of formative assessment (for example multisource feedback)",{"$nulls":5},"No, it is assumed as being a part of everyday work",null,null,"Lack of time",null,null,"Overloaded with work",{"$nulls":5},"Yes","Yes, I am well informed","Yes","Yes",null,"Competency (outcome) based curriculum",null,"National body responsible for education (Ministry of health or education, National board for anaesthesia …)","They have to pass a national board exam",null,"It is only oral examination"]
[12989821030,408998795,"2021-09-23T14:09:46","2021-09-23T14:20:34","179.7.226.18",{"$nulls":4},"41-50","Male","Peru","Peru","South America","5-10",3,"Specialist","General hospital","Yes (please refer to Q10)","Almost every day","Less than 5",{"$nulls":4},"Advanced Life Support (ALS), Basic Life Support (BLS) or other specific courses",{"$nulls":3},"Yes, some elements, but not systematically",null,null,"Perform work-based interactive teaching (operating room)",{"$nulls":4},"Planning and preparation for teaching session",null,"Interactive teaching","Problem based learning",null,"Giving feedback",{"$nulls":3},"No","No",{"$nulls":4},"I give feedback during everyday work",{"$nulls":6},"No, it is assumed as being a part of everyday work",{"$nulls":3},"Lack of motivation","No recognition",null,null,"Lack of organization",null,"I am not employed by the university",null,"Yes","I know what is it, but outcome-based education is not implemented in my country","Yes","No",null,"Classic surgical specialties based curriculum",null,"University","They just have to complete the residency program (3-5 years)",null,"Other (please specify)","Don't have"]
[12989807602,408998795,"2021-09-23T14:09:41","2021-09-03T13:09:57","93.233.227.96",{"$nulls":4},"31-35","Female","Germany","Germany","Europe","5-10","Less than 3","Specialist","General hospital","Yes (please refer to Q10)","When in the operating theater (always have an allocated resident)","Less than 5",{"$nulls":4},"Advanced Life Support (ALS), Basic Life Support (BLS) or other specific courses","Simulation courses","None",null,"No",{"$nulls":5},"Teach informally, during every day work",{"$nulls":4},"Problem based learning",null,"Giving feedback",{"$nulls":3},"No","No",{"$nulls":4},"I give feedback during everyday work",{"$nulls":6},"No, it is assumed as being a part of everyday work",null,null,"Lack of time",null,null,"Overloaded with work","Lack of opportunity","Lack of organization",{"$nulls":3},"Yes","I know what is it, but outcome-based education is not implemented in my country","No","No",null,"Classic surgical specialties based curriculum",null,"National body responsible for education (Ministry of health or education, National board for anaesthesia …)","They have to pass a national board exam",null,"It is only oral examination"]
[12989759593,408998795,"2021-09-23T13:49:25","2021-09-23T14:07:00","179.127.193.9",{"$nulls":4},"50+","Male","Brazil","Brazil","South America","over 20 years","Less than 3","Chief of Department","General hospital","Yes (please refer to Q10)","Every day","over 16",{"$nulls":5},"Simulation courses",null,null,"No",null,"I give lectures","Perform work-based interactive teaching (operating room)","Running clinical case discussions",null,"Teach informally, during every day work",null,"Planning and preparation for teaching session","Using visual aids","Interactive teaching","Problem based learning","Teaching the skills","Giving feedback","Organizing and leading the discussions","Organizing specific sessions (journal clubs, interactive sessions, pro and con debate…)",null,"Yes","Yes",{"$nulls":7},"The Brazilian Society of Anesthesiology is envolved in most of the assessment that are performed in th whole country simultaneously, four times a year.","Yes, I am paid more",{"$nulls":8},"Overloaded with work",{"$nulls":3},"Other (please specify)","i don't get it. I am involved","Yes","I have some ideas, but it is not clear to me","No","I am not sure",null,"Content based curriculum",null,"Society or association of anaesthesiology","They have to pass a national board exam",null,"Written and oral examination"]
[12989775381,408998795,"2021-09-23T13:56:37","2021-09-03T11:35:48","217.151.155.174",{"$nulls":4},"41-50","Male","Germany","Germany","Europe","over 20 years",5,"Chief of Department","Academic hospital (Teaching or University related)","Yes (please refer to Q10)","Almost every day","over 16",null,"Obligatory teaching courses for University teachers",null,"Other short TTT courses","Advanced Life Support (ALS), Basic Life Support (BLS) or other specific courses","Simulation courses",null,null,"Yes, some elements, but not systematically",null,"I give lectures","Perform work-based interactive teaching (operating room)",null,null,"Teach informally, during every day work",null,"Planning and preparation for teaching session","Using visual aids","Interactive teaching","Problem based learning","Teaching the skills","Giving feedback","Organizing and leading the discussions","Organizing specific sessions (journal clubs, interactive sessions, pro and con debate…)",null,"Yes","No","I am an examiner for the final exam","I am European Diploma in Anaesthesia and Intensive Care (EDAIC) part II examiner",null,null,"I give feedback during everyday work",{"$nulls":6},"No, it is assumed as being a part of everyday work",null,null,"Lack of time",null,null,"Overloaded with work",null,"Lack of organization",{"$nulls":3},"Yes","I do not know much","Yes","No",null,"Content based curriculum",null,"National body responsible for education (Ministry of health or education, National board for anaesthesia …)","They have to pass a national board exam",null,"It is only oral examination"]
[12989774135,408998795,"2021-09-23T13:55:52","2021-09-23T14:02:43","205.253.149.35",{"$nulls":4},"41-50","Female","India","United Arab Emirates","Asia","16-20",3,"Specialist","Academic hospital (Teaching or University related)","Yes (please refer to Q10)","Less than once a week","11-15",null,null,"ESAIC Teach the Teacher (TTT) courses",{"$nulls":5},"No",null,null,"Perform work-based interactive teaching (operating room)",{"$nulls":6},"Interactive teaching",{"$nulls":6},"No","No",{"$nulls":6},"I am not involved in any kind of assessment",{"$nulls":4},"No, it is assumed as being a part of everyday work",{"$nulls":6},"Lack of opportunity","Lack of organization",null,"Other (please specify)","We don't have regular  trainees coming to our hospital ","Yes","Yes, I am well informed","I am not sure","I am not sure",null,"Content based curriculum",null,"University","They have to pass a national board exam",null,"Written, oral examination and some practical assessment"]
[12989750879,408998795,"2021-09-23T13:45:26","2021-09-23T13:54:01","176.203.216.191",{"$nulls":4},"31-35","Male","Jordan","Qatar","Asia","5-10",4,"Specialist","Private hospital","Yes (please refer to Q10)","Almost every day","Less than 5",{"$nulls":4},"Advanced Life Support (ALS), Basic Life Support (BLS) or other specific courses",{"$nulls":3},"No",null,"I give lectures","Perform work-based interactive teaching (operating room)",null,null,"Teach informally, during every day work",null,"Planning and preparation for teaching session","Using visual aids","Interactive teaching",null,"Teaching the skills",{"$nulls":4},"No","Yes","I am an examiner for the final exam",{"$nulls":3},"I give feedback during everyday work","I am involved in other forms of formative assessment (for example multisource feedback)",{"$nulls":6},"No","Lack of training","Lack of time",null,"No recognition","Overloaded with work",null,"Lack of organization",{"$nulls":3},"I do not know","I know what is it, but outcome-based education is not implemented in my country","No","I am not sure",null,"Content based curriculum",null,"Department of anaesthesiology","They have to pass a national board exam",null,"Written and oral examination, but also OSCE (Objective Structured Clinical Examination)"]
[12989763412,408998795,"2021-09-23T13:51:59","2021-09-23T13:52:45","200.7.247.139",{"$nulls":4},"36-40","Female","Ecuador","Ecuador","South America","5-10",4,"Specialist","Academic hospital (Teaching or University related)","Yes (please refer to Q10)"]
[12989751884,408998795,"2021-09-23T13:46:27","2021-09-03T11:34:43","212.87.32.182",{"$nulls":4},"50+","Male","Germany","Germany","Europe","over 20 years",5,"Chief of Department","Academic hospital (Teaching or University related)","Yes (please refer to Q10)","Every day","over 16",null,"Obligatory teaching courses for University teachers",null,"Other short TTT courses",null,"Simulation courses",null,null,"No",null,"I give lectures","Perform work-based interactive teaching (operating room)","Running clinical case discussions",null,"Teach informally, during every day work",null,"Planning and preparation for teaching session","Using visual aids","Interactive teaching","Problem based learning","Teaching the skills","Giving feedback",null,"Organizing specific sessions (journal clubs, interactive sessions, pro and con debate…)",null,"Yes","Yes","I am an examiner for the final exam",null,"I occasionally carry out assessment during the residency program (Direct Observation of Procedural Skills - DOPS)","I give feedback during simulation sessions","I give feedback during everyday work","I am involved in other forms of formative assessment (for example multisource feedback)",{"$nulls":3},"Yes, it is recognised for promotion in academia.","Yes, I have a more visible position in the department","No, it is assumed as being a part of everyday work",null,null,"Lack of time",null,null,"Overloaded with work",{"$nulls":5},"Yes","I have some ideas, but it is not clear to me","I am not sure","Yes","10/15/2014","Competency (outcome) based curriculum",null,"University","Other (please specify)","They have to pass a board exam with the Chamber of Physicians","It is only oral examination"]
[12989736242,408998795,"2021-09-23T13:39:57","2021-09-23T13:44:16","41.47.70.25",{"$nulls":4},"41-50","Female","Egypt","Egypt","Africa","over 20 years","Over 5","Lecturer","Academic hospital (Teaching or University related)","Yes (please refer to Q10)","Every day","over 16",null,"Obligatory teaching courses for University teachers",{"$nulls":6},"Yes",null,null,"Perform work-based interactive teaching (operating room)",{"$nulls":6},"Interactive teaching",null,"Teaching the skills",null,"Organizing and leading the discussions",null,null,"No","No","I am an examiner for the final exam",{"$nulls":10},"No, it is assumed as being a part of everyday work",null,null,"Lack of time",null,null,"Overloaded with work",{"$nulls":5},"Yes","I know what is it, but outcome-based education is not implemented in my country","No","I am not sure",null,"Classic surgical specialties based curriculum",null,"University","They have to pass a national board exam",null,"Written and oral examination, but also OSCE (Objective Structured Clinical Examination)"]
[12989732665,408998795,"2021-09-23T13:38:33","2021-09-03T10:01:20","188.98.122.193",{"$nulls":4},"50+","Female","Germany","Germany","Europe","11-15",5,"Senior specialist","General hospital","Yes (please refer to Q10)","Almost every day","over 16",{"$nulls":4},"Advanced Life Support (ALS), Basic Life Support (BLS) or other specific courses","Simulation courses",null,"as I have a PhD I regularly teach medical students at university","No",null,"I give lectures",{"$nulls":3},"Teach informally, during every day work","development of structured teaching and evaluation programs at our hospital","Planning and preparation for teaching session",null,"Interactive teaching","Problem based learning","Teaching the skills","Giving feedback",{"$nulls":3},"Yes","No","I am an examiner for the final exam",null,"I occasionally carry out assessment during the residency program (Direct Observation of Procedural Skills - DOPS)",null,"I give feedback during everyday work",{"$nulls":5},"Yes, I have a more visible position in the department",{"$nulls":9},"structured programs have to be adopted and used by other senior colleagues during every day work - they are not all motivated to do this although they generally approve of them",null,null,"No","I know what is it, but outcome-based education is not implemented in my country","No","No",null,"Other (please specify)","competency and content based curriculum","Department of anaesthesiology","Other (please specify)","they have to pass a regional board exam","It is only oral examination"]
[12989698000,408998795,"2021-09-23T13:24:00","2021-09-03T09:55:34","185.190.162.58",{"$nulls":4},"41-50","Male","Germany","Germany","Europe","over 20 years","Over 5","Senior specialist","Academic hospital (Teaching or University related)","Yes (please refer to Q10)","Almost every day","over 16",{"$nulls":3},"Other short TTT courses","Advanced Life Support (ALS), Basic Life Support (BLS) or other specific courses","Simulation courses",null,"I teach TTT","Yes, some elements, but not systematically",null,"I give lectures","Perform work-based interactive teaching (operating room)","Running clinical case discussions","Involved in simulation sessions","Teach informally, during every day work",null,"Planning and preparation for teaching session","Using visual aids","Interactive teaching","Problem based learning","Teaching the skills","Giving feedback","Organizing and leading the discussions","Organizing specific sessions (journal clubs, interactive sessions, pro and con debate…)","Video debriefing ","Yes","Yes",{"$nulls":3},"I give feedback during simulation sessions","I give feedback during everyday work","I am involved in other forms of formative assessment (for example multisource feedback)",{"$nulls":5},"No, it is assumed as being a part of everyday work",null,null,"Lack of time",null,"No recognition","Overloaded with work",null,"Lack of organization",{"$nulls":3},"Yes","Yes, I am well informed","No","No",null,"I do not know",null,"Society or association of anaesthesiology","They have to pass a university board exam",null,"It is only oral examination"]
[12989689773,408998795,"2021-09-23T13:20:30","2021-09-03T09:39:21","212.184.166.82",{"$nulls":4},"36-40","Female","Netherlands","Germany","Europe","11-15",5,"Senior resident","General hospital","Yes (please refer to Q10)","When in the operating theater (always have an allocated resident)","6-10",{"$nulls":6},"None",null,"No",null,"I give lectures","Perform work-based interactive teaching (operating room)","Running clinical case discussions","Involved in simulation sessions","Teach informally, during every day work",null,"Planning and preparation for teaching session","Using visual aids","Interactive teaching","Problem based learning",null,"Giving feedback",{"$nulls":3},"No","Yes",{"$nulls":3},"I give feedback during simulation sessions","I give feedback during everyday work",{"$nulls":6},"No, it is assumed as being a part of everyday work",null,null,"Lack of time",null,null,"Overloaded with work",{"$nulls":5},"Yes","I have some ideas, but it is not clear to me","No","Yes",null,"Content based curriculum",null,"National body responsible for education (Ministry of health or education, National board for anaesthesia …)","They have to pass a national board exam",null,"It is only oral examination"]
[12989690713,408998795,"2021-09-23T13:21:26","2021-09-03T08:28:20","193.84.91.10",{"$nulls":4},"50+","Male","Germany","Germany","Europe","over 20 years","Over 5","Chief of Department","Academic hospital (Teaching or University related)","Yes (please refer to Q10)",{"$nulls":63},"Oral and practical"]
[12989653433,408998795,"2021-09-23T13:05:58","2021-09-23T13:19:09","181.132.149.203",{"$nulls":4},"50+","Male","Colombia","Colombia","South America","over 20 years",3,"Chief of Department","Private hospital","Yes (please refer to Q10)","Once a week","over 16",{"$nulls":3},"Other short TTT courses",null,"Simulation courses",null,null,"No",null,"I give lectures","Perform work-based interactive teaching (operating room)","Running clinical case discussions","Involved in simulation sessions","Teach informally, during every day work",null,"Planning and preparation for teaching session","Using visual aids","Interactive teaching","Problem based learning","Teaching the skills","Giving feedback","Organizing and leading the discussions","Organizing specific sessions (journal clubs, interactive sessions, pro and con debate…)",null,"Yes","No",{"$nulls":3},"I give feedback during simulation sessions",null,"I am involved in other forms of formative assessment (for example multisource feedback)",{"$nulls":5},"No, it is assumed as being a part of everyday work",null,null,"Lack of time",null,"No recognition","Overloaded with work",null,"Lack of organization",{"$nulls":3},"No","Yes, I am well informed","Yes","No",null,"Content based curriculum",null,"University","They just have to complete the residency program (3-5 years)"]
[12989670191,408998795,"2021-09-23T13:12:39","2021-09-03T07:03:20","129.143.130.248",{"$nulls":4},"50+","Male","Germany","Germany","Europe","16-20",5,"Senior specialist","Academic hospital (Teaching or University related)","Yes (please refer to Q10)","Every day","11-15",{"$nulls":3},"Other short TTT courses","Advanced Life Support (ALS), Basic Life Support (BLS) or other specific courses","Simulation courses",null,null,"Yes, some elements, but not systematically",null,"I give lectures","Perform work-based interactive teaching (operating room)",null,"Involved in simulation sessions",null,null,"Planning and preparation for teaching session",null,"Interactive teaching","Problem based learning","Teaching the skills","Giving feedback","Organizing and leading the discussions",null,null,"No","Yes",{"$nulls":4},"I give feedback during everyday work",{"$nulls":6},"No, it is assumed as being a part of everyday work",null,null,"Lack of time",null,null,"Overloaded with work"]
[12989644954,408998795,"2021-09-23T12:56:35","2021-09-03T01:37:59","77.8.46.50",{"$nulls":4},"31-35","Male","Germany","Germany","Europe","5-10",5,"Trainee","Academic hospital (Teaching or University related)","No (please refer to Q21)"]
[12989647053,408998795,"2021-09-23T13:02:57","2021-09-23T13:07:21","107.72.178.170",{"$nulls":4},"50+","Female","United States of America","United States of America","North America","over 20 years",4,"Specialist","Private hospital","No (please refer to Q21)",{"$nulls":50},"I work in a non-teaching hospital",null,"Yes","Yes, I am well informed","No","Yes","01/01/2000","Content based curriculum",null,"Hospital administration","They just have to complete the residency program (3-5 years)",null,"Written and oral examination"]
[12989581507,408998795,"2021-09-23T12:34:57","2021-09-02T23:52:35","77.180.47.112",{"$nulls":4},"31-35","Female","Germany","Germany","Europe","5-10","Less than 3","Specialist","Academic hospital (Teaching or University related)","Yes (please refer to Q10)"]
[12989580141,408998795,"2021-09-23T12:33:29","2021-09-02T22:53:46","84.162.103.59",{"$nulls":4},"31-35","Female","Germany","Germany","Europe","5-10",5,"Specialist","Academic hospital (Teaching or University related)","Yes (please refer to Q10)","Once a week","6-10",{"$nulls":3},"Other short TTT courses","Advanced Life Support (ALS), Basic Life Support (BLS) or other specific courses","Simulation courses",null,null,"No",null,"I give lectures",null,"Running clinical case discussions","Involved in simulation sessions","Teach informally, during every day work",null,"Planning and preparation for teaching session","Using visual aids","Interactive teaching","Problem based learning",null,"Giving feedback","Organizing and leading the discussions","Organizing specific sessions (journal clubs, interactive sessions, pro and con debate…)",null,"Yes","No","I am an examiner for the final exam",null,null,"I give feedback during simulation sessions","I give feedback during everyday work",{"$nulls":4},"Yes, it is recognised for promotion in academia.",{"$nulls":4},"Lack of time",null,"No recognition","Overloaded with work",null,"Lack of organization",null,"Other (please specify)","I answered #9 with yes","No","I have some ideas, but it is not clear to me","No","Yes","07/25/2010","Competency (outcome) based curriculum",null,"National body responsible for education (Ministry of health or education, National board for anaesthesia …)","They have to pass a university board exam",null,"It is only oral examination"]
[12989573649,408998795,"2021-09-23T12:30:21","2021-09-02T22:46:35","95.90.228.212",{"$nulls":4},"50+","Female","Romania","Germany","Europe","over 20 years",5,"Senior specialist","General hospital","Yes (please refer to Q10)","Every day","11-15",{"$nulls":4},"Advanced Life Support (ALS), Basic Life Support (BLS) or other specific courses",null,null,"Newborn Life Support Trainer","No",null,null,"Perform work-based interactive teaching (operating room)",null,null,"Teach informally, during every day work","newborn life support scenario training",null,"Using visual aids","Interactive teaching","Problem based learning","Teaching the skills","Giving feedback",{"$nulls":3},"Yes","Yes",{"$nulls":4},"I give feedback during everyday work",{"$nulls":7},"No",null,"Lack of time",null,null,"Overloaded with work",null,"Lack of organization",{"$nulls":3},"I do not know","I do not know much","No","I am not sure",{"$nulls":3},"I do not know","They just have to complete the residency program (3-5 years)",null,"It is only oral examination"]
[12989573628,408998795,"2021-09-23T12:28:49","2021-09-02T22:25:01","95.90.198.222",{"$nulls":4},"36-40","Male","Germany","Germany","Europe","5-10",5,"Senior resident","Academic hospital (Teaching or University related)","Yes (please refer to Q10)","Every day","Less than 5","Master in Medical Education",{"$nulls":3},"Advanced Life Support (ALS), Basic Life Support (BLS) or other specific courses","Simulation courses",null,null,"No",null,null,"Perform work-based interactive teaching (operating room)",null,"Involved in simulation sessions","Teach informally, during every day work",null,"Planning and preparation for teaching session",{"$nulls":3},"Teaching the skills","Giving feedback",{"$nulls":3},"No","Yes",{"$nulls":3},"I give feedback during simulation sessions","I give feedback during everyday work",{"$nulls":6},"No, it is assumed as being a part of everyday work",null,null,"Lack of time",null,null,"Overloaded with work",null,"Lack of organization",{"$nulls":3},"Yes","I have some ideas, but it is not clear to me","No","No",null,"Content based curriculum",null,"National body responsible for education (Ministry of health or education, National board for anaesthesia …)","They have to pass a national board exam",null,"It is only oral examination"]
[12989546271,408998795,"2021-09-23T12:14:20","2021-09-02T21:29:38","93.215.170.152",{"$nulls":4},"36-40","Male","Libya","Germany","Europe","5-10","Over 5","Specialist","General hospital","No (please refer to Q21)",{"$nulls":50},"I am not employed by the university",null,"Yes","I have some ideas, but it is not clear to me","I am not sure","I am not sure",null,"Content based curriculum",null,"Department of anaesthesiology","They have to pass a national board exam",null,"It is only oral examination"]
[12989540680,408998795,"2021-09-23T12:12:48","2021-09-02T20:33:30","88.152.185.78",{"$nulls":4},"31-35","Female","Latvia","Germany","Europe","5-10","Less than 3","Specialist","Academic hospital (Teaching or University related)","Yes (please refer to Q10)","Every day","Less than 5",{"$nulls":4},"Advanced Life Support (ALS), Basic Life Support (BLS) or other specific courses","Simulation courses",null,null,"No",null,"I give lectures","Perform work-based interactive teaching (operating room)",null,null,"Teach informally, during every day work",null,"Planning and preparation for teaching session","Using visual aids",null,"Problem based learning","Teaching the skills","Giving feedback",{"$nulls":3},"No","Yes",{"$nulls":4},"I give feedback during everyday work","I am involved in other forms of formative assessment (for example multisource feedback)",{"$nulls":5},"No, it is assumed as being a part of everyday work",null,"Lack of training",null,null,"No recognition",null,"Lack of opportunity","Lack of organization",null,"I work with residents, but I do not see that as teaching",null,"Yes","I have some ideas, but it is not clear to me","No","Yes","01/01/2021","Content based curriculum",null,"Department of anaesthesiology","They have to pass a national board exam",null,"It is only oral examination"]
[12989533017,408998795,"2021-09-23T12:07:58","2021-09-23T12:14:19","49.36.188.86",{"$nulls":4},"31-35","Female","India","India","Asia","5-10",4,"Senior resident","Private hospital","Yes (please refer to Q10)","Once a week","Less than 5",{"$nulls":6},"None",null,"No",null,null,"Perform work-based interactive teaching (operating room)",{"$nulls":4},"Planning and preparation for teaching session","Using visual aids","Interactive teaching","Problem based learning",null,"Giving feedback",null,"Organizing specific sessions (journal clubs, interactive sessions, pro and con debate…)",null,"No","Yes",{"$nulls":6},"I am not involved in any kind of assessment",{"$nulls":4},"No, it is assumed as being a part of everyday work",null,null,"Lack of time",null,null,"Overloaded with work",{"$nulls":5},"Yes","Yes, I am well informed","No","I am not sure",null,"Classic surgical specialties based curriculum",null,"University","They have to pass a national board exam",null,"VIVA (Oral examination), written and OSCE examination"]
[12989518415,408998795,"2021-09-23T12:00:48","2021-09-02T20:07:02","84.186.213.240",{"$nulls":4},"50+","Male","Germany","Germany","Europe","over 20 years",5,"Senior specialist","Academic hospital (Teaching or University related)","Yes (please refer to Q10)","Every day","over 16",{"$nulls":6},"None",null,"No",null,null,"Perform work-based interactive teaching (operating room)","Running clinical case discussions",null,"Teach informally, during every day work",null,"Planning and preparation for teaching session",null,null,"Problem based learning","Teaching the skills","Giving feedback",{"$nulls":3},"No","No",{"$nulls":6},"I am not involved in any kind of assessment",{"$nulls":5},"No",null,"Lack of time",{"$nulls":6},"I work with residents, but I do not see that as teaching",null,"Yes","I have no knowledge of what it is","No","Yes","04/02/3019","Classic surgical specialties based curriculum",null,"Department of anaesthesiology","They have to pass a national board exam",null,"It is only oral examination"]
[12989517310,408998795,"2021-09-23T11:59:51","2021-09-23T12:06:32","219.162.167.58",{"$nulls":4},"41-50","Male","Japan","Japan","Asia","16-20","Over 5","Chief of Department","General hospital","Yes (please refer to Q10)","Every day","Less than 5","Master in Medical Education","Obligatory teaching courses for University teachers",null,null,"Advanced Life Support (ALS), Basic Life Support (BLS) or other specific courses",{"$nulls":3},"No",null,"I give lectures","Perform work-based interactive teaching (operating room)","Running clinical case discussions","Involved in simulation sessions","Teach informally, during every day work",null,"Planning and preparation for teaching session","Using visual aids","Interactive teaching","Problem based learning","Teaching the skills","Giving feedback","Organizing and leading the discussions","Organizing specific sessions (journal clubs, interactive sessions, pro and con debate…)",null,"No","No",{"$nulls":6},"I am not involved in any kind of assessment",{"$nulls":4},"No, it is assumed as being a part of everyday work",null,"Lack of training","Lack of time",null,null,"Overloaded with work",null,"Lack of organization",{"$nulls":3},"Yes","Yes, I am well informed","Yes","No",null,"I do not know",null,"Hospital administration","They have to pass a national board exam",null,"Written, oral examination and some practical assessment"]
[12989505000,408998795,"2021-09-23T11:51:16","2021-09-23T12:03:23","213.104.125.106",{"$nulls":4},"41-50","Male","Egypt","Egypt","Africa","16-20","Less than 3","Senior specialist","Academic hospital (Teaching or University related)","Yes (please refer to Q10)","When in the operating theater (always have an allocated resident)","6-10",{"$nulls":3},"Other short TTT courses","Advanced Life Support (ALS), Basic Life Support (BLS) or other specific courses","Simulation courses",null,null,"No",null,"I give lectures","Perform work-based interactive teaching (operating room)","Running clinical case discussions","Involved in simulation sessions","Teach informally, during every day work",null,null,"Using visual aids","Interactive teaching",null,null,"Giving feedback",{"$nulls":3},"Yes","No","I am an examiner for the final exam",null,"I occasionally carry out assessment during the residency program (Direct Observation of Procedural Skills - DOPS)","I give feedback during simulation sessions",{"$nulls":7},"No, it is assumed as being a part of everyday work",null,"Lack of training","Lack of time",null,null,"Overloaded with work","Lack of opportunity",{"$nulls":4},"I do not know","I do not know much","No","No",null,"Competency (outcome) based curriculum",null,"National body responsible for education (Ministry of health or education, National board for anaesthesia …)","They just have to complete the residency program (3-5 years)",null,"Written and oral examination, but also OSCE (Objective Structured Clinical Examination)"]
[12989506887,408998795,"2021-09-23T11:53:21","2021-09-02T19:19:29","94.134.92.83",{"$nulls":4},"41-50","Male","Germany","Germany","Europe","16-20",5,"Senior specialist","Specialized clinic","Yes (please refer to Q10)","Every day","11-15",null,"Obligatory teaching courses for University teachers","ESAIC Teach the Teacher (TTT) courses",null,null,"Simulation courses",null,null,"No",null,"I give lectures","Perform work-based interactive teaching (operating room)","Running clinical case discussions",null,"Teach informally, during every day work","Journalclub online","Planning and preparation for teaching session","Using visual aids","Interactive teaching","Problem based learning","Teaching the skills","Giving feedback","Organizing and leading the discussions","Organizing specific sessions (journal clubs, interactive sessions, pro and con debate…)",null,"Yes","Yes",null,"I am European Diploma in Anaesthesia and Intensive Care (EDAIC) part II examiner",null,"I give feedback during simulation sessions","I give feedback during everyday work","I am involved in other forms of formative assessment (for example multisource feedback)",{"$nulls":4},"Yes, I have a more visible position in the department",{"$nulls":3},"Lack of time",null,null,"Overloaded with work",{"$nulls":5},"Yes","Yes, I am well informed","Yes","No",null,"Content based curriculum",null,"Department of anaesthesiology","They have to pass a national board exam",null,"It is only oral examination"]
[12989511689,408998795,"2021-09-23T09:28:05","2021-09-02T18:51:18","80.131.121.25",{"$nulls":4},"41-50","Female","Romania","Germany","Europe","11-15",5,"Other","General hospital","No (please refer to Q21)",{"$nulls":50},"I work with residents, but I do not see that as teaching",null,"I do not know","I have no knowledge of what it is","I am not sure","I am not sure",null,"Classic surgical specialties based curriculum",null,"National body responsible for education (Ministry of health or education, National board for anaesthesia …)","They have to pass a national board exam",null,"It is only oral examination"]
[12989495931,408998795,"2021-09-23T11:46:20","2021-09-23T11:58:24","179.217.11.173",{"$nulls":4},"50+","Male","Brazil","Brazil","South America","over 20 years",3,"Teacher (in University)","Academic hospital (Teaching or University related)","Yes (please refer to Q10)","Once a week","over 16","Master in Medical Education",null,null,"Other short TTT courses","Advanced Life Support (ALS), Basic Life Support (BLS) or other specific courses","Simulation courses",null,null,"Yes, some elements, but not systematically",null,"I give lectures",{"$nulls":5},"Planning and preparation for teaching session","Using visual aids","Interactive teaching","Problem based learning",null,null,"Organizing and leading the discussions","Organizing specific sessions (journal clubs, interactive sessions, pro and con debate…)",null,"Yes","Yes",null,null,"I occasionally carry out assessment during the residency program (Direct Observation of Procedural Skills - DOPS)","I give feedback during simulation sessions",{"$nulls":7},"No, it is assumed as being a part of everyday work",{"$nulls":3},"Lack of motivation","No recognition",null,"Lack of opportunity","Lack of organization",{"$nulls":3},"Yes","Yes, I am well informed","No","Yes",null,"Classic surgical specialties based curriculum",null,"National body responsible for education (Ministry of health or education, National board for anaesthesia …)","They have to pass a national board exam",null,"Written and oral examination"]
[12989504733,408998795,"2021-09-23T11:48:53","2021-09-23T11:57:50","98.242.217.162",{"$nulls":4},"50+","Male","Venezuela (Bolivarian Republic of)","United States of America","North America","over 20 years",4,"Chief of Department","Private hospital","Yes (please refer to Q10)","Once a week","Less than 5",{"$nulls":4},"Advanced Life Support (ALS), Basic Life Support (BLS) or other specific courses",{"$nulls":3},"Yes, some elements, but not systematically",null,"I give lectures",null,"Running clinical case discussions",{"$nulls":3},"Planning and preparation for teaching session","Using visual aids","Interactive teaching","Problem based learning",null,"Giving feedback","Organizing and leading the discussions","Organizing specific sessions (journal clubs, interactive sessions, pro and con debate…)",null,"No","Yes",{"$nulls":5},"I am involved in other forms of formative assessment (for example multisource feedback)",{"$nulls":5},"No, it is assumed as being a part of everyday work",{"$nulls":5},"Overloaded with work",{"$nulls":3},"Other (please specify)","I feel responsible to teach the next generation","Yes","Yes, I am well informed","No","I am not sure",null,"Competency (outcome) based curriculum",null,"National body responsible for education (Ministry of health or education, National board for anaesthesia …)","They just have to complete the residency program (3-5 years)",null,"Written and oral examination"]
[12989502569,408998795,"2021-09-23T11:51:16","2021-09-02T18:30:46","91.58.28.123",{"$nulls":4},"41-50","Male","Germany","Germany","Europe","16-20",5,"Senior specialist","Specialized clinic","Yes (please refer to Q10)","When in the operating theater (always have an allocated resident)","Less than 5",{"$nulls":6},"None",null,"Other (please specify)","I am not sure","I give lectures","Perform work-based interactive teaching (operating room)",{"$nulls":4},"Planning and preparation for teaching session","Using visual aids",{"$nulls":5},"Organizing specific sessions (journal clubs, interactive sessions, pro and con debate…)",null,"Yes","Yes",{"$nulls":4},"I give feedback during everyday work",{"$nulls":5},"Yes, I have a more visible position in the department",{"$nulls":3},"Lack of time","Lack of motivation",null,"Overloaded with work",{"$nulls":5},"Yes","Yes, I am well informed","No","Yes","01/30/2021","Competency (outcome) based curriculum",null,"Department of anaesthesiology","They have to pass a national board exam",null,"It is only oral examination"]
[12989509814,408998795,"2021-09-23T11:55:15","2021-09-02T18:29:30","93.200.119.118",{"$nulls":4},"36-40","Male","Belgium","Germany","Europe","11-15","Over 5","Specialist","General hospital","Yes (please refer to Q10)","Almost every day","Less than 5",{"$nulls":3},"Other short TTT courses",null,"Simulation courses",null,null,"No",null,null,"Perform work-based interactive teaching (operating room)",null,null,"Teach informally, during every day work",null,"Planning and preparation for teaching session","Using visual aids",null,"Problem based learning",null,"Giving feedback",{"$nulls":3},"Yes","Yes",{"$nulls":4},"I give feedback during everyday work",{"$nulls":5},"Yes, I have a more visible position in the department",{"$nulls":7},"Lack of opportunity",{"$nulls":4},"Yes","I have some ideas, but it is not clear to me","I am not sure","No",null,"Content based curriculum",null,"Department of anaesthesiology","They have to pass a national board exam",null,"It is only oral examination"]
[12989485312,408998795,"2021-09-23T11:40:43","2021-09-23T11:49:08","175.107.235.71",{"$nulls":4},"36-40","Male","Pakistan","Pakistan","Asia","5-10",5,"Senior resident","Academic hospital (Teaching or University related)","Yes (please refer to Q10)","Almost every day","Less than 5",{"$nulls":4},"Advanced Life Support (ALS), Basic Life Support (BLS) or other specific courses","Simulation courses",null,null,"No",null,"I give lectures","Perform work-based interactive teaching (operating room)","Running clinical case discussions","Involved in simulation sessions",null,null,"Planning and preparation for teaching session",null,"Interactive teaching","Problem based learning","Teaching the skills","Giving feedback","Organizing and leading the discussions","Organizing specific sessions (journal clubs, interactive sessions, pro and con debate…)",null,"Yes","No",null,null,"I occasionally carry out assessment during the residency program (Direct Observation of Procedural Skills - DOPS)","I give feedback during simulation sessions",null,"I am involved in other forms of formative assessment (for example multisource feedback)",{"$nulls":4},"Yes, I have a more visible position in the department","No, it is assumed as being a part of everyday work",null,"Lack of training","Lack of time","Lack of motivation","No recognition","Overloaded with work",null,"Lack of organization",null,"I work with residents, but I do not see that as teaching",null,"Yes","Yes, I am well informed","No","Yes","05/27/2018","Competency (outcome) based curriculum",null,"National body responsible for education (Ministry of health or education, National board for anaesthesia …)","They have to pass a university board exam",null,"Written, oral examination and some practical assessment"]
[12989421328,408998795,"2021-09-23T10:59:32","2021-09-02T18:28:04","95.168.120.36",{"$nulls":4},"41-50","Male","Germany","Germany","Europe","16-20",5,"Specialist","Academic hospital (Teaching or University related)","Yes (please refer to Q10)","Almost every day","6-10",{"$nulls":3},"Other short TTT courses","Advanced Life Support (ALS), Basic Life Support (BLS) or other specific courses","Simulation courses",null,null,"No",null,null,"Perform work-based interactive teaching (operating room)","Running clinical case discussions","Involved in simulation sessions","Teach informally, during every day work",{"$nulls":4},"Problem based learning","Teaching the skills","Giving feedback",{"$nulls":3},"Yes","Yes",{"$nulls":3},"I give feedback during simulation sessions","I give feedback during everyday work",{"$nulls":3},"Yes, I am paid more",{"$nulls":5},"Lack of time",{"$nulls":8},"Yes","I have some ideas, but it is not clear to me","No","Yes",null,"Competency (outcome) based curriculum",null,"Department of anaesthesiology","They have to pass a national board exam",null,"It is only oral examination"]
[12989477614,408998795,"2021-09-23T11:36:39","2021-09-02T18:24:43","77.64.145.156",{"$nulls":4},"36-40","Male","Czech Republic","Germany","Europe","11-15",5,"Senior specialist","Academic hospital (Teaching or University related)","Yes (please refer to Q10)","Every day","Less than 5",{"$nulls":6},"None",null,"Yes",null,null,"Perform work-based interactive teaching (operating room)","Running clinical case discussions",{"$nulls":6},"Problem based learning","Teaching the skills","Giving feedback",{"$nulls":3},"No","No",{"$nulls":4},"I give feedback during everyday work",{"$nulls":6},"No, it is assumed as being a part of everyday work",null,null,"Lack of time",null,null,"Overloaded with work",null,"Lack of organization",{"$nulls":3},"Yes","I do not know much","Yes","No",null,"Classic surgical specialties based curriculum",null,"National body responsible for education (Ministry of health or education, National board for anaesthesia …)","They have to pass a national board exam",null,"It is only oral examination"]
[12989463923,408998795,"2021-09-23T11:28:39","2021-09-02T18:19:37","212.145.134.204",{"$nulls":4},"41-50","Female","Germany","Germany","Europe","over 20 years",5,"Teacher (in University)","Academic hospital (Teaching or University related)","Yes (please refer to Q10)","Almost every day","11-15",null,"Obligatory teaching courses for University teachers",null,"Other short TTT courses",null,"Simulation courses",null,null,"Yes, some elements, but not systematically",null,"I give lectures","Perform work-based interactive teaching (operating room)",null,"Involved in simulation sessions","Teach informally, during every day work",null,"Planning and preparation for teaching session","Using visual aids","Interactive teaching","Problem based learning","Teaching the skills","Giving feedback",null,"Organizing specific sessions (journal clubs, interactive sessions, pro and con debate…)",null,"Yes","Yes",null,null,"I occasionally carry out assessment during the residency program (Direct Observation of Procedural Skills - DOPS)","I give feedback during simulation sessions","I give feedback during everyday work",{"$nulls":6},"No, it is assumed as being a part of everyday work",{"$nulls":4},"No recognition","Overloaded with work",{"$nulls":5},"No","Yes, I am well informed","No","Yes","05/01/2021","Competency (outcome) based curriculum",null,"Department of anaesthesiology","They have to pass a national board exam",null,"It is only oral examination"]
[12989476346,408998795,"2021-09-23T11:36:08","2021-09-02T18:13:46","87.139.157.117",{"$nulls":4},"36-40","Male","Germany","Germany","Europe","11-15",5,"Senior specialist","General hospital","Yes (please refer to Q10)","Every day","6-10",{"$nulls":6},"None",null,"No",null,null,"Perform work-based interactive teaching (operating room)","Running clinical case discussions",null,"Teach informally, during every day work",{"$nulls":4},"Problem based learning","Teaching the skills","Giving feedback",{"$nulls":3},"No","No",{"$nulls":4},"I give feedback during everyday work",{"$nulls":6},"No, it is assumed as being a part of everyday work",null,null,"Lack of time",null,"No recognition",null,"Lack of opportunity","Lack of organization",{"$nulls":3},"Yes","I do not know much","No","I am not sure",null,"Classic surgical specialties based curriculum",null,"Society or association of anaesthesiology","They have to pass a national board exam",null,"It is only oral examination"]
[12989471269,408998795,"2021-09-23T11:32:14","2021-09-23T11:33:57","122.106.68.252",{"$nulls":4},"50+","Female",{"$nulls":3},"over 20 years",4,"Specialist","Academic hospital (Teaching or University related)","Yes (please refer to Q10)"]
[12989453959,408998795,"2021-09-23T11:21:05","2021-09-23T11:31:30","196.132.138.38",{"$nulls":4},"41-50","Female","Egypt","Egypt","Africa","16-20",4,"Specialist","Academic hospital (Teaching or University related)","Yes (please refer to Q10)","When in the operating theater (always have an allocated resident)","Less than 5",{"$nulls":3},"Other short TTT courses",{"$nulls":4},"No",{"$nulls":5},"Teach informally, during every day work",{"$nulls":4},"Problem based learning","Teaching the skills",{"$nulls":4},"No","No",{"$nulls":5},"I am involved in other forms of formative assessment (for example multisource feedback)",{"$nulls":6},"No",null,"Lack of time",null,null,"Overloaded with work",null,"Lack of organization",{"$nulls":3},"Yes","I have no knowledge of what it is","No","I am not sure",null,"Other (please specify)","Very haphazard","National body responsible for education (Ministry of health or education, National board for anaesthesia …)","They have to pass a university board exam",null,"Written, oral examination and some practical assessment"]
[12989452579,408998795,"2021-09-23T11:21:15","2021-09-30T05:59:18","94.66.82.38",{"$nulls":4},"41-50","Male","Greece","Greece","Europe","11-15",5,"Senior specialist","Academic hospital (Teaching or University related)","Yes (please refer to Q10)","Every day","6-10",null,null,"ESAIC Teach the Teacher (TTT) courses",null,"Advanced Life Support (ALS), Basic Life Support (BLS) or other specific courses","Simulation courses",null,null,"No",null,"I give lectures","Perform work-based interactive teaching (operating room)","Running clinical case discussions","Involved in simulation sessions","Teach informally, during every day work",null,"Planning and preparation for teaching session","Using visual aids","Interactive teaching","Problem based learning","Teaching the skills","Giving feedback","Organizing and leading the discussions","Organizing specific sessions (journal clubs, interactive sessions, pro and con debate…)",null,"No","Yes",null,"I am European Diploma in Anaesthesia and Intensive Care (EDAIC) part II examiner",null,"I give feedback during simulation sessions","I give feedback during everyday work",{"$nulls":6},"No, it is assumed as being a part of everyday work",null,null,"Lack of time",null,null,"Overloaded with work",{"$nulls":5},"Yes","Yes, I am well informed","No","No",null,"Content based curriculum",null,"National body responsible for education (Ministry of health or education, National board for anaesthesia …)","They have to pass a national board exam",null,"Written and oral examination"]
[12989464606,408998795,"2021-09-23T11:28:36","2021-09-29T11:09:41","80.134.203.88",{"$nulls":4},"25-30","Female","Greece","Greece","Europe","5-10",5,"Senior resident","Academic hospital (Teaching or University related)","No (please refer to Q21)"]
[12989454763,408998795,"2021-09-23T11:22:54","2021-09-28T20:24:02","85.73.69.147",{"$nulls":4},"50+","Male","Greece","Greece","Europe","11-15","Over 5","Specialist","General hospital","No (please refer to Q21)"]
[12989454443,408998795,"2021-09-23T11:22:12","2021-09-26T16:26:19","94.66.59.182",{"$nulls":4},"36-40","Female","Greece","Greece","Europe","11-15",5,"Teacher (in University)","Academic hospital (Teaching or University related)","Yes (please refer to Q10)"]
[12989454012,408998795,"2021-09-23T11:22:18","2021-09-25T11:49:09","62.1.222.238",{"$nulls":4},"41-50","Female","Greece","Greece","Europe","11-15",5,"Specialist","Specialized clinic","Yes (please refer to Q10)"]
[12989346587,408998795,"2021-09-23T10:12:28","2021-09-24T11:03:18","5.203.207.115",{"$nulls":4},"41-50","Female","Greece","Greece","Europe","5-10",5,"Senior resident","General hospital","No (please refer to Q21)",{"$nulls":50},"I work in a non-teaching hospital",null,"Yes","I do not know much","Yes","I am not sure",null,"I do not know",null,"Hospital administration","They have to pass a national board exam",null,"Written and oral examination"]
[12989439195,408998795,"2021-09-23T11:09:59","2021-09-23T22:31:31","46.103.69.64",{"$nulls":4},"41-50","Female","Greece","Greece","Europe","over 20 years",5,"Chief of Department","Academic hospital (Teaching or University related)","Yes (please refer to Q10)","Almost every day","over 16",null,null,"ESAIC Teach the Teacher (TTT) courses",null,"Advanced Life Support (ALS), Basic Life Support (BLS) or other specific courses","Simulation courses",null,null,"No",null,"I give lectures","Perform work-based interactive teaching (operating room)",null,"Involved in simulation sessions","Teach informally, during every day work",null,"Planning and preparation for teaching session","Using visual aids","Interactive teaching","Problem based learning","Teaching the skills","Giving feedback","Organizing and leading the discussions","Organizing specific sessions (journal clubs, interactive sessions, pro and con debate…)",null,"Yes","No",null,"I am European Diploma in Anaesthesia and Intensive Care (EDAIC) part II examiner",null,"I give feedback during simulation sessions","I give feedback during everyday work",{"$nulls":5},"Yes, I have a more visible position in the department",{"$nulls":3},"Lack of time",null,null,"Overloaded with work",null,"Lack of organization",null,"Other (please specify)","I am involved, this question does not apply to me","Yes","Yes, I am well informed","Yes","No",null,"Other (please specify)","Time based, it is obligatory by national regulations","Society or association of anaesthesiology","They have to pass a national board exam",null,"Written and oral examination"]
[12989440516,408998795,"2021-09-23T11:14:08","2021-09-23T21:14:07","85.73.251.120",{"$nulls":4},"41-50","Female","Greece","Greece","Europe","16-20",5,"Senior specialist","General hospital","No (please refer to Q21)",{"$nulls":50},"I am not employed by the university",null,"Yes","I have some ideas, but it is not clear to me","Yes","I am not sure",null,"Content based curriculum",null,"National body responsible for education (Ministry of health or education, National board for anaesthesia …)","They have to pass a national board exam",null,"Written and oral examination"]
[12989447916,408998795,"2021-09-23T11:17:31","2021-09-23T11:19:50","189.156.44.54",{"$nulls":4},"50+","Male","Mexico","Mexico","North America","over 20 years",5,"Teacher (in University)","Academic hospital (Teaching or University related)","Yes (please refer to Q10)"]
[12937839707,408998795,"2021-09-02T18:15:53","2021-09-23T18:35:10","2.87.88.144",{"$nulls":4},"41-50","Male","Greece","Greece","Europe","11-15",5,"Senior specialist","General hospital","Yes (please refer to Q10)","Less than once a week","6-10",null,null,"ESAIC Teach the Teacher (TTT) courses","Other short TTT courses","Advanced Life Support (ALS), Basic Life Support (BLS) or other specific courses","Simulation courses",null,"MIni Fellowship in Medical Simulation University of Toledo, Ohio, USA","No",null,"I give lectures","Perform work-based interactive teaching (operating room)","Running clinical case discussions",null,"Teach informally, during every day work",null,"Planning and preparation for teaching session","Using visual aids","Interactive teaching","Problem based learning","Teaching the skills","Giving feedback","Organizing and leading the discussions",null,null,"Yes","No",{"$nulls":3},"I give feedback during simulation sessions","I give feedback during everyday work",{"$nulls":6},"No, it is assumed as being a part of everyday work",null,null,"Lack of time","Lack of motivation","No recognition",null,"Lack of opportunity","Lack of organization",{"$nulls":3},"Yes","Yes, I am well informed","Yes","No",null,"Classic surgical specialties based curriculum",null,"National body responsible for education (Ministry of health or education, National board for anaesthesia …)","They have to pass a national board exam",null,"Written and oral examination"]
[12989425173,408998795,"2021-09-23T10:56:20","2021-09-23T17:02:00","141.237.113.2",{"$nulls":4},"50+","Female","Greece","Greece","Europe","over 20 years","Over 5","Senior specialist","Academic hospital (Teaching or University related)","No (please refer to Q21)",{"$nulls":50},"Other (please specify)","Work on Pediatric Intensive Care re","I do not know","I do not know much","No","I am not sure",null,"I do not know",null,"National body responsible for education (Ministry of health or education, National board for anaesthesia …)","They have to pass a national board exam",null,"Written, oral examination and some practical assessment"]
[12989436168,408998795,"2021-09-23T11:11:30","2021-09-23T11:27:25","5.203.243.0",{"$nulls":4},"50+","Female","Greece","Greece","Europe","over 20 years","Over 5","Specialist","General hospital","Yes (please refer to Q10)","Almost every day","11-15",null,null,"ESAIC Teach the Teacher (TTT) courses",{"$nulls":5},"No",null,"I give lectures","Perform work-based interactive teaching (operating room)","Running clinical case discussions",null,"Teach informally, during every day work",{"$nulls":3},"Interactive teaching","Problem based learning","Teaching the skills","Giving feedback","Organizing and leading the discussions","Organizing specific sessions (journal clubs, interactive sessions, pro and con debate…)",null,"No","No",{"$nulls":6},"I am not involved in any kind of assessment",{"$nulls":5},"No",null,"Lack of time",null,"No recognition","Overloaded with work",{"$nulls":5},"Yes","Yes, I am well informed","Yes","I am not sure",null,"Competency (outcome) based curriculum",null,"Society or association of anaesthesiology","They have to pass a national board exam",null,"Written and oral examination"]
[12989429531,408998795,"2021-09-23T11:07:23","2021-09-23T11:12:58","154.181.175.14",{"$nulls":4},"41-50","Male","Egypt","Egypt","Africa","11-15",5,"Chief of Department","General hospital","Yes (please refer to Q10)","When in the operating theater (always have an allocated resident)","6-10","Master in Medical Education","Obligatory teaching courses for University teachers",null,"Other short TTT courses","Advanced Life Support (ALS), Basic Life Support (BLS) or other specific courses",null,null,"T2T","No",{"$nulls":3},"Running clinical case discussions",null,"Teach informally, during every day work",null,null,"Using visual aids","Interactive teaching",null,null,"Giving feedback",{"$nulls":3},"Yes","Yes",{"$nulls":6},"I am not involved in any kind of assessment",{"$nulls":4},"No, it is assumed as being a part of everyday work",null,"Lack of training","Lack of time","Lack of motivation","No recognition","Overloaded with work","Lack of opportunity","Lack of organization",null,"I am not employed by the university",null,"No","I have some ideas, but it is not clear to me","No","No",null,"I do not know",null,"Hospital administration","They just have to complete the residency program (3-5 years)",null,"Written, oral examination and some practical assessment"]
[12989428038,408998795,"2021-09-23T11:06:40","2021-09-23T09:10:31","62.74.12.76",{"$nulls":4},"36-40","Female","Greece","Greece","Europe","5-10",5,"Specialist","General hospital","Yes (please refer to Q10)","Almost every day","Less than 5",{"$nulls":4},"Advanced Life Support (ALS), Basic Life Support (BLS) or other specific courses",{"$nulls":3},"No",null,"I give lectures","Perform work-based interactive teaching (operating room)",null,null,"Teach informally, during every day work",null,"Planning and preparation for teaching session",null,null,"Problem based learning","Teaching the skills",{"$nulls":4},"No","Yes",{"$nulls":4},"I give feedback during everyday work",{"$nulls":6},"No, it is assumed as being a part of everyday work",null,null,"Lack of time","Lack of motivation","No recognition",null,"Lack of opportunity",{"$nulls":4},"I do not know","I do not know much","I am not sure","I am not sure",null,"Content based curriculum",null,"National body responsible for education (Ministry of health or education, National board for anaesthesia …)","They have to pass a national board exam",null,"Written and oral examination"]
[12989424706,408998795,"2021-09-23T11:04:45","2021-09-23T08:30:34","77.49.14.144",{"$nulls":4},"41-50","Male","Greece","Greece","Europe","11-15",5,"Specialist","General hospital","No (please refer to Q21)",{"$nulls":50},"I work in a non-teaching hospital",null,"Yes","Yes, I am well informed","Yes","No",null,"Classic surgical specialties based curriculum",null,"National body responsible for education (Ministry of health or education, National board for anaesthesia …)","They have to pass a national board exam",null,"Written and oral examination"]
[12989388596,408998795,"2021-09-23T10:41:39","2021-09-23T10:54:09","188.66.190.34",{"$nulls":4},"36-40","Male","Egypt","Oman","Asia","11-15",3,"Senior resident","General hospital","Yes (please refer to Q10)","Once a week","11-15",{"$nulls":3},"Other short TTT courses","Advanced Life Support (ALS), Basic Life Support (BLS) or other specific courses",{"$nulls":3},"No",null,null,"Perform work-based interactive teaching (operating room)",{"$nulls":4},"Planning and preparation for teaching session",null,"Interactive teaching",null,"Teaching the skills",{"$nulls":4},"Yes","Yes",{"$nulls":4},"I give feedback during everyday work",{"$nulls":7},"No",null,null,"Lack of motivation",null,"Overloaded with work",{"$nulls":3},"I work in a non-teaching hospital",null,"Yes","I do not know much","No","No",null,"I do not know",null,"I do not know","They have to pass a university board exam",null,"Written, oral examination and some practical assessment"]
[12989385863,408998795,"2021-09-23T10:39:44","2021-09-23T08:26:42","87.202.73.42",{"$nulls":4},"50+","Female","Greece","Greece","Europe","over 20 years",5,"Senior specialist","General hospital","Yes (please refer to Q10)","Every day","over 16",{"$nulls":3},"Other short TTT courses","Advanced Life Support (ALS), Basic Life Support (BLS) or other specific courses","Simulation courses",null,null,"Yes, some elements, but not systematically",null,"I give lectures","Perform work-based interactive teaching (operating room)","Running clinical case discussions","Involved in simulation sessions",null,null,"Planning and preparation for teaching session","Using visual aids","Interactive teaching","Problem based learning","Teaching the skills","Giving feedback","Organizing and leading the discussions","Organizing specific sessions (journal clubs, interactive sessions, pro and con debate…)",null,"Yes","Yes",{"$nulls":3},"I give feedback during simulation sessions","I give feedback during everyday work",{"$nulls":7},"No",null,"Lack of time",null,"No recognition","Overloaded with work",{"$nulls":5},"Yes","Yes, I am well informed","Yes","No",null,"Content based curriculum",null,"National body responsible for education (Ministry of health or education, National board for anaesthesia …)","They have to pass a national board exam",null,"Written and oral examination","EDAIC1"]
[12989391853,408998795,"2021-09-23T10:43:49","2021-09-23T08:23:35","188.73.243.136",{"$nulls":4},"41-50","Male","Greece","Greece","Europe","16-20",5,"Specialist","General hospital","No (please refer to Q21)",{"$nulls":50},"I work with residents, but I do not see that as teaching",null,"I do not know","Yes, I am well informed","Yes","I am not sure",null,"Classic surgical specialties based curriculum",null,"National body responsible for education (Ministry of health or education, National board for anaesthesia …)","They have to pass a national board exam",null,"Written and oral examination"]
[12989232870,408998795,"2021-09-23T08:55:10","2021-09-23T10:49:48","37.186.43.0",{"$nulls":4},"36-40","Male","Libya","Qatar","Asia","11-15",5,"Specialist","Academic hospital (Teaching or University related)","Yes (please refer to Q10)","Almost every day","Less than 5",{"$nulls":4},"Advanced Life Support (ALS), Basic Life Support (BLS) or other specific courses",{"$nulls":3},"Yes, some elements, but not systematically",null,null,"Perform work-based interactive teaching (operating room)","Running clinical case discussions",null,"Teach informally, during every day work",{"$nulls":3},"Interactive teaching","Problem based learning",null,null,"Organizing and leading the discussions","Organizing specific sessions (journal clubs, interactive sessions, pro and con debate…)",null,"No","No",null,null,"I occasionally carry out assessment during the residency program (Direct Observation of Procedural Skills - DOPS)",null,null,"I am involved in other forms of formative assessment (for example multisource feedback)",{"$nulls":5},"No, it is assumed as being a part of everyday work",null,"Lack of training",{"$nulls":4},"Lack of opportunity","Lack of organization",null,"I am not employed by the university",null,"Yes","I do not know much","I am not sure","I am not sure",null,"Content based curriculum",null,"University","They have to pass a national board exam",null,"Written and oral examination, but also OSCE (Objective Structured Clinical Examination)"]
[12989388789,408998795,"2021-09-23T10:42:07","2021-09-23T08:11:58","62.74.61.184",{"$nulls":4},"50+","Female","Greece","Greece","Europe","over 20 years",5,"Chief of Department","General hospital","Yes (please refer to Q10)","Almost every day","over 16",null,"Obligatory teaching courses for University teachers",null,null,"Advanced Life Support (ALS), Basic Life Support (BLS) or other specific courses","Simulation courses",null,null,"Yes",null,null,"Perform work-based interactive teaching (operating room)",null,"Involved in simulation sessions",{"$nulls":3},"Using visual aids","Interactive teaching","Problem based learning",null,"Giving feedback","Organizing and leading the discussions","Organizing specific sessions (journal clubs, interactive sessions, pro and con debate…)",null,"Yes","Yes","I am an examiner for the final exam",null,null,"I give feedback during simulation sessions","I give feedback during everyday work",{"$nulls":6},"No, it is assumed as being a part of everyday work",{"$nulls":5},"Overloaded with work",{"$nulls":5},"Yes","Yes, I am well informed","Yes","No",null,"Classic surgical specialties based curriculum",null,"Society or association of anaesthesiology","They have to pass a national board exam",null,"Written and oral examination"]
[12989380654,408998795,"2021-09-23T10:34:44","2021-09-23T10:47:10","223.227.24.56",{"$nulls":4},"31-35","Female","India","India","Asia","5-10",3,"Specialist","Academic hospital (Teaching or University related)","Yes (please refer to Q10)","Every day","Less than 5",{"$nulls":6},"None",null,"No",null,"I give lectures","Perform work-based interactive teaching (operating room)","Running clinical case discussions",null,"Teach informally, during every day work",null,"Planning and preparation for teaching session","Using visual aids","Interactive teaching","Problem based learning","Teaching the skills","Giving feedback","Organizing and leading the discussions","Organizing specific sessions (journal clubs, interactive sessions, pro and con debate…)",null,"No","Yes",{"$nulls":4},"I give feedback during everyday work","I am involved in other forms of formative assessment (for example multisource feedback)",{"$nulls":3},"Yes, it is recognised for promotion in academia.",{"$nulls":13},"I do not know","I know what is it, but outcome-based education is not implemented in my country","No","No",null,"Content based curriculum",null,"National body responsible for education (Ministry of health or education, National board for anaesthesia …)","They have to pass a university board exam",null,"Written and oral examination"]
[12989377575,408998795,"2021-09-23T10:33:49","2021-09-18T22:11:22","45.139.215.175",{"$nulls":4},"41-50","Female","Greece","Greece","Europe","16-20",5,"Specialist","Academic hospital (Teaching or University related)","Yes (please refer to Q10)","Almost every day","6-10",{"$nulls":4},"Advanced Life Support (ALS), Basic Life Support (BLS) or other specific courses","Simulation courses",null,"PhD","Yes, some elements, but not systematically",null,null,"Perform work-based interactive teaching (operating room)","Running clinical case discussions",null,"Teach informally, during every day work","Quality Assurance (QA) discussions","Planning and preparation for teaching session",{"$nulls":4},"Giving feedback","Organizing and leading the discussions",null,null,"Yes","Yes",{"$nulls":4},"I give feedback during everyday work",{"$nulls":7},"No","Lack of training","Lack of time",null,null,"Overloaded with work",{"$nulls":5},"Yes","I do not know much","Yes","No",null,"Classic surgical specialties based curriculum",null,"National body responsible for education (Ministry of health or education, National board for anaesthesia …)","They have to pass a national board exam",null,"Written and oral examination"]
[12989380446,408998795,"2021-09-23T10:35:25","2021-09-23T10:45:41","128.14.66.33",{"$nulls":4},"41-50","Female","Turkey","Qatar","Asia","11-15","Over 5","Senior specialist","Academic hospital (Teaching or University related)","Yes (please refer to Q10)","When in the operating theater (always have an allocated resident)","over 16",{"$nulls":6},"None",null,"Yes",null,"I give lectures","Perform work-based interactive teaching (operating room)","Running clinical case discussions",null,"Teach informally, during every day work",null,"Planning and preparation for teaching session","Using visual aids","Interactive teaching","Problem based learning","Teaching the skills","Giving feedback","Organizing and leading the discussions",null,null,"Yes","No","I am an examiner for the final exam",{"$nulls":3},"I give feedback during everyday work",{"$nulls":3},"Yes, I am paid more","Yes, it is recognised for promotion in academia.","Yes, I have a more visible position in the department",null,null,"Lack of training",null,"Lack of motivation","No recognition","Overloaded with work","Lack of opportunity","Lack of organization",null,"I work in a non-teaching hospital",null,"Yes","I do not know much","No","Yes","06/27/2020","Content based curriculum",null,"National body responsible for education (Ministry of health or education, National board for anaesthesia …)","They have to pass a national board exam",null,"Written and oral examination, but also OSCE (Objective Structured Clinical Examination)"]
[12989389857,408998795,"2021-09-23T10:43:13","2021-09-23T10:45:38","157.37.150.132",{"$nulls":4},"25-30","Female","India","India","Asia","5-10",3,"Senior resident","Private hospital","Yes (please refer to Q10)","Once a week","Less than 5",{"$nulls":6},"None",null,"No",null,"I give lectures",{"$nulls":6},"Using visual aids","Interactive teaching",{"$nulls":3},"Organizing and leading the discussions","Organizing specific sessions (journal clubs, interactive sessions, pro and con debate…)",null,"No","Yes",{"$nulls":6},"I am not involved in any kind of assessment",{"$nulls":5},"No","Lack of training","Lack of time","Lack of motivation"]
[12989265501,408998795,"2021-09-23T09:17:57","2021-09-23T10:43:12","93.112.169.145",{"$nulls":4},"36-40","Male","Egypt","Saudi Arabia","Asia","16-20",3,"Lecturer","Academic hospital (Teaching or University related)","Yes (please refer to Q10)","Every day","over 16",null,"Obligatory teaching courses for University teachers",{"$nulls":6},"No",null,"I give lectures","Perform work-based interactive teaching (operating room)","Running clinical case discussions",null,"Teach informally, during every day work",null,"Planning and preparation for teaching session","Using visual aids","Interactive teaching","Problem based learning","Teaching the skills","Giving feedback",{"$nulls":3},"Yes","Yes","I am an examiner for the final exam",null,"I occasionally carry out assessment during the residency program (Direct Observation of Procedural Skills - DOPS)",null,null,"I am involved in other forms of formative assessment (for example multisource feedback)",{"$nulls":3},"Yes, it is recognised for promotion in academia.",null,"No, it is assumed as being a part of everyday work",null,null,"Lack of time",null,null,"Overloaded with work",null,"Lack of organization",{"$nulls":3},"Yes","I know what is it, but outcome-based education is not implemented in my country","No","I am not sure",null,"Content based curriculum",null,"University","They have to pass a university board exam",null,"Written and oral examination, but also OSCE (Objective Structured Clinical Examination)"]
[12989380166,408998795,"2021-09-23T10:34:51","2021-09-23T10:41:35","185.202.221.27",{"$nulls":4},"50+","Female","Philippines","Philippines","Asia","over 20 years",3,"Senior specialist","General hospital","Yes (please refer to Q10)","Once a week","over 16",{"$nulls":3},"Other short TTT courses","Advanced Life Support (ALS), Basic Life Support (BLS) or other specific courses","Simulation courses",null,null,"Yes, some elements, but not systematically",null,"I give lectures","Perform work-based interactive teaching (operating room)","Running clinical case discussions","Involved in simulation sessions","Teach informally, during every day work",null,"Planning and preparation for teaching session","Using visual aids","Interactive teaching","Problem based learning","Teaching the skills","Giving feedback","Organizing and leading the discussions","Organizing specific sessions (journal clubs, interactive sessions, pro and con debate…)",null,"Yes","Yes",null,null,"I occasionally carry out assessment during the residency program (Direct Observation of Procedural Skills - DOPS)","I give feedback during simulation sessions","I give feedback during everyday work","I am involved in other forms of formative assessment (for example multisource feedback)",{"$nulls":4},"Yes, I have a more visible position in the department",{"$nulls":3},"Lack of time",null,null,"Overloaded with work"]
[12989377603,408998795,"2021-09-23T10:34:35","2021-09-12T06:50:45","94.64.23.86",{"$nulls":4},"50+","Male","Greece","Greece","Europe","over 20 years",5,"Senior specialist","Academic hospital (Teaching or University related)","Yes (please refer to Q10)","Every day","11-15",{"$nulls":4},"Advanced Life Support (ALS), Basic Life Support (BLS) or other specific courses",{"$nulls":3},"No",null,"I give lectures","Perform work-based interactive teaching (operating room)",null,"Involved in simulation sessions","Teach informally, during every day work",null,"Planning and preparation for teaching session","Using visual aids","Interactive teaching",null,null,"Giving feedback","Organizing and leading the discussions",null,null,"Yes","Yes",null,null,"I occasionally carry out assessment during the residency program (Direct Observation of Procedural Skills - DOPS)",{"$nulls":8},"No, it is assumed as being a part of everyday work",null,"Lack of training","Lack of time","Lack of motivation",{"$nulls":3},"Lack of organization",{"$nulls":3},"Yes","I have some ideas, but it is not clear to me","Yes","No",null,"Content based curriculum",null,"Department of anaesthesiology","They have to pass a national board exam",null,"Written and oral examination"]
[12989370234,408998795,"2021-09-23T10:27:57","2021-09-23T10:38:49","168.149.119.201",{"$nulls":4},"50+","Male","Saudi Arabia","Saudi Arabia","Asia","over 20 years","Over 5","Teacher (in University)","Academic hospital (Teaching or University related)","Yes (please refer to Q10)","Almost every day","over 16",null,"Obligatory teaching courses for University teachers",null,null,"Advanced Life Support (ALS), Basic Life Support (BLS) or other specific courses","Simulation courses",null,null,"No",null,null,"Perform work-based interactive teaching (operating room)","Running clinical case discussions",null,"Teach informally, during every day work",null,"Planning and preparation for teaching session","Using visual aids","Interactive teaching","Problem based learning","Teaching the skills","Giving feedback","Organizing and leading the discussions","Organizing specific sessions (journal clubs, interactive sessions, pro and con debate…)",null,"No","Yes","I am an examiner for the final exam",null,"I occasionally carry out assessment during the residency program (Direct Observation of Procedural Skills - DOPS)","I give feedback during simulation sessions","I give feedback during everyday work",{"$nulls":6},"No, it is assumed as being a part of everyday work",null,null,"Lack of time","Lack of motivation","No recognition","Overloaded with work","Lack of opportunity","Lack of organization",{"$nulls":3},"Yes","I know what is it, but outcome-based education is not implemented in my country","No","Yes","10/01/1999","Competency (outcome) based curriculum",null,"Department of anaesthesiology","They have to pass a national board exam",null,"Written and oral examination, but also OSCE (Objective Structured Clinical Examination)"]
[12989368944,408998795,"2021-09-23T10:28:16","2021-09-06T23:07:57","94.66.136.110",{"$nulls":4},"31-35","Female","Greece","Greece","Europe","5-10",5,"Specialist","Academic hospital (Teaching or University related)","Yes (please refer to Q10)","Less than once a week","Less than 5",{"$nulls":4},"Advanced Life Support (ALS), Basic Life Support (BLS) or other specific courses","Simulation courses",null,null,"No",null,"I give lectures","Perform work-based interactive teaching (operating room)","Running clinical case discussions","Involved in simulation sessions","Teach informally, during every day work",null,"Planning and preparation for teaching session",{"$nulls":3},"Teaching the skills","Giving feedback",null,"Organizing specific sessions (journal clubs, interactive sessions, pro and con debate…)",null,"Yes","No",{"$nulls":3},"I give feedback during simulation sessions","I give feedback during everyday work",{"$nulls":7},"No","Lack of training","Lack of time",null,null,"Overloaded with work",null,"Lack of organization",{"$nulls":3},"Yes","I know what is it, but outcome-based education is not implemented in my country","No","No",null,"Content based curriculum",null,"Department of anaesthesiology","They have to pass a national board exam",null,"Written and oral examination"]
[12989375281,408998795,"2021-09-23T10:33:01","2021-09-06T10:15:48","62.74.12.57",{"$nulls":4},"50+","Female","Greece","Greece","Europe","over 20 years","Over 5","Specialist","Specialized clinic","Yes (please refer to Q10)","Every day","over 16",{"$nulls":4},"Advanced Life Support (ALS), Basic Life Support (BLS) or other specific courses",{"$nulls":3},"No",null,null,"Perform work-based interactive teaching (operating room)",null,null,"Teach informally, during every day work",{"$nulls":3},"Interactive teaching",{"$nulls":6},"No","No",{"$nulls":4},"I give feedback during everyday work",{"$nulls":6},"No, it is assumed as being a part of everyday work",{"$nulls":5},"Overloaded with work",null,"Lack of organization",null,"I work with residents, but I do not see that as teaching"]
[12989366650,408998795,"2021-09-23T10:27:07","2021-09-05T01:32:44","62.74.47.124",{"$nulls":4},"50+","Female","Greece","Greece","Europe","over 20 years",5,"Chief of Department","Specialized clinic","Yes (please refer to Q10)","Almost every day","over 16",{"$nulls":3},"Other short TTT courses",null,"Simulation courses",null,null,"No",null,"I give lectures","Perform work-based interactive teaching (operating room)","Running clinical case discussions",null,"Teach informally, during every day work",null,"Planning and preparation for teaching session","Using visual aids","Interactive teaching","Problem based learning","Teaching the skills",null,null,"Organizing specific sessions (journal clubs, interactive sessions, pro and con debate…)",null,"Yes","Yes","I am an examiner for the final exam",null,"I occasionally carry out assessment during the residency program (Direct Observation of Procedural Skills - DOPS)",null,null,"I am involved in other forms of formative assessment (for example multisource feedback)",{"$nulls":5},"No, it is assumed as being a part of everyday work",null,"Lack of training","Lack of time",null,"No recognition","Overloaded with work",{"$nulls":5},"Yes","Yes, I am well informed","Yes","No",null,"Content based curriculum",null,"Society or association of anaesthesiology","They just have to complete the residency program (3-5 years)"]
[12989370055,408998795,"2021-09-23T10:29:25","2021-09-23T10:33:20","49.37.183.94",{"$nulls":4},"31-35","Female","India","India","Asia","5-10",3,"Specialist","Academic hospital (Teaching or University related)","Yes (please refer to Q10)","Less than once a week","Less than 5",null,"Obligatory teaching courses for University teachers",null,null,"Advanced Life Support (ALS), Basic Life Support (BLS) or other specific courses",{"$nulls":3},"Yes",null,"I give lectures","Perform work-based interactive teaching (operating room)","Running clinical case discussions","Involved in simulation sessions","Teach informally, during every day work",null,"Planning and preparation for teaching session","Using visual aids","Interactive teaching","Problem based learning","Teaching the skills",null,null,"Organizing specific sessions (journal clubs, interactive sessions, pro and con debate…)",null,"Yes","Yes",{"$nulls":3},"I give feedback during simulation sessions","I give feedback during everyday work","I am involved in other forms of formative assessment (for example multisource feedback)",{"$nulls":5},"No, it is assumed as being a part of everyday work",null,null,"Lack of time",null,"No recognition","Overloaded with work","Lack of opportunity",{"$nulls":4},"Yes","Yes, I am well informed","No","Yes","06/01/2016","Competency (outcome) based curriculum",null,"National body responsible for education (Ministry of health or education, National board for anaesthesia …)","They have to pass a university board exam",null,"VIVA (Oral examination), written and OSCE examination"]
[12989369354,408998795,"2021-09-23T10:26:51","2021-09-04T18:32:24","79.103.137.73",{"$nulls":4},"41-50","Male","Greece","Greece","Europe","11-15",5,"Senior specialist","General hospital","No (please refer to Q21)",{"$nulls":50},"I work in a non-teaching hospital",null,"Yes","Yes, I am well informed","Yes","No",null,"Classic surgical specialties based curriculum",null,"Department of anaesthesiology","They have to pass a national board exam",null,"Written and oral examination"]
[12989335122,408998795,"2021-09-23T10:02:20","2021-09-23T10:16:35","196.168.204.82",{"$nulls":4},"36-40","Male","Togo","Togo","Africa","5-10","Less than 3","Senior resident","Academic hospital (Teaching or University related)","Yes (please refer to Q10)","Every day","Less than 5",{"$nulls":6},"None",null,"No",{"$nulls":4},"Involved in simulation sessions",null,null,"Planning and preparation for teaching session",{"$nulls":8},"No","Yes","I am an examiner for the final exam",{"$nulls":11},"No",null,"Lack of time",{"$nulls":6},"I am not employed by the university"]
[12989334785,408998795,"2021-09-23T10:04:36","2021-09-04T17:12:40","176.58.144.242",{"$nulls":4},"50+","Female","Greece","Greece","Europe","over 20 years",5,"Senior specialist","Specialized clinic","Yes (please refer to Q10)","When in the operating theater (always have an allocated resident)","over 16",{"$nulls":6},"None",null,"Yes, some elements, but not systematically",null,"I give lectures",null,"Running clinical case discussions","Involved in simulation sessions",{"$nulls":3},"Using visual aids","Interactive teaching",{"$nulls":3},"Organizing and leading the discussions",null,null,"Yes","Yes",null,"I am European Diploma in Anaesthesia and Intensive Care (EDAIC) part II examiner",null,"I give feedback during simulation sessions","I give feedback during everyday work",{"$nulls":6},"No, it is assumed as being a part of everyday work",null,"Lack of training","Lack of time",null,"No recognition","Overloaded with work",{"$nulls":3},"I am not employed by the university",null,"Yes","I do not know much","No","I am not sure",null,"Classic surgical specialties based curriculum",null,"National body responsible for education (Ministry of health or education, National board for anaesthesia …)","They have to pass a national board exam",null,"Written and oral examination"]
[12989333883,408998795,"2021-09-23T10:02:58","2021-09-03T13:03:59","195.130.88.219",{"$nulls":4},"36-40","Female","Greece","Greece","Europe","11-15",5,"Specialist","Academic hospital (Teaching or University related)","Yes (please refer to Q10)","Every day","6-10",null,null,"ESAIC Teach the Teacher (TTT) courses","Other short TTT courses","Advanced Life Support (ALS), Basic Life Support (BLS) or other specific courses",null,null,"PhD","Yes, some elements, but not systematically",null,"I give lectures","Perform work-based interactive teaching (operating room)","Running clinical case discussions",null,"Teach informally, during every day work","ATLS instructor","Planning and preparation for teaching session","Using visual aids","Interactive teaching",null,"Teaching the skills","Giving feedback","Organizing and leading the discussions",null,null,"Yes","Yes",null,null,"I occasionally carry out assessment during the residency program (Direct Observation of Procedural Skills - DOPS)",null,"I give feedback during everyday work",{"$nulls":6},"No, it is assumed as being a part of everyday work",null,null,"Lack of time",null,"No recognition","Overloaded with work",null,"Lack of organization",{"$nulls":3},"Yes","I have some ideas, but it is not clear to me","Yes","I am not sure",null,"Classic surgical specialties based curriculum",null,"Society or association of anaesthesiology","They have to pass a national board exam",null,"Written and oral examination"]
[12989330810,408998795,"2021-09-23T10:02:38","2021-09-23T10:05:46","5.195.224.113",{"$nulls":4},"36-40","Male","India","United Arab Emirates","Asia","5-10",3,"Specialist","Private hospital","No (please refer to Q21)",{"$nulls":50},"I work in a non-teaching hospital",null,"I do not know","I have some ideas, but it is not clear to me","No","Yes",null,"I do not know",null,"Department of anaesthesiology","They have to pass a university board exam",null,"VIVA (Oral examination), written and OSCE examination"]
[12989320712,408998795,"2021-09-23T09:55:27","2021-09-03T10:53:36","94.71.25.89",{"$nulls":4},"41-50","Female","Greece","Greece","Europe","16-20",5,"Specialist","Academic hospital (Teaching or University related)","Yes (please refer to Q10)","When in the operating theater (always have an allocated resident)","11-15",null,null,"ESAIC Teach the Teacher (TTT) courses","Other short TTT courses","Advanced Life Support (ALS), Basic Life Support (BLS) or other specific courses","Simulation courses",null,null,"No",null,"I give lectures","Perform work-based interactive teaching (operating room)",null,"Involved in simulation sessions","Teach informally, during every day work",null,"Planning and preparation for teaching session","Using visual aids","Interactive teaching","Problem based learning","Teaching the skills","Giving feedback","Organizing and leading the discussions",null,null,"Yes","No",{"$nulls":3},"I give feedback during simulation sessions","I give feedback during everyday work",null,null,"EDRA examiner",{"$nulls":3},"No, it is assumed as being a part of everyday work",null,null,"Lack of time","Lack of motivation",null,"Overloaded with work",null,"Lack of organization",{"$nulls":3},"Yes","Yes, I am well informed","Yes","No",null,"Content based curriculum",null,"National body responsible for education (Ministry of health or education, National board for anaesthesia …)","They have to pass a national board exam",null,"Written and oral examination"]
[12989293928,408998795,"2021-09-23T09:38:19","2021-09-03T09:32:01","188.73.245.196",{"$nulls":4},"41-50","Female","Greece","Greece","Europe","16-20",5,"Senior specialist","Academic hospital (Teaching or University related)","Yes (please refer to Q10)","Every day","11-15",null,null,"ESAIC Teach the Teacher (TTT) courses",null,"Advanced Life Support (ALS), Basic Life Support (BLS) or other specific courses","Simulation courses",null,null,"Yes, some elements, but not systematically",null,"I give lectures","Perform work-based interactive teaching (operating room)",null,"Involved in simulation sessions","Teach informally, during every day work",null,"Planning and preparation for teaching session","Using visual aids","Interactive teaching","Problem based learning","Teaching the skills","Giving feedback",null,"Organizing specific sessions (journal clubs, interactive sessions, pro and con debate…)",null,"Yes","Yes",null,null,"I occasionally carry out assessment during the residency program (Direct Observation of Procedural Skills - DOPS)","I give feedback during simulation sessions","I give feedback during everyday work","I am involved in other forms of formative assessment (for example multisource feedback)",{"$nulls":5},"No, it is assumed as being a part of everyday work",{"$nulls":3},"Lack of motivation","No recognition","Overloaded with work","Lack of opportunity",{"$nulls":4},"Yes","I have some ideas, but it is not clear to me","Yes","I am not sure",null,"Content based curriculum",null,"National body responsible for education (Ministry of health or education, National board for anaesthesia …)","They have to pass a national board exam",null,"Written and oral examination"]
[12989322959,408998795,"2021-09-23T09:56:41","2021-09-03T09:03:39","31.152.186.157",{"$nulls":4},"41-50","Male","Greece","Greece","Europe","11-15",5,"Specialist","Academic hospital (Teaching or University related)","Yes (please refer to Q10)","Every day","6-10",null,null,"ESAIC Teach the Teacher (TTT) courses",null,"Advanced Life Support (ALS), Basic Life Support (BLS) or other specific courses","Simulation courses",null,null,"No",null,"I give lectures","Perform work-based interactive teaching (operating room)","Running clinical case discussions","Involved in simulation sessions","Teach informally, during every day work",null,"Planning and preparation for teaching session","Using visual aids","Interactive teaching","Problem based learning","Teaching the skills","Giving feedback","Organizing and leading the discussions","Organizing specific sessions (journal clubs, interactive sessions, pro and con debate…)",null,"Yes","Yes",null,null,"I occasionally carry out assessment during the residency program (Direct Observation of Procedural Skills - DOPS)","I give feedback during simulation sessions","I give feedback during everyday work","I am involved in other forms of formative assessment (for example multisource feedback)",{"$nulls":6},"No",null,"Lack of time","Lack of motivation",null,null,"Lack of opportunity",{"$nulls":4},"Yes","Yes, I am well informed","Yes","No",null,"Classic surgical specialties based curriculum",null,"I do not know","They have to pass a national board exam",null,"Written and oral examination"]
[12989322014,408998795,"2021-09-23T09:57:06","2021-09-03T08:37:52","5.203.175.58",{"$nulls":4},"41-50","Male","Greece","Greece","Europe","5-10",5,"Senior specialist","General hospital","Yes (please refer to Q10)","Every day","6-10",null,null,"ESAIC Teach the Teacher (TTT) courses",null,"Advanced Life Support (ALS), Basic Life Support (BLS) or other specific courses",{"$nulls":3},"No",null,"I give lectures",null,"Running clinical case discussions",null,"Teach informally, during every day work",null,"Planning and preparation for teaching session","Using visual aids","Interactive teaching","Problem based learning",null,"Giving feedback",null,"Organizing specific sessions (journal clubs, interactive sessions, pro and con debate…)",null,"Yes","Yes",null,"I am European Diploma in Anaesthesia and Intensive Care (EDAIC) part II examiner","I occasionally carry out assessment during the residency program (Direct Observation of Procedural Skills - DOPS)",{"$nulls":8},"No, it is assumed as being a part of everyday work",null,null,"Lack of time","Lack of motivation","No recognition","Overloaded with work",null,"Lack of organization",null,"I work with residents, but I do not see that as teaching",null,"Yes","Yes, I am well informed","Yes","No",null,"Content based curriculum",null,"National body responsible for education (Ministry of health or education, National board for anaesthesia …)","They have to pass a national board exam",null,"Written and oral examination"]
[12989316861,408998795,"2021-09-23T09:53:03","2021-09-03T06:56:20","94.66.136.181",{"$nulls":4},"41-50","Female","Greece","Greece","Europe","over 20 years",5,"Senior specialist","Academic hospital (Teaching or University related)","Yes (please refer to Q10)","When in the operating theater (always have an allocated resident)","over 16",null,null,"ESAIC Teach the Teacher (TTT) courses","Other short TTT courses","Advanced Life Support (ALS), Basic Life Support (BLS) or other specific courses","Simulation courses",null,"Master in Adult Education","No",null,"I give lectures","Perform work-based interactive teaching (operating room)",null,"Involved in simulation sessions","Teach informally, during every day work",null,"Planning and preparation for teaching session","Using visual aids","Interactive teaching",null,"Teaching the skills","Giving feedback","Organizing and leading the discussions","Organizing specific sessions (journal clubs, interactive sessions, pro and con debate…)",null,"No","Yes",{"$nulls":3},"I give feedback during simulation sessions","I give feedback during everyday work",{"$nulls":7},"No",null,"Lack of time",null,"No recognition","Overloaded with work",null,"Lack of organization",{"$nulls":3},"Yes","Yes, I am well informed","Yes","No",null,"Other (please specify)","Time based","National body responsible for education (Ministry of health or education, National board for anaesthesia …)","They have to pass a national board exam",null,"Written and oral examination"]
[12989305501,408998795,"2021-09-23T09:42:43","2021-09-02T22:39:09","46.177.2.96",{"$nulls":4},"36-40","Female","Greece","Greece","Europe","5-10",5,"Specialist","Academic hospital (Teaching or University related)","Yes (please refer to Q10)","When in the operating theater (always have an allocated resident)","Less than 5",{"$nulls":4},"Advanced Life Support (ALS), Basic Life Support (BLS) or other specific courses",{"$nulls":3},"Yes, some elements, but not systematically",null,null,"Perform work-based interactive teaching (operating room)","Running clinical case discussions",{"$nulls":3},"Planning and preparation for teaching session","Using visual aids","Interactive teaching","Problem based learning",{"$nulls":5},"Yes","Yes",{"$nulls":4},"I give feedback during everyday work",{"$nulls":6},"No, it is assumed as being a part of everyday work",null,null,"Lack of time","Lack of motivation",null,"Overloaded with work",null,"Lack of organization",{"$nulls":3},"I do not know","I do not know much","I am not sure","No",null,"I do not know",null,"National body responsible for education (Ministry of health or education, National board for anaesthesia …)","They have to pass a national board exam",null,"Written and oral examination"]
[12989306644,408998795,"2021-09-23T09:46:37","2021-09-02T22:33:45","94.66.136.30",{"$nulls":4},"41-50","Male","Greece","Greece","Europe","16-20",5,"Other","Private hospital","Yes (please refer to Q10)","Once a week","11-15",{"$nulls":4},"Advanced Life Support (ALS), Basic Life Support (BLS) or other specific courses",{"$nulls":3},"No",null,null,"Perform work-based interactive teaching (operating room)",null,"Involved in simulation sessions",{"$nulls":4},"Interactive teaching","Problem based learning","Teaching the skills",{"$nulls":4},"Yes","Yes",null,null,"I occasionally carry out assessment during the residency program (Direct Observation of Procedural Skills - DOPS)","I give feedback during simulation sessions",{"$nulls":7},"No, it is assumed as being a part of everyday work",null,null,"Lack of time",null,null,"Overloaded with work",null,"Lack of organization"]
[12989308869,408998795,"2021-09-23T09:48:20","2021-09-02T22:04:26","79.131.68.74",{"$nulls":4},"50+","Female","Greece","Greece","Europe","over 20 years",4,"Senior specialist","Specialized clinic","Yes (please refer to Q10)","When in the operating theater (always have an allocated resident)","over 16",{"$nulls":4},"Advanced Life Support (ALS), Basic Life Support (BLS) or other specific courses","Simulation courses",null,null,"No",null,"I give lectures","Perform work-based interactive teaching (operating room)",null,null,"Teach informally, during every day work",null,"Planning and preparation for teaching session","Using visual aids","Interactive teaching","Problem based learning","Teaching the skills","Giving feedback",{"$nulls":3},"Yes","No",null,null,"I occasionally carry out assessment during the residency program (Direct Observation of Procedural Skills - DOPS)",null,"I give feedback during everyday work",null,null,"Involved in  Cardiothoracic  Anesthesia  training  program of  EACTA esthesia",{"$nulls":3},"No, it is assumed as being a part of everyday work",null,null,"Lack of time",null,null,"Overloaded with work",{"$nulls":5},"Yes","I have some ideas, but it is not clear to me","Yes","Yes",null,"Content based curriculum",null,"Society or association of anaesthesiology","They have to pass a national board exam",null,"Written and oral examination"]
[12989307669,408998795,"2021-09-23T09:47:26","2021-09-02T20:15:34","62.1.49.148",{"$nulls":4},"41-50","Female","Greece","Greece","Europe","11-15",5,"Senior specialist","General hospital","Yes (please refer to Q10)","Almost every day","6-10",{"$nulls":4},"Advanced Life Support (ALS), Basic Life Support (BLS) or other specific courses","Simulation courses",null,null,"No",null,"I give lectures","Perform work-based interactive teaching (operating room)","Running clinical case discussions","Involved in simulation sessions","Teach informally, during every day work",null,"Planning and preparation for teaching session","Using visual aids","Interactive teaching",null,"Teaching the skills","Giving feedback","Organizing and leading the discussions",null,null,"No","No",{"$nulls":3},"I give feedback during simulation sessions","I give feedback during everyday work",{"$nulls":6},"No, it is assumed as being a part of everyday work",null,null,"Lack of time","Lack of motivation","No recognition","Overloaded with work",{"$nulls":5},"No","I do not know much","I am not sure","No",null,"I do not know",null,"I do not know","They have to pass a national board exam",null,"Written and oral examination"]
[12989301337,408998795,"2021-09-23T09:43:33","2021-09-02T20:11:33","109.178.173.189",{"$nulls":4},"41-50","Female","Greece","Greece","Europe","over 20 years",5,"Senior specialist","General hospital","Yes (please refer to Q10)","Almost every day","over 16","Master in Medical Education",{"$nulls":3},"Advanced Life Support (ALS), Basic Life Support (BLS) or other specific courses",{"$nulls":3},"No",null,"I give lectures","Perform work-based interactive teaching (operating room)","Running clinical case discussions",null,"Teach informally, during every day work",null,"Planning and preparation for teaching session","Using visual aids",null,"Problem based learning","Teaching the skills",null,null,"Organizing specific sessions (journal clubs, interactive sessions, pro and con debate…)",null,"Yes","Yes",null,null,"I occasionally carry out assessment during the residency program (Direct Observation of Procedural Skills - DOPS)",{"$nulls":6},"Yes, it is recognised for promotion in academia.",{"$nulls":4},"Lack of time",null,null,"Overloaded with work",{"$nulls":5},"Yes","I know what is it, but outcome-based education is not implemented in my country","No","No",null,"Content based curriculum",null,"National body responsible for education (Ministry of health or education, National board for anaesthesia …)","They have to pass a national board exam",null,"Written and oral examination"]
[12989297657,408998795,"2021-09-23T09:39:40","2021-09-02T19:15:28","109.178.145.191",{"$nulls":4},"41-50","Female","Greece","Greece","Europe","5-10",5,"Lecturer","Academic hospital (Teaching or University related)","Yes (please refer to Q10)","When in the operating theater (always have an allocated resident)","Less than 5",null,"Obligatory teaching courses for University teachers",null,null,"Advanced Life Support (ALS), Basic Life Support (BLS) or other specific courses",{"$nulls":3},"Yes",null,"I give lectures","Perform work-based interactive teaching (operating room)",null,null,"Teach informally, during every day work",null,"Planning and preparation for teaching session","Using visual aids",null,"Problem based learning",{"$nulls":5},"Yes","Yes",null,null,"I occasionally carry out assessment during the residency program (Direct Observation of Procedural Skills - DOPS)",null,"I give feedback during everyday work",{"$nulls":6},"No, it is assumed as being a part of everyday work",null,null,"Lack of time","Lack of motivation","No recognition","Overloaded with work",{"$nulls":5},"Yes","I know what is it, but outcome-based education is not implemented in my country","I am not sure","No",null,"Classic surgical specialties based curriculum",null,"Society or association of anaesthesiology","They just have to complete the residency program (3-5 years)",null,"Written and oral examination"]
[12989298546,408998795,"2021-09-23T09:41:33","2021-09-23T09:45:36","42.111.136.221",{"$nulls":4},"31-35","Male","India","India","Asia","5-10",4,"Specialist","Private hospital","Yes (please refer to Q10)","Once a week","Less than 5",null,"Obligatory teaching courses for University teachers",null,null,"Advanced Life Support (ALS), Basic Life Support (BLS) or other specific courses","Simulation courses",null,null,"No",null,"I give lectures","Perform work-based interactive teaching (operating room)","Running clinical case discussions",null,"Teach informally, during every day work",{"$nulls":3},"Interactive teaching","Problem based learning","Teaching the skills",null,"Organizing and leading the discussions","Organizing specific sessions (journal clubs, interactive sessions, pro and con debate…)",null,"No","No",null,null,"I occasionally carry out assessment during the residency program (Direct Observation of Procedural Skills - DOPS)","I give feedback during simulation sessions",{"$nulls":7},"No, it is assumed as being a part of everyday work",{"$nulls":4},"No recognition","Overloaded with work",null,"Lack of organization",null,"I work with residents, but I do not see that as teaching",null,"Yes","Yes, I am well informed","No","No",null,"Classic surgical specialties based curriculum",null,"National body responsible for education (Ministry of health or education, National board for anaesthesia …)","They have to pass a national board exam",null,"Written and oral examination, but also OSCE (Objective Structured Clinical Examination)"]
[12989291623,408998795,"2021-09-23T09:36:19","2021-09-02T18:51:28","109.178.166.19",{"$nulls":4},"41-50","Female","Greece","Greece","Europe","16-20",5,"Specialist","General hospital","Yes (please refer to Q10)","Almost every day","Less than 5",{"$nulls":6},"None",null,"No",null,null,"Perform work-based interactive teaching (operating room)",null,null,"Teach informally, during every day work",null,"Planning and preparation for teaching session",null,"Interactive teaching","Problem based learning",null,"Giving feedback",{"$nulls":3},"Yes","No",{"$nulls":6},"I am not involved in any kind of assessment",{"$nulls":4},"No, it is assumed as being a part of everyday work",null,"Lack of training",null,"Lack of motivation",null,"Overloaded with work",null,"Lack of organization",{"$nulls":3},"No","I know what is it, but outcome-based education is not implemented in my country","I am not sure","No",null,"Competency (outcome) based curriculum",null,"Society or association of anaesthesiology","They have to pass a national board exam",null,"Written and oral examination"]
[12989288917,408998795,"2021-09-23T09:30:59","2021-09-02T18:47:10","5.203.232.182",{"$nulls":4},"50+","Male","Greece","Greece","Europe","over 20 years","Over 5","Chief of Department","Academic hospital (Teaching or University related)","Yes (please refer to Q10)","Almost every day","6-10",{"$nulls":4},"Advanced Life Support (ALS), Basic Life Support (BLS) or other specific courses",{"$nulls":3},"No, but students are exposed to outcome based teaching",{"$nulls":3},"Running clinical case discussions",{"$nulls":3},"Planning and preparation for teaching session","Using visual aids","Interactive teaching",null,null,"Giving feedback",{"$nulls":3},"Yes","No",{"$nulls":4},"I give feedback during everyday work",{"$nulls":6},"No, it is assumed as being a part of everyday work",null,null,"Lack of time",null,"No recognition","Overloaded with work",null,"Lack of organization",null,"I am not employed by the university",null,"Yes","I know what is it, but outcome-based education is not implemented in my country","Yes","No",null,"Content based curriculum",null,"Hospital administration","They have to pass a university board exam",null,"Written and oral examination"]
[12989298479,408998795,"2021-09-23T09:40:21","2021-09-02T18:27:34","46.176.182.138",{"$nulls":4},"36-40","Female","Greece","Greece","Europe","11-15",5,"Specialist","Private hospital","No (please refer to Q21)",{"$nulls":50},"I work in a non-teaching hospital"]
[12989290763,408998795,"2021-09-23T09:36:13","2021-09-02T18:22:08","5.203.219.33",{"$nulls":4},"50+","Female","Greece","Greece","Europe","over 20 years",4,"Chief of Department","Private hospital","No (please refer to Q21)",{"$nulls":52},"Yes","Yes, I am well informed","Yes","No",null,"Content based curriculum",null,"Society or association of anaesthesiology","They have to pass a national board exam",null,"Written and oral examination","Written + thesis at the end"]
[12989269094,408998795,"2021-09-23T09:05:57","2021-09-02T18:13:30","94.66.136.225",{"$nulls":4},"25-30","Male","Greece","Greece","Europe","5-10",5,"Trainee","Academic hospital (Teaching or University related)","No (please refer to Q21)",{"$nulls":50},"I am not employed by the university",null,"I do not know","I do not know much","Yes","I am not sure"]
[12989288575,408998795,"2021-09-23T09:33:36","2021-09-02T18:07:50","46.20.163.150",{"$nulls":4},"41-50","Male","Greece","Greece","Europe","11-15",5,"Senior specialist","General hospital","Yes (please refer to Q10)","Almost every day","6-10",null,null,"ESAIC Teach the Teacher (TTT) courses","Other short TTT courses","Advanced Life Support (ALS), Basic Life Support (BLS) or other specific courses","Simulation courses",null,null,"No",null,null,"Perform work-based interactive teaching (operating room)","Running clinical case discussions",{"$nulls":5},"Interactive teaching","Problem based learning","Teaching the skills","Giving feedback",null,"Organizing specific sessions (journal clubs, interactive sessions, pro and con debate…)",null,"Yes","Yes",{"$nulls":3},"I give feedback during simulation sessions","I give feedback during everyday work",{"$nulls":6},"No, it is assumed as being a part of everyday work",{"$nulls":4},"No recognition",null,null,"Lack of organization",{"$nulls":3},"Yes","I know what is it, but outcome-based education is not implemented in my country","Yes","No",null,"Classic surgical specialties based curriculum",null,"National body responsible for education (Ministry of health or education, National board for anaesthesia …)","They have to pass a national board exam",null,"Written and oral examination","Oral and practical"]
[12989290250,408998795,"2021-09-23T09:34:58","2021-09-02T18:07:21","176.92.11.84",{"$nulls":4},"36-40","Female","Greece","Greece","Europe","5-10",5,"Specialist","General hospital","No (please refer to Q21)",{"$nulls":50},"I work with residents, but I do not see that as teaching"]
[12989272552,408998795,"2021-09-23T09:23:22","2021-09-23T09:13:07","80.99.190.235",{"$nulls":4},"50+","Male","Hungary","Hungary","Europe","over 20 years","Over 5","Chief of Department","Academic hospital (Teaching or University related)","Yes (please refer to Q10)","Every day","over 16",{"$nulls":3},"Other short TTT courses","Advanced Life Support (ALS), Basic Life Support (BLS) or other specific courses","Simulation courses",null,null,"Yes",null,"I give lectures","Perform work-based interactive teaching (operating room)","Running clinical case discussions","Involved in simulation sessions","Teach informally, during every day work",null,"Planning and preparation for teaching session","Using visual aids","Interactive teaching","Problem based learning","Teaching the skills","Giving feedback","Organizing and leading the discussions","Organizing specific sessions (journal clubs, interactive sessions, pro and con debate…)",null,"Yes","Yes",null,null,"I occasionally carry out assessment during the residency program (Direct Observation of Procedural Skills - DOPS)","I give feedback during simulation sessions","I give feedback during everyday work","I am involved in other forms of formative assessment (for example multisource feedback)",null,null,"Yes, I am paid more",null,"Yes, I have a more visible position in the department",{"$nulls":3},"Lack of time",null,null,"Overloaded with work",null,"Lack of organization",{"$nulls":3},"Yes","I have some ideas, but it is not clear to me","Yes","Yes",null,"Competency (outcome) based curriculum",null,"National body responsible for education (Ministry of health or education, National board for anaesthesia …)","They have to pass a national board exam",null,"Written and oral examination"]
[12989288713,408998795,"2021-09-23T09:34:39","2021-09-03T10:41:28","193.6.53.149",{"$nulls":4},"41-50","Female","Hungary","Hungary","Europe","11-15",5,"Lecturer","Academic hospital (Teaching or University related)","Yes (please refer to Q10)","When in the operating theater (always have an allocated resident)","6-10",{"$nulls":4},"Advanced Life Support (ALS), Basic Life Support (BLS) or other specific courses","Simulation courses",null,null,"No",null,null,"Perform work-based interactive teaching (operating room)",{"$nulls":6},"Interactive teaching",{"$nulls":6},"Yes","Yes",{"$nulls":6},"I am not involved in any kind of assessment",{"$nulls":5},"No",null,"Lack of time",null,"No recognition","Overloaded with work",null,"Lack of organization",{"$nulls":3},"Yes","I do not know much","No","No",null,"Other (please specify)","periods has to be spent in each area (eg: surery: abdominal, ENT and so on)","National body responsible for education (Ministry of health or education, National board for anaesthesia …)","They have to pass EDAIC part I",null,"Written and oral examination"]
[12989276752,408998795,"2021-09-23T09:26:17","2021-09-03T06:46:30","37.76.47.205",{"$nulls":4},"41-50","Male","Hungary","Hungary","Europe","over 20 years","Over 5","Chief of Department","Academic hospital (Teaching or University related)","Yes (please refer to Q10)","Almost every day","11-15",{"$nulls":4},"Advanced Life Support (ALS), Basic Life Support (BLS) or other specific courses","Simulation courses",null,null,"Yes, some elements, but not systematically",null,"I give lectures","Perform work-based interactive teaching (operating room)","Running clinical case discussions","Involved in simulation sessions","Teach informally, during every day work",null,"Planning and preparation for teaching session",null,null,"Problem based learning",null,"Giving feedback",{"$nulls":3},"No","Yes",null,null,"I occasionally carry out assessment during the residency program (Direct Observation of Procedural Skills - DOPS)",null,"I give feedback during everyday work",{"$nulls":6},"No, it is assumed as being a part of everyday work",null,null,"Lack of time",null,null,"Overloaded with work",null,"Lack of organization",null,"Other (please specify)","The answer was yes to No9","Yes","I know what is it, but outcome-based education is not implemented in my country","Yes","No",null,"Competency (outcome) based curriculum",null,"Society or association of anaesthesiology","They have to pass EDAIC part I",null,"Written and oral examination"]
[12989283069,408998795,"2021-09-23T09:30:45","2021-09-23T09:31:51","50.60.148.4",{"$nulls":4},"41-50","Male","Egypt","Saudi Arabia","Asia","over 20 years","Over 5","Chief of Department","Academic hospital (Teaching or University related)","Yes (please refer to Q10)"]
[12989281705,408998795,"2021-09-23T09:25:30","2021-09-02T21:25:22","37.76.48.63",{"$nulls":4},"36-40","Female","Hungary","Hungary","Europe","5-10",5,"Teacher (in University)","Academic hospital (Teaching or University related)","Yes (please refer to Q10)","Every day","6-10",null,null,"ESAIC Teach the Teacher (TTT) courses","Other short TTT courses","Advanced Life Support (ALS), Basic Life Support (BLS) or other specific courses",{"$nulls":3},"No",{"$nulls":4},"Involved in simulation sessions","Teach informally, during every day work",null,"Planning and preparation for teaching session",null,"Interactive teaching",null,null,"Giving feedback","Organizing and leading the discussions",null,null,"Yes","Yes",{"$nulls":3},"I give feedback during simulation sessions","I give feedback during everyday work",{"$nulls":6},"No, it is assumed as being a part of everyday work",null,null,"Lack of time",null,null,"Overloaded with work",{"$nulls":5},"Yes","I know what is it, but outcome-based education is not implemented in my country","I am not sure","No",null,"Content based curriculum",null,"University","They have to pass a national board exam",null,"Written, oral examination and some practical assessment"]
[12989239096,408998795,"2021-09-23T08:58:38","2021-09-02T20:52:25","91.82.7.244",{"$nulls":4},"50+","Male","Hungary","Hungary","Europe","over 20 years",5,"Senior specialist","General hospital","Yes (please refer to Q10)","Almost every day","over 16",{"$nulls":4},"Advanced Life Support (ALS), Basic Life Support (BLS) or other specific courses","Simulation courses",null,"ATLS, Airway management","Yes, some elements, but not systematically",null,"I give lectures","Perform work-based interactive teaching (operating room)",{"$nulls":5},"Using visual aids","Interactive teaching",null,"Teaching the skills","Giving feedback",{"$nulls":3},"No","Yes",{"$nulls":3},"I give feedback during simulation sessions","I give feedback during everyday work","I am involved in other forms of formative assessment (for example multisource feedback)",null,null,"Yes, I am paid more",{"$nulls":7},"No recognition","Overloaded with work",null,"Lack of organization",{"$nulls":3},"Yes","I know what is it, but outcome-based education is not implemented in my country","No","No",null,"Content based curriculum",null,"University","They have to pass EDAIC part I",null,"Written, oral examination and some practical assessment"]
[12989264377,408998795,"2021-09-23T09:13:59","2021-09-23T09:28:59","49.146.54.82",{"$nulls":4},"50+","Male","Philippines","Philippines","Asia","over 20 years",3,"Senior specialist","Academic hospital (Teaching or University related)","Yes (please refer to Q10)","Almost every day","over 16",{"$nulls":4},"Advanced Life Support (ALS), Basic Life Support (BLS) or other specific courses","Simulation courses",null,null,"Yes, some elements, but not systematically",null,"I give lectures","Perform work-based interactive teaching (operating room)","Running clinical case discussions","Involved in simulation sessions",null,null,"Planning and preparation for teaching session","Using visual aids","Interactive teaching","Problem based learning","Teaching the skills","Giving feedback","Organizing and leading the discussions",null,null,"Yes","Yes","I am an examiner for the final exam",null,"I occasionally carry out assessment during the residency program (Direct Observation of Procedural Skills - DOPS)","I give feedback during simulation sessions","I give feedback during everyday work",{"$nulls":5},"Yes, I have a more visible position in the department",null,null,"Lack of training","Lack of time",{"$nulls":4},"Lack of organization",{"$nulls":3},"Yes","Yes, I am well informed","Yes","I am not sure",null,"Competency (outcome) based curriculum",null,"Department of anaesthesiology","They have to pass a national board exam",null,"Written and oral examination"]
[12989261615,408998795,"2021-09-23T09:08:40","2021-09-02T19:13:31","145.236.146.93",{"$nulls":4},"36-40","Male","Hungary","Hungary","Europe","11-15",5,"Teacher (in University)","Academic hospital (Teaching or University related)","Yes (please refer to Q10)","Almost every day","6-10",null,null,"ESAIC Teach the Teacher (TTT) courses",null,"Advanced Life Support (ALS), Basic Life Support (BLS) or other specific courses","Simulation courses",null,null,"No",null,"I give lectures","Perform work-based interactive teaching (operating room)",null,"Involved in simulation sessions","Teach informally, during every day work",null,"Planning and preparation for teaching session","Using visual aids","Interactive teaching","Problem based learning","Teaching the skills","Giving feedback","Organizing and leading the discussions",null,null,"Yes","Yes",{"$nulls":3},"I give feedback during simulation sessions","I give feedback during everyday work",{"$nulls":3},"Yes, I am paid more","Yes, it is recognised for promotion in academia.","Yes, I have a more visible position in the department",{"$nulls":3},"Lack of time",null,null,"Overloaded with work",{"$nulls":3},"I work with residents, but I do not see that as teaching",null,"Yes","I have some ideas, but it is not clear to me","No","Yes",null,"Classic surgical specialties based curriculum",null,"National body responsible for education (Ministry of health or education, National board for anaesthesia …)","Other (please specify)","Written and oral exams. For written they must complete edaic part I","Written, oral examination and some practical assessment"]
[12989266910,408998795,"2021-09-23T09:18:35","2021-09-23T11:20:04","89.160.178.86",{"$nulls":4},"36-40","Female","Romania","Iceland","Europe","5-10",5,"Specialist","Specialized clinic","No (please refer to Q21)",{"$nulls":50},"Other (please specify)","I DON'T WORK, I WAITING FOR RECOGNITION OF MY SPECIALIST DIPLOMA. ","Yes","I do not know much","Yes","I am not sure",null,"Classic surgical specialties based curriculum",null,"I do not know","They have to pass EDAIC part I",null,"Written, oral examination and some practical assessment"]
[]
[]
[12989265888,408998795,"2021-09-23T09:18:41","2021-09-27T17:30:06","89.19.67.60",{"$nulls":4},"41-50","Male","Romania","Ireland","Europe","11-15",5,"Senior specialist","Academic hospital (Teaching or University related)","Yes (please refer to Q10)","When in the operating theater (always have an allocated resident)","Less than 5",{"$nulls":3},"Other short TTT courses","Advanced Life Support (ALS), Basic Life Support (BLS) or other specific courses","Simulation courses",null,null,"No",null,null,"Perform work-based interactive teaching (operating room)","Running clinical case discussions","Involved in simulation sessions","Teach informally, during every day work",null,"Planning and preparation for teaching session","Using visual aids",null,null,"Teaching the skills","Giving feedback","Organizing and leading the discussions","Organizing specific sessions (journal clubs, interactive sessions, pro and con debate…)",null,"Yes","Yes",null,null,"I occasionally carry out assessment during the residency program (Direct Observation of Procedural Skills - DOPS)","I give feedback during simulation sessions","I give feedback during everyday work",{"$nulls":6},"No, it is assumed as being a part of everyday work",null,null,"Lack of time","Lack of motivation",null,null,"Lack of opportunity",{"$nulls":4},"I do not know","Yes, I am well informed","Yes","I am not sure","09/27/2021","Content based curriculum",null,"National body responsible for education (Ministry of health or education, National board for anaesthesia …)","They have to pass a national board exam",null,"Written and oral examination, but also OSCE (Objective Structured Clinical Examination)"]
[12989266264,408998795,"2021-09-23T09:17:23","2021-09-23T11:16:00","93.107.207.242",{"$nulls":4},"41-50","Female","Iraq","Ireland","Europe","11-15","Over 5","Other","General hospital","No (please refer to Q21)",{"$nulls":50},"I work in a non-teaching hospital",null,"Yes","I do not know much","No","I am not sure",null,"I do not know",null,"University","They have to pass a university board exam",null,"Written and oral examination"]
[12989261723,408998795,"2021-09-23T09:16:14","2021-09-23T10:39:20","137.191.237.229",{"$nulls":4},"50+","Female","Ireland","Ireland","Europe","over 20 years","Over 5","Senior specialist","Academic hospital (Teaching or University related)","Yes (please refer to Q10)","Almost every day","over 16",{"$nulls":3},"Other short TTT courses","Advanced Life Support (ALS), Basic Life Support (BLS) or other specific courses","Simulation courses",null,null,"No",null,"I give lectures","Perform work-based interactive teaching (operating room)",null,"Involved in simulation sessions","Teach informally, during every day work",null,"Planning and preparation for teaching session","Using visual aids","Interactive teaching","Problem based learning","Teaching the skills","Giving feedback","Organizing and leading the discussions","Organizing specific sessions (journal clubs, interactive sessions, pro and con debate…)",null,"Yes","Yes",null,null,"I occasionally carry out assessment during the residency program (Direct Observation of Procedural Skills - DOPS)","I give feedback during simulation sessions","I give feedback during everyday work",{"$nulls":6},"No, it is assumed as being a part of everyday work",null,null,"Lack of time",null,null,"Overloaded with work",{"$nulls":5},"Yes","I have some ideas, but it is not clear to me","No","No",null,"Content based curriculum",null,"I do not know","They just have to complete the residency program (3-5 years)",null,"VIVA (Oral examination), written and OSCE examination"]
[12989258711,408998795,"2021-09-23T09:13:17","2021-09-23T09:20:27","37.228.214.148",{"$nulls":4},"41-50","Male","Egypt","Ireland","Europe","11-15",5,"Specialist","Academic hospital (Teaching or University related)","Yes (please refer to Q10)","Almost every day","6-10",null,null,"ESAIC Teach the Teacher (TTT) courses","Other short TTT courses","Advanced Life Support (ALS), Basic Life Support (BLS) or other specific courses","Simulation courses",null,null,"Yes",null,"I give lectures",null,"Running clinical case discussions","Involved in simulation sessions",{"$nulls":4},"Interactive teaching","Problem based learning","Teaching the skills","Giving feedback",null,"Organizing specific sessions (journal clubs, interactive sessions, pro and con debate…)",null,"Yes","Yes",{"$nulls":3},"I give feedback during simulation sessions","I give feedback during everyday work",{"$nulls":4},"Yes, it is recognised for promotion in academia.","Yes, I have a more visible position in the department","No, it is assumed as being a part of everyday work",null,null,"Lack of time",null,null,"Overloaded with work",{"$nulls":3},"I do not want to be involved in teaching residents because it is not paid",null,"Yes","Yes, I am well informed","Yes","Yes","12/01/2020","Content based curriculum",null,"University","They have to pass EDAIC part I",null,"VIVA (Oral examination), written and OSCE examination"]
[12989255546,408998795,"2021-09-23T09:11:28","2021-09-02T18:44:58","37.228.200.153",{"$nulls":4},"36-40","Male","Italy","Ireland","Europe","11-15",5,"Specialist","Academic hospital (Teaching or University related)","Yes (please refer to Q10)","Every day","6-10",null,null,"ESAIC Teach the Teacher (TTT) courses",null,"Advanced Life Support (ALS), Basic Life Support (BLS) or other specific courses",{"$nulls":3},"No",null,"I give lectures","Perform work-based interactive teaching (operating room)",null,null,"Teach informally, during every day work",null,"Planning and preparation for teaching session","Using visual aids","Interactive teaching","Problem based learning","Teaching the skills","Giving feedback","Organizing and leading the discussions","Organizing specific sessions (journal clubs, interactive sessions, pro and con debate…)",null,"Yes","Yes",null,null,"I occasionally carry out assessment during the residency program (Direct Observation of Procedural Skills - DOPS)",null,"I give feedback during everyday work",{"$nulls":6},"No, it is assumed as being a part of everyday work",{"$nulls":4},"No recognition","Overloaded with work",null,"Lack of organization",{"$nulls":3},"Yes","I have some ideas, but it is not clear to me","No","I am not sure",null,"Competency (outcome) based curriculum",null,"National body responsible for education (Ministry of health or education, National board for anaesthesia …)","They have to pass a national board exam",null,"Written and oral examination, but also OSCE (Objective Structured Clinical Examination)"]
[12989254052,408998795,"2021-09-23T09:09:07","2021-09-23T09:16:12","93.169.74.146",{"$nulls":4},"41-50","Female","Egypt","Saudi Arabia","Asia","over 20 years",3,"Senior specialist","Private hospital","No (please refer to Q21)",{"$nulls":50},"I work in a non-teaching hospital",null,"Yes","Yes, I am well informed","I am not sure","I am not sure",null,"Competency (outcome) based curriculum",null,"National body responsible for education (Ministry of health or education, National board for anaesthesia …)","They have to pass a university board exam",null,"Written and oral examination"]
[12989253690,408998795,"2021-09-23T09:09:48","2021-09-02T18:44:18","86.42.167.54",{"$nulls":4},"41-50","Male","Ireland","Ireland","Europe","over 20 years","Over 5","Specialist","Academic hospital (Teaching or University related)","Yes (please refer to Q10)"]
[12989248889,408998795,"2021-09-23T09:06:37","2021-09-02T18:35:22","212.129.75.15",{"$nulls":4},"50+","Male","India","Ireland","Europe","over 20 years",4,"Senior specialist","Academic hospital (Teaching or University related)","Yes (please refer to Q10)","When in the operating theater (always have an allocated resident)","11-15",{"$nulls":4},"Advanced Life Support (ALS), Basic Life Support (BLS) or other specific courses",{"$nulls":3},"No",null,null,"Perform work-based interactive teaching (operating room)",{"$nulls":8},"Teaching the skills",{"$nulls":4},"No","No",{"$nulls":6},"I am not involved in any kind of assessment",{"$nulls":4},"No, it is assumed as being a part of everyday work",null,"Lack of training","Lack of time","Lack of motivation","No recognition","Overloaded with work","Lack of opportunity","Lack of organization",null,"I work in a non-teaching hospital",null,"I do not know","I do not know much","I am not sure","I am not sure",null,"I do not know",null,"University","They have to pass a university board exam",null,"Written and oral examination, but also OSCE (Objective Structured Clinical Examination)"]
[12989243183,408998795,"2021-09-23T09:01:02","2021-09-02T18:14:58","86.123.127.210",{"$nulls":4},"50+","Female","Ireland","Ireland","Europe","over 20 years",5,"Teacher (in University)","Academic hospital (Teaching or University related)","Yes (please refer to Q10)","Every day","over 16",{"$nulls":4},"Advanced Life Support (ALS), Basic Life Support (BLS) or other specific courses",{"$nulls":3},"No",{"$nulls":5},"Teach informally, during every day work",{"$nulls":3},"Interactive teaching",null,null,"Giving feedback","Organizing and leading the discussions","Organizing specific sessions (journal clubs, interactive sessions, pro and con debate…)",null,"No","Yes","I am an examiner for the final exam","I am European Diploma in Anaesthesia and Intensive Care (EDAIC) part II examiner","I occasionally carry out assessment during the residency program (Direct Observation of Procedural Skills - DOPS)",null,"I give feedback during everyday work",{"$nulls":3},"Yes, I am paid more",{"$nulls":8},"Overloaded with work",{"$nulls":5},"Yes","Yes, I am well informed","Yes","No",null,"Competency (outcome) based curriculum",null,"National body responsible for education (Ministry of health or education, National board for anaesthesia …)","They have to pass a national board exam",null,"Written and oral examination, but also OSCE (Objective Structured Clinical Examination)"]
[12989244361,408998795,"2021-09-23T09:02:43","2021-09-25T15:07:38","93.36.160.242",{"$nulls":4},"41-50","Male","Italy","Italy","Europe","11-15",4,"Specialist","Academic hospital (Teaching or University related)","Yes (please refer to Q10)","Every day","11-15",{"$nulls":3},"Other short TTT courses",null,"Simulation courses",null,null,"No",null,"I give lectures","Perform work-based interactive teaching (operating room)","Running clinical case discussions","Involved in simulation sessions","Teach informally, during every day work",null,"Planning and preparation for teaching session","Using visual aids","Interactive teaching","Problem based learning","Teaching the skills","Giving feedback","Organizing and leading the discussions",null,null,"Yes","Yes",null,null,"I occasionally carry out assessment during the residency program (Direct Observation of Procedural Skills - DOPS)","I give feedback during simulation sessions","I give feedback during everyday work","I am involved in other forms of formative assessment (for example multisource feedback)",{"$nulls":5},"No, it is assumed as being a part of everyday work",null,null,"Lack of time",null,"No recognition","Overloaded with work",{"$nulls":5},"No","Yes, I am well informed","No","No",null,"Content based curriculum",null,"Department of anaesthesiology","They have to pass a university board exam",null,"Written and oral examination"]
[12989247512,408998795,"2021-09-23T09:06:08","2021-09-25T09:35:08","79.37.230.113",{"$nulls":4},"50+","Male","Italy","Italy","Europe","over 20 years",3,"Senior specialist","Academic hospital (Teaching or University related)","Yes (please refer to Q10)","When in the operating theater (always have an allocated resident)","over 16",{"$nulls":6},"None",null,"No",null,null,"Perform work-based interactive teaching (operating room)",null,null,"Teach informally, during every day work",{"$nulls":3},"Interactive teaching",null,"Teaching the skills","Giving feedback",{"$nulls":3},"No","No",{"$nulls":6},"I am not involved in any kind of assessment",{"$nulls":4},"No, it is assumed as being a part of everyday work",{"$nulls":4},"No recognition","Overloaded with work",null,"Lack of organization",null,"I do not want to be involved in teaching residents because it is not paid",null,"No","I have no knowledge of what it is","No","I am not sure",null,"I do not know",null,"Department of anaesthesiology","They have to pass a university board exam",null,"It is only oral examination"]
[12989244138,408998795,"2021-09-23T08:58:13","2021-09-23T21:34:07","109.69.144.10",{"$nulls":4},"50+","Male","Italy","Italy","Europe","over 20 years",5,"Senior specialist","Academic hospital (Teaching or University related)","Yes (please refer to Q10)","Every day","6-10",{"$nulls":3},"Other short TTT courses","Advanced Life Support (ALS), Basic Life Support (BLS) or other specific courses","Simulation courses",null,null,"No",null,"I give lectures","Perform work-based interactive teaching (operating room)","Running clinical case discussions","Involved in simulation sessions",{"$nulls":4},"Interactive teaching","Problem based learning","Teaching the skills","Giving feedback",{"$nulls":3},"Yes","Yes",{"$nulls":3},"I give feedback during simulation sessions","I give feedback during everyday work","I am involved in other forms of formative assessment (for example multisource feedback)",{"$nulls":5},"No, it is assumed as being a part of everyday work",null,null,"Lack of time",null,"No recognition","Overloaded with work",null,"Lack of organization",{"$nulls":3},"I do not know","I do not know much","No","No",null,"I do not know",null,"University","They just have to complete the residency program (3-5 years)",null,"It is only oral examination"]
[12989247382,408998795,"2021-09-23T09:05:51","2021-09-23T17:07:54","151.47.119.26",{"$nulls":4},"31-35","Female","Italy","Italy","Europe","5-10",5,"Trainee","General hospital","Yes (please refer to Q10)","Less than once a week","Less than 5",{"$nulls":4},"Advanced Life Support (ALS), Basic Life Support (BLS) or other specific courses",{"$nulls":3},"No",{"$nulls":3},"Running clinical case discussions","Involved in simulation sessions",null,null,"Planning and preparation for teaching session","Using visual aids","Interactive teaching",null,"Teaching the skills","Giving feedback","Organizing and leading the discussions",null,null,"Yes","No",{"$nulls":5},"I am involved in other forms of formative assessment (for example multisource feedback)",null,null,"Yes, I am paid more",{"$nulls":5},"Lack of time",null,"No recognition",null,"Lack of opportunity","Lack of organization",null,"I work with residents, but I do not see that as teaching",null,"Yes","I have some ideas, but it is not clear to me","No","I am not sure","05/17/1998","Competency (outcome) based curriculum",null,"I do not know","They just have to complete the residency program (3-5 years)",null,"It is only oral examination"]
[12989249408,408998795,"2021-09-23T09:07:14","2021-09-23T09:08:21","192.115.163.105",{"$nulls":4},"50+","Male","Israel","Israel","Asia","over 20 years",5,"Senior specialist","Academic hospital (Teaching or University related)","Yes (please refer to Q10)"]
[12989247152,408998795,"2021-09-23T09:03:36","2021-09-23T13:40:10","37.163.145.166",{"$nulls":4},"31-35","Male","Italy","Italy","Europe","5-10",5,"Specialist","Academic hospital (Teaching or University related)","No (please refer to Q21)"]
[12989240787,408998795,"2021-09-23T08:51:44","2021-09-23T09:04:42","157.35.6.158",{"$nulls":4},"41-50","Male","India","India","Asia","11-15",3,"Specialist","Specialized clinic","No (please refer to Q21)",{"$nulls":50},"I work in a non-teaching hospital",null,"I do not know","I have some ideas, but it is not clear to me","No","No",null,"I do not know",null,"Society or association of anaesthesiology","They have to pass a university board exam",null,"Written, oral examination and some practical assessment"]
[12989206656,408998795,"2021-09-23T08:34:22","2021-09-23T09:44:11","93.34.114.189",{"$nulls":4},"50+","Female","Italy","Italy","Europe","over 20 years",3,"Teacher (in University)","Academic hospital (Teaching or University related)","No (please refer to Q21)",{"$nulls":52},"No","Yes, I am well informed","No","I am not sure"]
[12989234239,408998795,"2021-09-23T08:56:22","2021-09-23T09:25:11","37.160.139.26",{"$nulls":4},"41-50","Male","Italy","Italy","Europe","11-15",4,"Specialist","General hospital","Yes (please refer to Q10)","Almost every day","6-10",{"$nulls":3},"Other short TTT courses","Advanced Life Support (ALS), Basic Life Support (BLS) or other specific courses","Simulation courses",null,null,"No",null,null,"Perform work-based interactive teaching (operating room)","Running clinical case discussions",{"$nulls":3},"Planning and preparation for teaching session","Using visual aids","Interactive teaching",null,"Teaching the skills","Giving feedback",null,"Organizing specific sessions (journal clubs, interactive sessions, pro and con debate…)",null,"Yes","Yes",null,"I am European Diploma in Anaesthesia and Intensive Care (EDAIC) part II examiner",null,"I give feedback during simulation sessions",{"$nulls":8},"No","Lack of training","Lack of time",null,"No recognition","Overloaded with work",null,"Lack of organization",{"$nulls":3},"Yes","I know what is it, but outcome-based education is not implemented in my country","I am not sure","I am not sure",null,"Classic surgical specialties based curriculum",null,"University","They have to pass a university board exam",null,"Written and oral examination"]
[12989229893,408998795,"2021-09-23T08:53:21","2021-09-23T08:52:01","151.65.25.21",{"$nulls":4},"50+","Male","Italy","Italy","Europe","over 20 years",4,"Senior specialist","Academic hospital (Teaching or University related)","Yes (please refer to Q10)","Almost every day","over 16",{"$nulls":6},"None",null,"No",null,"I give lectures",{"$nulls":3},"Teach informally, during every day work",null,"Planning and preparation for teaching session",{"$nulls":3},"Teaching the skills","Giving feedback",{"$nulls":3},"No","No",{"$nulls":6},"I am not involved in any kind of assessment",{"$nulls":4},"No, it is assumed as being a part of everyday work",{"$nulls":3},"Lack of motivation","No recognition",null,"Lack of opportunity"]
[12989234535,408998795,"2021-09-23T08:56:20","2021-09-23T08:47:48","37.159.12.185",{"$nulls":4},"31-35","Male","Italy","Italy","Europe","5-10","Over 5","Specialist","General hospital","Yes (please refer to Q10)"]
[12989226396,408998795,"2021-09-23T08:50:09","2021-09-23T08:15:04","87.1.36.4",{"$nulls":4},"50+","Female","Italy","Italy","Europe","over 20 years",3,"Specialist","General hospital","No (please refer to Q21)",{"$nulls":50},"I work in a non-teaching hospital",{"$nulls":6},"I do not know",null,"National body responsible for education (Ministry of health or education, National board for anaesthesia …)","They have to pass a national board exam",null,"Written and oral examination, but also OSCE (Objective Structured Clinical Examination)"]
[12989231435,408998795,"2021-09-23T08:54:08","2021-09-23T08:57:10","188.48.205.166",{"$nulls":4},"36-40","Male","India","Saudi Arabia","Asia","11-15",3,"Specialist","Private hospital","No (please refer to Q21)",{"$nulls":50},"I work in a non-teaching hospital",null,"Yes","I have some ideas, but it is not clear to me","No","No",null,"Content based curriculum",null,"University","They have to pass a university board exam",null,"Written and oral examination, but also OSCE (Objective Structured Clinical Examination)"]
[12989217270,408998795,"2021-09-23T08:41:16","2021-09-23T08:11:29","5.90.52.112",{"$nulls":4},"36-40","Male","Italy","Italy","Europe","5-10",5,"Specialist","General hospital","Yes (please refer to Q10)","When in the operating theater (always have an allocated resident)","Less than 5",{"$nulls":3},"Other short TTT courses","Advanced Life Support (ALS), Basic Life Support (BLS) or other specific courses","Simulation courses",null,null,"No, but students are exposed to outcome based teaching",null,null,"Perform work-based interactive teaching (operating room)",null,"Involved in simulation sessions","Teach informally, during every day work",null,null,"Using visual aids",{"$nulls":3},"Giving feedback",{"$nulls":3},"No","No",{"$nulls":3},"I give feedback during simulation sessions",{"$nulls":7},"No, it is assumed as being a part of everyday work",null,null,"Lack of time",null,"No recognition",{"$nulls":4},"I work with residents, but I do not see that as teaching"]
[12989228332,408998795,"2021-09-23T08:51:50","2021-09-23T08:09:28","87.11.239.21",{"$nulls":4},"50+","Male","Italy","Italy","Europe","over 20 years",5,"Teacher (in University)","Academic hospital (Teaching or University related)","Yes (please refer to Q10)","Every day","over 16","Master in Medical Education","Obligatory teaching courses for University teachers",null,null,"Advanced Life Support (ALS), Basic Life Support (BLS) or other specific courses",{"$nulls":3},"No",null,"I give lectures","Perform work-based interactive teaching (operating room)","Running clinical case discussions",null,"Teach informally, during every day work",null,"Planning and preparation for teaching session","Using visual aids","Interactive teaching",null,"Teaching the skills","Giving feedback","Organizing and leading the discussions",null,null,"Yes","Yes","I am an examiner for the final exam",null,"I occasionally carry out assessment during the residency program (Direct Observation of Procedural Skills - DOPS)","I give feedback during simulation sessions","I give feedback during everyday work",{"$nulls":6},"No, it is assumed as being a part of everyday work",null,"Lack of training","Lack of time",null,"No recognition",null,null,"Lack of organization",{"$nulls":3},"No","Yes, I am well informed","Yes","No",null,"Classic surgical specialties based curriculum",null,"Department of anaesthesiology","They have to pass a university board exam",null,"It is only oral examination"]
[12989230451,408998795,"2021-09-23T08:53:32","2021-09-23T08:54:44","223.186.6.147",{"$nulls":4},"25-30","Male","India","India","Asia","5-10",3,"Senior resident","Academic hospital (Teaching or University related)","Yes (please refer to Q10)"]
[12989212576,408998795,"2021-09-23T08:40:08","2021-09-16T12:24:04","89.96.192.247",{"$nulls":4},"31-35","Female","Italy","Italy","Europe","5-10",5,"Specialist","General hospital","Yes (please refer to Q10)","When in the operating theater (always have an allocated resident)","Less than 5",{"$nulls":6},"None",null,"No",{"$nulls":5},"Teach informally, during every day work",{"$nulls":4},"Problem based learning","Teaching the skills","Giving feedback",{"$nulls":3},"No","No",{"$nulls":4},"I give feedback during everyday work",{"$nulls":6},"No, it is assumed as being a part of everyday work",null,"Lack of training",{"$nulls":5},"Lack of organization",null,"I work in a non-teaching hospital",null,"Yes","I have some ideas, but it is not clear to me","I am not sure","I am not sure",null,"I do not know",null,"University","They just have to complete the residency program (3-5 years)"]
[12989219848,408998795,"2021-09-23T08:45:19","2021-09-12T18:54:58","93.34.227.81",{"$nulls":4},"50+","Male","Italy","Italy","Europe","over 20 years",3,"Chief of Department","Academic hospital (Teaching or University related)","Yes (please refer to Q10)","Every day","over 16","Master in Medical Education",{"$nulls":4},"Simulation courses",null,null,"Yes, some elements, but not systematically",{"$nulls":3},"Running clinical case discussions",{"$nulls":3},"Planning and preparation for teaching session","Using visual aids",null,null,"Teaching the skills",null,"Organizing and leading the discussions",null,null,"Yes","Yes",null,null,"I occasionally carry out assessment during the residency program (Direct Observation of Procedural Skills - DOPS)",null,"I give feedback during everyday work",{"$nulls":6},"No, it is assumed as being a part of everyday work",null,null,"Lack of time",null,"No recognition","Overloaded with work",null,"Lack of organization",null,"I am not employed by the university",null,"Yes","I have some ideas, but it is not clear to me","No","No",null,"I do not know",null,"University","They just have to complete the residency program (3-5 years)",null,"It is only oral examination"]
[12989225808,408998795,"2021-09-23T08:48:32","2021-09-09T12:38:16","159.213.35.252",{"$nulls":4},"50+","Female","Germany","Italy","Europe","over 20 years",4,"Senior specialist","Academic hospital (Teaching or University related)","Yes (please refer to Q10)","Almost every day","over 16",{"$nulls":4},"Advanced Life Support (ALS), Basic Life Support (BLS) or other specific courses",{"$nulls":3},"No",null,"I give lectures","Perform work-based interactive teaching (operating room)",null,null,"Teach informally, during every day work",null,"Planning and preparation for teaching session",null,null,"Problem based learning","Teaching the skills",{"$nulls":4},"Yes","Yes",{"$nulls":6},"I am not involved in any kind of assessment",{"$nulls":4},"No, it is assumed as being a part of everyday work",null,"Lack of training",null,null,"No recognition","Overloaded with work",{"$nulls":5},"Yes","I do not know much","Yes","I am not sure",null,"I do not know",null,"University","They have to pass a university board exam",null,"It is only oral examination"]
[12989215860,408998795,"2021-09-23T08:43:09","2021-09-23T08:48:06","106.206.79.42",{"$nulls":4},"36-40","Female","India","India","Asia","5-10",4,"Specialist","Academic hospital (Teaching or University related)","Yes (please refer to Q10)","Less than once a week","Less than 5",{"$nulls":6},"None",null,"Yes, some elements, but not systematically",null,null,"Perform work-based interactive teaching (operating room)",{"$nulls":6},"Interactive teaching",null,null,"Giving feedback",{"$nulls":3},"No","No",{"$nulls":6},"I am not involved in any kind of assessment",null,null,"Yes, it is recognised for promotion in academia.",{"$nulls":3},"Lack of training","Lack of time","Lack of motivation",null,"Overloaded with work",{"$nulls":3},"Other (please specify)","Residents are rarely posted with me","I do not know","I have some ideas, but it is not clear to me","No","No",null,"I do not know",null,"University","They have to pass a national board exam",null,"Written and oral examination, but also OSCE (Objective Structured Clinical Examination)"]
[12989220654,408998795,"2021-09-23T08:43:01","2021-09-06T13:23:27","5.90.38.93",{"$nulls":4},"41-50","Male","Italy","Italy","Europe","11-15",4,"Senior specialist","Academic hospital (Teaching or University related)","Yes (please refer to Q10)","Every day","6-10",{"$nulls":4},"Advanced Life Support (ALS), Basic Life Support (BLS) or other specific courses","Simulation courses",null,null,"Yes",null,"I give lectures","Perform work-based interactive teaching (operating room)",null,"Involved in simulation sessions",null,null,"Planning and preparation for teaching session",{"$nulls":3},"Teaching the skills",null,"Organizing and leading the discussions","Organizing specific sessions (journal clubs, interactive sessions, pro and con debate…)",null,"Yes","Yes",{"$nulls":3},"I give feedback during simulation sessions","I give feedback during everyday work","I am involved in other forms of formative assessment (for example multisource feedback)",{"$nulls":4},"Yes, I have a more visible position in the department",{"$nulls":8},"Lack of organization"]
[12989206430,408998795,"2021-09-23T08:35:31","2021-09-04T11:31:54","195.97.37.226",{"$nulls":4},"36-40","Female","Italy","Italy","Europe","5-10",5,"Specialist","Academic hospital (Teaching or University related)","Yes (please refer to Q10)","Almost every day","Less than 5",{"$nulls":3},"Other short TTT courses","Advanced Life Support (ALS), Basic Life Support (BLS) or other specific courses","Simulation courses",null,null,"No",null,null,"Perform work-based interactive teaching (operating room)",null,"Involved in simulation sessions",{"$nulls":4},"Interactive teaching",null,"Teaching the skills","Giving feedback","Organizing and leading the discussions",null,null,"No","No",{"$nulls":6},"I am not involved in any kind of assessment",{"$nulls":4},"No, it is assumed as being a part of everyday work",{"$nulls":4},"No recognition",null,null,"Lack of organization",{"$nulls":3},"Yes","I know what is it, but outcome-based education is not implemented in my country","No","No",null,"Content based curriculum",null,"Department of anaesthesiology","They have to pass a university board exam",null,"Written and oral examination"]
[12989209710,408998795,"2021-09-23T08:37:52","2021-09-03T23:37:14","93.35.242.199",{"$nulls":4},"31-35","Male","Italy","Italy","Europe","5-10",5,"Specialist","Academic hospital (Teaching or University related)","Yes (please refer to Q10)","Almost every day","Less than 5",{"$nulls":6},"None",null,"No",null,"I give lectures",{"$nulls":3},"Teach informally, during every day work",null,"Planning and preparation for teaching session",null,null,"Problem based learning",null,"Giving feedback",{"$nulls":3},"Yes","Yes",{"$nulls":5},"I am involved in other forms of formative assessment (for example multisource feedback)",{"$nulls":5},"No, it is assumed as being a part of everyday work",null,"Lack of training","Lack of time",{"$nulls":8},"Yes","I have no knowledge of what it is","No","No",null,"I do not know",null,"University","They have to pass a university board exam",null,"Other (please specify)"]
[12989198451,408998795,"2021-09-23T08:29:49","2021-09-03T17:23:42","62.18.161.105",{"$nulls":4},"41-50","Female","Italy","Italy","Europe","16-20",4,"Senior specialist","Academic hospital (Teaching or University related)","Yes (please refer to Q10)","Almost every day","11-15",{"$nulls":4},"Advanced Life Support (ALS), Basic Life Support (BLS) or other specific courses","Simulation courses",null,null,"No",null,null,"Perform work-based interactive teaching (operating room)","Running clinical case discussions",null,"Teach informally, during every day work",null,"Planning and preparation for teaching session","Using visual aids",null,null,"Teaching the skills",null,null,"Organizing specific sessions (journal clubs, interactive sessions, pro and con debate…)",null,"No","Yes",null,null,"I occasionally carry out assessment during the residency program (Direct Observation of Procedural Skills - DOPS)",null,"I give feedback during everyday work",{"$nulls":7},"No",null,"Lack of time",null,"No recognition",{"$nulls":6},"I do not know","I do not know much","I am not sure","I am not sure","09/03/2021","Content based curriculum",null,"I do not know","They have to pass a university board exam",null,"It is only oral examination"]
[12989197257,408998795,"2021-09-23T08:28:21","2021-09-03T17:22:11","95.233.204.102",{"$nulls":4},"50+","Male","Italy","Italy","Europe","over 20 years",5,"Other","Private hospital","Yes (please refer to Q10)"]
[12989206355,408998795,"2021-09-23T08:36:10","2021-09-03T14:18:37","79.53.25.237",{"$nulls":4},"50+","Female","Italy","Italy","Europe","over 20 years",5,"Senior resident","Academic hospital (Teaching or University related)","Yes (please refer to Q10)","Every day","Less than 5",{"$nulls":6},"None",null,"No",{"$nulls":3},"Running clinical case discussions",null,"Teach informally, during every day work",{"$nulls":3},"Interactive teaching",{"$nulls":6},"No","No",{"$nulls":6},"I am not involved in any kind of assessment",{"$nulls":5},"No",{"$nulls":3},"No recognition",{"$nulls":4},"I am not employed by the university",null,"No","I do not know much","Yes","I am not sure",null,"Content based curriculum",null,"Hospital administration","They have to pass a university board exam",null,"Written and oral examination"]
[12989194567,408998795,"2021-09-23T08:27:12","2021-09-03T11:49:55","93.47.220.53",{"$nulls":4},"25-30","Male","Italy","Italy","Europe","5-10",5,"Other","Academic hospital (Teaching or University related)","No (please refer to Q21)",{"$nulls":50},"Other (please specify)","still resident","I do not know","I do not know much","I am not sure","No","01/24/2021","I do not know",null,"I do not know","They have to pass a national board exam",null,"Written and oral examination"]
[12989185722,408998795,"2021-09-23T08:17:15","2021-09-03T09:55:58","159.149.77.113",{"$nulls":4},"31-35","Male","Italy","Italy","Europe","5-10",5,"Other","Academic hospital (Teaching or University related)","Yes (please refer to Q10)","Less than once a week","Less than 5",{"$nulls":6},"None",null,"Yes, some elements, but not systematically",null,null,"Perform work-based interactive teaching (operating room)",{"$nulls":6},"Interactive teaching",{"$nulls":6},"No","No",{"$nulls":6},"I am not involved in any kind of assessment",{"$nulls":4},"No, it is assumed as being a part of everyday work",{"$nulls":4},"No recognition",{"$nulls":6},"Yes","I have some ideas, but it is not clear to me","No","I am not sure",null,"I do not know",null,"National body responsible for education (Ministry of health or education, National board for anaesthesia …)","They have to pass a university board exam",null,"Written and oral examination, but also OSCE (Objective Structured Clinical Examination)"]
[12989187388,408998795,"2021-09-23T08:20:33","2021-09-23T08:32:30","45.243.220.216",{"$nulls":4},"50+","Male","United Kingdom of Great Britain and Northern Ireland","Egypt","Africa","over 20 years","Over 5","Other","Specialized clinic","Yes (please refer to Q10)","When in the operating theater (always have an allocated resident)","over 16",{"$nulls":3},"Other short TTT courses","Advanced Life Support (ALS), Basic Life Support (BLS) or other specific courses",{"$nulls":3},"No",null,"I give lectures","Perform work-based interactive teaching (operating room)","Running clinical case discussions",null,"Teach informally, during every day work",null,null,"Using visual aids","Interactive teaching",null,"Teaching the skills","Giving feedback",null,"Organizing specific sessions (journal clubs, interactive sessions, pro and con debate…)",null,"Yes","Yes","I am an examiner for the final exam",{"$nulls":3},"I give feedback during everyday work",{"$nulls":6},"No, it is assumed as being a part of everyday work",{"$nulls":4},"No recognition","Overloaded with work",null,"Lack of organization",{"$nulls":3},"No","I know what is it, but outcome-based education is not implemented in my country","No","No",null,"Content based curriculum",null,"Department of anaesthesiology","They have to pass a university board exam",null,"Written and oral examination"]
[12989195392,408998795,"2021-09-23T08:28:15","2021-09-03T09:32:59","109.118.102.247",{"$nulls":4},"31-35","Female","Italy","Italy","Europe","5-10",5,"Specialist","Academic hospital (Teaching or University related)","Yes (please refer to Q10)","Every day","Less than 5",{"$nulls":6},"None",null,"No",{"$nulls":5},"Teach informally, during every day work",{"$nulls":5},"Teaching the skills","Giving feedback",{"$nulls":3},"No","No",{"$nulls":4},"I give feedback during everyday work",{"$nulls":6},"No, it is assumed as being a part of everyday work",null,"Lack of training","Lack of time",null,"No recognition","Overloaded with work",null,"Lack of organization",{"$nulls":3},"I do not know","I have no knowledge of what it is","No","I am not sure",null,"I do not know",null,"I do not know","They have to pass a university board exam",null,"It is only oral examination"]
[12989196554,408998795,"2021-09-23T08:28:43","2021-09-03T09:12:18","94.225.164.88",{"$nulls":4},"41-50","Female","Italy","Italy","Europe","16-20","Less than 3","Senior specialist","General hospital","No (please refer to Q21)",{"$nulls":50},"I work in a non-teaching hospital"]
[12989187698,408998795,"2021-09-23T08:22:18","2021-09-03T08:57:04","155.185.164.107",{"$nulls":4},"50+","Male","Italy","Italy","Europe","5-10",4,"Teacher (in University)","Academic hospital (Teaching or University related)","Yes (please refer to Q10)","Less than once a week","over 16",null,"Obligatory teaching courses for University teachers",{"$nulls":6},"Yes, some elements, but not systematically",null,"I give lectures",{"$nulls":3},"Teach informally, during every day work",null,"Planning and preparation for teaching session",{"$nulls":3},"Teaching the skills","Giving feedback",{"$nulls":3},"Yes","Yes","I am an examiner for the final exam",{"$nulls":4},"I am involved in other forms of formative assessment (for example multisource feedback)",{"$nulls":3},"Yes, it is recognised for promotion in academia.","Yes, I have a more visible position in the department",{"$nulls":6},"Overloaded with work","Lack of opportunity",{"$nulls":4},"I do not know","Yes, I am well informed","I am not sure","I am not sure",null,"Content based curriculum",null,"University","They have to pass a university board exam",null,"Written, oral examination and some practical assessment"]
[12989179059,408998795,"2021-09-23T08:14:22","2021-09-03T04:02:01","5.90.76.203",{"$nulls":4},"50+","Male","Italy","Italy","Europe","over 20 years",3,"Specialist","Private hospital","No (please refer to Q21)"]
[12989181161,408998795,"2021-09-23T08:16:15","2021-09-02T21:09:41","151.34.133.4",{"$nulls":4},"31-35","Female","Italy","Italy","Europe","16-20",4,"Senior specialist","Academic hospital (Teaching or University related)","Yes (please refer to Q10)","Every day","6-10",{"$nulls":4},"Advanced Life Support (ALS), Basic Life Support (BLS) or other specific courses","Simulation courses",null,null,"No",null,"I give lectures","Perform work-based interactive teaching (operating room)","Running clinical case discussions","Involved in simulation sessions","Teach informally, during every day work",null,"Planning and preparation for teaching session","Using visual aids","Interactive teaching","Problem based learning","Teaching the skills","Giving feedback",{"$nulls":3},"No","Yes",{"$nulls":4},"I give feedback during everyday work",{"$nulls":6},"No, it is assumed as being a part of everyday work",{"$nulls":4},"No recognition",{"$nulls":4},"I work with residents, but I do not see that as teaching",null,"No","I know what is it, but outcome-based education is not implemented in my country","Yes","No",null,"Competency (outcome) based curriculum",null,"Department of anaesthesiology","They have to pass a university board exam",null,"It is only oral examination"]
[12989169625,408998795,"2021-09-23T08:07:29","2021-09-23T08:27:57","37.211.209.85",{"$nulls":4},"41-50","Male","Turkey","Qatar","Asia","16-20",4,"Specialist","Private hospital","No (please refer to Q21)",{"$nulls":50},"I work in a non-teaching hospital",null,"Yes","I do not know much","No","I am not sure",null,"Classic surgical specialties based curriculum",null,"National body responsible for education (Ministry of health or education, National board for anaesthesia …)","They have to pass a university board exam",null,"It is only oral examination"]
[12989187969,408998795,"2021-09-23T08:22:28","2021-09-02T19:12:20","79.26.204.177",{"$nulls":4},"50+","Female","Italy","Italy","Europe","over 20 years",3,"Other","General hospital","Yes (please refer to Q10)","Every day","over 16",{"$nulls":4},"Advanced Life Support (ALS), Basic Life Support (BLS) or other specific courses","Simulation courses",null,null,"Yes",{"$nulls":5},"Teach informally, during every day work",{"$nulls":3},"Interactive teaching",null,"Teaching the skills",{"$nulls":4},"No","No",{"$nulls":4},"I give feedback during everyday work",{"$nulls":6},"No, it is assumed as being a part of everyday work",{"$nulls":5},"Overloaded with work",{"$nulls":5},"I do not know","Yes, I am well informed","Yes","I am not sure",null,"Competency (outcome) based curriculum",null,"Society or association of anaesthesiology","They have to pass a university board exam",null,"Written and oral examination"]
[12989181841,408998795,"2021-09-23T08:17:59","2021-09-23T08:25:17","84.107.113.132",{"$nulls":4},"41-50","Female","Brazil","Brazil","South America","16-20",3,"Senior specialist","General hospital","Yes (please refer to Q10)","Every day","6-10",{"$nulls":6},"None",null,"Yes, some elements, but not systematically",{"$nulls":5},"Teach informally, during every day work",{"$nulls":3},"Interactive teaching",{"$nulls":6},"Yes","Yes",null,null,"I occasionally carry out assessment during the residency program (Direct Observation of Procedural Skills - DOPS)",{"$nulls":8},"No, it is assumed as being a part of everyday work",null,"Lack of training","Lack of time",null,"No recognition","Overloaded with work",{"$nulls":5},"Yes","I do not know much","I am not sure","No",null,"Classic surgical specialties based curriculum",null,"Society or association of anaesthesiology","They have to pass a national board exam",null,"Written and oral examination"]
[12989173939,408998795,"2021-09-23T08:06:48","2021-09-02T18:17:34","93.46.174.66",{"$nulls":4},"25-30","Female","Italy","Italy","Europe","5-10",5,"Trainee","Academic hospital (Teaching or University related)","No (please refer to Q21)"]
[12989186142,408998795,"2021-09-23T08:21:14","2021-09-30T00:28:48","213.226.141.229",{"$nulls":4},"31-35","Female","Latvia","Latvia","Europe","5-10",5,"Specialist","Academic hospital (Teaching or University related)","Yes (please refer to Q10)","Once a week","Less than 5","Master in Medical Education",null,"ESAIC Teach the Teacher (TTT) courses",{"$nulls":5},"No",null,null,"Perform work-based interactive teaching (operating room)",null,null,"Teach informally, during every day work",null,"Planning and preparation for teaching session",null,null,"Problem based learning","Teaching the skills","Giving feedback",{"$nulls":3},"No","No",{"$nulls":6},"I am not involved in any kind of assessment",null,"Yes, I am paid more",{"$nulls":7},"No recognition",null,"Lack of opportunity",{"$nulls":4},"Yes","Yes, I am well informed","Yes","No",null,"Classic surgical specialties based curriculum",null,"Society or association of anaesthesiology","They have to pass a national board exam",null,"Written and oral examination"]
[12989180778,408998795,"2021-09-23T08:16:15","2021-09-24T09:04:12","217.199.120.37",{"$nulls":4},"50+","Female","Latvia","Latvia","Europe","over 20 years",5,"Chief of Department","Specialized clinic","Yes (please refer to Q10)","Every day","over 16",null,null,"ESAIC Teach the Teacher (TTT) courses",null,"Advanced Life Support (ALS), Basic Life Support (BLS) or other specific courses","Simulation courses",null,null,"No",null,"I give lectures","Perform work-based interactive teaching (operating room)","Running clinical case discussions",null,"Teach informally, during every day work",null,null,"Using visual aids","Interactive teaching","Problem based learning","Teaching the skills",null,"Organizing and leading the discussions","Organizing specific sessions (journal clubs, interactive sessions, pro and con debate…)",null,"Yes","Yes","I am an examiner for the final exam",{"$nulls":3},"I give feedback during everyday work",{"$nulls":3},"Yes, I am paid more",{"$nulls":8},"Overloaded with work",{"$nulls":5},"Yes","Yes, I am well informed","Yes","Yes",null,"Competency (outcome) based curriculum",null,"University","They have to pass a national board exam",null,"Written and oral examination"]
[12989179367,408998795,"2021-09-23T08:16:12","2021-09-23T10:46:44","212.3.196.71",{"$nulls":4},"41-50","Female","Latvia","Latvia","Europe","16-20",4,"Chief of Department","Academic hospital (Teaching or University related)","Yes (please refer to Q10)","Every day","11-15",null,"Obligatory teaching courses for University teachers","ESAIC Teach the Teacher (TTT) courses","Other short TTT courses","Advanced Life Support (ALS), Basic Life Support (BLS) or other specific courses","Simulation courses",null,null,"No",null,"I give lectures","Perform work-based interactive teaching (operating room)","Running clinical case discussions",{"$nulls":3},"Planning and preparation for teaching session","Using visual aids","Interactive teaching","Problem based learning","Teaching the skills",null,null,"Organizing specific sessions (journal clubs, interactive sessions, pro and con debate…)",null,"Yes","Yes",null,"I am European Diploma in Anaesthesia and Intensive Care (EDAIC) part II examiner","I occasionally carry out assessment during the residency program (Direct Observation of Procedural Skills - DOPS)",null,"I give feedback during everyday work",{"$nulls":3},"Yes, I am paid more",{"$nulls":5},"Lack of time",{"$nulls":8},"No","I know what is it, but outcome-based education is not implemented in my country","Yes","I am not sure",null,"I do not know",null,"National body responsible for education (Ministry of health or education, National board for anaesthesia …)","They have to pass a national board exam",null,"Written and oral examination"]
[12989176350,408998795,"2021-09-23T08:13:22","2021-09-23T08:19:46","87.70.16.75",{"$nulls":4},"50+","Male","Israel","Israel","Asia","over 20 years",5,"Senior specialist","Academic hospital (Teaching or University related)","Yes (please refer to Q10)","Every day","over 16",null,"Obligatory teaching courses for University teachers",null,null,"Advanced Life Support (ALS), Basic Life Support (BLS) or other specific courses","Simulation courses",null,null,"No",null,"I give lectures","Perform work-based interactive teaching (operating room)","Running clinical case discussions","Involved in simulation sessions","Teach informally, during every day work",null,"Planning and preparation for teaching session","Using visual aids","Interactive teaching","Problem based learning","Teaching the skills","Giving feedback","Organizing and leading the discussions","Organizing specific sessions (journal clubs, interactive sessions, pro and con debate…)",null,"Yes","Yes","I am an examiner for the final exam","I am European Diploma in Anaesthesia and Intensive Care (EDAIC) part II examiner","I occasionally carry out assessment during the residency program (Direct Observation of Procedural Skills - DOPS)","I give feedback during simulation sessions","I give feedback during everyday work",{"$nulls":6},"No, it is assumed as being a part of everyday work",null,"Lack of training",null,"Lack of motivation",{"$nulls":7},"Yes","I know what is it, but outcome-based education is not implemented in my country","Yes","No",null,"Classic surgical specialties based curriculum",null,"National body responsible for education (Ministry of health or education, National board for anaesthesia …)","They have to pass a national board exam",null,"Written, oral examination and some practical assessment"]
[12989172527,408998795,"2021-09-23T08:10:51","2021-09-23T08:30:24","81.198.192.192",{"$nulls":4},"50+","Male","Latvia","Latvia","Europe","over 20 years",5,"Teacher (in University)","Academic hospital (Teaching or University related)","Yes (please refer to Q10)","When in the operating theater (always have an allocated resident)","over 16",{"$nulls":3},"Other short TTT courses","Advanced Life Support (ALS), Basic Life Support (BLS) or other specific courses","Simulation courses",null,null,"Yes",null,"I give lectures","Perform work-based interactive teaching (operating room)",{"$nulls":4},"Planning and preparation for teaching session",{"$nulls":3},"Teaching the skills",{"$nulls":4},"Yes","Yes","I am an examiner for the final exam",null,"I occasionally carry out assessment during the residency program (Direct Observation of Procedural Skills - DOPS)",{"$nulls":7},"Yes, I have a more visible position in the department",{"$nulls":6},"Overloaded with work",{"$nulls":5},"Yes","Yes, I am well informed","I am not sure","Yes","09/01/2004","Competency (outcome) based curriculum",null,"Hospital administration","They have to pass a university board exam",null,"Written, oral examination and some practical assessment"]
[12989176326,408998795,"2021-09-23T08:14:12","2021-09-04T21:10:05","212.3.198.89",{"$nulls":4},"36-40","Male","Latvia","Latvia","Europe","11-15",5,"Senior specialist","Academic hospital (Teaching or University related)","Yes (please refer to Q10)","Almost every day","11-15",null,"Obligatory teaching courses for University teachers","ESAIC Teach the Teacher (TTT) courses",null,"Advanced Life Support (ALS), Basic Life Support (BLS) or other specific courses","Simulation courses",null,null,"No",null,"I give lectures","Perform work-based interactive teaching (operating room)","Running clinical case discussions",null,"Teach informally, during every day work",null,"Planning and preparation for teaching session","Using visual aids","Interactive teaching","Problem based learning","Teaching the skills","Giving feedback",{"$nulls":3},"No","Yes",null,null,"I occasionally carry out assessment during the residency program (Direct Observation of Procedural Skills - DOPS)","I give feedback during simulation sessions","I give feedback during everyday work",{"$nulls":6},"No, it is assumed as being a part of everyday work",null,null,"Lack of time",null,null,"Overloaded with work",{"$nulls":5},"I do not know","I know what is it, but outcome-based education is not implemented in my country","Yes","I am not sure",null,"Content based curriculum",null,"Society or association of anaesthesiology","They have to pass a national board exam",null,"Written and oral examination"]
[12989172711,408998795,"2021-09-23T08:11:22","2021-09-03T11:03:07","77.219.0.139",{"$nulls":4},"31-35","Female","Latvia","Latvia","Europe","5-10",5,"Specialist","Academic hospital (Teaching or University related)","Yes (please refer to Q10)","Almost every day","Less than 5",null,null,"ESAIC Teach the Teacher (TTT) courses",{"$nulls":5},"No",null,null,"Perform work-based interactive teaching (operating room)",null,null,"Teach informally, during every day work",null,null,"Using visual aids",null,"Problem based learning","Teaching the skills",{"$nulls":4},"No","No",{"$nulls":4},"I give feedback during everyday work",{"$nulls":6},"No, it is assumed as being a part of everyday work",null,"Lack of training",{"$nulls":4},"Lack of opportunity",null,"No payment. Money goes to senior doctors, heqd od departement",null,null,"Yes","I do not know much","I am not sure","I am not sure",null,"I do not know",null,"University","They have to pass a national board exam",null,"Written and oral examination"]
[12989172689,408998795,"2021-09-23T08:11:10","2021-09-03T09:04:58","194.19.228.75",{"$nulls":4},"50+","Male","Latvia","Latvia","Europe","over 20 years",5,"Specialist","Private hospital","No (please refer to Q21)",{"$nulls":50},"I work with residents, but I do not see that as teaching",null,"I do not know","I have some ideas, but it is not clear to me","I am not sure","I am not sure",null,"I do not know",null,"National body responsible for education (Ministry of health or education, National board for anaesthesia …)","They have to pass a national board exam",null,"Written and oral examination"]
[12989175930,408998795,"2021-09-23T08:13:35","2021-09-03T07:17:42","46.109.173.148",{"$nulls":4},"31-35","Female","Latvia","Latvia","Europe","5-10",4,"Specialist","General hospital","No (please refer to Q21)",{"$nulls":50},"I work with residents, but I do not see that as teaching",null,"I do not know","I have no knowledge of what it is","No","I am not sure",null,"I do not know",null,"I do not know","They have to pass a national board exam",null,"Written and oral examination"]
[12989171197,408998795,"2021-09-23T08:07:58","2021-09-02T20:37:36","91.105.8.235",{"$nulls":4},"50+","Male","Latvia","Latvia","Europe","over 20 years","Less than 3","Teacher (in University)","Academic hospital (Teaching or University related)","Yes (please refer to Q10)","Almost every day","over 16","Master in Medical Education",{"$nulls":3},"Advanced Life Support (ALS), Basic Life Support (BLS) or other specific courses","Simulation courses",null,null,"Yes",null,"I give lectures","Perform work-based interactive teaching (operating room)",{"$nulls":5},"Using visual aids",null,"Problem based learning","Teaching the skills",null,"Organizing and leading the discussions",null,null,"Yes","Yes","I am an examiner for the final exam",{"$nulls":4},"I am involved in other forms of formative assessment (for example multisource feedback)",{"$nulls":3},"Yes, it is recognised for promotion in academia.",{"$nulls":7},"Overloaded with work",{"$nulls":5},"Yes","Yes, I am well informed","Yes","I am not sure",null,"Competency (outcome) based curriculum",null,"University","They have to pass a national board exam",null,"Written, oral examination and some practical assessment"]
[12989166460,408998795,"2021-09-23T08:05:16","2021-09-23T08:14:46","164.70.167.251",{"$nulls":4},"41-50","Female","Japan","Japan","Asia","over 20 years","Over 5","Senior specialist","Academic hospital (Teaching or University related)","Yes (please refer to Q10)","Once a week","6-10",{"$nulls":3},"Other short TTT courses",{"$nulls":4},"No",null,"I give lectures",null,null,"Involved in simulation sessions","Teach informally, during every day work",{"$nulls":3},"Interactive teaching",{"$nulls":6},"Yes","Yes",{"$nulls":4},"I give feedback during everyday work",{"$nulls":6},"No, it is assumed as being a part of everyday work",null,null,"Lack of time",{"$nulls":6},"I work with residents, but I do not see that as teaching",null,"Yes","I do not know much","No","No",null,"Content based curriculum",null,"National body responsible for education (Ministry of health or education, National board for anaesthesia …)","They just have to complete the residency program (3-5 years)",null,"Written and oral examination, but also OSCE (Objective Structured Clinical Examination)"]
[12989172961,408998795,"2021-09-23T08:11:14","2021-09-02T19:44:07","80.89.77.254",{"$nulls":4},"50+","Female","Latvia","Latvia","Europe","over 20 years",5,"Chief of Department","Specialized clinic","Yes (please refer to Q10)","Every day","over 16",null,"Obligatory teaching courses for University teachers","ESAIC Teach the Teacher (TTT) courses",null,"Advanced Life Support (ALS), Basic Life Support (BLS) or other specific courses","Simulation courses",null,null,"No",null,"I give lectures","Perform work-based interactive teaching (operating room)","Running clinical case discussions",null,"Teach informally, during every day work",null,"Planning and preparation for teaching session","Using visual aids",null,"Problem based learning","Teaching the skills",null,"Organizing and leading the discussions",null,null,"Yes","Yes","I am an examiner for the final exam",null,null,"I give feedback during simulation sessions","I give feedback during everyday work",{"$nulls":3},"Yes, I am paid more","Yes, it is recognised for promotion in academia.","Yes, I have a more visible position in the department",{"$nulls":6},"Overloaded with work",{"$nulls":5},"Yes","Yes, I am well informed","Yes","Yes","01/01/2012","Competency (outcome) based curriculum",null,"National body responsible for education (Ministry of health or education, National board for anaesthesia …)","They have to pass a national board exam",null,"Written and oral examination"]
[12989171938,408998795,"2021-09-23T08:09:53","2021-09-28T08:25:05","88.119.49.45",{"$nulls":4},"41-50","Male","Lithuania","Lithuania","Europe","over 20 years",3,"Senior specialist","Academic hospital (Teaching or University related)","No (please refer to Q21)",{"$nulls":50},"I work in a non-teaching hospital",null,"No","Yes, I am well informed","I am not sure","I am not sure",null,"Competency (outcome) based curriculum",null,"National body responsible for education (Ministry of health or education, National board for anaesthesia …)","They have to pass a national board exam",null,"Written and oral examination"]
[12989164078,408998795,"2021-09-23T08:03:30","2021-09-24T12:25:22","188.69.195.107",{"$nulls":4},"31-35","Female","Lithuania","Lithuania","Europe","5-10",4,"Specialist","Academic hospital (Teaching or University related)","Yes (please refer to Q10)","Less than once a week","Less than 5",null,null,"ESAIC Teach the Teacher (TTT) courses","Other short TTT courses",{"$nulls":4},"No",null,"I give lectures","Perform work-based interactive teaching (operating room)",null,null,"Teach informally, during every day work",null,"Planning and preparation for teaching session","Using visual aids","Interactive teaching","Problem based learning","Teaching the skills",null,"Organizing and leading the discussions","Organizing specific sessions (journal clubs, interactive sessions, pro and con debate…)",null,"Yes","No",{"$nulls":3},"I give feedback during simulation sessions","I give feedback during everyday work",{"$nulls":3},"Yes, I am paid more",null,"Yes, I have a more visible position in the department",{"$nulls":3},"Lack of time",{"$nulls":8},"Yes","Yes, I am well informed","I am not sure","No",null,"Content based curriculum",null,"Department of anaesthesiology","They have to pass a university board exam",null,"Written and oral examination"]
[12989162379,408998795,"2021-09-23T08:02:22","2021-09-23T08:12:02","182.0.198.162",{"$nulls":4},"41-50","Male","Indonesia","Indonesia","Asia","11-15",4,"Teacher (in University)","Academic hospital (Teaching or University related)","Yes (please refer to Q10)","Almost every day","6-10",null,"Obligatory teaching courses for University teachers",null,"Other short TTT courses",null,"Simulation courses",null,null,"Yes, some elements, but not systematically",null,"I give lectures","Perform work-based interactive teaching (operating room)","Running clinical case discussions","Involved in simulation sessions",{"$nulls":3},"Using visual aids","Interactive teaching","Problem based learning","Teaching the skills",{"$nulls":4},"Yes","Yes","I am an examiner for the final exam",null,"I occasionally carry out assessment during the residency program (Direct Observation of Procedural Skills - DOPS)","I give feedback during simulation sessions","I give feedback during everyday work","I am involved in other forms of formative assessment (for example multisource feedback)",null,null,"Yes, I am paid more","Yes, it is recognised for promotion in academia.",{"$nulls":3},"Lack of training","Lack of time",null,null,"Overloaded with work",null,"Lack of organization",null,"I work with residents, but I do not see that as teaching",null,"Yes","I have some ideas, but it is not clear to me","No","I am not sure",null,"Content based curriculum",null,"National body responsible for education (Ministry of health or education, National board for anaesthesia …)","They have to pass a national board exam",null,"Written and oral examination, but also OSCE (Objective Structured Clinical Examination)"]
[12989161273,408998795,"2021-09-23T08:01:45","2021-09-13T10:20:35","193.219.162.82",{"$nulls":4},"41-50","Female","Lithuania","Lithuania","Europe","over 20 years",3,"Senior specialist","Academic hospital (Teaching or University related)","Yes (please refer to Q10)","Almost every day","11-15",{"$nulls":6},"None",null,"No",null,null,"Perform work-based interactive teaching (operating room)",null,null,"Teach informally, during every day work",{"$nulls":5},"Teaching the skills","Giving feedback",{"$nulls":3},"Yes","Yes",null,null,"I occasionally carry out assessment during the residency program (Direct Observation of Procedural Skills - DOPS)",null,"I give feedback during everyday work","I am involved in other forms of formative assessment (for example multisource feedback)",{"$nulls":5},"No, it is assumed as being a part of everyday work",null,"Lack of training","Lack of time","Lack of motivation",null,"Overloaded with work",{"$nulls":5},"Yes","I know what is it, but outcome-based education is not implemented in my country","No","I am not sure",null,"Content based curriculum",null,"University","They have to pass a university board exam",null,"Written and oral examination"]
[12989162411,408998795,"2021-09-23T08:02:29","2021-09-06T21:09:28","193.219.37.242",{"$nulls":4},"50+","Male","Lithuania","Lithuania","Europe","over 20 years",4,"Teacher (in University)","Academic hospital (Teaching or University related)","Yes (please refer to Q10)","Almost every day","over 16",null,"Obligatory teaching courses for University teachers","ESAIC Teach the Teacher (TTT) courses",null,"Advanced Life Support (ALS), Basic Life Support (BLS) or other specific courses",{"$nulls":3},"Yes, some elements, but not systematically",null,"I give lectures","Perform work-based interactive teaching (operating room)","Running clinical case discussions",null,"Teach informally, during every day work",null,"Planning and preparation for teaching session","Using visual aids","Interactive teaching","Problem based learning","Teaching the skills","Giving feedback","Organizing and leading the discussions",null,null,"Yes","Yes","I am an examiner for the final exam",null,"I occasionally carry out assessment during the residency program (Direct Observation of Procedural Skills - DOPS)",null,"I give feedback during everyday work","I am involved in other forms of formative assessment (for example multisource feedback)",null,null,"Yes, I am paid more",null,"Yes, I have a more visible position in the department",{"$nulls":5},"No recognition","Overloaded with work","Lack of opportunity",{"$nulls":4},"I do not know","Yes, I am well informed","Yes","Yes","08/01/2015","Competency (outcome) based curriculum",null,"Society or association of anaesthesiology","They have to pass a national board exam",null,"Written, oral examination and some practical assessment","EDAIC part 1, see above (our (university)hospital, not all hospitals in Sweden."]
[12989169192,408998795,"2021-09-23T08:08:08","2021-09-05T09:07:12","78.63.210.4",{"$nulls":4},"50+","Female","Lithuania","Lithuania","Europe","over 20 years",4,"Teacher (in University)","Academic hospital (Teaching or University related)","Yes (please refer to Q10)","Almost every day","over 16","Master in Medical Education","Obligatory teaching courses for University teachers","ESAIC Teach the Teacher (TTT) courses","Other short TTT courses",{"$nulls":4},"No",null,"I give lectures","Perform work-based interactive teaching (operating room)","Running clinical case discussions",null,"Teach informally, during every day work",null,"Planning and preparation for teaching session","Using visual aids","Interactive teaching","Problem based learning","Teaching the skills","Giving feedback","Organizing and leading the discussions","Organizing specific sessions (journal clubs, interactive sessions, pro and con debate…)",null,"Yes","Yes","I am an examiner for the final exam",{"$nulls":3},"I give feedback during everyday work",{"$nulls":6},"No, it is assumed as being a part of everyday work",null,"Lack of training","Lack of time","Lack of motivation",null,"Overloaded with work",null,"Lack of organization",{"$nulls":3},"Yes","I have some ideas, but it is not clear to me","I am not sure","No",null,"I do not know",null,"University","They have to pass a university board exam",null,"Written, oral examination and some practical assessment"]
[12989161836,408998795,"2021-09-23T08:02:49","2021-09-23T08:11:27","163.47.36.142",{"$nulls":4},"50+","Male","Bangladesh","Bangladesh","Asia","over 20 years","Over 5","Teacher (in University)","Academic hospital (Teaching or University related)","Yes (please refer to Q10)","Almost every day","over 16",null,"Obligatory teaching courses for University teachers",null,null,"Advanced Life Support (ALS), Basic Life Support (BLS) or other specific courses","Simulation courses",null,null,"Yes",null,"I give lectures","Perform work-based interactive teaching (operating room)","Running clinical case discussions",null,"Teach informally, during every day work",null,"Planning and preparation for teaching session","Using visual aids","Interactive teaching","Problem based learning","Teaching the skills","Giving feedback","Organizing and leading the discussions","Organizing specific sessions (journal clubs, interactive sessions, pro and con debate…)",null,"Yes","Yes","I am an examiner for the final exam",{"$nulls":3},"I give feedback during everyday work","I am involved in other forms of formative assessment (for example multisource feedback)",null,"Course Co-ordinator","Yes, I am paid more","Yes, it is recognised for promotion in academia.",{"$nulls":10},"no",null,null,"Yes","Yes, I am well informed","Yes","Yes","01/04/2010","Competency (outcome) based curriculum",null,"University","They have to pass a university board exam",null,"Written and oral examination, but also OSCE (Objective Structured Clinical Examination)"]
[12989163383,408998795,"2021-09-23T08:03:03","2021-09-05T07:29:41","193.219.87.42",{"$nulls":4},"31-35","Female","Lithuania","Lithuania","Europe","5-10",4,"Specialist","Academic hospital (Teaching or University related)","Yes (please refer to Q10)","Almost every day","Less than 5",{"$nulls":4},"Advanced Life Support (ALS), Basic Life Support (BLS) or other specific courses",{"$nulls":3},"No",null,"I give lectures","Perform work-based interactive teaching (operating room)","Running clinical case discussions",null,"Teach informally, during every day work",null,"Planning and preparation for teaching session","Using visual aids","Interactive teaching","Problem based learning","Teaching the skills","Giving feedback",{"$nulls":3},"No","No",{"$nulls":4},"I give feedback during everyday work","I am involved in other forms of formative assessment (for example multisource feedback)",{"$nulls":5},"No, it is assumed as being a part of everyday work",null,"Lack of training","Lack of time",null,"No recognition","Overloaded with work",{"$nulls":5},"I do not know","I know what is it, but outcome-based education is not implemented in my country","Yes","No",null,"Content based curriculum",null,"I do not know","They have to pass a university board exam",null,"Other (please specify)"]
[12989163732,408998795,"2021-09-23T08:03:59","2021-09-03T09:04:47","188.69.214.133",{"$nulls":4},"50+","Female","Lithuania","Lithuania","Europe","16-20",4,"Chief of Department","Academic hospital (Teaching or University related)","Yes (please refer to Q10)","Every day","11-15",null,null,"ESAIC Teach the Teacher (TTT) courses","Other short TTT courses","Advanced Life Support (ALS), Basic Life Support (BLS) or other specific courses",{"$nulls":3},"No",null,"I give lectures","Perform work-based interactive teaching (operating room)",null,"Involved in simulation sessions","Teach informally, during every day work",null,"Planning and preparation for teaching session","Using visual aids","Interactive teaching","Problem based learning","Teaching the skills","Giving feedback","Organizing and leading the discussions","Organizing specific sessions (journal clubs, interactive sessions, pro and con debate…)",null,"Yes","Yes","I am an examiner for the final exam",null,null,"I give feedback during simulation sessions","I give feedback during everyday work","I am involved in other forms of formative assessment (for example multisource feedback)",null,null,"Yes, I am paid more",{"$nulls":5},"Lack of time",null,null,"Overloaded with work",{"$nulls":5},"No","I do not know much","No","No",null,"Content based curriculum",null,"Department of anaesthesiology","They have to pass a university board exam",null,"Written and oral examination"]
[12989164883,408998795,"2021-09-23T08:05:07","2021-09-03T07:01:38","87.247.66.162",{"$nulls":4},"41-50","Male","Lithuania","Lithuania","Europe","over 20 years",3,"Specialist","General hospital","No (please refer to Q21)",{"$nulls":50},"I work in a non-teaching hospital",null,"No","Yes, I am well informed","Yes","No",null,"Content based curriculum",null,"National body responsible for education (Ministry of health or education, National board for anaesthesia …)","They have to pass a university board exam",null,"Written, oral examination and some practical assessment"]
[12989163932,408998795,"2021-09-23T08:04:17","2021-09-02T19:07:22","88.119.45.27",{"$nulls":4},"41-50","Male","Lithuania","Lithuania","Europe","over 20 years",3,"Specialist","General hospital","No (please refer to Q21)",{"$nulls":50},"I work in a non-teaching hospital",null,"No","I have some ideas, but it is not clear to me","No","I am not sure",null,"I do not know",null,"I do not know","They have to pass a university board exam",null,"Written, oral examination and some practical assessment"]
[12989162912,408998795,"2021-09-23T08:03:11","2021-09-23T08:08:12","94.43.12.238",{"$nulls":4},"50+","Male","Georgia","Georgia","Asia","over 20 years",5,"Teacher (in University)","Private hospital","No (please refer to Q21)",{"$nulls":50},"I work with residents, but I do not see that as teaching",null,"Yes","Yes, I am well informed","I am not sure","Yes","09/01/2012","Competency (outcome) based curriculum",null,"Society or association of anaesthesiology","They have to pass a national board exam",null,"Written and oral examination"]
[12989166275,408998795,"2021-09-23T08:05:03","2021-09-06T09:56:27","185.106.27.212",{"$nulls":4},"41-50","Male","Luxembourg","Luxembourg","Europe","16-20",5,"Teacher (in University)","Academic hospital (Teaching or University related)","No (please refer to Q21)"]
[12989164244,408998795,"2021-09-23T08:04:33","2021-09-23T08:07:41","51.252.5.148",{"$nulls":4},"31-35","Male","India","Saudi Arabia","Asia","5-10",3,"Specialist","General hospital","No (please refer to Q21)",{"$nulls":50},"I work in a non-teaching hospital",null,"Yes","I know what is it, but outcome-based education is not implemented in my country","Yes","No",null,"Content based curriculum",null,"National body responsible for education (Ministry of health or education, National board for anaesthesia …)","They have to pass a university board exam",null,"Written and oral examination"]
[12989163835,408998795,"2021-09-23T08:03:50","2021-09-23T08:07:27","146.75.188.2",{"$nulls":4},"41-50","Male","Zimbabwe","Canada","North America","11-15",4,"Senior specialist","Academic hospital (Teaching or University related)","Yes (please refer to Q10)","Every day","11-15","Master in Medical Education",{"$nulls":4},"Simulation courses",null,null,"Yes, some elements, but not systematically",null,"I give lectures","Perform work-based interactive teaching (operating room)","Running clinical case discussions","Involved in simulation sessions","Teach informally, during every day work",null,null,"Using visual aids","Interactive teaching","Problem based learning","Teaching the skills","Giving feedback","Organizing and leading the discussions",null,null,"No","No",{"$nulls":3},"I give feedback during simulation sessions","I give feedback during everyday work","I am involved in other forms of formative assessment (for example multisource feedback)",{"$nulls":5},"No, it is assumed as being a part of everyday work","No","Lack of training","Lack of time","Lack of motivation","No recognition","Overloaded with work"]
[12989162613,408998795,"2021-09-23T08:03:21","2021-09-29T12:46:09","185.5.48.174",{"$nulls":4},"25-30","Female","Malta","Malta","Europe","11-15",5,"Senior specialist","Academic hospital (Teaching or University related)","Yes (please refer to Q10)","Almost every day","6-10",null,null,"ESAIC Teach the Teacher (TTT) courses",null,"Advanced Life Support (ALS), Basic Life Support (BLS) or other specific courses",{"$nulls":3},"No",null,"I give lectures","Perform work-based interactive teaching (operating room)","Running clinical case discussions","Involved in simulation sessions","Teach informally, during every day work",null,"Planning and preparation for teaching session","Using visual aids",null,"Problem based learning","Teaching the skills","Giving feedback","Organizing and leading the discussions","Organizing specific sessions (journal clubs, interactive sessions, pro and con debate…)",null,"Yes","Yes","I am an examiner for the final exam",null,"I occasionally carry out assessment during the residency program (Direct Observation of Procedural Skills - DOPS)","I give feedback during simulation sessions","I give feedback during everyday work","I am involved in other forms of formative assessment (for example multisource feedback)",{"$nulls":3},"Yes, it is recognised for promotion in academia.",{"$nulls":3},"Lack of training","Lack of time",null,"No recognition","Overloaded with work",null,"Lack of organization",{"$nulls":3},"Yes","Yes, I am well informed","Yes","I am not sure",null,"Competency (outcome) based curriculum",null,"Society or association of anaesthesiology","They have to pass EDAIC part II",null,"It is only oral examination"]
[12989162858,408998795,"2021-09-23T08:02:43","2021-09-23T08:06:26","49.206.3.15",{"$nulls":4},"31-35","Male","India","India","Asia","5-10",3,"Specialist","Academic hospital (Teaching or University related)","No (please refer to Q21)",{"$nulls":50},"I work with residents, but I do not see that as teaching",null,"Yes","I have no knowledge of what it is","No","No",null,"I do not know",null,"National body responsible for education (Ministry of health or education, National board for anaesthesia …)","They have to pass a national board exam",null,"Written, oral examination and some practical assessment"]
[12989164669,408998795,"2021-09-23T08:04:39","2021-09-25T12:53:44","78.133.73.254",{"$nulls":4},"41-50","Male","Malta","Malta","Europe","over 20 years","Over 5","Specialist","Academic hospital (Teaching or University related)","Yes (please refer to Q10)","Almost every day","11-15",null,"Obligatory teaching courses for University teachers","ESAIC Teach the Teacher (TTT) courses","Other short TTT courses","Advanced Life Support (ALS), Basic Life Support (BLS) or other specific courses",{"$nulls":3},"Yes, some elements, but not systematically",null,"I give lectures","Perform work-based interactive teaching (operating room)","Running clinical case discussions","Involved in simulation sessions","Teach informally, during every day work","coordinate training","Planning and preparation for teaching session","Using visual aids","Interactive teaching","Problem based learning","Teaching the skills","Giving feedback","Organizing and leading the discussions","Organizing specific sessions (journal clubs, interactive sessions, pro and con debate…)",null,"Yes","No","I am an examiner for the final exam",null,"I occasionally carry out assessment during the residency program (Direct Observation of Procedural Skills - DOPS)","I give feedback during simulation sessions","I give feedback during everyday work","I am involved in other forms of formative assessment (for example multisource feedback)",null,"Prepare yearly knowledge based assessments","Yes, I am paid more",null,"Yes, I have a more visible position in the department",{"$nulls":3},"Lack of time",null,null,"Overloaded with work",null,null,"not everyone is on board, a lot of personal time must be devoted",null,null,"Yes","Yes, I am well informed","Yes","Yes",null,"Other (please specify)","mixed content and competency","Society or association of anaesthesiology","Other (please specify)","pass a local exam, pass EDAIC complete residency","It is only oral examination"]
[12989100062,408998795,"2021-09-23T07:09:35","2021-09-24T12:49:10","217.30.102.27",{"$nulls":4},"50+","Female","Serbia","Malta","Europe","over 20 years",4,"Senior specialist","Academic hospital (Teaching or University related)","Yes (please refer to Q10)","Every day","over 16","Master in Medical Education",{"$nulls":7},"Yes",{"$nulls":5},"Teach informally, during every day work",{"$nulls":5},"Teaching the skills",{"$nulls":4},"Yes","No",{"$nulls":6},"I am not involved in any kind of assessment",null,"Yes, I am paid more",{"$nulls":5},"Lack of time",null,null,"Overloaded with work",{"$nulls":13},"They have to pass a national board exam",null,"VIVA (Oral examination), written and OSCE examination"]
[12982276113,408998795,"2021-09-21T01:13:39","2021-09-09T22:11:12","77.71.225.149",{"$nulls":4},"50+","Male","Malta","Malta","Europe","over 20 years",5,"Senior specialist","Academic hospital (Teaching or University related)","Yes (please refer to Q10)","Almost every day","over 16",{"$nulls":6},"None",null,"Yes, some elements, but not systematically",null,"I give lectures","Perform work-based interactive teaching (operating room)",null,null,"Teach informally, during every day work",null,"Planning and preparation for teaching session","Using visual aids","Interactive teaching","Problem based learning","Teaching the skills","Giving feedback",{"$nulls":3},"No","No",null,null,"I occasionally carry out assessment during the residency program (Direct Observation of Procedural Skills - DOPS)",null,"I give feedback during everyday work","I am involved in other forms of formative assessment (for example multisource feedback)",null,"Previously examiner for final exam, but have not participated recently due to other commitments",{"$nulls":3},"No, it is assumed as being a part of everyday work",null,null,"Lack of time",null,null,"Overloaded with work",{"$nulls":5},"Yes","Yes, I am well informed","Yes","I am not sure",null,"Competency (outcome) based curriculum",null,"Society or association of anaesthesiology","Other (please specify)","Pass local final exam, EDAIC Pt II and complete structured residency programme (5 years)","It is only oral examination","In our country the university board exam include 3 components: first one - prcatical skils, second one- OLA test and the last one - oral part "]
[12980060487,408998795,"2021-09-20T08:56:18","2021-09-03T15:11:46","46.11.5.16",{"$nulls":4},"36-40","Female","Malta","Malta","Europe","11-15","Over 5","Senior specialist","Academic hospital (Teaching or University related)","Yes (please refer to Q10)","Almost every day","6-10","Master in Medical Education",null,"ESAIC Teach the Teacher (TTT) courses",null,"Advanced Life Support (ALS), Basic Life Support (BLS) or other specific courses","Simulation courses",null,null,"No",null,"I give lectures","Perform work-based interactive teaching (operating room)","Running clinical case discussions","Involved in simulation sessions","Teach informally, during every day work",null,"Planning and preparation for teaching session","Using visual aids","Interactive teaching","Problem based learning","Teaching the skills","Giving feedback","Organizing and leading the discussions",null,null,"Yes","Yes",null,null,"I occasionally carry out assessment during the residency program (Direct Observation of Procedural Skills - DOPS)","I give feedback during simulation sessions","I give feedback during everyday work",{"$nulls":5},"Yes, I have a more visible position in the department",{"$nulls":3},"Lack of time",null,"No recognition","Overloaded with work",null,"Lack of organization",{"$nulls":3},"Yes","Yes, I am well informed","Yes","No",null,"Classic surgical specialties based curriculum",null,"Society or association of anaesthesiology","They have to pass EDAIC part II",null,"Written and oral examination"]
[12979050326,408998795,"2021-09-19T16:32:56","2021-09-02T20:58:00","46.11.60.58",{"$nulls":4},"25-30","Male","Malta","Malta","Europe","5-10","Over 5","Specialist","Academic hospital (Teaching or University related)","No (please refer to Q21)",{"$nulls":50},"I work with residents, but I do not see that as teaching",null,"Yes","Yes, I am well informed","Yes","No",null,"I do not know",null,"Society or association of anaesthesiology","Other (please specify)","EDAIC Part II, satisfactory  completion of training rotations, local appraisal of portfolio and a local board exam with external examiners.","It is only oral examination"]
[12978595018,408998795,"2021-09-19T08:11:48","2021-09-19T08:14:11","106.204.201.135",{"$nulls":4},"41-50","Male","India","India","Asia","11-15","Less than 3","Senior specialist","Private hospital","Yes (please refer to Q10)"]
[12978089546,408998795,"2021-09-18T21:41:50","2021-09-02T20:17:11","46.11.183.94",{"$nulls":4},"36-40","Female","Malta","Malta","Europe","11-15","Over 5","Specialist","Academic hospital (Teaching or University related)","Yes (please refer to Q10)","When in the operating theater (always have an allocated resident)","6-10",null,null,"ESAIC Teach the Teacher (TTT) courses","Other short TTT courses","Advanced Life Support (ALS), Basic Life Support (BLS) or other specific courses","Simulation courses",null,null,"Yes, some elements, but not systematically",null,"I give lectures","Perform work-based interactive teaching (operating room)","Running clinical case discussions","Involved in simulation sessions","Teach informally, during every day work",null,"Planning and preparation for teaching session","Using visual aids","Interactive teaching","Problem based learning","Teaching the skills","Giving feedback","Organizing and leading the discussions",null,null,"Yes","Yes",null,null,"I occasionally carry out assessment during the residency program (Direct Observation of Procedural Skills - DOPS)","I give feedback during simulation sessions","I give feedback during everyday work","I am involved in other forms of formative assessment (for example multisource feedback)",{"$nulls":5},"No, it is assumed as being a part of everyday work",null,null,"Lack of time",null,null,"Overloaded with work",{"$nulls":5},"Yes","Yes, I am well informed","Yes","Yes",null,"Competency (outcome) based curriculum",null,"Department of anaesthesiology","They have to pass EDAIC part II",null,"It is only oral examination"]
[12977843724,408998795,"2021-09-18T17:42:42","2021-10-06T17:58:54","85.149.66.75",{"$nulls":4},"36-40","Male","Netherlands","Netherlands","Europe","5-10",5,"Specialist","Academic hospital (Teaching or University related)","Yes (please refer to Q10)","When in the operating theater (always have an allocated resident)","Less than 5",{"$nulls":3},"Other short TTT courses",{"$nulls":4},"Other (please specify)","Don't know",null,"Perform work-based interactive teaching (operating room)","Running clinical case discussions",null,"Teach informally, during every day work",{"$nulls":6},"Giving feedback",{"$nulls":3},"No","No",{"$nulls":4},"I give feedback during everyday work","I am involved in other forms of formative assessment (for example multisource feedback)",{"$nulls":5},"No, it is assumed as being a part of everyday work",{"$nulls":11},"Yes","Yes, I am well informed","No","No",null,"Competency (outcome) based curriculum",null,"Society or association of anaesthesiology","Other (please specify)","Answers 1 AND 2 (Board exam + EDAIC part 1)","Written, oral examination and some practical assessment"]
[12977760879,408998795,"2021-09-18T16:35:07","2021-09-28T12:55:30","163.158.103.19",{"$nulls":4},"50+","Male","Netherlands","Netherlands","Europe","over 20 years",5,"Senior specialist","General hospital","Yes (please refer to Q10)","Almost every day","over 16",{"$nulls":3},"Other short TTT courses","Advanced Life Support (ALS), Basic Life Support (BLS) or other specific courses","Simulation courses",null,null,"Yes",null,"I give lectures","Perform work-based interactive teaching (operating room)","Running clinical case discussions",null,"Teach informally, during every day work",{"$nulls":4},"Problem based learning","Teaching the skills","Giving feedback","Organizing and leading the discussions","Organizing specific sessions (journal clubs, interactive sessions, pro and con debate…)",null,"No","Yes","I am an examiner for the final exam",{"$nulls":3},"I give feedback during everyday work","I am involved in other forms of formative assessment (for example multisource feedback)",{"$nulls":5},"No, it is assumed as being a part of everyday work",{"$nulls":8},"none",null,null,"Yes","Yes, I am well informed","No","Yes","03/01/2019","Competency (outcome) based curriculum",null,"Society or association of anaesthesiology","Other (please specify)","national exam, edaic exam and full epa profile","It is only oral examination"]
[12975959516,408998795,"2021-09-17T19:16:17","2021-09-17T19:16:48","80.245.23.143",{"$nulls":4},"36-40","Female","Belgium","Bangladesh","Asia","11-15",5,"Senior specialist","Academic hospital (Teaching or University related)","Yes (please refer to Q10)"]
[12973541979,408998795,"2021-09-17T00:33:55","2021-09-25T08:23:16","217.101.191.27",{"$nulls":4},"50+","Female","United States of America","Netherlands","Europe","16-20","Over 5","Senior specialist","Specialized clinic","Yes (please refer to Q10)","Less than once a week","Less than 5",{"$nulls":4},"Advanced Life Support (ALS), Basic Life Support (BLS) or other specific courses",{"$nulls":3},"Yes, some elements, but not systematically",null,null,"Perform work-based interactive teaching (operating room)","Running clinical case discussions","Involved in simulation sessions",null,null,"Planning and preparation for teaching session","Using visual aids","Interactive teaching","Problem based learning","Teaching the skills","Giving feedback","Organizing and leading the discussions",null,null,"Yes","No","I am an examiner for the final exam",null,null,"I give feedback during simulation sessions",{"$nulls":4},"Yes, I am paid more",null,"Yes, I have a more visible position in the department",{"$nulls":4},"Lack of motivation","No recognition","Overloaded with work",{"$nulls":3},"I work in a non-teaching hospital",null,"Yes","I have some ideas, but it is not clear to me","No","I am not sure",{"$nulls":3},"National body responsible for education (Ministry of health or education, National board for anaesthesia …)","They have to pass a national board exam",null,"Written and oral examination"]
[12972602939,408998795,"2021-09-16T17:56:27","2021-09-24T12:35:06","192.87.23.83",{"$nulls":4},"50+","Male","Netherlands","Netherlands","Europe","over 20 years",5,"Senior specialist","Academic hospital (Teaching or University related)","Yes (please refer to Q10)","When in the operating theater (always have an allocated resident)","over 16",{"$nulls":3},"Other short TTT courses","Advanced Life Support (ALS), Basic Life Support (BLS) or other specific courses","Simulation courses",null,null,"Yes",null,null,"Perform work-based interactive teaching (operating room)","Running clinical case discussions","Involved in simulation sessions","Teach informally, during every day work",null,null,"Using visual aids","Interactive teaching","Problem based learning","Teaching the skills","Giving feedback",{"$nulls":3},"No","Yes",null,null,"I occasionally carry out assessment during the residency program (Direct Observation of Procedural Skills - DOPS)","I give feedback during simulation sessions","I give feedback during everyday work",{"$nulls":6},"No, it is assumed as being a part of everyday work",null,null,"Lack of time",{"$nulls":8},"Yes","I have some ideas, but it is not clear to me","No","Yes",null,"Competency (outcome) based curriculum",null,"Society or association of anaesthesiology","They have to pass a national board exam",null,"VIVA (Oral examination), written and OSCE examination"]
[12972286428,408998795,"2021-09-16T16:05:32","2021-09-24T08:11:25","156.83.1.179",{"$nulls":4},"36-40","Male","Netherlands","Netherlands","Europe","5-10",5,"Specialist","Academic hospital (Teaching or University related)","Yes (please refer to Q10)","When in the operating theater (always have an allocated resident)","Less than 5",null,"Obligatory teaching courses for University teachers",null,"Other short TTT courses","Advanced Life Support (ALS), Basic Life Support (BLS) or other specific courses","Simulation courses",null,null,"Yes",null,"I give lectures","Perform work-based interactive teaching (operating room)",null,null,"Teach informally, during every day work",{"$nulls":3},"Interactive teaching","Problem based learning","Teaching the skills","Giving feedback",{"$nulls":3},"No","No",null,null,"I occasionally carry out assessment during the residency program (Direct Observation of Procedural Skills - DOPS)",null,"I give feedback during everyday work","I am involved in other forms of formative assessment (for example multisource feedback)",{"$nulls":5},"No, it is assumed as being a part of everyday work",null,null,"Lack of time",{"$nulls":8},"Yes","Yes, I am well informed","No","I am not sure",null,"Competency (outcome) based curriculum",null,"Society or association of anaesthesiology","They have to pass a national board exam",null,"Other (please specify)"]
[12972148679,408998795,"2021-09-16T15:15:02","2021-09-23T14:04:14","188.207.111.207",{"$nulls":4},"31-35","Male","Netherlands","Netherlands","Europe","5-10",5,"Specialist","Academic hospital (Teaching or University related)","Yes (please refer to Q10)","Less than once a week","Less than 5",{"$nulls":3},"Other short TTT courses",{"$nulls":4},"Yes, some elements, but not systematically",null,null,"Perform work-based interactive teaching (operating room)",null,null,"Teach informally, during every day work",{"$nulls":3},"Interactive teaching","Problem based learning","Teaching the skills","Giving feedback",{"$nulls":3},"No","Yes",null,null,"I occasionally carry out assessment during the residency program (Direct Observation of Procedural Skills - DOPS)",null,"I give feedback during everyday work","I am involved in other forms of formative assessment (for example multisource feedback)",{"$nulls":5},"No, it is assumed as being a part of everyday work",null,"Lack of training","Lack of time",{"$nulls":8},"Yes","I have some ideas, but it is not clear to me","No","Yes",null,"I do not know",null,"Society or association of anaesthesiology","They have to pass a national board exam",null,"It is only oral examination"]
[12971872040,408998795,"2021-09-16T13:15:07","2021-09-16T13:41:16","82.29.137.99",{"$nulls":4},"41-50","Male","Nigeria","Nigeria","Africa","16-20",4,"Chief of Department","Academic hospital (Teaching or University related)","Yes (please refer to Q10)","Almost every day","6-10",{"$nulls":4},"Advanced Life Support (ALS), Basic Life Support (BLS) or other specific courses",{"$nulls":3},"Yes, some elements, but not systematically",null,"I give lectures","Perform work-based interactive teaching (operating room)","Running clinical case discussions",null,"Teach informally, during every day work",null,"Planning and preparation for teaching session","Using visual aids","Interactive teaching","Problem based learning","Teaching the skills","Giving feedback",{"$nulls":3},"Yes","Yes",{"$nulls":5},"I am involved in other forms of formative assessment (for example multisource feedback)",{"$nulls":4},"Yes, I have a more visible position in the department",{"$nulls":6},"Overloaded with work",null,"Lack of organization",{"$nulls":3},"Yes","Yes, I am well informed","I am not sure","I am not sure",null,"Content based curriculum",null,"National body responsible for education (Ministry of health or education, National board for anaesthesia …)","They have to pass a national board exam",null,"Written and oral examination, but also OSCE (Objective Structured Clinical Examination)"]
[12971732314,408998795,"2021-09-16T12:18:10","2021-09-23T10:49:58","31.161.149.78",{"$nulls":4},"41-50","Female","Netherlands","Netherlands","Europe","16-20","Over 5","Senior resident","General hospital","Yes (please refer to Q10)","Almost every day","6-10",{"$nulls":3},"Other short TTT courses","Advanced Life Support (ALS), Basic Life Support (BLS) or other specific courses",{"$nulls":3},"Other (please specify)","I don’t know",null,"Perform work-based interactive teaching (operating room)",{"$nulls":4},"Planning and preparation for teaching session","Using visual aids","Interactive teaching",null,"Teaching the skills",{"$nulls":4},"No","No",{"$nulls":4},"I give feedback during everyday work",{"$nulls":6},"No, it is assumed as being a part of everyday work",null,null,"Lack of time",null,null,"Overloaded with work",{"$nulls":5},"Yes","Yes, I am well informed","No","I am not sure",{"$nulls":3},"University","They have to pass EDAIC part I",null,"Written and oral examination"]
[12969422481,408998795,"2021-09-15T17:58:59","2021-09-23T10:02:34","192.87.23.83",{"$nulls":4},"50+","Male","Belgium","Netherlands","Europe","16-20",5,"Specialist","Academic hospital (Teaching or University related)","Yes (please refer to Q10)","Every day","11-15",{"$nulls":4},"Advanced Life Support (ALS), Basic Life Support (BLS) or other specific courses","Simulation courses",null,null,"Yes",null,"I give lectures",null,null,"Involved in simulation sessions","Teach informally, during every day work",{"$nulls":5},"Teaching the skills","Giving feedback","Organizing and leading the discussions","Organizing specific sessions (journal clubs, interactive sessions, pro and con debate…)",null,"Yes","Yes","I am an examiner for the final exam",null,"I occasionally carry out assessment during the residency program (Direct Observation of Procedural Skills - DOPS)",null,"I give feedback during everyday work",{"$nulls":6},"No, it is assumed as being a part of everyday work",null,null,"Lack of time",null,null,"Overloaded with work",{"$nulls":5},"Yes","I do not know much","Yes","Yes",null,"Competency (outcome) based curriculum",null,"National body responsible for education (Ministry of health or education, National board for anaesthesia …)","They have to pass a national board exam",null,"It is only oral examination"]
[12968678643,408998795,"2021-09-15T13:46:26","2021-09-15T13:49:54","2.50.133.137",{"$nulls":4},"41-50","Male","India","United Arab Emirates","Asia","16-20",3,"Senior specialist","General hospital","No (please refer to Q21)"]
[12968011904,408998795,"2021-09-15T08:17:38","2021-09-23T08:36:45","145.117.226.11",{"$nulls":4},"50+","Male","Germany","Netherlands","Europe","over 20 years",5,"Senior specialist","Academic hospital (Teaching or University related)","Yes (please refer to Q10)","Every day","over 16",null,"Obligatory teaching courses for University teachers","ESAIC Teach the Teacher (TTT) courses","Other short TTT courses","Advanced Life Support (ALS), Basic Life Support (BLS) or other specific courses","Simulation courses",null,null,"Yes",null,"I give lectures","Perform work-based interactive teaching (operating room)",null,null,"Teach informally, during every day work","practise related workshops","Planning and preparation for teaching session",null,"Interactive teaching","Problem based learning","Teaching the skills","Giving feedback","Organizing and leading the discussions","Organizing specific sessions (journal clubs, interactive sessions, pro and con debate…)",null,"Yes","Yes","I am an examiner for the final exam","I am European Diploma in Anaesthesia and Intensive Care (EDAIC) part II examiner","I occasionally carry out assessment during the residency program (Direct Observation of Procedural Skills - DOPS)",null,"I give feedback during everyday work","I am involved in other forms of formative assessment (for example multisource feedback)",{"$nulls":5},"No, it is assumed as being a part of everyday work",null,null,"Lack of time",null,"No recognition","Overloaded with work",null,"Lack of organization",{"$nulls":3},"Yes","I have some ideas, but it is not clear to me","Yes","I am not sure",null,"Competency (outcome) based curriculum",null,"Society or association of anaesthesiology","They have to pass a national board exam",null,"Written and oral examination"]
[12966089984,408998795,"2021-09-14T17:30:44","2021-09-23T08:19:08","87.213.169.236",{"$nulls":4},"41-50","Male","Netherlands","Netherlands","Europe","11-15",5,"Senior specialist","General hospital","Yes (please refer to Q10)","Almost every day","6-10",null,"Obligatory teaching courses for University teachers",null,"Other short TTT courses","Advanced Life Support (ALS), Basic Life Support (BLS) or other specific courses","Simulation courses",null,null,"Yes",null,null,"Perform work-based interactive teaching (operating room)","Running clinical case discussions",null,"Teach informally, during every day work",null,"Planning and preparation for teaching session","Using visual aids","Interactive teaching","Problem based learning","Teaching the skills","Giving feedback","Organizing and leading the discussions","Organizing specific sessions (journal clubs, interactive sessions, pro and con debate…)",null,"No","Yes",{"$nulls":4},"I give feedback during everyday work","I am involved in other forms of formative assessment (for example multisource feedback)",{"$nulls":6},"No",null,"Lack of time",null,null,"Overloaded with work",{"$nulls":5},"Yes","I have some ideas, but it is not clear to me","No","Yes","01/01/1980","Competency (outcome) based curriculum",null,"Society or association of anaesthesiology","They have to pass a national board exam",null,"Written and oral examination, but also OSCE (Objective Structured Clinical Examination)"]
[12965129718,408998795,"2021-09-14T11:07:01","2021-09-23T08:13:22","109.38.146.150",{"$nulls":4},"50+","Male","Netherlands","Netherlands","Europe","16-20",5,"Senior resident","General hospital","Yes (please refer to Q10)","When in the operating theater (always have an allocated resident)","6-10",null,"Obligatory teaching courses for University teachers",null,"Other short TTT courses","Advanced Life Support (ALS), Basic Life Support (BLS) or other specific courses","Simulation courses",null,"Atls","Yes, some elements, but not systematically",null,"I give lectures","Perform work-based interactive teaching (operating room)","Running clinical case discussions",{"$nulls":3},"Planning and preparation for teaching session","Using visual aids",null,null,"Teaching the skills","Giving feedback",null,"Organizing specific sessions (journal clubs, interactive sessions, pro and con debate…)",null,"Yes","Yes","I am an examiner for the final exam",null,"I occasionally carry out assessment during the residency program (Direct Observation of Procedural Skills - DOPS)",null,"I give feedback during everyday work",null,null,"I'm the chair if the national examination committee",{"$nulls":3},"No, it is assumed as being a part of everyday work",null,null,"Lack of time",null,null,"Overloaded with work",{"$nulls":5},"Yes","Yes, I am well informed","No","I am not sure",null,"Competency (outcome) based curriculum",null,"Society or association of anaesthesiology","Other (please specify)","Either edaic or ola and subsequently oral exam","Written and oral examination"]
[12962278126,408998795,"2021-09-13T13:52:29","2021-09-23T08:06:46","82.94.32.115",{"$nulls":4},"31-35","Female","Netherlands","Netherlands","Europe","5-10",5,"Trainee","Academic hospital (Teaching or University related)","No (please refer to Q21)",{"$nulls":50},"Other (please specify)","I'm a resident myself and I just started","Yes","Yes, I am well informed","Yes","Yes","05/01/2015","Competency (outcome) based curriculum",null,"National body responsible for education (Ministry of health or education, National board for anaesthesia …)","They have to pass a national board exam",null,"Written and oral examination, but also OSCE (Objective Structured Clinical Examination)"]
[12961919244,408998795,"2021-09-13T10:25:21","2021-09-14T17:32:20","213.127.106.193",{"$nulls":4},"50+","Female","Netherlands","Netherlands","Europe","over 20 years",5,"Chief of Department","Specialized clinic","Yes (please refer to Q10)"]
[12961891432,408998795,"2021-09-13T10:13:00","2021-09-09T15:32:11","83.82.199.1",{"$nulls":4},"41-50","Male","Netherlands","Netherlands","Europe","11-15",5,"Specialist","Academic hospital (Teaching or University related)","Yes (please refer to Q10)","Almost every day","11-15",null,"Obligatory teaching courses for University teachers",null,"Other short TTT courses","Advanced Life Support (ALS), Basic Life Support (BLS) or other specific courses",{"$nulls":3},"Yes",null,"I give lectures","Perform work-based interactive teaching (operating room)","Running clinical case discussions",null,"Teach informally, during every day work","Problem Based Learning Sessions","Planning and preparation for teaching session","Using visual aids","Interactive teaching","Problem based learning","Teaching the skills","Giving feedback","Organizing and leading the discussions",null,null,"No","Yes",null,null,"I occasionally carry out assessment during the residency program (Direct Observation of Procedural Skills - DOPS)",null,"I give feedback during everyday work","I am involved in other forms of formative assessment (for example multisource feedback)",{"$nulls":5},"No, it is assumed as being a part of everyday work",null,null,"Lack of time",null,null,"Overloaded with work",{"$nulls":5},"Yes","Yes, I am well informed","Yes","Yes","01/01/2021","Competency (outcome) based curriculum",null,"National body responsible for education (Ministry of health or education, National board for anaesthesia …)","They have to pass EDAIC part II",null,"Written and oral examination"]
[12961534104,408998795,"2021-09-13T05:33:58","2021-09-13T05:41:55","131.203.241.98",{"$nulls":4},"50+","Male","Zambia","New Zealand","Australia and Oceania","over 20 years",4,"Specialist","General hospital",null,"Almost every day","over 16",{"$nulls":6},"None",null,"Other (please specify)","There might be now.",null,"Perform work-based interactive teaching (operating room)",null,null,"Teach informally, during every day work",{"$nulls":4},"Problem based learning",null,"Giving feedback",{"$nulls":3},"No","No",null,null,"I occasionally carry out assessment during the residency program (Direct Observation of Procedural Skills - DOPS)",null,null,"I am involved in other forms of formative assessment (for example multisource feedback)",{"$nulls":5},"No, it is assumed as being a part of everyday work",{"$nulls":8},"No obstacles for me personally",null,null,"Yes","I do not know much","No","I am not sure",null,"I do not know",null,"National body responsible for education (Ministry of health or education, National board for anaesthesia …)","They have to pass a national board exam",null,"Written and oral examination"]
[12960764553,408998795,"2021-09-12T18:45:49","2021-09-09T12:49:12","109.36.139.126",{"$nulls":4},"36-40","Female","Netherlands","Netherlands","Europe","5-10",5,"Specialist","General hospital","No (please refer to Q21)",{"$nulls":50},"I work in a non-teaching hospital",null,"Yes","Yes, I am well informed","Yes","I am not sure",null,"I do not know",null,"Department of anaesthesiology","They have to pass EDAIC part I",null,"Written, oral examination and some practical assessment"]
[12960586996,408998795,"2021-09-12T16:02:29","2021-09-08T23:13:14","212.178.79.162",{"$nulls":4},"41-50","Male","Germany","Netherlands","Europe","16-20",5,"Senior specialist","General hospital","Yes (please refer to Q10)","Less than once a week","over 16",null,"Obligatory teaching courses for University teachers",null,"Other short TTT courses","Advanced Life Support (ALS), Basic Life Support (BLS) or other specific courses","Simulation courses",null,null,"No, but students are exposed to outcome based teaching",{"$nulls":5},"Teach informally, during every day work","Problem based learning","Planning and preparation for teaching session",null,"Interactive teaching","Problem based learning","Teaching the skills","Giving feedback","Organizing and leading the discussions",null,null,"No","No",{"$nulls":4},"I give feedback during everyday work","I am involved in other forms of formative assessment (for example multisource feedback)",{"$nulls":5},"No, it is assumed as being a part of everyday work",null,null,"Lack of time",null,null,"Overloaded with work",{"$nulls":3},"I work with residents, but I do not see that as teaching",null,null,"Yes, I am well informed","Yes","Yes","09/08/2019","Competency (outcome) based curriculum",null,"National body responsible for education (Ministry of health or education, National board for anaesthesia …)","They have to pass a national board exam",null,"It is only oral examination"]
[12960370048,408998795,"2021-09-12T12:21:28","2021-09-06T11:10:47","93.92.96.217",{"$nulls":4},"50+","Male","Netherlands","Netherlands","Europe","16-20",5,"Senior specialist","General hospital","Yes (please refer to Q10)","Every day","over 16",{"$nulls":3},"Other short TTT courses","Advanced Life Support (ALS), Basic Life Support (BLS) or other specific courses","Simulation courses",null,"course director Generic Instructor Course","Yes",null,"I give lectures","Perform work-based interactive teaching (operating room)","Running clinical case discussions","Involved in simulation sessions","Teach informally, during every day work",null,"Planning and preparation for teaching session","Using visual aids","Interactive teaching","Problem based learning","Teaching the skills","Giving feedback","Organizing and leading the discussions","Organizing specific sessions (journal clubs, interactive sessions, pro and con debate…)",null,"Yes","Yes","I am an examiner for the final exam",null,"I occasionally carry out assessment during the residency program (Direct Observation of Procedural Skills - DOPS)","I give feedback during simulation sessions","I give feedback during everyday work",{"$nulls":5},"Yes, I have a more visible position in the department",{"$nulls":9},"in training other personal than residents lack of opportunity during working ours",null,null,"Yes","Yes, I am well informed","Yes","Yes","01/01/2020","Competency (outcome) based curriculum",null,"Society or association of anaesthesiology","They have to pass a national board exam",null,"Other (please specify)"]
[12960281063,408998795,"2021-09-12T10:41:18","2021-09-06T09:13:22","109.37.146.51",{"$nulls":4},"31-35","Male","Netherlands","Netherlands","Europe","5-10","Over 5","Specialist","General hospital","Yes (please refer to Q10)","Almost every day","Less than 5",{"$nulls":3},"Other short TTT courses","Advanced Life Support (ALS), Basic Life Support (BLS) or other specific courses",{"$nulls":3},"No",null,"I give lectures","Perform work-based interactive teaching (operating room)","Running clinical case discussions",null,"Teach informally, during every day work",null,null,"Using visual aids",null,"Problem based learning","Teaching the skills","Giving feedback","Organizing and leading the discussions","Organizing specific sessions (journal clubs, interactive sessions, pro and con debate…)",null,"No","Yes",{"$nulls":4},"I give feedback during everyday work","I am involved in other forms of formative assessment (for example multisource feedback)",{"$nulls":5},"No, it is assumed as being a part of everyday work",{"$nulls":6},"Lack of opportunity",{"$nulls":4},"Yes","Yes, I am well informed","No","Yes",null,"Competency (outcome) based curriculum",null,"University","They have to pass a national board exam",null,"Written and oral examination"]
[12960111240,408998795,"2021-09-12T06:44:36","2021-09-03T22:16:13","143.121.239.47",{"$nulls":4},"41-50","Male","Netherlands","Netherlands","Europe","16-20",5,"Specialist","Academic hospital (Teaching or University related)","Yes (please refer to Q10)","Every day","6-10",null,"Obligatory teaching courses for University teachers",null,"Other short TTT courses",{"$nulls":3},"PhD medicale ducation, postgraduate certificate in emdicale ducation, postgraduate certificate in health professions education","Yes, some elements, but not systematically",null,"I give lectures","Perform work-based interactive teaching (operating room)","Running clinical case discussions",null,"Teach informally, during every day work","vice program director of residency training","Planning and preparation for teaching session","Using visual aids","Interactive teaching","Problem based learning","Teaching the skills","Giving feedback",{"$nulls":3},"Yes","No","I am an examiner for the final exam",null,"I occasionally carry out assessment during the residency program (Direct Observation of Procedural Skills - DOPS)",null,"I give feedback during everyday work","I am involved in other forms of formative assessment (for example multisource feedback)",{"$nulls":4},"Yes, I have a more visible position in the department",{"$nulls":3},"Lack of time",null,null,"Overloaded with work",{"$nulls":5},"Yes","Yes, I am well informed","Yes","Yes","01/01/2005","Competency (outcome) based curriculum",null,"Society or association of anaesthesiology","Other (please specify)","EADAIC 1, nationa board oral exam, completion of EPAs","Other (please specify)"]
[12959330006,408998795,"2021-09-11T15:55:10","2021-09-03T20:43:57","178.84.22.79",{"$nulls":4},"31-35","Female","Netherlands","Netherlands","Europe","5-10",5,"Specialist","General hospital","Yes (please refer to Q10)","Almost every day","Less than 5",{"$nulls":6},"None",null,"No",null,null,"Perform work-based interactive teaching (operating room)","Running clinical case discussions",null,"Teach informally, during every day work",{"$nulls":3},"Interactive teaching","Problem based learning","Teaching the skills","Giving feedback",{"$nulls":3},"Yes","Yes",null,null,"I occasionally carry out assessment during the residency program (Direct Observation of Procedural Skills - DOPS)",null,"I give feedback during everyday work",{"$nulls":6},"No, it is assumed as being a part of everyday work",null,"Lack of training","Lack of time",{"$nulls":4},"Lack of organization",{"$nulls":3},"Yes","Yes, I am well informed","Yes","I am not sure",null,"Content based curriculum",null,"Society or association of anaesthesiology","Other (please specify)","EDAIC part 1 + an oral exam (dutch version of EDAIC part II)","Written and oral examination, but also OSCE (Objective Structured Clinical Examination)"]
[12957812938,408998795,"2021-09-10T20:32:52","2021-09-03T20:36:12","80.23.60.97",{"$nulls":4},"41-50","Female","Netherlands","Netherlands","Europe","5-10",5,"Specialist","Academic hospital (Teaching or University related)","Yes (please refer to Q10)","Every day","11-15",null,"Obligatory teaching courses for University teachers",null,null,"Advanced Life Support (ALS), Basic Life Support (BLS) or other specific courses","Simulation courses",null,null,"Yes",null,"I give lectures",null,null,"Involved in simulation sessions","Teach informally, during every day work",null,"Planning and preparation for teaching session","Using visual aids","Interactive teaching","Problem based learning","Teaching the skills","Giving feedback","Organizing and leading the discussions","Organizing specific sessions (journal clubs, interactive sessions, pro and con debate…)",null,"Yes","Yes",{"$nulls":3},"I give feedback during simulation sessions","I give feedback during everyday work",{"$nulls":6},"No, it is assumed as being a part of everyday work",null,null,"Lack of time",null,null,"Overloaded with work","Lack of opportunity",null,null,"Other (please specify)","I do in intensive care","Yes","I have some ideas, but it is not clear to me","No","I am not sure",null,"Content based curriculum",null,"Society or association of anaesthesiology","They have to pass EDAIC part I",null,"Written and oral examination"]
[12957009691,408998795,"2021-09-10T15:18:40","2021-09-10T15:26:42","212.179.73.188",{"$nulls":4},"36-40","Female","Israel","Israel","Asia","5-10",5,"Specialist","Academic hospital (Teaching or University related)","Yes (please refer to Q10)","Almost every day","Less than 5",{"$nulls":4},"Advanced Life Support (ALS), Basic Life Support (BLS) or other specific courses",{"$nulls":3},"No",null,"I give lectures","Perform work-based interactive teaching (operating room)",null,null,"Teach informally, during every day work",null,"Planning and preparation for teaching session","Using visual aids",null,null,"Teaching the skills","Giving feedback",null,"Organizing specific sessions (journal clubs, interactive sessions, pro and con debate…)",null,"No","No","I am an examiner for the final exam",{"$nulls":3},"I give feedback during everyday work",{"$nulls":6},"No, it is assumed as being a part of everyday work",null,"Lack of training","Lack of time",null,null,"Overloaded with work",null,"Lack of organization",{"$nulls":3},"Yes","I know what is it, but outcome-based education is not implemented in my country","No","No",null,"Classic surgical specialties based curriculum",null,"National body responsible for education (Ministry of health or education, National board for anaesthesia …)","They have to pass a national board exam",null,"Written and oral examination"]
[12954999308,408998795,"2021-09-09T21:50:56","2021-09-03T13:41:08","194.104.113.254",{"$nulls":4},"41-50","Female","Netherlands","Netherlands","Europe","11-15",5,"Specialist","General hospital","Yes (please refer to Q10)"]
[12953883201,408998795,"2021-09-09T15:16:20","2021-09-03T12:36:16","145.22.254.25",{"$nulls":4},"50+","Male","Netherlands","Netherlands","Europe","over 20 years",5,"Specialist","General hospital","Yes (please refer to Q10)","Once a week","11-15",{"$nulls":3},"Other short TTT courses","Advanced Life Support (ALS), Basic Life Support (BLS) or other specific courses",{"$nulls":3},"Yes, some elements, but not systematically",null,null,"Perform work-based interactive teaching (operating room)",{"$nulls":6},"Interactive teaching",null,"Teaching the skills","Giving feedback",{"$nulls":3},"No","No",{"$nulls":4},"I give feedback during everyday work",{"$nulls":6},"No, it is assumed as being a part of everyday work",null,null,"Lack of time",null,null,"Overloaded with work","Lack of opportunity",{"$nulls":4},"Yes","I do not know much","No","I am not sure",null,"I do not know",null,"Society or association of anaesthesiology","They have to pass EDAIC part I",null,"Written, oral examination and some practical assessment"]
[12953866408,408998795,"2021-09-09T15:10:46","2021-09-03T09:19:12","84.29.251.137",{"$nulls":4},"50+","Male","Netherlands","Netherlands","Europe","over 20 years",5,"Senior specialist","General hospital","Yes (please refer to Q10)","Almost every day","6-10",{"$nulls":3},"Other short TTT courses","Advanced Life Support (ALS), Basic Life Support (BLS) or other specific courses",{"$nulls":3},"Yes",null,"I give lectures","Perform work-based interactive teaching (operating room)","Running clinical case discussions",null,"Teach informally, during every day work",null,"Planning and preparation for teaching session",null,"Interactive teaching","Problem based learning","Teaching the skills","Giving feedback","Organizing and leading the discussions","Organizing specific sessions (journal clubs, interactive sessions, pro and con debate…)",null,"Yes","No",null,null,"I occasionally carry out assessment during the residency program (Direct Observation of Procedural Skills - DOPS)",null,"I give feedback during everyday work","I am involved in other forms of formative assessment (for example multisource feedback)",{"$nulls":5},"No, it is assumed as being a part of everyday work",null,null,"Lack of time",{"$nulls":6},"Other (please specify)","I am involved","Yes","Yes, I am well informed","No","Yes",null,"Competency (outcome) based curriculum",null,"University","Other (please specify)","Finish program, national board exam, european exam (as part of the traing)","Written and oral examination"]
[12953629346,408998795,"2021-09-09T13:30:06","2021-09-03T00:28:05","131.174.244.75",{"$nulls":4},"41-50","Female","Netherlands","Netherlands","Europe","11-15",5,"Specialist","Academic hospital (Teaching or University related)","Yes (please refer to Q10)","Almost every day","6-10",null,"Obligatory teaching courses for University teachers",null,"Other short TTT courses",null,"Simulation courses",null,"am studying educational aspects of airway management, have developed a national course","Yes",null,"I give lectures","Perform work-based interactive teaching (operating room)","Running clinical case discussions","Involved in simulation sessions","Teach informally, during every day work",null,"Planning and preparation for teaching session","Using visual aids","Interactive teaching",null,null,"Giving feedback","Organizing and leading the discussions","Organizing specific sessions (journal clubs, interactive sessions, pro and con debate…)","\\i try to get the residents involved as trainers and prepare them for giving training","Yes","Yes","I am an examiner for the final exam",null,"I occasionally carry out assessment during the residency program (Direct Observation of Procedural Skills - DOPS)","I give feedback during simulation sessions","I give feedback during everyday work","I am involved in other forms of formative assessment (for example multisource feedback)",{"$nulls":5},"No, it is assumed as being a part of everyday work",null,null,"Lack of time",null,"No recognition",null,null,"Lack of organization",{"$nulls":3},"Yes","Yes, I am well informed","No","I am not sure",null,"Competency (outcome) based curriculum",null,"Society or association of anaesthesiology","They have to pass a national board exam",null,"It is only oral examination"]
[12953542286,408998795,"2021-09-09T12:46:04","2021-09-02T22:20:58","82.75.62.14",{"$nulls":4},"50+","Male","Germany","Netherlands","Europe","over 20 years",4,"Specialist","General hospital","No (please refer to Q21)"]
[12953540135,408998795,"2021-09-09T12:44:21","2021-09-02T21:32:26","186.189.136.162",{"$nulls":4},"50+","Male","Netherlands","Netherlands","Europe","over 20 years",5,"Chief of Department","Specialized clinic","Yes (please refer to Q10)","Almost every day","Less than 5",{"$nulls":3},"Other short TTT courses","Advanced Life Support (ALS), Basic Life Support (BLS) or other specific courses",{"$nulls":3},"Yes",null,"I give lectures","Perform work-based interactive teaching (operating room)","Running clinical case discussions","Involved in simulation sessions","Teach informally, during every day work",{"$nulls":3},"Interactive teaching","Problem based learning","Teaching the skills","Giving feedback","Organizing and leading the discussions",null,null,"Yes","Yes",null,null,"I occasionally carry out assessment during the residency program (Direct Observation of Procedural Skills - DOPS)","I give feedback during simulation sessions","I give feedback during everyday work",{"$nulls":6},"No, it is assumed as being a part of everyday work",null,null,"Lack of time",{"$nulls":8},"Yes","I have some ideas, but it is not clear to me","No","I am not sure",null,"Content based curriculum",null,"Society or association of anaesthesiology","They have to pass a national board exam",null,"Written and oral examination"]
[12953513868,408998795,"2021-09-09T12:29:56","2021-09-02T20:18:05","80.56.116.79",{"$nulls":4},"50+","Female","Netherlands","Netherlands","Europe","over 20 years",5,"Chief of Department","Academic hospital (Teaching or University related)","Yes (please refer to Q10)","Once a week","over 16",null,"Obligatory teaching courses for University teachers",null,"Other short TTT courses",{"$nulls":4},"Yes",null,"I give lectures","Perform work-based interactive teaching (operating room)","Running clinical case discussions","Involved in simulation sessions","Teach informally, during every day work","Curriculum development","Planning and preparation for teaching session","Using visual aids","Interactive teaching","Problem based learning","Teaching the skills","Giving feedback","Organizing and leading the discussions","Organizing specific sessions (journal clubs, interactive sessions, pro and con debate…)",null,"Yes","Yes","I am an examiner for the final exam",null,"I occasionally carry out assessment during the residency program (Direct Observation of Procedural Skills - DOPS)","I give feedback during simulation sessions","I give feedback during everyday work",{"$nulls":4},"Yes, it is recognised for promotion in academia.","Yes, I have a more visible position in the department",{"$nulls":9},"None",null,null,"Yes","Yes, I am well informed","I am not sure","Yes","04/01/2009","Other (please specify)","Entrustable professional activity and competente based","Society or association of anaesthesiology","Other (please specify)","Edaic part 1 and final oral assessment","Written and oral examination"]
[12953469469,408998795,"2021-09-09T12:03:14","2021-09-02T20:10:03","94.213.185.133",{"$nulls":4},"50+","Male","Germany","Netherlands","Europe","over 20 years",5,"Teacher (in University)","Academic hospital (Teaching or University related)","Yes (please refer to Q10)","Almost every day","over 16",null,"Obligatory teaching courses for University teachers",null,"Other short TTT courses","Advanced Life Support (ALS), Basic Life Support (BLS) or other specific courses","Simulation courses",null,"Masterclasses on coaching, leadership, change management, medical education","Yes",null,"I give lectures","Perform work-based interactive teaching (operating room)","Running clinical case discussions",null,"Teach informally, during every day work",null,"Planning and preparation for teaching session","Using visual aids","Interactive teaching","Problem based learning","Teaching the skills","Giving feedback","Organizing and leading the discussions","Organizing specific sessions (journal clubs, interactive sessions, pro and con debate…)","Blended learning, skills training","Yes","Yes","I am an examiner for the final exam",null,"I occasionally carry out assessment during the residency program (Direct Observation of Procedural Skills - DOPS)",null,"I give feedback during everyday work","I am involved in other forms of formative assessment (for example multisource feedback)",{"$nulls":3},"Yes, it is recognised for promotion in academia.",{"$nulls":13},"Yes","Yes, I am well informed","Yes","Yes","01/01/2008","Competency (outcome) based curriculum",null,"National body responsible for education (Ministry of health or education, National board for anaesthesia …)","They have to pass a national board exam",null,"Written and oral examination"]
[12953175764,408998795,"2021-09-09T09:14:01","2021-09-02T19:49:46","77.161.106.86",{"$nulls":4},"50+","Male","Germany","Netherlands","Europe","over 20 years",5,"Teacher (in University)","Academic hospital (Teaching or University related)","Yes (please refer to Q10)","Almost every day","over 16",null,"Obligatory teaching courses for University teachers",null,"Other short TTT courses","Advanced Life Support (ALS), Basic Life Support (BLS) or other specific courses",null,null,"BKO basic qualification for Teaching","Yes, some elements, but not systematically",null,"I give lectures","Perform work-based interactive teaching (operating room)","Running clinical case discussions",null,"Teach informally, during every day work",null,"Planning and preparation for teaching session",null,"Interactive teaching",null,"Teaching the skills","Giving feedback","Organizing and leading the discussions",null,null,"Yes","Yes",null,"I am European Diploma in Anaesthesia and Intensive Care (EDAIC) part II examiner","I occasionally carry out assessment during the residency program (Direct Observation of Procedural Skills - DOPS)",null,"I give feedback during everyday work","I am involved in other forms of formative assessment (for example multisource feedback)",{"$nulls":3},"Yes, it is recognised for promotion in academia.","Yes, I have a more visible position in the department",null,null,"Lack of training","Lack of time",null,null,"Overloaded with work",{"$nulls":5},"Yes","Yes, I am well informed","I am not sure","No",null,"Competency (outcome) based curriculum",null,"Society or association of anaesthesiology","They have to pass a national board exam",null,"It is only oral examination"]
[12952125245,408998795,"2021-09-08T23:08:17","2021-09-02T19:46:15","62.194.248.42",{"$nulls":4},"41-50","Male","Greece","Netherlands","Europe","11-15",5,"Specialist","General hospital","No (please refer to Q21)"]
[12951783691,408998795,"2021-09-08T19:35:32","2021-09-02T19:25:16","86.86.246.46",{"$nulls":4},"41-50","Female","Netherlands","Netherlands","Europe","11-15",5,"Specialist","General hospital","Yes (please refer to Q10)","Once a week","6-10",{"$nulls":3},"Other short TTT courses","Advanced Life Support (ALS), Basic Life Support (BLS) or other specific courses","Simulation courses",null,null,"Yes",null,null,"Perform work-based interactive teaching (operating room)",null,null,"Teach informally, during every day work",{"$nulls":4},"Problem based learning","Teaching the skills","Giving feedback",{"$nulls":3},"No","No",{"$nulls":4},"I give feedback during everyday work","I am involved in other forms of formative assessment (for example multisource feedback)",{"$nulls":5},"No, it is assumed as being a part of everyday work",null,null,"Lack of time",null,null,"Overloaded with work",{"$nulls":5},"Yes","I have some ideas, but it is not clear to me","No","I am not sure",null,"Competency (outcome) based curriculum",null,"National body responsible for education (Ministry of health or education, National board for anaesthesia …)","Other (please specify)","Residencyprogramme including EDAIC 1 and national board exam","It is only oral examination"]
[12951676800,408998795,"2021-09-08T19:47:51","2021-09-02T18:33:04","86.88.147.127",{"$nulls":4},"50+","Male","Poland","Netherlands","Europe","over 20 years","Over 5","Specialist","General hospital","No (please refer to Q21)"]
[12951490930,408998795,"2021-09-08T18:55:29","2021-09-02T18:27:45","177.154.5.37",{"$nulls":4},"41-50","Female","Brazil","Netherlands","Europe","16-20",3,"Specialist","Academic hospital (Teaching or University related)","No (please refer to Q21)",{"$nulls":50},"Other (please specify)","Specialisation done in brazil is not valid in the Netherlands ","Yes","Yes, I am well informed","No","Yes","01/01/2018","Classic surgical specialties based curriculum",null,"Society or association of anaesthesiology","They just have to complete the residency program (3-5 years)",null,"Other (please specify)"]
[12950577482,408998795,"2021-09-08T13:29:59","2021-09-02T18:14:41","217.105.101.1",{"$nulls":4},"50+","Female","Germany","Netherlands","Europe","over 20 years",5,"Specialist","Academic hospital (Teaching or University related)","Yes (please refer to Q10)","Every day","over 16",{"$nulls":3},"Other short TTT courses",null,"Simulation courses",null,null,"Yes",null,"I give lectures","Perform work-based interactive teaching (operating room)","Running clinical case discussions",null,"Teach informally, during every day work",null,"Planning and preparation for teaching session","Using visual aids","Interactive teaching","Problem based learning",null,"Giving feedback",null,"Organizing specific sessions (journal clubs, interactive sessions, pro and con debate…)",null,"No","No",null,null,"I occasionally carry out assessment during the residency program (Direct Observation of Procedural Skills - DOPS)","I give feedback during simulation sessions","I give feedback during everyday work","I am involved in other forms of formative assessment (for example multisource feedback)",{"$nulls":4},"Yes, I have a more visible position in the department",{"$nulls":3},"Lack of time",{"$nulls":4},"Lack of organization",{"$nulls":3},"Yes","I have some ideas, but it is not clear to me","I am not sure","I am not sure","09/02/2021","Competency (outcome) based curriculum",null,"National body responsible for education (Ministry of health or education, National board for anaesthesia …)","They have to pass a national board exam",null,"Written and oral examination, but also OSCE (Objective Structured Clinical Examination)"]
[12950162258,408998795,"2021-09-08T09:40:20","2021-10-04T00:09:53","193.214.249.72",{"$nulls":4},"41-50","Female","Portugal","Norway","Europe","11-15",4,"Senior specialist","Academic hospital (Teaching or University related)","Yes (please refer to Q10)","Every day","11-15",{"$nulls":4},"Advanced Life Support (ALS), Basic Life Support (BLS) or other specific courses",{"$nulls":3},"Yes, some elements, but not systematically",null,"I give lectures","Perform work-based interactive teaching (operating room)","Running clinical case discussions",null,"Teach informally, during every day work",null,"Planning and preparation for teaching session","Using visual aids",null,null,"Teaching the skills","Giving feedback","Organizing and leading the discussions",null,null,"No","No",null,null,"I occasionally carry out assessment during the residency program (Direct Observation of Procedural Skills - DOPS)",null,"I give feedback during everyday work",{"$nulls":6},"No, it is assumed as being a part of everyday work",null,"Lack of training","Lack of time",null,null,"Overloaded with work",{"$nulls":5},"Yes","I have no knowledge of what it is","I am not sure","I am not sure",null,"I do not know",null,"Society or association of anaesthesiology","They just have to complete the residency program (3-5 years)"]
[12950148311,408998795,"2021-09-08T09:31:36","2021-09-23T10:37:23","88.90.112.47",{"$nulls":4},"41-50","Female","Norway","Norway","Europe","11-15","Over 5","Senior specialist","Academic hospital (Teaching or University related)","Yes (please refer to Q10)","Once a week","11-15",{"$nulls":4},"Advanced Life Support (ALS), Basic Life Support (BLS) or other specific courses","Simulation courses",null,"1/2 year university education in pedagogy","Yes",null,"I give lectures","Perform work-based interactive teaching (operating room)","Running clinical case discussions",null,"Teach informally, during every day work","dedicated role as senior consultant with focus on teaching residents 2 days a week","Planning and preparation for teaching session","Using visual aids",null,"Problem based learning","Teaching the skills","Giving feedback","Organizing and leading the discussions","Organizing specific sessions (journal clubs, interactive sessions, pro and con debate…)",null,"Yes","Yes",null,null,"I occasionally carry out assessment during the residency program (Direct Observation of Procedural Skills - DOPS)",null,"I give feedback during everyday work",{"$nulls":3},"Yes, I am paid more",null,"Yes, I have a more visible position in the department",null,null,"Lack of training","Lack of time",{"$nulls":8},"Yes","I have some ideas, but it is not clear to me","No","I am not sure",null,"I do not know",null,"National body responsible for education (Ministry of health or education, National board for anaesthesia …)","They just have to complete the residency program (3-5 years)"]
[12949967584,408998795,"2021-09-08T07:27:03","2021-09-23T08:08:55","92.221.201.226",{"$nulls":4},"41-50","Male","Norway","Norway","Europe","16-20","Over 5","Senior specialist","Academic hospital (Teaching or University related)","Yes (please refer to Q10)","Almost every day","11-15",{"$nulls":3},"Other short TTT courses","Advanced Life Support (ALS), Basic Life Support (BLS) or other specific courses","Simulation courses",null,"I","Yes, some elements, but not systematically",null,"I give lectures","Perform work-based interactive teaching (operating room)","Running clinical case discussions","Involved in simulation sessions","Teach informally, during every day work",null,"Planning and preparation for teaching session","Using visual aids","Interactive teaching",null,null,"Giving feedback","Organizing and leading the discussions","Organizing specific sessions (journal clubs, interactive sessions, pro and con debate…)",null,"Yes","Yes",null,"I am European Diploma in Anaesthesia and Intensive Care (EDAIC) part II examiner",null,null,"I give feedback during everyday work",{"$nulls":6},"No, it is assumed as being a part of everyday work",null,null,"Lack of time",null,"No recognition",null,null,"Lack of organization",{"$nulls":3},"Yes","I do not know much","No","Yes","09/23/2021","Competency (outcome) based curriculum",null,"National body responsible for education (Ministry of health or education, National board for anaesthesia …)","They just have to complete the residency program (3-5 years)"]
[12948898545,408998795,"2021-09-07T22:19:56","2021-09-07T22:22:50","58.65.201.196",{"$nulls":4},"25-30","Male","Pakistan","Pakistan","Asia","5-10",3,"Teacher (in University)","Academic hospital (Teaching or University related)","No (please refer to Q21)",{"$nulls":50},"Other (please specify)"," I am anesthesia Technologist "]
[12948518106,408998795,"2021-09-07T19:49:24","2021-09-03T21:56:17","212.251.139.88",{"$nulls":4},"50+","Male","Denmark","Norway","Europe","over 20 years","Over 5","Teacher (in University)","General hospital","Yes (please refer to Q10)","Once a week","over 16",{"$nulls":4},"Advanced Life Support (ALS), Basic Life Support (BLS) or other specific courses","Simulation courses",null,"University courses on teaching","Yes, some elements, but not systematically",null,"I give lectures","Perform work-based interactive teaching (operating room)","Running clinical case discussions","Involved in simulation sessions","Teach informally, during every day work",{"$nulls":3},"Interactive teaching","Problem based learning",null,"Giving feedback",{"$nulls":3},"No","No",{"$nulls":3},"I give feedback during simulation sessions","I give feedback during everyday work",{"$nulls":6},"No, it is assumed as being a part of everyday work",null,null,"Lack of time",{"$nulls":6},"Other (please specify)",".","Yes","Yes, I am well informed","No","Yes","01/01/2019","Competency (outcome) based curriculum",null,"National body responsible for education (Ministry of health or education, National board for anaesthesia …)","They just have to complete the residency program (3-5 years)"]
[12948269457,408998795,"2021-09-07T18:14:28","2021-09-03T10:22:19","161.4.2.0",{"$nulls":4},"41-50","Male","Germany","Norway","Europe","11-15","Over 5","Senior specialist","Academic hospital (Teaching or University related)","Yes (please refer to Q10)","Every day","11-15",null,"Obligatory teaching courses for University teachers",{"$nulls":5},"Train the trainers, non-formal educational training courses","No",null,"I give lectures","Perform work-based interactive teaching (operating room)",null,null,"Teach informally, during every day work",null,"Planning and preparation for teaching session","Using visual aids","Interactive teaching","Problem based learning","Teaching the skills","Giving feedback","Organizing and leading the discussions","Organizing specific sessions (journal clubs, interactive sessions, pro and con debate…)",null,"Yes","Yes",null,"I am European Diploma in Anaesthesia and Intensive Care (EDAIC) part II examiner","I occasionally carry out assessment during the residency program (Direct Observation of Procedural Skills - DOPS)",null,"I give feedback during everyday work",{"$nulls":6},"No, it is assumed as being a part of everyday work",null,null,"Lack of time",null,"No recognition",null,null,"Lack of organization",{"$nulls":3},"Yes","Yes, I am well informed","No","Yes",null,"Competency (outcome) based curriculum",null,"National body responsible for education (Ministry of health or education, National board for anaesthesia …)","They just have to complete the residency program (3-5 years)",null,"Other (please specify)"]
[12948189863,408998795,"2021-09-07T17:47:48","2021-09-07T17:54:08","186.204.211.19",{"$nulls":4},"50+","Female","Brazil","Brazil","South America","over 20 years","Less than 3","Chief of Department","Academic hospital (Teaching or University related)","Yes (please refer to Q10)","Once a week","over 16",{"$nulls":5},"Simulation courses",null,null,"No",null,null,"Perform work-based interactive teaching (operating room)","Running clinical case discussions",{"$nulls":5},"Interactive teaching","Problem based learning","Teaching the skills",{"$nulls":4},"No","No",null,null,"I occasionally carry out assessment during the residency program (Direct Observation of Procedural Skills - DOPS)","I give feedback during simulation sessions",{"$nulls":7},"No, it is assumed as being a part of everyday work",{"$nulls":3},"Lack of motivation",null,"Overloaded with work",{"$nulls":5},"Yes","I have some ideas, but it is not clear to me","No","I am not sure",null,"Classic surgical specialties based curriculum",null,"University","They just have to complete the residency program (3-5 years)"]
[12948077981,408998795,"2021-09-07T17:09:34","2021-09-03T09:17:36","89.8.89.244",{"$nulls":4},"50+","Female","Serbia","Norway","Europe","16-20",5,"Chief of Department","Academic hospital (Teaching or University related)","Yes (please refer to Q10)","Almost every day","6-10",{"$nulls":6},"None",null,"Yes",null,"I give lectures","Perform work-based interactive teaching (operating room)","Running clinical case discussions",null,"Teach informally, during every day work",null,"Planning and preparation for teaching session","Using visual aids","Interactive teaching","Problem based learning","Teaching the skills","Giving feedback","Organizing and leading the discussions",null,null,"No","No",null,null,"I occasionally carry out assessment during the residency program (Direct Observation of Procedural Skills - DOPS)",null,"I give feedback during everyday work","I am involved in other forms of formative assessment (for example multisource feedback)",{"$nulls":5},"No, it is assumed as being a part of everyday work",null,null,"Lack of time",null,null,"Overloaded with work",{"$nulls":3},"I work with residents, but I do not see that as teaching",null,"Yes","Yes, I am well informed","Yes","Yes","01/01/2014","Content based curriculum",null,"National body responsible for education (Ministry of health or education, National board for anaesthesia …)","They just have to complete the residency program (3-5 years)",null,"Written, oral examination and some practical assessment"]
[12947397188,408998795,"2021-09-07T12:44:47","2021-09-02T21:43:23","91.186.71.4",{"$nulls":4},"36-40","Female","Norway","Norway","Europe","5-10",5,"Specialist","Academic hospital (Teaching or University related)","Yes (please refer to Q10)","When in the operating theater (always have an allocated resident)","6-10",{"$nulls":6},"None",null,"Yes, some elements, but not systematically",null,"I give lectures","Perform work-based interactive teaching (operating room)","Running clinical case discussions","Involved in simulation sessions","Teach informally, during every day work",null,"Planning and preparation for teaching session","Using visual aids","Interactive teaching","Problem based learning","Teaching the skills","Giving feedback","Organizing and leading the discussions",null,null,"No","Yes",{"$nulls":3},"I give feedback during simulation sessions","I give feedback during everyday work",{"$nulls":6},"No, it is assumed as being a part of everyday work",null,null,"Lack of time",{"$nulls":3},"Lack of opportunity",{"$nulls":4},"Yes","I have some ideas, but it is not clear to me","I am not sure","Yes","08/15/2003","Competency (outcome) based curriculum",null,"National body responsible for education (Ministry of health or education, National board for anaesthesia …)","They just have to complete the residency program (3-5 years)",null,"Written, oral examination and some practical assessment"]
[12947072307,408998795,"2021-09-07T09:28:03","2021-09-02T21:30:42","84.212.134.201",{"$nulls":4},"50+","Female","Norway","Norway","Europe","over 20 years",5,"Senior specialist","Academic hospital (Teaching or University related)","Yes (please refer to Q10)","Almost every day","over 16",{"$nulls":3},"Other short TTT courses",{"$nulls":4},"Other (please specify)","short TTT courses","I give lectures","Perform work-based interactive teaching (operating room)","Running clinical case discussions","Involved in simulation sessions","Teach informally, during every day work",null,"Planning and preparation for teaching session","Using visual aids","Interactive teaching","Problem based learning","Teaching the skills","Giving feedback","Organizing and leading the discussions","Organizing specific sessions (journal clubs, interactive sessions, pro and con debate…)",null,"Yes","Yes",null,null,"I occasionally carry out assessment during the residency program (Direct Observation of Procedural Skills - DOPS)","I give feedback during simulation sessions",null,"I am involved in other forms of formative assessment (for example multisource feedback)",{"$nulls":5},"No, it is assumed as being a part of everyday work",null,null,"Lack of time",null,"No recognition",{"$nulls":6},"Yes","Yes, I am well informed","No","I am not sure",null,"Competency (outcome) based curriculum",null,"National body responsible for education (Ministry of health or education, National board for anaesthesia …)","They just have to complete the residency program (3-5 years)"]
[12946587290,408998795,"2021-09-07T03:13:44","2021-09-07T03:26:10","196.65.108.80",{"$nulls":4},"50+","Male","Morocco","Morocco","Africa","over 20 years",4,"Lecturer","Private hospital","Yes (please refer to Q10)","Almost every day","over 16",null,"Obligatory teaching courses for University teachers",null,null,"Advanced Life Support (ALS), Basic Life Support (BLS) or other specific courses","Simulation courses",null,"Meeting- Congress - medical seminars ","Yes, some elements, but not systematically",{"$nulls":3},"Running clinical case discussions",null,"Teach informally, during every day work",null,null,"Using visual aids","Interactive teaching",null,"Teaching the skills",null,"Organizing and leading the discussions",null,null,"Yes","Yes",null,null,"I occasionally carry out assessment during the residency program (Direct Observation of Procedural Skills - DOPS)",{"$nulls":8},"No, it is assumed as being a part of everyday work",{"$nulls":5},"Overloaded with work",{"$nulls":5},"Yes","I do not know much","No","I am not sure",null,"I do not know",null,"I do not know",null,null,"Written and oral examination, but also OSCE (Objective Structured Clinical Examination)"]
[12946211676,408998795,"2021-09-06T23:08:05","2021-09-02T20:40:53","46.34.241.189",{"$nulls":4},"41-50","Male","Slovakia","Norway","Europe","over 20 years","Over 5","Senior specialist","General hospital","Yes (please refer to Q10)","Every day","11-15",{"$nulls":4},"Advanced Life Support (ALS), Basic Life Support (BLS) or other specific courses","Simulation courses",null,null,"No",{"$nulls":4},"Involved in simulation sessions","Teach informally, during every day work",{"$nulls":5},"Teaching the skills","Giving feedback",{"$nulls":3},"No","Yes",{"$nulls":4},"I give feedback during everyday work",{"$nulls":6},"No, it is assumed as being a part of everyday work",null,"Lack of training","Lack of time",null,null,"Overloaded with work",null,"Lack of organization",null,"I work in a non-teaching hospital",null,"Yes","I have some ideas, but it is not clear to me","I am not sure","I am not sure",null,"Competency (outcome) based curriculum",null,"National body responsible for education (Ministry of health or education, National board for anaesthesia …)","Other (please specify)","last year of spesial. working in the university hospital"]
[12946202987,408998795,"2021-09-06T23:02:06","2021-09-02T20:39:22","51.175.178.24",{"$nulls":4},"50+","Female","Norway","Norway","Europe","over 20 years",5,"Senior specialist","Academic hospital (Teaching or University related)","Yes (please refer to Q10)","Every day","over 16",{"$nulls":3},"Other short TTT courses","Advanced Life Support (ALS), Basic Life Support (BLS) or other specific courses","Simulation courses",null,null,"Yes, some elements, but not systematically",null,"I give lectures","Perform work-based interactive teaching (operating room)","Running clinical case discussions","Involved in simulation sessions","Teach informally, during every day work",null,"Planning and preparation for teaching session","Using visual aids","Interactive teaching","Problem based learning","Teaching the skills","Giving feedback","Organizing and leading the discussions","Organizing specific sessions (journal clubs, interactive sessions, pro and con debate…)",null,"Yes","Yes",{"$nulls":3},"I give feedback during simulation sessions","I give feedback during everyday work","I am involved in other forms of formative assessment (for example multisource feedback)",{"$nulls":5},"No, it is assumed as being a part of everyday work",null,null,"Lack of time",null,null,"Overloaded with work",null,"Lack of organization",{"$nulls":3},"Yes","Yes, I am well informed","Yes","Yes",null,"Competency (outcome) based curriculum",null,"National body responsible for education (Ministry of health or education, National board for anaesthesia …)","Other (please specify)","Complete residency programme with exams after each course, skill records and more","Other (please specify)"]
[12946038954,408998795,"2021-09-06T20:45:59","2021-09-02T19:51:45","92.221.24.12",{"$nulls":4},"41-50","Female","Norway","Norway","Europe","16-20","Over 5","Senior specialist","Academic hospital (Teaching or University related)","Yes (please refer to Q10)","When in the operating theater (always have an allocated resident)","11-15",{"$nulls":3},"Other short TTT courses",{"$nulls":4},"No",null,"I give lectures","Perform work-based interactive teaching (operating room)",null,"Involved in simulation sessions",null,null,"Planning and preparation for teaching session","Using visual aids","Interactive teaching",null,"Teaching the skills","Giving feedback",{"$nulls":3},"No","Yes",null,null,"I occasionally carry out assessment during the residency program (Direct Observation of Procedural Skills - DOPS)","I give feedback during simulation sessions","I give feedback during everyday work","I am involved in other forms of formative assessment (for example multisource feedback)",{"$nulls":5},"No, it is assumed as being a part of everyday work",null,null,"Lack of time",null,null,"Overloaded with work","Lack of opportunity","Lack of organization",{"$nulls":3},"Yes","I know what is it, but outcome-based education is not implemented in my country","No","I am not sure",null,"I do not know",null,"Society or association of anaesthesiology","They just have to complete the residency program (3-5 years)"]
[12946048908,408998795,"2021-09-06T20:55:54","2021-09-27T22:54:28","87.239.222.190",{"$nulls":4},"41-50","Male","Poland","Poland","Europe","11-15","Over 5","Specialist","Academic hospital (Teaching or University related)","Yes (please refer to Q10)","Less than once a week","Less than 5",{"$nulls":3},"Other short TTT courses","Advanced Life Support (ALS), Basic Life Support (BLS) or other specific courses","Simulation courses",null,null,"No",null,null,"Perform work-based interactive teaching (operating room)","Running clinical case discussions",null,"Teach informally, during every day work",{"$nulls":3},"Interactive teaching","Problem based learning","Teaching the skills","Giving feedback",{"$nulls":3},"Yes","No",null,"I am European Diploma in Anaesthesia and Intensive Care (EDAIC) part II examiner",null,null,"I give feedback during everyday work",{"$nulls":7},"No","Lack of training","Lack of time",null,null,"Overloaded with work",null,"Lack of organization",{"$nulls":3},"Yes","I have some ideas, but it is not clear to me","No","I am not sure",null,"Competency (outcome) based curriculum",null,"National body responsible for education (Ministry of health or education, National board for anaesthesia …)","They have to pass a national board exam",null,"Written and oral examination"]
[12946050706,408998795,"2021-09-06T20:57:10","2021-09-23T19:39:16","188.146.160.214",{"$nulls":4},"31-35","Male","Poland","Poland","Europe","5-10","Over 5","Specialist","General hospital","Yes (please refer to Q10)","Almost every day","Less than 5",{"$nulls":6},"None",null,"No",null,null,"Perform work-based interactive teaching (operating room)",{"$nulls":9},"Giving feedback",{"$nulls":3},"No","No",{"$nulls":6},"I am not involved in any kind of assessment",{"$nulls":4},"No, it is assumed as being a part of everyday work",null,"Lack of training",{"$nulls":4},"Lack of opportunity","Lack of organization",null,"I am not employed by the university"]
[12946055789,408998795,"2021-09-06T21:01:23","2021-09-23T19:22:23","5.173.248.189",{"$nulls":4},"31-35","Male","Poland","Poland","Europe","5-10","Over 5","Specialist","Academic hospital (Teaching or University related)","Yes (please refer to Q10)","When in the operating theater (always have an allocated resident)","Less than 5",{"$nulls":4},"Advanced Life Support (ALS), Basic Life Support (BLS) or other specific courses",{"$nulls":3},"No",null,null,"Perform work-based interactive teaching (operating room)",null,null,"Teach informally, during every day work",{"$nulls":4},"Problem based learning","Teaching the skills","Giving feedback",{"$nulls":3},"No","No",{"$nulls":4},"I give feedback during everyday work",{"$nulls":6},"No, it is assumed as being a part of everyday work",null,"Lack of training","Lack of time","Lack of motivation",null,"Overloaded with work",null,"Lack of organization",{"$nulls":3},"Yes","I know what is it, but outcome-based education is not implemented in my country","No","I am not sure",null,"I do not know",null,"National body responsible for education (Ministry of health or education, National board for anaesthesia …)","Other (please specify)","They have to pass a national board exam OR both parts of EDAIC","Written and oral examination"]
[12945785295,408998795,"2021-09-06T18:02:19","2021-09-23T11:56:36","46.204.48.200",{"$nulls":4},"36-40","Male","Poland","Poland","Europe","11-15","Over 5","Specialist","General hospital","Yes (please refer to Q10)"]
[12945705207,408998795,"2021-09-06T17:18:41","2021-09-23T11:30:06","5.173.249.163",{"$nulls":4},"31-35","Female","Poland","Poland","Europe","5-10","Over 5","Specialist","General hospital","No (please refer to Q21)"]
[12945657162,408998795,"2021-09-06T16:43:50","2021-09-06T10:05:05","83.31.189.193",{"$nulls":4},"41-50","Male","Poland","Poland","Europe","11-15","Over 5","Senior specialist","Academic hospital (Teaching or University related)","Yes (please refer to Q10)","Almost every day","6-10",{"$nulls":4},"Advanced Life Support (ALS), Basic Life Support (BLS) or other specific courses","Simulation courses",null,null,"No",null,"I give lectures","Perform work-based interactive teaching (operating room)","Running clinical case discussions",{"$nulls":6},"Problem based learning","Teaching the skills","Giving feedback",{"$nulls":3},"Yes","Yes",null,"I am European Diploma in Anaesthesia and Intensive Care (EDAIC) part II examiner","I occasionally carry out assessment during the residency program (Direct Observation of Procedural Skills - DOPS)",null,"I give feedback during everyday work",{"$nulls":5},"Yes, I have a more visible position in the department",{"$nulls":3},"Lack of time",null,null,"Overloaded with work",null,"Lack of organization",{"$nulls":3},"Yes","I have some ideas, but it is not clear to me","No","I am not sure",null,"Content based curriculum",null,"Society or association of anaesthesiology","They have to pass a national board exam",null,"Written and oral examination"]
[12945484244,408998795,"2021-09-06T15:27:12","2021-09-05T20:02:24","89.64.65.230",{"$nulls":4},"36-40","Male","Poland","Poland","Europe","11-15","Over 5","Specialist","Academic hospital (Teaching or University related)","Yes (please refer to Q10)","Almost every day","Less than 5",{"$nulls":5},"Simulation courses",null,null,"No",null,"I give lectures","Perform work-based interactive teaching (operating room)",null,"Involved in simulation sessions","Teach informally, during every day work",null,"Planning and preparation for teaching session","Using visual aids","Interactive teaching","Problem based learning","Teaching the skills","Giving feedback","Organizing and leading the discussions",null,null,"Yes","Yes",null,"I am European Diploma in Anaesthesia and Intensive Care (EDAIC) part II examiner",null,"I give feedback during simulation sessions","I give feedback during everyday work",{"$nulls":6},"No, it is assumed as being a part of everyday work",null,null,"Lack of time","Lack of motivation","No recognition","Overloaded with work",null,"Lack of organization",{"$nulls":3},"Yes","I have no knowledge of what it is","No","No",null,"I do not know",null,"National body responsible for education (Ministry of health or education, National board for anaesthesia …)","They have to pass a national board exam",null,"Written and oral examination"]
[12945448943,408998795,"2021-09-06T15:07:05","2021-09-03T13:34:47","85.221.152.222",{"$nulls":4},"31-35","Male","Poland","Poland","Europe","5-10","Over 5","Trainee","General hospital","No (please refer to Q21)",{"$nulls":62},"Written and oral examination"]
[12945426798,408998795,"2021-09-06T14:55:32","2021-09-03T08:17:36","109.173.217.158",{"$nulls":4},"31-35","Female","Poland","Poland","Europe","5-10","Over 5","Senior resident","General hospital","Yes (please refer to Q10)","When in the operating theater (always have an allocated resident)","Less than 5",{"$nulls":4},"Advanced Life Support (ALS), Basic Life Support (BLS) or other specific courses",{"$nulls":3},"No",{"$nulls":5},"Teach informally, during every day work",{"$nulls":5},"Teaching the skills","Giving feedback",{"$nulls":3},"No","Yes",{"$nulls":4},"I give feedback during everyday work",{"$nulls":7},"No","Lack of training","Lack of time",null,null,"Overloaded with work",null,"Lack of organization",null,"I work in a non-teaching hospital"]
[12945358910,408998795,"2021-09-06T14:13:50","2021-09-03T06:55:52","84.205.30.142",{"$nulls":4},"50+","Male","Poland","Poland","Europe","over 20 years","Over 5","Specialist","Private hospital","No (please refer to Q21)"]
[12945353536,408998795,"2021-09-06T14:13:14","2021-09-03T06:50:01","5.173.9.239",{"$nulls":4},"41-50","Female","Poland","Poland","Europe","16-20","Over 5","Specialist","Academic hospital (Teaching or University related)","Yes (please refer to Q10)","When in the operating theater (always have an allocated resident)","6-10",null,"Obligatory teaching courses for University teachers",null,null,"Advanced Life Support (ALS), Basic Life Support (BLS) or other specific courses",{"$nulls":3},"No",null,null,"Perform work-based interactive teaching (operating room)",{"$nulls":6},"Interactive teaching",null,null,"Giving feedback",{"$nulls":3},"No","No",null,"I am European Diploma in Anaesthesia and Intensive Care (EDAIC) part II examiner",{"$nulls":9},"No, it is assumed as being a part of everyday work",{"$nulls":8},"All above","I work with residents, but I do not see that as teaching",null,"I do not know","I know what is it, but outcome-based education is not implemented in my country","I am not sure","I am not sure",null,"Other (please specify)","Just basicdiploma","I do not know","Other (please specify)","NBE and EDAIC as equals ","Written and oral examination"]
[12945226814,408998795,"2021-09-06T12:54:28","2021-09-02T21:51:41","83.20.253.35",{"$nulls":4},"36-40","Male","Poland","Poland","Europe","11-15","Over 5","Chief of Department","Academic hospital (Teaching or University related)","Yes (please refer to Q10)","Every day","Less than 5",{"$nulls":4},"Advanced Life Support (ALS), Basic Life Support (BLS) or other specific courses",{"$nulls":3},"No",null,"I give lectures","Perform work-based interactive teaching (operating room)","Running clinical case discussions",null,"Teach informally, during every day work",null,"Planning and preparation for teaching session","Using visual aids","Interactive teaching","Problem based learning","Teaching the skills","Giving feedback","Organizing and leading the discussions","Organizing specific sessions (journal clubs, interactive sessions, pro and con debate…)",null,"Yes","Yes",null,null,"I occasionally carry out assessment during the residency program (Direct Observation of Procedural Skills - DOPS)","I give feedback during simulation sessions","I give feedback during everyday work","I am involved in other forms of formative assessment (for example multisource feedback)",null,"I am examiner for the local hospital exam",null,null,"Yes, I have a more visible position in the department",null,null,"Lack of training","Lack of time",null,"No recognition",{"$nulls":3},"would like to finish TTT course",null,null,"Yes","Yes, I am well informed","Yes","I am not sure",null,"Content based curriculum",null,"National body responsible for education (Ministry of health or education, National board for anaesthesia …)","They have to pass a national board exam",null,"Written and oral examination"]
[12945212995,408998795,"2021-09-06T12:45:28","2021-09-02T21:30:37","89.151.39.14",{"$nulls":4},"41-50","Male","Poland","Poland","Europe","16-20","Over 5","Chief of Department","General hospital","Yes (please refer to Q10)","Every day","Less than 5",{"$nulls":4},"Advanced Life Support (ALS), Basic Life Support (BLS) or other specific courses",{"$nulls":3},"No",{"$nulls":5},"Teach informally, during every day work",{"$nulls":4},"Problem based learning","Teaching the skills","Giving feedback",{"$nulls":3},"No","No",{"$nulls":4},"I give feedback during everyday work",{"$nulls":6},"No, it is assumed as being a part of everyday work",null,null,"Lack of time",null,null,"Overloaded with work","Lack of opportunity","Lack of organization",null,"I work with residents, but I do not see that as teaching",null,"I do not know","I do not know much","No","I am not sure",null,"I do not know",null,"National body responsible for education (Ministry of health or education, National board for anaesthesia …)","They have to pass a national board exam",null,"Written and oral examination","Only OSCE examination"]
[12945211331,408998795,"2021-09-06T12:44:54","2021-09-02T20:48:36","83.30.138.204",{"$nulls":4},"50+","Male","Poland","Poland","Europe","over 20 years","Over 5","Specialist","Private hospital","No (please refer to Q21)"]
[12945037884,408998795,"2021-09-06T10:51:44","2021-09-02T18:23:58","37.47.22.186",{"$nulls":4},"36-40","Male","Poland","Poland","Europe","11-15","Over 5","Senior specialist","Academic hospital (Teaching or University related)","Yes (please refer to Q10)",{"$nulls":63},"every year written exams and at the end an oral examination"]
[12945024456,408998795,"2021-09-06T10:44:01","2021-10-07T19:10:47","178.166.22.179",{"$nulls":4},"25-30","Female","Portugal","Portugal","Europe","5-10",5,"Trainee","General hospital","No (please refer to Q21)",{"$nulls":52},"Yes","I have some ideas, but it is not clear to me","No","No",null,"Competency (outcome) based curriculum",null,"Department of anaesthesiology","They have to pass a national board exam",null,"It is only oral examination"]
[12944993456,408998795,"2021-09-06T10:23:20","2021-10-05T15:37:41","85.245.254.155",{"$nulls":4},"36-40","Female","Portugal","Portugal","Europe","5-10",5,"Specialist","General hospital","Yes (please refer to Q10)","Once a week","Less than 5",{"$nulls":4},"Advanced Life Support (ALS), Basic Life Support (BLS) or other specific courses",{"$nulls":3},"No",null,"I give lectures","Perform work-based interactive teaching (operating room)",null,null,"Teach informally, during every day work",null,null,"Using visual aids",null,null,"Teaching the skills",null,null,"Organizing specific sessions (journal clubs, interactive sessions, pro and con debate…)",null,"No","Yes",{"$nulls":3},"I give feedback during simulation sessions","I give feedback during everyday work",{"$nulls":6},"No, it is assumed as being a part of everyday work",null,"Lack of training","Lack of time",null,"No recognition","Overloaded with work",null,"Lack of organization",{"$nulls":3},"Yes","I have no knowledge of what it is","No","I am not sure",null,"I do not know",null,"I do not know","They have to pass a national board exam",null,"It is only oral examination"]
[12945006853,408998795,"2021-09-06T10:33:22","2021-10-01T15:35:58","83.223.248.169",{"$nulls":4},"31-35","Male","Portugal","Portugal","Europe","5-10",5,"Specialist","General hospital","Yes (please refer to Q10)"]
[12944969471,408998795,"2021-09-06T10:07:00","2021-10-01T08:17:18","83.223.248.169",{"$nulls":4},"31-35","Male","Portugal","Portugal","Europe","5-10",5,"Specialist","General hospital","Yes (please refer to Q10)"]
[12944947489,408998795,"2021-09-06T09:54:54","2021-10-01T07:33:50","83.223.248.169",{"$nulls":4},"31-35","Male","Portugal","Portugal","Europe","5-10",5,"Specialist","General hospital","Yes (please refer to Q10)"]
[12944941338,408998795,"2021-09-06T09:50:17","2021-09-29T23:33:42","94.132.114.46",{"$nulls":4},"36-40","Female","Portugal","Portugal","Europe","5-10",5,"Specialist","General hospital","Yes (please refer to Q10)","Less than once a week","Less than 5",{"$nulls":3},"Other short TTT courses","Advanced Life Support (ALS), Basic Life Support (BLS) or other specific courses","Simulation courses",null,null,"No",null,"I give lectures","Perform work-based interactive teaching (operating room)","Running clinical case discussions","Involved in simulation sessions","Teach informally, during every day work",null,"Planning and preparation for teaching session","Using visual aids","Interactive teaching","Problem based learning","Teaching the skills","Giving feedback","Organizing and leading the discussions",null,null,"No","No",{"$nulls":3},"I give feedback during simulation sessions","I give feedback during everyday work",{"$nulls":7},"No",null,"Lack of time",null,"No recognition","Overloaded with work","Lack of opportunity","Lack of organization",null,"I work with residents, but I do not see that as teaching",null,"Yes","I know what is it, but outcome-based education is not implemented in my country","I am not sure","I am not sure",null,"Content based curriculum",null,"Society or association of anaesthesiology","They have to pass a national board exam",null,"Written, oral examination and some practical assessment"]
[12944946702,408998795,"2021-09-06T09:53:25","2021-09-29T23:21:20","89.153.97.21",{"$nulls":4},"36-40","Female","Portugal","Portugal","Europe","5-10",4,"Specialist","General hospital","Yes (please refer to Q10)","Almost every day","6-10",{"$nulls":3},"Other short TTT courses","Advanced Life Support (ALS), Basic Life Support (BLS) or other specific courses",{"$nulls":3},"No",null,"I give lectures","Perform work-based interactive teaching (operating room)",null,null,"Teach informally, during every day work",null,"Planning and preparation for teaching session",null,"Interactive teaching",null,null,"Giving feedback","Organizing and leading the discussions","Organizing specific sessions (journal clubs, interactive sessions, pro and con debate…)",null,"Yes","Yes",{"$nulls":4},"I give feedback during everyday work",{"$nulls":6},"No, it is assumed as being a part of everyday work",null,null,"Lack of time",null,null,"Overloaded with work",{"$nulls":5},"Yes","I have some ideas, but it is not clear to me","I am not sure","I am not sure",null,"Content based curriculum",null,"Department of anaesthesiology","They have to pass a national board exam",null,"It is only oral examination"]
[12944925509,408998795,"2021-09-06T09:38:21","2021-09-29T16:12:45","46.50.7.122",{"$nulls":4},"41-50","Male","Portugal","Portugal","Europe","16-20",4,"Senior specialist","General hospital","Yes (please refer to Q10)","Every day","11-15",{"$nulls":3},"Other short TTT courses","Advanced Life Support (ALS), Basic Life Support (BLS) or other specific courses",{"$nulls":3},"No",null,"I give lectures","Perform work-based interactive teaching (operating room)","Running clinical case discussions",null,"Teach informally, during every day work",null,"Planning and preparation for teaching session","Using visual aids",null,null,"Teaching the skills","Giving feedback","Organizing and leading the discussions","Organizing specific sessions (journal clubs, interactive sessions, pro and con debate…)",null,"Yes","Yes","I am an examiner for the final exam",null,"I occasionally carry out assessment during the residency program (Direct Observation of Procedural Skills - DOPS)",null,"I give feedback during everyday work","I am involved in other forms of formative assessment (for example multisource feedback)",{"$nulls":4},"Yes, I have a more visible position in the department",null,null,"Lack of training","Lack of time",null,null,"Overloaded with work",{"$nulls":5},"Yes","Yes, I am well informed","No","I am not sure",null,"Content based curriculum",null,"National body responsible for education (Ministry of health or education, National board for anaesthesia …)","They have to pass a national board exam",null,"It is only oral examination"]
[12944864766,408998795,"2021-09-06T08:55:54","2021-09-29T16:05:24","31.24.230.78",{"$nulls":4},"31-35","Male","Portugal","Portugal","Europe","5-10",5,"Specialist","Private hospital","No (please refer to Q21)",{"$nulls":50},"I work in a non-teaching hospital",null,"Yes","Yes, I am well informed","Yes","No",null,"Classic surgical specialties based curriculum",null,"National body responsible for education (Ministry of health or education, National board for anaesthesia …)","They have to pass a national board exam",null,"It is only oral examination"]
[12942768530,408998795,"2021-09-04T19:10:48","2021-09-29T15:52:54","213.13.151.137",{"$nulls":4},"50+","Female","Portugal","Portugal","Europe","over 20 years",4,"Specialist","General hospital","Yes (please refer to Q10)","Every day","over 16",{"$nulls":5},"Simulation courses",null,null,"Yes, some elements, but not systematically",null,null,"Perform work-based interactive teaching (operating room)","Running clinical case discussions","Involved in simulation sessions","Teach informally, during every day work",null,null,"Using visual aids","Interactive teaching","Problem based learning","Teaching the skills",{"$nulls":4},"No","Yes",null,null,"I occasionally carry out assessment during the residency program (Direct Observation of Procedural Skills - DOPS)",null,"I give feedback during everyday work","I am involved in other forms of formative assessment (for example multisource feedback)",{"$nulls":5},"No, it is assumed as being a part of everyday work",null,null,"Lack of time",null,null,"Overloaded with work","Lack of opportunity",{"$nulls":4},"I do not know","I have some ideas, but it is not clear to me","Yes","I am not sure",null,"Content based curriculum",null,"National body responsible for education (Ministry of health or education, National board for anaesthesia …)","They have to pass a national board exam",null,"Written, oral examination and some practical assessment"]
[12944244540,408998795,"2021-09-06T00:10:59","2021-09-29T15:51:33","31.22.149.203",{"$nulls":4},"50+","Female","Portugal","Portugal","Europe","over 20 years",4,"Senior specialist","General hospital","Yes (please refer to Q10)","Almost every day","over 16",{"$nulls":6},"None",null,"No",{"$nulls":5},"Teach informally, during every day work",null,null,"Using visual aids",null,"Problem based learning",null,"Giving feedback","Organizing and leading the discussions",null,null,"No","Yes","I am an examiner for the final exam",{"$nulls":11},"No","Lack of training","Lack of time",{"$nulls":8},"Yes","I have some ideas, but it is not clear to me","No","No",null,"Content based curriculum",null,"National body responsible for education (Ministry of health or education, National board for anaesthesia …)","They have to pass a national board exam",null,"It is only oral examination"]
[12944268810,408998795,"2021-09-06T00:30:32","2021-09-29T15:51:11","87.196.80.56",{"$nulls":4},"25-30","Female","Portugal","Portugal","Europe","5-10",5,"Senior resident","Academic hospital (Teaching or University related)","No (please refer to Q21)"]
[12944143821,408998795,"2021-09-05T22:18:53","2021-09-29T15:16:29","83.223.234.178",{"$nulls":4},"50+","Female","Portugal","Portugal","Europe","over 20 years",4,"Specialist","General hospital","Yes (please refer to Q10)"]
[12944121053,408998795,"2021-09-05T21:50:54","2021-09-29T13:55:52","148.69.11.215",{"$nulls":4},"41-50","Male","Spain","Portugal","Europe","16-20",4,"Teacher (in University)","General hospital","Yes (please refer to Q10)","When in the operating theater (always have an allocated resident)","over 16",null,null,"ESAIC Teach the Teacher (TTT) courses",null,"Advanced Life Support (ALS), Basic Life Support (BLS) or other specific courses","Simulation courses",null,null,"No",null,null,"Perform work-based interactive teaching (operating room)",{"$nulls":13},"No","Yes",null,"I am European Diploma in Anaesthesia and Intensive Care (EDAIC) part II examiner",{"$nulls":10},"No",null,"Lack of time","Lack of motivation","No recognition","Overloaded with work","Lack of opportunity","Lack of organization",{"$nulls":3},"Yes","Yes, I am well informed","No","Yes",null,"Classic surgical specialties based curriculum",null,"National body responsible for education (Ministry of health or education, National board for anaesthesia …)","They have to pass a national board exam",null,"Written and oral examination"]
[12944057432,408998795,"2021-09-05T20:39:39","2021-09-29T13:42:03","213.13.151.137",{"$nulls":4},"50+","Female","Portugal","Portugal","Europe","over 20 years",4,"Specialist","General hospital","Yes (please refer to Q10)"]
[12944019796,408998795,"2021-09-05T19:57:53","2021-09-29T13:37:30","31.22.163.31",{"$nulls":4},"50+","Female","Portugal","Portugal","Europe","over 20 years",5,"Chief of Department","General hospital","Yes (please refer to Q10)"]
[12943918664,408998795,"2021-09-05T18:09:11","2021-09-29T12:16:32","94.60.151.26",{"$nulls":4},"31-35","Female","Portugal","Portugal","Europe","5-10",5,"Specialist","Academic hospital (Teaching or University related)","Yes (please refer to Q10)"]
[12943890060,408998795,"2021-09-05T17:44:43","2021-09-29T11:48:58","87.196.81.217",{"$nulls":4},"41-50","Female","Portugal","Portugal","Europe","16-20",4,"Specialist","General hospital","No (please refer to Q21)"]
[12943624865,408998795,"2021-09-05T13:14:49","2021-09-05T14:03:17","177.189.187.242",{"$nulls":4},"41-50","Male","Brazil","Brazil","South America","over 20 years","Less than 3","Chief of Department","Academic hospital (Teaching or University related)","Yes (please refer to Q10)","Every day","over 16",{"$nulls":4},"Advanced Life Support (ALS), Basic Life Support (BLS) or other specific courses",{"$nulls":3},"No",null,null,"Perform work-based interactive teaching (operating room)","Running clinical case discussions",null,"Teach informally, during every day work","Formally classes after day work.","Planning and preparation for teaching session","Using visual aids",null,"Problem based learning",null,null,"Organizing and leading the discussions","Organizing specific sessions (journal clubs, interactive sessions, pro and con debate…)",null,"No","Yes",null,null,"I occasionally carry out assessment during the residency program (Direct Observation of Procedural Skills - DOPS)",null,"I give feedback during everyday work","I am involved in other forms of formative assessment (for example multisource feedback)",{"$nulls":5},"No, it is assumed as being a part of everyday work",null,"Lack of training","Lack of time",null,null,"Overloaded with work",{"$nulls":5},"Yes","I do not know much","No","I am not sure",null,"Classic surgical specialties based curriculum",null,"Society or association of anaesthesiology","They have to pass a national board exam",null,"Other (please specify)","Only written examination"]
[12943593509,408998795,"2021-09-05T12:38:35","2021-09-29T11:43:03","213.13.151.137",{"$nulls":4},"50+","Female","Portugal","Portugal","Europe","over 20 years",5,"Senior specialist","General hospital","Yes (please refer to Q10)","Every day","over 16",{"$nulls":3},"Other short TTT courses","Advanced Life Support (ALS), Basic Life Support (BLS) or other specific courses","Simulation courses",null,null,"Yes",null,null,"Perform work-based interactive teaching (operating room)",null,null,"Teach informally, during every day work",{"$nulls":3},"Interactive teaching","Problem based learning","Teaching the skills","Giving feedback",{"$nulls":3},"No","No",{"$nulls":4},"I give feedback during everyday work","I am involved in other forms of formative assessment (for example multisource feedback)",{"$nulls":5},"No, it is assumed as being a part of everyday work",null,null,"Lack of time",null,"No recognition","Overloaded with work",null,"Lack of organization",null,"I work with residents, but I do not see that as teaching",null,"I do not know","I do not know much","Yes","No",null,"Classic surgical specialties based curriculum",null,"Society or association of anaesthesiology","They just have to complete the residency program (3-5 years)",null,"Written, oral examination and some practical assessment"]
[12943493954,408998795,"2021-09-05T10:43:33","2021-09-29T11:39:07","87.103.20.214",{"$nulls":4},"36-40","Female","Portugal","Portugal","Europe","5-10",5,"Specialist","Academic hospital (Teaching or University related)","Yes (please refer to Q10)","Almost every day","Less than 5",{"$nulls":5},"Simulation courses",null,null,"No",null,"I give lectures","Perform work-based interactive teaching (operating room)",null,"Involved in simulation sessions","Teach informally, during every day work",null,"Planning and preparation for teaching session","Using visual aids","Interactive teaching","Problem based learning","Teaching the skills","Giving feedback","Organizing and leading the discussions","Organizing specific sessions (journal clubs, interactive sessions, pro and con debate…)",null,"Yes","No",null,"I am European Diploma in Anaesthesia and Intensive Care (EDAIC) part II examiner","I occasionally carry out assessment during the residency program (Direct Observation of Procedural Skills - DOPS)","I give feedback during simulation sessions","I give feedback during everyday work",{"$nulls":6},"No, it is assumed as being a part of everyday work",null,"Lack of training","Lack of time","Lack of motivation","No recognition","Overloaded with work","Lack of opportunity","Lack of organization",{"$nulls":3},"Yes","I have some ideas, but it is not clear to me","No","I am not sure","09/29/2021","Competency (outcome) based curriculum",null,"National body responsible for education (Ministry of health or education, National board for anaesthesia …)","They have to pass a national board exam",null,"It is only oral examination"]
[12943457716,408998795,"2021-09-05T10:05:32","2021-09-29T11:37:12","87.196.80.243",{"$nulls":4},"41-50","Female","Portugal","Portugal","Europe","16-20",4,"Senior specialist","General hospital","Yes (please refer to Q10)","When in the operating theater (always have an allocated resident)","11-15",{"$nulls":4},"Advanced Life Support (ALS), Basic Life Support (BLS) or other specific courses",{"$nulls":3},"No",{"$nulls":5},"Teach informally, during every day work",{"$nulls":5},"Teaching the skills","Giving feedback",{"$nulls":3},"No","No",{"$nulls":6},"I am not involved in any kind of assessment",{"$nulls":4},"No, it is assumed as being a part of everyday work",{"$nulls":3},"Lack of motivation",null,"Overloaded with work",{"$nulls":5},"Yes","I do not know much","I am not sure","I am not sure",null,"Content based curriculum",null,"Society or association of anaesthesiology","They have to pass a national board exam",null,"It is only oral examination"]
[12943400696,408998795,"2021-09-05T08:53:41","2021-09-29T11:32:52","148.69.39.163",{"$nulls":4},"36-40","Male","Portugal","Portugal","Europe","5-10",5,"Specialist","Academic hospital (Teaching or University related)","Yes (please refer to Q10)"]
[12943334300,408998795,"2021-09-05T07:22:39","2021-09-29T11:32:42","87.196.81.135",{"$nulls":4},"41-50","Male","Portugal","Portugal","Europe","16-20",4,"Senior specialist","Private hospital","No (please refer to Q21)",{"$nulls":50},"I work in a non-teaching hospital",null,"Yes","Yes, I am well informed","No","No",null,"Classic surgical specialties based curriculum",null,"Department of anaesthesiology","They have to pass a national board exam",null,"It is only oral examination","Written exam + evaluation of technical skills based on the number of certain procedures the resident has performed during the residency"]
[12943298448,408998795,"2021-09-05T06:11:59","2021-09-05T06:20:47","202.126.89.11",{"$nulls":4},"41-50","Female","Mongolia","Mongolia","Asia","16-20","Over 5","Teacher (in University)","Specialized clinic","Yes (please refer to Q10)"]
[12943094682,408998795,"2021-09-05T01:27:58","2021-09-29T11:27:17","213.13.151.137",{"$nulls":4},"50+","Female","Portugal","Portugal","Europe","over 20 years",4,"Senior specialist","General hospital","Yes (please refer to Q10)"]
[12942983122,408998795,"2021-09-04T22:40:25","2021-09-29T11:10:12","83.223.224.135",{"$nulls":4},"50+","Female","Portugal","Portugal","Europe","over 20 years",4,"Senior specialist","General hospital","Yes (please refer to Q10)"]
[12942874395,408998795,"2021-09-04T21:01:55","2021-09-29T11:06:40","94.60.198.142",{"$nulls":4},"41-50","Female","Portugal","Portugal","Europe","16-20",4,"Senior specialist","Private hospital","Yes (please refer to Q10)","Less than once a week","over 16",null,"Obligatory teaching courses for University teachers",null,"Other short TTT courses","Advanced Life Support (ALS), Basic Life Support (BLS) or other specific courses","Simulation courses",null,null,"Yes, some elements, but not systematically",null,"I give lectures","Perform work-based interactive teaching (operating room)","Running clinical case discussions","Involved in simulation sessions",null,null,"Planning and preparation for teaching session","Using visual aids","Interactive teaching","Problem based learning","Teaching the skills","Giving feedback","Organizing and leading the discussions","Organizing specific sessions (journal clubs, interactive sessions, pro and con debate…)",null,"Yes","Yes",{"$nulls":3},"I give feedback during simulation sessions","I give feedback during everyday work","I am involved in other forms of formative assessment (for example multisource feedback)","I am not involved in any kind of assessment",{"$nulls":5},"No",{"$nulls":3},"No recognition",null,null,"Lack of organization",{"$nulls":3},"Yes","Yes, I am well informed","Yes","Yes","01/09/2000","Other (please specify)","my hospital in private so we do not have residents","National body responsible for education (Ministry of health or education, National board for anaesthesia …)","They have to pass a national board exam",null,"Written, oral examination and some practical assessment"]
[12942870157,408998795,"2021-09-04T20:54:32","2021-09-04T21:07:49","185.185.60.70",{"$nulls":4},"41-50","Male","State of Palestine","Saudi Arabia","Asia","11-15",4,"Senior specialist","Academic hospital (Teaching or University related)","Yes (please refer to Q10)","When in the operating theater (always have an allocated resident)","6-10",null,"Obligatory teaching courses for University teachers",{"$nulls":3},"Simulation courses",null,null,"Yes",null,"I give lectures","Perform work-based interactive teaching (operating room)","Running clinical case discussions","Involved in simulation sessions","Teach informally, during every day work",{"$nulls":3},"Interactive teaching","Problem based learning","Teaching the skills","Giving feedback",{"$nulls":3},"Yes","Yes","I am an examiner for the final exam",null,"I occasionally carry out assessment during the residency program (Direct Observation of Procedural Skills - DOPS)","I give feedback during simulation sessions","I give feedback during everyday work",{"$nulls":5},"Yes, I have a more visible position in the department","No, it is assumed as being a part of everyday work",null,null,"Lack of time","Lack of motivation",null,"Overloaded with work",{"$nulls":5},"Yes","Yes, I am well informed","No","No",null,"Content based curriculum",null,"National body responsible for education (Ministry of health or education, National board for anaesthesia …)","They have to pass a national board exam",null,"Written and oral examination"]
[12942770993,408998795,"2021-09-04T19:13:41","2021-09-29T11:04:42","87.103.22.82",{"$nulls":4},"36-40","Male","Portugal","Portugal","Europe","5-10",4,"Lecturer","General hospital","Yes (please refer to Q10)","Almost every day","6-10",null,"Obligatory teaching courses for University teachers",null,"Other short TTT courses","Advanced Life Support (ALS), Basic Life Support (BLS) or other specific courses","Simulation courses",null,null,"Yes",null,"I give lectures","Perform work-based interactive teaching (operating room)","Running clinical case discussions","Involved in simulation sessions","Teach informally, during every day work",null,"Planning and preparation for teaching session","Using visual aids","Interactive teaching","Problem based learning","Teaching the skills","Giving feedback","Organizing and leading the discussions","Organizing specific sessions (journal clubs, interactive sessions, pro and con debate…)",null,"No","No",null,null,"I occasionally carry out assessment during the residency program (Direct Observation of Procedural Skills - DOPS)","I give feedback during simulation sessions","I give feedback during everyday work","I am involved in other forms of formative assessment (for example multisource feedback)",{"$nulls":5},"No, it is assumed as being a part of everyday work",null,null,"Lack of time"]
[12942742056,408998795,"2021-09-04T18:45:29","2021-09-28T12:22:14","85.246.183.107",{"$nulls":4},"50+","Female","Portugal","Portugal","Europe","over 20 years",5,"Specialist","General hospital","Yes (please refer to Q10)","Almost every day","over 16",{"$nulls":6},"None",null,"No",null,null,"Perform work-based interactive teaching (operating room)","Running clinical case discussions",null,"Teach informally, during every day work",{"$nulls":3},"Interactive teaching","Problem based learning",null,"Giving feedback",{"$nulls":3},"No","Yes",null,null,"I occasionally carry out assessment during the residency program (Direct Observation of Procedural Skills - DOPS)",null,"I give feedback during everyday work",{"$nulls":6},"No, it is assumed as being a part of everyday work",null,"Lack of training","Lack of time",null,"No recognition","Overloaded with work",{"$nulls":5},"Yes","I have some ideas, but it is not clear to me","I am not sure","I am not sure",null,"Content based curriculum",null,"National body responsible for education (Ministry of health or education, National board for anaesthesia …)","They have to pass a national board exam",null,"It is only oral examination"]
[12942724781,408998795,"2021-09-04T18:29:02","2021-09-26T01:15:30","102.23.116.6",{"$nulls":4},"41-50","Female","Portugal","Portugal","Europe","over 20 years",4,"Senior specialist","Academic hospital (Teaching or University related)","Yes (please refer to Q10)"]
[12942673094,408998795,"2021-09-04T17:42:36","2021-09-04T17:49:31","49.37.150.15",{"$nulls":4},"36-40","Female","India","India","Asia","11-15",4,"Specialist","Academic hospital (Teaching or University related)","Yes (please refer to Q10)","Almost every day","Less than 5",{"$nulls":6},"None",null,"No, but students are exposed to outcome based teaching",null,"I give lectures","Perform work-based interactive teaching (operating room)",null,null,"Teach informally, during every day work",{"$nulls":3},"Interactive teaching","Problem based learning",null,"Giving feedback","Organizing and leading the discussions",null,null,"Yes","Yes",{"$nulls":6},"I am not involved in any kind of assessment",{"$nulls":4},"No, it is assumed as being a part of everyday work",null,"Lack of training",null,null,"No recognition",null,"Lack of opportunity",{"$nulls":4},"I do not know","I have some ideas, but it is not clear to me","No","I am not sure",null,"Content based curriculum",null,"Society or association of anaesthesiology","They have to pass a university board exam",null,"Written and oral examination, but also OSCE (Objective Structured Clinical Examination)"]
[12942669123,408998795,"2021-09-04T17:29:04","2021-09-04T17:47:49","157.34.61.33",{"$nulls":4},"31-35","Male","India","India","Asia","5-10",3,"Specialist","Academic hospital (Teaching or University related)","Yes (please refer to Q10)","Every day","Less than 5",{"$nulls":6},"None",null,"No",null,"I give lectures","Perform work-based interactive teaching (operating room)","Running clinical case discussions",null,"Teach informally, during every day work",null,null,"Using visual aids",null,"Problem based learning","Teaching the skills","Giving feedback",null,"Organizing specific sessions (journal clubs, interactive sessions, pro and con debate…)",null,"Yes","Yes",{"$nulls":4},"I give feedback during everyday work",{"$nulls":5},"Yes, I have a more visible position in the department","No, it is assumed as being a part of everyday work",{"$nulls":4},"No recognition","Overloaded with work",null,"Lack of organization",{"$nulls":3},"Yes","I have some ideas, but it is not clear to me","No","I am not sure",null,"Content based curriculum",null,"National body responsible for education (Ministry of health or education, National board for anaesthesia …)","They have to pass a university board exam",null,"Written, oral examination and some practical assessment"]
[12942619906,408998795,"2021-09-04T17:02:14","2021-09-23T11:40:50","31.22.149.110",{"$nulls":4},"50+","Male","Portugal","Portugal","Europe","16-20",5,"Senior specialist","Academic hospital (Teaching or University related)","Yes (please refer to Q10)","Once a week","over 16",{"$nulls":3},"Other short TTT courses",{"$nulls":4},"No",null,"I give lectures","Perform work-based interactive teaching (operating room)",null,"Involved in simulation sessions",null,null,"Planning and preparation for teaching session",null,"Interactive teaching",null,"Teaching the skills",null,null,"Organizing specific sessions (journal clubs, interactive sessions, pro and con debate…)",null,"Yes","Yes","I am an examiner for the final exam",{"$nulls":11},"No",null,"Lack of time",{"$nulls":4},"Lack of organization",null,"I do not want to be involved in teaching residents because it is not paid",null,"Yes","I have some ideas, but it is not clear to me","I am not sure","No",null,"Content based curriculum",null,"National body responsible for education (Ministry of health or education, National board for anaesthesia …)","They have to pass a national board exam",null,"It is only oral examination"]
[12942570747,408998795,"2021-09-04T16:22:28","2021-09-23T11:38:24","87.103.66.175",{"$nulls":4},"31-35","Male","Portugal","Portugal","Europe","5-10",5,"Specialist","General hospital","No (please refer to Q21)",{"$nulls":50},"I work in a non-teaching hospital",null,"Yes","Yes, I am well informed","Yes","I am not sure","09/23/2021","I do not know",null,"National body responsible for education (Ministry of health or education, National board for anaesthesia …)","They have to pass a national board exam",null,"Written, oral examination and some practical assessment"]
[12942477456,408998795,"2021-09-04T14:59:25","2021-09-23T11:19:51","95.136.100.70",{"$nulls":4},"25-30","Male","Portugal","Portugal","Europe","5-10",5,"Senior resident","Academic hospital (Teaching or University related)","Yes (please refer to Q10)","Less than once a week","Less than 5",{"$nulls":5},"Simulation courses",null,null,"No, but students are exposed to outcome based teaching",null,null,"Perform work-based interactive teaching (operating room)",null,"Involved in simulation sessions","Teach informally, during every day work",null,null,"Using visual aids",null,"Problem based learning",null,"Giving feedback",null,"Organizing specific sessions (journal clubs, interactive sessions, pro and con debate…)",null,"Yes","No",{"$nulls":6},"I am not involved in any kind of assessment",{"$nulls":4},"No, it is assumed as being a part of everyday work",null,null,"Lack of time",null,"No recognition","Overloaded with work",{"$nulls":5},"Yes","Yes, I am well informed","I am not sure","I am not sure",null,"Competency (outcome) based curriculum",null,"Society or association of anaesthesiology","They have to pass a national board exam",null,"Written and oral examination, but also OSCE (Objective Structured Clinical Examination)","Oral examination and some practical assessment"]
[12942454780,408998795,"2021-09-04T14:39:01","2021-09-23T10:04:21","83.223.241.33",{"$nulls":4},"36-40","Female","Portugal","Portugal","Europe","5-10",5,"Specialist","General hospital","Yes (please refer to Q10)","When in the operating theater (always have an allocated resident)","6-10",{"$nulls":3},"Other short TTT courses",null,"Simulation courses",null,null,"Yes",null,null,"Perform work-based interactive teaching (operating room)",null,null,"Teach informally, during every day work",null,"Planning and preparation for teaching session","Using visual aids","Interactive teaching","Problem based learning","Teaching the skills","Giving feedback",{"$nulls":3},"No","Yes","I am an examiner for the final exam","I am European Diploma in Anaesthesia and Intensive Care (EDAIC) part II examiner",null,null,"I give feedback during everyday work",{"$nulls":6},"No, it is assumed as being a part of everyday work",null,null,"Lack of time",null,"No recognition","Overloaded with work",{"$nulls":5},"Yes","I have some ideas, but it is not clear to me","Yes","No",null,"Classic surgical specialties based curriculum",null,"National body responsible for education (Ministry of health or education, National board for anaesthesia …)","They have to pass a national board exam",null,"Written, oral examination and some practical assessment"]
[12942426554,408998795,"2021-09-03T23:24:32","2021-09-23T09:54:43","85.243.132.65",{"$nulls":4},"31-35","Female","Portugal","Portugal","Europe","5-10",5,"Specialist","Academic hospital (Teaching or University related)","Yes (please refer to Q10)","Almost every day","Less than 5",{"$nulls":3},"Other short TTT courses","Advanced Life Support (ALS), Basic Life Support (BLS) or other specific courses",{"$nulls":3},"No",null,null,"Perform work-based interactive teaching (operating room)","Running clinical case discussions","Involved in simulation sessions",null,null,"Planning and preparation for teaching session","Using visual aids",null,"Problem based learning","Teaching the skills",{"$nulls":4},"No","No",{"$nulls":5},"I am involved in other forms of formative assessment (for example multisource feedback)",{"$nulls":5},"No, it is assumed as being a part of everyday work",null,"Lack of training","Lack of time",null,"No recognition","Overloaded with work",null,"Lack of organization",{"$nulls":3},"Yes","I have some ideas, but it is not clear to me","Yes","No",null,"Classic surgical specialties based curriculum",null,"National body responsible for education (Ministry of health or education, National board for anaesthesia …)","They have to pass a national board exam",null,"Written, oral examination and some practical assessment","practical - anesthesia and ICU, oral"]
[12942383596,408998795,"2021-09-04T13:30:52","2021-09-13T10:47:41","213.13.151.34",{"$nulls":4},"50+","Male","Portugal","Portugal","Europe","over 20 years",4,"Chief of Department","General hospital","Yes (please refer to Q10)","When in the operating theater (always have an allocated resident)","over 16",null,"Obligatory teaching courses for University teachers",{"$nulls":6},"No",null,null,"Perform work-based interactive teaching (operating room)",{"$nulls":11},"Organizing specific sessions (journal clubs, interactive sessions, pro and con debate…)",null,"No","No","I am an examiner for the final exam",{"$nulls":11},"No",{"$nulls":3},"No recognition",{"$nulls":4},"I work in a non-teaching hospital",null,"Yes","Yes, I am well informed","Yes","Yes","01/28/1984","Competency (outcome) based curriculum",null,"National body responsible for education (Ministry of health or education, National board for anaesthesia …)","They have to pass a national board exam",null,"Written and oral examination, but also OSCE (Objective Structured Clinical Examination)"]
[12942307397,408998795,"2021-09-04T12:14:36","2021-09-12T10:48:05","89.154.70.31",{"$nulls":4},"41-50","Female","Portugal","Portugal","Europe","16-20",5,"Lecturer","General hospital","Yes (please refer to Q10)","Almost every day","over 16",{"$nulls":3},"Other short TTT courses",null,"Simulation courses",null,null,"No",null,"I give lectures","Perform work-based interactive teaching (operating room)",null,"Involved in simulation sessions","Teach informally, during every day work",null,"Planning and preparation for teaching session","Using visual aids","Interactive teaching","Problem based learning","Teaching the skills","Giving feedback","Organizing and leading the discussions","Organizing specific sessions (journal clubs, interactive sessions, pro and con debate…)",null,"Yes","Yes","I am an examiner for the final exam",null,null,"I give feedback during simulation sessions","I give feedback during everyday work","I am involved in other forms of formative assessment (for example multisource feedback)",{"$nulls":6},"No",null,"Lack of time",null,"No recognition","Overloaded with work",null,"Lack of organization",null,"I work in a non-teaching hospital",null,"Yes","I have no knowledge of what it is","Yes","No",null,"I do not know",null,"National body responsible for education (Ministry of health or education, National board for anaesthesia …)","They have to pass a national board exam",null,"It is only oral examination"]
[12942295343,408998795,"2021-09-04T12:01:30","2021-09-09T12:48:09","213.13.151.138",{"$nulls":4},"31-35","Female","Portugal","Portugal","Europe","5-10",5,"Specialist","General hospital","No (please refer to Q21)",{"$nulls":50},"I work in a non-teaching hospital",null,"Yes","I have some ideas, but it is not clear to me","No","I am not sure",null,"Content based curriculum",null,"National body responsible for education (Ministry of health or education, National board for anaesthesia …)","They have to pass a national board exam",null,"It is only oral examination"]
[12942258180,408998795,"2021-09-04T11:26:09","2021-09-09T12:15:50","94.63.177.243",{"$nulls":4},"50+","Female","Portugal","Portugal","Europe","over 20 years",4,"Senior specialist","Academic hospital (Teaching or University related)","Yes (please refer to Q10)","Every day","over 16",null,"Obligatory teaching courses for University teachers",{"$nulls":6},"Yes",null,"I give lectures","Perform work-based interactive teaching (operating room)","Running clinical case discussions",null,"Teach informally, during every day work",null,"Planning and preparation for teaching session","Using visual aids",null,"Problem based learning","Teaching the skills","Giving feedback","Organizing and leading the discussions","Organizing specific sessions (journal clubs, interactive sessions, pro and con debate…)",null,"Yes","Yes","I am an examiner for the final exam",{"$nulls":3},"I give feedback during everyday work",{"$nulls":5},"Yes, I have a more visible position in the department",{"$nulls":3},"Lack of time",null,null,"Overloaded with work",{"$nulls":5},"Yes","Yes, I am well informed","Yes","Yes",null,"Content based curriculum",null,"National body responsible for education (Ministry of health or education, National board for anaesthesia …)","They have to pass a national board exam",null,"VIVA (Oral examination), written and OSCE examination"]
[12942214890,408998795,"2021-09-04T10:42:50","2021-09-08T20:55:31","213.13.151.174",{"$nulls":4},"36-40","Female","Portugal","Portugal","Europe","11-15",5,"Lecturer","Academic hospital (Teaching or University related)","Yes (please refer to Q10)","Once a week","6-10",{"$nulls":3},"Other short TTT courses","Advanced Life Support (ALS), Basic Life Support (BLS) or other specific courses","Simulation courses",null,null,"No",null,null,"Perform work-based interactive teaching (operating room)","Running clinical case discussions","Involved in simulation sessions","Teach informally, during every day work","Moderate interactive teaching sessions with a group of residents","Planning and preparation for teaching session","Using visual aids","Interactive teaching","Problem based learning","Teaching the skills","Giving feedback","Organizing and leading the discussions","Organizing specific sessions (journal clubs, interactive sessions, pro and con debate…)",null,"Yes","No",{"$nulls":3},"I give feedback during simulation sessions","I give feedback during everyday work","I am involved in other forms of formative assessment (for example multisource feedback)",null,"examiner for the annual evaluation of residents",null,null,"Yes, I have a more visible position in the department",{"$nulls":3},"Lack of time",null,"No recognition","Overloaded with work","Lack of opportunity","Lack of organization",{"$nulls":3},"Yes","I know what is it, but outcome-based education is not implemented in my country","I am not sure","No",null,"Content based curriculum",null,"National body responsible for education (Ministry of health or education, National board for anaesthesia …)","They have to pass a national board exam",null,"It is only oral examination"]
[12942196385,408998795,"2021-09-04T10:23:21","2021-09-08T20:12:26","77.229.115.209",{"$nulls":4},"41-50","Male","Spain","Portugal","Europe","16-20",4,"Teacher (in University)","Academic hospital (Teaching or University related)","Yes (please refer to Q10)","When in the operating theater (always have an allocated resident)","over 16",null,null,"ESAIC Teach the Teacher (TTT) courses",null,"Advanced Life Support (ALS), Basic Life Support (BLS) or other specific courses","Simulation courses",null,null,"No",null,null,"Perform work-based interactive teaching (operating room)",{"$nulls":6},"Interactive teaching",null,"Teaching the skills","Giving feedback",{"$nulls":3},"No","Yes",null,"I am European Diploma in Anaesthesia and Intensive Care (EDAIC) part II examiner",null,null,"I give feedback during everyday work",{"$nulls":6},"No, it is assumed as being a part of everyday work",null,null,"Lack of time",null,"No recognition","Overloaded with work","Lack of opportunity","Lack of organization",{"$nulls":3},"Yes","Yes, I am well informed","Yes","I am not sure",null,"I do not know",null,"National body responsible for education (Ministry of health or education, National board for anaesthesia …)","They have to pass a national board exam",null,"It is only oral examination"]
[12942133873,408998795,"2021-09-04T09:21:56","2021-09-04T09:27:35","103.107.198.125",{"$nulls":4},"41-50","Male","United Kingdom of Great Britain and Northern Ireland","Singapore","Asia","over 20 years","Over 5","Specialist","Academic hospital (Teaching or University related)","Yes (please refer to Q10)","Almost every day","11-15",{"$nulls":6},"None",null,"No",null,"I give lectures","Perform work-based interactive teaching (operating room)",null,null,"Teach informally, during every day work",null,"Planning and preparation for teaching session",null,null,"Problem based learning","Teaching the skills","Giving feedback",{"$nulls":3},"No","No",null,null,"I occasionally carry out assessment during the residency program (Direct Observation of Procedural Skills - DOPS)",{"$nulls":8},"No, it is assumed as being a part of everyday work",{"$nulls":5},"Overloaded with work",{"$nulls":5},"Yes","I have some ideas, but it is not clear to me","No","I am not sure",null,"Competency (outcome) based curriculum",null,"Department of anaesthesiology","They have to pass a national board exam",null,"Written and oral examination, but also OSCE (Objective Structured Clinical Examination)"]
[12942121675,408998795,"2021-09-04T09:08:35","2021-09-06T01:17:35","213.22.21.9",{"$nulls":4},"50+","Male","Portugal","Portugal","Europe","over 20 years",5,"Chief of Department","General hospital","Yes (please refer to Q10)","Almost every day","11-15",{"$nulls":3},"Other short TTT courses","Advanced Life Support (ALS), Basic Life Support (BLS) or other specific courses","Simulation courses",null,null,"Yes",null,null,"Perform work-based interactive teaching (operating room)","Running clinical case discussions",{"$nulls":3},"Planning and preparation for teaching session",null,"Interactive teaching",null,"Teaching the skills",null,"Organizing and leading the discussions","Organizing specific sessions (journal clubs, interactive sessions, pro and con debate…)",null,"Yes","Yes","I am an examiner for the final exam",{"$nulls":4},"I am involved in other forms of formative assessment (for example multisource feedback)",{"$nulls":5},"No, it is assumed as being a part of everyday work",null,null,"Lack of time",null,null,"Overloaded with work",null,"Lack of organization",{"$nulls":3},"Yes","Yes, I am well informed","Yes","Yes",null,"Content based curriculum",null,"Society or association of anaesthesiology","They have to pass a national board exam",null,"Written, oral examination and some practical assessment"]
[12942100711,408998795,"2021-09-04T08:45:26","2021-09-03T17:51:43","188.37.251.179",{"$nulls":4},"25-30","Female","Portugal","Portugal","Europe","5-10",5,"Trainee","Academic hospital (Teaching or University related)","No (please refer to Q21)"]
[12940976686,408998795,"2021-09-03T19:27:20","2021-09-03T13:27:02","77.54.179.213",{"$nulls":4},"31-35","Male","Portugal","Portugal","Europe","5-10",5,"Specialist","General hospital","Yes (please refer to Q10)","Almost every day","Less than 5",{"$nulls":3},"Other short TTT courses","Advanced Life Support (ALS), Basic Life Support (BLS) or other specific courses","Simulation courses",null,null,"No",null,null,"Perform work-based interactive teaching (operating room)","Running clinical case discussions",null,"Teach informally, during every day work",{"$nulls":3},"Interactive teaching","Problem based learning","Teaching the skills","Giving feedback",{"$nulls":3},"Yes","No",null,null,"I occasionally carry out assessment during the residency program (Direct Observation of Procedural Skills - DOPS)",null,"I give feedback during everyday work",{"$nulls":5},"Yes, I have a more visible position in the department",null,null,"Lack of training","Lack of time",null,null,"Overloaded with work",{"$nulls":5},"Yes","Yes, I am well informed","Yes","No",null,"Classic surgical specialties based curriculum",null,"National body responsible for education (Ministry of health or education, National board for anaesthesia …)","They have to pass a national board exam",null,"It is only oral examination"]
[12942069535,408998795,"2021-09-04T08:07:08","2021-09-04T08:20:15","41.35.111.105",{"$nulls":4},"41-50","Male","Egypt","Egypt","Africa","16-20",4,"Lecturer","General hospital","Yes (please refer to Q10)","When in the operating theater (always have an allocated resident)","Less than 5",{"$nulls":5},"Simulation courses",null,null,"Yes",{"$nulls":3},"Running clinical case discussions",{"$nulls":6},"Problem based learning",{"$nulls":5},"Yes","Yes",null,null,"I occasionally carry out assessment during the residency program (Direct Observation of Procedural Skills - DOPS)",{"$nulls":8},"No, it is assumed as being a part of everyday work",{"$nulls":5},"Overloaded with work",{"$nulls":5},"Yes","I know what is it, but outcome-based education is not implemented in my country","No","Yes","01/01/2000","Content based curriculum",null,"National body responsible for education (Ministry of health or education, National board for anaesthesia …)","They have to pass a national board exam",null,"VIVA (Oral examination), written and OSCE examination"]
[12942053470,408998795,"2021-09-04T07:47:06","2021-09-04T08:16:21","188.70.29.221",{"$nulls":4},"31-35","Male","Egypt","Egypt","Africa","11-15","Over 5","Lecturer","Academic hospital (Teaching or University related)","Yes (please refer to Q10)","When in the operating theater (always have an allocated resident)","6-10",null,"Obligatory teaching courses for University teachers",{"$nulls":6},"No",null,"I give lectures","Perform work-based interactive teaching (operating room)","Running clinical case discussions",null,"Teach informally, during every day work","Workshops (US guided Nerve Blocks, POCUS, US in ICU, Safety in Anesthesia)","Planning and preparation for teaching session","Using visual aids","Interactive teaching","Problem based learning","Teaching the skills","Giving feedback","Organizing and leading the discussions","Organizing specific sessions (journal clubs, interactive sessions, pro and con debate…)",null,"Yes","Yes",null,null,"I occasionally carry out assessment during the residency program (Direct Observation of Procedural Skills - DOPS)",{"$nulls":8},"No, it is assumed as being a part of everyday work",null,"Lack of training","Lack of time",null,"No recognition","Overloaded with work",null,"Lack of organization",{"$nulls":3},"I do not know","I have no knowledge of what it is","No","I am not sure",null,"Content based curriculum",null,"University","They have to pass a university board exam",null,"VIVA (Oral examination), written and OSCE examination"]
[12941928114,408998795,"2021-09-04T05:23:20","2021-09-04T05:32:17","200.72.227.57",{"$nulls":4},"41-50","Female","Chile","Chile","South America","16-20",3,"Specialist","Private hospital","Yes (please refer to Q10)","Almost every day","11-15","Master in Medical Education",{"$nulls":3},"Advanced Life Support (ALS), Basic Life Support (BLS) or other specific courses","Simulation courses",null,null,"Yes",null,"I give lectures","Perform work-based interactive teaching (operating room)","Running clinical case discussions","Involved in simulation sessions",null,null,"Planning and preparation for teaching session","Using visual aids",null,"Problem based learning","Teaching the skills","Giving feedback","Organizing and leading the discussions","Organizing specific sessions (journal clubs, interactive sessions, pro and con debate…)","LMS programming ","Yes","Yes","I am an examiner for the final exam",null,"I occasionally carry out assessment during the residency program (Direct Observation of Procedural Skills - DOPS)","I give feedback during simulation sessions","I give feedback during everyday work",null,null,"I’m a reviewer for national specialty committee ",{"$nulls":3},"No, it is assumed as being a part of everyday work",null,null,"Lack of time",null,"No recognition","Overloaded with work",null,"Lack of organization","Teaching in a private hospital ",null,null,"Yes","Yes, I am well informed","I am not sure","Yes","11/19/2008","Competency (outcome) based curriculum",null,"University","Other (please specify)","They have to pass   A Univerrsity Biard plis one week Clinical examination","Written, oral examination and some practical assessment"]
[12941784972,408998795,"2021-09-04T03:08:12","2021-09-04T03:26:30","198.98.106.168",{"$nulls":4},"36-40","Female","India","Canada","North America","11-15",3,"Specialist","Academic hospital (Teaching or University related)","Yes (please refer to Q10)","Less than once a week","Less than 5",{"$nulls":5},"Simulation courses",null,null,"No",{"$nulls":4},"Involved in simulation sessions",{"$nulls":7},"Giving feedback",{"$nulls":3},"No","Yes",null,null,"I occasionally carry out assessment during the residency program (Direct Observation of Procedural Skills - DOPS)","I give feedback during simulation sessions",{"$nulls":7},"No, it is assumed as being a part of everyday work",null,"Lack of training","Lack of time",{"$nulls":8},"Yes","I have some ideas, but it is not clear to me","No","No","09/02/2021","Competency (outcome) based curriculum",null,"National body responsible for education (Ministry of health or education, National board for anaesthesia …)","They have to pass a national board exam",null,"Written and oral examination, but also OSCE (Objective Structured Clinical Examination)"]
[12941465576,408998795,"2021-09-03T23:29:13","2021-09-03T11:53:16","94.61.154.91",{"$nulls":4},"36-40","Female","Portugal","Portugal","Europe","5-10",5,"Specialist","Academic hospital (Teaching or University related)","No (please refer to Q21)",{"$nulls":50},"I work with residents, but I do not see that as teaching",null,"Yes","I have some ideas, but it is not clear to me","Yes","I am not sure",null,"Content based curriculum",null,"Society or association of anaesthesiology","They have to pass a national board exam",null,"It is only oral examination","written and oral exam followed by \"master\" thesis discussion "]
[12941447557,408998795,"2021-09-03T23:18:08","2021-09-03T11:43:53","185.101.177.221",{"$nulls":4},"41-50","Female","Portugal","Portugal","Europe","16-20",4,"Senior specialist","Academic hospital (Teaching or University related)","Yes (please refer to Q10)","Almost every day","11-15",{"$nulls":3},"Other short TTT courses","Advanced Life Support (ALS), Basic Life Support (BLS) or other specific courses",{"$nulls":3},"No",null,null,"Perform work-based interactive teaching (operating room)",{"$nulls":8},"Teaching the skills","Giving feedback",{"$nulls":3},"No","Yes",null,null,"I occasionally carry out assessment during the residency program (Direct Observation of Procedural Skills - DOPS)",null,"I give feedback during everyday work",{"$nulls":6},"No, it is assumed as being a part of everyday work",null,"Lack of training",{"$nulls":3},"Overloaded with work",{"$nulls":5},"Yes","I have some ideas, but it is not clear to me","I am not sure","No",null,"Content based curriculum",null,"Department of anaesthesiology","They have to pass a national board exam",null,"It is only oral examination"]
[12941419194,408998795,"2021-09-03T23:01:50","2021-09-03T10:39:09","87.103.56.214",{"$nulls":4},"25-30","Female","Portugal","Portugal","Europe","5-10",5,"Trainee","General hospital","No (please refer to Q21)",{"$nulls":50},"I work with residents, but I do not see that as teaching"]
[12941331322,408998795,"2021-09-03T22:15:38","2021-09-03T22:20:36","31.218.146.132",{"$nulls":4},"41-50","Male","India","United Arab Emirates","Asia","11-15","Over 5","Senior specialist","Private hospital","No (please refer to Q21)",{"$nulls":50},"I work in a non-teaching hospital",null,"Yes","I do not know much","No","I am not sure","09/04/2021","I do not know",null,"Society or association of anaesthesiology","They have to pass a university board exam",null,"Written and oral examination, but also OSCE (Objective Structured Clinical Examination)"]
[12941317225,408998795,"2021-09-03T22:09:34","2021-09-03T00:01:47","148.71.97.4",{"$nulls":4},"50+","Male","Portugal","Portugal","Europe","over 20 years",4,"Chief of Department","General hospital","No (please refer to Q21)",{"$nulls":63},"oral final and continuous in-tarining workplace assessments"]
[12941308897,408998795,"2021-09-03T22:05:02","2021-09-02T23:37:39","188.82.35.78",{"$nulls":4},"41-50","Female","Portugal","Portugal","Europe","11-15",4,"Specialist","Academic hospital (Teaching or University related)","No (please refer to Q21)",{"$nulls":50},"I work with residents, but I do not see that as teaching",null,"Yes","Yes, I am well informed","Yes","I am not sure",null,"Content based curriculum",null,"National body responsible for education (Ministry of health or education, National board for anaesthesia …)","They have to pass a national board exam",null,"It is only oral examination"]
[12941276397,408998795,"2021-09-03T21:47:58","2021-09-02T20:37:15","92.250.47.70",{"$nulls":4},"41-50","Female","Portugal","Portugal","Europe","over 20 years",4,"Senior specialist","Academic hospital (Teaching or University related)","Yes (please refer to Q10)","Every day","11-15",null,null,"ESAIC Teach the Teacher (TTT) courses","Other short TTT courses","Advanced Life Support (ALS), Basic Life Support (BLS) or other specific courses","Simulation courses",null,null,"Yes, some elements, but not systematically",null,"I give lectures","Perform work-based interactive teaching (operating room)","Running clinical case discussions","Involved in simulation sessions","Teach informally, during every day work",null,"Planning and preparation for teaching session","Using visual aids","Interactive teaching","Problem based learning","Teaching the skills","Giving feedback","Organizing and leading the discussions","Organizing specific sessions (journal clubs, interactive sessions, pro and con debate…)",null,"Yes","Yes","I am an examiner for the final exam","I am European Diploma in Anaesthesia and Intensive Care (EDAIC) part II examiner","I occasionally carry out assessment during the residency program (Direct Observation of Procedural Skills - DOPS)","I give feedback during simulation sessions",{"$nulls":7},"No, it is assumed as being a part of everyday work",null,null,"Lack of time",null,"No recognition","Overloaded with work",{"$nulls":5},"Yes","Yes, I am well informed","Yes","No",null,"Content based curriculum",null,"National body responsible for education (Ministry of health or education, National board for anaesthesia …)","They have to pass a national board exam",null,"It is only oral examination"]
[12941186390,408998795,"2021-09-03T21:03:55","2021-09-02T20:03:29","213.13.151.34",{"$nulls":4},"41-50","Female","Portugal","Portugal","Europe","11-15",5,"Specialist","General hospital","Yes (please refer to Q10)","Once a week","Less than 5",null,null,"ESAIC Teach the Teacher (TTT) courses",{"$nulls":5},"No",null,"I give lectures","Perform work-based interactive teaching (operating room)","Running clinical case discussions",null,"Teach informally, during every day work",null,"Planning and preparation for teaching session",null,"Interactive teaching",null,"Teaching the skills","Giving feedback","Organizing and leading the discussions","Organizing specific sessions (journal clubs, interactive sessions, pro and con debate…)",null,"Yes","Yes",null,"I am European Diploma in Anaesthesia and Intensive Care (EDAIC) part II examiner",null,null,"I give feedback during everyday work","I am involved in other forms of formative assessment (for example multisource feedback)",{"$nulls":5},"No, it is assumed as being a part of everyday work",null,null,"Lack of time",null,"No recognition","Overloaded with work",{"$nulls":5},"Yes","I know what is it, but outcome-based education is not implemented in my country","Yes","No",null,"Classic surgical specialties based curriculum",null,"National body responsible for education (Ministry of health or education, National board for anaesthesia …)","They have to pass a national board exam",null,"It is only oral examination"]
[12941133414,408998795,"2021-09-03T20:37:23","2021-09-02T19:43:33","102.135.183.172",{"$nulls":4},"41-50","Female","Portugal","Portugal","Europe","16-20",5,"Senior specialist","Academic hospital (Teaching or University related)","Yes (please refer to Q10)","Almost every day","over 16",{"$nulls":4},"Advanced Life Support (ALS), Basic Life Support (BLS) or other specific courses","Simulation courses",null,null,"No",null,"I give lectures","Perform work-based interactive teaching (operating room)","Running clinical case discussions","Involved in simulation sessions","Teach informally, during every day work",null,"Planning and preparation for teaching session","Using visual aids","Interactive teaching","Problem based learning","Teaching the skills","Giving feedback","Organizing and leading the discussions","Organizing specific sessions (journal clubs, interactive sessions, pro and con debate…)",null,"Yes","Yes","I am an examiner for the final exam",{"$nulls":3},"I give feedback during everyday work","I am involved in other forms of formative assessment (for example multisource feedback)",{"$nulls":5},"No, it is assumed as being a part of everyday work",null,null,"Lack of time",null,null,"Overloaded with work","Lack of opportunity",{"$nulls":4},"Yes","I have some ideas, but it is not clear to me","No","Yes",null,"Classic surgical specialties based curriculum",null,null,"They have to pass a national board exam",null,"Written, oral examination and some practical assessment"]
[12941131347,408998795,"2021-09-03T20:38:04","2021-09-02T19:21:50","213.13.151.137",{"$nulls":4},"41-50","Female","Portugal","Portugal","Europe","11-15",4,"Specialist","General hospital","Yes (please refer to Q10)","Almost every day","11-15",null,null,"ESAIC Teach the Teacher (TTT) courses",null,"Advanced Life Support (ALS), Basic Life Support (BLS) or other specific courses","Simulation courses",null,null,"No",null,"I give lectures","Perform work-based interactive teaching (operating room)","Running clinical case discussions",null,"Teach informally, during every day work",{"$nulls":3},"Interactive teaching",null,"Teaching the skills","Giving feedback","Organizing and leading the discussions","Organizing specific sessions (journal clubs, interactive sessions, pro and con debate…)",null,"Yes","Yes","I am an examiner for the final exam","I am European Diploma in Anaesthesia and Intensive Care (EDAIC) part II examiner",null,"I give feedback during simulation sessions","I give feedback during everyday work",{"$nulls":5},"Yes, I have a more visible position in the department",{"$nulls":3},"Lack of time",null,null,"Overloaded with work",null,"Lack of organization",{"$nulls":3},"Yes","I know what is it, but outcome-based education is not implemented in my country","Yes","No",null,"Content based curriculum",null,"National body responsible for education (Ministry of health or education, National board for anaesthesia …)","They have to pass a national board exam",null,"It is only oral examination"]
[12940905325,408998795,"2021-09-03T18:42:41","2021-09-02T19:09:11","148.69.23.135",{"$nulls":4},"31-35","Female","Portugal","Portugal","Europe","5-10",5,"Specialist","General hospital","Yes (please refer to Q10)","Almost every day","Less than 5",{"$nulls":6},"None",null,"No",null,null,"Perform work-based interactive teaching (operating room)",null,null,"Teach informally, during every day work",null,"Planning and preparation for teaching session","Using visual aids","Interactive teaching","Problem based learning","Teaching the skills","Giving feedback","Organizing and leading the discussions","Organizing specific sessions (journal clubs, interactive sessions, pro and con debate…)",null,"Yes","Yes",{"$nulls":4},"I give feedback during everyday work",{"$nulls":6},"No, it is assumed as being a part of everyday work",null,"Lack of training","Lack of time","Lack of motivation",null,"Overloaded with work",{"$nulls":5},"Yes","I know what is it, but outcome-based education is not implemented in my country","No","No",null,"Content based curriculum",null,"National body responsible for education (Ministry of health or education, National board for anaesthesia …)","They have to pass a national board exam",null,"Written and oral examination","The final residency exam has 3 parts: oral part, tests and practical skills; these being more \"on paper\" than a real test of dexterity, practical skills and clinical judgment. We have well-trained residents, but we also have graduates who should fail. However - they all pass."]
[12941114096,408998795,"2021-09-03T20:29:43","2021-09-02T18:40:03","46.50.1.89",{"$nulls":4},"36-40","Male","Portugal","Portugal","Europe","5-10",5,"Specialist","Academic hospital (Teaching or University related)","Yes (please refer to Q10)","Every day","6-10",{"$nulls":3},"Other short TTT courses","Advanced Life Support (ALS), Basic Life Support (BLS) or other specific courses","Simulation courses",null,"Educator Master Course (ERC)","No",null,null,"Perform work-based interactive teaching (operating room)","Running clinical case discussions","Involved in simulation sessions","Teach informally, during every day work",null,"Planning and preparation for teaching session","Using visual aids","Interactive teaching","Problem based learning","Teaching the skills","Giving feedback",{"$nulls":3},"Yes","Yes",null,null,"I occasionally carry out assessment during the residency program (Direct Observation of Procedural Skills - DOPS)","I give feedback during simulation sessions","I give feedback during everyday work","I am involved in other forms of formative assessment (for example multisource feedback)",{"$nulls":5},"No, it is assumed as being a part of everyday work","No",{"$nulls":3},"No recognition","Overloaded with work",{"$nulls":5},"Yes","Yes, I am well informed","Yes","No",null,"Content based curriculum",null,"National body responsible for education (Ministry of health or education, National board for anaesthesia …)","They have to pass a national board exam",null,"Written and oral examination"]
[12940763008,408998795,"2021-09-03T17:58:59","2021-09-02T18:35:14","81.193.201.78",{"$nulls":4},"41-50","Female","Portugal","Portugal","Europe","5-10",5,"Specialist","Academic hospital (Teaching or University related)","Yes (please refer to Q10)","Every day","6-10",null,"Obligatory teaching courses for University teachers",null,"Other short TTT courses","Advanced Life Support (ALS), Basic Life Support (BLS) or other specific courses","Simulation courses",null,null,"No",null,"I give lectures","Perform work-based interactive teaching (operating room)","Running clinical case discussions","Involved in simulation sessions","Teach informally, during every day work","Responsible for courses",null,null,"Interactive teaching","Problem based learning",null,"Giving feedback","Organizing and leading the discussions",null,null,"No","Yes","I am an examiner for the final exam","I am European Diploma in Anaesthesia and Intensive Care (EDAIC) part II examiner","I occasionally carry out assessment during the residency program (Direct Observation of Procedural Skills - DOPS)","I give feedback during simulation sessions","I give feedback during everyday work","I am involved in other forms of formative assessment (for example multisource feedback)",{"$nulls":5},"No, it is assumed as being a part of everyday work",null,null,"Lack of time","Lack of motivation","No recognition","Overloaded with work",{"$nulls":5},"Yes","Yes, I am well informed","Yes","No",null,"Classic surgical specialties based curriculum",null,"Society or association of anaesthesiology","They have to pass a national board exam",null,"It is only oral examination"]
[12940970513,408998795,"2021-09-03T19:24:40","2021-09-03T19:30:52","157.39.28.213",{"$nulls":4},"36-40","Male","India","India","Asia","5-10",5,"Teacher (in University)","Academic hospital (Teaching or University related)","No (please refer to Q21)",{"$nulls":50},"Other (please specify)","Hospital is currently having only undergraduate courses eg.MBBS . It will soon start anesthesia residency courses also.","I do not know","I have some ideas, but it is not clear to me","I am not sure","I am not sure",null,"I do not know",null,"University","They have to pass a university board exam",null,"Written, oral examination and some practical assessment"]
[12940919110,408998795,"2021-09-03T18:59:06","2021-09-02T18:13:41","62.28.228.10",{"$nulls":4},"36-40","Male","Portugal","Portugal","Europe","5-10",5,"Specialist","Academic hospital (Teaching or University related)","Yes (please refer to Q10)","Every day","Less than 5",{"$nulls":6},"None",null,"Yes, some elements, but not systematically",null,null,"Perform work-based interactive teaching (operating room)","Running clinical case discussions",null,"Teach informally, during every day work",null,"Planning and preparation for teaching session","Using visual aids","Interactive teaching","Problem based learning","Teaching the skills","Giving feedback","Organizing and leading the discussions","Organizing specific sessions (journal clubs, interactive sessions, pro and con debate…)",null,"Yes","Yes",null,null,"I occasionally carry out assessment during the residency program (Direct Observation of Procedural Skills - DOPS)","I give feedback during simulation sessions","I give feedback during everyday work","I am involved in other forms of formative assessment (for example multisource feedback)",null,"Anual exams",{"$nulls":3},"No, it is assumed as being a part of everyday work",null,null,"Lack of time",null,"No recognition","Overloaded with work",{"$nulls":5},"Yes","Yes, I am well informed","I am not sure","Yes",null,"Other (please specify)","First 2 options","National body responsible for education (Ministry of health or education, National board for anaesthesia …)","They have to pass a national board exam",null,"Written and oral examination"]
[12940739537,408998795,"2021-09-03T17:51:00","2021-09-02T18:10:43","168.182.222.111",{"$nulls":4},"31-35","Female","Venezuela (Bolivarian Republic of)","Portugal","Europe","5-10",5,"Specialist","Academic hospital (Teaching or University related)","Yes (please refer to Q10)","When in the operating theater (always have an allocated resident)","Less than 5",{"$nulls":3},"Other short TTT courses","Advanced Life Support (ALS), Basic Life Support (BLS) or other specific courses","Simulation courses",null,null,"Yes, some elements, but not systematically",null,"I give lectures","Perform work-based interactive teaching (operating room)","Running clinical case discussions","Involved in simulation sessions","Teach informally, during every day work",null,"Planning and preparation for teaching session","Using visual aids",null,"Problem based learning","Teaching the skills","Giving feedback","Organizing and leading the discussions",null,null,"Yes","Yes",{"$nulls":3},"I give feedback during simulation sessions","I give feedback during everyday work","I am involved in other forms of formative assessment (for example multisource feedback)",{"$nulls":4},"Yes, I have a more visible position in the department",{"$nulls":3},"Lack of time",null,"No recognition","Overloaded with work",null,"Lack of organization",{"$nulls":3},"Yes","Yes, I am well informed","No","I am not sure",null,"Classic surgical specialties based curriculum",null,"Society or association of anaesthesiology","They have to pass a national board exam",null,"Written, oral examination and some practical assessment"]
[12940709437,408998795,"2021-09-03T17:37:22","2021-09-23T21:54:58","178.138.99.167",{"$nulls":4},"41-50","Male","Romania","Republic of Moldova","Europe",null,4,"Other","Academic hospital (Teaching or University related)","No (please refer to Q21)",{"$nulls":50},"I work in a non-teaching hospital",null,"Yes","Yes, I am well informed","Yes","Yes",null,"Competency (outcome) based curriculum",null,"National body responsible for education (Ministry of health or education, National board for anaesthesia …)","They just have to complete the residency program (3-5 years)",null,"Written and oral examination"]
[12940688845,408998795,"2021-09-03T17:29:18","2021-09-21T01:27:47","93.113.113.134",{"$nulls":4},"41-50","Female","Republic of Moldova","Republic of Moldova","Europe","over 20 years",4,"Teacher (in University)","Private hospital","Yes (please refer to Q10)","Almost every day","11-15",null,"Obligatory teaching courses for University teachers",null,"Other short TTT courses","Advanced Life Support (ALS), Basic Life Support (BLS) or other specific courses","Simulation courses",null,null,"Yes, some elements, but not systematically",null,"I give lectures","Perform work-based interactive teaching (operating room)","Running clinical case discussions","Involved in simulation sessions","Teach informally, during every day work",null,"Planning and preparation for teaching session","Using visual aids","Interactive teaching","Problem based learning","Teaching the skills","Giving feedback","Organizing and leading the discussions",null,null,"No","Yes",{"$nulls":3},"I give feedback during simulation sessions","I give feedback during everyday work",{"$nulls":5},"Yes, I have a more visible position in the department",{"$nulls":6},"Overloaded with work",{"$nulls":5},"Yes","I do not know much","Yes","No",null,"Classic surgical specialties based curriculum",null,"University","Other (please specify)","In our country the university board exam include 3 components: first one - prcatical skils, second one- OLA test and the last one - oral part ","Other (please specify)"]
[12940652260,408998795,"2021-09-03T17:17:02","2021-09-03T20:42:10","83.218.207.41",{"$nulls":4},"36-40","Female","Republic of Moldova","Republic of Moldova","Europe","5-10",4,"Teacher (in University)","Private hospital","Yes (please refer to Q10)","Less than once a week","6-10",null,null,"ESAIC Teach the Teacher (TTT) courses",null,null,"Simulation courses",null,null,"No",null,"I give lectures","Perform work-based interactive teaching (operating room)",null,"Involved in simulation sessions","Teach informally, during every day work",null,"Planning and preparation for teaching session","Using visual aids","Interactive teaching","Problem based learning","Teaching the skills","Giving feedback","Organizing and leading the discussions","Organizing specific sessions (journal clubs, interactive sessions, pro and con debate…)",null,"Yes","No",{"$nulls":6},"I am not involved in any kind of assessment",{"$nulls":5},"No",null,"Lack of time",null,"No recognition","Overloaded with work",{"$nulls":3},"I work in a non-teaching hospital",null,"Yes","I know what is it, but outcome-based education is not implemented in my country","No","I am not sure",null,"Content based curriculum",null,"University","They have to pass a university board exam",null,"Other (please specify)"]
[12940661912,408998795,"2021-09-03T17:19:29","2021-09-02T18:23:00","46.166.47.42",{"$nulls":4},"36-40","Male","Republic of Moldova","Republic of Moldova","Europe","5-10",4,"Teacher (in University)","Academic hospital (Teaching or University related)","Yes (please refer to Q10)","Every day","6-10",null,"Obligatory teaching courses for University teachers","ESAIC Teach the Teacher (TTT) courses","Other short TTT courses","Advanced Life Support (ALS), Basic Life Support (BLS) or other specific courses","Simulation courses",null,null,"No",null,"I give lectures","Perform work-based interactive teaching (operating room)",null,"Involved in simulation sessions","Teach informally, during every day work",null,"Planning and preparation for teaching session","Using visual aids","Interactive teaching","Problem based learning","Teaching the skills","Giving feedback","Organizing and leading the discussions",null,null,"Yes","Yes",null,null,"I occasionally carry out assessment during the residency program (Direct Observation of Procedural Skills - DOPS)","I give feedback during simulation sessions","I give feedback during everyday work",{"$nulls":3},"Yes, I am paid more",{"$nulls":5},"Lack of time",null,null,"Overloaded with work",null,"Lack of organization",{"$nulls":3},"Yes","I have some ideas, but it is not clear to me","No","No",null,"Classic surgical specialties based curriculum",null,"University","They have to pass a national board exam",null,"Written, oral examination and some practical assessment"]
[12940397271,408998795,"2021-09-03T15:42:48","2021-09-25T17:22:06","79.115.178.151",{"$nulls":4},"31-35","Female","Romania","Romania","Europe","5-10",5,"Specialist","Academic hospital (Teaching or University related)","Yes (please refer to Q10)"]
[12940355764,408998795,"2021-09-03T15:25:39","2021-09-03T15:30:15","179.241.196.49",{"$nulls":4},"41-50","Male","Brazil","Brazil","South America","16-20",3,"Teacher (in University)","Private hospital","No (please refer to Q21)",{"$nulls":50},"I work in a non-teaching hospital"]
[12940300092,408998795,"2021-09-03T15:05:10","2021-09-03T15:13:52","177.194.70.1",{"$nulls":4},"41-50","Female","Brazil","Brazil","South America","over 20 years",3,"Teacher (in University)","Academic hospital (Teaching or University related)","Yes (please refer to Q10)","Almost every day","over 16",null,"Obligatory teaching courses for University teachers",null,"Other short TTT courses","Advanced Life Support (ALS), Basic Life Support (BLS) or other specific courses","Simulation courses",null,null,"Yes, some elements, but not systematically",null,"I give lectures","Perform work-based interactive teaching (operating room)","Running clinical case discussions","Involved in simulation sessions","Teach informally, during every day work",null,"Planning and preparation for teaching session","Using visual aids","Interactive teaching","Problem based learning","Teaching the skills","Giving feedback","Organizing and leading the discussions","Organizing specific sessions (journal clubs, interactive sessions, pro and con debate…)",null,"Yes","Yes","I am an examiner for the final exam","I am European Diploma in Anaesthesia and Intensive Care (EDAIC) part II examiner","I occasionally carry out assessment during the residency program (Direct Observation of Procedural Skills - DOPS)","I give feedback during simulation sessions","I give feedback during everyday work","I am involved in other forms of formative assessment (for example multisource feedback)",{"$nulls":4},"Yes, I have a more visible position in the department",{"$nulls":3},"Lack of time","Lack of motivation","No recognition","Overloaded with work","Lack of opportunity","Lack of organization",{"$nulls":3},"Yes","I know what is it, but outcome-based education is not implemented in my country","Yes","I am not sure",null,"Content based curriculum",null,"Department of anaesthesiology","They have to pass a national board exam",null,"Written, oral examination and some practical assessment"]
[12940295331,408998795,"2021-09-03T14:48:55","2021-09-23T11:40:38","109.166.138.166",{"$nulls":4},"50+","Female","Romania","Romania","Europe","over 20 years",5,"Teacher (in University)","Academic hospital (Teaching or University related)","Yes (please refer to Q10)","Almost every day","over 16",{"$nulls":3},"Other short TTT courses",null,"Simulation courses",null,null,"No",null,"I give lectures",null,"Running clinical case discussions","Involved in simulation sessions","Teach informally, during every day work",null,"Planning and preparation for teaching session","Using visual aids","Interactive teaching","Problem based learning",null,"Giving feedback","Organizing and leading the discussions","Organizing specific sessions (journal clubs, interactive sessions, pro and con debate…)",null,"Yes","Yes","I am an examiner for the final exam",null,"I occasionally carry out assessment during the residency program (Direct Observation of Procedural Skills - DOPS)","I give feedback during simulation sessions","I give feedback during everyday work",{"$nulls":6},"No, it is assumed as being a part of everyday work",null,null,"Lack of time",{"$nulls":8},"Yes","Yes, I am well informed","Yes","No",null,"Content based curriculum",null,"National body responsible for education (Ministry of health or education, National board for anaesthesia …)","They have to pass EDAIC part I",null,"Written, oral examination and some practical assessment"]
[12940286729,408998795,"2021-09-03T14:59:59","2021-09-23T11:17:59","109.166.139.12",{"$nulls":4},"41-50","Female","Romania","Romania","Europe","over 20 years",5,"Teacher (in University)","Academic hospital (Teaching or University related)","Yes (please refer to Q10)","Every day","over 16",{"$nulls":3},"Other short TTT courses","Advanced Life Support (ALS), Basic Life Support (BLS) or other specific courses","Simulation courses",null,null,"Yes, some elements, but not systematically",null,"I give lectures","Perform work-based interactive teaching (operating room)","Running clinical case discussions","Involved in simulation sessions","Teach informally, during every day work",null,"Planning and preparation for teaching session","Using visual aids","Interactive teaching",{"$nulls":6},"Yes","Yes","I am an examiner for the final exam",{"$nulls":3},"I give feedback during everyday work",{"$nulls":4},"Yes, it is recognised for promotion in academia.","Yes, I have a more visible position in the department",{"$nulls":6},"Overloaded with work",{"$nulls":3},"Other (please specify)","-","Yes","I have some ideas, but it is not clear to me","Yes","No","09/23/2021","I do not know",null,"National body responsible for education (Ministry of health or education, National board for anaesthesia …)","They have to pass EDAIC part I",null,"Written and oral examination"]
[12940229179,408998795,"2021-09-03T14:33:42","2021-09-23T08:58:14","79.117.48.178",{"$nulls":4},"31-35","Female","Romania","Romania","Europe","5-10",5,"Specialist","Private hospital","No (please refer to Q21)",{"$nulls":50},"I am not employed by the university",{"$nulls":12},"Oral examination plus practical ultrasound exam"]
[12940195643,408998795,"2021-09-03T14:21:34","2021-09-23T08:56:43","213.233.108.227",{"$nulls":4},"50+","Female","Romania","Romania","Europe","16-20","Over 5","Senior specialist","Specialized clinic","No (please refer to Q21)",{"$nulls":50},"Other (please specify)","Speecialised hospital","Yes","I have some ideas, but it is not clear to me","Yes","I am not sure","01/01/2010","I do not know",null,"Society or association of anaesthesiology","They have to pass a national board exam",null,"Written and oral examination, but also OSCE (Objective Structured Clinical Examination)"]
[12940190350,408998795,"2021-09-03T14:17:59","2021-09-03T14:20:01","196.128.2.73",{"$nulls":4},"31-35","Male","Egypt","Egypt","Africa","5-10",5,"Senior resident","Private hospital","Yes (please refer to Q10)"]
[12940177049,408998795,"2021-09-03T14:12:32","2021-09-23T08:40:35","46.97.168.188",{"$nulls":4},"36-40","Female","Romania","Romania","Europe","11-15",5,"Chief of Department","Academic hospital (Teaching or University related)","Yes (please refer to Q10)","Every day","11-15","Master in Medical Education","Obligatory teaching courses for University teachers",{"$nulls":3},"Simulation courses",null,null,"No",null,"I give lectures","Perform work-based interactive teaching (operating room)","Running clinical case discussions","Involved in simulation sessions","Teach informally, during every day work",null,"Planning and preparation for teaching session",null,"Interactive teaching","Problem based learning","Teaching the skills","Giving feedback",null,"Organizing specific sessions (journal clubs, interactive sessions, pro and con debate…)",null,"Yes","Yes","I am an examiner for the final exam","I am European Diploma in Anaesthesia and Intensive Care (EDAIC) part II examiner","I occasionally carry out assessment during the residency program (Direct Observation of Procedural Skills - DOPS)","I give feedback during simulation sessions",{"$nulls":5},"Yes, it is recognised for promotion in academia.",{"$nulls":4},"Lack of time",null,null,"Overloaded with work",{"$nulls":3},"Other (please specify)","I am teaching residents","Yes","I know what is it, but outcome-based education is not implemented in my country","Yes","No","09/23/2021","Content based curriculum",null,"National body responsible for education (Ministry of health or education, National board for anaesthesia …)","They have to pass a national board exam",null,"Written, oral examination and some practical assessment"]
[12940125101,408998795,"2021-09-03T11:22:16","2021-09-23T08:30:32","89.165.166.13",{"$nulls":4},"50+","Male","Romania","Romania","Europe","over 20 years",3,"Senior specialist","General hospital","No (please refer to Q21)",{"$nulls":50},"I work in a non-teaching hospital"]
[12940112713,408998795,"2021-09-03T13:39:26","2021-09-03T13:56:08","201.244.98.53",{"$nulls":4},"41-50","Male","Colombia","Colombia","South America","11-15",3,"Senior specialist","Academic hospital (Teaching or University related)","Yes (please refer to Q10)","Every day","6-10",null,"Obligatory teaching courses for University teachers",null,null,"Advanced Life Support (ALS), Basic Life Support (BLS) or other specific courses","Simulation courses",null,"Online courses through coursera","Yes, some elements, but not systematically",null,"I give lectures","Perform work-based interactive teaching (operating room)","Running clinical case discussions","Involved in simulation sessions","Teach informally, during every day work",null,"Planning and preparation for teaching session","Using visual aids","Interactive teaching","Problem based learning","Teaching the skills","Giving feedback","Organizing and leading the discussions","Organizing specific sessions (journal clubs, interactive sessions, pro and con debate…)","I am the program director of the residency program, ","Yes","Yes","I am an examiner for the final exam",null,"I occasionally carry out assessment during the residency program (Direct Observation of Procedural Skills - DOPS)","I give feedback during simulation sessions","I give feedback during everyday work","I am involved in other forms of formative assessment (for example multisource feedback)",null,"I design the evaluations, for the EPA of the program",null,null,"Yes, I have a more visible position in the department",{"$nulls":9},"none",null,null,"No","Yes, I am well informed","Yes","Yes","01/01/2019","Competency (outcome) based curriculum",null,"University","Other (please specify)","they have to pass  8 written exams and 3 oral exams during the residency program if they fail one ofthese they have to repeat the whole assignement usually it delays its graduation between 3 to six months depending of the subject","Other (please specify)","it is acombination of exams and day to day work so the instructors are aware of the competences that are evaluated"]
[12940103327,408998795,"2021-09-03T13:38:23","2021-09-07T09:34:04","109.166.139.157",{"$nulls":4},"50+","Male","Romania","Romania","Europe","over 20 years","Less than 3","Senior specialist","General hospital","No (please refer to Q21)",{"$nulls":50},"I work in a non-teaching hospital"]
[12940107310,408998795,"2021-09-03T13:39:14","2021-09-06T21:10:47","46.97.176.123",{"$nulls":4},"41-50","Female","Romania","Romania","Europe","5-10",5,"Trainee","Academic hospital (Teaching or University related)","Yes (please refer to Q10)","Every day","over 16",null,"Obligatory teaching courses for University teachers",null,"Other short TTT courses","Advanced Life Support (ALS), Basic Life Support (BLS) or other specific courses","Simulation courses",null,"Technology Education + Psychopedagogy","Yes",null,"I give lectures","Perform work-based interactive teaching (operating room)","Running clinical case discussions","Involved in simulation sessions","Teach informally, during every day work","tranfer technology","Planning and preparation for teaching session","Using visual aids","Interactive teaching","Problem based learning","Teaching the skills","Giving feedback","Organizing and leading the discussions",null,null,"No","No",{"$nulls":3},"I give feedback during simulation sessions","I give feedback during everyday work","I am involved in other forms of formative assessment (for example multisource feedback)",null,"monitorisation of patients",{"$nulls":3},"No, it is assumed as being a part of everyday work",{"$nulls":8},"smoking and epuissation of many young residents"]
[12940093807,408998795,"2021-09-03T13:32:39","2021-09-04T08:54:58","109.166.129.184",{"$nulls":4},"36-40","Male","Romania","Romania","Europe","5-10",5,"Specialist","Academic hospital (Teaching or University related)","Yes (please refer to Q10)","Every day","Less than 5",null,"Obligatory teaching courses for University teachers",{"$nulls":6},"Yes, some elements, but not systematically",null,null,"Perform work-based interactive teaching (operating room)","Running clinical case discussions",null,"Teach informally, during every day work",{"$nulls":3},"Interactive teaching","Problem based learning","Teaching the skills","Giving feedback",null,"Organizing specific sessions (journal clubs, interactive sessions, pro and con debate…)",null,"Yes","Yes",null,null,"I occasionally carry out assessment during the residency program (Direct Observation of Procedural Skills - DOPS)",null,"I give feedback during everyday work",{"$nulls":6},"No, it is assumed as being a part of everyday work",null,null,"Lack of time",{"$nulls":6},"I work with residents, but I do not see that as teaching",null,"Yes","Yes, I am well informed","Yes","No",null,"Content based curriculum",null,"National body responsible for education (Ministry of health or education, National board for anaesthesia …)","They have to pass EDAIC part I",null,"Written and oral examination"]
[12940093065,408998795,"2021-09-03T13:32:07","2021-09-03T22:12:59","78.96.143.123",{"$nulls":4},"50+","Female","Romania","Romania","Europe","over 20 years",3,"Chief of Department","Academic hospital (Teaching or University related)","Yes (please refer to Q10)","Every day","over 16",null,null,"ESAIC Teach the Teacher (TTT) courses","Other short TTT courses",{"$nulls":4},"No",null,"I give lectures","Perform work-based interactive teaching (operating room)","Running clinical case discussions","Involved in simulation sessions","Teach informally, during every day work",null,"Planning and preparation for teaching session","Using visual aids","Interactive teaching","Problem based learning",null,"Giving feedback","Organizing and leading the discussions","Organizing specific sessions (journal clubs, interactive sessions, pro and con debate…)",null,"Yes","Yes","I am an examiner for the final exam","I am European Diploma in Anaesthesia and Intensive Care (EDAIC) part II examiner","I occasionally carry out assessment during the residency program (Direct Observation of Procedural Skills - DOPS)",null,"I give feedback during everyday work","I am involved in other forms of formative assessment (for example multisource feedback)",null,null,"Yes, I am paid more","Yes, it is recognised for promotion in academia.","Yes, I have a more visible position in the department",{"$nulls":3},"Lack of time",null,null,"Overloaded with work",{"$nulls":5},"Yes","Yes, I am well informed","Yes","No",null,"Content based curriculum",null,"National body responsible for education (Ministry of health or education, National board for anaesthesia …)","Other (please specify)","EDAIC PART 1 + ORAL NATIOANAL BOARD EXAM","Written, oral examination and some practical assessment"]
[12940072240,408998795,"2021-09-03T13:19:54","2021-09-03T17:37:43","109.99.165.202",{"$nulls":4},"31-35","Male","Romania","Romania","Europe","5-10",5,"Specialist","Academic hospital (Teaching or University related)","Yes (please refer to Q10)","Every day","6-10",null,"Obligatory teaching courses for University teachers",null,null,"Advanced Life Support (ALS), Basic Life Support (BLS) or other specific courses","Simulation courses",null,null,"No",null,"I give lectures","Perform work-based interactive teaching (operating room)","Running clinical case discussions","Involved in simulation sessions","Teach informally, during every day work",null,"Planning and preparation for teaching session",null,null,"Problem based learning","Teaching the skills","Giving feedback","Organizing and leading the discussions","Organizing specific sessions (journal clubs, interactive sessions, pro and con debate…)",null,"Yes","Yes","I am an examiner for the final exam","I am European Diploma in Anaesthesia and Intensive Care (EDAIC) part II examiner",null,"I give feedback during simulation sessions","I give feedback during everyday work",{"$nulls":5},"Yes, I have a more visible position in the department","No, it is assumed as being a part of everyday work",null,null,"Lack of time",null,null,"Overloaded with work",null,"Lack of organization",{"$nulls":3},"Yes","Yes, I am well informed","Yes","No",null,"Classic surgical specialties based curriculum",null,"National body responsible for education (Ministry of health or education, National board for anaesthesia …)","They have to pass EDAIC part I",null,"Written, oral examination and some practical assessment"]
[12940069980,408998795,"2021-09-03T13:20:36","2021-09-03T13:36:28","86.126.0.146",{"$nulls":4},"31-35","Female","Romania","Romania","Europe","5-10",5,"Senior resident","Academic hospital (Teaching or University related)","No (please refer to Q21)",{"$nulls":50},"I work with residents, but I do not see that as teaching",null,"Yes","I have some ideas, but it is not clear to me","Yes","I am not sure",null,"I do not know",null,"Society or association of anaesthesiology","They have to pass EDAIC part I",null,"Written and oral examination"]
[12940051738,408998795,"2021-09-03T13:08:36","2021-09-03T12:14:36","109.166.139.110",{"$nulls":4},"31-35","Male","Romania","Romania","Europe","11-15",5,"Teacher (in University)","Academic hospital (Teaching or University related)","Yes (please refer to Q10)","Every day","6-10",null,"Obligatory teaching courses for University teachers",{"$nulls":3},"Simulation courses",null,null,"No",null,"I give lectures","Perform work-based interactive teaching (operating room)","Running clinical case discussions","Involved in simulation sessions","Teach informally, during every day work",null,"Planning and preparation for teaching session","Using visual aids","Interactive teaching","Problem based learning",null,"Giving feedback","Organizing and leading the discussions",null,null,"Yes","Yes","I am an examiner for the final exam","I am European Diploma in Anaesthesia and Intensive Care (EDAIC) part II examiner",null,"I give feedback during simulation sessions","I give feedback during everyday work",{"$nulls":4},"Yes, it is recognised for promotion in academia.","Yes, I have a more visible position in the department",{"$nulls":3},"Lack of time",null,null,"Overloaded with work",{"$nulls":5},"Yes","I have some ideas, but it is not clear to me","Yes","No","07/26/2010","Content based curriculum",null,"National body responsible for education (Ministry of health or education, National board for anaesthesia …)","They have to pass a national board exam",null,"Written and oral examination"]
[12940048201,408998795,"2021-09-03T13:09:41","2021-09-03T11:58:23","37.251.222.205",{"$nulls":4},"41-50","Female","Romania","Romania","Europe","11-15",5,"Specialist","Academic hospital (Teaching or University related)","Yes (please refer to Q10)","Every day","6-10",{"$nulls":6},"None",null,"No",null,null,"Perform work-based interactive teaching (operating room)","Running clinical case discussions",{"$nulls":5},"Interactive teaching",{"$nulls":6},"No","No",{"$nulls":6},"I am not involved in any kind of assessment",{"$nulls":4},"No, it is assumed as being a part of everyday work",{"$nulls":5},"Overloaded with work",{"$nulls":3},"I work with residents, but I do not see that as teaching"]
[12940037376,408998795,"2021-09-03T13:03:50","2021-09-03T10:49:08","109.166.183.30",{"$nulls":4},"50+","Female","Romania","Romania","Europe","over 20 years",5,"Teacher (in University)","Academic hospital (Teaching or University related)","Yes (please refer to Q10)","Every day","over 16",null,"Obligatory teaching courses for University teachers",{"$nulls":6},"No",null,"I give lectures","Perform work-based interactive teaching (operating room)","Running clinical case discussions","Involved in simulation sessions","Teach informally, during every day work",null,"Planning and preparation for teaching session",null,"Interactive teaching","Problem based learning",null,null,"Organizing and leading the discussions","Organizing specific sessions (journal clubs, interactive sessions, pro and con debate…)",null,"Yes","Yes","I am an examiner for the final exam","I am European Diploma in Anaesthesia and Intensive Care (EDAIC) part II examiner",{"$nulls":9},"No, it is assumed as being a part of everyday work",null,null,"Lack of time",{"$nulls":8},"Yes","Yes, I am well informed","Yes","I am not sure",null,"Competency (outcome) based curriculum",null,"Department of anaesthesiology","They have to pass a national board exam",null,"Other (please specify)"]
[12940023389,408998795,"2021-09-03T12:55:29","2021-09-03T08:59:50","193.226.0.22",{"$nulls":4},"36-40","Female","Romania","Romania","Europe","11-15",5,"Senior specialist","Academic hospital (Teaching or University related)","Yes (please refer to Q10)","Almost every day","6-10","Master in Medical Education","Obligatory teaching courses for University teachers","ESAIC Teach the Teacher (TTT) courses",null,null,"Simulation courses",null,null,"No",null,"I give lectures",null,"Running clinical case discussions","Involved in simulation sessions",null,"Conferences",null,"Using visual aids","Interactive teaching","Problem based learning","Teaching the skills","Giving feedback",null,"Organizing specific sessions (journal clubs, interactive sessions, pro and con debate…)",null,"Yes","No",null,null,"I occasionally carry out assessment during the residency program (Direct Observation of Procedural Skills - DOPS)","I give feedback during simulation sessions","I give feedback during everyday work","I am involved in other forms of formative assessment (for example multisource feedback)",{"$nulls":5},"No, it is assumed as being a part of everyday work",null,null,"Lack of time","Lack of motivation","No recognition","Overloaded with work",null,"Lack of organization",null,"I work with residents, but I do not see that as teaching",null,"Yes","Yes, I am well informed","I am not sure","No",null,"Content based curriculum",null,"National body responsible for education (Ministry of health or education, National board for anaesthesia …)","They have to pass EDAIC part I",null,"Written and oral examination"]
[12940022803,408998795,"2021-09-03T12:55:49","2021-09-03T12:59:49","47.31.129.175",{"$nulls":4},"36-40","Male","India","India","Asia","5-10",3,"Specialist","General hospital","No (please refer to Q21)",{"$nulls":50},"I work in a non-teaching hospital",null,"Yes","Yes, I am well informed","No","Yes",null,"Competency (outcome) based curriculum",null,"National body responsible for education (Ministry of health or education, National board for anaesthesia …)","They have to pass a university board exam",null,"Written and oral examination, but also OSCE (Objective Structured Clinical Examination)"]
[12939894992,408998795,"2021-09-03T11:43:23","2021-09-03T12:47:09","31.215.233.166",{"$nulls":4},"50+","Male","United Arab Emirates","United Arab Emirates","Asia","over 20 years",5,"Chief of Department","Academic hospital (Teaching or University related)","Yes (please refer to Q10)",{"$nulls":31},"I occasionally carry out assessment during the residency program (Direct Observation of Procedural Skills - DOPS)",{"$nulls":7},"Yes, I have a more visible position in the department",{"$nulls":3},"Lack of time",null,null,"Overloaded with work",{"$nulls":3},"I work with residents, but I do not see that as teaching",null,"Yes","Yes, I am well informed","No","Yes","02/05/2012","Content based curriculum",null,"National body responsible for education (Ministry of health or education, National board for anaesthesia …)","They have to pass EDAIC part I",null,"Written and oral examination, but also OSCE (Objective Structured Clinical Examination)"]
[12939998663,408998795,"2021-09-03T12:41:41","2021-09-03T06:10:13","46.97.169.76",{"$nulls":4},"31-35","Male","Romania","Romania","Europe","5-10",5,"Specialist","Academic hospital (Teaching or University related)","Yes (please refer to Q10)","Every day","Less than 5",{"$nulls":4},"Advanced Life Support (ALS), Basic Life Support (BLS) or other specific courses","Simulation courses",null,null,"Yes, some elements, but not systematically",null,null,"Perform work-based interactive teaching (operating room)","Running clinical case discussions",null,"Teach informally, during every day work",{"$nulls":3},"Interactive teaching","Problem based learning","Teaching the skills","Giving feedback",{"$nulls":3},"No","No",{"$nulls":3},"I give feedback during simulation sessions","I give feedback during everyday work",{"$nulls":6},"No, it is assumed as being a part of everyday work",null,"Lack of training",{"$nulls":5},"Lack of organization",{"$nulls":3},"Yes","I know what is it, but outcome-based education is not implemented in my country","No","No",null,"Content based curriculum",null,"National body responsible for education (Ministry of health or education, National board for anaesthesia …)","They have to pass EDAIC part I",null,"Written, oral examination and some practical assessment"]
[12939975934,408998795,"2021-09-03T12:29:17","2021-09-02T22:11:07","109.166.159.246",{"$nulls":4},"36-40","Female","Romania","Romania","Europe","11-15",5,"Teacher (in University)","Academic hospital (Teaching or University related)","Yes (please refer to Q10)","Every day","6-10",null,"Obligatory teaching courses for University teachers",{"$nulls":3},"Simulation courses",null,null,"No",null,"I give lectures",null,null,"Involved in simulation sessions","Teach informally, during every day work",null,"Planning and preparation for teaching session",null,"Interactive teaching","Problem based learning","Teaching the skills",{"$nulls":4},"Yes","No",{"$nulls":4},"I give feedback during everyday work",{"$nulls":6},"No, it is assumed as being a part of everyday work",null,null,"Lack of time",null,null,"Overloaded with work",{"$nulls":3},"I work with residents, but I do not see that as teaching",null,"Yes","I do not know much","Yes","Yes",null,"I do not know",null,"Society or association of anaesthesiology","They have to pass a national board exam",null,"Written and oral examination"]
[12939938952,408998795,"2021-09-03T12:09:30","2021-09-02T20:04:44","188.27.146.89",{"$nulls":4},"31-35","Female","Romania","Romania","Europe","5-10","Over 5","Trainee","Specialized clinic","No (please refer to Q21)",{"$nulls":50},"I work in a non-teaching hospital"]
[12939868446,408998795,"2021-09-03T11:28:18","2021-09-02T19:43:27","90.84.225.58",{"$nulls":4},"41-50","Female","Romania","Romania","Europe","over 20 years",5,"Lecturer","Academic hospital (Teaching or University related)","Yes (please refer to Q10)","Almost every day","11-15",{"$nulls":3},"Other short TTT courses","Advanced Life Support (ALS), Basic Life Support (BLS) or other specific courses","Simulation courses",null,null,"Yes, some elements, but not systematically",null,"I give lectures","Perform work-based interactive teaching (operating room)","Running clinical case discussions",null,"Teach informally, during every day work",null,null,"Using visual aids","Interactive teaching","Problem based learning",null,null,"Organizing and leading the discussions",null,null,"Yes","Yes","I am an examiner for the final exam",{"$nulls":10},"No, it is assumed as being a part of everyday work",null,"Lack of training","Lack of time",null,null,"Overloaded with work",null,"Lack of organization",{"$nulls":3},"Yes","I have some ideas, but it is not clear to me","Yes","I am not sure",null,"Competency (outcome) based curriculum",null,"University","They have to pass a national board exam",null,"Written, oral examination and some practical assessment"]
[12939909446,408998795,"2021-09-03T11:52:34","2021-09-02T19:14:47","86.124.123.154",{"$nulls":4},"25-30","Male","Romania","Romania","Europe","5-10",5,"Senior resident","Academic hospital (Teaching or University related)","No (please refer to Q21)",{"$nulls":50},"I am not employed by the university"]
[12939847010,408998795,"2021-09-03T11:16:48","2021-09-02T18:42:36","94.68.18.69",{"$nulls":4},"50+","Male","Romania","Romania","Europe","over 20 years","Over 5","Chief of Department","Private hospital","Yes (please refer to Q10)","Once a week","11-15",{"$nulls":4},"Advanced Life Support (ALS), Basic Life Support (BLS) or other specific courses",{"$nulls":3},"Yes, some elements, but not systematically",null,"I give lectures","Perform work-based interactive teaching (operating room)","Running clinical case discussions",{"$nulls":3},"Planning and preparation for teaching session",null,null,"Problem based learning","Teaching the skills","Giving feedback",{"$nulls":3},"No","Yes",{"$nulls":4},"I give feedback during everyday work","I am involved in other forms of formative assessment (for example multisource feedback)",{"$nulls":4},"Yes, I have a more visible position in the department",{"$nulls":3},"Lack of time",{"$nulls":4},"Lack of organization",null,"I work with residents, but I do not see that as teaching"]
[12939903068,408998795,"2021-09-03T11:48:07","2021-09-02T18:32:00","86.126.160.208",{"$nulls":4},"31-35","Female","Romania","Romania","Europe","5-10",5,"Senior resident","General hospital","Yes (please refer to Q10)","Once a week","Less than 5",null,null,"ESAIC Teach the Teacher (TTT) courses",null,"Advanced Life Support (ALS), Basic Life Support (BLS) or other specific courses","Simulation courses",null,null,"Yes",null,"I give lectures","Perform work-based interactive teaching (operating room)","Running clinical case discussions",{"$nulls":3},"Planning and preparation for teaching session",null,"Interactive teaching",null,"Teaching the skills","Giving feedback","Organizing and leading the discussions","Organizing specific sessions (journal clubs, interactive sessions, pro and con debate…)",null,"No","No",null,null,"I occasionally carry out assessment during the residency program (Direct Observation of Procedural Skills - DOPS)",{"$nulls":8},"No, it is assumed as being a part of everyday work",null,"Lack of training",null,"Lack of motivation",null,null,"Lack of opportunity","Lack of organization",null,"I work in a non-teaching hospital",null,"Yes","I have some ideas, but it is not clear to me","No","I am not sure","09/02/2021","I do not know",null,"I do not know","They have to pass EDAIC part I",null,"Written, oral examination and some practical assessment"]
[12939895661,408998795,"2021-09-03T11:44:51","2021-09-02T18:21:50","84.232.141.9",{"$nulls":4},"50+","Female","Romania","Romania","Europe","over 20 years",3,"Senior specialist","Private hospital","No (please refer to Q21)",{"$nulls":50},"I work in a non-teaching hospital",null,"Yes","I know what is it, but outcome-based education is not implemented in my country","Yes","No",null,"Classic surgical specialties based curriculum",null,"National body responsible for education (Ministry of health or education, National board for anaesthesia …)","They have to pass a national board exam",null,"Other (please specify)"]
[12939886130,408998795,"2021-09-03T11:38:54","2021-09-30T08:53:49","46.35.243.179",{"$nulls":4},"31-35","Female","Russian Federation","Russian Federation","Europe","5-10","Less than 3","Specialist","Academic hospital (Teaching or University related)","Yes (please refer to Q10)","Almost every day","Less than 5",null,null,"ESAIC Teach the Teacher (TTT) courses",null,"Advanced Life Support (ALS), Basic Life Support (BLS) or other specific courses","Simulation courses",null,null,"No",null,"I give lectures","Perform work-based interactive teaching (operating room)","Running clinical case discussions","Involved in simulation sessions","Teach informally, during every day work",null,"Planning and preparation for teaching session","Using visual aids","Interactive teaching",null,"Teaching the skills","Giving feedback",{"$nulls":3},"No","Yes",{"$nulls":3},"I give feedback during simulation sessions","I give feedback during everyday work",{"$nulls":6},"No, it is assumed as being a part of everyday work",null,null,"Lack of time","Lack of motivation",{"$nulls":3},"Lack of organization",{"$nulls":3},"I do not know","I know what is it, but outcome-based education is not implemented in my country","No","I am not sure",null,"Classic surgical specialties based curriculum",null,"University","They have to pass a university board exam",null,"Written and oral examination"]
[12939881663,408998795,"2021-09-03T11:37:07","2021-09-24T07:29:01","188.73.250.217",{"$nulls":4},"50+","Male","Russian Federation","Russian Federation","Europe","over 20 years","Less than 3","Chief of Department","Academic hospital (Teaching or University related)","Yes (please refer to Q10)","Every day","over 16",null,"Obligatory teaching courses for University teachers",null,null,"Advanced Life Support (ALS), Basic Life Support (BLS) or other specific courses",{"$nulls":3},"No",null,"I give lectures","Perform work-based interactive teaching (operating room)","Running clinical case discussions","Involved in simulation sessions",null,null,"Planning and preparation for teaching session","Using visual aids","Interactive teaching","Problem based learning","Teaching the skills","Giving feedback","Organizing and leading the discussions","Organizing specific sessions (journal clubs, interactive sessions, pro and con debate…)",null,"Yes","Yes","I am an examiner for the final exam",null,null,"I give feedback during simulation sessions","I give feedback during everyday work",{"$nulls":3},"Yes, I am paid more",{"$nulls":5},"Lack of time",null,null,"Overloaded with work",{"$nulls":5},"Yes","Yes, I am well informed","Yes","I am not sure",null,"Competency (outcome) based curriculum",null,"Department of anaesthesiology","They have to pass a national board exam",null,"Written, oral examination and some practical assessment"]
[12939866777,408998795,"2021-09-03T11:29:03","2021-09-23T20:39:22","178.66.228.204",{"$nulls":4},"50+","Male","Russian Federation","Russian Federation","Europe","over 20 years",4,"Chief of Department","Private hospital","No (please refer to Q21)",{"$nulls":50},"I work in a non-teaching hospital",null,"I do not know","I have no knowledge of what it is","I am not sure","I am not sure",null,"I do not know",null,"I do not know","They have to pass a university board exam",null,"Written, oral examination and some practical assessment"]
[12939863586,408998795,"2021-09-03T11:27:12","2021-09-23T09:44:35","109.252.65.184",{"$nulls":4},"50+","Male","Russian Federation","Russian Federation","Europe","over 20 years","Over 5","Teacher (in University)","Academic hospital (Teaching or University related)","Yes (please refer to Q10)","Almost every day","over 16",null,"Obligatory teaching courses for University teachers",{"$nulls":6},"Yes, some elements, but not systematically",null,"I give lectures","Perform work-based interactive teaching (operating room)","Running clinical case discussions","Involved in simulation sessions",null,null,"Planning and preparation for teaching session","Using visual aids","Interactive teaching","Problem based learning","Teaching the skills","Giving feedback","Organizing and leading the discussions","Organizing specific sessions (journal clubs, interactive sessions, pro and con debate…)",null,"Yes","Yes","I am an examiner for the final exam",null,"I occasionally carry out assessment during the residency program (Direct Observation of Procedural Skills - DOPS)","I give feedback during simulation sessions","I give feedback during everyday work","I am involved in other forms of formative assessment (for example multisource feedback)",null,null,"Yes, I am paid more","Yes, it is recognised for promotion in academia.","Yes, I have a more visible position in the department",{"$nulls":4},"Lack of motivation",{"$nulls":3},"Lack of organization",{"$nulls":3},"Yes","Yes, I am well informed","Yes","I am not sure",null,"Classic surgical specialties based curriculum",null,"National body responsible for education (Ministry of health or education, National board for anaesthesia …)","They have to pass a national board exam",null,"Written, oral examination and some practical assessment"]
[12938964032,408998795,"2021-09-03T01:32:36","2021-09-03T11:28:27","36.224.209.17",{"$nulls":4},"50+","Male",{"$nulls":3},"over 20 years",4,"Chief of Department","Academic hospital (Teaching or University related)","Yes (please refer to Q10)",{"$nulls":28},"Yes"]
[12939852513,408998795,"2021-09-03T11:19:36","2021-09-03T11:26:15","49.32.192.138",{"$nulls":4},"50+","Female","India","India","Asia","over 20 years",3,"Senior specialist","Academic hospital (Teaching or University related)","Yes (please refer to Q10)","Every day","over 16",null,"Obligatory teaching courses for University teachers",null,null,"Advanced Life Support (ALS), Basic Life Support (BLS) or other specific courses","Simulation courses",null,null,"No",null,"I give lectures","Perform work-based interactive teaching (operating room)","Running clinical case discussions",null,"Teach informally, during every day work",null,"Planning and preparation for teaching session","Using visual aids","Interactive teaching","Problem based learning","Teaching the skills",null,null,"Organizing specific sessions (journal clubs, interactive sessions, pro and con debate…)",null,"Yes","Yes",null,null,"I occasionally carry out assessment during the residency program (Direct Observation of Procedural Skills - DOPS)",null,"I give feedback during everyday work","I am involved in other forms of formative assessment (for example multisource feedback)",{"$nulls":5},"No, it is assumed as being a part of everyday work",null,"Lack of training",null,null,"No recognition",null,null,"Lack of organization",{"$nulls":3},"I do not know","I do not know much","No","I am not sure","09/03/2021","Competency (outcome) based curriculum",null,"University","They have to pass a university board exam",null,"Written and oral examination"]
[12939836547,408998795,"2021-09-03T11:10:57","2021-09-03T11:19:28","176.12.176.205",{"$nulls":4},"50+","Male","Israel","Israel","Asia","over 20 years",5,"Chief of Department","Academic hospital (Teaching or University related)","Yes (please refer to Q10)","Almost every day","over 16",{"$nulls":3},"Other short TTT courses",null,"Simulation courses",null,"No coments","Other (please specify)","Hospital initiative",null,"Perform work-based interactive teaching (operating room)","Running clinical case discussions","Involved in simulation sessions","Teach informally, during every day work",null,"Planning and preparation for teaching session",null,"Interactive teaching","Problem based learning","Teaching the skills","Giving feedback","Organizing and leading the discussions","Organizing specific sessions (journal clubs, interactive sessions, pro and con debate…)",null,"Yes","Yes","I am an examiner for the final exam","I am European Diploma in Anaesthesia and Intensive Care (EDAIC) part II examiner","I occasionally carry out assessment during the residency program (Direct Observation of Procedural Skills - DOPS)","I give feedback during simulation sessions","I give feedback during everyday work","I am involved in other forms of formative assessment (for example multisource feedback)",{"$nulls":3},"Yes, it is recognised for promotion in academia.",{"$nulls":10},"No obstecales",null,null,"Yes","Yes, I am well informed","No","No",null,"Competency (outcome) based curriculum",null,"Department of anaesthesiology","They have to pass a national board exam",null,"Written and oral examination, but also OSCE (Objective Structured Clinical Examination)"]
[12939840149,408998795,"2021-09-03T11:13:09","2021-09-03T11:18:31","37.104.18.123",{"$nulls":4},"50+","Male","Colombia","Saudi Arabia","Asia","over 20 years",4,"Lecturer","Academic hospital (Teaching or University related)","Yes (please refer to Q10)","Every day","over 16",{"$nulls":4},"Advanced Life Support (ALS), Basic Life Support (BLS) or other specific courses","Simulation courses",null,null,"Yes",null,"I give lectures","Perform work-based interactive teaching (operating room)","Running clinical case discussions","Involved in simulation sessions","Teach informally, during every day work",{"$nulls":4},"Problem based learning",null,"Giving feedback","Organizing and leading the discussions","Organizing specific sessions (journal clubs, interactive sessions, pro and con debate…)",null,"Yes","Yes",{"$nulls":4},"I give feedback during everyday work","I am involved in other forms of formative assessment (for example multisource feedback)",{"$nulls":5},"No, it is assumed as being a part of everyday work",null,"Lack of training"]
[12939805884,408998795,"2021-09-03T10:52:04","2021-09-23T09:30:48","109.226.219.177",{"$nulls":4},"50+","Male","Russian Federation","Russian Federation","Europe","over 20 years","Less than 3","Chief of Department","Academic hospital (Teaching or University related)","Yes (please refer to Q10)","Once a week","over 16","Master in Medical Education","Obligatory teaching courses for University teachers",null,null,"Advanced Life Support (ALS), Basic Life Support (BLS) or other specific courses","Simulation courses",null,null,"Yes, some elements, but not systematically",null,"I give lectures","Perform work-based interactive teaching (operating room)","Running clinical case discussions","Involved in simulation sessions",{"$nulls":3},"Using visual aids","Interactive teaching","Problem based learning","Teaching the skills",{"$nulls":4},"Yes","No","I am an examiner for the final exam",null,"I occasionally carry out assessment during the residency program (Direct Observation of Procedural Skills - DOPS)","I give feedback during simulation sessions","I give feedback during everyday work","I am involved in other forms of formative assessment (for example multisource feedback)",null,null,"Yes, I am paid more","Yes, it is recognised for promotion in academia.",{"$nulls":10},"not",null,null,"Yes","Yes, I am well informed","Yes","Yes","09/01/2013","Competency (outcome) based curriculum",null,"National body responsible for education (Ministry of health or education, National board for anaesthesia …)","They have to pass a national board exam",null,"VIVA (Oral examination), written and OSCE examination"]
[12939827445,408998795,"2021-09-03T11:06:08","2021-09-23T08:05:52","92.126.254.34",{"$nulls":4},"41-50","Male","Russian Federation","Russian Federation","Europe","over 20 years","Over 5","Chief of Department","Academic hospital (Teaching or University related)","Yes (please refer to Q10)"]
[12939826870,408998795,"2021-09-03T11:05:12","2021-09-03T11:06:57","94.59.184.89",{"$nulls":4},"41-50","Female","Sudan","United Arab Emirates","Asia","11-15",4,"Specialist","Academic hospital (Teaching or University related)","Yes (please refer to Q10)"]
[12939819998,408998795,"2021-09-03T11:01:48","2021-09-03T11:04:39","109.177.4.208",{"$nulls":4},"36-40","Male","Egypt","United Arab Emirates","Asia","11-15",3,"Specialist","General hospital","No (please refer to Q21)",{"$nulls":50},"I work in a non-teaching hospital",null,"Yes","I do not know much","No","No",null,"I do not know",null,"I do not know","They have to pass a university board exam",null,"Written and oral examination"]
[12939812014,408998795,"2021-09-03T10:57:26","2021-09-04T08:38:52","5.228.64.217",{"$nulls":4},"25-30","Female","Russian Federation","Russian Federation","Europe","5-10","Less than 3","Specialist","Academic hospital (Teaching or University related)","Yes (please refer to Q10)","Every day","Less than 5",{"$nulls":4},"Advanced Life Support (ALS), Basic Life Support (BLS) or other specific courses","Simulation courses",null,null,"No",{"$nulls":5},"Teach informally, during every day work",null,"Planning and preparation for teaching session",{"$nulls":3},"Teaching the skills","Giving feedback","Organizing and leading the discussions",null,null,"No","Yes",{"$nulls":6},"I am not involved in any kind of assessment",{"$nulls":4},"No, it is assumed as being a part of everyday work",{"$nulls":5},"Overloaded with work",{"$nulls":3},"I work with residents, but I do not see that as teaching",null,"No","I have some ideas, but it is not clear to me","No","I am not sure",null,"Competency (outcome) based curriculum",null,"Department of anaesthesiology","They have to pass a national board exam",null,"Written, oral examination and some practical assessment"]
[12939796322,408998795,"2021-09-03T10:47:14","2021-09-03T06:30:22","178.176.219.66",{"$nulls":4},"50+","Male","Russian Federation","Russian Federation","Europe","over 20 years","Less than 3","Chief of Department","General hospital","Yes (please refer to Q10)","Almost every day","over 16",null,"Obligatory teaching courses for University teachers",null,null,"Advanced Life Support (ALS), Basic Life Support (BLS) or other specific courses","Simulation courses",null,null,"Yes, some elements, but not systematically",null,"I give lectures","Perform work-based interactive teaching (operating room)","Running clinical case discussions","Involved in simulation sessions","Teach informally, during every day work",null,"Planning and preparation for teaching session","Using visual aids","Interactive teaching","Problem based learning","Teaching the skills","Giving feedback","Organizing and leading the discussions","Organizing specific sessions (journal clubs, interactive sessions, pro and con debate…)",null,"Yes","Yes","I am an examiner for the final exam",null,null,"I give feedback during simulation sessions","I give feedback during everyday work","I am involved in other forms of formative assessment (for example multisource feedback)","I am not involved in any kind of assessment",{"$nulls":4},"No, it is assumed as being a part of everyday work",null,null,"Lack of time",{"$nulls":8},"Yes","Yes, I am well informed","Yes","Yes","09/03/2021","Competency (outcome) based curriculum",null,"National body responsible for education (Ministry of health or education, National board for anaesthesia …)","They have to pass a national board exam",null,"Written and oral examination, but also OSCE (Objective Structured Clinical Examination)"]
[12939783189,408998795,"2021-09-03T10:40:52","2021-09-03T03:55:21","92.126.240.30",{"$nulls":4},"41-50","Male","Russian Federation","Russian Federation","Europe","over 20 years","Less than 3","Chief of Department","Academic hospital (Teaching or University related)","Yes (please refer to Q10)","Every day","6-10","Master in Medical Education","Obligatory teaching courses for University teachers",null,null,"Advanced Life Support (ALS), Basic Life Support (BLS) or other specific courses",{"$nulls":3},"No",null,"I give lectures","Perform work-based interactive teaching (operating room)","Running clinical case discussions",null,"Teach informally, during every day work",null,"Planning and preparation for teaching session","Using visual aids","Interactive teaching","Problem based learning","Teaching the skills","Giving feedback",{"$nulls":3},"Yes","Yes","I am an examiner for the final exam",{"$nulls":3},"I give feedback during everyday work",{"$nulls":4},"Yes, it is recognised for promotion in academia.","Yes, I have a more visible position in the department",null,null,"Lack of training","Lack of time",{"$nulls":8},"Yes","Yes, I am well informed","No","No",null,"Content based curriculum",null,"National body responsible for education (Ministry of health or education, National board for anaesthesia …)","They have to pass a university board exam",null,"Written, oral examination and some practical assessment","The written part EDAIC part I, VIVA - 3 sessions"]
[12939765607,408998795,"2021-09-03T10:31:29","2021-09-02T19:50:33","217.66.159.150",{"$nulls":4},"36-40","Male","Russian Federation","Russian Federation","Europe","11-15","Less than 3","Chief of Department","Academic hospital (Teaching or University related)","Yes (please refer to Q10)","Less than once a week","11-15",{"$nulls":6},"None",null,"No",null,"I give lectures","Perform work-based interactive teaching (operating room)",null,null,"Teach informally, during every day work",null,"Planning and preparation for teaching session",{"$nulls":5},"Organizing and leading the discussions",null,null,"Yes","Yes",{"$nulls":6},"I am not involved in any kind of assessment",{"$nulls":5},"No","Lack of training","Lack of time","Lack of motivation",null,"Overloaded with work",null,"Lack of organization",{"$nulls":3},"I do not know","Yes, I am well informed","No","I am not sure",null,"I do not know",null,"I do not know","They have to pass a university board exam",null,"Written, oral examination and some practical assessment"]
[12939777110,408998795,"2021-09-03T10:37:38","2021-09-02T18:29:38","95.24.2.145",{"$nulls":4},"41-50","Male","Russian Federation","Russian Federation","Europe","over 20 years",3,"Chief of Department","Private hospital","Yes (please refer to Q10)"]
[12939769323,408998795,"2021-09-03T10:33:14","2021-09-30T09:08:22","46.235.96.115",{"$nulls":4},"50+","Female","Serbia","Serbia","Europe","over 20 years",4,"Chief of Department","Private hospital","Yes (please refer to Q10)","Almost every day","over 16",{"$nulls":5},"Simulation courses",null,null,"Yes",null,"I give lectures",{"$nulls":10},"Giving feedback",{"$nulls":3},"Yes","Yes",{"$nulls":3},"I give feedback during simulation sessions",{"$nulls":4},"Yes, I am paid more",{"$nulls":8},"Overloaded with work",{"$nulls":3},"I work in a non-teaching hospital",null,"Yes","Yes, I am well informed","Yes","I am not sure","09/30/2021","Content based curriculum",null,"Society or association of anaesthesiology","They have to pass a national board exam",null,"Written, oral examination and some practical assessment"]
[12939740862,408998795,"2021-09-03T10:16:18","2021-09-29T22:27:08","24.135.32.64",{"$nulls":4},"50+","Female","Serbia","Serbia","Europe","over 20 years",4,"Senior specialist","Academic hospital (Teaching or University related)","Yes (please refer to Q10)"]
[12939741710,408998795,"2021-09-03T10:17:12","2021-09-29T22:21:27","188.2.83.50",{"$nulls":4},"31-35","Female","Serbia","Serbia","Europe","5-10",4,"Specialist","General hospital","No (please refer to Q21)",{"$nulls":50},"I work in a non-teaching hospital",null,"Yes","Yes, I am well informed","Yes","No",null,"Content based curriculum",null,"Department of anaesthesiology","They have to pass a national board exam",null,"Written, oral examination and some practical assessment","no exam nessecary"]
[12939716497,408998795,"2021-09-03T09:59:12","2021-09-29T21:27:38","178.221.44.122",{"$nulls":4},"50+","Female",null,"Serbia","Europe","over 20 years","Over 5","Senior specialist","Academic hospital (Teaching or University related)","Yes (please refer to Q10)","Almost every day","11-15",null,"Obligatory teaching courses for University teachers",{"$nulls":6},"Yes, some elements, but not systematically",{"$nulls":5},"Teach informally, during every day work",{"$nulls":3},"Interactive teaching",{"$nulls":6},"No","Yes",{"$nulls":4},"I give feedback during everyday work",{"$nulls":6},"No, it is assumed as being a part of everyday work",null,null,"Lack of time",{"$nulls":6},"I work with residents, but I do not see that as teaching",null,"Yes","I have some ideas, but it is not clear to me","I am not sure","I am not sure",null,"Classic surgical specialties based curriculum",null,"National body responsible for education (Ministry of health or education, National board for anaesthesia …)","They have to pass a university board exam",null,"Written, oral examination and some practical assessment"]
[12939718061,408998795,"2021-09-03T10:02:56","2021-09-29T21:25:41","188.246.61.182",{"$nulls":4},"41-50","Female","Serbia","Serbia","Europe","11-15",4,"Specialist","Academic hospital (Teaching or University related)","No (please refer to Q21)",{"$nulls":50},"I work with residents, but I do not see that as teaching",null,"No","I know what is it, but outcome-based education is not implemented in my country","No","No",null,"Classic surgical specialties based curriculum",null,"I do not know","They have to pass a university board exam",null,"Written, oral examination and some practical assessment"]
[12939706033,408998795,"2021-09-03T09:53:15","2021-09-29T21:17:59","188.2.108.135",{"$nulls":4},"41-50","Female","Serbia","Serbia","Europe","16-20",4,"Chief of Department","Academic hospital (Teaching or University related)","Yes (please refer to Q10)","When in the operating theater (always have an allocated resident)","11-15",{"$nulls":4},"Advanced Life Support (ALS), Basic Life Support (BLS) or other specific courses",{"$nulls":3},"Yes, some elements, but not systematically",null,"I give lectures","Perform work-based interactive teaching (operating room)",null,null,"Teach informally, during every day work",null,"Planning and preparation for teaching session",null,"Interactive teaching",null,null,"Giving feedback","Organizing and leading the discussions",null,null,"No","Yes","I am an examiner for the final exam",{"$nulls":3},"I give feedback during everyday work",{"$nulls":4},"Yes, it is recognised for promotion in academia.",{"$nulls":3},"Lack of training","Lack of time",{"$nulls":8},"I do not know","I have some ideas, but it is not clear to me","I am not sure","I am not sure","09/29/2021","Content based curriculum",null,"National body responsible for education (Ministry of health or education, National board for anaesthesia …)","They have to pass a university board exam",null,"Written, oral examination and some practical assessment"]
[12939699790,408998795,"2021-09-03T09:51:14","2021-09-29T20:17:47","87.116.165.229",{"$nulls":4},"36-40","Male","Serbia","Serbia","Europe","11-15",4,"Specialist","Academic hospital (Teaching or University related)","Yes (please refer to Q10)","Less than once a week","Less than 5",{"$nulls":6},"None",null,"Yes, some elements, but not systematically",{"$nulls":5},"Teach informally, during every day work",{"$nulls":3},"Interactive teaching",{"$nulls":6},"No","No",{"$nulls":4},"I give feedback during everyday work",{"$nulls":6},"No, it is assumed as being a part of everyday work",{"$nulls":5},"Overloaded with work",{"$nulls":5},"I do not know","I do not know much","I am not sure","I am not sure",null,"I do not know",null,"I do not know","They have to pass a university board exam",null,"Written, oral examination and some practical assessment"]
[12939701940,408998795,"2021-09-03T09:52:44","2021-09-29T19:54:23","89.216.166.79",{"$nulls":4},"41-50",null,"Serbia","Serbia","Europe","11-15",4,"Specialist","Academic hospital (Teaching or University related)","Yes (please refer to Q10)","Almost every day","6-10",{"$nulls":6},"None",null,"No",null,null,"Perform work-based interactive teaching (operating room)",null,null,"Teach informally, during every day work",{"$nulls":3},"Interactive teaching","Problem based learning","Teaching the skills",{"$nulls":4},"Yes","Yes",{"$nulls":6},"I am not involved in any kind of assessment",{"$nulls":4},"No, it is assumed as being a part of everyday work",null,"Lack of training",{"$nulls":3},"Overloaded with work",{"$nulls":5},"No","I have no knowledge of what it is","Yes","I am not sure",null,"I do not know",null,"University","They have to pass a university board exam",null,"Written, oral examination and some practical assessment"]
[12939693605,408998795,"2021-09-03T09:47:06","2021-09-29T19:43:00","87.116.167.41",{"$nulls":4},"41-50","Female","Serbia","Serbia","Europe","11-15",4,"Specialist","Academic hospital (Teaching or University related)","Yes (please refer to Q10)","Once a week","6-10",{"$nulls":4},"Advanced Life Support (ALS), Basic Life Support (BLS) or other specific courses",{"$nulls":3},"Yes, some elements, but not systematically",null,null,"Perform work-based interactive teaching (operating room)",null,null,"Teach informally, during every day work",{"$nulls":3},"Interactive teaching",null,"Teaching the skills",{"$nulls":4},"No","No",{"$nulls":6},"I am not involved in any kind of assessment",{"$nulls":4},"No, it is assumed as being a part of everyday work",{"$nulls":5},"Overloaded with work",{"$nulls":3},"I work with residents, but I do not see that as teaching",null,"I do not know","I do not know much","I am not sure","I am not sure",null,"I do not know",null,"I do not know","They have to pass a national board exam",null,"Written, oral examination and some practical assessment"]
[12939698099,408998795,"2021-09-03T09:50:39","2021-09-29T18:35:13","188.2.155.13",{"$nulls":4},"31-35","Female","Serbia","Serbia","Europe","5-10",4,"Specialist","Academic hospital (Teaching or University related)","No (please refer to Q21)",{"$nulls":50},"I am not employed by the university",null,"Yes","I have no knowledge of what it is","I am not sure","I am not sure",null,"Classic surgical specialties based curriculum",null,"Department of anaesthesiology","They have to pass a university board exam",null,"Written, oral examination and some practical assessment"]
[12939670094,408998795,"2021-09-03T09:31:29","2021-09-29T18:09:35","87.116.165.129",{"$nulls":4},"41-50","Female","Serbia","Serbia","Europe","11-15","Over 5","Chief of Department","Academic hospital (Teaching or University related)","No (please refer to Q21)",{"$nulls":50},"I do not want to be involved in teaching residents because it is not paid"]
[12939664208,408998795,"2021-09-03T09:26:58","2021-09-29T17:37:19","93.87.123.103",{"$nulls":4},"36-40","Female","Serbia","Serbia","Europe","5-10",4,"Specialist","Academic hospital (Teaching or University related)","No (please refer to Q21)",{"$nulls":50},"I work with residents, but I do not see that as teaching",null,"I do not know","I do not know much","No","I am not sure",null,"I do not know",null,"University","They have to pass a university board exam",null,"Written, oral examination and some practical assessment"]
[12939665011,408998795,"2021-09-03T09:28:08","2021-09-29T17:32:51","212.200.247.115",{"$nulls":4},"25-30","Female","Bosnia and Herzegovina","Serbia","Europe","5-10",4,"Trainee","Academic hospital (Teaching or University related)","No (please refer to Q21)",{"$nulls":50},"I am not employed by the university"]
[12939657448,408998795,"2021-09-03T09:22:12","2021-09-29T17:27:09","94.248.186.184",{"$nulls":4},"41-50","Male","Serbia","Serbia","Europe","11-15",4,"Specialist","General hospital","Yes (please refer to Q10)","When in the operating theater (always have an allocated resident)","Less than 5",{"$nulls":6},"None",null,"No",null,null,"Perform work-based interactive teaching (operating room)","Running clinical case discussions",null,"Teach informally, during every day work",{"$nulls":4},"Problem based learning","Teaching the skills","Giving feedback",{"$nulls":3},"No","No",{"$nulls":6},"I am not involved in any kind of assessment",{"$nulls":4},"No, it is assumed as being a part of everyday work",{"$nulls":4},"No recognition","Overloaded with work",null,"Lack of organization",null,"I work in a non-teaching hospital",null,"Yes","I do not know much","No","I am not sure",null,"Content based curriculum",null,"University","They have to pass a university board exam",null,"Written, oral examination and some practical assessment"]
[12939609827,408998795,"2021-09-03T08:50:49","2021-09-29T17:22:02","87.116.162.254",{"$nulls":4},"41-50","Female","Serbia","Serbia","Europe","11-15",4,"Specialist","Academic hospital (Teaching or University related)","Yes (please refer to Q10)","Less than once a week","Less than 5",{"$nulls":6},"None",null,"No, but students are exposed to outcome based teaching",null,null,"Perform work-based interactive teaching (operating room)",{"$nulls":8},"Teaching the skills",{"$nulls":4},"No","No",{"$nulls":4},"I give feedback during everyday work",{"$nulls":6},"No, it is assumed as being a part of everyday work",{"$nulls":6},"Lack of opportunity",null,null,"I work with residents, but I do not see that as teaching",null,"I do not know","I do not know much","No","I am not sure","09/29/2021","Classic surgical specialties based curriculum",null,"University","They have to pass a university board exam",null,"Written, oral examination and some practical assessment","Osce and oral exam"]
[12939527525,408998795,"2021-09-03T07:46:26","2021-09-03T09:22:56","157.37.190.227",{"$nulls":4},"36-40","Female","India","India","Asia","5-10",3,"Teacher (in University)","Academic hospital (Teaching or University related)","Yes (please refer to Q10)","When in the operating theater (always have an allocated resident)","Less than 5","Master in Medical Education",{"$nulls":7},"No",null,"I give lectures","Perform work-based interactive teaching (operating room)","Running clinical case discussions",{"$nulls":5},"Interactive teaching","Problem based learning",{"$nulls":3},"Organizing specific sessions (journal clubs, interactive sessions, pro and con debate…)",null,"Yes","Yes",{"$nulls":6},"I am not involved in any kind of assessment",{"$nulls":3},"Yes, I have a more visible position in the department",{"$nulls":7},"Lack of opportunity",{"$nulls":4},"Yes","I have no knowledge of what it is","No","Yes","05/01/2019","Competency (outcome) based curriculum",null,"I do not know","They have to pass a national board exam",null,"Written and oral examination"]
[12939637003,408998795,"2021-09-03T09:08:32","2021-09-29T17:19:15","109.93.195.201",{"$nulls":4},"41-50","Female","Serbia","Serbia","Europe","11-15",4,"Specialist","Academic hospital (Teaching or University related)","No (please refer to Q21)",{"$nulls":50},"I work with residents, but I do not see that as teaching",null,"I do not know","I have some ideas, but it is not clear to me","I am not sure","I am not sure",null,"I do not know",null,"I do not know","They just have to complete the residency program (3-5 years)",null,"Written, oral examination and some practical assessment"]
[12939630280,408998795,"2021-09-03T09:04:10","2021-09-29T17:18:18","188.2.69.176",{"$nulls":4},"36-40","Female","Serbia","Serbia","Europe","11-15",4,"Specialist","Academic hospital (Teaching or University related)","Yes (please refer to Q10)","Almost every day","Less than 5",{"$nulls":3},"Other short TTT courses",null,"Simulation courses",null,null,"No",null,"I give lectures","Perform work-based interactive teaching (operating room)",null,null,"Teach informally, during every day work",null,"Planning and preparation for teaching session","Using visual aids",null,null,"Teaching the skills","Giving feedback",{"$nulls":3},"No","Yes",{"$nulls":4},"I give feedback during everyday work",{"$nulls":6},"No, it is assumed as being a part of everyday work",null,"Lack of training","Lack of time",null,null,"Overloaded with work",{"$nulls":5},"Yes","I know what is it, but outcome-based education is not implemented in my country","Yes","No",null,"Content based curriculum",null,"University","They have to pass a university board exam",null,"Written, oral examination and some practical assessment"]
[12939632401,408998795,"2021-09-03T09:05:33","2021-09-29T17:09:08","212.200.247.122",{"$nulls":4},"41-50","Female","Serbia","Serbia","Europe","11-15",4,"Senior resident","Academic hospital (Teaching or University related)","Yes (please refer to Q10)"]
[12939639760,408998795,"2021-09-03T09:10:57","2021-09-29T16:52:25","79.101.198.131",{"$nulls":4},"41-50","Male","Serbia","Serbia","Europe","16-20",4,"Teacher (in University)","Academic hospital (Teaching or University related)","Yes (please refer to Q10)","Almost every day","6-10",{"$nulls":6},"None",null,"No",{"$nulls":3},"Running clinical case discussions","Involved in simulation sessions","Teach informally, during every day work",null,"Planning and preparation for teaching session","Using visual aids","Interactive teaching",null,"Teaching the skills","Giving feedback","Organizing and leading the discussions",null,null,"No","Yes",{"$nulls":3},"I give feedback during simulation sessions","I give feedback during everyday work",{"$nulls":7},"No",{"$nulls":4},"Overloaded with work",{"$nulls":5},"Yes","I know what is it, but outcome-based education is not implemented in my country","No","I am not sure",null,"Classic surgical specialties based curriculum",null,"National body responsible for education (Ministry of health or education, National board for anaesthesia …)","They have to pass a university board exam",null,"Written, oral examination and some practical assessment"]
[12939618137,408998795,"2021-09-03T08:57:07","2021-09-29T16:52:18","87.116.166.213",{"$nulls":4},"31-35","Male","Serbia","Serbia","Europe","5-10",4,"Specialist","Specialized clinic","No (please refer to Q21)",{"$nulls":50},"I am not employed by the university",{"$nulls":12},"Written european exam and oral swiss exam"]
[12939545692,408998795,"2021-09-03T08:02:31","2021-09-29T16:50:21","188.2.254.183",{"$nulls":4},"31-35","Male","Serbia","Serbia","Europe","5-10",4,"Senior resident","Academic hospital (Teaching or University related)","No (please refer to Q21)",{"$nulls":50},"I am not employed by the university"]
[12939613172,408998795,"2021-09-03T08:54:35","2021-09-29T16:48:23","77.46.223.39",{"$nulls":4},"41-50","Female","Serbia","Serbia","Europe","11-15","Over 5","Specialist","Specialized clinic","No (please refer to Q21)"]
[12939614929,408998795,"2021-09-03T08:55:15","2021-09-29T16:48:12","87.116.166.248",{"$nulls":4},"25-30","Female","Bosnia and Herzegovina","Serbia","Europe","5-10",4,"Senior resident","Academic hospital (Teaching or University related)","No (please refer to Q21)",{"$nulls":50},"I am not employed by the university",null,"Yes","Yes, I am well informed","No","I am not sure","09/29/2021","I do not know",null,"Department of anaesthesiology","They have to pass a university board exam",null,"Written, oral examination and some practical assessment"]
[12939612406,408998795,"2021-09-03T08:53:54","2021-09-29T16:46:30","188.246.55.196",{"$nulls":4},"36-40","Female","Serbia","Serbia","Europe","5-10",4,"Specialist","Academic hospital (Teaching or University related)","Yes (please refer to Q10)","Once a week","Less than 5",{"$nulls":6},"None",null,"No",null,null,"Perform work-based interactive teaching (operating room)",{"$nulls":7},"Problem based learning","Teaching the skills",{"$nulls":4},"No","No",{"$nulls":6},"I am not involved in any kind of assessment",{"$nulls":4},"No, it is assumed as being a part of everyday work",null,"Lack of training","Lack of time","Lack of motivation","No recognition","Overloaded with work",{"$nulls":5},"I do not know","I have no knowledge of what it is","No","No",null,"I do not know",null,"I do not know","They have to pass a national board exam",null,"Written, oral examination and some practical assessment"]
[12939613118,408998795,"2021-09-03T08:53:22","2021-09-29T16:44:46","93.87.123.50",{"$nulls":4},"36-40","Male","Serbia","Serbia","Europe","5-10",4,"Senior resident","Academic hospital (Teaching or University related)","No (please refer to Q21)",{"$nulls":50},"I am not employed by the university",null,"No","I do not know much","No","I am not sure",null,"I do not know",null,"I do not know","They have to pass a university board exam",null,"Written, oral examination and some practical assessment"]
[12939598259,408998795,"2021-09-03T08:42:43","2021-09-29T16:44:09","87.116.163.241",{"$nulls":4},"25-30","Male","Serbia","Serbia","Europe","5-10",4,"Senior resident","Academic hospital (Teaching or University related)","Yes (please refer to Q10)","Almost every day","6-10",{"$nulls":4},"Advanced Life Support (ALS), Basic Life Support (BLS) or other specific courses","Simulation courses",null,"first aid red cross","Yes",null,null,"Perform work-based interactive teaching (operating room)",null,"Involved in simulation sessions",null,null,"Planning and preparation for teaching session","Using visual aids","Interactive teaching","Problem based learning","Teaching the skills","Giving feedback","Organizing and leading the discussions",null,null,"No","No",{"$nulls":3},"I give feedback during simulation sessions","I give feedback during everyday work",{"$nulls":6},"No, it is assumed as being a part of everyday work",{"$nulls":5},"Overloaded with work",null,"Lack of organization",null,"I am not employed by the university"]
[12939584571,408998795,"2021-09-03T08:31:51","2021-09-29T16:40:17","109.245.37.148",{"$nulls":4},"25-30","Female","Serbia","Serbia","Europe","5-10",4,"Trainee","Academic hospital (Teaching or University related)","Yes (please refer to Q10)"]
[12939565771,408998795,"2021-09-03T08:17:26","2021-09-16T15:22:52","109.245.39.177",{"$nulls":4},"50+","Female","Serbia","Serbia","Europe","over 20 years",4,"Specialist","General hospital","No (please refer to Q21)",{"$nulls":50},"I work in a non-teaching hospital",null,"I do not know","I do not know much","Yes","I am not sure",null,"I do not know",null,"I do not know","They have to pass a national board exam",null,"Written, oral examination and some practical assessment","written examination"]
[12937808550,408998795,"2021-09-02T18:04:36","2021-09-06T17:34:56","94.189.167.12",{"$nulls":4},"50+","Female","Serbia","Serbia","Europe","over 20 years",4,"Chief of Department","Specialized clinic","Yes (please refer to Q10)","Almost every day","over 16","Master in Medical Education",{"$nulls":4},"Simulation courses",null,null,"Yes, some elements, but not systematically",null,null,"Perform work-based interactive teaching (operating room)","Running clinical case discussions",null,null,"making workshops during seminars and symposia","Planning and preparation for teaching session","Using visual aids","Interactive teaching","Problem based learning","Teaching the skills","Giving feedback","Organizing and leading the discussions",null,null,"No","Yes",null,null,"I occasionally carry out assessment during the residency program (Direct Observation of Procedural Skills - DOPS)",null,"I give feedback during everyday work",{"$nulls":6},"No, it is assumed as being a part of everyday work",null,"Lack of training","Lack of time",null,null,"Overloaded with work",{"$nulls":3},"I am not employed by the university",null,"Yes","Yes, I am well informed","Yes","I am not sure",null,"I do not know",null,"Department of anaesthesiology","They have to pass a university board exam",null,"Written, oral examination and some practical assessment"]
[12939577757,408998795,"2021-09-03T08:23:34","2021-09-03T21:11:51","95.180.28.52",{"$nulls":4},"41-50","Female","Serbia","Serbia","Europe","16-20",4,"Chief of Department","Academic hospital (Teaching or University related)","Yes (please refer to Q10)","Almost every day","6-10","Master in Medical Education","Obligatory teaching courses for University teachers",null,null,"Advanced Life Support (ALS), Basic Life Support (BLS) or other specific courses",{"$nulls":3},"No",null,"I give lectures","Perform work-based interactive teaching (operating room)","Running clinical case discussions",null,"Teach informally, during every day work",null,"Planning and preparation for teaching session","Using visual aids","Interactive teaching","Problem based learning","Teaching the skills",null,"Organizing and leading the discussions",null,null,"Yes","Yes",{"$nulls":4},"I give feedback during everyday work",{"$nulls":6},"No, it is assumed as being a part of everyday work",null,null,"Lack of time",null,null,"Overloaded with work",{"$nulls":3},"I am not employed by the university",null,"I do not know","I have no knowledge of what it is","I am not sure","I am not sure",null,"I do not know",null,"University","They have to pass a university board exam",null,"Written and oral examination, but also OSCE (Objective Structured Clinical Examination)"]
[12939576056,408998795,"2021-09-03T08:25:32","2021-09-02T19:23:46","178.220.183.141",{"$nulls":4},"50+","Female","Serbia","Serbia","Europe","over 20 years",4,"Senior specialist","General hospital","Yes (please refer to Q10)","Once a week","over 16",{"$nulls":5},"Simulation courses",null,null,"Yes",{"$nulls":5},"Teach informally, during every day work",{"$nulls":5},"Teaching the skills",{"$nulls":4},"No","Yes",{"$nulls":6},"I am not involved in any kind of assessment",{"$nulls":4},"No, it is assumed as being a part of everyday work",{"$nulls":5},"Overloaded with work",{"$nulls":3},"I work with residents, but I do not see that as teaching",null,"Yes","I have some ideas, but it is not clear to me","No","I am not sure",{"$nulls":3},"National body responsible for education (Ministry of health or education, National board for anaesthesia …)","They have to pass a university board exam",null,"Written, oral examination and some practical assessment"]
[12939564171,408998795,"2021-09-03T07:26:27","2021-09-23T08:29:54","62.197.236.213",{"$nulls":4},"50+","Male","Slovakia","Slovakia","Europe","over 20 years","Over 5","Senior specialist","General hospital","Yes (please refer to Q10)","Once a week","6-10",{"$nulls":5},"Simulation courses",null,null,"Yes",{"$nulls":3},"Running clinical case discussions",null,"Teach informally, during every day work",null,null,"Using visual aids",null,null,"Teaching the skills",{"$nulls":4},"No","No",{"$nulls":4},"I give feedback during everyday work",{"$nulls":6},"No, it is assumed as being a part of everyday work",null,null,"Lack of time",null,null,"Overloaded with work",{"$nulls":5},"Yes","Yes, I am well informed","Yes","Yes","01/01/2005","Competency (outcome) based curriculum",null,"Society or association of anaesthesiology","They have to pass a national board exam",null,"Written, oral examination and some practical assessment","Structured peer assessment of their skills"]
[12939560092,408998795,"2021-09-03T08:13:33","2021-09-02T20:27:32","188.167.250.233",{"$nulls":4},"50+","Female","Slovakia","Slovakia","Europe","over 20 years","Over 5","Teacher (in University)","Academic hospital (Teaching or University related)","Yes (please refer to Q10)","Every day","11-15",null,"Obligatory teaching courses for University teachers",{"$nulls":3},"Simulation courses",null,null,"Yes",null,"I give lectures","Perform work-based interactive teaching (operating room)",{"$nulls":3},"Practical seminars","Planning and preparation for teaching session","Using visual aids","Interactive teaching",null,"Teaching the skills",{"$nulls":4},"Yes","Yes","I am an examiner for the final exam",{"$nulls":3},"I give feedback during everyday work",{"$nulls":3},"Yes, I am paid more","Yes, it is recognised for promotion in academia.",{"$nulls":13},"Yes","I know what is it, but outcome-based education is not implemented in my country","I am not sure","No",null,"Content based curriculum",null,"National body responsible for education (Ministry of health or education, National board for anaesthesia …)","Other (please specify)","University board exam with the presence of špecialista from other universities","Other (please specify)"]
[12939541702,408998795,"2021-09-03T07:59:02","2021-09-02T19:12:49","91.219.132.203",{"$nulls":4},"36-40","Female","Slovakia","Slovakia","Europe","11-15",5,"Specialist","General hospital","Yes (please refer to Q10)"]
[12939548401,408998795,"2021-09-03T08:04:47","2021-09-29T17:36:52","178.79.79.118",{"$nulls":4},"31-35","Male","Slovenia","Slovenia","Europe","5-10","Over 5","Specialist","Academic hospital (Teaching or University related)","Yes (please refer to Q10)","Almost every day","Less than 5",null,null,"ESAIC Teach the Teacher (TTT) courses",null,"Advanced Life Support (ALS), Basic Life Support (BLS) or other specific courses","Simulation courses",null,null,"No",null,null,"Perform work-based interactive teaching (operating room)",null,null,"Teach informally, during every day work",null,null,"Using visual aids","Interactive teaching","Problem based learning","Teaching the skills","Giving feedback","Organizing and leading the discussions","Organizing specific sessions (journal clubs, interactive sessions, pro and con debate…)",null,"No","Yes",{"$nulls":6},"I am not involved in any kind of assessment",{"$nulls":4},"No, it is assumed as being a part of everyday work",null,null,"Lack of time",null,null,"Overloaded with work",null,"Lack of organization",null,"Other (please specify)","This some issue with the survey - i said previoualy that i teach ","Yes","Yes, I am well informed","Yes","No",null,"Classic surgical specialties based curriculum",null,"Society or association of anaesthesiology","They have to pass a national board exam",null,"Other (please specify)"]
[12939541138,408998795,"2021-09-03T07:57:55","2021-09-03T08:06:24","2.87.170.211",{"$nulls":4},"50+","Female","Greece","Qatar","Asia","16-20",5,"Senior specialist","Academic hospital (Teaching or University related)","Yes (please refer to Q10)","Almost every day","6-10",{"$nulls":4},"Advanced Life Support (ALS), Basic Life Support (BLS) or other specific courses","Simulation courses",null,null,"Yes",null,null,"Perform work-based interactive teaching (operating room)",{"$nulls":7},"Problem based learning","Teaching the skills","Giving feedback",null,"Organizing specific sessions (journal clubs, interactive sessions, pro and con debate…)",null,"No","Yes",{"$nulls":4},"I give feedback during everyday work",{"$nulls":7},"No","Lack of training",{"$nulls":9},"Yes","I do not know much","No","Yes",null,"I do not know",null,"I do not know","They just have to complete the residency program (3-5 years)",null,"Written and oral examination, but also OSCE (Objective Structured Clinical Examination)"]
[12939533259,408998795,"2021-09-03T07:52:32","2021-09-23T09:41:39","89.143.229.29",{"$nulls":4},"50+","Female","Slovenia","Slovenia","Europe","over 20 years",5,"Senior specialist","Academic hospital (Teaching or University related)","Yes (please refer to Q10)","When in the operating theater (always have an allocated resident)","over 16",{"$nulls":3},"Other short TTT courses","Advanced Life Support (ALS), Basic Life Support (BLS) or other specific courses","Simulation courses",null,null,"Yes, some elements, but not systematically",null,null,"Perform work-based interactive teaching (operating room)",null,"Involved in simulation sessions","Teach informally, during every day work",{"$nulls":3},"Interactive teaching",null,"Teaching the skills","Giving feedback",{"$nulls":3},"No","Yes",{"$nulls":6},"I am not involved in any kind of assessment",{"$nulls":4},"No, it is assumed as being a part of everyday work",null,null,"Lack of time",null,null,"Overloaded with work",{"$nulls":3},"I work with residents, but I do not see that as teaching",null,"I do not know","I do not know much","No","I am not sure",null,"I do not know",null,"National body responsible for education (Ministry of health or education, National board for anaesthesia …)","They have to pass a national board exam",null,"Other (please specify)","written"]
[12939527892,408998795,"2021-09-03T07:46:31","2021-09-05T21:52:46","188.196.148.245",{"$nulls":4},"50+","Female","Slovenia","Slovenia","Europe","over 20 years","Over 5","Senior specialist","General hospital","No (please refer to Q21)",{"$nulls":50},"I work with residents, but I do not see that as teaching"]
[12939523600,408998795,"2021-09-03T07:43:40","2021-09-05T10:46:20","86.61.68.202",{"$nulls":4},"50+","Female","Slovenia","Slovenia","Europe","over 20 years",4,"Senior specialist","General hospital","Yes (please refer to Q10)"]
[12939519457,408998795,"2021-09-03T07:39:54","2021-09-03T07:50:10","105.112.101.245",{"$nulls":4},"36-40","Male","Nigeria","Nigeria","Africa","5-10","Over 5","Specialist","Specialized clinic","Yes (please refer to Q10)","Almost every day","6-10",{"$nulls":6},"None",null,"No, but students are exposed to outcome based teaching",null,null,"Perform work-based interactive teaching (operating room)","Running clinical case discussions",null,"Teach informally, during every day work",{"$nulls":3},"Interactive teaching","Problem based learning","Teaching the skills",{"$nulls":4},"No","No",{"$nulls":6},"I am not involved in any kind of assessment",{"$nulls":4},"No, it is assumed as being a part of everyday work",null,"Lack of training",null,"Lack of motivation","No recognition",null,"Lack of opportunity",{"$nulls":4},"I do not know","I have some ideas, but it is not clear to me","I am not sure","I am not sure",null,"I do not know",null,"I do not know","They just have to complete the residency program (3-5 years)"]
[12939512776,408998795,"2021-09-02T19:40:36","2021-09-04T14:20:11","146.212.55.41",{"$nulls":4},"41-50","Male","Slovenia","Slovenia","Europe","11-15","Over 5","Specialist","Academic hospital (Teaching or University related)","Yes (please refer to Q10)","Almost every day","11-15",null,null,"ESAIC Teach the Teacher (TTT) courses","Other short TTT courses","Advanced Life Support (ALS), Basic Life Support (BLS) or other specific courses","Simulation courses",null,null,"No, but students are exposed to outcome based teaching",null,"I give lectures","Perform work-based interactive teaching (operating room)",null,"Involved in simulation sessions",null,null,"Planning and preparation for teaching session","Using visual aids","Interactive teaching","Problem based learning","Teaching the skills","Giving feedback","Organizing and leading the discussions","Organizing specific sessions (journal clubs, interactive sessions, pro and con debate…)",null,"Yes","Yes","I am an examiner for the final exam","I am European Diploma in Anaesthesia and Intensive Care (EDAIC) part II examiner","I occasionally carry out assessment during the residency program (Direct Observation of Procedural Skills - DOPS)","I give feedback during simulation sessions","I give feedback during everyday work","I am involved in other forms of formative assessment (for example multisource feedback)",{"$nulls":3},"Yes, it is recognised for promotion in academia.","Yes, I have a more visible position in the department",{"$nulls":3},"Lack of time",null,null,"Overloaded with work",{"$nulls":5},"Yes","I have some ideas, but it is not clear to me","Yes","I am not sure",null,"Content based curriculum",null,"Society or association of anaesthesiology","They have to pass a national board exam",null,"Other (please specify)"]
[12939488161,408998795,"2021-09-03T07:14:32","2021-09-03T07:22:09","5.194.213.225",{"$nulls":4},"41-50","Male","Bulgaria","United Arab Emirates","Asia","16-20",4,"Senior specialist","Academic hospital (Teaching or University related)","Yes (please refer to Q10)","Once a week","Less than 5",{"$nulls":6},"None",null,"No",null,null,"Perform work-based interactive teaching (operating room)","Running clinical case discussions",null,"Teach informally, during every day work",null,"Planning and preparation for teaching session",null,"Interactive teaching",null,"Teaching the skills",{"$nulls":4},"No","No",null,null,"I occasionally carry out assessment during the residency program (Direct Observation of Procedural Skills - DOPS)",null,null,"I am involved in other forms of formative assessment (for example multisource feedback)",{"$nulls":4},"Yes, I have a more visible position in the department",null,null,"Lack of training","Lack of time",null,null,"Overloaded with work",{"$nulls":3},"Other (please specify)","Na","No","I have some ideas, but it is not clear to me","No","No",null,"Competency (outcome) based curriculum",null,"Department of anaesthesiology","They have to pass a university board exam",null,"Written, oral examination and some practical assessment"]
[12939473694,408998795,"2021-09-03T07:00:55","2021-09-03T09:14:09","188.196.15.254",{"$nulls":4},"50+","Male","Slovenia","Slovenia","Europe","over 20 years","Over 5","Senior specialist","Academic hospital (Teaching or University related)","Yes (please refer to Q10)","Almost every day","over 16",null,"Obligatory teaching courses for University teachers",{"$nulls":3},"Simulation courses",null,null,"No",null,"I give lectures","Perform work-based interactive teaching (operating room)",null,"Involved in simulation sessions","Teach informally, during every day work",null,null,"Using visual aids",null,null,"Teaching the skills",null,"Organizing and leading the discussions",null,null,"Yes","Yes","I am an examiner for the final exam",null,"I occasionally carry out assessment during the residency program (Direct Observation of Procedural Skills - DOPS)",null,"I give feedback during everyday work",{"$nulls":4},"Yes, it is recognised for promotion in academia.","Yes, I have a more visible position in the department",{"$nulls":3},"Lack of time",{"$nulls":8},"Yes","Yes, I am well informed","Yes","Yes",null,"Competency (outcome) based curriculum",null,"Society or association of anaesthesiology","They have to pass a national board exam",null,"It is only oral examination"]
[12939481498,408998795,"2021-09-03T07:08:39","2021-09-03T05:30:19","77.111.54.86",{"$nulls":4},"41-50","Female","Slovenia","Slovenia","Europe","11-15","Over 5","Specialist","Academic hospital (Teaching or University related)","Yes (please refer to Q10)","Less than once a week","11-15",{"$nulls":4},"Advanced Life Support (ALS), Basic Life Support (BLS) or other specific courses",{"$nulls":3},"Yes",{"$nulls":4},"Involved in simulation sessions","Teach informally, during every day work",null,"Planning and preparation for teaching session",{"$nulls":3},"Teaching the skills","Giving feedback","Organizing and leading the discussions","Organizing specific sessions (journal clubs, interactive sessions, pro and con debate…)",null,"No","No",{"$nulls":3},"I give feedback during simulation sessions",null,"I am involved in other forms of formative assessment (for example multisource feedback)",{"$nulls":5},"No, it is assumed as being a part of everyday work",{"$nulls":3},"Lack of motivation",{"$nulls":7},"Yes","I have no knowledge of what it is","No","No",null,"Classic surgical specialties based curriculum",null,"National body responsible for education (Ministry of health or education, National board for anaesthesia …)","They have to pass a national board exam",null,"It is only oral examination"]
[12939486546,408998795,"2021-09-03T07:12:52","2021-09-29T20:41:21","85.62.220.210",{"$nulls":4},"50+","Female","Spain","Spain","Europe","over 20 years",4,"Senior specialist","Academic hospital (Teaching or University related)","Yes (please refer to Q10)","When in the operating theater (always have an allocated resident)","over 16",{"$nulls":3},"Other short TTT courses","Advanced Life Support (ALS), Basic Life Support (BLS) or other specific courses","Simulation courses",null,null,"Yes, some elements, but not systematically",{"$nulls":3},"Running clinical case discussions","Involved in simulation sessions","Teach informally, during every day work",null,"Planning and preparation for teaching session","Using visual aids","Interactive teaching","Problem based learning","Teaching the skills","Giving feedback",{"$nulls":3},"Yes","Yes",null,null,"I occasionally carry out assessment during the residency program (Direct Observation of Procedural Skills - DOPS)","I give feedback during simulation sessions",{"$nulls":6},"Yes, I have a more visible position in the department",null,null,"Lack of training","Lack of time",null,null,"Overloaded with work",{"$nulls":5},"Yes","I know what is it, but outcome-based education is not implemented in my country","Yes","I am not sure",null,"Content based curriculum",null,"National body responsible for education (Ministry of health or education, National board for anaesthesia …)","They just have to complete the residency program (3-5 years)",null,"Written and oral examination, but also OSCE (Objective Structured Clinical Examination)"]
[12939479521,408998795,"2021-09-03T07:06:11","2021-09-28T21:11:36","2.137.99.238",{"$nulls":4},"50+","Female","Spain","Spain","Europe","over 20 years",4,"Senior specialist","Academic hospital (Teaching or University related)","Yes (please refer to Q10)","When in the operating theater (always have an allocated resident)","over 16",{"$nulls":5},"Simulation courses",null,"training resident tutors ","Yes",null,"I give lectures","Perform work-based interactive teaching (operating room)","Running clinical case discussions","Involved in simulation sessions","Teach informally, during every day work",null,"Planning and preparation for teaching session",null,null,"Problem based learning","Teaching the skills",null,"Organizing and leading the discussions","Organizing specific sessions (journal clubs, interactive sessions, pro and con debate…)",null,"Yes","Yes",null,null,"I occasionally carry out assessment during the residency program (Direct Observation of Procedural Skills - DOPS)","I give feedback during simulation sessions",null,"I am involved in other forms of formative assessment (for example multisource feedback)",{"$nulls":3},"Yes, it is recognised for promotion in academia.",{"$nulls":4},"Lack of time",{"$nulls":8},"Yes","Yes, I am well informed","Yes","No",null,"Content based curriculum",null,"Society or association of anaesthesiology","They just have to complete the residency program (3-5 years)"]
[12939480588,408998795,"2021-09-03T07:08:26","2021-09-27T18:28:45","89.7.230.138",{"$nulls":4},"41-50","Female","Spain","Spain","Europe","16-20",4,"Specialist","Academic hospital (Teaching or University related)","Yes (please refer to Q10)","Every day","11-15",{"$nulls":4},"Advanced Life Support (ALS), Basic Life Support (BLS) or other specific courses","Simulation courses",null,null,"No",null,"I give lectures",null,null,"Involved in simulation sessions","Teach informally, during every day work",null,"Planning and preparation for teaching session","Using visual aids",{"$nulls":3},"Giving feedback","Organizing and leading the discussions","Organizing specific sessions (journal clubs, interactive sessions, pro and con debate…)",null,"No","No",null,null,"I occasionally carry out assessment during the residency program (Direct Observation of Procedural Skills - DOPS)","I give feedback during simulation sessions","I give feedback during everyday work","I am involved in other forms of formative assessment (for example multisource feedback)",{"$nulls":5},"No, it is assumed as being a part of everyday work",null,"Lack of training","Lack of time",null,"No recognition","Overloaded with work",null,"Lack of organization",{"$nulls":3},"No","I know what is it, but outcome-based education is not implemented in my country","Yes","No",null,"Content based curriculum",null,"National body responsible for education (Ministry of health or education, National board for anaesthesia …)","They just have to complete the residency program (3-5 years)"]
[12939466128,408998795,"2021-09-03T06:54:58","2021-09-26T19:30:43","83.58.225.191",{"$nulls":4},"50+","Male","Spain","Spain","Europe","over 20 years",4,"Senior specialist","Academic hospital (Teaching or University related)","Yes (please refer to Q10)","Less than once a week","11-15",{"$nulls":3},"Other short TTT courses","Advanced Life Support (ALS), Basic Life Support (BLS) or other specific courses","Simulation courses",null,null,"Yes, some elements, but not systematically",{"$nulls":4},"Involved in simulation sessions",{"$nulls":9},"Organizing specific sessions (journal clubs, interactive sessions, pro and con debate…)",null,"No","No",{"$nulls":6},"I am not involved in any kind of assessment",{"$nulls":4},"No, it is assumed as being a part of everyday work",null,null,"Lack of time","Lack of motivation","No recognition","Overloaded with work",null,"Lack of organization",null,"Other (please specify)","There are not an educational and working program to improve skills ans activities in OR, and critical care.","Yes","I have some ideas, but it is not clear to me","I am not sure","No",null,"Content based curriculum",null,"National body responsible for education (Ministry of health or education, National board for anaesthesia …)","They just have to complete the residency program (3-5 years)"]
[12939465945,408998795,"2021-09-03T06:56:20","2021-09-26T15:57:33","84.78.28.217",{"$nulls":4},"50+","Female","Brazil","Spain","Europe","over 20 years",3,"Specialist","Private hospital","Yes (please refer to Q10)",null,"6-10",{"$nulls":6},"None",null,"No",null,null,"Perform work-based interactive teaching (operating room)","Running clinical case discussions",null,"Teach informally, during every day work",null,null,"Using visual aids",null,"Problem based learning","Teaching the skills","Giving feedback",{"$nulls":3},"No","No",{"$nulls":6},"I am not involved in any kind of assessment",{"$nulls":4},"No, it is assumed as being a part of everyday work",{"$nulls":5},"Overloaded with work",{"$nulls":3},"I work in a non-teaching hospital",null,"Yes","I do not know much","No","No",null,"Content based curriculum",null,"Society or association of anaesthesiology","They have to pass a national board exam",null,"Other (please specify)"]
[12939453961,408998795,"2021-09-03T06:50:28","2021-09-25T09:34:46","192.162.49.92",{"$nulls":4},"41-50","Male","Poland","Spain","Europe","over 20 years","Over 5","Senior specialist","Academic hospital (Teaching or University related)","Yes (please refer to Q10)","Almost every day","Less than 5",{"$nulls":6},"None",null,"No",null,null,"Perform work-based interactive teaching (operating room)","Running clinical case discussions",null,"Teach informally, during every day work",{"$nulls":3},"Interactive teaching","Problem based learning","Teaching the skills",null,null,"Organizing specific sessions (journal clubs, interactive sessions, pro and con debate…)",null,"No","Yes",{"$nulls":4},"I give feedback during everyday work",{"$nulls":6},"No, it is assumed as being a part of everyday work",null,"Lack of training","Lack of time","Lack of motivation","No recognition","Overloaded with work","Lack of opportunity","Lack of organization",null,"I work with residents, but I do not see that as teaching",null,"Yes","I do not know much","I am not sure","I am not sure",null,"I do not know",null,"Department of anaesthesiology","They have to pass a national board exam",null,"Written, oral examination and some practical assessment"]
[12939460966,408998795,"2021-09-03T06:53:13","2021-09-24T17:27:31","185.169.164.40",{"$nulls":4},"50+","Male","Spain","Spain","Europe","over 20 years",4,"Senior specialist","Academic hospital (Teaching or University related)","Yes (please refer to Q10)","Almost every day","over 16",{"$nulls":4},"Advanced Life Support (ALS), Basic Life Support (BLS) or other specific courses",{"$nulls":3},"No",null,"I give lectures","Perform work-based interactive teaching (operating room)",null,"Involved in simulation sessions","Teach informally, during every day work",null,"Planning and preparation for teaching session","Using visual aids",null,null,"Teaching the skills","Giving feedback",{"$nulls":3},"Yes","Yes",null,null,"I occasionally carry out assessment during the residency program (Direct Observation of Procedural Skills - DOPS)","I give feedback during simulation sessions","I give feedback during everyday work","I am involved in other forms of formative assessment (for example multisource feedback)",{"$nulls":5},"No, it is assumed as being a part of everyday work",null,"Lack of training","Lack of time",null,"No recognition","Overloaded with work",null,"Lack of organization",{"$nulls":3},"Yes","Yes, I am well informed","Yes","No",null,"Content based curriculum",null,"National body responsible for education (Ministry of health or education, National board for anaesthesia …)","They just have to complete the residency program (3-5 years)"]
[12939429414,408998795,"2021-09-03T06:27:30","2021-09-24T12:47:50","185.161.118.125",{"$nulls":4},"50+","Male","Spain","Spain","Europe","over 20 years",4,"Chief of Department","General hospital","No (please refer to Q21)",{"$nulls":50},"I work in a non-teaching hospital"]
[12939435420,408998795,"2021-09-03T06:33:35","2021-09-24T12:45:47","185.161.118.125",{"$nulls":4},"50+","Male","Spain","Spain","Europe","over 20 years",4,"Chief of Department","General hospital","No (please refer to Q21)"]
[12939427697,408998795,"2021-09-03T06:27:02","2021-09-23T19:19:38","176.83.201.186",{"$nulls":4},"50+","Female","Spain","Spain","Europe","over 20 years",4,"Chief of Department","Academic hospital (Teaching or University related)","Yes (please refer to Q10)","Almost every day","over 16",{"$nulls":3},"Other short TTT courses","Advanced Life Support (ALS), Basic Life Support (BLS) or other specific courses","Simulation courses",null,null,"Yes",{"$nulls":3},"Running clinical case discussions",{"$nulls":3},"Planning and preparation for teaching session","Using visual aids","Interactive teaching",null,"Teaching the skills",{"$nulls":4},"Yes","Yes","I am an examiner for the final exam",null,"I occasionally carry out assessment during the residency program (Direct Observation of Procedural Skills - DOPS)","I give feedback during simulation sessions","I give feedback during everyday work",{"$nulls":3},"Yes, I am paid more","Yes, it is recognised for promotion in academia.",null,"No, it is assumed as being a part of everyday work",null,null,"Lack of time",null,null,"Overloaded with work",null,"Lack of organization",{"$nulls":3},"Yes","Yes, I am well informed","Yes","I am not sure",null,"Competency (outcome) based curriculum",null,"National body responsible for education (Ministry of health or education, National board for anaesthesia …)","They have to pass EDAIC part I",null,"Other (please specify)"]
[12939411738,408998795,"2021-09-03T06:13:54","2021-09-23T14:50:15","83.43.107.56",{"$nulls":4},"41-50","Female","Spain","Spain","Europe","5-10",4,"Specialist","Academic hospital (Teaching or University related)","Yes (please refer to Q10)"]
[12939424579,408998795,"2021-09-03T06:23:57","2021-09-03T06:29:45","157.47.243.89",{"$nulls":4},"36-40","Male","India","India","Asia","5-10",3,"Senior specialist","Private hospital","No (please refer to Q21)",{"$nulls":52},"Yes","I do not know much","No","Yes","09/01/2021","I do not know",null,"Department of anaesthesiology","They have to pass a university board exam",null,"Written, oral examination and some practical assessment"]
[12939397800,408998795,"2021-09-03T06:02:39","2021-09-23T12:24:36","79.108.81.205",{"$nulls":4},"36-40","Female","Spain","Spain","Europe","11-15",4,"Specialist","Academic hospital (Teaching or University related)","Yes (please refer to Q10)","When in the operating theater (always have an allocated resident)","Less than 5",{"$nulls":5},"Simulation courses",null,null,"No",null,null,"Perform work-based interactive teaching (operating room)",null,"Involved in simulation sessions",{"$nulls":4},"Interactive teaching",null,null,"Giving feedback",{"$nulls":3},"No","No",{"$nulls":3},"I give feedback during simulation sessions",{"$nulls":8},"No",null,"Lack of time",null,"No recognition","Overloaded with work",{"$nulls":5},"No","I know what is it, but outcome-based education is not implemented in my country","No","No",null,"Competency (outcome) based curriculum",null,"I do not know","They just have to complete the residency program (3-5 years)"]
[12939373709,408998795,"2021-09-03T05:43:29","2021-09-23T11:56:44","90.166.159.85",{"$nulls":4},"25-30","Male","Spain","Spain","Europe","5-10",4,"Senior resident","Academic hospital (Teaching or University related)","Yes (please refer to Q10)","Once a week","Less than 5",{"$nulls":4},"Advanced Life Support (ALS), Basic Life Support (BLS) or other specific courses","Simulation courses",null,null,"Yes, some elements, but not systematically",null,"I give lectures","Perform work-based interactive teaching (operating room)",null,"Involved in simulation sessions","Teach informally, during every day work",null,"Planning and preparation for teaching session","Using visual aids","Interactive teaching","Problem based learning","Teaching the skills","Giving feedback","Organizing and leading the discussions",null,null,"No","No",{"$nulls":3},"I give feedback during simulation sessions","I give feedback during everyday work",{"$nulls":6},"No, it is assumed as being a part of everyday work",null,"Lack of training","Lack of time",null,null,"Overloaded with work",null,"Lack of organization",{"$nulls":3},"Yes","I have some ideas, but it is not clear to me","No","No",null,"Classic surgical specialties based curriculum",null,"National body responsible for education (Ministry of health or education, National board for anaesthesia …)","They just have to complete the residency program (3-5 years)"]
[12939352091,408998795,"2021-09-03T05:25:59","2021-09-03T05:32:24","106.202.29.75",{"$nulls":4},"31-35","Male","India","India","Asia","5-10",3,"Specialist","General hospital","No (please refer to Q21)",{"$nulls":50},"I work in a non-teaching hospital",null,"Yes","I have some ideas, but it is not clear to me","Yes","Yes","01/01/1985","Content based curriculum",null,"University","They have to pass a university board exam",null,"VIVA (Oral examination), written and OSCE examination"]
[12939350251,408998795,"2021-09-03T05:23:55","2021-09-23T11:23:31","176.83.92.220",{"$nulls":4},"41-50","Female","Spain","Spain","Europe","16-20",4,"Specialist","Academic hospital (Teaching or University related)","Yes (please refer to Q10)","Once a week","6-10",{"$nulls":6},"None",null,"Yes, some elements, but not systematically",null,"I give lectures","Perform work-based interactive teaching (operating room)",null,null,"Teach informally, during every day work",null,"Planning and preparation for teaching session",null,null,"Problem based learning",null,"Giving feedback",null,"Organizing specific sessions (journal clubs, interactive sessions, pro and con debate…)",null,"Yes","Yes",{"$nulls":3},"I give feedback during simulation sessions","I give feedback during everyday work","I am involved in other forms of formative assessment (for example multisource feedback)",{"$nulls":5},"No, it is assumed as being a part of everyday work",null,"Lack of training","Lack of time",null,null,"Overloaded with work",null,"Lack of organization"]
[12939306403,408998795,"2021-09-03T04:50:20","2021-09-23T11:14:50","47.60.37.71",{"$nulls":4},"36-40","Female","Spain","Spain","Europe","11-15",4,"Lecturer","Academic hospital (Teaching or University related)","Yes (please refer to Q10)","Once a week","Less than 5",{"$nulls":6},"None",null,"No",{"$nulls":3},"Running clinical case discussions",{"$nulls":3},"Planning and preparation for teaching session",null,null,"Problem based learning",null,null,"Organizing and leading the discussions",null,null,"Yes","No",{"$nulls":5},"I am involved in other forms of formative assessment (for example multisource feedback)",{"$nulls":4},"Yes, I have a more visible position in the department",null,null,"Lack of training","Lack of time",null,null,"Overloaded with work",null,"Lack of organization",{"$nulls":3},"I do not know","I know what is it, but outcome-based education is not implemented in my country","No","No"]
[12939270344,408998795,"2021-09-03T04:26:00","2021-09-03T04:31:11","27.57.127.48",{"$nulls":4},"50+","Female","India","India","Asia","over 20 years",3,"Chief of Department","Academic hospital (Teaching or University related)","Yes (please refer to Q10)","Almost every day","over 16",null,"Obligatory teaching courses for University teachers",null,null,"Advanced Life Support (ALS), Basic Life Support (BLS) or other specific courses",{"$nulls":3},"Yes",null,"I give lectures","Perform work-based interactive teaching (operating room)","Running clinical case discussions","Involved in simulation sessions","Teach informally, during every day work",null,"Planning and preparation for teaching session","Using visual aids","Interactive teaching","Problem based learning",null,"Giving feedback","Organizing and leading the discussions","Organizing specific sessions (journal clubs, interactive sessions, pro and con debate…)",null,"No","Yes","I am an examiner for the final exam",{"$nulls":4},"I am involved in other forms of formative assessment (for example multisource feedback)",{"$nulls":5},"No, it is assumed as being a part of everyday work",null,null,"Lack of time",null,null,"Overloaded with work",null,"Lack of organization","Lack of faculty ",null,null,"I do not know","I have some ideas, but it is not clear to me","No","I am not sure",null,"Content based curriculum",null,"National body responsible for education (Ministry of health or education, National board for anaesthesia …)","Other (please specify)","Pass interview","It is only oral examination"]
[12939244720,408998795,"2021-09-03T04:07:03","2021-09-23T11:06:02","176.87.52.51",{"$nulls":4},"41-50","Female","Colombia","Spain","Europe","16-20",3,"Specialist","Specialized clinic","No (please refer to Q21)",{"$nulls":50},"I work in a non-teaching hospital"]
[12939236294,408998795,"2021-09-03T04:01:34","2021-09-03T04:10:19","71.192.163.221",{"$nulls":4},"41-50","Male","Israel","United States of America","North America","5-10",5,"Specialist","Academic hospital (Teaching or University related)","Yes (please refer to Q10)","Once a week","Less than 5",{"$nulls":3},"Other short TTT courses","Advanced Life Support (ALS), Basic Life Support (BLS) or other specific courses",{"$nulls":3},"No",null,"I give lectures","Perform work-based interactive teaching (operating room)","Running clinical case discussions",null,"Teach informally, during every day work",null,"Planning and preparation for teaching session","Using visual aids","Interactive teaching","Problem based learning",null,"Giving feedback",{"$nulls":3},"Yes","Yes",{"$nulls":4},"I give feedback during everyday work",{"$nulls":4},"Yes, it is recognised for promotion in academia.","Yes, I have a more visible position in the department",null,null,"Lack of training","Lack of time",null,"No recognition",null,"Lack of opportunity","Lack of organization",{"$nulls":3},"Yes","Yes, I am well informed","Yes","No","09/02/2021","Content based curriculum",null,"National body responsible for education (Ministry of health or education, National board for anaesthesia …)","They have to pass a national board exam",null,"Written and oral examination, but also OSCE (Objective Structured Clinical Examination)"]
[12939231773,408998795,"2021-09-03T03:56:09","2021-09-23T10:13:26","176.83.233.26",{"$nulls":4},"50+","Male","Italy","Spain","Europe","over 20 years",5,"Senior specialist","Private hospital","Yes (please refer to Q10)","When in the operating theater (always have an allocated resident)","over 16",{"$nulls":4},"Advanced Life Support (ALS), Basic Life Support (BLS) or other specific courses",{"$nulls":3},"No",null,"I give lectures","Perform work-based interactive teaching (operating room)",null,null,"Teach informally, during every day work",null,null,"Using visual aids",null,"Problem based learning","Teaching the skills","Giving feedback",{"$nulls":3},"Yes","Yes",null,"I am European Diploma in Anaesthesia and Intensive Care (EDAIC) part II examiner","I occasionally carry out assessment during the residency program (Direct Observation of Procedural Skills - DOPS)",null,"I give feedback during everyday work",{"$nulls":7},"No",null,"Lack of time",null,"No recognition","Overloaded with work",{"$nulls":3},"I work in a non-teaching hospital",null,"I do not know","I do not know much","No","I am not sure",null,"I do not know",null,"I do not know","They just have to complete the residency program (3-5 years)",null,"Written and oral examination"]
[12939210019,408998795,"2021-09-03T03:44:44","2021-09-23T10:12:16","31.221.192.127",{"$nulls":4},"36-40","Female","Spain","Spain","Europe","11-15",4,"Specialist","General hospital","Yes (please refer to Q10)",{"$nulls":33},"I give feedback during everyday work","I am involved in other forms of formative assessment (for example multisource feedback)",null,"I tutorize residents, we develope clínicas sessions, reviews,…",{"$nulls":3},"No, it is assumed as being a part of everyday work",null,null,"Lack of time",null,"No recognition","Overloaded with work",null,"Lack of organization",{"$nulls":3},"Yes","I have some ideas, but it is not clear to me","I am not sure","Yes",null,"Competency (outcome) based curriculum",null,"National body responsible for education (Ministry of health or education, National board for anaesthesia …)","They just have to complete the residency program (3-5 years)"]
[12939214876,408998795,"2021-09-03T03:47:07","2021-09-03T03:52:51","223.181.146.138",{"$nulls":4},"36-40","Female","India","India","Asia","5-10",3,"Lecturer","Private hospital","No (please refer to Q21)",{"$nulls":50},"Other (please specify)","We are a new hospital in process of  becoming teaching hospital","I do not know","I have no knowledge of what it is","No","I am not sure",null,"Classic surgical specialties based curriculum",null,"University","They have to pass a university board exam",null,"Written and oral examination, but also OSCE (Objective Structured Clinical Examination)"]
[12939182391,408998795,"2021-09-03T03:26:23","2021-09-03T03:29:04","197.250.226.61",{"$nulls":4},"31-35","Female","United Republic of Tanzania","United Republic of Tanzania","Africa","5-10",4,"Specialist","Academic hospital (Teaching or University related)","Yes (please refer to Q10)"]
[12939145199,408998795,"2021-09-03T03:04:27","2021-09-03T03:16:45","197.252.209.209",{"$nulls":4},"31-35","Female","Sudan","Sudan","Africa","5-10",4,"Specialist","Private hospital","Yes (please refer to Q10)","When in the operating theater (always have an allocated resident)","Less than 5",{"$nulls":6},"None",null,"No",null,"I give lectures","Perform work-based interactive teaching (operating room)","Running clinical case discussions","Involved in simulation sessions","Teach informally, during every day work",null,"Planning and preparation for teaching session",null,"Interactive teaching","Problem based learning","Teaching the skills","Giving feedback","Organizing and leading the discussions",null,null,"Yes","Yes",{"$nulls":6},"I am not involved in any kind of assessment",{"$nulls":4},"No, it is assumed as being a part of everyday work",null,"Lack of training",{"$nulls":4},"Lack of opportunity","Lack of organization",{"$nulls":3},"Yes","I have some ideas, but it is not clear to me","No","I am not sure",null,"I do not know",null,"Department of anaesthesiology","They just have to complete the residency program (3-5 years)",null,"VIVA (Oral examination), written and OSCE examination"]
[12939132266,408998795,"2021-09-03T02:56:17","2021-09-03T03:10:36","211.51.238.66",{"$nulls":4},"50+","Male","Republic of Korea","Republic of Korea","Asia","over 20 years",4,"Teacher (in University)","Academic hospital (Teaching or University related)","Yes (please refer to Q10)","Every day",{"$nulls":8},"almost every thing, from cardiac to respiratory, even,  pain  and research  ","Yes",null,"I give lectures","Perform work-based interactive teaching (operating room)","Running clinical case discussions","Involved in simulation sessions","Teach informally, during every day work",null,"Planning and preparation for teaching session","Using visual aids","Interactive teaching","Problem based learning","Teaching the skills","Giving feedback","Organizing and leading the discussions","Organizing specific sessions (journal clubs, interactive sessions, pro and con debate…)",null,"Yes","Yes",{"$nulls":6},"I am not involved in any kind of assessment",{"$nulls":4},"No, it is assumed as being a part of everyday work",null,"Lack of training","Lack of time","Lack of motivation",null,"Overloaded with work","Lack of opportunity","Lack of organization",{"$nulls":3},"Yes","I have some ideas, but it is not clear to me","No","I am not sure",null,"I do not know",null,"Society or association of anaesthesiology","They have to pass a national board exam"]
[12938988984,408998795,"2021-09-03T01:46:49","2021-09-03T02:59:29","1.129.21.119",{"$nulls":4},"41-50","Male","Australia","Australia","Australia and Oceania","16-20",5,"Senior specialist","Academic hospital (Teaching or University related)","Yes (please refer to Q10)","Almost every day","over 16",{"$nulls":4},"Advanced Life Support (ALS), Basic Life Support (BLS) or other specific courses","Simulation courses",null,null,"Yes, some elements, but not systematically",null,"I give lectures","Perform work-based interactive teaching (operating room)","Running clinical case discussions","Involved in simulation sessions","Teach informally, during every day work",{"$nulls":3},"Interactive teaching",null,"Teaching the skills","Giving feedback","Organizing and leading the discussions",null,null,"Yes","Yes",null,null,"I occasionally carry out assessment during the residency program (Direct Observation of Procedural Skills - DOPS)","I give feedback during simulation sessions",null,"I am involved in other forms of formative assessment (for example multisource feedback)",null,"Supervisor of training for thoracic module",null,null,"Yes, I have a more visible position in the department",{"$nulls":3},"Lack of time",null,null,"Overloaded with work",{"$nulls":6},"I do not know much","No","I am not sure",null,"Competency (outcome) based curriculum",null,"Society or association of anaesthesiology","Other (please specify)","Board exam plus competency in speciality areas","Written and oral examination"]
[12939104418,408998795,"2021-09-03T02:41:37","2021-09-23T09:56:40","90.167.190.128",{"$nulls":4},"50+","Female","Spain","Spain","Europe","over 20 years",4,"Senior specialist","Academic hospital (Teaching or University related)","Yes (please refer to Q10)","Almost every day","11-15",{"$nulls":4},"Advanced Life Support (ALS), Basic Life Support (BLS) or other specific courses","Simulation courses",null,null,"No",null,"I give lectures",{"$nulls":3},"Teach informally, during every day work",null,null,"Using visual aids","Interactive teaching",null,"Teaching the skills",{"$nulls":4},"No","No",{"$nulls":4},"I give feedback during everyday work",{"$nulls":6},"No, it is assumed as being a part of everyday work",null,"Lack of training","Lack of time","Lack of motivation","No recognition","Overloaded with work","Lack of opportunity","Lack of organization",null,"I work with residents, but I do not see that as teaching",null,"No","I have no knowledge of what it is","I am not sure","I am not sure",null,"Other (please specify)","Normalized curriculum vitae","I do not know","They just have to complete the residency program (3-5 years)",null,"It is only oral examination"]
[12939062560,408998795,"2021-09-03T02:20:18","2021-09-03T02:26:34","187.40.88.40",{"$nulls":4},"36-40","Male","Brazil","Brazil","South America","5-10",3,"Specialist","Academic hospital (Teaching or University related)","Yes (please refer to Q10)","When in the operating theater (always have an allocated resident)","Less than 5","Master in Medical Education",{"$nulls":7},"No",null,null,"Perform work-based interactive teaching (operating room)",{"$nulls":11},"Organizing specific sessions (journal clubs, interactive sessions, pro and con debate…)",null,"Yes","Yes",{"$nulls":5},"I am involved in other forms of formative assessment (for example multisource feedback)",{"$nulls":3},"Yes, it is recognised for promotion in academia.",{"$nulls":5},"Lack of motivation",{"$nulls":7},"Yes","Yes, I am well informed","I am not sure","No","09/02/2021","Classic surgical specialties based curriculum",null,"National body responsible for education (Ministry of health or education, National board for anaesthesia …)","They have to pass a national board exam",null,"Written and oral examination"]
[12939069689,408998795,"2021-09-03T02:23:11","2021-09-03T02:25:02","118.137.23.115",{"$nulls":4},"50+","Female","Indonesia","Indonesia","Asia","over 20 years",4,"Senior specialist","Academic hospital (Teaching or University related)","Yes (please refer to Q10)"]
[12938932725,408998795,"2021-09-03T01:23:47","2021-09-03T01:40:31","182.2.166.54",{"$nulls":4},"50+","Male","Indonesia","Indonesia","Asia","over 20 years",4,"Teacher (in University)","Academic hospital (Teaching or University related)","Yes (please refer to Q10)","Almost every day","over 16",null,"Obligatory teaching courses for University teachers",{"$nulls":3},"Simulation courses",null,null,"Yes, some elements, but not systematically",null,"I give lectures","Perform work-based interactive teaching (operating room)","Running clinical case discussions","Involved in simulation sessions","Teach informally, during every day work",null,null,"Using visual aids","Interactive teaching","Problem based learning","Teaching the skills","Giving feedback","Organizing and leading the discussions","Organizing specific sessions (journal clubs, interactive sessions, pro and con debate…)",null,"No","Yes","I am an examiner for the final exam",null,"I occasionally carry out assessment during the residency program (Direct Observation of Procedural Skills - DOPS)","I give feedback during simulation sessions","I give feedback during everyday work","I am involved in other forms of formative assessment (for example multisource feedback)",{"$nulls":5},"No, it is assumed as being a part of everyday work",null,null,"Lack of time",null,"No recognition",{"$nulls":6},"Yes","Yes, I am well informed","No","Yes","01/01/2004","Competency (outcome) based curriculum",null,"University","They have to pass a national board exam",null,"Written and oral examination, but also OSCE (Objective Structured Clinical Examination)"]
[12938963600,408998795,"2021-09-03T01:08:29","2021-09-23T09:47:44","83.50.35.218",{"$nulls":4},"50+","Male","Spain","Spain","Europe","over 20 years",4,"Teacher (in University)","Academic hospital (Teaching or University related)","Yes (please refer to Q10)","Almost every day","over 16","Master in Medical Education",{"$nulls":7},"No",null,"I give lectures","Perform work-based interactive teaching (operating room)","Running clinical case discussions","Involved in simulation sessions","Teach informally, during every day work",null,"Planning and preparation for teaching session","Using visual aids","Interactive teaching",null,"Teaching the skills","Giving feedback","Organizing and leading the discussions","Organizing specific sessions (journal clubs, interactive sessions, pro and con debate…)",null,"Yes","Yes","I am an examiner for the final exam",null,"I occasionally carry out assessment during the residency program (Direct Observation of Procedural Skills - DOPS)","I give feedback during simulation sessions","I give feedback during everyday work","I am involved in other forms of formative assessment (for example multisource feedback)",null,null,"Yes, I am paid more","Yes, it is recognised for promotion in academia.","Yes, I have a more visible position in the department",{"$nulls":3},"Lack of time",null,null,"Overloaded with work",{"$nulls":5},"Yes","Yes, I am well informed","Yes","No",null,"Classic surgical specialties based curriculum",null,"National body responsible for education (Ministry of health or education, National board for anaesthesia …)","They just have to complete the residency program (3-5 years)"]
[12938881545,408998795,"2021-09-03T01:03:50","2021-09-23T09:07:53","31.221.183.218",{"$nulls":4},"41-50","Female","Portugal","Spain","Europe","16-20",3,"Specialist","General hospital","No (please refer to Q21)",{"$nulls":50},"I work in a non-teaching hospital"]
[12938847310,408998795,"2021-09-03T00:51:05","2021-09-23T08:15:05","213.0.53.55",{"$nulls":4},"31-35","Female","Spain","Spain","Europe","5-10",4,"Specialist","Academic hospital (Teaching or University related)","No (please refer to Q21)"]
[12938797825,408998795,"2021-09-03T00:33:58","2021-09-16T18:11:25","82.159.201.132",{"$nulls":4},"50+","Female","Spain","Spain","Europe","over 20 years",4,"Senior specialist","Academic hospital (Teaching or University related)","Yes (please refer to Q10)","Every day","over 16",{"$nulls":6},"None",null,"No",null,"I give lectures","Perform work-based interactive teaching (operating room)",null,"Involved in simulation sessions","Teach informally, during every day work",null,null,"Using visual aids",{"$nulls":3},"Giving feedback",null,"Organizing specific sessions (journal clubs, interactive sessions, pro and con debate…)",null,"No","No",{"$nulls":4},"I give feedback during everyday work",{"$nulls":6},"No, it is assumed as being a part of everyday work",null,"Lack of training","Lack of time","Lack of motivation","No recognition","Overloaded with work",{"$nulls":5},"No","I have some ideas, but it is not clear to me","No","I am not sure",null,"Classic surgical specialties based curriculum",null,"Department of anaesthesiology","They just have to complete the residency program (3-5 years)"]
[12938760405,408998795,"2021-09-03T00:20:42","2021-09-12T16:03:43","37.133.109.43",{"$nulls":4},"31-35","Female","Dominican Republic","Spain","Europe","5-10",4,"Specialist","Private hospital","Yes (please refer to Q10)"]
[12938703704,408998795,"2021-09-02T23:58:06","2021-09-10T20:38:06","176.87.1.164",{"$nulls":4},"25-30","Male","Spain","Spain","Europe","5-10",4,"Specialist","Academic hospital (Teaching or University related)","Yes (please refer to Q10)","Once a week","Less than 5",{"$nulls":4},"Advanced Life Support (ALS), Basic Life Support (BLS) or other specific courses","Simulation courses",null,null,"Yes, some elements, but not systematically",null,"I give lectures",{"$nulls":3},"Teach informally, during every day work",{"$nulls":5},"Teaching the skills","Giving feedback",{"$nulls":3},"No","No",{"$nulls":4},"I give feedback during everyday work",{"$nulls":6},"No, it is assumed as being a part of everyday work",null,"Lack of training","Lack of time",null,"No recognition","Overloaded with work",null,"Lack of organization",{"$nulls":3},"Yes","I know what is it, but outcome-based education is not implemented in my country","No","I am not sure",null,"Competency (outcome) based curriculum",null,"National body responsible for education (Ministry of health or education, National board for anaesthesia …)","They just have to complete the residency program (3-5 years)"]
[12938679733,408998795,"2021-09-02T23:49:52","2021-09-07T12:46:16","84.78.250.158",{"$nulls":4},"41-50","Male","Slovakia","Spain","Europe","over 20 years","Over 5","Specialist","General hospital","No (please refer to Q21)",{"$nulls":50},"I work in a non-teaching hospital"]
[12938675561,408998795,"2021-09-02T23:48:17","2021-09-06T21:27:51","217.12.22.179",{"$nulls":4},"41-50","Female","Spain","Spain","Europe","over 20 years",4,"Senior specialist","Academic hospital (Teaching or University related)","Yes (please refer to Q10)","Every day","over 16",{"$nulls":6},"None",null,"No, but students are exposed to outcome based teaching",null,"I give lectures","Perform work-based interactive teaching (operating room)","Running clinical case discussions",{"$nulls":3},"Planning and preparation for teaching session","Using visual aids",{"$nulls":5},"Organizing specific sessions (journal clubs, interactive sessions, pro and con debate…)",null,"No","No",{"$nulls":5},"I am involved in other forms of formative assessment (for example multisource feedback)",{"$nulls":5},"No, it is assumed as being a part of everyday work",{"$nulls":4},"No recognition",{"$nulls":6},"Yes","I know what is it, but outcome-based education is not implemented in my country","Yes","Yes",null,"Competency (outcome) based curriculum",null,"National body responsible for education (Ministry of health or education, National board for anaesthesia …)","They just have to complete the residency program (3-5 years)"]
[12938682829,408998795,"2021-09-02T23:50:36","2021-09-06T14:20:09","186.22.19.58",{"$nulls":4},"41-50","Male","Argentina","Spain","Europe","11-15",4,"Specialist","Private hospital","No (please refer to Q21)",{"$nulls":50},"I work in a non-teaching hospital",null,"I do not know","I have some ideas, but it is not clear to me","I am not sure","I am not sure",null,"Competency (outcome) based curriculum",null,"Society or association of anaesthesiology","They have to pass a national board exam",null,"Written and oral examination, but also OSCE (Objective Structured Clinical Examination)"]
[12938635227,408998795,"2021-09-02T23:31:43","2021-09-06T09:49:05","213.143.48.251",{"$nulls":4},"41-50","Female","Italy","Spain","Europe","11-15",4,"Specialist","Academic hospital (Teaching or University related)","Yes (please refer to Q10)","Almost every day","6-10",{"$nulls":6},"None",null,"Yes, some elements, but not systematically",null,null,"Perform work-based interactive teaching (operating room)","Running clinical case discussions",null,"Teach informally, during every day work",null,null,"Using visual aids","Interactive teaching","Problem based learning","Teaching the skills","Giving feedback","Organizing and leading the discussions",null,null,"No","No",{"$nulls":4},"I give feedback during everyday work",{"$nulls":3},"Yes, I am paid more",{"$nulls":4},"Lack of training",{"$nulls":5},"Lack of organization",{"$nulls":3},"No","I have no knowledge of what it is","No","No",null,"I do not know",null,"I do not know","They have to pass a university board exam",null,"Written and oral examination"]
[12938639523,408998795,"2021-09-02T23:33:01","2021-09-04T10:29:28","91.197.120.154",{"$nulls":4},"41-50","Female","Peru","Spain","Europe","over 20 years",3,"Specialist","General hospital","No (please refer to Q21)",{"$nulls":50},"I am not employed by the university",null,"Yes","I have some ideas, but it is not clear to me","I am not sure","Yes",null,"Classic surgical specialties based curriculum",null,"Hospital administration","They have to pass a national board exam",null,"Written and oral examination"]
[12938495123,408998795,"2021-09-02T22:39:26","2021-09-02T23:30:09","186.11.98.100",{"$nulls":4},"41-50","Female","Chile","Chile","South America","over 20 years",3,"Teacher (in University)","Academic hospital (Teaching or University related)","Yes (please refer to Q10)","Almost every day","11-15",null,"Obligatory teaching courses for University teachers",null,"Other short TTT courses","Advanced Life Support (ALS), Basic Life Support (BLS) or other specific courses",{"$nulls":3},"Yes, some elements, but not systematically",null,"I give lectures","Perform work-based interactive teaching (operating room)",null,null,"Teach informally, during every day work","Ecography and airway  traibing",null,"Using visual aids","Interactive teaching",null,"Teaching the skills","Giving feedback",{"$nulls":3},"No","Yes",null,null,"I occasionally carry out assessment during the residency program (Direct Observation of Procedural Skills - DOPS)",null,"I give feedback during everyday work","I am involved in other forms of formative assessment (for example multisource feedback)",null,null,"Yes, I am paid more","Yes, it is recognised for promotion in academia.",{"$nulls":7},"Overloaded with work",{"$nulls":5},"Yes","I have some ideas, but it is not clear to me","No","Yes","01/04/2015","Competency (outcome) based curriculum",null,"National body responsible for education (Ministry of health or education, National board for anaesthesia …)","They have to pass a university board exam",null,"Written, oral examination and some practical assessment"]
[12938340168,408998795,"2021-09-02T21:30:05","2021-09-02T23:15:23","37.39.141.212",{"$nulls":4},"31-35","Male","Egypt","Egypt","Africa","11-15",4,"Specialist","General hospital","Yes (please refer to Q10)","When in the operating theater (always have an allocated resident)","Less than 5",{"$nulls":4},"Advanced Life Support (ALS), Basic Life Support (BLS) or other specific courses",null,null,"Harvard T2T course","Yes, some elements, but not systematically",null,null,"Perform work-based interactive teaching (operating room)","Running clinical case discussions","Involved in simulation sessions",{"$nulls":3},"Using visual aids","Interactive teaching","Problem based learning","Teaching the skills","Giving feedback",{"$nulls":3},"No","Yes",null,null,"I occasionally carry out assessment during the residency program (Direct Observation of Procedural Skills - DOPS)","I give feedback during simulation sessions","I give feedback during everyday work",{"$nulls":5},"Yes, I have a more visible position in the department",{"$nulls":3},"Lack of time",null,"No recognition","Overloaded with work",{"$nulls":5},"No","I do not know much","No","I am not sure",null,"Content based curriculum",null,"I do not know","They have to pass a national board exam",null,"VIVA (Oral examination), written and OSCE examination"]
[12938570504,408998795,"2021-09-02T23:04:34","2021-09-03T11:40:02","212.4.121.175",{"$nulls":4},"31-35","Male","Spain","Spain","Europe","5-10",4,"Specialist","Private hospital","No (please refer to Q21)",{"$nulls":50},"I work in a non-teaching hospital",null,"Yes","I have some ideas, but it is not clear to me","I am not sure","No",null,"Content based curriculum",null,"National body responsible for education (Ministry of health or education, National board for anaesthesia …)","They just have to complete the residency program (3-5 years)"]
[12938569084,408998795,"2021-09-02T23:05:17","2021-09-03T11:16:00","31.4.213.103",{"$nulls":4},"50+","Female","Spain","Spain","Europe","over 20 years",4,"Specialist","Academic hospital (Teaching or University related)","Yes (please refer to Q10)","Almost every day","over 16",{"$nulls":5},"Simulation courses",null,null,"Yes, some elements, but not systematically",null,"I give lectures",{"$nulls":3},"Teach informally, during every day work",{"$nulls":3},"Interactive teaching","Problem based learning",null,"Giving feedback",{"$nulls":3},"No","No",null,null,"I occasionally carry out assessment during the residency program (Direct Observation of Procedural Skills - DOPS)",null,"I give feedback during everyday work",{"$nulls":6},"No, it is assumed as being a part of everyday work",null,"Lack of training","Lack of time","Lack of motivation","No recognition","Overloaded with work",{"$nulls":5},"Yes","I have some ideas, but it is not clear to me","I am not sure","I am not sure",null,"Classic surgical specialties based curriculum",null,"National body responsible for education (Ministry of health or education, National board for anaesthesia …)","They just have to complete the residency program (3-5 years)"]
[12938556598,408998795,"2021-09-02T23:00:04","2021-09-03T07:19:10","77.75.179.2",{"$nulls":4},"50+","Male","Spain","Spain","Europe","over 20 years",4,"Senior specialist","Academic hospital (Teaching or University related)","Yes (please refer to Q10)","Once a week","over 16",{"$nulls":4},"Advanced Life Support (ALS), Basic Life Support (BLS) or other specific courses",{"$nulls":3},"No",null,"I give lectures","Perform work-based interactive teaching (operating room)","Running clinical case discussions",null,"Teach informally, during every day work",null,null,"Using visual aids",null,null,"Teaching the skills",{"$nulls":4},"No","No",null,null,"I occasionally carry out assessment during the residency program (Direct Observation of Procedural Skills - DOPS)",{"$nulls":8},"No, it is assumed as being a part of everyday work",{"$nulls":4},"No recognition","Overloaded with work",{"$nulls":5},"I do not know","I do not know much","No","Yes","01/01/1990","Content based curriculum",null,"Department of anaesthesiology","They just have to complete the residency program (3-5 years)"]
[12938525899,408998795,"2021-09-02T22:43:59","2021-09-03T00:41:10","90.167.254.43",{"$nulls":4},"31-35","Female","Spain","Spain","Europe","5-10",4,"Specialist","Academic hospital (Teaching or University related)","Yes (please refer to Q10)","Almost every day","6-10",{"$nulls":4},"Advanced Life Support (ALS), Basic Life Support (BLS) or other specific courses","Simulation courses",null,null,"No",null,null,"Perform work-based interactive teaching (operating room)","Running clinical case discussions","Involved in simulation sessions","Teach informally, during every day work",null,"Planning and preparation for teaching session",null,null,"Problem based learning",null,"Giving feedback","Organizing and leading the discussions","Organizing specific sessions (journal clubs, interactive sessions, pro and con debate…)",null,"Yes","Yes",null,null,"I occasionally carry out assessment during the residency program (Direct Observation of Procedural Skills - DOPS)","I give feedback during simulation sessions","I give feedback during everyday work",{"$nulls":7},"No","Lack of training","Lack of time",null,"No recognition","Overloaded with work",{"$nulls":5},"Yes","I have some ideas, but it is not clear to me","No","No","09/03/2021","Classic surgical specialties based curriculum",null,"National body responsible for education (Ministry of health or education, National board for anaesthesia …)","They just have to complete the residency program (3-5 years)",null,null,"only written examination"]
[12938558613,408998795,"2021-09-02T23:01:49","2021-09-02T23:06:02","122.56.83.193",{"$nulls":4},"41-50","Male","New Zealand","New Zealand","Australia and Oceania","16-20","Over 5","Specialist","Academic hospital (Teaching or University related)","Yes (please refer to Q10)","Almost every day","over 16",null,"Obligatory teaching courses for University teachers",{"$nulls":6},"No",null,"I give lectures","Perform work-based interactive teaching (operating room)","Running clinical case discussions",null,"Teach informally, during every day work",null,"Planning and preparation for teaching session","Using visual aids","Interactive teaching","Problem based learning",null,"Giving feedback",{"$nulls":3},"Yes","Yes",null,null,"I occasionally carry out assessment during the residency program (Direct Observation of Procedural Skills - DOPS)",null,"I give feedback during everyday work","I am involved in other forms of formative assessment (for example multisource feedback)",{"$nulls":5},"No, it is assumed as being a part of everyday work",null,"Lack of training","Lack of time",null,null,"Overloaded with work",{"$nulls":5},"Yes","I have some ideas, but it is not clear to me","I am not sure","No",null,"Content based curriculum",null,"Society or association of anaesthesiology","They just have to complete the residency program (3-5 years)",null,"VIVA (Oral examination), written and OSCE examination"]
[12938513790,408998795,"2021-09-02T22:46:09","2021-09-02T23:54:59","31.4.236.61",{"$nulls":4},"36-40","Female","Spain","Spain","Europe","11-15",4,"Specialist","General hospital","No (please refer to Q21)",{"$nulls":50},"I work with residents, but I do not see that as teaching",null,"Yes","I have no knowledge of what it is","I am not sure","I am not sure",null,"I do not know",null,"National body responsible for education (Ministry of health or education, National board for anaesthesia …)","They just have to complete the residency program (3-5 years)"]
[12938492489,408998795,"2021-09-02T22:37:48","2021-09-02T23:10:04","79.158.248.208",{"$nulls":4},"50+","Male","Spain","Spain","Europe","over 20 years",4,"Lecturer","Academic hospital (Teaching or University related)","No (please refer to Q21)",{"$nulls":50},"I work with residents, but I do not see that as teaching"]
[12938491371,408998795,"2021-09-02T22:37:16","2021-09-02T22:44:59","31.221.183.58",{"$nulls":4},"41-50","Female","Spain","Spain","Europe","over 20 years",4,"Chief of Department","Private hospital","Yes (please refer to Q10)","When in the operating theater (always have an allocated resident)","over 16",{"$nulls":4},"Advanced Life Support (ALS), Basic Life Support (BLS) or other specific courses",{"$nulls":3},"No",{"$nulls":5},"Teach informally, during every day work",{"$nulls":6},"Giving feedback",{"$nulls":3},"No","No",{"$nulls":4},"I give feedback during everyday work",{"$nulls":6},"No, it is assumed as being a part of everyday work",{"$nulls":3},"Lack of motivation","No recognition",{"$nulls":4},"I work with residents, but I do not see that as teaching",null,"Yes","Yes, I am well informed","No","No",null,"Content based curriculum",null,"I do not know","They just have to complete the residency program (3-5 years)",null,"Other (please specify)","The y do not Pass specific exam"]
[12938484235,408998795,"2021-09-02T22:33:52","2021-09-02T21:39:52","84.78.241.180",{"$nulls":4},"50+","Female","Spain","Spain","Europe","over 20 years",4,"Specialist","Academic hospital (Teaching or University related)","Yes (please refer to Q10)","Every day","over 16",null,"Obligatory teaching courses for University teachers",null,null,"Advanced Life Support (ALS), Basic Life Support (BLS) or other specific courses",{"$nulls":3},"No",null,null,"Perform work-based interactive teaching (operating room)","Running clinical case discussions",{"$nulls":3},"Planning and preparation for teaching session",null,"Interactive teaching",null,"Teaching the skills","Giving feedback","Organizing and leading the discussions",null,null,"No","No",{"$nulls":4},"I give feedback during everyday work","I am involved in other forms of formative assessment (for example multisource feedback)",{"$nulls":5},"No, it is assumed as being a part of everyday work",null,"Lack of training","Lack of time",null,"No recognition","Overloaded with work",{"$nulls":5},"Yes","I know what is it, but outcome-based education is not implemented in my country","Yes","No",null,"Classic surgical specialties based curriculum",null,"Hospital administration","They just have to complete the residency program (3-5 years)",null,"Written and oral examination, but also OSCE (Objective Structured Clinical Examination)"]
[12938468786,408998795,"2021-09-02T22:27:53","2021-09-02T21:33:12","79.159.205.223",{"$nulls":4},"36-40","Male","Spain","Spain","Europe","11-15",4,"Senior specialist","Academic hospital (Teaching or University related)","Yes (please refer to Q10)","Every day","6-10",{"$nulls":4},"Advanced Life Support (ALS), Basic Life Support (BLS) or other specific courses","Simulation courses",null,null,"No",null,"I give lectures","Perform work-based interactive teaching (operating room)","Running clinical case discussions","Involved in simulation sessions","Teach informally, during every day work",null,"Planning and preparation for teaching session",null,null,"Problem based learning","Teaching the skills","Giving feedback","Organizing and leading the discussions","Organizing specific sessions (journal clubs, interactive sessions, pro and con debate…)",null,"Yes","Yes","I am an examiner for the final exam",null,"I occasionally carry out assessment during the residency program (Direct Observation of Procedural Skills - DOPS)","I give feedback during simulation sessions","I give feedback during everyday work",{"$nulls":5},"Yes, I have a more visible position in the department",null,null,"Lack of training","Lack of time",null,"No recognition","Overloaded with work",null,null,"Not paid in money nor time",null,null,"Yes","I have some ideas, but it is not clear to me","No","No",null,"Other (please specify)","Outcome based if that means based on skills gained during the residency ","Society or association of anaesthesiology","They just have to complete the residency program (3-5 years)"]
[12938474342,408998795,"2021-09-02T22:30:41","2021-09-02T20:43:06","85.136.240.126",{"$nulls":4},"41-50","Male","United Kingdom of Great Britain and Northern Ireland","Spain","Europe","16-20","Over 5","Senior specialist","Academic hospital (Teaching or University related)","Yes (please refer to Q10)","Almost every day","6-10",{"$nulls":3},"Other short TTT courses","Advanced Life Support (ALS), Basic Life Support (BLS) or other specific courses","Simulation courses",null,null,"No",{"$nulls":5},"Teach informally, during every day work",null,"Planning and preparation for teaching session",null,null,"Problem based learning",null,"Giving feedback",{"$nulls":3},"No","No",null,"I am European Diploma in Anaesthesia and Intensive Care (EDAIC) part II examiner",null,null,"I give feedback during everyday work",{"$nulls":7},"No",null,"Lack of time",null,"No recognition",null,"Lack of opportunity",null,"The training programme is poorly organised in Spain ","Other (please specify)","Due to improper organisation of training ","I do not know","Yes, I am well informed","Yes","I am not sure","07/01/2020","I do not know",null,"I do not know","They just have to complete the residency program (3-5 years)",null,"Other (please specify)"]
[12938470460,408998795,"2021-09-02T22:28:09","2021-09-02T20:39:06","31.4.143.27",{"$nulls":4},"36-40","Female","Spain","Spain","Europe","11-15",4,"Senior specialist","Private hospital","Yes (please refer to Q10)",{"$nulls":30},"I am European Diploma in Anaesthesia and Intensive Care (EDAIC) part II examiner",null,"I give feedback during simulation sessions",{"$nulls":8},"No",{"$nulls":3},"No recognition","Overloaded with work","Lack of opportunity",null,null,"I work in a non-teaching hospital",null,"Yes","Yes, I am well informed","Yes","No",null,"Classic surgical specialties based curriculum",null,"National body responsible for education (Ministry of health or education, National board for anaesthesia …)","Other (please specify)","No exam at all"]
[12938447827,408998795,"2021-09-02T22:18:16","2021-09-02T19:18:17","31.4.181.234",{"$nulls":4},"41-50","Female","Colombia","Spain","Europe","5-10",4,"Specialist","Academic hospital (Teaching or University related)","Yes (please refer to Q10)","When in the operating theater (always have an allocated resident)","6-10",{"$nulls":4},"Advanced Life Support (ALS), Basic Life Support (BLS) or other specific courses",{"$nulls":3},"No",null,null,"Perform work-based interactive teaching (operating room)",null,null,"Teach informally, during every day work",null,"Planning and preparation for teaching session","Using visual aids","Interactive teaching","Problem based learning","Teaching the skills","Giving feedback",{"$nulls":3},"No","Yes",null,"I am European Diploma in Anaesthesia and Intensive Care (EDAIC) part II examiner","I occasionally carry out assessment during the residency program (Direct Observation of Procedural Skills - DOPS)",null,"I give feedback during everyday work",{"$nulls":6},"No, it is assumed as being a part of everyday work",null,"Lack of training","Lack of time",null,"No recognition","Overloaded with work",null,"Lack of organization",{"$nulls":3},"I do not know","I do not know much","No","I am not sure",null,"I do not know",null,"I do not know","They just have to complete the residency program (3-5 years)"]
[12938451474,408998795,"2021-09-02T22:18:03","2021-09-02T22:21:39","49.217.130.97",{"$nulls":4},"31-35","Female",{"$nulls":3},"5-10",4,null,"Academic hospital (Teaching or University related)","Yes (please refer to Q10)"]
[12938449066,408998795,"2021-09-02T22:19:18","2021-09-02T18:58:54","92.185.153.216",{"$nulls":4},"50+","Male","Spain","Spain","Europe","over 20 years",4,"Senior specialist","Academic hospital (Teaching or University related)","Yes (please refer to Q10)","Every day","over 16",{"$nulls":4},"Advanced Life Support (ALS), Basic Life Support (BLS) or other specific courses","Simulation courses",null,null,"No",{"$nulls":3},"Running clinical case discussions","Involved in simulation sessions","Teach informally, during every day work",{"$nulls":4},"Problem based learning","Teaching the skills",null,null,"Organizing specific sessions (journal clubs, interactive sessions, pro and con debate…)",null,"No","No",{"$nulls":4},"I give feedback during everyday work",{"$nulls":6},"No, it is assumed as being a part of everyday work",null,"Lack of training",{"$nulls":5},"Lack of organization",{"$nulls":3},"Yes","I do not know much","No","No",null,"Classic surgical specialties based curriculum",null,"National body responsible for education (Ministry of health or education, National board for anaesthesia …)","They just have to complete the residency program (3-5 years)"]
[12938415652,408998795,"2021-09-02T22:04:09","2021-09-02T22:13:46","190.121.16.106",{"$nulls":4},"50+","Male","Chile","Chile","South America","over 20 years",3,"Teacher (in University)","Academic hospital (Teaching or University related)","Yes (please refer to Q10)","Every day","over 16",{"$nulls":4},"Advanced Life Support (ALS), Basic Life Support (BLS) or other specific courses",{"$nulls":3},"Yes",null,"I give lectures","Perform work-based interactive teaching (operating room)",null,"Involved in simulation sessions",{"$nulls":4},"Interactive teaching",null,null,"Giving feedback",null,"Organizing specific sessions (journal clubs, interactive sessions, pro and con debate…)",null,"Yes","Yes","I am an examiner for the final exam",null,null,"I give feedback during simulation sessions","I give feedback during everyday work",{"$nulls":6},"No, it is assumed as being a part of everyday work",{"$nulls":3},"Lack of motivation",null,"Overloaded with work",null,"Lack of organization",{"$nulls":3},"Yes","Yes, I am well informed","No","No",null,"Content based curriculum",null,"University","They just have to complete the residency program (3-5 years)",null,"Written, oral examination and some practical assessment"]
[12938409613,408998795,"2021-09-02T22:00:21","2021-09-02T18:43:00","79.148.247.76",{"$nulls":4},"50+","Female","Spain","Spain","Europe","over 20 years",4,"Chief of Department","Academic hospital (Teaching or University related)","Yes (please refer to Q10)","Almost every day","over 16",{"$nulls":3},"Other short TTT courses","Advanced Life Support (ALS), Basic Life Support (BLS) or other specific courses","Simulation courses",null,"SPECIFIC COURSES ABOUT DIFFERENT ITEMS","Yes, some elements, but not systematically",null,null,"Perform work-based interactive teaching (operating room)","Running clinical case discussions",null,"Teach informally, during every day work",null,null,"Using visual aids",null,"Problem based learning","Teaching the skills",null,null,"Organizing specific sessions (journal clubs, interactive sessions, pro and con debate…)",null,"Yes","No",null,null,"I occasionally carry out assessment during the residency program (Direct Observation of Procedural Skills - DOPS)","I give feedback during simulation sessions","I give feedback during everyday work","I am involved in other forms of formative assessment (for example multisource feedback)",{"$nulls":5},"No, it is assumed as being a part of everyday work",null,"Lack of training","Lack of time",{"$nulls":4},"Lack of organization",{"$nulls":3},"No","I have no knowledge of what it is","No","No",null,"Competency (outcome) based curriculum",null,"National body responsible for education (Ministry of health or education, National board for anaesthesia …)","They just have to complete the residency program (3-5 years)"]
[12938425173,408998795,"2021-09-02T22:08:56","2021-09-02T22:12:17","181.117.228.75",{"$nulls":4},"31-35","Male","Argentina","Argentina","South America","5-10",5,"Specialist","General hospital","No (please refer to Q21)",{"$nulls":52},"Yes","I have some ideas, but it is not clear to me","I am not sure","No",{"$nulls":4},"They have to pass EDAIC part I",null,"Other (please specify)","Only written "]
[12938423954,408998795,"2021-09-02T22:07:46","2021-09-02T22:11:48","92.18.60.30",{"$nulls":4},"50+","Female","India","India","Asia","over 20 years","Over 5","Chief of Department","Private hospital","No (please refer to Q21)",{"$nulls":50},"I work in a non-teaching hospital",null,"Yes","Yes, I am well informed","I am not sure","No",null,"Other (please specify)","Non teaching ","University","They have to pass a university board exam",null,"VIVA (Oral examination), written and OSCE examination"]
[12938411570,408998795,"2021-09-02T22:02:40","2021-09-02T18:35:13","176.83.53.92",{"$nulls":4},"50+","Male","Spain","Spain","Europe","16-20","Over 5","Chief of Department","Private hospital","No (please refer to Q21)",{"$nulls":50},"I work in a non-teaching hospital",null,"Yes","Yes, I am well informed","Yes","Yes",null,"Classic surgical specialties based curriculum",null,"National body responsible for education (Ministry of health or education, National board for anaesthesia …)","Other (please specify)","None"]
[12938404616,408998795,"2021-09-02T22:00:30","2021-09-02T18:33:07","85.51.22.73",{"$nulls":4},"31-35","Male","Spain","Spain","Europe","5-10",4,"Specialist","Academic hospital (Teaching or University related)","Yes (please refer to Q10)","Almost every day","Less than 5",{"$nulls":3},"Other short TTT courses","Advanced Life Support (ALS), Basic Life Support (BLS) or other specific courses","Simulation courses",null,null,"Yes, some elements, but not systematically",null,"I give lectures","Perform work-based interactive teaching (operating room)","Running clinical case discussions","Involved in simulation sessions","Teach informally, during every day work",null,"Planning and preparation for teaching session","Using visual aids","Interactive teaching","Problem based learning",null,null,"Organizing and leading the discussions","Organizing specific sessions (journal clubs, interactive sessions, pro and con debate…)",null,"Yes","Yes",null,null,"I occasionally carry out assessment during the residency program (Direct Observation of Procedural Skills - DOPS)","I give feedback during simulation sessions","I give feedback during everyday work","I am involved in other forms of formative assessment (for example multisource feedback)",{"$nulls":6},"No","Lack of training","Lack of time",null,null,"Overloaded with work",null,"Lack of organization",{"$nulls":3},"Yes","I know what is it, but outcome-based education is not implemented in my country","Yes","I am not sure",null,"Competency (outcome) based curriculum",null,"Hospital administration","They just have to complete the residency program (3-5 years)"]
[12938371033,408998795,"2021-09-02T21:45:24","2021-09-02T18:29:27","92.185.153.216",{"$nulls":4},"50+","Male","Spain","Spain","Europe","over 20 years",4,"Senior specialist","Academic hospital (Teaching or University related)","Yes (please refer to Q10)"]
[12938380441,408998795,"2021-09-02T21:48:31","2021-09-02T22:03:01","74.95.181.129",{"$nulls":4},"41-50","Male","Dominican Republic","Dominican Republic","South America","16-20","Less than 3","Teacher (in University)","Academic hospital (Teaching or University related)","Yes (please refer to Q10)","Almost every day","11-15","Master in Medical Education",{"$nulls":3},"Advanced Life Support (ALS), Basic Life Support (BLS) or other specific courses","Simulation courses",null,null,"Yes, some elements, but not systematically",null,"I give lectures","Perform work-based interactive teaching (operating room)","Running clinical case discussions","Involved in simulation sessions","Teach informally, during every day work",null,"Planning and preparation for teaching session",null,"Interactive teaching",null,"Teaching the skills","Giving feedback",null,"Organizing specific sessions (journal clubs, interactive sessions, pro and con debate…)",null,"Yes","Yes","I am an examiner for the final exam",null,null,"I give feedback during simulation sessions","I give feedback during everyday work","I am involved in other forms of formative assessment (for example multisource feedback)",{"$nulls":3},"Yes, it is recognised for promotion in academia.","Yes, I have a more visible position in the department",null,null,"Lack of training",null,"Lack of motivation","No recognition",null,"Lack of opportunity",null,null,"Other (please specify)","I don't have a y problem to yeach. ","Yes","Yes, I am well informed","Yes","I am not sure",null,"Competency (outcome) based curriculum",null,"National body responsible for education (Ministry of health or education, National board for anaesthesia …)","They have to pass a national board exam",null,"Written, oral examination and some practical assessment"]
[12938382173,408998795,"2021-09-02T21:50:43","2021-09-02T21:58:06","94.191.152.3",{"$nulls":4},"41-50","Female","Syrian Arab Republic","Saudi Arabia","Africa","16-20",4,"Senior resident","Academic hospital (Teaching or University related)","No (please refer to Q21)",{"$nulls":50},"I work with residents, but I do not see that as teaching",null,"Yes","I do not know much","I am not sure","I am not sure",null,"Content based curriculum",null,"University","They have to pass a university board exam",null,"Written and oral examination"]
[12938367580,408998795,"2021-09-02T21:44:30","2021-09-02T18:23:22","176.83.172.76",{"$nulls":4},"50+","Female","Spain","Spain","Europe","over 20 years",4,"Senior specialist","Academic hospital (Teaching or University related)","Yes (please refer to Q10)","Every day","over 16",{"$nulls":5},"Simulation courses",null,null,"No",null,"I give lectures","Perform work-based interactive teaching (operating room)","Running clinical case discussions","Involved in simulation sessions","Teach informally, during every day work",null,"Planning and preparation for teaching session","Using visual aids","Interactive teaching","Problem based learning","Teaching the skills","Giving feedback","Organizing and leading the discussions","Organizing specific sessions (journal clubs, interactive sessions, pro and con debate…)",null,"No","No",{"$nulls":3},"I give feedback during simulation sessions","I give feedback during everyday work",null,null,"No organized",{"$nulls":3},"No, it is assumed as being a part of everyday work","No",null,"Lack of time",null,"No recognition",null,null,"Lack of organization",{"$nulls":3},"No","Yes, I am well informed","Yes","No",null,"Classic surgical specialties based curriculum",null,"National body responsible for education (Ministry of health or education, National board for anaesthesia …)","They just have to complete the residency program (3-5 years)",null,"Other (please specify)"]
[12938372532,408998795,"2021-09-02T21:46:53","2021-09-02T21:51:54","142.162.124.132",{"$nulls":4},"50+","Male","India","United States of America","North America","over 20 years","Over 5","Senior specialist","Specialized clinic","No (please refer to Q21)",{"$nulls":50},"I work in a non-teaching hospital",null,"Yes","Yes, I am well informed","No","Yes","11/10/2010","Competency (outcome) based curriculum",null,"Department of anaesthesiology","They just have to complete the residency program (3-5 years)",null,"VIVA (Oral examination), written and OSCE examination"]
[12938369677,408998795,"2021-09-02T21:46:09","2021-09-02T18:22:54","85.48.248.16",{"$nulls":4},"41-50","Female","Spain","Spain","Europe","16-20",4,"Specialist","Academic hospital (Teaching or University related)","Yes (please refer to Q10)","Every day","11-15",null,null,"ESAIC Teach the Teacher (TTT) courses",null,"Advanced Life Support (ALS), Basic Life Support (BLS) or other specific courses","Simulation courses",null,null,"No",null,null,"Perform work-based interactive teaching (operating room)",null,null,"Teach informally, during every day work",null,null,"Using visual aids",null,"Problem based learning","Teaching the skills","Giving feedback",{"$nulls":3},"No","No",null,null,"I occasionally carry out assessment during the residency program (Direct Observation of Procedural Skills - DOPS)",null,"I give feedback during everyday work",{"$nulls":6},"No, it is assumed as being a part of everyday work",null,null,"Lack of time",null,null,"Overloaded with work",null,"Lack of organization",{"$nulls":3},"Yes","I know what is it, but outcome-based education is not implemented in my country","Yes","No",null,"Classic surgical specialties based curriculum",null,"National body responsible for education (Ministry of health or education, National board for anaesthesia …)","They just have to complete the residency program (3-5 years)"]
[12938362151,408998795,"2021-09-02T21:43:00","2021-09-02T18:19:45","89.131.150.97",{"$nulls":4},"50+","Male","Spain","Spain","Europe","over 20 years",4,"Teacher (in University)","Academic hospital (Teaching or University related)","Yes (please refer to Q10)"]
[12938356885,408998795,"2021-09-02T21:40:34","2021-09-02T21:46:24","177.25.179.159",{"$nulls":4},"50+","Male","Brazil","Brazil","South America","over 20 years",3,"Specialist","General hospital","Yes (please refer to Q10)","Almost every day","11-15",{"$nulls":4},"Advanced Life Support (ALS), Basic Life Support (BLS) or other specific courses",{"$nulls":3},"No",null,null,"Perform work-based interactive teaching (operating room)",null,null,"Teach informally, during every day work",{"$nulls":4},"Problem based learning",{"$nulls":5},"No","Yes",{"$nulls":4},"I give feedback during everyday work",{"$nulls":6},"No, it is assumed as being a part of everyday work",null,"Lack of training",null,"Lack of motivation",{"$nulls":7},"Yes","I have some ideas, but it is not clear to me","No","No",null,"Classic surgical specialties based curriculum",null,"Society or association of anaesthesiology","They have to pass a national board exam",null,"Written and oral examination"]
[12938352497,408998795,"2021-09-02T21:39:01","2021-09-02T18:09:20","213.177.214.26",{"$nulls":4},"36-40","Female","Spain","Spain","Europe","5-10",4,"Specialist","Academic hospital (Teaching or University related)","No (please refer to Q21)",{"$nulls":50},"I work with residents, but I do not see that as teaching",null,"No","Yes, I am well informed","Yes","No",null,"Classic surgical specialties based curriculum",null,"National body responsible for education (Ministry of health or education, National board for anaesthesia …)","They just have to complete the residency program (3-5 years)"]
[12938342280,408998795,"2021-09-02T21:32:32","2021-10-07T16:47:58","84.217.168.80",{"$nulls":4},"31-35","Female","Sweden","Sweden","Europe","5-10",5,"Trainee","Academic hospital (Teaching or University related)","No (please refer to Q21)",{"$nulls":50},"I work with residents, but I do not see that as teaching",null,"Yes","Yes, I am well informed","No","I am not sure",null,"Competency (outcome) based curriculum",null,"Society or association of anaesthesiology","They just have to complete the residency program (3-5 years)",null,"Other (please specify)"]
[12938333509,408998795,"2021-09-02T21:30:22","2021-09-02T21:36:40","200.68.159.208",{"$nulls":4},"36-40","Male","Mexico","Mexico","North America","11-15",3,"Specialist","Academic hospital (Teaching or University related)","Yes (please refer to Q10)","Every day","6-10","Master in Medical Education","Obligatory teaching courses for University teachers",null,"Other short TTT courses","Advanced Life Support (ALS), Basic Life Support (BLS) or other specific courses","Simulation courses",null,null,"Yes",null,"I give lectures",{"$nulls":3},"Teach informally, during every day work",null,"Planning and preparation for teaching session","Using visual aids","Interactive teaching","Problem based learning","Teaching the skills","Giving feedback","Organizing and leading the discussions","Organizing specific sessions (journal clubs, interactive sessions, pro and con debate…)",null,"Yes","Yes","I am an examiner for the final exam",null,null,"I give feedback during simulation sessions","I give feedback during everyday work",{"$nulls":3},"Yes, I am paid more","Yes, it is recognised for promotion in academia.","Yes, I have a more visible position in the department",null,null,"Lack of training",{"$nulls":4},"Lack of opportunity",null,null,"I work with residents, but I do not see that as teaching",null,"Yes","Yes, I am well informed","No","No","09/04/2021","Competency (outcome) based curriculum",null,"University","They have to pass a university board exam",null,"Written, oral examination and some practical assessment"]
[12938301477,408998795,"2021-09-02T21:17:34","2021-09-23T10:52:51","193.180.11.21",{"$nulls":4},"50+","Male","Sweden","Sweden","Europe","16-20",5,"Senior specialist","General hospital","Yes (please refer to Q10)","Almost every day","11-15",{"$nulls":4},"Advanced Life Support (ALS), Basic Life Support (BLS) or other specific courses","Simulation courses",null,"local tutor courses","Yes, some elements, but not systematically",null,"I give lectures","Perform work-based interactive teaching (operating room)",null,null,"Teach informally, during every day work",null,"Planning and preparation for teaching session","Using visual aids","Interactive teaching",null,"Teaching the skills","Giving feedback",{"$nulls":3},"No","Yes",null,null,"I occasionally carry out assessment during the residency program (Direct Observation of Procedural Skills - DOPS)",null,"I give feedback during everyday work","I am involved in other forms of formative assessment (for example multisource feedback)",{"$nulls":5},"No, it is assumed as being a part of everyday work",null,null,"Lack of time",{"$nulls":3},"Lack of opportunity","Lack of organization",{"$nulls":3},"Yes","I do not know much","Yes","I am not sure",{"$nulls":4},"Other (please specify)","5 years residency but some hospitals demand EDAIC1 too. ","Other (please specify)"]
[12938319472,408998795,"2021-09-02T21:23:02","2021-09-23T10:03:47","192.36.34.248",{"$nulls":4},"41-50","Female","Sweden","Sweden","Europe","5-10",5,"Specialist","Academic hospital (Teaching or University related)","Yes (please refer to Q10)","Every day","Less than 5",{"$nulls":4},"Advanced Life Support (ALS), Basic Life Support (BLS) or other specific courses","Simulation courses",null,"I used to work as a teacher","No",null,null,"Perform work-based interactive teaching (operating room)","Running clinical case discussions","Involved in simulation sessions","Teach informally, during every day work",null,"Planning and preparation for teaching session","Using visual aids","Interactive teaching","Problem based learning","Teaching the skills","Giving feedback","Organizing and leading the discussions",null,null,"No","No",null,null,"I occasionally carry out assessment during the residency program (Direct Observation of Procedural Skills - DOPS)","I give feedback during simulation sessions","I give feedback during everyday work","I am involved in other forms of formative assessment (for example multisource feedback)",{"$nulls":5},"No, it is assumed as being a part of everyday work",null,null,"Lack of time",null,null,"Overloaded with work",null,"Lack of organization",{"$nulls":3},"Yes","I have some ideas, but it is not clear to me","No","I am not sure",null,"Content based curriculum",null,"National body responsible for education (Ministry of health or education, National board for anaesthesia …)","They just have to complete the residency program (3-5 years)"]
[12938311403,408998795,"2021-09-02T21:21:59","2021-09-23T09:10:39","130.237.96.133",{"$nulls":4},"36-40","Female","Sweden","Sweden","Europe","5-10",5,"Trainee","Academic hospital (Teaching or University related)","Yes (please refer to Q10)","Less than once a week","Less than 5",{"$nulls":6},"None",null,"Yes",null,"I give lectures","Perform work-based interactive teaching (operating room)",null,null,"Teach informally, during every day work",null,"Planning and preparation for teaching session","Using visual aids","Interactive teaching",null,"Teaching the skills",{"$nulls":4},"No","No",{"$nulls":6},"I am not involved in any kind of assessment",{"$nulls":4},"No, it is assumed as being a part of everyday work",null,"Lack of training","Lack of time",null,null,"Overloaded with work",{"$nulls":3},"Other (please specify)","I am a resident.","No","I know what is it, but outcome-based education is not implemented in my country","No","I am not sure",null,"Classic surgical specialties based curriculum",null,"National body responsible for education (Ministry of health or education, National board for anaesthesia …)","They just have to complete the residency program (3-5 years)"]
[12938313973,408998795,"2021-09-02T21:22:35","2021-09-23T08:56:32","213.80.99.107",{"$nulls":4},"36-40","Male","Sweden","Sweden","Europe","5-10",5,"Specialist","Academic hospital (Teaching or University related)","Yes (please refer to Q10)","Every day","Less than 5",{"$nulls":6},"None",null,"No",null,"I give lectures","Perform work-based interactive teaching (operating room)",null,"Involved in simulation sessions","Teach informally, during every day work",null,"Planning and preparation for teaching session","Using visual aids","Interactive teaching","Problem based learning","Teaching the skills","Giving feedback",{"$nulls":3},"No","Yes",{"$nulls":3},"I give feedback during simulation sessions","I give feedback during everyday work",{"$nulls":5},"Yes, I have a more visible position in the department",null,null,"Lack of training","Lack of time",{"$nulls":4},"Lack of organization",{"$nulls":3},"Yes","I have some ideas, but it is not clear to me","No","No",null,"Content based curriculum",null,"I do not know","They just have to complete the residency program (3-5 years)"]
[12938320171,408998795,"2021-09-02T21:24:47","2021-09-23T08:52:59","94.191.137.7",{"$nulls":4},"50+","Male","Sweden","Sweden","Europe","over 20 years",4,"Senior specialist","General hospital","Yes (please refer to Q10)","Almost every day","over 16",{"$nulls":6},"None",null,"Yes",null,null,"Perform work-based interactive teaching (operating room)",null,null,"Teach informally, during every day work",{"$nulls":3},"Interactive teaching",null,"Teaching the skills","Giving feedback",{"$nulls":3},"No","Yes",{"$nulls":6},"I am not involved in any kind of assessment",{"$nulls":4},"No, it is assumed as being a part of everyday work","No",null,"Lack of time",null,"No recognition","Overloaded with work",null,"Lack of organization",{"$nulls":3},"No","I have some ideas, but it is not clear to me","No","I am not sure","09/23/2021","Classic surgical specialties based curriculum",null,"University","They just have to complete the residency program (3-5 years)",null,"Written, oral examination and some practical assessment"]
[12938305564,408998795,"2021-09-02T18:06:23","2021-09-23T08:11:38","194.103.185.10",{"$nulls":4},"50+","Male","Sweden","Sweden","Europe","over 20 years",5,"Senior specialist","Academic hospital (Teaching or University related)","Yes (please refer to Q10)","When in the operating theater (always have an allocated resident)","11-15",{"$nulls":4},"Advanced Life Support (ALS), Basic Life Support (BLS) or other specific courses",null,null,"Instructor in ATLS, AMLS, PHTLS, PEPP and DSATC.","Yes, some elements, but not systematically",null,null,"Perform work-based interactive teaching (operating room)","Running clinical case discussions",null,"Teach informally, during every day work",null,"Planning and preparation for teaching session","Using visual aids","Interactive teaching",null,"Teaching the skills","Giving feedback",{"$nulls":3},"No","Yes",null,null,"I occasionally carry out assessment during the residency program (Direct Observation of Procedural Skills - DOPS)",null,"I give feedback during everyday work","I am involved in other forms of formative assessment (for example multisource feedback)",{"$nulls":5},"No, it is assumed as being a part of everyday work",null,null,"Lack of time",null,"No recognition","Overloaded with work",{"$nulls":5},"Yes","I have some ideas, but it is not clear to me","No","I am not sure",null,"Classic surgical specialties based curriculum",null,"Society or association of anaesthesiology","They have to pass EDAIC part I",null,"Other (please specify)"]
[12938295926,408998795,"2021-09-02T21:15:39","2021-09-23T08:09:17","94.234.34.192",{"$nulls":4},"41-50","Female","Sweden","Sweden","Europe","over 20 years",5,"Senior specialist","Academic hospital (Teaching or University related)","Yes (please refer to Q10)","Less than once a week","over 16",{"$nulls":4},"Advanced Life Support (ALS), Basic Life Support (BLS) or other specific courses","Simulation courses",null,null,"Yes, some elements, but not systematically",null,"I give lectures","Perform work-based interactive teaching (operating room)","Running clinical case discussions",null,"Teach informally, during every day work",null,"Planning and preparation for teaching session","Using visual aids","Interactive teaching",null,"Teaching the skills","Giving feedback","Organizing and leading the discussions",null,null,"No","Yes",{"$nulls":3},"I give feedback during simulation sessions","I give feedback during everyday work",{"$nulls":6},"No, it is assumed as being a part of everyday work",null,"Lack of training","Lack of time",null,"No recognition","Overloaded with work",null,"Lack of organization",{"$nulls":3},"Yes","Yes, I am well informed","No","I am not sure",null,"Competency (outcome) based curriculum",null,"Society or association of anaesthesiology","They just have to complete the residency program (3-5 years)"]
[12938266020,408998795,"2021-09-02T21:03:48","2021-09-06T12:51:12","192.36.34.249",{"$nulls":4},"50+","Female","Sweden","Sweden","Europe","over 20 years",5,"Senior specialist","Academic hospital (Teaching or University related)","Yes (please refer to Q10)","Almost every day","over 16","Master in Medical Education","Obligatory teaching courses for University teachers",null,null,"Advanced Life Support (ALS), Basic Life Support (BLS) or other specific courses",{"$nulls":3},"No, but students are exposed to outcome based teaching",null,"I give lectures","Perform work-based interactive teaching (operating room)","Running clinical case discussions","Involved in simulation sessions","Teach informally, during every day work",null,"Planning and preparation for teaching session","Using visual aids","Interactive teaching","Problem based learning","Teaching the skills","Giving feedback","Organizing and leading the discussions","Organizing specific sessions (journal clubs, interactive sessions, pro and con debate…)",null,"Yes","Yes",null,"I am European Diploma in Anaesthesia and Intensive Care (EDAIC) part II examiner","I occasionally carry out assessment during the residency program (Direct Observation of Procedural Skills - DOPS)","I give feedback during simulation sessions","I give feedback during everyday work","I am involved in other forms of formative assessment (for example multisource feedback)",{"$nulls":4},"Yes, I have a more visible position in the department",{"$nulls":3},"Lack of time",null,"No recognition","Overloaded with work",{"$nulls":5},"Yes","Yes, I am well informed","I am not sure","No",null,"Content based curriculum",null,"National body responsible for education (Ministry of health or education, National board for anaesthesia …)","They just have to complete the residency program (3-5 years)"]
[12938269947,408998795,"2021-09-02T21:05:15","2021-09-06T07:40:36","194.14.121.1",{"$nulls":4},"36-40","Male","Sweden","Sweden","Europe","5-10",3,"Specialist","General hospital","Yes (please refer to Q10)",null,"Less than 5",null,null,"ESAIC Teach the Teacher (TTT) courses",null,"Advanced Life Support (ALS), Basic Life Support (BLS) or other specific courses","Simulation courses",null,null,"No",null,"I give lectures","Perform work-based interactive teaching (operating room)",null,"Involved in simulation sessions","Teach informally, during every day work",null,"Planning and preparation for teaching session","Using visual aids","Interactive teaching","Problem based learning","Teaching the skills","Giving feedback",null,"Organizing specific sessions (journal clubs, interactive sessions, pro and con debate…)",null,"No","Yes",{"$nulls":3},"I give feedback during simulation sessions","I give feedback during everyday work","I am involved in other forms of formative assessment (for example multisource feedback)","I am not involved in any kind of assessment",{"$nulls":4},"No, it is assumed as being a part of everyday work",null,null,"Lack of time",null,"No recognition","Overloaded with work",{"$nulls":5},"Yes","I have some ideas, but it is not clear to me","Yes","Yes",null,"Competency (outcome) based curriculum",null,"National body responsible for education (Ministry of health or education, National board for anaesthesia …)","They just have to complete the residency program (3-5 years)"]
[12938256231,408998795,"2021-09-02T21:00:05","2021-09-03T08:27:03","88.129.127.197",{"$nulls":4},"36-40","Female","Sweden","Sweden","Europe","5-10",5,"Specialist","Academic hospital (Teaching or University related)","Yes (please refer to Q10)"]
[12938267231,408998795,"2021-09-02T21:03:44","2021-09-03T08:26:54","193.180.11.21",{"$nulls":4},"41-50","Female","Sweden","Sweden","Europe","11-15",5,"Senior specialist","General hospital","Yes (please refer to Q10)","When in the operating theater (always have an allocated resident)","6-10",{"$nulls":4},"Advanced Life Support (ALS), Basic Life Support (BLS) or other specific courses","Simulation courses",null,"instructor courses in simulations training","No",null,"I give lectures","Perform work-based interactive teaching (operating room)","Running clinical case discussions","Involved in simulation sessions","Teach informally, during every day work",null,"Planning and preparation for teaching session","Using visual aids","Interactive teaching",null,"Teaching the skills","Giving feedback","Organizing and leading the discussions","Organizing specific sessions (journal clubs, interactive sessions, pro and con debate…)",null,"Yes","Yes",null,null,"I occasionally carry out assessment during the residency program (Direct Observation of Procedural Skills - DOPS)","I give feedback during simulation sessions","I give feedback during everyday work","I am involved in other forms of formative assessment (for example multisource feedback)",null,null,"Yes, I am paid more",null,"Yes, I have a more visible position in the department",{"$nulls":3},"Lack of time",null,null,"Overloaded with work",{"$nulls":5},"Yes","Yes, I am well informed","Yes","I am not sure",null,"Competency (outcome) based curriculum",null,"Society or association of anaesthesiology","They just have to complete the residency program (3-5 years)",null,"Other (please specify)"]
[12938192946,408998795,"2021-09-02T20:34:40","2021-09-02T21:00:40","81.233.118.247",{"$nulls":4},"41-50","Male","Netherlands","Sweden","Europe","16-20",5,"Senior specialist","Academic hospital (Teaching or University related)","Yes (please refer to Q10)","Less than once a week","over 16",{"$nulls":6},"None",null,"No",null,"I give lectures","Perform work-based interactive teaching (operating room)",null,null,"Teach informally, during every day work",null,"Planning and preparation for teaching session","Using visual aids","Interactive teaching","Problem based learning","Teaching the skills","Giving feedback",null,"Organizing specific sessions (journal clubs, interactive sessions, pro and con debate…)",null,"No","Yes",null,null,"I occasionally carry out assessment during the residency program (Direct Observation of Procedural Skills - DOPS)",null,"I give feedback during everyday work","I am involved in other forms of formative assessment (for example multisource feedback)",{"$nulls":5},"No, it is assumed as being a part of everyday work",null,null,"Lack of time",null,"No recognition","Overloaded with work"]
[12938241043,408998795,"2021-09-02T20:54:54","2021-09-02T20:15:03","83.254.235.37",{"$nulls":4},"41-50","Female","Sweden","Sweden","Europe","11-15",5,"Specialist","Academic hospital (Teaching or University related)","Yes (please refer to Q10)","Almost every day","6-10",{"$nulls":3},"Other short TTT courses",{"$nulls":4},"Yes, some elements, but not systematically",null,null,"Perform work-based interactive teaching (operating room)",null,null,"Teach informally, during every day work",{"$nulls":5},"Teaching the skills","Giving feedback",{"$nulls":3},"Yes","Yes",null,null,"I occasionally carry out assessment during the residency program (Direct Observation of Procedural Skills - DOPS)",null,"I give feedback during everyday work","I am involved in other forms of formative assessment (for example multisource feedback)",{"$nulls":5},"No, it is assumed as being a part of everyday work",null,"Lack of training","Lack of time",null,"No recognition","Overloaded with work",{"$nulls":5},"Yes","Yes, I am well informed","No","Yes","07/01/2021","Content based curriculum",null,"Society or association of anaesthesiology","They have to pass EDAIC part I"]
[12938234252,408998795,"2021-09-02T20:52:06","2021-09-02T18:47:16","78.79.178.203",{"$nulls":4},"50+","Male","Sweden","Sweden","Europe","over 20 years",4,"Senior specialist","Academic hospital (Teaching or University related)","Yes (please refer to Q10)",null,"over 16",{"$nulls":6},"None",null,"Yes, some elements, but not systematically",null,"I give lectures",{"$nulls":6},"Using visual aids","Interactive teaching",null,"Teaching the skills",{"$nulls":4},"No","Yes",null,"I am European Diploma in Anaesthesia and Intensive Care (EDAIC) part II examiner",{"$nulls":8},"Yes, I have a more visible position in the department",{"$nulls":3},"Lack of time",{"$nulls":6},"Other (please specify)","I am eaching duringmentrship towards residents.","No","I have no knowledge of what it is","Yes","Yes",null,"Classic surgical specialties based curriculum",null,"Society or association of anaesthesiology","They have to pass EDAIC part I",null,"It is only oral examination"]
[12938236664,408998795,"2021-09-02T20:53:12","2021-09-02T18:46:03","78.72.74.142",{"$nulls":4},"36-40","Female","Peru","Sweden","Europe","5-10",4,"Senior specialist","Academic hospital (Teaching or University related)","Yes (please refer to Q10)","Almost every day","6-10",null,null,"ESAIC Teach the Teacher (TTT) courses",null,"Advanced Life Support (ALS), Basic Life Support (BLS) or other specific courses","Simulation courses",null,null,"No",null,"I give lectures","Perform work-based interactive teaching (operating room)","Running clinical case discussions",null,"Teach informally, during every day work",null,"Planning and preparation for teaching session","Using visual aids","Interactive teaching","Problem based learning","Teaching the skills","Giving feedback","Organizing and leading the discussions",null,null,"No","Yes",null,"I am European Diploma in Anaesthesia and Intensive Care (EDAIC) part II examiner","I occasionally carry out assessment during the residency program (Direct Observation of Procedural Skills - DOPS)",null,"I give feedback during everyday work",{"$nulls":6},"No, it is assumed as being a part of everyday work",null,null,"Lack of time",null,null,"Overloaded with work",{"$nulls":5},"Yes","Yes, I am well informed","Yes","I am not sure",null,"Competency (outcome) based curriculum",null,"National body responsible for education (Ministry of health or education, National board for anaesthesia …)","They just have to complete the residency program (3-5 years)"]
[12938211197,408998795,"2021-09-02T20:40:58","2021-09-02T20:53:17","46.153.96.16",{"$nulls":4},"41-50","Male","Yemen","Saudi Arabia","Asia","16-20","Over 5","Teacher (in University)","Academic hospital (Teaching or University related)","Yes (please refer to Q10)","Almost every day","6-10",{"$nulls":3},"Other short TTT courses","Advanced Life Support (ALS), Basic Life Support (BLS) or other specific courses",{"$nulls":3},"Yes",null,"I give lectures","Perform work-based interactive teaching (operating room)","Running clinical case discussions","Involved in simulation sessions","Teach informally, during every day work",null,"Planning and preparation for teaching session",null,"Interactive teaching","Problem based learning","Teaching the skills",null,"Organizing and leading the discussions","Organizing specific sessions (journal clubs, interactive sessions, pro and con debate…)",null,"Yes","Yes","I am an examiner for the final exam",null,"I occasionally carry out assessment during the residency program (Direct Observation of Procedural Skills - DOPS)","I give feedback during simulation sessions",null,"I am involved in other forms of formative assessment (for example multisource feedback)",{"$nulls":5},"No, it is assumed as being a part of everyday work",null,null,"Lack of time",{"$nulls":8},"I do not know","Yes, I am well informed","I am not sure","No",null,"Competency (outcome) based curriculum",null,"National body responsible for education (Ministry of health or education, National board for anaesthesia …)","They just have to complete the residency program (3-5 years)",null,"VIVA (Oral examination), written and OSCE examination"]
[12938213194,408998795,"2021-09-02T20:42:57","2021-09-02T18:43:23","79.138.107.131",{"$nulls":4},"50+","Female","Sweden","Sweden","Europe","16-20",5,"Senior specialist","Academic hospital (Teaching or University related)","No (please refer to Q21)",{"$nulls":50},"I am not employed by the university",null,"Yes","Yes, I am well informed","I am not sure","Yes","07/01/2015","Competency (outcome) based curriculum",null,"Society or association of anaesthesiology","They just have to complete the residency program (3-5 years)",null,"Other (please specify)"]
[12938216656,408998795,"2021-09-02T20:41:40","2021-09-27T10:42:43","155.105.10.216",{"$nulls":4},"50+","Male","Switzerland","Switzerland","Europe","over 20 years",5,"Senior specialist","Academic hospital (Teaching or University related)","Yes (please refer to Q10)","Every day","over 16",{"$nulls":4},"Advanced Life Support (ALS), Basic Life Support (BLS) or other specific courses","Simulation courses",null,null,"No",null,"I give lectures","Perform work-based interactive teaching (operating room)","Running clinical case discussions","Involved in simulation sessions","Teach informally, during every day work",null,"Planning and preparation for teaching session","Using visual aids","Interactive teaching","Problem based learning","Teaching the skills","Giving feedback","Organizing and leading the discussions","Organizing specific sessions (journal clubs, interactive sessions, pro and con debate…)",null,"Yes","Yes","I am an examiner for the final exam","I am European Diploma in Anaesthesia and Intensive Care (EDAIC) part II examiner","I occasionally carry out assessment during the residency program (Direct Observation of Procedural Skills - DOPS)","I give feedback during simulation sessions","I give feedback during everyday work",{"$nulls":5},"Yes, I have a more visible position in the department",{"$nulls":3},"Lack of time",null,null,"Overloaded with work","Lack of opportunity","Lack of organization",{"$nulls":3},"Yes","I have some ideas, but it is not clear to me","No","I am not sure","01/01/2020","Content based curriculum",null,"National body responsible for education (Ministry of health or education, National board for anaesthesia …)","They have to pass a national board exam",null,"Written and oral examination"]
[12938196675,408998795,"2021-09-02T20:35:05","2021-09-25T18:22:50","37.170.196.137",{"$nulls":4},"41-50","Female","Switzerland","Switzerland","Europe","11-15",5,"Chief of Department","General hospital","Yes (please refer to Q10)","Almost every day","6-10",{"$nulls":3},"Other short TTT courses",null,"Simulation courses",null,null,"No",null,"I give lectures","Perform work-based interactive teaching (operating room)","Running clinical case discussions",null,"Teach informally, during every day work","specialist pain rounds with residents","Planning and preparation for teaching session",null,"Interactive teaching","Problem based learning","Teaching the skills","Giving feedback","Organizing and leading the discussions",null,null,"No","Yes",null,null,"I occasionally carry out assessment during the residency program (Direct Observation of Procedural Skills - DOPS)",null,"I give feedback during everyday work","I am involved in other forms of formative assessment (for example multisource feedback)",{"$nulls":5},"No, it is assumed as being a part of everyday work",null,"Lack of training",{"$nulls":9},"Yes","Yes, I am well informed","Yes","No",null,"Content based curriculum",null,"National body responsible for education (Ministry of health or education, National board for anaesthesia …)","They have to pass a national board exam",null,"Written, oral examination and some practical assessment"]
[12938194243,408998795,"2021-09-02T20:34:53","2021-09-24T10:08:09","194.209.38.180",{"$nulls":4},"41-50","Male","Romania","Switzerland","Europe","16-20",5,"Senior specialist","General hospital","Yes (please refer to Q10)","Almost every day","11-15",{"$nulls":3},"Other short TTT courses","Advanced Life Support (ALS), Basic Life Support (BLS) or other specific courses","Simulation courses",null,null,"Yes",null,null,"Perform work-based interactive teaching (operating room)","Running clinical case discussions",null,"Teach informally, during every day work",null,"Planning and preparation for teaching session","Using visual aids",null,"Problem based learning","Teaching the skills","Giving feedback",{"$nulls":3},"No","No",null,"I am European Diploma in Anaesthesia and Intensive Care (EDAIC) part II examiner",null,null,"I give feedback during everyday work","I am involved in other forms of formative assessment (for example multisource feedback)",{"$nulls":5},"No, it is assumed as being a part of everyday work",null,null,"Lack of time",null,"No recognition",null,null,"Lack of organization",{"$nulls":3},"Yes","I have some ideas, but it is not clear to me","I am not sure","I am not sure",null,"Content based curriculum",null,"Society or association of anaesthesiology","They have to pass a national board exam",null,"VIVA (Oral examination), written and OSCE examination","There is no mandatory exam"]
[12938172840,408998795,"2021-09-02T20:26:15","2021-09-23T13:29:51","85.6.152.86",{"$nulls":4},"41-50","Male","Switzerland","Switzerland","Europe","16-20",4,"Senior specialist","General hospital","Yes (please refer to Q10)","Every day","6-10","Master in Medical Education",null,null,"Other short TTT courses","Advanced Life Support (ALS), Basic Life Support (BLS) or other specific courses","Simulation courses",null,"Simulation Instructor course","Yes, some elements, but not systematically",null,"I give lectures","Perform work-based interactive teaching (operating room)","Running clinical case discussions","Involved in simulation sessions","Teach informally, during every day work","ERC courses","Planning and preparation for teaching session","Using visual aids","Interactive teaching","Problem based learning","Teaching the skills","Giving feedback","Organizing and leading the discussions","Organizing specific sessions (journal clubs, interactive sessions, pro and con debate…)",null,"Yes","Yes",{"$nulls":3},"I give feedback during simulation sessions","I give feedback during everyday work","I am involved in other forms of formative assessment (for example multisource feedback)",null,"I am member of the committee designing the final exam and of the committee visiting and grading residency training programs",null,null,"Yes, I have a more visible position in the department",{"$nulls":3},"Lack of time",null,null,"Overloaded with work",null,"Lack of organization",{"$nulls":3},"Yes","Yes, I am well informed","I am not sure","Yes","01/01/2015","Competency (outcome) based curriculum",null,"Department of anaesthesiology","They have to pass a national board exam",null,"Written and oral examination"]
[12938180436,408998795,"2021-09-02T20:30:04","2021-09-23T12:35:16","155.105.4.131",{"$nulls":4},"36-40","Female","Switzerland","Switzerland","Europe","5-10",5,"Other","Academic hospital (Teaching or University related)","No (please refer to Q21)",{"$nulls":50},"Other (please specify)","I currently practice acupuncture in the chronic pain centre and teach medical students not anesthetics trainees","No","I have no knowledge of what it is","No","I am not sure",null,"Content based curriculum",null,"Society or association of anaesthesiology","They have to pass EDAIC part I",null,"Written and oral examination","As mentioned above, no final exam, but several along the way"]
[12938186294,408998795,"2021-09-02T20:31:51","2021-09-23T10:33:33","195.65.170.10",{"$nulls":4},"41-50","Male","Germany","Switzerland","Europe","11-15","Over 5","Senior specialist","General hospital","Yes (please refer to Q10)","Every day","over 16",{"$nulls":4},"Advanced Life Support (ALS), Basic Life Support (BLS) or other specific courses","Simulation courses",null,null,"Yes, some elements, but not systematically",null,"I give lectures","Perform work-based interactive teaching (operating room)","Running clinical case discussions","Involved in simulation sessions","Teach informally, during every day work",null,"Planning and preparation for teaching session","Using visual aids","Interactive teaching","Problem based learning","Teaching the skills","Giving feedback","Organizing and leading the discussions","Organizing specific sessions (journal clubs, interactive sessions, pro and con debate…)",null,"Yes","Yes",null,null,"I occasionally carry out assessment during the residency program (Direct Observation of Procedural Skills - DOPS)","I give feedback during simulation sessions","I give feedback during everyday work","I am involved in other forms of formative assessment (for example multisource feedback)",{"$nulls":5},"No, it is assumed as being a part of everyday work",null,"Lack of training",null,null,"No recognition",null,null,"Lack of organization",{"$nulls":3},"Yes","I have some ideas, but it is not clear to me","No","I am not sure",null,"Other (please specify)","Combiantion of competence & content based curriculum","Department of anaesthesiology","They have to pass EDAIC part I",null,"Written and oral examination"]
[12938180176,408998795,"2021-09-02T20:29:30","2021-09-23T09:24:52","188.62.218.158",{"$nulls":4},"36-40","Female","Switzerland","Switzerland","Europe","11-15",5,"Specialist","Academic hospital (Teaching or University related)","Yes (please refer to Q10)","Every day","Less than 5",{"$nulls":6},"None",null,"No",null,"I give lectures","Perform work-based interactive teaching (operating room)",null,null,"Teach informally, during every day work",{"$nulls":5},"Teaching the skills","Giving feedback",{"$nulls":3},"No","No",null,null,"I occasionally carry out assessment during the residency program (Direct Observation of Procedural Skills - DOPS)",null,"I give feedback during everyday work",{"$nulls":6},"No, it is assumed as being a part of everyday work",null,"Lack of training",{"$nulls":3},"Overloaded with work",null,"Lack of organization",null,"I work with residents, but I do not see that as teaching",null,"Yes","I have some ideas, but it is not clear to me","No","I am not sure",null,"I do not know",null,"Society or association of anaesthesiology","They have to pass a national board exam",null,"Written and oral examination"]
[12938168824,408998795,"2021-09-02T20:20:04","2021-09-23T09:11:04","83.76.74.46",{"$nulls":4},"50+","Female","Switzerland","Switzerland","Europe","over 20 years",5,"Senior specialist","Private hospital","Yes (please refer to Q10)","Every day","11-15",{"$nulls":4},"Advanced Life Support (ALS), Basic Life Support (BLS) or other specific courses","Simulation courses",null,"Certificate Medical Education, University of Dundee/UK","No",null,null,"Perform work-based interactive teaching (operating room)","Running clinical case discussions","Involved in simulation sessions","Teach informally, during every day work","wokplace based assessments","Planning and preparation for teaching session",null,"Interactive teaching","Problem based learning","Teaching the skills","Giving feedback",null,"Organizing specific sessions (journal clubs, interactive sessions, pro and con debate…)",null,"Yes","No","I am an examiner for the final exam",null,"I occasionally carry out assessment during the residency program (Direct Observation of Procedural Skills - DOPS)","I give feedback during simulation sessions","I give feedback during everyday work","I am involved in other forms of formative assessment (for example multisource feedback)",{"$nulls":4},"Yes, I have a more visible position in the department",{"$nulls":6},"Overloaded with work",{"$nulls":5},"Yes","Yes, I am well informed","No","Yes","07/01/2015","Competency (outcome) based curriculum",null,"National body responsible for education (Ministry of health or education, National board for anaesthesia …)","They have to pass a national board exam",null,"Written and oral examination"]
[12938108742,408998795,"2021-09-02T19:54:14","2021-09-23T08:20:23","188.40.170.252",{"$nulls":4},"41-50","Female","Germany","Switzerland","Europe","16-20",5,"Senior specialist","General hospital","No (please refer to Q21)",{"$nulls":50},"I work in a non-teaching hospital",null,"Yes","I do not know much","No","I am not sure",null,"I do not know",null,"I do not know","They have to pass EDAIC part I",null,"Written and oral examination"]
[12938169879,408998795,"2021-09-02T20:25:04","2021-09-23T08:13:34","85.4.242.140",{"$nulls":4},"50+","Female","Switzerland","Switzerland","Europe","over 20 years","Over 5","Senior specialist","Specialized clinic","No (please refer to Q21)",{"$nulls":52},"Yes","Yes, I am well informed","I am not sure","No",null,"Content based curriculum",null,"Society or association of anaesthesiology","They have to pass a national board exam",null,"Written and oral examination"]
[12938170215,408998795,"2021-09-02T20:25:39","2021-09-20T09:03:11","195.225.33.1",{"$nulls":4},"50+","Female","Switzerland","Switzerland","Europe","over 20 years","Over 5","Senior specialist","Private hospital","Yes (please refer to Q10)","Almost every day","over 16",{"$nulls":4},"Advanced Life Support (ALS), Basic Life Support (BLS) or other specific courses","Simulation courses",null,"SEA Teach the teacher courses and royal college of England","Yes, some elements, but not systematically",null,"I give lectures","Perform work-based interactive teaching (operating room)","Running clinical case discussions",null,"Teach informally, during every day work",null,"Planning and preparation for teaching session","Using visual aids","Interactive teaching","Problem based learning","Teaching the skills","Giving feedback","Organizing and leading the discussions","Organizing specific sessions (journal clubs, interactive sessions, pro and con debate…)",null,"Yes","Yes","I am an examiner for the final exam","I am European Diploma in Anaesthesia and Intensive Care (EDAIC) part II examiner","I occasionally carry out assessment during the residency program (Direct Observation of Procedural Skills - DOPS)",null,"I give feedback during everyday work","I am involved in other forms of formative assessment (for example multisource feedback)",{"$nulls":5},"No, it is assumed as being a part of everyday work","No",{"$nulls":5},"Lack of opportunity",{"$nulls":4},"Yes","Yes, I am well informed","I am not sure","Yes",null,"Competency (outcome) based curriculum",null,"Department of anaesthesiology","They have to pass a national board exam",null,"Written and oral examination"]
[12938126727,408998795,"2021-09-02T20:07:25","2021-09-19T16:46:56","62.202.181.102",{"$nulls":4},"31-35","Female","Switzerland","Switzerland","Europe","5-10",5,"Specialist","General hospital","Yes (please refer to Q10)","Almost every day","Less than 5",{"$nulls":3},"Other short TTT courses","Advanced Life Support (ALS), Basic Life Support (BLS) or other specific courses",{"$nulls":3},"No",null,"I give lectures","Perform work-based interactive teaching (operating room)",null,null,"Teach informally, during every day work",null,"Planning and preparation for teaching session",null,"Interactive teaching",null,"Teaching the skills","Giving feedback",{"$nulls":3},"Yes","Yes",null,null,"I occasionally carry out assessment during the residency program (Direct Observation of Procedural Skills - DOPS)",null,"I give feedback during everyday work",{"$nulls":5},"Yes, I have a more visible position in the department",{"$nulls":3},"Lack of time",null,"No recognition","Overloaded with work","Lack of opportunity","Lack of organization",{"$nulls":3},"Yes","Yes, I am well informed","No","Yes","01/01/2015","Content based curriculum",null,"Department of anaesthesiology","Other (please specify)","EDAIC part I + national oral exam","Written and oral examination","Oral exam and practical assessmentment"]
[12938167625,408998795,"2021-09-02T20:24:29","2021-09-16T16:14:06","188.62.218.158",{"$nulls":4},"36-40","Female","Switzerland","Switzerland","Europe","11-15",5,"Specialist","Academic hospital (Teaching or University related)","Yes (please refer to Q10)","Almost every day","Less than 5",{"$nulls":3},"Other short TTT courses",{"$nulls":4},"No, but students are exposed to outcome based teaching",null,"I give lectures","Perform work-based interactive teaching (operating room)",null,null,"Teach informally, during every day work",{"$nulls":3},"Interactive teaching","Problem based learning","Teaching the skills",{"$nulls":4},"No","No",null,null,"I occasionally carry out assessment during the residency program (Direct Observation of Procedural Skills - DOPS)",null,"I give feedback during everyday work",{"$nulls":6},"No, it is assumed as being a part of everyday work",null,"Lack of training",null,null,"No recognition","Overloaded with work",null,"Lack of organization",{"$nulls":3},"Yes","I know what is it, but outcome-based education is not implemented in my country","No","I am not sure","07/16/2005","Competency (outcome) based curriculum",null,"Society or association of anaesthesiology","They have to pass a national board exam",null,"Written and oral examination"]
[12938164529,408998795,"2021-09-02T20:23:22","2021-09-09T09:19:49","156.25.4.2",{"$nulls":4},"50+","Male","Switzerland","Switzerland","Europe","over 20 years","Over 5","Senior specialist","Academic hospital (Teaching or University related)","Yes (please refer to Q10)","Every day","over 16",null,"Obligatory teaching courses for University teachers",null,"Other short TTT courses","Advanced Life Support (ALS), Basic Life Support (BLS) or other specific courses","Simulation courses",null,null,"Yes, some elements, but not systematically",null,"I give lectures","Perform work-based interactive teaching (operating room)","Running clinical case discussions","Involved in simulation sessions","Teach informally, during every day work",null,"Planning and preparation for teaching session","Using visual aids","Interactive teaching","Problem based learning","Teaching the skills","Giving feedback","Organizing and leading the discussions","Organizing specific sessions (journal clubs, interactive sessions, pro and con debate…)",null,"Yes","Yes","I am an examiner for the final exam",null,"I occasionally carry out assessment during the residency program (Direct Observation of Procedural Skills - DOPS)","I give feedback during simulation sessions","I give feedback during everyday work","I am involved in other forms of formative assessment (for example multisource feedback)",{"$nulls":5},"No, it is assumed as being a part of everyday work",null,null,"Lack of time",null,"No recognition","Overloaded with work",{"$nulls":3},"I am not employed by the university",null,"Yes","Yes, I am well informed","Yes","I am not sure",null,"Content based curriculum",null,"National body responsible for education (Ministry of health or education, National board for anaesthesia …)","They have to pass a national board exam",null,"It is only oral examination"]
[12938143348,408998795,"2021-09-02T20:14:40","2021-09-02T20:21:23","188.50.158.60",{"$nulls":4},"36-40","Male","Yemen","Saudi Arabia","Asia","11-15","Over 5","Chief of Department","Academic hospital (Teaching or University related)","Yes (please refer to Q10)","When in the operating theater (always have an allocated resident)","Less than 5",{"$nulls":3},"Other short TTT courses","Advanced Life Support (ALS), Basic Life Support (BLS) or other specific courses","Simulation courses",null,null,"Yes, some elements, but not systematically",null,"I give lectures","Perform work-based interactive teaching (operating room)","Running clinical case discussions","Involved in simulation sessions","Teach informally, during every day work",null,"Planning and preparation for teaching session","Using visual aids","Interactive teaching","Problem based learning","Teaching the skills","Giving feedback","Organizing and leading the discussions","Organizing specific sessions (journal clubs, interactive sessions, pro and con debate…)",null,"Yes","Yes","I am an examiner for the final exam",null,"I occasionally carry out assessment during the residency program (Direct Observation of Procedural Skills - DOPS)","I give feedback during simulation sessions","I give feedback during everyday work","I am involved in other forms of formative assessment (for example multisource feedback)",{"$nulls":5},"No, it is assumed as being a part of everyday work",{"$nulls":3},"Lack of motivation","No recognition","Overloaded with work",{"$nulls":5},"Yes","Yes, I am well informed","Yes","I am not sure",null,"Content based curriculum",null,"National body responsible for education (Ministry of health or education, National board for anaesthesia …)","They have to pass a national board exam",null,"Written and oral examination"]
[12938137056,408998795,"2021-09-02T20:11:46","2021-09-07T18:16:48","83.79.9.13",{"$nulls":4},"41-50","Female","Switzerland","Switzerland","Europe","11-15",5,null,"Specialized clinic","No (please refer to Q21)"]
[12938124819,408998795,"2021-09-02T20:07:09","2021-09-05T22:23:23","194.230.155.153",{"$nulls":4},"31-35","Female","South Africa","Switzerland","Europe","5-10",5,"Senior resident","Academic hospital (Teaching or University related)","Yes (please refer to Q10)","Less than once a week","Less than 5",{"$nulls":4},"Advanced Life Support (ALS), Basic Life Support (BLS) or other specific courses",{"$nulls":3},"No",null,null,"Perform work-based interactive teaching (operating room)",{"$nulls":5},"Using visual aids","Interactive teaching","Problem based learning","Teaching the skills","Giving feedback",{"$nulls":3},"No","No",{"$nulls":4},"I give feedback during everyday work",null,"I am not involved in any kind of assessment",{"$nulls":4},"No, it is assumed as being a part of everyday work",null,"Lack of training",null,null,"No recognition","Overloaded with work",null,"Lack of organization"]
[12938121315,408998795,"2021-09-02T20:05:34","2021-09-05T12:45:23","139.178.58.75",{"$nulls":4},"50+","Male","Switzerland","Switzerland","Europe","over 20 years","Over 5","Specialist","General hospital","No (please refer to Q21)",{"$nulls":50},"Other (please specify)","No residents in anaesthesia ","Yes","I know what is it, but outcome-based education is not implemented in my country","No","I am not sure",{"$nulls":6},"Written and oral examination"]
[12938045888,408998795,"2021-09-02T19:36:11","2021-09-05T10:15:04","188.155.23.102",{"$nulls":4},"41-50","Female","Switzerland","Switzerland","Europe","over 20 years","Over 5","Senior resident","Academic hospital (Teaching or University related)","Yes (please refer to Q10)","Almost every day","11-15",{"$nulls":3},"Other short TTT courses","Advanced Life Support (ALS), Basic Life Support (BLS) or other specific courses","Simulation courses",null,null,"Yes",null,null,"Perform work-based interactive teaching (operating room)",null,"Involved in simulation sessions",{"$nulls":6},"Teaching the skills","Giving feedback",{"$nulls":3},"No","Yes",null,null,"I occasionally carry out assessment during the residency program (Direct Observation of Procedural Skills - DOPS)","I give feedback during simulation sessions","I give feedback during everyday work",{"$nulls":6},"No, it is assumed as being a part of everyday work",null,"Lack of training","Lack of time",{"$nulls":8},"Yes","Yes, I am well informed","No","I am not sure",null,"Competency (outcome) based curriculum",null,"Department of anaesthesiology","They have to pass a national board exam",null,"Written and oral examination"]
[12938127063,408998795,"2021-09-02T20:08:17","2021-09-02T20:15:24","179.190.98.226",{"$nulls":4},"50+","Male","Brazil","Brazil","South America","over 20 years",4,"Senior specialist","General hospital","Yes (please refer to Q10)","Almost every day","over 16",null,"Obligatory teaching courses for University teachers",null,null,"Advanced Life Support (ALS), Basic Life Support (BLS) or other specific courses","Simulation courses",null,"Doctoral in Anaesthesia ","No",null,"I give lectures","Perform work-based interactive teaching (operating room)","Running clinical case discussions",null,"Teach informally, during every day work",null,"Planning and preparation for teaching session","Using visual aids","Interactive teaching","Problem based learning",null,null,"Organizing and leading the discussions","Organizing specific sessions (journal clubs, interactive sessions, pro and con debate…)",null,"No","Yes",null,null,"I occasionally carry out assessment during the residency program (Direct Observation of Procedural Skills - DOPS)",null,"I give feedback during everyday work","I am involved in other forms of formative assessment (for example multisource feedback)",{"$nulls":5},"No, it is assumed as being a part of everyday work",{"$nulls":3},"Lack of motivation","No recognition","Overloaded with work",null,"Lack of organization",null,"I am not employed by the university",null,"Yes","I have some ideas, but it is not clear to me","I am not sure","I am not sure",null,"Classic surgical specialties based curriculum",null,"Society or association of anaesthesiology","They just have to complete the residency program (3-5 years)"]
[12938123874,408998795,"2021-09-02T20:06:49","2021-09-04T19:18:43","85.4.242.140",{"$nulls":4},"50+","Female","Switzerland","Switzerland","Europe","over 20 years","Over 5","Senior specialist","Specialized clinic","Yes (please refer to Q10)","Less than once a week","over 16",{"$nulls":4},"Advanced Life Support (ALS), Basic Life Support (BLS) or other specific courses",{"$nulls":3},"Yes, some elements, but not systematically",null,"I give lectures","Perform work-based interactive teaching (operating room)",null,"Involved in simulation sessions",{"$nulls":4},"Interactive teaching","Problem based learning","Teaching the skills","Giving feedback",null,"Organizing specific sessions (journal clubs, interactive sessions, pro and con debate…)",null,"Yes","Yes",{"$nulls":3},"I give feedback during simulation sessions",null,"I am involved in other forms of formative assessment (for example multisource feedback)",{"$nulls":5},"No, it is assumed as being a part of everyday work",null,"Lack of training","Lack of time","Lack of motivation","No recognition","Overloaded with work","Lack of opportunity","Lack of organization",{"$nulls":3},"Yes","I have some ideas, but it is not clear to me","No","I am not sure",null,"I do not know",null,"Department of anaesthesiology","They have to pass a national board exam",null,"Written, oral examination and some practical assessment"]
[12938036661,408998795,"2021-09-02T19:33:11","2021-09-02T20:12:25","160.179.179.99",{"$nulls":4},"41-50","Male","Morocco","Morocco","Africa","16-20",4,"Teacher (in University)","Academic hospital (Teaching or University related)","Yes (please refer to Q10)","Every day","11-15","Master in Medical Education",{"$nulls":3},"Advanced Life Support (ALS), Basic Life Support (BLS) or other specific courses","Simulation courses",null,null,"Yes",null,"I give lectures","Perform work-based interactive teaching (operating room)","Running clinical case discussions","Involved in simulation sessions","Teach informally, during every day work",null,"Planning and preparation for teaching session","Using visual aids","Interactive teaching",null,"Teaching the skills",null,"Organizing and leading the discussions",null,null,"No","Yes","I am an examiner for the final exam",null,"I occasionally carry out assessment during the residency program (Direct Observation of Procedural Skills - DOPS)","I give feedback during simulation sessions","I give feedback during everyday work",{"$nulls":3},"Yes, I am paid more",{"$nulls":8},"Overloaded with work",{"$nulls":5},"Yes","Yes, I am well informed","No","No",null,"I do not know",null,"Society or association of anaesthesiology","They have to pass a national board exam",null,"Written, oral examination and some practical assessment"]
[12938119131,408998795,"2021-09-02T20:05:21","2021-09-04T16:29:46","92.104.157.180",{"$nulls":4},"41-50","Male","Switzerland","Switzerland","Europe","16-20",5,"Lecturer","Academic hospital (Teaching or University related)","Yes (please refer to Q10)","Every day","11-15",null,"Obligatory teaching courses for University teachers",{"$nulls":3},"Simulation courses",null,null,"No",null,"I give lectures","Perform work-based interactive teaching (operating room)","Running clinical case discussions",null,"Teach informally, during every day work",{"$nulls":3},"Interactive teaching","Problem based learning","Teaching the skills","Giving feedback","Organizing and leading the discussions","Organizing specific sessions (journal clubs, interactive sessions, pro and con debate…)",null,"Yes","No","I am an examiner for the final exam",null,"I occasionally carry out assessment during the residency program (Direct Observation of Procedural Skills - DOPS)",null,"I give feedback during everyday work",{"$nulls":6},"No, it is assumed as being a part of everyday work",null,null,"Lack of time","Lack of motivation",{"$nulls":5},"Other (please specify)","My answer was yes","Yes","I do not know much","No","I am not sure",null,"Classic surgical specialties based curriculum",null,"Society or association of anaesthesiology","They have to pass a national board exam",null,"Written and oral examination"]
[12938114111,408998795,"2021-09-02T20:02:35","2021-09-02T20:10:52","197.252.209.135",{"$nulls":4},"31-35","Female","Sudan","Sudan","Africa","5-10",4,"Trainee","Academic hospital (Teaching or University related)","Yes (please refer to Q10)","When in the operating theater (always have an allocated resident)","Less than 5",{"$nulls":6},"None",null,"No",null,null,"Perform work-based interactive teaching (operating room)","Running clinical case discussions","Involved in simulation sessions",{"$nulls":3},"Using visual aids","Interactive teaching","Problem based learning","Teaching the skills","Giving feedback","Organizing and leading the discussions",null,null,"No","Yes",{"$nulls":3},"I give feedback during simulation sessions","I give feedback during everyday work",{"$nulls":6},"No, it is assumed as being a part of everyday work",null,null,"Lack of time",null,"No recognition","Overloaded with work",null,"Lack of organization",{"$nulls":3},"I do not know","I have no knowledge of what it is","No","I am not sure",null,"I do not know",null,"National body responsible for education (Ministry of health or education, National board for anaesthesia …)","They have to pass a national board exam",null,"VIVA (Oral examination), written and OSCE examination"]
[12938103789,408998795,"2021-09-02T19:59:25","2021-09-04T13:43:05","91.190.18.47",{"$nulls":4},"50+","Female","Switzerland","Switzerland","Europe","over 20 years","Over 5","Senior specialist","General hospital","Yes (please refer to Q10)","Almost every day","11-15","Master in Medical Education",{"$nulls":7},"No",null,"I give lectures","Perform work-based interactive teaching (operating room)",null,null,"Teach informally, during every day work","teach-the-teachers in WBA, one-minute-teacher, organize 3-M- introduction for new residents",null,"Using visual aids","Interactive teaching",null,null,"Giving feedback","Organizing and leading the discussions",null,null,"Yes","Yes","I am an examiner for the final exam",null,"I occasionally carry out assessment during the residency program (Direct Observation of Procedural Skills - DOPS)",null,"I give feedback during everyday work","I am involved in other forms of formative assessment (for example multisource feedback)",{"$nulls":4},"Yes, I have a more visible position in the department",{"$nulls":3},"Lack of time",{"$nulls":5},"motivation of fellow colleagues to help teaching",null,null,"Yes","Yes, I am well informed","I am not sure","Yes","09/24/2017","Content based curriculum",null,"Society or association of anaesthesiology","They have to pass a national board exam",null,"Written and oral examination"]
[12938109201,408998795,"2021-09-02T20:01:38","2021-09-03T11:50:34","212.203.51.160",{"$nulls":4},"50+","Female","Switzerland","Switzerland","Europe","over 20 years",5,"Specialist","General hospital","Yes (please refer to Q10)"]
[12938093572,408998795,"2021-09-02T19:55:13","2021-09-03T11:11:21","212.243.58.126",{"$nulls":4},"31-35","Female","Switzerland","Switzerland","Europe","5-10",5,"Senior resident","General hospital","Yes (please refer to Q10)","Every day","Less than 5",{"$nulls":6},"None",null,"Yes, some elements, but not systematically",null,null,"Perform work-based interactive teaching (operating room)",null,null,"Teach informally, during every day work",{"$nulls":5},"Teaching the skills","Giving feedback",{"$nulls":3},"No","Yes",null,null,"I occasionally carry out assessment during the residency program (Direct Observation of Procedural Skills - DOPS)",null,"I give feedback during everyday work","I am involved in other forms of formative assessment (for example multisource feedback)",{"$nulls":5},"No, it is assumed as being a part of everyday work",null,"Lack of training","Lack of time",null,null,"Overloaded with work",{"$nulls":5},"Yes","I do not know much","I am not sure","I am not sure",null,"Competency (outcome) based curriculum",null,"Society or association of anaesthesiology","They have to pass a national board exam",null,"Written and oral examination"]
[12938099654,408998795,"2021-09-02T19:58:13","2021-09-02T20:05:32","105.213.145.215",{"$nulls":4},"41-50","Female","South Africa","South Africa","Africa","16-20",4,"Chief of Department","Academic hospital (Teaching or University related)","Yes (please refer to Q10)","Almost every day","over 16",null,"Obligatory teaching courses for University teachers",{"$nulls":5},"Diploma in medical education","No",null,"I give lectures","Perform work-based interactive teaching (operating room)","Running clinical case discussions","Involved in simulation sessions","Teach informally, during every day work",null,"Planning and preparation for teaching session",null,"Interactive teaching",null,"Teaching the skills","Giving feedback","Organizing and leading the discussions",null,null,"Yes","Yes","I am an examiner for the final exam",{"$nulls":3},"I give feedback during everyday work",{"$nulls":4},"Yes, it is recognised for promotion in academia.",{"$nulls":4},"Lack of time",null,null,"Overloaded with work",{"$nulls":5},"Yes","Yes, I am well informed","No","Yes","01/01/2015","Competency (outcome) based curriculum",null,"National body responsible for education (Ministry of health or education, National board for anaesthesia …)","They have to pass a national board exam",null,"Written and oral examination, but also OSCE (Objective Structured Clinical Examination)"]
[12938114169,408998795,"2021-09-02T20:03:28","2021-09-03T10:22:24","194.165.44.10",{"$nulls":4},"50+","Male","Switzerland","Switzerland","Europe","over 20 years",5,"Senior specialist","Private hospital","Yes (please refer to Q10)","Once a week","over 16",{"$nulls":4},"Advanced Life Support (ALS), Basic Life Support (BLS) or other specific courses",{"$nulls":3},"No",null,"I give lectures",null,"Running clinical case discussions","Involved in simulation sessions",null,null,"Planning and preparation for teaching session","Using visual aids","Interactive teaching","Problem based learning","Teaching the skills","Giving feedback","Organizing and leading the discussions","Organizing specific sessions (journal clubs, interactive sessions, pro and con debate…)",null,"Yes","Yes","I am an examiner for the final exam",null,null,"I give feedback during simulation sessions","I give feedback during everyday work","I am involved in other forms of formative assessment (for example multisource feedback)",{"$nulls":5},"No, it is assumed as being a part of everyday work",{"$nulls":3},"Lack of motivation","No recognition","Overloaded with work",{"$nulls":5},"Yes","I have no knowledge of what it is","No","Yes","03/21/2018","Content based curriculum",null,"Department of anaesthesiology","They have to pass a national board exam",null,"Written and oral examination"]
[12938091690,408998795,"2021-09-02T19:53:43","2021-09-03T10:03:15","212.243.58.126",{"$nulls":4},"41-50","Male","Switzerland","Switzerland","Europe","16-20","Less than 3","Specialist","General hospital","Yes (please refer to Q10)","Almost every day","6-10",{"$nulls":3},"Other short TTT courses",{"$nulls":4},"Yes, some elements, but not systematically",null,"I give lectures","Perform work-based interactive teaching (operating room)",{"$nulls":7},"Problem based learning","Teaching the skills","Giving feedback",{"$nulls":3},"Yes","Yes","I am an examiner for the final exam",null,"I occasionally carry out assessment during the residency program (Direct Observation of Procedural Skills - DOPS)",null,"I give feedback during everyday work","I am involved in other forms of formative assessment (for example multisource feedback)",{"$nulls":4},"Yes, I have a more visible position in the department",{"$nulls":3},"Lack of time",{"$nulls":8},"Yes","Yes, I am well informed","I am not sure","I am not sure",null,"Content based curriculum",null,"Society or association of anaesthesiology","They have to pass a national board exam",null,"Written and oral examination"]
[12937954730,408998795,"2021-09-02T19:00:32","2021-09-03T09:08:36","178.193.1.75",{"$nulls":4},"50+","Female","Switzerland","Switzerland","Europe","over 20 years","Over 5","Senior specialist","Academic hospital (Teaching or University related)","Yes (please refer to Q10)","Every day","over 16","Master in Medical Education",null,null,"Other short TTT courses","Advanced Life Support (ALS), Basic Life Support (BLS) or other specific courses","Simulation courses",null,null,"Yes, some elements, but not systematically",null,"I give lectures","Perform work-based interactive teaching (operating room)","Running clinical case discussions","Involved in simulation sessions","Teach informally, during every day work",null,"Planning and preparation for teaching session","Using visual aids","Interactive teaching","Problem based learning","Teaching the skills","Giving feedback",null,null,"Direkt observation of clinical encounter","Yes","Yes",null,null,"I occasionally carry out assessment during the residency program (Direct Observation of Procedural Skills - DOPS)","I give feedback during simulation sessions","I give feedback during everyday work","I am involved in other forms of formative assessment (for example multisource feedback)",null,null,"Yes, I am paid more",null,"Yes, I have a more visible position in the department",{"$nulls":3},"Lack of time",{"$nulls":8},"Yes","Yes, I am well informed","Yes","Yes","09/22/2019","Competency (outcome) based curriculum",null,"Society or association of anaesthesiology","Other (please specify)","They have to pass the EDAIC part I and pass an oral final exam in Switzerland","Other (please specify)"]
[12938074413,408998795,"2021-09-02T19:47:53","2021-09-03T07:17:09","178.192.115.101",{"$nulls":4},"50+","Male","Switzerland","Switzerland","Europe","over 20 years",5,"Teacher (in University)","Academic hospital (Teaching or University related)","Yes (please refer to Q10)","Almost every day","over 16",{"$nulls":4},"Advanced Life Support (ALS), Basic Life Support (BLS) or other specific courses","Simulation courses",null,null,"No",null,"I give lectures","Perform work-based interactive teaching (operating room)","Running clinical case discussions","Involved in simulation sessions","Teach informally, during every day work",null,"Planning and preparation for teaching session","Using visual aids","Interactive teaching","Problem based learning","Teaching the skills","Giving feedback","Organizing and leading the discussions","Organizing specific sessions (journal clubs, interactive sessions, pro and con debate…)",null,"Yes","Yes","I am an examiner for the final exam","I am European Diploma in Anaesthesia and Intensive Care (EDAIC) part II examiner","I occasionally carry out assessment during the residency program (Direct Observation of Procedural Skills - DOPS)","I give feedback during simulation sessions","I give feedback during everyday work",{"$nulls":6},"No, it is assumed as being a part of everyday work",null,null,"Lack of time",null,null,"Overloaded with work","Lack of opportunity","Lack of organization",{"$nulls":3},"Yes","I have no knowledge of what it is","I am not sure","No",null,"Content based curriculum",null,"National body responsible for education (Ministry of health or education, National board for anaesthesia …)","They have to pass a national board exam",null,"Written and oral examination"]
[12938074164,408998795,"2021-09-02T19:48:37","2021-09-02T19:54:07","212.179.254.164",{"$nulls":4},"50+","Female","Israel","Israel","Asia","over 20 years",5,"Chief of Department","Academic hospital (Teaching or University related)","Yes (please refer to Q10)","Almost every day","over 16",{"$nulls":5},"Simulation courses",null,null,"No",null,"I give lectures","Perform work-based interactive teaching (operating room)","Running clinical case discussions","Involved in simulation sessions","Teach informally, during every day work","PBLD, multiple choice questions with discussion","Planning and preparation for teaching session","Using visual aids","Interactive teaching","Problem based learning","Teaching the skills","Giving feedback","Organizing and leading the discussions","Organizing specific sessions (journal clubs, interactive sessions, pro and con debate…)",null,"Yes","Yes","I am an examiner for the final exam","I am European Diploma in Anaesthesia and Intensive Care (EDAIC) part II examiner",null,"I give feedback during simulation sessions","I give feedback during everyday work","I am involved in other forms of formative assessment (for example multisource feedback)",{"$nulls":5},"No, it is assumed as being a part of everyday work",null,null,"Lack of time",null,null,"Overloaded with work",{"$nulls":5},"Yes","Yes, I am well informed","I am not sure","No",null,"Content based curriculum",null,"National body responsible for education (Ministry of health or education, National board for anaesthesia …)","They have to pass a national board exam",null,"Written, oral examination and some practical assessment"]
[12938069532,408998795,"2021-09-02T19:45:44","2021-09-02T21:06:05","178.195.156.35",{"$nulls":4},"50+","Male","Switzerland","Switzerland","Europe","over 20 years",5,"Other","Academic hospital (Teaching or University related)","No (please refer to Q21)",{"$nulls":50},"Other (please specify)","Retired"]
[12938056666,408998795,"2021-09-02T19:40:05","2021-09-02T18:55:40","31.10.143.18",{"$nulls":4},"36-40","Female","Switzerland","Switzerland","Europe","11-15","Over 5","Senior resident","General hospital","Yes (please refer to Q10)","Every day","Less than 5",{"$nulls":4},"Advanced Life Support (ALS), Basic Life Support (BLS) or other specific courses","Simulation courses",null,null,"No",null,"I give lectures","Perform work-based interactive teaching (operating room)","Running clinical case discussions","Involved in simulation sessions","Teach informally, during every day work",null,"Planning and preparation for teaching session",null,"Interactive teaching","Problem based learning","Teaching the skills","Giving feedback","Organizing and leading the discussions",null,null,"No","Yes",null,null,"I occasionally carry out assessment during the residency program (Direct Observation of Procedural Skills - DOPS)",null,"I give feedback during everyday work","I am involved in other forms of formative assessment (for example multisource feedback)",{"$nulls":5},"No, it is assumed as being a part of everyday work",null,null,"Lack of time",null,null,"Overloaded with work","Lack of opportunity","Lack of organization",{"$nulls":3},"Yes","I do not know much","No","No",null,"Classic surgical specialties based curriculum",null,"Society or association of anaesthesiology","They have to pass EDAIC part I"]
[]
[12938061468,408998795,"2021-09-02T19:43:25","2021-10-07T23:33:54","46.217.193.230",{"$nulls":4},"41-50","Female","The former Yugoslav Republic of Macedonia","The former Yugoslav Republic of Macedonia","Europe","11-15",5,"Lecturer","Academic hospital (Teaching or University related)","Yes (please refer to Q10)","Every day","6-10",null,null,"ESAIC Teach the Teacher (TTT) courses",null,"Advanced Life Support (ALS), Basic Life Support (BLS) or other specific courses","Simulation courses",null,null,"No, but students are exposed to outcome based teaching",null,null,"Perform work-based interactive teaching (operating room)","Running clinical case discussions","Involved in simulation sessions","Teach informally, during every day work",{"$nulls":3},"Interactive teaching","Problem based learning","Teaching the skills",{"$nulls":4},"No","No",{"$nulls":3},"I give feedback during simulation sessions","I give feedback during everyday work",{"$nulls":6},"No, it is assumed as being a part of everyday work",{"$nulls":4},"No recognition",null,"Lack of opportunity","Lack of organization",{"$nulls":3},"No","I do not know much",null,"I am not sure",null,"Classic surgical specialties based curriculum",null,"National body responsible for education (Ministry of health or education, National board for anaesthesia …)","They have to pass a national board exam",null,"Written, oral examination and some practical assessment"]
[12938064956,408998795,"2021-09-02T19:44:34","2021-09-29T15:08:50","89.205.125.189",{"$nulls":4},"41-50","Female","The former Yugoslav Republic of Macedonia","The former Yugoslav Republic of Macedonia","Europe","5-10",5,"Specialist","Academic hospital (Teaching or University related)","No (please refer to Q21)",{"$nulls":50},"I work with residents, but I do not see that as teaching",null,"Yes","I have some ideas, but it is not clear to me","No","No",null,"Content based curriculum",null,"University","They have to pass a university board exam",null,"Written, oral examination and some practical assessment"]
[12938010705,408998795,"2021-09-02T19:08:38","2021-09-03T10:09:27","37.25.87.148",{"$nulls":4},"36-40","Female","The former Yugoslav Republic of Macedonia","The former Yugoslav Republic of Macedonia","Europe","11-15",5,"Senior specialist","Academic hospital (Teaching or University related)","Yes (please refer to Q10)","Every day","6-10","Master in Medical Education",null,"ESAIC Teach the Teacher (TTT) courses",null,"Advanced Life Support (ALS), Basic Life Support (BLS) or other specific courses",{"$nulls":3},"No",null,"I give lectures","Perform work-based interactive teaching (operating room)","Running clinical case discussions",null,"Teach informally, during every day work",null,"Planning and preparation for teaching session","Using visual aids","Interactive teaching","Problem based learning","Teaching the skills","Giving feedback","Organizing and leading the discussions",null,null,"No","Yes",null,null,"I occasionally carry out assessment during the residency program (Direct Observation of Procedural Skills - DOPS)",null,"I give feedback during everyday work",{"$nulls":3},"Yes, I am paid more","Yes, it is recognised for promotion in academia.",{"$nulls":4},"Lack of time",null,null,"Overloaded with work",null,"Lack of organization",{"$nulls":3},"No","I know what is it, but outcome-based education is not implemented in my country","Yes","No",null,"Classic surgical specialties based curriculum",null,"University","They have to pass a university board exam",null,"It is only oral examination"]
[12938055027,408998795,"2021-09-02T19:41:00","2021-09-02T19:45:10","128.151.71.24",{"$nulls":4},"36-40","Male","United States of America","United States of America","North America","5-10",4,"Specialist","Academic hospital (Teaching or University related)","Yes (please refer to Q10)","Almost every day","6-10",{"$nulls":3},"Other short TTT courses",null,"Simulation courses",null,null,"Yes, some elements, but not systematically",null,"I give lectures","Perform work-based interactive teaching (operating room)","Running clinical case discussions",null,"Teach informally, during every day work",null,"Planning and preparation for teaching session","Using visual aids","Interactive teaching","Problem based learning","Teaching the skills",null,"Organizing and leading the discussions","Organizing specific sessions (journal clubs, interactive sessions, pro and con debate…)",null,"Yes","Yes",null,null,"I occasionally carry out assessment during the residency program (Direct Observation of Procedural Skills - DOPS)",null,"I give feedback during everyday work","I am involved in other forms of formative assessment (for example multisource feedback)",{"$nulls":3},"Yes, it is recognised for promotion in academia.","Yes, I have a more visible position in the department",{"$nulls":3},"Lack of time",null,null,"Overloaded with work",{"$nulls":5},"Yes","Yes, I am well informed","No","Yes",null,"Competency (outcome) based curriculum",null,"Department of anaesthesiology","They have to pass a national board exam",null,"Written, oral examination and some practical assessment"]
[12938040890,408998795,"2021-09-02T19:32:04","2021-09-02T20:18:29","89.205.125.189",{"$nulls":4},"41-50","Female","The former Yugoslav Republic of Macedonia","The former Yugoslav Republic of Macedonia","Europe","5-10",5,"Specialist","Academic hospital (Teaching or University related)","Yes (please refer to Q10)","Once a week","Less than 5",null,null,"ESAIC Teach the Teacher (TTT) courses",{"$nulls":5},"No",null,null,"Perform work-based interactive teaching (operating room)",null,null,"Teach informally, during every day work",{"$nulls":6},"Giving feedback",{"$nulls":3},"No","No",{"$nulls":4},"I give feedback during everyday work",{"$nulls":6},"No, it is assumed as being a part of everyday work",{"$nulls":5},"Overloaded with work",{"$nulls":3},"I work with residents, but I do not see that as teaching",null,"Yes","I know what is it, but outcome-based education is not implemented in my country","No","No",null,"Content based curriculum",null,"University","They have to pass a university board exam",null,"Written, oral examination and some practical assessment"]
[12937833801,408998795,"2021-09-02T18:13:59","2021-09-02T18:57:10","89.205.125.200",{"$nulls":4},"41-50","Male","The former Yugoslav Republic of Macedonia","The former Yugoslav Republic of Macedonia","Europe","11-15",5,"Lecturer","Academic hospital (Teaching or University related)","Yes (please refer to Q10)","Once a week","Less than 5",null,null,"ESAIC Teach the Teacher (TTT) courses",null,"Advanced Life Support (ALS), Basic Life Support (BLS) or other specific courses",{"$nulls":3},"No",null,null,"Perform work-based interactive teaching (operating room)","Running clinical case discussions","Involved in simulation sessions",null,null,"Planning and preparation for teaching session",null,"Interactive teaching",null,"Teaching the skills","Giving feedback","Organizing and leading the discussions",null,null,"Yes","Yes",{"$nulls":3},"I give feedback during simulation sessions","I give feedback during everyday work","I am involved in other forms of formative assessment (for example multisource feedback)",{"$nulls":4},"Yes, I have a more visible position in the department",{"$nulls":3},"Lack of time",null,"No recognition","Overloaded with work",{"$nulls":3},"Other (please specify)","Iam teaching residents","Yes","Yes, I am well informed","I am not sure","I am not sure","09/01/2021","Classic surgical specialties based curriculum",null,"University","They have to pass a university board exam",null,"Written, oral examination and some practical assessment"]
[12938040944,408998795,"2021-09-02T19:34:26","2021-10-01T16:23:18","195.155.171.214",{"$nulls":4},"41-50","Female","Turkey","Turkey","Europe","16-20","Over 5","Specialist","Academic hospital (Teaching or University related)","No (please refer to Q21)",{"$nulls":50},"I work with residents, but I do not see that as teaching"]
[12938020705,408998795,"2021-09-02T19:26:05","2021-09-02T19:36:25","187.181.137.130",{"$nulls":4},"50+","Female","Brazil","Brazil","South America","over 20 years",3,"Senior specialist","General hospital","Yes (please refer to Q10)","Once a week","6-10",{"$nulls":4},"Advanced Life Support (ALS), Basic Life Support (BLS) or other specific courses",{"$nulls":3},"No",null,null,"Perform work-based interactive teaching (operating room)",{"$nulls":7},"Problem based learning",{"$nulls":5},"No","No",{"$nulls":6},"I am not involved in any kind of assessment",{"$nulls":4},"No, it is assumed as being a part of everyday work",null,"Lack of training",null,null,"No recognition",{"$nulls":4},"I work with residents, but I do not see that as teaching",null,"I do not know","I have some ideas, but it is not clear to me","No","I am not sure",null,"I do not know",null,"Society or association of anaesthesiology","They have to pass a national board exam",null,"Written and oral examination"]
[12938013306,408998795,"2021-09-02T19:23:15","2021-09-29T20:20:20","88.246.24.35",{"$nulls":4},"50+","Male","Turkey","Turkey","Europe","over 20 years",4,"Teacher (in University)","Academic hospital (Teaching or University related)","No (please refer to Q21)",{"$nulls":50},"Other (please specify)","I am primarily in ICU and the residents rarely come to ICU","I do not know","I have some ideas, but it is not clear to me","I am not sure","No",null,"Classic surgical specialties based curriculum",null,"Department of anaesthesiology","They have to pass a university board exam",null,"It is only oral examination"]
[12938024259,408998795,"2021-09-02T19:27:56","2021-09-29T13:50:13","176.55.16.177",{"$nulls":4},"41-50","Female","Turkey","Turkey","Europe","16-20",5,"Senior specialist","Academic hospital (Teaching or University related)","Yes (please refer to Q10)","Almost every day","11-15",null,"Obligatory teaching courses for University teachers","ESAIC Teach the Teacher (TTT) courses","Other short TTT courses","Advanced Life Support (ALS), Basic Life Support (BLS) or other specific courses","Simulation courses",{"$nulls":4},"I give lectures","Perform work-based interactive teaching (operating room)","Running clinical case discussions","Involved in simulation sessions","Teach informally, during every day work",null,"Planning and preparation for teaching session","Using visual aids","Interactive teaching","Problem based learning","Teaching the skills","Giving feedback","Organizing and leading the discussions","Organizing specific sessions (journal clubs, interactive sessions, pro and con debate…)",null,"Yes","Yes","I am an examiner for the final exam","I am European Diploma in Anaesthesia and Intensive Care (EDAIC) part II examiner","I occasionally carry out assessment during the residency program (Direct Observation of Procedural Skills - DOPS)","I give feedback during simulation sessions","I give feedback during everyday work","I am involved in other forms of formative assessment (for example multisource feedback)",{"$nulls":3},"Yes, it is recognised for promotion in academia.",{"$nulls":3},"Lack of training","Lack of time","Lack of motivation",null,"Overloaded with work","Lack of opportunity","Lack of organization",{"$nulls":3},"Yes","Yes, I am well informed","Yes","I am not sure",null,"Content based curriculum",null,"University","They have to pass a university board exam",null,"Written and oral examination","Only written"]
[12938008485,408998795,"2021-09-02T19:21:53","2021-09-29T10:08:42","46.106.74.255",{"$nulls":4},"41-50","Female","Turkey","Turkey","Europe","11-15","Over 5"]
[12938006316,408998795,"2021-09-02T19:20:30","2021-09-27T09:37:44","178.246.251.57",{"$nulls":4},"41-50","Female","Turkey","Turkey","Europe","11-15",5,"Specialist","Private hospital","Yes (please refer to Q10)"]
[12938019418,408998795,"2021-09-02T19:27:00","2021-09-26T21:42:47","141.196.68.6",{"$nulls":4},"50+","Male","Turkey","Turkey","Europe","over 20 years","Over 5","Specialist","Private hospital","No (please refer to Q21)",{"$nulls":50},"I work in a non-teaching hospital",null,"Yes","I have some ideas, but it is not clear to me","No","Yes","06/01/2011","I do not know",null,"Department of anaesthesiology","They just have to complete the residency program (3-5 years)",null,"Written, oral examination and some practical assessment"]
[12937987865,408998795,"2021-09-02T18:35:47","2021-09-24T18:59:00","178.246.147.56",{"$nulls":4},"36-40","Female","Turkey","Turkey","Europe","11-15",5,"Specialist","Academic hospital (Teaching or University related)","Yes (please refer to Q10)","Every day","6-10",{"$nulls":3},"Other short TTT courses","Advanced Life Support (ALS), Basic Life Support (BLS) or other specific courses",{"$nulls":3},"Yes",null,"I give lectures","Perform work-based interactive teaching (operating room)",null,null,"Teach informally, during every day work",{"$nulls":3},"Interactive teaching","Problem based learning",null,"Giving feedback",null,"Organizing specific sessions (journal clubs, interactive sessions, pro and con debate…)",null,"Yes","No",{"$nulls":4},"I give feedback during everyday work",{"$nulls":6},"No, it is assumed as being a part of everyday work",null,null,"Lack of time","Lack of motivation","No recognition","Overloaded with work","Lack of opportunity","Lack of organization"]
[12938013506,408998795,"2021-09-02T19:23:12","2021-09-24T08:31:15","188.58.92.106",{"$nulls":4},"41-50","Male","Turkey","Turkey","Europe","over 20 years",4,"Teacher (in University)","Academic hospital (Teaching or University related)","Yes (please refer to Q10)","Every day","11-15",null,"Obligatory teaching courses for University teachers","ESAIC Teach the Teacher (TTT) courses","Other short TTT courses","Advanced Life Support (ALS), Basic Life Support (BLS) or other specific courses",{"$nulls":3},"No",null,"I give lectures","Perform work-based interactive teaching (operating room)","Running clinical case discussions",null,"Teach informally, during every day work",null,"Planning and preparation for teaching session","Using visual aids","Interactive teaching","Problem based learning","Teaching the skills","Giving feedback","Organizing and leading the discussions",null,null,"Yes","Yes","I am an examiner for the final exam",null,"I occasionally carry out assessment during the residency program (Direct Observation of Procedural Skills - DOPS)","I give feedback during simulation sessions","I give feedback during everyday work",{"$nulls":6},"No, it is assumed as being a part of everyday work",null,null,"Lack of time","Lack of motivation","No recognition","Overloaded with work",{"$nulls":5},"Yes","Yes, I am well informed","Yes","I am not sure",null,"Content based curriculum",null,"Department of anaesthesiology","They have to pass a university board exam",null,"It is only oral examination"]
[12937867352,408998795,"2021-09-02T18:26:44","2021-09-02T19:24:27","186.141.202.198",{"$nulls":4},"36-40","Male","Argentina","Argentina","South America","5-10",5,"Specialist","Academic hospital (Teaching or University related)","Yes (please refer to Q10)","When in the operating theater (always have an allocated resident)","6-10",{"$nulls":4},"Advanced Life Support (ALS), Basic Life Support (BLS) or other specific courses","Simulation courses",null,null,"Yes, some elements, but not systematically",null,"I give lectures","Perform work-based interactive teaching (operating room)","Running clinical case discussions","Involved in simulation sessions","Teach informally, during every day work",null,"Planning and preparation for teaching session","Using visual aids",null,"Problem based learning","Teaching the skills","Giving feedback","Organizing and leading the discussions",null,null,"Yes","Yes",null,null,"I occasionally carry out assessment during the residency program (Direct Observation of Procedural Skills - DOPS)","I give feedback during simulation sessions","I give feedback during everyday work","I am involved in other forms of formative assessment (for example multisource feedback)",{"$nulls":6},"No",null,null,"Lack of motivation","No recognition","Overloaded with work",null,"Lack of organization",{"$nulls":3},"Yes","Yes, I am well informed","Yes","No",null,"Classic surgical specialties based curriculum",null,"Society or association of anaesthesiology","They have to pass EDAIC part I",null,"Written and oral examination, but also OSCE (Objective Structured Clinical Examination)"]
[12937991253,408998795,"2021-09-02T19:14:46","2021-09-23T19:39:35","46.106.33.145",{"$nulls":4},"50+","Male","Turkey","Turkey","Europe","over 20 years",5,"Chief of Department","Academic hospital (Teaching or University related)","Yes (please refer to Q10)","Less than once a week","over 16",null,"Obligatory teaching courses for University teachers",null,null,"Advanced Life Support (ALS), Basic Life Support (BLS) or other specific courses","Simulation courses",null,null,"Yes, some elements, but not systematically",null,"I give lectures","Perform work-based interactive teaching (operating room)","Running clinical case discussions","Involved in simulation sessions","Teach informally, during every day work",null,"Planning and preparation for teaching session",null,"Interactive teaching","Problem based learning",null,"Giving feedback","Organizing and leading the discussions",null,null,"No","Yes","I am an examiner for the final exam",null,null,"I give feedback during simulation sessions","I give feedback during everyday work",{"$nulls":7},"No",null,"Lack of time","Lack of motivation","No recognition","Overloaded with work",null,"Lack of organization",{"$nulls":3},"I do not know","I have some ideas, but it is not clear to me","I am not sure","I am not sure",null,"Content based curriculum",null,"Department of anaesthesiology","Other (please specify)","Theron have to complete 4.5-5 years residancy program, a thesis about anesthesia, Critical care ör pain Medicine and have to pass an oral final exam in the clinic which is made by four anesthesiılogist and a guest teacher whose professional is related to thesis’s subject  ","Other (please specify)"]
[12937997997,408998795,"2021-09-02T19:17:43","2021-09-02T19:23:31","187.190.184.2",{"$nulls":4},"50+","Female","Mexico","Mexico","North America","over 20 years",3,"Specialist","Academic hospital (Teaching or University related)","Yes (please refer to Q10)","Almost every day","over 16",{"$nulls":4},"Advanced Life Support (ALS), Basic Life Support (BLS) or other specific courses",null,"None",null,"No",null,null,"Perform work-based interactive teaching (operating room)",null,null,"Teach informally, during every day work",{"$nulls":3},"Interactive teaching","Problem based learning",null,null,"Organizing and leading the discussions","Organizing specific sessions (journal clubs, interactive sessions, pro and con debate…)",null,"Yes","No",{"$nulls":6},"I am not involved in any kind of assessment",{"$nulls":4},"No, it is assumed as being a part of everyday work",null,"Lack of training",null,"Lack of motivation",null,null,"Lack of opportunity","Lack of organization",{"$nulls":3},"Yes","I know what is it, but outcome-based education is not implemented in my country","No","No","09/02/2021","Classic surgical specialties based curriculum",null,"Department of anaesthesiology","They have to pass a national board exam",null,"Written and oral examination"]
[12937992585,408998795,"2021-09-02T19:15:36","2021-09-23T14:36:36","92.45.204.6",{"$nulls":4},"31-35","Female","Turkey","Turkey","Europe","5-10","Less than 3","Specialist","Academic hospital (Teaching or University related)","No (please refer to Q21)"]
[12937988849,408998795,"2021-09-02T19:13:51","2021-09-23T13:33:28","94.54.236.244",{"$nulls":4},"31-35","Female","Bulgaria","Turkey","Europe","5-10",5,"Specialist","Academic hospital (Teaching or University related)","No (please refer to Q21)",{"$nulls":50},"I am not employed by the university",null,"Yes","Yes, I am well informed","Yes","I am not sure","09/23/2021","Competency (outcome) based curriculum",null,"I do not know","They have to pass a university board exam",null,"Written, oral examination and some practical assessment","Practical assessment and oral examination"]
[12937986125,408998795,"2021-09-02T19:13:03","2021-09-23T13:10:14","95.0.165.84",{"$nulls":4},"41-50","Female","Turkey","Turkey","Europe","over 20 years",5,"Teacher (in University)","Academic hospital (Teaching or University related)","Yes (please refer to Q10)","Every day","11-15",null,"Obligatory teaching courses for University teachers",null,"Other short TTT courses","Advanced Life Support (ALS), Basic Life Support (BLS) or other specific courses",{"$nulls":3},"Yes, some elements, but not systematically",null,"I give lectures","Perform work-based interactive teaching (operating room)","Running clinical case discussions",null,"Teach informally, during every day work",null,"Planning and preparation for teaching session","Using visual aids","Interactive teaching","Problem based learning","Teaching the skills","Giving feedback",null,"Organizing specific sessions (journal clubs, interactive sessions, pro and con debate…)",null,"Yes","No",{"$nulls":5},"I am involved in other forms of formative assessment (for example multisource feedback)",{"$nulls":6},"No",{"$nulls":3},"No recognition","Overloaded with work",null,"Lack of organization",{"$nulls":3},"Yes","Yes, I am well informed","No","I am not sure",null,"Competency (outcome) based curriculum",null,"Society or association of anaesthesiology","They have to pass a university board exam",null,"Written, oral examination and some practical assessment"]
[12937964093,408998795,"2021-09-02T19:04:23","2021-09-23T12:32:06","178.241.102.113",{"$nulls":4},"50+","Female","Turkey","Turkey","Europe","over 20 years",4,"Teacher (in University)","General hospital","Yes (please refer to Q10)"]
[12937981188,408998795,"2021-09-02T19:10:28","2021-09-23T11:42:12","84.51.15.34",{"$nulls":4},"41-50","Female","Turkey","Turkey","Europe","11-15","Less than 3","Senior specialist","Private hospital","Yes (please refer to Q10)","Less than once a week","11-15",null,"Obligatory teaching courses for University teachers",{"$nulls":6},"Yes, some elements, but not systematically",null,null,"Perform work-based interactive teaching (operating room)",{"$nulls":6},"Interactive teaching","Problem based learning",{"$nulls":5},"No","No",{"$nulls":5},"I am involved in other forms of formative assessment (for example multisource feedback)",{"$nulls":6},"No",null,null,"Lack of motivation",null,"Overloaded with work",{"$nulls":3},"I work with residents, but I do not see that as teaching"]
[12937974008,408998795,"2021-09-02T19:07:55","2021-09-23T11:28:34","176.219.41.222",{"$nulls":4},"31-35","Female","Turkey","Turkey","Europe","11-15",4,"Specialist","Academic hospital (Teaching or University related)","Yes (please refer to Q10)","When in the operating theater (always have an allocated resident)","6-10",{"$nulls":4},"Advanced Life Support (ALS), Basic Life Support (BLS) or other specific courses",{"$nulls":3},"Yes, some elements, but not systematically",null,null,"Perform work-based interactive teaching (operating room)",{"$nulls":6},"Interactive teaching","Problem based learning",{"$nulls":5},"Yes","Yes",null,null,"I occasionally carry out assessment during the residency program (Direct Observation of Procedural Skills - DOPS)",null,"I give feedback during everyday work",{"$nulls":6},"No, it is assumed as being a part of everyday work",null,"Lack of training","Lack of time","Lack of motivation",null,null,"Lack of opportunity","Lack of organization",{"$nulls":3},"Yes","I have some ideas, but it is not clear to me","I am not sure","I am not sure",null,"Content based curriculum",null,"Department of anaesthesiology","They have to pass a university board exam",null,"Written, oral examination and some practical assessment"]
[12937967489,408998795,"2021-09-02T19:05:23","2021-09-23T10:47:53","88.255.66.69",{"$nulls":4},"41-50","Female","Turkey","Turkey","Europe","16-20",4,"Teacher (in University)","Academic hospital (Teaching or University related)","Yes (please refer to Q10)","Every day","11-15",null,"Obligatory teaching courses for University teachers",null,null,"Advanced Life Support (ALS), Basic Life Support (BLS) or other specific courses",{"$nulls":3},"Yes",null,"I give lectures","Perform work-based interactive teaching (operating room)","Running clinical case discussions","Involved in simulation sessions","Teach informally, during every day work",null,"Planning and preparation for teaching session",null,"Interactive teaching","Problem based learning",null,null,"Organizing and leading the discussions",null,null,"No","Yes",null,null,"I occasionally carry out assessment during the residency program (Direct Observation of Procedural Skills - DOPS)","I give feedback during simulation sessions","I give feedback during everyday work",{"$nulls":6},"No, it is assumed as being a part of everyday work",{"$nulls":3},"Lack of motivation",null,"Overloaded with work",null,"Lack of organization",{"$nulls":3},"Yes","I have no knowledge of what it is","No","No",null,"Classic surgical specialties based curriculum",null,"National body responsible for education (Ministry of health or education, National board for anaesthesia …)","Other (please specify)","oral exam in the institution","It is only oral examination"]
[12937986549,408998795,"2021-09-02T19:13:16","2021-09-23T10:29:56","176.237.22.244",{"$nulls":4},"41-50","Female","Turkey","Turkey","Europe","16-20",5,"Specialist","Academic hospital (Teaching or University related)","Yes (please refer to Q10)"]
[12937968999,408998795,"2021-09-02T19:06:05","2021-09-23T09:58:51","85.111.55.14",{"$nulls":4},"50+","Female","Turkey","Turkey","Europe","over 20 years",4,"Teacher (in University)","Academic hospital (Teaching or University related)","Yes (please refer to Q10)","Once a week","over 16",{"$nulls":4},"Advanced Life Support (ALS), Basic Life Support (BLS) or other specific courses",{"$nulls":3},"Yes, some elements, but not systematically",{"$nulls":3},"Running clinical case discussions",null,"Teach informally, during every day work",{"$nulls":4},"Problem based learning","Teaching the skills","Giving feedback",{"$nulls":3},"Yes","No",{"$nulls":5},"I am involved in other forms of formative assessment (for example multisource feedback)",{"$nulls":6},"No",null,"Lack of time",null,null,"Overloaded with work","Lack of opportunity",null,null,"I work with residents, but I do not see that as teaching",null,"I do not know","I have no knowledge of what it is","I am not sure","I am not sure",null,"Content based curriculum",null,"I do not know","They just have to complete the residency program (3-5 years)",null,"It is only oral examination"]
[12937982238,408998795,"2021-09-02T19:10:09","2021-09-23T09:43:19","176.237.78.226",{"$nulls":4},"36-40","Male","Turkey","Turkey","Europe","5-10","Over 5","Teacher (in University)","Academic hospital (Teaching or University related)","No (please refer to Q21)","Every day","Less than 5",null,"Obligatory teaching courses for University teachers",{"$nulls":6},"Yes, some elements, but not systematically",null,"I give lectures","Perform work-based interactive teaching (operating room)",null,null,"Teach informally, during every day work",null,"Planning and preparation for teaching session",null,"Interactive teaching","Problem based learning",null,null,"Organizing and leading the discussions",null,null,"Yes","Yes",{"$nulls":6},"I am not involved in any kind of assessment",{"$nulls":3},"Yes, I have a more visible position in the department",{"$nulls":3},"Lack of time","Lack of motivation",null,"Overloaded with work",{"$nulls":3},"I work with residents, but I do not see that as teaching"]
[12937957652,408998795,"2021-09-02T19:00:10","2021-09-23T09:17:47","46.154.158.72",{"$nulls":4},"31-35","Female","Turkey","Turkey","Europe","5-10",5,"Specialist","Academic hospital (Teaching or University related)","Yes (please refer to Q10)","Every day","Less than 5",{"$nulls":6},"None",null,"Yes, some elements, but not systematically",null,null,"Perform work-based interactive teaching (operating room)",{"$nulls":6},"Interactive teaching","Problem based learning",null,"Giving feedback",{"$nulls":3},"No","Yes",null,null,"I occasionally carry out assessment during the residency program (Direct Observation of Procedural Skills - DOPS)",null,"I give feedback during everyday work",{"$nulls":6},"No, it is assumed as being a part of everyday work",null,null,"Lack of time",null,null,"Overloaded with work","Lack of opportunity","Lack of organization",null,"I work with residents, but I do not see that as teaching",null,"Yes","I have some ideas, but it is not clear to me","Yes","I am not sure",null,"Content based curriculum",null,"Department of anaesthesiology","They just have to complete the residency program (3-5 years)",null,"It is only oral examination"]
[12937980388,408998795,"2021-09-02T19:08:38","2021-09-23T08:51:45","46.155.231.142",{"$nulls":4},"31-35","Male","Turkey","Turkey","Europe","5-10","Less than 3","Trainee","Academic hospital (Teaching or University related)","No (please refer to Q21)",{"$nulls":50},"I am not employed by the university"]
[12937963530,408998795,"2021-09-02T19:04:16","2021-09-23T08:28:23","176.220.50.95",{"$nulls":4},"36-40","Female","Turkey","Turkey","Europe","5-10","Over 5","Specialist","Academic hospital (Teaching or University related)","Yes (please refer to Q10)","Every day","Less than 5",null,"Obligatory teaching courses for University teachers",null,null,"Advanced Life Support (ALS), Basic Life Support (BLS) or other specific courses",{"$nulls":3},"Yes, some elements, but not systematically",null,"I give lectures","Perform work-based interactive teaching (operating room)","Running clinical case discussions","Involved in simulation sessions","Teach informally, during every day work",null,"Planning and preparation for teaching session","Using visual aids","Interactive teaching",null,"Teaching the skills",null,"Organizing and leading the discussions","Organizing specific sessions (journal clubs, interactive sessions, pro and con debate…)",null,"Yes","Yes","I am an examiner for the final exam",null,"I occasionally carry out assessment during the residency program (Direct Observation of Procedural Skills - DOPS)",null,"I give feedback during everyday work",{"$nulls":6},"No, it is assumed as being a part of everyday work",null,null,"Lack of time",null,null,"Overloaded with work","Lack of opportunity",{"$nulls":4},"Yes","I do not know much","I am not sure","I am not sure",null,"Classic surgical specialties based curriculum",null,"National body responsible for education (Ministry of health or education, National board for anaesthesia …)","They just have to complete the residency program (3-5 years)",null,"Written and oral examination"]
[12937963398,408998795,"2021-09-02T19:04:18","2021-09-23T07:20:00","194.27.138.2",{"$nulls":4},"36-40","Female","Turkey","Turkey","Europe","5-10",5,"Specialist","Academic hospital (Teaching or University related)","Yes (please refer to Q10)","Almost every day","Less than 5",{"$nulls":6},"None",null,"No",null,"I give lectures","Perform work-based interactive teaching (operating room)",null,null,"Teach informally, during every day work",{"$nulls":3},"Interactive teaching","Problem based learning","Teaching the skills","Giving feedback",{"$nulls":3},"No","No",null,null,"I occasionally carry out assessment during the residency program (Direct Observation of Procedural Skills - DOPS)",null,"I give feedback during everyday work",{"$nulls":6},"No, it is assumed as being a part of everyday work",{"$nulls":3},"Lack of motivation",null,"Overloaded with work",{"$nulls":5},"I do not know","I have some ideas, but it is not clear to me","No","I am not sure",null,"Classic surgical specialties based curriculum",null,"Department of anaesthesiology","They just have to complete the residency program (3-5 years)",null,"It is only oral examination"]
[12937956193,408998795,"2021-09-02T19:01:48","2021-09-02T19:07:10","80.230.11.48",{"$nulls":4},"36-40","Female","Israel","Israel","Asia","11-15",5,"Specialist","Academic hospital (Teaching or University related)","Yes (please refer to Q10)","Almost every day","Less than 5",{"$nulls":5},"Simulation courses",null,null,"No",null,"I give lectures","Perform work-based interactive teaching (operating room)",null,"Involved in simulation sessions","Teach informally, during every day work",null,"Planning and preparation for teaching session","Using visual aids","Interactive teaching","Problem based learning","Teaching the skills","Giving feedback",{"$nulls":3},"No","No",null,null,"I occasionally carry out assessment during the residency program (Direct Observation of Procedural Skills - DOPS)","I give feedback during simulation sessions","I give feedback during everyday work","I am involved in other forms of formative assessment (for example multisource feedback)",{"$nulls":4},"Yes, I have a more visible position in the department","No, it is assumed as being a part of everyday work",null,"Lack of training","Lack of time","Lack of motivation",null,"Overloaded with work",null,null,"Residents not interested in being taught",null,null,"Yes","I know what is it, but outcome-based education is not implemented in my country","Yes","No",null,"Classic surgical specialties based curriculum",null,"Society or association of anaesthesiology","They have to pass a national board exam",null,"Written and oral examination, but also OSCE (Objective Structured Clinical Examination)"]
[12937951212,408998795,"2021-09-02T18:59:30","2021-09-18T17:48:17","82.222.97.133",{"$nulls":4},"36-40","Female","Turkey","Turkey","Europe","16-20",5,"Chief of Department","Academic hospital (Teaching or University related)","Yes (please refer to Q10)","Almost every day","6-10","Master in Medical Education",{"$nulls":7},"Yes, some elements, but not systematically",null,null,"Perform work-based interactive teaching (operating room)",{"$nulls":4},"Planning and preparation for teaching session",{"$nulls":8},"Yes","Yes","I am an examiner for the final exam",{"$nulls":9},"Yes, I have a more visible position in the department",{"$nulls":6},"Overloaded with work",{"$nulls":3},"I work in a non-teaching hospital"]
[12937939036,408998795,"2021-09-02T18:27:41","2021-09-08T09:52:15","194.27.10.20",{"$nulls":4},"50+","Female","Turkey","Turkey","Europe","over 20 years",null,"Teacher (in University)","Academic hospital (Teaching or University related)","Yes (please refer to Q10)","Almost every day","over 16",null,"Obligatory teaching courses for University teachers",null,null,"Advanced Life Support (ALS), Basic Life Support (BLS) or other specific courses",{"$nulls":3},"Yes, some elements, but not systematically",null,"I give lectures","Perform work-based interactive teaching (operating room)","Running clinical case discussions",null,"Teach informally, during every day work",{"$nulls":4},"Problem based learning",null,"Giving feedback",null,"Organizing specific sessions (journal clubs, interactive sessions, pro and con debate…)",null,"Yes","Yes","I am an examiner for the final exam",{"$nulls":4},"I am involved in other forms of formative assessment (for example multisource feedback)",{"$nulls":4},"Yes, I have a more visible position in the department",{"$nulls":3},"Lack of time",null,null,"Overloaded with work",{"$nulls":5},"Yes","I know what is it, but outcome-based education is not implemented in my country","I am not sure","I am not sure",null,"Content based curriculum",null,"National body responsible for education (Ministry of health or education, National board for anaesthesia …)","Other (please specify)","They have to complete at least 5 years as a resident plus they have to prepare a thesis (experimental or a clinical research) to present a jury of 5 senior faculty. Afterwards, if she/he has to sit for an oral exam covering theoretical anesthesia education an anesthesia practice in the OR under the supervision of the same jury on the same day. ","Written, oral examination and some practical assessment"]
[12937941795,408998795,"2021-09-02T18:52:40","2021-09-06T17:01:29","46.1.252.78",{"$nulls":4},"41-50","Female","Turkey","Turkey","Europe","11-15",4,"Lecturer","Academic hospital (Teaching or University related)","Yes (please refer to Q10)","Almost every day","6-10",{"$nulls":4},"Advanced Life Support (ALS), Basic Life Support (BLS) or other specific courses",{"$nulls":3},"No",null,"I give lectures","Perform work-based interactive teaching (operating room)","Running clinical case discussions",{"$nulls":3},"Planning and preparation for teaching session",null,"Interactive teaching","Problem based learning",null,"Giving feedback",{"$nulls":3},"Yes","Yes",null,null,"I occasionally carry out assessment during the residency program (Direct Observation of Procedural Skills - DOPS)",{"$nulls":7},"Yes, I have a more visible position in the department",{"$nulls":4},"Lack of motivation",null,"Overloaded with work",{"$nulls":3},"I work with residents, but I do not see that as teaching"]
[12937941366,408998795,"2021-09-02T18:55:41","2021-09-06T10:40:00","193.255.55.179",{"$nulls":4},"50+","Male","Turkey","Turkey","Europe","over 20 years","Over 5","Teacher (in University)","Academic hospital (Teaching or University related)","Yes (please refer to Q10)","Almost every day","over 16",{"$nulls":6},"None",null,"Yes",null,null,"Perform work-based interactive teaching (operating room)",{"$nulls":6},"Interactive teaching",{"$nulls":6},"Yes","No",{"$nulls":6},"I am not involved in any kind of assessment",null,"Yes, I am paid more",{"$nulls":8},"Overloaded with work",null,"Lack of organization",{"$nulls":3},"Yes","I have no knowledge of what it is","No","No",null,"I do not know",null,"Society or association of anaesthesiology","They have to pass a university board exam",null,"It is only oral examination"]
[12937939337,408998795,"2021-09-02T18:54:50","2021-09-03T23:23:02","24.133.169.59",{"$nulls":4},"50+","Female","Turkey","Turkey","Europe","over 20 years",5,"Senior specialist","Academic hospital (Teaching or University related)","Yes (please refer to Q10)","Almost every day","over 16",null,null,"ESAIC Teach the Teacher (TTT) courses",null,"Advanced Life Support (ALS), Basic Life Support (BLS) or other specific courses","Simulation courses",null,null,"No",null,"I give lectures",null,null,"Involved in simulation sessions","Teach informally, during every day work",{"$nulls":3},"Interactive teaching",null,"Teaching the skills","Giving feedback","Organizing and leading the discussions",null,null,"Yes","Yes",{"$nulls":3},"I give feedback during simulation sessions","I give feedback during everyday work",{"$nulls":7},"No","Lack of training",{"$nulls":3},"Overloaded with work"]
[12937932038,408998795,"2021-09-02T18:51:43","2021-09-02T18:59:52","49.37.221.163",{"$nulls":4},"50+","Male","India","India","Asia","over 20 years",3,"Teacher (in University)","Academic hospital (Teaching or University related)","Yes (please refer to Q10)","Almost every day","11-15",null,"Obligatory teaching courses for University teachers",null,"Other short TTT courses","Advanced Life Support (ALS), Basic Life Support (BLS) or other specific courses",{"$nulls":3},"Yes",null,null,"Perform work-based interactive teaching (operating room)","Running clinical case discussions","Involved in simulation sessions",{"$nulls":3},"Using visual aids","Interactive teaching","Problem based learning",null,null,"Organizing and leading the discussions","Organizing specific sessions (journal clubs, interactive sessions, pro and con debate…)",null,"Yes","Yes","I am an examiner for the final exam",{"$nulls":8},"Yes, it is recognised for promotion in academia.","Yes, I have a more visible position in the department",null,null,"Lack of training","Lack of time",null,null,"Overloaded with work",{"$nulls":5},"Yes","Yes, I am well informed","No","Yes","01/01/2015","Competency (outcome) based curriculum",null,"National body responsible for education (Ministry of health or education, National board for anaesthesia …)","They have to pass a university board exam",null,"Written, oral examination and some practical assessment"]
[12937917482,408998795,"2021-09-02T18:46:38","2021-09-03T19:11:11","88.255.232.162",{"$nulls":4},"41-50","Male","Turkey","Turkey","Europe","16-20",4,"Specialist","General hospital","No (please refer to Q21)",{"$nulls":50},"I work in a non-teaching hospital",null,"No","I have no knowledge of what it is","Yes","I am not sure",null,"I do not know",null,"National body responsible for education (Ministry of health or education, National board for anaesthesia …)","They have to pass a university board exam",null,"Written, oral examination and some practical assessment"]
[12937921623,408998795,"2021-09-02T18:46:01","2021-09-03T14:22:58","5.47.70.180",{"$nulls":4},"50+","Male","Turkey","Turkey","Europe","over 20 years",4,"Chief of Department","Private hospital","No (please refer to Q21)"]
[12937930978,408998795,"2021-09-02T18:49:59","2021-09-02T18:56:16","47.31.162.216",{"$nulls":4},"41-50","Male","India","India","Asia","5-10",3,"Other","Private hospital","No (please refer to Q21)",{"$nulls":50},"I work in a non-teaching hospital",null,"I do not know","I do not know much","No","I am not sure",null,"Classic surgical specialties based curriculum",null,"National body responsible for education (Ministry of health or education, National board for anaesthesia …)","They have to pass a university board exam",null,"Written, oral examination and some practical assessment"]
[12937905272,408998795,"2021-09-02T18:09:31","2021-09-03T13:21:28","178.244.47.155",{"$nulls":4},"41-50","Female","Turkey","Turkey","Europe","16-20",5,"Teacher (in University)","Academic hospital (Teaching or University related)","Yes (please refer to Q10)","Every day","11-15",null,"Obligatory teaching courses for University teachers","ESAIC Teach the Teacher (TTT) courses",null,"Advanced Life Support (ALS), Basic Life Support (BLS) or other specific courses","Simulation courses",null,null,"Yes, some elements, but not systematically",null,"I give lectures","Perform work-based interactive teaching (operating room)","Running clinical case discussions","Involved in simulation sessions","Teach informally, during every day work",null,"Planning and preparation for teaching session","Using visual aids","Interactive teaching","Problem based learning",{"$nulls":5},"No","Yes","I am an examiner for the final exam","I am European Diploma in Anaesthesia and Intensive Care (EDAIC) part II examiner","I occasionally carry out assessment during the residency program (Direct Observation of Procedural Skills - DOPS)",null,"I give feedback during everyday work",{"$nulls":5},"Yes, I have a more visible position in the department",{"$nulls":3},"Lack of time",null,null,"Overloaded with work",{"$nulls":5},"Yes","I have some ideas, but it is not clear to me","I am not sure","I am not sure",null,"Content based curriculum",null,"National body responsible for education (Ministry of health or education, National board for anaesthesia …)","They have to pass a university board exam",null,"It is only oral examination"]
[12937927126,408998795,"2021-09-02T18:50:09","2021-09-02T18:54:11","83.240.236.226",{"$nulls":4},"41-50","Female","Portugal",null,null,"16-20",5,"Specialist","Academic hospital (Teaching or University related)","Yes (please refer to Q10)","Every day","11-15","Master in Medical Education",null,"ESAIC Teach the Teacher (TTT) courses","Other short TTT courses","Advanced Life Support (ALS), Basic Life Support (BLS) or other specific courses","Simulation courses",null,"ERC course, ATLS course","Yes, some elements, but not systematically",null,"I give lectures","Perform work-based interactive teaching (operating room)","Running clinical case discussions","Involved in simulation sessions","Teach informally, during every day work",null,"Planning and preparation for teaching session","Using visual aids","Interactive teaching","Problem based learning","Teaching the skills","Giving feedback","Organizing and leading the discussions","Organizing specific sessions (journal clubs, interactive sessions, pro and con debate…)","Simulation","Yes","Yes",null,"I am European Diploma in Anaesthesia and Intensive Care (EDAIC) part II examiner","I occasionally carry out assessment during the residency program (Direct Observation of Procedural Skills - DOPS)","I give feedback during simulation sessions","I give feedback during everyday work","I am involved in other forms of formative assessment (for example multisource feedback)",{"$nulls":4},"Yes, I have a more visible position in the department",null,null,"Lack of training","Lack of time",null,null,"Overloaded with work",{"$nulls":3},"I work with residents, but I do not see that as teaching"]
[12937928956,408998795,"2021-09-02T18:50:05","2021-09-02T18:54:10","200.186.130.130",{"$nulls":4},"50+","Male","Brazil","Brazil","South America","over 20 years","Less than 3","Chief of Department","Academic hospital (Teaching or University related)","No (please refer to Q21)",{"$nulls":50},"I work in a non-teaching hospital",null,"Yes","Yes, I am well informed","Yes","Yes","05/01/2019","Content based curriculum",null,"Department of anaesthesiology","They just have to complete the residency program (3-5 years)",null,"Written and oral examination"]
[12937911890,408998795,"2021-09-02T18:44:25","2021-09-03T12:10:46","194.27.203.151",{"$nulls":4},"41-50","Female","Turkey","Turkey","Europe","over 20 years",5,"Teacher (in University)","Academic hospital (Teaching or University related)","Yes (please refer to Q10)","Every day","over 16",null,"Obligatory teaching courses for University teachers",null,null,"Advanced Life Support (ALS), Basic Life Support (BLS) or other specific courses",{"$nulls":3},"No, but students are exposed to outcome based teaching",null,"I give lectures","Perform work-based interactive teaching (operating room)","Running clinical case discussions","Involved in simulation sessions","Teach informally, during every day work",null,"Planning and preparation for teaching session","Using visual aids","Interactive teaching","Problem based learning","Teaching the skills","Giving feedback","Organizing and leading the discussions",null,null,"Yes","Yes","I am an examiner for the final exam",null,"I occasionally carry out assessment during the residency program (Direct Observation of Procedural Skills - DOPS)","I give feedback during simulation sessions","I give feedback during everyday work","I am involved in other forms of formative assessment (for example multisource feedback)",null," Iam Turkish Anesthesiologyand Reanimation Society Board Member Examiner (version of European Diploma in Anaesthesia and Intensive Care (EDAIC-Turkey) part II examiner) ",{"$nulls":3},"No, it is assumed as being a part of everyday work",null,null,"Lack of time",null,"No recognition","Overloaded with work","Lack of opportunity","Lack of organization",{"$nulls":3},"Yes","Yes, I am well informed","Yes","Yes","01/01/2016","Competency (outcome) based curriculum",null,"National body responsible for education (Ministry of health or education, National board for anaesthesia …)","They have to pass a university board exam",null,"VIVA (Oral examination), written and OSCE examination"]
[12937913954,408998795,"2021-09-02T18:44:40","2021-09-02T18:52:36","105.235.138.146",{"$nulls":4},"50+","Male","Algeria","Algeria","Africa","over 20 years","Over 5","Senior specialist","Academic hospital (Teaching or University related)","Yes (please refer to Q10)","When in the operating theater (always have an allocated resident)","over 16","Master in Medical Education","Obligatory teaching courses for University teachers",{"$nulls":3},"Simulation courses",null,null,"Yes",null,"I give lectures","Perform work-based interactive teaching (operating room)","Running clinical case discussions","Involved in simulation sessions","Teach informally, during every day work",null,"Planning and preparation for teaching session","Using visual aids","Interactive teaching","Problem based learning","Teaching the skills","Giving feedback","Organizing and leading the discussions","Organizing specific sessions (journal clubs, interactive sessions, pro and con debate…)",null,"Yes","Yes","I am an examiner for the final exam",null,null,"I give feedback during simulation sessions","I give feedback during everyday work",{"$nulls":5},"Yes, I have a more visible position in the department",{"$nulls":4},"Lack of motivation","No recognition","Overloaded with work","Lack of opportunity","Lack of organization",{"$nulls":3},"Yes","I have some ideas, but it is not clear to me","No","I am not sure",null,"I do not know",null,"National body responsible for education (Ministry of health or education, National board for anaesthesia …)","They have to pass a national board exam",null,"Written and oral examination, but also OSCE (Objective Structured Clinical Examination)"]
[12937836528,408998795,"2021-09-02T18:14:34","2021-09-03T09:58:40","194.27.125.66",{"$nulls":4},"41-50","Female","Turkey","Turkey","Europe","11-15",5,"Teacher (in University)","Academic hospital (Teaching or University related)","Yes (please refer to Q10)","Almost every day","6-10",null,"Obligatory teaching courses for University teachers",null,null,"Advanced Life Support (ALS), Basic Life Support (BLS) or other specific courses",{"$nulls":3},"No",null,"I give lectures","Perform work-based interactive teaching (operating room)","Running clinical case discussions",{"$nulls":3},"Planning and preparation for teaching session","Using visual aids","Interactive teaching",{"$nulls":3},"Organizing and leading the discussions",null,null,"Yes","Yes",{"$nulls":4},"I give feedback during everyday work","I am involved in other forms of formative assessment (for example multisource feedback)",{"$nulls":5},"No, it is assumed as being a part of everyday work",null,null,"Lack of time",{"$nulls":6},"I work with residents, but I do not see that as teaching",null,"Yes","I do not know much","No","No",null,"Classic surgical specialties based curriculum",null,"Department of anaesthesiology","They just have to complete the residency program (3-5 years)"]
[12937915602,408998795,"2021-09-02T18:43:28","2021-09-03T09:35:37","84.51.15.34",{"$nulls":4},"50+","Male","Turkey","Turkey","Europe","over 20 years",5,"Chief of Department","Academic hospital (Teaching or University related)","Yes (please refer to Q10)","When in the operating theater (always have an allocated resident)","over 16",{"$nulls":6},"None",null,"Yes, some elements, but not systematically",null,"I give lectures",{"$nulls":3},"Teach informally, during every day work",null,"Planning and preparation for teaching session",null,"Interactive teaching",{"$nulls":4},"Organizing specific sessions (journal clubs, interactive sessions, pro and con debate…)",null,"No","No",null,null,"I occasionally carry out assessment during the residency program (Direct Observation of Procedural Skills - DOPS)",{"$nulls":7},"Yes, I have a more visible position in the department",null,null,"Lack of training",{"$nulls":3},"Overloaded with work",null,"Lack of organization",{"$nulls":3},"I do not know","I do not know much","No","I am not sure",null,"Classic surgical specialties based curriculum",null,"National body responsible for education (Ministry of health or education, National board for anaesthesia …)","They have to pass a university board exam",null,"It is only oral examination"]
[12937914058,408998795,"2021-09-02T18:45:15","2021-09-03T09:26:32","194.27.50.136",{"$nulls":4},"31-35","Male","Turkey","Turkey","Europe","5-10",5,"Trainee","Academic hospital (Teaching or University related)","Yes (please refer to Q10)","Less than once a week","Less than 5",{"$nulls":4},"Advanced Life Support (ALS), Basic Life Support (BLS) or other specific courses",{"$nulls":3},"No",null,null,"Perform work-based interactive teaching (operating room)",null,null,"Teach informally, during every day work",{"$nulls":3},"Interactive teaching","Problem based learning","Teaching the skills",{"$nulls":4},"No","No",{"$nulls":4},"I give feedback during everyday work",{"$nulls":6},"No, it is assumed as being a part of everyday work",null,null,"Lack of time","Lack of motivation",null,"Overloaded with work",{"$nulls":5},"Yes","I have no knowledge of what it is","No","I am not sure",null,"I do not know",null,"Society or association of anaesthesiology","They have to pass a university board exam",null,"Other (please specify)"]
[12937905237,408998795,"2021-09-02T18:41:36","2021-09-03T08:13:03","193.255.129.105",{"$nulls":4},"41-50","Male","Turkey","Turkey","Europe","11-15",5,"Teacher (in University)","Academic hospital (Teaching or University related)","Yes (please refer to Q10)","Every day","6-10",null,"Obligatory teaching courses for University teachers","ESAIC Teach the Teacher (TTT) courses",null,"Advanced Life Support (ALS), Basic Life Support (BLS) or other specific courses",{"$nulls":3},"Yes, some elements, but not systematically",null,"I give lectures","Perform work-based interactive teaching (operating room)","Running clinical case discussions","Involved in simulation sessions","Teach informally, during every day work",null,"Planning and preparation for teaching session",null,"Interactive teaching","Problem based learning","Teaching the skills","Giving feedback","Organizing and leading the discussions","Organizing specific sessions (journal clubs, interactive sessions, pro and con debate…)",null,"Yes","Yes",null,null,"I occasionally carry out assessment during the residency program (Direct Observation of Procedural Skills - DOPS)","I give feedback during simulation sessions","I give feedback during everyday work","I am involved in other forms of formative assessment (for example multisource feedback)",{"$nulls":5},"No, it is assumed as being a part of everyday work",null,null,"Lack of time",null,null,"Overloaded with work",null,"Lack of organization",{"$nulls":3},"Yes","Yes, I am well informed","Yes","I am not sure",null,"Content based curriculum",null,"Department of anaesthesiology","They just have to complete the residency program (3-5 years)",null,"Written, oral examination and some practical assessment"]
[12937913833,408998795,"2021-09-02T18:45:07","2021-09-02T18:49:12","192.104.147.41",{"$nulls":4},"41-50","Female","Greece",null,null,"over 20 years","Over 5","Teacher (in University)","Academic hospital (Teaching or University related)","Yes (please refer to Q10)","Every day","11-15",null,"Obligatory teaching courses for University teachers",null,null,"Advanced Life Support (ALS), Basic Life Support (BLS) or other specific courses","Simulation courses",null,null,"No",null,"I give lectures","Perform work-based interactive teaching (operating room)","Running clinical case discussions","Involved in simulation sessions","Teach informally, during every day work",null,"Planning and preparation for teaching session","Using visual aids","Interactive teaching","Problem based learning","Teaching the skills",null,"Organizing and leading the discussions",null,null,"Yes","Yes",{"$nulls":6},"I am not involved in any kind of assessment",{"$nulls":3},"Yes, I have a more visible position in the department",{"$nulls":6},"Overloaded with work",null,"Lack of organization"]
[12937904596,408998795,"2021-09-02T18:41:19","2021-09-02T18:47:55","31.215.222.129",{"$nulls":4},"50+","Male","Italy","United Arab Emirates","Asia","16-20",4,"Chief of Department","Academic hospital (Teaching or University related)","Yes (please refer to Q10)","Almost every day","11-15","Master in Medical Education","Obligatory teaching courses for University teachers","ESAIC Teach the Teacher (TTT) courses","Other short TTT courses","Advanced Life Support (ALS), Basic Life Support (BLS) or other specific courses","Simulation courses",null,null,"Yes, some elements, but not systematically",null,null,"Perform work-based interactive teaching (operating room)","Running clinical case discussions","Involved in simulation sessions",null,null,"Planning and preparation for teaching session","Using visual aids","Interactive teaching","Problem based learning","Teaching the skills","Giving feedback","Organizing and leading the discussions","Organizing specific sessions (journal clubs, interactive sessions, pro and con debate…)",null,"Yes","Yes","I am an examiner for the final exam",null,null,"I give feedback during simulation sessions","I give feedback during everyday work","I am involved in other forms of formative assessment (for example multisource feedback)",{"$nulls":5},"No, it is assumed as being a part of everyday work",null,null,"Lack of time",null,"No recognition","Overloaded with work",{"$nulls":5},"Yes","Yes, I am well informed","Yes","Yes","08/01/2019","Competency (outcome) based curriculum",null,"National body responsible for education (Ministry of health or education, National board for anaesthesia …)","They have to pass a university board exam",null,"Written, oral examination and some practical assessment"]
[12937898945,408998795,"2021-09-02T18:38:44","2021-09-03T08:08:49","176.235.143.66",{"$nulls":4},"50+","Male","Turkey","Turkey","Europe","over 20 years","Over 5","Chief of Department","Academic hospital (Teaching or University related)","Yes (please refer to Q10)","Every day","over 16",null,null,"ESAIC Teach the Teacher (TTT) courses",{"$nulls":5},"Yes, some elements, but not systematically",null,"I give lectures","Perform work-based interactive teaching (operating room)","Running clinical case discussions","Involved in simulation sessions",null,null,"Planning and preparation for teaching session","Using visual aids","Interactive teaching","Problem based learning","Teaching the skills","Giving feedback","Organizing and leading the discussions",null,null,"Yes","Yes","I am an examiner for the final exam","I am European Diploma in Anaesthesia and Intensive Care (EDAIC) part II examiner","I occasionally carry out assessment during the residency program (Direct Observation of Procedural Skills - DOPS)",{"$nulls":6},"Yes, it is recognised for promotion in academia.",{"$nulls":7},"Overloaded with work",null,"Lack of organization"]
[12937892852,408998795,"2021-09-02T18:34:56","2021-09-03T07:52:07","188.3.167.177",{"$nulls":4},"50+","Female","Turkey","Turkey","Europe","over 20 years",5,"Chief of Department","Academic hospital (Teaching or University related)","Yes (please refer to Q10)","Almost every day","over 16",{"$nulls":3},"Other short TTT courses",{"$nulls":4},"No",null,"I give lectures","Perform work-based interactive teaching (operating room)","Running clinical case discussions","Involved in simulation sessions","Teach informally, during every day work",null,null,"Using visual aids","Interactive teaching","Problem based learning","Teaching the skills","Giving feedback",null,"Organizing specific sessions (journal clubs, interactive sessions, pro and con debate…)",null,"Yes","Yes","I am an examiner for the final exam",null,"I occasionally carry out assessment during the residency program (Direct Observation of Procedural Skills - DOPS)","I give feedback during simulation sessions","I give feedback during everyday work",{"$nulls":6},"No, it is assumed as being a part of everyday work",null,"Lack of training",{"$nulls":9},"Yes","I know what is it, but outcome-based education is not implemented in my country","Yes","I am not sure",null,"Competency (outcome) based curriculum",null,"National body responsible for education (Ministry of health or education, National board for anaesthesia …)","Other (please specify)","Oral exam performed by a jury","It is only oral examination"]
[12937898689,408998795,"2021-09-02T18:38:56","2021-09-02T23:40:04","95.173.232.58",{"$nulls":4},"50+","Female","Turkey","Turkey","Europe","over 20 years","Over 5","Chief of Department","Academic hospital (Teaching or University related)","Yes (please refer to Q10)","Every day","over 16","Master in Medical Education","Obligatory teaching courses for University teachers",null,null,"Advanced Life Support (ALS), Basic Life Support (BLS) or other specific courses","Simulation courses",null,null,"Yes, some elements, but not systematically",null,"I give lectures","Perform work-based interactive teaching (operating room)","Running clinical case discussions",null,"Teach informally, during every day work",null,"Planning and preparation for teaching session","Using visual aids","Interactive teaching","Problem based learning","Teaching the skills",null,"Organizing and leading the discussions","Organizing specific sessions (journal clubs, interactive sessions, pro and con debate…)",null,"Yes","Yes","I am an examiner for the final exam","I am European Diploma in Anaesthesia and Intensive Care (EDAIC) part II examiner",{"$nulls":9},"No, it is assumed as being a part of everyday work",null,null,"Lack of time","Lack of motivation",null,"Overloaded with work",{"$nulls":5},"Yes","I have some ideas, but it is not clear to me","I am not sure","No",null,"Classic surgical specialties based curriculum",null,"Department of anaesthesiology","They have to pass a university board exam",null,"Written and oral examination"]
[12937902679,408998795,"2021-09-02T18:39:55","2021-09-02T22:10:45","85.100.70.24",{"$nulls":4},"41-50","Female","Turkey","Turkey","Europe","over 20 years",5,"Teacher (in University)","Academic hospital (Teaching or University related)","Yes (please refer to Q10)","Every day","over 16",null,"Obligatory teaching courses for University teachers",null,"Other short TTT courses","Advanced Life Support (ALS), Basic Life Support (BLS) or other specific courses","Simulation courses",null,null,"Yes",null,"I give lectures","Perform work-based interactive teaching (operating room)","Running clinical case discussions",null,"Teach informally, during every day work",null,"Planning and preparation for teaching session",null,null,"Problem based learning",null,"Giving feedback",null,"Organizing specific sessions (journal clubs, interactive sessions, pro and con debate…)",null,"Yes","Yes",{"$nulls":4},"I give feedback during everyday work","I am involved in other forms of formative assessment (for example multisource feedback)",{"$nulls":5},"No, it is assumed as being a part of everyday work",null,null,"Lack of time","Lack of motivation",null,"Overloaded with work",{"$nulls":5},"Yes","I have some ideas, but it is not clear to me","I am not sure","Yes",null,"Content based curriculum",null,"National body responsible for education (Ministry of health or education, National board for anaesthesia …)","They have to pass a university board exam",null,"It is only oral examination"]
[12937842466,408998795,"2021-09-02T18:11:53","2021-09-02T18:45:28","160.238.75.95",{"$nulls":4},"36-40","Male","India","India","Asia","5-10",3,"Specialist","Private hospital","No (please refer to Q21)",{"$nulls":50},"I work in a non-teaching hospital",null,"No","Yes, I am well informed","Yes","No",null,"Classic surgical specialties based curriculum",null,"Department of anaesthesiology","They have to pass a university board exam",null,"Written, oral examination and some practical assessment"]
[12937899804,408998795,"2021-09-02T18:36:57","2021-09-02T21:22:11","85.104.92.213",{"$nulls":4},"25-30","Female","Turkey","Turkey","Europe",null,5,"Trainee","Academic hospital (Teaching or University related)","Yes (please refer to Q10)","When in the operating theater (always have an allocated resident)","Less than 5",{"$nulls":6},"None",null,"No",null,null,"Perform work-based interactive teaching (operating room)",{"$nulls":6},"Interactive teaching","Problem based learning","Teaching the skills","Giving feedback",{"$nulls":3},"No","No",{"$nulls":6},"I am not involved in any kind of assessment",{"$nulls":4},"No, it is assumed as being a part of everyday work",null,null,"Lack of time","Lack of motivation",null,"Overloaded with work","Lack of opportunity",{"$nulls":4},"Yes","I do not know much","No","No",null,"I do not know",null,"I do not know","Other (please specify)","They have an oral exam","It is only oral examination"]
[12937897994,408998795,"2021-09-02T18:38:21","2021-09-02T18:44:58","39.57.179.217",{"$nulls":4},"36-40","Female","Pakistan","Pakistan","Asia","11-15",5,"Other","Academic hospital (Teaching or University related)","Yes (please refer to Q10)","Every day","6-10","Master in Medical Education",{"$nulls":7},"No",null,null,"Perform work-based interactive teaching (operating room)","Running clinical case discussions",null,"Teach informally, during every day work",null,"Planning and preparation for teaching session",null,"Interactive teaching",null,null,"Giving feedback","Organizing and leading the discussions","Organizing specific sessions (journal clubs, interactive sessions, pro and con debate…)",null,"Yes","Yes","I am an examiner for the final exam",null,"I occasionally carry out assessment during the residency program (Direct Observation of Procedural Skills - DOPS)",null,"I give feedback during everyday work",{"$nulls":4},"Yes, it is recognised for promotion in academia.",null,"No, it is assumed as being a part of everyday work",null,null,"Lack of time",null,"No recognition","Overloaded with work",null,"Lack of organization",{"$nulls":3},"Yes","I know what is it, but outcome-based education is not implemented in my country","I am not sure","No",null,"Content based curriculum",null,"Department of anaesthesiology","They have to pass a university board exam",null,"Written and oral examination, but also OSCE (Objective Structured Clinical Examination)"]
[12937880594,408998795,"2021-09-02T18:31:18","2021-09-02T21:12:37","176.42.49.232",{"$nulls":4},"41-50","Female","Turkey","Turkey","Europe","16-20",5,"Chief of Department","Academic hospital (Teaching or University related)","Yes (please refer to Q10)","Almost every day","6-10",null,null,"ESAIC Teach the Teacher (TTT) courses",null,"Advanced Life Support (ALS), Basic Life Support (BLS) or other specific courses","Simulation courses",null,null,"Yes",null,"I give lectures","Perform work-based interactive teaching (operating room)","Running clinical case discussions","Involved in simulation sessions",null,null,"Planning and preparation for teaching session","Using visual aids","Interactive teaching","Problem based learning",{"$nulls":5},"Yes","Yes","I am an examiner for the final exam",{"$nulls":9},"Yes, I have a more visible position in the department",{"$nulls":3},"Lack of time",null,null,"Overloaded with work",{"$nulls":5},"Yes","I do not know much","No","No",null,"Classic surgical specialties based curriculum",null,"National body responsible for education (Ministry of health or education, National board for anaesthesia …)","They have to pass a university board exam",null,"Written, oral examination and some practical assessment"]
[12937909488,408998795,"2021-09-02T18:43:24","2021-09-02T21:10:50","94.54.236.162",{"$nulls":4},"31-35","Female","Turkey","Turkey","Europe","5-10",4,"Specialist","Academic hospital (Teaching or University related)","Yes (please refer to Q10)","Almost every day","6-10",null,"Obligatory teaching courses for University teachers",null,null,"Advanced Life Support (ALS), Basic Life Support (BLS) or other specific courses","Simulation courses",null,null,"Yes",null,"I give lectures","Perform work-based interactive teaching (operating room)","Running clinical case discussions","Involved in simulation sessions","Teach informally, during every day work",null,"Planning and preparation for teaching session","Using visual aids",null,"Problem based learning",null,"Giving feedback",{"$nulls":3},"Yes","Yes",null,"I am European Diploma in Anaesthesia and Intensive Care (EDAIC) part II examiner",{"$nulls":9},"No, it is assumed as being a part of everyday work",null,null,"Lack of time",{"$nulls":6},"I work with residents, but I do not see that as teaching"]
[12937896618,408998795,"2021-09-02T18:37:29","2021-09-02T20:46:42","212.252.83.151",{"$nulls":4},"41-50","Female","Turkey","Turkey","Europe","over 20 years",4,"Specialist","Academic hospital (Teaching or University related)","Yes (please refer to Q10)","When in the operating theater (always have an allocated resident)","6-10",{"$nulls":6},"None",null,"No, but students are exposed to outcome based teaching",null,null,"Perform work-based interactive teaching (operating room)",{"$nulls":6},"Interactive teaching",{"$nulls":6},"No","Yes",{"$nulls":6},"I am not involved in any kind of assessment",{"$nulls":3},"Yes, I have a more visible position in the department",{"$nulls":3},"Lack of time",null,null,"Overloaded with work","Lack of opportunity","Lack of organization",{"$nulls":14},"EDAIC is not obligatory but highly advised"]
[12937899208,408998795,"2021-09-02T18:38:55","2021-09-02T18:43:13","47.31.221.6",{"$nulls":4},"31-35","Male","India","India","Asia","5-10",3,"Senior resident","Academic hospital (Teaching or University related)","Yes (please refer to Q10)","Almost every day","Less than 5",{"$nulls":4},"Advanced Life Support (ALS), Basic Life Support (BLS) or other specific courses",{"$nulls":3},"Yes",{"$nulls":5},"Teach informally, during every day work",{"$nulls":3},"Interactive teaching",{"$nulls":6},"No","Yes",{"$nulls":6},"I am not involved in any kind of assessment",{"$nulls":4},"No, it is assumed as being a part of everyday work",{"$nulls":5},"Overloaded with work"]
[12937887369,408998795,"2021-09-02T18:33:36","2021-09-02T20:26:44","24.133.69.4",{"$nulls":4},"31-35","Female","Turkey","Turkey","Europe","11-15",4,"Specialist","Academic hospital (Teaching or University related)","No (please refer to Q21)"]
[12937897042,408998795,"2021-09-02T18:38:12","2021-09-02T19:46:04","88.238.179.156",{"$nulls":4},"50+","Female","Turkey","Turkey","Europe","over 20 years","Over 5","Senior specialist","Academic hospital (Teaching or University related)","Yes (please refer to Q10)","Almost every day","over 16","Master in Medical Education",null,"ESAIC Teach the Teacher (TTT) courses",null,"Advanced Life Support (ALS), Basic Life Support (BLS) or other specific courses","Simulation courses",null,null,"Yes",null,null,"Perform work-based interactive teaching (operating room)","Running clinical case discussions","Involved in simulation sessions","Teach informally, during every day work",null,"Planning and preparation for teaching session",null,"Interactive teaching","Problem based learning","Teaching the skills",{"$nulls":4},"Yes","Yes",{"$nulls":3},"I give feedback during simulation sessions","I give feedback during everyday work",{"$nulls":6},"No, it is assumed as being a part of everyday work",null,"Lack of training",null,"Lack of motivation",{"$nulls":3},"Lack of organization",{"$nulls":3},"Yes","I do not know much","No","No",null,"Content based curriculum",null,"Society or association of anaesthesiology",null,null,"Written and oral examination, but also OSCE (Objective Structured Clinical Examination)"]
[12937888449,408998795,"2021-09-02T18:34:46","2021-09-02T19:25:13","46.196.81.217",{"$nulls":4},"25-30","Male","Turkey","Turkey","Europe","5-10",null,"Trainee","Academic hospital (Teaching or University related)","Yes (please refer to Q10)"]
[12937893338,408998795,"2021-09-02T18:35:40","2021-09-02T19:15:56","188.3.248.51",{"$nulls":4},"36-40","Female","Turkey","Turkey","Europe","11-15","Over 5","Teacher (in University)","Academic hospital (Teaching or University related)","Yes (please refer to Q10)","Every day","6-10",{"$nulls":3},"Other short TTT courses","Advanced Life Support (ALS), Basic Life Support (BLS) or other specific courses",{"$nulls":3},"Yes, some elements, but not systematically",null,"I give lectures","Perform work-based interactive teaching (operating room)","Running clinical case discussions",null,"Teach informally, during every day work",null,"Planning and preparation for teaching session","Using visual aids","Interactive teaching",{"$nulls":6},"Yes","Yes","I am an examiner for the final exam",{"$nulls":9},"Yes, I have a more visible position in the department",{"$nulls":12},"Yes","I have some ideas, but it is not clear to me","Yes","Yes",null,"Classic surgical specialties based curriculum",null,"Society or association of anaesthesiology","They just have to complete the residency program (3-5 years)",null,"It is only oral examination"]
[12937881226,408998795,"2021-09-02T18:30:30","2021-09-02T19:12:05","88.238.179.156",{"$nulls":4},"50+","Female","Turkey","Turkey","Europe","over 20 years","Over 5","Senior specialist","Academic hospital (Teaching or University related)","Yes (please refer to Q10)"]
[12937875021,408998795,"2021-09-02T18:28:54","2021-09-02T19:06:19","176.238.76.189",{"$nulls":4},"41-50","Female","Turkey","Turkey","Europe","16-20",5,"Lecturer","Academic hospital (Teaching or University related)","Yes (please refer to Q10)","Almost every day","6-10",null,null,"ESAIC Teach the Teacher (TTT) courses",null,null,"Simulation courses",null,null,"Yes, some elements, but not systematically",null,"I give lectures","Perform work-based interactive teaching (operating room)","Running clinical case discussions",null,"Teach informally, during every day work",null,"Planning and preparation for teaching session","Using visual aids","Interactive teaching",{"$nulls":6},"Yes","No",{"$nulls":4},"I give feedback during everyday work",{"$nulls":6},"No, it is assumed as being a part of everyday work",{"$nulls":3},"Lack of motivation",null,"Overloaded with work",{"$nulls":3},"Other (please specify)","As a lecturer we are not allow yet.","Yes","I know what is it, but outcome-based education is not implemented in my country","Yes","No",null,"Classic surgical specialties based curriculum",null,"Department of anaesthesiology","They just have to complete the residency program (3-5 years)",null,"It is only oral examination"]
[12937876926,408998795,"2021-09-02T18:30:36","2021-09-02T19:05:18","46.197.153.186",{"$nulls":4},"41-50","Male","Turkey","Turkey","Europe","5-10",5,"Specialist","Academic hospital (Teaching or University related)","Yes (please refer to Q10)","Less than once a week","Less than 5",{"$nulls":4},"Advanced Life Support (ALS), Basic Life Support (BLS) or other specific courses",{"$nulls":3},"Yes, some elements, but not systematically",{"$nulls":4},"Involved in simulation sessions",{"$nulls":4},"Interactive teaching","Problem based learning","Teaching the skills","Giving feedback",{"$nulls":3},"No","No",{"$nulls":5},"I am involved in other forms of formative assessment (for example multisource feedback)",{"$nulls":5},"No, it is assumed as being a part of everyday work",{"$nulls":4},"No recognition"]
[12937880200,408998795,"2021-09-02T18:31:07","2021-09-02T18:46:51","178.241.194.30",{"$nulls":4},"41-50","Female","Turkey","Turkey","Europe","over 20 years","Over 5","Chief of Department","Academic hospital (Teaching or University related)","Yes (please refer to Q10)","Every day","over 16","Master in Medical Education","Obligatory teaching courses for University teachers",null,null,"Advanced Life Support (ALS), Basic Life Support (BLS) or other specific courses","Simulation courses",null,null,"Yes, some elements, but not systematically",null,"I give lectures","Perform work-based interactive teaching (operating room)","Running clinical case discussions",{"$nulls":3},"Planning and preparation for teaching session",null,"Interactive teaching","Problem based learning","Teaching the skills",null,"Organizing and leading the discussions","Organizing specific sessions (journal clubs, interactive sessions, pro and con debate…)",null,"Yes","Yes","I am an examiner for the final exam",null,"I occasionally carry out assessment during the residency program (Direct Observation of Procedural Skills - DOPS)","I give feedback during simulation sessions","I give feedback during everyday work",{"$nulls":6},"No, it is assumed as being a part of everyday work",{"$nulls":5},"Overloaded with work"]
[12937871207,408998795,"2021-09-02T18:27:54","2021-09-02T18:36:48","78.160.145.247",{"$nulls":4},"41-50","Female","Turkey","Turkey","Europe","16-20","Over 5","Teacher (in University)","Academic hospital (Teaching or University related)","No (please refer to Q21)",{"$nulls":50},"I am not employed by the university",null,"Yes","Yes, I am well informed","No","I am not sure","09/29/2021","Competency (outcome) based curriculum",null,"Department of anaesthesiology","They just have to complete the residency program (3-5 years)",null,"It is only oral examination"]
[12937878837,408998795,"2021-09-02T18:30:36","2021-09-02T18:31:01","176.55.124.102",{"$nulls":4},"41-50","Female","Turkey","Turkey","Europe","16-20",5,"Teacher (in University)","Academic hospital (Teaching or University related)","Yes (please refer to Q10)","Every day","11-15",null,null,"ESAIC Teach the Teacher (TTT) courses",null,"Advanced Life Support (ALS), Basic Life Support (BLS) or other specific courses","Simulation courses",null,null,"No",null,"I give lectures","Perform work-based interactive teaching (operating room)","Running clinical case discussions",{"$nulls":3},"Planning and preparation for teaching session","Using visual aids","Interactive teaching","Problem based learning","Teaching the skills","Giving feedback","Organizing and leading the discussions","Organizing specific sessions (journal clubs, interactive sessions, pro and con debate…)",null,"Yes","Yes","I am an examiner for the final exam",null,"I occasionally carry out assessment during the residency program (Direct Observation of Procedural Skills - DOPS)",null,"I give feedback during everyday work",{"$nulls":6},"No, it is assumed as being a part of everyday work",null,null,"Lack of time","Lack of motivation",null,"Overloaded with work",null,null,"No interest and the pack of motivation in trainees and students",null,null,"Yes","I know what is it, but outcome-based education is not implemented in my country","Yes","No",null,"Content based curriculum",null,"National body responsible for education (Ministry of health or education, National board for anaesthesia …)","They have to pass a university board exam",null,"Written and oral examination"]
[12937864156,408998795,"2021-09-02T18:24:43","2021-09-02T18:23:41","176.33.102.193",{"$nulls":4},"50+","Male","Turkey","Turkey","Europe","over 20 years",4,"Teacher (in University)","Academic hospital (Teaching or University related)","Yes (please refer to Q10)","Every day","over 16",null,"Obligatory teaching courses for University teachers",null,null,"Advanced Life Support (ALS), Basic Life Support (BLS) or other specific courses","Simulation courses",null,null,"Yes",null,"I give lectures","Perform work-based interactive teaching (operating room)","Running clinical case discussions","Involved in simulation sessions",null,null,"Planning and preparation for teaching session","Using visual aids","Interactive teaching","Problem based learning",null,"Giving feedback",{"$nulls":3},"Yes","Yes",{"$nulls":5},"I am involved in other forms of formative assessment (for example multisource feedback)",null,null,"Yes, I am paid more",{"$nulls":5},"Lack of time",{"$nulls":3},"Lack of opportunity",null,"Lack of studets motivation ","I work with residents, but I do not see that as teaching",null,"Yes","Yes, I am well informed","I am not sure","I am not sure",null,"Classic surgical specialties based curriculum",null,"National body responsible for education (Ministry of health or education, National board for anaesthesia …)","They just have to complete the residency program (3-5 years)",null,"It is only oral examination"]
[12937857346,408998795,"2021-09-02T18:22:40","2021-09-02T18:18:12","176.88.134.183",{"$nulls":4},"41-50","Female","Turkey","Turkey","Europe","16-20",5,"Senior specialist","Academic hospital (Teaching or University related)","Yes (please refer to Q10)","Every day","11-15",null,null,"ESAIC Teach the Teacher (TTT) courses",{"$nulls":5},"Yes, some elements, but not systematically",null,"I give lectures","Perform work-based interactive teaching (operating room)","Running clinical case discussions","Involved in simulation sessions","Teach informally, during every day work",null,"Planning and preparation for teaching session",null,"Interactive teaching","Problem based learning","Teaching the skills","Giving feedback","Organizing and leading the discussions",null,null,"Yes","Yes","I am an examiner for the final exam","I am European Diploma in Anaesthesia and Intensive Care (EDAIC) part II examiner",null,"I give feedback during simulation sessions","I give feedback during everyday work",{"$nulls":6},"No, it is assumed as being a part of everyday work",null,null,"Lack of time","Lack of motivation",null,"Overloaded with work",{"$nulls":5},"Yes","Yes, I am well informed","Yes","I am not sure",null,"Content based curriculum",null,"National body responsible for education (Ministry of health or education, National board for anaesthesia …)","They have to pass a university board exam",null,"Written, oral examination and some practical assessment"]
[12937836068,408998795,"2021-09-02T18:13:20","2021-09-02T18:08:38","95.8.124.100",{"$nulls":4},"36-40","Male","Turkey","Turkey","Europe","5-10","Over 5","Specialist","Academic hospital (Teaching or University related)","Yes (please refer to Q10)"]
[12937872134,408998795,"2021-09-02T18:27:39","2021-09-02T18:08:20","46.106.57.144",{"$nulls":4},"41-50","Female","Turkey","Turkey","Europe","16-20",5,"Senior specialist","Academic hospital (Teaching or University related)","Yes (please refer to Q10)","Every day","11-15",null,"Obligatory teaching courses for University teachers","ESAIC Teach the Teacher (TTT) courses","Other short TTT courses","Advanced Life Support (ALS), Basic Life Support (BLS) or other specific courses","Simulation courses",null,"ATLS","Yes, some elements, but not systematically",null,"I give lectures","Perform work-based interactive teaching (operating room)","Running clinical case discussions","Involved in simulation sessions",null,null,"Planning and preparation for teaching session","Using visual aids","Interactive teaching","Problem based learning","Teaching the skills","Giving feedback","Organizing and leading the discussions","Organizing specific sessions (journal clubs, interactive sessions, pro and con debate…)",null,"Yes","Yes","I am an examiner for the final exam","I am European Diploma in Anaesthesia and Intensive Care (EDAIC) part II examiner","I occasionally carry out assessment during the residency program (Direct Observation of Procedural Skills - DOPS)","I give feedback during simulation sessions","I give feedback during everyday work","I am involved in other forms of formative assessment (for example multisource feedback)",{"$nulls":4},"Yes, I have a more visible position in the department",{"$nulls":3},"Lack of time",null,null,"Overloaded with work","Lack of opportunity","Lack of organization",{"$nulls":3},"Yes","Yes, I am well informed","Yes","No",null,"Content based curriculum",null,"National body responsible for education (Ministry of health or education, National board for anaesthesia …)","Other (please specify)","None","It is only oral examination"]
[12937854882,408998795,"2021-09-02T18:21:31","2021-09-23T20:08:48","188.130.177.190",{"$nulls":4},"31-35","Male","Ukraine","Ukraine","Europe","5-10","Over 5","Teacher (in University)","Private hospital","Yes (please refer to Q10)"]
[12937862170,408998795,"2021-09-02T18:24:22","2021-09-23T19:15:18","195.60.70.214",{"$nulls":4},"36-40","Male","Ukraine","Ukraine","Europe","5-10",3,"Chief of Department","Academic hospital (Teaching or University related)","Yes (please refer to Q10)"]
[12937871661,408998795,"2021-09-02T18:27:54","2021-09-23T14:14:10","77.109.57.22",{"$nulls":4},"41-50","Female","Ukraine","Ukraine","Europe","over 20 years","Less than 3","Teacher (in University)","Academic hospital (Teaching or University related)","Yes (please refer to Q10)","Every day","over 16","Master in Medical Education",{"$nulls":7},"Yes",null,"I give lectures","Perform work-based interactive teaching (operating room)","Running clinical case discussions",null,"Teach informally, during every day work",null,"Planning and preparation for teaching session","Using visual aids","Interactive teaching","Problem based learning","Teaching the skills","Giving feedback","Organizing and leading the discussions",null,null,"Yes","Yes","I am an examiner for the final exam",{"$nulls":10},"No, it is assumed as being a part of everyday work",{"$nulls":5},"Overloaded with work",{"$nulls":5},"Yes","Yes, I am well informed","I am not sure","No",null,"Classic surgical specialties based curriculum",null,"Hospital administration","They have to pass a national board exam",null,"Written and oral examination, but also OSCE (Objective Structured Clinical Examination)"]
[12937857690,408998795,"2021-09-02T18:22:31","2021-09-23T09:28:13","212.111.202.46",{"$nulls":4},"50+","Male","Ukraine","Ukraine","Europe","over 20 years","Less than 3","Chief of Department","Academic hospital (Teaching or University related)","Yes (please refer to Q10)","Every day","11-15","Master in Medical Education","Obligatory teaching courses for University teachers","ESAIC Teach the Teacher (TTT) courses",null,null,"Simulation courses",null,null,"Yes, some elements, but not systematically",null,"I give lectures","Perform work-based interactive teaching (operating room)","Running clinical case discussions","Involved in simulation sessions","Teach informally, during every day work",null,"Planning and preparation for teaching session","Using visual aids","Interactive teaching","Problem based learning","Teaching the skills","Giving feedback","Organizing and leading the discussions","Organizing specific sessions (journal clubs, interactive sessions, pro and con debate…)",null,"No","Yes","I am an examiner for the final exam",null,"I occasionally carry out assessment during the residency program (Direct Observation of Procedural Skills - DOPS)","I give feedback during simulation sessions","I give feedback during everyday work",{"$nulls":4},"Yes, it is recognised for promotion in academia.",{"$nulls":4},"Lack of time","Lack of motivation",{"$nulls":7},"Yes","Yes, I am well informed","Yes","I am not sure",null,"I do not know",null,"National body responsible for education (Ministry of health or education, National board for anaesthesia …)","They have to pass a national board exam",null,"Written, oral examination and some practical assessment"]
[12937853941,408998795,"2021-09-02T18:21:26","2021-09-23T08:18:29","176.36.166.41",{"$nulls":4},"31-35","Female","Ukraine","Ukraine","Europe","11-15","Less than 3","Chief of Department","Private hospital","Yes (please refer to Q10)","Every day","Less than 5","Master in Medical Education",null,"ESAIC Teach the Teacher (TTT) courses",null,"Advanced Life Support (ALS), Basic Life Support (BLS) or other specific courses","Simulation courses",null,null,"No",null,"I give lectures","Perform work-based interactive teaching (operating room)","Running clinical case discussions",null,"Teach informally, during every day work",null,null,"Using visual aids",null,"Problem based learning","Teaching the skills","Giving feedback","Organizing and leading the discussions",null,null,"No","Yes",{"$nulls":3},"I give feedback during simulation sessions","I give feedback during everyday work","I am involved in other forms of formative assessment (for example multisource feedback)",{"$nulls":5},"No, it is assumed as being a part of everyday work",null,"Lack of training",{"$nulls":3},"Overloaded with work",null,"Lack of organization",{"$nulls":3},"I do not know","Yes, I am well informed","I am not sure","I am not sure",null,"Classic surgical specialties based curriculum",null,"I do not know","They have to pass a university board exam",null,"Written, oral examination and some practical assessment","Only written assessment "]
[12937856823,408998795,"2021-09-02T18:22:34","2021-09-03T05:56:43","37.53.91.107",{"$nulls":4},"36-40","Female","Ukraine","Ukraine","Europe","11-15","Less than 3","Teacher (in University)","Specialized clinic","Yes (please refer to Q10)","Once a week","Less than 5",{"$nulls":3},"Other short TTT courses",{"$nulls":4},"No",null,"I give lectures",null,"Running clinical case discussions","Involved in simulation sessions","Teach informally, during every day work",null,"Planning and preparation for teaching session","Using visual aids",null,null,"Teaching the skills","Giving feedback",{"$nulls":3},"Yes","Yes","I am an examiner for the final exam",null,null,"I give feedback during simulation sessions","I give feedback during everyday work",{"$nulls":7},"No",null,"Lack of time",null,null,"Overloaded with work",{"$nulls":5},"Yes","I know what is it, but outcome-based education is not implemented in my country","I am not sure","No",null,"Content based curriculum",null,"I do not know","They have to pass a university board exam",null,"Written and oral examination, but also OSCE (Objective Structured Clinical Examination)"]
[12937866204,408998795,"2021-09-02T18:25:46","2021-09-02T19:27:56","46.98.128.45",{"$nulls":4},"41-50","Female","Ukraine","Ukraine","Europe","over 20 years","Less than 3","Teacher (in University)","Academic hospital (Teaching or University related)","Yes (please refer to Q10)","Every day","over 16","Master in Medical Education",{"$nulls":7},"No",null,"I give lectures","Perform work-based interactive teaching (operating room)","Running clinical case discussions",{"$nulls":3},"Planning and preparation for teaching session","Using visual aids","Interactive teaching","Problem based learning","Teaching the skills",{"$nulls":4},"Yes","Yes","I am an examiner for the final exam",{"$nulls":10},"No, it is assumed as being a part of everyday work",{"$nulls":5},"Overloaded with work",{"$nulls":5},"No","I know what is it, but outcome-based education is not implemented in my country","No","I am not sure",null,"I do not know",null,"I do not know","They have to pass a national board exam",null,"Written and oral examination, but also OSCE (Objective Structured Clinical Examination)"]
[12937854282,408998795,"2021-09-02T18:21:26","2021-10-09T11:17:32","82.11.165.219",{"$nulls":4},"41-50","Female","United Kingdom of Great Britain and Northern Ireland","United Kingdom of Great Britain and Northern Ireland","Europe","11-15",5,"Trainee","Academic hospital (Teaching or University related)","Yes (please refer to Q10)","When in the operating theater (always have an allocated resident)","6-10",{"$nulls":3},"Other short TTT courses","Advanced Life Support (ALS), Basic Life Support (BLS) or other specific courses",null,null,"PG Cert in medical education","Yes, some elements, but not systematically",{"$nulls":3},"Running clinical case discussions",null,"Teach informally, during every day work",{"$nulls":4},"Problem based learning",null,"Giving feedback",{"$nulls":3},"Yes","No",null,null,"I occasionally carry out assessment during the residency program (Direct Observation of Procedural Skills - DOPS)",null,"I give feedback during everyday work","I am involved in other forms of formative assessment (for example multisource feedback)",{"$nulls":5},"No, it is assumed as being a part of everyday work",null,null,"Lack of time",null,"No recognition","Overloaded with work",{"$nulls":5},"Yes","Yes, I am well informed","No","I am not sure",null,"Competency (outcome) based curriculum",null,"National body responsible for education (Ministry of health or education, National board for anaesthesia …)","They have to pass a national board exam",null,"VIVA (Oral examination), written and OSCE examination"]
[12937852200,408998795,"2021-09-02T18:21:09","2021-10-02T12:46:32","90.131.46.223",{"$nulls":4},"25-30","Female","Lithuania","United Kingdom of Great Britain and Northern Ireland","Europe","5-10",4,"Specialist","Academic hospital (Teaching or University related)","Yes (please refer to Q10)","Almost every day","Less than 5",{"$nulls":6},"None",null,"No",null,null,"Perform work-based interactive teaching (operating room)",null,null,"Teach informally, during every day work",null,null,"Using visual aids",null,null,"Teaching the skills","Giving feedback",{"$nulls":3},"No","No",null,null,"I occasionally carry out assessment during the residency program (Direct Observation of Procedural Skills - DOPS)","I give feedback during simulation sessions","I give feedback during everyday work",{"$nulls":6},"No, it is assumed as being a part of everyday work","No","Lack of training",null,null,"No recognition",null,"Lack of opportunity","Lack of organization",null,"I work with residents, but I do not see that as teaching",null,"No","I know what is it, but outcome-based education is not implemented in my country","Yes","No",null,"Classic surgical specialties based curriculum",null,"University","They have to pass a university board exam",null,"Other (please specify)"]
[12937857305,408998795,"2021-09-02T18:22:13","2021-09-29T13:33:59","86.190.181.174",{"$nulls":4},"41-50","Male","India","United Kingdom of Great Britain and Northern Ireland","Europe","16-20",5,"Specialist","Academic hospital (Teaching or University related)","Yes (please refer to Q10)","Less than once a week","Less than 5",{"$nulls":3},"Other short TTT courses","Advanced Life Support (ALS), Basic Life Support (BLS) or other specific courses",{"$nulls":3},"Yes, some elements, but not systematically",null,null,"Perform work-based interactive teaching (operating room)",null,null,"Teach informally, during every day work",null,"Planning and preparation for teaching session","Using visual aids",{"$nulls":3},"Giving feedback","Organizing and leading the discussions","Organizing specific sessions (journal clubs, interactive sessions, pro and con debate…)",null,"No","No",null,null,"I occasionally carry out assessment during the residency program (Direct Observation of Procedural Skills - DOPS)",null,"I give feedback during everyday work","I am involved in other forms of formative assessment (for example multisource feedback)",{"$nulls":5},"No, it is assumed as being a part of everyday work",{"$nulls":4},"No recognition","Overloaded with work",{"$nulls":3},"I work with residents, but I do not see that as teaching",null,"Yes","Yes, I am well informed","I am not sure","I am not sure",null,"Competency (outcome) based curriculum",null,"National body responsible for education (Ministry of health or education, National board for anaesthesia …)","They have to pass a national board exam",null,"VIVA (Oral examination), written and OSCE examination"]
[12937817229,408998795,"2021-09-02T18:06:17","2021-09-23T21:50:00","92.17.199.3",{"$nulls":4},"50+","Male","Romania","United Kingdom of Great Britain and Northern Ireland","Europe","over 20 years",3,"Senior specialist","Academic hospital (Teaching or University related)","Yes (please refer to Q10)","Every day","over 16",null,"Obligatory teaching courses for University teachers",null,null,"Advanced Life Support (ALS), Basic Life Support (BLS) or other specific courses","Simulation courses",null,null,"Yes, some elements, but not systematically",null,"I give lectures","Perform work-based interactive teaching (operating room)",null,null,"Teach informally, during every day work",null,"Planning and preparation for teaching session","Using visual aids","Interactive teaching",null,"Teaching the skills","Giving feedback",null,"Organizing specific sessions (journal clubs, interactive sessions, pro and con debate…)",null,"No","Yes",null,"I am European Diploma in Anaesthesia and Intensive Care (EDAIC) part II examiner","I occasionally carry out assessment during the residency program (Direct Observation of Procedural Skills - DOPS)",null,"I give feedback during everyday work","I am involved in other forms of formative assessment (for example multisource feedback)",{"$nulls":5},"No, it is assumed as being a part of everyday work",{"$nulls":3},"Lack of motivation","No recognition","Overloaded with work",{"$nulls":5},"Yes","I have some ideas, but it is not clear to me","Yes","I am not sure",null,"Competency (outcome) based curriculum",null,"National body responsible for education (Ministry of health or education, National board for anaesthesia …)","Other (please specify)","Exams middle of training, followed by competency-based progression","Written and oral examination, but also OSCE (Objective Structured Clinical Examination)"]
[12937842443,408998795,"2021-09-02T18:17:02","2021-09-23T14:36:55","109.159.117.39",{"$nulls":4},"50+","Male","India","United Kingdom of Great Britain and Northern Ireland","Europe","over 20 years","Over 5","Senior specialist","Academic hospital (Teaching or University related)","Yes (please refer to Q10)","When in the operating theater (always have an allocated resident)","11-15",{"$nulls":3},"Other short TTT courses","Advanced Life Support (ALS), Basic Life Support (BLS) or other specific courses",{"$nulls":3},"Yes, some elements, but not systematically",null,"I give lectures","Perform work-based interactive teaching (operating room)","Running clinical case discussions",{"$nulls":3},"Planning and preparation for teaching session","Using visual aids","Interactive teaching",null,"Teaching the skills","Giving feedback","Organizing and leading the discussions","Organizing specific sessions (journal clubs, interactive sessions, pro and con debate…)",null,"Yes","Yes",{"$nulls":4},"I give feedback during everyday work",{"$nulls":6},"No, it is assumed as being a part of everyday work",null,null,"Lack of time",{"$nulls":8},"Yes","Yes, I am well informed","No","Yes","01/08/2007","Competency (outcome) based curriculum",null,"National body responsible for education (Ministry of health or education, National board for anaesthesia …)","They have to pass a national board exam",null,"VIVA (Oral examination), written and OSCE examination","No exam. A real shame!!!!"]
[12937843166,408998795,"2021-09-02T18:17:16","2021-09-23T13:50:59","81.132.13.128",{"$nulls":4},"50+","Female","United Kingdom of Great Britain and Northern Ireland","United Kingdom of Great Britain and Northern Ireland","Europe","over 20 years","Over 5","Teacher (in University)","Academic hospital (Teaching or University related)","Yes (please refer to Q10)","Less than once a week","over 16",null,"Obligatory teaching courses for University teachers","ESAIC Teach the Teacher (TTT) courses","Other short TTT courses","Advanced Life Support (ALS), Basic Life Support (BLS) or other specific courses",{"$nulls":3},"Yes, some elements, but not systematically",null,"I give lectures",{"$nulls":5},"Planning and preparation for teaching session","Using visual aids","Interactive teaching","Problem based learning",null,"Giving feedback","Organizing and leading the discussions",null,null,"No","No",{"$nulls":5},"I am involved in other forms of formative assessment (for example multisource feedback)",{"$nulls":5},"No, it is assumed as being a part of everyday work",{"$nulls":5},"Overloaded with work",{"$nulls":5},"Yes","Yes, I am well informed","Yes","I am not sure",null,"Competency (outcome) based curriculum",null,"National body responsible for education (Ministry of health or education, National board for anaesthesia …)","They have to pass a national board exam",null,"Written and oral examination, but also OSCE (Objective Structured Clinical Examination)"]
[12937838776,408998795,"2021-09-02T18:15:09","2021-09-23T11:59:09","80.2.21.247",{"$nulls":4},"36-40","Female","India","United Kingdom of Great Britain and Northern Ireland","Europe","11-15",4,"Senior resident","Academic hospital (Teaching or University related)","Yes (please refer to Q10)","When in the operating theater (always have an allocated resident)","6-10",null,"Obligatory teaching courses for University teachers",{"$nulls":6},"Yes, some elements, but not systematically",null,null,"Perform work-based interactive teaching (operating room)","Running clinical case discussions","Involved in simulation sessions","Teach informally, during every day work",null,"Planning and preparation for teaching session","Using visual aids","Interactive teaching","Problem based learning","Teaching the skills","Giving feedback","Organizing and leading the discussions",null,null,"Yes","No",{"$nulls":3},"I give feedback during simulation sessions","I give feedback during everyday work","I am involved in other forms of formative assessment (for example multisource feedback)",null,null,"Yes, I am paid more",null,"Yes, I have a more visible position in the department",{"$nulls":6},"Overloaded with work",{"$nulls":3},"I am not employed by the university"]
[12937847518,408998795,"2021-09-02T18:18:32","2021-09-23T11:29:14","86.183.49.137",{"$nulls":4},"50+","Male","United Kingdom of Great Britain and Northern Ireland","United Kingdom of Great Britain and Northern Ireland","Europe","over 20 years",5,"Senior specialist","Academic hospital (Teaching or University related)","Yes (please refer to Q10)","Once a week","over 16",null,"Obligatory teaching courses for University teachers",null,null,"Advanced Life Support (ALS), Basic Life Support (BLS) or other specific courses",{"$nulls":3},"Yes, some elements, but not systematically",null,"I give lectures","Perform work-based interactive teaching (operating room)","Running clinical case discussions",null,"Teach informally, during every day work",null,"Planning and preparation for teaching session","Using visual aids","Interactive teaching","Problem based learning","Teaching the skills","Giving feedback","Organizing and leading the discussions",null,null,"No","Yes",null,null,"I occasionally carry out assessment during the residency program (Direct Observation of Procedural Skills - DOPS)",null,"I give feedback during everyday work","I am involved in other forms of formative assessment (for example multisource feedback)",{"$nulls":5},"No, it is assumed as being a part of everyday work",null,null,"Lack of time",{"$nulls":5},"impossible to get all trainees together at a specific time",null,null,"Yes","Yes, I am well informed","Yes","Yes","01/01/2005","Competency (outcome) based curriculum",null,"National body responsible for education (Ministry of health or education, National board for anaesthesia …)","They just have to complete the residency program (3-5 years)",null,"Written and oral examination, but also OSCE (Objective Structured Clinical Examination)"]
[12937840691,408998795,"2021-09-02T18:16:19","2021-09-23T09:37:10","128.65.100.210",{"$nulls":4},"50+","Male","United Kingdom of Great Britain and Northern Ireland","United Kingdom of Great Britain and Northern Ireland","Europe","over 20 years","Over 5","Other","General hospital","Yes (please refer to Q10)","Almost every day","over 16",{"$nulls":4},"Advanced Life Support (ALS), Basic Life Support (BLS) or other specific courses","Simulation courses",null,null,"Yes, some elements, but not systematically",null,"I give lectures","Perform work-based interactive teaching (operating room)","Running clinical case discussions","Involved in simulation sessions","Teach informally, during every day work",null,"Planning and preparation for teaching session","Using visual aids","Interactive teaching","Problem based learning","Teaching the skills","Giving feedback","Organizing and leading the discussions",null,null,"No","No",null,null,"I occasionally carry out assessment during the residency program (Direct Observation of Procedural Skills - DOPS)","I give feedback during simulation sessions","I give feedback during everyday work","I am involved in other forms of formative assessment (for example multisource feedback)",{"$nulls":5},"No, it is assumed as being a part of everyday work",null,null,"Lack of time","Lack of motivation","No recognition",null,null,"Lack of organization",{"$nulls":3},"Yes","Yes, I am well informed","No","I am not sure",null,"Competency (outcome) based curriculum",null,"Society or association of anaesthesiology","They have to pass a national board exam",null,"Written and oral examination, but also OSCE (Objective Structured Clinical Examination)","Quizz"]
[12937829204,408998795,"2021-09-02T18:12:39","2021-09-23T09:35:44","5.65.117.141",{"$nulls":4},"36-40","Male","United Kingdom of Great Britain and Northern Ireland","United Kingdom of Great Britain and Northern Ireland","Europe","11-15","Over 5","Specialist","General hospital","Yes (please refer to Q10)"]
[12937843539,408998795,"2021-09-02T18:17:47","2021-09-23T09:27:50","89.242.255.111",{"$nulls":4},"41-50","Male","Egypt","United Kingdom of Great Britain and Northern Ireland","Europe","16-20",3,"Senior specialist","Academic hospital (Teaching or University related)","Yes (please refer to Q10)","Less than once a week","6-10",null,"Obligatory teaching courses for University teachers",{"$nulls":6},"Yes",null,"I give lectures","Perform work-based interactive teaching (operating room)","Running clinical case discussions",null,"Teach informally, during every day work",null,"Planning and preparation for teaching session","Using visual aids","Interactive teaching",null,"Teaching the skills",null,"Organizing and leading the discussions",null,null,"No","No",{"$nulls":5},"I am involved in other forms of formative assessment (for example multisource feedback)",{"$nulls":3},"Yes, it is recognised for promotion in academia.",null,"No, it is assumed as being a part of everyday work",null,null,"Lack of time","Lack of motivation",null,"Overloaded with work",{"$nulls":5},"No","I have some ideas, but it is not clear to me","No","No",null,"Competency (outcome) based curriculum",null,"National body responsible for education (Ministry of health or education, National board for anaesthesia …)","They have to pass a university board exam",null,"Written and oral examination, but also OSCE (Objective Structured Clinical Examination)"]
[12937834677,408998795,"2021-09-02T18:14:17","2021-09-02T18:20:22","49.36.189.100",{"$nulls":4},"31-35","Male","India","India","Asia","5-10",3,"Specialist","General hospital","No (please refer to Q21)",{"$nulls":50},"I work in a non-teaching hospital",null,"No","I have some ideas, but it is not clear to me","Yes","I am not sure",null,"Competency (outcome) based curriculum",null,"University","They have to pass a national board exam",null,"Written and oral examination, but also OSCE (Objective Structured Clinical Examination)"]
[12937835014,408998795,"2021-09-02T18:14:27","2021-09-23T09:10:28","90.207.16.236",{"$nulls":4},"31-35","Female","India","United Kingdom of Great Britain and Northern Ireland","Europe","5-10",3,"Specialist","Academic hospital (Teaching or University related)","Yes (please refer to Q10)","When in the operating theater (always have an allocated resident)","Less than 5",{"$nulls":4},"Advanced Life Support (ALS), Basic Life Support (BLS) or other specific courses",{"$nulls":3},"No",null,null,"Perform work-based interactive teaching (operating room)",{"$nulls":6},"Interactive teaching","Problem based learning","Teaching the skills",{"$nulls":4},"No","No",null,null,"I occasionally carry out assessment during the residency program (Direct Observation of Procedural Skills - DOPS)",{"$nulls":7},"Yes, I have a more visible position in the department",{"$nulls":3},"Lack of time","Lack of motivation",null,"Overloaded with work","Lack of opportunity",{"$nulls":4},"Yes","I have some ideas, but it is not clear to me","No","Yes",null,"Competency (outcome) based curriculum",null,"National body responsible for education (Ministry of health or education, National board for anaesthesia …)","They just have to complete the residency program (3-5 years)",null,"Written and oral examination, but also OSCE (Objective Structured Clinical Examination)"]
[12937828389,408998795,"2021-09-02T18:12:05","2021-09-23T08:39:02","83.137.6.254",{"$nulls":4},"36-40","Female","India","United Kingdom of Great Britain and Northern Ireland","Europe","11-15",3,"Specialist","Academic hospital (Teaching or University related)","No (please refer to Q21)",{"$nulls":50},"I work with residents, but I do not see that as teaching",null,"No","Yes, I am well informed","No","No",null,"Competency (outcome) based curriculum",null,"Society or association of anaesthesiology","They have to pass a university board exam",null,"VIVA (Oral examination), written and OSCE examination"]
[12937813108,408998795,"2021-09-02T18:05:48","2021-09-07T19:54:54","86.169.1.74",{"$nulls":4},"50+","Female","United Kingdom of Great Britain and Northern Ireland","United Kingdom of Great Britain and Northern Ireland","Europe","over 20 years","Over 5","Specialist","General hospital","Yes (please refer to Q10)","Almost every day","over 16",null,"Obligatory teaching courses for University teachers",null,"Other short TTT courses","Advanced Life Support (ALS), Basic Life Support (BLS) or other specific courses","Simulation courses",null,null,"Yes, some elements, but not systematically",null,"I give lectures","Perform work-based interactive teaching (operating room)","Running clinical case discussions","Involved in simulation sessions","Teach informally, during every day work",null,"Planning and preparation for teaching session","Using visual aids","Interactive teaching","Problem based learning","Teaching the skills","Giving feedback","Organizing and leading the discussions","Organizing specific sessions (journal clubs, interactive sessions, pro and con debate…)","Exam and interview practice ","Yes","Yes",null,null,"I occasionally carry out assessment during the residency program (Direct Observation of Procedural Skills - DOPS)","I give feedback during simulation sessions","I give feedback during everyday work","I am involved in other forms of formative assessment (for example multisource feedback)",null,null,"Yes, I am paid more",{"$nulls":5},"Lack of time",null,null,"Overloaded with work",{"$nulls":3},"Other (please specify)","I do teach ","Yes","Yes, I am well informed","Yes","Yes","01/01/2004","Competency (outcome) based curriculum",null,"University","They have to pass a national board exam",null,"Written and oral examination, but also OSCE (Objective Structured Clinical Examination)"]
[12937839054,408998795,"2021-09-02T18:16:20","2021-09-06T15:23:21","86.180.169.131",{"$nulls":4},"50+","Male","Pakistan","United Kingdom of Great Britain and Northern Ireland","Europe","over 20 years","Over 5","Specialist","Academic hospital (Teaching or University related)","Yes (please refer to Q10)","Once a week","over 16",{"$nulls":4},"Advanced Life Support (ALS), Basic Life Support (BLS) or other specific courses",{"$nulls":3},"Yes",null,"I give lectures","Perform work-based interactive teaching (operating room)","Running clinical case discussions",null,"Teach informally, during every day work",{"$nulls":3},"Interactive teaching","Problem based learning",null,"Giving feedback",null,"Organizing specific sessions (journal clubs, interactive sessions, pro and con debate…)",null,"No","Yes",null,null,"I occasionally carry out assessment during the residency program (Direct Observation of Procedural Skills - DOPS)",null,"I give feedback during everyday work","I am involved in other forms of formative assessment (for example multisource feedback)",{"$nulls":3},"Yes, it is recognised for promotion in academia.",{"$nulls":4},"Lack of time",null,null,"Overloaded with work",{"$nulls":5},"Yes","I have some ideas, but it is not clear to me","I am not sure","I am not sure",null,"Competency (outcome) based curriculum",null,"National body responsible for education (Ministry of health or education, National board for anaesthesia …)","Other (please specify)","Fellowship of The Royal College of Anaesthetists","Written and oral examination, but also OSCE (Objective Structured Clinical Examination)"]
[12937820489,408998795,"2021-09-02T18:09:25","2021-09-05T20:46:17","82.71.34.1",{"$nulls":4},"50+","Female","New Zealand","United Kingdom of Great Britain and Northern Ireland","Europe","over 20 years","Over 5","Other","Academic hospital (Teaching or University related)","Yes (please refer to Q10)","Almost every day","over 16",{"$nulls":3},"Other short TTT courses",{"$nulls":4},"Other (please specify)","Don't know - not for all",null,"Perform work-based interactive teaching (operating room)",null,"Involved in simulation sessions","Teach informally, during every day work",{"$nulls":3},"Interactive teaching",null,null,"Giving feedback","Organizing and leading the discussions",null,null,"No","No",null,null,"I occasionally carry out assessment during the residency program (Direct Observation of Procedural Skills - DOPS)","I give feedback during simulation sessions","I give feedback during everyday work","I am involved in other forms of formative assessment (for example multisource feedback)",{"$nulls":5},"No, it is assumed as being a part of everyday work",null,"Lack of training","Lack of time","Lack of motivation",null,"Overloaded with work",{"$nulls":5},"Yes","I have some ideas, but it is not clear to me","No","Yes",null,"Competency (outcome) based curriculum",null,"National body responsible for education (Ministry of health or education, National board for anaesthesia …)","Other (please specify)","have to have passed national exam and passed competency based annual assessments","Written and oral examination, but also OSCE (Objective Structured Clinical Examination)"]
[12937823943,408998795,"2021-09-02T18:10:44","2021-09-05T18:13:31","37.154.176.73",{"$nulls":4},"41-50","Female","Turkey","United Kingdom of Great Britain and Northern Ireland","Europe","16-20","Over 5","Specialist","Academic hospital (Teaching or University related)","Yes (please refer to Q10)"]
[12937820328,408998795,"2021-09-02T18:09:23","2021-09-04T14:47:31","84.64.228.164",{"$nulls":4},"36-40","Male","Egypt","United Kingdom of Great Britain and Northern Ireland","Europe","16-20","Over 5","Other","General hospital","Yes (please refer to Q10)","Once a week","11-15",null,null,"ESAIC Teach the Teacher (TTT) courses",{"$nulls":5},"No",null,"I give lectures","Perform work-based interactive teaching (operating room)",null,null,"Teach informally, during every day work",null,"Planning and preparation for teaching session","Using visual aids","Interactive teaching",null,null,"Giving feedback",{"$nulls":3},"Yes","No",{"$nulls":6},"I am not involved in any kind of assessment",{"$nulls":4},"No, it is assumed as being a part of everyday work",{"$nulls":3},"Lack of motivation",null,"Overloaded with work","Lack of opportunity",{"$nulls":4},"Yes","I have some ideas, but it is not clear to me","No","I am not sure",null,"I do not know",null,"I do not know","They have to pass a national board exam",null,"VIVA (Oral examination), written and OSCE examination"]
[12937814464,408998795,"2021-09-02T18:06:52","2021-09-03T20:44:19","46.254.185.254",{"$nulls":4},"50+","Male","Bangladesh","United Kingdom of Great Britain and Northern Ireland","Europe","over 20 years","Over 5","Specialist","General hospital","No (please refer to Q21)",{"$nulls":50},"I work in a non-teaching hospital",null,"Yes","Yes, I am well informed","No","I am not sure","08/25/1985",null,null,"National body responsible for education (Ministry of health or education, National board for anaesthesia …)","They have to pass a university board exam",null,"Written and oral examination"]
[12937816829,408998795,"2021-09-02T18:07:47","2021-09-02T18:13:53","41.211.35.10",{"$nulls":4},"31-35","Female","Ghana","Swaziland","Africa","11-15",3,"Senior resident","Academic hospital (Teaching or University related)","Yes (please refer to Q10)","Almost every day","Less than 5",{"$nulls":5},"Simulation courses",null,null,"No",null,"I give lectures",null,"Running clinical case discussions",null,"Teach informally, during every day work",null,"Planning and preparation for teaching session","Using visual aids",null,"Problem based learning",{"$nulls":5},"No","Yes",{"$nulls":3},"I give feedback during simulation sessions","I give feedback during everyday work","I am involved in other forms of formative assessment (for example multisource feedback)",{"$nulls":5},"No, it is assumed as being a part of everyday work",null,"Lack of training","Lack of time",null,null,"Overloaded with work",{"$nulls":5},"No","I do not know much","No","No",null,"Classic surgical specialties based curriculum",null,"Society or association of anaesthesiology","They have to pass a national board exam",null,"VIVA (Oral examination), written and OSCE examination"]
[12937812952,408998795,"2021-09-02T18:06:43","2021-09-03T12:46:36","188.223.187.156",{"$nulls":4},"31-35","Female","India","United Kingdom of Great Britain and Northern Ireland","Europe","5-10","Less than 3","Trainee","Academic hospital (Teaching or University related)","Yes (please refer to Q10)",null,"Less than 5",{"$nulls":6},"None",null,"Yes, some elements, but not systematically",null,"I give lectures","Perform work-based interactive teaching (operating room)",null,"Involved in simulation sessions",null,null,"Planning and preparation for teaching session","Using visual aids","Interactive teaching",{"$nulls":4},"Organizing specific sessions (journal clubs, interactive sessions, pro and con debate…)",null,"No","No",{"$nulls":6},"I am not involved in any kind of assessment",{"$nulls":3},"Yes, I have a more visible position in the department"]
[12937815379,408998795,"2021-09-02T18:07:23","2021-09-03T04:13:55","86.17.137.190",{"$nulls":4},"50+","Female","Nigeria","United Kingdom of Great Britain and Northern Ireland","Europe","over 20 years",5,"Other","Private hospital","No (please refer to Q21)",{"$nulls":50},"Other (please specify)","Retired ","No","I have no knowledge of what it is","No","Yes","04/30/1986","Classic surgical specialties based curriculum",null,"University","They just have to complete the residency program (3-5 years)",null,"Written and oral examination, but also OSCE (Objective Structured Clinical Examination)"]
[12937825942,408998795,"2021-09-02T18:11:29","2021-09-03T00:59:12","86.145.176.70",{"$nulls":4},"41-50","Male","Poland","United Kingdom of Great Britain and Northern Ireland","Europe","16-20","Over 5","Senior specialist","Academic hospital (Teaching or University related)","Yes (please refer to Q10)","When in the operating theater (always have an allocated resident)","over 16",{"$nulls":7},"RCoA course","Yes, some elements, but not systematically",null,"I give lectures",{"$nulls":3},"Teach informally, during every day work",null,"Planning and preparation for teaching session","Using visual aids",null,null,"Teaching the skills","Giving feedback",{"$nulls":3},"No","No",null,null,"I occasionally carry out assessment during the residency program (Direct Observation of Procedural Skills - DOPS)",null,"I give feedback during everyday work","I am involved in other forms of formative assessment (for example multisource feedback)",{"$nulls":5},"No, it is assumed as being a part of everyday work",null,null,"Lack of time",null,"No recognition","Overloaded with work",{"$nulls":3},"I work with residents, but I do not see that as teaching",null,"Yes","I have some ideas, but it is not clear to me","No","I am not sure",null,"Competency (outcome) based curriculum",null,"National body responsible for education (Ministry of health or education, National board for anaesthesia …)","They have to pass a national board exam",null,"VIVA (Oral examination), written and OSCE examination"]
[12937815794,408998795,"2021-09-02T18:08:02","2021-09-02T23:53:41","31.14.248.137",{"$nulls":4},"36-40","Male","India","United Kingdom of Great Britain and Northern Ireland","Europe","5-10",3,"Trainee","Academic hospital (Teaching or University related)","Yes (please refer to Q10)","Less than once a week","6-10",{"$nulls":3},"Other short TTT courses","Advanced Life Support (ALS), Basic Life Support (BLS) or other specific courses","Simulation courses",null,null,"No",null,"I give lectures","Perform work-based interactive teaching (operating room)","Running clinical case discussions",null,"Teach informally, during every day work",null,"Planning and preparation for teaching session","Using visual aids",null,"Problem based learning","Teaching the skills","Giving feedback",{"$nulls":3},"No","No",null,"I am European Diploma in Anaesthesia and Intensive Care (EDAIC) part II examiner","I occasionally carry out assessment during the residency program (Direct Observation of Procedural Skills - DOPS)","I give feedback during simulation sessions",{"$nulls":6},"Yes, I have a more visible position in the department","No, it is assumed as being a part of everyday work",{"$nulls":4},"No recognition",{"$nulls":4},"I work with residents, but I do not see that as teaching",null,"No","I know what is it, but outcome-based education is not implemented in my country","No","No",null,"Content based curriculum",null,"Department of anaesthesiology","They have to pass EDAIC part II",null,"VIVA (Oral examination), written and OSCE examination"]
[12937811408,408998795,"2021-09-02T18:06:09","2021-09-02T20:55:49","86.169.94.148",{"$nulls":4},"50+","Male","United Kingdom of Great Britain and Northern Ireland","United Kingdom of Great Britain and Northern Ireland","Europe","over 20 years","Over 5","Teacher (in University)","Academic hospital (Teaching or University related)","Yes (please refer to Q10)","Less than once a week","over 16",null,"Obligatory teaching courses for University teachers",null,"Other short TTT courses","Advanced Life Support (ALS), Basic Life Support (BLS) or other specific courses","Simulation courses",null,null,"Yes",null,"I give lectures",{"$nulls":3},"Teach informally, during every day work",null,"Planning and preparation for teaching session","Using visual aids","Interactive teaching",null,"Teaching the skills","Giving feedback","Organizing and leading the discussions","Organizing specific sessions (journal clubs, interactive sessions, pro and con debate…)",null,"No","No","I am an examiner for the final exam",{"$nulls":10},"No, it is assumed as being a part of everyday work",{"$nulls":9},"Other (please specify)","part time","Yes","Yes, I am well informed","No","Yes","01/01/2021",null,null,"National body responsible for education (Ministry of health or education, National board for anaesthesia …)","They have to pass a national board exam",null,"Written and oral examination, but also OSCE (Objective Structured Clinical Examination)"]
[12937804075,408998795,"2021-09-02T18:02:54","2021-09-02T20:32:25","185.49.74.151",{"$nulls":4},"41-50","Male","India","United Kingdom of Great Britain and Northern Ireland","Europe","over 20 years","Over 5","Chief of Department","Academic hospital (Teaching or University related)","Yes (please refer to Q10)","When in the operating theater (always have an allocated resident)","11-15",null,"Obligatory teaching courses for University teachers",null,"Other short TTT courses","Advanced Life Support (ALS), Basic Life Support (BLS) or other specific courses","Simulation courses",null,null,"Yes, some elements, but not systematically",null,"I give lectures","Perform work-based interactive teaching (operating room)","Running clinical case discussions","Involved in simulation sessions","Teach informally, during every day work",null,null,"Using visual aids","Interactive teaching","Problem based learning","Teaching the skills","Giving feedback","Organizing and leading the discussions",null,null,"Yes","Yes","I am an examiner for the final exam","I am European Diploma in Anaesthesia and Intensive Care (EDAIC) part II examiner","I occasionally carry out assessment during the residency program (Direct Observation of Procedural Skills - DOPS)","I give feedback during simulation sessions","I give feedback during everyday work","I am involved in other forms of formative assessment (for example multisource feedback)",null,null,"Yes, I am paid more",null,"Yes, I have a more visible position in the department",{"$nulls":6},"Overloaded with work",{"$nulls":5},"Yes","Yes, I am well informed","Yes","Yes","01/01/2000","Competency (outcome) based curriculum",null,"National body responsible for education (Ministry of health or education, National board for anaesthesia …)","They have to pass a national board exam",null,"VIVA (Oral examination), written and OSCE examination"]
[12937810401,408998795,"2021-09-02T18:05:51","2021-09-02T20:24:56","86.27.233.7",{"$nulls":4},"50+","Male","United Kingdom of Great Britain and Northern Ireland","United Kingdom of Great Britain and Northern Ireland","Europe","over 20 years","Over 5","Specialist","General hospital","No (please refer to Q21)",{"$nulls":50},"I work with residents, but I do not see that as teaching"]
[12937813491,408998795,"2021-09-02T18:06:48","2021-09-02T19:35:32","86.184.22.203",{"$nulls":4},"50+","Male","Switzerland","United Kingdom of Great Britain and Northern Ireland","Europe","over 20 years","Over 5","Teacher (in University)","Academic hospital (Teaching or University related)","Yes (please refer to Q10)","Once a week","over 16",{"$nulls":6},"None",null,"No, but students are exposed to outcome based teaching",null,"I give lectures",null,"Running clinical case discussions",{"$nulls":3},"Planning and preparation for teaching session","Using visual aids","Interactive teaching","Problem based learning",null,"Giving feedback",{"$nulls":3},"Yes","No",{"$nulls":7},"I have been an examiner for the Royal College of Anaesthetists and For the European Diploma",{"$nulls":3},"No, it is assumed as being a part of everyday work",{"$nulls":8},"No obvious obstacle except disruption by Covid-19",null,null,"Yes","I have some ideas, but it is not clear to me","No","Yes",null,"Competency (outcome) based curriculum",null,"National body responsible for education (Ministry of health or education, National board for anaesthesia …)","They have to pass a national board exam",null,"Written and oral examination, but also OSCE (Objective Structured Clinical Examination)"]
[12937815506,408998795,"2021-09-02T18:07:10","2021-09-02T19:27:34","90.213.59.205",{"$nulls":4},"36-40","Male","United Kingdom of Great Britain and Northern Ireland","United Kingdom of Great Britain and Northern Ireland","Europe","5-10","Over 5","Trainee","Academic hospital (Teaching or University related)","Yes (please refer to Q10)"]
[12937798934,408998795,"2021-09-02T18:01:46","2021-09-02T18:50:19","51.148.132.15",{"$nulls":4},"50+","Male","Germany","United Kingdom of Great Britain and Northern Ireland","Europe","over 20 years","Over 5","Senior specialist","Academic hospital (Teaching or University related)","Yes (please refer to Q10)","Almost every day","over 16",null,"Obligatory teaching courses for University teachers",null,"Other short TTT courses","Advanced Life Support (ALS), Basic Life Support (BLS) or other specific courses","Simulation courses",null,"Research design degree","Yes",null,"I give lectures","Perform work-based interactive teaching (operating room)","Running clinical case discussions",null,"Teach informally, during every day work","Complete assessments","Planning and preparation for teaching session","Using visual aids","Interactive teaching","Problem based learning","Teaching the skills","Giving feedback",null,"Organizing specific sessions (journal clubs, interactive sessions, pro and con debate…)",null,"Yes","Yes",null,"I am European Diploma in Anaesthesia and Intensive Care (EDAIC) part II examiner","I occasionally carry out assessment during the residency program (Direct Observation of Procedural Skills - DOPS)","I give feedback during simulation sessions","I give feedback during everyday work","I am involved in other forms of formative assessment (for example multisource feedback)",null," Royal College assessments","Yes, I am paid more",null,"Yes, I have a more visible position in the department",{"$nulls":3},"Lack of time",null,null,"Overloaded with work",{"$nulls":5},"Yes","Yes, I am well informed","Yes","Yes","01/01/2005",null,null,"National body responsible for education (Ministry of health or education, National board for anaesthesia …)","Other (please specify)","FRCA","Written and oral examination, but also OSCE (Objective Structured Clinical Examination)"]
[12937799372,408998795,"2021-09-02T18:01:41","2021-09-02T18:37:57","137.221.156.77",{"$nulls":4},"41-50","Female","India","United Kingdom of Great Britain and Northern Ireland","Europe","11-15",3,"Specialist","Academic hospital (Teaching or University related)","Yes (please refer to Q10)"]
[12937802873,408998795,"2021-09-02T18:02:55","2021-09-02T18:16:31","62.255.13.162",{"$nulls":4},"50+","Female","United Kingdom of Great Britain and Northern Ireland","United Kingdom of Great Britain and Northern Ireland","Europe","over 20 years","Over 5","Senior specialist","Academic hospital (Teaching or University related)","Yes (please refer to Q10)","Once a week","over 16",{"$nulls":3},"Other short TTT courses",null,"Simulation courses",null,null,"Yes",null,"I give lectures","Perform work-based interactive teaching (operating room)","Running clinical case discussions","Involved in simulation sessions","Teach informally, during every day work",null,"Planning and preparation for teaching session",null,"Interactive teaching","Problem based learning",null,"Giving feedback","Organizing and leading the discussions",null,null,"Yes","Yes",null,"I am European Diploma in Anaesthesia and Intensive Care (EDAIC) part II examiner",null,"I give feedback during simulation sessions","I give feedback during everyday work","I am involved in other forms of formative assessment (for example multisource feedback)",null,"Educational supervisor and assessor for progression in residency.",{"$nulls":3},"No, it is assumed as being a part of everyday work",{"$nulls":8},"None",null,null,"Yes","Yes, I am well informed","No","I am not sure",null,"Competency (outcome) based curriculum",null,"National body responsible for education (Ministry of health or education, National board for anaesthesia …)","Other (please specify)","2 FRCA exams and annual progression reviews.","Written and oral examination"]
[12937810970,408998795,"2021-09-02T18:05:13","2021-09-02T18:04:13","90.213.59.205",{"$nulls":4},"36-40","Male","United Kingdom of Great Britain and Northern Ireland","United Kingdom of Great Britain and Northern Ireland","Europe","5-10","Over 5","Other","Academic hospital (Teaching or University related)","No (please refer to Q21)"]
[12937805208,408998795,"2021-09-02T18:03:23","2021-09-02T18:05:22","94.20.42.59",{"$nulls":4},"41-50","Male","Azerbaijan","Azerbaijan","Asia","over 20 years","Less than 3","Chief of Department","Private hospital","No (please refer to Q21)",{"$nulls":50},"I work in a non-teaching hospital"]
[12937802951,408998795,"2021-09-02T18:03:09","2021-09-23T19:52:22","86.134.189.213",{"$nulls":4},"50+","Female","United Kingdom of Great Britain and Northern Ireland",null,"Europe","over 20 years","Over 5","Chief of Department","Academic hospital (Teaching or University related)","No (please refer to Q21)",{"$nulls":50},"Other (please specify)","We are consultant based hospital"]

{"sheet":"Sheet2","index":1,"n_rows":18,"n_cols":9,"rows_kept":18}
["1. Age","General","Male","Female",null,"5. For how many years have you practiced anesthesia?","General","Male","Female"]
["25-30",{"$f":"COUNTIF(Sheet1!$J$3:$J$893,A2)","v":33},{"$f":"COUNTIFS(Sheet1!$J$3:$J$893,A2, Sheet1!$K$3:$K$893,$C$1)","v":15},{"$f":"COUNTIFS(Sheet1!$J$3:$J$893,A2, Sheet1!$K$3:$K$893,$D$1)","v":18},null,"5-10",{"$f":"COUNTIF(Sheet1!$O$3:$O$893,F2)","v":229},{"$f":"COUNTIFS(Sheet1!$O$3:$O$893,F2, Sheet1!$K$3:$K$893,$H$1)","v":103},{"$f":"COUNTIFS(Sheet1!$O$3:$O$893,F2, Sheet1!$K$3:$K$893,$I$1)","v":126}]
["31-35",{"$f":"COUNTIF(Sheet1!$J$3:$J$893,A3)","v":120},{"$f":"COUNTIFS(Sheet1!$J$3:$J$893,A3, Sheet1!$K$3:$K$893,$C$1)","v":52},{"$f":"COUNTIFS(Sheet1!$J$3:$J$893,A3, Sheet1!$K$3:$K$893,$D$1)","v":68},null,"11-15",{"$f":"COUNTIF(Sheet1!$O$3:$O$893,F3)","v":169},{"$f":"COUNTIFS(Sheet1!$O$3:$O$893,F3, Sheet1!$K$3:$K$893,$H$1)","v":73},{"$f":"COUNTIFS(Sheet1!$O$3:$O$893,F3, Sheet1!$K$3:$K$893,$I$1)","v":95}]
["36-40",{"$f":"COUNTIF(Sheet1!$J$3:$J$893,A4)","v":148},{"$f":"COUNTIFS(Sheet1!$J$3:$J$893,A4, Sheet1!$K$3:$K$893,$C$1)","v":65},{"$f":"COUNTIFS(Sheet1!$J$3:$J$893,A4, Sheet1!$K$3:$K$893,$D$1)","v":83},null,"16-20",{"$f":"COUNTIF(Sheet1!$O$3:$O$893,F4)","v":139},{"$f":"COUNTIFS(Sheet1!$O$3:$O$893,F4, Sheet1!$K$3:$K$893,$H$1)","v":69},{"$f":"COUNTIFS(Sheet1!$O$3:$O$893,F4, Sheet1!$K$3:$K$893,$I$1)","v":70}]
["41-50",{"$f":"COUNTIF(Sheet1!$J$3:$J$893,A5)","v":279},{"$f":"COUNTIFS(Sheet1!$J$3:$J$893,A5, Sheet1!$K$3:$K$893,$C$1)","v":129},{"$f":"COUNTIFS(Sheet1!$J$3:$J$893,A5, Sheet1!$K$3:$K$893,$D$1)","v":149},null,"over 20 years",{"$f":"COUNTIF(Sheet1!$O$3:$O$893,F5)","v":345},{"$f":"COUNTIFS(Sheet1!$O$3:$O$893,F5, Sheet1!$K$3:$K$893,$H$1)","v":189},{"$f":"COUNTIFS(Sheet1!$O$3:$O$893,F5, Sheet1!$K$3:$K$893,$I$1)","v":156}]
["50+",{"$f":"COUNTIF(Sheet1!$J$3:$J$893,A6)","v":306},{"$f":"COUNTIFS(Sheet1!$J$3:$J$893,A6, Sheet1!$K$3:$K$893,$C$1)","v":175},{"$f":"COUNTIFS(Sheet1!$J$3:$J$893,A6, Sheet1!$K$3:$K$893,$D$1)","v":131},null,null,{"$f":"SUBTOTAL(109,Table4[General])","v":882},{"$f":"SUBTOTAL(109,Table4[Male])","v":434},{"$f":"SUBTOTAL(109,Table4[Female])","v":447}]
[null,{"$f":"SUBTOTAL(109,Table3[General])","v":886},{"$f":"SUBTOTAL(109,Table3[Male])","v":436},{"$f":"SUBTOTAL(109,Table3[Female])","v":449}]
[]
[]
[]
["6. How many years of specialization are/were obligatory during your training in anaesthesia and/or intensive care?"]
["Odgovori:","General","Male","Female"]
["Less than 3",{"$f":"COUNTIF(Sheet1!$P$3:$P$893,A13)","v":43},{"$f":"COUNTIFS(Sheet1!$P$3:$P$893,A13, Sheet1!$K$3:$K$893,$C$12)","v":26},{"$f":"COUNTIFS(Sheet1!$P$3:$P$893,A13, Sheet1!$K$3:$K$893,$D$12)","v":17}]
[3,{"$f":"COUNTIF(Sheet1!$P$3:$P$893,A14)","v":96},{"$f":"COUNTIFS(Sheet1!$P$3:$P$893,A14, Sheet1!$K$3:$K$893,$C$12)","v":53},{"$f":"COUNTIFS(Sheet1!$P$3:$P$893,A14, Sheet1!$K$3:$K$893,$D$12)","v":43}]
[4,{"$f":"COUNTIF(Sheet1!$P$3:$P$893,A15)","v":213},{"$f":"COUNTIFS(Sheet1!$P$3:$P$893,A15, Sheet1!$K$3:$K$893,$C$12)","v":87},{"$f":"COUNTIFS(Sheet1!$P$3:$P$893,A15, Sheet1!$K$3:$K$893,$D$12)","v":125}]
[5,{"$f":"COUNTIF(Sheet1!$P$3:$P$893,A16)","v":355},{"$f":"COUNTIFS(Sheet1!$P$3:$P$893,A16, Sheet1!$K$3:$K$893,$C$12)","v":162},{"$f":"COUNTIFS(Sheet1!$P$3:$P$893,A16, Sheet1!$K$3:$K$893,$D$12)","v":193}]
["Over 5",{"$f":"COUNTIF(Sheet1!$P$3:$P$893,A17)","v":177},{"$f":"COUNTIFS(Sheet1!$P$3:$P$893,A17, Sheet1!$K$3:$K$893,$C$12)","v":107},{"$f":"COUNTIFS(Sheet1!$P$3:$P$893,A17, Sheet1!$K$3:$K$893,$D$12)","v":70}]
[null,{"$f":"SUBTOTAL(109,Table6[General])","v":884},{"$f":"SUBTOTAL(109,Table6[Male])","v":435},{"$f":"SUBTOTAL(109,Table6[Female])","v":448}]

{"sheet":"Sheet3","index":2,"n_rows":86,"n_cols":5,"rows_kept":86}
["In what country do you presently work?","Broj ljudi iz ","Broj žena:","Broj muškaraca:"]
["Response","navedenih zemalja :","Female","Male"]
["Albania",{"$f":"COUNTIF(Sheet1!$M$3:$M$893,A3)","v":6},{"$f":"Sheet3!E3","v":3},{"$f":"COUNTIFS(Sheet1!$M$3:$M$893,A3, Sheet1!$K$3:$K$893,$D$2)","v":3},{"$f":"COUNTIFS(Sheet1!$M$3:$M$893,A3, Sheet1!$K$3:$K$893,$C$2)","v":3}]
["Bangladesh",{"$f":"COUNTIF(Sheet1!$M$3:$M$893,A4)","v":4},{"$f":"COUNTIFS(Sheet1!$M$3:$M$893,A4, Sheet1!$K$3:$K$893,$C$2)","v":1},{"$f":"COUNTIFS(Sheet1!$M$3:$M$893,A4, Sheet1!$K$3:$K$893,$D$2)","v":3}]
["India",{"$f":"COUNTIF(Sheet1!$M$3:$M$893,A5)","v":38},{"$f":"COUNTIFS(Sheet1!$M$3:$M$893,A5, Sheet1!$K$3:$K$893,$C$2)","v":19},{"$f":"COUNTIFS(Sheet1!$M$3:$M$893,A5, Sheet1!$K$3:$K$893,$D$2)","v":19}]
["Mexico",{"$f":"COUNTIF(Sheet1!$M$3:$M$893,A6)","v":5},{"$f":"COUNTIFS(Sheet1!$M$3:$M$893,A6, Sheet1!$K$3:$K$893,$C$2)","v":2},{"$f":"COUNTIFS(Sheet1!$M$3:$M$893,A6, Sheet1!$K$3:$K$893,$D$2)","v":3}]
["Armenia",{"$f":"COUNTIF(Sheet1!$M$3:$M$893,A7)","v":1},{"$f":"COUNTIFS(Sheet1!$M$3:$M$893,A7, Sheet1!$K$3:$K$893,$C$2)","v":0},{"$f":"COUNTIFS(Sheet1!$M$3:$M$893,A7, Sheet1!$K$3:$K$893,$D$2)","v":1}]
["Australia",{"$f":"COUNTIF(Sheet1!$M$3:$M$893,A8)","v":2},{"$f":"COUNTIFS(Sheet1!$M$3:$M$893,A8, Sheet1!$K$3:$K$893,$C$2)","v":0},{"$f":"COUNTIFS(Sheet1!$M$3:$M$893,A8, Sheet1!$K$3:$K$893,$D$2)","v":2}]
["Austria",{"$f":"COUNTIF(Sheet1!$M$3:$M$893,A9)","v":15},{"$f":"COUNTIFS(Sheet1!$M$3:$M$893,A9, Sheet1!$K$3:$K$893,$C$2)","v":8},{"$f":"COUNTIFS(Sheet1!$M$3:$M$893,A9, Sheet1!$K$3:$K$893,$D$2)","v":7}]
["Oman",{"$f":"COUNTIF(Sheet1!$M$3:$M$893,A10)","v":2},{"$f":"COUNTIFS(Sheet1!$M$3:$M$893,A10, Sheet1!$K$3:$K$893,$C$2)","v":0},{"$f":"COUNTIFS(Sheet1!$M$3:$M$893,A10, Sheet1!$K$3:$K$893,$D$2)","v":2}]
["Belarus",{"$f":"COUNTIF(Sheet1!$M$3:$M$893,A11)","v":1},{"$f":"COUNTIFS(Sheet1!$M$3:$M$893,A11, Sheet1!$K$3:$K$893,$C$2)","v":0},{"$f":"COUNTIFS(Sheet1!$M$3:$M$893,A11, Sheet1!$K$3:$K$893,$D$2)","v":1}]
["Belgium",{"$f":"COUNTIF(Sheet1!$M$3:$M$893,A12)","v":30},{"$f":"COUNTIFS(Sheet1!$M$3:$M$893,A12, Sheet1!$K$3:$K$893,$C$2)","v":12},{"$f":"COUNTIFS(Sheet1!$M$3:$M$893,A12, Sheet1!$K$3:$K$893,$D$2)","v":18}]
["Bosnia and Herzegovina",{"$f":"COUNTIF(Sheet1!$M$3:$M$893,A13)","v":4},{"$f":"COUNTIFS(Sheet1!$M$3:$M$893,A13, Sheet1!$K$3:$K$893,$C$2)","v":3},{"$f":"COUNTIFS(Sheet1!$M$3:$M$893,A13, Sheet1!$K$3:$K$893,$D$2)","v":1}]
["Bulgaria",{"$f":"COUNTIF(Sheet1!$M$3:$M$893,A14)","v":3},{"$f":"COUNTIFS(Sheet1!$M$3:$M$893,A14, Sheet1!$K$3:$K$893,$C$2)","v":0},{"$f":"COUNTIFS(Sheet1!$M$3:$M$893,A14, Sheet1!$K$3:$K$893,$D$2)","v":3}]
["Croatia",{"$f":"COUNTIF(Sheet1!$M$3:$M$893,A15)","v":15},{"$f":"COUNTIFS(Sheet1!$M$3:$M$893,A15, Sheet1!$K$3:$K$893,$C$2)","v":14},{"$f":"COUNTIFS(Sheet1!$M$3:$M$893,A15, Sheet1!$K$3:$K$893,$D$2)","v":1}]
["Cyprus",{"$f":"COUNTIF(Sheet1!$M$3:$M$893,A16)","v":4},{"$f":"COUNTIFS(Sheet1!$M$3:$M$893,A16, Sheet1!$K$3:$K$893,$C$2)","v":2},{"$f":"COUNTIFS(Sheet1!$M$3:$M$893,A16, Sheet1!$K$3:$K$893,$D$2)","v":2}]
["Czech Republic",{"$f":"COUNTIF(Sheet1!$M$3:$M$893,A17)","v":5},{"$f":"COUNTIFS(Sheet1!$M$3:$M$893,A17, Sheet1!$K$3:$K$893,$C$2)","v":2},{"$f":"COUNTIFS(Sheet1!$M$3:$M$893,A17, Sheet1!$K$3:$K$893,$D$2)","v":3}]
["Denmark",{"$f":"COUNTIF(Sheet1!$M$3:$M$893,A18)","v":7},{"$f":"COUNTIFS(Sheet1!$M$3:$M$893,A18, Sheet1!$K$3:$K$893,$C$2)","v":4},{"$f":"COUNTIFS(Sheet1!$M$3:$M$893,A18, Sheet1!$K$3:$K$893,$D$2)","v":3}]
["Nigeria",{"$f":"COUNTIF(Sheet1!$M$3:$M$893,A19)","v":3},{"$f":"COUNTIFS(Sheet1!$M$3:$M$893,A19, Sheet1!$K$3:$K$893,$C$2)","v":1},{"$f":"COUNTIFS(Sheet1!$M$3:$M$893,A19, Sheet1!$K$3:$K$893,$D$2)","v":2}]
["Kuwait",{"$f":"COUNTIF(Sheet1!$M$3:$M$893,A20)","v":2},{"$f":"COUNTIFS(Sheet1!$M$3:$M$893,A20, Sheet1!$K$3:$K$893,$C$2)","v":0},{"$f":"COUNTIFS(Sheet1!$M$3:$M$893,A20, Sheet1!$K$3:$K$893,$D$2)","v":2}]
["Estonia",{"$f":"COUNTIF(Sheet1!$M$3:$M$893,A21)","v":3},{"$f":"COUNTIFS(Sheet1!$M$3:$M$893,A21, Sheet1!$K$3:$K$893,$C$2)","v":2},{"$f":"COUNTIFS(Sheet1!$M$3:$M$893,A21, Sheet1!$K$3:$K$893,$D$2)","v":1}]
["Finland",{"$f":"COUNTIF(Sheet1!$M$3:$M$893,A22)","v":8},{"$f":"COUNTIFS(Sheet1!$M$3:$M$893,A22, Sheet1!$K$3:$K$893,$C$2)","v":4},{"$f":"COUNTIFS(Sheet1!$M$3:$M$893,A22, Sheet1!$K$3:$K$893,$D$2)","v":4}]
["Saudi Arabia",{"$f":"COUNTIF(Sheet1!$M$3:$M$893,A23)","v":16},{"$f":"COUNTIFS(Sheet1!$M$3:$M$893,A23, Sheet1!$K$3:$K$893,$C$2)","v":4},{"$f":"COUNTIFS(Sheet1!$M$3:$M$893,A23, Sheet1!$K$3:$K$893,$D$2)","v":12}]
["Uzbekistan",{"$f":"COUNTIF(Sheet1!$M$3:$M$893,A24)","v":1},{"$f":"COUNTIFS(Sheet1!$M$3:$M$893,A24, Sheet1!$K$3:$K$893,$C$2)","v":0},{"$f":"COUNTIFS(Sheet1!$M$3:$M$893,A24, Sheet1!$K$3:$K$893,$D$2)","v":1}]
["France",{"$f":"COUNTIF(Sheet1!$M$3:$M$893,A25)","v":14},{"$f":"COUNTIFS(Sheet1!$M$3:$M$893,A25, Sheet1!$K$3:$K$893,$C$2)","v":8},{"$f":"COUNTIFS(Sheet1!$M$3:$M$893,A25, Sheet1!$K$3:$K$893,$D$2)","v":6}]
["Philippines",{"$f":"COUNTIF(Sheet1!$M$3:$M$893,A26)","v":3},{"$f":"COUNTIFS(Sheet1!$M$3:$M$893,A26, Sheet1!$K$3:$K$893,$C$2)","v":2},{"$f":"COUNTIFS(Sheet1!$M$3:$M$893,A26, Sheet1!$K$3:$K$893,$D$2)","v":1}]
["Israel",{"$f":"COUNTIF(Sheet1!$M$3:$M$893,A27)","v":12},{"$f":"COUNTIFS(Sheet1!$M$3:$M$893,A27, Sheet1!$K$3:$K$893,$C$2)","v":4},{"$f":"COUNTIFS(Sheet1!$M$3:$M$893,A27, Sheet1!$K$3:$K$893,$D$2)","v":8}]
["Brazil",{"$f":"COUNTIF(Sheet1!$M$3:$M$893,A28)","v":15},{"$f":"COUNTIFS(Sheet1!$M$3:$M$893,A28, Sheet1!$K$3:$K$893,$C$2)","v":4},{"$f":"COUNTIFS(Sheet1!$M$3:$M$893,A28, Sheet1!$K$3:$K$893,$D$2)","v":11}]
["Sudan",{"$f":"COUNTIF(Sheet1!$M$3:$M$893,A29)","v":3},{"$f":"COUNTIFS(Sheet1!$M$3:$M$893,A29, Sheet1!$K$3:$K$893,$C$2)","v":3},{"$f":"COUNTIFS(Sheet1!$M$3:$M$893,A29, Sheet1!$K$3:$K$893,$D$2)","v":0}]
["Mongolia",{"$f":"COUNTIF(Sheet1!$M$3:$M$893,A30)","v":2},{"$f":"COUNTIFS(Sheet1!$M$3:$M$893,A30, Sheet1!$K$3:$K$893,$C$2)","v":2},{"$f":"COUNTIFS(Sheet1!$M$3:$M$893,A30, Sheet1!$K$3:$K$893,$D$2)","v":0}]
["Georgia",{"$f":"COUNTIF(Sheet1!$M$3:$M$893,A31)","v":3},{"$f":"COUNTIFS(Sheet1!$M$3:$M$893,A31, Sheet1!$K$3:$K$893,$C$2)","v":0},{"$f":"COUNTIFS(Sheet1!$M$3:$M$893,A31, Sheet1!$K$3:$K$893,$D$2)","v":3}]
["Germany",{"$f":"COUNTIF(Sheet1!$M$3:$M$893,A32)","v":70},{"$f":"COUNTIFS(Sheet1!$M$3:$M$893,A32, Sheet1!$K$3:$K$893,$C$2)","v":26},{"$f":"COUNTIFS(Sheet1!$M$3:$M$893,A32, Sheet1!$K$3:$K$893,$D$2)","v":44}]
["New Zealand",{"$f":"COUNTIF(Sheet1!$M$3:$M$893,A33)","v":3},{"$f":"COUNTIFS(Sheet1!$M$3:$M$893,A33, Sheet1!$K$3:$K$893,$C$2)","v":0},{"$f":"COUNTIFS(Sheet1!$M$3:$M$893,A33, Sheet1!$K$3:$K$893,$D$2)","v":3}]
["Qatar",{"$f":"COUNTIF(Sheet1!$M$3:$M$893,A34)","v":6},{"$f":"COUNTIFS(Sheet1!$M$3:$M$893,A34, Sheet1!$K$3:$K$893,$C$2)","v":2},{"$f":"COUNTIFS(Sheet1!$M$3:$M$893,A34, Sheet1!$K$3:$K$893,$D$2)","v":4}]
["United States of America",{"$f":"COUNTIF(Sheet1!$M$3:$M$893,A35)","v":6},{"$f":"COUNTIFS(Sheet1!$M$3:$M$893,A35, Sheet1!$K$3:$K$893,$C$2)","v":1},{"$f":"COUNTIFS(Sheet1!$M$3:$M$893,A35, Sheet1!$K$3:$K$893,$D$2)","v":5}]
["Honduras",{"$f":"COUNTIF(Sheet1!$M$3:$M$893,A36)","v":1},{"$f":"COUNTIFS(Sheet1!$M$3:$M$893,A36, Sheet1!$K$3:$K$893,$C$2)","v":1},{"$f":"COUNTIFS(Sheet1!$M$3:$M$893,A36, Sheet1!$K$3:$K$893,$D$2)","v":0}]
["South Africa",{"$f":"COUNTIF(Sheet1!$M$3:$M$893,A37)","v":2},{"$f":"COUNTIFS(Sheet1!$M$3:$M$893,A37, Sheet1!$K$3:$K$893,$C$2)","v":1},{"$f":"COUNTIFS(Sheet1!$M$3:$M$893,A37, Sheet1!$K$3:$K$893,$D$2)","v":1}]
["Egypt",{"$f":"COUNTIF(Sheet1!$M$3:$M$893,A38)","v":11},{"$f":"COUNTIFS(Sheet1!$M$3:$M$893,A38, Sheet1!$K$3:$K$893,$C$2)","v":3},{"$f":"COUNTIFS(Sheet1!$M$3:$M$893,A38, Sheet1!$K$3:$K$893,$D$2)","v":8}]
["Kazakhstan",{"$f":"COUNTIF(Sheet1!$M$3:$M$893,A39)","v":1},{"$f":"COUNTIFS(Sheet1!$M$3:$M$893,A39, Sheet1!$K$3:$K$893,$C$2)","v":0},{"$f":"COUNTIFS(Sheet1!$M$3:$M$893,A39, Sheet1!$K$3:$K$893,$D$2)","v":1}]
["Myanmar",{"$f":"COUNTIF(Sheet1!$M$3:$M$893,A40)","v":1},{"$f":"COUNTIFS(Sheet1!$M$3:$M$893,A40, Sheet1!$K$3:$K$893,$C$2)","v":1},{"$f":"COUNTIFS(Sheet1!$M$3:$M$893,A40, Sheet1!$K$3:$K$893,$D$2)","v":0}]
["Canada",{"$f":"COUNTIF(Sheet1!$M$3:$M$893,A41)","v":3},{"$f":"COUNTIFS(Sheet1!$M$3:$M$893,A41, Sheet1!$K$3:$K$893,$C$2)","v":1},{"$f":"COUNTIFS(Sheet1!$M$3:$M$893,A41, Sheet1!$K$3:$K$893,$D$2)","v":2}]
["Chile",{"$f":"COUNTIF(Sheet1!$M$3:$M$893,A42)","v":4},{"$f":"COUNTIFS(Sheet1!$M$3:$M$893,A42, Sheet1!$K$3:$K$893,$C$2)","v":2},{"$f":"COUNTIFS(Sheet1!$M$3:$M$893,A42, Sheet1!$K$3:$K$893,$D$2)","v":2}]
["Peru",{"$f":"COUNTIF(Sheet1!$M$3:$M$893,A43)","v":1},{"$f":"COUNTIFS(Sheet1!$M$3:$M$893,A43, Sheet1!$K$3:$K$893,$C$2)","v":0},{"$f":"COUNTIFS(Sheet1!$M$3:$M$893,A43, Sheet1!$K$3:$K$893,$D$2)","v":1}]
["United Arab Emirates",{"$f":"COUNTIF(Sheet1!$M$3:$M$893,A44)","v":9},{"$f":"COUNTIFS(Sheet1!$M$3:$M$893,A44, Sheet1!$K$3:$K$893,$C$2)","v":2},{"$f":"COUNTIFS(Sheet1!$M$3:$M$893,A44, Sheet1!$K$3:$K$893,$D$2)","v":7}]
["Ecuador",{"$f":"COUNTIF(Sheet1!$M$3:$M$893,A45)","v":1},{"$f":"COUNTIFS(Sheet1!$M$3:$M$893,A45, Sheet1!$K$3:$K$893,$C$2)","v":1},{"$f":"COUNTIFS(Sheet1!$M$3:$M$893,A45, Sheet1!$K$3:$K$893,$D$2)","v":0}]
["Colombia",{"$f":"COUNTIF(Sheet1!$M$3:$M$893,A46)","v":2},{"$f":"COUNTIFS(Sheet1!$M$3:$M$893,A46, Sheet1!$K$3:$K$893,$C$2)","v":0},{"$f":"COUNTIFS(Sheet1!$M$3:$M$893,A46, Sheet1!$K$3:$K$893,$D$2)","v":2}]
["Japan",{"$f":"COUNTIF(Sheet1!$M$3:$M$893,A47)","v":2},{"$f":"COUNTIFS(Sheet1!$M$3:$M$893,A47, Sheet1!$K$3:$K$893,$C$2)","v":1},{"$f":"COUNTIFS(Sheet1!$M$3:$M$893,A47, Sheet1!$K$3:$K$893,$D$2)","v":1}]
["Pakistan",{"$f":"COUNTIF(Sheet1!$M$3:$M$893,A48)","v":3},{"$f":"COUNTIFS(Sheet1!$M$3:$M$893,A48, Sheet1!$K$3:$K$893,$C$2)","v":1},{"$f":"COUNTIFS(Sheet1!$M$3:$M$893,A48, Sheet1!$K$3:$K$893,$D$2)","v":2}]
["Greece",{"$f":"COUNTIF(Sheet1!$M$3:$M$893,A49)","v":42},{"$f":"COUNTIFS(Sheet1!$M$3:$M$893,A49, Sheet1!$K$3:$K$893,$C$2)","v":29},{"$f":"COUNTIFS(Sheet1!$M$3:$M$893,A49, Sheet1!$K$3:$K$893,$D$2)","v":13}]
["Togo",{"$f":"COUNTIF(Sheet1!$M$3:$M$893,A50)","v":1},{"$f":"COUNTIFS(Sheet1!$M$3:$M$893,A50, Sheet1!$K$3:$K$893,$C$2)","v":0},{"$f":"COUNTIFS(Sheet1!$M$3:$M$893,A50, Sheet1!$K$3:$K$893,$D$2)","v":1}]
["Hungary",{"$f":"COUNTIF(Sheet1!$M$3:$M$893,A51)","v":6},{"$f":"COUNTIFS(Sheet1!$M$3:$M$893,A51, Sheet1!$K$3:$K$893,$C$2)","v":2},{"$f":"COUNTIFS(Sheet1!$M$3:$M$893,A51, Sheet1!$K$3:$K$893,$D$2)","v":4}]
["Iceland",{"$f":"COUNTIF(Sheet1!$M$3:$M$893,A52)","v":1},{"$f":"COUNTIFS(Sheet1!$M$3:$M$893,A52, Sheet1!$K$3:$K$893,$C$2)","v":1},{"$f":"COUNTIFS(Sheet1!$M$3:$M$893,A52, Sheet1!$K$3:$K$893,$D$2)","v":0}]
["Ireland",{"$f":"COUNTIF(Sheet1!$M$3:$M$893,A53)","v":8},{"$f":"COUNTIFS(Sheet1!$M$3:$M$893,A53, Sheet1!$K$3:$K$893,$C$2)","v":3},{"$f":"COUNTIFS(Sheet1!$M$3:$M$893,A53, Sheet1!$K$3:$K$893,$D$2)","v":5}]
["Italy",{"$f":"COUNTIF(Sheet1!$M$3:$M$893,A54)","v":30},{"$f":"COUNTIFS(Sheet1!$M$3:$M$893,A54, Sheet1!$K$3:$K$893,$C$2)","v":13},{"$f":"COUNTIFS(Sheet1!$M$3:$M$893,A54, Sheet1!$K$3:$K$893,$D$2)","v":17}]
["Latvia",{"$f":"COUNTIF(Sheet1!$M$3:$M$893,A55)","v":10},{"$f":"COUNTIFS(Sheet1!$M$3:$M$893,A55, Sheet1!$K$3:$K$893,$C$2)","v":6},{"$f":"COUNTIFS(Sheet1!$M$3:$M$893,A55, Sheet1!$K$3:$K$893,$D$2)","v":4}]
["Lithuania",{"$f":"COUNTIF(Sheet1!$M$3:$M$893,A56)","v":9},{"$f":"COUNTIFS(Sheet1!$M$3:$M$893,A56, Sheet1!$K$3:$K$893,$C$2)","v":5},{"$f":"COUNTIFS(Sheet1!$M$3:$M$893,A56, Sheet1!$K$3:$K$893,$D$2)","v":4}]
["Indonesia",{"$f":"COUNTIF(Sheet1!$M$3:$M$893,A57)","v":3},{"$f":"COUNTIFS(Sheet1!$M$3:$M$893,A57, Sheet1!$K$3:$K$893,$C$2)","v":1},{"$f":"COUNTIFS(Sheet1!$M$3:$M$893,A57, Sheet1!$K$3:$K$893,$D$2)","v":2}]
["Luxembourg",{"$f":"COUNTIF(Sheet1!$M$3:$M$893,A58)","v":1},{"$f":"COUNTIFS(Sheet1!$M$3:$M$893,A58, Sheet1!$K$3:$K$893,$C$2)","v":0},{"$f":"COUNTIFS(Sheet1!$M$3:$M$893,A58, Sheet1!$K$3:$K$893,$D$2)","v":1}]
["Malta",{"$f":"COUNTIF(Sheet1!$M$3:$M$893,A59)","v":7},{"$f":"COUNTIFS(Sheet1!$M$3:$M$893,A59, Sheet1!$K$3:$K$893,$C$2)","v":4},{"$f":"COUNTIFS(Sheet1!$M$3:$M$893,A59, Sheet1!$K$3:$K$893,$D$2)","v":3}]
["Netherlands",{"$f":"COUNTIF(Sheet1!$M$3:$M$893,A60)","v":35},{"$f":"COUNTIFS(Sheet1!$M$3:$M$893,A60, Sheet1!$K$3:$K$893,$C$2)","v":13},{"$f":"COUNTIFS(Sheet1!$M$3:$M$893,A60, Sheet1!$K$3:$K$893,$D$2)","v":22}]
["Norway",{"$f":"COUNTIF(Sheet1!$M$3:$M$893,A61)","v":11},{"$f":"COUNTIFS(Sheet1!$M$3:$M$893,A61, Sheet1!$K$3:$K$893,$C$2)","v":7},{"$f":"COUNTIFS(Sheet1!$M$3:$M$893,A61, Sheet1!$K$3:$K$893,$D$2)","v":4}]
["Morocco",{"$f":"COUNTIF(Sheet1!$M$3:$M$893,A62)","v":2},{"$f":"COUNTIFS(Sheet1!$M$3:$M$893,A62, Sheet1!$K$3:$K$893,$C$2)","v":0},{"$f":"COUNTIFS(Sheet1!$M$3:$M$893,A62, Sheet1!$K$3:$K$893,$D$2)","v":2}]
["Poland",{"$f":"COUNTIF(Sheet1!$M$3:$M$893,A63)","v":15},{"$f":"COUNTIFS(Sheet1!$M$3:$M$893,A63, Sheet1!$K$3:$K$893,$C$2)","v":3},{"$f":"COUNTIFS(Sheet1!$M$3:$M$893,A63, Sheet1!$K$3:$K$893,$D$2)","v":12}]
["Portugal",{"$f":"COUNTIF(Sheet1!$M$3:$M$893,A64)","v":57},{"$f":"COUNTIFS(Sheet1!$M$3:$M$893,A64, Sheet1!$K$3:$K$893,$C$2)","v":38},{"$f":"COUNTIFS(Sheet1!$M$3:$M$893,A64, Sheet1!$K$3:$K$893,$D$2)","v":19}]
["Singapore",{"$f":"COUNTIF(Sheet1!$M$3:$M$893,A65)","v":1},{"$f":"COUNTIFS(Sheet1!$M$3:$M$893,A65, Sheet1!$K$3:$K$893,$C$2)","v":0},{"$f":"COUNTIFS(Sheet1!$M$3:$M$893,A65, Sheet1!$K$3:$K$893,$D$2)","v":1}]
["Republic of Moldova",{"$f":"COUNTIF(Sheet1!$M$3:$M$893,A66)","v":4},{"$f":"COUNTIFS(Sheet1!$M$3:$M$893,A66, Sheet1!$K$3:$K$893,$C$2)","v":2},{"$f":"COUNTIFS(Sheet1!$M$3:$M$893,A66, Sheet1!$K$3:$K$893,$D$2)","v":2}]
["Romania",{"$f":"COUNTIF(Sheet1!$M$3:$M$893,A67)","v":25},{"$f":"COUNTIFS(Sheet1!$M$3:$M$893,A67, Sheet1!$K$3:$K$893,$C$2)","v":17},{"$f":"COUNTIFS(Sheet1!$M$3:$M$893,A67, Sheet1!$K$3:$K$893,$D$2)","v":8}]
["Russian Federation",{"$f":"COUNTIF(Sheet1!$M$3:$M$893,A68)","v":11},{"$f":"COUNTIFS(Sheet1!$M$3:$M$893,A68, Sheet1!$K$3:$K$893,$C$2)","v":2},{"$f":"COUNTIFS(Sheet1!$M$3:$M$893,A68, Sheet1!$K$3:$K$893,$D$2)","v":9}]
["Serbia",{"$f":"COUNTIF(Sheet1!$M$3:$M$893,A69)","v":31},{"$f":"COUNTIFS(Sheet1!$M$3:$M$893,A69, Sheet1!$K$3:$K$893,$C$2)","v":23},{"$f":"COUNTIFS(Sheet1!$M$3:$M$893,A69, Sheet1!$K$3:$K$893,$D$2)","v":7},"jedna osoba nema upisan pol"]
["Slovakia",{"$f":"COUNTIF(Sheet1!$M$3:$M$893,A70)","v":3},{"$f":"COUNTIFS(Sheet1!$M$3:$M$893,A70, Sheet1!$K$3:$K$893,$C$2)","v":2},{"$f":"COUNTIFS(Sheet1!$M$3:$M$893,A70, Sheet1!$K$3:$K$893,$D$2)","v":1}]
["Slovenia",{"$f":"COUNTIF(Sheet1!$M$3:$M$893,A71)","v":7},{"$f":"COUNTIFS(Sheet1!$M$3:$M$893,A71, Sheet1!$K$3:$K$893,$C$2)","v":4},{"$f":"COUNTIFS(Sheet1!$M$3:$M$893,A71, Sheet1!$K$3:$K$893,$D$2)","v":3}]
["Spain",{"$f":"COUNTIF(Sheet1!$M$3:$M$893,A72)","v":51},{"$f":"COUNTIFS(Sheet1!$M$3:$M$893,A72, Sheet1!$K$3:$K$893,$C$2)","v":30},{"$f":"COUNTIFS(Sheet1!$M$3:$M$893,A72, Sheet1!$K$3:$K$893,$D$2)","v":21}]
["United Republic of Tanzania",{"$f":"COUNTIF(Sheet1!$M$3:$M$893,A73)","v":1},{"$f":"COUNTIFS(Sheet1!$M$3:$M$893,A73, Sheet1!$K$3:$K$893,$C$2)","v":1},{"$f":"COUNTIFS(Sheet1!$M$3:$M$893,A73, Sheet1!$K$3:$K$893,$D$2)","v":0}]
["Republic of Korea",{"$f":"COUNTIF(Sheet1!$M$3:$M$893,A74)","v":1},{"$f":"COUNTIFS(Sheet1!$M$3:$M$893,A74, Sheet1!$K$3:$K$893,$C$2)","v":0},{"$f":"COUNTIFS(Sheet1!$M$3:$M$893,A74, Sheet1!$K$3:$K$893,$D$2)","v":1}]
["Argentina",{"$f":"COUNTIF(Sheet1!$M$3:$M$893,A75)","v":2},{"$f":"COUNTIFS(Sheet1!$M$3:$M$893,A75, Sheet1!$K$3:$K$893,$C$2)","v":0},{"$f":"COUNTIFS(Sheet1!$M$3:$M$893,A75, Sheet1!$K$3:$K$893,$D$2)","v":2}]
["Dominican Republic",{"$f":"COUNTIF(Sheet1!$M$3:$M$893,A76)","v":1},{"$f":"COUNTIFS(Sheet1!$M$3:$M$893,A76, Sheet1!$K$3:$K$893,$C$2)","v":0},{"$f":"COUNTIFS(Sheet1!$M$3:$M$893,A76, Sheet1!$K$3:$K$893,$D$2)","v":1}]
["Sweden",{"$f":"COUNTIF(Sheet1!$M$3:$M$893,A77)","v":17},{"$f":"COUNTIFS(Sheet1!$M$3:$M$893,A77, Sheet1!$K$3:$K$893,$C$2)","v":10},{"$f":"COUNTIFS(Sheet1!$M$3:$M$893,A77, Sheet1!$K$3:$K$893,$D$2)","v":7}]
["Switzerland",{"$f":"COUNTIF(Sheet1!$M$3:$M$893,A78)","v":29},{"$f":"COUNTIFS(Sheet1!$M$3:$M$893,A78, Sheet1!$K$3:$K$893,$C$2)","v":18},{"$f":"COUNTIFS(Sheet1!$M$3:$M$893,A78, Sheet1!$K$3:$K$893,$D$2)","v":11}]
["The former Yugoslav Republic of Macedonia",{"$f":"COUNTIF(Sheet1!$M$3:$M$893,A79)","v":5},{"$f":"COUNTIFS(Sheet1!$M$3:$M$893,A79, Sheet1!$K$3:$K$893,$C$2)","v":4},{"$f":"COUNTIFS(Sheet1!$M$3:$M$893,A79, Sheet1!$K$3:$K$893,$D$2)","v":1}]
["Turkey",{"$f":"COUNTIF(Sheet1!$M$3:$M$893,A80)","v":58},{"$f":"COUNTIFS(Sheet1!$M$3:$M$893,A80, Sheet1!$K$3:$K$893,$C$2)","v":41},{"$f":"COUNTIFS(Sheet1!$M$3:$M$893,A80, Sheet1!$K$3:$K$893,$D$2)","v":17}]
["Algeria",{"$f":"COUNTIF(Sheet1!$M$3:$M$893,A81)","v":1},{"$f":"COUNTIFS(Sheet1!$M$3:$M$893,A81, Sheet1!$K$3:$K$893,$C$2)","v":0},{"$f":"COUNTIFS(Sheet1!$M$3:$M$893,A81, Sheet1!$K$3:$K$893,$D$2)","v":1}]
["Ukraine",{"$f":"COUNTIF(Sheet1!$M$3:$M$893,A82)","v":7},{"$f":"COUNTIFS(Sheet1!$M$3:$M$893,A82, Sheet1!$K$3:$K$893,$C$2)","v":4},{"$f":"COUNTIFS(Sheet1!$M$3:$M$893,A82, Sheet1!$K$3:$K$893,$D$2)","v":3}]
["United Kingdom of Great Britain and Northern Ireland",{"$f":"COUNTIF(Sheet1!$M$3:$M$893,A83)","v":32},{"$f":"COUNTIFS(Sheet1!$M$3:$M$893,A83, Sheet1!$K$3:$K$893,$C$2)","v":13},{"$f":"COUNTIFS(Sheet1!$M$3:$M$893,A83, Sheet1!$K$3:$K$893,$D$2)","v":19}]
["Swaziland",{"$f":"COUNTIF(Sheet1!$M$3:$M$893,A84)","v":1},{"$f":"COUNTIFS(Sheet1!$M$3:$M$893,A84, Sheet1!$K$3:$K$893,$C$2)","v":1},{"$f":"COUNTIFS(Sheet1!$M$3:$M$893,A84, Sheet1!$K$3:$K$893,$D$2)","v":0}]
["Azerbaijan",{"$f":"COUNTIF(Sheet1!$M$3:$M$893,A85)","v":1},{"$f":"COUNTIFS(Sheet1!$M$3:$M$893,A85, Sheet1!$K$3:$K$893,$C$2)","v":0},{"$f":"COUNTIFS(Sheet1!$M$3:$M$893,A85, Sheet1!$K$3:$K$893,$D$2)","v":1}]
["SUM",{"$f":"SUBTOTAL(109,B3:B85)","v":880},{"$f":"SUBTOTAL(109,C3:C85)","v":444},{"$f":"SUBTOTAL(109,D3:D85)","v":435}]

{"sheet":"5. Pitanje","index":3,"n_rows":49,"n_cols":6,"rows_kept":49}
["5. For how many years have you practiced anesthesia?","Ukupan broj","5-10","11-15","16-20","over 20 years"]
["Albania",{"$f":"COUNTIF(Sheet1!$M$3:$M$893,A2)","v":6},{"$f":"COUNTIFS(Sheet1!$M$3:$M$893,A2, Sheet1!$O$3:$O$893,$C$1)","v":1},{"$f":"COUNTIFS(Sheet1!$M$3:$M$893,A2, Sheet1!$O$3:$O$893,$D$1)","v":0},{"$f":"COUNTIFS(Sheet1!$M$3:$M$893,A2, Sheet1!$O$3:$O$893,$E$1)","v":1},{"$f":"COUNTIFS(Sheet1!$M$3:$M$893,A2, Sheet1!$O$3:$O$893,$F$1)","v":4}]
["Armenia",{"$f":"COUNTIF(Sheet1!$M$3:$M$893,A3)","v":1},{"$f":"COUNTIFS(Sheet1!$M$3:$M$893,A3, Sheet1!$O$3:$O$893,$C$1)","v":0},{"$f":"COUNTIFS(Sheet1!$M$3:$M$893,A3, Sheet1!$O$3:$O$893,$D$1)","v":0},{"$f":"COUNTIFS(Sheet1!$M$3:$M$893,A3, Sheet1!$O$3:$O$893,$E$1)","v":0},{"$f":"COUNTIFS(Sheet1!$M$3:$M$893,A3, Sheet1!$O$3:$O$893,$F$1)","v":1}]
["Austria",{"$f":"COUNTIF(Sheet1!$M$3:$M$893,A4)","v":15},{"$f":"COUNTIFS(Sheet1!$M$3:$M$893,A4, Sheet1!$O$3:$O$893,$C$1)","v":5},{"$f":"COUNTIFS(Sheet1!$M$3:$M$893,A4, Sheet1!$O$3:$O$893,$D$1)","v":2},{"$f":"COUNTIFS(Sheet1!$M$3:$M$893,A4, Sheet1!$O$3:$O$893,$E$1)","v":4},{"$f":"COUNTIFS(Sheet1!$M$3:$M$893,A4, Sheet1!$O$3:$O$893,$F$1)","v":4}]
["Belarus",{"$f":"COUNTIF(Sheet1!$M$3:$M$893,A5)","v":1},{"$f":"COUNTIFS(Sheet1!$M$3:$M$893,A5, Sheet1!$O$3:$O$893,$C$1)","v":0},{"$f":"COUNTIFS(Sheet1!$M$3:$M$893,A5, Sheet1!$O$3:$O$893,$D$1)","v":1},{"$f":"COUNTIFS(Sheet1!$M$3:$M$893,A5, Sheet1!$O$3:$O$893,$E$1)","v":0},{"$f":"COUNTIFS(Sheet1!$M$3:$M$893,A5, Sheet1!$O$3:$O$893,$F$1)","v":0}]
["Belgium",{"$f":"COUNTIF(Sheet1!$M$3:$M$893,A6)","v":30},{"$f":"COUNTIFS(Sheet1!$M$3:$M$893,A6, Sheet1!$O$3:$O$893,$C$1)","v":4},{"$f":"COUNTIFS(Sheet1!$M$3:$M$893,A6, Sheet1!$O$3:$O$893,$D$1)","v":5},{"$f":"COUNTIFS(Sheet1!$M$3:$M$893,A6, Sheet1!$O$3:$O$893,$E$1)","v":4},{"$f":"COUNTIFS(Sheet1!$M$3:$M$893,A6, Sheet1!$O$3:$O$893,$F$1)","v":17}]
["Bosnia and Herzegovina",{"$f":"COUNTIF(Sheet1!$M$3:$M$893,A7)","v":4},{"$f":"COUNTIFS(Sheet1!$M$3:$M$893,A7, Sheet1!$O$3:$O$893,$C$1)","v":0},{"$f":"COUNTIFS(Sheet1!$M$3:$M$893,A7, Sheet1!$O$3:$O$893,$D$1)","v":1},{"$f":"COUNTIFS(Sheet1!$M$3:$M$893,A7, Sheet1!$O$3:$O$893,$E$1)","v":1},{"$f":"COUNTIFS(Sheet1!$M$3:$M$893,A7, Sheet1!$O$3:$O$893,$F$1)","v":2}]
["Bulgaria",{"$f":"COUNTIF(Sheet1!$M$3:$M$893,A8)","v":3},{"$f":"COUNTIFS(Sheet1!$M$3:$M$893,A8, Sheet1!$O$3:$O$893,$C$1)","v":0},{"$f":"COUNTIFS(Sheet1!$M$3:$M$893,A8, Sheet1!$O$3:$O$893,$D$1)","v":0},{"$f":"COUNTIFS(Sheet1!$M$3:$M$893,A8, Sheet1!$O$3:$O$893,$E$1)","v":0},{"$f":"COUNTIFS(Sheet1!$M$3:$M$893,A8, Sheet1!$O$3:$O$893,$F$1)","v":3}]
["Croatia",{"$f":"COUNTIF(Sheet1!$M$3:$M$893,A9)","v":15},{"$f":"COUNTIFS(Sheet1!$M$3:$M$893,A9, Sheet1!$O$3:$O$893,$C$1)","v":0},{"$f":"COUNTIFS(Sheet1!$M$3:$M$893,A9, Sheet1!$O$3:$O$893,$D$1)","v":3},{"$f":"COUNTIFS(Sheet1!$M$3:$M$893,A9, Sheet1!$O$3:$O$893,$E$1)","v":5},{"$f":"COUNTIFS(Sheet1!$M$3:$M$893,A9, Sheet1!$O$3:$O$893,$F$1)","v":7}]
["Cyprus",{"$f":"COUNTIF(Sheet1!$M$3:$M$893,A10)","v":4},{"$f":"COUNTIFS(Sheet1!$M$3:$M$893,A10, Sheet1!$O$3:$O$893,$C$1)","v":2},{"$f":"COUNTIFS(Sheet1!$M$3:$M$893,A10, Sheet1!$O$3:$O$893,$D$1)","v":1},{"$f":"COUNTIFS(Sheet1!$M$3:$M$893,A10, Sheet1!$O$3:$O$893,$E$1)","v":1},{"$f":"COUNTIFS(Sheet1!$M$3:$M$893,A10, Sheet1!$O$3:$O$893,$F$1)","v":0}]
["Czech Republic",{"$f":"COUNTIF(Sheet1!$M$3:$M$893,A11)","v":5},{"$f":"COUNTIFS(Sheet1!$M$3:$M$893,A11, Sheet1!$O$3:$O$893,$C$1)","v":0},{"$f":"COUNTIFS(Sheet1!$M$3:$M$893,A11, Sheet1!$O$3:$O$893,$D$1)","v":1},{"$f":"COUNTIFS(Sheet1!$M$3:$M$893,A11, Sheet1!$O$3:$O$893,$E$1)","v":1},{"$f":"COUNTIFS(Sheet1!$M$3:$M$893,A11, Sheet1!$O$3:$O$893,$F$1)","v":3}]
["Denmark",{"$f":"COUNTIF(Sheet1!$M$3:$M$893,A12)","v":7},{"$f":"COUNTIFS(Sheet1!$M$3:$M$893,A12, Sheet1!$O$3:$O$893,$C$1)","v":0},{"$f":"COUNTIFS(Sheet1!$M$3:$M$893,A12, Sheet1!$O$3:$O$893,$D$1)","v":3},{"$f":"COUNTIFS(Sheet1!$M$3:$M$893,A12, Sheet1!$O$3:$O$893,$E$1)","v":1},{"$f":"COUNTIFS(Sheet1!$M$3:$M$893,A12, Sheet1!$O$3:$O$893,$F$1)","v":3}]
["Estonia",{"$f":"COUNTIF(Sheet1!$M$3:$M$893,A13)","v":3},{"$f":"COUNTIFS(Sheet1!$M$3:$M$893,A13, Sheet1!$O$3:$O$893,$C$1)","v":1},{"$f":"COUNTIFS(Sheet1!$M$3:$M$893,A13, Sheet1!$O$3:$O$893,$D$1)","v":1},{"$f":"COUNTIFS(Sheet1!$M$3:$M$893,A13, Sheet1!$O$3:$O$893,$E$1)","v":0},{"$f":"COUNTIFS(Sheet1!$M$3:$M$893,A13, Sheet1!$O$3:$O$893,$F$1)","v":1}]
["Finland",{"$f":"COUNTIF(Sheet1!$M$3:$M$893,A14)","v":8},{"$f":"COUNTIFS(Sheet1!$M$3:$M$893,A14, Sheet1!$O$3:$O$893,$C$1)","v":1},{"$f":"COUNTIFS(Sheet1!$M$3:$M$893,A14, Sheet1!$O$3:$O$893,$D$1)","v":3},{"$f":"COUNTIFS(Sheet1!$M$3:$M$893,A14, Sheet1!$O$3:$O$893,$E$1)","v":2},{"$f":"COUNTIFS(Sheet1!$M$3:$M$893,A14, Sheet1!$O$3:$O$893,$F$1)","v":2}]
["Uzbekistan",{"$f":"COUNTIF(Sheet1!$M$3:$M$893,A15)","v":1},{"$f":"COUNTIFS(Sheet1!$M$3:$M$893,A15, Sheet1!$O$3:$O$893,$C$1)","v":0},{"$f":"COUNTIFS(Sheet1!$M$3:$M$893,A15, Sheet1!$O$3:$O$893,$D$1)","v":0},{"$f":"COUNTIFS(Sheet1!$M$3:$M$893,A15, Sheet1!$O$3:$O$893,$E$1)","v":0},{"$f":"COUNTIFS(Sheet1!$M$3:$M$893,A15, Sheet1!$O$3:$O$893,$F$1)","v":1}]
["France",{"$f":"COUNTIF(Sheet1!$M$3:$M$893,A16)","v":14},{"$f":"COUNTIFS(Sheet1!$M$3:$M$893,A16, Sheet1!$O$3:$O$893,$C$1)","v":5},{"$f":"COUNTIFS(Sheet1!$M$3:$M$893,A16, Sheet1!$O$3:$O$893,$D$1)","v":3},{"$f":"COUNTIFS(Sheet1!$M$3:$M$893,A16, Sheet1!$O$3:$O$893,$E$1)","v":1},{"$f":"COUNTIFS(Sheet1!$M$3:$M$893,A16, Sheet1!$O$3:$O$893,$F$1)","v":5}]
["Israel",{"$f":"COUNTIF(Sheet1!$M$3:$M$893,A17)","v":12},{"$f":"COUNTIFS(Sheet1!$M$3:$M$893,A17, Sheet1!$O$3:$O$893,$C$1)","v":1},{"$f":"COUNTIFS(Sheet1!$M$3:$M$893,A17, Sheet1!$O$3:$O$893,$D$1)","v":2},{"$f":"COUNTIFS(Sheet1!$M$3:$M$893,A17, Sheet1!$O$3:$O$893,$E$1)","v":1},{"$f":"COUNTIFS(Sheet1!$M$3:$M$893,A17, Sheet1!$O$3:$O$893,$F$1)","v":8}]
["Georgia",{"$f":"COUNTIF(Sheet1!$M$3:$M$893,A18)","v":3},{"$f":"COUNTIFS(Sheet1!$M$3:$M$893,A18, Sheet1!$O$3:$O$893,$C$1)","v":0},{"$f":"COUNTIFS(Sheet1!$M$3:$M$893,A18, Sheet1!$O$3:$O$893,$D$1)","v":0},{"$f":"COUNTIFS(Sheet1!$M$3:$M$893,A18, Sheet1!$O$3:$O$893,$E$1)","v":0},{"$f":"COUNTIFS(Sheet1!$M$3:$M$893,A18, Sheet1!$O$3:$O$893,$F$1)","v":2}]
["Germany",{"$f":"COUNTIF(Sheet1!$M$3:$M$893,A19)","v":70},{"$f":"COUNTIFS(Sheet1!$M$3:$M$893,A19, Sheet1!$O$3:$O$893,$C$1)","v":17},{"$f":"COUNTIFS(Sheet1!$M$3:$M$893,A19, Sheet1!$O$3:$O$893,$D$1)","v":14},{"$f":"COUNTIFS(Sheet1!$M$3:$M$893,A19, Sheet1!$O$3:$O$893,$E$1)","v":11},{"$f":"COUNTIFS(Sheet1!$M$3:$M$893,A19, Sheet1!$O$3:$O$893,$F$1)","v":27}]
["Kazakhstan",{"$f":"COUNTIF(Sheet1!$M$3:$M$893,A20)","v":1},{"$f":"COUNTIFS(Sheet1!$M$3:$M$893,A20, Sheet1!$O$3:$O$893,$C$1)","v":1},{"$f":"COUNTIFS(Sheet1!$M$3:$M$893,A20, Sheet1!$O$3:$O$893,$D$1)","v":0},{"$f":"COUNTIFS(Sheet1!$M$3:$M$893,A20, Sheet1!$O$3:$O$893,$E$1)","v":0},{"$f":"COUNTIFS(Sheet1!$M$3:$M$893,A20, Sheet1!$O$3:$O$893,$F$1)","v":0}]
["Greece",{"$f":"COUNTIF(Sheet1!$M$3:$M$893,A21)","v":42},{"$f":"COUNTIFS(Sheet1!$M$3:$M$893,A21, Sheet1!$O$3:$O$893,$C$1)","v":9},{"$f":"COUNTIFS(Sheet1!$M$3:$M$893,A21, Sheet1!$O$3:$O$893,$D$1)","v":12},{"$f":"COUNTIFS(Sheet1!$M$3:$M$893,A21, Sheet1!$O$3:$O$893,$E$1)","v":7},{"$f":"COUNTIFS(Sheet1!$M$3:$M$893,A21, Sheet1!$O$3:$O$893,$F$1)","v":14}]
["Hungary",{"$f":"COUNTIF(Sheet1!$M$3:$M$893,A22)","v":6},{"$f":"COUNTIFS(Sheet1!$M$3:$M$893,A22, Sheet1!$O$3:$O$893,$C$1)","v":1},{"$f":"COUNTIFS(Sheet1!$M$3:$M$893,A22, Sheet1!$O$3:$O$893,$D$1)","v":2},{"$f":"COUNTIFS(Sheet1!$M$3:$M$893,A22, Sheet1!$O$3:$O$893,$E$1)","v":0},{"$f":"COUNTIFS(Sheet1!$M$3:$M$893,A22, Sheet1!$O$3:$O$893,$F$1)","v":3}]
["Iceland",{"$f":"COUNTIF(Sheet1!$M$3:$M$893,A23)","v":1},{"$f":"COUNTIFS(Sheet1!$M$3:$M$893,A23, Sheet1!$O$3:$O$893,$C$1)","v":1},{"$f":"COUNTIFS(Sheet1!$M$3:$M$893,A23, Sheet1!$O$3:$O$893,$D$1)","v":0},{"$f":"COUNTIFS(Sheet1!$M$3:$M$893,A23, Sheet1!$O$3:$O$893,$E$1)","v":0},{"$f":"COUNTIFS(Sheet1!$M$3:$M$893,A23, Sheet1!$O$3:$O$893,$F$1)","v":0}]
["Ireland",{"$f":"COUNTIF(Sheet1!$M$3:$M$893,A24)","v":8},{"$f":"COUNTIFS(Sheet1!$M$3:$M$893,A24, Sheet1!$O$3:$O$893,$C$1)","v":0},{"$f":"COUNTIFS(Sheet1!$M$3:$M$893,A24, Sheet1!$O$3:$O$893,$D$1)","v":4},{"$f":"COUNTIFS(Sheet1!$M$3:$M$893,A24, Sheet1!$O$3:$O$893,$E$1)","v":0},{"$f":"COUNTIFS(Sheet1!$M$3:$M$893,A24, Sheet1!$O$3:$O$893,$F$1)","v":4}]
["Italy",{"$f":"COUNTIF(Sheet1!$M$3:$M$893,A25)","v":30},{"$f":"COUNTIFS(Sheet1!$M$3:$M$893,A25, Sheet1!$O$3:$O$893,$C$1)","v":12},{"$f":"COUNTIFS(Sheet1!$M$3:$M$893,A25, Sheet1!$O$3:$O$893,$D$1)","v":3},{"$f":"COUNTIFS(Sheet1!$M$3:$M$893,A25, Sheet1!$O$3:$O$893,$E$1)","v":3},{"$f":"COUNTIFS(Sheet1!$M$3:$M$893,A25, Sheet1!$O$3:$O$893,$F$1)","v":12}]
["Latvia",{"$f":"COUNTIF(Sheet1!$M$3:$M$893,A26)","v":10},{"$f":"COUNTIFS(Sheet1!$M$3:$M$893,A26, Sheet1!$O$3:$O$893,$C$1)","v":3},{"$f":"COUNTIFS(Sheet1!$M$3:$M$893,A26, Sheet1!$O$3:$O$893,$D$1)","v":1},{"$f":"COUNTIFS(Sheet1!$M$3:$M$893,A26, Sheet1!$O$3:$O$893,$E$1)","v":1},{"$f":"COUNTIFS(Sheet1!$M$3:$M$893,A26, Sheet1!$O$3:$O$893,$F$1)","v":5}]
["Lithuania",{"$f":"COUNTIF(Sheet1!$M$3:$M$893,A27)","v":9},{"$f":"COUNTIFS(Sheet1!$M$3:$M$893,A27, Sheet1!$O$3:$O$893,$C$1)","v":2},{"$f":"COUNTIFS(Sheet1!$M$3:$M$893,A27, Sheet1!$O$3:$O$893,$D$1)","v":0},{"$f":"COUNTIFS(Sheet1!$M$3:$M$893,A27, Sheet1!$O$3:$O$893,$E$1)","v":1},{"$f":"COUNTIFS(Sheet1!$M$3:$M$893,A27, Sheet1!$O$3:$O$893,$F$1)","v":6}]
["Indonesia",{"$f":"COUNTIF(Sheet1!$M$3:$M$893,A28)","v":3},{"$f":"COUNTIFS(Sheet1!$M$3:$M$893,A28, Sheet1!$O$3:$O$893,$C$1)","v":0},{"$f":"COUNTIFS(Sheet1!$M$3:$M$893,A28, Sheet1!$O$3:$O$893,$D$1)","v":1},{"$f":"COUNTIFS(Sheet1!$M$3:$M$893,A28, Sheet1!$O$3:$O$893,$E$1)","v":0},{"$f":"COUNTIFS(Sheet1!$M$3:$M$893,A28, Sheet1!$O$3:$O$893,$F$1)","v":2}]
["Luxembourg",{"$f":"COUNTIF(Sheet1!$M$3:$M$893,A29)","v":1},{"$f":"COUNTIFS(Sheet1!$M$3:$M$893,A29, Sheet1!$O$3:$O$893,$C$1)","v":0},{"$f":"COUNTIFS(Sheet1!$M$3:$M$893,A29, Sheet1!$O$3:$O$893,$D$1)","v":0},{"$f":"COUNTIFS(Sheet1!$M$3:$M$893,A29, Sheet1!$O$3:$O$893,$E$1)","v":1},{"$f":"COUNTIFS(Sheet1!$M$3:$M$893,A29, Sheet1!$O$3:$O$893,$F$1)","v":0}]
["Malta",{"$f":"COUNTIF(Sheet1!$M$3:$M$893,A30)","v":7},{"$f":"COUNTIFS(Sheet1!$M$3:$M$893,A30, Sheet1!$O$3:$O$893,$C$1)","v":1},{"$f":"COUNTIFS(Sheet1!$M$3:$M$893,A30, Sheet1!$O$3:$O$893,$D$1)","v":3},{"$f":"COUNTIFS(Sheet1!$M$3:$M$893,A30, Sheet1!$O$3:$O$893,$E$1)","v":0},{"$f":"COUNTIFS(Sheet1!$M$3:$M$893,A30, Sheet1!$O$3:$O$893,$F$1)","v":3}]
["Netherlands",{"$f":"COUNTIF(Sheet1!$M$3:$M$893,A31)","v":35},{"$f":"COUNTIFS(Sheet1!$M$3:$M$893,A31, Sheet1!$O$3:$O$893,$C$1)","v":8},{"$f":"COUNTIFS(Sheet1!$M$3:$M$893,A31, Sheet1!$O$3:$O$893,$D$1)","v":6},{"$f":"COUNTIFS(Sheet1!$M$3:$M$893,A31, Sheet1!$O$3:$O$893,$E$1)","v":8},{"$f":"COUNTIFS(Sheet1!$M$3:$M$893,A31, Sheet1!$O$3:$O$893,$F$1)","v":13}]
["Norway",{"$f":"COUNTIF(Sheet1!$M$3:$M$893,A32)","v":11},{"$f":"COUNTIFS(Sheet1!$M$3:$M$893,A32, Sheet1!$O$3:$O$893,$C$1)","v":1},{"$f":"COUNTIFS(Sheet1!$M$3:$M$893,A32, Sheet1!$O$3:$O$893,$D$1)","v":3},{"$f":"COUNTIFS(Sheet1!$M$3:$M$893,A32, Sheet1!$O$3:$O$893,$E$1)","v":3},{"$f":"COUNTIFS(Sheet1!$M$3:$M$893,A32, Sheet1!$O$3:$O$893,$F$1)","v":4}]
["Poland",{"$f":"COUNTIF(Sheet1!$M$3:$M$893,A33)","v":15},{"$f":"COUNTIFS(Sheet1!$M$3:$M$893,A33, Sheet1!$O$3:$O$893,$C$1)","v":5},{"$f":"COUNTIFS(Sheet1!$M$3:$M$893,A33, Sheet1!$O$3:$O$893,$D$1)","v":6},{"$f":"COUNTIFS(Sheet1!$M$3:$M$893,A33, Sheet1!$O$3:$O$893,$E$1)","v":2},{"$f":"COUNTIFS(Sheet1!$M$3:$M$893,A33, Sheet1!$O$3:$O$893,$F$1)","v":2}]
["Portugal",{"$f":"COUNTIF(Sheet1!$M$3:$M$893,A34)","v":57},{"$f":"COUNTIFS(Sheet1!$M$3:$M$893,A34, Sheet1!$O$3:$O$893,$C$1)","v":27},{"$f":"COUNTIFS(Sheet1!$M$3:$M$893,A34, Sheet1!$O$3:$O$893,$D$1)","v":4},{"$f":"COUNTIFS(Sheet1!$M$3:$M$893,A34, Sheet1!$O$3:$O$893,$E$1)","v":11},{"$f":"COUNTIFS(Sheet1!$M$3:$M$893,A34, Sheet1!$O$3:$O$893,$F$1)","v":15}]
["Republic of Moldova",{"$f":"COUNTIF(Sheet1!$M$3:$M$893,A35)","v":4},{"$f":"COUNTIFS(Sheet1!$M$3:$M$893,A35, Sheet1!$O$3:$O$893,$C$1)","v":2},{"$f":"COUNTIFS(Sheet1!$M$3:$M$893,A35, Sheet1!$O$3:$O$893,$D$1)","v":0},{"$f":"COUNTIFS(Sheet1!$M$3:$M$893,A35, Sheet1!$O$3:$O$893,$E$1)","v":0},{"$f":"COUNTIFS(Sheet1!$M$3:$M$893,A35, Sheet1!$O$3:$O$893,$F$1)","v":1}]
["Romania",{"$f":"COUNTIF(Sheet1!$M$3:$M$893,A36)","v":25},{"$f":"COUNTIFS(Sheet1!$M$3:$M$893,A36, Sheet1!$O$3:$O$893,$C$1)","v":10},{"$f":"COUNTIFS(Sheet1!$M$3:$M$893,A36, Sheet1!$O$3:$O$893,$D$1)","v":5},{"$f":"COUNTIFS(Sheet1!$M$3:$M$893,A36, Sheet1!$O$3:$O$893,$E$1)","v":1},{"$f":"COUNTIFS(Sheet1!$M$3:$M$893,A36, Sheet1!$O$3:$O$893,$F$1)","v":9}]
["Russian Federation",{"$f":"COUNTIF(Sheet1!$M$3:$M$893,A37)","v":11},{"$f":"COUNTIFS(Sheet1!$M$3:$M$893,A37, Sheet1!$O$3:$O$893,$C$1)","v":2},{"$f":"COUNTIFS(Sheet1!$M$3:$M$893,A37, Sheet1!$O$3:$O$893,$D$1)","v":1},{"$f":"COUNTIFS(Sheet1!$M$3:$M$893,A37, Sheet1!$O$3:$O$893,$E$1)","v":0},{"$f":"COUNTIFS(Sheet1!$M$3:$M$893,A37, Sheet1!$O$3:$O$893,$F$1)","v":8}]
["Serbia",{"$f":"COUNTIF(Sheet1!$M$3:$M$893,A38)","v":31},{"$f":"COUNTIFS(Sheet1!$M$3:$M$893,A38, Sheet1!$O$3:$O$893,$C$1)","v":11},{"$f":"COUNTIFS(Sheet1!$M$3:$M$893,A38, Sheet1!$O$3:$O$893,$D$1)","v":11},{"$f":"COUNTIFS(Sheet1!$M$3:$M$893,A38, Sheet1!$O$3:$O$893,$E$1)","v":3},{"$f":"COUNTIFS(Sheet1!$M$3:$M$893,A38, Sheet1!$O$3:$O$893,$F$1)","v":6}]
["Slovakia",{"$f":"COUNTIF(Sheet1!$M$3:$M$893,A39)","v":3},{"$f":"COUNTIFS(Sheet1!$M$3:$M$893,A39, Sheet1!$O$3:$O$893,$C$1)","v":0},{"$f":"COUNTIFS(Sheet1!$M$3:$M$893,A39, Sheet1!$O$3:$O$893,$D$1)","v":1},{"$f":"COUNTIFS(Sheet1!$M$3:$M$893,A39, Sheet1!$O$3:$O$893,$E$1)","v":0},{"$f":"COUNTIFS(Sheet1!$M$3:$M$893,A39, Sheet1!$O$3:$O$893,$F$1)","v":2}]
["Slovenia",{"$f":"COUNTIF(Sheet1!$M$3:$M$893,A40)","v":7},{"$f":"COUNTIFS(Sheet1!$M$3:$M$893,A40, Sheet1!$O$3:$O$893,$C$1)","v":1},{"$f":"COUNTIFS(Sheet1!$M$3:$M$893,A40, Sheet1!$O$3:$O$893,$D$1)","v":2},{"$f":"COUNTIFS(Sheet1!$M$3:$M$893,A40, Sheet1!$O$3:$O$893,$E$1)","v":0},{"$f":"COUNTIFS(Sheet1!$M$3:$M$893,A40, Sheet1!$O$3:$O$893,$F$1)","v":4}]
["Spain",{"$f":"COUNTIF(Sheet1!$M$3:$M$893,A41)","v":51},{"$f":"COUNTIFS(Sheet1!$M$3:$M$893,A41, Sheet1!$O$3:$O$893,$C$1)","v":10},{"$f":"COUNTIFS(Sheet1!$M$3:$M$893,A41, Sheet1!$O$3:$O$893,$D$1)","v":8},{"$f":"COUNTIFS(Sheet1!$M$3:$M$893,A41, Sheet1!$O$3:$O$893,$E$1)","v":7},{"$f":"COUNTIFS(Sheet1!$M$3:$M$893,A41, Sheet1!$O$3:$O$893,$F$1)","v":26}]
["Sweden",{"$f":"COUNTIF(Sheet1!$M$3:$M$893,A42)","v":17},{"$f":"COUNTIFS(Sheet1!$M$3:$M$893,A42, Sheet1!$O$3:$O$893,$C$1)","v":7},{"$f":"COUNTIFS(Sheet1!$M$3:$M$893,A42, Sheet1!$O$3:$O$893,$D$1)","v":2},{"$f":"COUNTIFS(Sheet1!$M$3:$M$893,A42, Sheet1!$O$3:$O$893,$E$1)","v":3},{"$f":"COUNTIFS(Sheet1!$M$3:$M$893,A42, Sheet1!$O$3:$O$893,$F$1)","v":5}]
["Switzerland",{"$f":"COUNTIF(Sheet1!$M$3:$M$893,A43)","v":29},{"$f":"COUNTIFS(Sheet1!$M$3:$M$893,A43, Sheet1!$O$3:$O$893,$C$1)","v":4},{"$f":"COUNTIFS(Sheet1!$M$3:$M$893,A43, Sheet1!$O$3:$O$893,$D$1)","v":6},{"$f":"COUNTIFS(Sheet1!$M$3:$M$893,A43, Sheet1!$O$3:$O$893,$E$1)","v":5},{"$f":"COUNTIFS(Sheet1!$M$3:$M$893,A43, Sheet1!$O$3:$O$893,$F$1)","v":14}]
["The former Yugoslav Republic of Macedonia",{"$f":"COUNTIF(Sheet1!$M$3:$M$893,A44)","v":5},{"$f":"COUNTIFS(Sheet1!$M$3:$M$893,A44, Sheet1!$O$3:$O$893,$C$1)","v":2},{"$f":"COUNTIFS(Sheet1!$M$3:$M$893,A44, Sheet1!$O$3:$O$893,$D$1)","v":3},{"$f":"COUNTIFS(Sheet1!$M$3:$M$893,A44, Sheet1!$O$3:$O$893,$E$1)","v":0},{"$f":"COUNTIFS(Sheet1!$M$3:$M$893,A44, Sheet1!$O$3:$O$893,$F$1)","v":0}]
["Turkey",{"$f":"COUNTIF(Sheet1!$M$3:$M$893,A45)","v":58},{"$f":"COUNTIFS(Sheet1!$M$3:$M$893,A45, Sheet1!$O$3:$O$893,$C$1)","v":12},{"$f":"COUNTIFS(Sheet1!$M$3:$M$893,A45, Sheet1!$O$3:$O$893,$D$1)","v":10},{"$f":"COUNTIFS(Sheet1!$M$3:$M$893,A45, Sheet1!$O$3:$O$893,$E$1)","v":13},{"$f":"COUNTIFS(Sheet1!$M$3:$M$893,A45, Sheet1!$O$3:$O$893,$F$1)","v":22}]
["Ukraine",{"$f":"COUNTIF(Sheet1!$M$3:$M$893,A46)","v":7},{"$f":"COUNTIFS(Sheet1!$M$3:$M$893,A46, Sheet1!$O$3:$O$893,$C$1)","v":2},{"$f":"COUNTIFS(Sheet1!$M$3:$M$893,A46, Sheet1!$O$3:$O$893,$D$1)","v":2},{"$f":"COUNTIFS(Sheet1!$M$3:$M$893,A46, Sheet1!$O$3:$O$893,$E$1)","v":0},{"$f":"COUNTIFS(Sheet1!$M$3:$M$893,A46, Sheet1!$O$3:$O$893,$F$1)","v":3}]
["United Kingdom of Great Britain and Northern Ireland",{"$f":"COUNTIF(Sheet1!$M$3:$M$893,A47)","v":32},{"$f":"COUNTIFS(Sheet1!$M$3:$M$893,A47, Sheet1!$O$3:$O$893,$C$1)","v":6},{"$f":"COUNTIFS(Sheet1!$M$3:$M$893,A47, Sheet1!$O$3:$O$893,$D$1)","v":5},{"$f":"COUNTIFS(Sheet1!$M$3:$M$893,A47, Sheet1!$O$3:$O$893,$E$1)","v":5},{"$f":"COUNTIFS(Sheet1!$M$3:$M$893,A47, Sheet1!$O$3:$O$893,$F$1)","v":16}]
["Azerbaijan",{"$f":"COUNTIF(Sheet1!$M$3:$M$893,A48)","v":1},{"$f":"COUNTIFS(Sheet1!$M$3:$M$893,A48, Sheet1!$O$3:$O$893,$C$1)","v":0},{"$f":"COUNTIFS(Sheet1!$M$3:$M$893,A48, Sheet1!$O$3:$O$893,$D$1)","v":0},{"$f":"COUNTIFS(Sheet1!$M$3:$M$893,A48, Sheet1!$O$3:$O$893,$E$1)","v":0},{"$f":"COUNTIFS(Sheet1!$M$3:$M$893,A48, Sheet1!$O$3:$O$893,$F$1)","v":1}]
["Sum",{"$f":"SUBTOTAL(109,Table7910[Ukupan broj])","v":719},{"$f":"SUBTOTAL(109,Table7910[5-10])","v":177},{"$f":"SUBTOTAL(109,Table7910[11-15])","v":141},{"$f":"SUBTOTAL(109,Table7910[16-20])","v":107},{"$f":"SUBTOTAL(109,Table7910[over 20 years])","v":290}]

{"sheet":"6. Pitanje","index":4,"n_rows":49,"n_cols":18,"rows_kept":49}
["6. How many years of specialization are/were obligatory during your training in anaesthesia and/or intensive care?","Ukupan broj","Less than 3","3","4","5","Over 5",{"$nulls":9},"Simulation courses","None"]
["Albania",{"$f":"COUNTIF(Sheet1!$M$3:$M$893,A2)","v":6},{"$f":"COUNTIFS(Sheet1!$M$3:$M$893,A2, Sheet1!$P$3:$P$893,$C$1)","v":0},{"$f":"COUNTIFS(Sheet1!$M$3:$M$893,A2, Sheet1!$P$3:$P$893,$D$1)","v":2},{"$f":"COUNTIFS(Sheet1!$M$3:$M$893,A2, Sheet1!$P$3:$P$893,$E$1)","v":3},{"$f":"COUNTIFS(Sheet1!$M$3:$M$893,A2, Sheet1!$P$3:$P$893,$F$1)","v":1},{"$f":"COUNTIFS(Sheet1!$M$3:$M$893,A2, Sheet1!$P$3:$P$893,$G$1)","v":0}]
["Armenia",{"$f":"COUNTIF(Sheet1!$M$3:$M$893,A3)","v":1},{"$f":"COUNTIFS(Sheet1!$M$3:$M$893,A3, Sheet1!$P$3:$P$893,$C$1)","v":0},{"$f":"COUNTIFS(Sheet1!$M$3:$M$893,A3, Sheet1!$P$3:$P$893,$D$1)","v":1},{"$f":"COUNTIFS(Sheet1!$M$3:$M$893,A3, Sheet1!$P$3:$P$893,$E$1)","v":0},{"$f":"COUNTIFS(Sheet1!$M$3:$M$893,A3, Sheet1!$P$3:$P$893,$F$1)","v":0},{"$f":"COUNTIFS(Sheet1!$M$3:$M$893,A3, Sheet1!$P$3:$P$893,$G$1)","v":0}]
["Austria",{"$f":"COUNTIF(Sheet1!$M$3:$M$893,A4)","v":15},{"$f":"COUNTIFS(Sheet1!$M$3:$M$893,A4, Sheet1!$P$3:$P$893,$C$1)","v":0},{"$f":"COUNTIFS(Sheet1!$M$3:$M$893,A4, Sheet1!$P$3:$P$893,$D$1)","v":0},{"$f":"COUNTIFS(Sheet1!$M$3:$M$893,A4, Sheet1!$P$3:$P$893,$E$1)","v":0},{"$f":"COUNTIFS(Sheet1!$M$3:$M$893,A4, Sheet1!$P$3:$P$893,$F$1)","v":6},{"$f":"COUNTIFS(Sheet1!$M$3:$M$893,A4, Sheet1!$P$3:$P$893,$G$1)","v":9}]
["Belarus",{"$f":"COUNTIF(Sheet1!$M$3:$M$893,A5)","v":1},{"$f":"COUNTIFS(Sheet1!$M$3:$M$893,A5, Sheet1!$P$3:$P$893,$C$1)","v":1},{"$f":"COUNTIFS(Sheet1!$M$3:$M$893,A5, Sheet1!$P$3:$P$893,$D$1)","v":0},{"$f":"COUNTIFS(Sheet1!$M$3:$M$893,A5, Sheet1!$P$3:$P$893,$E$1)","v":0},{"$f":"COUNTIFS(Sheet1!$M$3:$M$893,A5, Sheet1!$P$3:$P$893,$F$1)","v":0},{"$f":"COUNTIFS(Sheet1!$M$3:$M$893,A5, Sheet1!$P$3:$P$893,$G$1)","v":0}]
["Belgium",{"$f":"COUNTIF(Sheet1!$M$3:$M$893,A6)","v":30},{"$f":"COUNTIFS(Sheet1!$M$3:$M$893,A6, Sheet1!$P$3:$P$893,$C$1)","v":0},{"$f":"COUNTIFS(Sheet1!$M$3:$M$893,A6, Sheet1!$P$3:$P$893,$D$1)","v":0},{"$f":"COUNTIFS(Sheet1!$M$3:$M$893,A6, Sheet1!$P$3:$P$893,$E$1)","v":1},{"$f":"COUNTIFS(Sheet1!$M$3:$M$893,A6, Sheet1!$P$3:$P$893,$F$1)","v":25},{"$f":"COUNTIFS(Sheet1!$M$3:$M$893,A6, Sheet1!$P$3:$P$893,$G$1)","v":4}]
["Bosnia and Herzegovina",{"$f":"COUNTIF(Sheet1!$M$3:$M$893,A7)","v":4},{"$f":"COUNTIFS(Sheet1!$M$3:$M$893,A7, Sheet1!$P$3:$P$893,$C$1)","v":0},{"$f":"COUNTIFS(Sheet1!$M$3:$M$893,A7, Sheet1!$P$3:$P$893,$D$1)","v":0},{"$f":"COUNTIFS(Sheet1!$M$3:$M$893,A7, Sheet1!$P$3:$P$893,$E$1)","v":3},{"$f":"COUNTIFS(Sheet1!$M$3:$M$893,A7, Sheet1!$P$3:$P$893,$F$1)","v":1},{"$f":"COUNTIFS(Sheet1!$M$3:$M$893,A7, Sheet1!$P$3:$P$893,$G$1)","v":0}]
["Bulgaria",{"$f":"COUNTIF(Sheet1!$M$3:$M$893,A8)","v":3},{"$f":"COUNTIFS(Sheet1!$M$3:$M$893,A8, Sheet1!$P$3:$P$893,$C$1)","v":0},{"$f":"COUNTIFS(Sheet1!$M$3:$M$893,A8, Sheet1!$P$3:$P$893,$D$1)","v":1},{"$f":"COUNTIFS(Sheet1!$M$3:$M$893,A8, Sheet1!$P$3:$P$893,$E$1)","v":2},{"$f":"COUNTIFS(Sheet1!$M$3:$M$893,A8, Sheet1!$P$3:$P$893,$F$1)","v":0},{"$f":"COUNTIFS(Sheet1!$M$3:$M$893,A8, Sheet1!$P$3:$P$893,$G$1)","v":0}]
["Croatia",{"$f":"COUNTIF(Sheet1!$M$3:$M$893,A9)","v":15},{"$f":"COUNTIFS(Sheet1!$M$3:$M$893,A9, Sheet1!$P$3:$P$893,$C$1)","v":0},{"$f":"COUNTIFS(Sheet1!$M$3:$M$893,A9, Sheet1!$P$3:$P$893,$D$1)","v":0},{"$f":"COUNTIFS(Sheet1!$M$3:$M$893,A9, Sheet1!$P$3:$P$893,$E$1)","v":11},{"$f":"COUNTIFS(Sheet1!$M$3:$M$893,A9, Sheet1!$P$3:$P$893,$F$1)","v":2},{"$f":"COUNTIFS(Sheet1!$M$3:$M$893,A9, Sheet1!$P$3:$P$893,$G$1)","v":2}]
["Cyprus",{"$f":"COUNTIF(Sheet1!$M$3:$M$893,A10)","v":4},{"$f":"COUNTIFS(Sheet1!$M$3:$M$893,A10, Sheet1!$P$3:$P$893,$C$1)","v":0},{"$f":"COUNTIFS(Sheet1!$M$3:$M$893,A10, Sheet1!$P$3:$P$893,$D$1)","v":0},{"$f":"COUNTIFS(Sheet1!$M$3:$M$893,A10, Sheet1!$P$3:$P$893,$E$1)","v":0},{"$f":"COUNTIFS(Sheet1!$M$3:$M$893,A10, Sheet1!$P$3:$P$893,$F$1)","v":3},{"$f":"COUNTIFS(Sheet1!$M$3:$M$893,A10, Sheet1!$P$3:$P$893,$G$1)","v":1}]
["Czech Republic",{"$f":"COUNTIF(Sheet1!$M$3:$M$893,A11)","v":5},{"$f":"COUNTIFS(Sheet1!$M$3:$M$893,A11, Sheet1!$P$3:$P$893,$C$1)","v":0},{"$f":"COUNTIFS(Sheet1!$M$3:$M$893,A11, Sheet1!$P$3:$P$893,$D$1)","v":0},{"$f":"COUNTIFS(Sheet1!$M$3:$M$893,A11, Sheet1!$P$3:$P$893,$E$1)","v":1},{"$f":"COUNTIFS(Sheet1!$M$3:$M$893,A11, Sheet1!$P$3:$P$893,$F$1)","v":4},{"$f":"COUNTIFS(Sheet1!$M$3:$M$893,A11, Sheet1!$P$3:$P$893,$G$1)","v":0}]
["Denmark",{"$f":"COUNTIF(Sheet1!$M$3:$M$893,A12)","v":7},{"$f":"COUNTIFS(Sheet1!$M$3:$M$893,A12, Sheet1!$P$3:$P$893,$C$1)","v":0},{"$f":"COUNTIFS(Sheet1!$M$3:$M$893,A12, Sheet1!$P$3:$P$893,$D$1)","v":0},{"$f":"COUNTIFS(Sheet1!$M$3:$M$893,A12, Sheet1!$P$3:$P$893,$E$1)","v":3},{"$f":"COUNTIFS(Sheet1!$M$3:$M$893,A12, Sheet1!$P$3:$P$893,$F$1)","v":4},{"$f":"COUNTIFS(Sheet1!$M$3:$M$893,A12, Sheet1!$P$3:$P$893,$G$1)","v":0}]
["Estonia",{"$f":"COUNTIF(Sheet1!$M$3:$M$893,A13)","v":3},{"$f":"COUNTIFS(Sheet1!$M$3:$M$893,A13, Sheet1!$P$3:$P$893,$C$1)","v":0},{"$f":"COUNTIFS(Sheet1!$M$3:$M$893,A13, Sheet1!$P$3:$P$893,$D$1)","v":1},{"$f":"COUNTIFS(Sheet1!$M$3:$M$893,A13, Sheet1!$P$3:$P$893,$E$1)","v":2},{"$f":"COUNTIFS(Sheet1!$M$3:$M$893,A13, Sheet1!$P$3:$P$893,$F$1)","v":0},{"$f":"COUNTIFS(Sheet1!$M$3:$M$893,A13, Sheet1!$P$3:$P$893,$G$1)","v":0}]
["Finland",{"$f":"COUNTIF(Sheet1!$M$3:$M$893,A14)","v":8},{"$f":"COUNTIFS(Sheet1!$M$3:$M$893,A14, Sheet1!$P$3:$P$893,$C$1)","v":0},{"$f":"COUNTIFS(Sheet1!$M$3:$M$893,A14, Sheet1!$P$3:$P$893,$D$1)","v":0},{"$f":"COUNTIFS(Sheet1!$M$3:$M$893,A14, Sheet1!$P$3:$P$893,$E$1)","v":0},{"$f":"COUNTIFS(Sheet1!$M$3:$M$893,A14, Sheet1!$P$3:$P$893,$F$1)","v":0},{"$f":"COUNTIFS(Sheet1!$M$3:$M$893,A14, Sheet1!$P$3:$P$893,$G$1)","v":8}]
["Uzbekistan",{"$f":"COUNTIF(Sheet1!$M$3:$M$893,A15)","v":1},{"$f":"COUNTIFS(Sheet1!$M$3:$M$893,A15, Sheet1!$P$3:$P$893,$C$1)","v":1},{"$f":"COUNTIFS(Sheet1!$M$3:$M$893,A15, Sheet1!$P$3:$P$893,$D$1)","v":0},{"$f":"COUNTIFS(Sheet1!$M$3:$M$893,A15, Sheet1!$P$3:$P$893,$E$1)","v":0},{"$f":"COUNTIFS(Sheet1!$M$3:$M$893,A15, Sheet1!$P$3:$P$893,$F$1)","v":0},{"$f":"COUNTIFS(Sheet1!$M$3:$M$893,A15, Sheet1!$P$3:$P$893,$G$1)","v":0}]
["France",{"$f":"COUNTIF(Sheet1!$M$3:$M$893,A16)","v":14},{"$f":"COUNTIFS(Sheet1!$M$3:$M$893,A16, Sheet1!$P$3:$P$893,$C$1)","v":1},{"$f":"COUNTIFS(Sheet1!$M$3:$M$893,A16, Sheet1!$P$3:$P$893,$D$1)","v":2},{"$f":"COUNTIFS(Sheet1!$M$3:$M$893,A16, Sheet1!$P$3:$P$893,$E$1)","v":1},{"$f":"COUNTIFS(Sheet1!$M$3:$M$893,A16, Sheet1!$P$3:$P$893,$F$1)","v":8},{"$f":"COUNTIFS(Sheet1!$M$3:$M$893,A16, Sheet1!$P$3:$P$893,$G$1)","v":2}]
["Israel",{"$f":"COUNTIF(Sheet1!$M$3:$M$893,A17)","v":12},{"$f":"COUNTIFS(Sheet1!$M$3:$M$893,A17, Sheet1!$P$3:$P$893,$C$1)","v":0},{"$f":"COUNTIFS(Sheet1!$M$3:$M$893,A17, Sheet1!$P$3:$P$893,$D$1)","v":0},{"$f":"COUNTIFS(Sheet1!$M$3:$M$893,A17, Sheet1!$P$3:$P$893,$E$1)","v":0},{"$f":"COUNTIFS(Sheet1!$M$3:$M$893,A17, Sheet1!$P$3:$P$893,$F$1)","v":10},{"$f":"COUNTIFS(Sheet1!$M$3:$M$893,A17, Sheet1!$P$3:$P$893,$G$1)","v":2}]
["Georgia",{"$f":"COUNTIF(Sheet1!$M$3:$M$893,A18)","v":3},{"$f":"COUNTIFS(Sheet1!$M$3:$M$893,A18, Sheet1!$P$3:$P$893,$C$1)","v":0},{"$f":"COUNTIFS(Sheet1!$M$3:$M$893,A18, Sheet1!$P$3:$P$893,$D$1)","v":1},{"$f":"COUNTIFS(Sheet1!$M$3:$M$893,A18, Sheet1!$P$3:$P$893,$E$1)","v":1},{"$f":"COUNTIFS(Sheet1!$M$3:$M$893,A18, Sheet1!$P$3:$P$893,$F$1)","v":1},{"$f":"COUNTIFS(Sheet1!$M$3:$M$893,A18, Sheet1!$P$3:$P$893,$G$1)","v":0}]
["Germany",{"$f":"COUNTIF(Sheet1!$M$3:$M$893,A19)","v":70},{"$f":"COUNTIFS(Sheet1!$M$3:$M$893,A19, Sheet1!$P$3:$P$893,$C$1)","v":4},{"$f":"COUNTIFS(Sheet1!$M$3:$M$893,A19, Sheet1!$P$3:$P$893,$D$1)","v":1},{"$f":"COUNTIFS(Sheet1!$M$3:$M$893,A19, Sheet1!$P$3:$P$893,$E$1)","v":1},{"$f":"COUNTIFS(Sheet1!$M$3:$M$893,A19, Sheet1!$P$3:$P$893,$F$1)","v":50},{"$f":"COUNTIFS(Sheet1!$M$3:$M$893,A19, Sheet1!$P$3:$P$893,$G$1)","v":14}]
["Kazakhstan",{"$f":"COUNTIF(Sheet1!$M$3:$M$893,A20)","v":1},{"$f":"COUNTIFS(Sheet1!$M$3:$M$893,A20, Sheet1!$P$3:$P$893,$C$1)","v":0},{"$f":"COUNTIFS(Sheet1!$M$3:$M$893,A20, Sheet1!$P$3:$P$893,$D$1)","v":0},{"$f":"COUNTIFS(Sheet1!$M$3:$M$893,A20, Sheet1!$P$3:$P$893,$E$1)","v":0},{"$f":"COUNTIFS(Sheet1!$M$3:$M$893,A20, Sheet1!$P$3:$P$893,$F$1)","v":1},{"$f":"COUNTIFS(Sheet1!$M$3:$M$893,A20, Sheet1!$P$3:$P$893,$G$1)","v":0}]
["Greece",{"$f":"COUNTIF(Sheet1!$M$3:$M$893,A21)","v":42},{"$f":"COUNTIFS(Sheet1!$M$3:$M$893,A21, Sheet1!$P$3:$P$893,$C$1)","v":0},{"$f":"COUNTIFS(Sheet1!$M$3:$M$893,A21, Sheet1!$P$3:$P$893,$D$1)","v":0},{"$f":"COUNTIFS(Sheet1!$M$3:$M$893,A21, Sheet1!$P$3:$P$893,$E$1)","v":2},{"$f":"COUNTIFS(Sheet1!$M$3:$M$893,A21, Sheet1!$P$3:$P$893,$F$1)","v":35},{"$f":"COUNTIFS(Sheet1!$M$3:$M$893,A21, Sheet1!$P$3:$P$893,$G$1)","v":5}]
["Hungary",{"$f":"COUNTIF(Sheet1!$M$3:$M$893,A22)","v":6},{"$f":"COUNTIFS(Sheet1!$M$3:$M$893,A22, Sheet1!$P$3:$P$893,$C$1)","v":0},{"$f":"COUNTIFS(Sheet1!$M$3:$M$893,A22, Sheet1!$P$3:$P$893,$D$1)","v":0},{"$f":"COUNTIFS(Sheet1!$M$3:$M$893,A22, Sheet1!$P$3:$P$893,$E$1)","v":0},{"$f":"COUNTIFS(Sheet1!$M$3:$M$893,A22, Sheet1!$P$3:$P$893,$F$1)","v":4},{"$f":"COUNTIFS(Sheet1!$M$3:$M$893,A22, Sheet1!$P$3:$P$893,$G$1)","v":2}]
["Iceland",{"$f":"COUNTIF(Sheet1!$M$3:$M$893,A23)","v":1},{"$f":"COUNTIFS(Sheet1!$M$3:$M$893,A23, Sheet1!$P$3:$P$893,$C$1)","v":0},{"$f":"COUNTIFS(Sheet1!$M$3:$M$893,A23, Sheet1!$P$3:$P$893,$D$1)","v":0},{"$f":"COUNTIFS(Sheet1!$M$3:$M$893,A23, Sheet1!$P$3:$P$893,$E$1)","v":0},{"$f":"COUNTIFS(Sheet1!$M$3:$M$893,A23, Sheet1!$P$3:$P$893,$F$1)","v":1},{"$f":"COUNTIFS(Sheet1!$M$3:$M$893,A23, Sheet1!$P$3:$P$893,$G$1)","v":0}]
["Ireland",{"$f":"COUNTIF(Sheet1!$M$3:$M$893,A24)","v":8},{"$f":"COUNTIFS(Sheet1!$M$3:$M$893,A24, Sheet1!$P$3:$P$893,$C$1)","v":0},{"$f":"COUNTIFS(Sheet1!$M$3:$M$893,A24, Sheet1!$P$3:$P$893,$D$1)","v":0},{"$f":"COUNTIFS(Sheet1!$M$3:$M$893,A24, Sheet1!$P$3:$P$893,$E$1)","v":1},{"$f":"COUNTIFS(Sheet1!$M$3:$M$893,A24, Sheet1!$P$3:$P$893,$F$1)","v":4},{"$f":"COUNTIFS(Sheet1!$M$3:$M$893,A24, Sheet1!$P$3:$P$893,$G$1)","v":3}]
["Italy",{"$f":"COUNTIF(Sheet1!$M$3:$M$893,A25)","v":30},{"$f":"COUNTIFS(Sheet1!$M$3:$M$893,A25, Sheet1!$P$3:$P$893,$C$1)","v":1},{"$f":"COUNTIFS(Sheet1!$M$3:$M$893,A25, Sheet1!$P$3:$P$893,$D$1)","v":6},{"$f":"COUNTIFS(Sheet1!$M$3:$M$893,A25, Sheet1!$P$3:$P$893,$E$1)","v":8},{"$f":"COUNTIFS(Sheet1!$M$3:$M$893,A25, Sheet1!$P$3:$P$893,$F$1)","v":14},{"$f":"COUNTIFS(Sheet1!$M$3:$M$893,A25, Sheet1!$P$3:$P$893,$G$1)","v":1}]
["Latvia",{"$f":"COUNTIF(Sheet1!$M$3:$M$893,A26)","v":10},{"$f":"COUNTIFS(Sheet1!$M$3:$M$893,A26, Sheet1!$P$3:$P$893,$C$1)","v":1},{"$f":"COUNTIFS(Sheet1!$M$3:$M$893,A26, Sheet1!$P$3:$P$893,$D$1)","v":0},{"$f":"COUNTIFS(Sheet1!$M$3:$M$893,A26, Sheet1!$P$3:$P$893,$E$1)","v":2},{"$f":"COUNTIFS(Sheet1!$M$3:$M$893,A26, Sheet1!$P$3:$P$893,$F$1)","v":7},{"$f":"COUNTIFS(Sheet1!$M$3:$M$893,A26, Sheet1!$P$3:$P$893,$G$1)","v":0}]
["Lithuania",{"$f":"COUNTIF(Sheet1!$M$3:$M$893,A27)","v":9},{"$f":"COUNTIFS(Sheet1!$M$3:$M$893,A27, Sheet1!$P$3:$P$893,$C$1)","v":0},{"$f":"COUNTIFS(Sheet1!$M$3:$M$893,A27, Sheet1!$P$3:$P$893,$D$1)","v":4},{"$f":"COUNTIFS(Sheet1!$M$3:$M$893,A27, Sheet1!$P$3:$P$893,$E$1)","v":5},{"$f":"COUNTIFS(Sheet1!$M$3:$M$893,A27, Sheet1!$P$3:$P$893,$F$1)","v":0},{"$f":"COUNTIFS(Sheet1!$M$3:$M$893,A27, Sheet1!$P$3:$P$893,$G$1)","v":0}]
["Indonesia",{"$f":"COUNTIF(Sheet1!$M$3:$M$893,A28)","v":3},{"$f":"COUNTIFS(Sheet1!$M$3:$M$893,A28, Sheet1!$P$3:$P$893,$C$1)","v":0},{"$f":"COUNTIFS(Sheet1!$M$3:$M$893,A28, Sheet1!$P$3:$P$893,$D$1)","v":0},{"$f":"COUNTIFS(Sheet1!$M$3:$M$893,A28, Sheet1!$P$3:$P$893,$E$1)","v":3},{"$f":"COUNTIFS(Sheet1!$M$3:$M$893,A28, Sheet1!$P$3:$P$893,$F$1)","v":0},{"$f":"COUNTIFS(Sheet1!$M$3:$M$893,A28, Sheet1!$P$3:$P$893,$G$1)","v":0}]
["Luxembourg",{"$f":"COUNTIF(Sheet1!$M$3:$M$893,A29)","v":1},{"$f":"COUNTIFS(Sheet1!$M$3:$M$893,A29, Sheet1!$P$3:$P$893,$C$1)","v":0},{"$f":"COUNTIFS(Sheet1!$M$3:$M$893,A29, Sheet1!$P$3:$P$893,$D$1)","v":0},{"$f":"COUNTIFS(Sheet1!$M$3:$M$893,A29, Sheet1!$P$3:$P$893,$E$1)","v":0},{"$f":"COUNTIFS(Sheet1!$M$3:$M$893,A29, Sheet1!$P$3:$P$893,$F$1)","v":1},{"$f":"COUNTIFS(Sheet1!$M$3:$M$893,A29, Sheet1!$P$3:$P$893,$G$1)","v":0}]
["Malta",{"$f":"COUNTIF(Sheet1!$M$3:$M$893,A30)","v":7},{"$f":"COUNTIFS(Sheet1!$M$3:$M$893,A30, Sheet1!$P$3:$P$893,$C$1)","v":0},{"$f":"COUNTIFS(Sheet1!$M$3:$M$893,A30, Sheet1!$P$3:$P$893,$D$1)","v":0},{"$f":"COUNTIFS(Sheet1!$M$3:$M$893,A30, Sheet1!$P$3:$P$893,$E$1)","v":1},{"$f":"COUNTIFS(Sheet1!$M$3:$M$893,A30, Sheet1!$P$3:$P$893,$F$1)","v":2},{"$f":"COUNTIFS(Sheet1!$M$3:$M$893,A30, Sheet1!$P$3:$P$893,$G$1)","v":4}]
["Netherlands",{"$f":"COUNTIF(Sheet1!$M$3:$M$893,A31)","v":35},{"$f":"COUNTIFS(Sheet1!$M$3:$M$893,A31, Sheet1!$P$3:$P$893,$C$1)","v":0},{"$f":"COUNTIFS(Sheet1!$M$3:$M$893,A31, Sheet1!$P$3:$P$893,$D$1)","v":1},{"$f":"COUNTIFS(Sheet1!$M$3:$M$893,A31, Sheet1!$P$3:$P$893,$E$1)","v":1},{"$f":"COUNTIFS(Sheet1!$M$3:$M$893,A31, Sheet1!$P$3:$P$893,$F$1)","v":29},{"$f":"COUNTIFS(Sheet1!$M$3:$M$893,A31, Sheet1!$P$3:$P$893,$G$1)","v":4}]
["Norway",{"$f":"COUNTIF(Sheet1!$M$3:$M$893,A32)","v":11},{"$f":"COUNTIFS(Sheet1!$M$3:$M$893,A32, Sheet1!$P$3:$P$893,$C$1)","v":0},{"$f":"COUNTIFS(Sheet1!$M$3:$M$893,A32, Sheet1!$P$3:$P$893,$D$1)","v":0},{"$f":"COUNTIFS(Sheet1!$M$3:$M$893,A32, Sheet1!$P$3:$P$893,$E$1)","v":1},{"$f":"COUNTIFS(Sheet1!$M$3:$M$893,A32, Sheet1!$P$3:$P$893,$F$1)","v":4},{"$f":"COUNTIFS(Sheet1!$M$3:$M$893,A32, Sheet1!$P$3:$P$893,$G$1)","v":6}]
["Poland",{"$f":"COUNTIF(Sheet1!$M$3:$M$893,A33)","v":15},{"$f":"COUNTIFS(Sheet1!$M$3:$M$893,A33, Sheet1!$P$3:$P$893,$C$1)","v":0},{"$f":"COUNTIFS(Sheet1!$M$3:$M$893,A33, Sheet1!$P$3:$P$893,$D$1)","v":0},{"$f":"COUNTIFS(Sheet1!$M$3:$M$893,A33, Sheet1!$P$3:$P$893,$E$1)","v":0},{"$f":"COUNTIFS(Sheet1!$M$3:$M$893,A33, Sheet1!$P$3:$P$893,$F$1)","v":0},{"$f":"COUNTIFS(Sheet1!$M$3:$M$893,A33, Sheet1!$P$3:$P$893,$G$1)","v":15}]
["Portugal",{"$f":"COUNTIF(Sheet1!$M$3:$M$893,A34)","v":57},{"$f":"COUNTIFS(Sheet1!$M$3:$M$893,A34, Sheet1!$P$3:$P$893,$C$1)","v":0},{"$f":"COUNTIFS(Sheet1!$M$3:$M$893,A34, Sheet1!$P$3:$P$893,$D$1)","v":0},{"$f":"COUNTIFS(Sheet1!$M$3:$M$893,A34, Sheet1!$P$3:$P$893,$E$1)","v":23},{"$f":"COUNTIFS(Sheet1!$M$3:$M$893,A34, Sheet1!$P$3:$P$893,$F$1)","v":34},{"$f":"COUNTIFS(Sheet1!$M$3:$M$893,A34, Sheet1!$P$3:$P$893,$G$1)","v":0}]
["Republic of Moldova",{"$f":"COUNTIF(Sheet1!$M$3:$M$893,A35)","v":4},{"$f":"COUNTIFS(Sheet1!$M$3:$M$893,A35, Sheet1!$P$3:$P$893,$C$1)","v":0},{"$f":"COUNTIFS(Sheet1!$M$3:$M$893,A35, Sheet1!$P$3:$P$893,$D$1)","v":0},{"$f":"COUNTIFS(Sheet1!$M$3:$M$893,A35, Sheet1!$P$3:$P$893,$E$1)","v":4},{"$f":"COUNTIFS(Sheet1!$M$3:$M$893,A35, Sheet1!$P$3:$P$893,$F$1)","v":0},{"$f":"COUNTIFS(Sheet1!$M$3:$M$893,A35, Sheet1!$P$3:$P$893,$G$1)","v":0}]
["Romania",{"$f":"COUNTIF(Sheet1!$M$3:$M$893,A36)","v":25},{"$f":"COUNTIFS(Sheet1!$M$3:$M$893,A36, Sheet1!$P$3:$P$893,$C$1)","v":1},{"$f":"COUNTIFS(Sheet1!$M$3:$M$893,A36, Sheet1!$P$3:$P$893,$D$1)","v":3},{"$f":"COUNTIFS(Sheet1!$M$3:$M$893,A36, Sheet1!$P$3:$P$893,$E$1)","v":0},{"$f":"COUNTIFS(Sheet1!$M$3:$M$893,A36, Sheet1!$P$3:$P$893,$F$1)","v":18},{"$f":"COUNTIFS(Sheet1!$M$3:$M$893,A36, Sheet1!$P$3:$P$893,$G$1)","v":3}]
["Russian Federation",{"$f":"COUNTIF(Sheet1!$M$3:$M$893,A37)","v":11},{"$f":"COUNTIFS(Sheet1!$M$3:$M$893,A37, Sheet1!$P$3:$P$893,$C$1)","v":7},{"$f":"COUNTIFS(Sheet1!$M$3:$M$893,A37, Sheet1!$P$3:$P$893,$D$1)","v":1},{"$f":"COUNTIFS(Sheet1!$M$3:$M$893,A37, Sheet1!$P$3:$P$893,$E$1)","v":1},{"$f":"COUNTIFS(Sheet1!$M$3:$M$893,A37, Sheet1!$P$3:$P$893,$F$1)","v":0},{"$f":"COUNTIFS(Sheet1!$M$3:$M$893,A37, Sheet1!$P$3:$P$893,$G$1)","v":2}]
["Serbia",{"$f":"COUNTIF(Sheet1!$M$3:$M$893,A38)","v":31},{"$f":"COUNTIFS(Sheet1!$M$3:$M$893,A38, Sheet1!$P$3:$P$893,$C$1)","v":0},{"$f":"COUNTIFS(Sheet1!$M$3:$M$893,A38, Sheet1!$P$3:$P$893,$D$1)","v":0},{"$f":"COUNTIFS(Sheet1!$M$3:$M$893,A38, Sheet1!$P$3:$P$893,$E$1)","v":28},{"$f":"COUNTIFS(Sheet1!$M$3:$M$893,A38, Sheet1!$P$3:$P$893,$F$1)","v":0},{"$f":"COUNTIFS(Sheet1!$M$3:$M$893,A38, Sheet1!$P$3:$P$893,$G$1)","v":3}]
["Slovakia",{"$f":"COUNTIF(Sheet1!$M$3:$M$893,A39)","v":3},{"$f":"COUNTIFS(Sheet1!$M$3:$M$893,A39, Sheet1!$P$3:$P$893,$C$1)","v":0},{"$f":"COUNTIFS(Sheet1!$M$3:$M$893,A39, Sheet1!$P$3:$P$893,$D$1)","v":0},{"$f":"COUNTIFS(Sheet1!$M$3:$M$893,A39, Sheet1!$P$3:$P$893,$E$1)","v":0},{"$f":"COUNTIFS(Sheet1!$M$3:$M$893,A39, Sheet1!$P$3:$P$893,$F$1)","v":1},{"$f":"COUNTIFS(Sheet1!$M$3:$M$893,A39, Sheet1!$P$3:$P$893,$G$1)","v":2}]
["Slovenia",{"$f":"COUNTIF(Sheet1!$M$3:$M$893,A40)","v":7},{"$f":"COUNTIFS(Sheet1!$M$3:$M$893,A40, Sheet1!$P$3:$P$893,$C$1)","v":0},{"$f":"COUNTIFS(Sheet1!$M$3:$M$893,A40, Sheet1!$P$3:$P$893,$D$1)","v":0},{"$f":"COUNTIFS(Sheet1!$M$3:$M$893,A40, Sheet1!$P$3:$P$893,$E$1)","v":1},{"$f":"COUNTIFS(Sheet1!$M$3:$M$893,A40, Sheet1!$P$3:$P$893,$F$1)","v":1},{"$f":"COUNTIFS(Sheet1!$M$3:$M$893,A40, Sheet1!$P$3:$P$893,$G$1)","v":5}]
["Spain",{"$f":"COUNTIF(Sheet1!$M$3:$M$893,A41)","v":51},{"$f":"COUNTIFS(Sheet1!$M$3:$M$893,A41, Sheet1!$P$3:$P$893,$C$1)","v":0},{"$f":"COUNTIFS(Sheet1!$M$3:$M$893,A41, Sheet1!$P$3:$P$893,$D$1)","v":4},{"$f":"COUNTIFS(Sheet1!$M$3:$M$893,A41, Sheet1!$P$3:$P$893,$E$1)","v":42},{"$f":"COUNTIFS(Sheet1!$M$3:$M$893,A41, Sheet1!$P$3:$P$893,$F$1)","v":1},{"$f":"COUNTIFS(Sheet1!$M$3:$M$893,A41, Sheet1!$P$3:$P$893,$G$1)","v":4}]
["Sweden",{"$f":"COUNTIF(Sheet1!$M$3:$M$893,A42)","v":17},{"$f":"COUNTIFS(Sheet1!$M$3:$M$893,A42, Sheet1!$P$3:$P$893,$C$1)","v":0},{"$f":"COUNTIFS(Sheet1!$M$3:$M$893,A42, Sheet1!$P$3:$P$893,$D$1)","v":1},{"$f":"COUNTIFS(Sheet1!$M$3:$M$893,A42, Sheet1!$P$3:$P$893,$E$1)","v":3},{"$f":"COUNTIFS(Sheet1!$M$3:$M$893,A42, Sheet1!$P$3:$P$893,$F$1)","v":13},{"$f":"COUNTIFS(Sheet1!$M$3:$M$893,A42, Sheet1!$P$3:$P$893,$G$1)","v":0}]
["Switzerland",{"$f":"COUNTIF(Sheet1!$M$3:$M$893,A43)","v":29},{"$f":"COUNTIFS(Sheet1!$M$3:$M$893,A43, Sheet1!$P$3:$P$893,$C$1)","v":1},{"$f":"COUNTIFS(Sheet1!$M$3:$M$893,A43, Sheet1!$P$3:$P$893,$D$1)","v":0},{"$f":"COUNTIFS(Sheet1!$M$3:$M$893,A43, Sheet1!$P$3:$P$893,$E$1)","v":1},{"$f":"COUNTIFS(Sheet1!$M$3:$M$893,A43, Sheet1!$P$3:$P$893,$F$1)","v":17},{"$f":"COUNTIFS(Sheet1!$M$3:$M$893,A43, Sheet1!$P$3:$P$893,$G$1)","v":10}]
["The former Yugoslav Republic of Macedonia",{"$f":"COUNTIF(Sheet1!$M$3:$M$893,A44)","v":5},{"$f":"COUNTIFS(Sheet1!$M$3:$M$893,A44, Sheet1!$P$3:$P$893,$C$1)","v":0},{"$f":"COUNTIFS(Sheet1!$M$3:$M$893,A44, Sheet1!$P$3:$P$893,$D$1)","v":0},{"$f":"COUNTIFS(Sheet1!$M$3:$M$893,A44, Sheet1!$P$3:$P$893,$E$1)","v":0},{"$f":"COUNTIFS(Sheet1!$M$3:$M$893,A44, Sheet1!$P$3:$P$893,$F$1)","v":5},{"$f":"COUNTIFS(Sheet1!$M$3:$M$893,A44, Sheet1!$P$3:$P$893,$G$1)","v":0}]
["Turkey",{"$f":"COUNTIF(Sheet1!$M$3:$M$893,A45)","v":58},{"$f":"COUNTIFS(Sheet1!$M$3:$M$893,A45, Sheet1!$P$3:$P$893,$C$1)","v":3},{"$f":"COUNTIFS(Sheet1!$M$3:$M$893,A45, Sheet1!$P$3:$P$893,$D$1)","v":0},{"$f":"COUNTIFS(Sheet1!$M$3:$M$893,A45, Sheet1!$P$3:$P$893,$E$1)","v":13},{"$f":"COUNTIFS(Sheet1!$M$3:$M$893,A45, Sheet1!$P$3:$P$893,$F$1)","v":26},{"$f":"COUNTIFS(Sheet1!$M$3:$M$893,A45, Sheet1!$P$3:$P$893,$G$1)","v":14}]
["Ukraine",{"$f":"COUNTIF(Sheet1!$M$3:$M$893,A46)","v":7},{"$f":"COUNTIFS(Sheet1!$M$3:$M$893,A46, Sheet1!$P$3:$P$893,$C$1)","v":5},{"$f":"COUNTIFS(Sheet1!$M$3:$M$893,A46, Sheet1!$P$3:$P$893,$D$1)","v":1},{"$f":"COUNTIFS(Sheet1!$M$3:$M$893,A46, Sheet1!$P$3:$P$893,$E$1)","v":0},{"$f":"COUNTIFS(Sheet1!$M$3:$M$893,A46, Sheet1!$P$3:$P$893,$F$1)","v":0},{"$f":"COUNTIFS(Sheet1!$M$3:$M$893,A46, Sheet1!$P$3:$P$893,$G$1)","v":1}]
["United Kingdom of Great Britain and Northern Ireland",{"$f":"COUNTIF(Sheet1!$M$3:$M$893,A47)","v":32},{"$f":"COUNTIFS(Sheet1!$M$3:$M$893,A47, Sheet1!$P$3:$P$893,$C$1)","v":1},{"$f":"COUNTIFS(Sheet1!$M$3:$M$893,A47, Sheet1!$P$3:$P$893,$D$1)","v":6},{"$f":"COUNTIFS(Sheet1!$M$3:$M$893,A47, Sheet1!$P$3:$P$893,$E$1)","v":2},{"$f":"COUNTIFS(Sheet1!$M$3:$M$893,A47, Sheet1!$P$3:$P$893,$F$1)","v":4},{"$f":"COUNTIFS(Sheet1!$M$3:$M$893,A47, Sheet1!$P$3:$P$893,$G$1)","v":19}]
["Azerbaijan",{"$f":"COUNTIF(Sheet1!$M$3:$M$893,A48)","v":1},{"$f":"COUNTIFS(Sheet1!$M$3:$M$893,A48, Sheet1!$P$3:$P$893,$C$1)","v":1},{"$f":"COUNTIFS(Sheet1!$M$3:$M$893,A48, Sheet1!$P$3:$P$893,$D$1)","v":0},{"$f":"COUNTIFS(Sheet1!$M$3:$M$893,A48, Sheet1!$P$3:$P$893,$E$1)","v":0},{"$f":"COUNTIFS(Sheet1!$M$3:$M$893,A48, Sheet1!$P$3:$P$893,$F$1)","v":0},{"$f":"COUNTIFS(Sheet1!$M$3:$M$893,A48, Sheet1!$P$3:$P$893,$G$1)","v":0}]
["SUM:",{"$f":"SUBTOTAL(109,Table5[Ukupan broj])","v":719},{"$f":"SUBTOTAL(109,Table5[Less than 3])","v":28},{"$f":"SUBTOTAL(109,Table5[3])","v":36},{"$f":"SUBTOTAL(109,Table5[4])","v":171},{"$f":"SUBTOTAL(109,Table5[5])","v":337},{"$f":"SUBTOTAL(109,Table5[Over 5])","v":145}]

{"sheet":"12. Pitanje","index":5,"n_rows":49,"n_cols":10,"rows_kept":49}
["12. Do you have any knowledge or formal training in teaching?","Ukupan broj","Master in Medical Education","Obligatory teaching courses for University teachers","ESAIC Teach the Teacher (TTT) courses","Other short TTT courses","Advanced Life Support (ALS), Basic Life Support (BLS) or other specific courses","Simulation courses","None","Other (please specify)"]
["Albania",{"$f":"COUNTIF(Sheet1!$M$3:$M$893,A2)","v":6},{"$f":"COUNTIFS(Sheet1!$M$3:$M$893,A2, Sheet1!$V$3:$V$893,$C$1)","v":2},{"$f":"COUNTIFS(Sheet1!$M$3:$M$893,A2, Sheet1!$W$3:$W$893,$D$1)","v":0},{"$f":"COUNTIFS(Sheet1!$M$3:$M$893,A2, Sheet1!$X$3:$X$893,$E$1)","v":0},{"$f":"COUNTIFS(Sheet1!$M$3:$M$893,A2, Sheet1!$Y$3:$Y$893,$F$1)","v":0},{"$f":"COUNTIFS(Sheet1!$M$3:$M$893,A2, Sheet1!$Z$3:$Z$893,$G$1)","v":1},{"$f":"COUNTIFS(Sheet1!$M$3:$M$893,A2, Sheet1!$AA$3:$AA$893,$H$1)","v":0},{"$f":"COUNTIFS(Sheet1!$M$3:$M$893,A2, Sheet1!$AB$3:$AB$893,$I$1)","v":0},{"$f":"COUNTIFS(Sheet1!$M$3:$M$893,A2, Sheet1!$AC$3:$AC$893,\"<>\")","v":0}]
["Armenia",{"$f":"COUNTIF(Sheet1!$M$3:$M$893,A3)","v":1},{"$f":"COUNTIFS(Sheet1!$M$3:$M$893,A3, Sheet1!$V$3:$V$893,$C$1)","v":0},{"$f":"COUNTIFS(Sheet1!$M$3:$M$893,A3, Sheet1!$W$3:$W$893,$D$1)","v":0},{"$f":"COUNTIFS(Sheet1!$M$3:$M$893,A3, Sheet1!$X$3:$X$893,$E$1)","v":0},{"$f":"COUNTIFS(Sheet1!$M$3:$M$893,A3, Sheet1!$Y$3:$Y$893,$F$1)","v":0},{"$f":"COUNTIFS(Sheet1!$M$3:$M$893,A3, Sheet1!$Z$3:$Z$893,$G$1)","v":0},{"$f":"COUNTIFS(Sheet1!$M$3:$M$893,A3, Sheet1!$AA$3:$AA$893,$H$1)","v":0},{"$f":"COUNTIFS(Sheet1!$M$3:$M$893,A3, Sheet1!$AB$3:$AB$893,$I$1)","v":1},{"$f":"COUNTIFS(Sheet1!$M$3:$M$893,A3, Sheet1!$AC$3:$AC$893,\"<>\")","v":0}]
["Austria",{"$f":"COUNTIF(Sheet1!$M$3:$M$893,A4)","v":15},{"$f":"COUNTIFS(Sheet1!$M$3:$M$893,A4, Sheet1!$V$3:$V$893,$C$1)","v":0},{"$f":"COUNTIFS(Sheet1!$M$3:$M$893,A4, Sheet1!$W$3:$W$893,$D$1)","v":2},{"$f":"COUNTIFS(Sheet1!$M$3:$M$893,A4, Sheet1!$X$3:$X$893,$E$1)","v":0},{"$f":"COUNTIFS(Sheet1!$M$3:$M$893,A4, Sheet1!$Y$3:$Y$893,$F$1)","v":3},{"$f":"COUNTIFS(Sheet1!$M$3:$M$893,A4, Sheet1!$Z$3:$Z$893,$G$1)","v":8},{"$f":"COUNTIFS(Sheet1!$M$3:$M$893,A4, Sheet1!$AA$3:$AA$893,$H$1)","v":7},{"$f":"COUNTIFS(Sheet1!$M$3:$M$893,A4, Sheet1!$AB$3:$AB$893,$I$1)","v":4},{"$f":"COUNTIFS(Sheet1!$M$3:$M$893,A4, Sheet1!$AC$3:$AC$893,\"<>\")","v":0}]
["Belarus",{"$f":"COUNTIF(Sheet1!$M$3:$M$893,A5)","v":1},{"$f":"COUNTIFS(Sheet1!$M$3:$M$893,A5, Sheet1!$V$3:$V$893,$C$1)","v":0},{"$f":"COUNTIFS(Sheet1!$M$3:$M$893,A5, Sheet1!$W$3:$W$893,$D$1)","v":0},{"$f":"COUNTIFS(Sheet1!$M$3:$M$893,A5, Sheet1!$X$3:$X$893,$E$1)","v":0},{"$f":"COUNTIFS(Sheet1!$M$3:$M$893,A5, Sheet1!$Y$3:$Y$893,$F$1)","v":0},{"$f":"COUNTIFS(Sheet1!$M$3:$M$893,A5, Sheet1!$Z$3:$Z$893,$G$1)","v":0},{"$f":"COUNTIFS(Sheet1!$M$3:$M$893,A5, Sheet1!$AA$3:$AA$893,$H$1)","v":1},{"$f":"COUNTIFS(Sheet1!$M$3:$M$893,A5, Sheet1!$AB$3:$AB$893,$I$1)","v":0},{"$f":"COUNTIFS(Sheet1!$M$3:$M$893,A5, Sheet1!$AC$3:$AC$893,\"<>\")","v":0}]
["Belgium",{"$f":"COUNTIF(Sheet1!$M$3:$M$893,A6)","v":30},{"$f":"COUNTIFS(Sheet1!$M$3:$M$893,A6, Sheet1!$V$3:$V$893,$C$1)","v":3},{"$f":"COUNTIFS(Sheet1!$M$3:$M$893,A6, Sheet1!$W$3:$W$893,$D$1)","v":5},{"$f":"COUNTIFS(Sheet1!$M$3:$M$893,A6, Sheet1!$X$3:$X$893,$E$1)","v":3},{"$f":"COUNTIFS(Sheet1!$M$3:$M$893,A6, Sheet1!$Y$3:$Y$893,$F$1)","v":10},{"$f":"COUNTIFS(Sheet1!$M$3:$M$893,A6, Sheet1!$Z$3:$Z$893,$G$1)","v":14},{"$f":"COUNTIFS(Sheet1!$M$3:$M$893,A6, Sheet1!$AA$3:$AA$893,$H$1)","v":10},{"$f":"COUNTIFS(Sheet1!$M$3:$M$893,A6, Sheet1!$AB$3:$AB$893,$I$1)","v":8},{"$f":"COUNTIFS(Sheet1!$M$3:$M$893,A6, Sheet1!$AC$3:$AC$893,\"<>\")","v":3}]
["Bosnia and Herzegovina",{"$f":"COUNTIF(Sheet1!$M$3:$M$893,A7)","v":4},{"$f":"COUNTIFS(Sheet1!$M$3:$M$893,A7, Sheet1!$V$3:$V$893,$C$1)","v":3},{"$f":"COUNTIFS(Sheet1!$M$3:$M$893,A7, Sheet1!$W$3:$W$893,$D$1)","v":0},{"$f":"COUNTIFS(Sheet1!$M$3:$M$893,A7, Sheet1!$X$3:$X$893,$E$1)","v":2},{"$f":"COUNTIFS(Sheet1!$M$3:$M$893,A7, Sheet1!$Y$3:$Y$893,$F$1)","v":0},{"$f":"COUNTIFS(Sheet1!$M$3:$M$893,A7, Sheet1!$Z$3:$Z$893,$G$1)","v":1},{"$f":"COUNTIFS(Sheet1!$M$3:$M$893,A7, Sheet1!$AA$3:$AA$893,$H$1)","v":0},{"$f":"COUNTIFS(Sheet1!$M$3:$M$893,A7, Sheet1!$AB$3:$AB$893,$I$1)","v":1},{"$f":"COUNTIFS(Sheet1!$M$3:$M$893,A7, Sheet1!$AC$3:$AC$893,\"<>\")","v":0}]
["Bulgaria",{"$f":"COUNTIF(Sheet1!$M$3:$M$893,A8)","v":3},{"$f":"COUNTIFS(Sheet1!$M$3:$M$893,A8, Sheet1!$V$3:$V$893,$C$1)","v":2},{"$f":"COUNTIFS(Sheet1!$M$3:$M$893,A8, Sheet1!$W$3:$W$893,$D$1)","v":1},{"$f":"COUNTIFS(Sheet1!$M$3:$M$893,A8, Sheet1!$X$3:$X$893,$E$1)","v":1},{"$f":"COUNTIFS(Sheet1!$M$3:$M$893,A8, Sheet1!$Y$3:$Y$893,$F$1)","v":1},{"$f":"COUNTIFS(Sheet1!$M$3:$M$893,A8, Sheet1!$Z$3:$Z$893,$G$1)","v":2},{"$f":"COUNTIFS(Sheet1!$M$3:$M$893,A8, Sheet1!$AA$3:$AA$893,$H$1)","v":1},{"$f":"COUNTIFS(Sheet1!$M$3:$M$893,A8, Sheet1!$AB$3:$AB$893,$I$1)","v":0},{"$f":"COUNTIFS(Sheet1!$M$3:$M$893,A8, Sheet1!$AC$3:$AC$893,\"<>\")","v":0}]
["Croatia",{"$f":"COUNTIF(Sheet1!$M$3:$M$893,A9)","v":15},{"$f":"COUNTIFS(Sheet1!$M$3:$M$893,A9, Sheet1!$V$3:$V$893,$C$1)","v":0},{"$f":"COUNTIFS(Sheet1!$M$3:$M$893,A9, Sheet1!$W$3:$W$893,$D$1)","v":3},{"$f":"COUNTIFS(Sheet1!$M$3:$M$893,A9, Sheet1!$X$3:$X$893,$E$1)","v":2},{"$f":"COUNTIFS(Sheet1!$M$3:$M$893,A9, Sheet1!$Y$3:$Y$893,$F$1)","v":3},{"$f":"COUNTIFS(Sheet1!$M$3:$M$893,A9, Sheet1!$Z$3:$Z$893,$G$1)","v":6},{"$f":"COUNTIFS(Sheet1!$M$3:$M$893,A9, Sheet1!$AA$3:$AA$893,$H$1)","v":2},{"$f":"COUNTIFS(Sheet1!$M$3:$M$893,A9, Sheet1!$AB$3:$AB$893,$I$1)","v":0},{"$f":"COUNTIFS(Sheet1!$M$3:$M$893,A9, Sheet1!$AC$3:$AC$893,\"<>\")","v":1}]
["Cyprus",{"$f":"COUNTIF(Sheet1!$M$3:$M$893,A10)","v":4},{"$f":"COUNTIFS(Sheet1!$M$3:$M$893,A10, Sheet1!$V$3:$V$893,$C$1)","v":0},{"$f":"COUNTIFS(Sheet1!$M$3:$M$893,A10, Sheet1!$W$3:$W$893,$D$1)","v":0},{"$f":"COUNTIFS(Sheet1!$M$3:$M$893,A10, Sheet1!$X$3:$X$893,$E$1)","v":0},{"$f":"COUNTIFS(Sheet1!$M$3:$M$893,A10, Sheet1!$Y$3:$Y$893,$F$1)","v":0},{"$f":"COUNTIFS(Sheet1!$M$3:$M$893,A10, Sheet1!$Z$3:$Z$893,$G$1)","v":0},{"$f":"COUNTIFS(Sheet1!$M$3:$M$893,A10, Sheet1!$AA$3:$AA$893,$H$1)","v":0},{"$f":"COUNTIFS(Sheet1!$M$3:$M$893,A10, Sheet1!$AB$3:$AB$893,$I$1)","v":0},{"$f":"COUNTIFS(Sheet1!$M$3:$M$893,A10, Sheet1!$AC$3:$AC$893,\"<>\")","v":0}]
["Czech Republic",{"$f":"COUNTIF(Sheet1!$M$3:$M$893,A11)","v":5},{"$f":"COUNTIFS(Sheet1!$M$3:$M$893,A11, Sheet1!$V$3:$V$893,$C$1)","v":0},{"$f":"COUNTIFS(Sheet1!$M$3:$M$893,A11, Sheet1!$W$3:$W$893,$D$1)","v":1},{"$f":"COUNTIFS(Sheet1!$M$3:$M$893,A11, Sheet1!$X$3:$X$893,$E$1)","v":0},{"$f":"COUNTIFS(Sheet1!$M$3:$M$893,A11, Sheet1!$Y$3:$Y$893,$F$1)","v":0},{"$f":"COUNTIFS(Sheet1!$M$3:$M$893,A11, Sheet1!$Z$3:$Z$893,$G$1)","v":2},{"$f":"COUNTIFS(Sheet1!$M$3:$M$893,A11, Sheet1!$AA$3:$AA$893,$H$1)","v":2},{"$f":"COUNTIFS(Sheet1!$M$3:$M$893,A11, Sheet1!$AB$3:$AB$893,$I$1)","v":2},{"$f":"COUNTIFS(Sheet1!$M$3:$M$893,A11, Sheet1!$AC$3:$AC$893,\"<>\")","v":0}]
["Denmark",{"$f":"COUNTIF(Sheet1!$M$3:$M$893,A12)","v":7},{"$f":"COUNTIFS(Sheet1!$M$3:$M$893,A12, Sheet1!$V$3:$V$893,$C$1)","v":0},{"$f":"COUNTIFS(Sheet1!$M$3:$M$893,A12, Sheet1!$W$3:$W$893,$D$1)","v":0},{"$f":"COUNTIFS(Sheet1!$M$3:$M$893,A12, Sheet1!$X$3:$X$893,$E$1)","v":0},{"$f":"COUNTIFS(Sheet1!$M$3:$M$893,A12, Sheet1!$Y$3:$Y$893,$F$1)","v":5},{"$f":"COUNTIFS(Sheet1!$M$3:$M$893,A12, Sheet1!$Z$3:$Z$893,$G$1)","v":6},{"$f":"COUNTIFS(Sheet1!$M$3:$M$893,A12, Sheet1!$AA$3:$AA$893,$H$1)","v":3},{"$f":"COUNTIFS(Sheet1!$M$3:$M$893,A12, Sheet1!$AB$3:$AB$893,$I$1)","v":0},{"$f":"COUNTIFS(Sheet1!$M$3:$M$893,A12, Sheet1!$AC$3:$AC$893,\"<>\")","v":1}]
["Estonia",{"$f":"COUNTIF(Sheet1!$M$3:$M$893,A13)","v":3},{"$f":"COUNTIFS(Sheet1!$M$3:$M$893,A13, Sheet1!$V$3:$V$893,$C$1)","v":0},{"$f":"COUNTIFS(Sheet1!$M$3:$M$893,A13, Sheet1!$W$3:$W$893,$D$1)","v":3},{"$f":"COUNTIFS(Sheet1!$M$3:$M$893,A13, Sheet1!$X$3:$X$893,$E$1)","v":1},{"$f":"COUNTIFS(Sheet1!$M$3:$M$893,A13, Sheet1!$Y$3:$Y$893,$F$1)","v":1},{"$f":"COUNTIFS(Sheet1!$M$3:$M$893,A13, Sheet1!$Z$3:$Z$893,$G$1)","v":3},{"$f":"COUNTIFS(Sheet1!$M$3:$M$893,A13, Sheet1!$AA$3:$AA$893,$H$1)","v":3},{"$f":"COUNTIFS(Sheet1!$M$3:$M$893,A13, Sheet1!$AB$3:$AB$893,$I$1)","v":0},{"$f":"COUNTIFS(Sheet1!$M$3:$M$893,A13, Sheet1!$AC$3:$AC$893,\"<>\")","v":0}]
["Finland",{"$f":"COUNTIF(Sheet1!$M$3:$M$893,A14)","v":8},{"$f":"COUNTIFS(Sheet1!$M$3:$M$893,A14, Sheet1!$V$3:$V$893,$C$1)","v":0},{"$f":"COUNTIFS(Sheet1!$M$3:$M$893,A14, Sheet1!$W$3:$W$893,$D$1)","v":1},{"$f":"COUNTIFS(Sheet1!$M$3:$M$893,A14, Sheet1!$X$3:$X$893,$E$1)","v":0},{"$f":"COUNTIFS(Sheet1!$M$3:$M$893,A14, Sheet1!$Y$3:$Y$893,$F$1)","v":1},{"$f":"COUNTIFS(Sheet1!$M$3:$M$893,A14, Sheet1!$Z$3:$Z$893,$G$1)","v":3},{"$f":"COUNTIFS(Sheet1!$M$3:$M$893,A14, Sheet1!$AA$3:$AA$893,$H$1)","v":6},{"$f":"COUNTIFS(Sheet1!$M$3:$M$893,A14, Sheet1!$AB$3:$AB$893,$I$1)","v":0},{"$f":"COUNTIFS(Sheet1!$M$3:$M$893,A14, Sheet1!$AC$3:$AC$893,\"<>\")","v":5}]
["Uzbekistan",{"$f":"COUNTIF(Sheet1!$M$3:$M$893,A15)","v":1},{"$f":"COUNTIFS(Sheet1!$M$3:$M$893,A15, Sheet1!$V$3:$V$893,$C$1)","v":0},{"$f":"COUNTIFS(Sheet1!$M$3:$M$893,A15, Sheet1!$W$3:$W$893,$D$1)","v":0},{"$f":"COUNTIFS(Sheet1!$M$3:$M$893,A15, Sheet1!$X$3:$X$893,$E$1)","v":0},{"$f":"COUNTIFS(Sheet1!$M$3:$M$893,A15, Sheet1!$Y$3:$Y$893,$F$1)","v":0},{"$f":"COUNTIFS(Sheet1!$M$3:$M$893,A15, Sheet1!$Z$3:$Z$893,$G$1)","v":0},{"$f":"COUNTIFS(Sheet1!$M$3:$M$893,A15, Sheet1!$AA$3:$AA$893,$H$1)","v":1},{"$f":"COUNTIFS(Sheet1!$M$3:$M$893,A15, Sheet1!$AB$3:$AB$893,$I$1)","v":0},{"$f":"COUNTIFS(Sheet1!$M$3:$M$893,A15, Sheet1!$AC$3:$AC$893,\"<>\")","v":0}]
["France",{"$f":"COUNTIF(Sheet1!$M$3:$M$893,A16)","v":14},{"$f":"COUNTIFS(Sheet1!$M$3:$M$893,A16, Sheet1!$V$3:$V$893,$C$1)","v":1},{"$f":"COUNTIFS(Sheet1!$M$3:$M$893,A16, Sheet1!$W$3:$W$893,$D$1)","v":3},{"$f":"COUNTIFS(Sheet1!$M$3:$M$893,A16, Sheet1!$X$3:$X$893,$E$1)","v":0},{"$f":"COUNTIFS(Sheet1!$M$3:$M$893,A16, Sheet1!$Y$3:$Y$893,$F$1)","v":2},{"$f":"COUNTIFS(Sheet1!$M$3:$M$893,A16, Sheet1!$Z$3:$Z$893,$G$1)","v":2},{"$f":"COUNTIFS(Sheet1!$M$3:$M$893,A16, Sheet1!$AA$3:$AA$893,$H$1)","v":3},{"$f":"COUNTIFS(Sheet1!$M$3:$M$893,A16, Sheet1!$AB$3:$AB$893,$I$1)","v":3},{"$f":"COUNTIFS(Sheet1!$M$3:$M$893,A16, Sheet1!$AC$3:$AC$893,\"<>\")","v":1}]
["Israel",{"$f":"COUNTIF(Sheet1!$M$3:$M$893,A17)","v":12},{"$f":"COUNTIFS(Sheet1!$M$3:$M$893,A17, Sheet1!$V$3:$V$893,$C$1)","v":0},{"$f":"COUNTIFS(Sheet1!$M$3:$M$893,A17, Sheet1!$W$3:$W$893,$D$1)","v":2},{"$f":"COUNTIFS(Sheet1!$M$3:$M$893,A17, Sheet1!$X$3:$X$893,$E$1)","v":1},{"$f":"COUNTIFS(Sheet1!$M$3:$M$893,A17, Sheet1!$Y$3:$Y$893,$F$1)","v":2},{"$f":"COUNTIFS(Sheet1!$M$3:$M$893,A17, Sheet1!$Z$3:$Z$893,$G$1)","v":6},{"$f":"COUNTIFS(Sheet1!$M$3:$M$893,A17, Sheet1!$AA$3:$AA$893,$H$1)","v":8},{"$f":"COUNTIFS(Sheet1!$M$3:$M$893,A17, Sheet1!$AB$3:$AB$893,$I$1)","v":0},{"$f":"COUNTIFS(Sheet1!$M$3:$M$893,A17, Sheet1!$AC$3:$AC$893,\"<>\")","v":2}]
["Georgia",{"$f":"COUNTIF(Sheet1!$M$3:$M$893,A18)","v":3},{"$f":"COUNTIFS(Sheet1!$M$3:$M$893,A18, Sheet1!$V$3:$V$893,$C$1)","v":0},{"$f":"COUNTIFS(Sheet1!$M$3:$M$893,A18, Sheet1!$W$3:$W$893,$D$1)","v":0},{"$f":"COUNTIFS(Sheet1!$M$3:$M$893,A18, Sheet1!$X$3:$X$893,$E$1)","v":0},{"$f":"COUNTIFS(Sheet1!$M$3:$M$893,A18, Sheet1!$Y$3:$Y$893,$F$1)","v":0},{"$f":"COUNTIFS(Sheet1!$M$3:$M$893,A18, Sheet1!$Z$3:$Z$893,$G$1)","v":0},{"$f":"COUNTIFS(Sheet1!$M$3:$M$893,A18, Sheet1!$AA$3:$AA$893,$H$1)","v":0},{"$f":"COUNTIFS(Sheet1!$M$3:$M$893,A18, Sheet1!$AB$3:$AB$893,$I$1)","v":0},{"$f":"COUNTIFS(Sheet1!$M$3:$M$893,A18, Sheet1!$AC$3:$AC$893,\"<>\")","v":0}]
["Germany",{"$f":"COUNTIF(Sheet1!$M$3:$M$893,A19)","v":70},{"$f":"COUNTIFS(Sheet1!$M$3:$M$893,A19, Sheet1!$V$3:$V$893,$C$1)","v":3},{"$f":"COUNTIFS(Sheet1!$M$3:$M$893,A19, Sheet1!$W$3:$W$893,$D$1)","v":12},{"$f":"COUNTIFS(Sheet1!$M$3:$M$893,A19, Sheet1!$X$3:$X$893,$E$1)","v":4},{"$f":"COUNTIFS(Sheet1!$M$3:$M$893,A19, Sheet1!$Y$3:$Y$893,$F$1)","v":19},{"$f":"COUNTIFS(Sheet1!$M$3:$M$893,A19, Sheet1!$Z$3:$Z$893,$G$1)","v":29},{"$f":"COUNTIFS(Sheet1!$M$3:$M$893,A19, Sheet1!$AA$3:$AA$893,$H$1)","v":36},{"$f":"COUNTIFS(Sheet1!$M$3:$M$893,A19, Sheet1!$AB$3:$AB$893,$I$1)","v":16},{"$f":"COUNTIFS(Sheet1!$M$3:$M$893,A19, Sheet1!$AC$3:$AC$893,\"<>\")","v":9}]
["Kazakhstan",{"$f":"COUNTIF(Sheet1!$M$3:$M$893,A20)","v":1},{"$f":"COUNTIFS(Sheet1!$M$3:$M$893,A20, Sheet1!$V$3:$V$893,$C$1)","v":0},{"$f":"COUNTIFS(Sheet1!$M$3:$M$893,A20, Sheet1!$W$3:$W$893,$D$1)","v":0},{"$f":"COUNTIFS(Sheet1!$M$3:$M$893,A20, Sheet1!$X$3:$X$893,$E$1)","v":0},{"$f":"COUNTIFS(Sheet1!$M$3:$M$893,A20, Sheet1!$Y$3:$Y$893,$F$1)","v":0},{"$f":"COUNTIFS(Sheet1!$M$3:$M$893,A20, Sheet1!$Z$3:$Z$893,$G$1)","v":0},{"$f":"COUNTIFS(Sheet1!$M$3:$M$893,A20, Sheet1!$AA$3:$AA$893,$H$1)","v":0},{"$f":"COUNTIFS(Sheet1!$M$3:$M$893,A20, Sheet1!$AB$3:$AB$893,$I$1)","v":0},{"$f":"COUNTIFS(Sheet1!$M$3:$M$893,A20, Sheet1!$AC$3:$AC$893,\"<>\")","v":0}]
["Greece",{"$f":"COUNTIF(Sheet1!$M$3:$M$893,A21)","v":42},{"$f":"COUNTIFS(Sheet1!$M$3:$M$893,A21, Sheet1!$V$3:$V$893,$C$1)","v":1},{"$f":"COUNTIFS(Sheet1!$M$3:$M$893,A21, Sheet1!$W$3:$W$893,$D$1)","v":2},{"$f":"COUNTIFS(Sheet1!$M$3:$M$893,A21, Sheet1!$X$3:$X$893,$E$1)","v":11},{"$f":"COUNTIFS(Sheet1!$M$3:$M$893,A21, Sheet1!$Y$3:$Y$893,$F$1)","v":7},{"$f":"COUNTIFS(Sheet1!$M$3:$M$893,A21, Sheet1!$Z$3:$Z$893,$G$1)","v":24},{"$f":"COUNTIFS(Sheet1!$M$3:$M$893,A21, Sheet1!$AA$3:$AA$893,$H$1)","v":15},{"$f":"COUNTIFS(Sheet1!$M$3:$M$893,A21, Sheet1!$AB$3:$AB$893,$I$1)","v":2},{"$f":"COUNTIFS(Sheet1!$M$3:$M$893,A21, Sheet1!$AC$3:$AC$893,\"<>\")","v":4}]
["Hungary",{"$f":"COUNTIF(Sheet1!$M$3:$M$893,A22)","v":6},{"$f":"COUNTIFS(Sheet1!$M$3:$M$893,A22, Sheet1!$V$3:$V$893,$C$1)","v":0},{"$f":"COUNTIFS(Sheet1!$M$3:$M$893,A22, Sheet1!$W$3:$W$893,$D$1)","v":0},{"$f":"COUNTIFS(Sheet1!$M$3:$M$893,A22, Sheet1!$X$3:$X$893,$E$1)","v":2},{"$f":"COUNTIFS(Sheet1!$M$3:$M$893,A22, Sheet1!$Y$3:$Y$893,$F$1)","v":2},{"$f":"COUNTIFS(Sheet1!$M$3:$M$893,A22, Sheet1!$Z$3:$Z$893,$G$1)","v":6},{"$f":"COUNTIFS(Sheet1!$M$3:$M$893,A22, Sheet1!$AA$3:$AA$893,$H$1)","v":5},{"$f":"COUNTIFS(Sheet1!$M$3:$M$893,A22, Sheet1!$AB$3:$AB$893,$I$1)","v":0},{"$f":"COUNTIFS(Sheet1!$M$3:$M$893,A22, Sheet1!$AC$3:$AC$893,\"<>\")","v":1}]
["Iceland",{"$f":"COUNTIF(Sheet1!$M$3:$M$893,A23)","v":1},{"$f":"COUNTIFS(Sheet1!$M$3:$M$893,A23, Sheet1!$V$3:$V$893,$C$1)","v":0},{"$f":"COUNTIFS(Sheet1!$M$3:$M$893,A23, Sheet1!$W$3:$W$893,$D$1)","v":0},{"$f":"COUNTIFS(Sheet1!$M$3:$M$893,A23, Sheet1!$X$3:$X$893,$E$1)","v":0},{"$f":"COUNTIFS(Sheet1!$M$3:$M$893,A23, Sheet1!$Y$3:$Y$893,$F$1)","v":0},{"$f":"COUNTIFS(Sheet1!$M$3:$M$893,A23, Sheet1!$Z$3:$Z$893,$G$1)","v":0},{"$f":"COUNTIFS(Sheet1!$M$3:$M$893,A23, Sheet1!$AA$3:$AA$893,$H$1)","v":0},{"$f":"COUNTIFS(Sheet1!$M$3:$M$893,A23, Sheet1!$AB$3:$AB$893,$I$1)","v":0},{"$f":"COUNTIFS(Sheet1!$M$3:$M$893,A23, Sheet1!$AC$3:$AC$893,\"<>\")","v":0}]
["Ireland",{"$f":"COUNTIF(Sheet1!$M$3:$M$893,A24)","v":8},{"$f":"COUNTIFS(Sheet1!$M$3:$M$893,A24, Sheet1!$V$3:$V$893,$C$1)","v":0},{"$f":"COUNTIFS(Sheet1!$M$3:$M$893,A24, Sheet1!$W$3:$W$893,$D$1)","v":0},{"$f":"COUNTIFS(Sheet1!$M$3:$M$893,A24, Sheet1!$X$3:$X$893,$E$1)","v":2},{"$f":"COUNTIFS(Sheet1!$M$3:$M$893,A24, Sheet1!$Y$3:$Y$893,$F$1)","v":3},{"$f":"COUNTIFS(Sheet1!$M$3:$M$893,A24, Sheet1!$Z$3:$Z$893,$G$1)","v":6},{"$f":"COUNTIFS(Sheet1!$M$3:$M$893,A24, Sheet1!$AA$3:$AA$893,$H$1)","v":3},{"$f":"COUNTIFS(Sheet1!$M$3:$M$893,A24, Sheet1!$AB$3:$AB$893,$I$1)","v":0},{"$f":"COUNTIFS(Sheet1!$M$3:$M$893,A24, Sheet1!$AC$3:$AC$893,\"<>\")","v":0}]
["Italy",{"$f":"COUNTIF(Sheet1!$M$3:$M$893,A25)","v":30},{"$f":"COUNTIFS(Sheet1!$M$3:$M$893,A25, Sheet1!$V$3:$V$893,$C$1)","v":2},{"$f":"COUNTIFS(Sheet1!$M$3:$M$893,A25, Sheet1!$W$3:$W$893,$D$1)","v":2},{"$f":"COUNTIFS(Sheet1!$M$3:$M$893,A25, Sheet1!$X$3:$X$893,$E$1)","v":0},{"$f":"COUNTIFS(Sheet1!$M$3:$M$893,A25, Sheet1!$Y$3:$Y$893,$F$1)","v":5},{"$f":"COUNTIFS(Sheet1!$M$3:$M$893,A25, Sheet1!$Z$3:$Z$893,$G$1)","v":11},{"$f":"COUNTIFS(Sheet1!$M$3:$M$893,A25, Sheet1!$AA$3:$AA$893,$H$1)","v":10},{"$f":"COUNTIFS(Sheet1!$M$3:$M$893,A25, Sheet1!$AB$3:$AB$893,$I$1)","v":7},{"$f":"COUNTIFS(Sheet1!$M$3:$M$893,A25, Sheet1!$AC$3:$AC$893,\"<>\")","v":0}]
["Latvia",{"$f":"COUNTIF(Sheet1!$M$3:$M$893,A26)","v":10},{"$f":"COUNTIFS(Sheet1!$M$3:$M$893,A26, Sheet1!$V$3:$V$893,$C$1)","v":2},{"$f":"COUNTIFS(Sheet1!$M$3:$M$893,A26, Sheet1!$W$3:$W$893,$D$1)","v":3},{"$f":"COUNTIFS(Sheet1!$M$3:$M$893,A26, Sheet1!$X$3:$X$893,$E$1)","v":6},{"$f":"COUNTIFS(Sheet1!$M$3:$M$893,A26, Sheet1!$Y$3:$Y$893,$F$1)","v":2},{"$f":"COUNTIFS(Sheet1!$M$3:$M$893,A26, Sheet1!$Z$3:$Z$893,$G$1)","v":6},{"$f":"COUNTIFS(Sheet1!$M$3:$M$893,A26, Sheet1!$AA$3:$AA$893,$H$1)","v":6},{"$f":"COUNTIFS(Sheet1!$M$3:$M$893,A26, Sheet1!$AB$3:$AB$893,$I$1)","v":0},{"$f":"COUNTIFS(Sheet1!$M$3:$M$893,A26, Sheet1!$AC$3:$AC$893,\"<>\")","v":0}]
["Lithuania",{"$f":"COUNTIF(Sheet1!$M$3:$M$893,A27)","v":9},{"$f":"COUNTIFS(Sheet1!$M$3:$M$893,A27, Sheet1!$V$3:$V$893,$C$1)","v":1},{"$f":"COUNTIFS(Sheet1!$M$3:$M$893,A27, Sheet1!$W$3:$W$893,$D$1)","v":2},{"$f":"COUNTIFS(Sheet1!$M$3:$M$893,A27, Sheet1!$X$3:$X$893,$E$1)","v":4},{"$f":"COUNTIFS(Sheet1!$M$3:$M$893,A27, Sheet1!$Y$3:$Y$893,$F$1)","v":3},{"$f":"COUNTIFS(Sheet1!$M$3:$M$893,A27, Sheet1!$Z$3:$Z$893,$G$1)","v":3},{"$f":"COUNTIFS(Sheet1!$M$3:$M$893,A27, Sheet1!$AA$3:$AA$893,$H$1)","v":0},{"$f":"COUNTIFS(Sheet1!$M$3:$M$893,A27, Sheet1!$AB$3:$AB$893,$I$1)","v":1},{"$f":"COUNTIFS(Sheet1!$M$3:$M$893,A27, Sheet1!$AC$3:$AC$893,\"<>\")","v":0}]
["Indonesia",{"$f":"COUNTIF(Sheet1!$M$3:$M$893,A28)","v":3},{"$f":"COUNTIFS(Sheet1!$M$3:$M$893,A28, Sheet1!$V$3:$V$893,$C$1)","v":0},{"$f":"COUNTIFS(Sheet1!$M$3:$M$893,A28, Sheet1!$W$3:$W$893,$D$1)","v":2},{"$f":"COUNTIFS(Sheet1!$M$3:$M$893,A28, Sheet1!$X$3:$X$893,$E$1)","v":0},{"$f":"COUNTIFS(Sheet1!$M$3:$M$893,A28, Sheet1!$Y$3:$Y$893,$F$1)","v":1},{"$f":"COUNTIFS(Sheet1!$M$3:$M$893,A28, Sheet1!$Z$3:$Z$893,$G$1)","v":0},{"$f":"COUNTIFS(Sheet1!$M$3:$M$893,A28, Sheet1!$AA$3:$AA$893,$H$1)","v":2},{"$f":"COUNTIFS(Sheet1!$M$3:$M$893,A28, Sheet1!$AB$3:$AB$893,$I$1)","v":0},{"$f":"COUNTIFS(Sheet1!$M$3:$M$893,A28, Sheet1!$AC$3:$AC$893,\"<>\")","v":0}]
["Luxembourg",{"$f":"COUNTIF(Sheet1!$M$3:$M$893,A29)","v":1},{"$f":"COUNTIFS(Sheet1!$M$3:$M$893,A29, Sheet1!$V$3:$V$893,$C$1)","v":0},{"$f":"COUNTIFS(Sheet1!$M$3:$M$893,A29, Sheet1!$W$3:$W$893,$D$1)","v":0},{"$f":"COUNTIFS(Sheet1!$M$3:$M$893,A29, Sheet1!$X$3:$X$893,$E$1)","v":0},{"$f":"COUNTIFS(Sheet1!$M$3:$M$893,A29, Sheet1!$Y$3:$Y$893,$F$1)","v":0},{"$f":"COUNTIFS(Sheet1!$M$3:$M$893,A29, Sheet1!$Z$3:$Z$893,$G$1)","v":0},{"$f":"COUNTIFS(Sheet1!$M$3:$M$893,A29, Sheet1!$AA$3:$AA$893,$H$1)","v":0},{"$f":"COUNTIFS(Sheet1!$M$3:$M$893,A29, Sheet1!$AB$3:$AB$893,$I$1)","v":0},{"$f":"COUNTIFS(Sheet1!$M$3:$M$893,A29, Sheet1!$AC$3:$AC$893,\"<>\")","v":0}]
["Malta",{"$f":"COUNTIF(Sheet1!$M$3:$M$893,A30)","v":7},{"$f":"COUNTIFS(Sheet1!$M$3:$M$893,A30, Sheet1!$V$3:$V$893,$C$1)","v":2},{"$f":"COUNTIFS(Sheet1!$M$3:$M$893,A30, Sheet1!$W$3:$W$893,$D$1)","v":1},{"$f":"COUNTIFS(Sheet1!$M$3:$M$893,A30, Sheet1!$X$3:$X$893,$E$1)","v":4},{"$f":"COUNTIFS(Sheet1!$M$3:$M$893,A30, Sheet1!$Y$3:$Y$893,$F$1)","v":2},{"$f":"COUNTIFS(Sheet1!$M$3:$M$893,A30, Sheet1!$Z$3:$Z$893,$G$1)","v":4},{"$f":"COUNTIFS(Sheet1!$M$3:$M$893,A30, Sheet1!$AA$3:$AA$893,$H$1)","v":2},{"$f":"COUNTIFS(Sheet1!$M$3:$M$893,A30, Sheet1!$AB$3:$AB$893,$I$1)","v":1},{"$f":"COUNTIFS(Sheet1!$M$3:$M$893,A30, Sheet1!$AC$3:$AC$893,\"<>\")","v":0}]
["Netherlands",{"$f":"COUNTIF(Sheet1!$M$3:$M$893,A31)","v":35},{"$f":"COUNTIFS(Sheet1!$M$3:$M$893,A31, Sheet1!$V$3:$V$893,$C$1)","v":0},{"$f":"COUNTIFS(Sheet1!$M$3:$M$893,A31, Sheet1!$W$3:$W$893,$D$1)","v":12},{"$f":"COUNTIFS(Sheet1!$M$3:$M$893,A31, Sheet1!$X$3:$X$893,$E$1)","v":1},{"$f":"COUNTIFS(Sheet1!$M$3:$M$893,A31, Sheet1!$Y$3:$Y$893,$F$1)","v":23},{"$f":"COUNTIFS(Sheet1!$M$3:$M$893,A31, Sheet1!$Z$3:$Z$893,$G$1)","v":20},{"$f":"COUNTIFS(Sheet1!$M$3:$M$893,A31, Sheet1!$AA$3:$AA$893,$H$1)","v":14},{"$f":"COUNTIFS(Sheet1!$M$3:$M$893,A31, Sheet1!$AB$3:$AB$893,$I$1)","v":1},{"$f":"COUNTIFS(Sheet1!$M$3:$M$893,A31, Sheet1!$AC$3:$AC$893,\"<>\")","v":6}]
["Norway",{"$f":"COUNTIF(Sheet1!$M$3:$M$893,A32)","v":11},{"$f":"COUNTIFS(Sheet1!$M$3:$M$893,A32, Sheet1!$V$3:$V$893,$C$1)","v":0},{"$f":"COUNTIFS(Sheet1!$M$3:$M$893,A32, Sheet1!$W$3:$W$893,$D$1)","v":1},{"$f":"COUNTIFS(Sheet1!$M$3:$M$893,A32, Sheet1!$X$3:$X$893,$E$1)","v":0},{"$f":"COUNTIFS(Sheet1!$M$3:$M$893,A32, Sheet1!$Y$3:$Y$893,$F$1)","v":4},{"$f":"COUNTIFS(Sheet1!$M$3:$M$893,A32, Sheet1!$Z$3:$Z$893,$G$1)","v":6},{"$f":"COUNTIFS(Sheet1!$M$3:$M$893,A32, Sheet1!$AA$3:$AA$893,$H$1)","v":5},{"$f":"COUNTIFS(Sheet1!$M$3:$M$893,A32, Sheet1!$AB$3:$AB$893,$I$1)","v":2},{"$f":"COUNTIFS(Sheet1!$M$3:$M$893,A32, Sheet1!$AC$3:$AC$893,\"<>\")","v":4}]
["Poland",{"$f":"COUNTIF(Sheet1!$M$3:$M$893,A33)","v":15},{"$f":"COUNTIFS(Sheet1!$M$3:$M$893,A33, Sheet1!$V$3:$V$893,$C$1)","v":0},{"$f":"COUNTIFS(Sheet1!$M$3:$M$893,A33, Sheet1!$W$3:$W$893,$D$1)","v":1},{"$f":"COUNTIFS(Sheet1!$M$3:$M$893,A33, Sheet1!$X$3:$X$893,$E$1)","v":0},{"$f":"COUNTIFS(Sheet1!$M$3:$M$893,A33, Sheet1!$Y$3:$Y$893,$F$1)","v":1},{"$f":"COUNTIFS(Sheet1!$M$3:$M$893,A33, Sheet1!$Z$3:$Z$893,$G$1)","v":7},{"$f":"COUNTIFS(Sheet1!$M$3:$M$893,A33, Sheet1!$AA$3:$AA$893,$H$1)","v":3},{"$f":"COUNTIFS(Sheet1!$M$3:$M$893,A33, Sheet1!$AB$3:$AB$893,$I$1)","v":1},{"$f":"COUNTIFS(Sheet1!$M$3:$M$893,A33, Sheet1!$AC$3:$AC$893,\"<>\")","v":0}]
["Portugal",{"$f":"COUNTIF(Sheet1!$M$3:$M$893,A34)","v":57},{"$f":"COUNTIFS(Sheet1!$M$3:$M$893,A34, Sheet1!$V$3:$V$893,$C$1)","v":0},{"$f":"COUNTIFS(Sheet1!$M$3:$M$893,A34, Sheet1!$W$3:$W$893,$D$1)","v":5},{"$f":"COUNTIFS(Sheet1!$M$3:$M$893,A34, Sheet1!$X$3:$X$893,$E$1)","v":5},{"$f":"COUNTIFS(Sheet1!$M$3:$M$893,A34, Sheet1!$Y$3:$Y$893,$F$1)","v":18},{"$f":"COUNTIFS(Sheet1!$M$3:$M$893,A34, Sheet1!$Z$3:$Z$893,$G$1)","v":21},{"$f":"COUNTIFS(Sheet1!$M$3:$M$893,A34, Sheet1!$AA$3:$AA$893,$H$1)","v":20},{"$f":"COUNTIFS(Sheet1!$M$3:$M$893,A34, Sheet1!$AB$3:$AB$893,$I$1)","v":4},{"$f":"COUNTIFS(Sheet1!$M$3:$M$893,A34, Sheet1!$AC$3:$AC$893,\"<>\")","v":1}]
["Republic of Moldova",{"$f":"COUNTIF(Sheet1!$M$3:$M$893,A35)","v":4},{"$f":"COUNTIFS(Sheet1!$M$3:$M$893,A35, Sheet1!$V$3:$V$893,$C$1)","v":0},{"$f":"COUNTIFS(Sheet1!$M$3:$M$893,A35, Sheet1!$W$3:$W$893,$D$1)","v":2},{"$f":"COUNTIFS(Sheet1!$M$3:$M$893,A35, Sheet1!$X$3:$X$893,$E$1)","v":2},{"$f":"COUNTIFS(Sheet1!$M$3:$M$893,A35, Sheet1!$Y$3:$Y$893,$F$1)","v":2},{"$f":"COUNTIFS(Sheet1!$M$3:$M$893,A35, Sheet1!$Z$3:$Z$893,$G$1)","v":2},{"$f":"COUNTIFS(Sheet1!$M$3:$M$893,A35, Sheet1!$AA$3:$AA$893,$H$1)","v":3},{"$f":"COUNTIFS(Sheet1!$M$3:$M$893,A35, Sheet1!$AB$3:$AB$893,$I$1)","v":0},{"$f":"COUNTIFS(Sheet1!$M$3:$M$893,A35, Sheet1!$AC$3:$AC$893,\"<>\")","v":0}]
["Romania",{"$f":"COUNTIF(Sheet1!$M$3:$M$893,A36)","v":25},{"$f":"COUNTIFS(Sheet1!$M$3:$M$893,A36, Sheet1!$V$3:$V$893,$C$1)","v":2},{"$f":"COUNTIFS(Sheet1!$M$3:$M$893,A36, Sheet1!$W$3:$W$893,$D$1)","v":8},{"$f":"COUNTIFS(Sheet1!$M$3:$M$893,A36, Sheet1!$X$3:$X$893,$E$1)","v":3},{"$f":"COUNTIFS(Sheet1!$M$3:$M$893,A36, Sheet1!$Y$3:$Y$893,$F$1)","v":5},{"$f":"COUNTIFS(Sheet1!$M$3:$M$893,A36, Sheet1!$Z$3:$Z$893,$G$1)","v":7},{"$f":"COUNTIFS(Sheet1!$M$3:$M$893,A36, Sheet1!$AA$3:$AA$893,$H$1)","v":11},{"$f":"COUNTIFS(Sheet1!$M$3:$M$893,A36, Sheet1!$AB$3:$AB$893,$I$1)","v":1},{"$f":"COUNTIFS(Sheet1!$M$3:$M$893,A36, Sheet1!$AC$3:$AC$893,\"<>\")","v":1}]
["Russian Federation",{"$f":"COUNTIF(Sheet1!$M$3:$M$893,A37)","v":11},{"$f":"COUNTIFS(Sheet1!$M$3:$M$893,A37, Sheet1!$V$3:$V$893,$C$1)","v":2},{"$f":"COUNTIFS(Sheet1!$M$3:$M$893,A37, Sheet1!$W$3:$W$893,$D$1)","v":5},{"$f":"COUNTIFS(Sheet1!$M$3:$M$893,A37, Sheet1!$X$3:$X$893,$E$1)","v":1},{"$f":"COUNTIFS(Sheet1!$M$3:$M$893,A37, Sheet1!$Y$3:$Y$893,$F$1)","v":0},{"$f":"COUNTIFS(Sheet1!$M$3:$M$893,A37, Sheet1!$Z$3:$Z$893,$G$1)","v":6},{"$f":"COUNTIFS(Sheet1!$M$3:$M$893,A37, Sheet1!$AA$3:$AA$893,$H$1)","v":4},{"$f":"COUNTIFS(Sheet1!$M$3:$M$893,A37, Sheet1!$AB$3:$AB$893,$I$1)","v":1},{"$f":"COUNTIFS(Sheet1!$M$3:$M$893,A37, Sheet1!$AC$3:$AC$893,\"<>\")","v":0}]
["Serbia",{"$f":"COUNTIF(Sheet1!$M$3:$M$893,A38)","v":31},{"$f":"COUNTIFS(Sheet1!$M$3:$M$893,A38, Sheet1!$V$3:$V$893,$C$1)","v":2},{"$f":"COUNTIFS(Sheet1!$M$3:$M$893,A38, Sheet1!$W$3:$W$893,$D$1)","v":2},{"$f":"COUNTIFS(Sheet1!$M$3:$M$893,A38, Sheet1!$X$3:$X$893,$E$1)","v":0},{"$f":"COUNTIFS(Sheet1!$M$3:$M$893,A38, Sheet1!$Y$3:$Y$893,$F$1)","v":1},{"$f":"COUNTIFS(Sheet1!$M$3:$M$893,A38, Sheet1!$Z$3:$Z$893,$G$1)","v":4},{"$f":"COUNTIFS(Sheet1!$M$3:$M$893,A38, Sheet1!$AA$3:$AA$893,$H$1)","v":5},{"$f":"COUNTIFS(Sheet1!$M$3:$M$893,A38, Sheet1!$AB$3:$AB$893,$I$1)","v":6},{"$f":"COUNTIFS(Sheet1!$M$3:$M$893,A38, Sheet1!$AC$3:$AC$893,\"<>\")","v":1}]
["Slovakia",{"$f":"COUNTIF(Sheet1!$M$3:$M$893,A39)","v":3},{"$f":"COUNTIFS(Sheet1!$M$3:$M$893,A39, Sheet1!$V$3:$V$893,$C$1)","v":0},{"$f":"COUNTIFS(Sheet1!$M$3:$M$893,A39, Sheet1!$W$3:$W$893,$D$1)","v":1},{"$f":"COUNTIFS(Sheet1!$M$3:$M$893,A39, Sheet1!$X$3:$X$893,$E$1)","v":0},{"$f":"COUNTIFS(Sheet1!$M$3:$M$893,A39, Sheet1!$Y$3:$Y$893,$F$1)","v":0},{"$f":"COUNTIFS(Sheet1!$M$3:$M$893,A39, Sheet1!$Z$3:$Z$893,$G$1)","v":0},{"$f":"COUNTIFS(Sheet1!$M$3:$M$893,A39, Sheet1!$AA$3:$AA$893,$H$1)","v":2},{"$f":"COUNTIFS(Sheet1!$M$3:$M$893,A39, Sheet1!$AB$3:$AB$893,$I$1)","v":0},{"$f":"COUNTIFS(Sheet1!$M$3:$M$893,A39, Sheet1!$AC$3:$AC$893,\"<>\")","v":0}]
["Slovenia",{"$f":"COUNTIF(Sheet1!$M$3:$M$893,A40)","v":7},{"$f":"COUNTIFS(Sheet1!$M$3:$M$893,A40, Sheet1!$V$3:$V$893,$C$1)","v":0},{"$f":"COUNTIFS(Sheet1!$M$3:$M$893,A40, Sheet1!$W$3:$W$893,$D$1)","v":1},{"$f":"COUNTIFS(Sheet1!$M$3:$M$893,A40, Sheet1!$X$3:$X$893,$E$1)","v":2},{"$f":"COUNTIFS(Sheet1!$M$3:$M$893,A40, Sheet1!$Y$3:$Y$893,$F$1)","v":2},{"$f":"COUNTIFS(Sheet1!$M$3:$M$893,A40, Sheet1!$Z$3:$Z$893,$G$1)","v":4},{"$f":"COUNTIFS(Sheet1!$M$3:$M$893,A40, Sheet1!$AA$3:$AA$893,$H$1)","v":4},{"$f":"COUNTIFS(Sheet1!$M$3:$M$893,A40, Sheet1!$AB$3:$AB$893,$I$1)","v":0},{"$f":"COUNTIFS(Sheet1!$M$3:$M$893,A40, Sheet1!$AC$3:$AC$893,\"<>\")","v":0}]
["Spain",{"$f":"COUNTIF(Sheet1!$M$3:$M$893,A41)","v":51},{"$f":"COUNTIFS(Sheet1!$M$3:$M$893,A41, Sheet1!$V$3:$V$893,$C$1)","v":1},{"$f":"COUNTIFS(Sheet1!$M$3:$M$893,A41, Sheet1!$W$3:$W$893,$D$1)","v":1},{"$f":"COUNTIFS(Sheet1!$M$3:$M$893,A41, Sheet1!$X$3:$X$893,$E$1)","v":1},{"$f":"COUNTIFS(Sheet1!$M$3:$M$893,A41, Sheet1!$Y$3:$Y$893,$F$1)","v":6},{"$f":"COUNTIFS(Sheet1!$M$3:$M$893,A41, Sheet1!$Z$3:$Z$893,$G$1)","v":20},{"$f":"COUNTIFS(Sheet1!$M$3:$M$893,A41, Sheet1!$AA$3:$AA$893,$H$1)","v":18},{"$f":"COUNTIFS(Sheet1!$M$3:$M$893,A41, Sheet1!$AB$3:$AB$893,$I$1)","v":7},{"$f":"COUNTIFS(Sheet1!$M$3:$M$893,A41, Sheet1!$AC$3:$AC$893,\"<>\")","v":2}]
["Sweden",{"$f":"COUNTIF(Sheet1!$M$3:$M$893,A42)","v":17},{"$f":"COUNTIFS(Sheet1!$M$3:$M$893,A42, Sheet1!$V$3:$V$893,$C$1)","v":1},{"$f":"COUNTIFS(Sheet1!$M$3:$M$893,A42, Sheet1!$W$3:$W$893,$D$1)","v":1},{"$f":"COUNTIFS(Sheet1!$M$3:$M$893,A42, Sheet1!$X$3:$X$893,$E$1)","v":2},{"$f":"COUNTIFS(Sheet1!$M$3:$M$893,A42, Sheet1!$Y$3:$Y$893,$F$1)","v":1},{"$f":"COUNTIFS(Sheet1!$M$3:$M$893,A42, Sheet1!$Z$3:$Z$893,$G$1)","v":8},{"$f":"COUNTIFS(Sheet1!$M$3:$M$893,A42, Sheet1!$AA$3:$AA$893,$H$1)","v":6},{"$f":"COUNTIFS(Sheet1!$M$3:$M$893,A42, Sheet1!$AB$3:$AB$893,$I$1)","v":5},{"$f":"COUNTIFS(Sheet1!$M$3:$M$893,A42, Sheet1!$AC$3:$AC$893,\"<>\")","v":4}]
["Switzerland",{"$f":"COUNTIF(Sheet1!$M$3:$M$893,A43)","v":29},{"$f":"COUNTIFS(Sheet1!$M$3:$M$893,A43, Sheet1!$V$3:$V$893,$C$1)","v":3},{"$f":"COUNTIFS(Sheet1!$M$3:$M$893,A43, Sheet1!$W$3:$W$893,$D$1)","v":2},{"$f":"COUNTIFS(Sheet1!$M$3:$M$893,A43, Sheet1!$X$3:$X$893,$E$1)","v":0},{"$f":"COUNTIFS(Sheet1!$M$3:$M$893,A43, Sheet1!$Y$3:$Y$893,$F$1)","v":9},{"$f":"COUNTIFS(Sheet1!$M$3:$M$893,A43, Sheet1!$Z$3:$Z$893,$G$1)","v":15},{"$f":"COUNTIFS(Sheet1!$M$3:$M$893,A43, Sheet1!$AA$3:$AA$893,$H$1)","v":13},{"$f":"COUNTIFS(Sheet1!$M$3:$M$893,A43, Sheet1!$AB$3:$AB$893,$I$1)","v":2},{"$f":"COUNTIFS(Sheet1!$M$3:$M$893,A43, Sheet1!$AC$3:$AC$893,\"<>\")","v":3}]
["The former Yugoslav Republic of Macedonia",{"$f":"COUNTIF(Sheet1!$M$3:$M$893,A44)","v":5},{"$f":"COUNTIFS(Sheet1!$M$3:$M$893,A44, Sheet1!$V$3:$V$893,$C$1)","v":1},{"$f":"COUNTIFS(Sheet1!$M$3:$M$893,A44, Sheet1!$W$3:$W$893,$D$1)","v":0},{"$f":"COUNTIFS(Sheet1!$M$3:$M$893,A44, Sheet1!$X$3:$X$893,$E$1)","v":4},{"$f":"COUNTIFS(Sheet1!$M$3:$M$893,A44, Sheet1!$Y$3:$Y$893,$F$1)","v":0},{"$f":"COUNTIFS(Sheet1!$M$3:$M$893,A44, Sheet1!$Z$3:$Z$893,$G$1)","v":3},{"$f":"COUNTIFS(Sheet1!$M$3:$M$893,A44, Sheet1!$AA$3:$AA$893,$H$1)","v":1},{"$f":"COUNTIFS(Sheet1!$M$3:$M$893,A44, Sheet1!$AB$3:$AB$893,$I$1)","v":0},{"$f":"COUNTIFS(Sheet1!$M$3:$M$893,A44, Sheet1!$AC$3:$AC$893,\"<>\")","v":0}]
["Turkey",{"$f":"COUNTIF(Sheet1!$M$3:$M$893,A45)","v":58},{"$f":"COUNTIFS(Sheet1!$M$3:$M$893,A45, Sheet1!$V$3:$V$893,$C$1)","v":4},{"$f":"COUNTIFS(Sheet1!$M$3:$M$893,A45, Sheet1!$W$3:$W$893,$D$1)","v":19},{"$f":"COUNTIFS(Sheet1!$M$3:$M$893,A45, Sheet1!$X$3:$X$893,$E$1)","v":12},{"$f":"COUNTIFS(Sheet1!$M$3:$M$893,A45, Sheet1!$Y$3:$Y$893,$F$1)","v":8},{"$f":"COUNTIFS(Sheet1!$M$3:$M$893,A45, Sheet1!$Z$3:$Z$893,$G$1)","v":28},{"$f":"COUNTIFS(Sheet1!$M$3:$M$893,A45, Sheet1!$AA$3:$AA$893,$H$1)","v":14},{"$f":"COUNTIFS(Sheet1!$M$3:$M$893,A45, Sheet1!$AB$3:$AB$893,$I$1)","v":6},{"$f":"COUNTIFS(Sheet1!$M$3:$M$893,A45, Sheet1!$AC$3:$AC$893,\"<>\")","v":1}]
["Ukraine",{"$f":"COUNTIF(Sheet1!$M$3:$M$893,A46)","v":7},{"$f":"COUNTIFS(Sheet1!$M$3:$M$893,A46, Sheet1!$V$3:$V$893,$C$1)","v":4},{"$f":"COUNTIFS(Sheet1!$M$3:$M$893,A46, Sheet1!$W$3:$W$893,$D$1)","v":1},{"$f":"COUNTIFS(Sheet1!$M$3:$M$893,A46, Sheet1!$X$3:$X$893,$E$1)","v":2},{"$f":"COUNTIFS(Sheet1!$M$3:$M$893,A46, Sheet1!$Y$3:$Y$893,$F$1)","v":1},{"$f":"COUNTIFS(Sheet1!$M$3:$M$893,A46, Sheet1!$Z$3:$Z$893,$G$1)","v":1},{"$f":"COUNTIFS(Sheet1!$M$3:$M$893,A46, Sheet1!$AA$3:$AA$893,$H$1)","v":2},{"$f":"COUNTIFS(Sheet1!$M$3:$M$893,A46, Sheet1!$AB$3:$AB$893,$I$1)","v":0},{"$f":"COUNTIFS(Sheet1!$M$3:$M$893,A46, Sheet1!$AC$3:$AC$893,\"<>\")","v":0}]
["United Kingdom of Great Britain and Northern Ireland",{"$f":"COUNTIF(Sheet1!$M$3:$M$893,A47)","v":32},{"$f":"COUNTIFS(Sheet1!$M$3:$M$893,A47, Sheet1!$V$3:$V$893,$C$1)","v":0},{"$f":"COUNTIFS(Sheet1!$M$3:$M$893,A47, Sheet1!$W$3:$W$893,$D$1)","v":9},{"$f":"COUNTIFS(Sheet1!$M$3:$M$893,A47, Sheet1!$X$3:$X$893,$E$1)","v":2},{"$f":"COUNTIFS(Sheet1!$M$3:$M$893,A47, Sheet1!$Y$3:$Y$893,$F$1)","v":11},{"$f":"COUNTIFS(Sheet1!$M$3:$M$893,A47, Sheet1!$Z$3:$Z$893,$G$1)","v":14},{"$f":"COUNTIFS(Sheet1!$M$3:$M$893,A47, Sheet1!$AA$3:$AA$893,$H$1)","v":8},{"$f":"COUNTIFS(Sheet1!$M$3:$M$893,A47, Sheet1!$AB$3:$AB$893,$I$1)","v":3},{"$f":"COUNTIFS(Sheet1!$M$3:$M$893,A47, Sheet1!$AC$3:$AC$893,\"<>\")","v":3}]
["Azerbaijan",{"$f":"COUNTIF(Sheet1!$M$3:$M$893,A48)","v":1},{"$f":"COUNTIFS(Sheet1!$M$3:$M$893,A48, Sheet1!$V$3:$V$893,$C$1)","v":0},{"$f":"COUNTIFS(Sheet1!$M$3:$M$893,A48, Sheet1!$W$3:$W$893,$D$1)","v":0},{"$f":"COUNTIFS(Sheet1!$M$3:$M$893,A48, Sheet1!$X$3:$X$893,$E$1)","v":0},{"$f":"COUNTIFS(Sheet1!$M$3:$M$893,A48, Sheet1!$Y$3:$Y$893,$F$1)","v":0},{"$f":"COUNTIFS(Sheet1!$M$3:$M$893,A48, Sheet1!$Z$3:$Z$893,$G$1)","v":0},{"$f":"COUNTIFS(Sheet1!$M$3:$M$893,A48, Sheet1!$AA$3:$AA$893,$H$1)","v":0},{"$f":"COUNTIFS(Sheet1!$M$3:$M$893,A48, Sheet1!$AB$3:$AB$893,$I$1)","v":0},{"$f":"COUNTIFS(Sheet1!$M$3:$M$893,A48, Sheet1!$AC$3:$AC$893,\"<>\")","v":0}]
["Sum",{"$f":"SUM(B2:B48)","v":719},42,116,80,164,309,259,85,{"$f":"SUM(J2:J48)","v":53}]

{"sheet":"13. Pitanje","index":6,"n_rows":49,"n_cols":7,"rows_kept":49}
["13. Is there any current training in medical education (how to teach) as a part of the residency program in your country?","Ukupan broj","Yes","No","Yes, some elements, but not systematically","No, but students are exposed to outcome based teaching","Other (please specify)"]
["Albania",{"$f":"COUNTIF(Sheet1!$M$3:$M$893,A2)","v":6},{"$f":"COUNTIFS(Sheet1!$M$3:$M$893,A2, Sheet1!$AD$3:$AD$893,$C$1)","v":2},{"$f":"COUNTIFS(Sheet1!$M$3:$M$893,A2, Sheet1!$AD$3:$AD$893,$D$1)","v":1},{"$f":"COUNTIFS(Sheet1!$M$3:$M$893,A2, Sheet1!$AD$3:$AD$893,$E$1)","v":0},{"$f":"COUNTIFS(Sheet1!$M$3:$M$893,A2, Sheet1!$AD$3:$AD$893,$F$1)","v":0},{"$f":"COUNTIFS(Sheet1!$M$3:$M$893,A2, Sheet1!$AD$3:$AD$893,$G$1)","v":0}]
["Armenia",{"$f":"COUNTIF(Sheet1!$M$3:$M$893,A3)","v":1},{"$f":"COUNTIFS(Sheet1!$M$3:$M$893,A3, Sheet1!$AD$3:$AD$893,$C$1)","v":0},{"$f":"COUNTIFS(Sheet1!$M$3:$M$893,A3, Sheet1!$AD$3:$AD$893,$D$1)","v":1},{"$f":"COUNTIFS(Sheet1!$M$3:$M$893,A3, Sheet1!$AD$3:$AD$893,$E$1)","v":0},{"$f":"COUNTIFS(Sheet1!$M$3:$M$893,A3, Sheet1!$AD$3:$AD$893,$F$1)","v":0},{"$f":"COUNTIFS(Sheet1!$M$3:$M$893,A3, Sheet1!$AD$3:$AD$893,$G$1)","v":0}]
["Austria",{"$f":"COUNTIF(Sheet1!$M$3:$M$893,A4)","v":15},{"$f":"COUNTIFS(Sheet1!$M$3:$M$893,A4, Sheet1!$AD$3:$AD$893,$C$1)","v":0},{"$f":"COUNTIFS(Sheet1!$M$3:$M$893,A4, Sheet1!$AD$3:$AD$893,$D$1)","v":7},{"$f":"COUNTIFS(Sheet1!$M$3:$M$893,A4, Sheet1!$AD$3:$AD$893,$E$1)","v":5},{"$f":"COUNTIFS(Sheet1!$M$3:$M$893,A4, Sheet1!$AD$3:$AD$893,$F$1)","v":1},{"$f":"COUNTIFS(Sheet1!$M$3:$M$893,A4, Sheet1!$AD$3:$AD$893,$G$1)","v":0}]
["Belarus",{"$f":"COUNTIF(Sheet1!$M$3:$M$893,A5)","v":1},{"$f":"COUNTIFS(Sheet1!$M$3:$M$893,A5, Sheet1!$AD$3:$AD$893,$C$1)","v":0},{"$f":"COUNTIFS(Sheet1!$M$3:$M$893,A5, Sheet1!$AD$3:$AD$893,$D$1)","v":1},{"$f":"COUNTIFS(Sheet1!$M$3:$M$893,A5, Sheet1!$AD$3:$AD$893,$E$1)","v":0},{"$f":"COUNTIFS(Sheet1!$M$3:$M$893,A5, Sheet1!$AD$3:$AD$893,$F$1)","v":0},{"$f":"COUNTIFS(Sheet1!$M$3:$M$893,A5, Sheet1!$AD$3:$AD$893,$G$1)","v":0}]
["Belgium",{"$f":"COUNTIF(Sheet1!$M$3:$M$893,A6)","v":30},{"$f":"COUNTIFS(Sheet1!$M$3:$M$893,A6, Sheet1!$AD$3:$AD$893,$C$1)","v":8},{"$f":"COUNTIFS(Sheet1!$M$3:$M$893,A6, Sheet1!$AD$3:$AD$893,$D$1)","v":12},{"$f":"COUNTIFS(Sheet1!$M$3:$M$893,A6, Sheet1!$AD$3:$AD$893,$E$1)","v":4},{"$f":"COUNTIFS(Sheet1!$M$3:$M$893,A6, Sheet1!$AD$3:$AD$893,$F$1)","v":1},{"$f":"COUNTIFS(Sheet1!$M$3:$M$893,A6, Sheet1!$AD$3:$AD$893,$G$1)","v":1}]
["Bosnia and Herzegovina",{"$f":"COUNTIF(Sheet1!$M$3:$M$893,A7)","v":4},{"$f":"COUNTIFS(Sheet1!$M$3:$M$893,A7, Sheet1!$AD$3:$AD$893,$C$1)","v":0},{"$f":"COUNTIFS(Sheet1!$M$3:$M$893,A7, Sheet1!$AD$3:$AD$893,$D$1)","v":4},{"$f":"COUNTIFS(Sheet1!$M$3:$M$893,A7, Sheet1!$AD$3:$AD$893,$E$1)","v":0},{"$f":"COUNTIFS(Sheet1!$M$3:$M$893,A7, Sheet1!$AD$3:$AD$893,$F$1)","v":0},{"$f":"COUNTIFS(Sheet1!$M$3:$M$893,A7, Sheet1!$AD$3:$AD$893,$G$1)","v":0}]
["Bulgaria",{"$f":"COUNTIF(Sheet1!$M$3:$M$893,A8)","v":3},{"$f":"COUNTIFS(Sheet1!$M$3:$M$893,A8, Sheet1!$AD$3:$AD$893,$C$1)","v":1},{"$f":"COUNTIFS(Sheet1!$M$3:$M$893,A8, Sheet1!$AD$3:$AD$893,$D$1)","v":0},{"$f":"COUNTIFS(Sheet1!$M$3:$M$893,A8, Sheet1!$AD$3:$AD$893,$E$1)","v":1},{"$f":"COUNTIFS(Sheet1!$M$3:$M$893,A8, Sheet1!$AD$3:$AD$893,$F$1)","v":1},{"$f":"COUNTIFS(Sheet1!$M$3:$M$893,A8, Sheet1!$AD$3:$AD$893,$G$1)","v":0}]
["Croatia",{"$f":"COUNTIF(Sheet1!$M$3:$M$893,A9)","v":15},{"$f":"COUNTIFS(Sheet1!$M$3:$M$893,A9, Sheet1!$AD$3:$AD$893,$C$1)","v":0},{"$f":"COUNTIFS(Sheet1!$M$3:$M$893,A9, Sheet1!$AD$3:$AD$893,$D$1)","v":5},{"$f":"COUNTIFS(Sheet1!$M$3:$M$893,A9, Sheet1!$AD$3:$AD$893,$E$1)","v":4},{"$f":"COUNTIFS(Sheet1!$M$3:$M$893,A9, Sheet1!$AD$3:$AD$893,$F$1)","v":0},{"$f":"COUNTIFS(Sheet1!$M$3:$M$893,A9, Sheet1!$AD$3:$AD$893,$G$1)","v":0}]
["Cyprus",{"$f":"COUNTIF(Sheet1!$M$3:$M$893,A10)","v":4},{"$f":"COUNTIFS(Sheet1!$M$3:$M$893,A10, Sheet1!$AD$3:$AD$893,$C$1)","v":0},{"$f":"COUNTIFS(Sheet1!$M$3:$M$893,A10, Sheet1!$AD$3:$AD$893,$D$1)","v":0},{"$f":"COUNTIFS(Sheet1!$M$3:$M$893,A10, Sheet1!$AD$3:$AD$893,$E$1)","v":0},{"$f":"COUNTIFS(Sheet1!$M$3:$M$893,A10, Sheet1!$AD$3:$AD$893,$F$1)","v":0},{"$f":"COUNTIFS(Sheet1!$M$3:$M$893,A10, Sheet1!$AD$3:$AD$893,$G$1)","v":0}]
["Czech Republic",{"$f":"COUNTIF(Sheet1!$M$3:$M$893,A11)","v":5},{"$f":"COUNTIFS(Sheet1!$M$3:$M$893,A11, Sheet1!$AD$3:$AD$893,$C$1)","v":0},{"$f":"COUNTIFS(Sheet1!$M$3:$M$893,A11, Sheet1!$AD$3:$AD$893,$D$1)","v":3},{"$f":"COUNTIFS(Sheet1!$M$3:$M$893,A11, Sheet1!$AD$3:$AD$893,$E$1)","v":1},{"$f":"COUNTIFS(Sheet1!$M$3:$M$893,A11, Sheet1!$AD$3:$AD$893,$F$1)","v":0},{"$f":"COUNTIFS(Sheet1!$M$3:$M$893,A11, Sheet1!$AD$3:$AD$893,$G$1)","v":0}]
["Denmark",{"$f":"COUNTIF(Sheet1!$M$3:$M$893,A12)","v":7},{"$f":"COUNTIFS(Sheet1!$M$3:$M$893,A12, Sheet1!$AD$3:$AD$893,$C$1)","v":3},{"$f":"COUNTIFS(Sheet1!$M$3:$M$893,A12, Sheet1!$AD$3:$AD$893,$D$1)","v":3},{"$f":"COUNTIFS(Sheet1!$M$3:$M$893,A12, Sheet1!$AD$3:$AD$893,$E$1)","v":0},{"$f":"COUNTIFS(Sheet1!$M$3:$M$893,A12, Sheet1!$AD$3:$AD$893,$F$1)","v":0},{"$f":"COUNTIFS(Sheet1!$M$3:$M$893,A12, Sheet1!$AD$3:$AD$893,$G$1)","v":0}]
["Estonia",{"$f":"COUNTIF(Sheet1!$M$3:$M$893,A13)","v":3},{"$f":"COUNTIFS(Sheet1!$M$3:$M$893,A13, Sheet1!$AD$3:$AD$893,$C$1)","v":0},{"$f":"COUNTIFS(Sheet1!$M$3:$M$893,A13, Sheet1!$AD$3:$AD$893,$D$1)","v":1},{"$f":"COUNTIFS(Sheet1!$M$3:$M$893,A13, Sheet1!$AD$3:$AD$893,$E$1)","v":1},{"$f":"COUNTIFS(Sheet1!$M$3:$M$893,A13, Sheet1!$AD$3:$AD$893,$F$1)","v":1},{"$f":"COUNTIFS(Sheet1!$M$3:$M$893,A13, Sheet1!$AD$3:$AD$893,$G$1)","v":0}]
["Finland",{"$f":"COUNTIF(Sheet1!$M$3:$M$893,A14)","v":8},{"$f":"COUNTIFS(Sheet1!$M$3:$M$893,A14, Sheet1!$AD$3:$AD$893,$C$1)","v":0},{"$f":"COUNTIFS(Sheet1!$M$3:$M$893,A14, Sheet1!$AD$3:$AD$893,$D$1)","v":5},{"$f":"COUNTIFS(Sheet1!$M$3:$M$893,A14, Sheet1!$AD$3:$AD$893,$E$1)","v":3},{"$f":"COUNTIFS(Sheet1!$M$3:$M$893,A14, Sheet1!$AD$3:$AD$893,$F$1)","v":0},{"$f":"COUNTIFS(Sheet1!$M$3:$M$893,A14, Sheet1!$AD$3:$AD$893,$G$1)","v":0}]
["Uzbekistan",{"$f":"COUNTIF(Sheet1!$M$3:$M$893,A15)","v":1},{"$f":"COUNTIFS(Sheet1!$M$3:$M$893,A15, Sheet1!$AD$3:$AD$893,$C$1)","v":1},{"$f":"COUNTIFS(Sheet1!$M$3:$M$893,A15, Sheet1!$AD$3:$AD$893,$D$1)","v":0},{"$f":"COUNTIFS(Sheet1!$M$3:$M$893,A15, Sheet1!$AD$3:$AD$893,$E$1)","v":0},{"$f":"COUNTIFS(Sheet1!$M$3:$M$893,A15, Sheet1!$AD$3:$AD$893,$F$1)","v":0},{"$f":"COUNTIFS(Sheet1!$M$3:$M$893,A15, Sheet1!$AD$3:$AD$893,$G$1)","v":0}]
["France",{"$f":"COUNTIF(Sheet1!$M$3:$M$893,A16)","v":14},{"$f":"COUNTIFS(Sheet1!$M$3:$M$893,A16, Sheet1!$AD$3:$AD$893,$C$1)","v":0},{"$f":"COUNTIFS(Sheet1!$M$3:$M$893,A16, Sheet1!$AD$3:$AD$893,$D$1)","v":4},{"$f":"COUNTIFS(Sheet1!$M$3:$M$893,A16, Sheet1!$AD$3:$AD$893,$E$1)","v":3},{"$f":"COUNTIFS(Sheet1!$M$3:$M$893,A16, Sheet1!$AD$3:$AD$893,$F$1)","v":1},{"$f":"COUNTIFS(Sheet1!$M$3:$M$893,A16, Sheet1!$AD$3:$AD$893,$G$1)","v":1}]
["Israel",{"$f":"COUNTIF(Sheet1!$M$3:$M$893,A17)","v":12},{"$f":"COUNTIFS(Sheet1!$M$3:$M$893,A17, Sheet1!$AD$3:$AD$893,$C$1)","v":0},{"$f":"COUNTIFS(Sheet1!$M$3:$M$893,A17, Sheet1!$AD$3:$AD$893,$D$1)","v":8},{"$f":"COUNTIFS(Sheet1!$M$3:$M$893,A17, Sheet1!$AD$3:$AD$893,$E$1)","v":1},{"$f":"COUNTIFS(Sheet1!$M$3:$M$893,A17, Sheet1!$AD$3:$AD$893,$F$1)","v":0},{"$f":"COUNTIFS(Sheet1!$M$3:$M$893,A17, Sheet1!$AD$3:$AD$893,$G$1)","v":1}]
["Georgia",{"$f":"COUNTIF(Sheet1!$M$3:$M$893,A18)","v":3},{"$f":"COUNTIFS(Sheet1!$M$3:$M$893,A18, Sheet1!$AD$3:$AD$893,$C$1)","v":0},{"$f":"COUNTIFS(Sheet1!$M$3:$M$893,A18, Sheet1!$AD$3:$AD$893,$D$1)","v":0},{"$f":"COUNTIFS(Sheet1!$M$3:$M$893,A18, Sheet1!$AD$3:$AD$893,$E$1)","v":0},{"$f":"COUNTIFS(Sheet1!$M$3:$M$893,A18, Sheet1!$AD$3:$AD$893,$F$1)","v":0},{"$f":"COUNTIFS(Sheet1!$M$3:$M$893,A18, Sheet1!$AD$3:$AD$893,$G$1)","v":0}]
["Germany",{"$f":"COUNTIF(Sheet1!$M$3:$M$893,A19)","v":70},{"$f":"COUNTIFS(Sheet1!$M$3:$M$893,A19, Sheet1!$AD$3:$AD$893,$C$1)","v":5},{"$f":"COUNTIFS(Sheet1!$M$3:$M$893,A19, Sheet1!$AD$3:$AD$893,$D$1)","v":37},{"$f":"COUNTIFS(Sheet1!$M$3:$M$893,A19, Sheet1!$AD$3:$AD$893,$E$1)","v":13},{"$f":"COUNTIFS(Sheet1!$M$3:$M$893,A19, Sheet1!$AD$3:$AD$893,$F$1)","v":2},{"$f":"COUNTIFS(Sheet1!$M$3:$M$893,A19, Sheet1!$AD$3:$AD$893,$G$1)","v":1}]
["Kazakhstan",{"$f":"COUNTIF(Sheet1!$M$3:$M$893,A20)","v":1},{"$f":"COUNTIFS(Sheet1!$M$3:$M$893,A20, Sheet1!$AD$3:$AD$893,$C$1)","v":0},{"$f":"COUNTIFS(Sheet1!$M$3:$M$893,A20, Sheet1!$AD$3:$AD$893,$D$1)","v":0},{"$f":"COUNTIFS(Sheet1!$M$3:$M$893,A20, Sheet1!$AD$3:$AD$893,$E$1)","v":0},{"$f":"COUNTIFS(Sheet1!$M$3:$M$893,A20, Sheet1!$AD$3:$AD$893,$F$1)","v":0},{"$f":"COUNTIFS(Sheet1!$M$3:$M$893,A20, Sheet1!$AD$3:$AD$893,$G$1)","v":0}]
["Greece",{"$f":"COUNTIF(Sheet1!$M$3:$M$893,A21)","v":42},{"$f":"COUNTIFS(Sheet1!$M$3:$M$893,A21, Sheet1!$AD$3:$AD$893,$C$1)","v":2},{"$f":"COUNTIFS(Sheet1!$M$3:$M$893,A21, Sheet1!$AD$3:$AD$893,$D$1)","v":19},{"$f":"COUNTIFS(Sheet1!$M$3:$M$893,A21, Sheet1!$AD$3:$AD$893,$E$1)","v":6},{"$f":"COUNTIFS(Sheet1!$M$3:$M$893,A21, Sheet1!$AD$3:$AD$893,$F$1)","v":1},{"$f":"COUNTIFS(Sheet1!$M$3:$M$893,A21, Sheet1!$AD$3:$AD$893,$G$1)","v":0}]
["Hungary",{"$f":"COUNTIF(Sheet1!$M$3:$M$893,A22)","v":6},{"$f":"COUNTIFS(Sheet1!$M$3:$M$893,A22, Sheet1!$AD$3:$AD$893,$C$1)","v":1},{"$f":"COUNTIFS(Sheet1!$M$3:$M$893,A22, Sheet1!$AD$3:$AD$893,$D$1)","v":3},{"$f":"COUNTIFS(Sheet1!$M$3:$M$893,A22, Sheet1!$AD$3:$AD$893,$E$1)","v":2},{"$f":"COUNTIFS(Sheet1!$M$3:$M$893,A22, Sheet1!$AD$3:$AD$893,$F$1)","v":0},{"$f":"COUNTIFS(Sheet1!$M$3:$M$893,A22, Sheet1!$AD$3:$AD$893,$G$1)","v":0}]
["Iceland",{"$f":"COUNTIF(Sheet1!$M$3:$M$893,A23)","v":1},{"$f":"COUNTIFS(Sheet1!$M$3:$M$893,A23, Sheet1!$AD$3:$AD$893,$C$1)","v":0},{"$f":"COUNTIFS(Sheet1!$M$3:$M$893,A23, Sheet1!$AD$3:$AD$893,$D$1)","v":0},{"$f":"COUNTIFS(Sheet1!$M$3:$M$893,A23, Sheet1!$AD$3:$AD$893,$E$1)","v":0},{"$f":"COUNTIFS(Sheet1!$M$3:$M$893,A23, Sheet1!$AD$3:$AD$893,$F$1)","v":0},{"$f":"COUNTIFS(Sheet1!$M$3:$M$893,A23, Sheet1!$AD$3:$AD$893,$G$1)","v":0}]
["Ireland",{"$f":"COUNTIF(Sheet1!$M$3:$M$893,A24)","v":8},{"$f":"COUNTIFS(Sheet1!$M$3:$M$893,A24, Sheet1!$AD$3:$AD$893,$C$1)","v":1},{"$f":"COUNTIFS(Sheet1!$M$3:$M$893,A24, Sheet1!$AD$3:$AD$893,$D$1)","v":5},{"$f":"COUNTIFS(Sheet1!$M$3:$M$893,A24, Sheet1!$AD$3:$AD$893,$E$1)","v":0},{"$f":"COUNTIFS(Sheet1!$M$3:$M$893,A24, Sheet1!$AD$3:$AD$893,$F$1)","v":0},{"$f":"COUNTIFS(Sheet1!$M$3:$M$893,A24, Sheet1!$AD$3:$AD$893,$G$1)","v":0}]
["Italy",{"$f":"COUNTIF(Sheet1!$M$3:$M$893,A25)","v":30},{"$f":"COUNTIFS(Sheet1!$M$3:$M$893,A25, Sheet1!$AD$3:$AD$893,$C$1)","v":2},{"$f":"COUNTIFS(Sheet1!$M$3:$M$893,A25, Sheet1!$AD$3:$AD$893,$D$1)","v":15},{"$f":"COUNTIFS(Sheet1!$M$3:$M$893,A25, Sheet1!$AD$3:$AD$893,$E$1)","v":3},{"$f":"COUNTIFS(Sheet1!$M$3:$M$893,A25, Sheet1!$AD$3:$AD$893,$F$1)","v":1},{"$f":"COUNTIFS(Sheet1!$M$3:$M$893,A25, Sheet1!$AD$3:$AD$893,$G$1)","v":0}]
["Latvia",{"$f":"COUNTIF(Sheet1!$M$3:$M$893,A26)","v":10},{"$f":"COUNTIFS(Sheet1!$M$3:$M$893,A26, Sheet1!$AD$3:$AD$893,$C$1)","v":2},{"$f":"COUNTIFS(Sheet1!$M$3:$M$893,A26, Sheet1!$AD$3:$AD$893,$D$1)","v":6},{"$f":"COUNTIFS(Sheet1!$M$3:$M$893,A26, Sheet1!$AD$3:$AD$893,$E$1)","v":0},{"$f":"COUNTIFS(Sheet1!$M$3:$M$893,A26, Sheet1!$AD$3:$AD$893,$F$1)","v":0},{"$f":"COUNTIFS(Sheet1!$M$3:$M$893,A26, Sheet1!$AD$3:$AD$893,$G$1)","v":0}]
["Lithuania",{"$f":"COUNTIF(Sheet1!$M$3:$M$893,A27)","v":9},{"$f":"COUNTIFS(Sheet1!$M$3:$M$893,A27, Sheet1!$AD$3:$AD$893,$C$1)","v":0},{"$f":"COUNTIFS(Sheet1!$M$3:$M$893,A27, Sheet1!$AD$3:$AD$893,$D$1)","v":5},{"$f":"COUNTIFS(Sheet1!$M$3:$M$893,A27, Sheet1!$AD$3:$AD$893,$E$1)","v":1},{"$f":"COUNTIFS(Sheet1!$M$3:$M$893,A27, Sheet1!$AD$3:$AD$893,$F$1)","v":0},{"$f":"COUNTIFS(Sheet1!$M$3:$M$893,A27, Sheet1!$AD$3:$AD$893,$G$1)","v":0}]
["Indonesia",{"$f":"COUNTIF(Sheet1!$M$3:$M$893,A28)","v":3},{"$f":"COUNTIFS(Sheet1!$M$3:$M$893,A28, Sheet1!$AD$3:$AD$893,$C$1)","v":0},{"$f":"COUNTIFS(Sheet1!$M$3:$M$893,A28, Sheet1!$AD$3:$AD$893,$D$1)","v":0},{"$f":"COUNTIFS(Sheet1!$M$3:$M$893,A28, Sheet1!$AD$3:$AD$893,$E$1)","v":2},{"$f":"COUNTIFS(Sheet1!$M$3:$M$893,A28, Sheet1!$AD$3:$AD$893,$F$1)","v":0},{"$f":"COUNTIFS(Sheet1!$M$3:$M$893,A28, Sheet1!$AD$3:$AD$893,$G$1)","v":0}]
["Luxembourg",{"$f":"COUNTIF(Sheet1!$M$3:$M$893,A29)","v":1},{"$f":"COUNTIFS(Sheet1!$M$3:$M$893,A29, Sheet1!$AD$3:$AD$893,$C$1)","v":0},{"$f":"COUNTIFS(Sheet1!$M$3:$M$893,A29, Sheet1!$AD$3:$AD$893,$D$1)","v":0},{"$f":"COUNTIFS(Sheet1!$M$3:$M$893,A29, Sheet1!$AD$3:$AD$893,$E$1)","v":0},{"$f":"COUNTIFS(Sheet1!$M$3:$M$893,A29, Sheet1!$AD$3:$AD$893,$F$1)","v":0},{"$f":"COUNTIFS(Sheet1!$M$3:$M$893,A29, Sheet1!$AD$3:$AD$893,$G$1)","v":0}]
["Malta",{"$f":"COUNTIF(Sheet1!$M$3:$M$893,A30)","v":7},{"$f":"COUNTIFS(Sheet1!$M$3:$M$893,A30, Sheet1!$AD$3:$AD$893,$C$1)","v":1},{"$f":"COUNTIFS(Sheet1!$M$3:$M$893,A30, Sheet1!$AD$3:$AD$893,$D$1)","v":2},{"$f":"COUNTIFS(Sheet1!$M$3:$M$893,A30, Sheet1!$AD$3:$AD$893,$E$1)","v":3},{"$f":"COUNTIFS(Sheet1!$M$3:$M$893,A30, Sheet1!$AD$3:$AD$893,$F$1)","v":0},{"$f":"COUNTIFS(Sheet1!$M$3:$M$893,A30, Sheet1!$AD$3:$AD$893,$G$1)","v":0}]
["Netherlands",{"$f":"COUNTIF(Sheet1!$M$3:$M$893,A31)","v":35},{"$f":"COUNTIFS(Sheet1!$M$3:$M$893,A31, Sheet1!$AD$3:$AD$893,$C$1)","v":16},{"$f":"COUNTIFS(Sheet1!$M$3:$M$893,A31, Sheet1!$AD$3:$AD$893,$D$1)","v":2},{"$f":"COUNTIFS(Sheet1!$M$3:$M$893,A31, Sheet1!$AD$3:$AD$893,$E$1)","v":6},{"$f":"COUNTIFS(Sheet1!$M$3:$M$893,A31, Sheet1!$AD$3:$AD$893,$F$1)","v":1},{"$f":"COUNTIFS(Sheet1!$M$3:$M$893,A31, Sheet1!$AD$3:$AD$893,$G$1)","v":2}]
["Norway",{"$f":"COUNTIF(Sheet1!$M$3:$M$893,A32)","v":11},{"$f":"COUNTIFS(Sheet1!$M$3:$M$893,A32, Sheet1!$AD$3:$AD$893,$C$1)","v":2},{"$f":"COUNTIFS(Sheet1!$M$3:$M$893,A32, Sheet1!$AD$3:$AD$893,$D$1)","v":3},{"$f":"COUNTIFS(Sheet1!$M$3:$M$893,A32, Sheet1!$AD$3:$AD$893,$E$1)","v":5},{"$f":"COUNTIFS(Sheet1!$M$3:$M$893,A32, Sheet1!$AD$3:$AD$893,$F$1)","v":0},{"$f":"COUNTIFS(Sheet1!$M$3:$M$893,A32, Sheet1!$AD$3:$AD$893,$G$1)","v":1}]
["Poland",{"$f":"COUNTIF(Sheet1!$M$3:$M$893,A33)","v":15},{"$f":"COUNTIFS(Sheet1!$M$3:$M$893,A33, Sheet1!$AD$3:$AD$893,$C$1)","v":0},{"$f":"COUNTIFS(Sheet1!$M$3:$M$893,A33, Sheet1!$AD$3:$AD$893,$D$1)","v":9},{"$f":"COUNTIFS(Sheet1!$M$3:$M$893,A33, Sheet1!$AD$3:$AD$893,$E$1)","v":0},{"$f":"COUNTIFS(Sheet1!$M$3:$M$893,A33, Sheet1!$AD$3:$AD$893,$F$1)","v":0},{"$f":"COUNTIFS(Sheet1!$M$3:$M$893,A33, Sheet1!$AD$3:$AD$893,$G$1)","v":0}]
["Portugal",{"$f":"COUNTIF(Sheet1!$M$3:$M$893,A34)","v":57},{"$f":"COUNTIFS(Sheet1!$M$3:$M$893,A34, Sheet1!$AD$3:$AD$893,$C$1)","v":5},{"$f":"COUNTIFS(Sheet1!$M$3:$M$893,A34, Sheet1!$AD$3:$AD$893,$D$1)","v":23},{"$f":"COUNTIFS(Sheet1!$M$3:$M$893,A34, Sheet1!$AD$3:$AD$893,$E$1)","v":5},{"$f":"COUNTIFS(Sheet1!$M$3:$M$893,A34, Sheet1!$AD$3:$AD$893,$F$1)","v":1},{"$f":"COUNTIFS(Sheet1!$M$3:$M$893,A34, Sheet1!$AD$3:$AD$893,$G$1)","v":0}]
["Republic of Moldova",{"$f":"COUNTIF(Sheet1!$M$3:$M$893,A35)","v":4},{"$f":"COUNTIFS(Sheet1!$M$3:$M$893,A35, Sheet1!$AD$3:$AD$893,$C$1)","v":0},{"$f":"COUNTIFS(Sheet1!$M$3:$M$893,A35, Sheet1!$AD$3:$AD$893,$D$1)","v":2},{"$f":"COUNTIFS(Sheet1!$M$3:$M$893,A35, Sheet1!$AD$3:$AD$893,$E$1)","v":1},{"$f":"COUNTIFS(Sheet1!$M$3:$M$893,A35, Sheet1!$AD$3:$AD$893,$F$1)","v":0},{"$f":"COUNTIFS(Sheet1!$M$3:$M$893,A35, Sheet1!$AD$3:$AD$893,$G$1)","v":0}]
["Romania",{"$f":"COUNTIF(Sheet1!$M$3:$M$893,A36)","v":25},{"$f":"COUNTIFS(Sheet1!$M$3:$M$893,A36, Sheet1!$AD$3:$AD$893,$C$1)","v":2},{"$f":"COUNTIFS(Sheet1!$M$3:$M$893,A36, Sheet1!$AD$3:$AD$893,$D$1)","v":9},{"$f":"COUNTIFS(Sheet1!$M$3:$M$893,A36, Sheet1!$AD$3:$AD$893,$E$1)","v":5},{"$f":"COUNTIFS(Sheet1!$M$3:$M$893,A36, Sheet1!$AD$3:$AD$893,$F$1)","v":0},{"$f":"COUNTIFS(Sheet1!$M$3:$M$893,A36, Sheet1!$AD$3:$AD$893,$G$1)","v":0}]
["Russian Federation",{"$f":"COUNTIF(Sheet1!$M$3:$M$893,A37)","v":11},{"$f":"COUNTIFS(Sheet1!$M$3:$M$893,A37, Sheet1!$AD$3:$AD$893,$C$1)","v":0},{"$f":"COUNTIFS(Sheet1!$M$3:$M$893,A37, Sheet1!$AD$3:$AD$893,$D$1)","v":5},{"$f":"COUNTIFS(Sheet1!$M$3:$M$893,A37, Sheet1!$AD$3:$AD$893,$E$1)","v":3},{"$f":"COUNTIFS(Sheet1!$M$3:$M$893,A37, Sheet1!$AD$3:$AD$893,$F$1)","v":0},{"$f":"COUNTIFS(Sheet1!$M$3:$M$893,A37, Sheet1!$AD$3:$AD$893,$G$1)","v":0}]
["Serbia",{"$f":"COUNTIF(Sheet1!$M$3:$M$893,A38)","v":31},{"$f":"COUNTIFS(Sheet1!$M$3:$M$893,A38, Sheet1!$AD$3:$AD$893,$C$1)","v":3},{"$f":"COUNTIFS(Sheet1!$M$3:$M$893,A38, Sheet1!$AD$3:$AD$893,$D$1)","v":6},{"$f":"COUNTIFS(Sheet1!$M$3:$M$893,A38, Sheet1!$AD$3:$AD$893,$E$1)","v":5},{"$f":"COUNTIFS(Sheet1!$M$3:$M$893,A38, Sheet1!$AD$3:$AD$893,$F$1)","v":1},{"$f":"COUNTIFS(Sheet1!$M$3:$M$893,A38, Sheet1!$AD$3:$AD$893,$G$1)","v":0}]
["Slovakia",{"$f":"COUNTIF(Sheet1!$M$3:$M$893,A39)","v":3},{"$f":"COUNTIFS(Sheet1!$M$3:$M$893,A39, Sheet1!$AD$3:$AD$893,$C$1)","v":2},{"$f":"COUNTIFS(Sheet1!$M$3:$M$893,A39, Sheet1!$AD$3:$AD$893,$D$1)","v":0},{"$f":"COUNTIFS(Sheet1!$M$3:$M$893,A39, Sheet1!$AD$3:$AD$893,$E$1)","v":0},{"$f":"COUNTIFS(Sheet1!$M$3:$M$893,A39, Sheet1!$AD$3:$AD$893,$F$1)","v":0},{"$f":"COUNTIFS(Sheet1!$M$3:$M$893,A39, Sheet1!$AD$3:$AD$893,$G$1)","v":0}]
["Slovenia",{"$f":"COUNTIF(Sheet1!$M$3:$M$893,A40)","v":7},{"$f":"COUNTIFS(Sheet1!$M$3:$M$893,A40, Sheet1!$AD$3:$AD$893,$C$1)","v":1},{"$f":"COUNTIFS(Sheet1!$M$3:$M$893,A40, Sheet1!$AD$3:$AD$893,$D$1)","v":2},{"$f":"COUNTIFS(Sheet1!$M$3:$M$893,A40, Sheet1!$AD$3:$AD$893,$E$1)","v":1},{"$f":"COUNTIFS(Sheet1!$M$3:$M$893,A40, Sheet1!$AD$3:$AD$893,$F$1)","v":1},{"$f":"COUNTIFS(Sheet1!$M$3:$M$893,A40, Sheet1!$AD$3:$AD$893,$G$1)","v":0}]
["Spain",{"$f":"COUNTIF(Sheet1!$M$3:$M$893,A41)","v":51},{"$f":"COUNTIFS(Sheet1!$M$3:$M$893,A41, Sheet1!$AD$3:$AD$893,$C$1)","v":2},{"$f":"COUNTIFS(Sheet1!$M$3:$M$893,A41, Sheet1!$AD$3:$AD$893,$D$1)","v":20},{"$f":"COUNTIFS(Sheet1!$M$3:$M$893,A41, Sheet1!$AD$3:$AD$893,$E$1)","v":9},{"$f":"COUNTIFS(Sheet1!$M$3:$M$893,A41, Sheet1!$AD$3:$AD$893,$F$1)","v":1},{"$f":"COUNTIFS(Sheet1!$M$3:$M$893,A41, Sheet1!$AD$3:$AD$893,$G$1)","v":0}]
["Sweden",{"$f":"COUNTIF(Sheet1!$M$3:$M$893,A42)","v":17},{"$f":"COUNTIFS(Sheet1!$M$3:$M$893,A42, Sheet1!$AD$3:$AD$893,$C$1)","v":2},{"$f":"COUNTIFS(Sheet1!$M$3:$M$893,A42, Sheet1!$AD$3:$AD$893,$D$1)","v":6},{"$f":"COUNTIFS(Sheet1!$M$3:$M$893,A42, Sheet1!$AD$3:$AD$893,$E$1)","v":5},{"$f":"COUNTIFS(Sheet1!$M$3:$M$893,A42, Sheet1!$AD$3:$AD$893,$F$1)","v":1},{"$f":"COUNTIFS(Sheet1!$M$3:$M$893,A42, Sheet1!$AD$3:$AD$893,$G$1)","v":0}]
["Switzerland",{"$f":"COUNTIF(Sheet1!$M$3:$M$893,A43)","v":29},{"$f":"COUNTIFS(Sheet1!$M$3:$M$893,A43, Sheet1!$AD$3:$AD$893,$C$1)","v":2},{"$f":"COUNTIFS(Sheet1!$M$3:$M$893,A43, Sheet1!$AD$3:$AD$893,$D$1)","v":11},{"$f":"COUNTIFS(Sheet1!$M$3:$M$893,A43, Sheet1!$AD$3:$AD$893,$E$1)","v":8},{"$f":"COUNTIFS(Sheet1!$M$3:$M$893,A43, Sheet1!$AD$3:$AD$893,$F$1)","v":1},{"$f":"COUNTIFS(Sheet1!$M$3:$M$893,A43, Sheet1!$AD$3:$AD$893,$G$1)","v":0}]
["The former Yugoslav Republic of Macedonia",{"$f":"COUNTIF(Sheet1!$M$3:$M$893,A44)","v":5},{"$f":"COUNTIFS(Sheet1!$M$3:$M$893,A44, Sheet1!$AD$3:$AD$893,$C$1)","v":0},{"$f":"COUNTIFS(Sheet1!$M$3:$M$893,A44, Sheet1!$AD$3:$AD$893,$D$1)","v":3},{"$f":"COUNTIFS(Sheet1!$M$3:$M$893,A44, Sheet1!$AD$3:$AD$893,$E$1)","v":0},{"$f":"COUNTIFS(Sheet1!$M$3:$M$893,A44, Sheet1!$AD$3:$AD$893,$F$1)","v":1},{"$f":"COUNTIFS(Sheet1!$M$3:$M$893,A44, Sheet1!$AD$3:$AD$893,$G$1)","v":0}]
["Turkey",{"$f":"COUNTIF(Sheet1!$M$3:$M$893,A45)","v":58},{"$f":"COUNTIFS(Sheet1!$M$3:$M$893,A45, Sheet1!$AD$3:$AD$893,$C$1)","v":8},{"$f":"COUNTIFS(Sheet1!$M$3:$M$893,A45, Sheet1!$AD$3:$AD$893,$D$1)","v":9},{"$f":"COUNTIFS(Sheet1!$M$3:$M$893,A45, Sheet1!$AD$3:$AD$893,$E$1)","v":21},{"$f":"COUNTIFS(Sheet1!$M$3:$M$893,A45, Sheet1!$AD$3:$AD$893,$F$1)","v":2},{"$f":"COUNTIFS(Sheet1!$M$3:$M$893,A45, Sheet1!$AD$3:$AD$893,$G$1)","v":0}]
["Ukraine",{"$f":"COUNTIF(Sheet1!$M$3:$M$893,A46)","v":7},{"$f":"COUNTIFS(Sheet1!$M$3:$M$893,A46, Sheet1!$AD$3:$AD$893,$C$1)","v":1},{"$f":"COUNTIFS(Sheet1!$M$3:$M$893,A46, Sheet1!$AD$3:$AD$893,$D$1)","v":3},{"$f":"COUNTIFS(Sheet1!$M$3:$M$893,A46, Sheet1!$AD$3:$AD$893,$E$1)","v":1},{"$f":"COUNTIFS(Sheet1!$M$3:$M$893,A46, Sheet1!$AD$3:$AD$893,$F$1)","v":0},{"$f":"COUNTIFS(Sheet1!$M$3:$M$893,A46, Sheet1!$AD$3:$AD$893,$G$1)","v":0}]
["United Kingdom of Great Britain and Northern Ireland",{"$f":"COUNTIF(Sheet1!$M$3:$M$893,A47)","v":32},{"$f":"COUNTIFS(Sheet1!$M$3:$M$893,A47, Sheet1!$AD$3:$AD$893,$C$1)","v":5},{"$f":"COUNTIFS(Sheet1!$M$3:$M$893,A47, Sheet1!$AD$3:$AD$893,$D$1)","v":4},{"$f":"COUNTIFS(Sheet1!$M$3:$M$893,A47, Sheet1!$AD$3:$AD$893,$E$1)","v":12},{"$f":"COUNTIFS(Sheet1!$M$3:$M$893,A47, Sheet1!$AD$3:$AD$893,$F$1)","v":1},{"$f":"COUNTIFS(Sheet1!$M$3:$M$893,A47, Sheet1!$AD$3:$AD$893,$G$1)","v":1}]
["Azerbaijan",{"$f":"COUNTIF(Sheet1!$M$3:$M$893,A48)","v":1},{"$f":"COUNTIFS(Sheet1!$M$3:$M$893,A48, Sheet1!$AD$3:$AD$893,$C$1)","v":0},{"$f":"COUNTIFS(Sheet1!$M$3:$M$893,A48, Sheet1!$AD$3:$AD$893,$D$1)","v":0},{"$f":"COUNTIFS(Sheet1!$M$3:$M$893,A48, Sheet1!$AD$3:$AD$893,$E$1)","v":0},{"$f":"COUNTIFS(Sheet1!$M$3:$M$893,A48, Sheet1!$AD$3:$AD$893,$F$1)","v":0},{"$f":"COUNTIFS(Sheet1!$M$3:$M$893,A48, Sheet1!$AD$3:$AD$893,$G$1)","v":0}]
["Sum",{"$f":"SUM(B2:B48)","v":719},80,264,140,20,{"$f":"SUM(G2:G48)","v":8}]

{"sheet":"19. Pitanje","index":7,"n_rows":49,"n_cols":7,"rows_kept":49}
["19. Is your teaching valued in your department or institution?","Ukupan broj","Yes, I am paid more","Yes, it is recognised for promotion in academia.","Yes, I have a more visible position in the department","No, it is assumed as being a part of everyday work","No"]
["Albania",{"$f":"COUNTIF(Sheet1!$M$3:$M$893,A2)","v":6},{"$f":"COUNTIFS(Sheet1!$M$3:$M$893,A2, Sheet1!$BE$3:$BE$893,$C$1)","v":2},{"$f":"COUNTIFS(Sheet1!$M$3:$M$893,A2, Sheet1!$BF$3:$BF$893,$D$1)","v":2},{"$f":"COUNTIFS(Sheet1!$M$3:$M$893,A2, Sheet1!$BG$3:$BG$893,$E$1)","v":0},{"$f":"COUNTIFS(Sheet1!$M$3:$M$893,A2, Sheet1!$BH$3:$BH$893,$F$1)","v":0},{"$f":"COUNTIFS(Sheet1!$M$3:$M$893,A2, Sheet1!$BI$3:$BI$893,$G$1)","v":0}]
["Armenia",{"$f":"COUNTIF(Sheet1!$M$3:$M$893,A3)","v":1},{"$f":"COUNTIFS(Sheet1!$M$3:$M$893,A3, Sheet1!$BE$3:$BE$893,$C$1)","v":1},{"$f":"COUNTIFS(Sheet1!$M$3:$M$893,A3, Sheet1!$BF$3:$BF$893,$D$1)","v":1},{"$f":"COUNTIFS(Sheet1!$M$3:$M$893,A3, Sheet1!$BG$3:$BG$893,$E$1)","v":1},{"$f":"COUNTIFS(Sheet1!$M$3:$M$893,A3, Sheet1!$BH$3:$BH$893,$F$1)","v":0},{"$f":"COUNTIFS(Sheet1!$M$3:$M$893,A3, Sheet1!$BI$3:$BI$893,$G$1)","v":0}]
["Austria",{"$f":"COUNTIF(Sheet1!$M$3:$M$893,A4)","v":15},{"$f":"COUNTIFS(Sheet1!$M$3:$M$893,A4, Sheet1!$BE$3:$BE$893,$C$1)","v":0},{"$f":"COUNTIFS(Sheet1!$M$3:$M$893,A4, Sheet1!$BF$3:$BF$893,$D$1)","v":1},{"$f":"COUNTIFS(Sheet1!$M$3:$M$893,A4, Sheet1!$BG$3:$BG$893,$E$1)","v":3},{"$f":"COUNTIFS(Sheet1!$M$3:$M$893,A4, Sheet1!$BH$3:$BH$893,$F$1)","v":8},{"$f":"COUNTIFS(Sheet1!$M$3:$M$893,A4, Sheet1!$BI$3:$BI$893,$G$1)","v":2}]
["Belarus",{"$f":"COUNTIF(Sheet1!$M$3:$M$893,A5)","v":1},{"$f":"COUNTIFS(Sheet1!$M$3:$M$893,A5, Sheet1!$BE$3:$BE$893,$C$1)","v":0},{"$f":"COUNTIFS(Sheet1!$M$3:$M$893,A5, Sheet1!$BF$3:$BF$893,$D$1)","v":0},{"$f":"COUNTIFS(Sheet1!$M$3:$M$893,A5, Sheet1!$BG$3:$BG$893,$E$1)","v":0},{"$f":"COUNTIFS(Sheet1!$M$3:$M$893,A5, Sheet1!$BH$3:$BH$893,$F$1)","v":1},{"$f":"COUNTIFS(Sheet1!$M$3:$M$893,A5, Sheet1!$BI$3:$BI$893,$G$1)","v":0}]
["Belgium",{"$f":"COUNTIF(Sheet1!$M$3:$M$893,A6)","v":30},{"$f":"COUNTIFS(Sheet1!$M$3:$M$893,A6, Sheet1!$BE$3:$BE$893,$C$1)","v":4},{"$f":"COUNTIFS(Sheet1!$M$3:$M$893,A6, Sheet1!$BF$3:$BF$893,$D$1)","v":4},{"$f":"COUNTIFS(Sheet1!$M$3:$M$893,A6, Sheet1!$BG$3:$BG$893,$E$1)","v":7},{"$f":"COUNTIFS(Sheet1!$M$3:$M$893,A6, Sheet1!$BH$3:$BH$893,$F$1)","v":17},{"$f":"COUNTIFS(Sheet1!$M$3:$M$893,A6, Sheet1!$BI$3:$BI$893,$G$1)","v":2}]
["Bosnia and Herzegovina",{"$f":"COUNTIF(Sheet1!$M$3:$M$893,A7)","v":4},{"$f":"COUNTIFS(Sheet1!$M$3:$M$893,A7, Sheet1!$BE$3:$BE$893,$C$1)","v":1},{"$f":"COUNTIFS(Sheet1!$M$3:$M$893,A7, Sheet1!$BF$3:$BF$893,$D$1)","v":1},{"$f":"COUNTIFS(Sheet1!$M$3:$M$893,A7, Sheet1!$BG$3:$BG$893,$E$1)","v":0},{"$f":"COUNTIFS(Sheet1!$M$3:$M$893,A7, Sheet1!$BH$3:$BH$893,$F$1)","v":2},{"$f":"COUNTIFS(Sheet1!$M$3:$M$893,A7, Sheet1!$BI$3:$BI$893,$G$1)","v":0}]
["Bulgaria",{"$f":"COUNTIF(Sheet1!$M$3:$M$893,A8)","v":3},{"$f":"COUNTIFS(Sheet1!$M$3:$M$893,A8, Sheet1!$BE$3:$BE$893,$C$1)","v":3},{"$f":"COUNTIFS(Sheet1!$M$3:$M$893,A8, Sheet1!$BF$3:$BF$893,$D$1)","v":2},{"$f":"COUNTIFS(Sheet1!$M$3:$M$893,A8, Sheet1!$BG$3:$BG$893,$E$1)","v":2},{"$f":"COUNTIFS(Sheet1!$M$3:$M$893,A8, Sheet1!$BH$3:$BH$893,$F$1)","v":0},{"$f":"COUNTIFS(Sheet1!$M$3:$M$893,A8, Sheet1!$BI$3:$BI$893,$G$1)","v":0}]
["Croatia",{"$f":"COUNTIF(Sheet1!$M$3:$M$893,A9)","v":15},{"$f":"COUNTIFS(Sheet1!$M$3:$M$893,A9, Sheet1!$BE$3:$BE$893,$C$1)","v":0},{"$f":"COUNTIFS(Sheet1!$M$3:$M$893,A9, Sheet1!$BF$3:$BF$893,$D$1)","v":2},{"$f":"COUNTIFS(Sheet1!$M$3:$M$893,A9, Sheet1!$BG$3:$BG$893,$E$1)","v":1},{"$f":"COUNTIFS(Sheet1!$M$3:$M$893,A9, Sheet1!$BH$3:$BH$893,$F$1)","v":6},{"$f":"COUNTIFS(Sheet1!$M$3:$M$893,A9, Sheet1!$BI$3:$BI$893,$G$1)","v":1}]
["Cyprus",{"$f":"COUNTIF(Sheet1!$M$3:$M$893,A10)","v":4},{"$f":"COUNTIFS(Sheet1!$M$3:$M$893,A10, Sheet1!$BE$3:$BE$893,$C$1)","v":0},{"$f":"COUNTIFS(Sheet1!$M$3:$M$893,A10, Sheet1!$BF$3:$BF$893,$D$1)","v":0},{"$f":"COUNTIFS(Sheet1!$M$3:$M$893,A10, Sheet1!$BG$3:$BG$893,$E$1)","v":0},{"$f":"COUNTIFS(Sheet1!$M$3:$M$893,A10, Sheet1!$BH$3:$BH$893,$F$1)","v":0},{"$f":"COUNTIFS(Sheet1!$M$3:$M$893,A10, Sheet1!$BI$3:$BI$893,$G$1)","v":0}]
["Czech Republic",{"$f":"COUNTIF(Sheet1!$M$3:$M$893,A11)","v":5},{"$f":"COUNTIFS(Sheet1!$M$3:$M$893,A11, Sheet1!$BE$3:$BE$893,$C$1)","v":0},{"$f":"COUNTIFS(Sheet1!$M$3:$M$893,A11, Sheet1!$BF$3:$BF$893,$D$1)","v":0},{"$f":"COUNTIFS(Sheet1!$M$3:$M$893,A11, Sheet1!$BG$3:$BG$893,$E$1)","v":0},{"$f":"COUNTIFS(Sheet1!$M$3:$M$893,A11, Sheet1!$BH$3:$BH$893,$F$1)","v":3},{"$f":"COUNTIFS(Sheet1!$M$3:$M$893,A11, Sheet1!$BI$3:$BI$893,$G$1)","v":1}]
["Denmark",{"$f":"COUNTIF(Sheet1!$M$3:$M$893,A12)","v":7},{"$f":"COUNTIFS(Sheet1!$M$3:$M$893,A12, Sheet1!$BE$3:$BE$893,$C$1)","v":1},{"$f":"COUNTIFS(Sheet1!$M$3:$M$893,A12, Sheet1!$BF$3:$BF$893,$D$1)","v":1},{"$f":"COUNTIFS(Sheet1!$M$3:$M$893,A12, Sheet1!$BG$3:$BG$893,$E$1)","v":2},{"$f":"COUNTIFS(Sheet1!$M$3:$M$893,A12, Sheet1!$BH$3:$BH$893,$F$1)","v":4},{"$f":"COUNTIFS(Sheet1!$M$3:$M$893,A12, Sheet1!$BI$3:$BI$893,$G$1)","v":1}]
["Estonia",{"$f":"COUNTIF(Sheet1!$M$3:$M$893,A13)","v":3},{"$f":"COUNTIFS(Sheet1!$M$3:$M$893,A13, Sheet1!$BE$3:$BE$893,$C$1)","v":2},{"$f":"COUNTIFS(Sheet1!$M$3:$M$893,A13, Sheet1!$BF$3:$BF$893,$D$1)","v":1},{"$f":"COUNTIFS(Sheet1!$M$3:$M$893,A13, Sheet1!$BG$3:$BG$893,$E$1)","v":1},{"$f":"COUNTIFS(Sheet1!$M$3:$M$893,A13, Sheet1!$BH$3:$BH$893,$F$1)","v":1},{"$f":"COUNTIFS(Sheet1!$M$3:$M$893,A13, Sheet1!$BI$3:$BI$893,$G$1)","v":0}]
["Finland",{"$f":"COUNTIF(Sheet1!$M$3:$M$893,A14)","v":8},{"$f":"COUNTIFS(Sheet1!$M$3:$M$893,A14, Sheet1!$BE$3:$BE$893,$C$1)","v":2},{"$f":"COUNTIFS(Sheet1!$M$3:$M$893,A14, Sheet1!$BF$3:$BF$893,$D$1)","v":1},{"$f":"COUNTIFS(Sheet1!$M$3:$M$893,A14, Sheet1!$BG$3:$BG$893,$E$1)","v":2},{"$f":"COUNTIFS(Sheet1!$M$3:$M$893,A14, Sheet1!$BH$3:$BH$893,$F$1)","v":5},{"$f":"COUNTIFS(Sheet1!$M$3:$M$893,A14, Sheet1!$BI$3:$BI$893,$G$1)","v":0}]
["Uzbekistan",{"$f":"COUNTIF(Sheet1!$M$3:$M$893,A15)","v":1},{"$f":"COUNTIFS(Sheet1!$M$3:$M$893,A15, Sheet1!$BE$3:$BE$893,$C$1)","v":1},{"$f":"COUNTIFS(Sheet1!$M$3:$M$893,A15, Sheet1!$BF$3:$BF$893,$D$1)","v":1},{"$f":"COUNTIFS(Sheet1!$M$3:$M$893,A15, Sheet1!$BG$3:$BG$893,$E$1)","v":1},{"$f":"COUNTIFS(Sheet1!$M$3:$M$893,A15, Sheet1!$BH$3:$BH$893,$F$1)","v":0},{"$f":"COUNTIFS(Sheet1!$M$3:$M$893,A15, Sheet1!$BI$3:$BI$893,$G$1)","v":0}]
["France",{"$f":"COUNTIF(Sheet1!$M$3:$M$893,A16)","v":14},{"$f":"COUNTIFS(Sheet1!$M$3:$M$893,A16, Sheet1!$BE$3:$BE$893,$C$1)","v":0},{"$f":"COUNTIFS(Sheet1!$M$3:$M$893,A16, Sheet1!$BF$3:$BF$893,$D$1)","v":0},{"$f":"COUNTIFS(Sheet1!$M$3:$M$893,A16, Sheet1!$BG$3:$BG$893,$E$1)","v":4},{"$f":"COUNTIFS(Sheet1!$M$3:$M$893,A16, Sheet1!$BH$3:$BH$893,$F$1)","v":6},{"$f":"COUNTIFS(Sheet1!$M$3:$M$893,A16, Sheet1!$BI$3:$BI$893,$G$1)","v":0}]
["Israel",{"$f":"COUNTIF(Sheet1!$M$3:$M$893,A17)","v":12},{"$f":"COUNTIFS(Sheet1!$M$3:$M$893,A17, Sheet1!$BE$3:$BE$893,$C$1)","v":0},{"$f":"COUNTIFS(Sheet1!$M$3:$M$893,A17, Sheet1!$BF$3:$BF$893,$D$1)","v":4},{"$f":"COUNTIFS(Sheet1!$M$3:$M$893,A17, Sheet1!$BG$3:$BG$893,$E$1)","v":3},{"$f":"COUNTIFS(Sheet1!$M$3:$M$893,A17, Sheet1!$BH$3:$BH$893,$F$1)","v":6},{"$f":"COUNTIFS(Sheet1!$M$3:$M$893,A17, Sheet1!$BI$3:$BI$893,$G$1)","v":0}]
["Georgia",{"$f":"COUNTIF(Sheet1!$M$3:$M$893,A18)","v":3},{"$f":"COUNTIFS(Sheet1!$M$3:$M$893,A18, Sheet1!$BE$3:$BE$893,$C$1)","v":0},{"$f":"COUNTIFS(Sheet1!$M$3:$M$893,A18, Sheet1!$BF$3:$BF$893,$D$1)","v":0},{"$f":"COUNTIFS(Sheet1!$M$3:$M$893,A18, Sheet1!$BG$3:$BG$893,$E$1)","v":0},{"$f":"COUNTIFS(Sheet1!$M$3:$M$893,A18, Sheet1!$BH$3:$BH$893,$F$1)","v":0},{"$f":"COUNTIFS(Sheet1!$M$3:$M$893,A18, Sheet1!$BI$3:$BI$893,$G$1)","v":0}]
["Germany",{"$f":"COUNTIF(Sheet1!$M$3:$M$893,A19)","v":70},{"$f":"COUNTIFS(Sheet1!$M$3:$M$893,A19, Sheet1!$BE$3:$BE$893,$C$1)","v":2},{"$f":"COUNTIFS(Sheet1!$M$3:$M$893,A19, Sheet1!$BF$3:$BF$893,$D$1)","v":5},{"$f":"COUNTIFS(Sheet1!$M$3:$M$893,A19, Sheet1!$BG$3:$BG$893,$E$1)","v":14},{"$f":"COUNTIFS(Sheet1!$M$3:$M$893,A19, Sheet1!$BH$3:$BH$893,$F$1)","v":38},{"$f":"COUNTIFS(Sheet1!$M$3:$M$893,A19, Sheet1!$BI$3:$BI$893,$G$1)","v":4}]
["Kazakhstan",{"$f":"COUNTIF(Sheet1!$M$3:$M$893,A20)","v":1},{"$f":"COUNTIFS(Sheet1!$M$3:$M$893,A20, Sheet1!$BE$3:$BE$893,$C$1)","v":0},{"$f":"COUNTIFS(Sheet1!$M$3:$M$893,A20, Sheet1!$BF$3:$BF$893,$D$1)","v":0},{"$f":"COUNTIFS(Sheet1!$M$3:$M$893,A20, Sheet1!$BG$3:$BG$893,$E$1)","v":0},{"$f":"COUNTIFS(Sheet1!$M$3:$M$893,A20, Sheet1!$BH$3:$BH$893,$F$1)","v":0},{"$f":"COUNTIFS(Sheet1!$M$3:$M$893,A20, Sheet1!$BI$3:$BI$893,$G$1)","v":0}]
["Greece",{"$f":"COUNTIF(Sheet1!$M$3:$M$893,A21)","v":42},{"$f":"COUNTIFS(Sheet1!$M$3:$M$893,A21, Sheet1!$BE$3:$BE$893,$C$1)","v":0},{"$f":"COUNTIFS(Sheet1!$M$3:$M$893,A21, Sheet1!$BF$3:$BF$893,$D$1)","v":1},{"$f":"COUNTIFS(Sheet1!$M$3:$M$893,A21, Sheet1!$BG$3:$BG$893,$E$1)","v":1},{"$f":"COUNTIFS(Sheet1!$M$3:$M$893,A21, Sheet1!$BH$3:$BH$893,$F$1)","v":20},{"$f":"COUNTIFS(Sheet1!$M$3:$M$893,A21, Sheet1!$BI$3:$BI$893,$G$1)","v":6}]
["Hungary",{"$f":"COUNTIF(Sheet1!$M$3:$M$893,A22)","v":6},{"$f":"COUNTIFS(Sheet1!$M$3:$M$893,A22, Sheet1!$BE$3:$BE$893,$C$1)","v":3},{"$f":"COUNTIFS(Sheet1!$M$3:$M$893,A22, Sheet1!$BF$3:$BF$893,$D$1)","v":1},{"$f":"COUNTIFS(Sheet1!$M$3:$M$893,A22, Sheet1!$BG$3:$BG$893,$E$1)","v":2},{"$f":"COUNTIFS(Sheet1!$M$3:$M$893,A22, Sheet1!$BH$3:$BH$893,$F$1)","v":2},{"$f":"COUNTIFS(Sheet1!$M$3:$M$893,A22, Sheet1!$BI$3:$BI$893,$G$1)","v":1}]
["Iceland",{"$f":"COUNTIF(Sheet1!$M$3:$M$893,A23)","v":1},{"$f":"COUNTIFS(Sheet1!$M$3:$M$893,A23, Sheet1!$BE$3:$BE$893,$C$1)","v":0},{"$f":"COUNTIFS(Sheet1!$M$3:$M$893,A23, Sheet1!$BF$3:$BF$893,$D$1)","v":0},{"$f":"COUNTIFS(Sheet1!$M$3:$M$893,A23, Sheet1!$BG$3:$BG$893,$E$1)","v":0},{"$f":"COUNTIFS(Sheet1!$M$3:$M$893,A23, Sheet1!$BH$3:$BH$893,$F$1)","v":0},{"$f":"COUNTIFS(Sheet1!$M$3:$M$893,A23, Sheet1!$BI$3:$BI$893,$G$1)","v":0}]
["Ireland",{"$f":"COUNTIF(Sheet1!$M$3:$M$893,A24)","v":8},{"$f":"COUNTIFS(Sheet1!$M$3:$M$893,A24, Sheet1!$BE$3:$BE$893,$C$1)","v":1},{"$f":"COUNTIFS(Sheet1!$M$3:$M$893,A24, Sheet1!$BF$3:$BF$893,$D$1)","v":1},{"$f":"COUNTIFS(Sheet1!$M$3:$M$893,A24, Sheet1!$BG$3:$BG$893,$E$1)","v":1},{"$f":"COUNTIFS(Sheet1!$M$3:$M$893,A24, Sheet1!$BH$3:$BH$893,$F$1)","v":5},{"$f":"COUNTIFS(Sheet1!$M$3:$M$893,A24, Sheet1!$BI$3:$BI$893,$G$1)","v":0}]
["Italy",{"$f":"COUNTIF(Sheet1!$M$3:$M$893,A25)","v":30},{"$f":"COUNTIFS(Sheet1!$M$3:$M$893,A25, Sheet1!$BE$3:$BE$893,$C$1)","v":1},{"$f":"COUNTIFS(Sheet1!$M$3:$M$893,A25, Sheet1!$BF$3:$BF$893,$D$1)","v":1},{"$f":"COUNTIFS(Sheet1!$M$3:$M$893,A25, Sheet1!$BG$3:$BG$893,$E$1)","v":2},{"$f":"COUNTIFS(Sheet1!$M$3:$M$893,A25, Sheet1!$BH$3:$BH$893,$F$1)","v":15},{"$f":"COUNTIFS(Sheet1!$M$3:$M$893,A25, Sheet1!$BI$3:$BI$893,$G$1)","v":3}]
["Latvia",{"$f":"COUNTIF(Sheet1!$M$3:$M$893,A26)","v":10},{"$f":"COUNTIFS(Sheet1!$M$3:$M$893,A26, Sheet1!$BE$3:$BE$893,$C$1)","v":4},{"$f":"COUNTIFS(Sheet1!$M$3:$M$893,A26, Sheet1!$BF$3:$BF$893,$D$1)","v":2},{"$f":"COUNTIFS(Sheet1!$M$3:$M$893,A26, Sheet1!$BG$3:$BG$893,$E$1)","v":2},{"$f":"COUNTIFS(Sheet1!$M$3:$M$893,A26, Sheet1!$BH$3:$BH$893,$F$1)","v":2},{"$f":"COUNTIFS(Sheet1!$M$3:$M$893,A26, Sheet1!$BI$3:$BI$893,$G$1)","v":0}]
["Lithuania",{"$f":"COUNTIF(Sheet1!$M$3:$M$893,A27)","v":9},{"$f":"COUNTIFS(Sheet1!$M$3:$M$893,A27, Sheet1!$BE$3:$BE$893,$C$1)","v":3},{"$f":"COUNTIFS(Sheet1!$M$3:$M$893,A27, Sheet1!$BF$3:$BF$893,$D$1)","v":0},{"$f":"COUNTIFS(Sheet1!$M$3:$M$893,A27, Sheet1!$BG$3:$BG$893,$E$1)","v":2},{"$f":"COUNTIFS(Sheet1!$M$3:$M$893,A27, Sheet1!$BH$3:$BH$893,$F$1)","v":3},{"$f":"COUNTIFS(Sheet1!$M$3:$M$893,A27, Sheet1!$BI$3:$BI$893,$G$1)","v":0}]
["Indonesia",{"$f":"COUNTIF(Sheet1!$M$3:$M$893,A28)","v":3},{"$f":"COUNTIFS(Sheet1!$M$3:$M$893,A28, Sheet1!$BE$3:$BE$893,$C$1)","v":1},{"$f":"COUNTIFS(Sheet1!$M$3:$M$893,A28, Sheet1!$BF$3:$BF$893,$D$1)","v":1},{"$f":"COUNTIFS(Sheet1!$M$3:$M$893,A28, Sheet1!$BG$3:$BG$893,$E$1)","v":0},{"$f":"COUNTIFS(Sheet1!$M$3:$M$893,A28, Sheet1!$BH$3:$BH$893,$F$1)","v":1},{"$f":"COUNTIFS(Sheet1!$M$3:$M$893,A28, Sheet1!$BI$3:$BI$893,$G$1)","v":0}]
["Luxembourg",{"$f":"COUNTIF(Sheet1!$M$3:$M$893,A29)","v":1},{"$f":"COUNTIFS(Sheet1!$M$3:$M$893,A29, Sheet1!$BE$3:$BE$893,$C$1)","v":0},{"$f":"COUNTIFS(Sheet1!$M$3:$M$893,A29, Sheet1!$BF$3:$BF$893,$D$1)","v":0},{"$f":"COUNTIFS(Sheet1!$M$3:$M$893,A29, Sheet1!$BG$3:$BG$893,$E$1)","v":0},{"$f":"COUNTIFS(Sheet1!$M$3:$M$893,A29, Sheet1!$BH$3:$BH$893,$F$1)","v":0},{"$f":"COUNTIFS(Sheet1!$M$3:$M$893,A29, Sheet1!$BI$3:$BI$893,$G$1)","v":0}]
["Malta",{"$f":"COUNTIF(Sheet1!$M$3:$M$893,A30)","v":7},{"$f":"COUNTIFS(Sheet1!$M$3:$M$893,A30, Sheet1!$BE$3:$BE$893,$C$1)","v":2},{"$f":"COUNTIFS(Sheet1!$M$3:$M$893,A30, Sheet1!$BF$3:$BF$893,$D$1)","v":1},{"$f":"COUNTIFS(Sheet1!$M$3:$M$893,A30, Sheet1!$BG$3:$BG$893,$E$1)","v":2},{"$f":"COUNTIFS(Sheet1!$M$3:$M$893,A30, Sheet1!$BH$3:$BH$893,$F$1)","v":2},{"$f":"COUNTIFS(Sheet1!$M$3:$M$893,A30, Sheet1!$BI$3:$BI$893,$G$1)","v":0}]
["Netherlands",{"$f":"COUNTIF(Sheet1!$M$3:$M$893,A31)","v":35},{"$f":"COUNTIFS(Sheet1!$M$3:$M$893,A31, Sheet1!$BE$3:$BE$893,$C$1)","v":1},{"$f":"COUNTIFS(Sheet1!$M$3:$M$893,A31, Sheet1!$BF$3:$BF$893,$D$1)","v":3},{"$f":"COUNTIFS(Sheet1!$M$3:$M$893,A31, Sheet1!$BG$3:$BG$893,$E$1)","v":6},{"$f":"COUNTIFS(Sheet1!$M$3:$M$893,A31, Sheet1!$BH$3:$BH$893,$F$1)","v":19},{"$f":"COUNTIFS(Sheet1!$M$3:$M$893,A31, Sheet1!$BI$3:$BI$893,$G$1)","v":1}]
["Norway",{"$f":"COUNTIF(Sheet1!$M$3:$M$893,A32)","v":11},{"$f":"COUNTIFS(Sheet1!$M$3:$M$893,A32, Sheet1!$BE$3:$BE$893,$C$1)","v":1},{"$f":"COUNTIFS(Sheet1!$M$3:$M$893,A32, Sheet1!$BF$3:$BF$893,$D$1)","v":0},{"$f":"COUNTIFS(Sheet1!$M$3:$M$893,A32, Sheet1!$BG$3:$BG$893,$E$1)","v":1},{"$f":"COUNTIFS(Sheet1!$M$3:$M$893,A32, Sheet1!$BH$3:$BH$893,$F$1)","v":10},{"$f":"COUNTIFS(Sheet1!$M$3:$M$893,A32, Sheet1!$BI$3:$BI$893,$G$1)","v":0}]
["Poland",{"$f":"COUNTIF(Sheet1!$M$3:$M$893,A33)","v":15},{"$f":"COUNTIFS(Sheet1!$M$3:$M$893,A33, Sheet1!$BE$3:$BE$893,$C$1)","v":0},{"$f":"COUNTIFS(Sheet1!$M$3:$M$893,A33, Sheet1!$BF$3:$BF$893,$D$1)","v":0},{"$f":"COUNTIFS(Sheet1!$M$3:$M$893,A33, Sheet1!$BG$3:$BG$893,$E$1)","v":2},{"$f":"COUNTIFS(Sheet1!$M$3:$M$893,A33, Sheet1!$BH$3:$BH$893,$F$1)","v":5},{"$f":"COUNTIFS(Sheet1!$M$3:$M$893,A33, Sheet1!$BI$3:$BI$893,$G$1)","v":2}]
["Portugal",{"$f":"COUNTIF(Sheet1!$M$3:$M$893,A34)","v":57},{"$f":"COUNTIFS(Sheet1!$M$3:$M$893,A34, Sheet1!$BE$3:$BE$893,$C$1)","v":0},{"$f":"COUNTIFS(Sheet1!$M$3:$M$893,A34, Sheet1!$BF$3:$BF$893,$D$1)","v":0},{"$f":"COUNTIFS(Sheet1!$M$3:$M$893,A34, Sheet1!$BG$3:$BG$893,$E$1)","v":6},{"$f":"COUNTIFS(Sheet1!$M$3:$M$893,A34, Sheet1!$BH$3:$BH$893,$F$1)","v":21},{"$f":"COUNTIFS(Sheet1!$M$3:$M$893,A34, Sheet1!$BI$3:$BI$893,$G$1)","v":8}]
["Republic of Moldova",{"$f":"COUNTIF(Sheet1!$M$3:$M$893,A35)","v":4},{"$f":"COUNTIFS(Sheet1!$M$3:$M$893,A35, Sheet1!$BE$3:$BE$893,$C$1)","v":1},{"$f":"COUNTIFS(Sheet1!$M$3:$M$893,A35, Sheet1!$BF$3:$BF$893,$D$1)","v":0},{"$f":"COUNTIFS(Sheet1!$M$3:$M$893,A35, Sheet1!$BG$3:$BG$893,$E$1)","v":1},{"$f":"COUNTIFS(Sheet1!$M$3:$M$893,A35, Sheet1!$BH$3:$BH$893,$F$1)","v":0},{"$f":"COUNTIFS(Sheet1!$M$3:$M$893,A35, Sheet1!$BI$3:$BI$893,$G$1)","v":1}]
["Romania",{"$f":"COUNTIF(Sheet1!$M$3:$M$893,A36)","v":25},{"$f":"COUNTIFS(Sheet1!$M$3:$M$893,A36, Sheet1!$BE$3:$BE$893,$C$1)","v":1},{"$f":"COUNTIFS(Sheet1!$M$3:$M$893,A36, Sheet1!$BF$3:$BF$893,$D$1)","v":4},{"$f":"COUNTIFS(Sheet1!$M$3:$M$893,A36, Sheet1!$BG$3:$BG$893,$E$1)","v":5},{"$f":"COUNTIFS(Sheet1!$M$3:$M$893,A36, Sheet1!$BH$3:$BH$893,$F$1)","v":11},{"$f":"COUNTIFS(Sheet1!$M$3:$M$893,A36, Sheet1!$BI$3:$BI$893,$G$1)","v":0}]
["Russian Federation",{"$f":"COUNTIF(Sheet1!$M$3:$M$893,A37)","v":11},{"$f":"COUNTIFS(Sheet1!$M$3:$M$893,A37, Sheet1!$BE$3:$BE$893,$C$1)","v":3},{"$f":"COUNTIFS(Sheet1!$M$3:$M$893,A37, Sheet1!$BF$3:$BF$893,$D$1)","v":3},{"$f":"COUNTIFS(Sheet1!$M$3:$M$893,A37, Sheet1!$BG$3:$BG$893,$E$1)","v":2},{"$f":"COUNTIFS(Sheet1!$M$3:$M$893,A37, Sheet1!$BH$3:$BH$893,$F$1)","v":3},{"$f":"COUNTIFS(Sheet1!$M$3:$M$893,A37, Sheet1!$BI$3:$BI$893,$G$1)","v":1}]
["Serbia",{"$f":"COUNTIF(Sheet1!$M$3:$M$893,A38)","v":31},{"$f":"COUNTIFS(Sheet1!$M$3:$M$893,A38, Sheet1!$BE$3:$BE$893,$C$1)","v":1},{"$f":"COUNTIFS(Sheet1!$M$3:$M$893,A38, Sheet1!$BF$3:$BF$893,$D$1)","v":1},{"$f":"COUNTIFS(Sheet1!$M$3:$M$893,A38, Sheet1!$BG$3:$BG$893,$E$1)","v":0},{"$f":"COUNTIFS(Sheet1!$M$3:$M$893,A38, Sheet1!$BH$3:$BH$893,$F$1)","v":12},{"$f":"COUNTIFS(Sheet1!$M$3:$M$893,A38, Sheet1!$BI$3:$BI$893,$G$1)","v":1}]
["Slovakia",{"$f":"COUNTIF(Sheet1!$M$3:$M$893,A39)","v":3},{"$f":"COUNTIFS(Sheet1!$M$3:$M$893,A39, Sheet1!$BE$3:$BE$893,$C$1)","v":1},{"$f":"COUNTIFS(Sheet1!$M$3:$M$893,A39, Sheet1!$BF$3:$BF$893,$D$1)","v":1},{"$f":"COUNTIFS(Sheet1!$M$3:$M$893,A39, Sheet1!$BG$3:$BG$893,$E$1)","v":0},{"$f":"COUNTIFS(Sheet1!$M$3:$M$893,A39, Sheet1!$BH$3:$BH$893,$F$1)","v":1},{"$f":"COUNTIFS(Sheet1!$M$3:$M$893,A39, Sheet1!$BI$3:$BI$893,$G$1)","v":0}]
["Slovenia",{"$f":"COUNTIF(Sheet1!$M$3:$M$893,A40)","v":7},{"$f":"COUNTIFS(Sheet1!$M$3:$M$893,A40, Sheet1!$BE$3:$BE$893,$C$1)","v":0},{"$f":"COUNTIFS(Sheet1!$M$3:$M$893,A40, Sheet1!$BF$3:$BF$893,$D$1)","v":2},{"$f":"COUNTIFS(Sheet1!$M$3:$M$893,A40, Sheet1!$BG$3:$BG$893,$E$1)","v":2},{"$f":"COUNTIFS(Sheet1!$M$3:$M$893,A40, Sheet1!$BH$3:$BH$893,$F$1)","v":3},{"$f":"COUNTIFS(Sheet1!$M$3:$M$893,A40, Sheet1!$BI$3:$BI$893,$G$1)","v":0}]
["Spain",{"$f":"COUNTIF(Sheet1!$M$3:$M$893,A41)","v":51},{"$f":"COUNTIFS(Sheet1!$M$3:$M$893,A41, Sheet1!$BE$3:$BE$893,$C$1)","v":3},{"$f":"COUNTIFS(Sheet1!$M$3:$M$893,A41, Sheet1!$BF$3:$BF$893,$D$1)","v":3},{"$f":"COUNTIFS(Sheet1!$M$3:$M$893,A41, Sheet1!$BG$3:$BG$893,$E$1)","v":4},{"$f":"COUNTIFS(Sheet1!$M$3:$M$893,A41, Sheet1!$BH$3:$BH$893,$F$1)","v":22},{"$f":"COUNTIFS(Sheet1!$M$3:$M$893,A41, Sheet1!$BI$3:$BI$893,$G$1)","v":7}]
["Sweden",{"$f":"COUNTIF(Sheet1!$M$3:$M$893,A42)","v":17},{"$f":"COUNTIFS(Sheet1!$M$3:$M$893,A42, Sheet1!$BE$3:$BE$893,$C$1)","v":1},{"$f":"COUNTIFS(Sheet1!$M$3:$M$893,A42, Sheet1!$BF$3:$BF$893,$D$1)","v":0},{"$f":"COUNTIFS(Sheet1!$M$3:$M$893,A42, Sheet1!$BG$3:$BG$893,$E$1)","v":4},{"$f":"COUNTIFS(Sheet1!$M$3:$M$893,A42, Sheet1!$BH$3:$BH$893,$F$1)","v":10},{"$f":"COUNTIFS(Sheet1!$M$3:$M$893,A42, Sheet1!$BI$3:$BI$893,$G$1)","v":1}]
["Switzerland",{"$f":"COUNTIF(Sheet1!$M$3:$M$893,A43)","v":29},{"$f":"COUNTIFS(Sheet1!$M$3:$M$893,A43, Sheet1!$BE$3:$BE$893,$C$1)","v":1},{"$f":"COUNTIFS(Sheet1!$M$3:$M$893,A43, Sheet1!$BF$3:$BF$893,$D$1)","v":0},{"$f":"COUNTIFS(Sheet1!$M$3:$M$893,A43, Sheet1!$BG$3:$BG$893,$E$1)","v":7},{"$f":"COUNTIFS(Sheet1!$M$3:$M$893,A43, Sheet1!$BH$3:$BH$893,$F$1)","v":15},{"$f":"COUNTIFS(Sheet1!$M$3:$M$893,A43, Sheet1!$BI$3:$BI$893,$G$1)","v":1}]
["The former Yugoslav Republic of Macedonia",{"$f":"COUNTIF(Sheet1!$M$3:$M$893,A44)","v":5},{"$f":"COUNTIFS(Sheet1!$M$3:$M$893,A44, Sheet1!$BE$3:$BE$893,$C$1)","v":1},{"$f":"COUNTIFS(Sheet1!$M$3:$M$893,A44, Sheet1!$BF$3:$BF$893,$D$1)","v":1},{"$f":"COUNTIFS(Sheet1!$M$3:$M$893,A44, Sheet1!$BG$3:$BG$893,$E$1)","v":1},{"$f":"COUNTIFS(Sheet1!$M$3:$M$893,A44, Sheet1!$BH$3:$BH$893,$F$1)","v":2},{"$f":"COUNTIFS(Sheet1!$M$3:$M$893,A44, Sheet1!$BI$3:$BI$893,$G$1)","v":0}]
["Turkey",{"$f":"COUNTIF(Sheet1!$M$3:$M$893,A45)","v":58},{"$f":"COUNTIFS(Sheet1!$M$3:$M$893,A45, Sheet1!$BE$3:$BE$893,$C$1)","v":2},{"$f":"COUNTIFS(Sheet1!$M$3:$M$893,A45, Sheet1!$BF$3:$BF$893,$D$1)","v":2},{"$f":"COUNTIFS(Sheet1!$M$3:$M$893,A45, Sheet1!$BG$3:$BG$893,$E$1)","v":10},{"$f":"COUNTIFS(Sheet1!$M$3:$M$893,A45, Sheet1!$BH$3:$BH$893,$F$1)","v":22},{"$f":"COUNTIFS(Sheet1!$M$3:$M$893,A45, Sheet1!$BI$3:$BI$893,$G$1)","v":5}]
["Ukraine",{"$f":"COUNTIF(Sheet1!$M$3:$M$893,A46)","v":7},{"$f":"COUNTIFS(Sheet1!$M$3:$M$893,A46, Sheet1!$BE$3:$BE$893,$C$1)","v":0},{"$f":"COUNTIFS(Sheet1!$M$3:$M$893,A46, Sheet1!$BF$3:$BF$893,$D$1)","v":1},{"$f":"COUNTIFS(Sheet1!$M$3:$M$893,A46, Sheet1!$BG$3:$BG$893,$E$1)","v":0},{"$f":"COUNTIFS(Sheet1!$M$3:$M$893,A46, Sheet1!$BH$3:$BH$893,$F$1)","v":3},{"$f":"COUNTIFS(Sheet1!$M$3:$M$893,A46, Sheet1!$BI$3:$BI$893,$G$1)","v":1}]
["United Kingdom of Great Britain and Northern Ireland",{"$f":"COUNTIF(Sheet1!$M$3:$M$893,A47)","v":32},{"$f":"COUNTIFS(Sheet1!$M$3:$M$893,A47, Sheet1!$BE$3:$BE$893,$C$1)","v":4},{"$f":"COUNTIFS(Sheet1!$M$3:$M$893,A47, Sheet1!$BF$3:$BF$893,$D$1)","v":2},{"$f":"COUNTIFS(Sheet1!$M$3:$M$893,A47, Sheet1!$BG$3:$BG$893,$E$1)","v":6},{"$f":"COUNTIFS(Sheet1!$M$3:$M$893,A47, Sheet1!$BH$3:$BH$893,$F$1)","v":16},{"$f":"COUNTIFS(Sheet1!$M$3:$M$893,A47, Sheet1!$BI$3:$BI$893,$G$1)","v":1}]
["Azerbaijan",{"$f":"COUNTIF(Sheet1!$M$3:$M$893,A48)","v":1},{"$f":"COUNTIFS(Sheet1!$M$3:$M$893,A48, Sheet1!$BE$3:$BE$893,$C$1)","v":0},{"$f":"COUNTIFS(Sheet1!$M$3:$M$893,A48, Sheet1!$BF$3:$BF$893,$D$1)","v":0},{"$f":"COUNTIFS(Sheet1!$M$3:$M$893,A48, Sheet1!$BG$3:$BG$893,$E$1)","v":0},{"$f":"COUNTIFS(Sheet1!$M$3:$M$893,A48, Sheet1!$BH$3:$BH$893,$F$1)","v":0},{"$f":"COUNTIFS(Sheet1!$M$3:$M$893,A48, Sheet1!$BI$3:$BI$893,$G$1)","v":0}]
["Sum",{"$f":"SUM(B2:B48)","v":719},55,57,110,322,{"$f":"SUM(G2:G48)","v":51}]

{"sheet":"22. Pitanje","index":8,"n_rows":49,"n_cols":5,"rows_kept":49}
["22.Do you have a national anesthesia curriculum in your country?","Ukupan broj","Yes","No","I do not know"]
["Albania",{"$f":"COUNTIF(Sheet1!$M$3:$M$893,A2)","v":6},{"$f":"COUNTIFS(Sheet1!$M$3:$M$893,A2, Sheet1!$BT$3:$BT$893,$C$1)","v":2},{"$f":"COUNTIFS(Sheet1!$M$3:$M$893,A2, Sheet1!$BT$3:$BT$893,$D$1)","v":2},{"$f":"COUNTIFS(Sheet1!$M$3:$M$893,A2, Sheet1!$BT$3:$BT$893,$E$1)","v":0}]
["Armenia",{"$f":"COUNTIF(Sheet1!$M$3:$M$893,A3)","v":1},{"$f":"COUNTIFS(Sheet1!$M$3:$M$893,A3, Sheet1!$BT$3:$BT$893,$C$1)","v":1},{"$f":"COUNTIFS(Sheet1!$M$3:$M$893,A3, Sheet1!$BT$3:$BT$893,$D$1)","v":0},{"$f":"COUNTIFS(Sheet1!$M$3:$M$893,A3, Sheet1!$BT$3:$BT$893,$E$1)","v":0}]
["Austria",{"$f":"COUNTIF(Sheet1!$M$3:$M$893,A4)","v":15},{"$f":"COUNTIFS(Sheet1!$M$3:$M$893,A4, Sheet1!$BT$3:$BT$893,$C$1)","v":10},{"$f":"COUNTIFS(Sheet1!$M$3:$M$893,A4, Sheet1!$BT$3:$BT$893,$D$1)","v":0},{"$f":"COUNTIFS(Sheet1!$M$3:$M$893,A4, Sheet1!$BT$3:$BT$893,$E$1)","v":2}]
["Belarus",{"$f":"COUNTIF(Sheet1!$M$3:$M$893,A5)","v":1},{"$f":"COUNTIFS(Sheet1!$M$3:$M$893,A5, Sheet1!$BT$3:$BT$893,$C$1)","v":0},{"$f":"COUNTIFS(Sheet1!$M$3:$M$893,A5, Sheet1!$BT$3:$BT$893,$D$1)","v":1},{"$f":"COUNTIFS(Sheet1!$M$3:$M$893,A5, Sheet1!$BT$3:$BT$893,$E$1)","v":0}]
["Belgium",{"$f":"COUNTIF(Sheet1!$M$3:$M$893,A6)","v":30},{"$f":"COUNTIFS(Sheet1!$M$3:$M$893,A6, Sheet1!$BT$3:$BT$893,$C$1)","v":23},{"$f":"COUNTIFS(Sheet1!$M$3:$M$893,A6, Sheet1!$BT$3:$BT$893,$D$1)","v":2},{"$f":"COUNTIFS(Sheet1!$M$3:$M$893,A6, Sheet1!$BT$3:$BT$893,$E$1)","v":0}]
["Bosnia and Herzegovina",{"$f":"COUNTIF(Sheet1!$M$3:$M$893,A7)","v":4},{"$f":"COUNTIFS(Sheet1!$M$3:$M$893,A7, Sheet1!$BT$3:$BT$893,$C$1)","v":4},{"$f":"COUNTIFS(Sheet1!$M$3:$M$893,A7, Sheet1!$BT$3:$BT$893,$D$1)","v":0},{"$f":"COUNTIFS(Sheet1!$M$3:$M$893,A7, Sheet1!$BT$3:$BT$893,$E$1)","v":0}]
["Bulgaria",{"$f":"COUNTIF(Sheet1!$M$3:$M$893,A8)","v":3},{"$f":"COUNTIFS(Sheet1!$M$3:$M$893,A8, Sheet1!$BT$3:$BT$893,$C$1)","v":3},{"$f":"COUNTIFS(Sheet1!$M$3:$M$893,A8, Sheet1!$BT$3:$BT$893,$D$1)","v":0},{"$f":"COUNTIFS(Sheet1!$M$3:$M$893,A8, Sheet1!$BT$3:$BT$893,$E$1)","v":0}]
["Croatia",{"$f":"COUNTIF(Sheet1!$M$3:$M$893,A9)","v":15},{"$f":"COUNTIFS(Sheet1!$M$3:$M$893,A9, Sheet1!$BT$3:$BT$893,$C$1)","v":7},{"$f":"COUNTIFS(Sheet1!$M$3:$M$893,A9, Sheet1!$BT$3:$BT$893,$D$1)","v":0},{"$f":"COUNTIFS(Sheet1!$M$3:$M$893,A9, Sheet1!$BT$3:$BT$893,$E$1)","v":4}]
["Cyprus",{"$f":"COUNTIF(Sheet1!$M$3:$M$893,A10)","v":4},{"$f":"COUNTIFS(Sheet1!$M$3:$M$893,A10, Sheet1!$BT$3:$BT$893,$C$1)","v":1},{"$f":"COUNTIFS(Sheet1!$M$3:$M$893,A10, Sheet1!$BT$3:$BT$893,$D$1)","v":1},{"$f":"COUNTIFS(Sheet1!$M$3:$M$893,A10, Sheet1!$BT$3:$BT$893,$E$1)","v":0}]
["Czech Republic",{"$f":"COUNTIF(Sheet1!$M$3:$M$893,A11)","v":5},{"$f":"COUNTIFS(Sheet1!$M$3:$M$893,A11, Sheet1!$BT$3:$BT$893,$C$1)","v":3},{"$f":"COUNTIFS(Sheet1!$M$3:$M$893,A11, Sheet1!$BT$3:$BT$893,$D$1)","v":0},{"$f":"COUNTIFS(Sheet1!$M$3:$M$893,A11, Sheet1!$BT$3:$BT$893,$E$1)","v":1}]
["Denmark",{"$f":"COUNTIF(Sheet1!$M$3:$M$893,A12)","v":7},{"$f":"COUNTIFS(Sheet1!$M$3:$M$893,A12, Sheet1!$BT$3:$BT$893,$C$1)","v":4},{"$f":"COUNTIFS(Sheet1!$M$3:$M$893,A12, Sheet1!$BT$3:$BT$893,$D$1)","v":0},{"$f":"COUNTIFS(Sheet1!$M$3:$M$893,A12, Sheet1!$BT$3:$BT$893,$E$1)","v":1}]
["Estonia",{"$f":"COUNTIF(Sheet1!$M$3:$M$893,A13)","v":3},{"$f":"COUNTIFS(Sheet1!$M$3:$M$893,A13, Sheet1!$BT$3:$BT$893,$C$1)","v":3},{"$f":"COUNTIFS(Sheet1!$M$3:$M$893,A13, Sheet1!$BT$3:$BT$893,$D$1)","v":0},{"$f":"COUNTIFS(Sheet1!$M$3:$M$893,A13, Sheet1!$BT$3:$BT$893,$E$1)","v":0}]
["Finland",{"$f":"COUNTIF(Sheet1!$M$3:$M$893,A14)","v":8},{"$f":"COUNTIFS(Sheet1!$M$3:$M$893,A14, Sheet1!$BT$3:$BT$893,$C$1)","v":6},{"$f":"COUNTIFS(Sheet1!$M$3:$M$893,A14, Sheet1!$BT$3:$BT$893,$D$1)","v":1},{"$f":"COUNTIFS(Sheet1!$M$3:$M$893,A14, Sheet1!$BT$3:$BT$893,$E$1)","v":1}]
["Uzbekistan",{"$f":"COUNTIF(Sheet1!$M$3:$M$893,A15)","v":1},{"$f":"COUNTIFS(Sheet1!$M$3:$M$893,A15, Sheet1!$BT$3:$BT$893,$C$1)","v":1},{"$f":"COUNTIFS(Sheet1!$M$3:$M$893,A15, Sheet1!$BT$3:$BT$893,$D$1)","v":0},{"$f":"COUNTIFS(Sheet1!$M$3:$M$893,A15, Sheet1!$BT$3:$BT$893,$E$1)","v":0}]
["France",{"$f":"COUNTIF(Sheet1!$M$3:$M$893,A16)","v":14},{"$f":"COUNTIFS(Sheet1!$M$3:$M$893,A16, Sheet1!$BT$3:$BT$893,$C$1)","v":8},{"$f":"COUNTIFS(Sheet1!$M$3:$M$893,A16, Sheet1!$BT$3:$BT$893,$D$1)","v":1},{"$f":"COUNTIFS(Sheet1!$M$3:$M$893,A16, Sheet1!$BT$3:$BT$893,$E$1)","v":2}]
["Israel",{"$f":"COUNTIF(Sheet1!$M$3:$M$893,A17)","v":12},{"$f":"COUNTIFS(Sheet1!$M$3:$M$893,A17, Sheet1!$BT$3:$BT$893,$C$1)","v":11},{"$f":"COUNTIFS(Sheet1!$M$3:$M$893,A17, Sheet1!$BT$3:$BT$893,$D$1)","v":0},{"$f":"COUNTIFS(Sheet1!$M$3:$M$893,A17, Sheet1!$BT$3:$BT$893,$E$1)","v":0}]
["Georgia",{"$f":"COUNTIF(Sheet1!$M$3:$M$893,A18)","v":3},{"$f":"COUNTIFS(Sheet1!$M$3:$M$893,A18, Sheet1!$BT$3:$BT$893,$C$1)","v":1},{"$f":"COUNTIFS(Sheet1!$M$3:$M$893,A18, Sheet1!$BT$3:$BT$893,$D$1)","v":0},{"$f":"COUNTIFS(Sheet1!$M$3:$M$893,A18, Sheet1!$BT$3:$BT$893,$E$1)","v":0}]
["Germany",{"$f":"COUNTIF(Sheet1!$M$3:$M$893,A19)","v":70},{"$f":"COUNTIFS(Sheet1!$M$3:$M$893,A19, Sheet1!$BT$3:$BT$893,$C$1)","v":41},{"$f":"COUNTIFS(Sheet1!$M$3:$M$893,A19, Sheet1!$BT$3:$BT$893,$D$1)","v":13},{"$f":"COUNTIFS(Sheet1!$M$3:$M$893,A19, Sheet1!$BT$3:$BT$893,$E$1)","v":5}]
["Kazakhstan",{"$f":"COUNTIF(Sheet1!$M$3:$M$893,A20)","v":1},{"$f":"COUNTIFS(Sheet1!$M$3:$M$893,A20, Sheet1!$BT$3:$BT$893,$C$1)","v":0},{"$f":"COUNTIFS(Sheet1!$M$3:$M$893,A20, Sheet1!$BT$3:$BT$893,$D$1)","v":0},{"$f":"COUNTIFS(Sheet1!$M$3:$M$893,A20, Sheet1!$BT$3:$BT$893,$E$1)","v":0}]
["Greece",{"$f":"COUNTIF(Sheet1!$M$3:$M$893,A21)","v":42},{"$f":"COUNTIFS(Sheet1!$M$3:$M$893,A21, Sheet1!$BT$3:$BT$893,$C$1)","v":27},{"$f":"COUNTIFS(Sheet1!$M$3:$M$893,A21, Sheet1!$BT$3:$BT$893,$D$1)","v":2},{"$f":"COUNTIFS(Sheet1!$M$3:$M$893,A21, Sheet1!$BT$3:$BT$893,$E$1)","v":5}]
["Hungary",{"$f":"COUNTIF(Sheet1!$M$3:$M$893,A22)","v":6},{"$f":"COUNTIFS(Sheet1!$M$3:$M$893,A22, Sheet1!$BT$3:$BT$893,$C$1)","v":6},{"$f":"COUNTIFS(Sheet1!$M$3:$M$893,A22, Sheet1!$BT$3:$BT$893,$D$1)","v":0},{"$f":"COUNTIFS(Sheet1!$M$3:$M$893,A22, Sheet1!$BT$3:$BT$893,$E$1)","v":0}]
["Iceland",{"$f":"COUNTIF(Sheet1!$M$3:$M$893,A23)","v":1},{"$f":"COUNTIFS(Sheet1!$M$3:$M$893,A23, Sheet1!$BT$3:$BT$893,$C$1)","v":1},{"$f":"COUNTIFS(Sheet1!$M$3:$M$893,A23, Sheet1!$BT$3:$BT$893,$D$1)","v":0},{"$f":"COUNTIFS(Sheet1!$M$3:$M$893,A23, Sheet1!$BT$3:$BT$893,$E$1)","v":0}]
["Ireland",{"$f":"COUNTIF(Sheet1!$M$3:$M$893,A24)","v":8},{"$f":"COUNTIFS(Sheet1!$M$3:$M$893,A24, Sheet1!$BT$3:$BT$893,$C$1)","v":5},{"$f":"COUNTIFS(Sheet1!$M$3:$M$893,A24, Sheet1!$BT$3:$BT$893,$D$1)","v":0},{"$f":"COUNTIFS(Sheet1!$M$3:$M$893,A24, Sheet1!$BT$3:$BT$893,$E$1)","v":2}]
["Italy",{"$f":"COUNTIF(Sheet1!$M$3:$M$893,A25)","v":30},{"$f":"COUNTIFS(Sheet1!$M$3:$M$893,A25, Sheet1!$BT$3:$BT$893,$C$1)","v":8},{"$f":"COUNTIFS(Sheet1!$M$3:$M$893,A25, Sheet1!$BT$3:$BT$893,$D$1)","v":6},{"$f":"COUNTIFS(Sheet1!$M$3:$M$893,A25, Sheet1!$BT$3:$BT$893,$E$1)","v":6}]
["Latvia",{"$f":"COUNTIF(Sheet1!$M$3:$M$893,A26)","v":10},{"$f":"COUNTIFS(Sheet1!$M$3:$M$893,A26, Sheet1!$BT$3:$BT$893,$C$1)","v":6},{"$f":"COUNTIFS(Sheet1!$M$3:$M$893,A26, Sheet1!$BT$3:$BT$893,$D$1)","v":1},{"$f":"COUNTIFS(Sheet1!$M$3:$M$893,A26, Sheet1!$BT$3:$BT$893,$E$1)","v":3}]
["Lithuania",{"$f":"COUNTIF(Sheet1!$M$3:$M$893,A27)","v":9},{"$f":"COUNTIFS(Sheet1!$M$3:$M$893,A27, Sheet1!$BT$3:$BT$893,$C$1)","v":3},{"$f":"COUNTIFS(Sheet1!$M$3:$M$893,A27, Sheet1!$BT$3:$BT$893,$D$1)","v":4},{"$f":"COUNTIFS(Sheet1!$M$3:$M$893,A27, Sheet1!$BT$3:$BT$893,$E$1)","v":2}]
["Indonesia",{"$f":"COUNTIF(Sheet1!$M$3:$M$893,A28)","v":3},{"$f":"COUNTIFS(Sheet1!$M$3:$M$893,A28, Sheet1!$BT$3:$BT$893,$C$1)","v":2},{"$f":"COUNTIFS(Sheet1!$M$3:$M$893,A28, Sheet1!$BT$3:$BT$893,$D$1)","v":0},{"$f":"COUNTIFS(Sheet1!$M$3:$M$893,A28, Sheet1!$BT$3:$BT$893,$E$1)","v":0}]
["Luxembourg",{"$f":"COUNTIF(Sheet1!$M$3:$M$893,A29)","v":1},{"$f":"COUNTIFS(Sheet1!$M$3:$M$893,A29, Sheet1!$BT$3:$BT$893,$C$1)","v":0},{"$f":"COUNTIFS(Sheet1!$M$3:$M$893,A29, Sheet1!$BT$3:$BT$893,$D$1)","v":0},{"$f":"COUNTIFS(Sheet1!$M$3:$M$893,A29, Sheet1!$BT$3:$BT$893,$E$1)","v":0}]
["Malta",{"$f":"COUNTIF(Sheet1!$M$3:$M$893,A30)","v":7},{"$f":"COUNTIFS(Sheet1!$M$3:$M$893,A30, Sheet1!$BT$3:$BT$893,$C$1)","v":6},{"$f":"COUNTIFS(Sheet1!$M$3:$M$893,A30, Sheet1!$BT$3:$BT$893,$D$1)","v":0},{"$f":"COUNTIFS(Sheet1!$M$3:$M$893,A30, Sheet1!$BT$3:$BT$893,$E$1)","v":0}]
["Netherlands",{"$f":"COUNTIF(Sheet1!$M$3:$M$893,A31)","v":35},{"$f":"COUNTIFS(Sheet1!$M$3:$M$893,A31, Sheet1!$BT$3:$BT$893,$C$1)","v":29},{"$f":"COUNTIFS(Sheet1!$M$3:$M$893,A31, Sheet1!$BT$3:$BT$893,$D$1)","v":0},{"$f":"COUNTIFS(Sheet1!$M$3:$M$893,A31, Sheet1!$BT$3:$BT$893,$E$1)","v":0}]
["Norway",{"$f":"COUNTIF(Sheet1!$M$3:$M$893,A32)","v":11},{"$f":"COUNTIFS(Sheet1!$M$3:$M$893,A32, Sheet1!$BT$3:$BT$893,$C$1)","v":11},{"$f":"COUNTIFS(Sheet1!$M$3:$M$893,A32, Sheet1!$BT$3:$BT$893,$D$1)","v":0},{"$f":"COUNTIFS(Sheet1!$M$3:$M$893,A32, Sheet1!$BT$3:$BT$893,$E$1)","v":0}]
["Poland",{"$f":"COUNTIF(Sheet1!$M$3:$M$893,A33)","v":15},{"$f":"COUNTIFS(Sheet1!$M$3:$M$893,A33, Sheet1!$BT$3:$BT$893,$C$1)","v":5},{"$f":"COUNTIFS(Sheet1!$M$3:$M$893,A33, Sheet1!$BT$3:$BT$893,$D$1)","v":0},{"$f":"COUNTIFS(Sheet1!$M$3:$M$893,A33, Sheet1!$BT$3:$BT$893,$E$1)","v":2}]
["Portugal",{"$f":"COUNTIF(Sheet1!$M$3:$M$893,A34)","v":57},{"$f":"COUNTIFS(Sheet1!$M$3:$M$893,A34, Sheet1!$BT$3:$BT$893,$C$1)","v":38},{"$f":"COUNTIFS(Sheet1!$M$3:$M$893,A34, Sheet1!$BT$3:$BT$893,$D$1)","v":0},{"$f":"COUNTIFS(Sheet1!$M$3:$M$893,A34, Sheet1!$BT$3:$BT$893,$E$1)","v":2}]
["Republic of Moldova",{"$f":"COUNTIF(Sheet1!$M$3:$M$893,A35)","v":4},{"$f":"COUNTIFS(Sheet1!$M$3:$M$893,A35, Sheet1!$BT$3:$BT$893,$C$1)","v":4},{"$f":"COUNTIFS(Sheet1!$M$3:$M$893,A35, Sheet1!$BT$3:$BT$893,$D$1)","v":0},{"$f":"COUNTIFS(Sheet1!$M$3:$M$893,A35, Sheet1!$BT$3:$BT$893,$E$1)","v":0}]
["Romania",{"$f":"COUNTIF(Sheet1!$M$3:$M$893,A36)","v":25},{"$f":"COUNTIFS(Sheet1!$M$3:$M$893,A36, Sheet1!$BT$3:$BT$893,$C$1)","v":16},{"$f":"COUNTIFS(Sheet1!$M$3:$M$893,A36, Sheet1!$BT$3:$BT$893,$D$1)","v":0},{"$f":"COUNTIFS(Sheet1!$M$3:$M$893,A36, Sheet1!$BT$3:$BT$893,$E$1)","v":0}]
["Russian Federation",{"$f":"COUNTIF(Sheet1!$M$3:$M$893,A37)","v":11},{"$f":"COUNTIFS(Sheet1!$M$3:$M$893,A37, Sheet1!$BT$3:$BT$893,$C$1)","v":5},{"$f":"COUNTIFS(Sheet1!$M$3:$M$893,A37, Sheet1!$BT$3:$BT$893,$D$1)","v":1},{"$f":"COUNTIFS(Sheet1!$M$3:$M$893,A37, Sheet1!$BT$3:$BT$893,$E$1)","v":3}]
["Serbia",{"$f":"COUNTIF(Sheet1!$M$3:$M$893,A38)","v":31},{"$f":"COUNTIFS(Sheet1!$M$3:$M$893,A38, Sheet1!$BT$3:$BT$893,$C$1)","v":10},{"$f":"COUNTIFS(Sheet1!$M$3:$M$893,A38, Sheet1!$BT$3:$BT$893,$D$1)","v":3},{"$f":"COUNTIFS(Sheet1!$M$3:$M$893,A38, Sheet1!$BT$3:$BT$893,$E$1)","v":9}]
["Slovakia",{"$f":"COUNTIF(Sheet1!$M$3:$M$893,A39)","v":3},{"$f":"COUNTIFS(Sheet1!$M$3:$M$893,A39, Sheet1!$BT$3:$BT$893,$C$1)","v":2},{"$f":"COUNTIFS(Sheet1!$M$3:$M$893,A39, Sheet1!$BT$3:$BT$893,$D$1)","v":0},{"$f":"COUNTIFS(Sheet1!$M$3:$M$893,A39, Sheet1!$BT$3:$BT$893,$E$1)","v":0}]
["Slovenia",{"$f":"COUNTIF(Sheet1!$M$3:$M$893,A40)","v":7},{"$f":"COUNTIFS(Sheet1!$M$3:$M$893,A40, Sheet1!$BT$3:$BT$893,$C$1)","v":4},{"$f":"COUNTIFS(Sheet1!$M$3:$M$893,A40, Sheet1!$BT$3:$BT$893,$D$1)","v":0},{"$f":"COUNTIFS(Sheet1!$M$3:$M$893,A40, Sheet1!$BT$3:$BT$893,$E$1)","v":1}]
["Spain",{"$f":"COUNTIF(Sheet1!$M$3:$M$893,A41)","v":51},{"$f":"COUNTIFS(Sheet1!$M$3:$M$893,A41, Sheet1!$BT$3:$BT$893,$C$1)","v":25},{"$f":"COUNTIFS(Sheet1!$M$3:$M$893,A41, Sheet1!$BT$3:$BT$893,$D$1)","v":8},{"$f":"COUNTIFS(Sheet1!$M$3:$M$893,A41, Sheet1!$BT$3:$BT$893,$E$1)","v":6}]
["Sweden",{"$f":"COUNTIF(Sheet1!$M$3:$M$893,A42)","v":17},{"$f":"COUNTIFS(Sheet1!$M$3:$M$893,A42, Sheet1!$BT$3:$BT$893,$C$1)","v":12},{"$f":"COUNTIFS(Sheet1!$M$3:$M$893,A42, Sheet1!$BT$3:$BT$893,$D$1)","v":3},{"$f":"COUNTIFS(Sheet1!$M$3:$M$893,A42, Sheet1!$BT$3:$BT$893,$E$1)","v":0}]
["Switzerland",{"$f":"COUNTIF(Sheet1!$M$3:$M$893,A43)","v":29},{"$f":"COUNTIFS(Sheet1!$M$3:$M$893,A43, Sheet1!$BT$3:$BT$893,$C$1)","v":24},{"$f":"COUNTIFS(Sheet1!$M$3:$M$893,A43, Sheet1!$BT$3:$BT$893,$D$1)","v":1},{"$f":"COUNTIFS(Sheet1!$M$3:$M$893,A43, Sheet1!$BT$3:$BT$893,$E$1)","v":0}]
["The former Yugoslav Republic of Macedonia",{"$f":"COUNTIF(Sheet1!$M$3:$M$893,A44)","v":5},{"$f":"COUNTIFS(Sheet1!$M$3:$M$893,A44, Sheet1!$BT$3:$BT$893,$C$1)","v":3},{"$f":"COUNTIFS(Sheet1!$M$3:$M$893,A44, Sheet1!$BT$3:$BT$893,$D$1)","v":2},{"$f":"COUNTIFS(Sheet1!$M$3:$M$893,A44, Sheet1!$BT$3:$BT$893,$E$1)","v":0}]
["Turkey",{"$f":"COUNTIF(Sheet1!$M$3:$M$893,A45)","v":58},{"$f":"COUNTIFS(Sheet1!$M$3:$M$893,A45, Sheet1!$BT$3:$BT$893,$C$1)","v":29},{"$f":"COUNTIFS(Sheet1!$M$3:$M$893,A45, Sheet1!$BT$3:$BT$893,$D$1)","v":1},{"$f":"COUNTIFS(Sheet1!$M$3:$M$893,A45, Sheet1!$BT$3:$BT$893,$E$1)","v":5}]
["Ukraine",{"$f":"COUNTIF(Sheet1!$M$3:$M$893,A46)","v":7},{"$f":"COUNTIFS(Sheet1!$M$3:$M$893,A46, Sheet1!$BT$3:$BT$893,$C$1)","v":3},{"$f":"COUNTIFS(Sheet1!$M$3:$M$893,A46, Sheet1!$BT$3:$BT$893,$D$1)","v":1},{"$f":"COUNTIFS(Sheet1!$M$3:$M$893,A46, Sheet1!$BT$3:$BT$893,$E$1)","v":1}]
["United Kingdom of Great Britain and Northern Ireland",{"$f":"COUNTIF(Sheet1!$M$3:$M$893,A47)","v":32},{"$f":"COUNTIFS(Sheet1!$M$3:$M$893,A47, Sheet1!$BT$3:$BT$893,$C$1)","v":19},{"$f":"COUNTIFS(Sheet1!$M$3:$M$893,A47, Sheet1!$BT$3:$BT$893,$D$1)","v":5},{"$f":"COUNTIFS(Sheet1!$M$3:$M$893,A47, Sheet1!$BT$3:$BT$893,$E$1)","v":0}]
["Azerbaijan",{"$f":"COUNTIF(Sheet1!$M$3:$M$893,A48)","v":1},{"$f":"COUNTIFS(Sheet1!$M$3:$M$893,A48, Sheet1!$BT$3:$BT$893,$C$1)","v":0},{"$f":"COUNTIFS(Sheet1!$M$3:$M$893,A48, Sheet1!$BT$3:$BT$893,$D$1)","v":0},{"$f":"COUNTIFS(Sheet1!$M$3:$M$893,A48, Sheet1!$BT$3:$BT$893,$E$1)","v":0}]
["Sum",{"$f":"SUM(B2:B48)","v":719},432,59,63]

{"sheet":"23. Pitanje","index":9,"n_rows":49,"n_cols":7,"rows_kept":49}
["23. Do you have any knowledge of competence-based (or outcome-based) education?","Ukupan broj","Yes, I am well informed","I have some ideas, but it is not clear to me","I know what is it, but outcome-based education is not implemented in my country","I do not know much","I have no knowledge of what it is"]
["Albania",{"$f":"COUNTIF(Sheet1!$M$3:$M$893,A2)","v":6},{"$f":"COUNTIFS(Sheet1!$M$3:$M$893,A2, Sheet1!$BU$3:$BU$893,$C$1)","v":2},{"$f":"COUNTIFS(Sheet1!$M$3:$M$893,A2, Sheet1!$BU$3:$BU$893,$D$1)","v":1},{"$f":"COUNTIFS(Sheet1!$M$3:$M$893,A2, Sheet1!$BU$3:$BU$893,$E$1)","v":1},{"$f":"COUNTIFS(Sheet1!$M$3:$M$893,A2, Sheet1!$BU$3:$BU$893,$F$1)","v":0},{"$f":"COUNTIFS(Sheet1!$M$3:$M$893,A2, Sheet1!$BU$3:$BU$893,$G$1)","v":0}]
["Armenia",{"$f":"COUNTIF(Sheet1!$M$3:$M$893,A3)","v":1},{"$f":"COUNTIFS(Sheet1!$M$3:$M$893,A3, Sheet1!$BU$3:$BU$893,$C$1)","v":1},{"$f":"COUNTIFS(Sheet1!$M$3:$M$893,A3, Sheet1!$BU$3:$BU$893,$D$1)","v":0},{"$f":"COUNTIFS(Sheet1!$M$3:$M$893,A3, Sheet1!$BU$3:$BU$893,$E$1)","v":0},{"$f":"COUNTIFS(Sheet1!$M$3:$M$893,A3, Sheet1!$BU$3:$BU$893,$F$1)","v":0},{"$f":"COUNTIFS(Sheet1!$M$3:$M$893,A3, Sheet1!$BU$3:$BU$893,$G$1)","v":0}]
["Austria",{"$f":"COUNTIF(Sheet1!$M$3:$M$893,A4)","v":15},{"$f":"COUNTIFS(Sheet1!$M$3:$M$893,A4, Sheet1!$BU$3:$BU$893,$C$1)","v":3},{"$f":"COUNTIFS(Sheet1!$M$3:$M$893,A4, Sheet1!$BU$3:$BU$893,$D$1)","v":3},{"$f":"COUNTIFS(Sheet1!$M$3:$M$893,A4, Sheet1!$BU$3:$BU$893,$E$1)","v":0},{"$f":"COUNTIFS(Sheet1!$M$3:$M$893,A4, Sheet1!$BU$3:$BU$893,$F$1)","v":4},{"$f":"COUNTIFS(Sheet1!$M$3:$M$893,A4, Sheet1!$BU$3:$BU$893,$G$1)","v":2}]
["Belarus",{"$f":"COUNTIF(Sheet1!$M$3:$M$893,A5)","v":1},{"$f":"COUNTIFS(Sheet1!$M$3:$M$893,A5, Sheet1!$BU$3:$BU$893,$C$1)","v":0},{"$f":"COUNTIFS(Sheet1!$M$3:$M$893,A5, Sheet1!$BU$3:$BU$893,$D$1)","v":0},{"$f":"COUNTIFS(Sheet1!$M$3:$M$893,A5, Sheet1!$BU$3:$BU$893,$E$1)","v":0},{"$f":"COUNTIFS(Sheet1!$M$3:$M$893,A5, Sheet1!$BU$3:$BU$893,$F$1)","v":0},{"$f":"COUNTIFS(Sheet1!$M$3:$M$893,A5, Sheet1!$BU$3:$BU$893,$G$1)","v":1}]
["Belgium",{"$f":"COUNTIF(Sheet1!$M$3:$M$893,A6)","v":30},{"$f":"COUNTIFS(Sheet1!$M$3:$M$893,A6, Sheet1!$BU$3:$BU$893,$C$1)","v":8},{"$f":"COUNTIFS(Sheet1!$M$3:$M$893,A6, Sheet1!$BU$3:$BU$893,$D$1)","v":8},{"$f":"COUNTIFS(Sheet1!$M$3:$M$893,A6, Sheet1!$BU$3:$BU$893,$E$1)","v":5},{"$f":"COUNTIFS(Sheet1!$M$3:$M$893,A6, Sheet1!$BU$3:$BU$893,$F$1)","v":3},{"$f":"COUNTIFS(Sheet1!$M$3:$M$893,A6, Sheet1!$BU$3:$BU$893,$G$1)","v":1}]
["Bosnia and Herzegovina",{"$f":"COUNTIF(Sheet1!$M$3:$M$893,A7)","v":4},{"$f":"COUNTIFS(Sheet1!$M$3:$M$893,A7, Sheet1!$BU$3:$BU$893,$C$1)","v":2},{"$f":"COUNTIFS(Sheet1!$M$3:$M$893,A7, Sheet1!$BU$3:$BU$893,$D$1)","v":1},{"$f":"COUNTIFS(Sheet1!$M$3:$M$893,A7, Sheet1!$BU$3:$BU$893,$E$1)","v":1},{"$f":"COUNTIFS(Sheet1!$M$3:$M$893,A7, Sheet1!$BU$3:$BU$893,$F$1)","v":0},{"$f":"COUNTIFS(Sheet1!$M$3:$M$893,A7, Sheet1!$BU$3:$BU$893,$G$1)","v":0}]
["Bulgaria",{"$f":"COUNTIF(Sheet1!$M$3:$M$893,A8)","v":3},{"$f":"COUNTIFS(Sheet1!$M$3:$M$893,A8, Sheet1!$BU$3:$BU$893,$C$1)","v":3},{"$f":"COUNTIFS(Sheet1!$M$3:$M$893,A8, Sheet1!$BU$3:$BU$893,$D$1)","v":0},{"$f":"COUNTIFS(Sheet1!$M$3:$M$893,A8, Sheet1!$BU$3:$BU$893,$E$1)","v":0},{"$f":"COUNTIFS(Sheet1!$M$3:$M$893,A8, Sheet1!$BU$3:$BU$893,$F$1)","v":0},{"$f":"COUNTIFS(Sheet1!$M$3:$M$893,A8, Sheet1!$BU$3:$BU$893,$G$1)","v":0}]
["Croatia",{"$f":"COUNTIF(Sheet1!$M$3:$M$893,A9)","v":15},{"$f":"COUNTIFS(Sheet1!$M$3:$M$893,A9, Sheet1!$BU$3:$BU$893,$C$1)","v":0},{"$f":"COUNTIFS(Sheet1!$M$3:$M$893,A9, Sheet1!$BU$3:$BU$893,$D$1)","v":2},{"$f":"COUNTIFS(Sheet1!$M$3:$M$893,A9, Sheet1!$BU$3:$BU$893,$E$1)","v":7},{"$f":"COUNTIFS(Sheet1!$M$3:$M$893,A9, Sheet1!$BU$3:$BU$893,$F$1)","v":0},{"$f":"COUNTIFS(Sheet1!$M$3:$M$893,A9, Sheet1!$BU$3:$BU$893,$G$1)","v":2}]
["Cyprus",{"$f":"COUNTIF(Sheet1!$M$3:$M$893,A10)","v":4},{"$f":"COUNTIFS(Sheet1!$M$3:$M$893,A10, Sheet1!$BU$3:$BU$893,$C$1)","v":0},{"$f":"COUNTIFS(Sheet1!$M$3:$M$893,A10, Sheet1!$BU$3:$BU$893,$D$1)","v":0},{"$f":"COUNTIFS(Sheet1!$M$3:$M$893,A10, Sheet1!$BU$3:$BU$893,$E$1)","v":0},{"$f":"COUNTIFS(Sheet1!$M$3:$M$893,A10, Sheet1!$BU$3:$BU$893,$F$1)","v":2},{"$f":"COUNTIFS(Sheet1!$M$3:$M$893,A10, Sheet1!$BU$3:$BU$893,$G$1)","v":0}]
["Czech Republic",{"$f":"COUNTIF(Sheet1!$M$3:$M$893,A11)","v":5},{"$f":"COUNTIFS(Sheet1!$M$3:$M$893,A11, Sheet1!$BU$3:$BU$893,$C$1)","v":0},{"$f":"COUNTIFS(Sheet1!$M$3:$M$893,A11, Sheet1!$BU$3:$BU$893,$D$1)","v":2},{"$f":"COUNTIFS(Sheet1!$M$3:$M$893,A11, Sheet1!$BU$3:$BU$893,$E$1)","v":0},{"$f":"COUNTIFS(Sheet1!$M$3:$M$893,A11, Sheet1!$BU$3:$BU$893,$F$1)","v":1},{"$f":"COUNTIFS(Sheet1!$M$3:$M$893,A11, Sheet1!$BU$3:$BU$893,$G$1)","v":1}]
["Denmark",{"$f":"COUNTIF(Sheet1!$M$3:$M$893,A12)","v":7},{"$f":"COUNTIFS(Sheet1!$M$3:$M$893,A12, Sheet1!$BU$3:$BU$893,$C$1)","v":3},{"$f":"COUNTIFS(Sheet1!$M$3:$M$893,A12, Sheet1!$BU$3:$BU$893,$D$1)","v":1},{"$f":"COUNTIFS(Sheet1!$M$3:$M$893,A12, Sheet1!$BU$3:$BU$893,$E$1)","v":0},{"$f":"COUNTIFS(Sheet1!$M$3:$M$893,A12, Sheet1!$BU$3:$BU$893,$F$1)","v":1},{"$f":"COUNTIFS(Sheet1!$M$3:$M$893,A12, Sheet1!$BU$3:$BU$893,$G$1)","v":0}]
["Estonia",{"$f":"COUNTIF(Sheet1!$M$3:$M$893,A13)","v":3},{"$f":"COUNTIFS(Sheet1!$M$3:$M$893,A13, Sheet1!$BU$3:$BU$893,$C$1)","v":1},{"$f":"COUNTIFS(Sheet1!$M$3:$M$893,A13, Sheet1!$BU$3:$BU$893,$D$1)","v":2},{"$f":"COUNTIFS(Sheet1!$M$3:$M$893,A13, Sheet1!$BU$3:$BU$893,$E$1)","v":0},{"$f":"COUNTIFS(Sheet1!$M$3:$M$893,A13, Sheet1!$BU$3:$BU$893,$F$1)","v":0},{"$f":"COUNTIFS(Sheet1!$M$3:$M$893,A13, Sheet1!$BU$3:$BU$893,$G$1)","v":0}]
["Finland",{"$f":"COUNTIF(Sheet1!$M$3:$M$893,A14)","v":8},{"$f":"COUNTIFS(Sheet1!$M$3:$M$893,A14, Sheet1!$BU$3:$BU$893,$C$1)","v":4},{"$f":"COUNTIFS(Sheet1!$M$3:$M$893,A14, Sheet1!$BU$3:$BU$893,$D$1)","v":0},{"$f":"COUNTIFS(Sheet1!$M$3:$M$893,A14, Sheet1!$BU$3:$BU$893,$E$1)","v":0},{"$f":"COUNTIFS(Sheet1!$M$3:$M$893,A14, Sheet1!$BU$3:$BU$893,$F$1)","v":2},{"$f":"COUNTIFS(Sheet1!$M$3:$M$893,A14, Sheet1!$BU$3:$BU$893,$G$1)","v":2}]
["Uzbekistan",{"$f":"COUNTIF(Sheet1!$M$3:$M$893,A15)","v":1},{"$f":"COUNTIFS(Sheet1!$M$3:$M$893,A15, Sheet1!$BU$3:$BU$893,$C$1)","v":1},{"$f":"COUNTIFS(Sheet1!$M$3:$M$893,A15, Sheet1!$BU$3:$BU$893,$D$1)","v":0},{"$f":"COUNTIFS(Sheet1!$M$3:$M$893,A15, Sheet1!$BU$3:$BU$893,$E$1)","v":0},{"$f":"COUNTIFS(Sheet1!$M$3:$M$893,A15, Sheet1!$BU$3:$BU$893,$F$1)","v":0},{"$f":"COUNTIFS(Sheet1!$M$3:$M$893,A15, Sheet1!$BU$3:$BU$893,$G$1)","v":0}]
["France",{"$f":"COUNTIF(Sheet1!$M$3:$M$893,A16)","v":14},{"$f":"COUNTIFS(Sheet1!$M$3:$M$893,A16, Sheet1!$BU$3:$BU$893,$C$1)","v":3},{"$f":"COUNTIFS(Sheet1!$M$3:$M$893,A16, Sheet1!$BU$3:$BU$893,$D$1)","v":1},{"$f":"COUNTIFS(Sheet1!$M$3:$M$893,A16, Sheet1!$BU$3:$BU$893,$E$1)","v":4},{"$f":"COUNTIFS(Sheet1!$M$3:$M$893,A16, Sheet1!$BU$3:$BU$893,$F$1)","v":2},{"$f":"COUNTIFS(Sheet1!$M$3:$M$893,A16, Sheet1!$BU$3:$BU$893,$G$1)","v":1}]
["Israel",{"$f":"COUNTIF(Sheet1!$M$3:$M$893,A17)","v":12},{"$f":"COUNTIFS(Sheet1!$M$3:$M$893,A17, Sheet1!$BU$3:$BU$893,$C$1)","v":4},{"$f":"COUNTIFS(Sheet1!$M$3:$M$893,A17, Sheet1!$BU$3:$BU$893,$D$1)","v":1},{"$f":"COUNTIFS(Sheet1!$M$3:$M$893,A17, Sheet1!$BU$3:$BU$893,$E$1)","v":5},{"$f":"COUNTIFS(Sheet1!$M$3:$M$893,A17, Sheet1!$BU$3:$BU$893,$F$1)","v":1},{"$f":"COUNTIFS(Sheet1!$M$3:$M$893,A17, Sheet1!$BU$3:$BU$893,$G$1)","v":0}]
["Georgia",{"$f":"COUNTIF(Sheet1!$M$3:$M$893,A18)","v":3},{"$f":"COUNTIFS(Sheet1!$M$3:$M$893,A18, Sheet1!$BU$3:$BU$893,$C$1)","v":1},{"$f":"COUNTIFS(Sheet1!$M$3:$M$893,A18, Sheet1!$BU$3:$BU$893,$D$1)","v":0},{"$f":"COUNTIFS(Sheet1!$M$3:$M$893,A18, Sheet1!$BU$3:$BU$893,$E$1)","v":0},{"$f":"COUNTIFS(Sheet1!$M$3:$M$893,A18, Sheet1!$BU$3:$BU$893,$F$1)","v":0},{"$f":"COUNTIFS(Sheet1!$M$3:$M$893,A18, Sheet1!$BU$3:$BU$893,$G$1)","v":0}]
["Germany",{"$f":"COUNTIF(Sheet1!$M$3:$M$893,A19)","v":70},{"$f":"COUNTIFS(Sheet1!$M$3:$M$893,A19, Sheet1!$BU$3:$BU$893,$C$1)","v":13},{"$f":"COUNTIFS(Sheet1!$M$3:$M$893,A19, Sheet1!$BU$3:$BU$893,$D$1)","v":19},{"$f":"COUNTIFS(Sheet1!$M$3:$M$893,A19, Sheet1!$BU$3:$BU$893,$E$1)","v":7},{"$f":"COUNTIFS(Sheet1!$M$3:$M$893,A19, Sheet1!$BU$3:$BU$893,$F$1)","v":11},{"$f":"COUNTIFS(Sheet1!$M$3:$M$893,A19, Sheet1!$BU$3:$BU$893,$G$1)","v":9}]
["Kazakhstan",{"$f":"COUNTIF(Sheet1!$M$3:$M$893,A20)","v":1},{"$f":"COUNTIFS(Sheet1!$M$3:$M$893,A20, Sheet1!$BU$3:$BU$893,$C$1)","v":0},{"$f":"COUNTIFS(Sheet1!$M$3:$M$893,A20, Sheet1!$BU$3:$BU$893,$D$1)","v":0},{"$f":"COUNTIFS(Sheet1!$M$3:$M$893,A20, Sheet1!$BU$3:$BU$893,$E$1)","v":0},{"$f":"COUNTIFS(Sheet1!$M$3:$M$893,A20, Sheet1!$BU$3:$BU$893,$F$1)","v":0},{"$f":"COUNTIFS(Sheet1!$M$3:$M$893,A20, Sheet1!$BU$3:$BU$893,$G$1)","v":0}]
["Greece",{"$f":"COUNTIF(Sheet1!$M$3:$M$893,A21)","v":42},{"$f":"COUNTIFS(Sheet1!$M$3:$M$893,A21, Sheet1!$BU$3:$BU$893,$C$1)","v":15},{"$f":"COUNTIFS(Sheet1!$M$3:$M$893,A21, Sheet1!$BU$3:$BU$893,$D$1)","v":5},{"$f":"COUNTIFS(Sheet1!$M$3:$M$893,A21, Sheet1!$BU$3:$BU$893,$E$1)","v":6},{"$f":"COUNTIFS(Sheet1!$M$3:$M$893,A21, Sheet1!$BU$3:$BU$893,$F$1)","v":8},{"$f":"COUNTIFS(Sheet1!$M$3:$M$893,A21, Sheet1!$BU$3:$BU$893,$G$1)","v":0}]
["Hungary",{"$f":"COUNTIF(Sheet1!$M$3:$M$893,A22)","v":6},{"$f":"COUNTIFS(Sheet1!$M$3:$M$893,A22, Sheet1!$BU$3:$BU$893,$C$1)","v":0},{"$f":"COUNTIFS(Sheet1!$M$3:$M$893,A22, Sheet1!$BU$3:$BU$893,$D$1)","v":2},{"$f":"COUNTIFS(Sheet1!$M$3:$M$893,A22, Sheet1!$BU$3:$BU$893,$E$1)","v":3},{"$f":"COUNTIFS(Sheet1!$M$3:$M$893,A22, Sheet1!$BU$3:$BU$893,$F$1)","v":1},{"$f":"COUNTIFS(Sheet1!$M$3:$M$893,A22, Sheet1!$BU$3:$BU$893,$G$1)","v":0}]
["Iceland",{"$f":"COUNTIF(Sheet1!$M$3:$M$893,A23)","v":1},{"$f":"COUNTIFS(Sheet1!$M$3:$M$893,A23, Sheet1!$BU$3:$BU$893,$C$1)","v":0},{"$f":"COUNTIFS(Sheet1!$M$3:$M$893,A23, Sheet1!$BU$3:$BU$893,$D$1)","v":0},{"$f":"COUNTIFS(Sheet1!$M$3:$M$893,A23, Sheet1!$BU$3:$BU$893,$E$1)","v":0},{"$f":"COUNTIFS(Sheet1!$M$3:$M$893,A23, Sheet1!$BU$3:$BU$893,$F$1)","v":1},{"$f":"COUNTIFS(Sheet1!$M$3:$M$893,A23, Sheet1!$BU$3:$BU$893,$G$1)","v":0}]
["Ireland",{"$f":"COUNTIF(Sheet1!$M$3:$M$893,A24)","v":8},{"$f":"COUNTIFS(Sheet1!$M$3:$M$893,A24, Sheet1!$BU$3:$BU$893,$C$1)","v":3},{"$f":"COUNTIFS(Sheet1!$M$3:$M$893,A24, Sheet1!$BU$3:$BU$893,$D$1)","v":2},{"$f":"COUNTIFS(Sheet1!$M$3:$M$893,A24, Sheet1!$BU$3:$BU$893,$E$1)","v":0},{"$f":"COUNTIFS(Sheet1!$M$3:$M$893,A24, Sheet1!$BU$3:$BU$893,$F$1)","v":2},{"$f":"COUNTIFS(Sheet1!$M$3:$M$893,A24, Sheet1!$BU$3:$BU$893,$G$1)","v":0}]
["Italy",{"$f":"COUNTIF(Sheet1!$M$3:$M$893,A25)","v":30},{"$f":"COUNTIFS(Sheet1!$M$3:$M$893,A25, Sheet1!$BU$3:$BU$893,$C$1)","v":5},{"$f":"COUNTIFS(Sheet1!$M$3:$M$893,A25, Sheet1!$BU$3:$BU$893,$D$1)","v":4},{"$f":"COUNTIFS(Sheet1!$M$3:$M$893,A25, Sheet1!$BU$3:$BU$893,$E$1)","v":3},{"$f":"COUNTIFS(Sheet1!$M$3:$M$893,A25, Sheet1!$BU$3:$BU$893,$F$1)","v":5},{"$f":"COUNTIFS(Sheet1!$M$3:$M$893,A25, Sheet1!$BU$3:$BU$893,$G$1)","v":3}]
["Latvia",{"$f":"COUNTIF(Sheet1!$M$3:$M$893,A26)","v":10},{"$f":"COUNTIFS(Sheet1!$M$3:$M$893,A26, Sheet1!$BU$3:$BU$893,$C$1)","v":5},{"$f":"COUNTIFS(Sheet1!$M$3:$M$893,A26, Sheet1!$BU$3:$BU$893,$D$1)","v":1},{"$f":"COUNTIFS(Sheet1!$M$3:$M$893,A26, Sheet1!$BU$3:$BU$893,$E$1)","v":2},{"$f":"COUNTIFS(Sheet1!$M$3:$M$893,A26, Sheet1!$BU$3:$BU$893,$F$1)","v":1},{"$f":"COUNTIFS(Sheet1!$M$3:$M$893,A26, Sheet1!$BU$3:$BU$893,$G$1)","v":1}]
["Lithuania",{"$f":"COUNTIF(Sheet1!$M$3:$M$893,A27)","v":9},{"$f":"COUNTIFS(Sheet1!$M$3:$M$893,A27, Sheet1!$BU$3:$BU$893,$C$1)","v":4},{"$f":"COUNTIFS(Sheet1!$M$3:$M$893,A27, Sheet1!$BU$3:$BU$893,$D$1)","v":2},{"$f":"COUNTIFS(Sheet1!$M$3:$M$893,A27, Sheet1!$BU$3:$BU$893,$E$1)","v":2},{"$f":"COUNTIFS(Sheet1!$M$3:$M$893,A27, Sheet1!$BU$3:$BU$893,$F$1)","v":1},{"$f":"COUNTIFS(Sheet1!$M$3:$M$893,A27, Sheet1!$BU$3:$BU$893,$G$1)","v":0}]
["Indonesia",{"$f":"COUNTIF(Sheet1!$M$3:$M$893,A28)","v":3},{"$f":"COUNTIFS(Sheet1!$M$3:$M$893,A28, Sheet1!$BU$3:$BU$893,$C$1)","v":1},{"$f":"COUNTIFS(Sheet1!$M$3:$M$893,A28, Sheet1!$BU$3:$BU$893,$D$1)","v":1},{"$f":"COUNTIFS(Sheet1!$M$3:$M$893,A28, Sheet1!$BU$3:$BU$893,$E$1)","v":0},{"$f":"COUNTIFS(Sheet1!$M$3:$M$893,A28, Sheet1!$BU$3:$BU$893,$F$1)","v":0},{"$f":"COUNTIFS(Sheet1!$M$3:$M$893,A28, Sheet1!$BU$3:$BU$893,$G$1)","v":0}]
["Luxembourg",{"$f":"COUNTIF(Sheet1!$M$3:$M$893,A29)","v":1},{"$f":"COUNTIFS(Sheet1!$M$3:$M$893,A29, Sheet1!$BU$3:$BU$893,$C$1)","v":0},{"$f":"COUNTIFS(Sheet1!$M$3:$M$893,A29, Sheet1!$BU$3:$BU$893,$D$1)","v":0},{"$f":"COUNTIFS(Sheet1!$M$3:$M$893,A29, Sheet1!$BU$3:$BU$893,$E$1)","v":0},{"$f":"COUNTIFS(Sheet1!$M$3:$M$893,A29, Sheet1!$BU$3:$BU$893,$F$1)","v":0},{"$f":"COUNTIFS(Sheet1!$M$3:$M$893,A29, Sheet1!$BU$3:$BU$893,$G$1)","v":0}]
["Malta",{"$f":"COUNTIF(Sheet1!$M$3:$M$893,A30)","v":7},{"$f":"COUNTIFS(Sheet1!$M$3:$M$893,A30, Sheet1!$BU$3:$BU$893,$C$1)","v":6},{"$f":"COUNTIFS(Sheet1!$M$3:$M$893,A30, Sheet1!$BU$3:$BU$893,$D$1)","v":0},{"$f":"COUNTIFS(Sheet1!$M$3:$M$893,A30, Sheet1!$BU$3:$BU$893,$E$1)","v":0},{"$f":"COUNTIFS(Sheet1!$M$3:$M$893,A30, Sheet1!$BU$3:$BU$893,$F$1)","v":0},{"$f":"COUNTIFS(Sheet1!$M$3:$M$893,A30, Sheet1!$BU$3:$BU$893,$G$1)","v":0}]
["Netherlands",{"$f":"COUNTIF(Sheet1!$M$3:$M$893,A31)","v":35},{"$f":"COUNTIFS(Sheet1!$M$3:$M$893,A31, Sheet1!$BU$3:$BU$893,$C$1)","v":19},{"$f":"COUNTIFS(Sheet1!$M$3:$M$893,A31, Sheet1!$BU$3:$BU$893,$D$1)","v":9},{"$f":"COUNTIFS(Sheet1!$M$3:$M$893,A31, Sheet1!$BU$3:$BU$893,$E$1)","v":0},{"$f":"COUNTIFS(Sheet1!$M$3:$M$893,A31, Sheet1!$BU$3:$BU$893,$F$1)","v":2},{"$f":"COUNTIFS(Sheet1!$M$3:$M$893,A31, Sheet1!$BU$3:$BU$893,$G$1)","v":0}]
["Norway",{"$f":"COUNTIF(Sheet1!$M$3:$M$893,A32)","v":11},{"$f":"COUNTIFS(Sheet1!$M$3:$M$893,A32, Sheet1!$BU$3:$BU$893,$C$1)","v":5},{"$f":"COUNTIFS(Sheet1!$M$3:$M$893,A32, Sheet1!$BU$3:$BU$893,$D$1)","v":3},{"$f":"COUNTIFS(Sheet1!$M$3:$M$893,A32, Sheet1!$BU$3:$BU$893,$E$1)","v":1},{"$f":"COUNTIFS(Sheet1!$M$3:$M$893,A32, Sheet1!$BU$3:$BU$893,$F$1)","v":1},{"$f":"COUNTIFS(Sheet1!$M$3:$M$893,A32, Sheet1!$BU$3:$BU$893,$G$1)","v":1}]
["Poland",{"$f":"COUNTIF(Sheet1!$M$3:$M$893,A33)","v":15},{"$f":"COUNTIFS(Sheet1!$M$3:$M$893,A33, Sheet1!$BU$3:$BU$893,$C$1)","v":1},{"$f":"COUNTIFS(Sheet1!$M$3:$M$893,A33, Sheet1!$BU$3:$BU$893,$D$1)","v":2},{"$f":"COUNTIFS(Sheet1!$M$3:$M$893,A33, Sheet1!$BU$3:$BU$893,$E$1)","v":2},{"$f":"COUNTIFS(Sheet1!$M$3:$M$893,A33, Sheet1!$BU$3:$BU$893,$F$1)","v":1},{"$f":"COUNTIFS(Sheet1!$M$3:$M$893,A33, Sheet1!$BU$3:$BU$893,$G$1)","v":1}]
["Portugal",{"$f":"COUNTIF(Sheet1!$M$3:$M$893,A34)","v":57},{"$f":"COUNTIFS(Sheet1!$M$3:$M$893,A34, Sheet1!$BU$3:$BU$893,$C$1)","v":18},{"$f":"COUNTIFS(Sheet1!$M$3:$M$893,A34, Sheet1!$BU$3:$BU$893,$D$1)","v":13},{"$f":"COUNTIFS(Sheet1!$M$3:$M$893,A34, Sheet1!$BU$3:$BU$893,$E$1)","v":5},{"$f":"COUNTIFS(Sheet1!$M$3:$M$893,A34, Sheet1!$BU$3:$BU$893,$F$1)","v":2},{"$f":"COUNTIFS(Sheet1!$M$3:$M$893,A34, Sheet1!$BU$3:$BU$893,$G$1)","v":2}]
["Republic of Moldova",{"$f":"COUNTIF(Sheet1!$M$3:$M$893,A35)","v":4},{"$f":"COUNTIFS(Sheet1!$M$3:$M$893,A35, Sheet1!$BU$3:$BU$893,$C$1)","v":1},{"$f":"COUNTIFS(Sheet1!$M$3:$M$893,A35, Sheet1!$BU$3:$BU$893,$D$1)","v":1},{"$f":"COUNTIFS(Sheet1!$M$3:$M$893,A35, Sheet1!$BU$3:$BU$893,$E$1)","v":1},{"$f":"COUNTIFS(Sheet1!$M$3:$M$893,A35, Sheet1!$BU$3:$BU$893,$F$1)","v":1},{"$f":"COUNTIFS(Sheet1!$M$3:$M$893,A35, Sheet1!$BU$3:$BU$893,$G$1)","v":0}]
["Romania",{"$f":"COUNTIF(Sheet1!$M$3:$M$893,A36)","v":25},{"$f":"COUNTIFS(Sheet1!$M$3:$M$893,A36, Sheet1!$BU$3:$BU$893,$C$1)","v":6},{"$f":"COUNTIFS(Sheet1!$M$3:$M$893,A36, Sheet1!$BU$3:$BU$893,$D$1)","v":6},{"$f":"COUNTIFS(Sheet1!$M$3:$M$893,A36, Sheet1!$BU$3:$BU$893,$E$1)","v":3},{"$f":"COUNTIFS(Sheet1!$M$3:$M$893,A36, Sheet1!$BU$3:$BU$893,$F$1)","v":1},{"$f":"COUNTIFS(Sheet1!$M$3:$M$893,A36, Sheet1!$BU$3:$BU$893,$G$1)","v":0}]
["Russian Federation",{"$f":"COUNTIF(Sheet1!$M$3:$M$893,A37)","v":11},{"$f":"COUNTIFS(Sheet1!$M$3:$M$893,A37, Sheet1!$BU$3:$BU$893,$C$1)","v":6},{"$f":"COUNTIFS(Sheet1!$M$3:$M$893,A37, Sheet1!$BU$3:$BU$893,$D$1)","v":1},{"$f":"COUNTIFS(Sheet1!$M$3:$M$893,A37, Sheet1!$BU$3:$BU$893,$E$1)","v":1},{"$f":"COUNTIFS(Sheet1!$M$3:$M$893,A37, Sheet1!$BU$3:$BU$893,$F$1)","v":0},{"$f":"COUNTIFS(Sheet1!$M$3:$M$893,A37, Sheet1!$BU$3:$BU$893,$G$1)","v":1}]
["Serbia",{"$f":"COUNTIF(Sheet1!$M$3:$M$893,A38)","v":31},{"$f":"COUNTIFS(Sheet1!$M$3:$M$893,A38, Sheet1!$BU$3:$BU$893,$C$1)","v":4},{"$f":"COUNTIFS(Sheet1!$M$3:$M$893,A38, Sheet1!$BU$3:$BU$893,$D$1)","v":4},{"$f":"COUNTIFS(Sheet1!$M$3:$M$893,A38, Sheet1!$BU$3:$BU$893,$E$1)","v":3},{"$f":"COUNTIFS(Sheet1!$M$3:$M$893,A38, Sheet1!$BU$3:$BU$893,$F$1)","v":7},{"$f":"COUNTIFS(Sheet1!$M$3:$M$893,A38, Sheet1!$BU$3:$BU$893,$G$1)","v":4}]
["Slovakia",{"$f":"COUNTIF(Sheet1!$M$3:$M$893,A39)","v":3},{"$f":"COUNTIFS(Sheet1!$M$3:$M$893,A39, Sheet1!$BU$3:$BU$893,$C$1)","v":1},{"$f":"COUNTIFS(Sheet1!$M$3:$M$893,A39, Sheet1!$BU$3:$BU$893,$D$1)","v":0},{"$f":"COUNTIFS(Sheet1!$M$3:$M$893,A39, Sheet1!$BU$3:$BU$893,$E$1)","v":1},{"$f":"COUNTIFS(Sheet1!$M$3:$M$893,A39, Sheet1!$BU$3:$BU$893,$F$1)","v":0},{"$f":"COUNTIFS(Sheet1!$M$3:$M$893,A39, Sheet1!$BU$3:$BU$893,$G$1)","v":0}]
["Slovenia",{"$f":"COUNTIF(Sheet1!$M$3:$M$893,A40)","v":7},{"$f":"COUNTIFS(Sheet1!$M$3:$M$893,A40, Sheet1!$BU$3:$BU$893,$C$1)","v":2},{"$f":"COUNTIFS(Sheet1!$M$3:$M$893,A40, Sheet1!$BU$3:$BU$893,$D$1)","v":1},{"$f":"COUNTIFS(Sheet1!$M$3:$M$893,A40, Sheet1!$BU$3:$BU$893,$E$1)","v":0},{"$f":"COUNTIFS(Sheet1!$M$3:$M$893,A40, Sheet1!$BU$3:$BU$893,$F$1)","v":1},{"$f":"COUNTIFS(Sheet1!$M$3:$M$893,A40, Sheet1!$BU$3:$BU$893,$G$1)","v":1}]
["Spain",{"$f":"COUNTIF(Sheet1!$M$3:$M$893,A41)","v":51},{"$f":"COUNTIFS(Sheet1!$M$3:$M$893,A41, Sheet1!$BU$3:$BU$893,$C$1)","v":10},{"$f":"COUNTIFS(Sheet1!$M$3:$M$893,A41, Sheet1!$BU$3:$BU$893,$D$1)","v":10},{"$f":"COUNTIFS(Sheet1!$M$3:$M$893,A41, Sheet1!$BU$3:$BU$893,$E$1)","v":9},{"$f":"COUNTIFS(Sheet1!$M$3:$M$893,A41, Sheet1!$BU$3:$BU$893,$F$1)","v":6},{"$f":"COUNTIFS(Sheet1!$M$3:$M$893,A41, Sheet1!$BU$3:$BU$893,$G$1)","v":4}]
["Sweden",{"$f":"COUNTIF(Sheet1!$M$3:$M$893,A42)","v":17},{"$f":"COUNTIFS(Sheet1!$M$3:$M$893,A42, Sheet1!$BU$3:$BU$893,$C$1)","v":7},{"$f":"COUNTIFS(Sheet1!$M$3:$M$893,A42, Sheet1!$BU$3:$BU$893,$D$1)","v":5},{"$f":"COUNTIFS(Sheet1!$M$3:$M$893,A42, Sheet1!$BU$3:$BU$893,$E$1)","v":1},{"$f":"COUNTIFS(Sheet1!$M$3:$M$893,A42, Sheet1!$BU$3:$BU$893,$F$1)","v":1},{"$f":"COUNTIFS(Sheet1!$M$3:$M$893,A42, Sheet1!$BU$3:$BU$893,$G$1)","v":1}]
["Switzerland",{"$f":"COUNTIF(Sheet1!$M$3:$M$893,A43)","v":29},{"$f":"COUNTIFS(Sheet1!$M$3:$M$893,A43, Sheet1!$BU$3:$BU$893,$C$1)","v":11},{"$f":"COUNTIFS(Sheet1!$M$3:$M$893,A43, Sheet1!$BU$3:$BU$893,$D$1)","v":5},{"$f":"COUNTIFS(Sheet1!$M$3:$M$893,A43, Sheet1!$BU$3:$BU$893,$E$1)","v":2},{"$f":"COUNTIFS(Sheet1!$M$3:$M$893,A43, Sheet1!$BU$3:$BU$893,$F$1)","v":4},{"$f":"COUNTIFS(Sheet1!$M$3:$M$893,A43, Sheet1!$BU$3:$BU$893,$G$1)","v":3}]
["The former Yugoslav Republic of Macedonia",{"$f":"COUNTIF(Sheet1!$M$3:$M$893,A44)","v":5},{"$f":"COUNTIFS(Sheet1!$M$3:$M$893,A44, Sheet1!$BU$3:$BU$893,$C$1)","v":1},{"$f":"COUNTIFS(Sheet1!$M$3:$M$893,A44, Sheet1!$BU$3:$BU$893,$D$1)","v":1},{"$f":"COUNTIFS(Sheet1!$M$3:$M$893,A44, Sheet1!$BU$3:$BU$893,$E$1)","v":2},{"$f":"COUNTIFS(Sheet1!$M$3:$M$893,A44, Sheet1!$BU$3:$BU$893,$F$1)","v":1},{"$f":"COUNTIFS(Sheet1!$M$3:$M$893,A44, Sheet1!$BU$3:$BU$893,$G$1)","v":0}]
["Turkey",{"$f":"COUNTIF(Sheet1!$M$3:$M$893,A45)","v":58},{"$f":"COUNTIFS(Sheet1!$M$3:$M$893,A45, Sheet1!$BU$3:$BU$893,$C$1)","v":10},{"$f":"COUNTIFS(Sheet1!$M$3:$M$893,A45, Sheet1!$BU$3:$BU$893,$D$1)","v":10},{"$f":"COUNTIFS(Sheet1!$M$3:$M$893,A45, Sheet1!$BU$3:$BU$893,$E$1)","v":4},{"$f":"COUNTIFS(Sheet1!$M$3:$M$893,A45, Sheet1!$BU$3:$BU$893,$F$1)","v":6},{"$f":"COUNTIFS(Sheet1!$M$3:$M$893,A45, Sheet1!$BU$3:$BU$893,$G$1)","v":5}]
["Ukraine",{"$f":"COUNTIF(Sheet1!$M$3:$M$893,A46)","v":7},{"$f":"COUNTIFS(Sheet1!$M$3:$M$893,A46, Sheet1!$BU$3:$BU$893,$C$1)","v":3},{"$f":"COUNTIFS(Sheet1!$M$3:$M$893,A46, Sheet1!$BU$3:$BU$893,$D$1)","v":0},{"$f":"COUNTIFS(Sheet1!$M$3:$M$893,A46, Sheet1!$BU$3:$BU$893,$E$1)","v":2},{"$f":"COUNTIFS(Sheet1!$M$3:$M$893,A46, Sheet1!$BU$3:$BU$893,$F$1)","v":0},{"$f":"COUNTIFS(Sheet1!$M$3:$M$893,A46, Sheet1!$BU$3:$BU$893,$G$1)","v":0}]
["United Kingdom of Great Britain and Northern Ireland",{"$f":"COUNTIF(Sheet1!$M$3:$M$893,A47)","v":32},{"$f":"COUNTIFS(Sheet1!$M$3:$M$893,A47, Sheet1!$BU$3:$BU$893,$C$1)","v":13},{"$f":"COUNTIFS(Sheet1!$M$3:$M$893,A47, Sheet1!$BU$3:$BU$893,$D$1)","v":8},{"$f":"COUNTIFS(Sheet1!$M$3:$M$893,A47, Sheet1!$BU$3:$BU$893,$E$1)","v":2},{"$f":"COUNTIFS(Sheet1!$M$3:$M$893,A47, Sheet1!$BU$3:$BU$893,$F$1)","v":0},{"$f":"COUNTIFS(Sheet1!$M$3:$M$893,A47, Sheet1!$BU$3:$BU$893,$G$1)","v":1}]
["Azerbaijan",{"$f":"COUNTIF(Sheet1!$M$3:$M$893,A48)","v":1},{"$f":"COUNTIFS(Sheet1!$M$3:$M$893,A48, Sheet1!$BU$3:$BU$893,$C$1)","v":0},{"$f":"COUNTIFS(Sheet1!$M$3:$M$893,A48, Sheet1!$BU$3:$BU$893,$D$1)","v":0},{"$f":"COUNTIFS(Sheet1!$M$3:$M$893,A48, Sheet1!$BU$3:$BU$893,$E$1)","v":0},{"$f":"COUNTIFS(Sheet1!$M$3:$M$893,A48, Sheet1!$BU$3:$BU$893,$F$1)","v":0},{"$f":"COUNTIFS(Sheet1!$M$3:$M$893,A48, Sheet1!$BU$3:$BU$893,$G$1)","v":0}]
["Sum",{"$f":"SUM(B2:B48)","v":719},206,137,85,80,{"$f":"SUM(G2:G48)","v":47}]

{"sheet":"24. Pitanje","index":10,"n_rows":49,"n_cols":5,"rows_kept":49}
["24. Do you have any information regarding European Training Requirements (ETR) in Anesthesiology?","Ukupan broj","Yes","No","I am not sure"]
["Albania",{"$f":"COUNTIF(Sheet1!$M$3:$M$893,A2)","v":6},{"$f":"COUNTIFS(Sheet1!$M$3:$M$893,A2, Sheet1!$BV$3:$BV$893,$C$1)","v":3},{"$f":"COUNTIFS(Sheet1!$M$3:$M$893,A2, Sheet1!$BV$3:$BV$893,$D$1)","v":1},{"$f":"COUNTIFS(Sheet1!$M$3:$M$893,A2, Sheet1!$BV$3:$BV$893,$E$1)","v":0}]
["Armenia",{"$f":"COUNTIF(Sheet1!$M$3:$M$893,A3)","v":1},{"$f":"COUNTIFS(Sheet1!$M$3:$M$893,A3, Sheet1!$BV$3:$BV$893,$C$1)","v":1},{"$f":"COUNTIFS(Sheet1!$M$3:$M$893,A3, Sheet1!$BV$3:$BV$893,$D$1)","v":0},{"$f":"COUNTIFS(Sheet1!$M$3:$M$893,A3, Sheet1!$BV$3:$BV$893,$E$1)","v":0}]
["Austria",{"$f":"COUNTIF(Sheet1!$M$3:$M$893,A4)","v":15},{"$f":"COUNTIFS(Sheet1!$M$3:$M$893,A4, Sheet1!$BV$3:$BV$893,$C$1)","v":4},{"$f":"COUNTIFS(Sheet1!$M$3:$M$893,A4, Sheet1!$BV$3:$BV$893,$D$1)","v":7},{"$f":"COUNTIFS(Sheet1!$M$3:$M$893,A4, Sheet1!$BV$3:$BV$893,$E$1)","v":1}]
["Belarus",{"$f":"COUNTIF(Sheet1!$M$3:$M$893,A5)","v":1},{"$f":"COUNTIFS(Sheet1!$M$3:$M$893,A5, Sheet1!$BV$3:$BV$893,$C$1)","v":0},{"$f":"COUNTIFS(Sheet1!$M$3:$M$893,A5, Sheet1!$BV$3:$BV$893,$D$1)","v":0},{"$f":"COUNTIFS(Sheet1!$M$3:$M$893,A5, Sheet1!$BV$3:$BV$893,$E$1)","v":1}]
["Belgium",{"$f":"COUNTIF(Sheet1!$M$3:$M$893,A6)","v":30},{"$f":"COUNTIFS(Sheet1!$M$3:$M$893,A6, Sheet1!$BV$3:$BV$893,$C$1)","v":8},{"$f":"COUNTIFS(Sheet1!$M$3:$M$893,A6, Sheet1!$BV$3:$BV$893,$D$1)","v":12},{"$f":"COUNTIFS(Sheet1!$M$3:$M$893,A6, Sheet1!$BV$3:$BV$893,$E$1)","v":5}]
["Bosnia and Herzegovina",{"$f":"COUNTIF(Sheet1!$M$3:$M$893,A7)","v":4},{"$f":"COUNTIFS(Sheet1!$M$3:$M$893,A7, Sheet1!$BV$3:$BV$893,$C$1)","v":1},{"$f":"COUNTIFS(Sheet1!$M$3:$M$893,A7, Sheet1!$BV$3:$BV$893,$D$1)","v":2},{"$f":"COUNTIFS(Sheet1!$M$3:$M$893,A7, Sheet1!$BV$3:$BV$893,$E$1)","v":1}]
["Bulgaria",{"$f":"COUNTIF(Sheet1!$M$3:$M$893,A8)","v":3},{"$f":"COUNTIFS(Sheet1!$M$3:$M$893,A8, Sheet1!$BV$3:$BV$893,$C$1)","v":1},{"$f":"COUNTIFS(Sheet1!$M$3:$M$893,A8, Sheet1!$BV$3:$BV$893,$D$1)","v":1},{"$f":"COUNTIFS(Sheet1!$M$3:$M$893,A8, Sheet1!$BV$3:$BV$893,$E$1)","v":1}]
["Croatia",{"$f":"COUNTIF(Sheet1!$M$3:$M$893,A9)","v":15},{"$f":"COUNTIFS(Sheet1!$M$3:$M$893,A9, Sheet1!$BV$3:$BV$893,$C$1)","v":2},{"$f":"COUNTIFS(Sheet1!$M$3:$M$893,A9, Sheet1!$BV$3:$BV$893,$D$1)","v":5},{"$f":"COUNTIFS(Sheet1!$M$3:$M$893,A9, Sheet1!$BV$3:$BV$893,$E$1)","v":4}]
["Cyprus",{"$f":"COUNTIF(Sheet1!$M$3:$M$893,A10)","v":4},{"$f":"COUNTIFS(Sheet1!$M$3:$M$893,A10, Sheet1!$BV$3:$BV$893,$C$1)","v":2},{"$f":"COUNTIFS(Sheet1!$M$3:$M$893,A10, Sheet1!$BV$3:$BV$893,$D$1)","v":0},{"$f":"COUNTIFS(Sheet1!$M$3:$M$893,A10, Sheet1!$BV$3:$BV$893,$E$1)","v":0}]
["Czech Republic",{"$f":"COUNTIF(Sheet1!$M$3:$M$893,A11)","v":5},{"$f":"COUNTIFS(Sheet1!$M$3:$M$893,A11, Sheet1!$BV$3:$BV$893,$C$1)","v":0},{"$f":"COUNTIFS(Sheet1!$M$3:$M$893,A11, Sheet1!$BV$3:$BV$893,$D$1)","v":1},{"$f":"COUNTIFS(Sheet1!$M$3:$M$893,A11, Sheet1!$BV$3:$BV$893,$E$1)","v":3}]
["Denmark",{"$f":"COUNTIF(Sheet1!$M$3:$M$893,A12)","v":7},{"$f":"COUNTIFS(Sheet1!$M$3:$M$893,A12, Sheet1!$BV$3:$BV$893,$C$1)","v":0},{"$f":"COUNTIFS(Sheet1!$M$3:$M$893,A12, Sheet1!$BV$3:$BV$893,$D$1)","v":4},{"$f":"COUNTIFS(Sheet1!$M$3:$M$893,A12, Sheet1!$BV$3:$BV$893,$E$1)","v":1}]
["Estonia",{"$f":"COUNTIF(Sheet1!$M$3:$M$893,A13)","v":3},{"$f":"COUNTIFS(Sheet1!$M$3:$M$893,A13, Sheet1!$BV$3:$BV$893,$C$1)","v":2},{"$f":"COUNTIFS(Sheet1!$M$3:$M$893,A13, Sheet1!$BV$3:$BV$893,$D$1)","v":0},{"$f":"COUNTIFS(Sheet1!$M$3:$M$893,A13, Sheet1!$BV$3:$BV$893,$E$1)","v":1}]
["Finland",{"$f":"COUNTIF(Sheet1!$M$3:$M$893,A14)","v":8},{"$f":"COUNTIFS(Sheet1!$M$3:$M$893,A14, Sheet1!$BV$3:$BV$893,$C$1)","v":4},{"$f":"COUNTIFS(Sheet1!$M$3:$M$893,A14, Sheet1!$BV$3:$BV$893,$D$1)","v":2},{"$f":"COUNTIFS(Sheet1!$M$3:$M$893,A14, Sheet1!$BV$3:$BV$893,$E$1)","v":2}]
["Uzbekistan",{"$f":"COUNTIF(Sheet1!$M$3:$M$893,A15)","v":1},{"$f":"COUNTIFS(Sheet1!$M$3:$M$893,A15, Sheet1!$BV$3:$BV$893,$C$1)","v":0},{"$f":"COUNTIFS(Sheet1!$M$3:$M$893,A15, Sheet1!$BV$3:$BV$893,$D$1)","v":0},{"$f":"COUNTIFS(Sheet1!$M$3:$M$893,A15, Sheet1!$BV$3:$BV$893,$E$1)","v":1}]
["France",{"$f":"COUNTIF(Sheet1!$M$3:$M$893,A16)","v":14},{"$f":"COUNTIFS(Sheet1!$M$3:$M$893,A16, Sheet1!$BV$3:$BV$893,$C$1)","v":6},{"$f":"COUNTIFS(Sheet1!$M$3:$M$893,A16, Sheet1!$BV$3:$BV$893,$D$1)","v":4},{"$f":"COUNTIFS(Sheet1!$M$3:$M$893,A16, Sheet1!$BV$3:$BV$893,$E$1)","v":1}]
["Israel",{"$f":"COUNTIF(Sheet1!$M$3:$M$893,A17)","v":12},{"$f":"COUNTIFS(Sheet1!$M$3:$M$893,A17, Sheet1!$BV$3:$BV$893,$C$1)","v":2},{"$f":"COUNTIFS(Sheet1!$M$3:$M$893,A17, Sheet1!$BV$3:$BV$893,$D$1)","v":5},{"$f":"COUNTIFS(Sheet1!$M$3:$M$893,A17, Sheet1!$BV$3:$BV$893,$E$1)","v":4}]
["Georgia",{"$f":"COUNTIF(Sheet1!$M$3:$M$893,A18)","v":3},{"$f":"COUNTIFS(Sheet1!$M$3:$M$893,A18, Sheet1!$BV$3:$BV$893,$C$1)","v":0},{"$f":"COUNTIFS(Sheet1!$M$3:$M$893,A18, Sheet1!$BV$3:$BV$893,$D$1)","v":0},{"$f":"COUNTIFS(Sheet1!$M$3:$M$893,A18, Sheet1!$BV$3:$BV$893,$E$1)","v":1}]
["Germany",{"$f":"COUNTIF(Sheet1!$M$3:$M$893,A19)","v":70},{"$f":"COUNTIFS(Sheet1!$M$3:$M$893,A19, Sheet1!$BV$3:$BV$893,$C$1)","v":9},{"$f":"COUNTIFS(Sheet1!$M$3:$M$893,A19, Sheet1!$BV$3:$BV$893,$D$1)","v":40},{"$f":"COUNTIFS(Sheet1!$M$3:$M$893,A19, Sheet1!$BV$3:$BV$893,$E$1)","v":10}]
["Kazakhstan",{"$f":"COUNTIF(Sheet1!$M$3:$M$893,A20)","v":1},{"$f":"COUNTIFS(Sheet1!$M$3:$M$893,A20, Sheet1!$BV$3:$BV$893,$C$1)","v":0},{"$f":"COUNTIFS(Sheet1!$M$3:$M$893,A20, Sheet1!$BV$3:$BV$893,$D$1)","v":0},{"$f":"COUNTIFS(Sheet1!$M$3:$M$893,A20, Sheet1!$BV$3:$BV$893,$E$1)","v":0}]
["Greece",{"$f":"COUNTIF(Sheet1!$M$3:$M$893,A21)","v":42},{"$f":"COUNTIFS(Sheet1!$M$3:$M$893,A21, Sheet1!$BV$3:$BV$893,$C$1)","v":24},{"$f":"COUNTIFS(Sheet1!$M$3:$M$893,A21, Sheet1!$BV$3:$BV$893,$D$1)","v":5},{"$f":"COUNTIFS(Sheet1!$M$3:$M$893,A21, Sheet1!$BV$3:$BV$893,$E$1)","v":5}]
["Hungary",{"$f":"COUNTIF(Sheet1!$M$3:$M$893,A22)","v":6},{"$f":"COUNTIFS(Sheet1!$M$3:$M$893,A22, Sheet1!$BV$3:$BV$893,$C$1)","v":2},{"$f":"COUNTIFS(Sheet1!$M$3:$M$893,A22, Sheet1!$BV$3:$BV$893,$D$1)","v":3},{"$f":"COUNTIFS(Sheet1!$M$3:$M$893,A22, Sheet1!$BV$3:$BV$893,$E$1)","v":1}]
["Iceland",{"$f":"COUNTIF(Sheet1!$M$3:$M$893,A23)","v":1},{"$f":"COUNTIFS(Sheet1!$M$3:$M$893,A23, Sheet1!$BV$3:$BV$893,$C$1)","v":1},{"$f":"COUNTIFS(Sheet1!$M$3:$M$893,A23, Sheet1!$BV$3:$BV$893,$D$1)","v":0},{"$f":"COUNTIFS(Sheet1!$M$3:$M$893,A23, Sheet1!$BV$3:$BV$893,$E$1)","v":0}]
["Ireland",{"$f":"COUNTIF(Sheet1!$M$3:$M$893,A24)","v":8},{"$f":"COUNTIFS(Sheet1!$M$3:$M$893,A24, Sheet1!$BV$3:$BV$893,$C$1)","v":3},{"$f":"COUNTIFS(Sheet1!$M$3:$M$893,A24, Sheet1!$BV$3:$BV$893,$D$1)","v":3},{"$f":"COUNTIFS(Sheet1!$M$3:$M$893,A24, Sheet1!$BV$3:$BV$893,$E$1)","v":1}]
["Italy",{"$f":"COUNTIF(Sheet1!$M$3:$M$893,A25)","v":30},{"$f":"COUNTIFS(Sheet1!$M$3:$M$893,A25, Sheet1!$BV$3:$BV$893,$C$1)","v":5},{"$f":"COUNTIFS(Sheet1!$M$3:$M$893,A25, Sheet1!$BV$3:$BV$893,$D$1)","v":10},{"$f":"COUNTIFS(Sheet1!$M$3:$M$893,A25, Sheet1!$BV$3:$BV$893,$E$1)","v":5}]
["Latvia",{"$f":"COUNTIF(Sheet1!$M$3:$M$893,A26)","v":10},{"$f":"COUNTIFS(Sheet1!$M$3:$M$893,A26, Sheet1!$BV$3:$BV$893,$C$1)","v":6},{"$f":"COUNTIFS(Sheet1!$M$3:$M$893,A26, Sheet1!$BV$3:$BV$893,$D$1)","v":1},{"$f":"COUNTIFS(Sheet1!$M$3:$M$893,A26, Sheet1!$BV$3:$BV$893,$E$1)","v":3}]
["Lithuania",{"$f":"COUNTIF(Sheet1!$M$3:$M$893,A27)","v":9},{"$f":"COUNTIFS(Sheet1!$M$3:$M$893,A27, Sheet1!$BV$3:$BV$893,$C$1)","v":3},{"$f":"COUNTIFS(Sheet1!$M$3:$M$893,A27, Sheet1!$BV$3:$BV$893,$D$1)","v":3},{"$f":"COUNTIFS(Sheet1!$M$3:$M$893,A27, Sheet1!$BV$3:$BV$893,$E$1)","v":3}]
["Indonesia",{"$f":"COUNTIF(Sheet1!$M$3:$M$893,A28)","v":3},{"$f":"COUNTIFS(Sheet1!$M$3:$M$893,A28, Sheet1!$BV$3:$BV$893,$C$1)","v":0},{"$f":"COUNTIFS(Sheet1!$M$3:$M$893,A28, Sheet1!$BV$3:$BV$893,$D$1)","v":2},{"$f":"COUNTIFS(Sheet1!$M$3:$M$893,A28, Sheet1!$BV$3:$BV$893,$E$1)","v":0}]
["Luxembourg",{"$f":"COUNTIF(Sheet1!$M$3:$M$893,A29)","v":1},{"$f":"COUNTIFS(Sheet1!$M$3:$M$893,A29, Sheet1!$BV$3:$BV$893,$C$1)","v":0},{"$f":"COUNTIFS(Sheet1!$M$3:$M$893,A29, Sheet1!$BV$3:$BV$893,$D$1)","v":0},{"$f":"COUNTIFS(Sheet1!$M$3:$M$893,A29, Sheet1!$BV$3:$BV$893,$E$1)","v":0}]
["Malta",{"$f":"COUNTIF(Sheet1!$M$3:$M$893,A30)","v":7},{"$f":"COUNTIFS(Sheet1!$M$3:$M$893,A30, Sheet1!$BV$3:$BV$893,$C$1)","v":6},{"$f":"COUNTIFS(Sheet1!$M$3:$M$893,A30, Sheet1!$BV$3:$BV$893,$D$1)","v":0},{"$f":"COUNTIFS(Sheet1!$M$3:$M$893,A30, Sheet1!$BV$3:$BV$893,$E$1)","v":0}]
["Netherlands",{"$f":"COUNTIF(Sheet1!$M$3:$M$893,A31)","v":35},{"$f":"COUNTIFS(Sheet1!$M$3:$M$893,A31, Sheet1!$BV$3:$BV$893,$C$1)","v":10},{"$f":"COUNTIFS(Sheet1!$M$3:$M$893,A31, Sheet1!$BV$3:$BV$893,$D$1)","v":17},{"$f":"COUNTIFS(Sheet1!$M$3:$M$893,A31, Sheet1!$BV$3:$BV$893,$E$1)","v":3}]
["Norway",{"$f":"COUNTIF(Sheet1!$M$3:$M$893,A32)","v":11},{"$f":"COUNTIFS(Sheet1!$M$3:$M$893,A32, Sheet1!$BV$3:$BV$893,$C$1)","v":2},{"$f":"COUNTIFS(Sheet1!$M$3:$M$893,A32, Sheet1!$BV$3:$BV$893,$D$1)","v":6},{"$f":"COUNTIFS(Sheet1!$M$3:$M$893,A32, Sheet1!$BV$3:$BV$893,$E$1)","v":3}]
["Poland",{"$f":"COUNTIF(Sheet1!$M$3:$M$893,A33)","v":15},{"$f":"COUNTIFS(Sheet1!$M$3:$M$893,A33, Sheet1!$BV$3:$BV$893,$C$1)","v":1},{"$f":"COUNTIFS(Sheet1!$M$3:$M$893,A33, Sheet1!$BV$3:$BV$893,$D$1)","v":5},{"$f":"COUNTIFS(Sheet1!$M$3:$M$893,A33, Sheet1!$BV$3:$BV$893,$E$1)","v":1}]
["Portugal",{"$f":"COUNTIF(Sheet1!$M$3:$M$893,A34)","v":57},{"$f":"COUNTIFS(Sheet1!$M$3:$M$893,A34, Sheet1!$BV$3:$BV$893,$C$1)","v":20},{"$f":"COUNTIFS(Sheet1!$M$3:$M$893,A34, Sheet1!$BV$3:$BV$893,$D$1)","v":11},{"$f":"COUNTIFS(Sheet1!$M$3:$M$893,A34, Sheet1!$BV$3:$BV$893,$E$1)","v":9}]
["Republic of Moldova",{"$f":"COUNTIF(Sheet1!$M$3:$M$893,A35)","v":4},{"$f":"COUNTIFS(Sheet1!$M$3:$M$893,A35, Sheet1!$BV$3:$BV$893,$C$1)","v":2},{"$f":"COUNTIFS(Sheet1!$M$3:$M$893,A35, Sheet1!$BV$3:$BV$893,$D$1)","v":2},{"$f":"COUNTIFS(Sheet1!$M$3:$M$893,A35, Sheet1!$BV$3:$BV$893,$E$1)","v":0}]
["Romania",{"$f":"COUNTIF(Sheet1!$M$3:$M$893,A36)","v":25},{"$f":"COUNTIFS(Sheet1!$M$3:$M$893,A36, Sheet1!$BV$3:$BV$893,$C$1)","v":13},{"$f":"COUNTIFS(Sheet1!$M$3:$M$893,A36, Sheet1!$BV$3:$BV$893,$D$1)","v":2},{"$f":"COUNTIFS(Sheet1!$M$3:$M$893,A36, Sheet1!$BV$3:$BV$893,$E$1)","v":1}]
["Russian Federation",{"$f":"COUNTIF(Sheet1!$M$3:$M$893,A37)","v":11},{"$f":"COUNTIFS(Sheet1!$M$3:$M$893,A37, Sheet1!$BV$3:$BV$893,$C$1)","v":4},{"$f":"COUNTIFS(Sheet1!$M$3:$M$893,A37, Sheet1!$BV$3:$BV$893,$D$1)","v":4},{"$f":"COUNTIFS(Sheet1!$M$3:$M$893,A37, Sheet1!$BV$3:$BV$893,$E$1)","v":1}]
["Serbia",{"$f":"COUNTIF(Sheet1!$M$3:$M$893,A38)","v":31},{"$f":"COUNTIFS(Sheet1!$M$3:$M$893,A38, Sheet1!$BV$3:$BV$893,$C$1)","v":6},{"$f":"COUNTIFS(Sheet1!$M$3:$M$893,A38, Sheet1!$BV$3:$BV$893,$D$1)","v":9},{"$f":"COUNTIFS(Sheet1!$M$3:$M$893,A38, Sheet1!$BV$3:$BV$893,$E$1)","v":7}]
["Slovakia",{"$f":"COUNTIF(Sheet1!$M$3:$M$893,A39)","v":3},{"$f":"COUNTIFS(Sheet1!$M$3:$M$893,A39, Sheet1!$BV$3:$BV$893,$C$1)","v":1},{"$f":"COUNTIFS(Sheet1!$M$3:$M$893,A39, Sheet1!$BV$3:$BV$893,$D$1)","v":0},{"$f":"COUNTIFS(Sheet1!$M$3:$M$893,A39, Sheet1!$BV$3:$BV$893,$E$1)","v":1}]
["Slovenia",{"$f":"COUNTIF(Sheet1!$M$3:$M$893,A40)","v":7},{"$f":"COUNTIFS(Sheet1!$M$3:$M$893,A40, Sheet1!$BV$3:$BV$893,$C$1)","v":3},{"$f":"COUNTIFS(Sheet1!$M$3:$M$893,A40, Sheet1!$BV$3:$BV$893,$D$1)","v":2},{"$f":"COUNTIFS(Sheet1!$M$3:$M$893,A40, Sheet1!$BV$3:$BV$893,$E$1)","v":0}]
["Spain",{"$f":"COUNTIF(Sheet1!$M$3:$M$893,A41)","v":51},{"$f":"COUNTIFS(Sheet1!$M$3:$M$893,A41, Sheet1!$BV$3:$BV$893,$C$1)","v":15},{"$f":"COUNTIFS(Sheet1!$M$3:$M$893,A41, Sheet1!$BV$3:$BV$893,$D$1)","v":15},{"$f":"COUNTIFS(Sheet1!$M$3:$M$893,A41, Sheet1!$BV$3:$BV$893,$E$1)","v":9}]
["Sweden",{"$f":"COUNTIF(Sheet1!$M$3:$M$893,A42)","v":17},{"$f":"COUNTIFS(Sheet1!$M$3:$M$893,A42, Sheet1!$BV$3:$BV$893,$C$1)","v":5},{"$f":"COUNTIFS(Sheet1!$M$3:$M$893,A42, Sheet1!$BV$3:$BV$893,$D$1)","v":8},{"$f":"COUNTIFS(Sheet1!$M$3:$M$893,A42, Sheet1!$BV$3:$BV$893,$E$1)","v":2}]
["Switzerland",{"$f":"COUNTIF(Sheet1!$M$3:$M$893,A43)","v":29},{"$f":"COUNTIFS(Sheet1!$M$3:$M$893,A43, Sheet1!$BV$3:$BV$893,$C$1)","v":3},{"$f":"COUNTIFS(Sheet1!$M$3:$M$893,A43, Sheet1!$BV$3:$BV$893,$D$1)","v":14},{"$f":"COUNTIFS(Sheet1!$M$3:$M$893,A43, Sheet1!$BV$3:$BV$893,$E$1)","v":8}]
["The former Yugoslav Republic of Macedonia",{"$f":"COUNTIF(Sheet1!$M$3:$M$893,A44)","v":5},{"$f":"COUNTIFS(Sheet1!$M$3:$M$893,A44, Sheet1!$BV$3:$BV$893,$C$1)","v":1},{"$f":"COUNTIFS(Sheet1!$M$3:$M$893,A44, Sheet1!$BV$3:$BV$893,$D$1)","v":2},{"$f":"COUNTIFS(Sheet1!$M$3:$M$893,A44, Sheet1!$BV$3:$BV$893,$E$1)","v":1}]
["Turkey",{"$f":"COUNTIF(Sheet1!$M$3:$M$893,A45)","v":58},{"$f":"COUNTIFS(Sheet1!$M$3:$M$893,A45, Sheet1!$BV$3:$BV$893,$C$1)","v":13},{"$f":"COUNTIFS(Sheet1!$M$3:$M$893,A45, Sheet1!$BV$3:$BV$893,$D$1)","v":12},{"$f":"COUNTIFS(Sheet1!$M$3:$M$893,A45, Sheet1!$BV$3:$BV$893,$E$1)","v":10}]
["Ukraine",{"$f":"COUNTIF(Sheet1!$M$3:$M$893,A46)","v":7},{"$f":"COUNTIFS(Sheet1!$M$3:$M$893,A46, Sheet1!$BV$3:$BV$893,$C$1)","v":1},{"$f":"COUNTIFS(Sheet1!$M$3:$M$893,A46, Sheet1!$BV$3:$BV$893,$D$1)","v":1},{"$f":"COUNTIFS(Sheet1!$M$3:$M$893,A46, Sheet1!$BV$3:$BV$893,$E$1)","v":3}]
["United Kingdom of Great Britain and Northern Ireland",{"$f":"COUNTIF(Sheet1!$M$3:$M$893,A47)","v":32},{"$f":"COUNTIFS(Sheet1!$M$3:$M$893,A47, Sheet1!$BV$3:$BV$893,$C$1)","v":7},{"$f":"COUNTIFS(Sheet1!$M$3:$M$893,A47, Sheet1!$BV$3:$BV$893,$D$1)","v":15},{"$f":"COUNTIFS(Sheet1!$M$3:$M$893,A47, Sheet1!$BV$3:$BV$893,$E$1)","v":2}]
["Azerbaijan",{"$f":"COUNTIF(Sheet1!$M$3:$M$893,A48)","v":1},{"$f":"COUNTIFS(Sheet1!$M$3:$M$893,A48, Sheet1!$BV$3:$BV$893,$C$1)","v":0},{"$f":"COUNTIFS(Sheet1!$M$3:$M$893,A48, Sheet1!$BV$3:$BV$893,$D$1)","v":0},{"$f":"COUNTIFS(Sheet1!$M$3:$M$893,A48, Sheet1!$BV$3:$BV$893,$E$1)","v":0}]
["Sum",{"$f":"SUM(B2:B48)","v":719},202,236,116]

{"sheet":"25. Pitanje","index":11,"n_rows":49,"n_cols":5,"rows_kept":49}
["25. Is the curriculum in the Medical Schools (pre and postgraduation) in your country outcome (competence) based?","Ukupan broj","Yes","No","I am not sure"]
["Albania",{"$f":"COUNTIF(Sheet1!$M$3:$M$893,A2)","v":6},{"$f":"COUNTIFS(Sheet1!$M$3:$M$893,A2, Sheet1!$BW$3:$BW$893,$C$1)","v":0},{"$f":"COUNTIFS(Sheet1!$M$3:$M$893,A2, Sheet1!$BW$3:$BW$893,$D$1)","v":1},{"$f":"COUNTIFS(Sheet1!$M$3:$M$893,A2, Sheet1!$BW$3:$BW$893,$E$1)","v":3}]
["Armenia",{"$f":"COUNTIF(Sheet1!$M$3:$M$893,A3)","v":1},{"$f":"COUNTIFS(Sheet1!$M$3:$M$893,A3, Sheet1!$BW$3:$BW$893,$C$1)","v":0},{"$f":"COUNTIFS(Sheet1!$M$3:$M$893,A3, Sheet1!$BW$3:$BW$893,$D$1)","v":1},{"$f":"COUNTIFS(Sheet1!$M$3:$M$893,A3, Sheet1!$BW$3:$BW$893,$E$1)","v":0}]
["Austria",{"$f":"COUNTIF(Sheet1!$M$3:$M$893,A4)","v":15},{"$f":"COUNTIFS(Sheet1!$M$3:$M$893,A4, Sheet1!$BW$3:$BW$893,$C$1)","v":2},{"$f":"COUNTIFS(Sheet1!$M$3:$M$893,A4, Sheet1!$BW$3:$BW$893,$D$1)","v":3},{"$f":"COUNTIFS(Sheet1!$M$3:$M$893,A4, Sheet1!$BW$3:$BW$893,$E$1)","v":7}]
["Belarus",{"$f":"COUNTIF(Sheet1!$M$3:$M$893,A5)","v":1},{"$f":"COUNTIFS(Sheet1!$M$3:$M$893,A5, Sheet1!$BW$3:$BW$893,$C$1)","v":0},{"$f":"COUNTIFS(Sheet1!$M$3:$M$893,A5, Sheet1!$BW$3:$BW$893,$D$1)","v":0},{"$f":"COUNTIFS(Sheet1!$M$3:$M$893,A5, Sheet1!$BW$3:$BW$893,$E$1)","v":1}]
["Belgium",{"$f":"COUNTIF(Sheet1!$M$3:$M$893,A6)","v":30},{"$f":"COUNTIFS(Sheet1!$M$3:$M$893,A6, Sheet1!$BW$3:$BW$893,$C$1)","v":7},{"$f":"COUNTIFS(Sheet1!$M$3:$M$893,A6, Sheet1!$BW$3:$BW$893,$D$1)","v":7},{"$f":"COUNTIFS(Sheet1!$M$3:$M$893,A6, Sheet1!$BW$3:$BW$893,$E$1)","v":11}]
["Bosnia and Herzegovina",{"$f":"COUNTIF(Sheet1!$M$3:$M$893,A7)","v":4},{"$f":"COUNTIFS(Sheet1!$M$3:$M$893,A7, Sheet1!$BW$3:$BW$893,$C$1)","v":0},{"$f":"COUNTIFS(Sheet1!$M$3:$M$893,A7, Sheet1!$BW$3:$BW$893,$D$1)","v":1},{"$f":"COUNTIFS(Sheet1!$M$3:$M$893,A7, Sheet1!$BW$3:$BW$893,$E$1)","v":3}]
["Bulgaria",{"$f":"COUNTIF(Sheet1!$M$3:$M$893,A8)","v":3},{"$f":"COUNTIFS(Sheet1!$M$3:$M$893,A8, Sheet1!$BW$3:$BW$893,$C$1)","v":2},{"$f":"COUNTIFS(Sheet1!$M$3:$M$893,A8, Sheet1!$BW$3:$BW$893,$D$1)","v":0},{"$f":"COUNTIFS(Sheet1!$M$3:$M$893,A8, Sheet1!$BW$3:$BW$893,$E$1)","v":1}]
["Croatia",{"$f":"COUNTIF(Sheet1!$M$3:$M$893,A9)","v":15},{"$f":"COUNTIFS(Sheet1!$M$3:$M$893,A9, Sheet1!$BW$3:$BW$893,$C$1)","v":2},{"$f":"COUNTIFS(Sheet1!$M$3:$M$893,A9, Sheet1!$BW$3:$BW$893,$D$1)","v":1},{"$f":"COUNTIFS(Sheet1!$M$3:$M$893,A9, Sheet1!$BW$3:$BW$893,$E$1)","v":8}]
["Cyprus",{"$f":"COUNTIF(Sheet1!$M$3:$M$893,A10)","v":4},{"$f":"COUNTIFS(Sheet1!$M$3:$M$893,A10, Sheet1!$BW$3:$BW$893,$C$1)","v":0},{"$f":"COUNTIFS(Sheet1!$M$3:$M$893,A10, Sheet1!$BW$3:$BW$893,$D$1)","v":0},{"$f":"COUNTIFS(Sheet1!$M$3:$M$893,A10, Sheet1!$BW$3:$BW$893,$E$1)","v":2}]
["Czech Republic",{"$f":"COUNTIF(Sheet1!$M$3:$M$893,A11)","v":5},{"$f":"COUNTIFS(Sheet1!$M$3:$M$893,A11, Sheet1!$BW$3:$BW$893,$C$1)","v":1},{"$f":"COUNTIFS(Sheet1!$M$3:$M$893,A11, Sheet1!$BW$3:$BW$893,$D$1)","v":1},{"$f":"COUNTIFS(Sheet1!$M$3:$M$893,A11, Sheet1!$BW$3:$BW$893,$E$1)","v":2}]
["Denmark",{"$f":"COUNTIF(Sheet1!$M$3:$M$893,A12)","v":7},{"$f":"COUNTIFS(Sheet1!$M$3:$M$893,A12, Sheet1!$BW$3:$BW$893,$C$1)","v":1},{"$f":"COUNTIFS(Sheet1!$M$3:$M$893,A12, Sheet1!$BW$3:$BW$893,$D$1)","v":1},{"$f":"COUNTIFS(Sheet1!$M$3:$M$893,A12, Sheet1!$BW$3:$BW$893,$E$1)","v":3}]
["Estonia",{"$f":"COUNTIF(Sheet1!$M$3:$M$893,A13)","v":3},{"$f":"COUNTIFS(Sheet1!$M$3:$M$893,A13, Sheet1!$BW$3:$BW$893,$C$1)","v":1},{"$f":"COUNTIFS(Sheet1!$M$3:$M$893,A13, Sheet1!$BW$3:$BW$893,$D$1)","v":0},{"$f":"COUNTIFS(Sheet1!$M$3:$M$893,A13, Sheet1!$BW$3:$BW$893,$E$1)","v":2}]
["Finland",{"$f":"COUNTIF(Sheet1!$M$3:$M$893,A14)","v":8},{"$f":"COUNTIFS(Sheet1!$M$3:$M$893,A14, Sheet1!$BW$3:$BW$893,$C$1)","v":3},{"$f":"COUNTIFS(Sheet1!$M$3:$M$893,A14, Sheet1!$BW$3:$BW$893,$D$1)","v":1},{"$f":"COUNTIFS(Sheet1!$M$3:$M$893,A14, Sheet1!$BW$3:$BW$893,$E$1)","v":4}]
["Uzbekistan",{"$f":"COUNTIF(Sheet1!$M$3:$M$893,A15)","v":1},{"$f":"COUNTIFS(Sheet1!$M$3:$M$893,A15, Sheet1!$BW$3:$BW$893,$C$1)","v":0},{"$f":"COUNTIFS(Sheet1!$M$3:$M$893,A15, Sheet1!$BW$3:$BW$893,$D$1)","v":0},{"$f":"COUNTIFS(Sheet1!$M$3:$M$893,A15, Sheet1!$BW$3:$BW$893,$E$1)","v":1}]
["France",{"$f":"COUNTIF(Sheet1!$M$3:$M$893,A16)","v":14},{"$f":"COUNTIFS(Sheet1!$M$3:$M$893,A16, Sheet1!$BW$3:$BW$893,$C$1)","v":2},{"$f":"COUNTIFS(Sheet1!$M$3:$M$893,A16, Sheet1!$BW$3:$BW$893,$D$1)","v":3},{"$f":"COUNTIFS(Sheet1!$M$3:$M$893,A16, Sheet1!$BW$3:$BW$893,$E$1)","v":6}]
["Israel",{"$f":"COUNTIF(Sheet1!$M$3:$M$893,A17)","v":12},{"$f":"COUNTIFS(Sheet1!$M$3:$M$893,A17, Sheet1!$BW$3:$BW$893,$C$1)","v":0},{"$f":"COUNTIFS(Sheet1!$M$3:$M$893,A17, Sheet1!$BW$3:$BW$893,$D$1)","v":8},{"$f":"COUNTIFS(Sheet1!$M$3:$M$893,A17, Sheet1!$BW$3:$BW$893,$E$1)","v":3}]
["Georgia",{"$f":"COUNTIF(Sheet1!$M$3:$M$893,A18)","v":3},{"$f":"COUNTIFS(Sheet1!$M$3:$M$893,A18, Sheet1!$BW$3:$BW$893,$C$1)","v":1},{"$f":"COUNTIFS(Sheet1!$M$3:$M$893,A18, Sheet1!$BW$3:$BW$893,$D$1)","v":0},{"$f":"COUNTIFS(Sheet1!$M$3:$M$893,A18, Sheet1!$BW$3:$BW$893,$E$1)","v":0}]
["Germany",{"$f":"COUNTIF(Sheet1!$M$3:$M$893,A19)","v":70},{"$f":"COUNTIFS(Sheet1!$M$3:$M$893,A19, Sheet1!$BW$3:$BW$893,$C$1)","v":10},{"$f":"COUNTIFS(Sheet1!$M$3:$M$893,A19, Sheet1!$BW$3:$BW$893,$D$1)","v":25},{"$f":"COUNTIFS(Sheet1!$M$3:$M$893,A19, Sheet1!$BW$3:$BW$893,$E$1)","v":24}]
["Kazakhstan",{"$f":"COUNTIF(Sheet1!$M$3:$M$893,A20)","v":1},{"$f":"COUNTIFS(Sheet1!$M$3:$M$893,A20, Sheet1!$BW$3:$BW$893,$C$1)","v":0},{"$f":"COUNTIFS(Sheet1!$M$3:$M$893,A20, Sheet1!$BW$3:$BW$893,$D$1)","v":0},{"$f":"COUNTIFS(Sheet1!$M$3:$M$893,A20, Sheet1!$BW$3:$BW$893,$E$1)","v":0}]
["Greece",{"$f":"COUNTIF(Sheet1!$M$3:$M$893,A21)","v":42},{"$f":"COUNTIFS(Sheet1!$M$3:$M$893,A21, Sheet1!$BW$3:$BW$893,$C$1)","v":1},{"$f":"COUNTIFS(Sheet1!$M$3:$M$893,A21, Sheet1!$BW$3:$BW$893,$D$1)","v":23},{"$f":"COUNTIFS(Sheet1!$M$3:$M$893,A21, Sheet1!$BW$3:$BW$893,$E$1)","v":10}]
["Hungary",{"$f":"COUNTIF(Sheet1!$M$3:$M$893,A22)","v":6},{"$f":"COUNTIFS(Sheet1!$M$3:$M$893,A22, Sheet1!$BW$3:$BW$893,$C$1)","v":2},{"$f":"COUNTIFS(Sheet1!$M$3:$M$893,A22, Sheet1!$BW$3:$BW$893,$D$1)","v":4},{"$f":"COUNTIFS(Sheet1!$M$3:$M$893,A22, Sheet1!$BW$3:$BW$893,$E$1)","v":0}]
["Iceland",{"$f":"COUNTIF(Sheet1!$M$3:$M$893,A23)","v":1},{"$f":"COUNTIFS(Sheet1!$M$3:$M$893,A23, Sheet1!$BW$3:$BW$893,$C$1)","v":0},{"$f":"COUNTIFS(Sheet1!$M$3:$M$893,A23, Sheet1!$BW$3:$BW$893,$D$1)","v":0},{"$f":"COUNTIFS(Sheet1!$M$3:$M$893,A23, Sheet1!$BW$3:$BW$893,$E$1)","v":1}]
["Ireland",{"$f":"COUNTIF(Sheet1!$M$3:$M$893,A24)","v":8},{"$f":"COUNTIFS(Sheet1!$M$3:$M$893,A24, Sheet1!$BW$3:$BW$893,$C$1)","v":1},{"$f":"COUNTIFS(Sheet1!$M$3:$M$893,A24, Sheet1!$BW$3:$BW$893,$D$1)","v":2},{"$f":"COUNTIFS(Sheet1!$M$3:$M$893,A24, Sheet1!$BW$3:$BW$893,$E$1)","v":4}]
["Italy",{"$f":"COUNTIF(Sheet1!$M$3:$M$893,A25)","v":30},{"$f":"COUNTIFS(Sheet1!$M$3:$M$893,A25, Sheet1!$BW$3:$BW$893,$C$1)","v":0},{"$f":"COUNTIFS(Sheet1!$M$3:$M$893,A25, Sheet1!$BW$3:$BW$893,$D$1)","v":8},{"$f":"COUNTIFS(Sheet1!$M$3:$M$893,A25, Sheet1!$BW$3:$BW$893,$E$1)","v":12}]
["Latvia",{"$f":"COUNTIF(Sheet1!$M$3:$M$893,A26)","v":10},{"$f":"COUNTIFS(Sheet1!$M$3:$M$893,A26, Sheet1!$BW$3:$BW$893,$C$1)","v":3},{"$f":"COUNTIFS(Sheet1!$M$3:$M$893,A26, Sheet1!$BW$3:$BW$893,$D$1)","v":1},{"$f":"COUNTIFS(Sheet1!$M$3:$M$893,A26, Sheet1!$BW$3:$BW$893,$E$1)","v":6}]
["Lithuania",{"$f":"COUNTIF(Sheet1!$M$3:$M$893,A27)","v":9},{"$f":"COUNTIFS(Sheet1!$M$3:$M$893,A27, Sheet1!$BW$3:$BW$893,$C$1)","v":1},{"$f":"COUNTIFS(Sheet1!$M$3:$M$893,A27, Sheet1!$BW$3:$BW$893,$D$1)","v":5},{"$f":"COUNTIFS(Sheet1!$M$3:$M$893,A27, Sheet1!$BW$3:$BW$893,$E$1)","v":3}]
["Indonesia",{"$f":"COUNTIF(Sheet1!$M$3:$M$893,A28)","v":3},{"$f":"COUNTIFS(Sheet1!$M$3:$M$893,A28, Sheet1!$BW$3:$BW$893,$C$1)","v":1},{"$f":"COUNTIFS(Sheet1!$M$3:$M$893,A28, Sheet1!$BW$3:$BW$893,$D$1)","v":0},{"$f":"COUNTIFS(Sheet1!$M$3:$M$893,A28, Sheet1!$BW$3:$BW$893,$E$1)","v":1}]
["Luxembourg",{"$f":"COUNTIF(Sheet1!$M$3:$M$893,A29)","v":1},{"$f":"COUNTIFS(Sheet1!$M$3:$M$893,A29, Sheet1!$BW$3:$BW$893,$C$1)","v":0},{"$f":"COUNTIFS(Sheet1!$M$3:$M$893,A29, Sheet1!$BW$3:$BW$893,$D$1)","v":0},{"$f":"COUNTIFS(Sheet1!$M$3:$M$893,A29, Sheet1!$BW$3:$BW$893,$E$1)","v":0}]
["Malta",{"$f":"COUNTIF(Sheet1!$M$3:$M$893,A30)","v":7},{"$f":"COUNTIFS(Sheet1!$M$3:$M$893,A30, Sheet1!$BW$3:$BW$893,$C$1)","v":2},{"$f":"COUNTIFS(Sheet1!$M$3:$M$893,A30, Sheet1!$BW$3:$BW$893,$D$1)","v":2},{"$f":"COUNTIFS(Sheet1!$M$3:$M$893,A30, Sheet1!$BW$3:$BW$893,$E$1)","v":2}]
["Netherlands",{"$f":"COUNTIF(Sheet1!$M$3:$M$893,A31)","v":35},{"$f":"COUNTIFS(Sheet1!$M$3:$M$893,A31, Sheet1!$BW$3:$BW$893,$C$1)","v":15},{"$f":"COUNTIFS(Sheet1!$M$3:$M$893,A31, Sheet1!$BW$3:$BW$893,$D$1)","v":2},{"$f":"COUNTIFS(Sheet1!$M$3:$M$893,A31, Sheet1!$BW$3:$BW$893,$E$1)","v":13}]
["Norway",{"$f":"COUNTIF(Sheet1!$M$3:$M$893,A32)","v":11},{"$f":"COUNTIFS(Sheet1!$M$3:$M$893,A32, Sheet1!$BW$3:$BW$893,$C$1)","v":6},{"$f":"COUNTIFS(Sheet1!$M$3:$M$893,A32, Sheet1!$BW$3:$BW$893,$D$1)","v":0},{"$f":"COUNTIFS(Sheet1!$M$3:$M$893,A32, Sheet1!$BW$3:$BW$893,$E$1)","v":5}]
["Poland",{"$f":"COUNTIF(Sheet1!$M$3:$M$893,A33)","v":15},{"$f":"COUNTIFS(Sheet1!$M$3:$M$893,A33, Sheet1!$BW$3:$BW$893,$C$1)","v":0},{"$f":"COUNTIFS(Sheet1!$M$3:$M$893,A33, Sheet1!$BW$3:$BW$893,$D$1)","v":1},{"$f":"COUNTIFS(Sheet1!$M$3:$M$893,A33, Sheet1!$BW$3:$BW$893,$E$1)","v":6}]
["Portugal",{"$f":"COUNTIF(Sheet1!$M$3:$M$893,A34)","v":57},{"$f":"COUNTIFS(Sheet1!$M$3:$M$893,A34, Sheet1!$BW$3:$BW$893,$C$1)","v":7},{"$f":"COUNTIFS(Sheet1!$M$3:$M$893,A34, Sheet1!$BW$3:$BW$893,$D$1)","v":18},{"$f":"COUNTIFS(Sheet1!$M$3:$M$893,A34, Sheet1!$BW$3:$BW$893,$E$1)","v":15}]
["Republic of Moldova",{"$f":"COUNTIF(Sheet1!$M$3:$M$893,A35)","v":4},{"$f":"COUNTIFS(Sheet1!$M$3:$M$893,A35, Sheet1!$BW$3:$BW$893,$C$1)","v":1},{"$f":"COUNTIFS(Sheet1!$M$3:$M$893,A35, Sheet1!$BW$3:$BW$893,$D$1)","v":2},{"$f":"COUNTIFS(Sheet1!$M$3:$M$893,A35, Sheet1!$BW$3:$BW$893,$E$1)","v":1}]
["Romania",{"$f":"COUNTIF(Sheet1!$M$3:$M$893,A36)","v":25},{"$f":"COUNTIFS(Sheet1!$M$3:$M$893,A36, Sheet1!$BW$3:$BW$893,$C$1)","v":1},{"$f":"COUNTIFS(Sheet1!$M$3:$M$893,A36, Sheet1!$BW$3:$BW$893,$D$1)","v":10},{"$f":"COUNTIFS(Sheet1!$M$3:$M$893,A36, Sheet1!$BW$3:$BW$893,$E$1)","v":5}]
["Russian Federation",{"$f":"COUNTIF(Sheet1!$M$3:$M$893,A37)","v":11},{"$f":"COUNTIFS(Sheet1!$M$3:$M$893,A37, Sheet1!$BW$3:$BW$893,$C$1)","v":2},{"$f":"COUNTIFS(Sheet1!$M$3:$M$893,A37, Sheet1!$BW$3:$BW$893,$D$1)","v":1},{"$f":"COUNTIFS(Sheet1!$M$3:$M$893,A37, Sheet1!$BW$3:$BW$893,$E$1)","v":6}]
["Serbia",{"$f":"COUNTIF(Sheet1!$M$3:$M$893,A38)","v":31},{"$f":"COUNTIFS(Sheet1!$M$3:$M$893,A38, Sheet1!$BW$3:$BW$893,$C$1)","v":0},{"$f":"COUNTIFS(Sheet1!$M$3:$M$893,A38, Sheet1!$BW$3:$BW$893,$D$1)","v":4},{"$f":"COUNTIFS(Sheet1!$M$3:$M$893,A38, Sheet1!$BW$3:$BW$893,$E$1)","v":18}]
["Slovakia",{"$f":"COUNTIF(Sheet1!$M$3:$M$893,A39)","v":3},{"$f":"COUNTIFS(Sheet1!$M$3:$M$893,A39, Sheet1!$BW$3:$BW$893,$C$1)","v":1},{"$f":"COUNTIFS(Sheet1!$M$3:$M$893,A39, Sheet1!$BW$3:$BW$893,$D$1)","v":1},{"$f":"COUNTIFS(Sheet1!$M$3:$M$893,A39, Sheet1!$BW$3:$BW$893,$E$1)","v":0}]
["Slovenia",{"$f":"COUNTIF(Sheet1!$M$3:$M$893,A40)","v":7},{"$f":"COUNTIFS(Sheet1!$M$3:$M$893,A40, Sheet1!$BW$3:$BW$893,$C$1)","v":1},{"$f":"COUNTIFS(Sheet1!$M$3:$M$893,A40, Sheet1!$BW$3:$BW$893,$D$1)","v":2},{"$f":"COUNTIFS(Sheet1!$M$3:$M$893,A40, Sheet1!$BW$3:$BW$893,$E$1)","v":2}]
["Spain",{"$f":"COUNTIF(Sheet1!$M$3:$M$893,A41)","v":51},{"$f":"COUNTIFS(Sheet1!$M$3:$M$893,A41, Sheet1!$BW$3:$BW$893,$C$1)","v":5},{"$f":"COUNTIFS(Sheet1!$M$3:$M$893,A41, Sheet1!$BW$3:$BW$893,$D$1)","v":21},{"$f":"COUNTIFS(Sheet1!$M$3:$M$893,A41, Sheet1!$BW$3:$BW$893,$E$1)","v":13}]
["Sweden",{"$f":"COUNTIF(Sheet1!$M$3:$M$893,A42)","v":17},{"$f":"COUNTIFS(Sheet1!$M$3:$M$893,A42, Sheet1!$BW$3:$BW$893,$C$1)","v":4},{"$f":"COUNTIFS(Sheet1!$M$3:$M$893,A42, Sheet1!$BW$3:$BW$893,$D$1)","v":2},{"$f":"COUNTIFS(Sheet1!$M$3:$M$893,A42, Sheet1!$BW$3:$BW$893,$E$1)","v":9}]
["Switzerland",{"$f":"COUNTIF(Sheet1!$M$3:$M$893,A43)","v":29},{"$f":"COUNTIFS(Sheet1!$M$3:$M$893,A43, Sheet1!$BW$3:$BW$893,$C$1)","v":7},{"$f":"COUNTIFS(Sheet1!$M$3:$M$893,A43, Sheet1!$BW$3:$BW$893,$D$1)","v":4},{"$f":"COUNTIFS(Sheet1!$M$3:$M$893,A43, Sheet1!$BW$3:$BW$893,$E$1)","v":14}]
["The former Yugoslav Republic of Macedonia",{"$f":"COUNTIF(Sheet1!$M$3:$M$893,A44)","v":5},{"$f":"COUNTIFS(Sheet1!$M$3:$M$893,A44, Sheet1!$BW$3:$BW$893,$C$1)","v":0},{"$f":"COUNTIFS(Sheet1!$M$3:$M$893,A44, Sheet1!$BW$3:$BW$893,$D$1)","v":3},{"$f":"COUNTIFS(Sheet1!$M$3:$M$893,A44, Sheet1!$BW$3:$BW$893,$E$1)","v":2}]
["Turkey",{"$f":"COUNTIF(Sheet1!$M$3:$M$893,A45)","v":58},{"$f":"COUNTIFS(Sheet1!$M$3:$M$893,A45, Sheet1!$BW$3:$BW$893,$C$1)","v":4},{"$f":"COUNTIFS(Sheet1!$M$3:$M$893,A45, Sheet1!$BW$3:$BW$893,$D$1)","v":11},{"$f":"COUNTIFS(Sheet1!$M$3:$M$893,A45, Sheet1!$BW$3:$BW$893,$E$1)","v":20}]
["Ukraine",{"$f":"COUNTIF(Sheet1!$M$3:$M$893,A46)","v":7},{"$f":"COUNTIFS(Sheet1!$M$3:$M$893,A46, Sheet1!$BW$3:$BW$893,$C$1)","v":0},{"$f":"COUNTIFS(Sheet1!$M$3:$M$893,A46, Sheet1!$BW$3:$BW$893,$D$1)","v":2},{"$f":"COUNTIFS(Sheet1!$M$3:$M$893,A46, Sheet1!$BW$3:$BW$893,$E$1)","v":3}]
["United Kingdom of Great Britain and Northern Ireland",{"$f":"COUNTIF(Sheet1!$M$3:$M$893,A47)","v":32},{"$f":"COUNTIFS(Sheet1!$M$3:$M$893,A47, Sheet1!$BW$3:$BW$893,$C$1)","v":10},{"$f":"COUNTIFS(Sheet1!$M$3:$M$893,A47, Sheet1!$BW$3:$BW$893,$D$1)","v":4},{"$f":"COUNTIFS(Sheet1!$M$3:$M$893,A47, Sheet1!$BW$3:$BW$893,$E$1)","v":10}]
["Azerbaijan",{"$f":"COUNTIF(Sheet1!$M$3:$M$893,A48)","v":1},{"$f":"COUNTIFS(Sheet1!$M$3:$M$893,A48, Sheet1!$BW$3:$BW$893,$C$1)","v":0},{"$f":"COUNTIFS(Sheet1!$M$3:$M$893,A48, Sheet1!$BW$3:$BW$893,$D$1)","v":0},{"$f":"COUNTIFS(Sheet1!$M$3:$M$893,A48, Sheet1!$BW$3:$BW$893,$E$1)","v":0}]
["Sum",{"$f":"SUM(B2:B48)","v":719},107,186,262]

{"sheet":"27. Pitanje","index":12,"n_rows":49,"n_cols":10,"rows_kept":49}
["27. What type of curriculum is implemented in your hospital?","Ukupan broj","Competency (outcome) based curriculum","Content based curriculum","Classic surgical specialties based curriculum","I do not know","Other (please specify)"]
["Albania",{"$f":"COUNTIF(Sheet1!$M$3:$M$893,A2)","v":6},{"$f":"COUNTIFS(Sheet1!$M$3:$M$893,A2, Sheet1!$BY$3:$BY$893,$C$1)","v":1},{"$f":"COUNTIFS(Sheet1!$M$3:$M$893,A2, Sheet1!$BY$3:$BY$893,$D$1)","v":1},{"$f":"COUNTIFS(Sheet1!$M$3:$M$893,A2, Sheet1!$BY$3:$BY$893,$E$1)","v":2},{"$f":"COUNTIFS(Sheet1!$M$3:$M$893,A2, Sheet1!$BY$3:$BY$893,$F$1)","v":0},{"$f":"COUNTIFS(Sheet1!$M$3:$M$893,A2, Sheet1!$BY$3:$BY$893,$G$1)","v":0},null,null,"Other (please specify)"]
["Armenia",{"$f":"COUNTIF(Sheet1!$M$3:$M$893,A3)","v":1},{"$f":"COUNTIFS(Sheet1!$M$3:$M$893,A3, Sheet1!$BY$3:$BY$893,$C$1)","v":0},{"$f":"COUNTIFS(Sheet1!$M$3:$M$893,A3, Sheet1!$BY$3:$BY$893,$D$1)","v":1},{"$f":"COUNTIFS(Sheet1!$M$3:$M$893,A3, Sheet1!$BY$3:$BY$893,$E$1)","v":0},{"$f":"COUNTIFS(Sheet1!$M$3:$M$893,A3, Sheet1!$BY$3:$BY$893,$F$1)","v":0},{"$f":"COUNTIFS(Sheet1!$M$3:$M$893,A3, Sheet1!$BY$3:$BY$893,$G$1)","v":0},null,null,"We´re in the middle of implementing Competency based curriculum nationally at the moment."]
["Austria",{"$f":"COUNTIF(Sheet1!$M$3:$M$893,A4)","v":15},{"$f":"COUNTIFS(Sheet1!$M$3:$M$893,A4, Sheet1!$BY$3:$BY$893,$C$1)","v":1},{"$f":"COUNTIFS(Sheet1!$M$3:$M$893,A4, Sheet1!$BY$3:$BY$893,$D$1)","v":1},{"$f":"COUNTIFS(Sheet1!$M$3:$M$893,A4, Sheet1!$BY$3:$BY$893,$E$1)","v":3},{"$f":"COUNTIFS(Sheet1!$M$3:$M$893,A4, Sheet1!$BY$3:$BY$893,$F$1)","v":7},{"$f":"COUNTIFS(Sheet1!$M$3:$M$893,A4, Sheet1!$BY$3:$BY$893,$G$1)","v":0}]
["Belarus",{"$f":"COUNTIF(Sheet1!$M$3:$M$893,A5)","v":1},{"$f":"COUNTIFS(Sheet1!$M$3:$M$893,A5, Sheet1!$BY$3:$BY$893,$C$1)","v":0},{"$f":"COUNTIFS(Sheet1!$M$3:$M$893,A5, Sheet1!$BY$3:$BY$893,$D$1)","v":1},{"$f":"COUNTIFS(Sheet1!$M$3:$M$893,A5, Sheet1!$BY$3:$BY$893,$E$1)","v":0},{"$f":"COUNTIFS(Sheet1!$M$3:$M$893,A5, Sheet1!$BY$3:$BY$893,$F$1)","v":0},{"$f":"COUNTIFS(Sheet1!$M$3:$M$893,A5, Sheet1!$BY$3:$BY$893,$G$1)","v":0},null,null,"we are in transition with content based and competency based, part of residents study still with content based"]
["Belgium",{"$f":"COUNTIF(Sheet1!$M$3:$M$893,A6)","v":30},{"$f":"COUNTIFS(Sheet1!$M$3:$M$893,A6, Sheet1!$BY$3:$BY$893,$C$1)","v":5},{"$f":"COUNTIFS(Sheet1!$M$3:$M$893,A6, Sheet1!$BY$3:$BY$893,$D$1)","v":9},{"$f":"COUNTIFS(Sheet1!$M$3:$M$893,A6, Sheet1!$BY$3:$BY$893,$E$1)","v":4},{"$f":"COUNTIFS(Sheet1!$M$3:$M$893,A6, Sheet1!$BY$3:$BY$893,$F$1)","v":5},{"$f":"COUNTIFS(Sheet1!$M$3:$M$893,A6, Sheet1!$BY$3:$BY$893,$G$1)","v":0}]
["Bosnia and Herzegovina",{"$f":"COUNTIF(Sheet1!$M$3:$M$893,A7)","v":4},{"$f":"COUNTIFS(Sheet1!$M$3:$M$893,A7, Sheet1!$BY$3:$BY$893,$C$1)","v":1},{"$f":"COUNTIFS(Sheet1!$M$3:$M$893,A7, Sheet1!$BY$3:$BY$893,$D$1)","v":1},{"$f":"COUNTIFS(Sheet1!$M$3:$M$893,A7, Sheet1!$BY$3:$BY$893,$E$1)","v":2},{"$f":"COUNTIFS(Sheet1!$M$3:$M$893,A7, Sheet1!$BY$3:$BY$893,$F$1)","v":0},{"$f":"COUNTIFS(Sheet1!$M$3:$M$893,A7, Sheet1!$BY$3:$BY$893,$G$1)","v":0},null,null,"Both time based (old one), and now competency based (new one)"]
["Bulgaria",{"$f":"COUNTIF(Sheet1!$M$3:$M$893,A8)","v":3},{"$f":"COUNTIFS(Sheet1!$M$3:$M$893,A8, Sheet1!$BY$3:$BY$893,$C$1)","v":2},{"$f":"COUNTIFS(Sheet1!$M$3:$M$893,A8, Sheet1!$BY$3:$BY$893,$D$1)","v":0},{"$f":"COUNTIFS(Sheet1!$M$3:$M$893,A8, Sheet1!$BY$3:$BY$893,$E$1)","v":1},{"$f":"COUNTIFS(Sheet1!$M$3:$M$893,A8, Sheet1!$BY$3:$BY$893,$F$1)","v":0},{"$f":"COUNTIFS(Sheet1!$M$3:$M$893,A8, Sheet1!$BY$3:$BY$893,$G$1)","v":0},null,null,"NONE, it is a private hospital"]
["Croatia",{"$f":"COUNTIF(Sheet1!$M$3:$M$893,A9)","v":15},{"$f":"COUNTIFS(Sheet1!$M$3:$M$893,A9, Sheet1!$BY$3:$BY$893,$C$1)","v":1},{"$f":"COUNTIFS(Sheet1!$M$3:$M$893,A9, Sheet1!$BY$3:$BY$893,$D$1)","v":4},{"$f":"COUNTIFS(Sheet1!$M$3:$M$893,A9, Sheet1!$BY$3:$BY$893,$E$1)","v":2},{"$f":"COUNTIFS(Sheet1!$M$3:$M$893,A9, Sheet1!$BY$3:$BY$893,$F$1)","v":1},{"$f":"COUNTIFS(Sheet1!$M$3:$M$893,A9, Sheet1!$BY$3:$BY$893,$G$1)","v":0},null,null,"competency and content based curriculum"]
["Cyprus",{"$f":"COUNTIF(Sheet1!$M$3:$M$893,A10)","v":4},{"$f":"COUNTIFS(Sheet1!$M$3:$M$893,A10, Sheet1!$BY$3:$BY$893,$C$1)","v":0},{"$f":"COUNTIFS(Sheet1!$M$3:$M$893,A10, Sheet1!$BY$3:$BY$893,$D$1)","v":1},{"$f":"COUNTIFS(Sheet1!$M$3:$M$893,A10, Sheet1!$BY$3:$BY$893,$E$1)","v":1},{"$f":"COUNTIFS(Sheet1!$M$3:$M$893,A10, Sheet1!$BY$3:$BY$893,$F$1)","v":0},{"$f":"COUNTIFS(Sheet1!$M$3:$M$893,A10, Sheet1!$BY$3:$BY$893,$G$1)","v":0},null,null,"Very haphazard"]
["Czech Republic",{"$f":"COUNTIF(Sheet1!$M$3:$M$893,A11)","v":5},{"$f":"COUNTIFS(Sheet1!$M$3:$M$893,A11, Sheet1!$BY$3:$BY$893,$C$1)","v":2},{"$f":"COUNTIFS(Sheet1!$M$3:$M$893,A11, Sheet1!$BY$3:$BY$893,$D$1)","v":0},{"$f":"COUNTIFS(Sheet1!$M$3:$M$893,A11, Sheet1!$BY$3:$BY$893,$E$1)","v":1},{"$f":"COUNTIFS(Sheet1!$M$3:$M$893,A11, Sheet1!$BY$3:$BY$893,$F$1)","v":1},{"$f":"COUNTIFS(Sheet1!$M$3:$M$893,A11, Sheet1!$BY$3:$BY$893,$G$1)","v":0},null,null,"Time based, it is obligatory by national regulations"]
["Denmark",{"$f":"COUNTIF(Sheet1!$M$3:$M$893,A12)","v":7},{"$f":"COUNTIFS(Sheet1!$M$3:$M$893,A12, Sheet1!$BY$3:$BY$893,$C$1)","v":5},{"$f":"COUNTIFS(Sheet1!$M$3:$M$893,A12, Sheet1!$BY$3:$BY$893,$D$1)","v":0},{"$f":"COUNTIFS(Sheet1!$M$3:$M$893,A12, Sheet1!$BY$3:$BY$893,$E$1)","v":0},{"$f":"COUNTIFS(Sheet1!$M$3:$M$893,A12, Sheet1!$BY$3:$BY$893,$F$1)","v":0},{"$f":"COUNTIFS(Sheet1!$M$3:$M$893,A12, Sheet1!$BY$3:$BY$893,$G$1)","v":0},null,null,"Time based"]
["Estonia",{"$f":"COUNTIF(Sheet1!$M$3:$M$893,A13)","v":3},{"$f":"COUNTIFS(Sheet1!$M$3:$M$893,A13, Sheet1!$BY$3:$BY$893,$C$1)","v":1},{"$f":"COUNTIFS(Sheet1!$M$3:$M$893,A13, Sheet1!$BY$3:$BY$893,$D$1)","v":2},{"$f":"COUNTIFS(Sheet1!$M$3:$M$893,A13, Sheet1!$BY$3:$BY$893,$E$1)","v":0},{"$f":"COUNTIFS(Sheet1!$M$3:$M$893,A13, Sheet1!$BY$3:$BY$893,$F$1)","v":0},{"$f":"COUNTIFS(Sheet1!$M$3:$M$893,A13, Sheet1!$BY$3:$BY$893,$G$1)","v":0},null,null,"periods has to be spent in each area (eg: surery: abdominal, ENT and so on)"]
["Finland",{"$f":"COUNTIF(Sheet1!$M$3:$M$893,A14)","v":8},{"$f":"COUNTIFS(Sheet1!$M$3:$M$893,A14, Sheet1!$BY$3:$BY$893,$C$1)","v":1},{"$f":"COUNTIFS(Sheet1!$M$3:$M$893,A14, Sheet1!$BY$3:$BY$893,$D$1)","v":1},{"$f":"COUNTIFS(Sheet1!$M$3:$M$893,A14, Sheet1!$BY$3:$BY$893,$E$1)","v":1},{"$f":"COUNTIFS(Sheet1!$M$3:$M$893,A14, Sheet1!$BY$3:$BY$893,$F$1)","v":2},{"$f":"COUNTIFS(Sheet1!$M$3:$M$893,A14, Sheet1!$BY$3:$BY$893,$G$1)","v":3},null,null,"mixed content and competency"]
["Uzbekistan",{"$f":"COUNTIF(Sheet1!$M$3:$M$893,A15)","v":1},{"$f":"COUNTIFS(Sheet1!$M$3:$M$893,A15, Sheet1!$BY$3:$BY$893,$C$1)","v":0},{"$f":"COUNTIFS(Sheet1!$M$3:$M$893,A15, Sheet1!$BY$3:$BY$893,$D$1)","v":1},{"$f":"COUNTIFS(Sheet1!$M$3:$M$893,A15, Sheet1!$BY$3:$BY$893,$E$1)","v":0},{"$f":"COUNTIFS(Sheet1!$M$3:$M$893,A15, Sheet1!$BY$3:$BY$893,$F$1)","v":0},{"$f":"COUNTIFS(Sheet1!$M$3:$M$893,A15, Sheet1!$BY$3:$BY$893,$G$1)","v":0},null,null,"Entrustable professional activity and competente based"]
["France",{"$f":"COUNTIF(Sheet1!$M$3:$M$893,A16)","v":14},{"$f":"COUNTIFS(Sheet1!$M$3:$M$893,A16, Sheet1!$BY$3:$BY$893,$C$1)","v":3},{"$f":"COUNTIFS(Sheet1!$M$3:$M$893,A16, Sheet1!$BY$3:$BY$893,$D$1)","v":3},{"$f":"COUNTIFS(Sheet1!$M$3:$M$893,A16, Sheet1!$BY$3:$BY$893,$E$1)","v":1},{"$f":"COUNTIFS(Sheet1!$M$3:$M$893,A16, Sheet1!$BY$3:$BY$893,$F$1)","v":4},{"$f":"COUNTIFS(Sheet1!$M$3:$M$893,A16, Sheet1!$BY$3:$BY$893,$G$1)","v":0},null,null,"Just basicdiploma"]
["Israel",{"$f":"COUNTIF(Sheet1!$M$3:$M$893,A17)","v":12},{"$f":"COUNTIFS(Sheet1!$M$3:$M$893,A17, Sheet1!$BY$3:$BY$893,$C$1)","v":1},{"$f":"COUNTIFS(Sheet1!$M$3:$M$893,A17, Sheet1!$BY$3:$BY$893,$D$1)","v":4},{"$f":"COUNTIFS(Sheet1!$M$3:$M$893,A17, Sheet1!$BY$3:$BY$893,$E$1)","v":5},{"$f":"COUNTIFS(Sheet1!$M$3:$M$893,A17, Sheet1!$BY$3:$BY$893,$F$1)","v":0},{"$f":"COUNTIFS(Sheet1!$M$3:$M$893,A17, Sheet1!$BY$3:$BY$893,$G$1)","v":1},null,null,"First 2 options"]
["Georgia",{"$f":"COUNTIF(Sheet1!$M$3:$M$893,A18)","v":3},{"$f":"COUNTIFS(Sheet1!$M$3:$M$893,A18, Sheet1!$BY$3:$BY$893,$C$1)","v":1},{"$f":"COUNTIFS(Sheet1!$M$3:$M$893,A18, Sheet1!$BY$3:$BY$893,$D$1)","v":0},{"$f":"COUNTIFS(Sheet1!$M$3:$M$893,A18, Sheet1!$BY$3:$BY$893,$E$1)","v":0},{"$f":"COUNTIFS(Sheet1!$M$3:$M$893,A18, Sheet1!$BY$3:$BY$893,$F$1)","v":0},{"$f":"COUNTIFS(Sheet1!$M$3:$M$893,A18, Sheet1!$BY$3:$BY$893,$G$1)","v":0},null,null,"Normalized curriculum vitae"]
["Germany",{"$f":"COUNTIF(Sheet1!$M$3:$M$893,A19)","v":70},{"$f":"COUNTIFS(Sheet1!$M$3:$M$893,A19, Sheet1!$BY$3:$BY$893,$C$1)","v":12},{"$f":"COUNTIFS(Sheet1!$M$3:$M$893,A19, Sheet1!$BY$3:$BY$893,$D$1)","v":20},{"$f":"COUNTIFS(Sheet1!$M$3:$M$893,A19, Sheet1!$BY$3:$BY$893,$E$1)","v":13},{"$f":"COUNTIFS(Sheet1!$M$3:$M$893,A19, Sheet1!$BY$3:$BY$893,$F$1)","v":11},{"$f":"COUNTIFS(Sheet1!$M$3:$M$893,A19, Sheet1!$BY$3:$BY$893,$G$1)","v":1},null,null,"Combiantion of competence & content based curriculum"]
["Kazakhstan",{"$f":"COUNTIF(Sheet1!$M$3:$M$893,A20)","v":1},{"$f":"COUNTIFS(Sheet1!$M$3:$M$893,A20, Sheet1!$BY$3:$BY$893,$C$1)","v":0},{"$f":"COUNTIFS(Sheet1!$M$3:$M$893,A20, Sheet1!$BY$3:$BY$893,$D$1)","v":0},{"$f":"COUNTIFS(Sheet1!$M$3:$M$893,A20, Sheet1!$BY$3:$BY$893,$E$1)","v":0},{"$f":"COUNTIFS(Sheet1!$M$3:$M$893,A20, Sheet1!$BY$3:$BY$893,$F$1)","v":0},{"$f":"COUNTIFS(Sheet1!$M$3:$M$893,A20, Sheet1!$BY$3:$BY$893,$G$1)","v":0}]
["Greece",{"$f":"COUNTIF(Sheet1!$M$3:$M$893,A21)","v":42},{"$f":"COUNTIFS(Sheet1!$M$3:$M$893,A21, Sheet1!$BY$3:$BY$893,$C$1)","v":2},{"$f":"COUNTIFS(Sheet1!$M$3:$M$893,A21, Sheet1!$BY$3:$BY$893,$D$1)","v":14},{"$f":"COUNTIFS(Sheet1!$M$3:$M$893,A21, Sheet1!$BY$3:$BY$893,$E$1)","v":11},{"$f":"COUNTIFS(Sheet1!$M$3:$M$893,A21, Sheet1!$BY$3:$BY$893,$F$1)","v":4},{"$f":"COUNTIFS(Sheet1!$M$3:$M$893,A21, Sheet1!$BY$3:$BY$893,$G$1)","v":2}]
["Hungary",{"$f":"COUNTIF(Sheet1!$M$3:$M$893,A22)","v":6},{"$f":"COUNTIFS(Sheet1!$M$3:$M$893,A22, Sheet1!$BY$3:$BY$893,$C$1)","v":2},{"$f":"COUNTIFS(Sheet1!$M$3:$M$893,A22, Sheet1!$BY$3:$BY$893,$D$1)","v":2},{"$f":"COUNTIFS(Sheet1!$M$3:$M$893,A22, Sheet1!$BY$3:$BY$893,$E$1)","v":1},{"$f":"COUNTIFS(Sheet1!$M$3:$M$893,A22, Sheet1!$BY$3:$BY$893,$F$1)","v":0},{"$f":"COUNTIFS(Sheet1!$M$3:$M$893,A22, Sheet1!$BY$3:$BY$893,$G$1)","v":1}]
["Iceland",{"$f":"COUNTIF(Sheet1!$M$3:$M$893,A23)","v":1},{"$f":"COUNTIFS(Sheet1!$M$3:$M$893,A23, Sheet1!$BY$3:$BY$893,$C$1)","v":0},{"$f":"COUNTIFS(Sheet1!$M$3:$M$893,A23, Sheet1!$BY$3:$BY$893,$D$1)","v":0},{"$f":"COUNTIFS(Sheet1!$M$3:$M$893,A23, Sheet1!$BY$3:$BY$893,$E$1)","v":1},{"$f":"COUNTIFS(Sheet1!$M$3:$M$893,A23, Sheet1!$BY$3:$BY$893,$F$1)","v":0},{"$f":"COUNTIFS(Sheet1!$M$3:$M$893,A23, Sheet1!$BY$3:$BY$893,$G$1)","v":0}]
["Ireland",{"$f":"COUNTIF(Sheet1!$M$3:$M$893,A24)","v":8},{"$f":"COUNTIFS(Sheet1!$M$3:$M$893,A24, Sheet1!$BY$3:$BY$893,$C$1)","v":2},{"$f":"COUNTIFS(Sheet1!$M$3:$M$893,A24, Sheet1!$BY$3:$BY$893,$D$1)","v":3},{"$f":"COUNTIFS(Sheet1!$M$3:$M$893,A24, Sheet1!$BY$3:$BY$893,$E$1)","v":0},{"$f":"COUNTIFS(Sheet1!$M$3:$M$893,A24, Sheet1!$BY$3:$BY$893,$F$1)","v":2},{"$f":"COUNTIFS(Sheet1!$M$3:$M$893,A24, Sheet1!$BY$3:$BY$893,$G$1)","v":0}]
["Italy",{"$f":"COUNTIF(Sheet1!$M$3:$M$893,A25)","v":30},{"$f":"COUNTIFS(Sheet1!$M$3:$M$893,A25, Sheet1!$BY$3:$BY$893,$C$1)","v":3},{"$f":"COUNTIFS(Sheet1!$M$3:$M$893,A25, Sheet1!$BY$3:$BY$893,$D$1)","v":5},{"$f":"COUNTIFS(Sheet1!$M$3:$M$893,A25, Sheet1!$BY$3:$BY$893,$E$1)","v":2},{"$f":"COUNTIFS(Sheet1!$M$3:$M$893,A25, Sheet1!$BY$3:$BY$893,$F$1)","v":10},{"$f":"COUNTIFS(Sheet1!$M$3:$M$893,A25, Sheet1!$BY$3:$BY$893,$G$1)","v":0}]
["Latvia",{"$f":"COUNTIF(Sheet1!$M$3:$M$893,A26)","v":10},{"$f":"COUNTIFS(Sheet1!$M$3:$M$893,A26, Sheet1!$BY$3:$BY$893,$C$1)","v":4},{"$f":"COUNTIFS(Sheet1!$M$3:$M$893,A26, Sheet1!$BY$3:$BY$893,$D$1)","v":1},{"$f":"COUNTIFS(Sheet1!$M$3:$M$893,A26, Sheet1!$BY$3:$BY$893,$E$1)","v":1},{"$f":"COUNTIFS(Sheet1!$M$3:$M$893,A26, Sheet1!$BY$3:$BY$893,$F$1)","v":4},{"$f":"COUNTIFS(Sheet1!$M$3:$M$893,A26, Sheet1!$BY$3:$BY$893,$G$1)","v":0}]
["Lithuania",{"$f":"COUNTIF(Sheet1!$M$3:$M$893,A27)","v":9},{"$f":"COUNTIFS(Sheet1!$M$3:$M$893,A27, Sheet1!$BY$3:$BY$893,$C$1)","v":2},{"$f":"COUNTIFS(Sheet1!$M$3:$M$893,A27, Sheet1!$BY$3:$BY$893,$D$1)","v":5},{"$f":"COUNTIFS(Sheet1!$M$3:$M$893,A27, Sheet1!$BY$3:$BY$893,$E$1)","v":0},{"$f":"COUNTIFS(Sheet1!$M$3:$M$893,A27, Sheet1!$BY$3:$BY$893,$F$1)","v":2},{"$f":"COUNTIFS(Sheet1!$M$3:$M$893,A27, Sheet1!$BY$3:$BY$893,$G$1)","v":0}]
["Indonesia",{"$f":"COUNTIF(Sheet1!$M$3:$M$893,A28)","v":3},{"$f":"COUNTIFS(Sheet1!$M$3:$M$893,A28, Sheet1!$BY$3:$BY$893,$C$1)","v":1},{"$f":"COUNTIFS(Sheet1!$M$3:$M$893,A28, Sheet1!$BY$3:$BY$893,$D$1)","v":1},{"$f":"COUNTIFS(Sheet1!$M$3:$M$893,A28, Sheet1!$BY$3:$BY$893,$E$1)","v":0},{"$f":"COUNTIFS(Sheet1!$M$3:$M$893,A28, Sheet1!$BY$3:$BY$893,$F$1)","v":0},{"$f":"COUNTIFS(Sheet1!$M$3:$M$893,A28, Sheet1!$BY$3:$BY$893,$G$1)","v":0}]
["Luxembourg",{"$f":"COUNTIF(Sheet1!$M$3:$M$893,A29)","v":1},{"$f":"COUNTIFS(Sheet1!$M$3:$M$893,A29, Sheet1!$BY$3:$BY$893,$C$1)","v":0},{"$f":"COUNTIFS(Sheet1!$M$3:$M$893,A29, Sheet1!$BY$3:$BY$893,$D$1)","v":0},{"$f":"COUNTIFS(Sheet1!$M$3:$M$893,A29, Sheet1!$BY$3:$BY$893,$E$1)","v":0},{"$f":"COUNTIFS(Sheet1!$M$3:$M$893,A29, Sheet1!$BY$3:$BY$893,$F$1)","v":0},{"$f":"COUNTIFS(Sheet1!$M$3:$M$893,A29, Sheet1!$BY$3:$BY$893,$G$1)","v":0}]
["Malta",{"$f":"COUNTIF(Sheet1!$M$3:$M$893,A30)","v":7},{"$f":"COUNTIFS(Sheet1!$M$3:$M$893,A30, Sheet1!$BY$3:$BY$893,$C$1)","v":3},{"$f":"COUNTIFS(Sheet1!$M$3:$M$893,A30, Sheet1!$BY$3:$BY$893,$D$1)","v":0},{"$f":"COUNTIFS(Sheet1!$M$3:$M$893,A30, Sheet1!$BY$3:$BY$893,$E$1)","v":1},{"$f":"COUNTIFS(Sheet1!$M$3:$M$893,A30, Sheet1!$BY$3:$BY$893,$F$1)","v":1},{"$f":"COUNTIFS(Sheet1!$M$3:$M$893,A30, Sheet1!$BY$3:$BY$893,$G$1)","v":1}]
["Netherlands",{"$f":"COUNTIF(Sheet1!$M$3:$M$893,A31)","v":35},{"$f":"COUNTIFS(Sheet1!$M$3:$M$893,A31, Sheet1!$BY$3:$BY$893,$C$1)","v":20},{"$f":"COUNTIFS(Sheet1!$M$3:$M$893,A31, Sheet1!$BY$3:$BY$893,$D$1)","v":3},{"$f":"COUNTIFS(Sheet1!$M$3:$M$893,A31, Sheet1!$BY$3:$BY$893,$E$1)","v":1},{"$f":"COUNTIFS(Sheet1!$M$3:$M$893,A31, Sheet1!$BY$3:$BY$893,$F$1)","v":3},{"$f":"COUNTIFS(Sheet1!$M$3:$M$893,A31, Sheet1!$BY$3:$BY$893,$G$1)","v":1}]
["Norway",{"$f":"COUNTIF(Sheet1!$M$3:$M$893,A32)","v":11},{"$f":"COUNTIFS(Sheet1!$M$3:$M$893,A32, Sheet1!$BY$3:$BY$893,$C$1)","v":7},{"$f":"COUNTIFS(Sheet1!$M$3:$M$893,A32, Sheet1!$BY$3:$BY$893,$D$1)","v":1},{"$f":"COUNTIFS(Sheet1!$M$3:$M$893,A32, Sheet1!$BY$3:$BY$893,$E$1)","v":0},{"$f":"COUNTIFS(Sheet1!$M$3:$M$893,A32, Sheet1!$BY$3:$BY$893,$F$1)","v":3},{"$f":"COUNTIFS(Sheet1!$M$3:$M$893,A32, Sheet1!$BY$3:$BY$893,$G$1)","v":0}]
["Poland",{"$f":"COUNTIF(Sheet1!$M$3:$M$893,A33)","v":15},{"$f":"COUNTIFS(Sheet1!$M$3:$M$893,A33, Sheet1!$BY$3:$BY$893,$C$1)","v":1},{"$f":"COUNTIFS(Sheet1!$M$3:$M$893,A33, Sheet1!$BY$3:$BY$893,$D$1)","v":2},{"$f":"COUNTIFS(Sheet1!$M$3:$M$893,A33, Sheet1!$BY$3:$BY$893,$E$1)","v":0},{"$f":"COUNTIFS(Sheet1!$M$3:$M$893,A33, Sheet1!$BY$3:$BY$893,$F$1)","v":3},{"$f":"COUNTIFS(Sheet1!$M$3:$M$893,A33, Sheet1!$BY$3:$BY$893,$G$1)","v":1}]
["Portugal",{"$f":"COUNTIF(Sheet1!$M$3:$M$893,A34)","v":57},{"$f":"COUNTIFS(Sheet1!$M$3:$M$893,A34, Sheet1!$BY$3:$BY$893,$C$1)","v":4},{"$f":"COUNTIFS(Sheet1!$M$3:$M$893,A34, Sheet1!$BY$3:$BY$893,$D$1)","v":19},{"$f":"COUNTIFS(Sheet1!$M$3:$M$893,A34, Sheet1!$BY$3:$BY$893,$E$1)","v":11},{"$f":"COUNTIFS(Sheet1!$M$3:$M$893,A34, Sheet1!$BY$3:$BY$893,$F$1)","v":4},{"$f":"COUNTIFS(Sheet1!$M$3:$M$893,A34, Sheet1!$BY$3:$BY$893,$G$1)","v":2}]
["Republic of Moldova",{"$f":"COUNTIF(Sheet1!$M$3:$M$893,A35)","v":4},{"$f":"COUNTIFS(Sheet1!$M$3:$M$893,A35, Sheet1!$BY$3:$BY$893,$C$1)","v":1},{"$f":"COUNTIFS(Sheet1!$M$3:$M$893,A35, Sheet1!$BY$3:$BY$893,$D$1)","v":1},{"$f":"COUNTIFS(Sheet1!$M$3:$M$893,A35, Sheet1!$BY$3:$BY$893,$E$1)","v":2},{"$f":"COUNTIFS(Sheet1!$M$3:$M$893,A35, Sheet1!$BY$3:$BY$893,$F$1)","v":0},{"$f":"COUNTIFS(Sheet1!$M$3:$M$893,A35, Sheet1!$BY$3:$BY$893,$G$1)","v":0}]
["Romania",{"$f":"COUNTIF(Sheet1!$M$3:$M$893,A36)","v":25},{"$f":"COUNTIFS(Sheet1!$M$3:$M$893,A36, Sheet1!$BY$3:$BY$893,$C$1)","v":2},{"$f":"COUNTIFS(Sheet1!$M$3:$M$893,A36, Sheet1!$BY$3:$BY$893,$D$1)","v":7},{"$f":"COUNTIFS(Sheet1!$M$3:$M$893,A36, Sheet1!$BY$3:$BY$893,$E$1)","v":2},{"$f":"COUNTIFS(Sheet1!$M$3:$M$893,A36, Sheet1!$BY$3:$BY$893,$F$1)","v":5},{"$f":"COUNTIFS(Sheet1!$M$3:$M$893,A36, Sheet1!$BY$3:$BY$893,$G$1)","v":0}]
["Russian Federation",{"$f":"COUNTIF(Sheet1!$M$3:$M$893,A37)","v":11},{"$f":"COUNTIFS(Sheet1!$M$3:$M$893,A37, Sheet1!$BY$3:$BY$893,$C$1)","v":4},{"$f":"COUNTIFS(Sheet1!$M$3:$M$893,A37, Sheet1!$BY$3:$BY$893,$D$1)","v":1},{"$f":"COUNTIFS(Sheet1!$M$3:$M$893,A37, Sheet1!$BY$3:$BY$893,$E$1)","v":2},{"$f":"COUNTIFS(Sheet1!$M$3:$M$893,A37, Sheet1!$BY$3:$BY$893,$F$1)","v":2},{"$f":"COUNTIFS(Sheet1!$M$3:$M$893,A37, Sheet1!$BY$3:$BY$893,$G$1)","v":0}]
["Serbia",{"$f":"COUNTIF(Sheet1!$M$3:$M$893,A38)","v":31},{"$f":"COUNTIFS(Sheet1!$M$3:$M$893,A38, Sheet1!$BY$3:$BY$893,$C$1)","v":0},{"$f":"COUNTIFS(Sheet1!$M$3:$M$893,A38, Sheet1!$BY$3:$BY$893,$D$1)","v":5},{"$f":"COUNTIFS(Sheet1!$M$3:$M$893,A38, Sheet1!$BY$3:$BY$893,$E$1)","v":5},{"$f":"COUNTIFS(Sheet1!$M$3:$M$893,A38, Sheet1!$BY$3:$BY$893,$F$1)","v":11},{"$f":"COUNTIFS(Sheet1!$M$3:$M$893,A38, Sheet1!$BY$3:$BY$893,$G$1)","v":0}]
["Slovakia",{"$f":"COUNTIF(Sheet1!$M$3:$M$893,A39)","v":3},{"$f":"COUNTIFS(Sheet1!$M$3:$M$893,A39, Sheet1!$BY$3:$BY$893,$C$1)","v":1},{"$f":"COUNTIFS(Sheet1!$M$3:$M$893,A39, Sheet1!$BY$3:$BY$893,$D$1)","v":1},{"$f":"COUNTIFS(Sheet1!$M$3:$M$893,A39, Sheet1!$BY$3:$BY$893,$E$1)","v":0},{"$f":"COUNTIFS(Sheet1!$M$3:$M$893,A39, Sheet1!$BY$3:$BY$893,$F$1)","v":0},{"$f":"COUNTIFS(Sheet1!$M$3:$M$893,A39, Sheet1!$BY$3:$BY$893,$G$1)","v":0}]
["Slovenia",{"$f":"COUNTIF(Sheet1!$M$3:$M$893,A40)","v":7},{"$f":"COUNTIFS(Sheet1!$M$3:$M$893,A40, Sheet1!$BY$3:$BY$893,$C$1)","v":1},{"$f":"COUNTIFS(Sheet1!$M$3:$M$893,A40, Sheet1!$BY$3:$BY$893,$D$1)","v":1},{"$f":"COUNTIFS(Sheet1!$M$3:$M$893,A40, Sheet1!$BY$3:$BY$893,$E$1)","v":2},{"$f":"COUNTIFS(Sheet1!$M$3:$M$893,A40, Sheet1!$BY$3:$BY$893,$F$1)","v":1},{"$f":"COUNTIFS(Sheet1!$M$3:$M$893,A40, Sheet1!$BY$3:$BY$893,$G$1)","v":0}]
["Spain",{"$f":"COUNTIF(Sheet1!$M$3:$M$893,A41)","v":51},{"$f":"COUNTIFS(Sheet1!$M$3:$M$893,A41, Sheet1!$BY$3:$BY$893,$C$1)","v":8},{"$f":"COUNTIFS(Sheet1!$M$3:$M$893,A41, Sheet1!$BY$3:$BY$893,$D$1)","v":9},{"$f":"COUNTIFS(Sheet1!$M$3:$M$893,A41, Sheet1!$BY$3:$BY$893,$E$1)","v":13},{"$f":"COUNTIFS(Sheet1!$M$3:$M$893,A41, Sheet1!$BY$3:$BY$893,$F$1)","v":6},{"$f":"COUNTIFS(Sheet1!$M$3:$M$893,A41, Sheet1!$BY$3:$BY$893,$G$1)","v":2}]
["Sweden",{"$f":"COUNTIF(Sheet1!$M$3:$M$893,A42)","v":17},{"$f":"COUNTIFS(Sheet1!$M$3:$M$893,A42, Sheet1!$BY$3:$BY$893,$C$1)","v":6},{"$f":"COUNTIFS(Sheet1!$M$3:$M$893,A42, Sheet1!$BY$3:$BY$893,$D$1)","v":4},{"$f":"COUNTIFS(Sheet1!$M$3:$M$893,A42, Sheet1!$BY$3:$BY$893,$E$1)","v":4},{"$f":"COUNTIFS(Sheet1!$M$3:$M$893,A42, Sheet1!$BY$3:$BY$893,$F$1)","v":0},{"$f":"COUNTIFS(Sheet1!$M$3:$M$893,A42, Sheet1!$BY$3:$BY$893,$G$1)","v":0}]
["Switzerland",{"$f":"COUNTIF(Sheet1!$M$3:$M$893,A43)","v":29},{"$f":"COUNTIFS(Sheet1!$M$3:$M$893,A43, Sheet1!$BY$3:$BY$893,$C$1)","v":7},{"$f":"COUNTIFS(Sheet1!$M$3:$M$893,A43, Sheet1!$BY$3:$BY$893,$D$1)","v":11},{"$f":"COUNTIFS(Sheet1!$M$3:$M$893,A43, Sheet1!$BY$3:$BY$893,$E$1)","v":2},{"$f":"COUNTIFS(Sheet1!$M$3:$M$893,A43, Sheet1!$BY$3:$BY$893,$F$1)","v":3},{"$f":"COUNTIFS(Sheet1!$M$3:$M$893,A43, Sheet1!$BY$3:$BY$893,$G$1)","v":1}]
["The former Yugoslav Republic of Macedonia",{"$f":"COUNTIF(Sheet1!$M$3:$M$893,A44)","v":5},{"$f":"COUNTIFS(Sheet1!$M$3:$M$893,A44, Sheet1!$BY$3:$BY$893,$C$1)","v":0},{"$f":"COUNTIFS(Sheet1!$M$3:$M$893,A44, Sheet1!$BY$3:$BY$893,$D$1)","v":2},{"$f":"COUNTIFS(Sheet1!$M$3:$M$893,A44, Sheet1!$BY$3:$BY$893,$E$1)","v":3},{"$f":"COUNTIFS(Sheet1!$M$3:$M$893,A44, Sheet1!$BY$3:$BY$893,$F$1)","v":0},{"$f":"COUNTIFS(Sheet1!$M$3:$M$893,A44, Sheet1!$BY$3:$BY$893,$G$1)","v":0}]
["Turkey",{"$f":"COUNTIF(Sheet1!$M$3:$M$893,A45)","v":58},{"$f":"COUNTIFS(Sheet1!$M$3:$M$893,A45, Sheet1!$BY$3:$BY$893,$C$1)","v":5},{"$f":"COUNTIFS(Sheet1!$M$3:$M$893,A45, Sheet1!$BY$3:$BY$893,$D$1)","v":14},{"$f":"COUNTIFS(Sheet1!$M$3:$M$893,A45, Sheet1!$BY$3:$BY$893,$E$1)","v":11},{"$f":"COUNTIFS(Sheet1!$M$3:$M$893,A45, Sheet1!$BY$3:$BY$893,$F$1)","v":5},{"$f":"COUNTIFS(Sheet1!$M$3:$M$893,A45, Sheet1!$BY$3:$BY$893,$G$1)","v":0}]
["Ukraine",{"$f":"COUNTIF(Sheet1!$M$3:$M$893,A46)","v":7},{"$f":"COUNTIFS(Sheet1!$M$3:$M$893,A46, Sheet1!$BY$3:$BY$893,$C$1)","v":0},{"$f":"COUNTIFS(Sheet1!$M$3:$M$893,A46, Sheet1!$BY$3:$BY$893,$D$1)","v":1},{"$f":"COUNTIFS(Sheet1!$M$3:$M$893,A46, Sheet1!$BY$3:$BY$893,$E$1)","v":2},{"$f":"COUNTIFS(Sheet1!$M$3:$M$893,A46, Sheet1!$BY$3:$BY$893,$F$1)","v":2},{"$f":"COUNTIFS(Sheet1!$M$3:$M$893,A46, Sheet1!$BY$3:$BY$893,$G$1)","v":0}]
["United Kingdom of Great Britain and Northern Ireland",{"$f":"COUNTIF(Sheet1!$M$3:$M$893,A47)","v":32},{"$f":"COUNTIFS(Sheet1!$M$3:$M$893,A47, Sheet1!$BY$3:$BY$893,$C$1)","v":17},{"$f":"COUNTIFS(Sheet1!$M$3:$M$893,A47, Sheet1!$BY$3:$BY$893,$D$1)","v":1},{"$f":"COUNTIFS(Sheet1!$M$3:$M$893,A47, Sheet1!$BY$3:$BY$893,$E$1)","v":2},{"$f":"COUNTIFS(Sheet1!$M$3:$M$893,A47, Sheet1!$BY$3:$BY$893,$F$1)","v":1},{"$f":"COUNTIFS(Sheet1!$M$3:$M$893,A47, Sheet1!$BY$3:$BY$893,$G$1)","v":0}]
["Azerbaijan",{"$f":"COUNTIF(Sheet1!$M$3:$M$893,A48)","v":1},{"$f":"COUNTIFS(Sheet1!$M$3:$M$893,A48, Sheet1!$BY$3:$BY$893,$C$1)","v":0},{"$f":"COUNTIFS(Sheet1!$M$3:$M$893,A48, Sheet1!$BY$3:$BY$893,$D$1)","v":0},{"$f":"COUNTIFS(Sheet1!$M$3:$M$893,A48, Sheet1!$BY$3:$BY$893,$E$1)","v":0},{"$f":"COUNTIFS(Sheet1!$M$3:$M$893,A48, Sheet1!$BY$3:$BY$893,$F$1)","v":0},{"$f":"COUNTIFS(Sheet1!$M$3:$M$893,A48, Sheet1!$BY$3:$BY$893,$G$1)","v":0}]
["Sum",{"$f":"SUM(B2:B48)","v":719},140,164,115,103,{"$f":"SUM(G2:G48)","v":16}]

{"sheet":"28. Pitanje","index":13,"n_rows":49,"n_cols":8,"rows_kept":49}
["28. Who is responsible for curriculum development and implementation?","Ukupan broj","National body responsible for education (Ministry of health or education, National board for anaesthesia …)","University","Hospital administration","Department of anaesthesiology","Society or association of anaesthesiology","I do not know"]
["Albania",{"$f":"COUNTIF(Sheet1!$M$3:$M$893,A2)","v":6},{"$f":"COUNTIFS(Sheet1!$M$3:$M$893,A2, Sheet1!$CA$3:$CA$893,$C$1)","v":1},{"$f":"COUNTIFS(Sheet1!$M$3:$M$893,A2, Sheet1!$CA$3:$CA$893,$D$1)","v":2},{"$f":"COUNTIFS(Sheet1!$M$3:$M$893,A2, Sheet1!$CA$3:$CA$893,$E$1)","v":0},{"$f":"COUNTIFS(Sheet1!$M$3:$M$893,A2, Sheet1!$CA$3:$CA$893,$F$1)","v":1},{"$f":"COUNTIFS(Sheet1!$M$3:$M$893,A2, Sheet1!$CA$3:$CA$893,$G$1)","v":0},{"$f":"COUNTIFS(Sheet1!$M$3:$M$893,A2, Sheet1!$CA$3:$CA$893,$H$1)","v":0}]
["Armenia",{"$f":"COUNTIF(Sheet1!$M$3:$M$893,A3)","v":1},{"$f":"COUNTIFS(Sheet1!$M$3:$M$893,A3, Sheet1!$CA$3:$CA$893,$C$1)","v":0},{"$f":"COUNTIFS(Sheet1!$M$3:$M$893,A3, Sheet1!$CA$3:$CA$893,$D$1)","v":1},{"$f":"COUNTIFS(Sheet1!$M$3:$M$893,A3, Sheet1!$CA$3:$CA$893,$E$1)","v":0},{"$f":"COUNTIFS(Sheet1!$M$3:$M$893,A3, Sheet1!$CA$3:$CA$893,$F$1)","v":0},{"$f":"COUNTIFS(Sheet1!$M$3:$M$893,A3, Sheet1!$CA$3:$CA$893,$G$1)","v":0},{"$f":"COUNTIFS(Sheet1!$M$3:$M$893,A3, Sheet1!$CA$3:$CA$893,$H$1)","v":0}]
["Austria",{"$f":"COUNTIF(Sheet1!$M$3:$M$893,A4)","v":15},{"$f":"COUNTIFS(Sheet1!$M$3:$M$893,A4, Sheet1!$CA$3:$CA$893,$C$1)","v":4},{"$f":"COUNTIFS(Sheet1!$M$3:$M$893,A4, Sheet1!$CA$3:$CA$893,$D$1)","v":0},{"$f":"COUNTIFS(Sheet1!$M$3:$M$893,A4, Sheet1!$CA$3:$CA$893,$E$1)","v":1},{"$f":"COUNTIFS(Sheet1!$M$3:$M$893,A4, Sheet1!$CA$3:$CA$893,$F$1)","v":2},{"$f":"COUNTIFS(Sheet1!$M$3:$M$893,A4, Sheet1!$CA$3:$CA$893,$G$1)","v":2},{"$f":"COUNTIFS(Sheet1!$M$3:$M$893,A4, Sheet1!$CA$3:$CA$893,$H$1)","v":3}]
["Belarus",{"$f":"COUNTIF(Sheet1!$M$3:$M$893,A5)","v":1},{"$f":"COUNTIFS(Sheet1!$M$3:$M$893,A5, Sheet1!$CA$3:$CA$893,$C$1)","v":1},{"$f":"COUNTIFS(Sheet1!$M$3:$M$893,A5, Sheet1!$CA$3:$CA$893,$D$1)","v":0},{"$f":"COUNTIFS(Sheet1!$M$3:$M$893,A5, Sheet1!$CA$3:$CA$893,$E$1)","v":0},{"$f":"COUNTIFS(Sheet1!$M$3:$M$893,A5, Sheet1!$CA$3:$CA$893,$F$1)","v":0},{"$f":"COUNTIFS(Sheet1!$M$3:$M$893,A5, Sheet1!$CA$3:$CA$893,$G$1)","v":0},{"$f":"COUNTIFS(Sheet1!$M$3:$M$893,A5, Sheet1!$CA$3:$CA$893,$H$1)","v":0}]
["Belgium",{"$f":"COUNTIF(Sheet1!$M$3:$M$893,A6)","v":30},{"$f":"COUNTIFS(Sheet1!$M$3:$M$893,A6, Sheet1!$CA$3:$CA$893,$C$1)","v":13},{"$f":"COUNTIFS(Sheet1!$M$3:$M$893,A6, Sheet1!$CA$3:$CA$893,$D$1)","v":8},{"$f":"COUNTIFS(Sheet1!$M$3:$M$893,A6, Sheet1!$CA$3:$CA$893,$E$1)","v":0},{"$f":"COUNTIFS(Sheet1!$M$3:$M$893,A6, Sheet1!$CA$3:$CA$893,$F$1)","v":3},{"$f":"COUNTIFS(Sheet1!$M$3:$M$893,A6, Sheet1!$CA$3:$CA$893,$G$1)","v":0},{"$f":"COUNTIFS(Sheet1!$M$3:$M$893,A6, Sheet1!$CA$3:$CA$893,$H$1)","v":1}]
["Bosnia and Herzegovina",{"$f":"COUNTIF(Sheet1!$M$3:$M$893,A7)","v":4},{"$f":"COUNTIFS(Sheet1!$M$3:$M$893,A7, Sheet1!$CA$3:$CA$893,$C$1)","v":3},{"$f":"COUNTIFS(Sheet1!$M$3:$M$893,A7, Sheet1!$CA$3:$CA$893,$D$1)","v":0},{"$f":"COUNTIFS(Sheet1!$M$3:$M$893,A7, Sheet1!$CA$3:$CA$893,$E$1)","v":1},{"$f":"COUNTIFS(Sheet1!$M$3:$M$893,A7, Sheet1!$CA$3:$CA$893,$F$1)","v":0},{"$f":"COUNTIFS(Sheet1!$M$3:$M$893,A7, Sheet1!$CA$3:$CA$893,$G$1)","v":0},{"$f":"COUNTIFS(Sheet1!$M$3:$M$893,A7, Sheet1!$CA$3:$CA$893,$H$1)","v":0}]
["Bulgaria",{"$f":"COUNTIF(Sheet1!$M$3:$M$893,A8)","v":3},{"$f":"COUNTIFS(Sheet1!$M$3:$M$893,A8, Sheet1!$CA$3:$CA$893,$C$1)","v":1},{"$f":"COUNTIFS(Sheet1!$M$3:$M$893,A8, Sheet1!$CA$3:$CA$893,$D$1)","v":2},{"$f":"COUNTIFS(Sheet1!$M$3:$M$893,A8, Sheet1!$CA$3:$CA$893,$E$1)","v":0},{"$f":"COUNTIFS(Sheet1!$M$3:$M$893,A8, Sheet1!$CA$3:$CA$893,$F$1)","v":0},{"$f":"COUNTIFS(Sheet1!$M$3:$M$893,A8, Sheet1!$CA$3:$CA$893,$G$1)","v":0},{"$f":"COUNTIFS(Sheet1!$M$3:$M$893,A8, Sheet1!$CA$3:$CA$893,$H$1)","v":0}]
["Croatia",{"$f":"COUNTIF(Sheet1!$M$3:$M$893,A9)","v":15},{"$f":"COUNTIFS(Sheet1!$M$3:$M$893,A9, Sheet1!$CA$3:$CA$893,$C$1)","v":8},{"$f":"COUNTIFS(Sheet1!$M$3:$M$893,A9, Sheet1!$CA$3:$CA$893,$D$1)","v":0},{"$f":"COUNTIFS(Sheet1!$M$3:$M$893,A9, Sheet1!$CA$3:$CA$893,$E$1)","v":0},{"$f":"COUNTIFS(Sheet1!$M$3:$M$893,A9, Sheet1!$CA$3:$CA$893,$F$1)","v":0},{"$f":"COUNTIFS(Sheet1!$M$3:$M$893,A9, Sheet1!$CA$3:$CA$893,$G$1)","v":1},{"$f":"COUNTIFS(Sheet1!$M$3:$M$893,A9, Sheet1!$CA$3:$CA$893,$H$1)","v":1}]
["Cyprus",{"$f":"COUNTIF(Sheet1!$M$3:$M$893,A10)","v":4},{"$f":"COUNTIFS(Sheet1!$M$3:$M$893,A10, Sheet1!$CA$3:$CA$893,$C$1)","v":1},{"$f":"COUNTIFS(Sheet1!$M$3:$M$893,A10, Sheet1!$CA$3:$CA$893,$D$1)","v":1},{"$f":"COUNTIFS(Sheet1!$M$3:$M$893,A10, Sheet1!$CA$3:$CA$893,$E$1)","v":0},{"$f":"COUNTIFS(Sheet1!$M$3:$M$893,A10, Sheet1!$CA$3:$CA$893,$F$1)","v":0},{"$f":"COUNTIFS(Sheet1!$M$3:$M$893,A10, Sheet1!$CA$3:$CA$893,$G$1)","v":0},{"$f":"COUNTIFS(Sheet1!$M$3:$M$893,A10, Sheet1!$CA$3:$CA$893,$H$1)","v":0}]
["Czech Republic",{"$f":"COUNTIF(Sheet1!$M$3:$M$893,A11)","v":5},{"$f":"COUNTIFS(Sheet1!$M$3:$M$893,A11, Sheet1!$CA$3:$CA$893,$C$1)","v":1},{"$f":"COUNTIFS(Sheet1!$M$3:$M$893,A11, Sheet1!$CA$3:$CA$893,$D$1)","v":2},{"$f":"COUNTIFS(Sheet1!$M$3:$M$893,A11, Sheet1!$CA$3:$CA$893,$E$1)","v":0},{"$f":"COUNTIFS(Sheet1!$M$3:$M$893,A11, Sheet1!$CA$3:$CA$893,$F$1)","v":1},{"$f":"COUNTIFS(Sheet1!$M$3:$M$893,A11, Sheet1!$CA$3:$CA$893,$G$1)","v":0},{"$f":"COUNTIFS(Sheet1!$M$3:$M$893,A11, Sheet1!$CA$3:$CA$893,$H$1)","v":0}]
["Denmark",{"$f":"COUNTIF(Sheet1!$M$3:$M$893,A12)","v":7},{"$f":"COUNTIFS(Sheet1!$M$3:$M$893,A12, Sheet1!$CA$3:$CA$893,$C$1)","v":5},{"$f":"COUNTIFS(Sheet1!$M$3:$M$893,A12, Sheet1!$CA$3:$CA$893,$D$1)","v":0},{"$f":"COUNTIFS(Sheet1!$M$3:$M$893,A12, Sheet1!$CA$3:$CA$893,$E$1)","v":0},{"$f":"COUNTIFS(Sheet1!$M$3:$M$893,A12, Sheet1!$CA$3:$CA$893,$F$1)","v":0},{"$f":"COUNTIFS(Sheet1!$M$3:$M$893,A12, Sheet1!$CA$3:$CA$893,$G$1)","v":0},{"$f":"COUNTIFS(Sheet1!$M$3:$M$893,A12, Sheet1!$CA$3:$CA$893,$H$1)","v":0}]
["Estonia",{"$f":"COUNTIF(Sheet1!$M$3:$M$893,A13)","v":3},{"$f":"COUNTIFS(Sheet1!$M$3:$M$893,A13, Sheet1!$CA$3:$CA$893,$C$1)","v":0},{"$f":"COUNTIFS(Sheet1!$M$3:$M$893,A13, Sheet1!$CA$3:$CA$893,$D$1)","v":3},{"$f":"COUNTIFS(Sheet1!$M$3:$M$893,A13, Sheet1!$CA$3:$CA$893,$E$1)","v":0},{"$f":"COUNTIFS(Sheet1!$M$3:$M$893,A13, Sheet1!$CA$3:$CA$893,$F$1)","v":0},{"$f":"COUNTIFS(Sheet1!$M$3:$M$893,A13, Sheet1!$CA$3:$CA$893,$G$1)","v":0},{"$f":"COUNTIFS(Sheet1!$M$3:$M$893,A13, Sheet1!$CA$3:$CA$893,$H$1)","v":0}]
["Finland",{"$f":"COUNTIF(Sheet1!$M$3:$M$893,A14)","v":8},{"$f":"COUNTIFS(Sheet1!$M$3:$M$893,A14, Sheet1!$CA$3:$CA$893,$C$1)","v":0},{"$f":"COUNTIFS(Sheet1!$M$3:$M$893,A14, Sheet1!$CA$3:$CA$893,$D$1)","v":7},{"$f":"COUNTIFS(Sheet1!$M$3:$M$893,A14, Sheet1!$CA$3:$CA$893,$E$1)","v":0},{"$f":"COUNTIFS(Sheet1!$M$3:$M$893,A14, Sheet1!$CA$3:$CA$893,$F$1)","v":0},{"$f":"COUNTIFS(Sheet1!$M$3:$M$893,A14, Sheet1!$CA$3:$CA$893,$G$1)","v":0},{"$f":"COUNTIFS(Sheet1!$M$3:$M$893,A14, Sheet1!$CA$3:$CA$893,$H$1)","v":1}]
["Uzbekistan",{"$f":"COUNTIF(Sheet1!$M$3:$M$893,A15)","v":1},{"$f":"COUNTIFS(Sheet1!$M$3:$M$893,A15, Sheet1!$CA$3:$CA$893,$C$1)","v":0},{"$f":"COUNTIFS(Sheet1!$M$3:$M$893,A15, Sheet1!$CA$3:$CA$893,$D$1)","v":0},{"$f":"COUNTIFS(Sheet1!$M$3:$M$893,A15, Sheet1!$CA$3:$CA$893,$E$1)","v":1},{"$f":"COUNTIFS(Sheet1!$M$3:$M$893,A15, Sheet1!$CA$3:$CA$893,$F$1)","v":0},{"$f":"COUNTIFS(Sheet1!$M$3:$M$893,A15, Sheet1!$CA$3:$CA$893,$G$1)","v":0},{"$f":"COUNTIFS(Sheet1!$M$3:$M$893,A15, Sheet1!$CA$3:$CA$893,$H$1)","v":0}]
["France",{"$f":"COUNTIF(Sheet1!$M$3:$M$893,A16)","v":14},{"$f":"COUNTIFS(Sheet1!$M$3:$M$893,A16, Sheet1!$CA$3:$CA$893,$C$1)","v":5},{"$f":"COUNTIFS(Sheet1!$M$3:$M$893,A16, Sheet1!$CA$3:$CA$893,$D$1)","v":3},{"$f":"COUNTIFS(Sheet1!$M$3:$M$893,A16, Sheet1!$CA$3:$CA$893,$E$1)","v":0},{"$f":"COUNTIFS(Sheet1!$M$3:$M$893,A16, Sheet1!$CA$3:$CA$893,$F$1)","v":0},{"$f":"COUNTIFS(Sheet1!$M$3:$M$893,A16, Sheet1!$CA$3:$CA$893,$G$1)","v":1},{"$f":"COUNTIFS(Sheet1!$M$3:$M$893,A16, Sheet1!$CA$3:$CA$893,$H$1)","v":2}]
["Israel",{"$f":"COUNTIF(Sheet1!$M$3:$M$893,A17)","v":12},{"$f":"COUNTIFS(Sheet1!$M$3:$M$893,A17, Sheet1!$CA$3:$CA$893,$C$1)","v":7},{"$f":"COUNTIFS(Sheet1!$M$3:$M$893,A17, Sheet1!$CA$3:$CA$893,$D$1)","v":0},{"$f":"COUNTIFS(Sheet1!$M$3:$M$893,A17, Sheet1!$CA$3:$CA$893,$E$1)","v":0},{"$f":"COUNTIFS(Sheet1!$M$3:$M$893,A17, Sheet1!$CA$3:$CA$893,$F$1)","v":2},{"$f":"COUNTIFS(Sheet1!$M$3:$M$893,A17, Sheet1!$CA$3:$CA$893,$G$1)","v":2},{"$f":"COUNTIFS(Sheet1!$M$3:$M$893,A17, Sheet1!$CA$3:$CA$893,$H$1)","v":0}]
["Georgia",{"$f":"COUNTIF(Sheet1!$M$3:$M$893,A18)","v":3},{"$f":"COUNTIFS(Sheet1!$M$3:$M$893,A18, Sheet1!$CA$3:$CA$893,$C$1)","v":0},{"$f":"COUNTIFS(Sheet1!$M$3:$M$893,A18, Sheet1!$CA$3:$CA$893,$D$1)","v":0},{"$f":"COUNTIFS(Sheet1!$M$3:$M$893,A18, Sheet1!$CA$3:$CA$893,$E$1)","v":0},{"$f":"COUNTIFS(Sheet1!$M$3:$M$893,A18, Sheet1!$CA$3:$CA$893,$F$1)","v":0},{"$f":"COUNTIFS(Sheet1!$M$3:$M$893,A18, Sheet1!$CA$3:$CA$893,$G$1)","v":1},{"$f":"COUNTIFS(Sheet1!$M$3:$M$893,A18, Sheet1!$CA$3:$CA$893,$H$1)","v":0}]
["Germany",{"$f":"COUNTIF(Sheet1!$M$3:$M$893,A19)","v":70},{"$f":"COUNTIFS(Sheet1!$M$3:$M$893,A19, Sheet1!$CA$3:$CA$893,$C$1)","v":17},{"$f":"COUNTIFS(Sheet1!$M$3:$M$893,A19, Sheet1!$CA$3:$CA$893,$D$1)","v":4},{"$f":"COUNTIFS(Sheet1!$M$3:$M$893,A19, Sheet1!$CA$3:$CA$893,$E$1)","v":0},{"$f":"COUNTIFS(Sheet1!$M$3:$M$893,A19, Sheet1!$CA$3:$CA$893,$F$1)","v":25},{"$f":"COUNTIFS(Sheet1!$M$3:$M$893,A19, Sheet1!$CA$3:$CA$893,$G$1)","v":6},{"$f":"COUNTIFS(Sheet1!$M$3:$M$893,A19, Sheet1!$CA$3:$CA$893,$H$1)","v":7}]
["Kazakhstan",{"$f":"COUNTIF(Sheet1!$M$3:$M$893,A20)","v":1},{"$f":"COUNTIFS(Sheet1!$M$3:$M$893,A20, Sheet1!$CA$3:$CA$893,$C$1)","v":0},{"$f":"COUNTIFS(Sheet1!$M$3:$M$893,A20, Sheet1!$CA$3:$CA$893,$D$1)","v":0},{"$f":"COUNTIFS(Sheet1!$M$3:$M$893,A20, Sheet1!$CA$3:$CA$893,$E$1)","v":0},{"$f":"COUNTIFS(Sheet1!$M$3:$M$893,A20, Sheet1!$CA$3:$CA$893,$F$1)","v":0},{"$f":"COUNTIFS(Sheet1!$M$3:$M$893,A20, Sheet1!$CA$3:$CA$893,$G$1)","v":0},{"$f":"COUNTIFS(Sheet1!$M$3:$M$893,A20, Sheet1!$CA$3:$CA$893,$H$1)","v":0}]
["Greece",{"$f":"COUNTIF(Sheet1!$M$3:$M$893,A21)","v":42},{"$f":"COUNTIFS(Sheet1!$M$3:$M$893,A21, Sheet1!$CA$3:$CA$893,$C$1)","v":17},{"$f":"COUNTIFS(Sheet1!$M$3:$M$893,A21, Sheet1!$CA$3:$CA$893,$D$1)","v":0},{"$f":"COUNTIFS(Sheet1!$M$3:$M$893,A21, Sheet1!$CA$3:$CA$893,$E$1)","v":2},{"$f":"COUNTIFS(Sheet1!$M$3:$M$893,A21, Sheet1!$CA$3:$CA$893,$F$1)","v":3},{"$f":"COUNTIFS(Sheet1!$M$3:$M$893,A21, Sheet1!$CA$3:$CA$893,$G$1)","v":9},{"$f":"COUNTIFS(Sheet1!$M$3:$M$893,A21, Sheet1!$CA$3:$CA$893,$H$1)","v":2}]
["Hungary",{"$f":"COUNTIF(Sheet1!$M$3:$M$893,A22)","v":6},{"$f":"COUNTIFS(Sheet1!$M$3:$M$893,A22, Sheet1!$CA$3:$CA$893,$C$1)","v":3},{"$f":"COUNTIFS(Sheet1!$M$3:$M$893,A22, Sheet1!$CA$3:$CA$893,$D$1)","v":2},{"$f":"COUNTIFS(Sheet1!$M$3:$M$893,A22, Sheet1!$CA$3:$CA$893,$E$1)","v":0},{"$f":"COUNTIFS(Sheet1!$M$3:$M$893,A22, Sheet1!$CA$3:$CA$893,$F$1)","v":0},{"$f":"COUNTIFS(Sheet1!$M$3:$M$893,A22, Sheet1!$CA$3:$CA$893,$G$1)","v":1},{"$f":"COUNTIFS(Sheet1!$M$3:$M$893,A22, Sheet1!$CA$3:$CA$893,$H$1)","v":0}]
["Iceland",{"$f":"COUNTIF(Sheet1!$M$3:$M$893,A23)","v":1},{"$f":"COUNTIFS(Sheet1!$M$3:$M$893,A23, Sheet1!$CA$3:$CA$893,$C$1)","v":0},{"$f":"COUNTIFS(Sheet1!$M$3:$M$893,A23, Sheet1!$CA$3:$CA$893,$D$1)","v":0},{"$f":"COUNTIFS(Sheet1!$M$3:$M$893,A23, Sheet1!$CA$3:$CA$893,$E$1)","v":0},{"$f":"COUNTIFS(Sheet1!$M$3:$M$893,A23, Sheet1!$CA$3:$CA$893,$F$1)","v":0},{"$f":"COUNTIFS(Sheet1!$M$3:$M$893,A23, Sheet1!$CA$3:$CA$893,$G$1)","v":0},{"$f":"COUNTIFS(Sheet1!$M$3:$M$893,A23, Sheet1!$CA$3:$CA$893,$H$1)","v":1}]
["Ireland",{"$f":"COUNTIF(Sheet1!$M$3:$M$893,A24)","v":8},{"$f":"COUNTIFS(Sheet1!$M$3:$M$893,A24, Sheet1!$CA$3:$CA$893,$C$1)","v":3},{"$f":"COUNTIFS(Sheet1!$M$3:$M$893,A24, Sheet1!$CA$3:$CA$893,$D$1)","v":3},{"$f":"COUNTIFS(Sheet1!$M$3:$M$893,A24, Sheet1!$CA$3:$CA$893,$E$1)","v":0},{"$f":"COUNTIFS(Sheet1!$M$3:$M$893,A24, Sheet1!$CA$3:$CA$893,$F$1)","v":0},{"$f":"COUNTIFS(Sheet1!$M$3:$M$893,A24, Sheet1!$CA$3:$CA$893,$G$1)","v":0},{"$f":"COUNTIFS(Sheet1!$M$3:$M$893,A24, Sheet1!$CA$3:$CA$893,$H$1)","v":1}]
["Italy",{"$f":"COUNTIF(Sheet1!$M$3:$M$893,A25)","v":30},{"$f":"COUNTIFS(Sheet1!$M$3:$M$893,A25, Sheet1!$CA$3:$CA$893,$C$1)","v":2},{"$f":"COUNTIFS(Sheet1!$M$3:$M$893,A25, Sheet1!$CA$3:$CA$893,$D$1)","v":7},{"$f":"COUNTIFS(Sheet1!$M$3:$M$893,A25, Sheet1!$CA$3:$CA$893,$E$1)","v":1},{"$f":"COUNTIFS(Sheet1!$M$3:$M$893,A25, Sheet1!$CA$3:$CA$893,$F$1)","v":5},{"$f":"COUNTIFS(Sheet1!$M$3:$M$893,A25, Sheet1!$CA$3:$CA$893,$G$1)","v":1},{"$f":"COUNTIFS(Sheet1!$M$3:$M$893,A25, Sheet1!$CA$3:$CA$893,$H$1)","v":4}]
["Latvia",{"$f":"COUNTIF(Sheet1!$M$3:$M$893,A26)","v":10},{"$f":"COUNTIFS(Sheet1!$M$3:$M$893,A26, Sheet1!$CA$3:$CA$893,$C$1)","v":3},{"$f":"COUNTIFS(Sheet1!$M$3:$M$893,A26, Sheet1!$CA$3:$CA$893,$D$1)","v":3},{"$f":"COUNTIFS(Sheet1!$M$3:$M$893,A26, Sheet1!$CA$3:$CA$893,$E$1)","v":1},{"$f":"COUNTIFS(Sheet1!$M$3:$M$893,A26, Sheet1!$CA$3:$CA$893,$F$1)","v":0},{"$f":"COUNTIFS(Sheet1!$M$3:$M$893,A26, Sheet1!$CA$3:$CA$893,$G$1)","v":2},{"$f":"COUNTIFS(Sheet1!$M$3:$M$893,A26, Sheet1!$CA$3:$CA$893,$H$1)","v":1}]
["Lithuania",{"$f":"COUNTIF(Sheet1!$M$3:$M$893,A27)","v":9},{"$f":"COUNTIFS(Sheet1!$M$3:$M$893,A27, Sheet1!$CA$3:$CA$893,$C$1)","v":2},{"$f":"COUNTIFS(Sheet1!$M$3:$M$893,A27, Sheet1!$CA$3:$CA$893,$D$1)","v":2},{"$f":"COUNTIFS(Sheet1!$M$3:$M$893,A27, Sheet1!$CA$3:$CA$893,$E$1)","v":0},{"$f":"COUNTIFS(Sheet1!$M$3:$M$893,A27, Sheet1!$CA$3:$CA$893,$F$1)","v":2},{"$f":"COUNTIFS(Sheet1!$M$3:$M$893,A27, Sheet1!$CA$3:$CA$893,$G$1)","v":1},{"$f":"COUNTIFS(Sheet1!$M$3:$M$893,A27, Sheet1!$CA$3:$CA$893,$H$1)","v":2}]
["Indonesia",{"$f":"COUNTIF(Sheet1!$M$3:$M$893,A28)","v":3},{"$f":"COUNTIFS(Sheet1!$M$3:$M$893,A28, Sheet1!$CA$3:$CA$893,$C$1)","v":1},{"$f":"COUNTIFS(Sheet1!$M$3:$M$893,A28, Sheet1!$CA$3:$CA$893,$D$1)","v":1},{"$f":"COUNTIFS(Sheet1!$M$3:$M$893,A28, Sheet1!$CA$3:$CA$893,$E$1)","v":0},{"$f":"COUNTIFS(Sheet1!$M$3:$M$893,A28, Sheet1!$CA$3:$CA$893,$F$1)","v":0},{"$f":"COUNTIFS(Sheet1!$M$3:$M$893,A28, Sheet1!$CA$3:$CA$893,$G$1)","v":0},{"$f":"COUNTIFS(Sheet1!$M$3:$M$893,A28, Sheet1!$CA$3:$CA$893,$H$1)","v":0}]
["Luxembourg",{"$f":"COUNTIF(Sheet1!$M$3:$M$893,A29)","v":1},{"$f":"COUNTIFS(Sheet1!$M$3:$M$893,A29, Sheet1!$CA$3:$CA$893,$C$1)","v":0},{"$f":"COUNTIFS(Sheet1!$M$3:$M$893,A29, Sheet1!$CA$3:$CA$893,$D$1)","v":0},{"$f":"COUNTIFS(Sheet1!$M$3:$M$893,A29, Sheet1!$CA$3:$CA$893,$E$1)","v":0},{"$f":"COUNTIFS(Sheet1!$M$3:$M$893,A29, Sheet1!$CA$3:$CA$893,$F$1)","v":0},{"$f":"COUNTIFS(Sheet1!$M$3:$M$893,A29, Sheet1!$CA$3:$CA$893,$G$1)","v":0},{"$f":"COUNTIFS(Sheet1!$M$3:$M$893,A29, Sheet1!$CA$3:$CA$893,$H$1)","v":0}]
["Malta",{"$f":"COUNTIF(Sheet1!$M$3:$M$893,A30)","v":7},{"$f":"COUNTIFS(Sheet1!$M$3:$M$893,A30, Sheet1!$CA$3:$CA$893,$C$1)","v":0},{"$f":"COUNTIFS(Sheet1!$M$3:$M$893,A30, Sheet1!$CA$3:$CA$893,$D$1)","v":0},{"$f":"COUNTIFS(Sheet1!$M$3:$M$893,A30, Sheet1!$CA$3:$CA$893,$E$1)","v":0},{"$f":"COUNTIFS(Sheet1!$M$3:$M$893,A30, Sheet1!$CA$3:$CA$893,$F$1)","v":1},{"$f":"COUNTIFS(Sheet1!$M$3:$M$893,A30, Sheet1!$CA$3:$CA$893,$G$1)","v":5},{"$f":"COUNTIFS(Sheet1!$M$3:$M$893,A30, Sheet1!$CA$3:$CA$893,$H$1)","v":0}]
["Netherlands",{"$f":"COUNTIF(Sheet1!$M$3:$M$893,A31)","v":35},{"$f":"COUNTIFS(Sheet1!$M$3:$M$893,A31, Sheet1!$CA$3:$CA$893,$C$1)","v":8},{"$f":"COUNTIFS(Sheet1!$M$3:$M$893,A31, Sheet1!$CA$3:$CA$893,$D$1)","v":3},{"$f":"COUNTIFS(Sheet1!$M$3:$M$893,A31, Sheet1!$CA$3:$CA$893,$E$1)","v":0},{"$f":"COUNTIFS(Sheet1!$M$3:$M$893,A31, Sheet1!$CA$3:$CA$893,$F$1)","v":1},{"$f":"COUNTIFS(Sheet1!$M$3:$M$893,A31, Sheet1!$CA$3:$CA$893,$G$1)","v":18},{"$f":"COUNTIFS(Sheet1!$M$3:$M$893,A31, Sheet1!$CA$3:$CA$893,$H$1)","v":0}]
["Norway",{"$f":"COUNTIF(Sheet1!$M$3:$M$893,A32)","v":11},{"$f":"COUNTIFS(Sheet1!$M$3:$M$893,A32, Sheet1!$CA$3:$CA$893,$C$1)","v":9},{"$f":"COUNTIFS(Sheet1!$M$3:$M$893,A32, Sheet1!$CA$3:$CA$893,$D$1)","v":0},{"$f":"COUNTIFS(Sheet1!$M$3:$M$893,A32, Sheet1!$CA$3:$CA$893,$E$1)","v":0},{"$f":"COUNTIFS(Sheet1!$M$3:$M$893,A32, Sheet1!$CA$3:$CA$893,$F$1)","v":0},{"$f":"COUNTIFS(Sheet1!$M$3:$M$893,A32, Sheet1!$CA$3:$CA$893,$G$1)","v":2},{"$f":"COUNTIFS(Sheet1!$M$3:$M$893,A32, Sheet1!$CA$3:$CA$893,$H$1)","v":0}]
["Poland",{"$f":"COUNTIF(Sheet1!$M$3:$M$893,A33)","v":15},{"$f":"COUNTIFS(Sheet1!$M$3:$M$893,A33, Sheet1!$CA$3:$CA$893,$C$1)","v":5},{"$f":"COUNTIFS(Sheet1!$M$3:$M$893,A33, Sheet1!$CA$3:$CA$893,$D$1)","v":0},{"$f":"COUNTIFS(Sheet1!$M$3:$M$893,A33, Sheet1!$CA$3:$CA$893,$E$1)","v":0},{"$f":"COUNTIFS(Sheet1!$M$3:$M$893,A33, Sheet1!$CA$3:$CA$893,$F$1)","v":0},{"$f":"COUNTIFS(Sheet1!$M$3:$M$893,A33, Sheet1!$CA$3:$CA$893,$G$1)","v":1},{"$f":"COUNTIFS(Sheet1!$M$3:$M$893,A33, Sheet1!$CA$3:$CA$893,$H$1)","v":1}]
["Portugal",{"$f":"COUNTIF(Sheet1!$M$3:$M$893,A34)","v":57},{"$f":"COUNTIFS(Sheet1!$M$3:$M$893,A34, Sheet1!$CA$3:$CA$893,$C$1)","v":26},{"$f":"COUNTIFS(Sheet1!$M$3:$M$893,A34, Sheet1!$CA$3:$CA$893,$D$1)","v":0},{"$f":"COUNTIFS(Sheet1!$M$3:$M$893,A34, Sheet1!$CA$3:$CA$893,$E$1)","v":0},{"$f":"COUNTIFS(Sheet1!$M$3:$M$893,A34, Sheet1!$CA$3:$CA$893,$F$1)","v":4},{"$f":"COUNTIFS(Sheet1!$M$3:$M$893,A34, Sheet1!$CA$3:$CA$893,$G$1)","v":8},{"$f":"COUNTIFS(Sheet1!$M$3:$M$893,A34, Sheet1!$CA$3:$CA$893,$H$1)","v":1}]
["Republic of Moldova",{"$f":"COUNTIF(Sheet1!$M$3:$M$893,A35)","v":4},{"$f":"COUNTIFS(Sheet1!$M$3:$M$893,A35, Sheet1!$CA$3:$CA$893,$C$1)","v":1},{"$f":"COUNTIFS(Sheet1!$M$3:$M$893,A35, Sheet1!$CA$3:$CA$893,$D$1)","v":3},{"$f":"COUNTIFS(Sheet1!$M$3:$M$893,A35, Sheet1!$CA$3:$CA$893,$E$1)","v":0},{"$f":"COUNTIFS(Sheet1!$M$3:$M$893,A35, Sheet1!$CA$3:$CA$893,$F$1)","v":0},{"$f":"COUNTIFS(Sheet1!$M$3:$M$893,A35, Sheet1!$CA$3:$CA$893,$G$1)","v":0},{"$f":"COUNTIFS(Sheet1!$M$3:$M$893,A35, Sheet1!$CA$3:$CA$893,$H$1)","v":0}]
["Romania",{"$f":"COUNTIF(Sheet1!$M$3:$M$893,A36)","v":25},{"$f":"COUNTIFS(Sheet1!$M$3:$M$893,A36, Sheet1!$CA$3:$CA$893,$C$1)","v":10},{"$f":"COUNTIFS(Sheet1!$M$3:$M$893,A36, Sheet1!$CA$3:$CA$893,$D$1)","v":1},{"$f":"COUNTIFS(Sheet1!$M$3:$M$893,A36, Sheet1!$CA$3:$CA$893,$E$1)","v":0},{"$f":"COUNTIFS(Sheet1!$M$3:$M$893,A36, Sheet1!$CA$3:$CA$893,$F$1)","v":1},{"$f":"COUNTIFS(Sheet1!$M$3:$M$893,A36, Sheet1!$CA$3:$CA$893,$G$1)","v":3},{"$f":"COUNTIFS(Sheet1!$M$3:$M$893,A36, Sheet1!$CA$3:$CA$893,$H$1)","v":1}]
["Russian Federation",{"$f":"COUNTIF(Sheet1!$M$3:$M$893,A37)","v":11},{"$f":"COUNTIFS(Sheet1!$M$3:$M$893,A37, Sheet1!$CA$3:$CA$893,$C$1)","v":4},{"$f":"COUNTIFS(Sheet1!$M$3:$M$893,A37, Sheet1!$CA$3:$CA$893,$D$1)","v":1},{"$f":"COUNTIFS(Sheet1!$M$3:$M$893,A37, Sheet1!$CA$3:$CA$893,$E$1)","v":0},{"$f":"COUNTIFS(Sheet1!$M$3:$M$893,A37, Sheet1!$CA$3:$CA$893,$F$1)","v":2},{"$f":"COUNTIFS(Sheet1!$M$3:$M$893,A37, Sheet1!$CA$3:$CA$893,$G$1)","v":0},{"$f":"COUNTIFS(Sheet1!$M$3:$M$893,A37, Sheet1!$CA$3:$CA$893,$H$1)","v":2}]
["Serbia",{"$f":"COUNTIF(Sheet1!$M$3:$M$893,A38)","v":31},{"$f":"COUNTIFS(Sheet1!$M$3:$M$893,A38, Sheet1!$CA$3:$CA$893,$C$1)","v":4},{"$f":"COUNTIFS(Sheet1!$M$3:$M$893,A38, Sheet1!$CA$3:$CA$893,$D$1)","v":6},{"$f":"COUNTIFS(Sheet1!$M$3:$M$893,A38, Sheet1!$CA$3:$CA$893,$E$1)","v":0},{"$f":"COUNTIFS(Sheet1!$M$3:$M$893,A38, Sheet1!$CA$3:$CA$893,$F$1)","v":4},{"$f":"COUNTIFS(Sheet1!$M$3:$M$893,A38, Sheet1!$CA$3:$CA$893,$G$1)","v":1},{"$f":"COUNTIFS(Sheet1!$M$3:$M$893,A38, Sheet1!$CA$3:$CA$893,$H$1)","v":7}]
["Slovakia",{"$f":"COUNTIF(Sheet1!$M$3:$M$893,A39)","v":3},{"$f":"COUNTIFS(Sheet1!$M$3:$M$893,A39, Sheet1!$CA$3:$CA$893,$C$1)","v":1},{"$f":"COUNTIFS(Sheet1!$M$3:$M$893,A39, Sheet1!$CA$3:$CA$893,$D$1)","v":0},{"$f":"COUNTIFS(Sheet1!$M$3:$M$893,A39, Sheet1!$CA$3:$CA$893,$E$1)","v":0},{"$f":"COUNTIFS(Sheet1!$M$3:$M$893,A39, Sheet1!$CA$3:$CA$893,$F$1)","v":0},{"$f":"COUNTIFS(Sheet1!$M$3:$M$893,A39, Sheet1!$CA$3:$CA$893,$G$1)","v":1},{"$f":"COUNTIFS(Sheet1!$M$3:$M$893,A39, Sheet1!$CA$3:$CA$893,$H$1)","v":0}]
["Slovenia",{"$f":"COUNTIF(Sheet1!$M$3:$M$893,A40)","v":7},{"$f":"COUNTIFS(Sheet1!$M$3:$M$893,A40, Sheet1!$CA$3:$CA$893,$C$1)","v":2},{"$f":"COUNTIFS(Sheet1!$M$3:$M$893,A40, Sheet1!$CA$3:$CA$893,$D$1)","v":0},{"$f":"COUNTIFS(Sheet1!$M$3:$M$893,A40, Sheet1!$CA$3:$CA$893,$E$1)","v":0},{"$f":"COUNTIFS(Sheet1!$M$3:$M$893,A40, Sheet1!$CA$3:$CA$893,$F$1)","v":0},{"$f":"COUNTIFS(Sheet1!$M$3:$M$893,A40, Sheet1!$CA$3:$CA$893,$G$1)","v":3},{"$f":"COUNTIFS(Sheet1!$M$3:$M$893,A40, Sheet1!$CA$3:$CA$893,$H$1)","v":0}]
["Spain",{"$f":"COUNTIF(Sheet1!$M$3:$M$893,A41)","v":51},{"$f":"COUNTIFS(Sheet1!$M$3:$M$893,A41, Sheet1!$CA$3:$CA$893,$C$1)","v":21},{"$f":"COUNTIFS(Sheet1!$M$3:$M$893,A41, Sheet1!$CA$3:$CA$893,$D$1)","v":0},{"$f":"COUNTIFS(Sheet1!$M$3:$M$893,A41, Sheet1!$CA$3:$CA$893,$E$1)","v":3},{"$f":"COUNTIFS(Sheet1!$M$3:$M$893,A41, Sheet1!$CA$3:$CA$893,$F$1)","v":3},{"$f":"COUNTIFS(Sheet1!$M$3:$M$893,A41, Sheet1!$CA$3:$CA$893,$G$1)","v":4},{"$f":"COUNTIFS(Sheet1!$M$3:$M$893,A41, Sheet1!$CA$3:$CA$893,$H$1)","v":7}]
["Sweden",{"$f":"COUNTIF(Sheet1!$M$3:$M$893,A42)","v":17},{"$f":"COUNTIFS(Sheet1!$M$3:$M$893,A42, Sheet1!$CA$3:$CA$893,$C$1)","v":5},{"$f":"COUNTIFS(Sheet1!$M$3:$M$893,A42, Sheet1!$CA$3:$CA$893,$D$1)","v":1},{"$f":"COUNTIFS(Sheet1!$M$3:$M$893,A42, Sheet1!$CA$3:$CA$893,$E$1)","v":0},{"$f":"COUNTIFS(Sheet1!$M$3:$M$893,A42, Sheet1!$CA$3:$CA$893,$F$1)","v":0},{"$f":"COUNTIFS(Sheet1!$M$3:$M$893,A42, Sheet1!$CA$3:$CA$893,$G$1)","v":7},{"$f":"COUNTIFS(Sheet1!$M$3:$M$893,A42, Sheet1!$CA$3:$CA$893,$H$1)","v":1}]
["Switzerland",{"$f":"COUNTIF(Sheet1!$M$3:$M$893,A43)","v":29},{"$f":"COUNTIFS(Sheet1!$M$3:$M$893,A43, Sheet1!$CA$3:$CA$893,$C$1)","v":5},{"$f":"COUNTIFS(Sheet1!$M$3:$M$893,A43, Sheet1!$CA$3:$CA$893,$D$1)","v":0},{"$f":"COUNTIFS(Sheet1!$M$3:$M$893,A43, Sheet1!$CA$3:$CA$893,$E$1)","v":0},{"$f":"COUNTIFS(Sheet1!$M$3:$M$893,A43, Sheet1!$CA$3:$CA$893,$F$1)","v":7},{"$f":"COUNTIFS(Sheet1!$M$3:$M$893,A43, Sheet1!$CA$3:$CA$893,$G$1)","v":11},{"$f":"COUNTIFS(Sheet1!$M$3:$M$893,A43, Sheet1!$CA$3:$CA$893,$H$1)","v":1}]
["The former Yugoslav Republic of Macedonia",{"$f":"COUNTIF(Sheet1!$M$3:$M$893,A44)","v":5},{"$f":"COUNTIFS(Sheet1!$M$3:$M$893,A44, Sheet1!$CA$3:$CA$893,$C$1)","v":1},{"$f":"COUNTIFS(Sheet1!$M$3:$M$893,A44, Sheet1!$CA$3:$CA$893,$D$1)","v":4},{"$f":"COUNTIFS(Sheet1!$M$3:$M$893,A44, Sheet1!$CA$3:$CA$893,$E$1)","v":0},{"$f":"COUNTIFS(Sheet1!$M$3:$M$893,A44, Sheet1!$CA$3:$CA$893,$F$1)","v":0},{"$f":"COUNTIFS(Sheet1!$M$3:$M$893,A44, Sheet1!$CA$3:$CA$893,$G$1)","v":0},{"$f":"COUNTIFS(Sheet1!$M$3:$M$893,A44, Sheet1!$CA$3:$CA$893,$H$1)","v":0}]
["Turkey",{"$f":"COUNTIF(Sheet1!$M$3:$M$893,A45)","v":58},{"$f":"COUNTIFS(Sheet1!$M$3:$M$893,A45, Sheet1!$CA$3:$CA$893,$C$1)","v":14},{"$f":"COUNTIFS(Sheet1!$M$3:$M$893,A45, Sheet1!$CA$3:$CA$893,$D$1)","v":1},{"$f":"COUNTIFS(Sheet1!$M$3:$M$893,A45, Sheet1!$CA$3:$CA$893,$E$1)","v":0},{"$f":"COUNTIFS(Sheet1!$M$3:$M$893,A45, Sheet1!$CA$3:$CA$893,$F$1)","v":12},{"$f":"COUNTIFS(Sheet1!$M$3:$M$893,A45, Sheet1!$CA$3:$CA$893,$G$1)","v":5},{"$f":"COUNTIFS(Sheet1!$M$3:$M$893,A45, Sheet1!$CA$3:$CA$893,$H$1)","v":3}]
["Ukraine",{"$f":"COUNTIF(Sheet1!$M$3:$M$893,A46)","v":7},{"$f":"COUNTIFS(Sheet1!$M$3:$M$893,A46, Sheet1!$CA$3:$CA$893,$C$1)","v":1},{"$f":"COUNTIFS(Sheet1!$M$3:$M$893,A46, Sheet1!$CA$3:$CA$893,$D$1)","v":0},{"$f":"COUNTIFS(Sheet1!$M$3:$M$893,A46, Sheet1!$CA$3:$CA$893,$E$1)","v":1},{"$f":"COUNTIFS(Sheet1!$M$3:$M$893,A46, Sheet1!$CA$3:$CA$893,$F$1)","v":0},{"$f":"COUNTIFS(Sheet1!$M$3:$M$893,A46, Sheet1!$CA$3:$CA$893,$G$1)","v":0},{"$f":"COUNTIFS(Sheet1!$M$3:$M$893,A46, Sheet1!$CA$3:$CA$893,$H$1)","v":3}]
["United Kingdom of Great Britain and Northern Ireland",{"$f":"COUNTIF(Sheet1!$M$3:$M$893,A47)","v":32},{"$f":"COUNTIFS(Sheet1!$M$3:$M$893,A47, Sheet1!$CA$3:$CA$893,$C$1)","v":17},{"$f":"COUNTIFS(Sheet1!$M$3:$M$893,A47, Sheet1!$CA$3:$CA$893,$D$1)","v":3},{"$f":"COUNTIFS(Sheet1!$M$3:$M$893,A47, Sheet1!$CA$3:$CA$893,$E$1)","v":0},{"$f":"COUNTIFS(Sheet1!$M$3:$M$893,A47, Sheet1!$CA$3:$CA$893,$F$1)","v":1},{"$f":"COUNTIFS(Sheet1!$M$3:$M$893,A47, Sheet1!$CA$3:$CA$893,$G$1)","v":2},{"$f":"COUNTIFS(Sheet1!$M$3:$M$893,A47, Sheet1!$CA$3:$CA$893,$H$1)","v":1}]
["Azerbaijan",{"$f":"COUNTIF(Sheet1!$M$3:$M$893,A48)","v":1},{"$f":"COUNTIFS(Sheet1!$M$3:$M$893,A48, Sheet1!$CA$3:$CA$893,$C$1)","v":0},{"$f":"COUNTIFS(Sheet1!$M$3:$M$893,A48, Sheet1!$CA$3:$CA$893,$D$1)","v":0},{"$f":"COUNTIFS(Sheet1!$M$3:$M$893,A48, Sheet1!$CA$3:$CA$893,$E$1)","v":0},{"$f":"COUNTIFS(Sheet1!$M$3:$M$893,A48, Sheet1!$CA$3:$CA$893,$F$1)","v":0},{"$f":"COUNTIFS(Sheet1!$M$3:$M$893,A48, Sheet1!$CA$3:$CA$893,$G$1)","v":0},{"$f":"COUNTIFS(Sheet1!$M$3:$M$893,A48, Sheet1!$CA$3:$CA$893,$H$1)","v":0}]
["Sum",{"$f":"SUM(B2:B48)","v":719},232,74,11,80,98,54]

{"sheet":"29. Pitanje","index":14,"n_rows":49,"n_cols":8,"rows_kept":49}
["29. In your country, after the completion of the residency program, how is the competence of residents assessed so that they may become specialists? ","Ukupan broj","They have to pass a national board exam","They have to pass EDAIC part I","They have to pass EDAIC part II","They just have to complete the residency program (3-5 years)","They have to pass a university board exam","Other (please specify)"]
["Albania",{"$f":"COUNTIF(Sheet1!$M$3:$M$893,A2)","v":6},{"$f":"COUNTIFS(Sheet1!$M$3:$M$893,A2, Sheet1!$CB$3:$CB$893,$C$1)","v":3},{"$f":"COUNTIFS(Sheet1!$M$3:$M$893,A2, Sheet1!$CB$3:$CB$893,$D$1)","v":0},{"$f":"COUNTIFS(Sheet1!$M$3:$M$893,A2, Sheet1!$CB$3:$CB$893,$E$1)","v":0},{"$f":"COUNTIFS(Sheet1!$M$3:$M$893,A2, Sheet1!$CB$3:$CB$893,$F$1)","v":0},{"$f":"COUNTIFS(Sheet1!$M$3:$M$893,A2, Sheet1!$CB$3:$CB$893,$G$1)","v":1},{"$f":"COUNTIFS(Sheet1!$M$3:$M$893,A2, Sheet1!$CB$3:$CB$893,$H$1)","v":0}]
["Armenia",{"$f":"COUNTIF(Sheet1!$M$3:$M$893,A3)","v":1},{"$f":"COUNTIFS(Sheet1!$M$3:$M$893,A3, Sheet1!$CB$3:$CB$893,$C$1)","v":0},{"$f":"COUNTIFS(Sheet1!$M$3:$M$893,A3, Sheet1!$CB$3:$CB$893,$D$1)","v":0},{"$f":"COUNTIFS(Sheet1!$M$3:$M$893,A3, Sheet1!$CB$3:$CB$893,$E$1)","v":0},{"$f":"COUNTIFS(Sheet1!$M$3:$M$893,A3, Sheet1!$CB$3:$CB$893,$F$1)","v":0},{"$f":"COUNTIFS(Sheet1!$M$3:$M$893,A3, Sheet1!$CB$3:$CB$893,$G$1)","v":1},{"$f":"COUNTIFS(Sheet1!$M$3:$M$893,A3, Sheet1!$CB$3:$CB$893,$H$1)","v":0}]
["Austria",{"$f":"COUNTIF(Sheet1!$M$3:$M$893,A4)","v":15},{"$f":"COUNTIFS(Sheet1!$M$3:$M$893,A4, Sheet1!$CB$3:$CB$893,$C$1)","v":7},{"$f":"COUNTIFS(Sheet1!$M$3:$M$893,A4, Sheet1!$CB$3:$CB$893,$D$1)","v":3},{"$f":"COUNTIFS(Sheet1!$M$3:$M$893,A4, Sheet1!$CB$3:$CB$893,$E$1)","v":0},{"$f":"COUNTIFS(Sheet1!$M$3:$M$893,A4, Sheet1!$CB$3:$CB$893,$F$1)","v":0},{"$f":"COUNTIFS(Sheet1!$M$3:$M$893,A4, Sheet1!$CB$3:$CB$893,$G$1)","v":0},{"$f":"COUNTIFS(Sheet1!$M$3:$M$893,A4, Sheet1!$CB$3:$CB$893,$H$1)","v":2}]
["Belarus",{"$f":"COUNTIF(Sheet1!$M$3:$M$893,A5)","v":1},{"$f":"COUNTIFS(Sheet1!$M$3:$M$893,A5, Sheet1!$CB$3:$CB$893,$C$1)","v":1},{"$f":"COUNTIFS(Sheet1!$M$3:$M$893,A5, Sheet1!$CB$3:$CB$893,$D$1)","v":0},{"$f":"COUNTIFS(Sheet1!$M$3:$M$893,A5, Sheet1!$CB$3:$CB$893,$E$1)","v":0},{"$f":"COUNTIFS(Sheet1!$M$3:$M$893,A5, Sheet1!$CB$3:$CB$893,$F$1)","v":0},{"$f":"COUNTIFS(Sheet1!$M$3:$M$893,A5, Sheet1!$CB$3:$CB$893,$G$1)","v":0},{"$f":"COUNTIFS(Sheet1!$M$3:$M$893,A5, Sheet1!$CB$3:$CB$893,$H$1)","v":0}]
["Belgium",{"$f":"COUNTIF(Sheet1!$M$3:$M$893,A6)","v":30},{"$f":"COUNTIFS(Sheet1!$M$3:$M$893,A6, Sheet1!$CB$3:$CB$893,$C$1)","v":17},{"$f":"COUNTIFS(Sheet1!$M$3:$M$893,A6, Sheet1!$CB$3:$CB$893,$D$1)","v":4},{"$f":"COUNTIFS(Sheet1!$M$3:$M$893,A6, Sheet1!$CB$3:$CB$893,$E$1)","v":0},{"$f":"COUNTIFS(Sheet1!$M$3:$M$893,A6, Sheet1!$CB$3:$CB$893,$F$1)","v":0},{"$f":"COUNTIFS(Sheet1!$M$3:$M$893,A6, Sheet1!$CB$3:$CB$893,$G$1)","v":2},{"$f":"COUNTIFS(Sheet1!$M$3:$M$893,A6, Sheet1!$CB$3:$CB$893,$H$1)","v":1}]
["Bosnia and Herzegovina",{"$f":"COUNTIF(Sheet1!$M$3:$M$893,A7)","v":4},{"$f":"COUNTIFS(Sheet1!$M$3:$M$893,A7, Sheet1!$CB$3:$CB$893,$C$1)","v":3},{"$f":"COUNTIFS(Sheet1!$M$3:$M$893,A7, Sheet1!$CB$3:$CB$893,$D$1)","v":0},{"$f":"COUNTIFS(Sheet1!$M$3:$M$893,A7, Sheet1!$CB$3:$CB$893,$E$1)","v":0},{"$f":"COUNTIFS(Sheet1!$M$3:$M$893,A7, Sheet1!$CB$3:$CB$893,$F$1)","v":0},{"$f":"COUNTIFS(Sheet1!$M$3:$M$893,A7, Sheet1!$CB$3:$CB$893,$G$1)","v":1},{"$f":"COUNTIFS(Sheet1!$M$3:$M$893,A7, Sheet1!$CB$3:$CB$893,$H$1)","v":0}]
["Bulgaria",{"$f":"COUNTIF(Sheet1!$M$3:$M$893,A8)","v":3},{"$f":"COUNTIFS(Sheet1!$M$3:$M$893,A8, Sheet1!$CB$3:$CB$893,$C$1)","v":3},{"$f":"COUNTIFS(Sheet1!$M$3:$M$893,A8, Sheet1!$CB$3:$CB$893,$D$1)","v":0},{"$f":"COUNTIFS(Sheet1!$M$3:$M$893,A8, Sheet1!$CB$3:$CB$893,$E$1)","v":0},{"$f":"COUNTIFS(Sheet1!$M$3:$M$893,A8, Sheet1!$CB$3:$CB$893,$F$1)","v":0},{"$f":"COUNTIFS(Sheet1!$M$3:$M$893,A8, Sheet1!$CB$3:$CB$893,$G$1)","v":0},{"$f":"COUNTIFS(Sheet1!$M$3:$M$893,A8, Sheet1!$CB$3:$CB$893,$H$1)","v":0}]
["Croatia",{"$f":"COUNTIF(Sheet1!$M$3:$M$893,A9)","v":15},{"$f":"COUNTIFS(Sheet1!$M$3:$M$893,A9, Sheet1!$CB$3:$CB$893,$C$1)","v":7},{"$f":"COUNTIFS(Sheet1!$M$3:$M$893,A9, Sheet1!$CB$3:$CB$893,$D$1)","v":0},{"$f":"COUNTIFS(Sheet1!$M$3:$M$893,A9, Sheet1!$CB$3:$CB$893,$E$1)","v":0},{"$f":"COUNTIFS(Sheet1!$M$3:$M$893,A9, Sheet1!$CB$3:$CB$893,$F$1)","v":0},{"$f":"COUNTIFS(Sheet1!$M$3:$M$893,A9, Sheet1!$CB$3:$CB$893,$G$1)","v":2},{"$f":"COUNTIFS(Sheet1!$M$3:$M$893,A9, Sheet1!$CB$3:$CB$893,$H$1)","v":1}]
["Cyprus",{"$f":"COUNTIF(Sheet1!$M$3:$M$893,A10)","v":4},{"$f":"COUNTIFS(Sheet1!$M$3:$M$893,A10, Sheet1!$CB$3:$CB$893,$C$1)","v":2},{"$f":"COUNTIFS(Sheet1!$M$3:$M$893,A10, Sheet1!$CB$3:$CB$893,$D$1)","v":0},{"$f":"COUNTIFS(Sheet1!$M$3:$M$893,A10, Sheet1!$CB$3:$CB$893,$E$1)","v":0},{"$f":"COUNTIFS(Sheet1!$M$3:$M$893,A10, Sheet1!$CB$3:$CB$893,$F$1)","v":0},{"$f":"COUNTIFS(Sheet1!$M$3:$M$893,A10, Sheet1!$CB$3:$CB$893,$G$1)","v":0},{"$f":"COUNTIFS(Sheet1!$M$3:$M$893,A10, Sheet1!$CB$3:$CB$893,$H$1)","v":0}]
["Czech Republic",{"$f":"COUNTIF(Sheet1!$M$3:$M$893,A11)","v":5},{"$f":"COUNTIFS(Sheet1!$M$3:$M$893,A11, Sheet1!$CB$3:$CB$893,$C$1)","v":3},{"$f":"COUNTIFS(Sheet1!$M$3:$M$893,A11, Sheet1!$CB$3:$CB$893,$D$1)","v":0},{"$f":"COUNTIFS(Sheet1!$M$3:$M$893,A11, Sheet1!$CB$3:$CB$893,$E$1)","v":0},{"$f":"COUNTIFS(Sheet1!$M$3:$M$893,A11, Sheet1!$CB$3:$CB$893,$F$1)","v":0},{"$f":"COUNTIFS(Sheet1!$M$3:$M$893,A11, Sheet1!$CB$3:$CB$893,$G$1)","v":1},{"$f":"COUNTIFS(Sheet1!$M$3:$M$893,A11, Sheet1!$CB$3:$CB$893,$H$1)","v":0}]
["Denmark",{"$f":"COUNTIF(Sheet1!$M$3:$M$893,A12)","v":7},{"$f":"COUNTIFS(Sheet1!$M$3:$M$893,A12, Sheet1!$CB$3:$CB$893,$C$1)","v":1},{"$f":"COUNTIFS(Sheet1!$M$3:$M$893,A12, Sheet1!$CB$3:$CB$893,$D$1)","v":0},{"$f":"COUNTIFS(Sheet1!$M$3:$M$893,A12, Sheet1!$CB$3:$CB$893,$E$1)","v":0},{"$f":"COUNTIFS(Sheet1!$M$3:$M$893,A12, Sheet1!$CB$3:$CB$893,$F$1)","v":4},{"$f":"COUNTIFS(Sheet1!$M$3:$M$893,A12, Sheet1!$CB$3:$CB$893,$G$1)","v":0},{"$f":"COUNTIFS(Sheet1!$M$3:$M$893,A12, Sheet1!$CB$3:$CB$893,$H$1)","v":0}]
["Estonia",{"$f":"COUNTIF(Sheet1!$M$3:$M$893,A13)","v":3},{"$f":"COUNTIFS(Sheet1!$M$3:$M$893,A13, Sheet1!$CB$3:$CB$893,$C$1)","v":2},{"$f":"COUNTIFS(Sheet1!$M$3:$M$893,A13, Sheet1!$CB$3:$CB$893,$D$1)","v":0},{"$f":"COUNTIFS(Sheet1!$M$3:$M$893,A13, Sheet1!$CB$3:$CB$893,$E$1)","v":0},{"$f":"COUNTIFS(Sheet1!$M$3:$M$893,A13, Sheet1!$CB$3:$CB$893,$F$1)","v":0},{"$f":"COUNTIFS(Sheet1!$M$3:$M$893,A13, Sheet1!$CB$3:$CB$893,$G$1)","v":1},{"$f":"COUNTIFS(Sheet1!$M$3:$M$893,A13, Sheet1!$CB$3:$CB$893,$H$1)","v":0}]
["Finland",{"$f":"COUNTIF(Sheet1!$M$3:$M$893,A14)","v":8},{"$f":"COUNTIFS(Sheet1!$M$3:$M$893,A14, Sheet1!$CB$3:$CB$893,$C$1)","v":7},{"$f":"COUNTIFS(Sheet1!$M$3:$M$893,A14, Sheet1!$CB$3:$CB$893,$D$1)","v":0},{"$f":"COUNTIFS(Sheet1!$M$3:$M$893,A14, Sheet1!$CB$3:$CB$893,$E$1)","v":0},{"$f":"COUNTIFS(Sheet1!$M$3:$M$893,A14, Sheet1!$CB$3:$CB$893,$F$1)","v":0},{"$f":"COUNTIFS(Sheet1!$M$3:$M$893,A14, Sheet1!$CB$3:$CB$893,$G$1)","v":0},{"$f":"COUNTIFS(Sheet1!$M$3:$M$893,A14, Sheet1!$CB$3:$CB$893,$H$1)","v":1}]
["Uzbekistan",{"$f":"COUNTIF(Sheet1!$M$3:$M$893,A15)","v":1},{"$f":"COUNTIFS(Sheet1!$M$3:$M$893,A15, Sheet1!$CB$3:$CB$893,$C$1)","v":1},{"$f":"COUNTIFS(Sheet1!$M$3:$M$893,A15, Sheet1!$CB$3:$CB$893,$D$1)","v":0},{"$f":"COUNTIFS(Sheet1!$M$3:$M$893,A15, Sheet1!$CB$3:$CB$893,$E$1)","v":0},{"$f":"COUNTIFS(Sheet1!$M$3:$M$893,A15, Sheet1!$CB$3:$CB$893,$F$1)","v":0},{"$f":"COUNTIFS(Sheet1!$M$3:$M$893,A15, Sheet1!$CB$3:$CB$893,$G$1)","v":0},{"$f":"COUNTIFS(Sheet1!$M$3:$M$893,A15, Sheet1!$CB$3:$CB$893,$H$1)","v":0}]
["France",{"$f":"COUNTIF(Sheet1!$M$3:$M$893,A16)","v":14},{"$f":"COUNTIFS(Sheet1!$M$3:$M$893,A16, Sheet1!$CB$3:$CB$893,$C$1)","v":2},{"$f":"COUNTIFS(Sheet1!$M$3:$M$893,A16, Sheet1!$CB$3:$CB$893,$D$1)","v":1},{"$f":"COUNTIFS(Sheet1!$M$3:$M$893,A16, Sheet1!$CB$3:$CB$893,$E$1)","v":0},{"$f":"COUNTIFS(Sheet1!$M$3:$M$893,A16, Sheet1!$CB$3:$CB$893,$F$1)","v":3},{"$f":"COUNTIFS(Sheet1!$M$3:$M$893,A16, Sheet1!$CB$3:$CB$893,$G$1)","v":4},{"$f":"COUNTIFS(Sheet1!$M$3:$M$893,A16, Sheet1!$CB$3:$CB$893,$H$1)","v":1}]
["Israel",{"$f":"COUNTIF(Sheet1!$M$3:$M$893,A17)","v":12},{"$f":"COUNTIFS(Sheet1!$M$3:$M$893,A17, Sheet1!$CB$3:$CB$893,$C$1)","v":11},{"$f":"COUNTIFS(Sheet1!$M$3:$M$893,A17, Sheet1!$CB$3:$CB$893,$D$1)","v":0},{"$f":"COUNTIFS(Sheet1!$M$3:$M$893,A17, Sheet1!$CB$3:$CB$893,$E$1)","v":0},{"$f":"COUNTIFS(Sheet1!$M$3:$M$893,A17, Sheet1!$CB$3:$CB$893,$F$1)","v":0},{"$f":"COUNTIFS(Sheet1!$M$3:$M$893,A17, Sheet1!$CB$3:$CB$893,$G$1)","v":0},{"$f":"COUNTIFS(Sheet1!$M$3:$M$893,A17, Sheet1!$CB$3:$CB$893,$H$1)","v":0}]
["Georgia",{"$f":"COUNTIF(Sheet1!$M$3:$M$893,A18)","v":3},{"$f":"COUNTIFS(Sheet1!$M$3:$M$893,A18, Sheet1!$CB$3:$CB$893,$C$1)","v":1},{"$f":"COUNTIFS(Sheet1!$M$3:$M$893,A18, Sheet1!$CB$3:$CB$893,$D$1)","v":0},{"$f":"COUNTIFS(Sheet1!$M$3:$M$893,A18, Sheet1!$CB$3:$CB$893,$E$1)","v":0},{"$f":"COUNTIFS(Sheet1!$M$3:$M$893,A18, Sheet1!$CB$3:$CB$893,$F$1)","v":0},{"$f":"COUNTIFS(Sheet1!$M$3:$M$893,A18, Sheet1!$CB$3:$CB$893,$G$1)","v":0},{"$f":"COUNTIFS(Sheet1!$M$3:$M$893,A18, Sheet1!$CB$3:$CB$893,$H$1)","v":0}]
["Germany",{"$f":"COUNTIF(Sheet1!$M$3:$M$893,A19)","v":70},{"$f":"COUNTIFS(Sheet1!$M$3:$M$893,A19, Sheet1!$CB$3:$CB$893,$C$1)","v":43},{"$f":"COUNTIFS(Sheet1!$M$3:$M$893,A19, Sheet1!$CB$3:$CB$893,$D$1)","v":0},{"$f":"COUNTIFS(Sheet1!$M$3:$M$893,A19, Sheet1!$CB$3:$CB$893,$E$1)","v":0},{"$f":"COUNTIFS(Sheet1!$M$3:$M$893,A19, Sheet1!$CB$3:$CB$893,$F$1)","v":1},{"$f":"COUNTIFS(Sheet1!$M$3:$M$893,A19, Sheet1!$CB$3:$CB$893,$G$1)","v":5},{"$f":"COUNTIFS(Sheet1!$M$3:$M$893,A19, Sheet1!$CB$3:$CB$893,$H$1)","v":10}]
["Kazakhstan",{"$f":"COUNTIF(Sheet1!$M$3:$M$893,A20)","v":1},{"$f":"COUNTIFS(Sheet1!$M$3:$M$893,A20, Sheet1!$CB$3:$CB$893,$C$1)","v":0},{"$f":"COUNTIFS(Sheet1!$M$3:$M$893,A20, Sheet1!$CB$3:$CB$893,$D$1)","v":0},{"$f":"COUNTIFS(Sheet1!$M$3:$M$893,A20, Sheet1!$CB$3:$CB$893,$E$1)","v":0},{"$f":"COUNTIFS(Sheet1!$M$3:$M$893,A20, Sheet1!$CB$3:$CB$893,$F$1)","v":0},{"$f":"COUNTIFS(Sheet1!$M$3:$M$893,A20, Sheet1!$CB$3:$CB$893,$G$1)","v":0},{"$f":"COUNTIFS(Sheet1!$M$3:$M$893,A20, Sheet1!$CB$3:$CB$893,$H$1)","v":0}]
["Greece",{"$f":"COUNTIF(Sheet1!$M$3:$M$893,A21)","v":42},{"$f":"COUNTIFS(Sheet1!$M$3:$M$893,A21, Sheet1!$CB$3:$CB$893,$C$1)","v":30},{"$f":"COUNTIFS(Sheet1!$M$3:$M$893,A21, Sheet1!$CB$3:$CB$893,$D$1)","v":0},{"$f":"COUNTIFS(Sheet1!$M$3:$M$893,A21, Sheet1!$CB$3:$CB$893,$E$1)","v":0},{"$f":"COUNTIFS(Sheet1!$M$3:$M$893,A21, Sheet1!$CB$3:$CB$893,$F$1)","v":2},{"$f":"COUNTIFS(Sheet1!$M$3:$M$893,A21, Sheet1!$CB$3:$CB$893,$G$1)","v":1},{"$f":"COUNTIFS(Sheet1!$M$3:$M$893,A21, Sheet1!$CB$3:$CB$893,$H$1)","v":0}]
["Hungary",{"$f":"COUNTIF(Sheet1!$M$3:$M$893,A22)","v":6},{"$f":"COUNTIFS(Sheet1!$M$3:$M$893,A22, Sheet1!$CB$3:$CB$893,$C$1)","v":2},{"$f":"COUNTIFS(Sheet1!$M$3:$M$893,A22, Sheet1!$CB$3:$CB$893,$D$1)","v":3},{"$f":"COUNTIFS(Sheet1!$M$3:$M$893,A22, Sheet1!$CB$3:$CB$893,$E$1)","v":0},{"$f":"COUNTIFS(Sheet1!$M$3:$M$893,A22, Sheet1!$CB$3:$CB$893,$F$1)","v":0},{"$f":"COUNTIFS(Sheet1!$M$3:$M$893,A22, Sheet1!$CB$3:$CB$893,$G$1)","v":0},{"$f":"COUNTIFS(Sheet1!$M$3:$M$893,A22, Sheet1!$CB$3:$CB$893,$H$1)","v":1}]
["Iceland",{"$f":"COUNTIF(Sheet1!$M$3:$M$893,A23)","v":1},{"$f":"COUNTIFS(Sheet1!$M$3:$M$893,A23, Sheet1!$CB$3:$CB$893,$C$1)","v":0},{"$f":"COUNTIFS(Sheet1!$M$3:$M$893,A23, Sheet1!$CB$3:$CB$893,$D$1)","v":1},{"$f":"COUNTIFS(Sheet1!$M$3:$M$893,A23, Sheet1!$CB$3:$CB$893,$E$1)","v":0},{"$f":"COUNTIFS(Sheet1!$M$3:$M$893,A23, Sheet1!$CB$3:$CB$893,$F$1)","v":0},{"$f":"COUNTIFS(Sheet1!$M$3:$M$893,A23, Sheet1!$CB$3:$CB$893,$G$1)","v":0},{"$f":"COUNTIFS(Sheet1!$M$3:$M$893,A23, Sheet1!$CB$3:$CB$893,$H$1)","v":0}]
["Ireland",{"$f":"COUNTIF(Sheet1!$M$3:$M$893,A24)","v":8},{"$f":"COUNTIFS(Sheet1!$M$3:$M$893,A24, Sheet1!$CB$3:$CB$893,$C$1)","v":3},{"$f":"COUNTIFS(Sheet1!$M$3:$M$893,A24, Sheet1!$CB$3:$CB$893,$D$1)","v":1},{"$f":"COUNTIFS(Sheet1!$M$3:$M$893,A24, Sheet1!$CB$3:$CB$893,$E$1)","v":0},{"$f":"COUNTIFS(Sheet1!$M$3:$M$893,A24, Sheet1!$CB$3:$CB$893,$F$1)","v":1},{"$f":"COUNTIFS(Sheet1!$M$3:$M$893,A24, Sheet1!$CB$3:$CB$893,$G$1)","v":2},{"$f":"COUNTIFS(Sheet1!$M$3:$M$893,A24, Sheet1!$CB$3:$CB$893,$H$1)","v":0}]
["Italy",{"$f":"COUNTIF(Sheet1!$M$3:$M$893,A25)","v":30},{"$f":"COUNTIFS(Sheet1!$M$3:$M$893,A25, Sheet1!$CB$3:$CB$893,$C$1)","v":2},{"$f":"COUNTIFS(Sheet1!$M$3:$M$893,A25, Sheet1!$CB$3:$CB$893,$D$1)","v":0},{"$f":"COUNTIFS(Sheet1!$M$3:$M$893,A25, Sheet1!$CB$3:$CB$893,$E$1)","v":0},{"$f":"COUNTIFS(Sheet1!$M$3:$M$893,A25, Sheet1!$CB$3:$CB$893,$F$1)","v":4},{"$f":"COUNTIFS(Sheet1!$M$3:$M$893,A25, Sheet1!$CB$3:$CB$893,$G$1)","v":14},{"$f":"COUNTIFS(Sheet1!$M$3:$M$893,A25, Sheet1!$CB$3:$CB$893,$H$1)","v":0}]
["Latvia",{"$f":"COUNTIF(Sheet1!$M$3:$M$893,A26)","v":10},{"$f":"COUNTIFS(Sheet1!$M$3:$M$893,A26, Sheet1!$CB$3:$CB$893,$C$1)","v":9},{"$f":"COUNTIFS(Sheet1!$M$3:$M$893,A26, Sheet1!$CB$3:$CB$893,$D$1)","v":0},{"$f":"COUNTIFS(Sheet1!$M$3:$M$893,A26, Sheet1!$CB$3:$CB$893,$E$1)","v":0},{"$f":"COUNTIFS(Sheet1!$M$3:$M$893,A26, Sheet1!$CB$3:$CB$893,$F$1)","v":0},{"$f":"COUNTIFS(Sheet1!$M$3:$M$893,A26, Sheet1!$CB$3:$CB$893,$G$1)","v":1},{"$f":"COUNTIFS(Sheet1!$M$3:$M$893,A26, Sheet1!$CB$3:$CB$893,$H$1)","v":0}]
["Lithuania",{"$f":"COUNTIF(Sheet1!$M$3:$M$893,A27)","v":9},{"$f":"COUNTIFS(Sheet1!$M$3:$M$893,A27, Sheet1!$CB$3:$CB$893,$C$1)","v":2},{"$f":"COUNTIFS(Sheet1!$M$3:$M$893,A27, Sheet1!$CB$3:$CB$893,$D$1)","v":0},{"$f":"COUNTIFS(Sheet1!$M$3:$M$893,A27, Sheet1!$CB$3:$CB$893,$E$1)","v":0},{"$f":"COUNTIFS(Sheet1!$M$3:$M$893,A27, Sheet1!$CB$3:$CB$893,$F$1)","v":0},{"$f":"COUNTIFS(Sheet1!$M$3:$M$893,A27, Sheet1!$CB$3:$CB$893,$G$1)","v":7},{"$f":"COUNTIFS(Sheet1!$M$3:$M$893,A27, Sheet1!$CB$3:$CB$893,$H$1)","v":0}]
["Indonesia",{"$f":"COUNTIF(Sheet1!$M$3:$M$893,A28)","v":3},{"$f":"COUNTIFS(Sheet1!$M$3:$M$893,A28, Sheet1!$CB$3:$CB$893,$C$1)","v":2},{"$f":"COUNTIFS(Sheet1!$M$3:$M$893,A28, Sheet1!$CB$3:$CB$893,$D$1)","v":0},{"$f":"COUNTIFS(Sheet1!$M$3:$M$893,A28, Sheet1!$CB$3:$CB$893,$E$1)","v":0},{"$f":"COUNTIFS(Sheet1!$M$3:$M$893,A28, Sheet1!$CB$3:$CB$893,$F$1)","v":0},{"$f":"COUNTIFS(Sheet1!$M$3:$M$893,A28, Sheet1!$CB$3:$CB$893,$G$1)","v":0},{"$f":"COUNTIFS(Sheet1!$M$3:$M$893,A28, Sheet1!$CB$3:$CB$893,$H$1)","v":0}]
["Luxembourg",{"$f":"COUNTIF(Sheet1!$M$3:$M$893,A29)","v":1},{"$f":"COUNTIFS(Sheet1!$M$3:$M$893,A29, Sheet1!$CB$3:$CB$893,$C$1)","v":0},{"$f":"COUNTIFS(Sheet1!$M$3:$M$893,A29, Sheet1!$CB$3:$CB$893,$D$1)","v":0},{"$f":"COUNTIFS(Sheet1!$M$3:$M$893,A29, Sheet1!$CB$3:$CB$893,$E$1)","v":0},{"$f":"COUNTIFS(Sheet1!$M$3:$M$893,A29, Sheet1!$CB$3:$CB$893,$F$1)","v":0},{"$f":"COUNTIFS(Sheet1!$M$3:$M$893,A29, Sheet1!$CB$3:$CB$893,$G$1)","v":0},{"$f":"COUNTIFS(Sheet1!$M$3:$M$893,A29, Sheet1!$CB$3:$CB$893,$H$1)","v":0}]
["Malta",{"$f":"COUNTIF(Sheet1!$M$3:$M$893,A30)","v":7},{"$f":"COUNTIFS(Sheet1!$M$3:$M$893,A30, Sheet1!$CB$3:$CB$893,$C$1)","v":1},{"$f":"COUNTIFS(Sheet1!$M$3:$M$893,A30, Sheet1!$CB$3:$CB$893,$D$1)","v":0},{"$f":"COUNTIFS(Sheet1!$M$3:$M$893,A30, Sheet1!$CB$3:$CB$893,$E$1)","v":3},{"$f":"COUNTIFS(Sheet1!$M$3:$M$893,A30, Sheet1!$CB$3:$CB$893,$F$1)","v":0},{"$f":"COUNTIFS(Sheet1!$M$3:$M$893,A30, Sheet1!$CB$3:$CB$893,$G$1)","v":0},{"$f":"COUNTIFS(Sheet1!$M$3:$M$893,A30, Sheet1!$CB$3:$CB$893,$H$1)","v":3}]
["Netherlands",{"$f":"COUNTIF(Sheet1!$M$3:$M$893,A31)","v":35},{"$f":"COUNTIFS(Sheet1!$M$3:$M$893,A31, Sheet1!$CB$3:$CB$893,$C$1)","v":16},{"$f":"COUNTIFS(Sheet1!$M$3:$M$893,A31, Sheet1!$CB$3:$CB$893,$D$1)","v":4},{"$f":"COUNTIFS(Sheet1!$M$3:$M$893,A31, Sheet1!$CB$3:$CB$893,$E$1)","v":1},{"$f":"COUNTIFS(Sheet1!$M$3:$M$893,A31, Sheet1!$CB$3:$CB$893,$F$1)","v":1},{"$f":"COUNTIFS(Sheet1!$M$3:$M$893,A31, Sheet1!$CB$3:$CB$893,$G$1)","v":0},{"$f":"COUNTIFS(Sheet1!$M$3:$M$893,A31, Sheet1!$CB$3:$CB$893,$H$1)","v":8}]
["Norway",{"$f":"COUNTIF(Sheet1!$M$3:$M$893,A32)","v":11},{"$f":"COUNTIFS(Sheet1!$M$3:$M$893,A32, Sheet1!$CB$3:$CB$893,$C$1)","v":0},{"$f":"COUNTIFS(Sheet1!$M$3:$M$893,A32, Sheet1!$CB$3:$CB$893,$D$1)","v":0},{"$f":"COUNTIFS(Sheet1!$M$3:$M$893,A32, Sheet1!$CB$3:$CB$893,$E$1)","v":0},{"$f":"COUNTIFS(Sheet1!$M$3:$M$893,A32, Sheet1!$CB$3:$CB$893,$F$1)","v":9},{"$f":"COUNTIFS(Sheet1!$M$3:$M$893,A32, Sheet1!$CB$3:$CB$893,$G$1)","v":0},{"$f":"COUNTIFS(Sheet1!$M$3:$M$893,A32, Sheet1!$CB$3:$CB$893,$H$1)","v":2}]
["Poland",{"$f":"COUNTIF(Sheet1!$M$3:$M$893,A33)","v":15},{"$f":"COUNTIFS(Sheet1!$M$3:$M$893,A33, Sheet1!$CB$3:$CB$893,$C$1)","v":5},{"$f":"COUNTIFS(Sheet1!$M$3:$M$893,A33, Sheet1!$CB$3:$CB$893,$D$1)","v":0},{"$f":"COUNTIFS(Sheet1!$M$3:$M$893,A33, Sheet1!$CB$3:$CB$893,$E$1)","v":0},{"$f":"COUNTIFS(Sheet1!$M$3:$M$893,A33, Sheet1!$CB$3:$CB$893,$F$1)","v":0},{"$f":"COUNTIFS(Sheet1!$M$3:$M$893,A33, Sheet1!$CB$3:$CB$893,$G$1)","v":0},{"$f":"COUNTIFS(Sheet1!$M$3:$M$893,A33, Sheet1!$CB$3:$CB$893,$H$1)","v":2}]
["Portugal",{"$f":"COUNTIF(Sheet1!$M$3:$M$893,A34)","v":57},{"$f":"COUNTIFS(Sheet1!$M$3:$M$893,A34, Sheet1!$CB$3:$CB$893,$C$1)","v":39},{"$f":"COUNTIFS(Sheet1!$M$3:$M$893,A34, Sheet1!$CB$3:$CB$893,$D$1)","v":0},{"$f":"COUNTIFS(Sheet1!$M$3:$M$893,A34, Sheet1!$CB$3:$CB$893,$E$1)","v":0},{"$f":"COUNTIFS(Sheet1!$M$3:$M$893,A34, Sheet1!$CB$3:$CB$893,$F$1)","v":1},{"$f":"COUNTIFS(Sheet1!$M$3:$M$893,A34, Sheet1!$CB$3:$CB$893,$G$1)","v":0},{"$f":"COUNTIFS(Sheet1!$M$3:$M$893,A34, Sheet1!$CB$3:$CB$893,$H$1)","v":0}]
["Republic of Moldova",{"$f":"COUNTIF(Sheet1!$M$3:$M$893,A35)","v":4},{"$f":"COUNTIFS(Sheet1!$M$3:$M$893,A35, Sheet1!$CB$3:$CB$893,$C$1)","v":1},{"$f":"COUNTIFS(Sheet1!$M$3:$M$893,A35, Sheet1!$CB$3:$CB$893,$D$1)","v":0},{"$f":"COUNTIFS(Sheet1!$M$3:$M$893,A35, Sheet1!$CB$3:$CB$893,$E$1)","v":0},{"$f":"COUNTIFS(Sheet1!$M$3:$M$893,A35, Sheet1!$CB$3:$CB$893,$F$1)","v":1},{"$f":"COUNTIFS(Sheet1!$M$3:$M$893,A35, Sheet1!$CB$3:$CB$893,$G$1)","v":1},{"$f":"COUNTIFS(Sheet1!$M$3:$M$893,A35, Sheet1!$CB$3:$CB$893,$H$1)","v":1}]
["Romania",{"$f":"COUNTIF(Sheet1!$M$3:$M$893,A36)","v":25},{"$f":"COUNTIFS(Sheet1!$M$3:$M$893,A36, Sheet1!$CB$3:$CB$893,$C$1)","v":7},{"$f":"COUNTIFS(Sheet1!$M$3:$M$893,A36, Sheet1!$CB$3:$CB$893,$D$1)","v":8},{"$f":"COUNTIFS(Sheet1!$M$3:$M$893,A36, Sheet1!$CB$3:$CB$893,$E$1)","v":0},{"$f":"COUNTIFS(Sheet1!$M$3:$M$893,A36, Sheet1!$CB$3:$CB$893,$F$1)","v":0},{"$f":"COUNTIFS(Sheet1!$M$3:$M$893,A36, Sheet1!$CB$3:$CB$893,$G$1)","v":0},{"$f":"COUNTIFS(Sheet1!$M$3:$M$893,A36, Sheet1!$CB$3:$CB$893,$H$1)","v":1}]
["Russian Federation",{"$f":"COUNTIF(Sheet1!$M$3:$M$893,A37)","v":11},{"$f":"COUNTIFS(Sheet1!$M$3:$M$893,A37, Sheet1!$CB$3:$CB$893,$C$1)","v":5},{"$f":"COUNTIFS(Sheet1!$M$3:$M$893,A37, Sheet1!$CB$3:$CB$893,$D$1)","v":0},{"$f":"COUNTIFS(Sheet1!$M$3:$M$893,A37, Sheet1!$CB$3:$CB$893,$E$1)","v":0},{"$f":"COUNTIFS(Sheet1!$M$3:$M$893,A37, Sheet1!$CB$3:$CB$893,$F$1)","v":0},{"$f":"COUNTIFS(Sheet1!$M$3:$M$893,A37, Sheet1!$CB$3:$CB$893,$G$1)","v":4},{"$f":"COUNTIFS(Sheet1!$M$3:$M$893,A37, Sheet1!$CB$3:$CB$893,$H$1)","v":0}]
["Serbia",{"$f":"COUNTIF(Sheet1!$M$3:$M$893,A38)","v":31},{"$f":"COUNTIFS(Sheet1!$M$3:$M$893,A38, Sheet1!$CB$3:$CB$893,$C$1)","v":5},{"$f":"COUNTIFS(Sheet1!$M$3:$M$893,A38, Sheet1!$CB$3:$CB$893,$D$1)","v":0},{"$f":"COUNTIFS(Sheet1!$M$3:$M$893,A38, Sheet1!$CB$3:$CB$893,$E$1)","v":0},{"$f":"COUNTIFS(Sheet1!$M$3:$M$893,A38, Sheet1!$CB$3:$CB$893,$F$1)","v":1},{"$f":"COUNTIFS(Sheet1!$M$3:$M$893,A38, Sheet1!$CB$3:$CB$893,$G$1)","v":16},{"$f":"COUNTIFS(Sheet1!$M$3:$M$893,A38, Sheet1!$CB$3:$CB$893,$H$1)","v":0}]
["Slovakia",{"$f":"COUNTIF(Sheet1!$M$3:$M$893,A39)","v":3},{"$f":"COUNTIFS(Sheet1!$M$3:$M$893,A39, Sheet1!$CB$3:$CB$893,$C$1)","v":1},{"$f":"COUNTIFS(Sheet1!$M$3:$M$893,A39, Sheet1!$CB$3:$CB$893,$D$1)","v":0},{"$f":"COUNTIFS(Sheet1!$M$3:$M$893,A39, Sheet1!$CB$3:$CB$893,$E$1)","v":0},{"$f":"COUNTIFS(Sheet1!$M$3:$M$893,A39, Sheet1!$CB$3:$CB$893,$F$1)","v":0},{"$f":"COUNTIFS(Sheet1!$M$3:$M$893,A39, Sheet1!$CB$3:$CB$893,$G$1)","v":0},{"$f":"COUNTIFS(Sheet1!$M$3:$M$893,A39, Sheet1!$CB$3:$CB$893,$H$1)","v":1}]
["Slovenia",{"$f":"COUNTIF(Sheet1!$M$3:$M$893,A40)","v":7},{"$f":"COUNTIFS(Sheet1!$M$3:$M$893,A40, Sheet1!$CB$3:$CB$893,$C$1)","v":5},{"$f":"COUNTIFS(Sheet1!$M$3:$M$893,A40, Sheet1!$CB$3:$CB$893,$D$1)","v":0},{"$f":"COUNTIFS(Sheet1!$M$3:$M$893,A40, Sheet1!$CB$3:$CB$893,$E$1)","v":0},{"$f":"COUNTIFS(Sheet1!$M$3:$M$893,A40, Sheet1!$CB$3:$CB$893,$F$1)","v":0},{"$f":"COUNTIFS(Sheet1!$M$3:$M$893,A40, Sheet1!$CB$3:$CB$893,$G$1)","v":0},{"$f":"COUNTIFS(Sheet1!$M$3:$M$893,A40, Sheet1!$CB$3:$CB$893,$H$1)","v":0}]
["Spain",{"$f":"COUNTIF(Sheet1!$M$3:$M$893,A41)","v":51},{"$f":"COUNTIFS(Sheet1!$M$3:$M$893,A41, Sheet1!$CB$3:$CB$893,$C$1)","v":4},{"$f":"COUNTIFS(Sheet1!$M$3:$M$893,A41, Sheet1!$CB$3:$CB$893,$D$1)","v":1},{"$f":"COUNTIFS(Sheet1!$M$3:$M$893,A41, Sheet1!$CB$3:$CB$893,$E$1)","v":0},{"$f":"COUNTIFS(Sheet1!$M$3:$M$893,A41, Sheet1!$CB$3:$CB$893,$F$1)","v":30},{"$f":"COUNTIFS(Sheet1!$M$3:$M$893,A41, Sheet1!$CB$3:$CB$893,$G$1)","v":1},{"$f":"COUNTIFS(Sheet1!$M$3:$M$893,A41, Sheet1!$CB$3:$CB$893,$H$1)","v":2}]
["Sweden",{"$f":"COUNTIF(Sheet1!$M$3:$M$893,A42)","v":17},{"$f":"COUNTIFS(Sheet1!$M$3:$M$893,A42, Sheet1!$CB$3:$CB$893,$C$1)","v":0},{"$f":"COUNTIFS(Sheet1!$M$3:$M$893,A42, Sheet1!$CB$3:$CB$893,$D$1)","v":3},{"$f":"COUNTIFS(Sheet1!$M$3:$M$893,A42, Sheet1!$CB$3:$CB$893,$E$1)","v":0},{"$f":"COUNTIFS(Sheet1!$M$3:$M$893,A42, Sheet1!$CB$3:$CB$893,$F$1)","v":11},{"$f":"COUNTIFS(Sheet1!$M$3:$M$893,A42, Sheet1!$CB$3:$CB$893,$G$1)","v":0},{"$f":"COUNTIFS(Sheet1!$M$3:$M$893,A42, Sheet1!$CB$3:$CB$893,$H$1)","v":1}]
["Switzerland",{"$f":"COUNTIF(Sheet1!$M$3:$M$893,A43)","v":29},{"$f":"COUNTIFS(Sheet1!$M$3:$M$893,A43, Sheet1!$CB$3:$CB$893,$C$1)","v":18},{"$f":"COUNTIFS(Sheet1!$M$3:$M$893,A43, Sheet1!$CB$3:$CB$893,$D$1)","v":4},{"$f":"COUNTIFS(Sheet1!$M$3:$M$893,A43, Sheet1!$CB$3:$CB$893,$E$1)","v":0},{"$f":"COUNTIFS(Sheet1!$M$3:$M$893,A43, Sheet1!$CB$3:$CB$893,$F$1)","v":0},{"$f":"COUNTIFS(Sheet1!$M$3:$M$893,A43, Sheet1!$CB$3:$CB$893,$G$1)","v":0},{"$f":"COUNTIFS(Sheet1!$M$3:$M$893,A43, Sheet1!$CB$3:$CB$893,$H$1)","v":2}]
["The former Yugoslav Republic of Macedonia",{"$f":"COUNTIF(Sheet1!$M$3:$M$893,A44)","v":5},{"$f":"COUNTIFS(Sheet1!$M$3:$M$893,A44, Sheet1!$CB$3:$CB$893,$C$1)","v":1},{"$f":"COUNTIFS(Sheet1!$M$3:$M$893,A44, Sheet1!$CB$3:$CB$893,$D$1)","v":0},{"$f":"COUNTIFS(Sheet1!$M$3:$M$893,A44, Sheet1!$CB$3:$CB$893,$E$1)","v":0},{"$f":"COUNTIFS(Sheet1!$M$3:$M$893,A44, Sheet1!$CB$3:$CB$893,$F$1)","v":0},{"$f":"COUNTIFS(Sheet1!$M$3:$M$893,A44, Sheet1!$CB$3:$CB$893,$G$1)","v":4},{"$f":"COUNTIFS(Sheet1!$M$3:$M$893,A44, Sheet1!$CB$3:$CB$893,$H$1)","v":0}]
["Turkey",{"$f":"COUNTIF(Sheet1!$M$3:$M$893,A45)","v":58},{"$f":"COUNTIFS(Sheet1!$M$3:$M$893,A45, Sheet1!$CB$3:$CB$893,$C$1)","v":0},{"$f":"COUNTIFS(Sheet1!$M$3:$M$893,A45, Sheet1!$CB$3:$CB$893,$D$1)","v":0},{"$f":"COUNTIFS(Sheet1!$M$3:$M$893,A45, Sheet1!$CB$3:$CB$893,$E$1)","v":0},{"$f":"COUNTIFS(Sheet1!$M$3:$M$893,A45, Sheet1!$CB$3:$CB$893,$F$1)","v":11},{"$f":"COUNTIFS(Sheet1!$M$3:$M$893,A45, Sheet1!$CB$3:$CB$893,$G$1)","v":17},{"$f":"COUNTIFS(Sheet1!$M$3:$M$893,A45, Sheet1!$CB$3:$CB$893,$H$1)","v":6}]
["Ukraine",{"$f":"COUNTIF(Sheet1!$M$3:$M$893,A46)","v":7},{"$f":"COUNTIFS(Sheet1!$M$3:$M$893,A46, Sheet1!$CB$3:$CB$893,$C$1)","v":3},{"$f":"COUNTIFS(Sheet1!$M$3:$M$893,A46, Sheet1!$CB$3:$CB$893,$D$1)","v":0},{"$f":"COUNTIFS(Sheet1!$M$3:$M$893,A46, Sheet1!$CB$3:$CB$893,$E$1)","v":0},{"$f":"COUNTIFS(Sheet1!$M$3:$M$893,A46, Sheet1!$CB$3:$CB$893,$F$1)","v":0},{"$f":"COUNTIFS(Sheet1!$M$3:$M$893,A46, Sheet1!$CB$3:$CB$893,$G$1)","v":2},{"$f":"COUNTIFS(Sheet1!$M$3:$M$893,A46, Sheet1!$CB$3:$CB$893,$H$1)","v":0}]
["United Kingdom of Great Britain and Northern Ireland",{"$f":"COUNTIF(Sheet1!$M$3:$M$893,A47)","v":32},{"$f":"COUNTIFS(Sheet1!$M$3:$M$893,A47, Sheet1!$CB$3:$CB$893,$C$1)","v":11},{"$f":"COUNTIFS(Sheet1!$M$3:$M$893,A47, Sheet1!$CB$3:$CB$893,$D$1)","v":0},{"$f":"COUNTIFS(Sheet1!$M$3:$M$893,A47, Sheet1!$CB$3:$CB$893,$E$1)","v":1},{"$f":"COUNTIFS(Sheet1!$M$3:$M$893,A47, Sheet1!$CB$3:$CB$893,$F$1)","v":3},{"$f":"COUNTIFS(Sheet1!$M$3:$M$893,A47, Sheet1!$CB$3:$CB$893,$G$1)","v":4},{"$f":"COUNTIFS(Sheet1!$M$3:$M$893,A47, Sheet1!$CB$3:$CB$893,$H$1)","v":5}]
["Azerbaijan",{"$f":"COUNTIF(Sheet1!$M$3:$M$893,A48)","v":1},{"$f":"COUNTIFS(Sheet1!$M$3:$M$893,A48, Sheet1!$CB$3:$CB$893,$C$1)","v":0},{"$f":"COUNTIFS(Sheet1!$M$3:$M$893,A48, Sheet1!$CB$3:$CB$893,$D$1)","v":0},{"$f":"COUNTIFS(Sheet1!$M$3:$M$893,A48, Sheet1!$CB$3:$CB$893,$E$1)","v":0},{"$f":"COUNTIFS(Sheet1!$M$3:$M$893,A48, Sheet1!$CB$3:$CB$893,$F$1)","v":0},{"$f":"COUNTIFS(Sheet1!$M$3:$M$893,A48, Sheet1!$CB$3:$CB$893,$G$1)","v":0},{"$f":"COUNTIFS(Sheet1!$M$3:$M$893,A48, Sheet1!$CB$3:$CB$893,$H$1)","v":0}]
["Sum",{"$f":"SUM(B2:B48)","v":719},286,33,5,83,92,51]

{"sheet":"30. Pitanje","index":15,"n_rows":49,"n_cols":8,"rows_kept":49}
["30. In your country, if residents have to pass an exam(s) to become specialists, how is that exam structured? ","Ukupan broj","It is only oral examination","Written and oral examination","Written and oral examination, but also OSCE (Objective Structured Clinical Examination)","VIVA (Oral examination), written and OSCE examination","Written, oral examination and some practical assessment","Other (please specify)"]
["Albania",{"$f":"COUNTIF(Sheet1!$M$3:$M$893,A2)","v":6},{"$f":"COUNTIFS(Sheet1!$M$3:$M$893,A2, Sheet1!$CD$3:$CD$893,$C$1)","v":1},{"$f":"COUNTIFS(Sheet1!$M$3:$M$893,A2, Sheet1!$CD$3:$CD$893,$D$1)","v":2},{"$f":"COUNTIFS(Sheet1!$M$3:$M$893,A2, Sheet1!$CD$3:$CD$893,$E$1)","v":0},{"$f":"COUNTIFS(Sheet1!$M$3:$M$893,A2, Sheet1!$CD$3:$CD$893,$F$1)","v":0},{"$f":"COUNTIFS(Sheet1!$M$3:$M$893,A2, Sheet1!$CD$3:$CD$893,$G$1)","v":1},{"$f":"COUNTIFS(Sheet1!$M$3:$M$893,A2, Sheet1!$CD$3:$CD$893,$H$1)","v":0}]
["Armenia",{"$f":"COUNTIF(Sheet1!$M$3:$M$893,A3)","v":1},{"$f":"COUNTIFS(Sheet1!$M$3:$M$893,A3, Sheet1!$CD$3:$CD$893,$C$1)","v":1},{"$f":"COUNTIFS(Sheet1!$M$3:$M$893,A3, Sheet1!$CD$3:$CD$893,$D$1)","v":0},{"$f":"COUNTIFS(Sheet1!$M$3:$M$893,A3, Sheet1!$CD$3:$CD$893,$E$1)","v":0},{"$f":"COUNTIFS(Sheet1!$M$3:$M$893,A3, Sheet1!$CD$3:$CD$893,$F$1)","v":0},{"$f":"COUNTIFS(Sheet1!$M$3:$M$893,A3, Sheet1!$CD$3:$CD$893,$G$1)","v":0},{"$f":"COUNTIFS(Sheet1!$M$3:$M$893,A3, Sheet1!$CD$3:$CD$893,$H$1)","v":0}]
["Austria",{"$f":"COUNTIF(Sheet1!$M$3:$M$893,A4)","v":15},{"$f":"COUNTIFS(Sheet1!$M$3:$M$893,A4, Sheet1!$CD$3:$CD$893,$C$1)","v":1},{"$f":"COUNTIFS(Sheet1!$M$3:$M$893,A4, Sheet1!$CD$3:$CD$893,$D$1)","v":7},{"$f":"COUNTIFS(Sheet1!$M$3:$M$893,A4, Sheet1!$CD$3:$CD$893,$E$1)","v":3},{"$f":"COUNTIFS(Sheet1!$M$3:$M$893,A4, Sheet1!$CD$3:$CD$893,$F$1)","v":0},{"$f":"COUNTIFS(Sheet1!$M$3:$M$893,A4, Sheet1!$CD$3:$CD$893,$G$1)","v":0},{"$f":"COUNTIFS(Sheet1!$M$3:$M$893,A4, Sheet1!$CD$3:$CD$893,$H$1)","v":0}]
["Belarus",{"$f":"COUNTIF(Sheet1!$M$3:$M$893,A5)","v":1},{"$f":"COUNTIFS(Sheet1!$M$3:$M$893,A5, Sheet1!$CD$3:$CD$893,$C$1)","v":0},{"$f":"COUNTIFS(Sheet1!$M$3:$M$893,A5, Sheet1!$CD$3:$CD$893,$D$1)","v":0},{"$f":"COUNTIFS(Sheet1!$M$3:$M$893,A5, Sheet1!$CD$3:$CD$893,$E$1)","v":0},{"$f":"COUNTIFS(Sheet1!$M$3:$M$893,A5, Sheet1!$CD$3:$CD$893,$F$1)","v":0},{"$f":"COUNTIFS(Sheet1!$M$3:$M$893,A5, Sheet1!$CD$3:$CD$893,$G$1)","v":1},{"$f":"COUNTIFS(Sheet1!$M$3:$M$893,A5, Sheet1!$CD$3:$CD$893,$H$1)","v":0}]
["Belgium",{"$f":"COUNTIF(Sheet1!$M$3:$M$893,A6)","v":30},{"$f":"COUNTIFS(Sheet1!$M$3:$M$893,A6, Sheet1!$CD$3:$CD$893,$C$1)","v":14},{"$f":"COUNTIFS(Sheet1!$M$3:$M$893,A6, Sheet1!$CD$3:$CD$893,$D$1)","v":4},{"$f":"COUNTIFS(Sheet1!$M$3:$M$893,A6, Sheet1!$CD$3:$CD$893,$E$1)","v":5},{"$f":"COUNTIFS(Sheet1!$M$3:$M$893,A6, Sheet1!$CD$3:$CD$893,$F$1)","v":0},{"$f":"COUNTIFS(Sheet1!$M$3:$M$893,A6, Sheet1!$CD$3:$CD$893,$G$1)","v":1},{"$f":"COUNTIFS(Sheet1!$M$3:$M$893,A6, Sheet1!$CD$3:$CD$893,$H$1)","v":1}]
["Bosnia and Herzegovina",{"$f":"COUNTIF(Sheet1!$M$3:$M$893,A7)","v":4},{"$f":"COUNTIFS(Sheet1!$M$3:$M$893,A7, Sheet1!$CD$3:$CD$893,$C$1)","v":1},{"$f":"COUNTIFS(Sheet1!$M$3:$M$893,A7, Sheet1!$CD$3:$CD$893,$D$1)","v":1},{"$f":"COUNTIFS(Sheet1!$M$3:$M$893,A7, Sheet1!$CD$3:$CD$893,$E$1)","v":0},{"$f":"COUNTIFS(Sheet1!$M$3:$M$893,A7, Sheet1!$CD$3:$CD$893,$F$1)","v":0},{"$f":"COUNTIFS(Sheet1!$M$3:$M$893,A7, Sheet1!$CD$3:$CD$893,$G$1)","v":1},{"$f":"COUNTIFS(Sheet1!$M$3:$M$893,A7, Sheet1!$CD$3:$CD$893,$H$1)","v":1}]
["Bulgaria",{"$f":"COUNTIF(Sheet1!$M$3:$M$893,A8)","v":3},{"$f":"COUNTIFS(Sheet1!$M$3:$M$893,A8, Sheet1!$CD$3:$CD$893,$C$1)","v":0},{"$f":"COUNTIFS(Sheet1!$M$3:$M$893,A8, Sheet1!$CD$3:$CD$893,$D$1)","v":1},{"$f":"COUNTIFS(Sheet1!$M$3:$M$893,A8, Sheet1!$CD$3:$CD$893,$E$1)","v":0},{"$f":"COUNTIFS(Sheet1!$M$3:$M$893,A8, Sheet1!$CD$3:$CD$893,$F$1)","v":0},{"$f":"COUNTIFS(Sheet1!$M$3:$M$893,A8, Sheet1!$CD$3:$CD$893,$G$1)","v":2},{"$f":"COUNTIFS(Sheet1!$M$3:$M$893,A8, Sheet1!$CD$3:$CD$893,$H$1)","v":0}]
["Croatia",{"$f":"COUNTIF(Sheet1!$M$3:$M$893,A9)","v":15},{"$f":"COUNTIFS(Sheet1!$M$3:$M$893,A9, Sheet1!$CD$3:$CD$893,$C$1)","v":1},{"$f":"COUNTIFS(Sheet1!$M$3:$M$893,A9, Sheet1!$CD$3:$CD$893,$D$1)","v":1},{"$f":"COUNTIFS(Sheet1!$M$3:$M$893,A9, Sheet1!$CD$3:$CD$893,$E$1)","v":0},{"$f":"COUNTIFS(Sheet1!$M$3:$M$893,A9, Sheet1!$CD$3:$CD$893,$F$1)","v":0},{"$f":"COUNTIFS(Sheet1!$M$3:$M$893,A9, Sheet1!$CD$3:$CD$893,$G$1)","v":6},{"$f":"COUNTIFS(Sheet1!$M$3:$M$893,A9, Sheet1!$CD$3:$CD$893,$H$1)","v":2}]
["Cyprus",{"$f":"COUNTIF(Sheet1!$M$3:$M$893,A10)","v":4},{"$f":"COUNTIFS(Sheet1!$M$3:$M$893,A10, Sheet1!$CD$3:$CD$893,$C$1)","v":0},{"$f":"COUNTIFS(Sheet1!$M$3:$M$893,A10, Sheet1!$CD$3:$CD$893,$D$1)","v":3},{"$f":"COUNTIFS(Sheet1!$M$3:$M$893,A10, Sheet1!$CD$3:$CD$893,$E$1)","v":0},{"$f":"COUNTIFS(Sheet1!$M$3:$M$893,A10, Sheet1!$CD$3:$CD$893,$F$1)","v":0},{"$f":"COUNTIFS(Sheet1!$M$3:$M$893,A10, Sheet1!$CD$3:$CD$893,$G$1)","v":0},{"$f":"COUNTIFS(Sheet1!$M$3:$M$893,A10, Sheet1!$CD$3:$CD$893,$H$1)","v":0}]
["Czech Republic",{"$f":"COUNTIF(Sheet1!$M$3:$M$893,A11)","v":5},{"$f":"COUNTIFS(Sheet1!$M$3:$M$893,A11, Sheet1!$CD$3:$CD$893,$C$1)","v":2},{"$f":"COUNTIFS(Sheet1!$M$3:$M$893,A11, Sheet1!$CD$3:$CD$893,$D$1)","v":1},{"$f":"COUNTIFS(Sheet1!$M$3:$M$893,A11, Sheet1!$CD$3:$CD$893,$E$1)","v":0},{"$f":"COUNTIFS(Sheet1!$M$3:$M$893,A11, Sheet1!$CD$3:$CD$893,$F$1)","v":0},{"$f":"COUNTIFS(Sheet1!$M$3:$M$893,A11, Sheet1!$CD$3:$CD$893,$G$1)","v":1},{"$f":"COUNTIFS(Sheet1!$M$3:$M$893,A11, Sheet1!$CD$3:$CD$893,$H$1)","v":0}]
["Denmark",{"$f":"COUNTIF(Sheet1!$M$3:$M$893,A12)","v":7},{"$f":"COUNTIFS(Sheet1!$M$3:$M$893,A12, Sheet1!$CD$3:$CD$893,$C$1)","v":0},{"$f":"COUNTIFS(Sheet1!$M$3:$M$893,A12, Sheet1!$CD$3:$CD$893,$D$1)","v":0},{"$f":"COUNTIFS(Sheet1!$M$3:$M$893,A12, Sheet1!$CD$3:$CD$893,$E$1)","v":0},{"$f":"COUNTIFS(Sheet1!$M$3:$M$893,A12, Sheet1!$CD$3:$CD$893,$F$1)","v":0},{"$f":"COUNTIFS(Sheet1!$M$3:$M$893,A12, Sheet1!$CD$3:$CD$893,$G$1)","v":1},{"$f":"COUNTIFS(Sheet1!$M$3:$M$893,A12, Sheet1!$CD$3:$CD$893,$H$1)","v":0}]
["Estonia",{"$f":"COUNTIF(Sheet1!$M$3:$M$893,A13)","v":3},{"$f":"COUNTIFS(Sheet1!$M$3:$M$893,A13, Sheet1!$CD$3:$CD$893,$C$1)","v":2},{"$f":"COUNTIFS(Sheet1!$M$3:$M$893,A13, Sheet1!$CD$3:$CD$893,$D$1)","v":0},{"$f":"COUNTIFS(Sheet1!$M$3:$M$893,A13, Sheet1!$CD$3:$CD$893,$E$1)","v":0},{"$f":"COUNTIFS(Sheet1!$M$3:$M$893,A13, Sheet1!$CD$3:$CD$893,$F$1)","v":0},{"$f":"COUNTIFS(Sheet1!$M$3:$M$893,A13, Sheet1!$CD$3:$CD$893,$G$1)","v":1},{"$f":"COUNTIFS(Sheet1!$M$3:$M$893,A13, Sheet1!$CD$3:$CD$893,$H$1)","v":0}]
["Finland",{"$f":"COUNTIF(Sheet1!$M$3:$M$893,A14)","v":8},{"$f":"COUNTIFS(Sheet1!$M$3:$M$893,A14, Sheet1!$CD$3:$CD$893,$C$1)","v":0},{"$f":"COUNTIFS(Sheet1!$M$3:$M$893,A14, Sheet1!$CD$3:$CD$893,$D$1)","v":1},{"$f":"COUNTIFS(Sheet1!$M$3:$M$893,A14, Sheet1!$CD$3:$CD$893,$E$1)","v":0},{"$f":"COUNTIFS(Sheet1!$M$3:$M$893,A14, Sheet1!$CD$3:$CD$893,$F$1)","v":0},{"$f":"COUNTIFS(Sheet1!$M$3:$M$893,A14, Sheet1!$CD$3:$CD$893,$G$1)","v":3},{"$f":"COUNTIFS(Sheet1!$M$3:$M$893,A14, Sheet1!$CD$3:$CD$893,$H$1)","v":4}]
["Uzbekistan",{"$f":"COUNTIF(Sheet1!$M$3:$M$893,A15)","v":1},{"$f":"COUNTIFS(Sheet1!$M$3:$M$893,A15, Sheet1!$CD$3:$CD$893,$C$1)","v":0},{"$f":"COUNTIFS(Sheet1!$M$3:$M$893,A15, Sheet1!$CD$3:$CD$893,$D$1)","v":1},{"$f":"COUNTIFS(Sheet1!$M$3:$M$893,A15, Sheet1!$CD$3:$CD$893,$E$1)","v":0},{"$f":"COUNTIFS(Sheet1!$M$3:$M$893,A15, Sheet1!$CD$3:$CD$893,$F$1)","v":0},{"$f":"COUNTIFS(Sheet1!$M$3:$M$893,A15, Sheet1!$CD$3:$CD$893,$G$1)","v":0},{"$f":"COUNTIFS(Sheet1!$M$3:$M$893,A15, Sheet1!$CD$3:$CD$893,$H$1)","v":0}]
["France",{"$f":"COUNTIF(Sheet1!$M$3:$M$893,A16)","v":14},{"$f":"COUNTIFS(Sheet1!$M$3:$M$893,A16, Sheet1!$CD$3:$CD$893,$C$1)","v":0},{"$f":"COUNTIFS(Sheet1!$M$3:$M$893,A16, Sheet1!$CD$3:$CD$893,$D$1)","v":7},{"$f":"COUNTIFS(Sheet1!$M$3:$M$893,A16, Sheet1!$CD$3:$CD$893,$E$1)","v":1},{"$f":"COUNTIFS(Sheet1!$M$3:$M$893,A16, Sheet1!$CD$3:$CD$893,$F$1)","v":0},{"$f":"COUNTIFS(Sheet1!$M$3:$M$893,A16, Sheet1!$CD$3:$CD$893,$G$1)","v":1},{"$f":"COUNTIFS(Sheet1!$M$3:$M$893,A16, Sheet1!$CD$3:$CD$893,$H$1)","v":1}]
["Israel",{"$f":"COUNTIF(Sheet1!$M$3:$M$893,A17)","v":12},{"$f":"COUNTIFS(Sheet1!$M$3:$M$893,A17, Sheet1!$CD$3:$CD$893,$C$1)","v":0},{"$f":"COUNTIFS(Sheet1!$M$3:$M$893,A17, Sheet1!$CD$3:$CD$893,$D$1)","v":2},{"$f":"COUNTIFS(Sheet1!$M$3:$M$893,A17, Sheet1!$CD$3:$CD$893,$E$1)","v":5},{"$f":"COUNTIFS(Sheet1!$M$3:$M$893,A17, Sheet1!$CD$3:$CD$893,$F$1)","v":0},{"$f":"COUNTIFS(Sheet1!$M$3:$M$893,A17, Sheet1!$CD$3:$CD$893,$G$1)","v":4},{"$f":"COUNTIFS(Sheet1!$M$3:$M$893,A17, Sheet1!$CD$3:$CD$893,$H$1)","v":0}]
["Georgia",{"$f":"COUNTIF(Sheet1!$M$3:$M$893,A18)","v":3},{"$f":"COUNTIFS(Sheet1!$M$3:$M$893,A18, Sheet1!$CD$3:$CD$893,$C$1)","v":0},{"$f":"COUNTIFS(Sheet1!$M$3:$M$893,A18, Sheet1!$CD$3:$CD$893,$D$1)","v":1},{"$f":"COUNTIFS(Sheet1!$M$3:$M$893,A18, Sheet1!$CD$3:$CD$893,$E$1)","v":0},{"$f":"COUNTIFS(Sheet1!$M$3:$M$893,A18, Sheet1!$CD$3:$CD$893,$F$1)","v":0},{"$f":"COUNTIFS(Sheet1!$M$3:$M$893,A18, Sheet1!$CD$3:$CD$893,$G$1)","v":0},{"$f":"COUNTIFS(Sheet1!$M$3:$M$893,A18, Sheet1!$CD$3:$CD$893,$H$1)","v":0}]
["Germany",{"$f":"COUNTIF(Sheet1!$M$3:$M$893,A19)","v":70},{"$f":"COUNTIFS(Sheet1!$M$3:$M$893,A19, Sheet1!$CD$3:$CD$893,$C$1)","v":55},{"$f":"COUNTIFS(Sheet1!$M$3:$M$893,A19, Sheet1!$CD$3:$CD$893,$D$1)","v":2},{"$f":"COUNTIFS(Sheet1!$M$3:$M$893,A19, Sheet1!$CD$3:$CD$893,$E$1)","v":0},{"$f":"COUNTIFS(Sheet1!$M$3:$M$893,A19, Sheet1!$CD$3:$CD$893,$F$1)","v":0},{"$f":"COUNTIFS(Sheet1!$M$3:$M$893,A19, Sheet1!$CD$3:$CD$893,$G$1)","v":0},{"$f":"COUNTIFS(Sheet1!$M$3:$M$893,A19, Sheet1!$CD$3:$CD$893,$H$1)","v":1}]
["Kazakhstan",{"$f":"COUNTIF(Sheet1!$M$3:$M$893,A20)","v":1},{"$f":"COUNTIFS(Sheet1!$M$3:$M$893,A20, Sheet1!$CD$3:$CD$893,$C$1)","v":0},{"$f":"COUNTIFS(Sheet1!$M$3:$M$893,A20, Sheet1!$CD$3:$CD$893,$D$1)","v":0},{"$f":"COUNTIFS(Sheet1!$M$3:$M$893,A20, Sheet1!$CD$3:$CD$893,$E$1)","v":0},{"$f":"COUNTIFS(Sheet1!$M$3:$M$893,A20, Sheet1!$CD$3:$CD$893,$F$1)","v":0},{"$f":"COUNTIFS(Sheet1!$M$3:$M$893,A20, Sheet1!$CD$3:$CD$893,$G$1)","v":0},{"$f":"COUNTIFS(Sheet1!$M$3:$M$893,A20, Sheet1!$CD$3:$CD$893,$H$1)","v":0}]
["Greece",{"$f":"COUNTIF(Sheet1!$M$3:$M$893,A21)","v":42},{"$f":"COUNTIFS(Sheet1!$M$3:$M$893,A21, Sheet1!$CD$3:$CD$893,$C$1)","v":0},{"$f":"COUNTIFS(Sheet1!$M$3:$M$893,A21, Sheet1!$CD$3:$CD$893,$D$1)","v":31},{"$f":"COUNTIFS(Sheet1!$M$3:$M$893,A21, Sheet1!$CD$3:$CD$893,$E$1)","v":0},{"$f":"COUNTIFS(Sheet1!$M$3:$M$893,A21, Sheet1!$CD$3:$CD$893,$F$1)","v":0},{"$f":"COUNTIFS(Sheet1!$M$3:$M$893,A21, Sheet1!$CD$3:$CD$893,$G$1)","v":1},{"$f":"COUNTIFS(Sheet1!$M$3:$M$893,A21, Sheet1!$CD$3:$CD$893,$H$1)","v":0}]
["Hungary",{"$f":"COUNTIF(Sheet1!$M$3:$M$893,A22)","v":6},{"$f":"COUNTIFS(Sheet1!$M$3:$M$893,A22, Sheet1!$CD$3:$CD$893,$C$1)","v":0},{"$f":"COUNTIFS(Sheet1!$M$3:$M$893,A22, Sheet1!$CD$3:$CD$893,$D$1)","v":3},{"$f":"COUNTIFS(Sheet1!$M$3:$M$893,A22, Sheet1!$CD$3:$CD$893,$E$1)","v":0},{"$f":"COUNTIFS(Sheet1!$M$3:$M$893,A22, Sheet1!$CD$3:$CD$893,$F$1)","v":0},{"$f":"COUNTIFS(Sheet1!$M$3:$M$893,A22, Sheet1!$CD$3:$CD$893,$G$1)","v":3},{"$f":"COUNTIFS(Sheet1!$M$3:$M$893,A22, Sheet1!$CD$3:$CD$893,$H$1)","v":0}]
["Iceland",{"$f":"COUNTIF(Sheet1!$M$3:$M$893,A23)","v":1},{"$f":"COUNTIFS(Sheet1!$M$3:$M$893,A23, Sheet1!$CD$3:$CD$893,$C$1)","v":0},{"$f":"COUNTIFS(Sheet1!$M$3:$M$893,A23, Sheet1!$CD$3:$CD$893,$D$1)","v":0},{"$f":"COUNTIFS(Sheet1!$M$3:$M$893,A23, Sheet1!$CD$3:$CD$893,$E$1)","v":0},{"$f":"COUNTIFS(Sheet1!$M$3:$M$893,A23, Sheet1!$CD$3:$CD$893,$F$1)","v":0},{"$f":"COUNTIFS(Sheet1!$M$3:$M$893,A23, Sheet1!$CD$3:$CD$893,$G$1)","v":1},{"$f":"COUNTIFS(Sheet1!$M$3:$M$893,A23, Sheet1!$CD$3:$CD$893,$H$1)","v":0}]
["Ireland",{"$f":"COUNTIF(Sheet1!$M$3:$M$893,A24)","v":8},{"$f":"COUNTIFS(Sheet1!$M$3:$M$893,A24, Sheet1!$CD$3:$CD$893,$C$1)","v":0},{"$f":"COUNTIFS(Sheet1!$M$3:$M$893,A24, Sheet1!$CD$3:$CD$893,$D$1)","v":1},{"$f":"COUNTIFS(Sheet1!$M$3:$M$893,A24, Sheet1!$CD$3:$CD$893,$E$1)","v":4},{"$f":"COUNTIFS(Sheet1!$M$3:$M$893,A24, Sheet1!$CD$3:$CD$893,$F$1)","v":2},{"$f":"COUNTIFS(Sheet1!$M$3:$M$893,A24, Sheet1!$CD$3:$CD$893,$G$1)","v":0},{"$f":"COUNTIFS(Sheet1!$M$3:$M$893,A24, Sheet1!$CD$3:$CD$893,$H$1)","v":0}]
["Italy",{"$f":"COUNTIF(Sheet1!$M$3:$M$893,A25)","v":30},{"$f":"COUNTIFS(Sheet1!$M$3:$M$893,A25, Sheet1!$CD$3:$CD$893,$C$1)","v":9},{"$f":"COUNTIFS(Sheet1!$M$3:$M$893,A25, Sheet1!$CD$3:$CD$893,$D$1)","v":6},{"$f":"COUNTIFS(Sheet1!$M$3:$M$893,A25, Sheet1!$CD$3:$CD$893,$E$1)","v":2},{"$f":"COUNTIFS(Sheet1!$M$3:$M$893,A25, Sheet1!$CD$3:$CD$893,$F$1)","v":0},{"$f":"COUNTIFS(Sheet1!$M$3:$M$893,A25, Sheet1!$CD$3:$CD$893,$G$1)","v":1},{"$f":"COUNTIFS(Sheet1!$M$3:$M$893,A25, Sheet1!$CD$3:$CD$893,$H$1)","v":1}]
["Latvia",{"$f":"COUNTIF(Sheet1!$M$3:$M$893,A26)","v":10},{"$f":"COUNTIFS(Sheet1!$M$3:$M$893,A26, Sheet1!$CD$3:$CD$893,$C$1)","v":0},{"$f":"COUNTIFS(Sheet1!$M$3:$M$893,A26, Sheet1!$CD$3:$CD$893,$D$1)","v":8},{"$f":"COUNTIFS(Sheet1!$M$3:$M$893,A26, Sheet1!$CD$3:$CD$893,$E$1)","v":0},{"$f":"COUNTIFS(Sheet1!$M$3:$M$893,A26, Sheet1!$CD$3:$CD$893,$F$1)","v":0},{"$f":"COUNTIFS(Sheet1!$M$3:$M$893,A26, Sheet1!$CD$3:$CD$893,$G$1)","v":2},{"$f":"COUNTIFS(Sheet1!$M$3:$M$893,A26, Sheet1!$CD$3:$CD$893,$H$1)","v":0}]
["Lithuania",{"$f":"COUNTIF(Sheet1!$M$3:$M$893,A27)","v":9},{"$f":"COUNTIFS(Sheet1!$M$3:$M$893,A27, Sheet1!$CD$3:$CD$893,$C$1)","v":0},{"$f":"COUNTIFS(Sheet1!$M$3:$M$893,A27, Sheet1!$CD$3:$CD$893,$D$1)","v":4},{"$f":"COUNTIFS(Sheet1!$M$3:$M$893,A27, Sheet1!$CD$3:$CD$893,$E$1)","v":0},{"$f":"COUNTIFS(Sheet1!$M$3:$M$893,A27, Sheet1!$CD$3:$CD$893,$F$1)","v":0},{"$f":"COUNTIFS(Sheet1!$M$3:$M$893,A27, Sheet1!$CD$3:$CD$893,$G$1)","v":4},{"$f":"COUNTIFS(Sheet1!$M$3:$M$893,A27, Sheet1!$CD$3:$CD$893,$H$1)","v":1}]
["Indonesia",{"$f":"COUNTIF(Sheet1!$M$3:$M$893,A28)","v":3},{"$f":"COUNTIFS(Sheet1!$M$3:$M$893,A28, Sheet1!$CD$3:$CD$893,$C$1)","v":0},{"$f":"COUNTIFS(Sheet1!$M$3:$M$893,A28, Sheet1!$CD$3:$CD$893,$D$1)","v":0},{"$f":"COUNTIFS(Sheet1!$M$3:$M$893,A28, Sheet1!$CD$3:$CD$893,$E$1)","v":2},{"$f":"COUNTIFS(Sheet1!$M$3:$M$893,A28, Sheet1!$CD$3:$CD$893,$F$1)","v":0},{"$f":"COUNTIFS(Sheet1!$M$3:$M$893,A28, Sheet1!$CD$3:$CD$893,$G$1)","v":0},{"$f":"COUNTIFS(Sheet1!$M$3:$M$893,A28, Sheet1!$CD$3:$CD$893,$H$1)","v":0}]
["Luxembourg",{"$f":"COUNTIF(Sheet1!$M$3:$M$893,A29)","v":1},{"$f":"COUNTIFS(Sheet1!$M$3:$M$893,A29, Sheet1!$CD$3:$CD$893,$C$1)","v":0},{"$f":"COUNTIFS(Sheet1!$M$3:$M$893,A29, Sheet1!$CD$3:$CD$893,$D$1)","v":0},{"$f":"COUNTIFS(Sheet1!$M$3:$M$893,A29, Sheet1!$CD$3:$CD$893,$E$1)","v":0},{"$f":"COUNTIFS(Sheet1!$M$3:$M$893,A29, Sheet1!$CD$3:$CD$893,$F$1)","v":0},{"$f":"COUNTIFS(Sheet1!$M$3:$M$893,A29, Sheet1!$CD$3:$CD$893,$G$1)","v":0},{"$f":"COUNTIFS(Sheet1!$M$3:$M$893,A29, Sheet1!$CD$3:$CD$893,$H$1)","v":0}]
["Malta",{"$f":"COUNTIF(Sheet1!$M$3:$M$893,A30)","v":7},{"$f":"COUNTIFS(Sheet1!$M$3:$M$893,A30, Sheet1!$CD$3:$CD$893,$C$1)","v":5},{"$f":"COUNTIFS(Sheet1!$M$3:$M$893,A30, Sheet1!$CD$3:$CD$893,$D$1)","v":1},{"$f":"COUNTIFS(Sheet1!$M$3:$M$893,A30, Sheet1!$CD$3:$CD$893,$E$1)","v":0},{"$f":"COUNTIFS(Sheet1!$M$3:$M$893,A30, Sheet1!$CD$3:$CD$893,$F$1)","v":1},{"$f":"COUNTIFS(Sheet1!$M$3:$M$893,A30, Sheet1!$CD$3:$CD$893,$G$1)","v":0},{"$f":"COUNTIFS(Sheet1!$M$3:$M$893,A30, Sheet1!$CD$3:$CD$893,$H$1)","v":0}]
["Netherlands",{"$f":"COUNTIF(Sheet1!$M$3:$M$893,A31)","v":35},{"$f":"COUNTIFS(Sheet1!$M$3:$M$893,A31, Sheet1!$CD$3:$CD$893,$C$1)","v":7},{"$f":"COUNTIFS(Sheet1!$M$3:$M$893,A31, Sheet1!$CD$3:$CD$893,$D$1)","v":11},{"$f":"COUNTIFS(Sheet1!$M$3:$M$893,A31, Sheet1!$CD$3:$CD$893,$E$1)","v":4},{"$f":"COUNTIFS(Sheet1!$M$3:$M$893,A31, Sheet1!$CD$3:$CD$893,$F$1)","v":1},{"$f":"COUNTIFS(Sheet1!$M$3:$M$893,A31, Sheet1!$CD$3:$CD$893,$G$1)","v":3},{"$f":"COUNTIFS(Sheet1!$M$3:$M$893,A31, Sheet1!$CD$3:$CD$893,$H$1)","v":4}]
["Norway",{"$f":"COUNTIF(Sheet1!$M$3:$M$893,A32)","v":11},{"$f":"COUNTIFS(Sheet1!$M$3:$M$893,A32, Sheet1!$CD$3:$CD$893,$C$1)","v":0},{"$f":"COUNTIFS(Sheet1!$M$3:$M$893,A32, Sheet1!$CD$3:$CD$893,$D$1)","v":0},{"$f":"COUNTIFS(Sheet1!$M$3:$M$893,A32, Sheet1!$CD$3:$CD$893,$E$1)","v":0},{"$f":"COUNTIFS(Sheet1!$M$3:$M$893,A32, Sheet1!$CD$3:$CD$893,$F$1)","v":0},{"$f":"COUNTIFS(Sheet1!$M$3:$M$893,A32, Sheet1!$CD$3:$CD$893,$G$1)","v":2},{"$f":"COUNTIFS(Sheet1!$M$3:$M$893,A32, Sheet1!$CD$3:$CD$893,$H$1)","v":2}]
["Poland",{"$f":"COUNTIF(Sheet1!$M$3:$M$893,A33)","v":15},{"$f":"COUNTIFS(Sheet1!$M$3:$M$893,A33, Sheet1!$CD$3:$CD$893,$C$1)","v":0},{"$f":"COUNTIFS(Sheet1!$M$3:$M$893,A33, Sheet1!$CD$3:$CD$893,$D$1)","v":8},{"$f":"COUNTIFS(Sheet1!$M$3:$M$893,A33, Sheet1!$CD$3:$CD$893,$E$1)","v":0},{"$f":"COUNTIFS(Sheet1!$M$3:$M$893,A33, Sheet1!$CD$3:$CD$893,$F$1)","v":0},{"$f":"COUNTIFS(Sheet1!$M$3:$M$893,A33, Sheet1!$CD$3:$CD$893,$G$1)","v":0},{"$f":"COUNTIFS(Sheet1!$M$3:$M$893,A33, Sheet1!$CD$3:$CD$893,$H$1)","v":0}]
["Portugal",{"$f":"COUNTIF(Sheet1!$M$3:$M$893,A34)","v":57},{"$f":"COUNTIFS(Sheet1!$M$3:$M$893,A34, Sheet1!$CD$3:$CD$893,$C$1)","v":23},{"$f":"COUNTIFS(Sheet1!$M$3:$M$893,A34, Sheet1!$CD$3:$CD$893,$D$1)","v":4},{"$f":"COUNTIFS(Sheet1!$M$3:$M$893,A34, Sheet1!$CD$3:$CD$893,$E$1)","v":2},{"$f":"COUNTIFS(Sheet1!$M$3:$M$893,A34, Sheet1!$CD$3:$CD$893,$F$1)","v":1},{"$f":"COUNTIFS(Sheet1!$M$3:$M$893,A34, Sheet1!$CD$3:$CD$893,$G$1)","v":10},{"$f":"COUNTIFS(Sheet1!$M$3:$M$893,A34, Sheet1!$CD$3:$CD$893,$H$1)","v":0}]
["Republic of Moldova",{"$f":"COUNTIF(Sheet1!$M$3:$M$893,A35)","v":4},{"$f":"COUNTIFS(Sheet1!$M$3:$M$893,A35, Sheet1!$CD$3:$CD$893,$C$1)","v":0},{"$f":"COUNTIFS(Sheet1!$M$3:$M$893,A35, Sheet1!$CD$3:$CD$893,$D$1)","v":1},{"$f":"COUNTIFS(Sheet1!$M$3:$M$893,A35, Sheet1!$CD$3:$CD$893,$E$1)","v":0},{"$f":"COUNTIFS(Sheet1!$M$3:$M$893,A35, Sheet1!$CD$3:$CD$893,$F$1)","v":0},{"$f":"COUNTIFS(Sheet1!$M$3:$M$893,A35, Sheet1!$CD$3:$CD$893,$G$1)","v":1},{"$f":"COUNTIFS(Sheet1!$M$3:$M$893,A35, Sheet1!$CD$3:$CD$893,$H$1)","v":2}]
["Romania",{"$f":"COUNTIF(Sheet1!$M$3:$M$893,A36)","v":25},{"$f":"COUNTIFS(Sheet1!$M$3:$M$893,A36, Sheet1!$CD$3:$CD$893,$C$1)","v":0},{"$f":"COUNTIFS(Sheet1!$M$3:$M$893,A36, Sheet1!$CD$3:$CD$893,$D$1)","v":6},{"$f":"COUNTIFS(Sheet1!$M$3:$M$893,A36, Sheet1!$CD$3:$CD$893,$E$1)","v":1},{"$f":"COUNTIFS(Sheet1!$M$3:$M$893,A36, Sheet1!$CD$3:$CD$893,$F$1)","v":0},{"$f":"COUNTIFS(Sheet1!$M$3:$M$893,A36, Sheet1!$CD$3:$CD$893,$G$1)","v":7},{"$f":"COUNTIFS(Sheet1!$M$3:$M$893,A36, Sheet1!$CD$3:$CD$893,$H$1)","v":2}]
["Russian Federation",{"$f":"COUNTIF(Sheet1!$M$3:$M$893,A37)","v":11},{"$f":"COUNTIFS(Sheet1!$M$3:$M$893,A37, Sheet1!$CD$3:$CD$893,$C$1)","v":0},{"$f":"COUNTIFS(Sheet1!$M$3:$M$893,A37, Sheet1!$CD$3:$CD$893,$D$1)","v":1},{"$f":"COUNTIFS(Sheet1!$M$3:$M$893,A37, Sheet1!$CD$3:$CD$893,$E$1)","v":1},{"$f":"COUNTIFS(Sheet1!$M$3:$M$893,A37, Sheet1!$CD$3:$CD$893,$F$1)","v":1},{"$f":"COUNTIFS(Sheet1!$M$3:$M$893,A37, Sheet1!$CD$3:$CD$893,$G$1)","v":6},{"$f":"COUNTIFS(Sheet1!$M$3:$M$893,A37, Sheet1!$CD$3:$CD$893,$H$1)","v":0}]
["Serbia",{"$f":"COUNTIF(Sheet1!$M$3:$M$893,A38)","v":31},{"$f":"COUNTIFS(Sheet1!$M$3:$M$893,A38, Sheet1!$CD$3:$CD$893,$C$1)","v":0},{"$f":"COUNTIFS(Sheet1!$M$3:$M$893,A38, Sheet1!$CD$3:$CD$893,$D$1)","v":0},{"$f":"COUNTIFS(Sheet1!$M$3:$M$893,A38, Sheet1!$CD$3:$CD$893,$E$1)","v":1},{"$f":"COUNTIFS(Sheet1!$M$3:$M$893,A38, Sheet1!$CD$3:$CD$893,$F$1)","v":0},{"$f":"COUNTIFS(Sheet1!$M$3:$M$893,A38, Sheet1!$CD$3:$CD$893,$G$1)","v":21},{"$f":"COUNTIFS(Sheet1!$M$3:$M$893,A38, Sheet1!$CD$3:$CD$893,$H$1)","v":0}]
["Slovakia",{"$f":"COUNTIF(Sheet1!$M$3:$M$893,A39)","v":3},{"$f":"COUNTIFS(Sheet1!$M$3:$M$893,A39, Sheet1!$CD$3:$CD$893,$C$1)","v":0},{"$f":"COUNTIFS(Sheet1!$M$3:$M$893,A39, Sheet1!$CD$3:$CD$893,$D$1)","v":0},{"$f":"COUNTIFS(Sheet1!$M$3:$M$893,A39, Sheet1!$CD$3:$CD$893,$E$1)","v":0},{"$f":"COUNTIFS(Sheet1!$M$3:$M$893,A39, Sheet1!$CD$3:$CD$893,$F$1)","v":0},{"$f":"COUNTIFS(Sheet1!$M$3:$M$893,A39, Sheet1!$CD$3:$CD$893,$G$1)","v":1},{"$f":"COUNTIFS(Sheet1!$M$3:$M$893,A39, Sheet1!$CD$3:$CD$893,$H$1)","v":1}]
["Slovenia",{"$f":"COUNTIF(Sheet1!$M$3:$M$893,A40)","v":7},{"$f":"COUNTIFS(Sheet1!$M$3:$M$893,A40, Sheet1!$CD$3:$CD$893,$C$1)","v":2},{"$f":"COUNTIFS(Sheet1!$M$3:$M$893,A40, Sheet1!$CD$3:$CD$893,$D$1)","v":0},{"$f":"COUNTIFS(Sheet1!$M$3:$M$893,A40, Sheet1!$CD$3:$CD$893,$E$1)","v":0},{"$f":"COUNTIFS(Sheet1!$M$3:$M$893,A40, Sheet1!$CD$3:$CD$893,$F$1)","v":0},{"$f":"COUNTIFS(Sheet1!$M$3:$M$893,A40, Sheet1!$CD$3:$CD$893,$G$1)","v":0},{"$f":"COUNTIFS(Sheet1!$M$3:$M$893,A40, Sheet1!$CD$3:$CD$893,$H$1)","v":3}]
["Spain",{"$f":"COUNTIF(Sheet1!$M$3:$M$893,A41)","v":51},{"$f":"COUNTIFS(Sheet1!$M$3:$M$893,A41, Sheet1!$CD$3:$CD$893,$C$1)","v":1},{"$f":"COUNTIFS(Sheet1!$M$3:$M$893,A41, Sheet1!$CD$3:$CD$893,$D$1)","v":3},{"$f":"COUNTIFS(Sheet1!$M$3:$M$893,A41, Sheet1!$CD$3:$CD$893,$E$1)","v":3},{"$f":"COUNTIFS(Sheet1!$M$3:$M$893,A41, Sheet1!$CD$3:$CD$893,$F$1)","v":0},{"$f":"COUNTIFS(Sheet1!$M$3:$M$893,A41, Sheet1!$CD$3:$CD$893,$G$1)","v":1},{"$f":"COUNTIFS(Sheet1!$M$3:$M$893,A41, Sheet1!$CD$3:$CD$893,$H$1)","v":5}]
["Sweden",{"$f":"COUNTIF(Sheet1!$M$3:$M$893,A42)","v":17},{"$f":"COUNTIFS(Sheet1!$M$3:$M$893,A42, Sheet1!$CD$3:$CD$893,$C$1)","v":1},{"$f":"COUNTIFS(Sheet1!$M$3:$M$893,A42, Sheet1!$CD$3:$CD$893,$D$1)","v":0},{"$f":"COUNTIFS(Sheet1!$M$3:$M$893,A42, Sheet1!$CD$3:$CD$893,$E$1)","v":0},{"$f":"COUNTIFS(Sheet1!$M$3:$M$893,A42, Sheet1!$CD$3:$CD$893,$F$1)","v":0},{"$f":"COUNTIFS(Sheet1!$M$3:$M$893,A42, Sheet1!$CD$3:$CD$893,$G$1)","v":1},{"$f":"COUNTIFS(Sheet1!$M$3:$M$893,A42, Sheet1!$CD$3:$CD$893,$H$1)","v":5}]
["Switzerland",{"$f":"COUNTIF(Sheet1!$M$3:$M$893,A43)","v":29},{"$f":"COUNTIFS(Sheet1!$M$3:$M$893,A43, Sheet1!$CD$3:$CD$893,$C$1)","v":1},{"$f":"COUNTIFS(Sheet1!$M$3:$M$893,A43, Sheet1!$CD$3:$CD$893,$D$1)","v":19},{"$f":"COUNTIFS(Sheet1!$M$3:$M$893,A43, Sheet1!$CD$3:$CD$893,$E$1)","v":0},{"$f":"COUNTIFS(Sheet1!$M$3:$M$893,A43, Sheet1!$CD$3:$CD$893,$F$1)","v":1},{"$f":"COUNTIFS(Sheet1!$M$3:$M$893,A43, Sheet1!$CD$3:$CD$893,$G$1)","v":2},{"$f":"COUNTIFS(Sheet1!$M$3:$M$893,A43, Sheet1!$CD$3:$CD$893,$H$1)","v":1}]
["The former Yugoslav Republic of Macedonia",{"$f":"COUNTIF(Sheet1!$M$3:$M$893,A44)","v":5},{"$f":"COUNTIFS(Sheet1!$M$3:$M$893,A44, Sheet1!$CD$3:$CD$893,$C$1)","v":1},{"$f":"COUNTIFS(Sheet1!$M$3:$M$893,A44, Sheet1!$CD$3:$CD$893,$D$1)","v":0},{"$f":"COUNTIFS(Sheet1!$M$3:$M$893,A44, Sheet1!$CD$3:$CD$893,$E$1)","v":0},{"$f":"COUNTIFS(Sheet1!$M$3:$M$893,A44, Sheet1!$CD$3:$CD$893,$F$1)","v":0},{"$f":"COUNTIFS(Sheet1!$M$3:$M$893,A44, Sheet1!$CD$3:$CD$893,$G$1)","v":4},{"$f":"COUNTIFS(Sheet1!$M$3:$M$893,A44, Sheet1!$CD$3:$CD$893,$H$1)","v":0}]
["Turkey",{"$f":"COUNTIF(Sheet1!$M$3:$M$893,A45)","v":58},{"$f":"COUNTIFS(Sheet1!$M$3:$M$893,A45, Sheet1!$CD$3:$CD$893,$C$1)","v":17},{"$f":"COUNTIFS(Sheet1!$M$3:$M$893,A45, Sheet1!$CD$3:$CD$893,$D$1)","v":4},{"$f":"COUNTIFS(Sheet1!$M$3:$M$893,A45, Sheet1!$CD$3:$CD$893,$E$1)","v":1},{"$f":"COUNTIFS(Sheet1!$M$3:$M$893,A45, Sheet1!$CD$3:$CD$893,$F$1)","v":1},{"$f":"COUNTIFS(Sheet1!$M$3:$M$893,A45, Sheet1!$CD$3:$CD$893,$G$1)","v":9},{"$f":"COUNTIFS(Sheet1!$M$3:$M$893,A45, Sheet1!$CD$3:$CD$893,$H$1)","v":2}]
["Ukraine",{"$f":"COUNTIF(Sheet1!$M$3:$M$893,A46)","v":7},{"$f":"COUNTIFS(Sheet1!$M$3:$M$893,A46, Sheet1!$CD$3:$CD$893,$C$1)","v":0},{"$f":"COUNTIFS(Sheet1!$M$3:$M$893,A46, Sheet1!$CD$3:$CD$893,$D$1)","v":0},{"$f":"COUNTIFS(Sheet1!$M$3:$M$893,A46, Sheet1!$CD$3:$CD$893,$E$1)","v":3},{"$f":"COUNTIFS(Sheet1!$M$3:$M$893,A46, Sheet1!$CD$3:$CD$893,$F$1)","v":0},{"$f":"COUNTIFS(Sheet1!$M$3:$M$893,A46, Sheet1!$CD$3:$CD$893,$G$1)","v":2},{"$f":"COUNTIFS(Sheet1!$M$3:$M$893,A46, Sheet1!$CD$3:$CD$893,$H$1)","v":0}]
["United Kingdom of Great Britain and Northern Ireland",{"$f":"COUNTIF(Sheet1!$M$3:$M$893,A47)","v":32},{"$f":"COUNTIFS(Sheet1!$M$3:$M$893,A47, Sheet1!$CD$3:$CD$893,$C$1)","v":0},{"$f":"COUNTIFS(Sheet1!$M$3:$M$893,A47, Sheet1!$CD$3:$CD$893,$D$1)","v":2},{"$f":"COUNTIFS(Sheet1!$M$3:$M$893,A47, Sheet1!$CD$3:$CD$893,$E$1)","v":13},{"$f":"COUNTIFS(Sheet1!$M$3:$M$893,A47, Sheet1!$CD$3:$CD$893,$F$1)","v":8},{"$f":"COUNTIFS(Sheet1!$M$3:$M$893,A47, Sheet1!$CD$3:$CD$893,$G$1)","v":0},{"$f":"COUNTIFS(Sheet1!$M$3:$M$893,A47, Sheet1!$CD$3:$CD$893,$H$1)","v":1}]
["Azerbaijan",{"$f":"COUNTIF(Sheet1!$M$3:$M$893,A48)","v":1},{"$f":"COUNTIFS(Sheet1!$M$3:$M$893,A48, Sheet1!$CD$3:$CD$893,$C$1)","v":0},{"$f":"COUNTIFS(Sheet1!$M$3:$M$893,A48, Sheet1!$CD$3:$CD$893,$D$1)","v":0},{"$f":"COUNTIFS(Sheet1!$M$3:$M$893,A48, Sheet1!$CD$3:$CD$893,$E$1)","v":0},{"$f":"COUNTIFS(Sheet1!$M$3:$M$893,A48, Sheet1!$CD$3:$CD$893,$F$1)","v":0},{"$f":"COUNTIFS(Sheet1!$M$3:$M$893,A48, Sheet1!$CD$3:$CD$893,$G$1)","v":0},{"$f":"COUNTIFS(Sheet1!$M$3:$M$893,A48, Sheet1!$CD$3:$CD$893,$H$1)","v":0}]
["Sum",{"$f":"SUM(B2:B48)","v":719},145,147,51,16,105,40]