Workbook

Sheet Clostridium hiranonis
A1: Gene ID | B1: product | C1: Product ID | D1: Treatment..PValue | E1: Treatment..QValue | F1: Treatment.Control...logFC | G1: Treatment.Control...logCPM | H1: Treatment.Control...PValue | I1: Treatment.Control...QValue
A2: NZ_DS995356.1_gene801 | B2: HTH-xenobiotic response | C2: =VLOOKUP(Table1[[#This Row],[Gene ID]],'ridlon-genomes'!A$2:E$19843,4) -> WP_006440419.1 | D2: 0.0005584887 | E2: 0.016265983 | F2: 4.4391044 | G2: 8.2522165 | H2: 0.00083427982 | I2: 0.0242984
A3: NZ_DS995356.1_gene804 | B3: ATPase | C3: =VLOOKUP(Table1[[#This Row],[Gene ID]],'ridlon-genomes'!A$2:E$19843,4) -> WP_006440422.1 | D3: 8.2271978e-06 | E3: 0.00073898637 | F3: 4.1189607 | G3: 10.040823 | H3: 1.1643121e-05 | I3: 0.00090428238
A4: NZ_DS995356.1_gene803 | B4: ATPase | C4: =VLOOKUP(Table1[[#This Row],[Gene ID]],'ridlon-genomes'!A$2:E$19843,4) -> WP_040410467.1 | D4: 3.690544e-05 | E4: 0.0021497419 | F4: 4.0526538 | G4: 9.755107 | H4: 5.1843679e-05 | I4: 0.0026843505
A5: NZ_DS995356.1_gene802 | B5: hypothetical protein (Chaperone) | C5: =VLOOKUP(Table1[[#This Row],[Gene ID]],'ridlon-genomes'!A$2:E$19843,4) -> WP_006440420.1 | D5: 0.00099062134 | E5: 0.023994406 | F5: 3.53331 | G5: 6.9763649 | H5: 0.0013169466 | I5: 0.029223673
A6: NZ_DS995356.1_gene805 | B6: MBL fold hydrolase | C6: =VLOOKUP(Table1[[#This Row],[Gene ID]],'ridlon-genomes'!A$2:E$19843,4) -> WP_006440423.1 | D6: 0.0029796845 | E6: 0.023994406 | F6: 2.9148111 | G6: 10.133361 | H6: 0.0037033135 | I6: 0.054609226
A7: NZ_DS995356.1_gene497 | B7: ribosome biogenesis GTPase YlqF | C7: =VLOOKUP(Table1[[#This Row],[Gene ID]],'ridlon-genomes'!A$2:E$19843,4) -> WP_006440098.1 | D7: 1.9116421e-05 | E7: 0.0012726074 | F7: 2.8050738 | G7: 7.2371047 | H7: 2.3262732e-05 | I7: 0.0015486333
A8: NZ_DS995356.1_gene614 | B8: Putative adhesin | C8: =VLOOKUP(Table1[[#This Row],[Gene ID]],'ridlon-genomes'!A$2:E$19843,4) -> WP_006440224.1 | D8: 0.0021419414 | E8: 0.023994406 | F8: 2.6881483 | G8: 7.2865187 | H8: 0.0025730222 | I8: 0.046116474
A9: NZ_DS995356.1_gene174 | B9: flavocytochrome c, NADB_Rossman | C9: =VLOOKUP(Table1[[#This Row],[Gene ID]],'ridlon-genomes'!A$2:E$19843,4) -> WP_006439754.1 | D9: 0.0010494706 | E9: 0.023994406 | F9: 2.6074776 | G9: 8.4407581 | H9: 0.0012520042 | I9: 0.029171698
A10: NZ_DS995356.1_gene710 | B10: hypothetical protein | C10: =VLOOKUP(Table1[[#This Row],[Gene ID]],'ridlon-genomes'!A$2:E$19843,4) -> WP_006440323.1 | D10: 0.0046091649 | E10: 0.023994406 | F10: 2.42475 | G10: 7.6928519 | H10: 0.0054284745 | I10: 0.070268586
A11: NZ_DS995356.1_gene806 | B11: dinitrogenase iron-molybdenum cofactor | C11: =VLOOKUP(Table1[[#This Row],[Gene ID]],'ridlon-genomes'!A$2:E$19843,4) -> WP_040410468.1 | D11: 0.021133506 | E11: 0.023994406 | F11: 2.3693095 | G11: 8.0056579 | H11: 0.024819364 | I11: 0.20290918
A12: NZ_DS995356.1_gene697 | B12: diaminopimelate decarboxylase | C12: =VLOOKUP(Table1[[#This Row],[Gene ID]],'ridlon-genomes'!A$2:E$19843,4) -> WP_006440310.1 | D12: 0.00090952818 | E12: 0.023546674 | F12: 2.3063065 | G12: 9.2277392 | H12: 0.0010536325 | I12: 0.027277375
A13: NZ_DS995356.1_gene696 | B13: aspartate kinase | C13: =VLOOKUP(Table1[[#This Row],[Gene ID]],'ridlon-genomes'!A$2:E$19843,4) -> WP_006440309.1 | D13: 0.001081293 | E13: 0.023994406 | F13: 2.1876545 | G13: 9.0052956 | H13: 0.0012337596 | I13: 0.029171698
... A467: NZ_DS995356.1_gene270 | B467: cell wall-binding repeat 2 family protein | C467: =VLOOKUP(Table1[[#This Row],[Gene ID]],'ridlon-genomes'!A$2:E$19843,4) -> WP_040410379.1 | D467: 3.8365423e-06 | E467: 0.00044695718 | F467: -5.5891534 | G467: 8.9348848 | H467: 6.367294e-06 | I467: 0.00074178975

Sheet Clostridium hylemonae
A1: Gene ID | B1: product | C1: Product ID | D1: Treatment..PValue | E1: Treatment..QValue | F1: Treatment.Control...logFC | G1: Treatment.Control...logCPM | H1: Treatment.Control...PValue | I1: Treatment.Control...QValue
A2: NZ_GG657759.1_gene2290 | B2: sugar ABC transporter substrate-binding protein | C2: =VLOOKUP(Table2[[#This Row],[Gene ID]],'ridlon-genomes'!A$2:E$19843,4) -> WP_006443717.1 | D2: 0.0001251137 | E2: 0.026086207 | F2: 3.934188 | G2: 7.3948315 | H2: 0.00017252531 | I2: 0.035971527
A3: NZ_GG657759.1_gene2286 | B3: glycine dehydrogenase (aminomethyl-transferring) | C3: =VLOOKUP(Table2[[#This Row],[Gene ID]],'ridlon-genomes'!A$2:E$19843,4) -> WP_006443713.1 | D3: 2.3781169e-06 | E3: 0.0029750242 | F3: 3.7568352 | G3: 8.5905592 | H3: 3.2207621e-06 | I3: 0.0040291733
A4: NZ_GG657759.1_gene2291 | B4: bifunctional 5%2C10-methylene-tetrahydrofolate dehydrogenase/5%2C10-methylene-tetrahydrofolate cyclohydrolase | C4: =VLOOKUP(Table2[[#This Row],[Gene ID]],'ridlon-genomes'!A$2:E$19843,4) -> WP_006443718.1 | D4: 0.00021390617 | E4: 0.034487986 | F4: 3.7281511 | G4: 7.749844 | H4: 0.00029435346 | I4: 0.036778414
A5: NZ_GG657759.1_gene2288 | B5: dihydrolipoyl dehydrogenase | C5: =VLOOKUP(Table2[[#This Row],[Gene ID]],'ridlon-genomes'!A$2:E$19843,4) -> WP_006443715.1 | D5: 8.1014363e-05 | E5: 0.020269794 | F5: 3.4703199 | G5: 8.8082149 | H5: 0.00010779145 | I5: 0.026969422
A6: NZ_GG657759.1_gene2285 | B6: glycine dehydrogenase (aminomethyl-transferring) | C6: =VLOOKUP(Table2[[#This Row],[Gene ID]],'ridlon-genomes'!A$2:E$19843,4) -> WP_040435150.1 | D6: 0.00041233924 | E6: 0.037022801 | F6: 3.4381111 | G6: 9.090611 | H6: 0.0005400214 | I6: 0.048254769
A7: NZ_GG657759.1_gene1776 | B7: rhamnulokinase | C7: =VLOOKUP(Table2[[#This Row],[Gene ID]],'ridlon-genomes'!A$2:E$19843,4) -> WP_006443154.1 | D7: 0.00063201566 | E7: 0.049415724 | F7: 3.2274509 | G7: 6.9280624 | H7: 0.00082325869 | I7: 0.064368539
A8: NZ_GG657759.1_gene2283 | B8: glycine cleavage system protein T | C8: =VLOOKUP(Table2[[#This Row],[Gene ID]],'ridlon-genomes'!A$2:E$19843,4) -> WP_006443710.1 | D8: 0.0015689853 | E8: 0.093466698 | F8: 3.0676203 | G8: 8.9184156 | H8: 0.0019834545 | I8: 0.1151072
A9: NZ_GG657759.1_gene2287 | B9: Lipoate-protein ligase A | C9: =VLOOKUP(Table2[[#This Row],[Gene ID]],'ridlon-genomes'!A$2:E$19843,4) -> WP_006443714.1 | D9: 0.0030635946 | E9: 0.12788571 | F9: 2.601746 | G9: 8.4765517 | H9: 0.0036659261 | I9: 0.14793786
A10: NZ_GG657759.1_gene797 | B10: formate acetyltransferase | C10: =VLOOKUP(Table2[[#This Row],[Gene ID]],'ridlon-genomes'!A$2:E$19843,4) -> WP_006442084.1 | D10: 0.0024946627 | E10: 0.12100274 | F10: 2.4392066 | G10: 7.3672273 | H10: 0.0029345581 | I10: 0.13596786
A11: NZ_GG657759.1_gene506 | B11: Septation ring formation regulator, EzrA | C11: =VLOOKUP(Table2[[#This Row],[Gene ID]],'ridlon-genomes'!A$2:E$19843,4) -> WP_006441774.1 | D11: 0.0011797344 | E11: 0.073792385 | F11: 2.4128309 | G11: 8.2914346 | H11: 0.0013857549 | I11: 0.08667897
A12: NZ_GG657759.1_gene874 | B12: sugar ABC transporter permease | C12: =VLOOKUP(Table2[[#This Row],[Gene ID]],'ridlon-genomes'!A$2:E$19843,4) -> WP_006442166.1 | D12: 0.00098966485 | E12: 0.068781707 | F12: 2.3111813 | G12: 8.4410045 | H12: 0.0011556209 | I12: 0.08031565
A13: NZ_GG657759.1_gene800 | B13: spore coat associated protein CotJA | C13: =VLOOKUP(Table2[[#This Row],[Gene ID]],'ridlon-genomes'!A$2:E$19843,4) -> WP_006442087.1 | D13: 0.00024848858 | E13: 0.034487986 | F13: 2.2876156 | G13: 8.2355707 | H13: 0.00028907457 | I13: 0.036778414
... A1252: NZ_GG657759.1_gene400 | B1252: DNA-binding response regulator | C1252: =VLOOKUP(Table2[[#This Row],[Gene ID]],'ridlon-genomes'!A$2:E$19843,4) -> WP_006441660.1 | D1252: 5.8984818e-05 | E1252: 0.018447502 | F1252: -2.4848455 | G1252: 10.228574 | H1252: 6.9312383e-05 | I1252: 0.021677448

Sheet Bacteroides uniformis
A1: Gene ID | B1: product | C1: Product ID | D1: Treatment..PValue | E1: Treatment..QValue | F1: Treatment.Control...logFC | G1: Treatment.Control...logCPM | H1: Treatment.Control...PValue | I1: Treatment.Control...QValue
A2: NZ_CZBF01000001.1_gene729 | B2: hypothetical protein | C2: =VLOOKUP(Table3[[#This Row],[Gene ID]],'ridlon-genomes'!A$2:E$19843,4) -> WP_035448319.1 | D2: 0.0094852658 | E2: 0.50085887 | F2: 3.4949199 | G2: 5.7099613 | H2: 0.013384756 | I2: 0.58005116
A3: NZ_CZBF01000001.1_gene211 | B3: hypothetical protein | C3: =VLOOKUP(Table3[[#This Row],[Gene ID]],'ridlon-genomes'!A$2:E$19843,4) -> WP_057281055.1 | D3: 0.0039391692 | E3: 0.33482938 | F3: 3.464626 | G3: 8.0414014 | H3: 0.0053126403 | I3: 0.47976305
A4: NZ_CZBF01000001.1_gene894 | B4: sensor histidine kinase | C4: =VLOOKUP(Table3[[#This Row],[Gene ID]],'ridlon-genomes'!A$2:E$19843,4) -> WP_008663111.1 | D4: 0.009799153 | E4: 0.50085887 | F4: 3.2392372 | G4: 6.7459138 | H4: 0.013165256 | I4: 0.58005116
A5: NZ_CZBF01000001.1_gene714 | B5: chromate transporter | C5: =VLOOKUP(Table3[[#This Row],[Gene ID]],'ridlon-genomes'!A$2:E$19843,4) -> WP_005825387.1 | D5: 0.011167395 | E5: 0.50085887 | F5: 3.0556029 | G5: 7.1014876 | H5: 0.014785618 | I5: 0.58005116
A6: NZ_CZBF01000001.1_gene39 | B6: DNA primase | C6: =VLOOKUP(Table3[[#This Row],[Gene ID]],'ridlon-genomes'!A$2:E$19843,4) -> WP_057280988.1 | D6: 0.036273171 | E6: 0.70806798 | F6: 2.7070054 | G6: 6.9519733 | H6: 0.045299358 | I6: 0.77931482
A7: NZ_CZBF01000001.1_gene666 | B7: virulence protein E | C7: =VLOOKUP(Table3[[#This Row],[Gene ID]],'ridlon-genomes'!A$2:E$19843,4) -> WP_057281301.1 | D7: 0.047684848 | E7: 0.70806798 | F7: 2.7003599 | G7: 7.4609941 | H7: 0.058595908 | I7: 0.77931482
A8: NZ_CZBF01000001.1_gene650 | B8: precorrin-2 C(20)-methyltransferase | C8: =VLOOKUP(Table3[[#This Row],[Gene ID]],'ridlon-genomes'!A$2:E$19843,4) -> WP_035448394.1 | D8: 0.081584044 | E8: 0.71460656 | F8: 2.6308545 | G8: 6.5758152 | H8: 0.10011685 | I8: 0.79780614
A9: NZ_CZBF01000001.1_gene766 | B9: hypothetical protein | C9: =VLOOKUP(Table3[[#This Row],[Gene ID]],'ridlon-genomes'!A$2:E$19843,4) -> WP_005828308.1 | D9: 0.021461163 | E9: 0.57760457 | F9: 2.5652541 | G9: 8.2257259 | H9: 0.026043128 | I9: 0.69905239
A10: NZ_CZBF01000001.1_gene67 | B10: hypothetical protein | C10: =VLOOKUP(Table3[[#This Row],[Gene ID]],'ridlon-genomes'!A$2:E$19843,4) -> WP_022401216.1 | D10: 0.074644738 | E10: 0.71460656 | F10: 2.488754 | G10: 7.6072315 | H10: 0.089985611 | I10: 0.78001745
A11: NZ_CZBF01000001.1_gene861 | B11: NAD(P)H nitroreductase | C11: =VLOOKUP(Table3[[#This Row],[Gene ID]],'ridlon-genomes'!A$2:E$19843,4) -> WP_057281264.1 | D11: 0.0207091 | E11: 0.57760457 | F11: 2.4858463 | G11: 8.7950994 | H11: 0.024576392 | I11: 0.69633109
A12: NZ_CZBF01000001.1_gene624 | B12: acetyl-CoA carboxylase biotin carboxyl carrier protein subunit | C12: =VLOOKUP(Table3[[#This Row],[Gene ID]],'ridlon-genomes'!A$2:E$19843,4) -> WP_005836686.1 | D12: 0.003800913 | E12: 0.33482938 | F12: 2.4681628 | G12: 9.4770936 | H12: 0.0045129876 | I12: 0.47976305
A13: NZ_CZBF01000001.1_gene613 | B13: ABC transporter permease | C13: =VLOOKUP(Table3[[#This Row],[Gene ID]],'ridlon-genomes'!A$2:E$19843,4) -> WP_057281157.1 | D13: 0.053279933 | E13: 0.70806798 | F13: 2.3707715 | G13: 7.3210757 | H13: 0.064481381 | I13: 0.77931482
... A511: NZ_CZBF01000001.1_gene301 | B511: hypothetical protein | C511: =VLOOKUP(Table3[[#This Row],[Gene ID]],'ridlon-genomes'!A$2:E$19843,4) -> WP_005837144.1 | D511: 0.0038899429 | E511: 0.33482938 | F511: -4.340452 | G511: 7.4462913 | H511: 0.0056442712 | I511: 0.47976305

Sheet Bacteroides vulgata
A1: Gene ID | B1: product | C1: Product ID | D1: Treatment..PValue | E1: Treatment..QValue | F1: Treatment.Control...logFC | G1: Treatment.Control...logCPM | H1: Treatment.Control...PValue | I1: Treatment.Control...QValue
A2: NC_009614.1_gene4216 | B2: efflux RND transporter periplasmic adaptor subunit | C2: =VLOOKUP(Table4[[#This Row],[Gene ID]],'ridlon-genomes'!A$2:E$19843,4) -> WP_005847068.1 | D2: 5.3510424e-08 | E2: 9.1168385e-06 | F2: 3.7182889 | G2: 8.972822 | H2: 7.2308891e-08 | I2: 1.2319627e-05
A3: NC_009614.1_gene4215 | B3: AcrB/AcrD/AcrF family protein | C3: =VLOOKUP(Table4[[#This Row],[Gene ID]],'ridlon-genomes'!A$2:E$19843,4) -> WP_005847070.1 | D3: 4.4527916e-07 | E3: 5.5174136e-05 | F3: 3.0024078 | G3: 9.836374 | H3: 5.5437707e-07 | I3: 6.8692359e-05
A4: NC_009614.1_gene2456 | B4: histidinol dehydrogenase | C4: =VLOOKUP(Table4[[#This Row],[Gene ID]],'ridlon-genomes'!A$2:E$19843,4) -> WP_005846275.1 | D4: 2.7061121e-11 | E4: 1.2861526e-08 | F4: 2.7237131 | G4: 8.0385224 | H4: 3.1927826e-11 | I4: 1.4505876e-08
A5: NC_009614.1_gene4214 | B5: TolC family protein | C5: =VLOOKUP(Table4[[#This Row],[Gene ID]],'ridlon-genomes'!A$2:E$19843,4) -> WP_012056004.1 | D5: 1.3382577e-07 | E5: 2.0267169e-05 | F5: 2.7096218 | G5: 8.9773895 | H5: 1.6015385e-07 | I5: 2.2605105e-05
A6: NC_009614.1_gene4225 | B6: tryptophan synthase subunit beta | C6: =VLOOKUP(Table4[[#This Row],[Gene ID]],'ridlon-genomes'!A$2:E$19843,4) -> WP_005839791.1 | D6: 9.8175212e-07 | E6: 9.5580581e-05 | F6: 2.3269804 | G6: 7.4210282 | H6: 1.1197979e-06 | I6: 0.00010902032
A7: NC_009614.1_gene2100 | B7: 3-isopropylmalate dehydratase small subunit | C7: =VLOOKUP(Table4[[#This Row],[Gene ID]],'ridlon-genomes'!A$2:E$19843,4) -> WP_005848913.1 | D7: 1.7687729e-08 | E7: 4.0180624e-06 | F7: 2.2542269 | G7: 7.6870277 | H7: 2.0060354e-08 | I7: 4.5570438e-06
A8: NC_009614.1_gene2457 | B8: histidinol-phosphate aminotransferase | C8: =VLOOKUP(Table4[[#This Row],[Gene ID]],'ridlon-genomes'!A$2:E$19843,4) -> WP_005846277.1 | D8: 2.8308568e-11 | E8: 1.2861526e-08 | F8: 2.1914668 | G8: 8.8992479 | H8: 3.1771854e-11 | I8: 1.4505876e-08
A9: NC_009614.1_gene2455 | B9: ATP phosphoribosyltransferase | C9: =VLOOKUP(Table4[[#This Row],[Gene ID]],'ridlon-genomes'!A$2:E$19843,4) -> WP_005846273.1 | D9: 1.4995917e-06 | E9: 0.0001362629 | F9: 2.0909246 | G9: 8.0156732 | H9: 1.6889208e-06 | I9: 0.0001534666
A10: NC_009614.1_gene2660 | B10: acyl-ACP thioesterase | C10: =VLOOKUP(Table4[[#This Row],[Gene ID]],'ridlon-genomes'!A$2:E$19843,4) -> WP_005847239.1 | D10: 7.2381473e-09 | E10: 1.9731189e-06 | F10: 2.0475908 | G10: 7.9324498 | H10: 8.0634682e-09 | I10: 2.1981014e-06
A11: NC_009614.1_gene2658 | B11: acetolactate synthase%2C large subunit%2C biosynthetic type | C11: =VLOOKUP(Table4[[#This Row],[Gene ID]],'ridlon-genomes'!A$2:E$19843,4) -> WP_011965645.1 | D11: 1.5146768e-07 | E11: 2.0645044e-05 | F11: 1.8804579 | G11: 8.5337175 | H11: 1.6584816e-07 | I11: 2.2605105e-05
A12: NC_009614.1_gene2458 | B12: bifunctional imidazole glycerol-phosphate dehydratase/histidinol phosphatase | C12: =VLOOKUP(Table4[[#This Row],[Gene ID]],'ridlon-genomes'!A$2:E$19843,4) -> WP_011965571.1 | D12: 7.3824504e-05 | E12: 0.0043749043 | F12: 1.8781446 | G12: 8.3381026 | H12: 8.1533597e-05 | I12: 0.0048317518
A13: NC_009614.1_gene2657 | B13: dihydroxy-acid dehydratase | C13: =VLOOKUP(Table4[[#This Row],[Gene ID]],'ridlon-genomes'!A$2:E$19843,4) -> WP_005847233.1 | D13: 9.8174717e-06 | E13: 0.00070427442 | F13: 1.7641887 | G13: 9.4262003 | H13: 1.07383e-05 | I13: 0.00077033172
... A1364: NC_009614.1_gene611 | B1364: SusC/RagA family TonB-linked outer membrane protein | C1364: =VLOOKUP(Table4[[#This Row],[Gene ID]],'ridlon-genomes'!A$2:E$19843,4) -> WP_011964816.1 | D1364: 5.9515889e-12 | E1364: 8.1120157e-09 | F1364: -3.0285865 | G1364: 9.1491869 | H1364: 7.3270097e-12 | I1364: 9.9867143e-09

Sheet Bilophila wadsworthia
A1: Gene ID | B1: product | C1: Product ID | D1: Treatment..PValue | E1: Treatment..QValue | F1: Treatment.Control...logFC | G1: Treatment.Control...logCPM | H1: Treatment.Control...PValue | I1: Treatment.Control...QValue
A2: NZ_JNJP01000001.1_gene193 | B2: Nitrate reductase gamma subunit | C2: =VLOOKUP(Table5[[#This Row],[Gene ID]],'ridlon-genomes'!A$2:E$19843,4) -> WP_005026235.1 | D2: 3.6509766e-06 | E2: 0.0024498053 | F2: 8.0425129 | G2: 8.4476433 | H2: 7.0707225e-06 | I2: 0.0046515127
A3: NZ_JNJP01000038.1_gene2582 | B3: =VLOOKUP(Table5[[#This Row],[Gene ID]],'ridlon-genomes'!A$2:E$19843,3) -> malate dehydrogenase | C3: =VLOOKUP(Table5[[#This Row],[Gene ID]],'ridlon-genomes'!A$2:E$19843,4) -> WP_029435978.1 | D3: 6.1608503e-06 | E3: 0.0027559537 | F3: 5.4264388 | G3: 9.9863716 | H3: 1.0398315e-05 | I3: 0.0046515127
A4: NZ_JNJP01000038.1_gene2581 | B4: =VLOOKUP(Table5[[#This Row],[Gene ID]],'ridlon-genomes'!A$2:E$19843,3) -> citrate transporter | C4: =VLOOKUP(Table5[[#This Row],[Gene ID]],'ridlon-genomes'!A$2:E$19843,4) -> WP_005028057.1 | D4: 0.00052564416 | E4: 0.070541447 | F4: 5.1112794 | G4: 8.9529607 | H4: 0.00082907418 | I4: 0.11126176
A5: NZ_JNJP01000001.1_gene194 | B5: =VLOOKUP(Table5[[#This Row],[Gene ID]],'ridlon-genomes'!A$2:E$19843,3) -> ferredoxin | C5: =VLOOKUP(Table5[[#This Row],[Gene ID]],'ridlon-genomes'!A$2:E$19843,4) -> WP_005026233.1 | D5: 6.7774591e-05 | E5: 0.015158917 | F5: 5.0409866 | G5: 10.237081 | H5: 0.00010643322 | I5: 0.023805564
A6: NZ_JNJP01000038.1_gene2583 | B6: =VLOOKUP(Table5[[#This Row],[Gene ID]],'ridlon-genomes'!A$2:E$19843,3) -> succinate dehydrogenase/fumarate reductase iron-sulfur subunit | C6: =VLOOKUP(Table5[[#This Row],[Gene ID]],'ridlon-genomes'!A$2:E$19843,4) -> WP_005028059.1 | D6: 0.00018952436 | E6: 0.031942042 | F6: 4.0654533 | G6: 8.9594563 | H6: 0.00027389939 | I6: 0.045946623
A7: NZ_JNJP01000001.1_gene192 | B7: translocation protein TolB | C7: =VLOOKUP(Table5[[#This Row],[Gene ID]],'ridlon-genomes'!A$2:E$19843,4) -> WP_029434436.1 | D7: 0.0031347851 | E7: 0.19346414 | F7: 3.6431284 | G7: 9.2919111 | H7: 0.0042512418 | I7: 0.24805072
A8: NZ_JNJP01000049.1_gene2916 | B8: =VLOOKUP(Table5[[#This Row],[Gene ID]],'ridlon-genomes'!A$2:E$19843,3) -> hydrogenase 2 large subunit | C8: =VLOOKUP(Table5[[#This Row],[Gene ID]],'ridlon-genomes'!A$2:E$19843,4) -> WP_029436186.1 | D8: 0.00027540998 | E8: 0.041066688 | F8: 3.5602812 | G8: 9.5706079 | H8: 0.00036644507 | I8: 0.054641031
A9: NZ_JNJP01000042.1_gene2702 | B9: =VLOOKUP(Table5[[#This Row],[Gene ID]],'ridlon-genomes'!A$2:E$19843,3) -> amino acid permease | C9: =VLOOKUP(Table5[[#This Row],[Gene ID]],'ridlon-genomes'!A$2:E$19843,4) -> WP_005025738.1 | D9: 0.0018393551 | E9: 0.14025591 | F9: 3.5363706 | G9: 9.0343381 | H9: 0.002446314 | I9: 0.19626891
A10: NZ_JNJP01000005.1_gene765 | B10: =VLOOKUP(Table5[[#This Row],[Gene ID]],'ridlon-genomes'!A$2:E$19843,3) -> L-glutamate gamma-semialdehyde dehydrogenase | C10: =VLOOKUP(Table5[[#This Row],[Gene ID]],'ridlon-genomes'!A$2:E$19843,4) -> WP_029434820.1 | D10: 0.0018812269 | E10: 0.14025591 | F10: 3.4957107 | G10: 8.1037912 | H10: 0.0024862679 | I10: 0.19626891
A11: NZ_JNJP01000004.1_gene605 | B11: =VLOOKUP(Table5[[#This Row],[Gene ID]],'ridlon-genomes'!A$2:E$19843,3) -> branched-chain amino acid ABC transporter substrate-binding protein | C11: =VLOOKUP(Table5[[#This Row],[Gene ID]],'ridlon-genomes'!A$2:E$19843,4) -> WP_029434715.1 | D11: 0.020274951 | E11: 0.39383667 | F11: 3.4122485 | G11: 7.991945 | H11: 0.026854561 | I11: 0.46976981
A12: NZ_JNJP01000001.1_gene197 | B12: =VLOOKUP(Table5[[#This Row],[Gene ID]],'ridlon-genomes'!A$2:E$19843,3) -> universal stress protein | C12: =VLOOKUP(Table5[[#This Row],[Gene ID]],'ridlon-genomes'!A$2:E$19843,4) -> WP_005026228.1 | D12: 0.039164107 | E12: 0.50055459 | F12: 3.3630076 | G12: 7.242391 | H12: 0.052218843 | I12: 0.59950224
A13: NZ_JNJP01000033.1_gene2406 | B13: =VLOOKUP(Table5[[#This Row],[Gene ID]],'ridlon-genomes'!A$2:E$19843,3) -> hypothetical protein | C13: =VLOOKUP(Table5[[#This Row],[Gene ID]],'ridlon-genomes'!A$2:E$19843,4) -> WP_029435882.1 | D13: 0.0079369824 | E13: 0.27953424 | F13: 3.2940893 | G13: 7.8451036 | H13: 0.010338161 | I13: 0.31947944
A14: NZ_JNJP01000020.1_gene1791 | B14: =VLOOKUP(Table5[[#This Row],[Gene ID]],'ridlon-genomes'!A$2:E$19843,3) -> alcohol dehydrogenase | C14: =VLOOKUP(Table5[[#This Row],[Gene ID]],'ridlon-genomes'!A$2:E$19843,4) -> WP_005027860.1 | D14: 0.00019041455 | E14: 0.031942042 | F14: 3.2925509 | G14: 11.380372 | H14: 0.00024601858 | I14: 0.045946623
A15: NZ_JNJP01000036.1_gene2509 | B15: =VLOOKUP(Table5[[#This Row],[Gene ID]],'ridlon-genomes'!A$2:E$19843,3) -> lactate permease | C15: =VLOOKUP(Table5[[#This Row],[Gene ID]],'ridlon-genomes'!A$2:E$19843,4) -> WP_009368506.1 | D15: 0.01539801 | E15: 0.34440215 | F15: 3.2837118 | G15: 6.9043034 | H15: 0.020621014 | I15: 0.44634517
A16: NZ_JNJP01000038.1_gene2585 | B16: =VLOOKUP(Table5[[#This Row],[Gene ID]],'ridlon-genomes'!A$2:E$19843,3) -> succinate dehydrogenase/fumarate reductase cytochrome b subunit | C16: =VLOOKUP(Table5[[#This Row],[Gene ID]],'ridlon-genomes'!A$2:E$19843,4) -> WP_005028061.1 | D16: 0.00084984929 | E16: 0.10368161 | F16: 3.1994208 | G16: 9.0484199 | H16: 0.0010859935 | I16: 0.13249121
A17: NZ_JNJP01000016.1_gene1650 | B17: =VLOOKUP(Table5[[#This Row],[Gene ID]],'ridlon-genomes'!A$2:E$19843,3) -> C4-dicarboxylate ABC transporter substrate-binding protein | C17: =VLOOKUP(Table5[[#This Row],[Gene ID]],'ridlon-genomes'!A$2:E$19843,4) -> WP_029435469.1 | D17: 0.0042245715 | E17: 0.23622395 | F17: 3.0468598 | G17: 8.2856725 | H17: 0.0053970991 | I17: 0.28971628
A18: NZ_JNJP01000105.1_gene3803 | B18: =VLOOKUP(Table5[[#This Row],[Gene ID]],'ridlon-genomes'!A$2:E$19843,3) -> hypothetical protein | C18: =VLOOKUP(Table5[[#This Row],[Gene ID]],'ridlon-genomes'!A$2:E$19843,4) -> WP_005025341.1 | D18: 0.015270268 | E18: 0.34440215 | F18: 3.0025721 | G18: 6.4937344 | H18: 0.019569273 | I18: 0.43769941
A19: NZ_JNJP01000004.1_gene609 | B19: =VLOOKUP(Table5[[#This Row],[Gene ID]],'ridlon-genomes'!A$2:E$19843,3) -> ABC transporter ATP-binding protein | C19: =VLOOKUP(Table5[[#This Row],[Gene ID]],'ridlon-genomes'!A$2:E$19843,4) -> WP_029434717.1 | D19: 0.0064314473 | E19: 0.26971882 | F19: 2.9207136 | G19: 7.90584 | H19: 0.0080057689 | I19: 0.30919996
... A1339: NZ_JNJP01000001.1_gene244 | B1339: =VLOOKUP(Table5[[#This Row],[Gene ID]],'ridlon-genomes'!A$2:E$19843,3) -> nitroreductase | C1339: =VLOOKUP(Table5[[#This Row],[Gene ID]],'ridlon-genomes'!A$2:E$19843,4) -> WP_005026139.1 | D1339: 0.016539249 | E1339: 0.35799471 | F1339: -3.4489715 | G1339: 3.9489116 | H1339: 0.023570674 | I1339: 0.45440713
A1340: NZ_JNJP01000011.1_gene1261 | B1340: dihydropyrimidine dehydrogenase subunit A | C1340: =VLOOKUP(Table5[[#This Row],[Gene ID]],'ridlon-genomes'!A$2:E$19843,4) -> WP_029435184.1 | D1340: 0.0015597319 | E1340: 0.13954401 | F1340: -3.5994063 | G1340: 6.5373312 | H1340: 0.0020811629 | I1340: 0.18619471
A1341: NZ_JNJP01000042.1_gene2689 | B1341: =VLOOKUP(Table5[[#This Row],[Gene ID]],'ridlon-genomes'!A$2:E$19843,3) -> hypothetical protein | C1341: =VLOOKUP(Table5[[#This Row],[Gene ID]],'ridlon-genomes'!A$2:E$19843,4) -> WP_005025715.1 | D1341: 0.0028330213 | E1341: 0.19009573 | F1341: -3.7413861 | G1341: 7.1285503 | H1341: 0.0038905234 | I1341: 0.23732193
A1342: NZ_JNJP01000017.1_gene1711 | B1342: =VLOOKUP(Table5[[#This Row],[Gene ID]],'ridlon-genomes'!A$2:E$19843,3) -> hypothetical protein | C1342: =VLOOKUP(Table5[[#This Row],[Gene ID]],'ridlon-genomes'!A$2:E$19843,4) -> WP_005028744.1 | D1342: 0.0018548757 | E1342: 0.14025591 | F1342: -3.916982 | G1342: 7.289821 | H1342: 0.0027228724 | I1342: 0.20300527
A1343: NZ_JNJP01000029.1_gene2221 | B1343: =VLOOKUP(Table5[[#This Row],[Gene ID]],'ridlon-genomes'!A$2:E$19843,3) -> competence protein ComEA | C1343: =VLOOKUP(Table5[[#This Row],[Gene ID]],'ridlon-genomes'!A$2:E$19843,4) -> WP_005024688.1 | D1343: 8.1031251e-07 | E1343: 0.0010874394 | F1343: -7.1939161 | G1343: 6.6013329 | H1343: 2.1715622e-06 | I1343: 0.0029142364

Sheet Parabacteroides distasonis
A1: Gene ID | B1: product | C1: Product ID | D1: Treatment..PValue | E1: Treatment..QValue | F1: Treatment.Control...logFC | G1: Treatment.Control...logCPM | H1: Treatment.Control...PValue | I1: Treatment.Control...QValue
A2: NC_009615.1_gene602 | B2: tryptophan synthase subunit alpha | C2: =VLOOKUP(Table6[[#This Row],[Gene ID]],'ridlon-genomes'!A$2:E$19843,4) -> WP_011966081.1 | D2: 9.0855419e-05 | E2: 0.010115237 | F2: 3.7796007 | G2: 7.4596651 | H2: 0.00012661756 | I2: 0.013450354
A3: NC_009615.1_gene406 | B3: aldo/keto reductase | C3: =VLOOKUP(Table6[[#This Row],[Gene ID]],'ridlon-genomes'!A$2:E$19843,4) -> WP_005855423.1 | D3: 0.0015330635 | E3: 0.078775876 | F3: 3.4168971 | G3: 7.6671146 | H3: 0.0020506294 | I3: 0.097844316
A4: NC_009615.1_gene2122 | B4: 4-hydroxybenzoyl-CoA thioesterase | C4: =VLOOKUP(Table6[[#This Row],[Gene ID]],'ridlon-genomes'!A$2:E$19843,4) -> WP_011966680.1 | D4: 1.9633061e-05 | E4: 0.0032787212 | F4: 3.4135481 | G4: 8.6277154 | H4: 2.5922507e-05 | I4: 0.0043290586
A5: NC_009615.1_gene914 | B5: hypothetical protein | C5: =VLOOKUP(Table6[[#This Row],[Gene ID]],'ridlon-genomes'!A$2:E$19843,4) -> WP_011966220.1 | D5: 1.0095253e-05 | E5: 0.0026974517 | F5: 3.0443326 | G5: 8.6140355 | H5: 1.2770971e-05 | I5: 0.0031142966
A6: NC_009615.1_gene4018 | B6: 7-cyano-7-deazaguanine synthase QueC | C6: =VLOOKUP(Table6[[#This Row],[Gene ID]],'ridlon-genomes'!A$2:E$19843,4) -> WP_005858432.1 | D6: 0.012652336 | E6: 0.21247171 | F6: 2.6813256 | G6: 5.97814 | H6: 0.015565414 | I6: 0.24298233
A7: NC_009615.1_gene601 | B7: NADH-dependent alcohol dehydrogenase | C7: =VLOOKUP(Table6[[#This Row],[Gene ID]],'ridlon-genomes'!A$2:E$19843,4) -> WP_009275004.1 | D7: 1.2315714e-05 | E7: 0.0027422989 | F7: 2.6718473 | G7: 8.7688968 | H7: 1.4945714e-05 | I7: 0.0031142966
A8: NC_009615.1_gene2124 | B8: acetolactate synthase%2C large subunit%2C biosynthetic type | C8: =VLOOKUP(Table6[[#This Row],[Gene ID]],'ridlon-genomes'!A$2:E$19843,4) -> WP_005854459.1 | D8: 6.0842467e-07 | E8: 0.00081285536 | F8: 2.6524529 | G8: 10.22551 | H8: 7.2260192e-07 | I8: 0.00096539616
A9: NC_009615.1_gene2115 | B9: 2-isopropylmalate synthase | C9: =VLOOKUP(Table6[[#This Row],[Gene ID]],'ridlon-genomes'!A$2:E$19843,4) -> WP_011966677.1 | D9: 2.8678007e-06 | E9: 0.0012771273 | F9: 2.6145697 | G9: 10.198687 | H9: 3.3985067e-06 | I9: 0.0015134683
A10: NC_009615.1_gene1417 | B10: multidrug transporter MatE | C10: =VLOOKUP(Table6[[#This Row],[Gene ID]],'ridlon-genomes'!A$2:E$19843,4) -> WP_011966429.1 | D10: 0.00045634371 | E10: 0.033870845 | F10: 2.5976196 | G10: 8.1137709 | H10: 0.00055054351 | I10: 0.039407464
A11: NC_009615.1_gene607 | B11: anthranilate synthase component I | C11: =VLOOKUP(Table6[[#This Row],[Gene ID]],'ridlon-genomes'!A$2:E$19843,4) -> WP_005857838.1 | D11: 6.0411353e-05 | E11: 0.0080941234 | F11: 2.559904 | G11: 8.9614735 | H11: 7.1262808e-05 | I11: 0.0095207111
A12: NC_009615.1_gene874 | B12: hypothetical protein | C12: =VLOOKUP(Table6[[#This Row],[Gene ID]],'ridlon-genomes'!A$2:E$19843,4) -> WP_011966191.1 | D12: 0.0037873786 | E12: 0.10701084 | F12: 2.4883153 | G12: 7.8312559 | H12: 0.004535932 | I12: 0.12335109
A13: NC_009615.1_gene605 | B13: anthranilate phosphoribosyltransferase | C13: =VLOOKUP(Table6[[#This Row],[Gene ID]],'ridlon-genomes'!A$2:E$19843,4) -> WP_011966083.1 | D13: 0.0037216975 | E13: 0.10701084 | F13: 2.4522517 | G13: 7.677871 | H13: 0.004416698 | I13: 0.12293143
... A1337: NC_009615.1_gene86 | B1337: SusC/RagA family TonB-linked outer membrane protein | C1337: =VLOOKUP(Table6[[#This Row],[Gene ID]],'ridlon-genomes'!A$2:E$19843,4) -> WP_009276810.1 | D1337: 6.8353269e-05 | E1337: 0.0083018152 | F1337: -2.8617285 | G1337: 8.3185842 | H1337: 8.2389669e-05 | I1337: 0.0100066

Sheet ridlon-genomes
A1: # Gene ID | B1: Name | C1: product | D1: protein_id | E1: seqname
A2: NC_009614.1_gene0 | B2: WP_005839492.1 | C2: chromosomal replication initiation protein DnaA | D2: WP_005839492.1 | E2: NC_009614.1
A3: NC_009614.1_gene1 | B3: WP_011964587.1 | C3: NADPH-dependent oxidoreductase | D3: WP_011964587.1 | E3: NC_009614.1
A4: NC_009614.1_gene10 | B4: WP_005841180.1 | C4: hypothetical protein | D4: WP_005841180.1 | E4: NC_009614.1
A5: NC_009614.1_gene100 | B5: WP_005843024.1 | C5: orotidine 5'-phosphate decarboxylase | D5: WP_005843024.1 | E5: NC_009614.1
A6: NC_009614.1_gene1000 | B6: WP_041174409.1 | C6: hypothetical protein | D6: WP_041174409.1 | E6: NC_009614.1
A7: NC_009614.1_gene1001 | B7: WP_041174410.1 | C7: hypothetical protein | D7: WP_041174410.1 | E7: NC_009614.1
A8: NC_009614.1_gene1002 | B8: WP_011964977.1 | C8: hypothetical protein | D8: WP_011964977.1 | E8: NC_009614.1
A9: NC_009614.1_gene1003 | B9: WP_011964978.1 | C9: SusC/RagA family TonB-linked outer membrane protein | D9: WP_011964978.1 | E9: NC_009614.1
A10: NC_009614.1_gene1004 | B10: WP_011964979.1 | C10: RagB/SusD family nutrient uptake outer membrane protein | D10: WP_011964979.1 | E10: NC_009614.1
A11: NC_009614.1_gene1005 | B11: WP_011964980.1 | C11: hypothetical protein | D11: WP_011964980.1 | E11: NC_009614.1
A12: NC_009614.1_gene1006 | B12: WP_011964981.1 | C12: hypothetical protein | D12: WP_011964981.1 | E12: NC_009614.1
... A19843: NZ_KL370819.1_gene4127 | B19843: - | C19843: oxidation resistance protein 1 | D19843: - | E19843: NZ_KL370819.1
