Workbook

Sheet step=1
B1: 0.5
B2: 0.35 | E2: -0.02509613 | H2: 0 | K2: =SQRT(E2*E2+E3*E3+E4*E4) -> 0.46272985 | N2: =SQRT(H2*H2+H3*H3+H4*H4) -> 0.5
B3: 1 | E3: 0.45929009 | H3: 0.5
B4: 0 | E4: 0.050415362 | H4: 0
B6: 0.36867508 | E6: =E2-H2 -> -0.02509613
B7: 0 | E7: =E3-H3 -> -0.040709908
B8: -2.052821 | E8: =E4-H4 -> 0.050415362
B9: 0
E10: =(E2-H2)/$B$1 -> -0.050192259
B11: =SQRT(B7*B7+B8*B8+B9*B9) -> 2.052821 | E11: =(E3-H3)/$B$1 -> -0.081419816
E12: =(E4-H4)/$B$1 -> 0.10083072
A13: i | B13: 1
E14: =SQRT((4*B2*B2*B2)/(3*N2)) -> 0.33813212
E16: =PI()*E14*E14*N2 -> 0.17959438 | H16: =(4/3)*PI()*B2*B2*B2 -> 0.17959438
E18: =($B$6/$E$16)*E10 -> -0.10303571
E19: =($B$6/$E$16)*E11 -> -0.16714029
E20: =($B$6/$E$16)*E12 -> 0.20698741
E22: =B7-$B$1*E18 -> 0.051517857 | H22: =SQRT(E22*E22+E23*E23+E24*E24) -> 1.9726414
E23: =B8-$B$1*E19 -> -1.9692509
E24: =B9-$B$1*E20 -> -0.1034937
E26: =(B11/H22)*E16 -> 0.18689414
E28: =SQRT(E26/(PI()*K2)) -> 0.35855778
E31: =(E28-E14)/B1 -> 0.040851312
E34: =E31+((B3*B4)/E14) -> 0.040851312
E36: =E14+(B1*E34) -> 0.35855778
E38: =PI()*E36*E36*K2 -> 0.18689414
E40: =((3*E38)/(4*PI()))^(1/3) -> 0.35467918
E42: =H22*(E26/E38) -> 1.9726414
E44: =E22*($E$42/$H$22) -> 0.051517857
E45: =E23*($E$42/$H$22) -> -1.9692509
E46: =E24*($E$42/$H$22) -> -0.1034937
E48: =B11*E16 -> 0.36867511 | H48: =E42*E38 -> 0.36867511
E50: =E48-H48 -> 0

Sheet step=2
E2: -0.041571384 | H2: ='step=1'!E2 -> -0.02509613 | K2: =SQRT(E2*E2+E3*E3+E4*E4) -> 0.43625834 | N2: =SQRT(H2*H2+H3*H3+H4*H4) -> 0.46272985
E3: 0.37149888 | H3: ='step=1'!E3 -> 0.45929009
E4: 0.22490386 | H4: ='step=1'!E4 -> 0.050415362
E6: =E2-H2 -> -0.016475255
E7: =E3-H3 -> -0.087791214
E8: =E4-H4 -> 0.17448849
E10: =(E2-H2)/'step=1'!$B$1 -> -0.03295051
E11: =(E3-H3)/'step=1'!$B$1 -> -0.17558243
E12: =(E4-H4)/'step=1'!$B$1 -> 0.34897699
A13: i | B13: 13
E14: =SQRT((4*'step=1'!E40*'step=1'!E40*'step=1'!E40)/(3*N2)) -> 0.35855778
E16: =PI()*E14*E14*N2 -> 0.18689414 | H16: =(4/3)*PI()*'step=1'!E40*'step=1'!E40*'step=1'!E40 -> 0.18689414
E18: =('step=1'!$B$6/$E$16)*E10 -> -0.064999532
E19: =('step=1'!$B$6/$E$16)*E11 -> -0.34636113
E20: =('step=1'!$B$6/$E$16)*E12 -> 0.68840638
E22: ='step=1'!E44-'step=1'!$B$1*E18 -> 0.084017623 | H22: =SQRT(E22*E22+E23*E23+E24*E24) -> 1.8529328
E23: ='step=1'!E45-'step=1'!$B$1*E19 -> -1.7960703
E24: ='step=1'!E46-'step=1'!$B$1*E20 -> -0.4476969
E26: =('step=1'!E42/H22)*'step=1'!E38 -> 0.19896842
E28: =SQRT(E26/(PI()*K2)) -> 0.3810178
E31: =(E28-E14)/'step=1'!B1 -> 0.044920047
E34: =E31+(('step=1'!B3*'step=1'!B4)/E14) -> 0.044920047
E36: =E14+('step=1'!B1*E34) -> 0.3810178
E38: =PI()*E36*E36*K2 -> 0.19896842
E40: =((3*E38)/(4*PI()))^(1/3) -> 0.36215836
E42: =H22*(E26/E38) -> 1.8529328
E44: =E22*($E$42/$H$22) -> 0.084017623
E45: =E23*($E$42/$H$22) -> -1.7960703
E46: =E24*($E$42/$H$22) -> -0.4476969
E48: ='step=1'!E42*'step=1'!E38 -> 0.36867511 | H48: =E42*E38 -> 0.36867511
E50: =E48-H48 -> 0
