Workbook

Sheet TAS and diagrams

Sheet Uncorrected
A1: Sample | B1: Analysis | C1: Locality | D1: Type | E1: SiO2 | F1: TiO2 | G1: Al2O3 | H1: FeO | I1: MnO | J1: MgO | K1: CaO | L1: Na2O | M1: K2O | N1: P2O5 | O1: Total | Q1: SiO2 | R1: Na2O | S1: K2O | T1: SiO2 err | U1: Na2O err | V1: K2O err | W1: Statut
A2: 190405_6 | B2: 190405_6 J2 droite 1 | C2: Dziani | D2: Phonolite | E2: 54.9164 | F2: 0.0085 | G2: 18.2037 | H2: 6.6539 | I2: 0.4022 | J2: 0.0547 | K2: 0.527 | L2: 8.6761 | M2: 5.8644 | N2: 0 | O2: =SUM(E2:N2) -> 95.3069 | Q2: =Q$12 -> 58.514491 | R2: =R$12 -> 8.4536 | S2: =S$12 -> 5.8808273 | T2: 0.98 | U2: 0.31 | V2: 0.2 | W2: =IF(OR(E2>(Q2+T2),E2<(Q2-T2),L2>(R2+U2),L2<(R2-U2),M2>(S2+V2),M2<(S2-V2)),"Wrong","Ok") -> Wrong
A3: 190405_6 | B3: 190405_6 J1 gauche 6 | C3: Dziani | D3: Phonolite | E3: 57.2618 | F3: 0.0682 | G3: 18.5796 | H3: 4.4442 | I3: 0.2765 | J3: 0.0505 | K3: 0.9454 | L3: 8.1448 | M3: 5.6551 | N3: 0 | O3: =SUM(E3:N3) -> 95.4261 | Q3: =Q$12 -> 58.514491 | R3: =R$12 -> 8.4536 | S3: =S$12 -> 5.8808273 | T3: 0.98 | U3: 0.31 | V3: 0.2 | W3: =IF(OR(E3>(Q3+T3),E3<(Q3-T3),L3>(R3+U3),L3<(R3-U3),M3>(S3+V3),M3<(S3-V3)),"Wrong","Ok") -> Wrong
A4: 190405_6 | B4: 190405_6 J2 droite 2 | C4: Dziani | D4: Phonolite | E4: 55.6279 | F4: 0 | G4: 18.4568 | H4: 5.6789 | I4: 0.3467 | J4: 0.0545 | K4: 0.668 | L4: 8.9014 | M4: 6.0316 | N4: 0 | O4: =SUM(E4:N4) -> 95.7658 | Q4: =Q$12 -> 58.514491 | R4: =R$12 -> 8.4536 | S4: =S$12 -> 5.8808273 | T4: 0.98 | U4: 0.31 | V4: 0.2 | W4: =IF(OR(E4>(Q4+T4),E4<(Q4-T4),L4>(R4+U4),L4<(R4-U4),M4>(S4+V4),M4<(S4-V4)),"Wrong","Ok") -> Wrong
A5: 190405_6 | B5: 190405_6 J2 droite 5 | C5: Dziani | D5: Phonolite | E5: 57.5594 | F5: 0.0301 | G5: 18.7416 | H5: 4.6351 | I5: 0.2476 | J5: 0.0706 | K5: 0.8474 | L5: 8.0967 | M5: 5.8092 | N5: 0 | O5: =SUM(E5:N5) -> 96.0377 | Q5: =Q$12 -> 58.514491 | R5: =R$12 -> 8.4536 | S5: =S$12 -> 5.8808273 | T5: 0.98 | U5: 0.31 | V5: 0.2 | W5: =IF(OR(E5>(Q5+T5),E5<(Q5-T5),L5>(R5+U5),L5<(R5-U5),M5>(S5+V5),M5<(S5-V5)),"Wrong","Ok") -> Wrong
A6: 190405_6 | B6: 190405_6 J1 gauche 6 | C6: Dziani | D6: Phonolite | E6: 57.9069 | F6: 0 | G6: 18.6066 | H6: 4.5867 | I6: 0.2977 | J6: 0.046 | K6: 0.8847 | L6: 8.1871 | M6: 5.6229 | N6: 0 | O6: =SUM(E6:N6) -> 96.1386 | Q6: =Q$12 -> 58.514491 | R6: =R$12 -> 8.4536 | S6: =S$12 -> 5.8808273 | T6: 0.98 | U6: 0.31 | V6: 0.2 | W6: =IF(OR(E6>(Q6+T6),E6<(Q6-T6),L6>(R6+U6),L6<(R6-U6),M6>(S6+V6),M6<(S6-V6)),"Wrong","Ok") -> Wrong
A7: 190405_6 | B7: 190405_6 J2 droite 4 | C7: Dziani | D7: Phonolite | E7: 57.1401 | F7: 0.1224 | G7: 18.6043 | H7: 4.9785 | I7: 0.2181 | J7: 0.0763 | K7: 0.7402 | L7: 8.4616 | M7: 5.8766 | N7: 0 | O7: =SUM(E7:N7) -> 96.2181 | Q7: =Q$12 -> 58.514491 | R7: =R$12 -> 8.4536 | S7: =S$12 -> 5.8808273 | T7: 0.98 | U7: 0.31 | V7: 0.2 | W7: =IF(OR(E7>(Q7+T7),E7<(Q7-T7),L7>(R7+U7),L7<(R7-U7),M7>(S7+V7),M7<(S7-V7)),"Wrong","Ok") -> Wrong
A8: 190405_6 | B8: 190405_6 J1 gauche 9 | C8: Dziani | D8: Phonolite | E8: 60.0198 | F8: 0.0272 | G8: 19.6182 | H8: 4.9368 | I8: 0.2408 | J8: 0.0668 | K8: 0.8951 | L8: 8.5086 | M8: 5.9534 | N8: 0 | O8: =SUM(E8:N8) -> 100.2667 | Q8: =Q$12 -> 58.514491 | R8: =R$12 -> 8.4536 | S8: =S$12 -> 5.8808273 | T8: 0.98 | U8: 0.31 | V8: 0.2 | W8: =IF(OR(E8>(Q8+T8),E8<(Q8-T8),L8>(R8+U8),L8<(R8-U8),M8>(S8+V8),M8<(S8-V8)),"Wrong","Ok") -> Wrong
A9: 190405_6 | B9: 190405_6 J1 droite 13 | C9: Dziani | D9: Phonolite | E9: 60.4614 | F9: 0.108 | G9: 19.6891 | H9: 4.3308 | I9: 0.2808 | J9: 0.0764 | K9: 1.234 | L9: 8.4311 | M9: 5.8702 | N9: 0 | O9: =SUM(E9:N9) -> 100.4818 | Q9: =Q$12 -> 58.514491 | R9: =R$12 -> 8.4536 | S9: =S$12 -> 5.8808273 | T9: 0.98 | U9: 0.31 | V9: 0.2 | W9: =IF(OR(E9>(Q9+T9),E9<(Q9-T9),L9>(R9+U9),L9<(R9-U9),M9>(S9+V9),M9<(S9-V9)),"Wrong","Ok") -> Wrong
A10: 190405_6 | B10: 190405_6 J1 droite 10 | C10: Dziani | D10: Phonolite | E10: 60.622 | F10: 0.0116 | G10: 19.5076 | H10: 4.8861 | I10: 0.2559 | J10: 0.0814 | K10: 1.0431 | L10: 8.4183 | M10: 5.8885 | N10: 0 | O10: =SUM(E10:N10) -> 100.7145 | Q10: =Q$12 -> 58.514491 | R10: =R$12 -> 8.4536 | S10: =S$12 -> 5.8808273 | T10: 0.98 | U10: 0.31 | V10: 0.2 | W10: =IF(OR(E10>(Q10+T10),E10<(Q10-T10),L10>(R10+U10),L10<(R10-U10),M10>(S10+V10),M10<(S10-V10)),"Wrong","Ok") -> Wrong
A11: 190405_6 | B11: 190405_6 J1 droite 14 | C11: Dziani | D11: Phonolite | E11: 61.2228 | F11: 0.0155 | G11: 19.9328 | H11: 4.3951 | I11: 0.2591 | J11: 0.0531 | K11: 0.9746 | L11: 8.4377 | M11: 6.1588 | N11: 0 | O11: =SUM(E11:N11) -> 101.4495 | Q11: =Q$12 -> 58.514491 | R11: =R$12 -> 8.4536 | S11: =S$12 -> 5.8808273 | T11: 0.98 | U11: 0.31 | V11: 0.2 | W11: =IF(OR(E11>(Q11+T11),E11<(Q11-T11),L11>(R11+U11),L11<(R11-U11),M11>(S11+V11),M11<(S11-V11)),"Wrong","Ok") -> Wrong
A12: 190405_6 | B12: 190405_6 J1 droite 11 | C12: Dziani | D12: Phonolite | E12: 60.9209 | F12: 0.0195 | G12: 19.8815 | H12: 4.9433 | I12: 0.3164 | J12: 0.0313 | K12: 0.9758 | L12: 8.7262 | M12: 5.9584 | N12: 0 | O12: =SUM(E12:N12) -> 101.7733 | Q12: =AVERAGE(E2:E12) -> 58.514491 | R12: =AVERAGE(L2:L12) -> 8.4536 | S12: =AVERAGE(M2:M12) -> 5.8808273 | T12: 0.98 | U12: 0.31 | V12: 0.2 | W12: =IF(OR(E12>(Q12+T12),E12<(Q12-T12),L12>(R12+U12),L12<(R12-U12),M12>(S12+V12),M12<(S12-V12)),"Wrong","Ok") -> Wrong
A13: 190407_9b | B13: 190407_9b J3 droite 24 | C13: Dziani | D13: Phonolite | E13: 57.162 | F13: 0.1163 | G13: 18.5404 | H13: 4.82 | I13: 0.2975 | J13: 0.0297 | K13: 0.6894 | L13: 8.0656 | M13: 5.9211 | N13: 0 | O13: =SUM(E13:N13) -> 95.642 | Q13: =Q$31 -> 59.332116 | R13: =R$31 -> 8.1243579 | S13: =S$31 -> 5.8818368 | T13: 0.98 | U13: 0.31 | V13: 0.2 | W13: =IF(OR(E13>(Q13+T13),E13<(Q13-T13),L13>(R13+U13),L13<(R13-U13),M13>(S13+V13),M13<(S13-V13)),"Wrong","Ok") -> Wrong
A14: 190407_9b | B14: 190407_9b J3 top 2 | C14: Dziani | D14: Phonolite | E14: 57.9885 | F14: 0.0427 | G14: 18.5561 | H14: 4.3397 | I14: 0.2284 | J14: 0.0554 | K14: 1.1061 | L14: 8.1277 | M14: 5.3509 | N14: 0 | O14: =SUM(E14:N14) -> 95.7955 | Q14: =Q$31 -> 59.332116 | R14: =R$31 -> 8.1243579 | S14: =S$31 -> 5.8818368 | T14: 0.98 | U14: 0.31 | V14: 0.2 | W14: =IF(OR(E14>(Q14+T14),E14<(Q14-T14),L14>(R14+U14),L14<(R14-U14),M14>(S14+V14),M14<(S14-V14)),"Wrong","Ok") -> Wrong
A15: 190407_9b | B15: 190407_9b J3 gauche 13 | C15: Dziani | D15: Phonolite | E15: 57.4926 | F15: 0.0596 | G15: 18.6484 | H15: 5.2197 | I15: 0.3122 | J15: 0.0557 | K15: 0.7417 | L15: 8.1083 | M15: 5.6516 | N15: 0 | O15: =SUM(E15:N15) -> 96.2898 | Q15: =Q$31 -> 59.332116 | R15: =R$31 -> 8.1243579 | S15: =S$31 -> 5.8818368 | T15: 0.98 | U15: 0.31 | V15: 0.2 | W15: =IF(OR(E15>(Q15+T15),E15<(Q15-T15),L15>(R15+U15),L15<(R15-U15),M15>(S15+V15),M15<(S15-V15)),"Wrong","Ok") -> Wrong
A16: 190407_9b | B16: 190407_9 J1 petit 14 | C16: Dziani | D16: Phonolite | E16: 59.9361 | F16: 0 | G16: 19.0422 | H16: 3.1887 | I16: 0.2248 | J16: 0.0113 | K16: 1.4193 | L16: 8.0448 | M16: 4.8003 | N16: 0 | O16: =SUM(E16:N16) -> 96.6675 | Q16: =Q$31 -> 59.332116 | R16: =R$31 -> 8.1243579 | S16: =S$31 -> 5.8818368 | T16: 0.98 | U16: 0.31 | V16: 0.2 | W16: =IF(OR(E16>(Q16+T16),E16<(Q16-T16),L16>(R16+U16),L16<(R16-U16),M16>(S16+V16),M16<(S16-V16)),"Wrong","Ok") -> Wrong
A17: 190407_9b | B17: 190407_9 J1 grd 28 | C17: Dziani | D17: Phonolite | E17: 57.7889 | F17: 0.032 | G17: 18.7888 | H17: 4.6138 | I17: 0.3062 | J17: 0.0367 | K17: 0.9512 | L17: 8.0861 | M17: 6.0806 | N17: 0 | O17: =SUM(E17:N17) -> 96.6843 | Q17: =Q$31 -> 59.332116 | R17: =R$31 -> 8.1243579 | S17: =S$31 -> 5.8818368 | T17: 0.98 | U17: 0.31 | V17: 0.2 | W17: =IF(OR(E17>(Q17+T17),E17<(Q17-T17),L17>(R17+U17),L17<(R17-U17),M17>(S17+V17),M17<(S17-V17)),"Wrong","Ok") -> Wrong
A18: 190407_9b | B18: 190407_9b J3 gauche 18 | C18: Dziani | D18: Phonolite | E18: 58.8317 | F18: 0.1453 | G18: 18.7157 | H18: 4.6013 | I18: 0.2201 | J18: 0.0392 | K18: 0.9386 | L18: 8.3932 | M18: 5.7498 | N18: 0 | O18: =SUM(E18:N18) -> 97.6349 | Q18: =Q$31 -> 59.332116 | R18: =R$31 -> 8.1243579 | S18: =S$31 -> 5.8818368 | T18: 0.98 | U18: 0.31 | V18: 0.2 | W18: =IF(OR(E18>(Q18+T18),E18<(Q18-T18),L18>(R18+U18),L18<(R18-U18),M18>(S18+V18),M18<(S18-V18)),"Wrong","Ok") -> Ok
A19: 190407_9b | B19: 190407_9 J1 petit 47 | C19: Dziani | D19: Phonolite | E19: 60.5252 | F19: 0.0193 | G19: 19.4541 | H19: 4.9349 | I19: 0.3107 | J19: 0.0548 | K19: 1.0344 | L19: 5.115 | M19: 6.2532 | N19: 0 | O19: =SUM(E19:N19) -> 97.7016 | Q19: =Q$31 -> 59.332116 | R19: =R$31 -> 8.1243579 | S19: =S$31 -> 5.8818368 | T19: 0.98 | U19: 0.31 | V19: 0.2 | W19: =IF(OR(E19>(Q19+T19),E19<(Q19-T19),L19>(R19+U19),L19<(R19-U19),M19>(S19+V19),M19<(S19-V19)),"Wrong","Ok") -> Wrong
A20: 190407_9b | B20: 190407_9b J3 top 4 | C20: Dziani | D20: Phonolite | E20: 58.5611 | F20: 0 | G20: 19.1266 | H20: 4.7498 | I20: 0.2943 | J20: 0.0692 | K20: 1.0496 | L20: 8.0491 | M20: 5.9492 | N20: 0 | O20: =SUM(E20:N20) -> 97.8489 | Q20: =Q$31 -> 59.332116 | R20: =R$31 -> 8.1243579 | S20: =S$31 -> 5.8818368 | T20: 0.98 | U20: 0.31 | V20: 0.2 | W20: =IF(OR(E20>(Q20+T20),E20<(Q20-T20),L20>(R20+U20),L20<(R20-U20),M20>(S20+V20),M20<(S20-V20)),"Wrong","Ok") -> Ok
A21: 190407_9b | B21: 190407_9b J3 gauche 20 | C21: Dziani | D21: Phonolite | E21: 58.6653 | F21: 0.045 | G21: 19.2017 | H21: 4.6042 | I21: 0.2664 | J21: 0.0438 | K21: 0.9263 | L21: 8.3149 | M21: 5.9693 | N21: 0 | O21: =SUM(E21:N21) -> 98.0369 | Q21: =Q$31 -> 59.332116 | R21: =R$31 -> 8.1243579 | S21: =S$31 -> 5.8818368 | T21: 0.98 | U21: 0.31 | V21: 0.2 | W21: =IF(OR(E21>(Q21+T21),E21<(Q21-T21),L21>(R21+U21),L21<(R21-U21),M21>(S21+V21),M21<(S21-V21)),"Wrong","Ok") -> Ok
A22: 190407_9b | B22: 190407_9 J1 petit 46 | C22: Dziani | D22: Phonolite | E22: 59.1441 | F22: 0.0038 | G22: 19.2125 | H22: 4.8237 | I22: 0.2298 | J22: 0.0655 | K22: 0.9811 | L22: 8.2733 | M22: 5.9314 | N22: 0 | O22: =SUM(E22:N22) -> 98.6652 | Q22: =Q$31 -> 59.332116 | R22: =R$31 -> 8.1243579 | S22: =S$31 -> 5.8818368 | T22: 0.98 | U22: 0.31 | V22: 0.2 | W22: =IF(OR(E22>(Q22+T22),E22<(Q22-T22),L22>(R22+U22),L22<(R22-U22),M22>(S22+V22),M22<(S22-V22)),"Wrong","Ok") -> Ok
A23: 190407_9b | B23: 190407_9 J1 grd 30 | C23: Dziani | D23: Phonolite | E23: 59.0619 | F23: 0.0543 | G23: 19.4692 | H23: 5.0069 | I23: 0.3009 | J23: 0.0549 | K23: 0.9437 | L23: 8.0874 | M23: 6.1645 | N23: 0 | O23: =SUM(E23:N23) -> 99.1437 | Q23: =Q$31 -> 59.332116 | R23: =R$31 -> 8.1243579 | S23: =S$31 -> 5.8818368 | T23: 0.98 | U23: 0.31 | V23: 0.2 | W23: =IF(OR(E23>(Q23+T23),E23<(Q23-T23),L23>(R23+U23),L23<(R23-U23),M23>(S23+V23),M23<(S23-V23)),"Wrong","Ok") -> Wrong
A24: 190407_9b | B24: 190407_9b J3 top 5 | C24: Dziani | D24: Phonolite | E24: 60.0891 | F24: 0 | G24: 19.5395 | H24: 4.7584 | I24: 0.2705 | J24: 0.0428 | K24: 0.9812 | L24: 8.1818 | M24: 5.7824 | N24: 0 | O24: =SUM(E24:N24) -> 99.6457 | Q24: =Q$31 -> 59.332116 | R24: =R$31 -> 8.1243579 | S24: =S$31 -> 5.8818368 | T24: 0.98 | U24: 0.31 | V24: 0.2 | W24: =IF(OR(E24>(Q24+T24),E24<(Q24-T24),L24>(R24+U24),L24<(R24-U24),M24>(S24+V24),M24<(S24-V24)),"Wrong","Ok") -> Ok
... A30: 190407_9b | B30: 190407_9 J1 petit 44 | C30: Dziani | D30: Phonolite | E30: 60.7474 | F30: 0.0272 | G30: 19.6887 | H30: 4.6943 | I30: 0.2429 | J30: 0.0474 | K30: 1.0168 | L30: 8.4081 | M30: 6.1876 | N30: 0 | O30: =SUM(E30:N30) -> 101.0604 | Q30: =Q$31 -> 59.332116 | R30: =R$31 -> 8.1243579 | S30: =S$31 -> 5.8818368 | T30: 0.98 | U30: 0.31 | V30: 0.2 | W30: =IF(OR(E30>(Q30+T30),E30<(Q30-T30),L30>(R30+U30),L30<(R30-U30),M30>(S30+V30),M30<(S30-V30)),"Wrong","Ok") -> Wrong
A31: 190407_9b | B31: 190407_9 J1 grd 24 | C31: Dziani | D31: Phonolite | E31: 60.827 | F31: 0.0193 | G31: 19.4942 | H31: 5.2609 | I31: 0.3597 | J31: 0.0772 | K31: 1.1304 | L31: 8.7976 | M31: 5.5951 | N31: 0 | O31: =SUM(E31:N31) -> 101.5614 | Q31: =AVERAGE(E13:E31) -> 59.332116 | R31: =AVERAGE(L13:L31) -> 8.1243579 | S31: =AVERAGE(M13:M31) -> 5.8818368 | T31: 0.98 | U31: 0.31 | V31: 0.2 | W31: =IF(OR(E31>(Q31+T31),E31<(Q31-T31),L31>(R31+U31),L31<(R31-U31),M31>(S31+V31),M31<(S31-V31)),"Wrong","Ok") -> Wrong
A32: 190405_4 | B32: MAY190405_4_J1_5 | C32: Dziani | D32: Phonolite | E32: 61.3031 | F32: 0.0316 | G32: 20.0421 | H32: 4.8044 | I32: 0.3111 | J32: 0.0274 | K32: 1.0499 | L32: 7.6708 | M32: 6.1868 | N32: 0 | O32: =SUM(E32:N32) -> 101.4272 | Q32: =Q$43 -> 59.7687 | R32: =R$43 -> 8.09285 | S32: =S$43 -> 6.0537583 | T32: 0.98 | U32: 0.31 | V32: 0.2 | W32: =IF(OR(E32>(Q32+T32),E32<(Q32-T32),L32>(R32+U32),L32<(R32-U32),M32>(S32+V32),M32<(S32-V32)),"Wrong","Ok") -> Wrong
A33: 190405_4 | B33: MAY190405_4_J1_6 | C33: Dziani | D33: Phonolite | E33: 58.3497 | F33: 0.0158 | G33: 18.6868 | H33: 4.8808 | I33: 0.1977 | J33: 0.0689 | K33: 1.0214 | L33: 7.921 | M33: 5.7996 | N33: 0 | O33: =SUM(E33:N33) -> 96.9417 | Q33: =Q$43 -> 59.7687 | R33: =R$43 -> 8.09285 | S33: =S$43 -> 6.0537583 | T33: 0.98 | U33: 0.31 | V33: 0.2 | W33: =IF(OR(E33>(Q33+T33),E33<(Q33-T33),L33>(R33+U33),L33<(R33-U33),M33>(S33+V33),M33<(S33-V33)),"Wrong","Ok") -> Wrong
A34: 190405_4 | B34: MAY190405_4_J1_7 | C34: Dziani | D34: Phonolite | E34: 58.3059 | F34: 0.0829 | G34: 18.5436 | H34: 4.821 | I34: 0.265 | J34: 0.0672 | K34: 1.0402 | L34: 8.0066 | M34: 5.7981 | N34: 0 | O34: =SUM(E34:N34) -> 96.9305 | Q34: =Q$43 -> 59.7687 | R34: =R$43 -> 8.09285 | S34: =S$43 -> 6.0537583 | T34: 0.98 | U34: 0.31 | V34: 0.2 | W34: =IF(OR(E34>(Q34+T34),E34<(Q34-T34),L34>(R34+U34),L34<(R34-U34),M34>(S34+V34),M34<(S34-V34)),"Wrong","Ok") -> Wrong
A35: 190405_4 | B35: MAY190405_4_J1_8 | C35: Dziani | D35: Phonolite | E35: 58.1467 | F35: 0.0394 | G35: 18.5122 | H35: 4.8377 | I35: 0.1988 | J35: 0.0534 | K35: 1.0742 | L35: 7.8243 | M35: 5.7553 | N35: 0 | O35: =SUM(E35:N35) -> 96.442 | Q35: =Q$43 -> 59.7687 | R35: =R$43 -> 8.09285 | S35: =S$43 -> 6.0537583 | T35: 0.98 | U35: 0.31 | V35: 0.2 | W35: =IF(OR(E35>(Q35+T35),E35<(Q35-T35),L35>(R35+U35),L35<(R35-U35),M35>(S35+V35),M35<(S35-V35)),"Wrong","Ok") -> Wrong
A36: 190405_4 | B36: MAY190405_4_J1_10 | C36: Dziani | D36: Phonolite | E36: 58.0607 | F36: 0.1397 | G36: 18.8823 | H36: 4.242 | I36: 0.2521 | J36: 0.0423 | K36: 1.0769 | L36: 7.8486 | M36: 5.7021 | N36: 0 | O36: =SUM(E36:N36) -> 96.2467 | Q36: =Q$43 -> 59.7687 | R36: =R$43 -> 8.09285 | S36: =S$43 -> 6.0537583 | T36: 0.98 | U36: 0.31 | V36: 0.2 | W36: =IF(OR(E36>(Q36+T36),E36<(Q36-T36),L36>(R36+U36),L36<(R36-U36),M36>(S36+V36),M36<(S36-V36)),"Wrong","Ok") -> Wrong
A37: 190405_4 | B37: MAY190405_4_J1_11 | C37: Dziani | D37: Phonolite | E37: 60.5982 | F37: 0.0237 | G37: 19.8399 | H37: 4.7429 | I37: 0.2495 | J37: 0.0653 | K37: 1.0448 | L37: 8.1819 | M37: 5.9221 | N37: 0 | O37: =SUM(E37:N37) -> 100.6683 | Q37: =Q$43 -> 59.7687 | R37: =R$43 -> 8.09285 | S37: =S$43 -> 6.0537583 | T37: 0.98 | U37: 0.31 | V37: 0.2 | W37: =IF(OR(E37>(Q37+T37),E37<(Q37-T37),L37>(R37+U37),L37<(R37-U37),M37>(S37+V37),M37<(S37-V37)),"Wrong","Ok") -> Ok
A38: 190405_4 | B38: MAY190405_4_J1_12 | C38: Dziani | D38: Phonolite | E38: 60.4232 | F38: 0.0472 | G38: 19.842 | H38: 4.4529 | I38: 0.2402 | J38: 0.0426 | K38: 1.0884 | L38: 7.9264 | M38: 6.0466 | N38: 0 | O38: =SUM(E38:N38) -> 100.1095 | Q38: =Q$43 -> 59.7687 | R38: =R$43 -> 8.09285 | S38: =S$43 -> 6.0537583 | T38: 0.98 | U38: 0.31 | V38: 0.2 | W38: =IF(OR(E38>(Q38+T38),E38<(Q38-T38),L38>(R38+U38),L38<(R38-U38),M38>(S38+V38),M38<(S38-V38)),"Wrong","Ok") -> Ok
A39: 190405_4 | B39: MAY190405_4_J1B_20 | C39: Dziani | D39: Phonolite | E39: 60.4602 | F39: 0.0237 | G39: 19.3343 | H39: 4.9843 | I39: 0.3126 | J39: 0.0586 | K39: 0.9831 | L39: 8.3119 | M39: 6.1609 | N39: 0 | O39: =SUM(E39:N39) -> 100.6296 | Q39: =Q$43 -> 59.7687 | R39: =R$43 -> 8.09285 | S39: =S$43 -> 6.0537583 | T39: 0.98 | U39: 0.31 | V39: 0.2 | W39: =IF(OR(E39>(Q39+T39),E39<(Q39-T39),L39>(R39+U39),L39<(R39-U39),M39>(S39+V39),M39<(S39-V39)),"Wrong","Ok") -> Ok
A40: 190405_4 | B40: MAY190405_4_J1B_23 | C40: Dziani | D40: Phonolite | E40: 60.757 | F40: 0.0905 | G40: 19.365 | H40: 4.8729 | I40: 0.2894 | J40: 0.0671 | K40: 0.9189 | L40: 8.3575 | M40: 6.2899 | N40: 0 | O40: =SUM(E40:N40) -> 101.0082 | Q40: =Q$43 -> 59.7687 | R40: =R$43 -> 8.09285 | S40: =S$43 -> 6.0537583 | T40: 0.98 | U40: 0.31 | V40: 0.2 | W40: =IF(OR(E40>(Q40+T40),E40<(Q40-T40),L40>(R40+U40),L40<(R40-U40),M40>(S40+V40),M40<(S40-V40)),"Wrong","Ok") -> Wrong
A41: 190405_4 | B41: MAY190405_4_J1B_24 | C41: Dziani | D41: Phonolite | E41: 60.5189 | F41: 0.0634 | G41: 19.5231 | H41: 4.8547 | I41: 0.2788 | J41: 0.0864 | K41: 0.8844 | L41: 8.3486 | M41: 6.2303 | N41: 0 | O41: =SUM(E41:N41) -> 100.7886 | Q41: =Q$43 -> 59.7687 | R41: =R$43 -> 8.09285 | S41: =S$43 -> 6.0537583 | T41: 0.98 | U41: 0.31 | V41: 0.2 | W41: =IF(OR(E41>(Q41+T41),E41<(Q41-T41),L41>(R41+U41),L41<(R41-U41),M41>(S41+V41),M41<(S41-V41)),"Wrong","Ok") -> Ok
A42: 190405_4 | B42: MAY190405_4_J1B_30 | C42: Dziani | D42: Phonolite | E42: 59.9154 | F42: 0.0198 | G42: 19.7772 | H42: 4.6297 | I42: 0.3115 | J42: 0.0103 | K42: 0.9474 | L42: 8.567 | M42: 6.2911 | N42: 0 | O42: =SUM(E42:N42) -> 100.4694 | Q42: =Q$43 -> 59.7687 | R42: =R$43 -> 8.09285 | S42: =S$43 -> 6.0537583 | T42: 0.98 | U42: 0.31 | V42: 0.2 | W42: =IF(OR(E42>(Q42+T42),E42<(Q42-T42),L42>(R42+U42),L42<(R42-U42),M42>(S42+V42),M42<(S42-V42)),"Wrong","Ok") -> Wrong
A43: 190405_4 | B43: MAY190405_4_J2B_14 | C43: Dziani | D43: Phonolite | E43: 60.3854 | F43: 0.0513 | G43: 19.7079 | H43: 4.6665 | I43: 0.2824 | J43: 0.0584 | K43: 0.8611 | L43: 8.1496 | M43: 6.4623 | N43: 0 | O43: =SUM(E43:N43) -> 100.6249 | Q43: =AVERAGE(E32:E43) -> 59.7687 | R43: =AVERAGE(L32:L43) -> 8.09285 | S43: =AVERAGE(M32:M43) -> 6.0537583 | T43: 0.98 | U43: 0.31 | V43: 0.2 | W43: =IF(OR(E43>(Q43+T43),E43<(Q43-T43),L43>(R43+U43),L43<(R43-U43),M43>(S43+V43),M43<(S43-V43)),"Wrong","Ok") -> Wrong
A44: 190404_3 | B44: MAY190404_3_J1A_11 | C44: Dziani | D44: Phonolite | E44: 60.5262 | F44: 0.0277 | G44: 19.078 | H44: 5.0691 | I44: 0.2392 | J44: 0.0191 | K44: 0.7478 | L44: 8.7536 | M44: 6.1531 | N44: 0 | O44: =SUM(E44:N44) -> 100.6138 | Q44: =Q$51 -> 60.400212 | R44: =R$51 -> 8.4199 | S44: =S$51 -> 5.817475 | T44: 0.98 | U44: 0.31 | V44: 0.2 | W44: =IF(OR(E44>(Q44+T44),E44<(Q44-T44),L44>(R44+U44),L44<(R44-U44),M44>(S44+V44),M44<(S44-V44)),"Wrong","Ok") -> Wrong
A45: 190404_3 | B45: MAY190404_3_J1A_12 | C45: Dziani | D45: Phonolite | E45: 60.4691 | F45: 0.0079 | G45: 19.0196 | H45: 4.5454 | I45: 0.1902 | J45: 0.0586 | K45: 1.0677 | L45: 8.5911 | M45: 5.9726 | N45: 0 | O45: =SUM(E45:N45) -> 99.9222 | Q45: =Q$51 -> 60.400212 | R45: =R$51 -> 8.4199 | S45: =S$51 -> 5.817475 | T45: 0.98 | U45: 0.31 | V45: 0.2 | W45: =IF(OR(E45>(Q45+T45),E45<(Q45-T45),L45>(R45+U45),L45<(R45-U45),M45>(S45+V45),M45<(S45-V45)),"Wrong","Ok") -> Ok
A46: 190404_3 | B46: MAY190404_3_J1A_13 | C46: Dziani | D46: Phonolite | E46: 60.7808 | F46: 0.1148 | G46: 18.9921 | H46: 4.9709 | I46: 0.2413 | J46: 0.0434 | K46: 0.9902 | L46: 8.7958 | M46: 6.066 | N46: 0 | O46: =SUM(E46:N46) -> 100.9953 | Q46: =Q$51 -> 60.400212 | R46: =R$51 -> 8.4199 | S46: =S$51 -> 5.817475 | T46: 0.98 | U46: 0.31 | V46: 0.2 | W46: =IF(OR(E46>(Q46+T46),E46<(Q46-T46),L46>(R46+U46),L46<(R46-U46),M46>(S46+V46),M46<(S46-V46)),"Wrong","Ok") -> Wrong
A47: 190404_3 | B47: MAY190404_3_J1A_15 | C47: Dziani | D47: Phonolite | E47: 62.5522 | F47: 0.0554 | G47: 18.7747 | H47: 3.4747 | I47: 0.2263 | J47: 0.0494 | K47: 1.4269 | L47: 7.8759 | M47: 5.4644 | N47: 0 | O47: =SUM(E47:N47) -> 99.8999 | Q47: =Q$51 -> 60.400212 | R47: =R$51 -> 8.4199 | S47: =S$51 -> 5.817475 | T47: 0.98 | U47: 0.31 | V47: 0.2 | W47: =IF(OR(E47>(Q47+T47),E47<(Q47-T47),L47>(R47+U47),L47<(R47-U47),M47>(S47+V47),M47<(S47-V47)),"Wrong","Ok") -> Wrong
A48: 190404_3 | B48: MAY190404_3_J1A_16 | C48: Dziani | D48: Phonolite | E48: 61.2643 | F48: 0.0674 | G48: 19.2635 | H48: 4.4728 | I48: 0.2724 | J48: 0.0656 | K48: 1.4526 | L48: 8.3189 | M48: 4.9868 | N48: 0 | O48: =SUM(E48:N48) -> 100.1643 | Q48: =Q$51 -> 60.400212 | R48: =R$51 -> 8.4199 | S48: =S$51 -> 5.817475 | T48: 0.98 | U48: 0.31 | V48: 0.2 | W48: =IF(OR(E48>(Q48+T48),E48<(Q48-T48),L48>(R48+U48),L48<(R48-U48),M48>(S48+V48),M48<(S48-V48)),"Wrong","Ok") -> Wrong
A49: 190404_3 | B49: MAY190404_3_J1A_17 | C49: Dziani | D49: Phonolite | E49: 58.5733 | F49: 0.0356 | G49: 18.3708 | H49: 4.795 | I49: 0.1271 | J49: 0.0451 | K49: 0.9069 | L49: 8.4102 | M49: 5.9263 | N49: 0 | O49: =SUM(E49:N49) -> 97.1903 | Q49: =Q$51 -> 60.400212 | R49: =R$51 -> 8.4199 | S49: =S$51 -> 5.817475 | T49: 0.98 | U49: 0.31 | V49: 0.2 | W49: =IF(OR(E49>(Q49+T49),E49<(Q49-T49),L49>(R49+U49),L49<(R49-U49),M49>(S49+V49),M49<(S49-V49)),"Wrong","Ok") -> Wrong
A50: 190404_3 | B50: MAY190404_3_J1A_18 | C50: Dziani | D50: Phonolite | E50: 58.9374 | F50: 0 | G50: 18.6224 | H50: 3.7614 | I50: 0.1414 | J50: 0.0537 | K50: 1.1328 | L50: 8.1461 | M50: 5.583 | N50: 0 | O50: =SUM(E50:N50) -> 96.3782 | Q50: =Q$51 -> 60.400212 | R50: =R$51 -> 8.4199 | S50: =S$51 -> 5.817475 | T50: 0.98 | U50: 0.31 | V50: 0.2 | W50: =IF(OR(E50>(Q50+T50),E50<(Q50-T50),L50>(R50+U50),L50<(R50-U50),M50>(S50+V50),M50<(S50-V50)),"Wrong","Ok") -> Wrong
A51: 190404_3 | B51: MAY190404_3_J2A_13 | C51: Dziani | D51: Phonolite | E51: 60.0984 | F51: 0.0197 | G51: 19.5232 | H51: 6.0387 | I51: 0.3953 | J51: 0.0521 | K51: 0.6985 | L51: 8.4676 | M51: 6.3876 | N51: 0 | O51: =SUM(E51:N51) -> 101.6811 | Q51: =AVERAGE(E44:E51) -> 60.400212 | R51: =AVERAGE(L44:L51) -> 8.4199 | S51: =AVERAGE(M44:M51) -> 5.817475 | T51: 0.98 | U51: 0.31 | V51: 0.2 | W51: =IF(OR(E51>(Q51+T51),E51<(Q51-T51),L51>(R51+U51),L51<(R51-U51),M51>(S51+V51),M51<(S51-V51)),"Wrong","Ok") -> Wrong
A52: 190405_2 | B52: May190405_2 J2 6 | C52: Dziani | D52: Phonolite | E52: 57.3437 | F52: 0.0047 | G52: 18.1383 | H52: 5.2788 | I52: 0.3917 | J52: 0.0716 | K52: 1.0001 | L52: 8.2864 | M52: 5.7534 | N52: 0 | O52: =SUM(E52:N52) -> 96.2687 | Q52: =Q$62 -> 59.506745 | R52: =R$62 -> 8.3034636 | S52: =S$62 -> 5.1875182 | T52: 0.98 | U52: 0.31 | V52: 0.2 | W52: =IF(OR(E52>(Q52+T52),E52<(Q52-T52),L52>(R52+U52),L52<(R52-U52),M52>(S52+V52),M52<(S52-V52)),"Wrong","Ok") -> Wrong
A53: 190405_2 | B53: May190405_2 J2 7 | C53: Dziani | D53: Phonolite | E53: 57.7235 | F53: 0.0332 | G53: 18.1751 | H53: 4.5728 | I53: 0.2396 | J53: 0.0508 | K53: 1.1721 | L53: 8.4296 | M53: 5.7599 | N53: 0 | O53: =SUM(E53:N53) -> 96.1566 | Q53: =Q$62 -> 59.506745 | R53: =R$62 -> 8.3034636 | S53: =S$62 -> 5.1875182 | T53: 0.98 | U53: 0.31 | V53: 0.2 | W53: =IF(OR(E53>(Q53+T53),E53<(Q53-T53),L53>(R53+U53),L53<(R53-U53),M53>(S53+V53),M53<(S53-V53)),"Wrong","Ok") -> Wrong
A54: 190405_2 | B54: May190405_2 J2 4 | C54: Dziani | D54: Phonolite | E54: 59.5618 | F54: 0.114 | G54: 18.703 | H54: 4.018 | I54: 0.2072 | J54: 0.0497 | K54: 1.401 | L54: 8.2458 | M54: 4.9727 | N54: 0 | O54: =SUM(E54:N54) -> 97.2732 | Q54: =Q$62 -> 59.506745 | R54: =R$62 -> 8.3034636 | S54: =S$62 -> 5.1875182 | T54: 0.98 | U54: 0.31 | V54: 0.2 | W54: =IF(OR(E54>(Q54+T54),E54<(Q54-T54),L54>(R54+U54),L54<(R54-U54),M54>(S54+V54),M54<(S54-V54)),"Wrong","Ok") -> Wrong
A55: 190405_2 | B55: May190405_2 J2 5 | C55: Dziani | D55: Phonolite | E55: 59.8835 | F55: 0.0474 | G55: 18.8607 | H55: 3.6751 | I55: 0.2145 | J55: 0.0382 | K55: 1.4023 | L55: 8.2553 | M55: 5.0771 | N55: 0 | O55: =SUM(E55:N55) -> 97.4541 | Q55: =Q$62 -> 59.506745 | R55: =R$62 -> 8.3034636 | S55: =S$62 -> 5.1875182 | T55: 0.98 | U55: 0.31 | V55: 0.2 | W55: =IF(OR(E55>(Q55+T55),E55<(Q55-T55),L55>(R55+U55),L55<(R55-U55),M55>(S55+V55),M55<(S55-V55)),"Wrong","Ok") -> Ok
A56: 190405_2 | B56: May190405_2 J1 3 | C56: Dziani | D56: Phonolite | E56: 60.3671 | F56: 0.0261 | G56: 19.0586 | H56: 4.1163 | I56: 0.1632 | J56: 0.0377 | K56: 0.8968 | L56: 8.3756 | M56: 5.1359 | N56: 0 | O56: =SUM(E56:N56) -> 98.1773 | Q56: =Q$62 -> 59.506745 | R56: =R$62 -> 8.3034636 | S56: =S$62 -> 5.1875182 | T56: 0.98 | U56: 0.31 | V56: 0.2 | W56: =IF(OR(E56>(Q56+T56),E56<(Q56-T56),L56>(R56+U56),L56<(R56-U56),M56>(S56+V56),M56<(S56-V56)),"Wrong","Ok") -> Ok
A57: 190405_2 | B57: May190405_2 J1 2 | C57: Dziani | D57: Phonolite | E57: 58.7371 | F57: 0.176 | G57: 18.6025 | H57: 5.626 | I57: 0.316 | J57: 0.0628 | K57: 0.9536 | L57: 8.482 | M57: 5.3618 | N57: 0 | O57: =SUM(E57:N57) -> 98.3178 | Q57: =Q$62 -> 59.506745 | R57: =R$62 -> 8.3034636 | S57: =S$62 -> 5.1875182 | T57: 0.98 | U57: 0.31 | V57: 0.2 | W57: =IF(OR(E57>(Q57+T57),E57<(Q57-T57),L57>(R57+U57),L57<(R57-U57),M57>(S57+V57),M57<(S57-V57)),"Wrong","Ok") -> Ok
A58: 190405_2 | B58: May190405_2 J1 6 | C58: Dziani | D58: Phonolite | E58: 59.757 | F58: 0.1044 | G58: 19.1701 | H58: 4.649 | I58: 0.2965 | J58: 0.034 | K58: 1.3213 | L58: 8.2815 | M58: 4.9032 | N58: 0 | O58: =SUM(E58:N58) -> 98.517 | Q58: =Q$62 -> 59.506745 | R58: =R$62 -> 8.3034636 | S58: =S$62 -> 5.1875182 | T58: 0.98 | U58: 0.31 | V58: 0.2 | W58: =IF(OR(E58>(Q58+T58),E58<(Q58-T58),L58>(R58+U58),L58<(R58-U58),M58>(S58+V58),M58<(S58-V58)),"Wrong","Ok") -> Wrong
A59: 190405_2 | B59: May190405_2 J2 1 | C59: Dziani | D59: Phonolite | E59: 59.4326 | F59: 0.0304 | G59: 18.7705 | H59: 4.7396 | I59: 0.2705 | J59: 0.078 | K59: 1.2807 | L59: 8.5371 | M59: 5.3668 | N59: 0 | O59: =SUM(E59:N59) -> 98.5062 | Q59: =Q$62 -> 59.506745 | R59: =R$62 -> 8.3034636 | S59: =S$62 -> 5.1875182 | T59: 0.98 | U59: 0.31 | V59: 0.2 | W59: =IF(OR(E59>(Q59+T59),E59<(Q59-T59),L59>(R59+U59),L59<(R59-U59),M59>(S59+V59),M59<(S59-V59)),"Wrong","Ok") -> Ok
A60: 190405_2 | B60: May190405_2 J1 4 | C60: Dziani | D60: Phonolite | E60: 60.8497 | F60: 0.0785 | G60: 19.5289 | H60: 3.6731 | I60: 0.2181 | J60: 0.044 | K60: 1.3443 | L60: 7.9104 | M60: 4.9966 | N60: 0 | O60: =SUM(E60:N60) -> 98.6436 | Q60: =Q$62 -> 59.506745 | R60: =R$62 -> 8.3034636 | S60: =S$62 -> 5.1875182 | T60: 0.98 | U60: 0.31 | V60: 0.2 | W60: =IF(OR(E60>(Q60+T60),E60<(Q60-T60),L60>(R60+U60),L60<(R60-U60),M60>(S60+V60),M60<(S60-V60)),"Wrong","Ok") -> Wrong
A61: 190405_2 | B61: May190405_2 J1 5 | C61: Dziani | D61: Phonolite | E61: 60.5078 | F61: 0.1393 | G61: 19.6655 | H61: 3.8342 | I61: 0.2651 | J61: 0.0442 | K61: 1.4468 | L61: 8.2593 | M61: 4.7219 | N61: 0 | O61: =SUM(E61:N61) -> 98.8841 | Q61: =Q$62 -> 59.506745 | R61: =R$62 -> 8.3034636 | S61: =S$62 -> 5.1875182 | T61: 0.98 | U61: 0.31 | V61: 0.2 | W61: =IF(OR(E61>(Q61+T61),E61<(Q61-T61),L61>(R61+U61),L61<(R61-U61),M61>(S61+V61),M61<(S61-V61)),"Wrong","Ok") -> Wrong
A62: 190405_2 | B62: May190405_2 J1 1 | C62: Dziani | D62: Phonolite | E62: 60.4104 | F62: 0.0867 | G62: 19.0863 | H62: 4.6474 | I62: 0.1685 | J62: 0.069 | K62: 1.2641 | L62: 8.2751 | M62: 5.0134 | N62: 0 | O62: =SUM(E62:N62) -> 99.0209 | Q62: =AVERAGE(E52:E62) -> 59.506745 | R62: =AVERAGE(L52:L62) -> 8.3034636 | S62: =AVERAGE(M52:M62) -> 5.1875182 | T62: 0.98 | U62: 0.31 | V62: 0.2 | W62: =IF(OR(E62>(Q62+T62),E62<(Q62-T62),L62>(R62+U62),L62<(R62-U62),M62>(S62+V62),M62<(S62-V62)),"Wrong","Ok") -> Ok
A63: 190405_3 | B63: MAY190405_3 J1 6 | C63: Dziani | D63: Phonolite | E63: 57.8533 | F63: 0.1053 | G63: 18.5186 | H63: 4.3822 | I63: 0.2499 | J63: 0.0394 | K63: 0.889 | L63: 7.703 | M63: 5.7594 | N63: 0 | O63: =SUM(E63:N63) -> 95.5001 | Q63: =Q$71 -> 58.713989 | R63: =R$71 -> 8.3356778 | S63: =S$71 -> 5.7388111 | T63: 0.98 | U63: 0.31 | V63: 0.2 | W63: =IF(OR(E63>(Q63+T63),E63<(Q63-T63),L63>(R63+U63),L63<(R63-U63),M63>(S63+V63),M63<(S63-V63)),"Wrong","Ok") -> Wrong
A64: 190405_3 | B64: MAY190405_3 J2 6 | C64: Dziani | D64: Phonolite | E64: 57.4585 | F64: 0.0433 | G64: 18.5442 | H64: 5.004 | I64: 0.2618 | J64: 0.0269 | K64: 0.7183 | L64: 8.5548 | M64: 6.216 | N64: 0 | O64: =SUM(E64:N64) -> 96.8278 | Q64: =Q$71 -> 58.713989 | R64: =R$71 -> 8.3356778 | S64: =S$71 -> 5.7388111 | T64: 0.98 | U64: 0.31 | V64: 0.2 | W64: =IF(OR(E64>(Q64+T64),E64<(Q64-T64),L64>(R64+U64),L64<(R64-U64),M64>(S64+V64),M64<(S64-V64)),"Wrong","Ok") -> Wrong
A65: 190405_3 | B65: MAY190405_3 J2 3 | C65: Dziani | D65: Phonolite | E65: 57.947 | F65: 0 | G65: 18.536 | H65: 4.723 | I65: 0.2264 | J65: 0.0504 | K65: 0.6993 | L65: 8.52 | M65: 6.5444 | N65: 0 | O65: =SUM(E65:N65) -> 97.2465 | Q65: =Q$71 -> 58.713989 | R65: =R$71 -> 8.3356778 | S65: =S$71 -> 5.7388111 | T65: 0.98 | U65: 0.31 | V65: 0.2 | W65: =IF(OR(E65>(Q65+T65),E65<(Q65-T65),L65>(R65+U65),L65<(R65-U65),M65>(S65+V65),M65<(S65-V65)),"Wrong","Ok") -> Wrong
A66: 190405_3 | B66: MAY190405_3 J1 5 | C66: Dziani | D66: Phonolite | E66: 58.4647 | F66: 0.1145 | G66: 18.913 | H66: 5.5367 | I66: 0.2944 | J66: 0.0561 | K66: 1.0051 | L66: 8.3234 | M66: 5.2392 | N66: 0 | O66: =SUM(E66:N66) -> 97.9471 | Q66: =Q$71 -> 58.713989 | R66: =R$71 -> 8.3356778 | S66: =S$71 -> 5.7388111 | T66: 0.98 | U66: 0.31 | V66: 0.2 | W66: =IF(OR(E66>(Q66+T66),E66<(Q66-T66),L66>(R66+U66),L66<(R66-U66),M66>(S66+V66),M66<(S66-V66)),"Wrong","Ok") -> Wrong
A67: 190405_3 | B67: MAY190405_3 J1 2 | C67: Dziani | D67: Phonolite | E67: 59.6185 | F67: 0.1214 | G67: 18.9158 | H67: 4.8338 | I67: 0.3178 | J67: 0.053 | K67: 0.9654 | L67: 8.5492 | M67: 4.9204 | N67: 0 | O67: =SUM(E67:N67) -> 98.2953 | Q67: =Q$71 -> 58.713989 | R67: =R$71 -> 8.3356778 | S67: =S$71 -> 5.7388111 | T67: 0.98 | U67: 0.31 | V67: 0.2 | W67: =IF(OR(E67>(Q67+T67),E67<(Q67-T67),L67>(R67+U67),L67<(R67-U67),M67>(S67+V67),M67<(S67-V67)),"Wrong","Ok") -> Wrong
A68: 190405_3 | B68: MAY190405_3 J1 3 | C68: Dziani | D68: Phonolite | E68: 58.9284 | F68: 0.0966 | G68: 19.4074 | H68: 4.7145 | I68: 0.3153 | J68: 0.0356 | K68: 0.8698 | L68: 7.9196 | M68: 6.0589 | N68: 0 | O68: =SUM(E68:N68) -> 98.3461 | Q68: =Q$71 -> 58.713989 | R68: =R$71 -> 8.3356778 | S68: =S$71 -> 5.7388111 | T68: 0.98 | U68: 0.31 | V68: 0.2 | W68: =IF(OR(E68>(Q68+T68),E68<(Q68-T68),L68>(R68+U68),L68<(R68-U68),M68>(S68+V68),M68<(S68-V68)),"Wrong","Ok") -> Wrong
A69: 190405_3 | B69: MAY190405_3 J1 1 | C69: Dziani | D69: Phonolite | E69: 59.4808 | F69: 0.0265 | G69: 18.9536 | H69: 4.6245 | I69: 0.299 | J69: 0.0278 | K69: 1.0066 | L69: 8.1798 | M69: 5.7583 | N69: 0 | O69: =SUM(E69:N69) -> 98.3569 | Q69: =Q$71 -> 58.713989 | R69: =R$71 -> 8.3356778 | S69: =S$71 -> 5.7388111 | T69: 0.98 | U69: 0.31 | V69: 0.2 | W69: =IF(OR(E69>(Q69+T69),E69<(Q69-T69),L69>(R69+U69),L69<(R69-U69),M69>(S69+V69),M69<(S69-V69)),"Wrong","Ok") -> Ok
A70: 190405_3 | B70: MAY190405_3 J2 2 | C70: Dziani | D70: Phonolite | E70: 58.9964 | F70: 0.0043 | G70: 18.8732 | H70: 5.0736 | I70: 0.3213 | J70: 0.0551 | K70: 1.006 | L70: 8.6758 | M70: 5.5119 | N70: 0 | O70: =SUM(E70:N70) -> 98.5176 | Q70: =Q$71 -> 58.713989 | R70: =R$71 -> 8.3356778 | S70: =S$71 -> 5.7388111 | T70: 0.98 | U70: 0.31 | V70: 0.2 | W70: =IF(OR(E70>(Q70+T70),E70<(Q70-T70),L70>(R70+U70),L70<(R70-U70),M70>(S70+V70),M70<(S70-V70)),"Wrong","Ok") -> Wrong
A71: 190405_3 | B71: MAY190405_3 J2 4 | C71: Dziani | D71: Phonolite | E71: 59.6783 | F71: 0 | G71: 18.893 | H71: 4.3878 | I71: 0.1988 | J71: 0.0483 | K71: 1.1233 | L71: 8.5955 | M71: 5.6408 | N71: 0 | O71: =SUM(E71:N71) -> 98.5658 | Q71: =AVERAGE(E63:E71) -> 58.713989 | R71: =AVERAGE(L63:L71) -> 8.3356778 | S71: =AVERAGE(M63:M71) -> 5.7388111 | T71: 0.98 | U71: 0.31 | V71: 0.2 | W71: =IF(OR(E71>(Q71+T71),E71<(Q71-T71),L71>(R71+U71),L71<(R71-U71),M71>(S71+V71),M71<(S71-V71)),"Wrong","Ok") -> Ok
A72: 190405_5 | B72: MAY190405_5 J1 4 | C72: Dziani | D72: Phonolite | E72: 57.9333 | F72: 0.0264 | G72: 18.5356 | H72: 4.6021 | I72: 0.1552 | J72: 0.0412 | K72: 0.9673 | L72: 7.875 | M72: 5.6787 | N72: 0 | O72: =SUM(E72:N72) -> 95.8148 | Q72: =Q$77 -> 58.524267 | R72: =R$77 -> 8.5047833 | S72: =S$77 -> 5.5896667 | T72: 0.98 | U72: 0.31 | V72: 0.2 | W72: =IF(OR(E72>(Q72+T72),E72<(Q72-T72),L72>(R72+U72),L72<(R72-U72),M72>(S72+V72),M72<(S72-V72)),"Wrong","Ok") -> Wrong
A73: 190405_5 | B73: MAY190405_5 J2 4 | C73: Dziani | D73: Phonolite | E73: 58.4981 | F73: 0 | G73: 18.1145 | H73: 4.4512 | I73: 0.2229 | J73: 0.0281 | K73: 0.968 | L73: 8.8048 | M73: 5.4071 | N73: 0 | O73: =SUM(E73:N73) -> 96.4947 | Q73: =Q$77 -> 58.524267 | R73: =R$77 -> 8.5047833 | S73: =S$77 -> 5.5896667 | T73: 0.98 | U73: 0.31 | V73: 0.2 | W73: =IF(OR(E73>(Q73+T73),E73<(Q73-T73),L73>(R73+U73),L73<(R73-U73),M73>(S73+V73),M73<(S73-V73)),"Wrong","Ok") -> Ok
A74: 190405_5 | B74: MAY190405_5 J2 5 | C74: Dziani | D74: Phonolite | E74: 58.4644 | F74: 0.1038 | G74: 18.2962 | H74: 4.718 | I74: 0.1725 | J74: 0.0239 | K74: 0.9507 | L74: 8.62 | M74: 5.7008 | N74: 0 | O74: =SUM(E74:N74) -> 97.0503 | Q74: =Q$77 -> 58.524267 | R74: =R$77 -> 8.5047833 | S74: =S$77 -> 5.5896667 | T74: 0.98 | U74: 0.31 | V74: 0.2 | W74: =IF(OR(E74>(Q74+T74),E74<(Q74-T74),L74>(R74+U74),L74<(R74-U74),M74>(S74+V74),M74<(S74-V74)),"Wrong","Ok") -> Ok
A75: 190405_5 | B75: MAY190405_5 J2 1 | C75: Dziani | D75: Phonolite | E75: 58.4763 | F75: 0 | G75: 18.3012 | H75: 4.7532 | I75: 0.197 | J75: 0.0248 | K75: 0.9893 | L75: 8.6343 | M75: 5.682 | N75: 0 | O75: =SUM(E75:N75) -> 97.0581 | Q75: =Q$77 -> 58.524267 | R75: =R$77 -> 8.5047833 | S75: =S$77 -> 5.5896667 | T75: 0.98 | U75: 0.31 | V75: 0.2 | W75: =IF(OR(E75>(Q75+T75),E75<(Q75-T75),L75>(R75+U75),L75<(R75-U75),M75>(S75+V75),M75<(S75-V75)),"Wrong","Ok") -> Ok
A76: 190405_5 | B76: MAY190405_5 J2 2 | C76: Dziani | D76: Phonolite | E76: 58.7065 | F76: 0.0426 | G76: 18.421 | H76: 4.62 | I76: 0.1761 | J76: 0.0674 | K76: 1.1446 | L76: 8.4645 | M76: 5.5208 | N76: 0 | O76: =SUM(E76:N76) -> 97.1635 | Q76: =Q$77 -> 58.524267 | R76: =R$77 -> 8.5047833 | S76: =S$77 -> 5.5896667 | T76: 0.98 | U76: 0.31 | V76: 0.2 | W76: =IF(OR(E76>(Q76+T76),E76<(Q76-T76),L76>(R76+U76),L76<(R76-U76),M76>(S76+V76),M76<(S76-V76)),"Wrong","Ok") -> Ok
A77: 190405_5 | B77: MAY190405_5 J2 3 | C77: Dziani | D77: Phonolite | E77: 59.067 | F77: 0 | G77: 18.3937 | H77: 4.5982 | I77: 0.2354 | J77: 0.053 | K77: 1.0226 | L77: 8.6301 | M77: 5.5486 | N77: 0 | O77: =SUM(E77:N77) -> 97.5486 | Q77: =AVERAGE(E72:E77) -> 58.524267 | R77: =AVERAGE(L72:L77) -> 8.5047833 | S77: =AVERAGE(M72:M77) -> 5.5896667 | T77: 0.98 | U77: 0.31 | V77: 0.2 | W77: =IF(OR(E77>(Q77+T77),E77<(Q77-T77),L77>(R77+U77),L77<(R77-U77),M77>(S77+V77),M77<(S77-V77)),"Wrong","Ok") -> Ok
A78: 190405_7 | B78: MAY190405_7 J1 5 | C78: Dziani | D78: Phonolite | E78: 59.1987 | F78: 0.019 | G78: 18.2933 | H78: 4.2963 | I78: 0.1739 | J78: 0.0585 | K78: 0.9381 | L78: 8.3609 | M78: 6.0303 | N78: 0 | O78: =SUM(E78:N78) -> 97.369 | Q78: =Q$87 -> 58.15742 | R78: =R$87 -> 8.56531 | S78: =S$87 -> 5.81864 | T78: 0.98 | U78: 0.31 | V78: 0.2 | W78: =IF(OR(E78>(Q78+T78),E78<(Q78-T78),L78>(R78+U78),L78<(R78-U78),M78>(S78+V78),M78<(S78-V78)),"Wrong","Ok") -> Wrong
A79: 190405_7 | B79: MAY190405_7 J1 6 | C79: Dziani | D79: Phonolite | E79: 58.4471 | F79: 0.0563 | G79: 18.3725 | H79: 4.8176 | I79: 0.1855 | J79: 0.0342 | K79: 0.8764 | L79: 8.6972 | M79: 5.8045 | N79: 0 | O79: =SUM(E79:N79) -> 97.2913 | Q79: =Q$87 -> 58.15742 | R79: =R$87 -> 8.56531 | S79: =S$87 -> 5.81864 | T79: 0.98 | U79: 0.31 | V79: 0.2 | W79: =IF(OR(E79>(Q79+T79),E79<(Q79-T79),L79>(R79+U79),L79<(R79-U79),M79>(S79+V79),M79<(S79-V79)),"Wrong","Ok") -> Ok
A80: 190405_7 | B80: MAY190405_7 J1 7 | C80: Dziani | D80: Phonolite | E80: 57.7888 | F80: 0.038 | G80: 17.8053 | H80: 4.5898 | I80: 0.0992 | J80: 0.0376 | K80: 0.9511 | L80: 8.4756 | M80: 5.8247 | N80: 0 | O80: =SUM(E80:N80) -> 95.6101 | Q80: =Q$87 -> 58.15742 | R80: =R$87 -> 8.56531 | S80: =S$87 -> 5.81864 | T80: 0.98 | U80: 0.31 | V80: 0.2 | W80: =IF(OR(E80>(Q80+T80),E80<(Q80-T80),L80>(R80+U80),L80<(R80-U80),M80>(S80+V80),M80<(S80-V80)),"Wrong","Ok") -> Ok
A81: 190405_7 | B81: MAY190405_7 J1 8 | C81: Dziani | D81: Phonolite | E81: 57.9419 | F81: 0 | G81: 18.3505 | H81: 4.6006 | I81: 0.2504 | J81: 0.0411 | K81: 0.8907 | L81: 8.719 | M81: 5.7246 | N81: 0 | O81: =SUM(E81:N81) -> 96.5188 | Q81: =Q$87 -> 58.15742 | R81: =R$87 -> 8.56531 | S81: =S$87 -> 5.81864 | T81: 0.98 | U81: 0.31 | V81: 0.2 | W81: =IF(OR(E81>(Q81+T81),E81<(Q81-T81),L81>(R81+U81),L81<(R81-U81),M81>(S81+V81),M81<(S81-V81)),"Wrong","Ok") -> Ok
A82: 190405_7 | B82: MAY190405_7 J1 9 | C82: Dziani | D82: Phonolite | E82: 58.2175 | F82: 0 | G82: 18.5753 | H82: 4.7208 | I82: 0.3374 | J82: 0.0257 | K82: 0.9257 | L82: 8.5109 | M82: 5.9766 | N82: 0 | O82: =SUM(E82:N82) -> 97.2899 | Q82: =Q$87 -> 58.15742 | R82: =R$87 -> 8.56531 | S82: =S$87 -> 5.81864 | T82: 0.98 | U82: 0.31 | V82: 0.2 | W82: =IF(OR(E82>(Q82+T82),E82<(Q82-T82),L82>(R82+U82),L82<(R82-U82),M82>(S82+V82),M82<(S82-V82)),"Wrong","Ok") -> Ok
A83: 190405_7 | B83: MAY190405_7 J2 1 | C83: Dziani | D83: Phonolite | E83: 58.0241 | F83: 0 | G83: 18.0143 | H83: 4.4673 | I83: 0.2447 | J83: 0.0363 | K83: 0.9184 | L83: 8.4984 | M83: 5.8624 | N83: 0 | O83: =SUM(E83:N83) -> 96.0659 | Q83: =Q$87 -> 58.15742 | R83: =R$87 -> 8.56531 | S83: =S$87 -> 5.81864 | T83: 0.98 | U83: 0.31 | V83: 0.2 | W83: =IF(OR(E83>(Q83+T83),E83<(Q83-T83),L83>(R83+U83),L83<(R83-U83),M83>(S83+V83),M83<(S83-V83)),"Wrong","Ok") -> Ok
A84: 190405_7 | B84: MAY190405_7 J2 2 | C84: Dziani | D84: Phonolite | E84: 58.2062 | F84: 0.078 | G84: 17.9912 | H84: 4.7675 | I84: 0.2011 | J84: 0.0406 | K84: 0.963 | L84: 8.4696 | M84: 5.7626 | N84: 0 | O84: =SUM(E84:N84) -> 96.4798 | Q84: =Q$87 -> 58.15742 | R84: =R$87 -> 8.56531 | S84: =S$87 -> 5.81864 | T84: 0.98 | U84: 0.31 | V84: 0.2 | W84: =IF(OR(E84>(Q84+T84),E84<(Q84-T84),L84>(R84+U84),L84<(R84-U84),M84>(S84+V84),M84<(S84-V84)),"Wrong","Ok") -> Ok
A85: 190405_7 | B85: MAY190405_7 J2 3 | C85: Dziani | D85: Phonolite | E85: 58.1453 | F85: 0.0217 | G85: 18.2538 | H85: 4.8196 | I85: 0.2318 | J85: 0.0477 | K85: 0.9677 | L85: 8.7661 | M85: 5.6958 | N85: 0 | O85: =SUM(E85:N85) -> 96.9495 | Q85: =Q$87 -> 58.15742 | R85: =R$87 -> 8.56531 | S85: =S$87 -> 5.81864 | T85: 0.98 | U85: 0.31 | V85: 0.2 | W85: =IF(OR(E85>(Q85+T85),E85<(Q85-T85),L85>(R85+U85),L85<(R85-U85),M85>(S85+V85),M85<(S85-V85)),"Wrong","Ok") -> Ok
A86: 190405_7 | B86: MAY190405_7 J2 4 | C86: Dziani | D86: Phonolite | E86: 57.6992 | F86: 0.0173 | G86: 18.2608 | H86: 4.5814 | I86: 0.2853 | J86: 0.033 | K86: 0.9654 | L86: 8.6067 | M86: 5.8546 | N86: 0 | O86: =SUM(E86:N86) -> 96.3037 | Q86: =Q$87 -> 58.15742 | R86: =R$87 -> 8.56531 | S86: =S$87 -> 5.81864 | T86: 0.98 | U86: 0.31 | V86: 0.2 | W86: =IF(OR(E86>(Q86+T86),E86<(Q86-T86),L86>(R86+U86),L86<(R86-U86),M86>(S86+V86),M86<(S86-V86)),"Wrong","Ok") -> Ok
A87: 190405_7 | B87: MAY190405_7 J2 5 | C87: Dziani | D87: Phonolite | E87: 57.9054 | F87: 0.1565 | G87: 18.1789 | H87: 4.6483 | I87: 0.1866 | J87: 0.04 | K87: 0.9124 | L87: 8.5487 | M87: 5.6503 | N87: 0 | O87: =SUM(E87:N87) -> 96.2271 | Q87: =AVERAGE(E78:E87) -> 58.15742 | R87: =AVERAGE(L78:L87) -> 8.56531 | S87: =AVERAGE(M78:M87) -> 5.81864 | T87: 0.98 | U87: 0.31 | V87: 0.2 | W87: =IF(OR(E87>(Q87+T87),E87<(Q87-T87),L87>(R87+U87),L87<(R87-U87),M87>(S87+V87),M87<(S87-V87)),"Wrong","Ok") -> Ok
A88: 190407_4 | B88: MAY190407_4 J1 4 | C88: Mirandola | D88: Phonolite | E88: 58.2982 | F88: 0.013 | G88: 18.4804 | H88: 4.5239 | I88: 0.2574 | J88: 0.0451 | K88: 1.1928 | L88: 8.3967 | M88: 5.3771 | N88: 0 | O88: =SUM(E88:N88) -> 96.5846 | Q88: =Q$95 -> 59.500462 | R88: =R$95 -> 8.450125 | S88: =S$95 -> 5.2055875 | T88: 0.98 | U88: 0.31 | V88: 0.2 | W88: =IF(OR(E88>(Q88+T88),E88<(Q88-T88),L88>(R88+U88),L88<(R88-U88),M88>(S88+V88),M88<(S88-V88)),"Wrong","Ok") -> Wrong
A89: 190407_4 | B89: MAY190407_4 J2 3 | C89: Mirandola | D89: Phonolite | E89: 58.7969 | F89: 0.0217 | G89: 18.5576 | H89: 4.574 | I89: 0.3061 | J89: 0.0379 | K89: 1.0822 | L89: 8.4512 | M89: 5.5661 | N89: 0 | O89: =SUM(E89:N89) -> 97.3937 | Q89: =Q$95 -> 59.500462 | R89: =R$95 -> 8.450125 | S89: =S$95 -> 5.2055875 | T89: 0.98 | U89: 0.31 | V89: 0.2 | W89: =IF(OR(E89>(Q89+T89),E89<(Q89-T89),L89>(R89+U89),L89<(R89-U89),M89>(S89+V89),M89<(S89-V89)),"Wrong","Ok") -> Wrong
A90: 190407_4 | B90: MAY190407_4 J2 2 | C90: Mirandola | D90: Phonolite | E90: 59.6303 | F90: 0.0174 | G90: 18.426 | H90: 4.2997 | I90: 0.2026 | J90: 0.0688 | K90: 1.2018 | L90: 8.3455 | M90: 5.3277 | N90: 0 | O90: =SUM(E90:N90) -> 97.5198 | Q90: =Q$95 -> 59.500462 | R90: =R$95 -> 8.450125 | S90: =S$95 -> 5.2055875 | T90: 0.98 | U90: 0.31 | V90: 0.2 | W90: =IF(OR(E90>(Q90+T90),E90<(Q90-T90),L90>(R90+U90),L90<(R90-U90),M90>(S90+V90),M90<(S90-V90)),"Wrong","Ok") -> Ok
A91: 190407_4 | B91: MAY190407_4 J1 3 | C91: Mirandola | D91: Phonolite | E91: 59.0269 | F91: 0.0348 | G91: 18.5036 | H91: 4.4616 | I91: 0.2796 | J91: 0.0377 | K91: 1.0336 | L91: 8.772 | M91: 5.4419 | N91: 0 | O91: =SUM(E91:N91) -> 97.5917 | Q91: =Q$95 -> 59.500462 | R91: =R$95 -> 8.450125 | S91: =S$95 -> 5.2055875 | T91: 0.98 | U91: 0.31 | V91: 0.2 | W91: =IF(OR(E91>(Q91+T91),E91<(Q91-T91),L91>(R91+U91),L91<(R91-U91),M91>(S91+V91),M91<(S91-V91)),"Wrong","Ok") -> Wrong
A92: 190407_4 | B92: MAY190407_4 J1 6 | C92: Mirandola | D92: Phonolite | E92: 60.8812 | F92: 0.0261 | G92: 18.9707 | H92: 3.6908 | I92: 0.2172 | J92: 0.0338 | K92: 1.4887 | L92: 8.0841 | M92: 4.7 | N92: 0 | O92: =SUM(E92:N92) -> 98.0926 | Q92: =Q$95 -> 59.500462 | R92: =R$95 -> 8.450125 | S92: =S$95 -> 5.2055875 | T92: 0.98 | U92: 0.31 | V92: 0.2 | W92: =IF(OR(E92>(Q92+T92),E92<(Q92-T92),L92>(R92+U92),L92<(R92-U92),M92>(S92+V92),M92<(S92-V92)),"Wrong","Ok") -> Wrong
A93: 190407_4 | B93: MAY190407_4 J1 2 | C93: Mirandola | D93: Phonolite | E93: 59.5141 | F93: 0.013 | G93: 18.2418 | H93: 5.0861 | I93: 0.2943 | J93: 0.0678 | K93: 1.1331 | L93: 8.525 | M93: 5.2215 | N93: 0 | O93: =SUM(E93:N93) -> 98.0967 | Q93: =Q$95 -> 59.500462 | R93: =R$95 -> 8.450125 | S93: =S$95 -> 5.2055875 | T93: 0.98 | U93: 0.31 | V93: 0.2 | W93: =IF(OR(E93>(Q93+T93),E93<(Q93-T93),L93>(R93+U93),L93<(R93-U93),M93>(S93+V93),M93<(S93-V93)),"Wrong","Ok") -> Ok
A94: 190407_4 | B94: MAY190407_4 J1 5 | C94: Mirandola | D94: Phonolite | E94: 59.903 | F94: 0.0912 | G94: 18.9382 | H94: 4.6175 | I94: 0.1888 | J94: 0.0243 | K94: 1.3316 | L94: 8.42 | M94: 5.269 | N94: 0 | O94: =SUM(E94:N94) -> 98.7836 | Q94: =Q$95 -> 59.500462 | R94: =R$95 -> 8.450125 | S94: =S$95 -> 5.2055875 | T94: 0.98 | U94: 0.31 | V94: 0.2 | W94: =IF(OR(E94>(Q94+T94),E94<(Q94-T94),L94>(R94+U94),L94<(R94-U94),M94>(S94+V94),M94<(S94-V94)),"Wrong","Ok") -> Ok
A95: 190407_4 | B95: MAY190407_4 J1 1 | C95: Mirandola | D95: Phonolite | E95: 59.9531 | F95: 0.1125 | G95: 18.8879 | H95: 5.0024 | I95: 0.2516 | J95: 0.0656 | K95: 1.4716 | L95: 8.6065 | M95: 4.7414 | N95: 0 | O95: =SUM(E95:N95) -> 99.0926 | Q95: =AVERAGE(E88:E95) -> 59.500462 | R95: =AVERAGE(L88:L95) -> 8.450125 | S95: =AVERAGE(M88:M95) -> 5.2055875 | T95: 0.98 | U95: 0.31 | V95: 0.2 | W95: =IF(OR(E95>(Q95+T95),E95<(Q95-T95),L95>(R95+U95),L95<(R95-U95),M95>(S95+V95),M95<(S95-V95)),"Wrong","Ok") -> Wrong
A96: 190407_3 | B96: MAY190407_3 J2 2 | C96: Mirandola | D96: Phonolite | E96: 57.609 | F96: 0.0346 | G96: 18.2708 | H96: 4.7946 | I96: 0.2895 | J96: 0.0466 | K96: 0.9551 | L96: 8.1559 | M96: 5.4689 | N96: 0 | O96: =SUM(E96:N96) -> 95.625 | Q96: =Q$109 -> 58.541193 | R96: =R$109 -> 8.4297 | S96: =S$109 -> 5.6577286 | T96: 0.98 | U96: 0.31 | V96: 0.2 | W96: =IF(OR(E96>(Q96+T96),E96<(Q96-T96),L96>(R96+U96),L96<(R96-U96),M96>(S96+V96),M96<(S96-V96)),"Wrong","Ok") -> Ok
A97: 190407_3 | B97: MAY190407_3 obs 1 | C97: Mirandola | D97: Phonolite | E97: 57.011 | F97: 0.0173 | G97: 18.2885 | H97: 4.6513 | I97: 0.2896 | J97: 0.0479 | K97: 0.7528 | L97: 8.375 | M97: 6.5614 | N97: 0 | O97: =SUM(E97:N97) -> 95.9948 | Q97: =Q$109 -> 58.541193 | R97: =R$109 -> 8.4297 | S97: =S$109 -> 5.6577286 | T97: 0.98 | U97: 0.31 | V97: 0.2 | W97: =IF(OR(E97>(Q97+T97),E97<(Q97-T97),L97>(R97+U97),L97<(R97-U97),M97>(S97+V97),M97<(S97-V97)),"Wrong","Ok") -> Wrong
A98: 190407_3 | B98: MAY190407_3 J2 4 | C98: Mirandola | D98: Phonolite | E98: 58.3715 | F98: 0.0376 | G98: 18.2517 | H98: 4.5561 | I98: 0.2993 | J98: 0.0299 | K98: 1.0646 | L98: 8.196 | M98: 5.5733 | N98: 0 | O98: =SUM(E98:N98) -> 96.38 | Q98: =Q$109 -> 58.541193 | R98: =R$109 -> 8.4297 | S98: =S$109 -> 5.6577286 | T98: 0.98 | U98: 0.31 | V98: 0.2 | W98: =IF(OR(E98>(Q98+T98),E98<(Q98-T98),L98>(R98+U98),L98<(R98-U98),M98>(S98+V98),M98<(S98-V98)),"Wrong","Ok") -> Ok
A99: 190407_3 | B99: MAY190407_3 J2 3 | C99: Mirandola | D99: Phonolite | E99: 58.4276 | F99: 0.0188 | G99: 18.1773 | H99: 4.6436 | I99: 0.2195 | J99: 0.0496 | K99: 1.0218 | L99: 8.3523 | M99: 5.635 | N99: 0 | O99: =SUM(E99:N99) -> 96.5455 | Q99: =Q$109 -> 58.541193 | R99: =R$109 -> 8.4297 | S99: =S$109 -> 5.6577286 | T99: 0.98 | U99: 0.31 | V99: 0.2 | W99: =IF(OR(E99>(Q99+T99),E99<(Q99-T99),L99>(R99+U99),L99<(R99-U99),M99>(S99+V99),M99<(S99-V99)),"Wrong","Ok") -> Ok
A100: 190407_3 | B100: MAY190407_3 J1 1 | C100: Mirandola | D100: Phonolite | E100: 58.1147 | F100: 0.0047 | G100: 18.4747 | H100: 4.9495 | I100: 0.2151 | J100: 0.049 | K100: 0.9141 | L100: 8.361 | M100: 5.6048 | N100: 0 | O100: =SUM(E100:N100) -> 96.6876 | Q100: =Q$109 -> 58.541193 | R100: =R$109 -> 8.4297 | S100: =S$109 -> 5.6577286 | T100: 0.98 | U100: 0.31 | V100: 0.2 | W100: =IF(OR(E100>(Q100+T100),E100<(Q100-T100),L100>(R100+U100),L100<(R100-U100),M100>(S100+V100),M100<(S100-V100)),"Wrong","Ok") -> Ok
A101: 190407_3 | B101: MAY190407_3 J1 2 | C101: Mirandola | D101: Phonolite | E101: 59.0065 | F101: 0 | G101: 18.1011 | H101: 4.6337 | I101: 0.2873 | J101: 0.0678 | K101: 1.3948 | L101: 8.4296 | M101: 4.899 | N101: 0 | O101: =SUM(E101:N101) -> 96.8198 | Q101: =Q$109 -> 58.541193 | R101: =R$109 -> 8.4297 | S101: =S$109 -> 5.6577286 | T101: 0.98 | U101: 0.31 | V101: 0.2 | W101: =IF(OR(E101>(Q101+T101),E101<(Q101-T101),L101>(R101+U101),L101<(R101-U101),M101>(S101+V101),M101<(S101-V101)),"Wrong","Ok") -> Wrong
A102: 190407_3 | B102: MAY190407_3 obs 3 | C102: Mirandola | D102: Phonolite | E102: 58.5168 | F102: 0.0939 | G102: 18.0765 | H102: 4.5186 | I102: 0.317 | J102: 0.0334 | K102: 0.9488 | L102: 8.5553 | M102: 5.8121 | N102: 0 | O102: =SUM(E102:N102) -> 96.8724 | Q102: =Q$109 -> 58.541193 | R102: =R$109 -> 8.4297 | S102: =S$109 -> 5.6577286 | T102: 0.98 | U102: 0.31 | V102: 0.2 | W102: =IF(OR(E102>(Q102+T102),E102<(Q102-T102),L102>(R102+U102),L102<(R102-U102),M102>(S102+V102),M102<(S102-V102)),"Wrong","Ok") -> Ok
A103: 190407_3 | B103: MAY190407_3 J2 5 | C103: Mirandola | D103: Phonolite | E103: 58.5792 | F103: 0 | G103: 18.5409 | H103: 4.2688 | I103: 0.2231 | J103: 0.0402 | K103: 1.0739 | L103: 8.5455 | M103: 5.6233 | N103: 0 | O103: =SUM(E103:N103) -> 96.8949 | Q103: =Q$109 -> 58.541193 | R103: =R$109 -> 8.4297 | S103: =S$109 -> 5.6577286 | T103: 0.98 | U103: 0.31 | V103: 0.2 | W103: =IF(OR(E103>(Q103+T103),E103<(Q103-T103),L103>(R103+U103),L103<(R103-U103),M103>(S103+V103),M103<(S103-V103)),"Wrong","Ok") -> Ok
A104: 190407_3 | B104: MAY190407_3 obs 2 | C104: Mirandola | D104: Phonolite | E104: 58.323 | F104: 0.0611 | G104: 18.197 | H104: 4.5372 | I104: 0.2167 | J104: 0.0358 | K104: 1.0332 | L104: 8.5436 | M104: 6.0594 | N104: 0 | O104: =SUM(E104:N104) -> 97.007 | Q104: =Q$109 -> 58.541193 | R104: =R$109 -> 8.4297 | S104: =S$109 -> 5.6577286 | T104: 0.98 | U104: 0.31 | V104: 0.2 | W104: =IF(OR(E104>(Q104+T104),E104<(Q104-T104),L104>(R104+U104),L104<(R104-U104),M104>(S104+V104),M104<(S104-V104)),"Wrong","Ok") -> Wrong
A105: 190407_3 | B105: MAY190407_3 obs 4 | C105: Mirandola | D105: Phonolite | E105: 58.4706 | F105: 0.0282 | G105: 18.5282 | H105: 4.6819 | I105: 0.2643 | J105: 0.0534 | K105: 0.9481 | L105: 8.331 | M105: 6.1828 | N105: 0 | O105: =SUM(E105:N105) -> 97.4885 | Q105: =Q$109 -> 58.541193 | R105: =R$109 -> 8.4297 | S105: =S$109 -> 5.6577286 | T105: 0.98 | U105: 0.31 | V105: 0.2 | W105: =IF(OR(E105>(Q105+T105),E105<(Q105-T105),L105>(R105+U105),L105<(R105-U105),M105>(S105+V105),M105<(S105-V105)),"Wrong","Ok") -> Wrong
...

Sheet Corrected
A1: Sample | B1: Analysis | C1: Locality | D1: Type | E1: SiO2 | F1: TiO2 | G1: Al2O3 | H1: FeO | I1: MnO | J1: MgO | K1: CaO | L1: Na2O | M1: K2O | N1: P2O5 | O1: Total | Q1: SiO2 | R1: Na2O | S1: K2O | T1: SiO2 err | U1: Na2O err | V1: K2O err | W1: Statut
A2: 190407_9b | B2: 190407_9b J3 gauche 18 | C2: Dziani | D2: Phonolite | E2: 58.8317 | F2: 0.1453 | G2: 18.7157 | H2: 4.6013 | I2: 0.2201 | J2: 0.0392 | K2: 0.9386 | L2: 8.3932 | M2: 5.7498 | N2: 0 | O2: 97.6349 | Q2: 59.332116 | R2: 8.1243579 | S2: 5.8818368 | T2: 0.98 | U2: 0.31 | V2: 0.2 | W2: Ok
A3: 190407_9b | B3: 190407_9b J3 top 4 | C3: Dziani | D3: Phonolite | E3: 58.5611 | F3: 0 | G3: 19.1266 | H3: 4.7498 | I3: 0.2943 | J3: 0.0692 | K3: 1.0496 | L3: 8.0491 | M3: 5.9492 | N3: 0 | O3: 97.8489 | Q3: 59.332116 | R3: 8.1243579 | S3: 5.8818368 | T3: 0.98 | U3: 0.31 | V3: 0.2 | W3: Ok
A4: 190407_9b | B4: 190407_9b J3 gauche 20 | C4: Dziani | D4: Phonolite | E4: 58.6653 | F4: 0.045 | G4: 19.2017 | H4: 4.6042 | I4: 0.2664 | J4: 0.0438 | K4: 0.9263 | L4: 8.3149 | M4: 5.9693 | N4: 0 | O4: 98.0369 | Q4: 59.332116 | R4: 8.1243579 | S4: 5.8818368 | T4: 0.98 | U4: 0.31 | V4: 0.2 | W4: Ok
A5: 190407_9b | B5: 190407_9 J1 petit 46 | C5: Dziani | D5: Phonolite | E5: 59.1441 | F5: 0.0038 | G5: 19.2125 | H5: 4.8237 | I5: 0.2298 | J5: 0.0655 | K5: 0.9811 | L5: 8.2733 | M5: 5.9314 | N5: 0 | O5: 98.6652 | Q5: 59.332116 | R5: 8.1243579 | S5: 5.8818368 | T5: 0.98 | U5: 0.31 | V5: 0.2 | W5: Ok
A6: 190407_9b | B6: 190407_9b J3 top 5 | C6: Dziani | D6: Phonolite | E6: 60.0891 | F6: 0 | G6: 19.5395 | H6: 4.7584 | I6: 0.2705 | J6: 0.0428 | K6: 0.9812 | L6: 8.1818 | M6: 5.7824 | N6: 0 | O6: 99.6457 | Q6: 59.332116 | R6: 8.1243579 | S6: 5.8818368 | T6: 0.98 | U6: 0.31 | V6: 0.2 | W6: Ok
A7: 190405_4 | B7: MAY190405_4_J1_11 | C7: Dziani | D7: Phonolite | E7: 60.5982 | F7: 0.0237 | G7: 19.8399 | H7: 4.7429 | I7: 0.2495 | J7: 0.0653 | K7: 1.0448 | L7: 8.1819 | M7: 5.9221 | N7: 0 | O7: 100.6683 | Q7: 59.7687 | R7: 8.09285 | S7: 6.0537583 | T7: 0.98 | U7: 0.31 | V7: 0.2 | W7: Ok
A8: 190405_4 | B8: MAY190405_4_J1_12 | C8: Dziani | D8: Phonolite | E8: 60.4232 | F8: 0.0472 | G8: 19.842 | H8: 4.4529 | I8: 0.2402 | J8: 0.0426 | K8: 1.0884 | L8: 7.9264 | M8: 6.0466 | N8: 0 | O8: 100.1095 | Q8: 59.7687 | R8: 8.09285 | S8: 6.0537583 | T8: 0.98 | U8: 0.31 | V8: 0.2 | W8: Ok
A9: 190405_4 | B9: MAY190405_4_J1B_20 | C9: Dziani | D9: Phonolite | E9: 60.4602 | F9: 0.0237 | G9: 19.3343 | H9: 4.9843 | I9: 0.3126 | J9: 0.0586 | K9: 0.9831 | L9: 8.3119 | M9: 6.1609 | N9: 0 | O9: 100.6296 | Q9: 59.7687 | R9: 8.09285 | S9: 6.0537583 | T9: 0.98 | U9: 0.31 | V9: 0.2 | W9: Ok
A10: 190405_4 | B10: MAY190405_4_J1B_24 | C10: Dziani | D10: Phonolite | E10: 60.5189 | F10: 0.0634 | G10: 19.5231 | H10: 4.8547 | I10: 0.2788 | J10: 0.0864 | K10: 0.8844 | L10: 8.3486 | M10: 6.2303 | N10: 0 | O10: 100.7886 | Q10: 59.7687 | R10: 8.09285 | S10: 6.0537583 | T10: 0.98 | U10: 0.31 | V10: 0.2 | W10: Ok
A11: 190404_3 | B11: MAY190404_3_J1A_12 | C11: Dziani | D11: Phonolite | E11: 60.4691 | F11: 0.0079 | G11: 19.0196 | H11: 4.5454 | I11: 0.1902 | J11: 0.0586 | K11: 1.0677 | L11: 8.5911 | M11: 5.9726 | N11: 0 | O11: 99.9222 | Q11: 60.400212 | R11: 8.4199 | S11: 5.817475 | T11: 0.98 | U11: 0.31 | V11: 0.2 | W11: Ok
A12: 190405_2 | B12: May190405_2 J2 5 | C12: Dziani | D12: Phonolite | E12: 59.8835 | F12: 0.0474 | G12: 18.8607 | H12: 3.6751 | I12: 0.2145 | J12: 0.0382 | K12: 1.4023 | L12: 8.2553 | M12: 5.0771 | N12: 0 | O12: 97.4541 | Q12: 59.506745 | R12: 8.3034636 | S12: 5.1875182 | T12: 0.98 | U12: 0.31 | V12: 0.2 | W12: Ok
A13: 190405_2 | B13: May190405_2 J1 3 | C13: Dziani | D13: Phonolite | E13: 60.3671 | F13: 0.0261 | G13: 19.0586 | H13: 4.1163 | I13: 0.1632 | J13: 0.0377 | K13: 0.8968 | L13: 8.3756 | M13: 5.1359 | N13: 0 | O13: 98.1773 | Q13: 59.506745 | R13: 8.3034636 | S13: 5.1875182 | T13: 0.98 | U13: 0.31 | V13: 0.2 | W13: Ok
... A69: 210713_13 | B69: 210713_10 1 | C69: Vigie | D69: Phonolite | E69: 59.9315 | F69: 0 | G69: 19.388 | H69: 4.5245 | I69: 0.2877 | J69: 0.0399 | K69: 1.0092 | L69: 8.1442 | M69: 5.8742 | N69: 0 | O69: 99.1992 | Q69: 59.9315 | R69: 8.1442 | S69: 5.8742 | T69: 0.98 | U69: 0.31 | V69: 0.2 | W69: Ok

Sheet Corrected + Normalized
A1: =Corrected!A1 -> Sample | B1: =Corrected!B1 -> Analysis | C1: =Corrected!C1 -> Locality | D1: =Corrected!D1 -> Type | E1: =Corrected!E1 -> SiO2 | F1: =Corrected!F1 -> TiO2 | G1: =Corrected!G1 -> Al2O3 | H1: =Corrected!H1 -> FeO | ... O1: =Corrected!O1 -> Total | Q1: TA
A2: =Corrected!A2 -> 190407_9b | B2: =Corrected!B2 -> 190407_9b J3 gauche 18 | C2: =Corrected!C2 -> Dziani | D2: =Corrected!D2 -> Phonolite | E2: =Corrected!E2*100/Corrected!$O2 -> 60.256834 | F2: =Corrected!F2*100/Corrected!$O2 -> 0.14881974 | G2: =Corrected!G2*100/Corrected!$O2 -> 19.169068 | H2: =Corrected!H2*100/Corrected!$O2 -> 4.7127615 | I2: =Corrected!I2*100/Corrected!$O2 -> 0.22543168 | J2: =Corrected!J2*100/Corrected!$O2 -> 0.040149578 | K2: =Corrected!K2*100/Corrected!$O2 -> 0.96133657 | L2: =Corrected!L2*100/Corrected!$O2 -> 8.5965162 | ... N2: =Corrected!N2*100/Corrected!$O2 -> 0 | O2: =SUM(E2:N2) -> 100 | Q2: =L2+M2 -> 14.485599
A3: =Corrected!A3 -> 190407_9b | B3: =Corrected!B3 -> 190407_9b J3 top 4 | C3: =Corrected!C3 -> Dziani | D3: =Corrected!D3 -> Phonolite | E3: =Corrected!E3*100/Corrected!$O3 -> 59.848501 | F3: =Corrected!F3*100/Corrected!$O3 -> 0 | G3: =Corrected!G3*100/Corrected!$O3 -> 19.547077 | H3: =Corrected!H3*100/Corrected!$O3 -> 4.8542191 | I3: =Corrected!I3*100/Corrected!$O3 -> 0.30076986 | J3: =Corrected!J3*100/Corrected!$O3 -> 0.070721286 | K3: =Corrected!K3*100/Corrected!$O3 -> 1.0726743 | L3: =Corrected!L3*100/Corrected!$O3 -> 8.2260506 | ... N3: =Corrected!N3*100/Corrected!$O3 -> 0 | O3: =SUM(E3:N3) -> 100 | Q3: =L3+M3 -> 14.306037
A4: =Corrected!A4 -> 190407_9b | B4: =Corrected!B4 -> 190407_9b J3 gauche 20 | C4: =Corrected!C4 -> Dziani | D4: =Corrected!D4 -> Phonolite | E4: =Corrected!E4*100/Corrected!$O4 -> 59.840019 | F4: =Corrected!F4*100/Corrected!$O4 -> 0.045901084 | G4: =Corrected!G4*100/Corrected!$O4 -> 19.586197 | H4: =Corrected!H4*100/Corrected!$O4 -> 4.6963949 | I4: =Corrected!I4*100/Corrected!$O4 -> 0.27173442 | J4: =Corrected!J4*100/Corrected!$O4 -> 0.044677055 | K4: =Corrected!K4*100/Corrected!$O4 -> 0.94484832 | L4: =Corrected!L4*100/Corrected!$O4 -> 8.4813983 | ... N4: =Corrected!N4*100/Corrected!$O4 -> 0 | O4: =SUM(E4:N4) -> 100 | Q4: =L4+M4 -> 14.570228
A5: =Corrected!A5 -> 190407_9b | B5: =Corrected!B5 -> 190407_9 J1 petit 46 | C5: =Corrected!C5 -> Dziani | D5: =Corrected!D5 -> Phonolite | E5: =Corrected!E5*100/Corrected!$O5 -> 59.944236 | F5: =Corrected!F5*100/Corrected!$O5 -> 0.0038514086 | G5: =Corrected!G5*100/Corrected!$O5 -> 19.472418 | H5: =Corrected!H5*100/Corrected!$O5 -> 4.8889578 | I5: =Corrected!I5*100/Corrected!$O5 -> 0.23290887 | J5: =Corrected!J5*100/Corrected!$O5 -> 0.066386122 | K5: =Corrected!K5*100/Corrected!$O5 -> 0.99437289 | L5: =Corrected!L5*100/Corrected!$O5 -> 8.385226 | ... N5: =Corrected!N5*100/Corrected!$O5 -> 0 | O5: =SUM(E5:N5) -> 100 | Q5: =L5+M5 -> 14.396869
A6: =Corrected!A6 -> 190407_9b | B6: =Corrected!B6 -> 190407_9b J3 top 5 | C6: =Corrected!C6 -> Dziani | D6: =Corrected!D6 -> Phonolite | E6: =Corrected!E6*100/Corrected!$O6 -> 60.302753 | F6: =Corrected!F6*100/Corrected!$O6 -> 0 | G6: =Corrected!G6*100/Corrected!$O6 -> 19.608975 | H6: =Corrected!H6*100/Corrected!$O6 -> 4.775319 | I6: =Corrected!I6*100/Corrected!$O6 -> 0.27146179 | J6: =Corrected!J6*100/Corrected!$O6 -> 0.04295218 | K6: =Corrected!K6*100/Corrected!$O6 -> 0.98468875 | L6: =Corrected!L6*100/Corrected!$O6 -> 8.2108912 | ... N6: =Corrected!N6*100/Corrected!$O6 -> 0 | O6: =SUM(E6:N6) -> 100 | Q6: =L6+M6 -> 14.013851
A7: =Corrected!A7 -> 190405_4 | B7: =Corrected!B7 -> MAY190405_4_J1_11 | C7: =Corrected!C7 -> Dziani | D7: =Corrected!D7 -> Phonolite | E7: =Corrected!E7*100/Corrected!$O7 -> 60.195911 | F7: =Corrected!F7*100/Corrected!$O7 -> 0.023542664 | G7: =Corrected!G7*100/Corrected!$O7 -> 19.70819 | H7: =Corrected!H7*100/Corrected!$O7 -> 4.7114136 | I7: =Corrected!I7*100/Corrected!$O7 -> 0.24784366 | J7: =Corrected!J7*100/Corrected!$O7 -> 0.064866497 | K7: =Corrected!K7*100/Corrected!$O7 -> 1.037864 | L7: =Corrected!L7*100/Corrected!$O7 -> 8.1275834 | ... N7: =Corrected!N7*100/Corrected!$O7 -> 0 | O7: =SUM(E7:N7) -> 100 | Q7: =L7+M7 -> 14.010369
A8: =Corrected!A8 -> 190405_4 | B8: =Corrected!B8 -> MAY190405_4_J1_12 | C8: =Corrected!C8 -> Dziani | D8: =Corrected!D8 -> Phonolite | E8: =Corrected!E8*100/Corrected!$O8 -> 60.357109 | F8: =Corrected!F8*100/Corrected!$O8 -> 0.047148373 | G8: =Corrected!G8*100/Corrected!$O8 -> 19.820297 | H8: =Corrected!H8*100/Corrected!$O8 -> 4.4480294 | I8: =Corrected!I8*100/Corrected!$O8 -> 0.23993727 | J8: =Corrected!J8*100/Corrected!$O8 -> 0.042553404 | K8: =Corrected!K8*100/Corrected!$O8 -> 1.0872095 | L8: =Corrected!L8*100/Corrected!$O8 -> 7.9177301 | ... N8: =Corrected!N8*100/Corrected!$O8 -> 0 | O8: =SUM(E8:N8) -> 100 | Q8: =L8+M8 -> 13.957716
A9: =Corrected!A9 -> 190405_4 | B9: =Corrected!B9 -> MAY190405_4_J1B_20 | C9: =Corrected!C9 -> Dziani | D9: =Corrected!D9 -> Phonolite | E9: =Corrected!E9*100/Corrected!$O9 -> 60.081924 | F9: =Corrected!F9*100/Corrected!$O9 -> 0.023551718 | G9: =Corrected!G9*100/Corrected!$O9 -> 19.213333 | H9: =Corrected!H9*100/Corrected!$O9 -> 4.9531152 | I9: =Corrected!I9*100/Corrected!$O9 -> 0.31064418 | J9: =Corrected!J9*100/Corrected!$O9 -> 0.058233363 | K9: =Corrected!K9*100/Corrected!$O9 -> 0.97694913 | L9: =Corrected!L9*100/Corrected!$O9 -> 8.2598957 | ... N9: =Corrected!N9*100/Corrected!$O9 -> 0 | O9: =SUM(E9:N9) -> 100 | Q9: =L9+M9 -> 14.382249
A10: =Corrected!A10 -> 190405_4 | B10: =Corrected!B10 -> MAY190405_4_J1B_24 | C10: =Corrected!C10 -> Dziani | D10: =Corrected!D10 -> Phonolite | E10: =Corrected!E10*100/Corrected!$O10 -> 60.045382 | F10: =Corrected!F10*100/Corrected!$O10 -> 0.06290394 | G10: =Corrected!G10*100/Corrected!$O10 -> 19.370345 | H10: =Corrected!H10*100/Corrected!$O10 -> 4.8167154 | I10: =Corrected!I10*100/Corrected!$O10 -> 0.27661859 | J10: =Corrected!J10*100/Corrected!$O10 -> 0.085723981 | K10: =Corrected!K10*100/Corrected!$O10 -> 0.87748019 | L10: =Corrected!L10*100/Corrected!$O10 -> 8.2832781 | ... N10: =Corrected!N10*100/Corrected!$O10 -> 0 | O10: =SUM(E10:N10) -> 100 | Q10: =L10+M10 -> 14.46483
A11: =Corrected!A11 -> 190404_3 | B11: =Corrected!B11 -> MAY190404_3_J1A_12 | C11: =Corrected!C11 -> Dziani | D11: =Corrected!D11 -> Phonolite | E11: =Corrected!E11*100/Corrected!$O11 -> 60.516182 | F11: =Corrected!F11*100/Corrected!$O11 -> 0.007906151 | G11: =Corrected!G11*100/Corrected!$O11 -> 19.034409 | H11: =Corrected!H11*100/Corrected!$O11 -> 4.5489391 | I11: =Corrected!I11*100/Corrected!$O11 -> 0.19034809 | J11: =Corrected!J11*100/Corrected!$O11 -> 0.058645626 | K11: =Corrected!K11*100/Corrected!$O11 -> 1.0685313 | L11: =Corrected!L11*100/Corrected!$O11 -> 8.5977891 | ... N11: =Corrected!N11*100/Corrected!$O11 -> 0 | O11: =SUM(E11:N11) -> 100 | Q11: =L11+M11 -> 14.575039
A12: =Corrected!A12 -> 190405_2 | B12: =Corrected!B12 -> May190405_2 J2 5 | C12: =Corrected!C12 -> Dziani | D12: =Corrected!D12 -> Phonolite | E12: =Corrected!E12*100/Corrected!$O12 -> 61.447902 | F12: =Corrected!F12*100/Corrected!$O12 -> 0.048638282 | G12: =Corrected!G12*100/Corrected!$O12 -> 19.353419 | H12: =Corrected!H12*100/Corrected!$O12 -> 3.7711087 | I12: =Corrected!I12*100/Corrected!$O12 -> 0.22010362 | J12: =Corrected!J12*100/Corrected!$O12 -> 0.03919794 | K12: =Corrected!K12*100/Corrected!$O12 -> 1.4389338 | L12: =Corrected!L12*100/Corrected!$O12 -> 8.4709622 | ... N12: =Corrected!N12*100/Corrected!$O12 -> 0 | O12: =SUM(E12:N12) -> 100 | Q12: =L12+M12 -> 13.680697
A13: =Corrected!A13 -> 190405_2 | B13: =Corrected!B13 -> May190405_2 J1 3 | C13: =Corrected!C13 -> Dziani | D13: =Corrected!D13 -> Phonolite | E13: =Corrected!E13*100/Corrected!$O13 -> 61.487839 | F13: =Corrected!F13*100/Corrected!$O13 -> 0.026584557 | G13: =Corrected!G13*100/Corrected!$O13 -> 19.41243 | H13: =Corrected!H13*100/Corrected!$O13 -> 4.1927207 | I13: =Corrected!I13*100/Corrected!$O13 -> 0.16622987 | J13: =Corrected!J13*100/Corrected!$O13 -> 0.038399915 | K13: =Corrected!K13*100/Corrected!$O13 -> 0.91344944 | L13: =Corrected!L13*100/Corrected!$O13 -> 8.5310963 | ... N13: =Corrected!N13*100/Corrected!$O13 -> 0 | O13: =SUM(E13:N13) -> 100 | Q13: =L13+M13 -> 13.762346
... A69: =Corrected!A69 -> 210713_13 | B69: =Corrected!B69 -> 210713_10 1 | C69: =Corrected!C69 -> Vigie | D69: =Corrected!D69 -> Phonolite | E69: =Corrected!E69*100/Corrected!$O69 -> 60.415306 | F69: =Corrected!F69*100/Corrected!$O69 -> 0 | G69: =Corrected!G69*100/Corrected!$O69 -> 19.544512 | H69: =Corrected!H69*100/Corrected!$O69 -> 4.5610247 | I69: =Corrected!I69*100/Corrected!$O69 -> 0.2900225 | J69: =Corrected!J69*100/Corrected!$O69 -> 0.040222099 | K69: =Corrected!K69*100/Corrected!$O69 -> 1.0173469 | L69: =Corrected!L69*100/Corrected!$O69 -> 8.2099452 | ... N69: =Corrected!N69*100/Corrected!$O69 -> 0 | O69: =SUM(E69:N69) -> 100 | Q69: =L69+M69 -> 14.131566

Sheet Litterature
A1: Reference | B1: Locality | C1: Sample | D1: Rock Type | E1: Type | F1: SiO2 | G1: TiO2 | H1: Al2O3 | I1: FeOT* | J1: MnO | K1: MgO | L1: CaO | M1: Na2O | N1: K2O | O1: P2O5 | P1: Total | R1: TA
A2: [1278] FLOWER M. F. J. (1971) | B2: Anjouan | C2: AJ-32 | D2: VOLCANIC ROCK | E2: BASALT, OLIVINE | F2: 47.73 | G2: 1.75 | H2: 11.43 | I2: 11.602406 | J2: 0.17 | K2: 11.86 | L2: 10.45 | M2: 2.21 | N2: 0.58 | O2: 0.33 | P2: =SUM(F2:H2)+SUM(I2:O2) -> 98.112406 | R2: =M2+N2 -> 2.79
A3: [1278] FLOWER M. F. J. (1971) | B3: Anjouan | C3: AJ-67 | D3: VOLCANIC ROCK | E3: BASANITE | F3: 46.3 | G3: 2.39 | H3: 14.97 | I3: 11.310182 | J3: 0.2 | K3: 7.19 | L3: 10.46 | M3: 3.77 | N3: 1.3 | O3: 0.83 | P3: =SUM(F3:H3)+SUM(I3:O3) -> 98.720182 | R3: =M3+N3 -> 5.07
A4: [1278] FLOWER M. F. J. (1971) | B4: Anjouan | C4: AJ-76 | D4: VOLCANIC ROCK | E4: HAWAIITE, NEPHELINE | F4: 46.31 | G4: 2.39 | H4: 16.43 | I4: 11.543288 | J4: 0.17 | K4: 4.43 | L4: 8.43 | M4: 5.36 | N4: 2.19 | O4: 0.92 | P4: =SUM(F4:H4)+SUM(I4:O4) -> 98.173288 | R4: =M4+N4 -> 7.55
A5: [1278] FLOWER M. F. J. (1971) | B5: Anjouan | C5: AJ-75 | D5: VOLCANIC ROCK | E5: MUGEARITE, NEPHELINE | F5: 49.68 | G5: 1.57 | H5: 17.67 | I5: 10.042266 | J5: 0.18 | K5: 2.92 | L5: 6.26 | M5: 6.34 | N5: 2.84 | O5: 0.93 | P5: =SUM(F5:H5)+SUM(I5:O5) -> 98.432266 | R5: =M5+N5 -> 9.18
A6: [1278] FLOWER M. F. J. (1971) | B6: Anjouan | C6: AJ-2 | D6: VOLCANIC ROCK | E6: PHONOLITE | F6: 55.75 | G6: 0.33 | H6: 20.13 | I6: 6.062326 | J6: 0.2 | K6: 0.63 | L6: 3.05 | M6: 8.18 | N6: 3.9 | O6: 0.18 | P6: =SUM(F6:H6)+SUM(I6:O6) -> 98.412326 | R6: =M6+N6 -> 12.08
A7: [1279] FLOWER M. F. J. (1973) | B7: Anjouan | C7: 1 | D7: VOLCANIC ROCK | E7: BASALT, HYPERSTHENE | F7: 47.23 | G7: 2.28 | H7: 12 | I7: 11.87427 | J7: 0.17 | K7: 10.94 | L7: 10.82 | M7: 2.18 | N7: 0.78 | O7: 0.41 | P7: =SUM(F7:H7)+SUM(I7:O7) -> 98.68427 | R7: =M7+N7 -> 2.96
A8: [1279] FLOWER M. F. J. (1973) | B8: Anjouan | C8: 2 | D8: VOLCANIC ROCK | E8: HAWAIITE, HYPERSTHENE | F8: 49.92 | G8: 2.87 | H8: 13.77 | I8: 11.865212 | J8: 0.16 | K8: 7.12 | L8: 10.14 | M8: 2.79 | N8: 1.43 | O8: 0.56 | P8: =SUM(F8:H8)+SUM(I8:O8) -> 100.62521 | R8: =M8+N8 -> 4.22
A9: [1279] FLOWER M. F. J. (1973) | B9: Anjouan | C9: 3 | D9: VOLCANIC ROCK | E9: BASALT, ALKALINE | F9: 46.25 | G9: 2.29 | H9: 11.95 | I9: 11.675252 | J9: 0.18 | K9: 10.72 | L9: 10.85 | M9: 2.74 | N9: 1.14 | O9: 0.46 | P9: =SUM(F9:H9)+SUM(I9:O9) -> 98.255252 | R9: =M9+N9 -> 3.88
A10: [1279] FLOWER M. F. J. (1973) | B10: Anjouan | C10: 4 | D10: VOLCANIC ROCK | E10: HAWAIITE | F10: 48.36 | G10: 2.91 | H10: 16.41 | I10: 10.982246 | J10: 0.18 | K10: 4.44 | L10: 8.91 | M10: 4.22 | N10: 1.89 | O10: 0.73 | P10: =SUM(F10:H10)+SUM(I10:O10) -> 99.032246 | R10: =M10+N10 -> 6.11
A11: [1279] FLOWER M. F. J. (1973) | B11: Anjouan | C11: 5 | D11: VOLCANIC ROCK | E11: BENMOREITE | F11: 55.59 | G11: 1.63 | H11: 18.65 | I11: 7.60922 | J11: 0.21 | K11: 1.41 | L11: 4.52 | M11: 5.81 | N11: 2.68 | O11: 0.42 | P11: =SUM(F11:H11)+SUM(I11:O11) -> 98.52922 | R11: =M11+N11 -> 8.49
A12: [1279] FLOWER M. F. J. (1973) | B12: Anjouan | C12: 6 | D12: VOLCANIC ROCK | E12: TRACHYTE | F12: 56.09 | G12: 1.27 | H12: 18.57 | I12: 6.832286 | J12: 0.21 | K12: 1.22 | L12: 4.27 | M12: 6.22 | N12: 3.2 | O12: 0.3 | P12: =SUM(F12:H12)+SUM(I12:O12) -> 98.182286 | R12: =M12+N12 -> 9.42
A13: [1279] FLOWER M. F. J. (1973) | B13: Anjouan | C13: 7 | D13: VOLCANIC ROCK | E13: BASANITE | F13: 44.65 | G13: 2.57 | H13: 13.85 | I13: 12.112106 | J13: 0.19 | K13: 8.28 | L13: 11.12 | M13: 3.69 | N13: 1.43 | O13: 0.6 | P13: =SUM(F13:H13)+SUM(I13:O13) -> 98.492106 | R13: =M13+N13 -> 5.12
A14: [1279] FLOWER M. F. J. (1973) | B14: Anjouan | C14: 8 | D14: VOLCANIC ROCK | E14: HAWAIITE, NEPHELINE | F14: 46.78 | G14: 2.28 | H14: 16.26 | I14: 11.660222 | J14: 0.19 | K14: 4.22 | L14: 7.94 | M14: 5.4 | N14: 2.31 | O14: 0.89 | P14: =SUM(F14:H14)+SUM(I14:O14) -> 97.930222 | R14: =M14+N14 -> 7.71
A15: [1279] FLOWER M. F. J. (1973) | B15: Anjouan | C15: 9 | D15: VOLCANIC ROCK | E15: MUGEARITE, NEPHELINE | F15: 49.57 | G15: 1.56 | H15: 17.81 | I15: 10.143168 | J15: 0.19 | K15: 2.85 | L15: 6.26 | M15: 6.11 | N15: 2.83 | O15: 0.88 | P15: =SUM(F15:H15)+SUM(I15:O15) -> 98.203168 | R15: =M15+N15 -> 8.94
A16: [1279] FLOWER M. F. J. (1973) | B16: Anjouan | C16: 10 | D16: VOLCANIC ROCK | E16: BENMOREITE, NEPHELINE | F16: 52.96 | G16: 0.81 | H16: 18.95 | I16: 8.776254 | J16: 0.17 | K16: 1.28 | L16: 4.33 | M16: 7.44 | N16: 3.4 | O16: 0.45 | P16: =SUM(F16:H16)+SUM(I16:O16) -> 98.566254 | R16: =M16+N16 -> 10.84
A17: [1279] FLOWER M. F. J. (1973) | B17: Anjouan | C17: 11 | D17: VOLCANIC ROCK | E17: PHONOLITE | F17: 54.72 | G17: 0.42 | H17: 19.78 | I17: 7.018178 | J17: 0.22 | K17: 0.87 | L17: 2.81 | M17: 8.12 | N17: 4.05 | O17: 0.23 | P17: =SUM(F17:H17)+SUM(I17:O17) -> 98.238178 | R17: =M17+N17 -> 12.17
A18: [1279] FLOWER M. F. J. (1973) | B18: Anjouan | C18: 12 | D18: VOLCANIC ROCK | E18: PHONOLITE, PERALKALINE | F18: 56 | G18: 0.77 | H18: 17.86 | I18: 6.13431 | J18: 0.2 | K18: 1.02 | L18: 2.27 | M18: 8.8 | N18: 4.4 | O18: 0.29 | P18: =SUM(F18:H18)+SUM(I18:O18) -> 97.74431 | R18: =M18+N18 -> 13.2
A19: [1279] FLOWER M. F. J. (1973) | B19: Anjouan | C19: AJ-35 | D19: VOLCANIC ROCK | E19: ANKARAMITE | F19: 47.33 | G19: 2.26 | H19: 10.52 | I19: 11.852466 | J19: 0.18 | K19: 11.97 | L19: 12.3 | M19: 1.99 | N19: 0.75 | O19: 0.39 | P19: =SUM(F19:H19)+SUM(I19:O19) -> 99.542466 | R19: =M19+N19 -> 2.74
A20: [1279] FLOWER M. F. J. (1973) | B20: Anjouan | C20: AJ-110 | D20: VOLCANIC ROCK | E20: ANKARAMITE | F20: 46.53 | G20: 2.44 | H20: 11.77 | I20: 11.595432 | J20: 0.16 | K20: 10.28 | L20: 11.45 | M20: 2.14 | N20: 0.93 | O20: 0.47 | P20: =SUM(F20:H20)+SUM(I20:O20) -> 97.765432 | R20: =M20+N20 -> 3.07
A21: [1279] FLOWER M. F. J. (1973) | B21: Anjouan | C21: AJ-32 | D21: VOLCANIC ROCK | E21: BASALT, OLIVINE | F21: 47.73 | G21: 1.75 | H21: 11.43 | I21: 11.602406 | J21: 0.17 | K21: 11.86 | L21: 10.45 | M21: 2.21 | N21: 0.58 | O21: 0.33 | P21: =SUM(F21:H21)+SUM(I21:O21) -> 98.112406 | R21: =M21+N21 -> 2.79
A22: [1279] FLOWER M. F. J. (1973) | B22: Anjouan | C22: AJ-146 | D22: VOLCANIC ROCK | E22: BASALT, OLIVINE | F22: 47.65 | G22: 2.35 | H22: 10.4 | I22: 10.82962 | J22: 0.19 | K22: 13.07 | L22: 11.92 | M22: 1.93 | N22: 0.33 | O22: 0.35 | P22: =SUM(F22:H22)+SUM(I22:O22) -> 99.01962 | R22: =M22+N22 -> 2.26
A23: [1279] FLOWER M. F. J. (1973) | B23: Anjouan | C23: AJ-27 | D23: VOLCANIC ROCK | E23: OCEANITE | F23: 46.59 | G23: 2.51 | H23: 10.52 | I23: 12.163128 | J23: 0.18 | K23: 13.41 | L23: 10.39 | M23: 1.77 | N23: 0.72 | O23: 0.36 | P23: =SUM(F23:H23)+SUM(I23:O23) -> 98.613128 | R23: =M23+N23 -> 2.49
A24: [1279] FLOWER M. F. J. (1973) | B24: Anjouan | C24: AJ-218 | D24: VOLCANIC ROCK | E24: BASANITE, OLIVINE | F24: 43.3 | G24: 2.39 | H24: 12.11 | I24: 12.690062 | J24: 0.2 | K24: 12.55 | L24: 11.25 | M24: 3.27 | N24: 1.28 | O24: 0.63 | P24: =SUM(F24:H24)+SUM(I24:O24) -> 99.670062 | R24: =M24+N24 -> 4.55
A25: [1279] FLOWER M. F. J. (1973) | B25: Anjouan | C25: AJ-117 | D25: VOLCANIC ROCK | E25: BASANITE | F25: 44.74 | G25: 2.37 | H25: 12.15 | I25: 11.226174 | J25: 0.23 | K25: 9.38 | L25: 13.72 | M25: 2.73 | N25: 1.06 | O25: 0.61 | P25: =SUM(F25:H25)+SUM(I25:O25) -> 98.216174 | R25: =M25+N25 -> 3.79
A26: [1279] FLOWER M. F. J. (1973) | B26: Anjouan | C26: AJ-10 | D26: VOLCANIC ROCK | E26: BASANITE, OLIVINE-CLINOPYROXENE | F26: 44.78 | G26: 2.27 | H26: 13.37 | I26: 12.24423 | J26: 0.16 | K26: 10.46 | L26: 11.17 | M26: 2.9 | N26: 0.94 | O26: 0.5 | P26: =SUM(F26:H26)+SUM(I26:O26) -> 98.79423 | R26: =M26+N26 -> 3.84
A27: [1313] NOUGIER J. (1986) | B27: Anjouan | C27: AN08 | D27: VOLCANIC ROCK | E27: HAWAIITE, NEPHELINE | F27: 44.4 | G27: 2.8 | H27: 14.5 | I27: 13.061044 | J27: 0.22 | K27: 10.5 | L27: 9.9 | M27: 3.3 | N27: 1.1 | P27: =SUM(F27:H27)+SUM(I27:O27) -> 99.781044 | R27: =M27+N27 -> 4.4
A28: [1313] NOUGIER J. (1986) | B28: Anjouan | C28: AN02 | D28: VOLCANIC ROCK | E28: HAWAIITE, NEPHELINE | F28: 44 | G28: 2.8 | H28: 16.6 | I28: 12.964952 | J28: 0.24 | K28: 7.05 | L28: 9.6 | M28: 4.5 | N28: 1.8 | P28: =SUM(F28:H28)+SUM(I28:O28) -> 99.554952 | R28: =M28+N28 -> 6.3
A29: [1313] NOUGIER J. (1986) | B29: Anjouan | C29: AN01 | D29: VOLCANIC ROCK | E29: BENMOREITE, NEPHELINE | F29: 52.5 | G29: 0.9 | H29: 19 | I29: 9.006094 | J29: 0.25 | K29: 1.6 | L29: 4.5 | M29: 7.5 | N29: 3.3 | P29: =SUM(F29:H29)+SUM(I29:O29) -> 98.556094 | R29: =M29+N29 -> 10.8
A30: [1313] NOUGIER J. (1986) | B30: Anjouan | C30: AN04 | D30: VOLCANIC ROCK | E30: PHONOLITE | F30: 53.55 | H30: 19.65 | I30: 8.014992 | J30: 0.34 | K30: 0.3 | L30: 2.8 | M30: 7.6 | N30: 4.25 | P30: =SUM(F30:H30)+SUM(I30:O30) -> 96.504992 | R30: =M30+N30 -> 11.85
A31: [1365] THOMPSON R. N. (1971) | B31: Anjouan | C31: AJ32 | D31: VOLCANIC ROCK | E31: THOLEIITE, OLIVINE | F31: 47.73 | G31: 1.75 | H31: 11.43 | I31: 11.602406 | J31: 0.17 | K31: 11.86 | L31: 10.45 | M31: 2.21 | N31: 0.58 | O31: 0.33 | P31: =SUM(F31:H31)+SUM(I31:O31) -> 98.112406 | R31: =M31+N31 -> 2.79
A32: [1365] THOMPSON R. N. (1971) | B32: Anjouan | C32: AJ35 | D32: VOLCANIC ROCK | E32: ANKARAMITE | F32: 47.33 | G32: 2.26 | H32: 10.52 | I32: 11.852466 | J32: 0.18 | K32: 11.97 | L32: 12.3 | M32: 1.99 | N32: 0.75 | O32: 0.39 | P32: =SUM(F32:H32)+SUM(I32:O32) -> 99.542466 | R32: =M32+N32 -> 2.74
A33: [1365] THOMPSON R. N. (1971) | B33: Anjouan | C33: AJ168 | D33: VOLCANIC ROCK | E33: ANKARAMITE | F33: 49.12 | G33: 2.27 | H33: 12.22 | I33: 10.970462 | J33: 0.11 | K33: 9.94 | L33: 10.14 | M33: 2.21 | N33: 0.65 | O33: 0.36 | P33: =SUM(F33:H33)+SUM(I33:O33) -> 97.990462 | R33: =M33+N33 -> 2.86
A34: [1365] THOMPSON R. N. (1971) | B34: Anjouan | C34: AJ68 | D34: VOLCANIC ROCK | E34: BASALT, ALKALINE | F34: 46.88 | G34: 2.39 | H34: 12.08 | I34: 12.330162 | J34: 0.2 | K34: 9.5 | L34: 10.29 | M34: 2.92 | N34: 1.01 | O34: 0.48 | P34: =SUM(F34:H34)+SUM(I34:O34) -> 98.080162 | R34: =M34+N34 -> 3.93
A35: [1365] THOMPSON R. N. (1971) | B35: Anjouan | C35: AJ33 | D35: VOLCANIC ROCK | E35: THOLEIITE, OLIVINE | F35: 46.33 | G35: 2.41 | H35: 14.14 | I35: 12.876194 | J35: 0.16 | K35: 9.06 | L35: 10.82 | M35: 2.09 | N35: 1.05 | O35: 0.43 | P35: =SUM(F35:H35)+SUM(I35:O35) -> 99.366194 | R35: =M35+N35 -> 3.14
A36: [1365] THOMPSON R. N. (1971) | B36: Anjouan | C36: AJ102 | D36: VOLCANIC ROCK | E36: HAWAIITE, BASALTIC | F36: 46.35 | G36: 2.35 | H36: 13.68 | I36: 11.751104 | J36: 0.17 | K36: 7.88 | L36: 10.22 | M36: 3.37 | N36: 1.35 | O36: 0.54 | P36: =SUM(F36:H36)+SUM(I36:O36) -> 97.661104 | R36: =M36+N36 -> 4.72
A37: [1365] THOMPSON R. N. (1971) | B37: Anjouan | C37: AJ99 | D37: VOLCANIC ROCK | E37: BASANITE | F37: 44.38 | G37: 3.05 | H37: 14.79 | I37: 12.611204 | J37: 0.21 | K37: 6.62 | L37: 10.18 | M37: 4 | N37: 1.6 | O37: 0.97 | P37: =SUM(F37:H37)+SUM(I37:O37) -> 98.411204 | R37: =M37+N37 -> 5.6
A38: [1365] THOMPSON R. N. (1971) | B38: Anjouan | C38: AJ175 | D38: VOLCANIC ROCK | E38: HAWAIITE | F38: 48.59 | G38: 2.82 | H38: 16.84 | I38: 9.990342 | J38: 0.19 | K38: 4.58 | L38: 8.75 | M38: 4.35 | N38: 2.06 | O38: 0.72 | P38: =SUM(F38:H38)+SUM(I38:O38) -> 98.890342 | R38: =M38+N38 -> 6.41
A39: [1365] THOMPSON R. N. (1971) | B39: Anjouan | C39: AJ76 | D39: VOLCANIC ROCK | E39: HAWAIITE, NEPHELINE | F39: 46.31 | G39: 2.39 | H39: 16.43 | I39: 11.543288 | J39: 0.17 | K39: 4.43 | L39: 8.43 | M39: 5.36 | N39: 2.19 | O39: 0.92 | P39: =SUM(F39:H39)+SUM(I39:O39) -> 98.173288 | R39: =M39+N39 -> 7.55
A40: [1365] THOMPSON R. N. (1971) | B40: Anjouan | C40: AJ75 | D40: VOLCANIC ROCK | E40: MUGEARITE, NEPHELINE | F40: 49.68 | G40: 1.57 | H40: 17.67 | I40: 10.042266 | J40: 0.18 | K40: 2.92 | L40: 6.26 | M40: 6.34 | N40: 2.84 | O40: 0.93 | P40: =SUM(F40:H40)+SUM(I40:O40) -> 98.432266 | R40: =M40+N40 -> 9.18
A41: [1365] THOMPSON R. N. (1971) | B41: Anjouan | C41: AJ98 | D41: VOLCANIC ROCK | E41: MUGEARITE, NEPHELINE | F41: 48.38 | G41: 1.77 | H41: 17.22 | I41: 11.368358 | J41: 0.18 | K41: 2.69 | L41: 6.67 | M41: 6 | N41: 2.63 | O41: 0.88 | P41: =SUM(F41:H41)+SUM(I41:O41) -> 97.788358 | R41: =M41+N41 -> 8.63
A42: [1365] THOMPSON R. N. (1971) | B42: Anjouan | C42: AJ123 | D42: VOLCANIC ROCK | E42: BENMOREITE, NEPHELINE | F42: 52.56 | G42: 0.9 | H42: 18.61 | I42: 8.64437 | J42: 0.2 | K42: 1.36 | L42: 4.72 | M42: 7.17 | N42: 3.28 | O42: 0.45 | P42: =SUM(F42:H42)+SUM(I42:O42) -> 97.89437 | R42: =M42+N42 -> 10.45
... A131: [1331] DENIEL C. (1998) | B131: Karthala | C131: 89KA7 | D131: VOLCANIC ROCK | E131: TRACHYBASALT | F131: 47.93 | G131: 2.82 | H131: 14.99 | I131: 11.850366 | J131: 0.19 | K131: 5.06 | L131: 10.25 | M131: 3.7 | N131: 1.51 | O131: 0.49 | P131: =SUM(F131:H131)+SUM(I131:O131) -> 98.790366 | R131: =M131+N131 -> 5.21
A132: [1423] STRONG D. F. (1972) | B132: Karthala | C132: 1 | D132: VOLCANIC ROCK | E132: ANKARAMITE | F132: 47.05 | G132: 2.38 | H132: 13.23 | I132: 11.436494 | J132: 0.19 | K132: 9.21 | L132: 11.36 | M132: 2.89 | N132: 1.25 | O132: 0.43 | P132: =SUM(F132:H132)+SUM(I132:O132) -> 99.426494 | R132: =M132+N132 -> 4.14
A133: [1423] STRONG D. F. (1972) | B133: Karthala | C133: 6 | D133: VOLCANIC ROCK | E133: BASALT, ALKALINE | F133: 47.45 | G133: 2.29 | H133: 14.19 | I133: 11.740662 | J133: 0.19 | K133: 6.69 | L133: 12.82 | M133: 3.12 | N133: 1.12 | O133: 0.4 | P133: =SUM(F133:H133)+SUM(I133:O133) -> 100.01066 | R133: =M133+N133 -> 4.24
A134: [1423] STRONG D. F. (1972) | B134: Karthala | C134: 13 | D134: VOLCANIC ROCK | E134: ANKARAMITE | F134: 45.4 | G134: 1.6 | H134: 8.46 | I134: 11.380342 | J134: 0.2 | K134: 17.43 | L134: 11.79 | M134: 1.42 | N134: 0.52 | O134: 0.26 | P134: =SUM(F134:H134)+SUM(I134:O134) -> 98.460342 | R134: =M134+N134 -> 1.94
A135: [1423] STRONG D. F. (1972) | B135: Karthala | C135: 17 | D135: VOLCANIC ROCK | E135: OCEANITE | F135: 46.05 | G135: 1.94 | H135: 10.02 | I135: 11.37465 | J135: 0.19 | K135: 15.6 | L135: 10.85 | M135: 2.34 | N135: 0.89 | O135: 0.29 | P135: =SUM(F135:H135)+SUM(I135:O135) -> 99.54465 | R135: =M135+N135 -> 3.23
A136: [1423] STRONG D. F. (1972) | B136: Karthala | C136: 18 | D136: VOLCANIC ROCK | E136: OCEANITE | F136: 44.91 | G136: 1.49 | H136: 7.78 | I136: 11.577596 | J136: 0.2 | K136: 21.07 | L136: 9.07 | M136: 1.56 | N136: 0.48 | O136: 0.23 | P136: =SUM(F136:H136)+SUM(I136:O136) -> 98.367596 | R136: =M136+N136 -> 2.04
A137: [1423] STRONG D. F. (1972) | B137: Karthala | C137: 19 | D137: VOLCANIC ROCK | E137: OCEANITE | F137: 45.85 | G137: 1.56 | H137: 8.14 | I137: 11.700562 | J137: 0.19 | K137: 19.66 | L137: 9.58 | M137: 1.76 | N137: 0.57 | O137: 0.27 | P137: =SUM(F137:H137)+SUM(I137:O137) -> 99.280562 | R137: =M137+N137 -> 2.33
A138: [1423] STRONG D. F. (1972) | B138: Karthala | C138: 25 | D138: VOLCANIC ROCK | E138: BASALT, ALKALINE | F138: 48.32 | G138: 2.45 | H138: 14.83 | I138: 11.912406 | J138: 0.19 | K138: 5.5 | L138: 11.42 | M138: 3.26 | N138: 1.39 | O138: 0.44 | P138: =SUM(F138:H138)+SUM(I138:O138) -> 99.712406 | R138: =M138+N138 -> 4.65
A139: [1423] STRONG D. F. (1972) | B139: Karthala | C139: 41 | D139: VOLCANIC ROCK | E139: ANKARAMITE | F139: 47.37 | G139: 1.91 | H139: 11.75 | I139: 10.881624 | J139: 0.18 | K139: 11.22 | L139: 12.92 | M139: 2.58 | N139: 0.83 | O139: 0.3 | P139: =SUM(F139:H139)+SUM(I139:O139) -> 99.941624 | R139: =M139+N139 -> 3.41
A140: [1423] STRONG D. F. (1972) | B140: Karthala | C140: 142 | D140: VOLCANIC ROCK | E140: BASALT, ALKALINE | F140: 46.48 | G140: 2.61 | H140: 14.18 | I140: 11.970702 | J140: 0.2 | K140: 6.95 | L140: 11.04 | M140: 2.96 | N140: 1.38 | O140: 0.52 | P140: =SUM(F140:H140)+SUM(I140:O140) -> 98.290702 | R140: =M140+N140 -> 4.34
A141: [1423] STRONG D. F. (1972) | B141: Karthala | C141: 195 | D141: VOLCANIC ROCK | E141: OCEANITE | F141: 46.55 | G141: 1.9 | H141: 10.08 | I141: 11.388318 | J141: 0.19 | K141: 14.02 | L141: 12.18 | M141: 2.06 | N141: 0.86 | O141: 0.3 | P141: =SUM(F141:H141)+SUM(I141:O141) -> 99.528318 | R141: =M141+N141 -> 2.92
A142: [7510] CLASS C. (2005) | B142: Karthala | C142: K40 | D142: VOLCANIC ROCK | E142: BASALT, ALKALINE | F142: 46.67 | G142: 2.64 | H142: 14.23 | I142: 11.74239 | J142: 0.18 | K142: 7.51 | L142: 10.9 | M142: 3.87 | N142: 1.34 | O142: 0.46 | P142: =SUM(F142:H142)+SUM(I142:O142) -> 99.54239 | R142: =M142+N142 -> 5.21
A143: [7510] CLASS C. (2005) | B143: Karthala | C143: K41 | D143: VOLCANIC ROCK | E143: BASALT, ALKALINE | F143: 46.34 | G143: 2.29 | H143: 12.34 | I143: 11.715396 | J143: 0.18 | K143: 11.47 | L143: 10.8 | M143: 3.11 | N143: 0.97 | O143: 0.37 | P143: =SUM(F143:H143)+SUM(I143:O143) -> 99.585396 | R143: =M143+N143 -> 4.08
A144: [7510] CLASS C. (2005) | B144: Karthala | C144: K42 | D144: VOLCANIC ROCK | E144: BASALT, ALKALINE | F144: 46.85 | G144: 2.62 | H144: 14.53 | I144: 11.74239 | J144: 0.18 | K144: 7.27 | L144: 11.23 | M144: 3.79 | N144: 1.29 | O144: 0.44 | P144: =SUM(F144:H144)+SUM(I144:O144) -> 99.94239 | R144: =M144+N144 -> 5.08
A145: [7510] CLASS C. (2005) | B145: Karthala | C145: K43 | D145: VOLCANIC ROCK | E145: BASALT, ALKALINE | F145: 46.85 | G145: 2.69 | H145: 14.16 | I145: 11.661408 | J145: 0.19 | K145: 7.25 | L145: 11.32 | M145: 3.83 | N145: 1.24 | O145: 0.45 | P145: =SUM(F145:H145)+SUM(I145:O145) -> 99.641408 | R145: =M145+N145 -> 5.07
A146: [7510] CLASS C. (2005) | B146: Karthala | C146: K44 | D146: VOLCANIC ROCK | E146: BASALT, ALKALINE | F146: 46.88 | G146: 2.61 | H146: 13.92 | I146: 11.33748 | J146: 0.18 | K146: 7.04 | L146: 12.35 | M146: 3.75 | N146: 1.23 | O146: 0.43 | P146: =SUM(F146:H146)+SUM(I146:O146) -> 99.72748 | R146: =M146+N146 -> 4.98
A147: [804] CLASS C. (1997) | B147: La Grille | C147: G88-6 | D147: VOLCANIC ROCK | E147: BASANITE | F147: 42.98 | G147: 2.17 | H147: 12.6 | I147: 11.047376 | J147: 0.2 | K147: 12.52 | L147: 12.45 | M147: 2.97 | N147: 1.37 | O147: 0.49 | P147: =SUM(F147:H147)+SUM(I147:O147) -> 98.797376 | R147: =M147+N147 -> 4.34
A148: [804] CLASS C. (1997) | B148: La Grille | C148: G88-12 | D148: VOLCANIC ROCK | E148: BASANITE | F148: 42.58 | G148: 1.88 | H148: 10.84 | I148: 11.290462 | J148: 0.19 | K148: 16.64 | L148: 11.27 | M148: 2.58 | N148: 1.17 | O148: 0.44 | P148: =SUM(F148:H148)+SUM(I148:O148) -> 98.880462 | R148: =M148+N148 -> 3.75
A149: [804] CLASS C. (1997) | B149: La Grille | C149: G7 | D149: VOLCANIC ROCK | E149: BASANITE | F149: 42.61 | G149: 1.84 | H149: 11.21 | I149: 10.930302 | J149: 0.19 | K149: 14.91 | L149: 12.16 | M149: 2.86 | N149: 1.08 | O149: 0.63 | P149: =SUM(F149:H149)+SUM(I149:O149) -> 98.420302 | R149: =M149+N149 -> 3.94
A150: [804] CLASS C. (1997) | B150: La Grille | C150: G8 | D150: VOLCANIC ROCK | E150: BASANITE | F150: 43.11 | G150: 2.08 | H150: 11.82 | I150: 11.613268 | J150: 0.19 | K150: 14.91 | L150: 11.82 | M150: 2.71 | N150: 1.1 | O150: 0.44 | P150: =SUM(F150:H150)+SUM(I150:O150) -> 99.793268 | R150: =M150+N150 -> 3.81
A151: [804] CLASS C. (1997) | B151: La Grille | C151: G10 | D151: VOLCANIC ROCK | E151: BASANITE | F151: 45.16 | G151: 1.96 | H151: 13.09 | I151: 12.086534 | J151: 0.19 | K151: 12.02 | L151: 11.36 | M151: 2.72 | N151: 0.89 | O151: 0.34 | P151: =SUM(F151:H151)+SUM(I151:O151) -> 99.816534 | R151: =M151+N151 -> 3.61
A152: [804] CLASS C. (1997) | B152: La Grille | C152: G11 | D152: VOLCANIC ROCK | E152: BASANITE | F152: 42.32 | G152: 1.94 | H152: 10.06 | I152: 10.961304 | J152: 0.2 | K152: 17.39 | L152: 11.61 | M152: 2.85 | N152: 1.23 | O152: 0.58 | P152: =SUM(F152:H152)+SUM(I152:O152) -> 99.141304 | R152: =M152+N152 -> 4.08
A153: [804] CLASS C. (1997) | B153: La Grille | C153: G14 | D153: VOLCANIC ROCK | E153: BASANITE | F153: 42.72 | G153: 1.88 | H153: 10.98 | I153: 11.262146 | J153: 0.19 | K153: 16.25 | L153: 11.44 | M153: 2.69 | N153: 1.12 | O153: 0.43 | P153: =SUM(F153:H153)+SUM(I153:O153) -> 98.962146 | R153: =M153+N153 -> 3.81
... A188: [1331] DENIEL C. (1998) | B188: La Grille | C188: 89GR3 | D188: VOLCANIC ROCK | E188: BASANITE | F188: 43.5 | G188: 1.96 | H188: 11.25 | I188: 11.11253 | J188: 0.2 | K188: 15.95 | L188: 11.5 | M188: 2.69 | N188: 1.09 | O188: 0.42 | P188: =SUM(F188:H188)+SUM(I188:O188) -> 99.67253 | R188: =M188+N188 -> 3.78
A189: [1423] STRONG D. F. (1972) | B189: La Grille | C189: 9 | D189: VOLCANIC ROCK | E189: BASANITE | F189: 43.49 | G189: 2.13 | H189: 12.66 | I189: 11.303588 | J189: 0.23 | K189: 12.68 | L189: 12.44 | M189: 3.08 | N189: 1.32 | O189: 0.48 | P189: =SUM(F189:H189)+SUM(I189:O189) -> 99.813588 | R189: =M189+N189 -> 4.4
A190: [1423] STRONG D. F. (1972) | B190: La Grille | C190: 36 | D190: VOLCANIC ROCK | E190: BASALT, NEPHELINE | F190: 42.7 | G190: 1.92 | H190: 9.95 | I190: 11.243428 | J190: 0.28 | K190: 16.7 | L190: 11.79 | M190: 2.37 | N190: 1.3 | O190: 0.61 | P190: =SUM(F190:H190)+SUM(I190:O190) -> 98.863428 | R190: =M190+N190 -> 3.67
A191: [1423] STRONG D. F. (1972) | B191: La Grille | C191: 37(2) | D191: VOLCANIC ROCK | E191: BASALT, NEPHELINE | F191: 43.16 | G191: 1.72 | H191: 10.36 | I191: 10.850402 | J191: 0.19 | K191: 17.36 | L191: 11.31 | M191: 2.47 | N191: 1.18 | O191: 0.47 | P191: =SUM(F191:H191)+SUM(I191:O191) -> 99.070402 | R191: =M191+N191 -> 3.65
A192: [1423] STRONG D. F. (1972) | B192: La Grille | C192: 54 | D192: VOLCANIC ROCK | E192: BASALT, NEPHELINE | F192: 42.04 | G192: 1.67 | H192: 9.06 | I192: 10.693308 | J192: 0.2 | K192: 20.01 | L192: 10.85 | M192: 1.88 | N192: 0.93 | O192: 0.55 | P192: =SUM(F192:H192)+SUM(I192:O192) -> 97.883308 | R192: =M192+N192 -> 2.81
A193: [1423] STRONG D. F. (1972) | B193: La Grille | C193: 57 | D193: VOLCANIC ROCK | E193: BASANITE | F193: 46.59 | G193: 1.72 | H193: 14 | I193: 12.106534 | J193: 0.21 | K193: 9.48 | L193: 11.08 | M193: 2.81 | N193: 0.55 | O193: 0.29 | P193: =SUM(F193:H193)+SUM(I193:O193) -> 98.836534 | R193: =M193+N193 -> 3.36
A194: [1423] STRONG D. F. (1972) | B194: La Grille | C194: 59 | D194: VOLCANIC ROCK | E194: BASANITE | F194: 43.26 | G194: 2.3 | H194: 13.56 | I194: 11.245532 | J194: 0.2 | K194: 9.74 | L194: 12.76 | M194: 2.54 | N194: 1.29 | O194: 0.51 | P194: =SUM(F194:H194)+SUM(I194:O194) -> 97.405532 | R194: =M194+N194 -> 3.83
A195: [1423] STRONG D. F. (1972) | B195: La Grille | C195: 165 | D195: VOLCANIC ROCK | E195: BASANITE | F195: 42.03 | G195: 1.98 | H195: 11.76 | I195: 11.356094 | J195: 0.2 | K195: 14.42 | L195: 12.24 | M195: 2.23 | N195: 0.44 | O195: 0.64 | P195: =SUM(F195:H195)+SUM(I195:O195) -> 97.296094 | R195: =M195+N195 -> 2.67
A196: [1423] STRONG D. F. (1972) | B196: La Grille | C196: 178 | D196: VOLCANIC ROCK | E196: BASALT, NEPHELINE | F196: 41.72 | G196: 2.22 | H196: 12.69 | I196: 12.12932 | J196: 0.21 | K196: 10.92 | L196: 13.53 | M196: 3.03 | N196: 1.15 | O196: 0.8 | P196: =SUM(F196:H196)+SUM(I196:O196) -> 98.39932 | R196: =M196+N196 -> 4.18
A197: [1303] SPAETH A. (1996) | B197: Moheli | C197: RH-15 | D197: VOLCANIC ROCK | E197: BASALT, ALKALINE | F197: 44.97 | G197: 2.38 | H197: 10.34 | I197: 12.760662 | J197: 0.18 | K197: 12.59 | L197: 10.21 | M197: 3.06 | N197: 0.88 | O197: 0.43 | P197: =SUM(F197:H197)+SUM(I197:O197) -> 97.800662 | R197: =M197+N197 -> 3.94
A198: [1303] SPAETH A. (1996) | B198: Moheli | C198: RH-16 | D198: VOLCANIC ROCK | E198: BASALT, ALKALINE | F198: 47.25 | G198: 2.5 | H198: 13.7 | I198: 12.415672 | J198: 0.19 | K198: 7.8 | L198: 9.4 | M198: 3.08 | N198: 1.38 | O198: 0.59 | P198: =SUM(F198:H198)+SUM(I198:O198) -> 98.305672 | R198: =M198+N198 -> 4.46
A199: [1303] SPAETH A. (1996) | B199: Moheli | C199: RH-17 | D199: VOLCANIC ROCK | E199: BASALT, ALKALINE | F199: 45.06 | G199: 2.6 | H199: 10.92 | I199: 12.346674 | J199: 0.18 | K199: 11.63 | L199: 11.7 | M199: 2.68 | N199: 1 | O199: 0.43 | P199: =SUM(F199:H199)+SUM(I199:O199) -> 98.546674 | R199: =M199+N199 -> 3.68
A200: [1303] SPAETH A. (1996) | B200: Moheli | C200: RH-28 | D200: VOLCANIC ROCK | E200: BASALT, ALKALINE | F200: 43.46 | G200: 2.88 | H200: 13 | I200: 13.195652 | J200: 0.2 | K200: 8.41 | L200: 9.65 | M200: 2.59 | N200: 1.66 | O200: 0.75 | P200: =SUM(F200:H200)+SUM(I200:O200) -> 95.795652 | R200: =M200+N200 -> 4.25
A201: [1303] SPAETH A. (1996) | B201: Moheli | C201: RH-12A | D201: VOLCANIC ROCK | E201: BASANITE | F201: 39.05 | G201: 2.64 | H201: 11.55 | I201: 13.718638 | J201: 0.27 | K201: 9.72 | L201: 11.8 | M201: 4.07 | N201: 1.07 | O201: 1.09 | P201: =SUM(F201:H201)+SUM(I201:O201) -> 94.978638 | R201: =M201+N201 -> 5.14
A202: [1303] SPAETH A. (1996) | B202: Moheli | C202: RH-21 | D202: VOLCANIC ROCK | E202: BASANITE | F202: 42.29 | G202: 2.47 | H202: 11.22 | I202: 12.158678 | J202: 0.2 | K202: 11.69 | L202: 12.63 | M202: 2.69 | N202: 0.61 | O202: 0.89 | P202: =SUM(F202:H202)+SUM(I202:O202) -> 96.848678 | R202: =M202+N202 -> 3.3
A203: [1303] SPAETH A. (1996) | B203: Moheli | C203: RH-26 | D203: VOLCANIC ROCK | E203: BASANITE | F203: 40.81 | G203: 4.2 | H203: 11.33 | I203: 12.760662 | J203: 0.19 | K203: 10.08 | L203: 12.07 | M203: 4.74 | N203: 0.66 | O203: 0.72 | P203: =SUM(F203:H203)+SUM(I203:O203) -> 97.560662 | R203: =M203+N203 -> 5.4
A204: [1303] SPAETH A. (1996) | B204: Moheli | C204: RH-29 | D204: VOLCANIC ROCK | E204: BASANITE | F204: 41.22 | G204: 3.53 | H204: 14.16 | I204: 14.231624 | J204: 0.24 | K204: 5.07 | L204: 9.88 | M204: 6.75 | N204: 1.14 | O204: 1.11 | P204: =SUM(F204:H204)+SUM(I204:O204) -> 97.331624 | R204: =M204+N204 -> 7.89
A205: [1303] SPAETH A. (1996) | B205: Moheli | C205: RH-36 | D205: VOLCANIC ROCK | E205: BASANITE | F205: 42.17 | G205: 2.32 | H205: 11.67 | I205: 12.277676 | J205: 0.21 | K205: 11.31 | L205: 12.04 | M205: 4.35 | N205: 0.76 | O205: 0.72 | P205: =SUM(F205:H205)+SUM(I205:O205) -> 97.827676 | R205: =M205+N205 -> 5.11
A206: [1303] SPAETH A. (1996) | B206: Moheli | C206: RH-39 | D206: VOLCANIC ROCK | E206: BASANITE | F206: 47.38 | G206: 3.33 | H206: 12.1 | I206: 12.395672 | J206: 0.19 | K206: 9.84 | L206: 10.78 | M206: 4.76 | N206: 0.68 | O206: 0.63 | P206: =SUM(F206:H206)+SUM(I206:O206) -> 102.08567 | R206: =M206+N206 -> 5.44
A207: [1303] SPAETH A. (1996) | B207: Moheli | C207: RH-14 | D207: VOLCANIC ROCK | E207: NEPHELINITE | F207: 39.5 | G207: 3.25 | H207: 11.15 | I207: 12.82966 | J207: 0.22 | K207: 11.32 | L207: 12.66 | M207: 4.41 | N207: 1.25 | O207: 0.88 | P207: =SUM(F207:H207)+SUM(I207:O207) -> 97.46966 | R207: =M207+N207 -> 5.66
A208: [1303] SPAETH A. (1996) | B208: Moheli | C208: RH-18 | D208: VOLCANIC ROCK | E208: NEPHELINITE | F208: 38.76 | G208: 2.91 | H208: 10.64 | I208: 13.935632 | J208: 0.23 | K208: 10.75 | L208: 13.01 | M208: 4.83 | N208: 1.8 | O208: 1.27 | P208: =SUM(F208:H208)+SUM(I208:O208) -> 98.135632 | R208: =M208+N208 -> 6.63
A209: [1303] SPAETH A. (1996) | B209: Moheli | C209: RH-31 | D209: VOLCANIC ROCK | E209: NEPHELINITE | F209: 37.83 | G209: 2.9 | H209: 10.29 | I209: 13.787636 | J209: 0.22 | K209: 10.92 | L209: 14 | M209: 3.49 | N209: 1.46 | O209: 1.24 | P209: =SUM(F209:H209)+SUM(I209:O209) -> 96.137636 | R209: =M209+N209 -> 4.95
A210: [1313] NOUGIER J. (1986) | B210: Moheli | C210: MO12 | D210: VOLCANIC ROCK | E210: BASANITE | F210: 40.35 | G210: 3.4 | H210: 11.35 | I210: 13.050484 | J210: 0.21 | K210: 12.95 | L210: 11.65 | M210: 2.6 | N210: 0.65 | P210: =SUM(F210:H210)+SUM(I210:O210) -> 96.210484 | R210: =M210+N210 -> 3.25
A211: [1313] NOUGIER J. (1986) | B211: Moheli | C211: MO10 | D211: VOLCANIC ROCK | E211: HAWAIITE | F211: 46.1 | G211: 3 | H211: 14.8 | I211: 12.605032 | J211: 0.21 | K211: 6.6 | L211: 11.3 | M211: 2.8 | N211: 1.2 | P211: =SUM(F211:H211)+SUM(I211:O211) -> 98.615032 | R211: =M211+N211 -> 4
A212: [1313] NOUGIER J. (1986) | B212: Moheli | C212: MO04 | D212: VOLCANIC ROCK | E212: HAWAIITE | F212: 39.25 | G212: 2.8 | H212: 11.3 | I212: 12.4283 | J212: 0.21 | K212: 14.25 | L212: 12.75 | M212: 2.75 | N212: 0.6 | P212: =SUM(F212:H212)+SUM(I212:O212) -> 96.3383 | R212: =M212+N212 -> 3.35
A213: [1313] NOUGIER J. (1986) | B213: Moheli | C213: MO05 | D213: VOLCANIC ROCK | E213: NEPHELINITE, OLIVINE | F213: 40 | G213: 2.6 | H213: 10.8 | I213: 12.604874 | J213: 0.21 | K213: 13.05 | L213: 12.85 | M213: 1.6 | N213: 0.5 | P213: =SUM(F213:H213)+SUM(I213:O213) -> 94.214874 | R213: =M213+N213 -> 2.1
A214: [1420] STRONG D. F. (1972) | B214: Moheli | C214: 15 | D214: VOLCANIC ROCK | E214: ANKARAMITE | F214: 46.2 | G214: 2.6 | H214: 12.8 | I214: 12.12926 | J214: 0.2 | K214: 8 | L214: 10.9 | M214: 2.38 | N214: 1.05 | O214: 0.95 | P214: =SUM(F214:H214)+SUM(I214:O214) -> 97.20926 | R214: =M214+N214 -> 3.43
A215: [1420] STRONG D. F. (1972) | B215: Moheli | C215: 19 | D215: VOLCANIC ROCK | E215: ANKARAMITE | F215: 44.21 | G215: 2.36 | H215: 10.08 | I215: 11.963308 | J215: 0.19 | K215: 13.37 | L215: 12.23 | M215: 1.83 | N215: 1.1 | O215: 0.47 | P215: =SUM(F215:H215)+SUM(I215:O215) -> 97.803308 | R215: =M215+N215 -> 2.93
A216: [1420] STRONG D. F. (1972) | B216: Moheli | C216: 28 | D216: VOLCANIC ROCK | E216: ANKARAMITE | F216: 44.19 | G216: 1.99 | H216: 8.71 | I216: 12.223548 | J216: 0.2 | K216: 14.8 | L216: 12 | M216: 1.4 | N216: 0.83 | O216: 0.29 | P216: =SUM(F216:H216)+SUM(I216:O216) -> 96.633548 | R216: =M216+N216 -> 2.23
A217: [1420] STRONG D. F. (1972) | B217: Moheli | C217: 30 | D217: VOLCANIC ROCK | E217: ANKARAMITE | F217: 42.3 | G217: 2.29 | H217: 8.5 | I217: 13.35932 | J217: 0.19 | K217: 17.7 | L217: 10.3 | M217: 1.26 | N217: 0.75 | O217: 1.07 | P217: =SUM(F217:H217)+SUM(I217:O217) -> 97.71932 | R217: =M217+N217 -> 2.01
A218: [1420] STRONG D. F. (1972) | B218: Moheli | C218: 31 | D218: VOLCANIC ROCK | E218: ANKARAMITE | F218: 45.82 | G218: 2.33 | H218: 11.92 | I218: 12.111846 | J218: 0.19 | K218: 8.99 | L218: 11.58 | M218: 2.15 | N218: 0.94 | O218: 0.38 | P218: =SUM(F218:H218)+SUM(I218:O218) -> 96.411846 | R218: =M218+N218 -> 3.09
A219: [1420] STRONG D. F. (1972) | B219: Moheli | C219: 144 | D219: VOLCANIC ROCK | E219: ANKARAMITE | F219: 44.74 | G219: 2.47 | H219: 10.93 | I219: 12.686716 | J219: 0.19 | K219: 10.12 | L219: 12.23 | M219: 1.76 | N219: 0.96 | O219: 0.44 | P219: =SUM(F219:H219)+SUM(I219:O219) -> 96.526716 | R219: =M219+N219 -> 2.72
A220: [1420] STRONG D. F. (1972) | B220: Moheli | C220: 150 | D220: VOLCANIC ROCK | E220: ANKARAMITE | F220: 45.69 | G220: 2.34 | H220: 10.06 | I220: 12.231224 | J220: 0.19 | K220: 12.79 | L220: 12.13 | M220: 2.07 | N220: 0.9 | O220: 0.38 | P220: =SUM(F220:H220)+SUM(I220:O220) -> 98.781224 | R220: =M220+N220 -> 2.97
A221: [1420] STRONG D. F. (1972) | B221: Moheli | C221: 105 | D221: VOLCANIC ROCK | E221: BASALT, ALKALINE, OLIVINE | F221: 44.62 | G221: 2.89 | H221: 13.27 | I221: 12.384812 | J221: 0.21 | K221: 8.05 | L221: 10.38 | M221: 2.63 | N221: 1.11 | O221: 0.72 | P221: =SUM(F221:H221)+SUM(I221:O221) -> 96.264812 | R221: =M221+N221 -> 3.74
A222: [1420] STRONG D. F. (1972) | B222: Moheli | C222: 142 | D222: VOLCANIC ROCK | E222: BASALT, ALKALINE, OLIVINE | F222: 45.85 | G222: 3.05 | H222: 13.93 | I222: 12.672968 | J222: 0.18 | K222: 7.58 | L222: 10.19 | M222: 2.57 | N222: 1.28 | O222: 0.57 | P222: =SUM(F222:H222)+SUM(I222:O222) -> 97.872968 | R222: =M222+N222 -> 3.85
...

Sheet Berthod et al. 2021 2022
A1: Sample | B1: Location | C1: SiO2 | D1: TiO2 | E1: Al2O3 | F1: FeO | G1: MnO | H1: MgO | I1: CaO | J1: Na2O | K1: K2O | L1: P2O5 | M1: Total | O1: Statut | Q1: =_xlfn.CONCAT(C1,"(N)") -> SiO2(N) | R1: =_xlfn.CONCAT(D1,"(N)") -> TiO2(N) | S1: =_xlfn.CONCAT(E1,"(N)") -> Al2O3(N) | T1: =_xlfn.CONCAT(F1,"(N)") -> FeO(N) | U1: =_xlfn.CONCAT(G1,"(N)") -> MnO(N) | V1: =_xlfn.CONCAT(H1,"(N)") -> MgO(N) | W1: =_xlfn.CONCAT(I1,"(N)") -> CaO(N) | X1: =_xlfn.CONCAT(J1,"(N)") -> Na2O(N) | ... Z1: =_xlfn.CONCAT(L1,"(N)") -> P2O5(N) | AA1: Total | AC1: TA
A2: MAY01-DR02-0102 | B2: Mayotte - Fer à Cheval | C2: 58.246899 | D2: 0.35240136 | E2: 18.979013 | F2: 6.4162071 | G2: 0.26776237 | H2: 0.36269353 | I2: 1.6554205 | J2: 8.0292513 | K2: 5.6168493 | L2: 0.25456613 | M2: 100.18106 | O2: OK | Q2: =C2*100/$M2 -> 58.141626 | R2: =D2*100/$M2 -> 0.35176444 | S2: =E2*100/$M2 -> 18.944711 | T2: =F2*100/$M2 -> 6.4046107 | U2: =G2*100/$M2 -> 0.26727842 | V2: =H2*100/$M2 -> 0.36203801 | W2: =I2*100/$M2 -> 1.6524285 | X2: =J2*100/$M2 -> 8.0147395 | ... Z2: =L2*100/$M2 -> 0.25410604 | AA2: =SUM(Q2:Z2) -> 100 | AC2: =X2+Y2 -> 13.621437
A3: MAY01-DR02-0202 | B3: Mayotte - Fer à Cheval | C3: 58.486147 | D3: 0.35389862 | E3: 18.802665 | F3: 6.3913143 | G3: 0.26369481 | H3: 0.43988231 | I3: 1.6482511 | J3: 7.9936592 | K3: 5.5571153 | L3: 0.25855508 | M3: 100.19518 | O3: OK | Q3: =C3*100/$M3 -> 58.372215 | R3: =D3*100/$M3 -> 0.35320922 | S3: =E3*100/$M3 -> 18.766037 | T3: =F3*100/$M3 -> 6.3788639 | U3: =G3*100/$M3 -> 0.26318113 | V3: =H3*100/$M3 -> 0.43902541 | W3: =I3*100/$M3 -> 1.6450403 | X3: =J3*100/$M3 -> 7.9780873 | ... Z3: =L3*100/$M3 -> 0.25805141 | AA3: =SUM(Q3:Z3) -> 100 | AC3: =X3+Y3 -> 13.524377
A4: MAY01-DR02-0301 | B4: Mayotte - Fer à Cheval | C4: 58.213707 | D4: 0.36479867 | E4: 19.361316 | F4: 6.4508769 | G4: 0.25079291 | H4: 0.44419444 | I4: 1.6292263 | J4: 8.0892575 | K4: 5.3373198 | L4: 0.26133996 | M4: 100.40283 | O4: OK | Q4: =C4*100/$M4 -> 57.980146 | R4: =D4*100/$M4 -> 0.36333505 | S4: =E4*100/$M4 -> 19.283636 | T4: =F4*100/$M4 -> 6.4249951 | U4: =G4*100/$M4 -> 0.2497867 | V4: =H4*100/$M4 -> 0.44241228 | W4: =I4*100/$M4 -> 1.6226897 | X4: =J4*100/$M4 -> 8.0568023 | ... Z4: =L4*100/$M4 -> 0.26029143 | AA4: =SUM(Q4:Z4) -> 100 | AC4: =X4+Y4 -> 13.372708
A5: MAY01-DR02-0401 | B5: Mayotte - Fer à Cheval | C5: 58.445332 | D5: 0.34739419 | E5: 19.019258 | F5: 6.4155613 | G5: 0.26539967 | H5: 0.52398586 | I5: 1.6968923 | J5: 7.706862 | K5: 5.6243892 | L5: 0.25953921 | M5: 100.30461 | O5: OK | Q5: =C5*100/$M5 -> 58.26784 | R5: =D5*100/$M5 -> 0.34633919 | S5: =E5*100/$M5 -> 18.961499 | T5: =F5*100/$M5 -> 6.3960779 | U5: =G5*100/$M5 -> 0.26459368 | V5: =H5*100/$M5 -> 0.52239457 | W5: =I5*100/$M5 -> 1.691739 | X5: =J5*100/$M5 -> 7.6834572 | ... Z5: =L5*100/$M5 -> 0.25875102 | AA5: =SUM(Q5:Z5) -> 100 | AC5: =X5+Y5 -> 13.290766
A6: MAY01-DR02-0501 | B6: Mayotte - Fer à Cheval | C6: 58.253072 | D6: 0.33598588 | E6: 19.073643 | F6: 6.2912483 | G6: 0.26080859 | H6: 0.41127568 | I6: 1.5882081 | J6: 7.9126624 | K6: 5.4661232 | L6: 0.26194793 | M6: 99.854975 | O6: OK | Q6: =C6*100/$M6 -> 58.337676 | R6: =D6*100/$M6 -> 0.33647385 | S6: =E6*100/$M6 -> 19.101345 | T6: =F6*100/$M6 -> 6.3003854 | U6: =G6*100/$M6 -> 0.26118738 | V6: =H6*100/$M6 -> 0.41187299 | W6: =I6*100/$M6 -> 1.5905147 | X6: =J6*100/$M6 -> 7.9241544 | ... Z6: =L6*100/$M6 -> 0.26232838 | AA6: =SUM(Q6:Z6) -> 100 | AC6: =X6+Y6 -> 13.398216
A7: MAY02-DR07-0101MB-verre | B7: Mayotte - Fer à Cheval | C7: 59.068012 | D7: 0.37008947 | E7: 18.262754 | F7: 6.513393 | G7: 0.26326946 | H7: 0.39939012 | I7: 1.6585736 | J7: 8.1248737 | K7: 5.6163237 | L7: 0.26227521 | M7: 100.53895 | O7: OK | Q7: =C7*100/$M7 -> 58.751369 | R7: =D7*100/$M7 -> 0.36810555 | S7: =E7*100/$M7 -> 18.164854 | T7: =F7*100/$M7 -> 6.4784769 | U7: =G7*100/$M7 -> 0.26185816 | V7: =H7*100/$M7 -> 0.39724913 | W7: =I7*100/$M7 -> 1.6496825 | X7: =J7*100/$M7 -> 8.0813191 | ... Z7: =L7*100/$M7 -> 0.26086925 | AA7: =SUM(Q7:Z7) -> 100 | AC7: =X7+Y7 -> 13.667536
A8: MAY02-DR07-0102MB | B8: Mayotte - Fer à Cheval | C8: 57.826078 | D8: 0.34182332 | E8: 19.632664 | F8: 6.3854239 | G8: 0.25614597 | H8: 0.35374928 | I8: 1.5510576 | J8: 7.8922401 | K8: 5.1816726 | L8: 0.26557722 | M8: 99.686433 | O8: OK | Q8: =C8*100/$M8 -> 58.007972 | R8: =D8*100/$M8 -> 0.34289854 | S8: =E8*100/$M8 -> 19.69442 | T8: =F8*100/$M8 -> 6.4055095 | U8: =G8*100/$M8 -> 0.25695168 | V8: =H8*100/$M8 -> 0.35486202 | W8: =I8*100/$M8 -> 1.5559365 | X8: =J8*100/$M8 -> 7.9170654 | ... Z8: =L8*100/$M8 -> 0.26641261 | AA8: =SUM(Q8:Z8) -> 100 | AC8: =X8+Y8 -> 13.115037
A9: MAY02-DR07-0103MB | B9: Mayotte - Fer à Cheval | C9: 58.557069 | D9: 0.34342565 | E9: 18.819608 | F9: 6.2610237 | G9: 0.26448732 | H9: 0.28821536 | I9: 1.6447656 | J9: 8.1870496 | K9: 5.582779 | L9: 0.25864852 | M9: 100.20707 | O9: OK | Q9: =C9*100/$M9 -> 58.436065 | R9: =D9*100/$M9 -> 0.34271599 | S9: =E9*100/$M9 -> 18.780718 | T9: =F9*100/$M9 -> 6.2480856 | U9: =G9*100/$M9 -> 0.26394077 | V9: =H9*100/$M9 -> 0.28761978 | W9: =I9*100/$M9 -> 1.6413668 | X9: =J9*100/$M9 -> 8.1701315 | ... Z9: =L9*100/$M9 -> 0.25811404 | AA9: =SUM(Q9:Z9) -> 100 | AC9: =X9+Y9 -> 13.741374
A10: MAY02-DR07-0104 | B10: Mayotte - Fer à Cheval | C10: 58.044299 | D10: 0.34570253 | E10: 19.111309 | F10: 6.4207181 | G10: 0.25688962 | H10: 0.32635615 | I10: 1.5445711 | J10: 8.0527428 | K10: 5.3615672 | L10: 0.26268119 | M10: 99.726837 | O10: OK | Q10: =C10*100/$M10 -> 58.203289 | R10: =D10*100/$M10 -> 0.34664945 | S10: =E10*100/$M10 -> 19.163657 | T10: =F10*100/$M10 -> 6.4383052 | U10: =G10*100/$M10 -> 0.25759327 | V10: =H10*100/$M10 -> 0.32725007 | W10: =I10*100/$M10 -> 1.5488018 | X10: =J10*100/$M10 -> 8.0748002 | ... Z10: =L10*100/$M10 -> 0.2634007 | AA10: =SUM(Q10:Z10) -> 100 | AC10: =X10+Y10 -> 13.451053
A11: MAY02-DR07-0112MB | B11: Mayotte - Fer à Cheval | C11: 58.585759 | D11: 0.35316215 | E11: 18.716774 | F11: 6.3535177 | G11: 0.26680778 | H11: 0.3434144 | I11: 1.6450719 | J11: 8.0987874 | K11: 5.6121402 | L11: 0.25803722 | M11: 100.23347 | O11: OK | Q11: =C11*100/$M11 -> 58.449297 | R11: =D11*100/$M11 -> 0.35233953 | S11: =E11*100/$M11 -> 18.673177 | T11: =F11*100/$M11 -> 6.3387186 | U11: =G11*100/$M11 -> 0.26618631 | V11: =H11*100/$M11 -> 0.34261449 | W11: =I11*100/$M11 -> 1.6412401 | X11: =J11*100/$M11 -> 8.0799231 | ... Z11: =L11*100/$M11 -> 0.25743618 | AA11: =SUM(Q11:Z11) -> 100 | AC11: =X11+Y11 -> 13.678991
A12: MAY02-DR07-01ALFvrac | B12: Mayotte - Fer à Cheval | C12: 58.458063 | D12: 0.35037704 | E12: 18.833387 | F12: 6.4109823 | G12: 0.26326065 | H12: 0.34410685 | I12: 1.6204305 | J12: 8.0984021 | K12: 5.6150526 | L12: 0.24940126 | M12: 100.24346 | O12: OK | Q12: =C12*100/$M12 -> 58.316085 | R12: =D12*100/$M12 -> 0.34952607 | S12: =E12*100/$M12 -> 18.787646 | T12: =F12*100/$M12 -> 6.3954117 | U12: =G12*100/$M12 -> 0.26262127 | V12: =H12*100/$M12 -> 0.34327111 | W12: =I12*100/$M12 -> 1.6164949 | X12: =J12*100/$M12 -> 8.0787333 | ... Z12: =L12*100/$M12 -> 0.24879554 | AA12: =SUM(Q12:Z12) -> 100 | AC12: =X12+Y12 -> 13.680148
A13: MAY02-DR07-0201 | B13: Mayotte - Fer à Cheval | C13: 58.217129 | D13: 0.35796858 | E13: 19.310052 | F13: 6.4979487 | G13: 0.25717376 | H13: 0.34143771 | I13: 1.5786994 | J13: 8.0597342 | K13: 5.4301104 | L13: 0.26609639 | M13: 100.31635 | O13: OK | Q13: =C13*100/$M13 -> 58.03354 | R13: =D13*100/$M13 -> 0.35683972 | S13: =E13*100/$M13 -> 19.249158 | T13: =F13*100/$M13 -> 6.4774573 | U13: =G13*100/$M13 -> 0.25636275 | V13: =H13*100/$M13 -> 0.34036098 | W13: =I13*100/$M13 -> 1.5737209 | X13: =J13*100/$M13 -> 8.0343176 | ... Z13: =L13*100/$M13 -> 0.26525725 | AA13: =SUM(Q13:Z13) -> 100 | AC13: =X13+Y13 -> 13.447304
... A47: MAY02-DR06-0201 | B47: Mayotte - Sous-marin | C47: 45.766017 | D47: 2.7893334 | E47: 13.694808 | F47: 13.799549 | G47: 0.21894096 | H47: 7.5090714 | I47: 8.3972534 | J47: 4.8727254 | K47: 2.3097022 | L47: 0.92056562 | M47: 100.27797 | O47: OK | Q47: =C47*100/$M47 -> 45.639155 | R47: =D47*100/$M47 -> 2.7816015 | S47: =E47*100/$M47 -> 13.656847 | T47: =F47*100/$M47 -> 13.761298 | U47: =G47*100/$M47 -> 0.21833407 | V47: =H47*100/$M47 -> 7.4882565 | W47: =I47*100/$M47 -> 8.3739766 | X47: =J47*100/$M47 -> 4.8592184 | ... Z47: =L47*100/$M47 -> 0.91801385 | AA47: =SUM(Q47:Z47) -> 100 | AC47: =X47+Y47 -> 7.1625182
