Workbook

Sheet TAS and diagrams

Sheet Uncorrected
A1: Sample | B1: Analysis | C1: Locality | D1: Type | E1: SiO2 | F1: TiO2 | G1: Al2O3 | H1: FeO | I1: MnO | J1: MgO | K1: CaO | L1: Na2O | M1: K2O | N1: P2O5 | O1: Total | Q1: SiO2 | R1: Na2O | S1: K2O | T1: SiO2 err | U1: Na2O err | V1: K2O err | W1: Statut
A2: 190405_6 | B2: 190405_6 J2 droite 1 | C2: Dziani | D2: Phonolite | E2: 54.9164 | F2: 0.0085 | G2: 18.2037 | H2: 6.6539 | I2: 0.4022 | J2: 0.0547 | K2: 0.527 | L2: 8.6761 | M2: 5.8644 | N2: 0 | O2: =SUM(E2:N2) -> 95.3069 | Q2: =Q$12 -> 58.514491 | R2: =R$12 -> 8.4536 | S2: =S$12 -> 5.8808273 | T2: 0.98 | U2: 0.31 | V2: 0.2 | W2: =IF(OR(E2>(Q2+T2),E2<(Q2-T2),L2>(R2+U2),L2<(R2-U2),M2>(S2+V2),M2<(S2-V2)),"Wrong","Ok") -> Wrong
A3: 190405_6 | B3: 190405_6 J1 gauche 6 | C3: Dziani | D3: Phonolite | E3: 57.2618 | F3: 0.0682 | G3: 18.5796 | H3: 4.4442 | I3: 0.2765 | J3: 0.0505 | K3: 0.9454 | L3: 8.1448 | M3: 5.6551 | N3: 0 | O3: =SUM(E3:N3) -> 95.4261 | Q3: =Q$12 -> 58.514491 | R3: =R$12 -> 8.4536 | S3: =S$12 -> 5.8808273 | T3: 0.98 | U3: 0.31 | V3: 0.2 | W3: =IF(OR(E3>(Q3+T3),E3<(Q3-T3),L3>(R3+U3),L3<(R3-U3),M3>(S3+V3),M3<(S3-V3)),"Wrong","Ok") -> Wrong
A4: 190405_6 | B4: 190405_6 J2 droite 2 | C4: Dziani | D4: Phonolite | E4: 55.6279 | F4: 0 | G4: 18.4568 | H4: 5.6789 | I4: 0.3467 | J4: 0.0545 | K4: 0.668 | L4: 8.9014 | M4: 6.0316 | N4: 0 | O4: =SUM(E4:N4) -> 95.7658 | Q4: =Q$12 -> 58.514491 | R4: =R$12 -> 8.4536 | S4: =S$12 -> 5.8808273 | T4: 0.98 | U4: 0.31 | V4: 0.2 | W4: =IF(OR(E4>(Q4+T4),E4<(Q4-T4),L4>(R4+U4),L4<(R4-U4),M4>(S4+V4),M4<(S4-V4)),"Wrong","Ok") -> Wrong
A5: 190405_6 | B5: 190405_6 J2 droite 5 | C5: Dziani | D5: Phonolite | E5: 57.5594 | F5: 0.0301 | G5: 18.7416 | H5: 4.6351 | I5: 0.2476 | J5: 0.0706 | K5: 0.8474 | L5: 8.0967 | M5: 5.8092 | N5: 0 | O5: =SUM(E5:N5) -> 96.0377 | Q5: =Q$12 -> 58.514491 | R5: =R$12 -> 8.4536 | S5: =S$12 -> 5.8808273 | T5: 0.98 | U5: 0.31 | V5: 0.2 | W5: =IF(OR(E5>(Q5+T5),E5<(Q5-T5),L5>(R5+U5),L5<(R5-U5),M5>(S5+V5),M5<(S5-V5)),"Wrong","Ok") -> Wrong
A6: 190405_6 | B6: 190405_6 J1 gauche 6 | C6: Dziani | D6: Phonolite | E6: 57.9069 | F6: 0 | G6: 18.6066 | H6: 4.5867 | I6: 0.2977 | J6: 0.046 | K6: 0.8847 | L6: 8.1871 | M6: 5.6229 | N6: 0 | O6: =SUM(E6:N6) -> 96.1386 | Q6: =Q$12 -> 58.514491 | R6: =R$12 -> 8.4536 | S6: =S$12 -> 5.8808273 | T6: 0.98 | U6: 0.31 | V6: 0.2 | W6: =IF(OR(E6>(Q6+T6),E6<(Q6-T6),L6>(R6+U6),L6<(R6-U6),M6>(S6+V6),M6<(S6-V6)),"Wrong","Ok") -> Wrong
A7: 190405_6 | B7: 190405_6 J2 droite 4 | C7: Dziani | D7: Phonolite | E7: 57.1401 | F7: 0.1224 | G7: 18.6043 | H7: 4.9785 | I7: 0.2181 | J7: 0.0763 | K7: 0.7402 | L7: 8.4616 | M7: 5.8766 | N7: 0 | O7: =SUM(E7:N7) -> 96.2181 | Q7: =Q$12 -> 58.514491 | R7: =R$12 -> 8.4536 | S7: =S$12 -> 5.8808273 | T7: 0.98 | U7: 0.31 | V7: 0.2 | W7: =IF(OR(E7>(Q7+T7),E7<(Q7-T7),L7>(R7+U7),L7<(R7-U7),M7>(S7+V7),M7<(S7-V7)),"Wrong","Ok") -> Wrong
A8: 190405_6 | B8: 190405_6 J1 gauche 9 | C8: Dziani | D8: Phonolite | E8: 60.0198 | F8: 0.0272 | G8: 19.6182 | H8: 4.9368 | I8: 0.2408 | J8: 0.0668 | K8: 0.8951 | L8: 8.5086 | M8: 5.9534 | N8: 0 | O8: =SUM(E8:N8) -> 100.2667 | Q8: =Q$12 -> 58.514491 | R8: =R$12 -> 8.4536 | S8: =S$12 -> 5.8808273 | T8: 0.98 | U8: 0.31 | V8: 0.2 | W8: =IF(OR(E8>(Q8+T8),E8<(Q8-T8),L8>(R8+U8),L8<(R8-U8),M8>(S8+V8),M8<(S8-V8)),"Wrong","Ok") -> Wrong
A9: 190405_6 | B9: 190405_6 J1 droite 13 | C9: Dziani | D9: Phonolite | E9: 60.4614 | F9: 0.108 | G9: 19.6891 | H9: 4.3308 | I9: 0.2808 | J9: 0.0764 | K9: 1.234 | L9: 8.4311 | M9: 5.8702 | N9: 0 | O9: =SUM(E9:N9) -> 100.4818 | Q9: =Q$12 -> 58.514491 | R9: =R$12 -> 8.4536 | S9: =S$12 -> 5.8808273 | T9: 0.98 | U9: 0.31 | V9: 0.2 | W9: =IF(OR(E9>(Q9+T9),E9<(Q9-T9),L9>(R9+U9),L9<(R9-U9),M9>(S9+V9),M9<(S9-V9)),"Wrong","Ok") -> Wrong
A10: 190405_6 | B10: 190405_6 J1 droite 10 | C10: Dziani | D10: Phonolite | E10: 60.622 | F10: 0.0116 | G10: 19.5076 | H10: 4.8861 | I10: 0.2559 | J10: 0.0814 | K10: 1.0431 | L10: 8.4183 | M10: 5.8885 | N10: 0 | O10: =SUM(E10:N10) -> 100.7145 | Q10: =Q$12 -> 58.514491 | R10: =R$12 -> 8.4536 | S10: =S$12 -> 5.8808273 | T10: 0.98 | U10: 0.31 | V10: 0.2 | W10: =IF(OR(E10>(Q10+T10),E10<(Q10-T10),L10>(R10+U10),L10<(R10-U10),M10>(S10+V10),M10<(S10-V10)),"Wrong","Ok") -> Wrong
A11: 190405_6 | B11: 190405_6 J1 droite 14 | C11: Dziani | D11: Phonolite | E11: 61.2228 | F11: 0.0155 | G11: 19.9328 | H11: 4.3951 | I11: 0.2591 | J11: 0.0531 | K11: 0.9746 | L11: 8.4377 | M11: 6.1588 | N11: 0 | O11: =SUM(E11:N11) -> 101.4495 | Q11: =Q$12 -> 58.514491 | R11: =R$12 -> 8.4536 | S11: =S$12 -> 5.8808273 | T11: 0.98 | U11: 0.31 | V11: 0.2 | W11: =IF(OR(E11>(Q11+T11),E11<(Q11-T11),L11>(R11+U11),L11<(R11-U11),M11>(S11+V11),M11<(S11-V11)),"Wrong","Ok") -> Wrong
A12: 190405_6 | B12: 190405_6 J1 droite 11 | C12: Dziani | D12: Phonolite | E12: 60.9209 | F12: 0.0195 | G12: 19.8815 | H12: 4.9433 | I12: 0.3164 | J12: 0.0313 | K12: 0.9758 | L12: 8.7262 | M12: 5.9584 | N12: 0 | O12: =SUM(E12:N12) -> 101.7733 | Q12: =AVERAGE(E2:E12) -> 58.514491 | R12: =AVERAGE(L2:L12) -> 8.4536 | S12: =AVERAGE(M2:M12) -> 5.8808273 | T12: 0.98 | U12: 0.31 | V12: 0.2 | W12: =IF(OR(E12>(Q12+T12),E12<(Q12-T12),L12>(R12+U12),L12<(R12-U12),M12>(S12+V12),M12<(S12-V12)),"Wrong","Ok") -> Wrong
A13: 190407_9b | B13: 190407_9b J3 droite 24 | C13: Dziani | D13: Phonolite | E13: 57.162 | F13: 0.1163 | G13: 18.5404 | H13: 4.82 | I13: 0.2975 | J13: 0.0297 | K13: 0.6894 | L13: 8.0656 | M13: 5.9211 | N13: 0 | O13: =SUM(E13:N13) -> 95.642 | Q13: =Q$31 -> 59.332116 | R13: =R$31 -> 8.1243579 | S13: =S$31 -> 5.8818368 | T13: 0.98 | U13: 0.31 | V13: 0.2 | W13: =IF(OR(E13>(Q13+T13),E13<(Q13-T13),L13>(R13+U13),L13<(R13-U13),M13>(S13+V13),M13<(S13-V13)),"Wrong","Ok") -> Wrong
A14: 190407_9b | B14: 190407_9b J3 top 2 | C14: Dziani | D14: Phonolite | E14: 57.9885 | F14: 0.0427 | G14: 18.5561 | H14: 4.3397 | I14: 0.2284 | J14: 0.0554 | K14: 1.1061 | L14: 8.1277 | M14: 5.3509 | N14: 0 | O14: =SUM(E14:N14) -> 95.7955 | Q14: =Q$31 -> 59.332116 | R14: =R$31 -> 8.1243579 | S14: =S$31 -> 5.8818368 | T14: 0.98 | U14: 0.31 | V14: 0.2 | W14: =IF(OR(E14>(Q14+T14),E14<(Q14-T14),L14>(R14+U14),L14<(R14-U14),M14>(S14+V14),M14<(S14-V14)),"Wrong","Ok") -> Wrong
A15: 190407_9b | B15: 190407_9b J3 gauche 13 | C15: Dziani | D15: Phonolite | E15: 57.4926 | F15: 0.0596 | G15: 18.6484 | H15: 5.2197 | I15: 0.3122 | J15: 0.0557 | K15: 0.7417 | L15: 8.1083 | M15: 5.6516 | N15: 0 | O15: =SUM(E15:N15) -> 96.2898 | Q15: =Q$31 -> 59.332116 | R15: =R$31 -> 8.1243579 | S15: =S$31 -> 5.8818368 | T15: 0.98 | U15: 0.31 | V15: 0.2 | W15: =IF(OR(E15>(Q15+T15),E15<(Q15-T15),L15>(R15+U15),L15<(R15-U15),M15>(S15+V15),M15<(S15-V15)),"Wrong","Ok") -> Wrong
A16: 190407_9b | B16: 190407_9 J1 petit 14 | C16: Dziani | D16: Phonolite | E16: 59.9361 | F16: 0 | G16: 19.0422 | H16: 3.1887 | I16: 0.2248 | J16: 0.0113 | K16: 1.4193 | L16: 8.0448 | M16: 4.8003 | N16: 0 | O16: =SUM(E16:N16) -> 96.6675 | Q16: =Q$31 -> 59.332116 | R16: =R$31 -> 8.1243579 | S16: =S$31 -> 5.8818368 | T16: 0.98 | U16: 0.31 | V16: 0.2 | W16: =IF(OR(E16>(Q16+T16),E16<(Q16-T16),L16>(R16+U16),L16<(R16-U16),M16>(S16+V16),M16<(S16-V16)),"Wrong","Ok") -> Wrong
A17: 190407_9b | B17: 190407_9 J1 grd 28 | C17: Dziani | D17: Phonolite | E17: 57.7889 | F17: 0.032 | G17: 18.7888 | H17: 4.6138 | I17: 0.3062 | J17: 0.0367 | K17: 0.9512 | L17: 8.0861 | M17: 6.0806 | N17: 0 | O17: =SUM(E17:N17) -> 96.6843 | Q17: =Q$31 -> 59.332116 | R17: =R$31 -> 8.1243579 | S17: =S$31 -> 5.8818368 | T17: 0.98 | U17: 0.31 | V17: 0.2 | W17: =IF(OR(E17>(Q17+T17),E17<(Q17-T17),L17>(R17+U17),L17<(R17-U17),M17>(S17+V17),M17<(S17-V17)),"Wrong","Ok") -> Wrong
A18: 190407_9b | B18: 190407_9b J3 gauche 18 | C18: Dziani | D18: Phonolite | E18: 58.8317 | F18: 0.1453 | G18: 18.7157 | H18: 4.6013 | I18: 0.2201 | J18: 0.0392 | K18: 0.9386 | L18: 8.3932 | M18: 5.7498 | N18: 0 | O18: =SUM(E18:N18) -> 97.6349 | Q18: =Q$31 -> 59.332116 | R18: =R$31 -> 8.1243579 | S18: =S$31 -> 5.8818368 | T18: 0.98 | U18: 0.31 | V18: 0.2 | W18: =IF(OR(E18>(Q18+T18),E18<(Q18-T18),L18>(R18+U18),L18<(R18-U18),M18>(S18+V18),M18<(S18-V18)),"Wrong","Ok") -> Ok
A19: 190407_9b | B19: 190407_9 J1 petit 47 | C19: Dziani | D19: Phonolite | E19: 60.5252 | F19: 0.0193 | G19: 19.4541 | H19: 4.9349 | I19: 0.3107 | J19: 0.0548 | K19: 1.0344 | L19: 5.115 | M19: 6.2532 | N19: 0 | O19: =SUM(E19:N19) -> 97.7016 | Q19: =Q$31 -> 59.332116 | R19: =R$31 -> 8.1243579 | S19: =S$31 -> 5.8818368 | T19: 0.98 | U19: 0.31 | V19: 0.2 | W19: =IF(OR(E19>(Q19+T19),E19<(Q19-T19),L19>(R19+U19),L19<(R19-U19),M19>(S19+V19),M19<(S19-V19)),"Wrong","Ok") -> Wrong
A20: 190407_9b | B20: 190407_9b J3 top 4 | C20: Dziani | D20: Phonolite | E20: 58.5611 | F20: 0 | G20: 19.1266 | H20: 4.7498 | I20: 0.2943 | J20: 0.0692 | K20: 1.0496 | L20: 8.0491 | M20: 5.9492 | N20: 0 | O20: =SUM(E20:N20) -> 97.8489 | Q20: =Q$31 -> 59.332116 | R20: =R$31 -> 8.1243579 | S20: =S$31 -> 5.8818368 | T20: 0.98 | U20: 0.31 | V20: 0.2 | W20: =IF(OR(E20>(Q20+T20),E20<(Q20-T20),L20>(R20+U20),L20<(R20-U20),M20>(S20+V20),M20<(S20-V20)),"Wrong","Ok") -> Ok
A21: 190407_9b | B21: 190407_9b J3 gauche 20 | C21: Dziani | D21: Phonolite | E21: 58.6653 | F21: 0.045 | G21: 19.2017 | H21: 4.6042 | I21: 0.2664 | J21: 0.0438 | K21: 0.9263 | L21: 8.3149 | M21: 5.9693 | N21: 0 | O21: =SUM(E21:N21) -> 98.0369 | Q21: =Q$31 -> 59.332116 | R21: =R$31 -> 8.1243579 | S21: =S$31 -> 5.8818368 | T21: 0.98 | U21: 0.31 | V21: 0.2 | W21: =IF(OR(E21>(Q21+T21),E21<(Q21-T21),L21>(R21+U21),L21<(R21-U21),M21>(S21+V21),M21<(S21-V21)),"Wrong","Ok") -> Ok
A22: 190407_9b | B22: 190407_9 J1 petit 46 | C22: Dziani | D22: Phonolite | E22: 59.1441 | F22: 0.0038 | G22: 19.2125 | H22: 4.8237 | I22: 0.2298 | J22: 0.0655 | K22: 0.9811 | L22: 8.2733 | M22: 5.9314 | N22: 0 | O22: =SUM(E22:N22) -> 98.6652 | Q22: =Q$31 -> 59.332116 | R22: =R$31 -> 8.1243579 | S22: =S$31 -> 5.8818368 | T22: 0.98 | U22: 0.31 | V22: 0.2 | W22: =IF(OR(E22>(Q22+T22),E22<(Q22-T22),L22>(R22+U22),L22<(R22-U22),M22>(S22+V22),M22<(S22-V22)),"Wrong","Ok") -> Ok
A23: 190407_9b | B23: 190407_9 J1 grd 30 | C23: Dziani | D23: Phonolite | E23: 59.0619 | F23: 0.0543 | G23: 19.4692 | H23: 5.0069 | I23: 0.3009 | J23: 0.0549 | K23: 0.9437 | L23: 8.0874 | M23: 6.1645 | N23: 0 | O23: =SUM(E23:N23) -> 99.1437 | Q23: =Q$31 -> 59.332116 | R23: =R$31 -> 8.1243579 | S23: =S$31 -> 5.8818368 | T23: 0.98 | U23: 0.31 | V23: 0.2 | W23: =IF(OR(E23>(Q23+T23),E23<(Q23-T23),L23>(R23+U23),L23<(R23-U23),M23>(S23+V23),M23<(S23-V23)),"Wrong","Ok") -> Wrong
A24: 190407_9b | B24: 190407_9b J3 top 5 | C24: Dziani | D24: Phonolite | E24: 60.0891 | F24: 0 | G24: 19.5395 | H24: 4.7584 | I24: 0.2705 | J24: 0.0428 | K24: 0.9812 | L24: 8.1818 | M24: 5.7824 | N24: 0 | O24: =SUM(E24:N24) -> 99.6457 | Q24: =Q$31 -> 59.332116 | R24: =R$31 -> 8.1243579 | S24: =S$31 -> 5.8818368 | T24: 0.98 | U24: 0.31 | V24: 0.2 | W24: =IF(OR(E24>(Q24+T24),E24<(Q24-T24),L24>(R24+U24),L24<(R24-U24),M24>(S24+V24),M24<(S24-V24)),"Wrong","Ok") -> Ok
... A30: 190407_9b | B30: 190407_9 J1 petit 44 | C30: Dziani | D30: Phonolite | E30: 60.7474 | F30: 0.0272 | G30: 19.6887 | H30: 4.6943 | I30: 0.2429 | J30: 0.0474 | K30: 1.0168 | L30: 8.4081 | M30: 6.1876 | N30: 0 | O30: =SUM(E30:N30) -> 101.0604 | Q30: =Q$31 -> 59.332116 | R30: =R$31 -> 8.1243579 | S30: =S$31 -> 5.8818368 | T30: 0.98 | U30: 0.31 | V30: 0.2 | W30: =IF(OR(E30>(Q30+T30),E30<(Q30-T30),L30>(R30+U30),L30<(R30-U30),M30>(S30+V30),M30<(S30-V30)),"Wrong","Ok") -> Wrong
A31: 190407_9b | B31: 190407_9 J1 grd 24 | C31: Dziani | D31: Phonolite | E31: 60.827 | F31: 0.0193 | G31: 19.4942 | H31: 5.2609 | I31: 0.3597 | J31: 0.0772 | K31: 1.1304 | L31: 8.7976 | M31: 5.5951 | N31: 0 | O31: =SUM(E31:N31) -> 101.5614 | Q31: =AVERAGE(E13:E31) -> 59.332116 | R31: =AVERAGE(L13:L31) -> 8.1243579 | S31: =AVERAGE(M13:M31) -> 5.8818368 | T31: 0.98 | U31: 0.31 | V31: 0.2 | W31: =IF(OR(E31>(Q31+T31),E31<(Q31-T31),L31>(R31+U31),L31<(R31-U31),M31>(S31+V31),M31<(S31-V31)),"Wrong","Ok") -> Wrong
A32: 190405_4 | B32: MAY190405_4_J1_5 | C32: Dziani | D32: Phonolite | E32: 61.3031 | F32: 0.0316 | G32: 20.0421 | H32: 4.8044 | I32: 0.3111 | J32: 0.0274 | K32: 1.0499 | L32: 7.6708 | M32: 6.1868 | N32: 0 | O32: =SUM(E32:N32) -> 101.4272 | Q32: =Q$43 -> 59.7687 | R32: =R$43 -> 8.09285 | S32: =S$43 -> 6.0537583 | T32: 0.98 | U32: 0.31 | V32: 0.2 | W32: =IF(OR(E32>(Q32+T32),E32<(Q32-T32),L32>(R32+U32),L32<(R32-U32),M32>(S32+V32),M32<(S32-V32)),"Wrong","Ok") -> Wrong
A33: 190405_4 | B33: MAY190405_4_J1_6 | C33: Dziani | D33: Phonolite | E33: 58.3497 | F33: 0.0158 | G33: 18.6868 | H33: 4.8808 | I33: 0.1977 | J33: 0.0689 | K33: 1.0214 | L33: 7.921 | M33: 5.7996 | N33: 0 | O33: =SUM(E33:N33) -> 96.9417 | Q33: =Q$43 -> 59.7687 | R33: =R$43 -> 8.09285 | S33: =S$43 -> 6.0537583 | T33: 0.98 | U33: 0.31 | V33: 0.2 | W33: =IF(OR(E33>(Q33+T33),E33<(Q33-T33),L33>(R33+U33),L33<(R33-U33),M33>(S33+V33),M33<(S33-V33)),"Wrong","Ok") -> Wrong
A34: 190405_4 | B34: MAY190405_4_J1_7 | C34: Dziani | D34: Phonolite | E34: 58.3059 | F34: 0.0829 | G34: 18.5436 | H34: 4.821 | I34: 0.265 | J34: 0.0672 | K34: 1.0402 | L34: 8.0066 | M34: 5.7981 | N34: 0 | O34: =SUM(E34:N34) -> 96.9305 | Q34: =Q$43 -> 59.7687 | R34: =R$43 -> 8.09285 | S34: =S$43 -> 6.0537583 | T34: 0.98 | U34: 0.31 | V34: 0.2 | W34: =IF(OR(E34>(Q34+T34),E34<(Q34-T34),L34>(R34+U34),L34<(R34-U34),M34>(S34+V34),M34<(S34-V34)),"Wrong","Ok") -> Wrong
A35: 190405_4 | B35: MAY190405_4_J1_8 | C35: Dziani | D35: Phonolite | E35: 58.1467 | F35: 0.0394 | G35: 18.5122 | H35: 4.8377 | I35: 0.1988 | J35: 0.0534 | K35: 1.0742 | L35: 7.8243 | M35: 5.7553 | N35: 0 | O35: =SUM(E35:N35) -> 96.442 | Q35: =Q$43 -> 59.7687 | R35: =R$43 -> 8.09285 | S35: =S$43 -> 6.0537583 | T35: 0.98 | U35: 0.31 | V35: 0.2 | W35: =IF(OR(E35>(Q35+T35),E35<(Q35-T35),L35>(R35+U35),L35<(R35-U35),M35>(S35+V35),M35<(S35-V35)),"Wrong","Ok") -> Wrong
A36: 190405_4 | B36: MAY190405_4_J1_10 | C36: Dziani | D36: Phonolite | E36: 58.0607 | F36: 0.1397 | G36: 18.8823 | H36: 4.242 | I36: 0.2521 | J36: 0.0423 | K36: 1.0769 | L36: 7.8486 | M36: 5.7021 | N36: 0 | O36: =SUM(E36:N36) -> 96.2467 | Q36: =Q$43 -> 59.7687 | R36: =R$43 -> 8.09285 | S36: =S$43 -> 6.0537583 | T36: 0.98 | U36: 0.31 | V36: 0.2 | W36: =IF(OR(E36>(Q36+T36),E36<(Q36-T36),L36>(R36+U36),L36<(R36-U36),M36>(S36+V36),M36<(S36-V36)),"Wrong","Ok") -> Wrong
A37: 190405_4 | B37: MAY190405_4_J1_11 | C37: Dziani | D37: Phonolite | E37: 60.5982 | F37: 0.0237 | G37: 19.8399 | H37: 4.7429 | I37: 0.2495 | J37: 0.0653 | K37: 1.0448 | L37: 8.1819 | M37: 5.9221 | N37: 0 | O37: =SUM(E37:N37) -> 100.6683 | Q37: =Q$43 -> 59.7687 | R37: =R$43 -> 8.09285 | S37: =S$43 -> 6.0537583 | T37: 0.98 | U37: 0.31 | V37: 0.2 | W37: =IF(OR(E37>(Q37+T37),E37<(Q37-T37),L37>(R37+U37),L37<(R37-U37),M37>(S37+V37),M37<(S37-V37)),"Wrong","Ok") -> Ok
A38: 190405_4 | B38: MAY190405_4_J1_12 | C38: Dziani | D38: Phonolite | E38: 60.4232 | F38: 0.0472 | G38: 19.842 | H38: 4.4529 | I38: 0.2402 | J38: 0.0426 | K38: 1.0884 | L38: 7.9264 | M38: 6.0466 | N38: 0 | O38: =SUM(E38:N38) -> 100.1095 | Q38: =Q$43 -> 59.7687 | R38: =R$43 -> 8.09285 | S38: =S$43 -> 6.0537583 | T38: 0.98 | U38: 0.31 | V38: 0.2 | W38: =IF(OR(E38>(Q38+T38),E38<(Q38-T38),L38>(R38+U38),L38<(R38-U38),M38>(S38+V38),M38<(S38-V38)),"Wrong","Ok") -> Ok
A39: 190405_4 | B39: MAY190405_4_J1B_20 | C39: Dziani | D39: Phonolite | E39: 60.4602 | F39: 0.0237 | G39: 19.3343 | H39: 4.9843 | I39: 0.3126 | J39: 0.0586 | K39: 0.9831 | L39: 8.3119 | M39: 6.1609 | N39: 0 | O39: =SUM(E39:N39) -> 100.6296 | Q39: =Q$43 -> 59.7687 | R39: =R$43 -> 8.09285 | S39: =S$43 -> 6.0537583 | T39: 0.98 | U39: 0.31 | V39: 0.2 | W39: =IF(OR(E39>(Q39+T39),E39<(Q39-T39),L39>(R39+U39),L39<(R39-U39),M39>(S39+V39),M39<(S39-V39)),"Wrong","Ok") -> Ok
A40: 190405_4 | B40: MAY190405_4_J1B_23 | C40: Dziani | D40: Phonolite | E40: 60.757 | F40: 0.0905 | G40: 19.365 | H40: 4.8729 | I40: 0.2894 | J40: 0.0671 | K40: 0.9189 | L40: 8.3575 | M40: 6.2899 | N40: 0 | O40: =SUM(E40:N40) -> 101.0082 | Q40: =Q$43 -> 59.7687 | R40: =R$43 -> 8.09285 | S40: =S$43 -> 6.0537583 | T40: 0.98 | U40: 0.31 | V40: 0.2 | W40: =IF(OR(E40>(Q40+T40),E40<(Q40-T40),L40>(R40+U40),L40<(R40-U40),M40>(S40+V40),M40<(S40-V40)),"Wrong","Ok") -> Wrong
A41: 190405_4 | B41: MAY190405_4_J1B_24 | C41: Dziani | D41: Phonolite | E41: 60.5189 | F41: 0.0634 | G41: 19.5231 | H41: 4.8547 | I41: 0.2788 | J41: 0.0864 | K41: 0.8844 | L41: 8.3486 | M41: 6.2303 | N41: 0 | O41: =SUM(E41:N41) -> 100.7886 | Q41: =Q$43 -> 59.7687 | R41: =R$43 -> 8.09285 | S41: =S$43 -> 6.0537583 | T41: 0.98 | U41: 0.31 | V41: 0.2 | W41: =IF(OR(E41>(Q41+T41),E41<(Q41-T41),L41>(R41+U41),L41<(R41-U41),M41>(S41+V41),M41<(S41-V41)),"Wrong","Ok") -> Ok
A42: 190405_4 | B42: MAY190405_4_J1B_30 | C42: Dziani | D42: Phonolite | E42: 59.9154 | F42: 0.0198 | G42: 19.7772 | H42: 4.6297 | I42: 0.3115 | J42: 0.0103 | K42: 0.9474 | L42: 8.567 | M42: 6.2911 | N42: 0 | O42: =SUM(E42:N42) -> 100.4694 | Q42: =Q$43 -> 59.7687 | R42: =R$43 -> 8.09285 | S42: =S$43 -> 6.0537583 | T42: 0.98 | U42: 0.31 | V42: 0.2 | W42: =IF(OR(E42>(Q42+T42),E42<(Q42-T42),L42>(R42+U42),L42<(R42-U42),M42>(S42+V42),M42<(S42-V42)),"Wrong","Ok") -> Wrong
A43: 190405_4 | B43: MAY190405_4_J2B_14 | C43: Dziani | D43: Phonolite | E43: 60.3854 | F43: 0.0513 | G43: 19.7079 | H43: 4.6665 | I43: 0.2824 | J43: 0.0584 | K43: 0.8611 | L43: 8.1496 | M43: 6.4623 | N43: 0 | O43: =SUM(E43:N43) -> 100.6249 | Q43: =AVERAGE(E32:E43) -> 59.7687 | R43: =AVERAGE(L32:L43) -> 8.09285 | S43: =AVERAGE(M32:M43) -> 6.0537583 | T43: 0.98 | U43: 0.31 | V43: 0.2 | W43: =IF(OR(E43>(Q43+T43),E43<(Q43-T43),L43>(R43+U43),L43<(R43-U43),M43>(S43+V43),M43<(S43-V43)),"Wrong","Ok") -> Wrong
A44: 190404_3 | B44: MAY190404_3_J1A_11 | C44: Dziani | D44: Phonolite | E44: 60.5262 | F44: 0.0277 | G44: 19.078 | H44: 5.0691 | I44: 0.2392 | J44: 0.0191 | K44: 0.7478 | L44: 8.7536 | M44: 6.1531 | N44: 0 | O44: =SUM(E44:N44) -> 100.6138 | Q44: =Q$51 -> 60.400212 | R44: =R$51 -> 8.4199 | S44: =S$51 -> 5.817475 | T44: 0.98 | U44: 0.31 | V44: 0.2 | W44: =IF(OR(E44>(Q44+T44),E44<(Q44-T44),L44>(R44+U44),L44<(R44-U44),M44>(S44+V44),M44<(S44-V44)),"Wrong","Ok") -> Wrong
A45: 190404_3 | B45: MAY190404_3_J1A_12 | C45: Dziani | D45: Phonolite | E45: 60.4691 | F45: 0.0079 | G45: 19.0196 | H45: 4.5454 | I45: 0.1902 | J45: 0.0586 | K45: 1.0677 | L45: 8.5911 | M45: 5.9726 | N45: 0 | O45: =SUM(E45:N45) -> 99.9222 | Q45: =Q$51 -> 60.400212 | R45: =R$51 -> 8.4199 | S45: =S$51 -> 5.817475 | T45: 0.98 | U45: 0.31 | V45: 0.2 | W45: =IF(OR(E45>(Q45+T45),E45<(Q45-T45),L45>(R45+U45),L45<(R45-U45),M45>(S45+V45),M45<(S45-V45)),"Wrong","Ok") -> Ok
...

Sheet Corrected
A1: Sample | B1: Analysis | C1: Locality | D1: Type | E1: SiO2 | F1: TiO2 | G1: Al2O3 | H1: FeO | I1: MnO | J1: MgO | K1: CaO | L1: Na2O | M1: K2O | N1: P2O5 | O1: Total | Q1: SiO2 | R1: Na2O | S1: K2O | T1: SiO2 err | U1: Na2O err | V1: K2O err | W1: Statut
A2: 190407_9b | B2: 190407_9b J3 gauche 18 | C2: Dziani | D2: Phonolite | E2: 58.8317 | F2: 0.1453 | G2: 18.7157 | H2: 4.6013 | I2: 0.2201 | J2: 0.0392 | K2: 0.9386 | L2: 8.3932 | M2: 5.7498 | N2: 0 | O2: 97.6349 | Q2: 59.332116 | R2: 8.1243579 | S2: 5.8818368 | T2: 0.98 | U2: 0.31 | V2: 0.2 | W2: Ok
A3: 190407_9b | B3: 190407_9b J3 top 4 | C3: Dziani | D3: Phonolite | E3: 58.5611 | F3: 0 | G3: 19.1266 | H3: 4.7498 | I3: 0.2943 | J3: 0.0692 | K3: 1.0496 | L3: 8.0491 | M3: 5.9492 | N3: 0 | O3: 97.8489 | Q3: 59.332116 | R3: 8.1243579 | S3: 5.8818368 | T3: 0.98 | U3: 0.31 | V3: 0.2 | W3: Ok
A4: 190407_9b | B4: 190407_9b J3 gauche 20 | C4: Dziani | D4: Phonolite | E4: 58.6653 | F4: 0.045 | G4: 19.2017 | H4: 4.6042 | I4: 0.2664 | J4: 0.0438 | K4: 0.9263 | L4: 8.3149 | M4: 5.9693 | N4: 0 | O4: 98.0369 | Q4: 59.332116 | R4: 8.1243579 | S4: 5.8818368 | T4: 0.98 | U4: 0.31 | V4: 0.2 | W4: Ok
A5: 190407_9b | B5: 190407_9 J1 petit 46 | C5: Dziani | D5: Phonolite | E5: 59.1441 | F5: 0.0038 | G5: 19.2125 | H5: 4.8237 | I5: 0.2298 | J5: 0.0655 | K5: 0.9811 | L5: 8.2733 | M5: 5.9314 | N5: 0 | O5: 98.6652 | Q5: 59.332116 | R5: 8.1243579 | S5: 5.8818368 | T5: 0.98 | U5: 0.31 | V5: 0.2 | W5: Ok
A6: 190407_9b | B6: 190407_9b J3 top 5 | C6: Dziani | D6: Phonolite | E6: 60.0891 | F6: 0 | G6: 19.5395 | H6: 4.7584 | I6: 0.2705 | J6: 0.0428 | K6: 0.9812 | L6: 8.1818 | M6: 5.7824 | N6: 0 | O6: 99.6457 | Q6: 59.332116 | R6: 8.1243579 | S6: 5.8818368 | T6: 0.98 | U6: 0.31 | V6: 0.2 | W6: Ok
A7: 190405_4 | B7: MAY190405_4_J1_11 | C7: Dziani | D7: Phonolite | E7: 60.5982 | F7: 0.0237 | G7: 19.8399 | H7: 4.7429 | I7: 0.2495 | J7: 0.0653 | K7: 1.0448 | L7: 8.1819 | M7: 5.9221 | N7: 0 | O7: 100.6683 | Q7: 59.7687 | R7: 8.09285 | S7: 6.0537583 | T7: 0.98 | U7: 0.31 | V7: 0.2 | W7: Ok
A8: 190405_4 | B8: MAY190405_4_J1_12 | C8: Dziani | D8: Phonolite | E8: 60.4232 | F8: 0.0472 | G8: 19.842 | H8: 4.4529 | I8: 0.2402 | J8: 0.0426 | K8: 1.0884 | L8: 7.9264 | M8: 6.0466 | N8: 0 | O8: 100.1095 | Q8: 59.7687 | R8: 8.09285 | S8: 6.0537583 | T8: 0.98 | U8: 0.31 | V8: 0.2 | W8: Ok
A9: 190405_4 | B9: MAY190405_4_J1B_20 | C9: Dziani | D9: Phonolite | E9: 60.4602 | F9: 0.0237 | G9: 19.3343 | H9: 4.9843 | I9: 0.3126 | J9: 0.0586 | K9: 0.9831 | L9: 8.3119 | M9: 6.1609 | N9: 0 | O9: 100.6296 | Q9: 59.7687 | R9: 8.09285 | S9: 6.0537583 | T9: 0.98 | U9: 0.31 | V9: 0.2 | W9: Ok
A10: 190405_4 | B10: MAY190405_4_J1B_24 | C10: Dziani | D10: Phonolite | E10: 60.5189 | F10: 0.0634 | G10: 19.5231 | H10: 4.8547 | I10: 0.2788 | J10: 0.0864 | K10: 0.8844 | L10: 8.3486 | M10: 6.2303 | N10: 0 | O10: 100.7886 | Q10: 59.7687 | R10: 8.09285 | S10: 6.0537583 | T10: 0.98 | U10: 0.31 | V10: 0.2 | W10: Ok
A11: 190404_3 | B11: MAY190404_3_J1A_12 | C11: Dziani | D11: Phonolite | E11: 60.4691 | F11: 0.0079 | G11: 19.0196 | H11: 4.5454 | I11: 0.1902 | J11: 0.0586 | K11: 1.0677 | L11: 8.5911 | M11: 5.9726 | N11: 0 | O11: 99.9222 | Q11: 60.400212 | R11: 8.4199 | S11: 5.817475 | T11: 0.98 | U11: 0.31 | V11: 0.2 | W11: Ok
A12: 190405_2 | B12: May190405_2 J2 5 | C12: Dziani | D12: Phonolite | E12: 59.8835 | F12: 0.0474 | G12: 18.8607 | H12: 3.6751 | I12: 0.2145 | J12: 0.0382 | K12: 1.4023 | L12: 8.2553 | M12: 5.0771 | N12: 0 | O12: 97.4541 | Q12: 59.506745 | R12: 8.3034636 | S12: 5.1875182 | T12: 0.98 | U12: 0.31 | V12: 0.2 | W12: Ok
A13: 190405_2 | B13: May190405_2 J1 3 | C13: Dziani | D13: Phonolite | E13: 60.3671 | F13: 0.0261 | G13: 19.0586 | H13: 4.1163 | I13: 0.1632 | J13: 0.0377 | K13: 0.8968 | L13: 8.3756 | M13: 5.1359 | N13: 0 | O13: 98.1773 | Q13: 59.506745 | R13: 8.3034636 | S13: 5.1875182 | T13: 0.98 | U13: 0.31 | V13: 0.2 | W13: Ok
... A69: 210713_13 | B69: 210713_10 1 | C69: Vigie | D69: Phonolite | E69: 59.9315 | F69: 0 | G69: 19.388 | H69: 4.5245 | I69: 0.2877 | J69: 0.0399 | K69: 1.0092 | L69: 8.1442 | M69: 5.8742 | N69: 0 | O69: 99.1992 | Q69: 59.9315 | R69: 8.1442 | S69: 5.8742 | T69: 0.98 | U69: 0.31 | V69: 0.2 | W69: Ok

Sheet Corrected + Normalized
A1: =Corrected!A1 -> Sample | B1: =Corrected!B1 -> Analysis | C1: =Corrected!C1 -> Locality | D1: =Corrected!D1 -> Type | E1: =Corrected!E1 -> SiO2 | F1: =Corrected!F1 -> TiO2 | G1: =Corrected!G1 -> Al2O3 | H1: =Corrected!H1 -> FeO | ... O1: =Corrected!O1 -> Total | Q1: TA
A2: =Corrected!A2 -> 190407_9b | B2: =Corrected!B2 -> 190407_9b J3 gauche 18 | C2: =Corrected!C2 -> Dziani | D2: =Corrected!D2 -> Phonolite | E2: =Corrected!E2*100/Corrected!$O2 -> 60.256834 | F2: =Corrected!F2*100/Corrected!$O2 -> 0.14881974 | G2: =Corrected!G2*100/Corrected!$O2 -> 19.169068 | H2: =Corrected!H2*100/Corrected!$O2 -> 4.7127615 | I2: =Corrected!I2*100/Corrected!$O2 -> 0.22543168 | J2: =Corrected!J2*100/Corrected!$O2 -> 0.040149578 | K2: =Corrected!K2*100/Corrected!$O2 -> 0.96133657 | L2: =Corrected!L2*100/Corrected!$O2 -> 8.5965162 | ... N2: =Corrected!N2*100/Corrected!$O2 -> 0 | O2: =SUM(E2:N2) -> 100 | Q2: =L2+M2 -> 14.485599
A3: =Corrected!A3 -> 190407_9b | B3: =Corrected!B3 -> 190407_9b J3 top 4 | C3: =Corrected!C3 -> Dziani | D3: =Corrected!D3 -> Phonolite | E3: =Corrected!E3*100/Corrected!$O3 -> 59.848501 | F3: =Corrected!F3*100/Corrected!$O3 -> 0 | G3: =Corrected!G3*100/Corrected!$O3 -> 19.547077 | H3: =Corrected!H3*100/Corrected!$O3 -> 4.8542191 | I3: =Corrected!I3*100/Corrected!$O3 -> 0.30076986 | J3: =Corrected!J3*100/Corrected!$O3 -> 0.070721286 | K3: =Corrected!K3*100/Corrected!$O3 -> 1.0726743 | L3: =Corrected!L3*100/Corrected!$O3 -> 8.2260506 | ... N3: =Corrected!N3*100/Corrected!$O3 -> 0 | O3: =SUM(E3:N3) -> 100 | Q3: =L3+M3 -> 14.306037
A4: =Corrected!A4 -> 190407_9b | B4: =Corrected!B4 -> 190407_9b J3 gauche 20 | C4: =Corrected!C4 -> Dziani | D4: =Corrected!D4 -> Phonolite | E4: =Corrected!E4*100/Corrected!$O4 -> 59.840019 | F4: =Corrected!F4*100/Corrected!$O4 -> 0.045901084 | G4: =Corrected!G4*100/Corrected!$O4 -> 19.586197 | H4: =Corrected!H4*100/Corrected!$O4 -> 4.6963949 | I4: =Corrected!I4*100/Corrected!$O4 -> 0.27173442 | J4: =Corrected!J4*100/Corrected!$O4 -> 0.044677055 | K4: =Corrected!K4*100/Corrected!$O4 -> 0.94484832 | L4: =Corrected!L4*100/Corrected!$O4 -> 8.4813983 | ... N4: =Corrected!N4*100/Corrected!$O4 -> 0 | O4: =SUM(E4:N4) -> 100 | Q4: =L4+M4 -> 14.570228
A5: =Corrected!A5 -> 190407_9b | B5: =Corrected!B5 -> 190407_9 J1 petit 46 | C5: =Corrected!C5 -> Dziani | D5: =Corrected!D5 -> Phonolite | E5: =Corrected!E5*100/Corrected!$O5 -> 59.944236 | F5: =Corrected!F5*100/Corrected!$O5 -> 0.0038514086 | G5: =Corrected!G5*100/Corrected!$O5 -> 19.472418 | H5: =Corrected!H5*100/Corrected!$O5 -> 4.8889578 | I5: =Corrected!I5*100/Corrected!$O5 -> 0.23290887 | J5: =Corrected!J5*100/Corrected!$O5 -> 0.066386122 | K5: =Corrected!K5*100/Corrected!$O5 -> 0.99437289 | L5: =Corrected!L5*100/Corrected!$O5 -> 8.385226 | ... N5: =Corrected!N5*100/Corrected!$O5 -> 0 | O5: =SUM(E5:N5) -> 100 | Q5: =L5+M5 -> 14.396869
A6: =Corrected!A6 -> 190407_9b | B6: =Corrected!B6 -> 190407_9b J3 top 5 | C6: =Corrected!C6 -> Dziani | D6: =Corrected!D6 -> Phonolite | E6: =Corrected!E6*100/Corrected!$O6 -> 60.302753 | F6: =Corrected!F6*100/Corrected!$O6 -> 0 | G6: =Corrected!G6*100/Corrected!$O6 -> 19.608975 | H6: =Corrected!H6*100/Corrected!$O6 -> 4.775319 | I6: =Corrected!I6*100/Corrected!$O6 -> 0.27146179 | J6: =Corrected!J6*100/Corrected!$O6 -> 0.04295218 | K6: =Corrected!K6*100/Corrected!$O6 -> 0.98468875 | L6: =Corrected!L6*100/Corrected!$O6 -> 8.2108912 | ... N6: =Corrected!N6*100/Corrected!$O6 -> 0 | O6: =SUM(E6:N6) -> 100 | Q6: =L6+M6 -> 14.013851
A7: =Corrected!A7 -> 190405_4 | B7: =Corrected!B7 -> MAY190405_4_J1_11 | C7: =Corrected!C7 -> Dziani | D7: =Corrected!D7 -> Phonolite | E7: =Corrected!E7*100/Corrected!$O7 -> 60.195911 | F7: =Corrected!F7*100/Corrected!$O7 -> 0.023542664 | G7: =Corrected!G7*100/Corrected!$O7 -> 19.70819 | H7: =Corrected!H7*100/Corrected!$O7 -> 4.7114136 | I7: =Corrected!I7*100/Corrected!$O7 -> 0.24784366 | J7: =Corrected!J7*100/Corrected!$O7 -> 0.064866497 | K7: =Corrected!K7*100/Corrected!$O7 -> 1.037864 | L7: =Corrected!L7*100/Corrected!$O7 -> 8.1275834 | ... N7: =Corrected!N7*100/Corrected!$O7 -> 0 | O7: =SUM(E7:N7) -> 100 | Q7: =L7+M7 -> 14.010369
A8: =Corrected!A8 -> 190405_4 | B8: =Corrected!B8 -> MAY190405_4_J1_12 | C8: =Corrected!C8 -> Dziani | D8: =Corrected!D8 -> Phonolite | E8: =Corrected!E8*100/Corrected!$O8 -> 60.357109 | F8: =Corrected!F8*100/Corrected!$O8 -> 0.047148373 | G8: =Corrected!G8*100/Corrected!$O8 -> 19.820297 | H8: =Corrected!H8*100/Corrected!$O8 -> 4.4480294 | I8: =Corrected!I8*100/Corrected!$O8 -> 0.23993727 | J8: =Corrected!J8*100/Corrected!$O8 -> 0.042553404 | K8: =Corrected!K8*100/Corrected!$O8 -> 1.0872095 | L8: =Corrected!L8*100/Corrected!$O8 -> 7.9177301 | ... N8: =Corrected!N8*100/Corrected!$O8 -> 0 | O8: =SUM(E8:N8) -> 100 | Q8: =L8+M8 -> 13.957716
A9: =Corrected!A9 -> 190405_4 | B9: =Corrected!B9 -> MAY190405_4_J1B_20 | C9: =Corrected!C9 -> Dziani | D9: =Corrected!D9 -> Phonolite | E9: =Corrected!E9*100/Corrected!$O9 -> 60.081924 | F9: =Corrected!F9*100/Corrected!$O9 -> 0.023551718 | G9: =Corrected!G9*100/Corrected!$O9 -> 19.213333 | H9: =Corrected!H9*100/Corrected!$O9 -> 4.9531152 | I9: =Corrected!I9*100/Corrected!$O9 -> 0.31064418 | J9: =Corrected!J9*100/Corrected!$O9 -> 0.058233363 | K9: =Corrected!K9*100/Corrected!$O9 -> 0.97694913 | L9: =Corrected!L9*100/Corrected!$O9 -> 8.2598957 | ... N9: =Corrected!N9*100/Corrected!$O9 -> 0 | O9: =SUM(E9:N9) -> 100 | Q9: =L9+M9 -> 14.382249
A10: =Corrected!A10 -> 190405_4 | B10: =Corrected!B10 -> MAY190405_4_J1B_24 | C10: =Corrected!C10 -> Dziani | D10: =Corrected!D10 -> Phonolite | E10: =Corrected!E10*100/Corrected!$O10 -> 60.045382 | F10: =Corrected!F10*100/Corrected!$O10 -> 0.06290394 | G10: =Corrected!G10*100/Corrected!$O10 -> 19.370345 | H10: =Corrected!H10*100/Corrected!$O10 -> 4.8167154 | I10: =Corrected!I10*100/Corrected!$O10 -> 0.27661859 | J10: =Corrected!J10*100/Corrected!$O10 -> 0.085723981 | K10: =Corrected!K10*100/Corrected!$O10 -> 0.87748019 | L10: =Corrected!L10*100/Corrected!$O10 -> 8.2832781 | ... N10: =Corrected!N10*100/Corrected!$O10 -> 0 | O10: =SUM(E10:N10) -> 100 | Q10: =L10+M10 -> 14.46483
A11: =Corrected!A11 -> 190404_3 | B11: =Corrected!B11 -> MAY190404_3_J1A_12 | C11: =Corrected!C11 -> Dziani | D11: =Corrected!D11 -> Phonolite | E11: =Corrected!E11*100/Corrected!$O11 -> 60.516182 | F11: =Corrected!F11*100/Corrected!$O11 -> 0.007906151 | G11: =Corrected!G11*100/Corrected!$O11 -> 19.034409 | H11: =Corrected!H11*100/Corrected!$O11 -> 4.5489391 | I11: =Corrected!I11*100/Corrected!$O11 -> 0.19034809 | J11: =Corrected!J11*100/Corrected!$O11 -> 0.058645626 | K11: =Corrected!K11*100/Corrected!$O11 -> 1.0685313 | L11: =Corrected!L11*100/Corrected!$O11 -> 8.5977891 | ... N11: =Corrected!N11*100/Corrected!$O11 -> 0 | O11: =SUM(E11:N11) -> 100 | Q11: =L11+M11 -> 14.575039
A12: =Corrected!A12 -> 190405_2 | B12: =Corrected!B12 -> May190405_2 J2 5 | C12: =Corrected!C12 -> Dziani | D12: =Corrected!D12 -> Phonolite | E12: =Corrected!E12*100/Corrected!$O12 -> 61.447902 | F12: =Corrected!F12*100/Corrected!$O12 -> 0.048638282 | G12: =Corrected!G12*100/Corrected!$O12 -> 19.353419 | H12: =Corrected!H12*100/Corrected!$O12 -> 3.7711087 | I12: =Corrected!I12*100/Corrected!$O12 -> 0.22010362 | J12: =Corrected!J12*100/Corrected!$O12 -> 0.03919794 | K12: =Corrected!K12*100/Corrected!$O12 -> 1.4389338 | L12: =Corrected!L12*100/Corrected!$O12 -> 8.4709622 | ... N12: =Corrected!N12*100/Corrected!$O12 -> 0 | O12: =SUM(E12:N12) -> 100 | Q12: =L12+M12 -> 13.680697
A13: =Corrected!A13 -> 190405_2 | B13: =Corrected!B13 -> May190405_2 J1 3 | C13: =Corrected!C13 -> Dziani | D13: =Corrected!D13 -> Phonolite | E13: =Corrected!E13*100/Corrected!$O13 -> 61.487839 | F13: =Corrected!F13*100/Corrected!$O13 -> 0.026584557 | G13: =Corrected!G13*100/Corrected!$O13 -> 19.41243 | H13: =Corrected!H13*100/Corrected!$O13 -> 4.1927207 | I13: =Corrected!I13*100/Corrected!$O13 -> 0.16622987 | J13: =Corrected!J13*100/Corrected!$O13 -> 0.038399915 | K13: =Corrected!K13*100/Corrected!$O13 -> 0.91344944 | L13: =Corrected!L13*100/Corrected!$O13 -> 8.5310963 | ... N13: =Corrected!N13*100/Corrected!$O13 -> 0 | O13: =SUM(E13:N13) -> 100 | Q13: =L13+M13 -> 13.762346
... A69: =Corrected!A69 -> 210713_13 | B69: =Corrected!B69 -> 210713_10 1 | C69: =Corrected!C69 -> Vigie | D69: =Corrected!D69 -> Phonolite | E69: =Corrected!E69*100/Corrected!$O69 -> 60.415306 | F69: =Corrected!F69*100/Corrected!$O69 -> 0 | G69: =Corrected!G69*100/Corrected!$O69 -> 19.544512 | H69: =Corrected!H69*100/Corrected!$O69 -> 4.5610247 | I69: =Corrected!I69*100/Corrected!$O69 -> 0.2900225 | J69: =Corrected!J69*100/Corrected!$O69 -> 0.040222099 | K69: =Corrected!K69*100/Corrected!$O69 -> 1.0173469 | L69: =Corrected!L69*100/Corrected!$O69 -> 8.2099452 | ... N69: =Corrected!N69*100/Corrected!$O69 -> 0 | O69: =SUM(E69:N69) -> 100 | Q69: =L69+M69 -> 14.131566

Sheet Litterature
A1: Reference | B1: Locality | C1: Sample | D1: Rock Type | E1: Type | F1: SiO2 | G1: TiO2 | H1: Al2O3 | I1: FeOT* | J1: MnO | K1: MgO | L1: CaO | M1: Na2O | N1: K2O | O1: P2O5 | P1: Total | R1: TA
A2: [1278] FLOWER M. F. J. (1971) | B2: Anjouan | C2: AJ-32 | D2: VOLCANIC ROCK | E2: BASALT, OLIVINE | F2: 47.73 | G2: 1.75 | H2: 11.43 | I2: 11.602406 | J2: 0.17 | K2: 11.86 | L2: 10.45 | M2: 2.21 | N2: 0.58 | O2: 0.33 | P2: =SUM(F2:H2)+SUM(I2:O2) -> 98.112406 | R2: =M2+N2 -> 2.79
A3: [1278] FLOWER M. F. J. (1971) | B3: Anjouan | C3: AJ-67 | D3: VOLCANIC ROCK | E3: BASANITE | F3: 46.3 | G3: 2.39 | H3: 14.97 | I3: 11.310182 | J3: 0.2 | K3: 7.19 | L3: 10.46 | M3: 3.77 | N3: 1.3 | O3: 0.83 | P3: =SUM(F3:H3)+SUM(I3:O3) -> 98.720182 | R3: =M3+N3 -> 5.07
A4: [1278] FLOWER M. F. J. (1971) | B4: Anjouan | C4: AJ-76 | D4: VOLCANIC ROCK | E4: HAWAIITE, NEPHELINE | F4: 46.31 | G4: 2.39 | H4: 16.43 | I4: 11.543288 | J4: 0.17 | K4: 4.43 | L4: 8.43 | M4: 5.36 | N4: 2.19 | O4: 0.92 | P4: =SUM(F4:H4)+SUM(I4:O4) -> 98.173288 | R4: =M4+N4 -> 7.55
A5: [1278] FLOWER M. F. J. (1971) | B5: Anjouan | C5: AJ-75 | D5: VOLCANIC ROCK | E5: MUGEARITE, NEPHELINE | F5: 49.68 | G5: 1.57 | H5: 17.67 | I5: 10.042266 | J5: 0.18 | K5: 2.92 | L5: 6.26 | M5: 6.34 | N5: 2.84 | O5: 0.93 | P5: =SUM(F5:H5)+SUM(I5:O5) -> 98.432266 | R5: =M5+N5 -> 9.18
A6: [1278] FLOWER M. F. J. (1971) | B6: Anjouan | C6: AJ-2 | D6: VOLCANIC ROCK | E6: PHONOLITE | F6: 55.75 | G6: 0.33 | H6: 20.13 | I6: 6.062326 | J6: 0.2 | K6: 0.63 | L6: 3.05 | M6: 8.18 | N6: 3.9 | O6: 0.18 | P6: =SUM(F6:H6)+SUM(I6:O6) -> 98.412326 | R6: =M6+N6 -> 12.08
A7: [1279] FLOWER M. F. J. (1973) | B7: Anjouan | C7: 1 | D7: VOLCANIC ROCK | E7: BASALT, HYPERSTHENE | F7: 47.23 | G7: 2.28 | H7: 12 | I7: 11.87427 | J7: 0.17 | K7: 10.94 | L7: 10.82 | M7: 2.18 | N7: 0.78 | O7: 0.41 | P7: =SUM(F7:H7)+SUM(I7:O7) -> 98.68427 | R7: =M7+N7 -> 2.96
A8: [1279] FLOWER M. F. J. (1973) | B8: Anjouan | C8: 2 | D8: VOLCANIC ROCK | E8: HAWAIITE, HYPERSTHENE | F8: 49.92 | G8: 2.87 | H8: 13.77 | I8: 11.865212 | J8: 0.16 | K8: 7.12 | L8: 10.14 | M8: 2.79 | N8: 1.43 | O8: 0.56 | P8: =SUM(F8:H8)+SUM(I8:O8) -> 100.62521 | R8: =M8+N8 -> 4.22
A9: [1279] FLOWER M. F. J. (1973) | B9: Anjouan | C9: 3 | D9: VOLCANIC ROCK | E9: BASALT, ALKALINE | F9: 46.25 | G9: 2.29 | H9: 11.95 | I9: 11.675252 | J9: 0.18 | K9: 10.72 | L9: 10.85 | M9: 2.74 | N9: 1.14 | O9: 0.46 | P9: =SUM(F9:H9)+SUM(I9:O9) -> 98.255252 | R9: =M9+N9 -> 3.88
A10: [1279] FLOWER M. F. J. (1973) | B10: Anjouan | C10: 4 | D10: VOLCANIC ROCK | E10: HAWAIITE | F10: 48.36 | G10: 2.91 | H10: 16.41 | I10: 10.982246 | J10: 0.18 | K10: 4.44 | L10: 8.91 | M10: 4.22 | N10: 1.89 | O10: 0.73 | P10: =SUM(F10:H10)+SUM(I10:O10) -> 99.032246 | R10: =M10+N10 -> 6.11
A11: [1279] FLOWER M. F. J. (1973) | B11: Anjouan | C11: 5 | D11: VOLCANIC ROCK | E11: BENMOREITE | F11: 55.59 | G11: 1.63 | H11: 18.65 | I11: 7.60922 | J11: 0.21 | K11: 1.41 | L11: 4.52 | M11: 5.81 | N11: 2.68 | O11: 0.42 | P11: =SUM(F11:H11)+SUM(I11:O11) -> 98.52922 | R11: =M11+N11 -> 8.49
A12: [1279] FLOWER M. F. J. (1973) | B12: Anjouan | C12: 6 | D12: VOLCANIC ROCK | E12: TRACHYTE | F12: 56.09 | G12: 1.27 | H12: 18.57 | I12: 6.832286 | J12: 0.21 | K12: 1.22 | L12: 4.27 | M12: 6.22 | N12: 3.2 | O12: 0.3 | P12: =SUM(F12:H12)+SUM(I12:O12) -> 98.182286 | R12: =M12+N12 -> 9.42
A13: [1279] FLOWER M. F. J. (1973) | B13: Anjouan | C13: 7 | D13: VOLCANIC ROCK | E13: BASANITE | F13: 44.65 | G13: 2.57 | H13: 13.85 | I13: 12.112106 | J13: 0.19 | K13: 8.28 | L13: 11.12 | M13: 3.69 | N13: 1.43 | O13: 0.6 | P13: =SUM(F13:H13)+SUM(I13:O13) -> 98.492106 | R13: =M13+N13 -> 5.12
A14: [1279] FLOWER M. F. J. (1973) | B14: Anjouan | C14: 8 | D14: VOLCANIC ROCK | E14: HAWAIITE, NEPHELINE | F14: 46.78 | G14: 2.28 | H14: 16.26 | I14: 11.660222 | J14: 0.19 | K14: 4.22 | L14: 7.94 | M14: 5.4 | N14: 2.31 | O14: 0.89 | P14: =SUM(F14:H14)+SUM(I14:O14) -> 97.930222 | R14: =M14+N14 -> 7.71
A15: [1279] FLOWER M. F. J. (1973) | B15: Anjouan | C15: 9 | D15: VOLCANIC ROCK | E15: MUGEARITE, NEPHELINE | F15: 49.57 | G15: 1.56 | H15: 17.81 | I15: 10.143168 | J15: 0.19 | K15: 2.85 | L15: 6.26 | M15: 6.11 | N15: 2.83 | O15: 0.88 | P15: =SUM(F15:H15)+SUM(I15:O15) -> 98.203168 | R15: =M15+N15 -> 8.94
A16: [1279] FLOWER M. F. J. (1973) | B16: Anjouan | C16: 10 | D16: VOLCANIC ROCK | E16: BENMOREITE, NEPHELINE | F16: 52.96 | G16: 0.81 | H16: 18.95 | I16: 8.776254 | J16: 0.17 | K16: 1.28 | L16: 4.33 | M16: 7.44 | N16: 3.4 | O16: 0.45 | P16: =SUM(F16:H16)+SUM(I16:O16) -> 98.566254 | R16: =M16+N16 -> 10.84
A17: [1279] FLOWER M. F. J. (1973) | B17: Anjouan | C17: 11 | D17: VOLCANIC ROCK | E17: PHONOLITE | F17: 54.72 | G17: 0.42 | H17: 19.78 | I17: 7.018178 | J17: 0.22 | K17: 0.87 | L17: 2.81 | M17: 8.12 | N17: 4.05 | O17: 0.23 | P17: =SUM(F17:H17)+SUM(I17:O17) -> 98.238178 | R17: =M17+N17 -> 12.17
A18: [1279] FLOWER M. F. J. (1973) | B18: Anjouan | C18: 12 | D18: VOLCANIC ROCK | E18: PHONOLITE, PERALKALINE | F18: 56 | G18: 0.77 | H18: 17.86 | I18: 6.13431 | J18: 0.2 | K18: 1.02 | L18: 2.27 | M18: 8.8 | N18: 4.4 | O18: 0.29 | P18: =SUM(F18:H18)+SUM(I18:O18) -> 97.74431 | R18: =M18+N18 -> 13.2
A19: [1279] FLOWER M. F. J. (1973) | B19: Anjouan | C19: AJ-35 | D19: VOLCANIC ROCK | E19: ANKARAMITE | F19: 47.33 | G19: 2.26 | H19: 10.52 | I19: 11.852466 | J19: 0.18 | K19: 11.97 | L19: 12.3 | M19: 1.99 | N19: 0.75 | O19: 0.39 | P19: =SUM(F19:H19)+SUM(I19:O19) -> 99.542466 | R19: =M19+N19 -> 2.74
A20: [1279] FLOWER M. F. J. (1973) | B20: Anjouan | C20: AJ-110 | D20: VOLCANIC ROCK | E20: ANKARAMITE | F20: 46.53 | G20: 2.44 | H20: 11.77 | I20: 11.595432 | J20: 0.16 | K20: 10.28 | L20: 11.45 | M20: 2.14 | N20: 0.93 | O20: 0.47 | P20: =SUM(F20:H20)+SUM(I20:O20) -> 97.765432 | R20: =M20+N20 -> 3.07
A21: [1279] FLOWER M. F. J. (1973) | B21: Anjouan | C21: AJ-32 | D21: VOLCANIC ROCK | E21: BASALT, OLIVINE | F21: 47.73 | G21: 1.75 | H21: 11.43 | I21: 11.602406 | J21: 0.17 | K21: 11.86 | L21: 10.45 | M21: 2.21 | N21: 0.58 | O21: 0.33 | P21: =SUM(F21:H21)+SUM(I21:O21) -> 98.112406 | R21: =M21+N21 -> 2.79
A22: [1279] FLOWER M. F. J. (1973) | B22: Anjouan | C22: AJ-146 | D22: VOLCANIC ROCK | E22: BASALT, OLIVINE | F22: 47.65 | G22: 2.35 | H22: 10.4 | I22: 10.82962 | J22: 0.19 | K22: 13.07 | L22: 11.92 | M22: 1.93 | N22: 0.33 | O22: 0.35 | P22: =SUM(F22:H22)+SUM(I22:O22) -> 99.01962 | R22: =M22+N22 -> 2.26
A23: [1279] FLOWER M. F. J. (1973) | B23: Anjouan | C23: AJ-27 | D23: VOLCANIC ROCK | E23: OCEANITE | F23: 46.59 | G23: 2.51 | H23: 10.52 | I23: 12.163128 | J23: 0.18 | K23: 13.41 | L23: 10.39 | M23: 1.77 | N23: 0.72 | O23: 0.36 | P23: =SUM(F23:H23)+SUM(I23:O23) -> 98.613128 | R23: =M23+N23 -> 2.49
A24: [1279] FLOWER M. F. J. (1973) | B24: Anjouan | C24: AJ-218 | D24: VOLCANIC ROCK | E24: BASANITE, OLIVINE | F24: 43.3 | G24: 2.39 | H24: 12.11 | I24: 12.690062 | J24: 0.2 | K24: 12.55 | L24: 11.25 | M24: 3.27 | N24: 1.28 | O24: 0.63 | P24: =SUM(F24:H24)+SUM(I24:O24) -> 99.670062 | R24: =M24+N24 -> 4.55
A25: [1279] FLOWER M. F. J. (1973) | B25: Anjouan | C25: AJ-117 | D25: VOLCANIC ROCK | E25: BASANITE | F25: 44.74 | G25: 2.37 | H25: 12.15 | I25: 11.226174 | J25: 0.23 | K25: 9.38 | L25: 13.72 | M25: 2.73 | N25: 1.06 | O25: 0.61 | P25: =SUM(F25:H25)+SUM(I25:O25) -> 98.216174 | R25: =M25+N25 -> 3.79
A26: [1279] FLOWER M. F. J. (1973) | B26: Anjouan | C26: AJ-10 | D26: VOLCANIC ROCK | E26: BASANITE, OLIVINE-CLINOPYROXENE | F26: 44.78 | G26: 2.27 | H26: 13.37 | I26: 12.24423 | J26: 0.16 | K26: 10.46 | L26: 11.17 | M26: 2.9 | N26: 0.94 | O26: 0.5 | P26: =SUM(F26:H26)+SUM(I26:O26) -> 98.79423 | R26: =M26+N26 -> 3.84
A27: [1313] NOUGIER J. (1986) | B27: Anjouan | C27: AN08 | D27: VOLCANIC ROCK | E27: HAWAIITE, NEPHELINE | F27: 44.4 | G27: 2.8 | H27: 14.5 | I27: 13.061044 | J27: 0.22 | K27: 10.5 | L27: 9.9 | M27: 3.3 | N27: 1.1 | P27: =SUM(F27:H27)+SUM(I27:O27) -> 99.781044 | R27: =M27+N27 -> 4.4
A28: [1313] NOUGIER J. (1986) | B28: Anjouan | C28: AN02 | D28: VOLCANIC ROCK | E28: HAWAIITE, NEPHELINE | F28: 44 | G28: 2.8 | H28: 16.6 | I28: 12.964952 | J28: 0.24 | K28: 7.05 | L28: 9.6 | M28: 4.5 | N28: 1.8 | P28: =SUM(F28:H28)+SUM(I28:O28) -> 99.554952 | R28: =M28+N28 -> 6.3
A29: [1313] NOUGIER J. (1986) | B29: Anjouan | C29: AN01 | D29: VOLCANIC ROCK | E29: BENMOREITE, NEPHELINE | F29: 52.5 | G29: 0.9 | H29: 19 | I29: 9.006094 | J29: 0.25 | K29: 1.6 | L29: 4.5 | M29: 7.5 | N29: 3.3 | P29: =SUM(F29:H29)+SUM(I29:O29) -> 98.556094 | R29: =M29+N29 -> 10.8
A30: [1313] NOUGIER J. (1986) | B30: Anjouan | C30: AN04 | D30: VOLCANIC ROCK | E30: PHONOLITE | F30: 53.55 | H30: 19.65 | I30: 8.014992 | J30: 0.34 | K30: 0.3 | L30: 2.8 | M30: 7.6 | N30: 4.25 | P30: =SUM(F30:H30)+SUM(I30:O30) -> 96.504992 | R30: =M30+N30 -> 11.85
A31: [1365] THOMPSON R. N. (1971) | B31: Anjouan | C31: AJ32 | D31: VOLCANIC ROCK | E31: THOLEIITE, OLIVINE | F31: 47.73 | G31: 1.75 | H31: 11.43 | I31: 11.602406 | J31: 0.17 | K31: 11.86 | L31: 10.45 | M31: 2.21 | N31: 0.58 | O31: 0.33 | P31: =SUM(F31:H31)+SUM(I31:O31) -> 98.112406 | R31: =M31+N31 -> 2.79
A32: [1365] THOMPSON R. N. (1971) | B32: Anjouan | C32: AJ35 | D32: VOLCANIC ROCK | E32: ANKARAMITE | F32: 47.33 | G32: 2.26 | H32: 10.52 | I32: 11.852466 | J32: 0.18 | K32: 11.97 | L32: 12.3 | M32: 1.99 | N32: 0.75 | O32: 0.39 | P32: =SUM(F32:H32)+SUM(I32:O32) -> 99.542466 | R32: =M32+N32 -> 2.74
A33: [1365] THOMPSON R. N. (1971) | B33: Anjouan | C33: AJ168 | D33: VOLCANIC ROCK | E33: ANKARAMITE | F33: 49.12 | G33: 2.27 | H33: 12.22 | I33: 10.970462 | J33: 0.11 | K33: 9.94 | L33: 10.14 | M33: 2.21 | N33: 0.65 | O33: 0.36 | P33: =SUM(F33:H33)+SUM(I33:O33) -> 97.990462 | R33: =M33+N33 -> 2.86
A34: [1365] THOMPSON R. N. (1971) | B34: Anjouan | C34: AJ68 | D34: VOLCANIC ROCK | E34: BASALT, ALKALINE | F34: 46.88 | G34: 2.39 | H34: 12.08 | I34: 12.330162 | J34: 0.2 | K34: 9.5 | L34: 10.29 | M34: 2.92 | N34: 1.01 | O34: 0.48 | P34: =SUM(F34:H34)+SUM(I34:O34) -> 98.080162 | R34: =M34+N34 -> 3.93
A35: [1365] THOMPSON R. N. (1971) | B35: Anjouan | C35: AJ33 | D35: VOLCANIC ROCK | E35: THOLEIITE, OLIVINE | F35: 46.33 | G35: 2.41 | H35: 14.14 | I35: 12.876194 | J35: 0.16 | K35: 9.06 | L35: 10.82 | M35: 2.09 | N35: 1.05 | O35: 0.43 | P35: =SUM(F35:H35)+SUM(I35:O35) -> 99.366194 | R35: =M35+N35 -> 3.14
A36: [1365] THOMPSON R. N. (1971) | B36: Anjouan | C36: AJ102 | D36: VOLCANIC ROCK | E36: HAWAIITE, BASALTIC | F36: 46.35 | G36: 2.35 | H36: 13.68 | I36: 11.751104 | J36: 0.17 | K36: 7.88 | L36: 10.22 | M36: 3.37 | N36: 1.35 | O36: 0.54 | P36: =SUM(F36:H36)+SUM(I36:O36) -> 97.661104 | R36: =M36+N36 -> 4.72
A37: [1365] THOMPSON R. N. (1971) | B37: Anjouan | C37: AJ99 | D37: VOLCANIC ROCK | E37: BASANITE | F37: 44.38 | G37: 3.05 | H37: 14.79 | I37: 12.611204 | J37: 0.21 | K37: 6.62 | L37: 10.18 | M37: 4 | N37: 1.6 | O37: 0.97 | P37: =SUM(F37:H37)+SUM(I37:O37) -> 98.411204 | R37: =M37+N37 -> 5.6
A38: [1365] THOMPSON R. N. (1971) | B38: Anjouan | C38: AJ175 | D38: VOLCANIC ROCK | E38: HAWAIITE | F38: 48.59 | G38: 2.82 | H38: 16.84 | I38: 9.990342 | J38: 0.19 | K38: 4.58 | L38: 8.75 | M38: 4.35 | N38: 2.06 | O38: 0.72 | P38: =SUM(F38:H38)+SUM(I38:O38) -> 98.890342 | R38: =M38+N38 -> 6.41
A39: [1365] THOMPSON R. N. (1971) | B39: Anjouan | C39: AJ76 | D39: VOLCANIC ROCK | E39: HAWAIITE, NEPHELINE | F39: 46.31 | G39: 2.39 | H39: 16.43 | I39: 11.543288 | J39: 0.17 | K39: 4.43 | L39: 8.43 | M39: 5.36 | N39: 2.19 | O39: 0.92 | P39: =SUM(F39:H39)+SUM(I39:O39) -> 98.173288 | R39: =M39+N39 -> 7.55
A40: [1365] THOMPSON R. N. (1971) | B40: Anjouan | C40: AJ75 | D40: VOLCANIC ROCK | E40: MUGEARITE, NEPHELINE | F40: 49.68 | G40: 1.57 | H40: 17.67 | I40: 10.042266 | J40: 0.18 | K40: 2.92 | L40: 6.26 | M40: 6.34 | N40: 2.84 | O40: 0.93 | P40: =SUM(F40:H40)+SUM(I40:O40) -> 98.432266 | R40: =M40+N40 -> 9.18
...

Sheet Berthod et al. 2021 2022
A1: Sample | B1: Location | C1: SiO2 | D1: TiO2 | E1: Al2O3 | F1: FeO | G1: MnO | H1: MgO | I1: CaO | J1: Na2O | K1: K2O | L1: P2O5 | M1: Total | O1: Statut | Q1: =_xlfn.CONCAT(C1,"(N)") -> SiO2(N) | R1: =_xlfn.CONCAT(D1,"(N)") -> TiO2(N) | S1: =_xlfn.CONCAT(E1,"(N)") -> Al2O3(N) | T1: =_xlfn.CONCAT(F1,"(N)") -> FeO(N) | U1: =_xlfn.CONCAT(G1,"(N)") -> MnO(N) | V1: =_xlfn.CONCAT(H1,"(N)") -> MgO(N) | W1: =_xlfn.CONCAT(I1,"(N)") -> CaO(N) | X1: =_xlfn.CONCAT(J1,"(N)") -> Na2O(N) | ... Z1: =_xlfn.CONCAT(L1,"(N)") -> P2O5(N) | AA1: Total | AC1: TA
A2: MAY01-DR02-0102 | B2: Mayotte - Fer à Cheval | C2: 58.246899 | D2: 0.35240136 | E2: 18.979013 | F2: 6.4162071 | G2: 0.26776237 | H2: 0.36269353 | I2: 1.6554205 | J2: 8.0292513 | K2: 5.6168493 | L2: 0.25456613 | M2: 100.18106 | O2: OK | Q2: =C2*100/$M2 -> 58.141626 | R2: =D2*100/$M2 -> 0.35176444 | S2: =E2*100/$M2 -> 18.944711 | T2: =F2*100/$M2 -> 6.4046107 | U2: =G2*100/$M2 -> 0.26727842 | V2: =H2*100/$M2 -> 0.36203801 | W2: =I2*100/$M2 -> 1.6524285 | X2: =J2*100/$M2 -> 8.0147395 | ... Z2: =L2*100/$M2 -> 0.25410604 | AA2: =SUM(Q2:Z2) -> 100 | AC2: =X2+Y2 -> 13.621437
A3: MAY01-DR02-0202 | B3: Mayotte - Fer à Cheval | C3: 58.486147 | D3: 0.35389862 | E3: 18.802665 | F3: 6.3913143 | G3: 0.26369481 | H3: 0.43988231 | I3: 1.6482511 | J3: 7.9936592 | K3: 5.5571153 | L3: 0.25855508 | M3: 100.19518 | O3: OK | Q3: =C3*100/$M3 -> 58.372215 | R3: =D3*100/$M3 -> 0.35320922 | S3: =E3*100/$M3 -> 18.766037 | T3: =F3*100/$M3 -> 6.3788639 | U3: =G3*100/$M3 -> 0.26318113 | V3: =H3*100/$M3 -> 0.43902541 | W3: =I3*100/$M3 -> 1.6450403 | X3: =J3*100/$M3 -> 7.9780873 | ... Z3: =L3*100/$M3 -> 0.25805141 | AA3: =SUM(Q3:Z3) -> 100 | AC3: =X3+Y3 -> 13.524377
A4: MAY01-DR02-0301 | B4: Mayotte - Fer à Cheval | C4: 58.213707 | D4: 0.36479867 | E4: 19.361316 | F4: 6.4508769 | G4: 0.25079291 | H4: 0.44419444 | I4: 1.6292263 | J4: 8.0892575 | K4: 5.3373198 | L4: 0.26133996 | M4: 100.40283 | O4: OK | Q4: =C4*100/$M4 -> 57.980146 | R4: =D4*100/$M4 -> 0.36333505 | S4: =E4*100/$M4 -> 19.283636 | T4: =F4*100/$M4 -> 6.4249951 | U4: =G4*100/$M4 -> 0.2497867 | V4: =H4*100/$M4 -> 0.44241228 | W4: =I4*100/$M4 -> 1.6226897 | X4: =J4*100/$M4 -> 8.0568023 | ... Z4: =L4*100/$M4 -> 0.26029143 | AA4: =SUM(Q4:Z4) -> 100 | AC4: =X4+Y4 -> 13.372708
A5: MAY01-DR02-0401 | B5: Mayotte - Fer à Cheval | C5: 58.445332 | D5: 0.34739419 | E5: 19.019258 | F5: 6.4155613 | G5: 0.26539967 | H5: 0.52398586 | I5: 1.6968923 | J5: 7.706862 | K5: 5.6243892 | L5: 0.25953921 | M5: 100.30461 | O5: OK | Q5: =C5*100/$M5 -> 58.26784 | R5: =D5*100/$M5 -> 0.34633919 | S5: =E5*100/$M5 -> 18.961499 | T5: =F5*100/$M5 -> 6.3960779 | U5: =G5*100/$M5 -> 0.26459368 | V5: =H5*100/$M5 -> 0.52239457 | W5: =I5*100/$M5 -> 1.691739 | X5: =J5*100/$M5 -> 7.6834572 | ... Z5: =L5*100/$M5 -> 0.25875102 | AA5: =SUM(Q5:Z5) -> 100 | AC5: =X5+Y5 -> 13.290766
A6: MAY01-DR02-0501 | B6: Mayotte - Fer à Cheval | C6: 58.253072 | D6: 0.33598588 | E6: 19.073643 | F6: 6.2912483 | G6: 0.26080859 | H6: 0.41127568 | I6: 1.5882081 | J6: 7.9126624 | K6: 5.4661232 | L6: 0.26194793 | M6: 99.854975 | O6: OK | Q6: =C6*100/$M6 -> 58.337676 | R6: =D6*100/$M6 -> 0.33647385 | S6: =E6*100/$M6 -> 19.101345 | T6: =F6*100/$M6 -> 6.3003854 | U6: =G6*100/$M6 -> 0.26118738 | V6: =H6*100/$M6 -> 0.41187299 | W6: =I6*100/$M6 -> 1.5905147 | X6: =J6*100/$M6 -> 7.9241544 | ... Z6: =L6*100/$M6 -> 0.26232838 | AA6: =SUM(Q6:Z6) -> 100 | AC6: =X6+Y6 -> 13.398216
A7: MAY02-DR07-0101MB-verre | B7: Mayotte - Fer à Cheval | C7: 59.068012 | D7: 0.37008947 | E7: 18.262754 | F7: 6.513393 | G7: 0.26326946 | H7: 0.39939012 | I7: 1.6585736 | J7: 8.1248737 | K7: 5.6163237 | L7: 0.26227521 | M7: 100.53895 | O7: OK | Q7: =C7*100/$M7 -> 58.751369 | R7: =D7*100/$M7 -> 0.36810555 | S7: =E7*100/$M7 -> 18.164854 | T7: =F7*100/$M7 -> 6.4784769 | U7: =G7*100/$M7 -> 0.26185816 | V7: =H7*100/$M7 -> 0.39724913 | W7: =I7*100/$M7 -> 1.6496825 | X7: =J7*100/$M7 -> 8.0813191 | ... Z7: =L7*100/$M7 -> 0.26086925 | AA7: =SUM(Q7:Z7) -> 100 | AC7: =X7+Y7 -> 13.667536
A8: MAY02-DR07-0102MB | B8: Mayotte - Fer à Cheval | C8: 57.826078 | D8: 0.34182332 | E8: 19.632664 | F8: 6.3854239 | G8: 0.25614597 | H8: 0.35374928 | I8: 1.5510576 | J8: 7.8922401 | K8: 5.1816726 | L8: 0.26557722 | M8: 99.686433 | O8: OK | Q8: =C8*100/$M8 -> 58.007972 | R8: =D8*100/$M8 -> 0.34289854 | S8: =E8*100/$M8 -> 19.69442 | T8: =F8*100/$M8 -> 6.4055095 | U8: =G8*100/$M8 -> 0.25695168 | V8: =H8*100/$M8 -> 0.35486202 | W8: =I8*100/$M8 -> 1.5559365 | X8: =J8*100/$M8 -> 7.9170654 | ... Z8: =L8*100/$M8 -> 0.26641261 | AA8: =SUM(Q8:Z8) -> 100 | AC8: =X8+Y8 -> 13.115037
A9: MAY02-DR07-0103MB | B9: Mayotte - Fer à Cheval | C9: 58.557069 | D9: 0.34342565 | E9: 18.819608 | F9: 6.2610237 | G9: 0.26448732 | H9: 0.28821536 | I9: 1.6447656 | J9: 8.1870496 | K9: 5.582779 | L9: 0.25864852 | M9: 100.20707 | O9: OK | Q9: =C9*100/$M9 -> 58.436065 | R9: =D9*100/$M9 -> 0.34271599 | S9: =E9*100/$M9 -> 18.780718 | T9: =F9*100/$M9 -> 6.2480856 | U9: =G9*100/$M9 -> 0.26394077 | V9: =H9*100/$M9 -> 0.28761978 | W9: =I9*100/$M9 -> 1.6413668 | X9: =J9*100/$M9 -> 8.1701315 | ... Z9: =L9*100/$M9 -> 0.25811404 | AA9: =SUM(Q9:Z9) -> 100 | AC9: =X9+Y9 -> 13.741374
A10: MAY02-DR07-0104 | B10: Mayotte - Fer à Cheval | C10: 58.044299 | D10: 0.34570253 | E10: 19.111309 | F10: 6.4207181 | G10: 0.25688962 | H10: 0.32635615 | I10: 1.5445711 | J10: 8.0527428 | K10: 5.3615672 | L10: 0.26268119 | M10: 99.726837 | O10: OK | Q10: =C10*100/$M10 -> 58.203289 | R10: =D10*100/$M10 -> 0.34664945 | S10: =E10*100/$M10 -> 19.163657 | T10: =F10*100/$M10 -> 6.4383052 | U10: =G10*100/$M10 -> 0.25759327 | V10: =H10*100/$M10 -> 0.32725007 | W10: =I10*100/$M10 -> 1.5488018 | X10: =J10*100/$M10 -> 8.0748002 | ... Z10: =L10*100/$M10 -> 0.2634007 | AA10: =SUM(Q10:Z10) -> 100 | AC10: =X10+Y10 -> 13.451053
A11: MAY02-DR07-0112MB | B11: Mayotte - Fer à Cheval | C11: 58.585759 | D11: 0.35316215 | E11: 18.716774 | F11: 6.3535177 | G11: 0.26680778 | H11: 0.3434144 | I11: 1.6450719 | J11: 8.0987874 | K11: 5.6121402 | L11: 0.25803722 | M11: 100.23347 | O11: OK | Q11: =C11*100/$M11 -> 58.449297 | R11: =D11*100/$M11 -> 0.35233953 | S11: =E11*100/$M11 -> 18.673177 | T11: =F11*100/$M11 -> 6.3387186 | U11: =G11*100/$M11 -> 0.26618631 | V11: =H11*100/$M11 -> 0.34261449 | W11: =I11*100/$M11 -> 1.6412401 | X11: =J11*100/$M11 -> 8.0799231 | ... Z11: =L11*100/$M11 -> 0.25743618 | AA11: =SUM(Q11:Z11) -> 100 | AC11: =X11+Y11 -> 13.678991
A12: MAY02-DR07-01ALFvrac | B12: Mayotte - Fer à Cheval | C12: 58.458063 | D12: 0.35037704 | E12: 18.833387 | F12: 6.4109823 | G12: 0.26326065 | H12: 0.34410685 | I12: 1.6204305 | J12: 8.0984021 | K12: 5.6150526 | L12: 0.24940126 | M12: 100.24346 | O12: OK | Q12: =C12*100/$M12 -> 58.316085 | R12: =D12*100/$M12 -> 0.34952607 | S12: =E12*100/$M12 -> 18.787646 | T12: =F12*100/$M12 -> 6.3954117 | U12: =G12*100/$M12 -> 0.26262127 | V12: =H12*100/$M12 -> 0.34327111 | W12: =I12*100/$M12 -> 1.6164949 | X12: =J12*100/$M12 -> 8.0787333 | ... Z12: =L12*100/$M12 -> 0.24879554 | AA12: =SUM(Q12:Z12) -> 100 | AC12: =X12+Y12 -> 13.680148
A13: MAY02-DR07-0201 | B13: Mayotte - Fer à Cheval | C13: 58.217129 | D13: 0.35796858 | E13: 19.310052 | F13: 6.4979487 | G13: 0.25717376 | H13: 0.34143771 | I13: 1.5786994 | J13: 8.0597342 | K13: 5.4301104 | L13: 0.26609639 | M13: 100.31635 | O13: OK | Q13: =C13*100/$M13 -> 58.03354 | R13: =D13*100/$M13 -> 0.35683972 | S13: =E13*100/$M13 -> 19.249158 | T13: =F13*100/$M13 -> 6.4774573 | U13: =G13*100/$M13 -> 0.25636275 | V13: =H13*100/$M13 -> 0.34036098 | W13: =I13*100/$M13 -> 1.5737209 | X13: =J13*100/$M13 -> 8.0343176 | ... Z13: =L13*100/$M13 -> 0.26525725 | AA13: =SUM(Q13:Z13) -> 100 | AC13: =X13+Y13 -> 13.447304
... A47: MAY02-DR06-0201 | B47: Mayotte - Sous-marin | C47: 45.766017 | D47: 2.7893334 | E47: 13.694808 | F47: 13.799549 | G47: 0.21894096 | H47: 7.5090714 | I47: 8.3972534 | J47: 4.8727254 | K47: 2.3097022 | L47: 0.92056562 | M47: 100.27797 | O47: OK | Q47: =C47*100/$M47 -> 45.639155 | R47: =D47*100/$M47 -> 2.7816015 | S47: =E47*100/$M47 -> 13.656847 | T47: =F47*100/$M47 -> 13.761298 | U47: =G47*100/$M47 -> 0.21833407 | V47: =H47*100/$M47 -> 7.4882565 | W47: =I47*100/$M47 -> 8.3739766 | X47: =J47*100/$M47 -> 4.8592184 | ... Z47: =L47*100/$M47 -> 0.91801385 | AA47: =SUM(Q47:Z47) -> 100 | AC47: =X47+Y47 -> 7.1625182
