Workbook
Name cum_tot_2: MAY190403_2!$E$7:$E$33
Name cum_tot_2: MAY190405_2!$E$7:$E$33
Name cum_tot_2: 'MAY190405_2 aggr'!$E$7:$E$33
Name cum_tot_2: MAY190405_2_no_aggr!$E$7:$E$33
Name cum_tot_2: MAY190407_2!$E$7:$E$33
Name cum_tot_2: 'MAY190407_2 aggr'!$E$7:$E$33
Name cum_tot_2: MAY190407_2_no_aggr!$E$7:$E$33
Name cum_tot_2: MAY190407_3!$E$7:$E$33
Name cum_tot_2: MAY190407_4!$E$7:$E$33
Name cum_tot_2: MAY190407_5!$E$7:$E$33
Name cum_tot_2: Blank!$E$7:$E$33
Name phi: MAY190403_2!$B$7:$B$33
Name phi: MAY190405_2!$B$7:$B$33
Name phi: 'MAY190405_2 aggr'!$B$7:$B$33
Name phi: MAY190405_2_no_aggr!$B$7:$B$33
Name phi: MAY190407_2!$B$7:$B$33
Name phi: 'MAY190407_2 aggr'!$B$7:$B$33
Name phi: MAY190407_2_no_aggr!$B$7:$B$33
Name phi: MAY190407_3!$B$7:$B$33
Name phi: MAY190407_4!$B$7:$B$33
Name phi: MAY190407_5!$B$7:$B$33
Name phi: Blank!$B$7:$B$33

Sheet Resume
A1: Graphical Parameters
A2: FACIES | C2: Pa | D2: Fb | E2: Fb | F2: Fb | G2: Pa
A3: Sample name | C3: =MAY190407_2!$D2 -> MAY190407_2 | D3: =MAY190407_3!$D2 -> MAY190407_3 | E3: =MAY190405_2!$D2 -> MAY190405_2 | F3: =MAY190407_4!$D2 -> MAY190407_4 | G3: =MAY190407_5!$D2 -> MAY190407_5
A6: Granulometry | C6: MAY190407_2_no_aggr | E6: MAY190405_2_no_aggr | G6: MAY190405_2_no_aggr
A8: Φ5% | D8: =IF(D45>0,INDIRECT(D$6&"!"&ADDRESS(69,3)),INDIRECT(D$3&"!"&ADDRESS(69,3))) -> -3.650711 | E8: =IF(E45>0,INDIRECT(E$6&"!"&ADDRESS(69,3)),INDIRECT(E$3&"!"&ADDRESS(69,3))) -> -3.8548162 | F8: =IF(F45>0,INDIRECT(F$6&"!"&ADDRESS(69,3)),INDIRECT(F$3&"!"&ADDRESS(69,3))) -> -3.5860133 | G8: =IF(G45>0,INDIRECT(G$6&"!"&ADDRESS(69,3)),INDIRECT(G$3&"!"&ADDRESS(69,3))) -> -2.4766634
A9: Φ16% | C9: =IF(C45>0,INDIRECT(C$6&"!"&ADDRESS(70,3)),INDIRECT(C$3&"!"&ADDRESS(70,3))) -> -1.023844 | D9: =IF(D45>0,INDIRECT(D$6&"!"&ADDRESS(70,3)),INDIRECT(D$3&"!"&ADDRESS(70,3))) -> -2.9891881 | E9: =IF(E45>0,INDIRECT(E$6&"!"&ADDRESS(70,3)),INDIRECT(E$3&"!"&ADDRESS(70,3))) -> -3.2643782 | F9: =IF(F45>0,INDIRECT(F$6&"!"&ADDRESS(70,3)),INDIRECT(F$3&"!"&ADDRESS(70,3))) -> -2.8991792 | G9: =IF(G45>0,INDIRECT(G$6&"!"&ADDRESS(70,3)),INDIRECT(G$3&"!"&ADDRESS(70,3))) -> -1.8669648 | L9: =D3 -> MAY190407_3 | M9: =F3 -> MAY190407_4
A10: Φ25% | C10: =IF(C45>0,INDIRECT(C$6&"!"&ADDRESS(71,3)),INDIRECT(C$3&"!"&ADDRESS(71,3))) -> 0.14512384 | D10: =IF(D45>0,INDIRECT(D$6&"!"&ADDRESS(71,3)),INDIRECT(D$3&"!"&ADDRESS(71,3))) -> -2.696668 | E10: =IF(E45>0,INDIRECT(E$6&"!"&ADDRESS(71,3)),INDIRECT(E$3&"!"&ADDRESS(71,3))) -> -2.8760574 | F10: =IF(F45>0,INDIRECT(F$6&"!"&ADDRESS(71,3)),INDIRECT(F$3&"!"&ADDRESS(71,3))) -> -2.4941971 | G10: =IF(G45>0,INDIRECT(G$6&"!"&ADDRESS(71,3)),INDIRECT(G$3&"!"&ADDRESS(71,3))) -> -1.491673 | K10: phi | L10: =2^(-D11) -> 3.4810509 | M10: =2^(-F11) -> 2.6448662
A11: Φ50% | C11: =IF(C45>0,INDIRECT(C$6&"!"&ADDRESS(72,3)),INDIRECT(C$3&"!"&ADDRESS(72,3))) -> 3.6738683 | D11: =IF(D45>0,INDIRECT(D$6&"!"&ADDRESS(72,3)),INDIRECT(D$3&"!"&ADDRESS(72,3))) -> -1.7995229 | E11: =IF(E45>0,INDIRECT(E$6&"!"&ADDRESS(72,3)),INDIRECT(E$3&"!"&ADDRESS(72,3))) -> -1.8591433 | F11: =IF(F45>0,INDIRECT(F$6&"!"&ADDRESS(72,3)),INDIRECT(F$3&"!"&ADDRESS(72,3))) -> -1.4031948 | G11: =IF(G45>0,INDIRECT(G$6&"!"&ADDRESS(72,3)),INDIRECT(G$3&"!"&ADDRESS(72,3))) -> -0.053206499 | K11: LN(Dcm) | L11: =LN(L10) -> 1.2473342 | M11: =LN(M10) -> 0.9726205
A12: Φ75% | C12: =IF(C45>0,INDIRECT(C$6&"!"&ADDRESS(73,3)),INDIRECT(C$3&"!"&ADDRESS(73,3))) -> 4.2235598 | D12: =IF(D45>0,INDIRECT(D$6&"!"&ADDRESS(73,3)),INDIRECT(D$3&"!"&ADDRESS(73,3))) -> -0.63483796 | E12: =IF(E45>0,INDIRECT(E$6&"!"&ADDRESS(73,3)),INDIRECT(E$3&"!"&ADDRESS(73,3))) -> -0.272036 | F12: =IF(F45>0,INDIRECT(F$6&"!"&ADDRESS(73,3)),INDIRECT(F$3&"!"&ADDRESS(73,3))) -> 0.51634214 | G12: =IF(G45>0,INDIRECT(G$6&"!"&ADDRESS(73,3)),INDIRECT(G$3&"!"&ADDRESS(73,3))) -> 4.0220554
A13: Φ84% | C13: =IF(C45>0,INDIRECT(C$6&"!"&ADDRESS(74,3)),INDIRECT(C$3&"!"&ADDRESS(74,3))) -> 4.3230783 | D13: =IF(D45>0,INDIRECT(D$6&"!"&ADDRESS(74,3)),INDIRECT(D$3&"!"&ADDRESS(74,3))) -> 0.083103448 | E13: =IF(E45>0,INDIRECT(E$6&"!"&ADDRESS(74,3)),INDIRECT(E$3&"!"&ADDRESS(74,3))) -> 2.4468966 | F13: =IF(F45>0,INDIRECT(F$6&"!"&ADDRESS(74,3)),INDIRECT(F$3&"!"&ADDRESS(74,3))) -> 4.0419322 | G13: =IF(G45>0,INDIRECT(G$6&"!"&ADDRESS(74,3)),INDIRECT(G$3&"!"&ADDRESS(74,3))) -> 4.1941155
A14: Φ95% | C14: =IF(C45>0,INDIRECT(C$6&"!"&ADDRESS(75,3)),INDIRECT(C$3&"!"&ADDRESS(75,3))) -> 4.444712 | D14: =IF(D45>0,INDIRECT(D$6&"!"&ADDRESS(75,3)),INDIRECT(D$3&"!"&ADDRESS(75,3))) -> 3.7303588 | E14: =IF(E45>0,INDIRECT(E$6&"!"&ADDRESS(75,3)),INDIRECT(E$3&"!"&ADDRESS(75,3))) -> 4.2296537 | F14: =IF(F45>0,INDIRECT(F$6&"!"&ADDRESS(75,3)),INDIRECT(F$3&"!"&ADDRESS(75,3))) -> 4.3568538 | G14: =IF(G45>0,INDIRECT(G$6&"!"&ADDRESS(75,3)),INDIRECT(G$3&"!"&ADDRESS(75,3))) -> 4.4044111
A16: MzΦ | C16: =IF(C45>0,INDIRECT(C$6&"!"&ADDRESS(85,4)),INDIRECT(C$3&"!"&ADDRESS(85,4))) -> 2.3243675 | D16: =IF(D45>0,INDIRECT(D$6&"!"&ADDRESS(85,4)),INDIRECT(D$3&"!"&ADDRESS(85,4))) -> -1.5685359 | E16: =IF(E45>0,INDIRECT(E$6&"!"&ADDRESS(85,4)),INDIRECT(E$3&"!"&ADDRESS(85,4))) -> -0.89220832 | F16: =IF(F45>0,INDIRECT(F$6&"!"&ADDRESS(85,4)),INDIRECT(F$3&"!"&ADDRESS(85,4))) -> -0.086813932 | G16: =IF(G45>0,INDIRECT(G$6&"!"&ADDRESS(85,4)),INDIRECT(G$3&"!"&ADDRESS(85,4))) -> 0.75798138
A17: MdΦ | C17: =IF(C45>0,INDIRECT(C$6&"!"&ADDRESS(86,4)),INDIRECT(C$3&"!"&ADDRESS(86,4))) -> 3.6738683 | D17: =IF(D45>0,INDIRECT(D$6&"!"&ADDRESS(86,4)),INDIRECT(D$3&"!"&ADDRESS(86,4))) -> -1.7995229 | E17: =IF(E45>0,INDIRECT(E$6&"!"&ADDRESS(86,4)),INDIRECT(E$3&"!"&ADDRESS(86,4))) -> -1.8591433 | F17: =IF(F45>0,INDIRECT(F$6&"!"&ADDRESS(86,4)),INDIRECT(F$3&"!"&ADDRESS(86,4))) -> -1.4031948 | G17: =IF(G45>0,INDIRECT(G$6&"!"&ADDRESS(86,4)),INDIRECT(G$3&"!"&ADDRESS(86,4))) -> -0.053206499
A18: σΦ | C18: =IF(C45>0,INDIRECT(C$6&"!"&ADDRESS(87,4)),INDIRECT(C$3&"!"&ADDRESS(87,4))) -> 2.6734612 | D18: =IF(D45>0,INDIRECT(D$6&"!"&ADDRESS(87,4)),INDIRECT(D$3&"!"&ADDRESS(87,4))) -> 1.5361458 | E18: =IF(E45>0,INDIRECT(E$6&"!"&ADDRESS(87,4)),INDIRECT(E$3&"!"&ADDRESS(87,4))) -> 2.8556374 | F18: =IF(F45>0,INDIRECT(F$6&"!"&ADDRESS(87,4)),INDIRECT(F$3&"!"&ADDRESS(87,4))) -> 3.4705557 | G18: =IF(G45>0,INDIRECT(G$6&"!"&ADDRESS(87,4)),INDIRECT(G$3&"!"&ADDRESS(87,4))) -> 3.0305401
A19: aΦ | C19: =IF(C45>0,INDIRECT(C$6&"!"&ADDRESS(88,4)),INDIRECT(C$3&"!"&ADDRESS(88,4))) -> -0.14013072 | D19: =IF(D45>0,INDIRECT(D$6&"!"&ADDRESS(88,4)),INDIRECT(D$3&"!"&ADDRESS(88,4))) -> -0.72034946 | E19: =IF(E45>0,INDIRECT(E$6&"!"&ADDRESS(88,4)),INDIRECT(E$3&"!"&ADDRESS(88,4))) -> 0.3647738 | F19: =IF(F45>0,INDIRECT(F$6&"!"&ADDRESS(88,4)),INDIRECT(F$3&"!"&ADDRESS(88,4))) -> 0.73358504 | G19: =IF(G45>0,INDIRECT(G$6&"!"&ADDRESS(88,4)),INDIRECT(G$3&"!"&ADDRESS(88,4))) -> 0.7854564
A20: Inclusive graphic standard deviation | C20: =IF(C45>0,INDIRECT(C$6&"!"&ADDRESS(89,4)),INDIRECT(C$3&"!"&ADDRESS(89,4))) -> 2.4410513 | D20: =IF(D45>0,INDIRECT(D$6&"!"&ADDRESS(89,4)),INDIRECT(D$3&"!"&ADDRESS(89,4))) -> 1.8864168 | E20: =IF(E45>0,INDIRECT(E$6&"!"&ADDRESS(89,4)),INDIRECT(E$3&"!"&ADDRESS(89,4))) -> 2.6527384 | F20: =IF(F45>0,INDIRECT(F$6&"!"&ADDRESS(89,4)),INDIRECT(F$3&"!"&ADDRESS(89,4))) -> 2.9387426 | G20: =IF(G45>0,INDIRECT(G$6&"!"&ADDRESS(89,4)),INDIRECT(G$3&"!"&ADDRESS(89,4))) -> 2.5578571
A21: Inclusive graphic skewness | C21: =IF(C45>0,INDIRECT(C$6&"!"&ADDRESS(90,4)),INDIRECT(C$3&"!"&ADDRESS(90,4))) -> -0.7728211 | D21: =IF(D45>0,INDIRECT(D$6&"!"&ADDRESS(90,4)),INDIRECT(D$3&"!"&ADDRESS(90,4))) -> 0.36197379 | E21: =IF(E45>0,INDIRECT(E$6&"!"&ADDRESS(90,4)),INDIRECT(E$3&"!"&ADDRESS(90,4))) -> 0.5071016 | F21: =IF(F45>0,INDIRECT(F$6&"!"&ADDRESS(90,4)),INDIRECT(F$3&"!"&ADDRESS(90,4))) -> 0.50965985 | G21: =IF(G45>0,INDIRECT(G$6&"!"&ADDRESS(90,4)),INDIRECT(G$3&"!"&ADDRESS(90,4))) -> 0.34856165
A22: Graphic kurtosis | C22: =IF(C45>0,INDIRECT(C$6&"!"&ADDRESS(91,4)),INDIRECT(C$3&"!"&ADDRESS(91,4))) -> 0.72018958 | D22: =IF(D45>0,INDIRECT(D$6&"!"&ADDRESS(91,4)),INDIRECT(D$3&"!"&ADDRESS(91,4))) -> 0.74218136 | E22: =IF(E45>0,INDIRECT(E$6&"!"&ADDRESS(91,4)),INDIRECT(E$3&"!"&ADDRESS(91,4))) -> 0.9918003 | F22: =IF(F45>0,INDIRECT(F$6&"!"&ADDRESS(91,4)),INDIRECT(F$3&"!"&ADDRESS(91,4))) -> 1.038421 | G22: =IF(G45>0,INDIRECT(G$6&"!"&ADDRESS(91,4)),INDIRECT(G$3&"!"&ADDRESS(91,4))) -> 0.49583977
A23: Graphic mean | C23: =IF(C45>0,INDIRECT(C$6&"!"&ADDRESS(92,4)),INDIRECT(C$3&"!"&ADDRESS(92,4))) -> 2.3243675 | D23: =IF(D45>0,INDIRECT(D$6&"!"&ADDRESS(92,4)),INDIRECT(D$3&"!"&ADDRESS(92,4))) -> -1.5685359 | E23: =IF(E45>0,INDIRECT(E$6&"!"&ADDRESS(92,4)),INDIRECT(E$3&"!"&ADDRESS(92,4))) -> -0.89220832 | F23: =IF(F45>0,INDIRECT(F$6&"!"&ADDRESS(92,4)),INDIRECT(F$3&"!"&ADDRESS(92,4))) -> -0.086813932 | G23: =IF(G45>0,INDIRECT(G$6&"!"&ADDRESS(92,4)),INDIRECT(G$3&"!"&ADDRESS(92,4))) -> 0.75798138
A24: MΦ | C24: =IF(C45>0,INDIRECT(C$6&"!"&ADDRESS(94,4)),INDIRECT(C$3&"!"&ADDRESS(94,4))) -> 1.6496171 | D24: =IF(D45>0,INDIRECT(D$6&"!"&ADDRESS(94,4)),INDIRECT(D$3&"!"&ADDRESS(94,4))) -> -1.4530423 | E24: =IF(E45>0,INDIRECT(E$6&"!"&ADDRESS(94,4)),INDIRECT(E$3&"!"&ADDRESS(94,4))) -> -0.40874082 | F24: =IF(F45>0,INDIRECT(F$6&"!"&ADDRESS(94,4)),INDIRECT(F$3&"!"&ADDRESS(94,4))) -> 0.57137649 | G24: =IF(G45>0,INDIRECT(G$6&"!"&ADDRESS(94,4)),INDIRECT(G$3&"!"&ADDRESS(94,4))) -> 1.1635753
A25: F1 | C25: =IF(C45>0,INDIRECT(C$6&"!"&ADDRESS(95,4)),INDIRECT(C$3&"!"&ADDRESS(95,4))) -> 72.694358 | D25: =IF(D45>0,INDIRECT(D$6&"!"&ADDRESS(95,4)),INDIRECT(D$3&"!"&ADDRESS(95,4))) -> 12.795669 | E25: =IF(E45>0,INDIRECT(E$6&"!"&ADDRESS(95,4)),INDIRECT(E$3&"!"&ADDRESS(95,4))) -> 19.719758 | F25: =IF(F45>0,INDIRECT(F$6&"!"&ADDRESS(95,4)),INDIRECT(F$3&"!"&ADDRESS(95,4))) -> 25.060396 | G25: =IF(G45>0,INDIRECT(G$6&"!"&ADDRESS(95,4)),INDIRECT(G$3&"!"&ADDRESS(95,4))) -> 45.043764
A26: F2 | C26: =IF(C45>0,INDIRECT(C$6&"!"&ADDRESS(96,4)),INDIRECT(C$3&"!"&ADDRESS(96,4))) -> 45.217741 | D26: =IF(D45>0,INDIRECT(D$6&"!"&ADDRESS(96,4)),INDIRECT(D$3&"!"&ADDRESS(96,4))) -> 3.5342801 | E26: =IF(E45>0,INDIRECT(E$6&"!"&ADDRESS(96,4)),INDIRECT(E$3&"!"&ADDRESS(96,4))) -> 9.2474003 | F26: =IF(F45>0,INDIRECT(F$6&"!"&ADDRESS(96,4)),INDIRECT(F$3&"!"&ADDRESS(96,4))) -> 17.464662 | G26: =IF(G45>0,INDIRECT(G$6&"!"&ADDRESS(96,4)),INDIRECT(G$3&"!"&ADDRESS(96,4))) -> 26.153659
A28: Block and bombs | C28: =IF(C45>0,INDIRECT(C$6&"!"&ADDRESS(77,2)),INDIRECT(C$3&"!"&ADDRESS(77,2))) -> 0 | D28: =IF(D45>0,INDIRECT(D$6&"!"&ADDRESS(77,2)),INDIRECT(D$3&"!"&ADDRESS(77,2))) -> 0 | E28: =IF(E45>0,INDIRECT(E$6&"!"&ADDRESS(77,2)),INDIRECT(E$3&"!"&ADDRESS(77,2))) -> 0 | F28: =IF(F45>0,INDIRECT(F$6&"!"&ADDRESS(77,2)),INDIRECT(F$3&"!"&ADDRESS(77,2))) -> 0 | G28: =IF(G45>0,INDIRECT(G$6&"!"&ADDRESS(77,2)),INDIRECT(G$3&"!"&ADDRESS(77,2))) -> 0
A29: Lapilli | C29: =IF(C45>0,INDIRECT(C$6&"!"&ADDRESS(78,2)),INDIRECT(C$3&"!"&ADDRESS(78,2))) -> 0.16172181 | D29: =IF(D45>0,INDIRECT(D$6&"!"&ADDRESS(78,2)),INDIRECT(D$3&"!"&ADDRESS(78,2))) -> 0.68689053 | E29: =IF(E45>0,INDIRECT(E$6&"!"&ADDRESS(78,2)),INDIRECT(E$3&"!"&ADDRESS(78,2))) -> 0.66150637 | F29: =IF(F45>0,INDIRECT(F$6&"!"&ADDRESS(78,2)),INDIRECT(F$3&"!"&ADDRESS(78,2))) -> 0.5807633 | G29: =IF(G45>0,INDIRECT(G$6&"!"&ADDRESS(78,2)),INDIRECT(G$3&"!"&ADDRESS(78,2))) -> 0.39723883
A30: Ash | C30: =IF(C45>0,INDIRECT(C$6&"!"&ADDRESS(79,2)),INDIRECT(C$3&"!"&ADDRESS(79,2))) -> 0.83827819 | D30: =IF(D45>0,INDIRECT(D$6&"!"&ADDRESS(79,2)),INDIRECT(D$3&"!"&ADDRESS(79,2))) -> 0.31310947 | E30: =IF(E45>0,INDIRECT(E$6&"!"&ADDRESS(79,2)),INDIRECT(E$3&"!"&ADDRESS(79,2))) -> 0.33849363 | F30: =IF(F45>0,INDIRECT(F$6&"!"&ADDRESS(79,2)),INDIRECT(F$3&"!"&ADDRESS(79,2))) -> 0.4192367 | G30: =IF(G45>0,INDIRECT(G$6&"!"&ADDRESS(79,2)),INDIRECT(G$3&"!"&ADDRESS(79,2))) -> 0.60276117
A32: Lapilli (%) | C32: =IF(C45>0,INDIRECT(C$6&"!"&ADDRESS(77,5)),INDIRECT(C$3&"!"&ADDRESS(77,5))) -> 16.172181 | D32: =IF(D45>0,INDIRECT(D$6&"!"&ADDRESS(77,5)),INDIRECT(D$3&"!"&ADDRESS(77,5))) -> 68.689053 | E32: =IF(E45>0,INDIRECT(E$6&"!"&ADDRESS(77,5)),INDIRECT(E$3&"!"&ADDRESS(77,5))) -> 66.150637 | F32: =IF(F45>0,INDIRECT(F$6&"!"&ADDRESS(77,5)),INDIRECT(F$3&"!"&ADDRESS(77,5))) -> 58.07633 | G32: =IF(G45>0,INDIRECT(G$6&"!"&ADDRESS(77,5)),INDIRECT(G$3&"!"&ADDRESS(77,5))) -> 39.723883
A33: Coarse ash (%) | C33: =IF(C45>0,INDIRECT(C$6&"!"&ADDRESS(78,5)),INDIRECT(C$3&"!"&ADDRESS(78,5))) -> 38.610077 | D33: =IF(D45>0,INDIRECT(D$6&"!"&ADDRESS(78,5)),INDIRECT(D$3&"!"&ADDRESS(78,5))) -> 27.776666 | E33: =IF(E45>0,INDIRECT(E$6&"!"&ADDRESS(78,5)),INDIRECT(E$3&"!"&ADDRESS(78,5))) -> 24.601962 | F33: =IF(F45>0,INDIRECT(F$6&"!"&ADDRESS(78,5)),INDIRECT(F$3&"!"&ADDRESS(78,5))) -> 24.459008 | G33: =IF(G45>0,INDIRECT(G$6&"!"&ADDRESS(78,5)),INDIRECT(G$3&"!"&ADDRESS(78,5))) -> 34.122458
A34: Fine ash (%) | C34: =IF(C45>0,INDIRECT(C$6&"!"&ADDRESS(79,5)),INDIRECT(C$3&"!"&ADDRESS(79,5))) -> 45.217741 | D34: =IF(D45>0,INDIRECT(D$6&"!"&ADDRESS(79,5)),INDIRECT(D$3&"!"&ADDRESS(79,5))) -> 3.5342801 | E34: =IF(E45>0,INDIRECT(E$6&"!"&ADDRESS(79,5)),INDIRECT(E$3&"!"&ADDRESS(79,5))) -> 9.2474003 | F34: =IF(F45>0,INDIRECT(F$6&"!"&ADDRESS(79,5)),INDIRECT(F$3&"!"&ADDRESS(79,5))) -> 17.464662 | G34: =IF(G45>0,INDIRECT(G$6&"!"&ADDRESS(79,5)),INDIRECT(G$3&"!"&ADDRESS(79,5))) -> 26.153659
C35: =C34/SUM(C32:C34) -> 0.45217741 | D35: =D34/SUM(D32:D34) -> 0.035342801 | E35: =E34/SUM(E32:E34) -> 0.092474003 | F35: =F34/SUM(F32:F34) -> 0.17464662 | G35: =G34/SUM(G32:G34) -> 0.26153659
A36: Componentry
A38: Juvenile (%) | C38: =INDIRECT(C$3&"!"&ADDRESS(81,2)) -> 23.573201 | D38: =INDIRECT(D$3&"!"&ADDRESS(81,2)) -> 75.858327 | E38: =INDIRECT(E$3&"!"&ADDRESS(81,2)) -> 91.738475 | F38: =INDIRECT(F$3&"!"&ADDRESS(81,2)) -> 78.339401 | G38: =INDIRECT(G$3&"!"&ADDRESS(81,2)) -> 81.377037
A39: Lithics (%) | C39: =INDIRECT(C$3&"!"&ADDRESS(82,2)) -> 3.685323 | D39: =INDIRECT(D$3&"!"&ADDRESS(82,2)) -> 24.125744 | E39: =INDIRECT(E$3&"!"&ADDRESS(82,2)) -> 2.229607 | F39: =INDIRECT(F$3&"!"&ADDRESS(82,2)) -> 21.660599 | G39: =INDIRECT(G$3&"!"&ADDRESS(82,2)) -> 7.0027409
A40: Crystals (%) | C40: =INDIRECT(C$3&"!"&ADDRESS(83,2)) -> 0 | D40: =INDIRECT(D$3&"!"&ADDRESS(83,2)) -> 0.015929081 | E40: =INDIRECT(E$3&"!"&ADDRESS(83,2)) -> 0 | F40: =INDIRECT(F$3&"!"&ADDRESS(83,2)) -> 0 | G40: =INDIRECT(G$3&"!"&ADDRESS(83,2)) -> 0
A42: Juvenile (%) | C42: =INDIRECT(C$3&"!"&ADDRESS(81,5)) -> 23.573201 | D42: =INDIRECT(D$3&"!"&ADDRESS(81,5)) -> 75.858327 | E42: =INDIRECT(E$3&"!"&ADDRESS(81,5)) -> 91.738475 | F42: =INDIRECT(F$3&"!"&ADDRESS(81,5)) -> 78.339401 | G42: =INDIRECT(G$3&"!"&ADDRESS(81,5)) -> 81.377037
A43: Lithics (%) | C43: =INDIRECT(C$3&"!"&ADDRESS(82,5)) -> 3.685323 | D43: =INDIRECT(D$3&"!"&ADDRESS(82,5)) -> 24.125744 | E43: =INDIRECT(E$3&"!"&ADDRESS(82,5)) -> 2.229607 | F43: =INDIRECT(F$3&"!"&ADDRESS(82,5)) -> 21.660599 | G43: =INDIRECT(G$3&"!"&ADDRESS(82,5)) -> 7.0027409
A44: Mixed (%) | C44: =INDIRECT(C$3&"!"&ADDRESS(83,5)) -> 72.741476 | D44: =INDIRECT(D$3&"!"&ADDRESS(83,5)) -> 0 | E44: =INDIRECT(E$3&"!"&ADDRESS(83,5)) -> 6.0319178 | F44: =INDIRECT(F$3&"!"&ADDRESS(83,5)) -> 0 | G44: =INDIRECT(G$3&"!"&ADDRESS(83,5)) -> 11.620222
A45: Only Aggregates | C45: =(INDIRECT(C$3&"!"&ADDRESS(34,13)))/(INDIRECT(C$3&"!"&ADDRESS(4,2))) -> 0.26277156 | D45: =(INDIRECT(D$3&"!"&ADDRESS(34,13)))/(INDIRECT(D$3&"!"&ADDRESS(4,2))) -> 0 | E45: =(INDIRECT(E$3&"!"&ADDRESS(34,13)))/(INDIRECT(E$3&"!"&ADDRESS(4,2))) -> 0.04384462 | F45: =(INDIRECT(F$3&"!"&ADDRESS(34,13)))/(INDIRECT(F$3&"!"&ADDRESS(4,2))) -> 0 | G45: =(INDIRECT(G$3&"!"&ADDRESS(34,13)))/(INDIRECT(G$3&"!"&ADDRESS(4,2))) -> 0
A47: Pumices (%) | C47: =INDIRECT(C$3&"!"&ADDRESS(81,8)) -> 27.646662 | D47: =INDIRECT(D$3&"!"&ADDRESS(81,8)) -> 48.537131 | E47: =INDIRECT(E$3&"!"&ADDRESS(81,8)) -> 78.493297 | F47: =INDIRECT(F$3&"!"&ADDRESS(81,8)) -> 72.273 | G47: =INDIRECT(G$3&"!"&ADDRESS(81,8)) -> 9.081891
A48: Dense Juvenile (%) | C48: =INDIRECT(C$3&"!"&ADDRESS(82,8)) -> 58.833446 | D48: =INDIRECT(D$3&"!"&ADDRESS(82,8)) -> 27.321196 | E48: =INDIRECT(E$3&"!"&ADDRESS(82,8)) -> 19.133975 | F48: =INDIRECT(F$3&"!"&ADDRESS(82,8)) -> 6.0664015 | G48: =INDIRECT(G$3&"!"&ADDRESS(82,8)) -> 82.994644
A49: Lithics (%) | C49: =INDIRECT(C$3&"!"&ADDRESS(83,8)) -> 13.519892 | D49: =INDIRECT(D$3&"!"&ADDRESS(83,8)) -> 24.125744 | E49: =INDIRECT(E$3&"!"&ADDRESS(83,8)) -> 2.372728 | F49: =INDIRECT(F$3&"!"&ADDRESS(83,8)) -> 21.660599 | G49: =INDIRECT(G$3&"!"&ADDRESS(83,8)) -> 7.9234652
...

Sheet Blank
A2: Grain size analysis of sample | D2: =RIGHT(CELL("nomfichier",A1),LEN(CELL("nomfichier",A1))-FIND("]",CELL("nomfichier",A1))) -> Blank | G2: Sample : | H2: =D2 -> Blank | K2: Location : Airport Beach
H3: Juveniles | K3: Lithics | S3: Juveniles | V3: Lithics | AD3: Juveniles | AG3: Lithics
A4: Total weight (g) | B4: =SUM(C7:C33) -> 0 | G4: Grain size (phi) | H4: Pumices | I4: Dense juveniles | J4: Obsidian | K4: Coral fragments | L4: Mafic clasts | M4: Aggregate | N4: Accretionnary lapilli | O4: Crystals | P4: Total | R4: =G4 -> Grain size (phi) | S4: =H4 -> Pumices | T4: =I4 -> Dense juveniles | U4: =J4 -> Obsidian | V4: =K4 -> Coral fragments | W4: =L4 -> Mafic clasts | X4: =M4 -> Aggregate | Y4: =N4 -> Accretionnary lapilli | Z4: =O4 -> Crystals | AA4: Total | AC4: =R4 -> Grain size (phi) | AD4: =S4 -> Pumices | AE4: =T4 -> Dense juveniles | AF4: =U4 -> Obsidian | AG4: =V4 -> Coral fragments | AH4: =W4 -> Mafic clasts | AI4: =X4 -> Aggregate | AJ4: =Y4 -> Accretionnary lapilli | AK4: =Z4 -> Crystals | AL4: Total
A5: Diameters (mm/μ) | B5: F | C5: Wt | D5: % Wt | E5: %Cum
A7: 256-181 | B7: -7.5 | D7: =(C7/SUM($C$7:$C$33))*100 -> #DIV/0! | E7: 0 | G7: =B7 -> -7.5 | H7: 0 | I7: 0 | J7: 0 | K7: 0 | L7: 0 | M7: 0 | N7: 0 | O7: 0 | P7: =SUM(H7:O7) -> 0 | R7: =G7 -> -7.5 | S7: =100*H7/$P7 -> #DIV/0! | T7: =100*I7/$P7 -> #DIV/0! | U7: =100*J7/$P7 -> #DIV/0! | V7: =100*K7/$P7 -> #DIV/0! | W7: =100*L7/$P7 -> #DIV/0! | X7: =100*M7/$P7 -> #DIV/0! | Y7: =100*N7/$P7 -> #DIV/0! | Z7: =100*O7/$P7 -> #DIV/0! | AA7: =SUM(S7:Z7) -> #DIV/0! | AC7: =R7 -> -7.5 | AD7: =S7*100/(SUM($S7:$W7)+SUM($Y7:$Z7)) -> #DIV/0! | AE7: =T7*100/(SUM($S7:$W7)+SUM($Y7:$Z7)) -> #DIV/0! | AF7: =U7*100/(SUM($S7:$W7)+SUM($Y7:$Z7)) -> #DIV/0! | AG7: =V7*100/(SUM($S7:$W7)+SUM($Y7:$Z7)) -> #DIV/0! | AH7: =W7*100/(SUM($S7:$W7)+SUM($Y7:$Z7)) -> #DIV/0! | AI7: =X7*100/(SUM($S7:$W7)+SUM($Y7:$Z7)) -> #DIV/0! | AJ7: =Y7*100/(SUM($S7:$W7)+SUM($Y7:$Z7)) -> #DIV/0! | AK7: =Z7*100/(SUM($S7:$W7)+SUM($Y7:$Z7)) -> #DIV/0! | AL7: =SUM(AD7:AK7) -> #DIV/0!
A8: 181-128 | B8: -7 | D8: =(C8/SUM($C$7:$C$33))*100 -> #DIV/0! | E8: =SUM(D6,D8) -> #DIV/0! | G8: =B8 -> -7 | H8: 0 | I8: 0 | J8: 0 | K8: 0 | L8: 0 | M8: 0 | N8: 0 | O8: 0 | P8: =SUM(H8:O8) -> 0 | R8: =G8 -> -7 | S8: =100*H8/$P8 -> #DIV/0! | T8: =100*I8/$P8 -> #DIV/0! | U8: =100*J8/$P8 -> #DIV/0! | V8: =100*K8/$P8 -> #DIV/0! | W8: =100*L8/$P8 -> #DIV/0! | X8: =100*M8/$P8 -> #DIV/0! | Y8: =100*N8/$P8 -> #DIV/0! | Z8: =100*O8/$P8 -> #DIV/0! | AA8: =SUM(S8:Z8) -> #DIV/0! | AC8: =R8 -> -7 | AD8: =S8*100/(SUM($S8:$W8)+SUM($Y8:$Z8)) -> #DIV/0! | AE8: =T8*100/(SUM($S8:$W8)+SUM($Y8:$Z8)) -> #DIV/0! | AF8: =U8*100/(SUM($S8:$W8)+SUM($Y8:$Z8)) -> #DIV/0! | AG8: =V8*100/(SUM($S8:$W8)+SUM($Y8:$Z8)) -> #DIV/0! | AH8: =W8*100/(SUM($S8:$W8)+SUM($Y8:$Z8)) -> #DIV/0! | AI8: =X8*100/(SUM($S8:$W8)+SUM($Y8:$Z8)) -> #DIV/0! | AJ8: =Y8*100/(SUM($S8:$W8)+SUM($Y8:$Z8)) -> #DIV/0! | AK8: =Z8*100/(SUM($S8:$W8)+SUM($Y8:$Z8)) -> #DIV/0! | AL8: =SUM(AD8:AK8) -> #DIV/0!
A9: 128-90,5 | B9: -6.5 | D9: =(C9/SUM($C$7:$C$33))*100 -> #DIV/0! | E9: =SUM(D6:D9) -> #DIV/0! | G9: =B9 -> -6.5 | H9: 0 | I9: 0 | J9: 0 | K9: 0 | L9: 0 | M9: 0 | N9: 0 | O9: 0 | P9: =SUM(H9:O9) -> 0 | R9: =G9 -> -6.5 | S9: =100*H9/$P9 -> #DIV/0! | T9: =100*I9/$P9 -> #DIV/0! | U9: =100*J9/$P9 -> #DIV/0! | V9: =100*K9/$P9 -> #DIV/0! | W9: =100*L9/$P9 -> #DIV/0! | X9: =100*M9/$P9 -> #DIV/0! | Y9: =100*N9/$P9 -> #DIV/0! | Z9: =100*O9/$P9 -> #DIV/0! | AA9: =SUM(S9:Z9) -> #DIV/0! | AC9: =R9 -> -6.5 | AD9: =S9*100/(SUM($S9:$W9)+SUM($Y9:$Z9)) -> #DIV/0! | AE9: =T9*100/(SUM($S9:$W9)+SUM($Y9:$Z9)) -> #DIV/0! | AF9: =U9*100/(SUM($S9:$W9)+SUM($Y9:$Z9)) -> #DIV/0! | AG9: =V9*100/(SUM($S9:$W9)+SUM($Y9:$Z9)) -> #DIV/0! | AH9: =W9*100/(SUM($S9:$W9)+SUM($Y9:$Z9)) -> #DIV/0! | AI9: =X9*100/(SUM($S9:$W9)+SUM($Y9:$Z9)) -> #DIV/0! | AJ9: =Y9*100/(SUM($S9:$W9)+SUM($Y9:$Z9)) -> #DIV/0! | AK9: =Z9*100/(SUM($S9:$W9)+SUM($Y9:$Z9)) -> #DIV/0! | AL9: =SUM(AD9:AK9) -> #DIV/0!
A10: >64 | B10: -6 | D10: =(C10/SUM($C$7:$C$33))*100 -> #DIV/0! | E10: =SUM(D6:D10) -> #DIV/0! | G10: =B10 -> -6 | H10: 0 | I10: 0 | J10: 0 | K10: 0 | L10: 0 | M10: 0 | N10: 0 | O10: 0 | P10: =SUM(H10:O10) -> 0 | R10: =G10 -> -6 | S10: =100*H10/$P10 -> #DIV/0! | T10: =100*I10/$P10 -> #DIV/0! | U10: =100*J10/$P10 -> #DIV/0! | V10: =100*K10/$P10 -> #DIV/0! | W10: =100*L10/$P10 -> #DIV/0! | X10: =100*M10/$P10 -> #DIV/0! | Y10: =100*N10/$P10 -> #DIV/0! | Z10: =100*O10/$P10 -> #DIV/0! | AA10: =SUM(S10:Z10) -> #DIV/0! | AC10: =R10 -> -6 | AD10: =S10*100/(SUM($S10:$W10)+SUM($Y10:$Z10)) -> #DIV/0! | AE10: =T10*100/(SUM($S10:$W10)+SUM($Y10:$Z10)) -> #DIV/0! | AF10: =U10*100/(SUM($S10:$W10)+SUM($Y10:$Z10)) -> #DIV/0! | AG10: =V10*100/(SUM($S10:$W10)+SUM($Y10:$Z10)) -> #DIV/0! | AH10: =W10*100/(SUM($S10:$W10)+SUM($Y10:$Z10)) -> #DIV/0! | AI10: =X10*100/(SUM($S10:$W10)+SUM($Y10:$Z10)) -> #DIV/0! | AJ10: =Y10*100/(SUM($S10:$W10)+SUM($Y10:$Z10)) -> #DIV/0! | AK10: =Z10*100/(SUM($S10:$W10)+SUM($Y10:$Z10)) -> #DIV/0! | AL10: =SUM(AD10:AK10) -> #DIV/0!
A11: 64-45.3 | B11: -5.5 | D11: =(C11/SUM($C$7:$C$33))*100 -> #DIV/0! | E11: =SUM(D6:D11) -> #DIV/0! | G11: =B11 -> -5.5 | H11: 0 | I11: 0 | J11: 0 | K11: 0 | L11: 0 | M11: 0 | N11: 0 | O11: 0 | P11: =SUM(H11:O11) -> 0 | R11: =G11 -> -5.5 | S11: =100*H11/$P11 -> #DIV/0! | T11: =100*I11/$P11 -> #DIV/0! | U11: =100*J11/$P11 -> #DIV/0! | V11: =100*K11/$P11 -> #DIV/0! | W11: =100*L11/$P11 -> #DIV/0! | X11: =100*M11/$P11 -> #DIV/0! | Y11: =100*N11/$P11 -> #DIV/0! | Z11: =100*O11/$P11 -> #DIV/0! | AA11: =SUM(S11:Z11) -> #DIV/0! | AC11: =R11 -> -5.5 | AD11: =S11*100/(SUM($S11:$W11)+SUM($Y11:$Z11)) -> #DIV/0! | AE11: =T11*100/(SUM($S11:$W11)+SUM($Y11:$Z11)) -> #DIV/0! | AF11: =U11*100/(SUM($S11:$W11)+SUM($Y11:$Z11)) -> #DIV/0! | AG11: =V11*100/(SUM($S11:$W11)+SUM($Y11:$Z11)) -> #DIV/0! | AH11: =W11*100/(SUM($S11:$W11)+SUM($Y11:$Z11)) -> #DIV/0! | AI11: =X11*100/(SUM($S11:$W11)+SUM($Y11:$Z11)) -> #DIV/0! | AJ11: =Y11*100/(SUM($S11:$W11)+SUM($Y11:$Z11)) -> #DIV/0! | AK11: =Z11*100/(SUM($S11:$W11)+SUM($Y11:$Z11)) -> #DIV/0! | AL11: =SUM(AD11:AK11) -> #DIV/0!
A12: 45.3-32 | B12: -5 | D12: =(C12/SUM($C$7:$C$33))*100 -> #DIV/0! | E12: =SUM(D6:D12) -> #DIV/0! | G12: =B12 -> -5 | H12: 0 | I12: 0 | J12: 0 | K12: 0 | L12: 0 | M12: 0 | N12: 0 | O12: 0 | P12: =SUM(H12:O12) -> 0 | R12: =G12 -> -5 | S12: =100*H12/$P12 -> #DIV/0! | T12: =100*I12/$P12 -> #DIV/0! | U12: =100*J12/$P12 -> #DIV/0! | V12: =100*K12/$P12 -> #DIV/0! | W12: =100*L12/$P12 -> #DIV/0! | X12: =100*M12/$P12 -> #DIV/0! | Y12: =100*N12/$P12 -> #DIV/0! | Z12: =100*O12/$P12 -> #DIV/0! | AA12: =SUM(S12:Z12) -> #DIV/0! | AC12: =R12 -> -5 | AD12: =S12*100/(SUM($S12:$W12)+SUM($Y12:$Z12)) -> #DIV/0! | AE12: =T12*100/(SUM($S12:$W12)+SUM($Y12:$Z12)) -> #DIV/0! | AF12: =U12*100/(SUM($S12:$W12)+SUM($Y12:$Z12)) -> #DIV/0! | AG12: =V12*100/(SUM($S12:$W12)+SUM($Y12:$Z12)) -> #DIV/0! | AH12: =W12*100/(SUM($S12:$W12)+SUM($Y12:$Z12)) -> #DIV/0! | AI12: =X12*100/(SUM($S12:$W12)+SUM($Y12:$Z12)) -> #DIV/0! | AJ12: =Y12*100/(SUM($S12:$W12)+SUM($Y12:$Z12)) -> #DIV/0! | AK12: =Z12*100/(SUM($S12:$W12)+SUM($Y12:$Z12)) -> #DIV/0! | AL12: =SUM(AD12:AK12) -> #DIV/0!
A13: 32-22.6 | B13: -4.5 | D13: =(C13/SUM($C$7:$C$33))*100 -> #DIV/0! | E13: =SUM(D7:D13) -> #DIV/0! | G13: =B13 -> -4.5 | H13: 0 | I13: 0 | J13: 0 | K13: 0 | L13: 0 | M13: 0 | N13: 0 | O13: 0 | P13: =SUM(H13:O13) -> 0 | R13: =G13 -> -4.5 | S13: =100*H13/$P13 -> #DIV/0! | T13: =100*I13/$P13 -> #DIV/0! | U13: =100*J13/$P13 -> #DIV/0! | V13: =100*K13/$P13 -> #DIV/0! | W13: =100*L13/$P13 -> #DIV/0! | X13: =100*M13/$P13 -> #DIV/0! | Y13: =100*N13/$P13 -> #DIV/0! | Z13: =100*O13/$P13 -> #DIV/0! | AA13: =SUM(S13:Z13) -> #DIV/0! | AC13: =R13 -> -4.5 | AD13: =S13*100/(SUM($S13:$W13)+SUM($Y13:$Z13)) -> #DIV/0! | AE13: =T13*100/(SUM($S13:$W13)+SUM($Y13:$Z13)) -> #DIV/0! | AF13: =U13*100/(SUM($S13:$W13)+SUM($Y13:$Z13)) -> #DIV/0! | AG13: =V13*100/(SUM($S13:$W13)+SUM($Y13:$Z13)) -> #DIV/0! | AH13: =W13*100/(SUM($S13:$W13)+SUM($Y13:$Z13)) -> #DIV/0! | AI13: =X13*100/(SUM($S13:$W13)+SUM($Y13:$Z13)) -> #DIV/0! | AJ13: =Y13*100/(SUM($S13:$W13)+SUM($Y13:$Z13)) -> #DIV/0! | AK13: =Z13*100/(SUM($S13:$W13)+SUM($Y13:$Z13)) -> #DIV/0! | AL13: =SUM(AD13:AK13) -> #DIV/0!
A14: 22,6-16 | B14: -4 | D14: =(C14/SUM($C$7:$C$33))*100 -> #DIV/0! | E14: =SUM(D8:D14) -> #DIV/0! | G14: =B14 -> -4 | H14: 0 | I14: 0 | J14: 0 | K14: 0 | L14: 0 | M14: 0 | N14: 0 | O14: 0 | P14: =SUM(H14:O14) -> 0 | R14: =G14 -> -4 | S14: =100*H14/$P14 -> #DIV/0! | T14: =100*I14/$P14 -> #DIV/0! | U14: =100*J14/$P14 -> #DIV/0! | V14: =100*K14/$P14 -> #DIV/0! | W14: =100*L14/$P14 -> #DIV/0! | X14: =100*M14/$P14 -> #DIV/0! | Y14: =100*N14/$P14 -> #DIV/0! | Z14: =100*O14/$P14 -> #DIV/0! | AA14: =SUM(S14:Z14) -> #DIV/0! | AC14: =R14 -> -4 | AD14: =S14*100/(SUM($S14:$W14)+SUM($Y14:$Z14)) -> #DIV/0! | AE14: =T14*100/(SUM($S14:$W14)+SUM($Y14:$Z14)) -> #DIV/0! | AF14: =U14*100/(SUM($S14:$W14)+SUM($Y14:$Z14)) -> #DIV/0! | AG14: =V14*100/(SUM($S14:$W14)+SUM($Y14:$Z14)) -> #DIV/0! | AH14: =W14*100/(SUM($S14:$W14)+SUM($Y14:$Z14)) -> #DIV/0! | AI14: =X14*100/(SUM($S14:$W14)+SUM($Y14:$Z14)) -> #DIV/0! | AJ14: =Y14*100/(SUM($S14:$W14)+SUM($Y14:$Z14)) -> #DIV/0! | AK14: =Z14*100/(SUM($S14:$W14)+SUM($Y14:$Z14)) -> #DIV/0! | AL14: =SUM(AD14:AK14) -> #DIV/0!
A15: 16-11.3 | B15: -3.5 | D15: =(C15/SUM($C$7:$C$33))*100 -> #DIV/0! | E15: =SUM(D6:D15) -> #DIV/0! | G15: =B15 -> -3.5 | H15: 0 | I15: 0 | J15: 0 | K15: 0 | L15: 0 | M15: 0 | N15: 0 | O15: 0 | P15: =SUM(H15:O15) -> 0 | R15: =G15 -> -3.5 | S15: =100*H15/$P15 -> #DIV/0! | T15: =100*I15/$P15 -> #DIV/0! | U15: =100*J15/$P15 -> #DIV/0! | V15: =100*K15/$P15 -> #DIV/0! | W15: =100*L15/$P15 -> #DIV/0! | X15: =100*M15/$P15 -> #DIV/0! | Y15: =100*N15/$P15 -> #DIV/0! | Z15: =100*O15/$P15 -> #DIV/0! | AA15: =SUM(S15:Z15) -> #DIV/0! | AC15: =R15 -> -3.5 | AD15: =S15*100/(SUM($S15:$W15)+SUM($Y15:$Z15)) -> #DIV/0! | AE15: =T15*100/(SUM($S15:$W15)+SUM($Y15:$Z15)) -> #DIV/0! | AF15: =U15*100/(SUM($S15:$W15)+SUM($Y15:$Z15)) -> #DIV/0! | AG15: =V15*100/(SUM($S15:$W15)+SUM($Y15:$Z15)) -> #DIV/0! | AH15: =W15*100/(SUM($S15:$W15)+SUM($Y15:$Z15)) -> #DIV/0! | AI15: 0 | AJ15: =Y15*100/(SUM($S15:$W15)+SUM($Y15:$Z15)) -> #DIV/0! | AK15: =Z15*100/(SUM($S15:$W15)+SUM($Y15:$Z15)) -> #DIV/0! | AL15: =SUM(AD15:AK15) -> #DIV/0!
A16: 11.3-8 | B16: -3 | D16: =(C16/SUM($C$7:$C$33))*100 -> #DIV/0! | E16: =SUM(D6:D16) -> #DIV/0! | G16: =B16 -> -3 | H16: 0 | I16: 0 | J16: 0 | K16: 0 | L16: 0 | M16: 0 | N16: 0 | O16: 0 | P16: =SUM(H16:O16) -> 0 | R16: =G16 -> -3 | S16: =100*H16/$P16 -> #DIV/0! | T16: =100*I16/$P16 -> #DIV/0! | U16: =100*J16/$P16 -> #DIV/0! | V16: =100*K16/$P16 -> #DIV/0! | W16: =100*L16/$P16 -> #DIV/0! | X16: =100*M16/$P16 -> #DIV/0! | Y16: =100*N16/$P16 -> #DIV/0! | Z16: =100*O16/$P16 -> #DIV/0! | AA16: =SUM(S16:Z16) -> #DIV/0! | AC16: =R16 -> -3 | AD16: =S16*100/(SUM($S16:$W16)+SUM($Y16:$Z16)) -> #DIV/0! | AE16: =T16*100/(SUM($S16:$W16)+SUM($Y16:$Z16)) -> #DIV/0! | AF16: =U16*100/(SUM($S16:$W16)+SUM($Y16:$Z16)) -> #DIV/0! | AG16: =V16*100/(SUM($S16:$W16)+SUM($Y16:$Z16)) -> #DIV/0! | AH16: =W16*100/(SUM($S16:$W16)+SUM($Y16:$Z16)) -> #DIV/0! | AI16: 0 | AJ16: =Y16*100/(SUM($S16:$W16)+SUM($Y16:$Z16)) -> #DIV/0! | AK16: =Z16*100/(SUM($S16:$W16)+SUM($Y16:$Z16)) -> #DIV/0! | AL16: =SUM(AD16:AK16) -> #DIV/0!
A17: 8-5,66 | B17: -2.5 | D17: =(C17/SUM($C$7:$C$33))*100 -> #DIV/0! | E17: =SUM(D6:D17) -> #DIV/0! | G17: =B17 -> -2.5 | H17: 0 | I17: 0 | J17: 0 | K17: 0 | L17: 0 | M17: 0 | N17: 0 | O17: 0 | P17: =SUM(H17:O17) -> 0 | R17: =G17 -> -2.5 | S17: =100*H17/$P17 -> #DIV/0! | T17: =100*I17/$P17 -> #DIV/0! | U17: =100*J17/$P17 -> #DIV/0! | V17: =100*K17/$P17 -> #DIV/0! | W17: =100*L17/$P17 -> #DIV/0! | X17: =100*M17/$P17 -> #DIV/0! | Y17: =100*N17/$P17 -> #DIV/0! | Z17: =100*O17/$P17 -> #DIV/0! | AA17: =SUM(S17:Z17) -> #DIV/0! | AC17: =R17 -> -2.5 | AD17: =S17*100/(SUM($S17:$W17)+SUM($Y17:$Z17)) -> #DIV/0! | AE17: =T17*100/(SUM($S17:$W17)+SUM($Y17:$Z17)) -> #DIV/0! | AF17: =U17*100/(SUM($S17:$W17)+SUM($Y17:$Z17)) -> #DIV/0! | AG17: =V17*100/(SUM($S17:$W17)+SUM($Y17:$Z17)) -> #DIV/0! | AH17: =W17*100/(SUM($S17:$W17)+SUM($Y17:$Z17)) -> #DIV/0! | AI17: 0 | AJ17: =Y17*100/(SUM($S17:$W17)+SUM($Y17:$Z17)) -> #DIV/0! | AK17: =Z17*100/(SUM($S17:$W17)+SUM($Y17:$Z17)) -> #DIV/0! | AL17: =SUM(AD17:AK17) -> #DIV/0!
A18: 5,66-4 | B18: -2 | D18: =(C18/SUM($C$7:$C$33))*100 -> #DIV/0! | E18: =SUM(D6:D18) -> #DIV/0! | G18: =B18 -> -2 | H18: 0 | I18: 0 | J18: 0 | K18: 0 | L18: 0 | M18: 0 | N18: 0 | O18: 0 | P18: =SUM(H18:O18) -> 0 | R18: =G18 -> -2 | S18: =100*H18/$P18 -> #DIV/0! | T18: =100*I18/$P18 -> #DIV/0! | U18: =100*J18/$P18 -> #DIV/0! | V18: =100*K18/$P18 -> #DIV/0! | W18: =100*L18/$P18 -> #DIV/0! | X18: =100*M18/$P18 -> #DIV/0! | Y18: =100*N18/$P18 -> #DIV/0! | Z18: =100*O18/$P18 -> #DIV/0! | AA18: =SUM(S18:Z18) -> #DIV/0! | AC18: =R18 -> -2 | AD18: =S18*100/(SUM($S18:$W18)+SUM($Y18:$Z18)) -> #DIV/0! | AE18: =T18*100/(SUM($S18:$W18)+SUM($Y18:$Z18)) -> #DIV/0! | AF18: =U18*100/(SUM($S18:$W18)+SUM($Y18:$Z18)) -> #DIV/0! | AG18: =V18*100/(SUM($S18:$W18)+SUM($Y18:$Z18)) -> #DIV/0! | AH18: =W18*100/(SUM($S18:$W18)+SUM($Y18:$Z18)) -> #DIV/0! | AI18: 0 | AJ18: =Y18*100/(SUM($S18:$W18)+SUM($Y18:$Z18)) -> #DIV/0! | AK18: =Z18*100/(SUM($S18:$W18)+SUM($Y18:$Z18)) -> #DIV/0! | AL18: =SUM(AD18:AK18) -> #DIV/0!
A19: 4000 - 2800 | B19: -1.5 | D19: =(C19/SUM($C$7:$C$33))*100 -> #DIV/0! | E19: =SUM(D6:D19) -> #DIV/0! | G19: =B19 -> -1.5 | H19: 0 | I19: 0 | J19: 0 | K19: 0 | L19: 0 | M19: 0 | N19: 0 | O19: 0 | P19: =SUM(H19:O19) -> 0 | R19: =G19 -> -1.5 | S19: =100*H19/$P19 -> #DIV/0! | T19: =100*I19/$P19 -> #DIV/0! | U19: =100*J19/$P19 -> #DIV/0! | V19: =100*K19/$P19 -> #DIV/0! | W19: =100*L19/$P19 -> #DIV/0! | X19: =100*M19/$P19 -> #DIV/0! | Y19: =100*N19/$P19 -> #DIV/0! | Z19: =100*O19/$P19 -> #DIV/0! | AA19: =SUM(S19:Z19) -> #DIV/0! | AC19: =R19 -> -1.5 | AD19: =S19*100/(SUM($S19:$W19)+SUM($Y19:$Z19)) -> #DIV/0! | AE19: =T19*100/(SUM($S19:$W19)+SUM($Y19:$Z19)) -> #DIV/0! | AF19: =U19*100/(SUM($S19:$W19)+SUM($Y19:$Z19)) -> #DIV/0! | AG19: =V19*100/(SUM($S19:$W19)+SUM($Y19:$Z19)) -> #DIV/0! | AH19: =W19*100/(SUM($S19:$W19)+SUM($Y19:$Z19)) -> #DIV/0! | AI19: 0 | AJ19: =Y19*100/(SUM($S19:$W19)+SUM($Y19:$Z19)) -> #DIV/0! | AK19: =Z19*100/(SUM($S19:$W19)+SUM($Y19:$Z19)) -> #DIV/0! | AL19: =SUM(AD19:AK19) -> #DIV/0!
A20: 2800 - 2000 | B20: -1 | D20: =(C20/SUM($C$7:$C$33))*100 -> #DIV/0! | E20: =SUM(D6:D20) -> #DIV/0! | G20: =B20 -> -1 | H20: 0 | I20: 0 | J20: 0 | K20: 0 | L20: 0 | M20: 0 | N20: 0 | O20: 0 | P20: =SUM(H20:O20) -> 0 | R20: =G20 -> -1 | S20: =100*H20/$P20 -> #DIV/0! | T20: =100*I20/$P20 -> #DIV/0! | U20: =100*J20/$P20 -> #DIV/0! | V20: =100*K20/$P20 -> #DIV/0! | W20: =100*L20/$P20 -> #DIV/0! | X20: =100*M20/$P20 -> #DIV/0! | Y20: =100*N20/$P20 -> #DIV/0! | Z20: =100*O20/$P20 -> #DIV/0! | AA20: =SUM(S20:Z20) -> #DIV/0! | AC20: =R20 -> -1 | AD20: =S20*100/(SUM($S20:$W20)+SUM($Y20:$Z20)) -> #DIV/0! | AE20: =T20*100/(SUM($S20:$W20)+SUM($Y20:$Z20)) -> #DIV/0! | AF20: =U20*100/(SUM($S20:$W20)+SUM($Y20:$Z20)) -> #DIV/0! | AG20: =V20*100/(SUM($S20:$W20)+SUM($Y20:$Z20)) -> #DIV/0! | AH20: =W20*100/(SUM($S20:$W20)+SUM($Y20:$Z20)) -> #DIV/0! | AI20: 0 | AJ20: =Y20*100/(SUM($S20:$W20)+SUM($Y20:$Z20)) -> #DIV/0! | AK20: =Z20*100/(SUM($S20:$W20)+SUM($Y20:$Z20)) -> #DIV/0! | AL20: =SUM(AD20:AK20) -> #DIV/0!
A21: 2000-1400 | B21: -0.5 | D21: =(C21/SUM($C$7:$C$33))*100 -> #DIV/0! | E21: =SUM(D6:D21) -> #DIV/0! | G21: =B21 -> -0.5 | H21: 0 | I21: 0 | J21: 0 | K21: 0 | L21: 0 | M21: 0 | N21: 0 | O21: 0 | P21: =SUM(H21:O21) -> 0 | R21: =G21 -> -0.5 | S21: =100*H21/$P21 -> #DIV/0! | T21: =100*I21/$P21 -> #DIV/0! | U21: =100*J21/$P21 -> #DIV/0! | V21: =100*K21/$P21 -> #DIV/0! | W21: =100*L21/$P21 -> #DIV/0! | X21: =100*M21/$P21 -> #DIV/0! | Y21: =100*N21/$P21 -> #DIV/0! | Z21: =100*O21/$P21 -> #DIV/0! | AA21: =SUM(S21:Z21) -> #DIV/0! | AC21: =R21 -> -0.5 | AD21: =S21*100/(SUM($S21:$W21)+SUM($Y21:$Z21)) -> #DIV/0! | AE21: =T21*100/(SUM($S21:$W21)+SUM($Y21:$Z21)) -> #DIV/0! | AF21: =U21*100/(SUM($S21:$W21)+SUM($Y21:$Z21)) -> #DIV/0! | AG21: =V21*100/(SUM($S21:$W21)+SUM($Y21:$Z21)) -> #DIV/0! | AH21: =W21*100/(SUM($S21:$W21)+SUM($Y21:$Z21)) -> #DIV/0! | AI21: 0 | AJ21: =Y21*100/(SUM($S21:$W21)+SUM($Y21:$Z21)) -> #DIV/0! | AK21: =Z21*100/(SUM($S21:$W21)+SUM($Y21:$Z21)) -> #DIV/0! | AL21: =SUM(AD21:AK21) -> #DIV/0!
A22: 1400 - 1000 | B22: 0 | D22: =(C22/SUM($C$7:$C$33))*100 -> #DIV/0! | E22: =SUM(D6:D22) -> #DIV/0! | G22: =B22 -> 0 | H22: 0 | I22: 0 | J22: 0 | K22: 0 | L22: 0 | M22: 0 | N22: 0 | O22: 0 | P22: =SUM(H22:O22) -> 0 | R22: =G22 -> 0 | S22: =100*H22/$P22 -> #DIV/0! | T22: =100*I22/$P22 -> #DIV/0! | U22: =100*J22/$P22 -> #DIV/0! | V22: =100*K22/$P22 -> #DIV/0! | W22: =100*L22/$P22 -> #DIV/0! | X22: =100*M22/$P22 -> #DIV/0! | Y22: =100*N22/$P22 -> #DIV/0! | Z22: =100*O22/$P22 -> #DIV/0! | AA22: =SUM(S22:Z22) -> #DIV/0! | AC22: =R22 -> 0 | AD22: =S22*100/(SUM($S22:$W22)+SUM($Y22:$Z22)) -> #DIV/0! | AE22: =T22*100/(SUM($S22:$W22)+SUM($Y22:$Z22)) -> #DIV/0! | AF22: =U22*100/(SUM($S22:$W22)+SUM($Y22:$Z22)) -> #DIV/0! | AG22: =V22*100/(SUM($S22:$W22)+SUM($Y22:$Z22)) -> #DIV/0! | AH22: =W22*100/(SUM($S22:$W22)+SUM($Y22:$Z22)) -> #DIV/0! | AI22: =X22*100/(SUM($S22:$W22)+SUM($Y22:$Z22)) -> #DIV/0! | AJ22: =Y22*100/(SUM($S22:$W22)+SUM($Y22:$Z22)) -> #DIV/0! | AK22: =Z22*100/(SUM($S22:$W22)+SUM($Y22:$Z22)) -> #DIV/0! | AL22: =SUM(AD22:AK22) -> #DIV/0!
A23: 1000-710 | B23: 0.5 | D23: =(C23/SUM($C$7:$C$33))*100 -> #DIV/0! | E23: =SUM(D6:D23) -> #DIV/0! | G23: =B23 -> 0.5 | H23: 0 | I23: 0 | J23: 0 | K23: 0 | L23: 0 | M23: 0 | N23: 0 | O23: 0 | P23: =SUM(H23:O23) -> 0 | R23: =G23 -> 0.5 | S23: =100*H23/$P23 -> #DIV/0! | T23: =100*I23/$P23 -> #DIV/0! | U23: =100*J23/$P23 -> #DIV/0! | V23: =100*K23/$P23 -> #DIV/0! | W23: =100*L23/$P23 -> #DIV/0! | X23: =100*M23/$P23 -> #DIV/0! | Y23: =100*N23/$P23 -> #DIV/0! | Z23: =100*O23/$P23 -> #DIV/0! | AA23: =SUM(S23:Z23) -> #DIV/0! | AC23: =R23 -> 0.5 | AD23: =S23*100/(SUM($S23:$W23)+SUM($Y23:$Z23)) -> #DIV/0! | AE23: =T23*100/(SUM($S23:$W23)+SUM($Y23:$Z23)) -> #DIV/0! | AF23: =U23*100/(SUM($S23:$W23)+SUM($Y23:$Z23)) -> #DIV/0! | AG23: =V23*100/(SUM($S23:$W23)+SUM($Y23:$Z23)) -> #DIV/0! | AH23: =W23*100/(SUM($S23:$W23)+SUM($Y23:$Z23)) -> #DIV/0! | AI23: =X23*100/(SUM($S23:$W23)+SUM($Y23:$Z23)) -> #DIV/0! | AJ23: =Y23*100/(SUM($S23:$W23)+SUM($Y23:$Z23)) -> #DIV/0! | AK23: =Z23*100/(SUM($S23:$W23)+SUM($Y23:$Z23)) -> #DIV/0! | AL23: =SUM(AD23:AK23) -> #DIV/0!
A24: 710-500 | B24: 1 | D24: =(C24/SUM($C$7:$C$33))*100 -> #DIV/0! | E24: =SUM(D6:D24) -> #DIV/0! | G24: =B24 -> 1 | H24: 0 | I24: 0 | J24: 0 | K24: 0 | L24: 0 | M24: 0 | N24: 0 | O24: 0 | P24: =SUM(H24:O24) -> 0 | R24: =G24 -> 1 | S24: =100*H24/$P24 -> #DIV/0! | T24: =100*I24/$P24 -> #DIV/0! | U24: =100*J24/$P24 -> #DIV/0! | V24: =100*K24/$P24 -> #DIV/0! | W24: =100*L24/$P24 -> #DIV/0! | X24: =100*M24/$P24 -> #DIV/0! | Y24: =100*N24/$P24 -> #DIV/0! | Z24: =100*O24/$P24 -> #DIV/0! | AA24: =SUM(S24:Z24) -> #DIV/0! | AC24: =R24 -> 1 | AD24: =S24*100/(SUM($S24:$W24)+SUM($Y24:$Z24)) -> #DIV/0! | AE24: =T24*100/(SUM($S24:$W24)+SUM($Y24:$Z24)) -> #DIV/0! | AF24: =U24*100/(SUM($S24:$W24)+SUM($Y24:$Z24)) -> #DIV/0! | AG24: =V24*100/(SUM($S24:$W24)+SUM($Y24:$Z24)) -> #DIV/0! | AH24: =W24*100/(SUM($S24:$W24)+SUM($Y24:$Z24)) -> #DIV/0! | AI24: =X24*100/(SUM($S24:$W24)+SUM($Y24:$Z24)) -> #DIV/0! | AJ24: =Y24*100/(SUM($S24:$W24)+SUM($Y24:$Z24)) -> #DIV/0! | AK24: =Z24*100/(SUM($S24:$W24)+SUM($Y24:$Z24)) -> #DIV/0! | AL24: =SUM(AD24:AK24) -> #DIV/0!
A25: 500-355 | B25: 1.5 | D25: =(C25/SUM($C$7:$C$33))*100 -> #DIV/0! | E25: =SUM(D6:D25) -> #DIV/0! | G25: =B25 -> 1.5 | H25: 0 | I25: 0 | J25: 0 | K25: 0 | L25: 0 | M25: 0 | N25: 0 | O25: 0 | P25: =SUM(H25:O25) -> 0 | R25: =G25 -> 1.5 | S25: =100*H25/$P25 -> #DIV/0! | T25: =100*I25/$P25 -> #DIV/0! | U25: =100*J25/$P25 -> #DIV/0! | V25: =100*K25/$P25 -> #DIV/0! | W25: =100*L25/$P25 -> #DIV/0! | X25: =100*M25/$P25 -> #DIV/0! | Y25: =100*N25/$P25 -> #DIV/0! | Z25: =100*O25/$P25 -> #DIV/0! | AA25: =SUM(S25:Z25) -> #DIV/0! | AC25: =R25 -> 1.5 | AD25: =S25*100/(SUM($S25:$W25)+SUM($Y25:$Z25)) -> #DIV/0! | AE25: =T25*100/(SUM($S25:$W25)+SUM($Y25:$Z25)) -> #DIV/0! | AF25: =U25*100/(SUM($S25:$W25)+SUM($Y25:$Z25)) -> #DIV/0! | AG25: =V25*100/(SUM($S25:$W25)+SUM($Y25:$Z25)) -> #DIV/0! | AH25: =W25*100/(SUM($S25:$W25)+SUM($Y25:$Z25)) -> #DIV/0! | AI25: =X25*100/(SUM($S25:$W25)+SUM($Y25:$Z25)) -> #DIV/0! | AJ25: =Y25*100/(SUM($S25:$W25)+SUM($Y25:$Z25)) -> #DIV/0! | AK25: =Z25*100/(SUM($S25:$W25)+SUM($Y25:$Z25)) -> #DIV/0! | AL25: =SUM(AD25:AK25) -> #DIV/0!
A26: 355 - 250 | B26: 2 | D26: =(C26/SUM($C$7:$C$33))*100 -> #DIV/0! | E26: =SUM(D6:D26) -> #DIV/0! | G26: =B26 -> 2 | H26: 0 | I26: 0 | J26: 0 | K26: 0 | L26: 0 | M26: 0 | N26: 0 | O26: 0 | P26: =SUM(H26:O26) -> 0 | R26: =G26 -> 2 | S26: =100*H26/$P26 -> #DIV/0! | T26: =100*I26/$P26 -> #DIV/0! | U26: =100*J26/$P26 -> #DIV/0! | V26: =100*K26/$P26 -> #DIV/0! | W26: =100*L26/$P26 -> #DIV/0! | X26: =100*M26/$P26 -> #DIV/0! | Y26: =100*N26/$P26 -> #DIV/0! | Z26: =100*O26/$P26 -> #DIV/0! | AA26: =SUM(S26:Z26) -> #DIV/0! | AC26: =R26 -> 2 | AD26: =S26*100/(SUM($S26:$W26)+SUM($Y26:$Z26)) -> #DIV/0! | AE26: =T26*100/(SUM($S26:$W26)+SUM($Y26:$Z26)) -> #DIV/0! | AF26: =U26*100/(SUM($S26:$W26)+SUM($Y26:$Z26)) -> #DIV/0! | AG26: =V26*100/(SUM($S26:$W26)+SUM($Y26:$Z26)) -> #DIV/0! | AH26: =W26*100/(SUM($S26:$W26)+SUM($Y26:$Z26)) -> #DIV/0! | AI26: =X26*100/(SUM($S26:$W26)+SUM($Y26:$Z26)) -> #DIV/0! | AJ26: =Y26*100/(SUM($S26:$W26)+SUM($Y26:$Z26)) -> #DIV/0! | AK26: =Z26*100/(SUM($S26:$W26)+SUM($Y26:$Z26)) -> #DIV/0! | AL26: =SUM(AD26:AK26) -> #DIV/0!
A27: 250-180 | B27: 2.5 | D27: =(C27/SUM($C$7:$C$33))*100 -> #DIV/0! | E27: =SUM(D7:D27) -> #DIV/0! | G27: =B27 -> 2.5 | H27: 0 | I27: 0 | J27: 0 | K27: 0 | L27: 0 | M27: 0 | N27: 0 | O27: 0 | P27: =SUM(H27:O27) -> 0 | R27: =G27 -> 2.5 | S27: =100*H27/$P27 -> #DIV/0! | T27: =100*I27/$P27 -> #DIV/0! | U27: =100*J27/$P27 -> #DIV/0! | V27: =100*K27/$P27 -> #DIV/0! | W27: =100*L27/$P27 -> #DIV/0! | X27: =100*M27/$P27 -> #DIV/0! | Y27: =100*N27/$P27 -> #DIV/0! | Z27: =100*O27/$P27 -> #DIV/0! | AA27: =SUM(S27:Z27) -> #DIV/0! | AC27: =R27 -> 2.5 | AD27: =S27*100/(SUM($S27:$W27)+SUM($Y27:$Z27)) -> #DIV/0! | AE27: =T27*100/(SUM($S27:$W27)+SUM($Y27:$Z27)) -> #DIV/0! | AF27: =U27*100/(SUM($S27:$W27)+SUM($Y27:$Z27)) -> #DIV/0! | AG27: =V27*100/(SUM($S27:$W27)+SUM($Y27:$Z27)) -> #DIV/0! | AH27: =W27*100/(SUM($S27:$W27)+SUM($Y27:$Z27)) -> #DIV/0! | AI27: =X27*100/(SUM($S27:$W27)+SUM($Y27:$Z27)) -> #DIV/0! | AJ27: =Y27*100/(SUM($S27:$W27)+SUM($Y27:$Z27)) -> #DIV/0! | AK27: =Z27*100/(SUM($S27:$W27)+SUM($Y27:$Z27)) -> #DIV/0! | AL27: =SUM(AD27:AK27) -> #DIV/0!
A28: 180 - 125 | B28: 3 | D28: =(C28/SUM($C$7:$C$33))*100 -> #DIV/0! | E28: =SUM(D7:D28) -> #DIV/0! | G28: =B28 -> 3 | H28: 0 | I28: 0 | J28: 0 | K28: 0 | L28: 0 | M28: 0 | N28: 0 | O28: 0 | P28: =SUM(H28:O28) -> 0 | R28: =G28 -> 3 | S28: =100*H28/$P28 -> #DIV/0! | T28: =100*I28/$P28 -> #DIV/0! | U28: =100*J28/$P28 -> #DIV/0! | V28: =100*K28/$P28 -> #DIV/0! | W28: =100*L28/$P28 -> #DIV/0! | X28: =100*M28/$P28 -> #DIV/0! | Y28: =100*N28/$P28 -> #DIV/0! | Z28: =100*O28/$P28 -> #DIV/0! | AA28: =SUM(S28:Z28) -> #DIV/0! | AC28: =R28 -> 3 | AD28: =S28*100/(SUM($S28:$W28)+SUM($Y28:$Z28)) -> #DIV/0! | AE28: =T28*100/(SUM($S28:$W28)+SUM($Y28:$Z28)) -> #DIV/0! | AF28: =U28*100/(SUM($S28:$W28)+SUM($Y28:$Z28)) -> #DIV/0! | AG28: =V28*100/(SUM($S28:$W28)+SUM($Y28:$Z28)) -> #DIV/0! | AH28: =W28*100/(SUM($S28:$W28)+SUM($Y28:$Z28)) -> #DIV/0! | AI28: =X28*100/(SUM($S28:$W28)+SUM($Y28:$Z28)) -> #DIV/0! | AJ28: =Y28*100/(SUM($S28:$W28)+SUM($Y28:$Z28)) -> #DIV/0! | AK28: =Z28*100/(SUM($S28:$W28)+SUM($Y28:$Z28)) -> #DIV/0! | AL28: =SUM(AD28:AK28) -> #DIV/0!
A29: 125-90 | B29: 3.5 | D29: =(C29/SUM($C$7:$C$33))*100 -> #DIV/0! | E29: =SUM(D7:D29) -> #DIV/0! | G29: =B29 -> 3.5 | H29: 0 | I29: 0 | J29: 0 | K29: 0 | L29: 0 | M29: 0 | N29: 0 | O29: 0 | P29: =SUM(H29:O29) -> 0 | R29: =G29 -> 3.5 | S29: =100*H29/$P29 -> #DIV/0! | T29: =100*I29/$P29 -> #DIV/0! | U29: =100*J29/$P29 -> #DIV/0! | V29: =100*K29/$P29 -> #DIV/0! | W29: =100*L29/$P29 -> #DIV/0! | X29: =100*M29/$P29 -> #DIV/0! | Y29: =100*N29/$P29 -> #DIV/0! | Z29: =100*O29/$P29 -> #DIV/0! | AA29: =SUM(S29:Z29) -> #DIV/0! | AC29: =R29 -> 3.5 | AD29: =S29*100/(SUM($S29:$W29)+SUM($Y29:$Z29)) -> #DIV/0! | AE29: =T29*100/(SUM($S29:$W29)+SUM($Y29:$Z29)) -> #DIV/0! | AF29: =U29*100/(SUM($S29:$W29)+SUM($Y29:$Z29)) -> #DIV/0! | AG29: =V29*100/(SUM($S29:$W29)+SUM($Y29:$Z29)) -> #DIV/0! | AH29: =W29*100/(SUM($S29:$W29)+SUM($Y29:$Z29)) -> #DIV/0! | AI29: =X29*100/(SUM($S29:$W29)+SUM($Y29:$Z29)) -> #DIV/0! | AJ29: =Y29*100/(SUM($S29:$W29)+SUM($Y29:$Z29)) -> #DIV/0! | AK29: =Z29*100/(SUM($S29:$W29)+SUM($Y29:$Z29)) -> #DIV/0! | AL29: =SUM(AD29:AK29) -> #DIV/0!
A30: 90 - 63 | B30: 4 | D30: =(C30/SUM($C$7:$C$33))*100 -> #DIV/0! | E30: =SUM(D7:D30) -> #DIV/0! | G30: =B30 -> 4 | H30: 0 | I30: 0 | J30: 0 | K30: 0 | L30: 0 | M30: 0 | N30: 0 | O30: 0 | P30: =SUM(H30:O30) -> 0 | R30: =G30 -> 4 | S30: =100*H30/$P30 -> #DIV/0! | T30: =100*I30/$P30 -> #DIV/0! | U30: =100*J30/$P30 -> #DIV/0! | V30: =100*K30/$P30 -> #DIV/0! | W30: =100*L30/$P30 -> #DIV/0! | X30: =100*M30/$P30 -> #DIV/0! | Y30: =100*N30/$P30 -> #DIV/0! | Z30: =100*O30/$P30 -> #DIV/0! | AA30: =SUM(S30:Z30) -> #DIV/0! | AC30: =R30 -> 4 | AD30: =S30*100/(SUM($S30:$W30)+SUM($Y30:$Z30)) -> #DIV/0! | AE30: =T30*100/(SUM($S30:$W30)+SUM($Y30:$Z30)) -> #DIV/0! | AF30: =U30*100/(SUM($S30:$W30)+SUM($Y30:$Z30)) -> #DIV/0! | AG30: =V30*100/(SUM($S30:$W30)+SUM($Y30:$Z30)) -> #DIV/0! | AH30: =W30*100/(SUM($S30:$W30)+SUM($Y30:$Z30)) -> #DIV/0! | AI30: =X30*100/(SUM($S30:$W30)+SUM($Y30:$Z30)) -> #DIV/0! | AJ30: =Y30*100/(SUM($S30:$W30)+SUM($Y30:$Z30)) -> #DIV/0! | AK30: =Z30*100/(SUM($S30:$W30)+SUM($Y30:$Z30)) -> #DIV/0! | AL30: =SUM(AD30:AK30) -> #DIV/0!
A31: 63 - 45 | B31: 4.5 | D31: =(C31/SUM($C$7:$C$33))*100 -> #DIV/0! | E31: =SUM(D7:D31) -> #DIV/0! | G31: =B31 -> 4.5 | H31: 0 | I31: 0 | J31: 0 | K31: 0 | L31: 0 | M31: 0 | N31: 0 | O31: 0 | P31: =SUM(H31:O31) -> 0 | R31: =G31 -> 4.5 | S31: =100*H31/$P31 -> #DIV/0! | T31: =100*I31/$P31 -> #DIV/0! | U31: =100*J31/$P31 -> #DIV/0! | V31: =100*K31/$P31 -> #DIV/0! | W31: =100*L31/$P31 -> #DIV/0! | X31: =100*M31/$P31 -> #DIV/0! | Y31: =100*N31/$P31 -> #DIV/0! | Z31: =100*O31/$P31 -> #DIV/0! | AA31: =SUM(S31:Z31) -> #DIV/0! | AC31: =R31 -> 4.5 | AD31: =S31*100/(SUM($S31:$W31)+SUM($Y31:$Z31)) -> #DIV/0! | AE31: =T31*100/(SUM($S31:$W31)+SUM($Y31:$Z31)) -> #DIV/0! | AF31: =U31*100/(SUM($S31:$W31)+SUM($Y31:$Z31)) -> #DIV/0! | AG31: =V31*100/(SUM($S31:$W31)+SUM($Y31:$Z31)) -> #DIV/0! | AH31: =W31*100/(SUM($S31:$W31)+SUM($Y31:$Z31)) -> #DIV/0! | AI31: =X31*100/(SUM($S31:$W31)+SUM($Y31:$Z31)) -> #DIV/0! | AJ31: =Y31*100/(SUM($S31:$W31)+SUM($Y31:$Z31)) -> #DIV/0! | AK31: =Z31*100/(SUM($S31:$W31)+SUM($Y31:$Z31)) -> #DIV/0! | AL31: =SUM(AD31:AK31) -> #DIV/0!
A32: 45 - 31 | B32: 5 | D32: =(C32/SUM($C$7:$C$33))*100 -> #DIV/0! | E32: =SUM(D7:D32) -> #DIV/0! | G32: =B32 -> 5 | H32: 0 | I32: 0 | J32: 0 | K32: 0 | L32: 0 | M32: 0 | N32: 0 | O32: 0 | P32: =SUM(H32:O32) -> 0 | R32: =G32 -> 5 | S32: =100*H32/$P32 -> #DIV/0! | T32: =100*I32/$P32 -> #DIV/0! | U32: =100*J32/$P32 -> #DIV/0! | V32: =100*K32/$P32 -> #DIV/0! | W32: =100*L32/$P32 -> #DIV/0! | X32: =100*M32/$P32 -> #DIV/0! | Y32: =100*N32/$P32 -> #DIV/0! | Z32: =100*O32/$P32 -> #DIV/0! | AA32: =SUM(S32:Z32) -> #DIV/0! | AC32: =R32 -> 5 | AD32: =S32*100/(SUM($S32:$W32)+SUM($Y32:$Z32)) -> #DIV/0! | AE32: =T32*100/(SUM($S32:$W32)+SUM($Y32:$Z32)) -> #DIV/0! | AF32: =U32*100/(SUM($S32:$W32)+SUM($Y32:$Z32)) -> #DIV/0! | AG32: =V32*100/(SUM($S32:$W32)+SUM($Y32:$Z32)) -> #DIV/0! | AH32: =W32*100/(SUM($S32:$W32)+SUM($Y32:$Z32)) -> #DIV/0! | AI32: =X32*100/(SUM($S32:$W32)+SUM($Y32:$Z32)) -> #DIV/0! | AJ32: =Y32*100/(SUM($S32:$W32)+SUM($Y32:$Z32)) -> #DIV/0! | AK32: =Z32*100/(SUM($S32:$W32)+SUM($Y32:$Z32)) -> #DIV/0! | AL32: =SUM(AD32:AK32) -> #DIV/0!
A33: <32 | B33: >6 | D33: =(C33/SUM($C$7:$C$33))*100 -> #DIV/0! | E33: =SUM(D7:D33) -> #DIV/0! | G33: =B33 -> >6 | H33: 0 | I33: 0 | J33: 0 | K33: 0 | L33: 0 | M33: 0 | N33: 0 | O33: 0 | P33: =SUM(H33:O33) -> 0 | R33: =G33 -> >6 | S33: =100*H33/$P33 -> #DIV/0! | T33: =100*I33/$P33 -> #DIV/0! | U33: =100*J33/$P33 -> #DIV/0! | V33: =100*K33/$P33 -> #DIV/0! | W33: =100*L33/$P33 -> #DIV/0! | X33: =100*M33/$P33 -> #DIV/0! | Y33: =100*N33/$P33 -> #DIV/0! | Z33: =100*O33/$P33 -> #DIV/0! | AA33: =SUM(S33:Z33) -> #DIV/0! | AC33: =R33 -> >6 | AD33: =S33*100/(SUM($S33:$W33)+SUM($Y33:$Z33)) -> #DIV/0! | AE33: =T33*100/(SUM($S33:$W33)+SUM($Y33:$Z33)) -> #DIV/0! | AF33: =U33*100/(SUM($S33:$W33)+SUM($Y33:$Z33)) -> #DIV/0! | AG33: =V33*100/(SUM($S33:$W33)+SUM($Y33:$Z33)) -> #DIV/0! | AH33: =W33*100/(SUM($S33:$W33)+SUM($Y33:$Z33)) -> #DIV/0! | AI33: =X33*100/(SUM($S33:$W33)+SUM($Y33:$Z33)) -> #DIV/0! | AJ33: =Y33*100/(SUM($S33:$W33)+SUM($Y33:$Z33)) -> #DIV/0! | AK33: =Z33*100/(SUM($S33:$W33)+SUM($Y33:$Z33)) -> #DIV/0! | AL33: =SUM(AD33:AK33) -> #DIV/0!
G34: total | H34: =SUM(H7:H33) -> 0 | I34: =SUM(I7:I33) -> 0 | J34: =SUM(J7:J33) -> 0 | K34: =SUM(K7:K33) -> 0 | L34: =SUM(L7:L33) -> 0 | M34: =SUM(M7:M33) -> 0 | N34: =SUM(N7:N33) -> 0 | O34: =SUM(O7:O33) -> 0
A67: Graphical Parameters
A68: (totale)
A69: Φ | B69: 5 | C69: =IFERROR((((INDEX(phi,MATCH(B69,cum_tot_2,1)+1,1)-INDEX(phi,MATCH(B69,cum_tot_2,1),1))/(INDEX(cum_tot_2,MATCH(B69,cum_tot_2,1)+1,1)-INDEX(cum_tot_2,MATCH(B69,cum_tot_2,1),1)))*(B69-INDEX(cum_tot_2,MATCH(B69,cum_tot_2,1),1)))+INDEX(phi,MATCH(B69,cum_tot_2,1),1),"6") -> 6
A70: Φ | B70: 16 | C70: =IFERROR((((INDEX(phi,MATCH(B70,cum_tot_2,1)+1,1)-INDEX(phi,MATCH(B70,cum_tot_2,1),1))/(INDEX(cum_tot_2,MATCH(B70,cum_tot_2,1)+1,1)-INDEX(cum_tot_2,MATCH(B70,cum_tot_2,1),1)))*(B70-INDEX(cum_tot_2,MATCH(B70,cum_tot_2,1),1)))+INDEX(phi,MATCH(B70,cum_tot_2,1),1),"6") -> 6
A71: Φ | B71: 25 | C71: =IFERROR((((INDEX(phi,MATCH(B71,cum_tot_2,1)+1,1)-INDEX(phi,MATCH(B71,cum_tot_2,1),1))/(INDEX(cum_tot_2,MATCH(B71,cum_tot_2,1)+1,1)-INDEX(cum_tot_2,MATCH(B71,cum_tot_2,1),1)))*(B71-INDEX(cum_tot_2,MATCH(B71,cum_tot_2,1),1)))+INDEX(phi,MATCH(B71,cum_tot_2,1),1),"6") -> 6
A72: Φ | B72: 50 | C72: =IFERROR((((INDEX(phi,MATCH(B72,cum_tot_2,1)+1,1)-INDEX(phi,MATCH(B72,cum_tot_2,1),1))/(INDEX(cum_tot_2,MATCH(B72,cum_tot_2,1)+1,1)-INDEX(cum_tot_2,MATCH(B72,cum_tot_2,1),1)))*(B72-INDEX(cum_tot_2,MATCH(B72,cum_tot_2,1),1)))+INDEX(phi,MATCH(B72,cum_tot_2,1),1),"6") -> 6
A73: Φ | B73: 75 | C73: =IFERROR((((INDEX(phi,MATCH(B73,cum_tot_2,1)+1,1)-INDEX(phi,MATCH(B73,cum_tot_2,1),1))/(INDEX(cum_tot_2,MATCH(B73,cum_tot_2,1)+1,1)-INDEX(cum_tot_2,MATCH(B73,cum_tot_2,1),1)))*(B73-INDEX(cum_tot_2,MATCH(B73,cum_tot_2,1),1)))+INDEX(phi,MATCH(B73,cum_tot_2,1),1),"6") -> 6
A74: Φ | B74: 84 | C74: =IFERROR((((INDEX(phi,MATCH(B74,cum_tot_2,1)+1,1)-INDEX(phi,MATCH(B74,cum_tot_2,1),1))/(INDEX(cum_tot_2,MATCH(B74,cum_tot_2,1)+1,1)-INDEX(cum_tot_2,MATCH(B74,cum_tot_2,1),1)))*(B74-INDEX(cum_tot_2,MATCH(B74,cum_tot_2,1),1)))+INDEX(phi,MATCH(B74,cum_tot_2,1),1),"6") -> 6
...

Sheet MAY190405_2
A2: Grain size analysis of sample | D2: =RIGHT(CELL("nomfichier",A1),LEN(CELL("nomfichier",A1))-FIND("]",CELL("nomfichier",A1))) -> MAY190405_2 | G2: Sample : | H2: =D2 -> MAY190405_2
H3: Juveniles | K3: Lithics | S3: Juveniles | V3: Lithics | AD3: Juveniles | AG3: Lithics
A4: Total weight (g) | B4: =SUM(C7:C33) -> 356.03 | G4: Grain size (phi) | H4: Pumices | I4: Dense juveniles | J4: Obsidian | K4: Coral fragments | L4: Mafic clasts | M4: Aggregate | N4: Accretionnary lapilli | O4: Crystals | P4: Total | R4: =G4 -> Grain size (phi) | S4: =H4 -> Pumices | T4: =I4 -> Dense juveniles | U4: =J4 -> Obsidian | V4: =K4 -> Coral fragments | W4: =L4 -> Mafic clasts | X4: =M4 -> Aggregate | Y4: =N4 -> Accretionnary lapilli | Z4: =O4 -> Crystals | AA4: Total | AC4: =R4 -> Grain size (phi) | AD4: =S4 -> Pumices | AE4: =T4 -> Dense juveniles | AF4: =U4 -> Obsidian | AG4: =V4 -> Coral fragments | AH4: =W4 -> Mafic clasts | AI4: =X4 -> Aggregate | AJ4: =Y4 -> Accretionnary lapilli | AK4: =Z4 -> Crystals | AL4: Total
A5: Diameters (mm/μ) | B5: F | C5: Wt | D5: % Wt | E5: %Cum
A7: 256-181 | B7: -7.5 | C7: 0 | D7: =(C7/SUM($C$7:$C$33))*100 -> 0 | E7: 0 | G7: =B7 -> -7.5 | H7: 0 | I7: 0 | J7: 0 | K7: 0 | L7: 0 | M7: 0 | N7: 0 | O7: 0 | P7: =SUM(H7:O7) -> 0 | R7: =G7 -> -7.5 | S7: =H7/$B$4 -> 0 | T7: =I7/$B$4 -> 0 | U7: =J7/$B$4 -> 0 | V7: =K7/$B$4 -> 0 | W7: =L7/$B$4 -> 0 | X7: =M7/$B$4 -> 0 | Y7: =N7/$B$4 -> 0 | Z7: =O7/$B$4 -> 0 | AA7: =SUM(S7:Z7) -> 0 | AC7: =R7 -> -7.5 | AD7: =S7*100/(SUM($S7:$W7)+SUM($Y7:$Z7)) -> #DIV/0! | AE7: =T7*100/(SUM($S7:$W7)+SUM($Y7:$Z7)) -> #DIV/0! | AF7: =U7*100/(SUM($S7:$W7)+SUM($Y7:$Z7)) -> #DIV/0! | AG7: =V7*100/(SUM($S7:$W7)+SUM($Y7:$Z7)) -> #DIV/0! | AH7: =W7*100/(SUM($S7:$W7)+SUM($Y7:$Z7)) -> #DIV/0! | AI7: =X7*100/(SUM($S7:$W7)+SUM($Y7:$Z7)) -> #DIV/0! | AJ7: =Y7*100/(SUM($S7:$W7)+SUM($Y7:$Z7)) -> #DIV/0! | AK7: =Z7*100/(SUM($S7:$W7)+SUM($Y7:$Z7)) -> #DIV/0! | AL7: =SUM(AD7:AK7) -> #DIV/0!
A8: 181-128 | B8: -7 | C8: 0 | D8: =(C8/SUM($C$7:$C$33))*100 -> 0 | E8: =SUM(D6,D8) -> 0 | G8: =B8 -> -7 | H8: 0 | I8: 0 | J8: 0 | K8: 0 | L8: 0 | M8: 0 | N8: 0 | O8: 0 | P8: =SUM(H8:O8) -> 0 | R8: =G8 -> -7 | S8: =H8/$B$4 -> 0 | T8: =I8/$B$4 -> 0 | U8: =J8/$B$4 -> 0 | V8: =K8/$B$4 -> 0 | W8: =L8/$B$4 -> 0 | X8: =M8/$B$4 -> 0 | Y8: =N8/$B$4 -> 0 | Z8: =O8/$B$4 -> 0 | AA8: =SUM(S8:Z8) -> 0 | AC8: =R8 -> -7 | AD8: =S8*100/(SUM($S8:$W8)+SUM($Y8:$Z8)) -> #DIV/0! | AE8: =T8*100/(SUM($S8:$W8)+SUM($Y8:$Z8)) -> #DIV/0! | AF8: =U8*100/(SUM($S8:$W8)+SUM($Y8:$Z8)) -> #DIV/0! | AG8: =V8*100/(SUM($S8:$W8)+SUM($Y8:$Z8)) -> #DIV/0! | AH8: =W8*100/(SUM($S8:$W8)+SUM($Y8:$Z8)) -> #DIV/0! | AI8: =X8*100/(SUM($S8:$W8)+SUM($Y8:$Z8)) -> #DIV/0! | AJ8: =Y8*100/(SUM($S8:$W8)+SUM($Y8:$Z8)) -> #DIV/0! | AK8: =Z8*100/(SUM($S8:$W8)+SUM($Y8:$Z8)) -> #DIV/0! | AL8: =SUM(AD8:AK8) -> #DIV/0!
A9: 128-90,5 | B9: -6.5 | C9: 0 | D9: =(C9/SUM($C$7:$C$33))*100 -> 0 | E9: =SUM(D6:D9) -> 0 | G9: =B9 -> -6.5 | H9: 0 | I9: 0 | J9: 0 | K9: 0 | L9: 0 | M9: 0 | N9: 0 | O9: 0 | P9: =SUM(H9:O9) -> 0 | R9: =G9 -> -6.5 | S9: =H9/$B$4 -> 0 | T9: =I9/$B$4 -> 0 | U9: =J9/$B$4 -> 0 | V9: =K9/$B$4 -> 0 | W9: =L9/$B$4 -> 0 | X9: =M9/$B$4 -> 0 | Y9: =N9/$B$4 -> 0 | Z9: =O9/$B$4 -> 0 | AA9: =SUM(S9:Z9) -> 0 | AC9: =R9 -> -6.5 | AD9: =S9*100/(SUM($S9:$W9)+SUM($Y9:$Z9)) -> #DIV/0! | AE9: =T9*100/(SUM($S9:$W9)+SUM($Y9:$Z9)) -> #DIV/0! | AF9: =U9*100/(SUM($S9:$W9)+SUM($Y9:$Z9)) -> #DIV/0! | AG9: =V9*100/(SUM($S9:$W9)+SUM($Y9:$Z9)) -> #DIV/0! | AH9: =W9*100/(SUM($S9:$W9)+SUM($Y9:$Z9)) -> #DIV/0! | AI9: =X9*100/(SUM($S9:$W9)+SUM($Y9:$Z9)) -> #DIV/0! | AJ9: =Y9*100/(SUM($S9:$W9)+SUM($Y9:$Z9)) -> #DIV/0! | AK9: =Z9*100/(SUM($S9:$W9)+SUM($Y9:$Z9)) -> #DIV/0! | AL9: =SUM(AD9:AK9) -> #DIV/0!
A10: >64 | B10: -6 | C10: 0 | D10: =(C10/SUM($C$7:$C$33))*100 -> 0 | E10: =SUM(D6:D10) -> 0 | G10: =B10 -> -6 | H10: 0 | I10: 0 | J10: 0 | K10: 0 | L10: 0 | M10: 0 | N10: 0 | O10: 0 | P10: =SUM(H10:O10) -> 0 | R10: =G10 -> -6 | S10: =H10/$B$4 -> 0 | T10: =I10/$B$4 -> 0 | U10: =J10/$B$4 -> 0 | V10: =K10/$B$4 -> 0 | W10: =L10/$B$4 -> 0 | X10: =M10/$B$4 -> 0 | Y10: =N10/$B$4 -> 0 | Z10: =O10/$B$4 -> 0 | AA10: =SUM(S10:Z10) -> 0 | AC10: =R10 -> -6 | AD10: =S10*100/(SUM($S10:$W10)+SUM($Y10:$Z10)) -> #DIV/0! | AE10: =T10*100/(SUM($S10:$W10)+SUM($Y10:$Z10)) -> #DIV/0! | AF10: =U10*100/(SUM($S10:$W10)+SUM($Y10:$Z10)) -> #DIV/0! | AG10: =V10*100/(SUM($S10:$W10)+SUM($Y10:$Z10)) -> #DIV/0! | AH10: =W10*100/(SUM($S10:$W10)+SUM($Y10:$Z10)) -> #DIV/0! | AI10: =X10*100/(SUM($S10:$W10)+SUM($Y10:$Z10)) -> #DIV/0! | AJ10: =Y10*100/(SUM($S10:$W10)+SUM($Y10:$Z10)) -> #DIV/0! | AK10: =Z10*100/(SUM($S10:$W10)+SUM($Y10:$Z10)) -> #DIV/0! | AL10: =SUM(AD10:AK10) -> #DIV/0!
A11: 64-45.3 | B11: -5.5 | C11: 0 | D11: =(C11/SUM($C$7:$C$33))*100 -> 0 | E11: =SUM(D6:D11) -> 0 | G11: =B11 -> -5.5 | H11: 0 | I11: 0 | J11: 0 | K11: 0 | L11: 0 | M11: 0 | N11: 0 | O11: 0 | P11: =SUM(H11:O11) -> 0 | R11: =G11 -> -5.5 | S11: =H11/$B$4 -> 0 | T11: =I11/$B$4 -> 0 | U11: =J11/$B$4 -> 0 | V11: =K11/$B$4 -> 0 | W11: =L11/$B$4 -> 0 | X11: =M11/$B$4 -> 0 | Y11: =N11/$B$4 -> 0 | Z11: =O11/$B$4 -> 0 | AA11: =SUM(S11:Z11) -> 0 | AC11: =R11 -> -5.5 | AD11: =S11*100/(SUM($S11:$W11)+SUM($Y11:$Z11)) -> #DIV/0! | AE11: =T11*100/(SUM($S11:$W11)+SUM($Y11:$Z11)) -> #DIV/0! | AF11: =U11*100/(SUM($S11:$W11)+SUM($Y11:$Z11)) -> #DIV/0! | AG11: =V11*100/(SUM($S11:$W11)+SUM($Y11:$Z11)) -> #DIV/0! | AH11: =W11*100/(SUM($S11:$W11)+SUM($Y11:$Z11)) -> #DIV/0! | AI11: =X11*100/(SUM($S11:$W11)+SUM($Y11:$Z11)) -> #DIV/0! | AJ11: =Y11*100/(SUM($S11:$W11)+SUM($Y11:$Z11)) -> #DIV/0! | AK11: =Z11*100/(SUM($S11:$W11)+SUM($Y11:$Z11)) -> #DIV/0! | AL11: =SUM(AD11:AK11) -> #DIV/0!
A12: 45.3-32 | B12: -5 | C12: 0 | D12: =(C12/SUM($C$7:$C$33))*100 -> 0 | E12: =SUM(D6:D12) -> 0 | G12: =B12 -> -5 | H12: 0 | I12: 0 | J12: 0 | K12: 0 | L12: 0 | M12: 0 | N12: 0 | O12: 0 | P12: =SUM(H12:O12) -> 0 | R12: =G12 -> -5 | S12: =H12/$B$4 -> 0 | T12: =I12/$B$4 -> 0 | U12: =J12/$B$4 -> 0 | V12: =K12/$B$4 -> 0 | W12: =L12/$B$4 -> 0 | X12: =M12/$B$4 -> 0 | Y12: =N12/$B$4 -> 0 | Z12: =O12/$B$4 -> 0 | AA12: =SUM(S12:Z12) -> 0 | AC12: =R12 -> -5 | AD12: =S12*100/(SUM($S12:$W12)+SUM($Y12:$Z12)) -> #DIV/0! | AE12: =T12*100/(SUM($S12:$W12)+SUM($Y12:$Z12)) -> #DIV/0! | AF12: =U12*100/(SUM($S12:$W12)+SUM($Y12:$Z12)) -> #DIV/0! | AG12: =V12*100/(SUM($S12:$W12)+SUM($Y12:$Z12)) -> #DIV/0! | AH12: =W12*100/(SUM($S12:$W12)+SUM($Y12:$Z12)) -> #DIV/0! | AI12: =X12*100/(SUM($S12:$W12)+SUM($Y12:$Z12)) -> #DIV/0! | AJ12: =Y12*100/(SUM($S12:$W12)+SUM($Y12:$Z12)) -> #DIV/0! | AK12: =Z12*100/(SUM($S12:$W12)+SUM($Y12:$Z12)) -> #DIV/0! | AL12: =SUM(AD12:AK12) -> #DIV/0!
A13: 32-22.6 | B13: -4.5 | C13: 0 | D13: =(C13/SUM($C$7:$C$33))*100 -> 0 | E13: =SUM(D7:D13) -> 0 | G13: =B13 -> -4.5 | H13: 0 | I13: 0 | J13: 0 | K13: 0 | L13: 0 | M13: 0 | N13: 0 | O13: 0 | P13: =SUM(H13:O13) -> 0 | R13: =G13 -> -4.5 | S13: =H13/$B$4 -> 0 | T13: =I13/$B$4 -> 0 | U13: =J13/$B$4 -> 0 | V13: =K13/$B$4 -> 0 | W13: =L13/$B$4 -> 0 | X13: =M13/$B$4 -> 0 | Y13: =N13/$B$4 -> 0 | Z13: =O13/$B$4 -> 0 | AA13: =SUM(S13:Z13) -> 0 | AC13: =R13 -> -4.5 | AD13: =S13*100/(SUM($S13:$W13)+SUM($Y13:$Z13)) -> #DIV/0! | AE13: =T13*100/(SUM($S13:$W13)+SUM($Y13:$Z13)) -> #DIV/0! | AF13: =U13*100/(SUM($S13:$W13)+SUM($Y13:$Z13)) -> #DIV/0! | AG13: =V13*100/(SUM($S13:$W13)+SUM($Y13:$Z13)) -> #DIV/0! | AH13: =W13*100/(SUM($S13:$W13)+SUM($Y13:$Z13)) -> #DIV/0! | AI13: =X13*100/(SUM($S13:$W13)+SUM($Y13:$Z13)) -> #DIV/0! | AJ13: =Y13*100/(SUM($S13:$W13)+SUM($Y13:$Z13)) -> #DIV/0! | AK13: =Z13*100/(SUM($S13:$W13)+SUM($Y13:$Z13)) -> #DIV/0! | AL13: =SUM(AD13:AK13) -> #DIV/0!
A14: 22,6-16 | B14: -4 | C14: 8.49 | D14: =(C14/SUM($C$7:$C$33))*100 -> 2.3846305 | E14: =SUM(D8:D14) -> 2.3846305 | G14: =B14 -> -4 | H14: 8.37 | I14: 0 | J14: 0 | K14: 0 | L14: 0 | M14: 0 | N14: 0 | O14: 0 | P14: =SUM(H14:O14) -> 8.37 | R14: =G14 -> -4 | S14: =(H14/$B$4)*100 -> 2.3509255 | T14: =(I14/$B$4)*100 -> 0 | U14: =(J14/$B$4)*100 -> 0 | V14: =(K14/$B$4)*100 -> 0 | W14: =(L14/$B$4)*100 -> 0 | X14: =(M14/$B$4)*100 -> 0 | Y14: =(N14/$B$4)*100 -> 0 | Z14: =(O14/$B$4)*100 -> 0 | AA14: =SUM(S14:Z14) -> 2.3509255 | AC14: =R14 -> -4 | AD14: =S14*100/(SUM($S14:$W14)+SUM($Y14:$Z14)) -> 100 | AE14: =T14*100/(SUM($S14:$W14)+SUM($Y14:$Z14)) -> 0 | AF14: =U14*100/(SUM($S14:$W14)+SUM($Y14:$Z14)) -> 0 | AG14: =V14*100/(SUM($S14:$W14)+SUM($Y14:$Z14)) -> 0 | AH14: =W14*100/(SUM($S14:$W14)+SUM($Y14:$Z14)) -> 0 | AI14: =X14*100/(SUM($S14:$W14)+SUM($Y14:$Z14)) -> 0 | AJ14: =Y14*100/(SUM($S14:$W14)+SUM($Y14:$Z14)) -> 0 | AK14: =Z14*100/(SUM($S14:$W14)+SUM($Y14:$Z14)) -> 0 | AL14: =SUM(AD14:AK14) -> 100
A15: 16-11.3 | B15: -3.5 | C15: 29.38 | D15: =(C15/SUM($C$7:$C$33))*100 -> 8.2521136 | E15: =SUM(D6:D15) -> 10.636744 | G15: =B15 -> -3.5 | H15: 29.12 | I15: 0 | J15: 0 | K15: 0 | L15: 0 | M15: 0 | N15: 0 | O15: 0 | P15: =SUM(H15:O15) -> 29.12 | R15: =G15 -> -3.5 | S15: =(H15/$B$4)*100 -> 8.179086 | T15: =(I15/$B$4)*100 -> 0 | U15: =(J15/$B$4)*100 -> 0 | V15: =(K15/$B$4)*100 -> 0 | W15: =(L15/$B$4)*100 -> 0 | X15: =(M15/$B$4)*100 -> 0 | Y15: =(N15/$B$4)*100 -> 0 | Z15: =(O15/$B$4)*100 -> 0 | AA15: =SUM(S15:Z15) -> 8.179086 | AC15: =R15 -> -3.5 | AD15: =S15*100/(SUM($S15:$W15)+SUM($Y15:$Z15)) -> 100 | AE15: =T15*100/(SUM($S15:$W15)+SUM($Y15:$Z15)) -> 0 | AF15: =U15*100/(SUM($S15:$W15)+SUM($Y15:$Z15)) -> 0 | AG15: =V15*100/(SUM($S15:$W15)+SUM($Y15:$Z15)) -> 0 | AH15: =W15*100/(SUM($S15:$W15)+SUM($Y15:$Z15)) -> 0 | AI15: 0 | AJ15: =Y15*100/(SUM($S15:$W15)+SUM($Y15:$Z15)) -> 0 | AK15: =Z15*100/(SUM($S15:$W15)+SUM($Y15:$Z15)) -> 0 | AL15: =SUM(AD15:AK15) -> 100
A16: 11.3-8 | B16: -3 | C16: 35.22 | D16: =(C16/SUM($C$7:$C$33))*100 -> 9.8924248 | E16: =SUM(D6:D16) -> 20.529169 | G16: =B16 -> -3 | H16: 32.4 | I16: 2.22 | J16: 0 | K16: 0 | L16: 0 | M16: 0 | N16: 0 | O16: 0 | P16: =SUM(H16:O16) -> 34.62 | R16: =G16 -> -3 | S16: =(H16/$B$4)*100 -> 9.1003567 | T16: =(I16/$B$4)*100 -> 0.62354296 | U16: =(J16/$B$4)*100 -> 0 | V16: =(K16/$B$4)*100 -> 0 | W16: =(L16/$B$4)*100 -> 0 | X16: =(M16/$B$4)*100 -> 0 | Y16: =(N16/$B$4)*100 -> 0 | Z16: =(O16/$B$4)*100 -> 0 | AA16: =SUM(S16:Z16) -> 9.7238997 | AC16: =R16 -> -3 | AD16: =S16*100/(SUM($S16:$W16)+SUM($Y16:$Z16)) -> 93.587522 | AE16: =T16*100/(SUM($S16:$W16)+SUM($Y16:$Z16)) -> 6.4124783 | AF16: =U16*100/(SUM($S16:$W16)+SUM($Y16:$Z16)) -> 0 | AG16: =V16*100/(SUM($S16:$W16)+SUM($Y16:$Z16)) -> 0 | AH16: =W16*100/(SUM($S16:$W16)+SUM($Y16:$Z16)) -> 0 | AI16: 0 | AJ16: =Y16*100/(SUM($S16:$W16)+SUM($Y16:$Z16)) -> 0 | AK16: =Z16*100/(SUM($S16:$W16)+SUM($Y16:$Z16)) -> 0 | AL16: =SUM(AD16:AK16) -> 100
A17: 8-5,66 | B17: -2.5 | C17: 48.47 | D17: =(C17/SUM($C$7:$C$33))*100 -> 13.614021 | E17: =SUM(D6:D17) -> 34.14319 | G17: =B17 -> -2.5 | H17: 42.68 | I17: 4.48 | J17: 0 | K17: 0 | L17: 0 | M17: 0 | N17: 0 | O17: 0 | P17: =SUM(H17:O17) -> 47.16 | R17: =G17 -> -2.5 | S17: =(H17/$B$4)*100 -> 11.987754 | T17: =(I17/$B$4)*100 -> 1.2583209 | U17: =(J17/$B$4)*100 -> 0 | V17: =(K17/$B$4)*100 -> 0 | W17: =(L17/$B$4)*100 -> 0 | X17: =(M17/$B$4)*100 -> 0 | Y17: =(N17/$B$4)*100 -> 0 | Z17: =(O17/$B$4)*100 -> 0 | AA17: =SUM(S17:Z17) -> 13.246075 | AC17: =R17 -> -2.5 | AD17: =S17*100/(SUM($S17:$W17)+SUM($Y17:$Z17)) -> 90.500424 | AE17: =T17*100/(SUM($S17:$W17)+SUM($Y17:$Z17)) -> 9.4995759 | AF17: =U17*100/(SUM($S17:$W17)+SUM($Y17:$Z17)) -> 0 | AG17: =V17*100/(SUM($S17:$W17)+SUM($Y17:$Z17)) -> 0 | AH17: =W17*100/(SUM($S17:$W17)+SUM($Y17:$Z17)) -> 0 | AI17: 0 | AJ17: =Y17*100/(SUM($S17:$W17)+SUM($Y17:$Z17)) -> 0 | AK17: =Z17*100/(SUM($S17:$W17)+SUM($Y17:$Z17)) -> 0 | AL17: =SUM(AD17:AK17) -> 100
A18: 5,66-4 | B18: -2 | C18: 40.66 | D18: =(C18/SUM($C$7:$C$33))*100 -> 11.420386 | E18: =SUM(D6:D18) -> 45.563576 | G18: =B18 -> -2 | H18: 27.18 | I18: 8.67 | J18: 0 | K18: 0.99 | L18: 0 | M18: 2.27 | N18: 0 | O18: 0 | P18: =SUM(H18:O18) -> 39.11 | R18: =G18 -> -2 | S18: =(H18/$B$4)*100 -> 7.6341881 | T18: =(I18/$B$4)*100 -> 2.435188 | U18: =(J18/$B$4)*100 -> 0 | V18: =(K18/$B$4)*100 -> 0.27806646 | W18: =(L18/$B$4)*100 -> 0 | X18: =(M18/$B$4)*100 -> 0.63758672 | Y18: =(N18/$B$4)*100 -> 0 | Z18: =(O18/$B$4)*100 -> 0 | AA18: =SUM(S18:Z18) -> 10.985029 | AC18: =R18 -> -2 | AD18: =S18*100/(SUM($S18:$W18)+SUM($Y18:$Z18)) -> 73.778502 | AE18: =T18*100/(SUM($S18:$W18)+SUM($Y18:$Z18)) -> 23.534202 | AF18: =U18*100/(SUM($S18:$W18)+SUM($Y18:$Z18)) -> 0 | AG18: =V18*100/(SUM($S18:$W18)+SUM($Y18:$Z18)) -> 2.6872964 | AH18: =W18*100/(SUM($S18:$W18)+SUM($Y18:$Z18)) -> 0 | AI18: 0 | AJ18: =Y18*100/(SUM($S18:$W18)+SUM($Y18:$Z18)) -> 0 | AK18: =Z18*100/(SUM($S18:$W18)+SUM($Y18:$Z18)) -> 0 | AL18: =SUM(AD18:AK18) -> 100
