Workbook
Name cum_tot_2: MAY190403_2!$E$7:$E$33
Name cum_tot_2: MAY190403_3!$E$7:$E$33
Name cum_tot_2: MAY190404_3!$E$7:$E$33
Name cum_tot_2: MAY190405_3!$E$7:$E$33
Name cum_tot_2: MAY190405_4!$E$7:$E$33
Name cum_tot_2: MAY190405_4_aggr!$E$7:$E$33
Name cum_tot_2: MAY190405_4_no_aggr!$E$7:$E$33
Name cum_tot_2: MAY190405_5!$E$7:$E$33
Name cum_tot_2: MAY190405_6!$E$7:$E$33
Name cum_tot_2: MAY190405_7!$E$7:$E$33
Name cum_tot_2: MAY190407_9!$E$7:$E$33
Name cum_tot_2: MAY210715_1!$E$7:$E$33
Name cum_tot_2: MAY210715_10!$E$7:$E$33
Name cum_tot_2: MAY210715_2!$E$7:$E$33
Name cum_tot_2: MAY210715_2_aggr!$E$7:$E$33
Name cum_tot_2: MAY210715_2_no_aggr!$E$7:$E$33
Name cum_tot_2: MAY210715_3!$E$7:$E$33
Name cum_tot_2: MAY210715_4!$E$7:$E$33
Name cum_tot_2: MAY210715_4_aggr!$E$7:$E$33
Name cum_tot_2: MAY210715_4_no_aggr!$E$7:$E$33
Name cum_tot_2: MAY210715_5!$E$7:$E$33
Name cum_tot_2: MAY210715_5_aggr!$E$7:$E$33
Name cum_tot_2: MAY210715_5_no_aggr!$E$7:$E$33
Name cum_tot_2: MAY210715_9!$E$7:$E$33
Name cum_tot_2: MAY210715_9_aggr!$E$7:$E$33
Name cum_tot_2: MAY210715_9_no_aggr!$E$7:$E$33
Name cum_tot_2: Blank!$E$7:$E$33
Name nomFeuilles: Resume!#REF!
Name phi: MAY190403_2!$B$7:$B$33
Name phi: MAY190403_3!$B$7:$B$33
Name phi: MAY190404_3!$B$7:$B$33
Name phi: MAY190405_3!$B$7:$B$33
Name phi: MAY190405_4!$B$7:$B$33
Name phi: MAY190405_4_aggr!$B$7:$B$33
Name phi: MAY190405_4_no_aggr!$B$7:$B$33
Name phi: MAY190405_5!$B$7:$B$33
Name phi: MAY190405_6!$B$7:$B$33
Name phi: MAY190405_7!$B$7:$B$33
Name phi: MAY190407_9!$B$7:$B$33
Name phi: MAY210715_1!$B$7:$B$33
Name phi: MAY210715_10!$B$7:$B$33
Name phi: MAY210715_2!$B$7:$B$33
Name phi: MAY210715_2_aggr!$B$7:$B$33
Name phi: MAY210715_2_no_aggr!$B$7:$B$33
Name phi: MAY210715_3!$B$7:$B$33
Name phi: MAY210715_4!$B$7:$B$33
Name phi: MAY210715_4_aggr!$B$7:$B$33
Name phi: MAY210715_4_no_aggr!$B$7:$B$33
Name phi: MAY210715_5!$B$7:$B$33
Name phi: MAY210715_5_aggr!$B$7:$B$33
Name phi: MAY210715_5_no_aggr!$B$7:$B$33
Name phi: MAY210715_9!$B$7:$B$33
Name phi: MAY210715_9_aggr!$B$7:$B$33
Name phi: MAY210715_9_no_aggr!$B$7:$B$33
Name phi: Blank!$B$7:$B$33

Sheet Resume
A1: Graphical Parameters
A2: FACIES | D2: Ba | E2: Ba | F2: Fb | G2: Fb | H2: Fb | I2: Fb | J2: Fb | K2: Fb | L2: Fb | M2: M | N2: Pa | O2: Pa | P2: Pa | Q2: Pa | R2: Pb
A3: Sample name | D3: =MAY190405_6!$D2 -> MAY190405_6 | E3: =MAY210715_10!$D2 -> MAY210715_10 | F3: =MAY190407_9!$D2 -> MAY190407_9 | G3: =MAY210715_1!$D2 -> MAY210715_1 | H3: =MAY190405_4!$D2 -> MAY190405_4 | I3: =MAY190404_3!$D2 -> MAY190404_3 | J3: =MAY190403_3!$D2 -> MAY190403_3 | K3: =MAY210715_2!$D2 -> MAY210715_2 | L3: =MAY210715_3!$D2 -> MAY210715_3 | M3: =MAY210715_9!$D2 -> MAY210715_9 | N3: =MAY190405_5!$D2 -> MAY190405_5 | O3: =MAY190405_3!$D2 -> MAY190405_3 | P3: =MAY210715_4!$D2 -> MAY210715_4 | Q3: =MAY210715_5!$D2 -> MAY210715_5 | R3: =MAY190405_7!$D2 -> MAY190405_7
O4: µ
A6: Granulometry | H6: =MAY190405_4_no_aggr!D2 -> MAY190405_4_no_aggr | K6: MAY210715_2_no_aggr | M6: =MAY210715_9_no_aggr!D2 -> MAY210715_9_no_aggr | O6: MAY190405_3_no_aggr | P6: MAY210715_4_no_aggr | Q6: MAY210715_5_no_aggr
A8: Φ5% | D8: =IF(D45>0,INDIRECT(D$6&"!"&ADDRESS(69,3)),INDIRECT(D$3&"!"&ADDRESS(69,3))) -> -3.3169413 | E8: =IF(E45>0,INDIRECT(E$6&"!"&ADDRESS(69,3)),INDIRECT(E$3&"!"&ADDRESS(69,3))) -> -4.5248424 | F8: =IF(F45>0,INDIRECT(F$6&"!"&ADDRESS(69,3)),INDIRECT(F$3&"!"&ADDRESS(69,3))) -> -3.9048032 | G8: =IF(G45>0,INDIRECT(G$6&"!"&ADDRESS(69,3)),INDIRECT(G$3&"!"&ADDRESS(69,3))) -> -4.2543493 | H8: =IF(H45>0,INDIRECT(H$6&"!"&ADDRESS(69,3)),INDIRECT(H$3&"!"&ADDRESS(69,3))) -> -4.5542954 | I8: =IF(I45>0,INDIRECT(I$6&"!"&ADDRESS(69,3)),INDIRECT(I$3&"!"&ADDRESS(69,3))) -> -5.2520416 | J8: =IF(J45>0,INDIRECT(J$6&"!"&ADDRESS(69,3)),INDIRECT(J$3&"!"&ADDRESS(69,3))) -> -4.7317885 | K8: =IF(K45>0,INDIRECT(K$6&"!"&ADDRESS(69,3)),INDIRECT(K$3&"!"&ADDRESS(69,3))) -> -4.4688578 | ... R8: =IF(R45>0,INDIRECT(R$6&"!"&ADDRESS(69,3)),INDIRECT(R$3&"!"&ADDRESS(69,3))) -> -4.3436179
A9: Φ16% | D9: =IF(D45>0,INDIRECT(D$6&"!"&ADDRESS(70,3)),INDIRECT(D$3&"!"&ADDRESS(70,3))) -> -2.7169268 | E9: =IF(E45>0,INDIRECT(E$6&"!"&ADDRESS(70,3)),INDIRECT(E$3&"!"&ADDRESS(70,3))) -> -3.7399909 | F9: =IF(F45>0,INDIRECT(F$6&"!"&ADDRESS(70,3)),INDIRECT(F$3&"!"&ADDRESS(70,3))) -> -3.1387112 | G9: =IF(G45>0,INDIRECT(G$6&"!"&ADDRESS(70,3)),INDIRECT(G$3&"!"&ADDRESS(70,3))) -> -3.794549 | H9: =IF(H45>0,INDIRECT(H$6&"!"&ADDRESS(70,3)),INDIRECT(H$3&"!"&ADDRESS(70,3))) -> -2.4588737 | I9: =IF(I45>0,INDIRECT(I$6&"!"&ADDRESS(70,3)),INDIRECT(I$3&"!"&ADDRESS(70,3))) -> -4.243723 | J9: =IF(J45>0,INDIRECT(J$6&"!"&ADDRESS(70,3)),INDIRECT(J$3&"!"&ADDRESS(70,3))) -> -3.3714209 | K9: =IF(K45>0,INDIRECT(K$6&"!"&ADDRESS(70,3)),INDIRECT(K$3&"!"&ADDRESS(70,3))) -> -3.7176847 | ... R9: =IF(R45>0,INDIRECT(R$6&"!"&ADDRESS(70,3)),INDIRECT(R$3&"!"&ADDRESS(70,3))) -> -3.5808003
A10: Φ25% | D10: =IF(D45>0,INDIRECT(D$6&"!"&ADDRESS(71,3)),INDIRECT(D$3&"!"&ADDRESS(71,3))) -> -2.3314191 | E10: =IF(E45>0,INDIRECT(E$6&"!"&ADDRESS(71,3)),INDIRECT(E$3&"!"&ADDRESS(71,3))) -> -3.3515403 | F10: =IF(F45>0,INDIRECT(F$6&"!"&ADDRESS(71,3)),INDIRECT(F$3&"!"&ADDRESS(71,3))) -> -2.788202 | G10: =IF(G45>0,INDIRECT(G$6&"!"&ADDRESS(71,3)),INDIRECT(G$3&"!"&ADDRESS(71,3))) -> -3.4806132 | H10: =IF(H45>0,INDIRECT(H$6&"!"&ADDRESS(71,3)),INDIRECT(H$3&"!"&ADDRESS(71,3))) -> -1.9376424 | I10: =IF(I45>0,INDIRECT(I$6&"!"&ADDRESS(71,3)),INDIRECT(I$3&"!"&ADDRESS(71,3))) -> -3.4435432 | J10: =IF(J45>0,INDIRECT(J$6&"!"&ADDRESS(71,3)),INDIRECT(J$3&"!"&ADDRESS(71,3))) -> -2.7579975 | K10: =IF(K45>0,INDIRECT(K$6&"!"&ADDRESS(71,3)),INDIRECT(K$3&"!"&ADDRESS(71,3))) -> -3.1192927 | ... R10: =IF(R45>0,INDIRECT(R$6&"!"&ADDRESS(71,3)),INDIRECT(R$3&"!"&ADDRESS(71,3))) -> -3.1970376
A11: Φ50% | D11: =IF(D45>0,INDIRECT(D$6&"!"&ADDRESS(72,3)),INDIRECT(D$3&"!"&ADDRESS(72,3))) -> -0.94428758 | E11: =IF(E45>0,INDIRECT(E$6&"!"&ADDRESS(72,3)),INDIRECT(E$3&"!"&ADDRESS(72,3))) -> -2.2546604 | F11: =IF(F45>0,INDIRECT(F$6&"!"&ADDRESS(72,3)),INDIRECT(F$3&"!"&ADDRESS(72,3))) -> -1.9202959 | G11: =IF(G45>0,INDIRECT(G$6&"!"&ADDRESS(72,3)),INDIRECT(G$3&"!"&ADDRESS(72,3))) -> -2.6750765 | H11: =IF(H45>0,INDIRECT(H$6&"!"&ADDRESS(72,3)),INDIRECT(H$3&"!"&ADDRESS(72,3))) -> -0.90570221 | I11: =IF(I45>0,INDIRECT(I$6&"!"&ADDRESS(72,3)),INDIRECT(I$3&"!"&ADDRESS(72,3))) -> -2.1572482 | J11: =IF(J45>0,INDIRECT(J$6&"!"&ADDRESS(72,3)),INDIRECT(J$3&"!"&ADDRESS(72,3))) -> -1.3468324 | K11: =IF(K45>0,INDIRECT(K$6&"!"&ADDRESS(72,3)),INDIRECT(K$3&"!"&ADDRESS(72,3))) -> -1.9595294 | ... R11: =IF(R45>0,INDIRECT(R$6&"!"&ADDRESS(72,3)),INDIRECT(R$3&"!"&ADDRESS(72,3))) -> -2.1616019
A12: Φ75% | D12: =IF(D45>0,INDIRECT(D$6&"!"&ADDRESS(73,3)),INDIRECT(D$3&"!"&ADDRESS(73,3))) -> 1.0394377 | E12: =IF(E45>0,INDIRECT(E$6&"!"&ADDRESS(73,3)),INDIRECT(E$3&"!"&ADDRESS(73,3))) -> -0.73356206 | F12: =IF(F45>0,INDIRECT(F$6&"!"&ADDRESS(73,3)),INDIRECT(F$3&"!"&ADDRESS(73,3))) -> -0.64908454 | G12: =IF(G45>0,INDIRECT(G$6&"!"&ADDRESS(73,3)),INDIRECT(G$3&"!"&ADDRESS(73,3))) -> -1.1487755 | H12: =IF(H45>0,INDIRECT(H$6&"!"&ADDRESS(73,3)),INDIRECT(H$3&"!"&ADDRESS(73,3))) -> 0.5523495 | I12: =IF(I45>0,INDIRECT(I$6&"!"&ADDRESS(73,3)),INDIRECT(I$3&"!"&ADDRESS(73,3))) -> -0.40140073 | J12: =IF(J45>0,INDIRECT(J$6&"!"&ADDRESS(73,3)),INDIRECT(J$3&"!"&ADDRESS(73,3))) -> 0.25599442 | K12: =IF(K45>0,INDIRECT(K$6&"!"&ADDRESS(73,3)),INDIRECT(K$3&"!"&ADDRESS(73,3))) -> -0.61213375 | ... R12: =IF(R45>0,INDIRECT(R$6&"!"&ADDRESS(73,3)),INDIRECT(R$3&"!"&ADDRESS(73,3))) -> -0.45013961
A13: Φ84% | D13: =IF(D45>0,INDIRECT(D$6&"!"&ADDRESS(74,3)),INDIRECT(D$3&"!"&ADDRESS(74,3))) -> 1.9523895 | E13: =IF(E45>0,INDIRECT(E$6&"!"&ADDRESS(74,3)),INDIRECT(E$3&"!"&ADDRESS(74,3))) -> 0.14282183 | F13: =IF(F45>0,INDIRECT(F$6&"!"&ADDRESS(74,3)),INDIRECT(F$3&"!"&ADDRESS(74,3))) -> 0.17745543 | G13: =IF(G45>0,INDIRECT(G$6&"!"&ADDRESS(74,3)),INDIRECT(G$3&"!"&ADDRESS(74,3))) -> 0.24451694 | H13: =IF(H45>0,INDIRECT(H$6&"!"&ADDRESS(74,3)),INDIRECT(H$3&"!"&ADDRESS(74,3))) -> 1.5090368 | I13: =IF(I45>0,INDIRECT(I$6&"!"&ADDRESS(74,3)),INDIRECT(I$3&"!"&ADDRESS(74,3))) -> 0.95169555 | J13: =IF(J45>0,INDIRECT(J$6&"!"&ADDRESS(74,3)),INDIRECT(J$3&"!"&ADDRESS(74,3))) -> 1.4180567 | K13: =IF(K45>0,INDIRECT(K$6&"!"&ADDRESS(74,3)),INDIRECT(K$3&"!"&ADDRESS(74,3))) -> 0.39844421 | ... R13: =IF(R45>0,INDIRECT(R$6&"!"&ADDRESS(74,3)),INDIRECT(R$3&"!"&ADDRESS(74,3))) -> 0.5849081
A14: Φ95% | D14: =IF(D45>0,INDIRECT(D$6&"!"&ADDRESS(75,3)),INDIRECT(D$3&"!"&ADDRESS(75,3))) -> 4.0402314 | E14: =IF(E45>0,INDIRECT(E$6&"!"&ADDRESS(75,3)),INDIRECT(E$3&"!"&ADDRESS(75,3))) -> 3.5202721 | F14: =IF(F45>0,INDIRECT(F$6&"!"&ADDRESS(75,3)),INDIRECT(F$3&"!"&ADDRESS(75,3))) -> 2.9208756 | G14: =IF(G45>0,INDIRECT(G$6&"!"&ADDRESS(75,3)),INDIRECT(G$3&"!"&ADDRESS(75,3))) -> 6 | H14: =IF(H45>0,INDIRECT(H$6&"!"&ADDRESS(75,3)),INDIRECT(H$3&"!"&ADDRESS(75,3))) -> 3.7109556 | I14: =IF(I45>0,INDIRECT(I$6&"!"&ADDRESS(75,3)),INDIRECT(I$3&"!"&ADDRESS(75,3))) -> 4.1480421 | J14: =IF(J45>0,INDIRECT(J$6&"!"&ADDRESS(75,3)),INDIRECT(J$3&"!"&ADDRESS(75,3))) -> 4.1841663 | K14: =IF(K45>0,INDIRECT(K$6&"!"&ADDRESS(75,3)),INDIRECT(K$3&"!"&ADDRESS(75,3))) -> 3.211299 | ... R14: =IF(R45>0,INDIRECT(R$6&"!"&ADDRESS(75,3)),INDIRECT(R$3&"!"&ADDRESS(75,3))) -> 3.1191537
A16: MzΦ | D16: =IF(D45>0,INDIRECT(D$6&"!"&ADDRESS(85,4)),INDIRECT(D$3&"!"&ADDRESS(85,4))) -> -0.56960828 | E16: =IF(E45>0,INDIRECT(E$6&"!"&ADDRESS(85,4)),INDIRECT(E$3&"!"&ADDRESS(85,4))) -> -1.9506098 | F16: =IF(F45>0,INDIRECT(F$6&"!"&ADDRESS(85,4)),INDIRECT(F$3&"!"&ADDRESS(85,4))) -> -1.6271839 | G16: =IF(G45>0,INDIRECT(G$6&"!"&ADDRESS(85,4)),INDIRECT(G$3&"!"&ADDRESS(85,4))) -> -2.0750362 | H16: =IF(H45>0,INDIRECT(H$6&"!"&ADDRESS(85,4)),INDIRECT(H$3&"!"&ADDRESS(85,4))) -> -0.61851302 | I16: =IF(I45>0,INDIRECT(I$6&"!"&ADDRESS(85,4)),INDIRECT(I$3&"!"&ADDRESS(85,4))) -> -1.8164252 | J16: =IF(J45>0,INDIRECT(J$6&"!"&ADDRESS(85,4)),INDIRECT(J$3&"!"&ADDRESS(85,4))) -> -1.1000656 | K16: =IF(K45>0,INDIRECT(K$6&"!"&ADDRESS(85,4)),INDIRECT(K$3&"!"&ADDRESS(85,4))) -> -1.75959 | ... R16: =IF(R45>0,INDIRECT(R$6&"!"&ADDRESS(85,4)),INDIRECT(R$3&"!"&ADDRESS(85,4))) -> -1.7191647
A17: MdΦ | D17: =IF(D45>0,INDIRECT(D$6&"!"&ADDRESS(86,4)),INDIRECT(D$3&"!"&ADDRESS(86,4))) -> -0.94428758 | E17: =IF(E45>0,INDIRECT(E$6&"!"&ADDRESS(86,4)),INDIRECT(E$3&"!"&ADDRESS(86,4))) -> -2.2546604 | F17: =IF(F45>0,INDIRECT(F$6&"!"&ADDRESS(86,4)),INDIRECT(F$3&"!"&ADDRESS(86,4))) -> -1.9202959 | G17: =IF(G45>0,INDIRECT(G$6&"!"&ADDRESS(86,4)),INDIRECT(G$3&"!"&ADDRESS(86,4))) -> -2.6750765 | H17: =IF(H45>0,INDIRECT(H$6&"!"&ADDRESS(86,4)),INDIRECT(H$3&"!"&ADDRESS(86,4))) -> -0.90570221 | I17: =IF(I45>0,INDIRECT(I$6&"!"&ADDRESS(86,4)),INDIRECT(I$3&"!"&ADDRESS(86,4))) -> -2.1572482 | J17: =IF(J45>0,INDIRECT(J$6&"!"&ADDRESS(86,4)),INDIRECT(J$3&"!"&ADDRESS(86,4))) -> -1.3468324 | K17: =IF(K45>0,INDIRECT(K$6&"!"&ADDRESS(86,4)),INDIRECT(K$3&"!"&ADDRESS(86,4))) -> -1.9595294 | ... R17: =IF(R45>0,INDIRECT(R$6&"!"&ADDRESS(86,4)),INDIRECT(R$3&"!"&ADDRESS(86,4))) -> -2.1616019
A18: σΦ | D18: =IF(D45>0,INDIRECT(D$6&"!"&ADDRESS(87,4)),INDIRECT(D$3&"!"&ADDRESS(87,4))) -> 2.3346581 | E18: =IF(E45>0,INDIRECT(E$6&"!"&ADDRESS(87,4)),INDIRECT(E$3&"!"&ADDRESS(87,4))) -> 1.9414064 | F18: =IF(F45>0,INDIRECT(F$6&"!"&ADDRESS(87,4)),INDIRECT(F$3&"!"&ADDRESS(87,4))) -> 1.6580833 | G18: =IF(G45>0,INDIRECT(G$6&"!"&ADDRESS(87,4)),INDIRECT(G$3&"!"&ADDRESS(87,4))) -> 2.019533 | H18: =IF(H45>0,INDIRECT(H$6&"!"&ADDRESS(87,4)),INDIRECT(H$3&"!"&ADDRESS(87,4))) -> 1.9839553 | I18: =IF(I45>0,INDIRECT(I$6&"!"&ADDRESS(87,4)),INDIRECT(I$3&"!"&ADDRESS(87,4))) -> 2.5977093 | J18: =IF(J45>0,INDIRECT(J$6&"!"&ADDRESS(87,4)),INDIRECT(J$3&"!"&ADDRESS(87,4))) -> 2.3947388 | K18: =IF(K45>0,INDIRECT(K$6&"!"&ADDRESS(87,4)),INDIRECT(K$3&"!"&ADDRESS(87,4))) -> 2.0580645 | ... R18: =IF(R45>0,INDIRECT(R$6&"!"&ADDRESS(87,4)),INDIRECT(R$3&"!"&ADDRESS(87,4))) -> 2.0828542
A19: aΦ | D19: =IF(D45>0,INDIRECT(D$6&"!"&ADDRESS(88,4)),INDIRECT(D$3&"!"&ADDRESS(88,4))) -> 0.076992135 | E19: =IF(E45>0,INDIRECT(E$6&"!"&ADDRESS(88,4)),INDIRECT(E$3&"!"&ADDRESS(88,4))) -> -0.69151347 | F19: =IF(F45>0,INDIRECT(F$6&"!"&ADDRESS(88,4)),INDIRECT(F$3&"!"&ADDRESS(88,4))) -> -0.62780916 | G19: =IF(G45>0,INDIRECT(G$6&"!"&ADDRESS(88,4)),INDIRECT(G$3&"!"&ADDRESS(88,4))) -> -0.43324651 | H19: =IF(H45>0,INDIRECT(H$6&"!"&ADDRESS(88,4)),INDIRECT(H$3&"!"&ADDRESS(88,4))) -> -0.022245793 | I19: =IF(I45>0,INDIRECT(I$6&"!"&ADDRESS(88,4)),INDIRECT(I$3&"!"&ADDRESS(88,4))) -> -0.43683846 | J19: =IF(J45>0,INDIRECT(J$6&"!"&ADDRESS(88,4)),INDIRECT(J$3&"!"&ADDRESS(88,4))) -> -0.25327682 | K19: =IF(K45>0,INDIRECT(K$6&"!"&ADDRESS(88,4)),INDIRECT(K$3&"!"&ADDRESS(88,4))) -> -0.6606747 | ... R19: =IF(R45>0,INDIRECT(R$6&"!"&ADDRESS(88,4)),INDIRECT(R$3&"!"&ADDRESS(88,4))) -> -0.40055149
A20: Inclusive graphic standard deviation | D20: =IF(D45>0,INDIRECT(D$6&"!"&ADDRESS(89,4)),INDIRECT(D$3&"!"&ADDRESS(89,4))) -> 2.2820522 | E20: =IF(E45>0,INDIRECT(E$6&"!"&ADDRESS(89,4)),INDIRECT(E$3&"!"&ADDRESS(89,4))) -> 2.1896599 | F20: =IF(F45>0,INDIRECT(F$6&"!"&ADDRESS(89,4)),INDIRECT(F$3&"!"&ADDRESS(89,4))) -> 1.8632354 | G20: =IF(G45>0,INDIRECT(G$6&"!"&ADDRESS(89,4)),INDIRECT(G$3&"!"&ADDRESS(89,4))) -> 2.5634558 | H20: =IF(H45>0,INDIRECT(H$6&"!"&ADDRESS(89,4)),INDIRECT(H$3&"!"&ADDRESS(89,4))) -> 2.2442884 | I20: =IF(I45>0,INDIRECT(I$6&"!"&ADDRESS(89,4)),INDIRECT(I$3&"!"&ADDRESS(89,4))) -> 2.7231098 | J20: =IF(J45>0,INDIRECT(J$6&"!"&ADDRESS(89,4)),INDIRECT(J$3&"!"&ADDRESS(89,4))) -> 2.5482716 | K20: =IF(K45>0,INDIRECT(K$6&"!"&ADDRESS(89,4)),INDIRECT(K$3&"!"&ADDRESS(89,4))) -> 2.1926924 | ... R20: =IF(R45>0,INDIRECT(R$6&"!"&ADDRESS(89,4)),INDIRECT(R$3&"!"&ADDRESS(89,4))) -> 2.1721501
A21: Inclusive graphic skewness | D21: =IF(D45>0,INDIRECT(D$6&"!"&ADDRESS(90,4)),INDIRECT(D$3&"!"&ADDRESS(90,4))) -> 0.29786898 | E21: =IF(E45>0,INDIRECT(E$6&"!"&ADDRESS(90,4)),INDIRECT(E$3&"!"&ADDRESS(90,4))) -> 0.33527874 | F21: =IF(F45>0,INDIRECT(F$6&"!"&ADDRESS(90,4)),INDIRECT(F$3&"!"&ADDRESS(90,4))) -> 0.34184182 | G21: =IF(G45>0,INDIRECT(G$6&"!"&ADDRESS(90,4)),INDIRECT(G$3&"!"&ADDRESS(90,4))) -> 0.5688287 | H21: =IF(H45>0,INDIRECT(H$6&"!"&ADDRESS(90,4)),INDIRECT(H$3&"!"&ADDRESS(90,4))) -> 0.16712923 | I21: =IF(I45>0,INDIRECT(I$6&"!"&ADDRESS(90,4)),INDIRECT(I$3&"!"&ADDRESS(90,4))) -> 0.26917059 | J21: =IF(J45>0,INDIRECT(J$6&"!"&ADDRESS(90,4)),INDIRECT(J$3&"!"&ADDRESS(90,4))) -> 0.19763252 | K21: =IF(K45>0,INDIRECT(K$6&"!"&ADDRESS(90,4)),INDIRECT(K$3&"!"&ADDRESS(90,4))) -> 0.24613314 | ... R21: =IF(R45>0,INDIRECT(R$6&"!"&ADDRESS(90,4)),INDIRECT(R$3&"!"&ADDRESS(90,4))) -> 0.36692721
A22: Graphic kurtosis | D22: =IF(D45>0,INDIRECT(D$6&"!"&ADDRESS(91,4)),INDIRECT(D$3&"!"&ADDRESS(91,4))) -> 0.64065664 | E22: =IF(E45>0,INDIRECT(E$6&"!"&ADDRESS(91,4)),INDIRECT(E$3&"!"&ADDRESS(91,4))) -> 0.7307078 | F22: =IF(F45>0,INDIRECT(F$6&"!"&ADDRESS(91,4)),INDIRECT(F$3&"!"&ADDRESS(91,4))) -> 0.78212481 | G22: =IF(G45>0,INDIRECT(G$6&"!"&ADDRESS(91,4)),INDIRECT(G$3&"!"&ADDRESS(91,4))) -> 0.79070581 | H22: =IF(H45>0,INDIRECT(H$6&"!"&ADDRESS(91,4)),INDIRECT(H$3&"!"&ADDRESS(91,4))) -> 0.99798408 | I22: =IF(I45>0,INDIRECT(I$6&"!"&ADDRESS(91,4)),INDIRECT(I$3&"!"&ADDRESS(91,4))) -> 0.83576469 | J22: =IF(J45>0,INDIRECT(J$6&"!"&ADDRESS(91,4)),INDIRECT(J$3&"!"&ADDRESS(91,4))) -> 0.83624257 | K22: =IF(K45>0,INDIRECT(K$6&"!"&ADDRESS(91,4)),INDIRECT(K$3&"!"&ADDRESS(91,4))) -> 0.79564 | ... R22: =IF(R45>0,INDIRECT(R$6&"!"&ADDRESS(91,4)),INDIRECT(R$3&"!"&ADDRESS(91,4))) -> 0.73533408
A23: Graphic mean | D23: =IF(D45>0,INDIRECT(D$6&"!"&ADDRESS(92,4)),INDIRECT(D$3&"!"&ADDRESS(92,4))) -> -0.56960828 | E23: =IF(E45>0,INDIRECT(E$6&"!"&ADDRESS(92,4)),INDIRECT(E$3&"!"&ADDRESS(92,4))) -> -1.9506098 | F23: =IF(F45>0,INDIRECT(F$6&"!"&ADDRESS(92,4)),INDIRECT(F$3&"!"&ADDRESS(92,4))) -> -1.6271839 | G23: =IF(G45>0,INDIRECT(G$6&"!"&ADDRESS(92,4)),INDIRECT(G$3&"!"&ADDRESS(92,4))) -> -2.0750362 | H23: =IF(H45>0,INDIRECT(H$6&"!"&ADDRESS(92,4)),INDIRECT(H$3&"!"&ADDRESS(92,4))) -> -0.61851302 | I23: =IF(I45>0,INDIRECT(I$6&"!"&ADDRESS(92,4)),INDIRECT(I$3&"!"&ADDRESS(92,4))) -> -1.8164252 | J23: =IF(J45>0,INDIRECT(J$6&"!"&ADDRESS(92,4)),INDIRECT(J$3&"!"&ADDRESS(92,4))) -> -1.1000656 | K23: =IF(K45>0,INDIRECT(K$6&"!"&ADDRESS(92,4)),INDIRECT(K$3&"!"&ADDRESS(92,4))) -> -1.75959 | ... R23: =IF(R45>0,INDIRECT(R$6&"!"&ADDRESS(92,4)),INDIRECT(R$3&"!"&ADDRESS(92,4))) -> -1.7191647
A24: MΦ | D24: =IF(D45>0,INDIRECT(D$6&"!"&ADDRESS(94,4)),INDIRECT(D$3&"!"&ADDRESS(94,4))) -> -0.38226863 | E24: =IF(E45>0,INDIRECT(E$6&"!"&ADDRESS(94,4)),INDIRECT(E$3&"!"&ADDRESS(94,4))) -> -1.7985845 | F24: =IF(F45>0,INDIRECT(F$6&"!"&ADDRESS(94,4)),INDIRECT(F$3&"!"&ADDRESS(94,4))) -> -1.4806279 | G24: =IF(G45>0,INDIRECT(G$6&"!"&ADDRESS(94,4)),INDIRECT(G$3&"!"&ADDRESS(94,4))) -> -1.775016 | H24: =IF(H45>0,INDIRECT(H$6&"!"&ADDRESS(94,4)),INDIRECT(H$3&"!"&ADDRESS(94,4))) -> -0.47491843 | I24: =IF(I45>0,INDIRECT(I$6&"!"&ADDRESS(94,4)),INDIRECT(I$3&"!"&ADDRESS(94,4))) -> -1.6460137 | J24: =IF(J45>0,INDIRECT(J$6&"!"&ADDRESS(94,4)),INDIRECT(J$3&"!"&ADDRESS(94,4))) -> -0.97668213 | K24: =IF(K45>0,INDIRECT(K$6&"!"&ADDRESS(94,4)),INDIRECT(K$3&"!"&ADDRESS(94,4))) -> -1.6596203 | ... R24: =IF(R45>0,INDIRECT(R$6&"!"&ADDRESS(94,4)),INDIRECT(R$3&"!"&ADDRESS(94,4))) -> -1.4979461
A25: F1 | D25: =IF(D45>0,INDIRECT(D$6&"!"&ADDRESS(95,4)),INDIRECT(D$3&"!"&ADDRESS(95,4))) -> 31.532507 | E25: =IF(E45>0,INDIRECT(E$6&"!"&ADDRESS(95,4)),INDIRECT(E$3&"!"&ADDRESS(95,4))) -> 13.325942 | F25: =IF(F45>0,INDIRECT(F$6&"!"&ADDRESS(95,4)),INDIRECT(F$3&"!"&ADDRESS(95,4))) -> 13.266911 | G25: =IF(G45>0,INDIRECT(G$6&"!"&ADDRESS(95,4)),INDIRECT(G$3&"!"&ADDRESS(95,4))) -> 15.058709 | H25: =IF(H45>0,INDIRECT(H$6&"!"&ADDRESS(95,4)),INDIRECT(H$3&"!"&ADDRESS(95,4))) -> 25.558714 | I25: =IF(I45>0,INDIRECT(I$6&"!"&ADDRESS(95,4)),INDIRECT(I$3&"!"&ADDRESS(95,4))) -> 18.407471 | J25: =IF(J45>0,INDIRECT(J$6&"!"&ADDRESS(95,4)),INDIRECT(J$3&"!"&ADDRESS(95,4))) -> 22.448146 | K25: =IF(K45>0,INDIRECT(K$6&"!"&ADDRESS(95,4)),INDIRECT(K$3&"!"&ADDRESS(95,4))) -> 15.289727 | ... R25: =IF(R45>0,INDIRECT(R$6&"!"&ADDRESS(95,4)),INDIRECT(R$3&"!"&ADDRESS(95,4))) -> 16.59854
A26: F2 | D26: =IF(D45>0,INDIRECT(D$6&"!"&ADDRESS(96,4)),INDIRECT(D$3&"!"&ADDRESS(96,4))) -> 5.4375179 | E26: =IF(E45>0,INDIRECT(E$6&"!"&ADDRESS(96,4)),INDIRECT(E$3&"!"&ADDRESS(96,4))) -> 4.0610732 | F26: =IF(F45>0,INDIRECT(F$6&"!"&ADDRESS(96,4)),INDIRECT(F$3&"!"&ADDRESS(96,4))) -> 3.4897676 | G26: =IF(G45>0,INDIRECT(G$6&"!"&ADDRESS(96,4)),INDIRECT(G$3&"!"&ADDRESS(96,4))) -> 9.132304 | H26: =IF(H45>0,INDIRECT(H$6&"!"&ADDRESS(96,4)),INDIRECT(H$3&"!"&ADDRESS(96,4))) -> 3.7347755 | I26: =IF(I45>0,INDIRECT(I$6&"!"&ADDRESS(96,4)),INDIRECT(I$3&"!"&ADDRESS(96,4))) -> 7.1031228 | J26: =IF(J45>0,INDIRECT(J$6&"!"&ADDRESS(96,4)),INDIRECT(J$3&"!"&ADDRESS(96,4))) -> 7.915557 | K26: =IF(K45>0,INDIRECT(K$6&"!"&ADDRESS(96,4)),INDIRECT(K$3&"!"&ADDRESS(96,4))) -> 1.2241351 | ... R26: =IF(R45>0,INDIRECT(R$6&"!"&ADDRESS(96,4)),INDIRECT(R$3&"!"&ADDRESS(96,4))) -> 0.65328467
A28: Block and bombs | D28: =IF(D45>0,INDIRECT(D$6&"!"&ADDRESS(77,2)),INDIRECT(D$3&"!"&ADDRESS(77,2))) -> 0 | E28: =IF(E45>0,INDIRECT(E$6&"!"&ADDRESS(77,2)),INDIRECT(E$3&"!"&ADDRESS(77,2))) -> 0 | F28: =IF(F45>0,INDIRECT(F$6&"!"&ADDRESS(77,2)),INDIRECT(F$3&"!"&ADDRESS(77,2))) -> 0 | G28: =IF(G45>0,INDIRECT(G$6&"!"&ADDRESS(77,2)),INDIRECT(G$3&"!"&ADDRESS(77,2))) -> 0 | H28: =IF(H45>0,INDIRECT(H$6&"!"&ADDRESS(77,2)),INDIRECT(H$3&"!"&ADDRESS(77,2))) -> 0 | I28: =IF(I45>0,INDIRECT(I$6&"!"&ADDRESS(77,2)),INDIRECT(I$3&"!"&ADDRESS(77,2))) -> 0 | J28: =IF(J45>0,INDIRECT(J$6&"!"&ADDRESS(77,2)),INDIRECT(J$3&"!"&ADDRESS(77,2))) -> 0 | K28: =IF(K45>0,INDIRECT(K$6&"!"&ADDRESS(77,2)),INDIRECT(K$3&"!"&ADDRESS(77,2))) -> 0 | ... R28: =IF(R45>0,INDIRECT(R$6&"!"&ADDRESS(77,2)),INDIRECT(R$3&"!"&ADDRESS(77,2))) -> 0
A29: Lapilli | D29: =IF(D45>0,INDIRECT(D$6&"!"&ADDRESS(78,2)),INDIRECT(D$3&"!"&ADDRESS(78,2))) -> 0.49182939 | E29: =IF(E45>0,INDIRECT(E$6&"!"&ADDRESS(78,2)),INDIRECT(E$3&"!"&ADDRESS(78,2))) -> 0.71593439 | F29: =IF(F45>0,INDIRECT(F$6&"!"&ADDRESS(78,2)),INDIRECT(F$3&"!"&ADDRESS(78,2))) -> 0.69923645 | G29: =IF(G45>0,INDIRECT(G$6&"!"&ADDRESS(78,2)),INDIRECT(G$3&"!"&ADDRESS(78,2))) -> 0.76685004 | H29: =IF(H45>0,INDIRECT(H$6&"!"&ADDRESS(78,2)),INDIRECT(H$3&"!"&ADDRESS(78,2))) -> 0.47886478 | I29: =IF(I45>0,INDIRECT(I$6&"!"&ADDRESS(78,2)),INDIRECT(I$3&"!"&ADDRESS(78,2))) -> 0.68786023 | J29: =IF(J45>0,INDIRECT(J$6&"!"&ADDRESS(78,2)),INDIRECT(J$3&"!"&ADDRESS(78,2))) -> 0.56534417 | K29: =IF(K45>0,INDIRECT(K$6&"!"&ADDRESS(78,2)),INDIRECT(K$3&"!"&ADDRESS(78,2))) -> 0.69859161 | ... R29: =IF(R45>0,INDIRECT(R$6&"!"&ADDRESS(78,2)),INDIRECT(R$3&"!"&ADDRESS(78,2))) -> 0.68476277
A30: Ash | D30: =IF(D45>0,INDIRECT(D$6&"!"&ADDRESS(79,2)),INDIRECT(D$3&"!"&ADDRESS(79,2))) -> 0.50817061 | E30: =IF(E45>0,INDIRECT(E$6&"!"&ADDRESS(79,2)),INDIRECT(E$3&"!"&ADDRESS(79,2))) -> 0.28406561 | F30: =IF(F45>0,INDIRECT(F$6&"!"&ADDRESS(79,2)),INDIRECT(F$3&"!"&ADDRESS(79,2))) -> 0.30076355 | G30: =IF(G45>0,INDIRECT(G$6&"!"&ADDRESS(79,2)),INDIRECT(G$3&"!"&ADDRESS(79,2))) -> 0.23314996 | H30: =IF(H45>0,INDIRECT(H$6&"!"&ADDRESS(79,2)),INDIRECT(H$3&"!"&ADDRESS(79,2))) -> 0.52113522 | I30: =IF(I45>0,INDIRECT(I$6&"!"&ADDRESS(79,2)),INDIRECT(I$3&"!"&ADDRESS(79,2))) -> 0.31213977 | J30: =IF(J45>0,INDIRECT(J$6&"!"&ADDRESS(79,2)),INDIRECT(J$3&"!"&ADDRESS(79,2))) -> 0.43465583 | K30: =IF(K45>0,INDIRECT(K$6&"!"&ADDRESS(79,2)),INDIRECT(K$3&"!"&ADDRESS(79,2))) -> 0.30140839 | ... R30: =IF(R45>0,INDIRECT(R$6&"!"&ADDRESS(79,2)),INDIRECT(R$3&"!"&ADDRESS(79,2))) -> 0.31523723
A32: Lapilli (%) | D32: =IF(D45>0,INDIRECT(D$6&"!"&ADDRESS(77,5)),INDIRECT(D$3&"!"&ADDRESS(77,5))) -> 49.182939 | E32: =IF(E45>0,INDIRECT(E$6&"!"&ADDRESS(77,5)),INDIRECT(E$3&"!"&ADDRESS(77,5))) -> 71.593439 | F32: =IF(F45>0,INDIRECT(F$6&"!"&ADDRESS(77,5)),INDIRECT(F$3&"!"&ADDRESS(77,5))) -> 69.923645 | G32: =IF(G45>0,INDIRECT(G$6&"!"&ADDRESS(77,5)),INDIRECT(G$3&"!"&ADDRESS(77,5))) -> 76.685004 | H32: =IF(H45>0,INDIRECT(H$6&"!"&ADDRESS(77,5)),INDIRECT(H$3&"!"&ADDRESS(77,5))) -> 47.886478 | I32: =IF(I45>0,INDIRECT(I$6&"!"&ADDRESS(77,5)),INDIRECT(I$3&"!"&ADDRESS(77,5))) -> 68.786023 | J32: =IF(J45>0,INDIRECT(J$6&"!"&ADDRESS(77,5)),INDIRECT(J$3&"!"&ADDRESS(77,5))) -> 56.534417 | K32: =IF(K45>0,INDIRECT(K$6&"!"&ADDRESS(77,5)),INDIRECT(K$3&"!"&ADDRESS(77,5))) -> 69.859161 | ... R32: =IF(R45>0,INDIRECT(R$6&"!"&ADDRESS(77,5)),INDIRECT(R$3&"!"&ADDRESS(77,5))) -> 68.476277
A33: Coarse ash (%) | D33: =IF(D45>0,INDIRECT(D$6&"!"&ADDRESS(78,5)),INDIRECT(D$3&"!"&ADDRESS(78,5))) -> 45.379543 | E33: =IF(E45>0,INDIRECT(E$6&"!"&ADDRESS(78,5)),INDIRECT(E$3&"!"&ADDRESS(78,5))) -> 24.345488 | F33: =IF(F45>0,INDIRECT(F$6&"!"&ADDRESS(78,5)),INDIRECT(F$3&"!"&ADDRESS(78,5))) -> 26.586587 | G33: =IF(G45>0,INDIRECT(G$6&"!"&ADDRESS(78,5)),INDIRECT(G$3&"!"&ADDRESS(78,5))) -> 14.182692 | H33: =IF(H45>0,INDIRECT(H$6&"!"&ADDRESS(78,5)),INDIRECT(H$3&"!"&ADDRESS(78,5))) -> 48.378747 | I33: =IF(I45>0,INDIRECT(I$6&"!"&ADDRESS(78,5)),INDIRECT(I$3&"!"&ADDRESS(78,5))) -> 24.110855 | J33: =IF(J45>0,INDIRECT(J$6&"!"&ADDRESS(78,5)),INDIRECT(J$3&"!"&ADDRESS(78,5))) -> 35.550026 | K33: =IF(K45>0,INDIRECT(K$6&"!"&ADDRESS(78,5)),INDIRECT(K$3&"!"&ADDRESS(78,5))) -> 28.916704 | ... R33: =IF(R45>0,INDIRECT(R$6&"!"&ADDRESS(78,5)),INDIRECT(R$3&"!"&ADDRESS(78,5))) -> 30.870438
A34: Fine ash (%) | D34: =IF(D45>0,INDIRECT(D$6&"!"&ADDRESS(79,5)),INDIRECT(D$3&"!"&ADDRESS(79,5))) -> 5.4375179 | E34: =IF(E45>0,INDIRECT(E$6&"!"&ADDRESS(79,5)),INDIRECT(E$3&"!"&ADDRESS(79,5))) -> 4.0610732 | F34: =IF(F45>0,INDIRECT(F$6&"!"&ADDRESS(79,5)),INDIRECT(F$3&"!"&ADDRESS(79,5))) -> 3.4897676 | G34: =IF(G45>0,INDIRECT(G$6&"!"&ADDRESS(79,5)),INDIRECT(G$3&"!"&ADDRESS(79,5))) -> 9.132304 | H34: =IF(H45>0,INDIRECT(H$6&"!"&ADDRESS(79,5)),INDIRECT(H$3&"!"&ADDRESS(79,5))) -> 3.7347755 | I34: =IF(I45>0,INDIRECT(I$6&"!"&ADDRESS(79,5)),INDIRECT(I$3&"!"&ADDRESS(79,5))) -> 7.1031228 | J34: =IF(J45>0,INDIRECT(J$6&"!"&ADDRESS(79,5)),INDIRECT(J$3&"!"&ADDRESS(79,5))) -> 7.915557 | K34: =IF(K45>0,INDIRECT(K$6&"!"&ADDRESS(79,5)),INDIRECT(K$3&"!"&ADDRESS(79,5))) -> 1.2241351 | ... R34: =IF(R45>0,INDIRECT(R$6&"!"&ADDRESS(79,5)),INDIRECT(R$3&"!"&ADDRESS(79,5))) -> 0.65328467
A35: Fine /rest | D35: =D34/SUM(D32:D34) -> 0.054375179 | E35: =E34/SUM(E32:E34) -> 0.040610732 | F35: =F34/SUM(F32:F34) -> 0.034897676 | G35: =G34/SUM(G32:G34) -> 0.09132304 | H35: =H34/SUM(H32:H34) -> 0.037347755 | I35: =I34/SUM(I32:I34) -> 0.071031228 | J35: =J34/SUM(J32:J34) -> 0.07915557 | K35: =K34/SUM(K32:K34) -> 0.012241351 | ... R35: =R34/SUM(R32:R34) -> 0.0065328467
A36: Componentry
A38: Juvenile (%) | D38: =INDIRECT(D$3&"!"&ADDRESS(81,2)) -> 71.636051 | E38: =INDIRECT(E$3&"!"&ADDRESS(81,2)) -> 78.691889 | F38: =INDIRECT(F$3&"!"&ADDRESS(81,2)) -> 85.841276 | G38: =INDIRECT(G$3&"!"&ADDRESS(81,2)) -> 94.876118 | H38: =INDIRECT(H$3&"!"&ADDRESS(81,2)) -> 64.941094 | I38: =INDIRECT(I$3&"!"&ADDRESS(81,2)) -> 84.877982 | J38: =INDIRECT(J$3&"!"&ADDRESS(81,2)) -> 87.419928 | K38: =INDIRECT(K$3&"!"&ADDRESS(81,2)) -> 71.598228 | ... R38: =INDIRECT(R$3&"!"&ADDRESS(81,2)) -> 71.553956
A39: Lithics (%) | D39: =INDIRECT(D$3&"!"&ADDRESS(82,2)) -> 28.363949 | E39: =INDIRECT(E$3&"!"&ADDRESS(82,2)) -> 21.308111 | F39: =INDIRECT(F$3&"!"&ADDRESS(82,2)) -> 14.158724 | G39: =INDIRECT(G$3&"!"&ADDRESS(82,2)) -> 5.1238824 | H39: =INDIRECT(H$3&"!"&ADDRESS(82,2)) -> 34.664898 | I39: =INDIRECT(I$3&"!"&ADDRESS(82,2)) -> 15.122018 | J39: =INDIRECT(J$3&"!"&ADDRESS(82,2)) -> 12.547237 | K39: =INDIRECT(K$3&"!"&ADDRESS(82,2)) -> 27.54088 | ... R39: =INDIRECT(R$3&"!"&ADDRESS(82,2)) -> 24.442529
A40: Crystals (%) | D40: =INDIRECT(D$3&"!"&ADDRESS(83,2)) -> 0 | E40: =INDIRECT(E$3&"!"&ADDRESS(83,2)) -> 0 | F40: =INDIRECT(F$3&"!"&ADDRESS(83,2)) -> 0 | G40: =INDIRECT(G$3&"!"&ADDRESS(83,2)) -> 0 | H40: =INDIRECT(H$3&"!"&ADDRESS(83,2)) -> 0.16384489 | I40: =INDIRECT(I$3&"!"&ADDRESS(83,2)) -> 0 | J40: =INDIRECT(J$3&"!"&ADDRESS(83,2)) -> 0.011895756 | K40: =INDIRECT(K$3&"!"&ADDRESS(83,2)) -> 0 | ... R40: =INDIRECT(R$3&"!"&ADDRESS(83,2)) -> 4.0035145
A42: Juvenile (%) | D42: =INDIRECT(D$3&"!"&ADDRESS(81,5)) -> 71.636051 | E42: =INDIRECT(E$3&"!"&ADDRESS(81,5)) -> 78.691889 | F42: =INDIRECT(F$3&"!"&ADDRESS(81,5)) -> 85.841276 | G42: =INDIRECT(G$3&"!"&ADDRESS(81,5)) -> 94.876118 | H42: =INDIRECT(H$3&"!"&ADDRESS(81,5)) -> 64.941094 | I42: =INDIRECT(I$3&"!"&ADDRESS(81,5)) -> 84.877982 | J42: =INDIRECT(J$3&"!"&ADDRESS(81,5)) -> 87.419928 | K42: =INDIRECT(K$3&"!"&ADDRESS(81,5)) -> 71.598228 | ... R42: =INDIRECT(R$3&"!"&ADDRESS(81,5)) -> 71.553956
A43: Lithics (%) | D43: =INDIRECT(D$3&"!"&ADDRESS(82,5)) -> 28.363949 | E43: =INDIRECT(E$3&"!"&ADDRESS(82,5)) -> 21.308111 | F43: =INDIRECT(F$3&"!"&ADDRESS(82,5)) -> 14.158724 | G43: =INDIRECT(G$3&"!"&ADDRESS(82,5)) -> 5.1238824 | H43: =INDIRECT(H$3&"!"&ADDRESS(82,5)) -> 34.664898 | I43: =INDIRECT(I$3&"!"&ADDRESS(82,5)) -> 15.122018 | J43: =INDIRECT(J$3&"!"&ADDRESS(82,5)) -> 12.547237 | K43: =INDIRECT(K$3&"!"&ADDRESS(82,5)) -> 27.54088 | ... R43: =INDIRECT(R$3&"!"&ADDRESS(82,5)) -> 24.442529
A44: Mixed (%) | D44: =INDIRECT(D$3&"!"&ADDRESS(83,5)) -> 0 | E44: =INDIRECT(E$3&"!"&ADDRESS(83,5)) -> 0 | F44: =INDIRECT(F$3&"!"&ADDRESS(83,5)) -> 0 | G44: =INDIRECT(G$3&"!"&ADDRESS(83,5)) -> 0 | H44: =INDIRECT(H$3&"!"&ADDRESS(83,5)) -> 0.23016306 | I44: =INDIRECT(I$3&"!"&ADDRESS(83,5)) -> 0 | J44: =INDIRECT(J$3&"!"&ADDRESS(83,5)) -> 0.02093922 | K44: =INDIRECT(K$3&"!"&ADDRESS(83,5)) -> 0.86089176 | ... R44: =INDIRECT(R$3&"!"&ADDRESS(83,5)) -> 0
A45: Only Aggregates | D45: =(INDIRECT(D$3&"!"&ADDRESS(34,13)))/(INDIRECT(D$3&"!"&ADDRESS(4,2))) -> 0 | E45: =(INDIRECT(E$3&"!"&ADDRESS(34,13)))/(INDIRECT(E$3&"!"&ADDRESS(4,2))) -> 0 | F45: =(INDIRECT(F$3&"!"&ADDRESS(34,13)))/(INDIRECT(F$3&"!"&ADDRESS(4,2))) -> 0 | G45: =(INDIRECT(G$3&"!"&ADDRESS(34,13)))/(INDIRECT(G$3&"!"&ADDRESS(4,2))) -> 0 | H45: =(INDIRECT(H$3&"!"&ADDRESS(34,13)))/(INDIRECT(H$3&"!"&ADDRESS(4,2))) -> 0.0013386572 | I45: =(INDIRECT(I$3&"!"&ADDRESS(34,13)))/(INDIRECT(I$3&"!"&ADDRESS(4,2))) -> 0 | J45: =(INDIRECT(J$3&"!"&ADDRESS(34,13)))/(INDIRECT(J$3&"!"&ADDRESS(4,2))) -> 0 | K45: =(INDIRECT(K$3&"!"&ADDRESS(34,13)))/(INDIRECT(K$3&"!"&ADDRESS(4,2))) -> 0.0065979934 | ... R45: =(INDIRECT(R$3&"!"&ADDRESS(34,13)))/(INDIRECT(R$3&"!"&ADDRESS(4,2))) -> 0
A47: Pumices (%) | D47: =INDIRECT(D$3&"!"&ADDRESS(81,8)) -> 40.350172 | E47: =INDIRECT(E$3&"!"&ADDRESS(81,8)) -> 42.181923 | F47: =INDIRECT(F$3&"!"&ADDRESS(81,8)) -> 41.078629 | G47: =INDIRECT(G$3&"!"&ADDRESS(81,8)) -> 65.474275 | H47: =INDIRECT(H$3&"!"&ADDRESS(81,8)) -> 26.124827 | I47: =INDIRECT(I$3&"!"&ADDRESS(81,8)) -> 25.526662 | J47: =INDIRECT(J$3&"!"&ADDRESS(81,8)) -> 51.150246 | K47: =INDIRECT(K$3&"!"&ADDRESS(81,8)) -> 15.999802 | ... R47: =INDIRECT(R$3&"!"&ADDRESS(81,8)) -> 40.029957
A48: Dense Juvenile (%) | D48: =INDIRECT(D$3&"!"&ADDRESS(82,8)) -> 31.285878 | E48: =INDIRECT(E$3&"!"&ADDRESS(82,8)) -> 36.509966 | F48: =INDIRECT(F$3&"!"&ADDRESS(82,8)) -> 44.762647 | G48: =INDIRECT(G$3&"!"&ADDRESS(82,8)) -> 29.401842 | H48: =INDIRECT(H$3&"!"&ADDRESS(82,8)) -> 48.086022 | I48: =INDIRECT(I$3&"!"&ADDRESS(82,8)) -> 59.351319 | J48: =INDIRECT(J$3&"!"&ADDRESS(82,8)) -> 36.287991 | K48: =INDIRECT(K$3&"!"&ADDRESS(82,8)) -> 56.220162 | ... R48: =INDIRECT(R$3&"!"&ADDRESS(82,8)) -> 31.523999
...

Sheet Blank
A2: Grain size analysis of sample | D2: =RIGHT(CELL("nomfichier",A1),LEN(CELL("nomfichier",A1))-FIND("]",CELL("nomfichier",A1))) -> Blank | G2: Sample : | H2: =D2 -> Blank
H3: Juveniles | K3: Lithics | S3: Juveniles | V3: Lithics | AD3: Juveniles | AG3: Lithics
A4: Total weight (g) | B4: =SUM(C7:C33) -> 0 | G4: Grain size (phi) | H4: Pumices | I4: Dense juveniles | J4: Obsidian | K4: Coral fragments | L4: Mafic clasts | M4: Aggregate | N4: Accretionnary lapilli | O4: Crystals | P4: Total | R4: =G4 -> Grain size (phi) | S4: =H4 -> Pumices | T4: =I4 -> Dense juveniles | U4: =J4 -> Obsidian | V4: =K4 -> Coral fragments | W4: =L4 -> Mafic clasts | X4: =M4 -> Aggregate | Y4: =N4 -> Accretionnary lapilli | Z4: =O4 -> Crystals | AA4: Total | AC4: =R4 -> Grain size (phi) | AD4: =S4 -> Pumices | AE4: =T4 -> Dense juveniles | AF4: =U4 -> Obsidian | AG4: =V4 -> Coral fragments | AH4: =W4 -> Mafic clasts | AI4: =X4 -> Aggregate | AJ4: =Y4 -> Accretionnary lapilli | AK4: =Z4 -> Crystals | AL4: Total
A5: Diameters (mm/μ) | B5: F | C5: Wt | D5: % Wt | E5: %Cum
A7: 256-181 | B7: -7.5 | D7: =(C7/SUM($C$7:$C$33))*100 -> #DIV/0! | E7: 0 | G7: =B7 -> -7.5 | H7: 0 | I7: 0 | J7: 0 | K7: 0 | L7: 0 | M7: 0 | N7: 0 | O7: 0 | P7: =SUM(H7:O7) -> 0 | R7: =G7 -> -7.5 | S7: =100*H7/$P7 -> #DIV/0! | T7: =100*I7/$P7 -> #DIV/0! | U7: =100*J7/$P7 -> #DIV/0! | V7: =100*K7/$P7 -> #DIV/0! | W7: =100*L7/$P7 -> #DIV/0! | X7: =100*M7/$P7 -> #DIV/0! | Y7: =100*N7/$P7 -> #DIV/0! | Z7: =100*O7/$P7 -> #DIV/0! | AA7: =SUM(S7:Z7) -> #DIV/0! | AC7: =R7 -> -7.5 | AD7: =S7*100/(SUM($S7:$W7)+SUM($Y7:$Z7)) -> #DIV/0! | AE7: =T7*100/(SUM($S7:$W7)+SUM($Y7:$Z7)) -> #DIV/0! | AF7: =U7*100/(SUM($S7:$W7)+SUM($Y7:$Z7)) -> #DIV/0! | AG7: =V7*100/(SUM($S7:$W7)+SUM($Y7:$Z7)) -> #DIV/0! | AH7: =W7*100/(SUM($S7:$W7)+SUM($Y7:$Z7)) -> #DIV/0! | AI7: =X7*100/(SUM($S7:$W7)+SUM($Y7:$Z7)) -> #DIV/0! | AJ7: =Y7*100/(SUM($S7:$W7)+SUM($Y7:$Z7)) -> #DIV/0! | AK7: =Z7*100/(SUM($S7:$W7)+SUM($Y7:$Z7)) -> #DIV/0! | AL7: =SUM(AD7:AK7) -> #DIV/0!
A8: 181-128 | B8: -7 | D8: =(C8/SUM($C$7:$C$33))*100 -> #DIV/0! | E8: =SUM(D6,D8) -> #DIV/0! | G8: =B8 -> -7 | H8: 0 | I8: 0 | J8: 0 | K8: 0 | L8: 0 | M8: 0 | N8: 0 | O8: 0 | P8: =SUM(H8:O8) -> 0 | R8: =G8 -> -7 | S8: =100*H8/$P8 -> #DIV/0! | T8: =100*I8/$P8 -> #DIV/0! | U8: =100*J8/$P8 -> #DIV/0! | V8: =100*K8/$P8 -> #DIV/0! | W8: =100*L8/$P8 -> #DIV/0! | X8: =100*M8/$P8 -> #DIV/0! | Y8: =100*N8/$P8 -> #DIV/0! | Z8: =100*O8/$P8 -> #DIV/0! | AA8: =SUM(S8:Z8) -> #DIV/0! | AC8: =R8 -> -7 | AD8: =S8*100/(SUM($S8:$W8)+SUM($Y8:$Z8)) -> #DIV/0! | AE8: =T8*100/(SUM($S8:$W8)+SUM($Y8:$Z8)) -> #DIV/0! | AF8: =U8*100/(SUM($S8:$W8)+SUM($Y8:$Z8)) -> #DIV/0! | AG8: =V8*100/(SUM($S8:$W8)+SUM($Y8:$Z8)) -> #DIV/0! | AH8: =W8*100/(SUM($S8:$W8)+SUM($Y8:$Z8)) -> #DIV/0! | AI8: =X8*100/(SUM($S8:$W8)+SUM($Y8:$Z8)) -> #DIV/0! | AJ8: =Y8*100/(SUM($S8:$W8)+SUM($Y8:$Z8)) -> #DIV/0! | AK8: =Z8*100/(SUM($S8:$W8)+SUM($Y8:$Z8)) -> #DIV/0! | AL8: =SUM(AD8:AK8) -> #DIV/0!
A9: 128-90,5 | B9: -6.5 | D9: =(C9/SUM($C$7:$C$33))*100 -> #DIV/0! | E9: =SUM(D6:D9) -> #DIV/0! | G9: =B9 -> -6.5 | H9: 0 | I9: 0 | J9: 0 | K9: 0 | L9: 0 | M9: 0 | N9: 0 | O9: 0 | P9: =SUM(H9:O9) -> 0 | R9: =G9 -> -6.5 | S9: =100*H9/$P9 -> #DIV/0! | T9: =100*I9/$P9 -> #DIV/0! | U9: =100*J9/$P9 -> #DIV/0! | V9: =100*K9/$P9 -> #DIV/0! | W9: =100*L9/$P9 -> #DIV/0! | X9: =100*M9/$P9 -> #DIV/0! | Y9: =100*N9/$P9 -> #DIV/0! | Z9: =100*O9/$P9 -> #DIV/0! | AA9: =SUM(S9:Z9) -> #DIV/0! | AC9: =R9 -> -6.5 | AD9: =S9*100/(SUM($S9:$W9)+SUM($Y9:$Z9)) -> #DIV/0! | AE9: =T9*100/(SUM($S9:$W9)+SUM($Y9:$Z9)) -> #DIV/0! | AF9: =U9*100/(SUM($S9:$W9)+SUM($Y9:$Z9)) -> #DIV/0! | AG9: =V9*100/(SUM($S9:$W9)+SUM($Y9:$Z9)) -> #DIV/0! | AH9: =W9*100/(SUM($S9:$W9)+SUM($Y9:$Z9)) -> #DIV/0! | AI9: =X9*100/(SUM($S9:$W9)+SUM($Y9:$Z9)) -> #DIV/0! | AJ9: =Y9*100/(SUM($S9:$W9)+SUM($Y9:$Z9)) -> #DIV/0! | AK9: =Z9*100/(SUM($S9:$W9)+SUM($Y9:$Z9)) -> #DIV/0! | AL9: =SUM(AD9:AK9) -> #DIV/0!
A10: >64 | B10: -6 | D10: =(C10/SUM($C$7:$C$33))*100 -> #DIV/0! | E10: =SUM(D6:D10) -> #DIV/0! | G10: =B10 -> -6 | H10: 0 | I10: 0 | J10: 0 | K10: 0 | L10: 0 | M10: 0 | N10: 0 | O10: 0 | P10: =SUM(H10:O10) -> 0 | R10: =G10 -> -6 | S10: =100*H10/$P10 -> #DIV/0! | T10: =100*I10/$P10 -> #DIV/0! | U10: =100*J10/$P10 -> #DIV/0! | V10: =100*K10/$P10 -> #DIV/0! | W10: =100*L10/$P10 -> #DIV/0! | X10: =100*M10/$P10 -> #DIV/0! | Y10: =100*N10/$P10 -> #DIV/0! | Z10: =100*O10/$P10 -> #DIV/0! | AA10: =SUM(S10:Z10) -> #DIV/0! | AC10: =R10 -> -6 | AD10: =S10*100/(SUM($S10:$W10)+SUM($Y10:$Z10)) -> #DIV/0! | AE10: =T10*100/(SUM($S10:$W10)+SUM($Y10:$Z10)) -> #DIV/0! | AF10: =U10*100/(SUM($S10:$W10)+SUM($Y10:$Z10)) -> #DIV/0! | AG10: =V10*100/(SUM($S10:$W10)+SUM($Y10:$Z10)) -> #DIV/0! | AH10: =W10*100/(SUM($S10:$W10)+SUM($Y10:$Z10)) -> #DIV/0! | AI10: =X10*100/(SUM($S10:$W10)+SUM($Y10:$Z10)) -> #DIV/0! | AJ10: =Y10*100/(SUM($S10:$W10)+SUM($Y10:$Z10)) -> #DIV/0! | AK10: =Z10*100/(SUM($S10:$W10)+SUM($Y10:$Z10)) -> #DIV/0! | AL10: =SUM(AD10:AK10) -> #DIV/0!
A11: 64-45.3 | B11: -5.5 | D11: =(C11/SUM($C$7:$C$33))*100 -> #DIV/0! | E11: =SUM(D6:D11) -> #DIV/0! | G11: =B11 -> -5.5 | H11: 0 | I11: 0 | J11: 0 | K11: 0 | L11: 0 | M11: 0 | N11: 0 | O11: 0 | P11: =SUM(H11:O11) -> 0 | R11: =G11 -> -5.5 | S11: =100*H11/$P11 -> #DIV/0! | T11: =100*I11/$P11 -> #DIV/0! | U11: =100*J11/$P11 -> #DIV/0! | V11: =100*K11/$P11 -> #DIV/0! | W11: =100*L11/$P11 -> #DIV/0! | X11: =100*M11/$P11 -> #DIV/0! | Y11: =100*N11/$P11 -> #DIV/0! | Z11: =100*O11/$P11 -> #DIV/0! | AA11: =SUM(S11:Z11) -> #DIV/0! | AC11: =R11 -> -5.5 | AD11: =S11*100/(SUM($S11:$W11)+SUM($Y11:$Z11)) -> #DIV/0! | AE11: =T11*100/(SUM($S11:$W11)+SUM($Y11:$Z11)) -> #DIV/0! | AF11: =U11*100/(SUM($S11:$W11)+SUM($Y11:$Z11)) -> #DIV/0! | AG11: =V11*100/(SUM($S11:$W11)+SUM($Y11:$Z11)) -> #DIV/0! | AH11: =W11*100/(SUM($S11:$W11)+SUM($Y11:$Z11)) -> #DIV/0! | AI11: =X11*100/(SUM($S11:$W11)+SUM($Y11:$Z11)) -> #DIV/0! | AJ11: =Y11*100/(SUM($S11:$W11)+SUM($Y11:$Z11)) -> #DIV/0! | AK11: =Z11*100/(SUM($S11:$W11)+SUM($Y11:$Z11)) -> #DIV/0! | AL11: =SUM(AD11:AK11) -> #DIV/0!
A12: 45.3-32 | B12: -5 | D12: =(C12/SUM($C$7:$C$33))*100 -> #DIV/0! | E12: =SUM(D6:D12) -> #DIV/0! | G12: =B12 -> -5 | H12: 0 | I12: 0 | J12: 0 | K12: 0 | L12: 0 | M12: 0 | N12: 0 | O12: 0 | P12: =SUM(H12:O12) -> 0 | R12: =G12 -> -5 | S12: =100*H12/$P12 -> #DIV/0! | T12: =100*I12/$P12 -> #DIV/0! | U12: =100*J12/$P12 -> #DIV/0! | V12: =100*K12/$P12 -> #DIV/0! | W12: =100*L12/$P12 -> #DIV/0! | X12: =100*M12/$P12 -> #DIV/0! | Y12: =100*N12/$P12 -> #DIV/0! | Z12: =100*O12/$P12 -> #DIV/0! | AA12: =SUM(S12:Z12) -> #DIV/0! | AC12: =R12 -> -5 | AD12: =S12*100/(SUM($S12:$W12)+SUM($Y12:$Z12)) -> #DIV/0! | AE12: =T12*100/(SUM($S12:$W12)+SUM($Y12:$Z12)) -> #DIV/0! | AF12: =U12*100/(SUM($S12:$W12)+SUM($Y12:$Z12)) -> #DIV/0! | AG12: =V12*100/(SUM($S12:$W12)+SUM($Y12:$Z12)) -> #DIV/0! | AH12: =W12*100/(SUM($S12:$W12)+SUM($Y12:$Z12)) -> #DIV/0! | AI12: =X12*100/(SUM($S12:$W12)+SUM($Y12:$Z12)) -> #DIV/0! | AJ12: =Y12*100/(SUM($S12:$W12)+SUM($Y12:$Z12)) -> #DIV/0! | AK12: =Z12*100/(SUM($S12:$W12)+SUM($Y12:$Z12)) -> #DIV/0! | AL12: =SUM(AD12:AK12) -> #DIV/0!
A13: 32-22.6 | B13: -4.5 | D13: =(C13/SUM($C$7:$C$33))*100 -> #DIV/0! | E13: =SUM(D7:D13) -> #DIV/0! | G13: =B13 -> -4.5 | H13: 0 | I13: 0 | J13: 0 | K13: 0 | L13: 0 | M13: 0 | N13: 0 | O13: 0 | P13: =SUM(H13:O13) -> 0 | R13: =G13 -> -4.5 | S13: =100*H13/$P13 -> #DIV/0! | T13: =100*I13/$P13 -> #DIV/0! | U13: =100*J13/$P13 -> #DIV/0! | V13: =100*K13/$P13 -> #DIV/0! | W13: =100*L13/$P13 -> #DIV/0! | X13: =100*M13/$P13 -> #DIV/0! | Y13: =100*N13/$P13 -> #DIV/0! | Z13: =100*O13/$P13 -> #DIV/0! | AA13: =SUM(S13:Z13) -> #DIV/0! | AC13: =R13 -> -4.5 | AD13: =S13*100/(SUM($S13:$W13)+SUM($Y13:$Z13)) -> #DIV/0! | AE13: =T13*100/(SUM($S13:$W13)+SUM($Y13:$Z13)) -> #DIV/0! | AF13: =U13*100/(SUM($S13:$W13)+SUM($Y13:$Z13)) -> #DIV/0! | AG13: =V13*100/(SUM($S13:$W13)+SUM($Y13:$Z13)) -> #DIV/0! | AH13: =W13*100/(SUM($S13:$W13)+SUM($Y13:$Z13)) -> #DIV/0! | AI13: =X13*100/(SUM($S13:$W13)+SUM($Y13:$Z13)) -> #DIV/0! | AJ13: =Y13*100/(SUM($S13:$W13)+SUM($Y13:$Z13)) -> #DIV/0! | AK13: =Z13*100/(SUM($S13:$W13)+SUM($Y13:$Z13)) -> #DIV/0! | AL13: =SUM(AD13:AK13) -> #DIV/0!
A14: 22,6-16 | B14: -4 | D14: =(C14/SUM($C$7:$C$33))*100 -> #DIV/0! | E14: =SUM(D8:D14) -> #DIV/0! | G14: =B14 -> -4 | H14: 0 | I14: 0 | J14: 0 | K14: 0 | L14: 0 | M14: 0 | N14: 0 | O14: 0 | P14: =SUM(H14:O14) -> 0 | R14: =G14 -> -4 | S14: =100*H14/$P14 -> #DIV/0! | T14: =100*I14/$P14 -> #DIV/0! | U14: =100*J14/$P14 -> #DIV/0! | V14: =100*K14/$P14 -> #DIV/0! | W14: =100*L14/$P14 -> #DIV/0! | X14: =100*M14/$P14 -> #DIV/0! | Y14: =100*N14/$P14 -> #DIV/0! | Z14: =100*O14/$P14 -> #DIV/0! | AA14: =SUM(S14:Z14) -> #DIV/0! | AC14: =R14 -> -4 | AD14: =S14*100/(SUM($S14:$W14)+SUM($Y14:$Z14)) -> #DIV/0! | AE14: =T14*100/(SUM($S14:$W14)+SUM($Y14:$Z14)) -> #DIV/0! | AF14: =U14*100/(SUM($S14:$W14)+SUM($Y14:$Z14)) -> #DIV/0! | AG14: =V14*100/(SUM($S14:$W14)+SUM($Y14:$Z14)) -> #DIV/0! | AH14: =W14*100/(SUM($S14:$W14)+SUM($Y14:$Z14)) -> #DIV/0! | AI14: =X14*100/(SUM($S14:$W14)+SUM($Y14:$Z14)) -> #DIV/0! | AJ14: =Y14*100/(SUM($S14:$W14)+SUM($Y14:$Z14)) -> #DIV/0! | AK14: =Z14*100/(SUM($S14:$W14)+SUM($Y14:$Z14)) -> #DIV/0! | AL14: =SUM(AD14:AK14) -> #DIV/0!
A15: 16-11.3 | B15: -3.5 | D15: =(C15/SUM($C$7:$C$33))*100 -> #DIV/0! | E15: =SUM(D6:D15) -> #DIV/0! | G15: =B15 -> -3.5 | H15: 0 | I15: 0 | J15: 0 | K15: 0 | L15: 0 | M15: 0 | N15: 0 | O15: 0 | P15: =SUM(H15:O15) -> 0 | R15: =G15 -> -3.5 | S15: =100*H15/$P15 -> #DIV/0! | T15: =100*I15/$P15 -> #DIV/0! | U15: =100*J15/$P15 -> #DIV/0! | V15: =100*K15/$P15 -> #DIV/0! | W15: =100*L15/$P15 -> #DIV/0! | X15: =100*M15/$P15 -> #DIV/0! | Y15: =100*N15/$P15 -> #DIV/0! | Z15: =100*O15/$P15 -> #DIV/0! | AA15: =SUM(S15:Z15) -> #DIV/0! | AC15: =R15 -> -3.5 | AD15: =S15*100/(SUM($S15:$W15)+SUM($Y15:$Z15)) -> #DIV/0! | AE15: =T15*100/(SUM($S15:$W15)+SUM($Y15:$Z15)) -> #DIV/0! | AF15: =U15*100/(SUM($S15:$W15)+SUM($Y15:$Z15)) -> #DIV/0! | AG15: =V15*100/(SUM($S15:$W15)+SUM($Y15:$Z15)) -> #DIV/0! | AH15: =W15*100/(SUM($S15:$W15)+SUM($Y15:$Z15)) -> #DIV/0! | AI15: 0 | AJ15: =Y15*100/(SUM($S15:$W15)+SUM($Y15:$Z15)) -> #DIV/0! | AK15: =Z15*100/(SUM($S15:$W15)+SUM($Y15:$Z15)) -> #DIV/0! | AL15: =SUM(AD15:AK15) -> #DIV/0!
A16: 11.3-8 | B16: -3 | D16: =(C16/SUM($C$7:$C$33))*100 -> #DIV/0! | E16: =SUM(D6:D16) -> #DIV/0! | G16: =B16 -> -3 | H16: 0 | I16: 0 | J16: 0 | K16: 0 | L16: 0 | M16: 0 | N16: 0 | O16: 0 | P16: =SUM(H16:O16) -> 0 | R16: =G16 -> -3 | S16: =100*H16/$P16 -> #DIV/0! | T16: =100*I16/$P16 -> #DIV/0! | U16: =100*J16/$P16 -> #DIV/0! | V16: =100*K16/$P16 -> #DIV/0! | W16: =100*L16/$P16 -> #DIV/0! | X16: =100*M16/$P16 -> #DIV/0! | Y16: =100*N16/$P16 -> #DIV/0! | Z16: =100*O16/$P16 -> #DIV/0! | AA16: =SUM(S16:Z16) -> #DIV/0! | AC16: =R16 -> -3 | AD16: =S16*100/(SUM($S16:$W16)+SUM($Y16:$Z16)) -> #DIV/0! | AE16: =T16*100/(SUM($S16:$W16)+SUM($Y16:$Z16)) -> #DIV/0! | AF16: =U16*100/(SUM($S16:$W16)+SUM($Y16:$Z16)) -> #DIV/0! | AG16: =V16*100/(SUM($S16:$W16)+SUM($Y16:$Z16)) -> #DIV/0! | AH16: =W16*100/(SUM($S16:$W16)+SUM($Y16:$Z16)) -> #DIV/0! | AI16: 0 | AJ16: =Y16*100/(SUM($S16:$W16)+SUM($Y16:$Z16)) -> #DIV/0! | AK16: =Z16*100/(SUM($S16:$W16)+SUM($Y16:$Z16)) -> #DIV/0! | AL16: =SUM(AD16:AK16) -> #DIV/0!
A17: 8-5,66 | B17: -2.5 | D17: =(C17/SUM($C$7:$C$33))*100 -> #DIV/0! | E17: =SUM(D6:D17) -> #DIV/0! | G17: =B17 -> -2.5 | H17: 0 | I17: 0 | J17: 0 | K17: 0 | L17: 0 | M17: 0 | N17: 0 | O17: 0 | P17: =SUM(H17:O17) -> 0 | R17: =G17 -> -2.5 | S17: =100*H17/$P17 -> #DIV/0! | T17: =100*I17/$P17 -> #DIV/0! | U17: =100*J17/$P17 -> #DIV/0! | V17: =100*K17/$P17 -> #DIV/0! | W17: =100*L17/$P17 -> #DIV/0! | X17: =100*M17/$P17 -> #DIV/0! | Y17: =100*N17/$P17 -> #DIV/0! | Z17: =100*O17/$P17 -> #DIV/0! | AA17: =SUM(S17:Z17) -> #DIV/0! | AC17: =R17 -> -2.5 | AD17: =S17*100/(SUM($S17:$W17)+SUM($Y17:$Z17)) -> #DIV/0! | AE17: =T17*100/(SUM($S17:$W17)+SUM($Y17:$Z17)) -> #DIV/0! | AF17: =U17*100/(SUM($S17:$W17)+SUM($Y17:$Z17)) -> #DIV/0! | AG17: =V17*100/(SUM($S17:$W17)+SUM($Y17:$Z17)) -> #DIV/0! | AH17: =W17*100/(SUM($S17:$W17)+SUM($Y17:$Z17)) -> #DIV/0! | AI17: 0 | AJ17: =Y17*100/(SUM($S17:$W17)+SUM($Y17:$Z17)) -> #DIV/0! | AK17: =Z17*100/(SUM($S17:$W17)+SUM($Y17:$Z17)) -> #DIV/0! | AL17: =SUM(AD17:AK17) -> #DIV/0!
A18: 5,66-4 | B18: -2 | D18: =(C18/SUM($C$7:$C$33))*100 -> #DIV/0! | E18: =SUM(D6:D18) -> #DIV/0! | G18: =B18 -> -2 | H18: 0 | I18: 0 | J18: 0 | K18: 0 | L18: 0 | M18: 0 | N18: 0 | O18: 0 | P18: =SUM(H18:O18) -> 0 | R18: =G18 -> -2 | S18: =100*H18/$P18 -> #DIV/0! | T18: =100*I18/$P18 -> #DIV/0! | U18: =100*J18/$P18 -> #DIV/0! | V18: =100*K18/$P18 -> #DIV/0! | W18: =100*L18/$P18 -> #DIV/0! | X18: =100*M18/$P18 -> #DIV/0! | Y18: =100*N18/$P18 -> #DIV/0! | Z18: =100*O18/$P18 -> #DIV/0! | AA18: =SUM(S18:Z18) -> #DIV/0! | AC18: =R18 -> -2 | AD18: =S18*100/(SUM($S18:$W18)+SUM($Y18:$Z18)) -> #DIV/0! | AE18: =T18*100/(SUM($S18:$W18)+SUM($Y18:$Z18)) -> #DIV/0! | AF18: =U18*100/(SUM($S18:$W18)+SUM($Y18:$Z18)) -> #DIV/0! | AG18: =V18*100/(SUM($S18:$W18)+SUM($Y18:$Z18)) -> #DIV/0! | AH18: =W18*100/(SUM($S18:$W18)+SUM($Y18:$Z18)) -> #DIV/0! | AI18: 0 | AJ18: =Y18*100/(SUM($S18:$W18)+SUM($Y18:$Z18)) -> #DIV/0! | AK18: =Z18*100/(SUM($S18:$W18)+SUM($Y18:$Z18)) -> #DIV/0! | AL18: =SUM(AD18:AK18) -> #DIV/0!
A19: 4000 - 2800 | B19: -1.5 | D19: =(C19/SUM($C$7:$C$33))*100 -> #DIV/0! | E19: =SUM(D6:D19) -> #DIV/0! | G19: =B19 -> -1.5 | H19: 0 | I19: 0 | J19: 0 | K19: 0 | L19: 0 | M19: 0 | N19: 0 | O19: 0 | P19: =SUM(H19:O19) -> 0 | R19: =G19 -> -1.5 | S19: =100*H19/$P19 -> #DIV/0! | T19: =100*I19/$P19 -> #DIV/0! | U19: =100*J19/$P19 -> #DIV/0! | V19: =100*K19/$P19 -> #DIV/0! | W19: =100*L19/$P19 -> #DIV/0! | X19: =100*M19/$P19 -> #DIV/0! | Y19: =100*N19/$P19 -> #DIV/0! | Z19: =100*O19/$P19 -> #DIV/0! | AA19: =SUM(S19:Z19) -> #DIV/0! | AC19: =R19 -> -1.5 | AD19: =S19*100/(SUM($S19:$W19)+SUM($Y19:$Z19)) -> #DIV/0! | AE19: =T19*100/(SUM($S19:$W19)+SUM($Y19:$Z19)) -> #DIV/0! | AF19: =U19*100/(SUM($S19:$W19)+SUM($Y19:$Z19)) -> #DIV/0! | AG19: =V19*100/(SUM($S19:$W19)+SUM($Y19:$Z19)) -> #DIV/0! | AH19: =W19*100/(SUM($S19:$W19)+SUM($Y19:$Z19)) -> #DIV/0! | AI19: 0 | AJ19: =Y19*100/(SUM($S19:$W19)+SUM($Y19:$Z19)) -> #DIV/0! | AK19: =Z19*100/(SUM($S19:$W19)+SUM($Y19:$Z19)) -> #DIV/0! | AL19: =SUM(AD19:AK19) -> #DIV/0!
A20: 2800 - 2000 | B20: -1 | D20: =(C20/SUM($C$7:$C$33))*100 -> #DIV/0! | E20: =SUM(D6:D20) -> #DIV/0! | G20: =B20 -> -1 | H20: 0 | I20: 0 | J20: 0 | K20: 0 | L20: 0 | M20: 0 | N20: 0 | O20: 0 | P20: =SUM(H20:O20) -> 0 | R20: =G20 -> -1 | S20: =100*H20/$P20 -> #DIV/0! | T20: =100*I20/$P20 -> #DIV/0! | U20: =100*J20/$P20 -> #DIV/0! | V20: =100*K20/$P20 -> #DIV/0! | W20: =100*L20/$P20 -> #DIV/0! | X20: =100*M20/$P20 -> #DIV/0! | Y20: =100*N20/$P20 -> #DIV/0! | Z20: =100*O20/$P20 -> #DIV/0! | AA20: =SUM(S20:Z20) -> #DIV/0! | AC20: =R20 -> -1 | AD20: =S20*100/(SUM($S20:$W20)+SUM($Y20:$Z20)) -> #DIV/0! | AE20: =T20*100/(SUM($S20:$W20)+SUM($Y20:$Z20)) -> #DIV/0! | AF20: =U20*100/(SUM($S20:$W20)+SUM($Y20:$Z20)) -> #DIV/0! | AG20: =V20*100/(SUM($S20:$W20)+SUM($Y20:$Z20)) -> #DIV/0! | AH20: =W20*100/(SUM($S20:$W20)+SUM($Y20:$Z20)) -> #DIV/0! | AI20: 0 | AJ20: =Y20*100/(SUM($S20:$W20)+SUM($Y20:$Z20)) -> #DIV/0! | AK20: =Z20*100/(SUM($S20:$W20)+SUM($Y20:$Z20)) -> #DIV/0! | AL20: =SUM(AD20:AK20) -> #DIV/0!
A21: 2000-1400 | B21: -0.5 | D21: =(C21/SUM($C$7:$C$33))*100 -> #DIV/0! | E21: =SUM(D6:D21) -> #DIV/0! | G21: =B21 -> -0.5 | H21: 0 | I21: 0 | J21: 0 | K21: 0 | L21: 0 | M21: 0 | N21: 0 | O21: 0 | P21: =SUM(H21:O21) -> 0 | R21: =G21 -> -0.5 | S21: =100*H21/$P21 -> #DIV/0! | T21: =100*I21/$P21 -> #DIV/0! | U21: =100*J21/$P21 -> #DIV/0! | V21: =100*K21/$P21 -> #DIV/0! | W21: =100*L21/$P21 -> #DIV/0! | X21: =100*M21/$P21 -> #DIV/0! | Y21: =100*N21/$P21 -> #DIV/0! | Z21: =100*O21/$P21 -> #DIV/0! | AA21: =SUM(S21:Z21) -> #DIV/0! | AC21: =R21 -> -0.5 | AD21: =S21*100/(SUM($S21:$W21)+SUM($Y21:$Z21)) -> #DIV/0! | AE21: =T21*100/(SUM($S21:$W21)+SUM($Y21:$Z21)) -> #DIV/0! | AF21: =U21*100/(SUM($S21:$W21)+SUM($Y21:$Z21)) -> #DIV/0! | AG21: =V21*100/(SUM($S21:$W21)+SUM($Y21:$Z21)) -> #DIV/0! | AH21: =W21*100/(SUM($S21:$W21)+SUM($Y21:$Z21)) -> #DIV/0! | AI21: 0 | AJ21: =Y21*100/(SUM($S21:$W21)+SUM($Y21:$Z21)) -> #DIV/0! | AK21: =Z21*100/(SUM($S21:$W21)+SUM($Y21:$Z21)) -> #DIV/0! | AL21: =SUM(AD21:AK21) -> #DIV/0!
A22: 1400 - 1000 | B22: 0 | D22: =(C22/SUM($C$7:$C$33))*100 -> #DIV/0! | E22: =SUM(D6:D22) -> #DIV/0! | G22: =B22 -> 0 | H22: 0 | I22: 0 | J22: 0 | K22: 0 | L22: 0 | M22: 0 | N22: 0 | O22: 0 | P22: =SUM(H22:O22) -> 0 | R22: =G22 -> 0 | S22: =100*H22/$P22 -> #DIV/0! | T22: =100*I22/$P22 -> #DIV/0! | U22: =100*J22/$P22 -> #DIV/0! | V22: =100*K22/$P22 -> #DIV/0! | W22: =100*L22/$P22 -> #DIV/0! | X22: =100*M22/$P22 -> #DIV/0! | Y22: =100*N22/$P22 -> #DIV/0! | Z22: =100*O22/$P22 -> #DIV/0! | AA22: =SUM(S22:Z22) -> #DIV/0! | AC22: =R22 -> 0 | AD22: =S22*100/(SUM($S22:$W22)+SUM($Y22:$Z22)) -> #DIV/0! | AE22: =T22*100/(SUM($S22:$W22)+SUM($Y22:$Z22)) -> #DIV/0! | AF22: =U22*100/(SUM($S22:$W22)+SUM($Y22:$Z22)) -> #DIV/0! | AG22: =V22*100/(SUM($S22:$W22)+SUM($Y22:$Z22)) -> #DIV/0! | AH22: =W22*100/(SUM($S22:$W22)+SUM($Y22:$Z22)) -> #DIV/0! | AI22: =X22*100/(SUM($S22:$W22)+SUM($Y22:$Z22)) -> #DIV/0! | AJ22: =Y22*100/(SUM($S22:$W22)+SUM($Y22:$Z22)) -> #DIV/0! | AK22: =Z22*100/(SUM($S22:$W22)+SUM($Y22:$Z22)) -> #DIV/0! | AL22: =SUM(AD22:AK22) -> #DIV/0!
A23: 1000-710 | B23: 0.5 | D23: =(C23/SUM($C$7:$C$33))*100 -> #DIV/0! | E23: =SUM(D6:D23) -> #DIV/0! | G23: =B23 -> 0.5 | H23: 0 | I23: 0 | J23: 0 | K23: 0 | L23: 0 | M23: 0 | N23: 0 | O23: 0 | P23: =SUM(H23:O23) -> 0 | R23: =G23 -> 0.5 | S23: =100*H23/$P23 -> #DIV/0! | T23: =100*I23/$P23 -> #DIV/0! | U23: =100*J23/$P23 -> #DIV/0! | V23: =100*K23/$P23 -> #DIV/0! | W23: =100*L23/$P23 -> #DIV/0! | X23: =100*M23/$P23 -> #DIV/0! | Y23: =100*N23/$P23 -> #DIV/0! | Z23: =100*O23/$P23 -> #DIV/0! | AA23: =SUM(S23:Z23) -> #DIV/0! | AC23: =R23 -> 0.5 | AD23: =S23*100/(SUM($S23:$W23)+SUM($Y23:$Z23)) -> #DIV/0! | AE23: =T23*100/(SUM($S23:$W23)+SUM($Y23:$Z23)) -> #DIV/0! | AF23: =U23*100/(SUM($S23:$W23)+SUM($Y23:$Z23)) -> #DIV/0! | AG23: =V23*100/(SUM($S23:$W23)+SUM($Y23:$Z23)) -> #DIV/0! | AH23: =W23*100/(SUM($S23:$W23)+SUM($Y23:$Z23)) -> #DIV/0! | AI23: =X23*100/(SUM($S23:$W23)+SUM($Y23:$Z23)) -> #DIV/0! | AJ23: =Y23*100/(SUM($S23:$W23)+SUM($Y23:$Z23)) -> #DIV/0! | AK23: =Z23*100/(SUM($S23:$W23)+SUM($Y23:$Z23)) -> #DIV/0! | AL23: =SUM(AD23:AK23) -> #DIV/0!
A24: 710-500 | B24: 1 | D24: =(C24/SUM($C$7:$C$33))*100 -> #DIV/0! | E24: =SUM(D6:D24) -> #DIV/0! | G24: =B24 -> 1 | H24: 0 | I24: 0 | J24: 0 | K24: 0 | L24: 0 | M24: 0 | N24: 0 | O24: 0 | P24: =SUM(H24:O24) -> 0 | R24: =G24 -> 1 | S24: =100*H24/$P24 -> #DIV/0! | T24: =100*I24/$P24 -> #DIV/0! | U24: =100*J24/$P24 -> #DIV/0! | V24: =100*K24/$P24 -> #DIV/0! | W24: =100*L24/$P24 -> #DIV/0! | X24: =100*M24/$P24 -> #DIV/0! | Y24: =100*N24/$P24 -> #DIV/0! | Z24: =100*O24/$P24 -> #DIV/0! | AA24: =SUM(S24:Z24) -> #DIV/0! | AC24: =R24 -> 1 | AD24: =S24*100/(SUM($S24:$W24)+SUM($Y24:$Z24)) -> #DIV/0! | AE24: =T24*100/(SUM($S24:$W24)+SUM($Y24:$Z24)) -> #DIV/0! | AF24: =U24*100/(SUM($S24:$W24)+SUM($Y24:$Z24)) -> #DIV/0! | AG24: =V24*100/(SUM($S24:$W24)+SUM($Y24:$Z24)) -> #DIV/0! | AH24: =W24*100/(SUM($S24:$W24)+SUM($Y24:$Z24)) -> #DIV/0! | AI24: =X24*100/(SUM($S24:$W24)+SUM($Y24:$Z24)) -> #DIV/0! | AJ24: =Y24*100/(SUM($S24:$W24)+SUM($Y24:$Z24)) -> #DIV/0! | AK24: =Z24*100/(SUM($S24:$W24)+SUM($Y24:$Z24)) -> #DIV/0! | AL24: =SUM(AD24:AK24) -> #DIV/0!
A25: 500-355 | B25: 1.5 | D25: =(C25/SUM($C$7:$C$33))*100 -> #DIV/0! | E25: =SUM(D6:D25) -> #DIV/0! | G25: =B25 -> 1.5 | H25: 0 | I25: 0 | J25: 0 | K25: 0 | L25: 0 | M25: 0 | N25: 0 | O25: 0 | P25: =SUM(H25:O25) -> 0 | R25: =G25 -> 1.5 | S25: =100*H25/$P25 -> #DIV/0! | T25: =100*I25/$P25 -> #DIV/0! | U25: =100*J25/$P25 -> #DIV/0! | V25: =100*K25/$P25 -> #DIV/0! | W25: =100*L25/$P25 -> #DIV/0! | X25: =100*M25/$P25 -> #DIV/0! | Y25: =100*N25/$P25 -> #DIV/0! | Z25: =100*O25/$P25 -> #DIV/0! | AA25: =SUM(S25:Z25) -> #DIV/0! | AC25: =R25 -> 1.5 | AD25: =S25*100/(SUM($S25:$W25)+SUM($Y25:$Z25)) -> #DIV/0! | AE25: =T25*100/(SUM($S25:$W25)+SUM($Y25:$Z25)) -> #DIV/0! | AF25: =U25*100/(SUM($S25:$W25)+SUM($Y25:$Z25)) -> #DIV/0! | AG25: =V25*100/(SUM($S25:$W25)+SUM($Y25:$Z25)) -> #DIV/0! | AH25: =W25*100/(SUM($S25:$W25)+SUM($Y25:$Z25)) -> #DIV/0! | AI25: =X25*100/(SUM($S25:$W25)+SUM($Y25:$Z25)) -> #DIV/0! | AJ25: =Y25*100/(SUM($S25:$W25)+SUM($Y25:$Z25)) -> #DIV/0! | AK25: =Z25*100/(SUM($S25:$W25)+SUM($Y25:$Z25)) -> #DIV/0! | AL25: =SUM(AD25:AK25) -> #DIV/0!
A26: 355 - 250 | B26: 2 | D26: =(C26/SUM($C$7:$C$33))*100 -> #DIV/0! | E26: =SUM(D6:D26) -> #DIV/0! | G26: =B26 -> 2 | H26: 0 | I26: 0 | J26: 0 | K26: 0 | L26: 0 | M26: 0 | N26: 0 | O26: 0 | P26: =SUM(H26:O26) -> 0 | R26: =G26 -> 2 | S26: =100*H26/$P26 -> #DIV/0! | T26: =100*I26/$P26 -> #DIV/0! | U26: =100*J26/$P26 -> #DIV/0! | V26: =100*K26/$P26 -> #DIV/0! | W26: =100*L26/$P26 -> #DIV/0! | X26: =100*M26/$P26 -> #DIV/0! | Y26: =100*N26/$P26 -> #DIV/0! | Z26: =100*O26/$P26 -> #DIV/0! | AA26: =SUM(S26:Z26) -> #DIV/0! | AC26: =R26 -> 2 | AD26: =S26*100/(SUM($S26:$W26)+SUM($Y26:$Z26)) -> #DIV/0! | AE26: =T26*100/(SUM($S26:$W26)+SUM($Y26:$Z26)) -> #DIV/0! | AF26: =U26*100/(SUM($S26:$W26)+SUM($Y26:$Z26)) -> #DIV/0! | AG26: =V26*100/(SUM($S26:$W26)+SUM($Y26:$Z26)) -> #DIV/0! | AH26: =W26*100/(SUM($S26:$W26)+SUM($Y26:$Z26)) -> #DIV/0! | AI26: =X26*100/(SUM($S26:$W26)+SUM($Y26:$Z26)) -> #DIV/0! | AJ26: =Y26*100/(SUM($S26:$W26)+SUM($Y26:$Z26)) -> #DIV/0! | AK26: =Z26*100/(SUM($S26:$W26)+SUM($Y26:$Z26)) -> #DIV/0! | AL26: =SUM(AD26:AK26) -> #DIV/0!
A27: 250-180 | B27: 2.5 | D27: =(C27/SUM($C$7:$C$33))*100 -> #DIV/0! | E27: =SUM(D7:D27) -> #DIV/0! | G27: =B27 -> 2.5 | H27: 0 | I27: 0 | J27: 0 | K27: 0 | L27: 0 | M27: 0 | N27: 0 | O27: 0 | P27: =SUM(H27:O27) -> 0 | R27: =G27 -> 2.5 | S27: =100*H27/$P27 -> #DIV/0! | T27: =100*I27/$P27 -> #DIV/0! | U27: =100*J27/$P27 -> #DIV/0! | V27: =100*K27/$P27 -> #DIV/0! | W27: =100*L27/$P27 -> #DIV/0! | X27: =100*M27/$P27 -> #DIV/0! | Y27: =100*N27/$P27 -> #DIV/0! | Z27: =100*O27/$P27 -> #DIV/0! | AA27: =SUM(S27:Z27) -> #DIV/0! | AC27: =R27 -> 2.5 | AD27: =S27*100/(SUM($S27:$W27)+SUM($Y27:$Z27)) -> #DIV/0! | AE27: =T27*100/(SUM($S27:$W27)+SUM($Y27:$Z27)) -> #DIV/0! | AF27: =U27*100/(SUM($S27:$W27)+SUM($Y27:$Z27)) -> #DIV/0! | AG27: =V27*100/(SUM($S27:$W27)+SUM($Y27:$Z27)) -> #DIV/0! | AH27: =W27*100/(SUM($S27:$W27)+SUM($Y27:$Z27)) -> #DIV/0! | AI27: =X27*100/(SUM($S27:$W27)+SUM($Y27:$Z27)) -> #DIV/0! | AJ27: =Y27*100/(SUM($S27:$W27)+SUM($Y27:$Z27)) -> #DIV/0! | AK27: =Z27*100/(SUM($S27:$W27)+SUM($Y27:$Z27)) -> #DIV/0! | AL27: =SUM(AD27:AK27) -> #DIV/0!
A28: 180 - 125 | B28: 3 | D28: =(C28/SUM($C$7:$C$33))*100 -> #DIV/0! | E28: =SUM(D7:D28) -> #DIV/0! | G28: =B28 -> 3 | H28: 0 | I28: 0 | J28: 0 | K28: 0 | L28: 0 | M28: 0 | N28: 0 | O28: 0 | P28: =SUM(H28:O28) -> 0 | R28: =G28 -> 3 | S28: =100*H28/$P28 -> #DIV/0! | T28: =100*I28/$P28 -> #DIV/0! | U28: =100*J28/$P28 -> #DIV/0! | V28: =100*K28/$P28 -> #DIV/0! | W28: =100*L28/$P28 -> #DIV/0! | X28: =100*M28/$P28 -> #DIV/0! | Y28: =100*N28/$P28 -> #DIV/0! | Z28: =100*O28/$P28 -> #DIV/0! | AA28: =SUM(S28:Z28) -> #DIV/0! | AC28: =R28 -> 3 | AD28: =S28*100/(SUM($S28:$W28)+SUM($Y28:$Z28)) -> #DIV/0! | AE28: =T28*100/(SUM($S28:$W28)+SUM($Y28:$Z28)) -> #DIV/0! | AF28: =U28*100/(SUM($S28:$W28)+SUM($Y28:$Z28)) -> #DIV/0! | AG28: =V28*100/(SUM($S28:$W28)+SUM($Y28:$Z28)) -> #DIV/0! | AH28: =W28*100/(SUM($S28:$W28)+SUM($Y28:$Z28)) -> #DIV/0! | AI28: =X28*100/(SUM($S28:$W28)+SUM($Y28:$Z28)) -> #DIV/0! | AJ28: =Y28*100/(SUM($S28:$W28)+SUM($Y28:$Z28)) -> #DIV/0! | AK28: =Z28*100/(SUM($S28:$W28)+SUM($Y28:$Z28)) -> #DIV/0! | AL28: =SUM(AD28:AK28) -> #DIV/0!
A29: 125-90 | B29: 3.5 | D29: =(C29/SUM($C$7:$C$33))*100 -> #DIV/0! | E29: =SUM(D7:D29) -> #DIV/0! | G29: =B29 -> 3.5 | H29: 0 | I29: 0 | J29: 0 | K29: 0 | L29: 0 | M29: 0 | N29: 0 | O29: 0 | P29: =SUM(H29:O29) -> 0 | R29: =G29 -> 3.5 | S29: =100*H29/$P29 -> #DIV/0! | T29: =100*I29/$P29 -> #DIV/0! | U29: =100*J29/$P29 -> #DIV/0! | V29: =100*K29/$P29 -> #DIV/0! | W29: =100*L29/$P29 -> #DIV/0! | X29: =100*M29/$P29 -> #DIV/0! | Y29: =100*N29/$P29 -> #DIV/0! | Z29: =100*O29/$P29 -> #DIV/0! | AA29: =SUM(S29:Z29) -> #DIV/0! | AC29: =R29 -> 3.5 | AD29: =S29*100/(SUM($S29:$W29)+SUM($Y29:$Z29)) -> #DIV/0! | AE29: =T29*100/(SUM($S29:$W29)+SUM($Y29:$Z29)) -> #DIV/0! | AF29: =U29*100/(SUM($S29:$W29)+SUM($Y29:$Z29)) -> #DIV/0! | AG29: =V29*100/(SUM($S29:$W29)+SUM($Y29:$Z29)) -> #DIV/0! | AH29: =W29*100/(SUM($S29:$W29)+SUM($Y29:$Z29)) -> #DIV/0! | AI29: =X29*100/(SUM($S29:$W29)+SUM($Y29:$Z29)) -> #DIV/0! | AJ29: =Y29*100/(SUM($S29:$W29)+SUM($Y29:$Z29)) -> #DIV/0! | AK29: =Z29*100/(SUM($S29:$W29)+SUM($Y29:$Z29)) -> #DIV/0! | AL29: =SUM(AD29:AK29) -> #DIV/0!
A30: 90 - 63 | B30: 4 | D30: =(C30/SUM($C$7:$C$33))*100 -> #DIV/0! | E30: =SUM(D7:D30) -> #DIV/0! | G30: =B30 -> 4 | H30: 0 | I30: 0 | J30: 0 | K30: 0 | L30: 0 | M30: 0 | N30: 0 | O30: 0 | P30: =SUM(H30:O30) -> 0 | R30: =G30 -> 4 | S30: =100*H30/$P30 -> #DIV/0! | T30: =100*I30/$P30 -> #DIV/0! | U30: =100*J30/$P30 -> #DIV/0! | V30: =100*K30/$P30 -> #DIV/0! | W30: =100*L30/$P30 -> #DIV/0! | X30: =100*M30/$P30 -> #DIV/0! | Y30: =100*N30/$P30 -> #DIV/0! | Z30: =100*O30/$P30 -> #DIV/0! | AA30: =SUM(S30:Z30) -> #DIV/0! | AC30: =R30 -> 4 | AD30: =S30*100/(SUM($S30:$W30)+SUM($Y30:$Z30)) -> #DIV/0! | AE30: =T30*100/(SUM($S30:$W30)+SUM($Y30:$Z30)) -> #DIV/0! | AF30: =U30*100/(SUM($S30:$W30)+SUM($Y30:$Z30)) -> #DIV/0! | AG30: =V30*100/(SUM($S30:$W30)+SUM($Y30:$Z30)) -> #DIV/0! | AH30: =W30*100/(SUM($S30:$W30)+SUM($Y30:$Z30)) -> #DIV/0! | AI30: =X30*100/(SUM($S30:$W30)+SUM($Y30:$Z30)) -> #DIV/0! | AJ30: =Y30*100/(SUM($S30:$W30)+SUM($Y30:$Z30)) -> #DIV/0! | AK30: =Z30*100/(SUM($S30:$W30)+SUM($Y30:$Z30)) -> #DIV/0! | AL30: =SUM(AD30:AK30) -> #DIV/0!
A31: 63 - 45 | B31: 4.5 | D31: =(C31/SUM($C$7:$C$33))*100 -> #DIV/0! | E31: =SUM(D7:D31) -> #DIV/0! | G31: =B31 -> 4.5 | H31: 0 | I31: 0 | J31: 0 | K31: 0 | L31: 0 | M31: 0 | N31: 0 | O31: 0 | P31: =SUM(H31:O31) -> 0 | R31: =G31 -> 4.5 | S31: =100*H31/$P31 -> #DIV/0! | T31: =100*I31/$P31 -> #DIV/0! | U31: =100*J31/$P31 -> #DIV/0! | V31: =100*K31/$P31 -> #DIV/0! | W31: =100*L31/$P31 -> #DIV/0! | X31: =100*M31/$P31 -> #DIV/0! | Y31: =100*N31/$P31 -> #DIV/0! | Z31: =100*O31/$P31 -> #DIV/0! | AA31: =SUM(S31:Z31) -> #DIV/0! | AC31: =R31 -> 4.5 | AD31: =S31*100/(SUM($S31:$W31)+SUM($Y31:$Z31)) -> #DIV/0! | AE31: =T31*100/(SUM($S31:$W31)+SUM($Y31:$Z31)) -> #DIV/0! | AF31: =U31*100/(SUM($S31:$W31)+SUM($Y31:$Z31)) -> #DIV/0! | AG31: =V31*100/(SUM($S31:$W31)+SUM($Y31:$Z31)) -> #DIV/0! | AH31: =W31*100/(SUM($S31:$W31)+SUM($Y31:$Z31)) -> #DIV/0! | AI31: =X31*100/(SUM($S31:$W31)+SUM($Y31:$Z31)) -> #DIV/0! | AJ31: =Y31*100/(SUM($S31:$W31)+SUM($Y31:$Z31)) -> #DIV/0! | AK31: =Z31*100/(SUM($S31:$W31)+SUM($Y31:$Z31)) -> #DIV/0! | AL31: =SUM(AD31:AK31) -> #DIV/0!
A32: 45 - 31 | B32: 5 | D32: =(C32/SUM($C$7:$C$33))*100 -> #DIV/0! | E32: =SUM(D7:D32) -> #DIV/0! | G32: =B32 -> 5 | H32: 0 | I32: 0 | J32: 0 | K32: 0 | L32: 0 | M32: 0 | N32: 0 | O32: 0 | P32: =SUM(H32:O32) -> 0 | R32: =G32 -> 5 | S32: =100*H32/$P32 -> #DIV/0! | T32: =100*I32/$P32 -> #DIV/0! | U32: =100*J32/$P32 -> #DIV/0! | V32: =100*K32/$P32 -> #DIV/0! | W32: =100*L32/$P32 -> #DIV/0! | X32: =100*M32/$P32 -> #DIV/0! | Y32: =100*N32/$P32 -> #DIV/0! | Z32: =100*O32/$P32 -> #DIV/0! | AA32: =SUM(S32:Z32) -> #DIV/0! | AC32: =R32 -> 5 | AD32: =S32*100/(SUM($S32:$W32)+SUM($Y32:$Z32)) -> #DIV/0! | AE32: =T32*100/(SUM($S32:$W32)+SUM($Y32:$Z32)) -> #DIV/0! | AF32: =U32*100/(SUM($S32:$W32)+SUM($Y32:$Z32)) -> #DIV/0! | AG32: =V32*100/(SUM($S32:$W32)+SUM($Y32:$Z32)) -> #DIV/0! | AH32: =W32*100/(SUM($S32:$W32)+SUM($Y32:$Z32)) -> #DIV/0! | AI32: =X32*100/(SUM($S32:$W32)+SUM($Y32:$Z32)) -> #DIV/0! | AJ32: =Y32*100/(SUM($S32:$W32)+SUM($Y32:$Z32)) -> #DIV/0! | AK32: =Z32*100/(SUM($S32:$W32)+SUM($Y32:$Z32)) -> #DIV/0! | AL32: =SUM(AD32:AK32) -> #DIV/0!
A33: <32 | B33: >6 | D33: =(C33/SUM($C$7:$C$33))*100 -> #DIV/0! | E33: =SUM(D7:D33) -> #DIV/0! | G33: =B33 -> >6 | H33: 0 | I33: 0 | J33: 0 | K33: 0 | L33: 0 | M33: 0 | N33: 0 | O33: 0 | P33: =SUM(H33:O33) -> 0 | R33: =G33 -> >6 | S33: =100*H33/$P33 -> #DIV/0! | T33: =100*I33/$P33 -> #DIV/0! | U33: =100*J33/$P33 -> #DIV/0! | V33: =100*K33/$P33 -> #DIV/0! | W33: =100*L33/$P33 -> #DIV/0! | X33: =100*M33/$P33 -> #DIV/0! | Y33: =100*N33/$P33 -> #DIV/0! | Z33: =100*O33/$P33 -> #DIV/0! | AA33: =SUM(S33:Z33) -> #DIV/0! | AC33: =R33 -> >6 | AD33: =S33*100/(SUM($S33:$W33)+SUM($Y33:$Z33)) -> #DIV/0! | AE33: =T33*100/(SUM($S33:$W33)+SUM($Y33:$Z33)) -> #DIV/0! | AF33: =U33*100/(SUM($S33:$W33)+SUM($Y33:$Z33)) -> #DIV/0! | AG33: =V33*100/(SUM($S33:$W33)+SUM($Y33:$Z33)) -> #DIV/0! | AH33: =W33*100/(SUM($S33:$W33)+SUM($Y33:$Z33)) -> #DIV/0! | AI33: =X33*100/(SUM($S33:$W33)+SUM($Y33:$Z33)) -> #DIV/0! | AJ33: =Y33*100/(SUM($S33:$W33)+SUM($Y33:$Z33)) -> #DIV/0! | AK33: =Z33*100/(SUM($S33:$W33)+SUM($Y33:$Z33)) -> #DIV/0! | AL33: =SUM(AD33:AK33) -> #DIV/0!
G34: total | H34: =SUM(H7:H33) -> 0 | I34: =SUM(I7:I33) -> 0 | J34: =SUM(J7:J33) -> 0 | K34: =SUM(K7:K33) -> 0 | L34: =SUM(L7:L33) -> 0 | M34: =SUM(M7:M33) -> 0 | N34: =SUM(N7:N33) -> 0 | O34: =SUM(O7:O33) -> 0
A67: Graphical Parameters
A68: (totale)
A69: Φ | B69: 5 | C69: =IFERROR((((INDEX(phi,MATCH(B69,cum_tot_2,1)+1,1)-INDEX(phi,MATCH(B69,cum_tot_2,1),1))/(INDEX(cum_tot_2,MATCH(B69,cum_tot_2,1)+1,1)-INDEX(cum_tot_2,MATCH(B69,cum_tot_2,1),1)))*(B69-INDEX(cum_tot_2,MATCH(B69,cum_tot_2,1),1)))+INDEX(phi,MATCH(B69,cum_tot_2,1),1),"6") -> 6
A70: Φ | B70: 16 | C70: =IFERROR((((INDEX(phi,MATCH(B70,cum_tot_2,1)+1,1)-INDEX(phi,MATCH(B70,cum_tot_2,1),1))/(INDEX(cum_tot_2,MATCH(B70,cum_tot_2,1)+1,1)-INDEX(cum_tot_2,MATCH(B70,cum_tot_2,1),1)))*(B70-INDEX(cum_tot_2,MATCH(B70,cum_tot_2,1),1)))+INDEX(phi,MATCH(B70,cum_tot_2,1),1),"6") -> 6
A71: Φ | B71: 25 | C71: =IFERROR((((INDEX(phi,MATCH(B71,cum_tot_2,1)+1,1)-INDEX(phi,MATCH(B71,cum_tot_2,1),1))/(INDEX(cum_tot_2,MATCH(B71,cum_tot_2,1)+1,1)-INDEX(cum_tot_2,MATCH(B71,cum_tot_2,1),1)))*(B71-INDEX(cum_tot_2,MATCH(B71,cum_tot_2,1),1)))+INDEX(phi,MATCH(B71,cum_tot_2,1),1),"6") -> 6
A72: Φ | B72: 50 | C72: =IFERROR((((INDEX(phi,MATCH(B72,cum_tot_2,1)+1,1)-INDEX(phi,MATCH(B72,cum_tot_2,1),1))/(INDEX(cum_tot_2,MATCH(B72,cum_tot_2,1)+1,1)-INDEX(cum_tot_2,MATCH(B72,cum_tot_2,1),1)))*(B72-INDEX(cum_tot_2,MATCH(B72,cum_tot_2,1),1)))+INDEX(phi,MATCH(B72,cum_tot_2,1),1),"6") -> 6
A73: Φ | B73: 75 | C73: =IFERROR((((INDEX(phi,MATCH(B73,cum_tot_2,1)+1,1)-INDEX(phi,MATCH(B73,cum_tot_2,1),1))/(INDEX(cum_tot_2,MATCH(B73,cum_tot_2,1)+1,1)-INDEX(cum_tot_2,MATCH(B73,cum_tot_2,1),1)))*(B73-INDEX(cum_tot_2,MATCH(B73,cum_tot_2,1),1)))+INDEX(phi,MATCH(B73,cum_tot_2,1),1),"6") -> 6
