Workbook
Name cum_tot_2: MAY181215_10!$E$7:$E$33
Name cum_tot_2: 'MAY181215_10 aggr'!$E$7:$E$33
Name cum_tot_2: MAY181215_10_no_aggr!$E$7:$E$33
Name cum_tot_2: MAY181215_11!$E$7:$E$33
Name cum_tot_2: 'MAY181215_11 aggr'!$E$7:$E$33
Name cum_tot_2: MAY181215_11_no_aggr!$E$7:$E$33
Name cum_tot_2: MAY181215_12!$E$7:$E$33
Name cum_tot_2: MAY181215_13!$E$7:$E$33
Name cum_tot_2: 'MAY181215_13 aggr'!$E$7:$E$33
Name cum_tot_2: MAY181215_13_no_aggr!$E$7:$E$33
Name cum_tot_2: MAY181215_9!$E$7:$E$33
Name cum_tot_2: 'MAY181215_9 aggr'!$E$7:$E$33
Name cum_tot_2: MAY181215_9_no_agg!$E$7:$E$33
Name cum_tot_2: MAY181217_18!$E$7:$E$33
Name cum_tot_2: 'MAY181217_18 aggr'!$E$7:$E$33
Name cum_tot_2: MAY181217_18_no_aggr!$E$7:$E$33
Name cum_tot_2: MAY181217_19!$E$7:$E$33
Name cum_tot_2: 'MAY181217_19 aggr'!$E$7:$E$33
Name cum_tot_2: MAY181217_19_no_aggr!$E$7:$E$33
Name cum_tot_2: MAY181217_21!$E$7:$E$33
Name cum_tot_2: 'MAY181217_21 aggr'!$E$7:$E$33
Name cum_tot_2: MAY181217_21_no_aggr!$E$7:$E$33
Name cum_tot_2: MAY181217_22!$E$7:$E$33
Name cum_tot_2: 'MAY181217_22 aggr'!$E$7:$E$33
Name cum_tot_2: MAY181217_22_no_aggr!$E$7:$E$33
Name cum_tot_2: MAY181217_23!$E$7:$E$33
Name cum_tot_2: 'MAY181217_23 aggr'!$E$7:$E$33
Name cum_tot_2: MAY181217_23_no_aggr!$E$7:$E$33
Name cum_tot_2: MAY181217_26_27!$E$7:$E$33
Name cum_tot_2: MAY181217_28!$E$7:$E$33
Name cum_tot_2: 'MAY181217_28 aggr'!$E$7:$E$33
Name cum_tot_2: MAY181217_28_no_aggr!$E$7:$E$33
Name cum_tot_2: MAY181217_29!$E$7:$E$33
Name cum_tot_2: MAY190403_2!$E$7:$E$33
Name cum_tot_2: MAY190406_1!$E$7:$E$33
Name cum_tot_2: 'MAY190406_1 aggr'!$E$7:$E$33
Name cum_tot_2: MAY190406_1_no_aggr!$E$7:$E$33
Name cum_tot_2: MAY190406_2!$E$7:$E$33
Name cum_tot_2: MAY190406_3!$E$7:$E$33
Name cum_tot_2: MAY190409_1!$E$7:$E$33
Name cum_tot_2: MAY210713_5!$E$7:$E$33
Name cum_tot_2: 'MAY210713_5 aggr'!$E$7:$E$33
Name cum_tot_2: MAY210713_5_no_aggr!$E$7:$E$33
Name cum_tot_2: MAY210713_7!$E$7:$E$33
Name cum_tot_2: MAY210713_8!$E$7:$E$33
Name cum_tot_2: MAY210713_8_aggr!$E$7:$E$33
Name cum_tot_2: MAY210713_8_no_aggr!$E$7:$E$33
Name cum_tot_2: MAY210714_7!$E$7:$E$33
Name cum_tot_2: MAY210714_7_aggr!$E$7:$E$33
Name cum_tot_2: MAY210714_7_no_aggr!$E$7:$E$33
Name cum_tot_2: MAY210714_8!$E$7:$E$33
Name cum_tot_2: MAY210714_8_aggr!$E$7:$E$33
Name cum_tot_2: MAY210714_8_no_aggr!$E$7:$E$33
Name cum_tot_2: Blank!$E$7:$E$33
Name phi: MAY181215_10!$B$7:$B$33
Name phi: 'MAY181215_10 aggr'!$B$7:$B$33
Name phi: MAY181215_10_no_aggr!$B$7:$B$33
Name phi: MAY181215_11!$B$7:$B$33
Name phi: 'MAY181215_11 aggr'!$B$7:$B$33
Name phi: MAY181215_11_no_aggr!$B$7:$B$33

Sheet Resume
A1: Graphical Parameters
A2: FACIES | C2: Ba | D2: Fb | E2: Fb | F2: Fb | G2: Fb | H2: M | I2: M | J2: M | K2: M | L2: M | M2: M | N2: Pa | O2: Pa | P2: Pb | Q2: Pb | R2: Pb | S2: Pb | T2: Pb | U2: Pb
A3: Sample name | C3: =MAY181217_23!$D2 -> MAY181217_23 | D3: =MAY190409_1!$D2 -> MAY190409_1 | E3: =MAY190406_3!$D2 -> MAY190406_3 | F3: =MAY210714_7!$D2 -> MAY210714_7 | G3: =MAY190406_2!$D2 -> MAY190406_2 | H3: =MAY181217_28!$D2 -> MAY181217_28 | I3: =MAY181215_13!$D2 -> MAY181215_13 | J3: =MAY181217_29!$D2 -> MAY181217_29 | K3: =MAY181215_9!$D2 -> MAY181215_9 | L3: =MAY181215_10!$D2 -> MAY181215_10 | M3: =MAY181215_11!$D2 -> MAY181215_11 | N3: =MAY210713_5!$D2 -> MAY210713_5 | O3: =MAY181217_19!$D2 -> MAY181217_19 | P3: =MAY210713_7!$D2 -> MAY210713_7 | Q3: =MAY210713_8!$D2 -> MAY210713_8 | R3: =MAY181217_18!$D2 -> MAY181217_18 | S3: =MAY181217_21!$D2 -> MAY181217_21 | T3: =MAY190406_1!$D2 -> MAY190406_1 | U3: =MAY181217_22!$D2 -> MAY181217_22 | V3: =MAY210714_8!$D2 -> MAY210714_8
A6: Granulometry | C6: MAY181217_23_no_aggr | E6: MAY190406_3_no_aggr | F6: MAY210714_7_no_aggr | G6: MAY190406_2_no_aggr | H6: MAY181217_28_no_aggr | I6: MAY181215_13_no_aggr | J6: MAY181217_29_no_aggr | K6: MAY181215_9_no_agg | L6: MAY181215_10_no_aggr | M6: MAY181215_11_no_aggr | N6: MAY210713_5_no_aggr | O6: MAY181217_19_no_aggr | Q6: MAY210713_8_no_aggr | R6: MAY181217_18_no_aggr | S6: MAY181217_21_no_aggr | T6: MAY190406_1_no_aggr | U6: MAY181217_22_no_aggr | V6: MAY210714_8_no_aggr
A8: Φ5% | C8: =IF(C45>0,INDIRECT(C$6&"!"&ADDRESS(69,3)),INDIRECT(C$3&"!"&ADDRESS(69,3))) -> -3.4859928 | D8: =IF(D45>0.1,INDIRECT(D$6&"!"&ADDRESS(69,3)),INDIRECT(D$3&"!"&ADDRESS(69,3))) -> -3.6704348 | E8: =IF(E45>0,INDIRECT(E$6&"!"&ADDRESS(69,3)),INDIRECT(E$3&"!"&ADDRESS(69,3))) -> -5.0473216 | F8: =IF(F45>0,INDIRECT(F$6&"!"&ADDRESS(69,3)),INDIRECT(F$3&"!"&ADDRESS(69,3))) -> -4.0787304 | G8: =IF(G45>0,INDIRECT(G$6&"!"&ADDRESS(69,3)),INDIRECT(G$3&"!"&ADDRESS(69,3))) -> -4.5422974 | H8: =IF(H45>0,INDIRECT(H$6&"!"&ADDRESS(69,3)),INDIRECT(H$3&"!"&ADDRESS(69,3))) -> -2.44848 | I8: =IF(I45>0,INDIRECT(I$6&"!"&ADDRESS(69,3)),INDIRECT(I$3&"!"&ADDRESS(69,3))) -> -2.084473 | J8: =IF(J45>0,INDIRECT(J$6&"!"&ADDRESS(69,3)),INDIRECT(J$3&"!"&ADDRESS(69,3))) -> -1.3132417 | K8: =IF(K45>0,INDIRECT(K$6&"!"&ADDRESS(69,3)),INDIRECT(K$3&"!"&ADDRESS(69,3))) -> -2.207079 | L8: =IF(L45>0,INDIRECT(L$6&"!"&ADDRESS(69,3)),INDIRECT(L$3&"!"&ADDRESS(69,3))) -> -2.5732779 | ... V8: =IF(V45>0,INDIRECT(V$6&"!"&ADDRESS(69,3)),INDIRECT(V$3&"!"&ADDRESS(69,3))) -> -3.5848177
A9: Φ16% | C9: =IF(C45>0,INDIRECT(C$6&"!"&ADDRESS(70,3)),INDIRECT(C$3&"!"&ADDRESS(70,3))) -> -2.6517977 | D9: =IF(D45>0.1,INDIRECT(D$6&"!"&ADDRESS(70,3)),INDIRECT(D$3&"!"&ADDRESS(70,3))) -> -3.0736031 | E9: =IF(E45>0,INDIRECT(E$6&"!"&ADDRESS(70,3)),INDIRECT(E$3&"!"&ADDRESS(70,3))) -> -4.2145375 | F9: =IF(F45>0,INDIRECT(F$6&"!"&ADDRESS(70,3)),INDIRECT(F$3&"!"&ADDRESS(70,3))) -> -2.8977567 | G9: =IF(G45>0,INDIRECT(G$6&"!"&ADDRESS(70,3)),INDIRECT(G$3&"!"&ADDRESS(70,3))) -> -3.9724405 | H9: =IF(H45>0,INDIRECT(H$6&"!"&ADDRESS(70,3)),INDIRECT(H$3&"!"&ADDRESS(70,3))) -> 0.010442591 | I9: =IF(I45>0,INDIRECT(I$6&"!"&ADDRESS(70,3)),INDIRECT(I$3&"!"&ADDRESS(70,3))) -> -1.0626323 | J9: =IF(J45>0,INDIRECT(J$6&"!"&ADDRESS(70,3)),INDIRECT(J$3&"!"&ADDRESS(70,3))) -> 1.2675207 | K9: =IF(K45>0,INDIRECT(K$6&"!"&ADDRESS(70,3)),INDIRECT(K$3&"!"&ADDRESS(70,3))) -> -0.58478022 | L9: =IF(L45>0,INDIRECT(L$6&"!"&ADDRESS(70,3)),INDIRECT(L$3&"!"&ADDRESS(70,3))) -> -1.8009602 | ... V9: =IF(V45>0,INDIRECT(V$6&"!"&ADDRESS(70,3)),INDIRECT(V$3&"!"&ADDRESS(70,3))) -> -2.7202993
A10: Φ25% | C10: =IF(C45>0,INDIRECT(C$6&"!"&ADDRESS(71,3)),INDIRECT(C$3&"!"&ADDRESS(71,3))) -> -2.1702197 | D10: =IF(D45>0.1,INDIRECT(D$6&"!"&ADDRESS(71,3)),INDIRECT(D$3&"!"&ADDRESS(71,3))) -> -2.6119243 | E10: =IF(E45>0,INDIRECT(E$6&"!"&ADDRESS(71,3)),INDIRECT(E$3&"!"&ADDRESS(71,3))) -> -3.7551412 | F10: =IF(F45>0,INDIRECT(F$6&"!"&ADDRESS(71,3)),INDIRECT(F$3&"!"&ADDRESS(71,3))) -> -2.1537627 | G10: =IF(G45>0,INDIRECT(G$6&"!"&ADDRESS(71,3)),INDIRECT(G$3&"!"&ADDRESS(71,3))) -> -3.6088293 | H10: =IF(H45>0,INDIRECT(H$6&"!"&ADDRESS(71,3)),INDIRECT(H$3&"!"&ADDRESS(71,3))) -> 1.5694118 | I10: =IF(I45>0,INDIRECT(I$6&"!"&ADDRESS(71,3)),INDIRECT(I$3&"!"&ADDRESS(71,3))) -> -0.562358 | J10: =IF(J45>0,INDIRECT(J$6&"!"&ADDRESS(71,3)),INDIRECT(J$3&"!"&ADDRESS(71,3))) -> 2.6218959 | K10: =IF(K45>0,INDIRECT(K$6&"!"&ADDRESS(71,3)),INDIRECT(K$3&"!"&ADDRESS(71,3))) -> -0.22509987 | L10: =IF(L45>0,INDIRECT(L$6&"!"&ADDRESS(71,3)),INDIRECT(L$3&"!"&ADDRESS(71,3))) -> -1.3950707 | ... V10: =IF(V45>0,INDIRECT(V$6&"!"&ADDRESS(71,3)),INDIRECT(V$3&"!"&ADDRESS(71,3))) -> -2.3026101
A11: Φ50% | C11: =IF(C45>0,INDIRECT(C$6&"!"&ADDRESS(72,3)),INDIRECT(C$3&"!"&ADDRESS(72,3))) -> -0.74729273 | D11: =IF(D45>0.1,INDIRECT(D$6&"!"&ADDRESS(72,3)),INDIRECT(D$3&"!"&ADDRESS(72,3))) -> -1.0497936 | E11: =IF(E45>0,INDIRECT(E$6&"!"&ADDRESS(72,3)),INDIRECT(E$3&"!"&ADDRESS(72,3))) -> -2.6782234 | F11: =IF(F45>0,INDIRECT(F$6&"!"&ADDRESS(72,3)),INDIRECT(F$3&"!"&ADDRESS(72,3))) -> -0.50944616 | G11: =IF(G45>0,INDIRECT(G$6&"!"&ADDRESS(72,3)),INDIRECT(G$3&"!"&ADDRESS(72,3))) -> -2.5492911 | H11: =IF(H45>0,INDIRECT(H$6&"!"&ADDRESS(72,3)),INDIRECT(H$3&"!"&ADDRESS(72,3))) -> 3.7790022 | I11: =IF(I45>0,INDIRECT(I$6&"!"&ADDRESS(72,3)),INDIRECT(I$3&"!"&ADDRESS(72,3))) -> 0.52957729 | J11: =IF(J45>0,INDIRECT(J$6&"!"&ADDRESS(72,3)),INDIRECT(J$3&"!"&ADDRESS(72,3))) -> 4.4235751 | K11: =IF(K45>0,INDIRECT(K$6&"!"&ADDRESS(72,3)),INDIRECT(K$3&"!"&ADDRESS(72,3))) -> 0.85870039 | L11: =IF(L45>0,INDIRECT(L$6&"!"&ADDRESS(72,3)),INDIRECT(L$3&"!"&ADDRESS(72,3))) -> -0.1746515 | ... V11: =IF(V45>0,INDIRECT(V$6&"!"&ADDRESS(72,3)),INDIRECT(V$3&"!"&ADDRESS(72,3))) -> -1.0487426
A12: Φ75% | C12: =IF(C45>0,INDIRECT(C$6&"!"&ADDRESS(73,3)),INDIRECT(C$3&"!"&ADDRESS(73,3))) -> 2.7537609 | D12: =IF(D45>0.1,INDIRECT(D$6&"!"&ADDRESS(73,3)),INDIRECT(D$3&"!"&ADDRESS(73,3))) -> 2.9032258 | E12: =IF(E45>0,INDIRECT(E$6&"!"&ADDRESS(73,3)),INDIRECT(E$3&"!"&ADDRESS(73,3))) -> -1.4351866 | F12: =IF(F45>0,INDIRECT(F$6&"!"&ADDRESS(73,3)),INDIRECT(F$3&"!"&ADDRESS(73,3))) -> 3.0322839 | G12: =IF(G45>0,INDIRECT(G$6&"!"&ADDRESS(73,3)),INDIRECT(G$3&"!"&ADDRESS(73,3))) -> -0.72729339 | H12: =IF(H45>0,INDIRECT(H$6&"!"&ADDRESS(73,3)),INDIRECT(H$3&"!"&ADDRESS(73,3))) -> 4.7707115 | I12: =IF(I45>0,INDIRECT(I$6&"!"&ADDRESS(73,3)),INDIRECT(I$3&"!"&ADDRESS(73,3))) -> 1.657821 | J12: =IF(J45>0,INDIRECT(J$6&"!"&ADDRESS(73,3)),INDIRECT(J$3&"!"&ADDRESS(73,3))) -> 6 | K12: =IF(K45>0,INDIRECT(K$6&"!"&ADDRESS(73,3)),INDIRECT(K$3&"!"&ADDRESS(73,3))) -> 2.4724803 | L12: =IF(L45>0,INDIRECT(L$6&"!"&ADDRESS(73,3)),INDIRECT(L$3&"!"&ADDRESS(73,3))) -> 2.0745484 | ... V12: =IF(V45>0,INDIRECT(V$6&"!"&ADDRESS(73,3)),INDIRECT(V$3&"!"&ADDRESS(73,3))) -> 1.1245589
A13: Φ84% | C13: =IF(C45>0,INDIRECT(C$6&"!"&ADDRESS(74,3)),INDIRECT(C$3&"!"&ADDRESS(74,3))) -> 4.3266815 | D13: =IF(D45>0.1,INDIRECT(D$6&"!"&ADDRESS(74,3)),INDIRECT(D$3&"!"&ADDRESS(74,3))) -> 6 | E13: =IF(E45>0,INDIRECT(E$6&"!"&ADDRESS(74,3)),INDIRECT(E$3&"!"&ADDRESS(74,3))) -> -0.79526825 | F13: =IF(F45>0,INDIRECT(F$6&"!"&ADDRESS(74,3)),INDIRECT(F$3&"!"&ADDRESS(74,3))) -> 6 | G13: =IF(G45>0,INDIRECT(G$6&"!"&ADDRESS(74,3)),INDIRECT(G$3&"!"&ADDRESS(74,3))) -> 0.30085547 | H13: =IF(H45>0,INDIRECT(H$6&"!"&ADDRESS(74,3)),INDIRECT(H$3&"!"&ADDRESS(74,3))) -> 4.9499415 | I13: =IF(I45>0,INDIRECT(I$6&"!"&ADDRESS(74,3)),INDIRECT(I$3&"!"&ADDRESS(74,3))) -> 2.2825204 | J13: =IF(J45>0,INDIRECT(J$6&"!"&ADDRESS(74,3)),INDIRECT(J$3&"!"&ADDRESS(74,3))) -> 6 | K13: =IF(K45>0,INDIRECT(K$6&"!"&ADDRESS(74,3)),INDIRECT(K$3&"!"&ADDRESS(74,3))) -> 3.2903155 | L13: =IF(L45>0,INDIRECT(L$6&"!"&ADDRESS(74,3)),INDIRECT(L$3&"!"&ADDRESS(74,3))) -> 3.3618064 | ... V13: =IF(V45>0,INDIRECT(V$6&"!"&ADDRESS(74,3)),INDIRECT(V$3&"!"&ADDRESS(74,3))) -> 2.6693441
A14: Φ95% | C14: =IF(C45>0,INDIRECT(C$6&"!"&ADDRESS(75,3)),INDIRECT(C$3&"!"&ADDRESS(75,3))) -> 6 | D14: =IF(D45>0.1,INDIRECT(D$6&"!"&ADDRESS(75,3)),INDIRECT(D$3&"!"&ADDRESS(75,3))) -> 6 | E14: =IF(E45>0,INDIRECT(E$6&"!"&ADDRESS(75,3)),INDIRECT(E$3&"!"&ADDRESS(75,3))) -> 0.65774038 | F14: =IF(F45>0,INDIRECT(F$6&"!"&ADDRESS(75,3)),INDIRECT(F$3&"!"&ADDRESS(75,3))) -> 6 | G14: =IF(G45>0,INDIRECT(G$6&"!"&ADDRESS(75,3)),INDIRECT(G$3&"!"&ADDRESS(75,3))) -> 2.7325656 | H14: =IF(H45>0,INDIRECT(H$6&"!"&ADDRESS(75,3)),INDIRECT(H$3&"!"&ADDRESS(75,3))) -> 6 | I14: =IF(I45>0,INDIRECT(I$6&"!"&ADDRESS(75,3)),INDIRECT(I$3&"!"&ADDRESS(75,3))) -> 4.5066019 | J14: =IF(J45>0,INDIRECT(J$6&"!"&ADDRESS(75,3)),INDIRECT(J$3&"!"&ADDRESS(75,3))) -> 6 | K14: =IF(K45>0,INDIRECT(K$6&"!"&ADDRESS(75,3)),INDIRECT(K$3&"!"&ADDRESS(75,3))) -> 4.4019813 | L14: =IF(L45>0,INDIRECT(L$6&"!"&ADDRESS(75,3)),INDIRECT(L$3&"!"&ADDRESS(75,3))) -> 4.8847445 | ... V14: =IF(V45>0,INDIRECT(V$6&"!"&ADDRESS(75,3)),INDIRECT(V$3&"!"&ADDRESS(75,3))) -> 3.4501647
A16: MzΦ | C16: =IF(C45>0,INDIRECT(C$6&"!"&ADDRESS(85,4)),INDIRECT(C$3&"!"&ADDRESS(85,4))) -> 0.30919704 | D16: =IF(D45>0.1,INDIRECT(D$6&"!"&ADDRESS(85,4)),INDIRECT(D$3&"!"&ADDRESS(85,4))) -> 0.62553443 | E16: =IF(E45>0,INDIRECT(E$6&"!"&ADDRESS(85,4)),INDIRECT(E$3&"!"&ADDRESS(85,4))) -> -2.5626764 | F16: =IF(F45>0,INDIRECT(F$6&"!"&ADDRESS(85,4)),INDIRECT(F$3&"!"&ADDRESS(85,4))) -> 0.86426571 | G16: =IF(G45>0,INDIRECT(G$6&"!"&ADDRESS(85,4)),INDIRECT(G$3&"!"&ADDRESS(85,4))) -> -2.0736254 | H16: =IF(H45>0,INDIRECT(H$6&"!"&ADDRESS(85,4)),INDIRECT(H$3&"!"&ADDRESS(85,4))) -> 2.9131288 | I16: =IF(I45>0,INDIRECT(I$6&"!"&ADDRESS(85,4)),INDIRECT(I$3&"!"&ADDRESS(85,4))) -> 0.58315515 | J16: =IF(J45>0,INDIRECT(J$6&"!"&ADDRESS(85,4)),INDIRECT(J$3&"!"&ADDRESS(85,4))) -> 3.8970319 | K16: =IF(K45>0,INDIRECT(K$6&"!"&ADDRESS(85,4)),INDIRECT(K$3&"!"&ADDRESS(85,4))) -> 1.1880786 | L16: =IF(L45>0,INDIRECT(L$6&"!"&ADDRESS(85,4)),INDIRECT(L$3&"!"&ADDRESS(85,4))) -> 0.46206491 | ... V16: =IF(V45>0,INDIRECT(V$6&"!"&ADDRESS(85,4)),INDIRECT(V$3&"!"&ADDRESS(85,4))) -> -0.3665659
A17: MdΦ | C17: =IF(C45>0,INDIRECT(C$6&"!"&ADDRESS(86,4)),INDIRECT(C$3&"!"&ADDRESS(86,4))) -> -0.74729273 | D17: =IF(D45>0.1,INDIRECT(D$6&"!"&ADDRESS(86,4)),INDIRECT(D$3&"!"&ADDRESS(86,4))) -> -1.0497936 | E17: =IF(E45>0,INDIRECT(E$6&"!"&ADDRESS(86,4)),INDIRECT(E$3&"!"&ADDRESS(86,4))) -> -2.6782234 | F17: =IF(F45>0,INDIRECT(F$6&"!"&ADDRESS(86,4)),INDIRECT(F$3&"!"&ADDRESS(86,4))) -> -0.50944616 | G17: =IF(G45>0,INDIRECT(G$6&"!"&ADDRESS(86,4)),INDIRECT(G$3&"!"&ADDRESS(86,4))) -> -2.5492911 | H17: =IF(H45>0,INDIRECT(H$6&"!"&ADDRESS(86,4)),INDIRECT(H$3&"!"&ADDRESS(86,4))) -> 3.7790022 | I17: =IF(I45>0,INDIRECT(I$6&"!"&ADDRESS(86,4)),INDIRECT(I$3&"!"&ADDRESS(86,4))) -> 0.52957729 | J17: =IF(J45>0,INDIRECT(J$6&"!"&ADDRESS(86,4)),INDIRECT(J$3&"!"&ADDRESS(86,4))) -> 4.4235751 | K17: =IF(K45>0,INDIRECT(K$6&"!"&ADDRESS(86,4)),INDIRECT(K$3&"!"&ADDRESS(86,4))) -> 0.85870039 | L17: =IF(L45>0,INDIRECT(L$6&"!"&ADDRESS(86,4)),INDIRECT(L$3&"!"&ADDRESS(86,4))) -> -0.1746515 | ... V17: =IF(V45>0,INDIRECT(V$6&"!"&ADDRESS(86,4)),INDIRECT(V$3&"!"&ADDRESS(86,4))) -> -1.0487426
A18: σΦ | C18: =IF(C45>0,INDIRECT(C$6&"!"&ADDRESS(87,4)),INDIRECT(C$3&"!"&ADDRESS(87,4))) -> 3.4892396 | D18: =IF(D45>0.1,INDIRECT(D$6&"!"&ADDRESS(87,4)),INDIRECT(D$3&"!"&ADDRESS(87,4))) -> 4.5368015 | E18: =IF(E45>0,INDIRECT(E$6&"!"&ADDRESS(87,4)),INDIRECT(E$3&"!"&ADDRESS(87,4))) -> 1.7096346 | F18: =IF(F45>0,INDIRECT(F$6&"!"&ADDRESS(87,4)),INDIRECT(F$3&"!"&ADDRESS(87,4))) -> 4.4488784 | G18: =IF(G45>0,INDIRECT(G$6&"!"&ADDRESS(87,4)),INDIRECT(G$3&"!"&ADDRESS(87,4))) -> 2.136648 | H18: =IF(H45>0,INDIRECT(H$6&"!"&ADDRESS(87,4)),INDIRECT(H$3&"!"&ADDRESS(87,4))) -> 2.4697495 | I18: =IF(I45>0,INDIRECT(I$6&"!"&ADDRESS(87,4)),INDIRECT(I$3&"!"&ADDRESS(87,4))) -> 1.6725763 | J18: =IF(J45>0,INDIRECT(J$6&"!"&ADDRESS(87,4)),INDIRECT(J$3&"!"&ADDRESS(87,4))) -> 2.3662397 | K18: =IF(K45>0,INDIRECT(K$6&"!"&ADDRESS(87,4)),INDIRECT(K$3&"!"&ADDRESS(87,4))) -> 1.9375479 | L18: =IF(L45>0,INDIRECT(L$6&"!"&ADDRESS(87,4)),INDIRECT(L$3&"!"&ADDRESS(87,4))) -> 2.5813833 | ... V18: =IF(V45>0,INDIRECT(V$6&"!"&ADDRESS(87,4)),INDIRECT(V$3&"!"&ADDRESS(87,4))) -> 2.6948217
A19: aΦ | C19: =IF(C45>0,INDIRECT(C$6&"!"&ADDRESS(88,4)),INDIRECT(C$3&"!"&ADDRESS(88,4))) -> 0.69418466 | D19: =IF(D45>0.1,INDIRECT(D$6&"!"&ADDRESS(88,4)),INDIRECT(D$3&"!"&ADDRESS(88,4))) -> 0.87643034 | E19: =IF(E45>0,INDIRECT(E$6&"!"&ADDRESS(88,4)),INDIRECT(E$3&"!"&ADDRESS(88,4))) -> -1.3637899 | F19: =IF(F45>0,INDIRECT(F$6&"!"&ADDRESS(88,4)),INDIRECT(F$3&"!"&ADDRESS(88,4))) -> 0.81182023 | G19: =IF(G45>0,INDIRECT(G$6&"!"&ADDRESS(88,4)),INDIRECT(G$3&"!"&ADDRESS(88,4))) -> -0.52525918 | H19: =IF(H45>0,INDIRECT(H$6&"!"&ADDRESS(88,4)),INDIRECT(H$3&"!"&ADDRESS(88,4))) -> 0.47834078 | I19: =IF(I45>0,INDIRECT(I$6&"!"&ADDRESS(88,4)),INDIRECT(I$3&"!"&ADDRESS(88,4))) -> 0.41272308 | J19: =IF(J45>0,INDIRECT(J$6&"!"&ADDRESS(88,4)),INDIRECT(J$3&"!"&ADDRESS(88,4))) -> 1.201884 | K19: =IF(K45>0,INDIRECT(K$6&"!"&ADDRESS(88,4)),INDIRECT(K$3&"!"&ADDRESS(88,4))) -> 0.95318157 | L19: =IF(L45>0,INDIRECT(L$6&"!"&ADDRESS(88,4)),INDIRECT(L$3&"!"&ADDRESS(88,4))) -> 0.67231307 | ... V19: =IF(V45>0,INDIRECT(V$6&"!"&ADDRESS(88,4)),INDIRECT(V$3&"!"&ADDRESS(88,4))) -> 0.37026102
A20: Inclusive graphic standard deviation | C20: =IF(C45>0,INDIRECT(C$6&"!"&ADDRESS(89,4)),INDIRECT(C$3&"!"&ADDRESS(89,4))) -> 3.1818914 | D20: =IF(D45>0.1,INDIRECT(D$6&"!"&ADDRESS(89,4)),INDIRECT(D$3&"!"&ADDRESS(89,4))) -> 3.7336182 | E20: =IF(E45>0,INDIRECT(E$6&"!"&ADDRESS(89,4)),INDIRECT(E$3&"!"&ADDRESS(89,4))) -> 1.7192206 | F20: =IF(F45>0,INDIRECT(F$6&"!"&ADDRESS(89,4)),INDIRECT(F$3&"!"&ADDRESS(89,4))) -> 3.7515195 | G20: =IF(G45>0,INDIRECT(G$6&"!"&ADDRESS(89,4)),INDIRECT(G$3&"!"&ADDRESS(89,4))) -> 2.170576 | H20: =IF(H45>0,INDIRECT(H$6&"!"&ADDRESS(89,4)),INDIRECT(H$3&"!"&ADDRESS(89,4))) -> 2.5149475 | I20: =IF(I45>0,INDIRECT(I$6&"!"&ADDRESS(89,4)),INDIRECT(I$3&"!"&ADDRESS(89,4))) -> 1.8349359 | J20: =IF(J45>0,INDIRECT(J$6&"!"&ADDRESS(89,4)),INDIRECT(J$3&"!"&ADDRESS(89,4))) -> 2.2911868 | K20: =IF(K45>0,INDIRECT(K$6&"!"&ADDRESS(89,4)),INDIRECT(K$3&"!"&ADDRESS(89,4))) -> 1.9701467 | L20: =IF(L45>0,INDIRECT(L$6&"!"&ADDRESS(89,4)),INDIRECT(L$3&"!"&ADDRESS(89,4))) -> 2.4206951 | ... V20: =IF(V45>0,INDIRECT(V$6&"!"&ADDRESS(89,4)),INDIRECT(V$3&"!"&ADDRESS(89,4))) -> 2.4133173
A21: Inclusive graphic skewness | C21: =IF(C45>0,INDIRECT(C$6&"!"&ADDRESS(90,4)),INDIRECT(C$3&"!"&ADDRESS(90,4))) -> 0.43837892 | D21: =IF(D45>0.1,INDIRECT(D$6&"!"&ADDRESS(90,4)),INDIRECT(D$3&"!"&ADDRESS(90,4))) -> 0.50596118 | E21: =IF(E45>0,INDIRECT(E$6&"!"&ADDRESS(90,4)),INDIRECT(E$3&"!"&ADDRESS(90,4))) -> 0.13542686 | F21: =IF(F45>0,INDIRECT(F$6&"!"&ADDRESS(90,4)),INDIRECT(F$3&"!"&ADDRESS(90,4))) -> 0.37744258 | G21: =IF(G45>0,INDIRECT(G$6&"!"&ADDRESS(90,4)),INDIRECT(G$3&"!"&ADDRESS(90,4))) -> 0.39300888 | H21: =IF(H45>0,INDIRECT(H$6&"!"&ADDRESS(90,4)),INDIRECT(H$3&"!"&ADDRESS(90,4))) -> -0.50005645 | I21: =IF(I45>0,INDIRECT(I$6&"!"&ADDRESS(90,4)),INDIRECT(I$3&"!"&ADDRESS(90,4))) -> 0.1274203 | J21: =IF(J45>0,INDIRECT(J$6&"!"&ADDRESS(90,4)),INDIRECT(J$3&"!"&ADDRESS(90,4))) -> -0.45133479 | K21: =IF(K45>0,INDIRECT(K$6&"!"&ADDRESS(90,4)),INDIRECT(K$3&"!"&ADDRESS(90,4))) -> 0.16362284 | L21: =IF(L45>0,INDIRECT(L$6&"!"&ADDRESS(90,4)),INDIRECT(L$3&"!"&ADDRESS(90,4))) -> 0.36337585 | ... V21: =IF(V45>0,INDIRECT(V$6&"!"&ADDRESS(90,4)),INDIRECT(V$3&"!"&ADDRESS(90,4))) -> 0.32936276
A22: Graphic kurtosis | C22: =IF(C45>0,INDIRECT(C$6&"!"&ADDRESS(91,4)),INDIRECT(C$3&"!"&ADDRESS(91,4))) -> 0.65026977 | D22: =IF(D45>0.1,INDIRECT(D$6&"!"&ADDRESS(91,4)),INDIRECT(D$3&"!"&ADDRESS(91,4))) -> 0.71861923 | E22: =IF(E45>0,INDIRECT(E$6&"!"&ADDRESS(91,4)),INDIRECT(E$3&"!"&ADDRESS(91,4))) -> 0.75115471 | F22: =IF(F45>0,INDIRECT(F$6&"!"&ADDRESS(91,4)),INDIRECT(F$3&"!"&ADDRESS(91,4))) -> 0.79648864 | G22: =IF(G45>0,INDIRECT(G$6&"!"&ADDRESS(91,4)),INDIRECT(G$3&"!"&ADDRESS(91,4))) -> 0.68883358 | H22: =IF(H45>0,INDIRECT(H$6&"!"&ADDRESS(91,4)),INDIRECT(H$3&"!"&ADDRESS(91,4))) -> 0.94715905 | I22: =IF(I45>0,INDIRECT(I$6&"!"&ADDRESS(91,4)),INDIRECT(I$3&"!"&ADDRESS(91,4))) -> 0.80612933 | J22: =IF(J45>0,INDIRECT(J$6&"!"&ADDRESS(91,4)),INDIRECT(J$3&"!"&ADDRESS(91,4))) -> 0.88725217 | K22: =IF(K45>0,INDIRECT(K$6&"!"&ADDRESS(91,4)),INDIRECT(K$3&"!"&ADDRESS(91,4))) -> 0.83520431 | L22: =IF(L45>0,INDIRECT(L$6&"!"&ADDRESS(91,4)),INDIRECT(L$3&"!"&ADDRESS(91,4))) -> 0.70106014 | ... V22: =IF(V45>0,INDIRECT(V$6&"!"&ADDRESS(91,4)),INDIRECT(V$3&"!"&ADDRESS(91,4))) -> 0.74790039
A23: Graphic mean | C23: =IF(C45>0,INDIRECT(C$6&"!"&ADDRESS(92,4)),INDIRECT(C$3&"!"&ADDRESS(92,4))) -> 0.30919704 | D23: =IF(D45>0.1,INDIRECT(D$6&"!"&ADDRESS(92,4)),INDIRECT(D$3&"!"&ADDRESS(92,4))) -> 0.62553443 | E23: =IF(E45>0,INDIRECT(E$6&"!"&ADDRESS(92,4)),INDIRECT(E$3&"!"&ADDRESS(92,4))) -> -2.5626764 | F23: =IF(F45>0,INDIRECT(F$6&"!"&ADDRESS(92,4)),INDIRECT(F$3&"!"&ADDRESS(92,4))) -> 0.86426571 | G23: =IF(G45>0,INDIRECT(G$6&"!"&ADDRESS(92,4)),INDIRECT(G$3&"!"&ADDRESS(92,4))) -> -2.0736254 | H23: =IF(H45>0,INDIRECT(H$6&"!"&ADDRESS(92,4)),INDIRECT(H$3&"!"&ADDRESS(92,4))) -> 2.9131288 | I23: =IF(I45>0,INDIRECT(I$6&"!"&ADDRESS(92,4)),INDIRECT(I$3&"!"&ADDRESS(92,4))) -> 0.58315515 | J23: =IF(J45>0,INDIRECT(J$6&"!"&ADDRESS(92,4)),INDIRECT(J$3&"!"&ADDRESS(92,4))) -> 3.8970319 | K23: =IF(K45>0,INDIRECT(K$6&"!"&ADDRESS(92,4)),INDIRECT(K$3&"!"&ADDRESS(92,4))) -> 1.1880786 | L23: =IF(L45>0,INDIRECT(L$6&"!"&ADDRESS(92,4)),INDIRECT(L$3&"!"&ADDRESS(92,4))) -> 0.46206491 | ... V23: =IF(V45>0,INDIRECT(V$6&"!"&ADDRESS(92,4)),INDIRECT(V$3&"!"&ADDRESS(92,4))) -> -0.3665659
A24: MΦ | C24: =IF(C45>0,INDIRECT(C$6&"!"&ADDRESS(94,4)),INDIRECT(C$3&"!"&ADDRESS(94,4))) -> 0.83744193 | D24: =IF(D45>0.1,INDIRECT(D$6&"!"&ADDRESS(94,4)),INDIRECT(D$3&"!"&ADDRESS(94,4))) -> 1.4631985 | E24: =IF(E45>0,INDIRECT(E$6&"!"&ADDRESS(94,4)),INDIRECT(E$3&"!"&ADDRESS(94,4))) -> -2.5049029 | F24: =IF(F45>0,INDIRECT(F$6&"!"&ADDRESS(94,4)),INDIRECT(F$3&"!"&ADDRESS(94,4))) -> 1.5511216 | G24: =IF(G45>0,INDIRECT(G$6&"!"&ADDRESS(94,4)),INDIRECT(G$3&"!"&ADDRESS(94,4))) -> -1.8357925 | H24: =IF(H45>0,INDIRECT(H$6&"!"&ADDRESS(94,4)),INDIRECT(H$3&"!"&ADDRESS(94,4))) -> 2.480192 | I24: =IF(I45>0,INDIRECT(I$6&"!"&ADDRESS(94,4)),INDIRECT(I$3&"!"&ADDRESS(94,4))) -> 0.60994408 | J24: =IF(J45>0,INDIRECT(J$6&"!"&ADDRESS(94,4)),INDIRECT(J$3&"!"&ADDRESS(94,4))) -> 3.6337603 | K24: =IF(K45>0,INDIRECT(K$6&"!"&ADDRESS(94,4)),INDIRECT(K$3&"!"&ADDRESS(94,4))) -> 1.3527677 | L24: =IF(L45>0,INDIRECT(L$6&"!"&ADDRESS(94,4)),INDIRECT(L$3&"!"&ADDRESS(94,4))) -> 0.78042312 | ... V24: =IF(V45>0,INDIRECT(V$6&"!"&ADDRESS(94,4)),INDIRECT(V$3&"!"&ADDRESS(94,4))) -> -0.025477569
A25: F1 | C25: =IF(C45>0,INDIRECT(C$6&"!"&ADDRESS(95,4)),INDIRECT(C$3&"!"&ADDRESS(95,4))) -> 37.632516 | D25: =IF(D45>0.1,INDIRECT(D$6&"!"&ADDRESS(95,4)),INDIRECT(D$3&"!"&ADDRESS(95,4))) -> 36.89071 | E25: =IF(E45>0,INDIRECT(E$6&"!"&ADDRESS(95,4)),INDIRECT(E$3&"!"&ADDRESS(95,4))) -> 5.5720878 | F25: =IF(F45>0,INDIRECT(F$6&"!"&ADDRESS(95,4)),INDIRECT(F$3&"!"&ADDRESS(95,4))) -> 39.187421 | G25: =IF(G45>0,INDIRECT(G$6&"!"&ADDRESS(95,4)),INDIRECT(G$3&"!"&ADDRESS(95,4))) -> 14.542724 | H25: =IF(H45>0,INDIRECT(H$6&"!"&ADDRESS(95,4)),INDIRECT(H$3&"!"&ADDRESS(95,4))) -> 81.589172 | I25: =IF(I45>0,INDIRECT(I$6&"!"&ADDRESS(95,4)),INDIRECT(I$3&"!"&ADDRESS(95,4))) -> 50.713488 | J25: =IF(J45>0,INDIRECT(J$6&"!"&ADDRESS(95,4)),INDIRECT(J$3&"!"&ADDRESS(95,4))) -> 87.532347 | K25: =IF(K45>0,INDIRECT(K$6&"!"&ADDRESS(95,4)),INDIRECT(K$3&"!"&ADDRESS(95,4))) -> 56.405264 | L25: =IF(L45>0,INDIRECT(L$6&"!"&ADDRESS(95,4)),INDIRECT(L$3&"!"&ADDRESS(95,4))) -> 40.069645 | ... V25: =IF(V45>0,INDIRECT(V$6&"!"&ADDRESS(95,4)),INDIRECT(V$3&"!"&ADDRESS(95,4))) -> 29.425547
A26: F2 | C26: =IF(C45>0,INDIRECT(C$6&"!"&ADDRESS(96,4)),INDIRECT(C$3&"!"&ADDRESS(96,4))) -> 17.629835 | D26: =IF(D45>0.1,INDIRECT(D$6&"!"&ADDRESS(96,4)),INDIRECT(D$3&"!"&ADDRESS(96,4))) -> 18.903624 | E26: =IF(E45>0,INDIRECT(E$6&"!"&ADDRESS(96,4)),INDIRECT(E$3&"!"&ADDRESS(96,4))) -> 0.91715392 | F26: =IF(F45>0,INDIRECT(F$6&"!"&ADDRESS(96,4)),INDIRECT(F$3&"!"&ADDRESS(96,4))) -> 16.967681 | G26: =IF(G45>0,INDIRECT(G$6&"!"&ADDRESS(96,4)),INDIRECT(G$3&"!"&ADDRESS(96,4))) -> 2.7943406 | H26: =IF(H45>0,INDIRECT(H$6&"!"&ADDRESS(96,4)),INDIRECT(H$3&"!"&ADDRESS(96,4))) -> 45.914145 | I26: =IF(I45>0,INDIRECT(I$6&"!"&ADDRESS(96,4)),INDIRECT(I$3&"!"&ADDRESS(96,4))) -> 6.1906055 | J26: =IF(J45>0,INDIRECT(J$6&"!"&ADDRESS(96,4)),INDIRECT(J$3&"!"&ADDRESS(96,4))) -> 56.386407 | K26: =IF(K45>0,INDIRECT(K$6&"!"&ADDRESS(96,4)),INDIRECT(K$3&"!"&ADDRESS(96,4))) -> 9.3450666 | L26: =IF(L45>0,INDIRECT(L$6&"!"&ADDRESS(96,4)),INDIRECT(L$3&"!"&ADDRESS(96,4))) -> 11.332573 | ... V26: =IF(V45>0,INDIRECT(V$6&"!"&ADDRESS(96,4)),INDIRECT(V$3&"!"&ADDRESS(96,4))) -> 1.1668355
A28: Block and bombs | C28: =IF(C45>0,INDIRECT(C$6&"!"&ADDRESS(77,2)),INDIRECT(C$3&"!"&ADDRESS(77,2))) -> 0 | D28: =IF(D45>0.1,INDIRECT(D$6&"!"&ADDRESS(77,2)),INDIRECT(D$3&"!"&ADDRESS(77,2))) -> 0 | E28: =IF(E45>0,INDIRECT(E$6&"!"&ADDRESS(77,2)),INDIRECT(E$3&"!"&ADDRESS(77,2))) -> 0 | F28: =IF(F45>0,INDIRECT(F$6&"!"&ADDRESS(77,2)),INDIRECT(F$3&"!"&ADDRESS(77,2))) -> 0.004462323 | G28: =IF(G45>0,INDIRECT(G$6&"!"&ADDRESS(77,2)),INDIRECT(G$3&"!"&ADDRESS(77,2))) -> 0 | H28: =IF(H45>0,INDIRECT(H$6&"!"&ADDRESS(77,2)),INDIRECT(H$3&"!"&ADDRESS(77,2))) -> 0 | I28: =IF(I45>0,INDIRECT(I$6&"!"&ADDRESS(77,2)),INDIRECT(I$3&"!"&ADDRESS(77,2))) -> 0 | J28: =IF(J45>0,INDIRECT(J$6&"!"&ADDRESS(77,2)),INDIRECT(J$3&"!"&ADDRESS(77,2))) -> 0 | K28: =IF(K45>0,INDIRECT(K$6&"!"&ADDRESS(77,2)),INDIRECT(K$3&"!"&ADDRESS(77,2))) -> 0 | L28: =IF(L45>0,INDIRECT(L$6&"!"&ADDRESS(77,2)),INDIRECT(L$3&"!"&ADDRESS(77,2))) -> 0 | ... V28: =IF(V45>0,INDIRECT(V$6&"!"&ADDRESS(77,2)),INDIRECT(V$3&"!"&ADDRESS(77,2))) -> 0
A29: Lapilli | C29: =IF(C45>0,INDIRECT(C$6&"!"&ADDRESS(78,2)),INDIRECT(C$3&"!"&ADDRESS(78,2))) -> 0.46473545 | D29: =IF(D45>0.1,INDIRECT(D$6&"!"&ADDRESS(78,2)),INDIRECT(D$3&"!"&ADDRESS(78,2))) -> 0.6310929 | E29: =IF(E45>0,INDIRECT(E$6&"!"&ADDRESS(78,2)),INDIRECT(E$3&"!"&ADDRESS(78,2))) -> 0.8173771 | F29: =IF(F45>0,INDIRECT(F$6&"!"&ADDRESS(78,2)),INDIRECT(F$3&"!"&ADDRESS(78,2))) -> 0.60366347 | G29: =IF(G45>0,INDIRECT(G$6&"!"&ADDRESS(78,2)),INDIRECT(G$3&"!"&ADDRESS(78,2))) -> 0.72051961 | H29: =IF(H45>0,INDIRECT(H$6&"!"&ADDRESS(78,2)),INDIRECT(H$3&"!"&ADDRESS(78,2))) -> 0.11475772 | I29: =IF(I45>0,INDIRECT(I$6&"!"&ADDRESS(78,2)),INDIRECT(I$3&"!"&ADDRESS(78,2))) -> 0.16864271 | J29: =IF(J45>0,INDIRECT(J$6&"!"&ADDRESS(78,2)),INDIRECT(J$3&"!"&ADDRESS(78,2))) -> 0.060568332 | K29: =IF(K45>0,INDIRECT(K$6&"!"&ADDRESS(78,2)),INDIRECT(K$3&"!"&ADDRESS(78,2))) -> 0.11291955 | L29: =IF(L45>0,INDIRECT(L$6&"!"&ADDRESS(78,2)),INDIRECT(L$3&"!"&ADDRESS(78,2))) -> 0.35272834 | ... V29: =IF(V45>0,INDIRECT(V$6&"!"&ADDRESS(78,2)),INDIRECT(V$3&"!"&ADDRESS(78,2))) -> 0.70574453
A30: Ash | C30: =IF(C45>0,INDIRECT(C$6&"!"&ADDRESS(79,2)),INDIRECT(C$3&"!"&ADDRESS(79,2))) -> 0.53526455 | D30: =IF(D45>0.1,INDIRECT(D$6&"!"&ADDRESS(79,2)),INDIRECT(D$3&"!"&ADDRESS(79,2))) -> 0.3689071 | E30: =IF(E45>0,INDIRECT(E$6&"!"&ADDRESS(79,2)),INDIRECT(E$3&"!"&ADDRESS(79,2))) -> 0.1826229 | F30: =IF(F45>0,INDIRECT(F$6&"!"&ADDRESS(79,2)),INDIRECT(F$3&"!"&ADDRESS(79,2))) -> 0.39187421 | G30: =IF(G45>0,INDIRECT(G$6&"!"&ADDRESS(79,2)),INDIRECT(G$3&"!"&ADDRESS(79,2))) -> 0.27948039 | H30: =IF(H45>0,INDIRECT(H$6&"!"&ADDRESS(79,2)),INDIRECT(H$3&"!"&ADDRESS(79,2))) -> 0.88524228 | I30: =IF(I45>0,INDIRECT(I$6&"!"&ADDRESS(79,2)),INDIRECT(I$3&"!"&ADDRESS(79,2))) -> 0.83135729 | J30: =IF(J45>0,INDIRECT(J$6&"!"&ADDRESS(79,2)),INDIRECT(J$3&"!"&ADDRESS(79,2))) -> 0.93943167 | K30: =IF(K45>0,INDIRECT(K$6&"!"&ADDRESS(79,2)),INDIRECT(K$3&"!"&ADDRESS(79,2))) -> 0.88708045 | L30: =IF(L45>0,INDIRECT(L$6&"!"&ADDRESS(79,2)),INDIRECT(L$3&"!"&ADDRESS(79,2))) -> 0.64727166 | ... V30: =IF(V45>0,INDIRECT(V$6&"!"&ADDRESS(79,2)),INDIRECT(V$3&"!"&ADDRESS(79,2))) -> 0.29425547
A32: Lapilli (%) | C32: =IF(C45>0,INDIRECT(C$6&"!"&ADDRESS(77,5)),INDIRECT(C$3&"!"&ADDRESS(77,5))) -> 46.473545 | D32: =IF(D45>0.1,INDIRECT(D$6&"!"&ADDRESS(77,5)),INDIRECT(D$3&"!"&ADDRESS(77,5))) -> 50.670046 | E32: =IF(E45>0,INDIRECT(E$6&"!"&ADDRESS(77,5)),INDIRECT(E$3&"!"&ADDRESS(77,5))) -> 81.73771 | F32: =IF(F45>0,INDIRECT(F$6&"!"&ADDRESS(77,5)),INDIRECT(F$3&"!"&ADDRESS(77,5))) -> 42.401715 | G32: =IF(G45>0,INDIRECT(G$6&"!"&ADDRESS(77,5)),INDIRECT(G$3&"!"&ADDRESS(77,5))) -> 72.051961 | H32: =IF(H45>0,INDIRECT(H$6&"!"&ADDRESS(77,5)),INDIRECT(H$3&"!"&ADDRESS(77,5))) -> 11.475772 | I32: =IF(I45>0,INDIRECT(I$6&"!"&ADDRESS(77,5)),INDIRECT(I$3&"!"&ADDRESS(77,5))) -> 16.864271 | J32: =IF(J45>0,INDIRECT(J$6&"!"&ADDRESS(77,5)),INDIRECT(J$3&"!"&ADDRESS(77,5))) -> 6.0568332 | K32: =IF(K45>0,INDIRECT(K$6&"!"&ADDRESS(77,5)),INDIRECT(K$3&"!"&ADDRESS(77,5))) -> 11.291955 | L32: =IF(L45>0,INDIRECT(L$6&"!"&ADDRESS(77,5)),INDIRECT(L$3&"!"&ADDRESS(77,5))) -> 35.272834 | ... V32: =IF(V45>0,INDIRECT(V$6&"!"&ADDRESS(77,5)),INDIRECT(V$3&"!"&ADDRESS(77,5))) -> 50.953167
A33: Coarse ash (%) | C33: =IF(C45>0,INDIRECT(C$6&"!"&ADDRESS(78,5)),INDIRECT(C$3&"!"&ADDRESS(78,5))) -> 35.89662 | D33: =IF(D45>0.1,INDIRECT(D$6&"!"&ADDRESS(78,5)),INDIRECT(D$3&"!"&ADDRESS(78,5))) -> 30.42633 | E33: =IF(E45>0,INDIRECT(E$6&"!"&ADDRESS(78,5)),INDIRECT(E$3&"!"&ADDRESS(78,5))) -> 17.345136 | F33: =IF(F45>0,INDIRECT(F$6&"!"&ADDRESS(78,5)),INDIRECT(F$3&"!"&ADDRESS(78,5))) -> 40.630604 | G33: =IF(G45>0,INDIRECT(G$6&"!"&ADDRESS(78,5)),INDIRECT(G$3&"!"&ADDRESS(78,5))) -> 25.153699 | H33: =IF(H45>0,INDIRECT(H$6&"!"&ADDRESS(78,5)),INDIRECT(H$3&"!"&ADDRESS(78,5))) -> 42.610083 | I33: =IF(I45>0,INDIRECT(I$6&"!"&ADDRESS(78,5)),INDIRECT(I$3&"!"&ADDRESS(78,5))) -> 76.945123 | J33: =IF(J45>0,INDIRECT(J$6&"!"&ADDRESS(78,5)),INDIRECT(J$3&"!"&ADDRESS(78,5))) -> 37.55676 | K33: =IF(K45>0,INDIRECT(K$6&"!"&ADDRESS(78,5)),INDIRECT(K$3&"!"&ADDRESS(78,5))) -> 79.362978 | L33: =IF(L45>0,INDIRECT(L$6&"!"&ADDRESS(78,5)),INDIRECT(L$3&"!"&ADDRESS(78,5))) -> 53.394593 | ... V33: =IF(V45>0,INDIRECT(V$6&"!"&ADDRESS(78,5)),INDIRECT(V$3&"!"&ADDRESS(78,5))) -> 47.879998
A34: Fine ash (%) | C34: =IF(C45>0,INDIRECT(C$6&"!"&ADDRESS(79,5)),INDIRECT(C$3&"!"&ADDRESS(79,5))) -> 17.629835 | D34: =IF(D45>0.1,INDIRECT(D$6&"!"&ADDRESS(79,5)),INDIRECT(D$3&"!"&ADDRESS(79,5))) -> 18.903624 | E34: =IF(E45>0,INDIRECT(E$6&"!"&ADDRESS(79,5)),INDIRECT(E$3&"!"&ADDRESS(79,5))) -> 0.91715392 | F34: =IF(F45>0,INDIRECT(F$6&"!"&ADDRESS(79,5)),INDIRECT(F$3&"!"&ADDRESS(79,5))) -> 16.967681 | G34: =IF(G45>0,INDIRECT(G$6&"!"&ADDRESS(79,5)),INDIRECT(G$3&"!"&ADDRESS(79,5))) -> 2.7943406 | H34: =IF(H45>0,INDIRECT(H$6&"!"&ADDRESS(79,5)),INDIRECT(H$3&"!"&ADDRESS(79,5))) -> 45.914145 | I34: =IF(I45>0,INDIRECT(I$6&"!"&ADDRESS(79,5)),INDIRECT(I$3&"!"&ADDRESS(79,5))) -> 6.1906055 | J34: =IF(J45>0,INDIRECT(J$6&"!"&ADDRESS(79,5)),INDIRECT(J$3&"!"&ADDRESS(79,5))) -> 56.386407 | K34: =IF(K45>0,INDIRECT(K$6&"!"&ADDRESS(79,5)),INDIRECT(K$3&"!"&ADDRESS(79,5))) -> 9.3450666 | L34: =IF(L45>0,INDIRECT(L$6&"!"&ADDRESS(79,5)),INDIRECT(L$3&"!"&ADDRESS(79,5))) -> 11.332573 | ... V34: =IF(V45>0,INDIRECT(V$6&"!"&ADDRESS(79,5)),INDIRECT(V$3&"!"&ADDRESS(79,5))) -> 1.1668355
C35: =C34/SUM(C32:C34) -> 0.17629835 | D35: =D34/SUM(D32:D34) -> 0.18903624 | E35: =E34/SUM(E32:E34) -> 0.0091715392 | F35: =F34/SUM(F32:F34) -> 0.16967681 | G35: =G34/SUM(G32:G34) -> 0.027943406 | H35: =H34/SUM(H32:H34) -> 0.45914145 | I35: =I34/SUM(I32:I34) -> 0.061906055 | J35: =J34/SUM(J32:J34) -> 0.56386407 | ... V35: =V34/SUM(V32:V34) -> 0.011668355
A36: Componentry
A38: Juvenile (%) | C38: =INDIRECT(C$3&"!"&ADDRESS(81,2)) -> 76.32591 | D38: =INDIRECT(D$3&"!"&ADDRESS(81,2)) -> 62.121494 | E38: =INDIRECT(E$3&"!"&ADDRESS(81,2)) -> 57.763824 | F38: =INDIRECT(F$3&"!"&ADDRESS(81,2)) -> 49.067323 | G38: =INDIRECT(G$3&"!"&ADDRESS(81,2)) -> 58.018016 | H38: =INDIRECT(H$3&"!"&ADDRESS(81,2)) -> 25.297002 | I38: =INDIRECT(I$3&"!"&ADDRESS(81,2)) -> 66.574836 | J38: =INDIRECT(J$3&"!"&ADDRESS(81,2)) -> 98.772563 | ... V38: =INDIRECT(V$3&"!"&ADDRESS(81,2)) -> 38.521605
A39: Lithics (%) | C39: =INDIRECT(C$3&"!"&ADDRESS(82,2)) -> 2.1713529 | D39: =INDIRECT(D$3&"!"&ADDRESS(82,2)) -> 34.295302 | E39: =INDIRECT(E$3&"!"&ADDRESS(82,2)) -> 42.108134 | F39: =INDIRECT(F$3&"!"&ADDRESS(82,2)) -> 3.2849516 | G39: =INDIRECT(G$3&"!"&ADDRESS(82,2)) -> 41.929551 | H39: =INDIRECT(H$3&"!"&ADDRESS(82,2)) -> 72.058809 | I39: =INDIRECT(I$3&"!"&ADDRESS(82,2)) -> 14.346952 | J39: =INDIRECT(J$3&"!"&ADDRESS(82,2)) -> 1.1191336 | ... V39: =INDIRECT(V$3&"!"&ADDRESS(82,2)) -> 1.7896019
A40: Crystals (%) | C40: =INDIRECT(C$3&"!"&ADDRESS(83,2)) -> 0.013793322 | D40: =INDIRECT(D$3&"!"&ADDRESS(83,2)) -> 0 | E40: =INDIRECT(E$3&"!"&ADDRESS(83,2)) -> 0.12804175 | F40: =INDIRECT(F$3&"!"&ADDRESS(83,2)) -> 0.022808307 | G40: =INDIRECT(G$3&"!"&ADDRESS(83,2)) -> 0.052432525 | H40: =INDIRECT(H$3&"!"&ADDRESS(83,2)) -> 0.94235107 | I40: =INDIRECT(I$3&"!"&ADDRESS(83,2)) -> 0 | J40: =INDIRECT(J$3&"!"&ADDRESS(83,2)) -> 0 | ... V40: =INDIRECT(V$3&"!"&ADDRESS(83,2)) -> 0
A42: Juvenile (%) | C42: =INDIRECT(C$3&"!"&ADDRESS(81,5)) -> 76.32591 | D42: =INDIRECT(D$3&"!"&ADDRESS(81,5)) -> 62.121494 | E42: =INDIRECT(E$3&"!"&ADDRESS(81,5)) -> 57.763824 | F42: =INDIRECT(F$3&"!"&ADDRESS(81,5)) -> 49.067323 | G42: =INDIRECT(G$3&"!"&ADDRESS(81,5)) -> 58.018016 | H42: =INDIRECT(H$3&"!"&ADDRESS(81,5)) -> 25.297002 | I42: =INDIRECT(I$3&"!"&ADDRESS(81,5)) -> 66.574836 | J42: =INDIRECT(J$3&"!"&ADDRESS(81,5)) -> 98.772563 | ... V42: =INDIRECT(V$3&"!"&ADDRESS(81,5)) -> 38.521605
A43: Lithics (%) | C43: =INDIRECT(C$3&"!"&ADDRESS(82,5)) -> 2.1713529 | D43: =INDIRECT(D$3&"!"&ADDRESS(82,5)) -> 34.295302 | E43: =INDIRECT(E$3&"!"&ADDRESS(82,5)) -> 42.108134 | F43: =INDIRECT(F$3&"!"&ADDRESS(82,5)) -> 3.2849516 | G43: =INDIRECT(G$3&"!"&ADDRESS(82,5)) -> 41.929551 | H43: =INDIRECT(H$3&"!"&ADDRESS(82,5)) -> 72.058809 | I43: =INDIRECT(I$3&"!"&ADDRESS(82,5)) -> 14.346952 | J43: =INDIRECT(J$3&"!"&ADDRESS(82,5)) -> 1.1191336 | ... V43: =INDIRECT(V$3&"!"&ADDRESS(82,5)) -> 1.7896019
A44: Mixed (%) | C44: =INDIRECT(C$3&"!"&ADDRESS(83,5)) -> 21.488944 | D44: =INDIRECT(D$3&"!"&ADDRESS(83,5)) -> 3.5832039 | E44: =INDIRECT(E$3&"!"&ADDRESS(83,5)) -> 0 | F44: =INDIRECT(F$3&"!"&ADDRESS(83,5)) -> 47.624918 | G44: =INDIRECT(G$3&"!"&ADDRESS(83,5)) -> 0 | H44: =INDIRECT(H$3&"!"&ADDRESS(83,5)) -> 1.701838 | I44: =INDIRECT(I$3&"!"&ADDRESS(83,5)) -> 19.078212 | J44: =INDIRECT(J$3&"!"&ADDRESS(83,5)) -> 0.10830325 | ... V44: =INDIRECT(V$3&"!"&ADDRESS(83,5)) -> 59.688793
A45: Only Aggregates | C45: =(INDIRECT(C$3&"!"&ADDRESS(34,13)))/(INDIRECT(C$3&"!"&ADDRESS(4,2))) -> 0.12788345 | D45: =(INDIRECT(D$3&"!"&ADDRESS(34,13)))/(INDIRECT(D$3&"!"&ADDRESS(4,2))) -> 0.018802597 | E45: =(INDIRECT(E$3&"!"&ADDRESS(34,13)))/(INDIRECT(E$3&"!"&ADDRESS(4,2))) -> 0 | F45: =(INDIRECT(F$3&"!"&ADDRESS(34,13)))/(INDIRECT(F$3&"!"&ADDRESS(4,2))) -> 0.31317873 | G45: =(INDIRECT(G$3&"!"&ADDRESS(34,13)))/(INDIRECT(G$3&"!"&ADDRESS(4,2))) -> 0 | H45: =(INDIRECT(H$3&"!"&ADDRESS(34,13)))/(INDIRECT(H$3&"!"&ADDRESS(4,2))) -> 0.0023634702 | I45: =(INDIRECT(I$3&"!"&ADDRESS(34,13)))/(INDIRECT(I$3&"!"&ADDRESS(4,2))) -> 0.058281423 | J45: =(INDIRECT(J$3&"!"&ADDRESS(34,13)))/(INDIRECT(J$3&"!"&ADDRESS(4,2))) -> 0 | ... V45: =(INDIRECT(V$3&"!"&ADDRESS(34,13)))/(INDIRECT(V$3&"!"&ADDRESS(4,2))) -> 0.46449497
A47: Pumices (%) | C47: =INDIRECT(C$3&"!"&ADDRESS(81,8)) -> 14.606857 | D47: =INDIRECT(D$3&"!"&ADDRESS(81,8)) -> 40.524499 | E47: =INDIRECT(E$3&"!"&ADDRESS(81,8)) -> 37.840184 | F47: =INDIRECT(F$3&"!"&ADDRESS(81,8)) -> 29.898544 | G47: =INDIRECT(G$3&"!"&ADDRESS(81,8)) -> 52.776884 | H47: =INDIRECT(H$3&"!"&ADDRESS(81,8)) -> 18.603248 | I47: =INDIRECT(I$3&"!"&ADDRESS(81,8)) -> 0.65660562 | J47: =INDIRECT(J$3&"!"&ADDRESS(81,8)) -> 39.139863 | ... V47: =INDIRECT(V$3&"!"&ADDRESS(81,8)) -> 15.262231
A48: Dense Juvenile (%) | C48: =INDIRECT(C$3&"!"&ADDRESS(82,8)) -> 82.609909 | D48: =INDIRECT(D$3&"!"&ADDRESS(82,8)) -> 23.905658 | E48: =INDIRECT(E$3&"!"&ADDRESS(82,8)) -> 19.923641 | F48: =INDIRECT(F$3&"!"&ADDRESS(82,8)) -> 63.785934 | G48: =INDIRECT(G$3&"!"&ADDRESS(82,8)) -> 5.2411329 | H48: =INDIRECT(H$3&"!"&ADDRESS(82,8)) -> 7.1317209 | I48: =INDIRECT(I$3&"!"&ADDRESS(82,8)) -> 81.613989 | J48: =INDIRECT(J$3&"!"&ADDRESS(82,8)) -> 59.73979 | ... V48: =INDIRECT(V$3&"!"&ADDRESS(82,8)) -> 80.298305
A49: Lithics (%) | C49: =INDIRECT(C$3&"!"&ADDRESS(83,8)) -> 2.7656651 | D49: =INDIRECT(D$3&"!"&ADDRESS(83,8)) -> 35.569842 | E49: =INDIRECT(E$3&"!"&ADDRESS(83,8)) -> 42.108134 | F49: =INDIRECT(F$3&"!"&ADDRESS(83,8)) -> 6.271974 | G49: =INDIRECT(G$3&"!"&ADDRESS(83,8)) -> 41.929551 | H49: =INDIRECT(H$3&"!"&ADDRESS(83,8)) -> 73.306365 | I49: =INDIRECT(I$3&"!"&ADDRESS(83,8)) -> 17.729405 | J49: =INDIRECT(J$3&"!"&ADDRESS(83,8)) -> 1.1203469 | ... V49: =INDIRECT(V$3&"!"&ADDRESS(83,8)) -> 4.4394648
...

Sheet Blank
A2: Grain size analysis of sample | D2: =RIGHT(CELL("nomfichier",A1),LEN(CELL("nomfichier",A1))-FIND("]",CELL("nomfichier",A1))) -> Blank | G2: Sample : | H2: =D2 -> Blank | K2: Location : Airport Beach
H3: Juveniles | K3: Lithics | S3: Juveniles | V3: Lithics | AD3: Juveniles | AG3: Lithics
A4: Total weight (g) | B4: =SUM(C7:C33) -> 0 | G4: Grain size (phi) | H4: Pumices | I4: Dense juveniles | J4: Obsidian | K4: Coral fragments | L4: Mafic clasts | M4: Aggregate | N4: Accretionnary lapilli | O4: Crystals | P4: Total | R4: =G4 -> Grain size (phi) | S4: =H4 -> Pumices | T4: =I4 -> Dense juveniles | U4: =J4 -> Obsidian | V4: =K4 -> Coral fragments | W4: =L4 -> Mafic clasts | X4: =M4 -> Aggregate | Y4: =N4 -> Accretionnary lapilli | Z4: =O4 -> Crystals | AA4: Total | AC4: =R4 -> Grain size (phi) | AD4: =S4 -> Pumices | AE4: =T4 -> Dense juveniles | AF4: =U4 -> Obsidian | AG4: =V4 -> Coral fragments | AH4: =W4 -> Mafic clasts | AI4: =X4 -> Aggregate | AJ4: =Y4 -> Accretionnary lapilli | AK4: =Z4 -> Crystals | AL4: Total
A5: Diameters (mm/μ) | B5: F | C5: Wt | D5: % Wt | E5: %Cum
A7: 256-181 | B7: -7.5 | D7: =(C7/SUM($C$7:$C$33))*100 -> #DIV/0! | E7: 0 | G7: =B7 -> -7.5 | H7: 0 | I7: 0 | J7: 0 | K7: 0 | L7: 0 | M7: 0 | N7: 0 | O7: 0 | P7: =SUM(H7:O7) -> 0 | R7: =G7 -> -7.5 | S7: =100*H7/$P7 -> #DIV/0! | T7: =100*I7/$P7 -> #DIV/0! | U7: =100*J7/$P7 -> #DIV/0! | V7: =100*K7/$P7 -> #DIV/0! | W7: =100*L7/$P7 -> #DIV/0! | X7: =100*M7/$P7 -> #DIV/0! | Y7: =100*N7/$P7 -> #DIV/0! | Z7: =100*O7/$P7 -> #DIV/0! | AA7: =SUM(S7:Z7) -> #DIV/0! | AC7: =R7 -> -7.5 | AD7: =S7*100/(SUM($S7:$W7)+SUM($Y7:$Z7)) -> #DIV/0! | AE7: =T7*100/(SUM($S7:$W7)+SUM($Y7:$Z7)) -> #DIV/0! | AF7: =U7*100/(SUM($S7:$W7)+SUM($Y7:$Z7)) -> #DIV/0! | AG7: =V7*100/(SUM($S7:$W7)+SUM($Y7:$Z7)) -> #DIV/0! | AH7: =W7*100/(SUM($S7:$W7)+SUM($Y7:$Z7)) -> #DIV/0! | AI7: =X7*100/(SUM($S7:$W7)+SUM($Y7:$Z7)) -> #DIV/0! | AJ7: =Y7*100/(SUM($S7:$W7)+SUM($Y7:$Z7)) -> #DIV/0! | AK7: =Z7*100/(SUM($S7:$W7)+SUM($Y7:$Z7)) -> #DIV/0! | AL7: =SUM(AD7:AK7) -> #DIV/0!
A8: 181-128 | B8: -7 | D8: =(C8/SUM($C$7:$C$33))*100 -> #DIV/0! | E8: =SUM(D6,D8) -> #DIV/0! | G8: =B8 -> -7 | H8: 0 | I8: 0 | J8: 0 | K8: 0 | L8: 0 | M8: 0 | N8: 0 | O8: 0 | P8: =SUM(H8:O8) -> 0 | R8: =G8 -> -7 | S8: =100*H8/$P8 -> #DIV/0! | T8: =100*I8/$P8 -> #DIV/0! | U8: =100*J8/$P8 -> #DIV/0! | V8: =100*K8/$P8 -> #DIV/0! | W8: =100*L8/$P8 -> #DIV/0! | X8: =100*M8/$P8 -> #DIV/0! | Y8: =100*N8/$P8 -> #DIV/0! | Z8: =100*O8/$P8 -> #DIV/0! | AA8: =SUM(S8:Z8) -> #DIV/0! | AC8: =R8 -> -7 | AD8: =S8*100/(SUM($S8:$W8)+SUM($Y8:$Z8)) -> #DIV/0! | AE8: =T8*100/(SUM($S8:$W8)+SUM($Y8:$Z8)) -> #DIV/0! | AF8: =U8*100/(SUM($S8:$W8)+SUM($Y8:$Z8)) -> #DIV/0! | AG8: =V8*100/(SUM($S8:$W8)+SUM($Y8:$Z8)) -> #DIV/0! | AH8: =W8*100/(SUM($S8:$W8)+SUM($Y8:$Z8)) -> #DIV/0! | AI8: =X8*100/(SUM($S8:$W8)+SUM($Y8:$Z8)) -> #DIV/0! | AJ8: =Y8*100/(SUM($S8:$W8)+SUM($Y8:$Z8)) -> #DIV/0! | AK8: =Z8*100/(SUM($S8:$W8)+SUM($Y8:$Z8)) -> #DIV/0! | AL8: =SUM(AD8:AK8) -> #DIV/0!
A9: 128-90,5 | B9: -6.5 | D9: =(C9/SUM($C$7:$C$33))*100 -> #DIV/0! | E9: =SUM(D6:D9) -> #DIV/0! | G9: =B9 -> -6.5 | H9: 0 | I9: 0 | J9: 0 | K9: 0 | L9: 0 | M9: 0 | N9: 0 | O9: 0 | P9: =SUM(H9:O9) -> 0 | R9: =G9 -> -6.5 | S9: =100*H9/$P9 -> #DIV/0! | T9: =100*I9/$P9 -> #DIV/0! | U9: =100*J9/$P9 -> #DIV/0! | V9: =100*K9/$P9 -> #DIV/0! | W9: =100*L9/$P9 -> #DIV/0! | X9: =100*M9/$P9 -> #DIV/0! | Y9: =100*N9/$P9 -> #DIV/0! | Z9: =100*O9/$P9 -> #DIV/0! | AA9: =SUM(S9:Z9) -> #DIV/0! | AC9: =R9 -> -6.5 | AD9: =S9*100/(SUM($S9:$W9)+SUM($Y9:$Z9)) -> #DIV/0! | AE9: =T9*100/(SUM($S9:$W9)+SUM($Y9:$Z9)) -> #DIV/0! | AF9: =U9*100/(SUM($S9:$W9)+SUM($Y9:$Z9)) -> #DIV/0! | AG9: =V9*100/(SUM($S9:$W9)+SUM($Y9:$Z9)) -> #DIV/0! | AH9: =W9*100/(SUM($S9:$W9)+SUM($Y9:$Z9)) -> #DIV/0! | AI9: =X9*100/(SUM($S9:$W9)+SUM($Y9:$Z9)) -> #DIV/0! | AJ9: =Y9*100/(SUM($S9:$W9)+SUM($Y9:$Z9)) -> #DIV/0! | AK9: =Z9*100/(SUM($S9:$W9)+SUM($Y9:$Z9)) -> #DIV/0! | AL9: =SUM(AD9:AK9) -> #DIV/0!
A10: >64 | B10: -6 | D10: =(C10/SUM($C$7:$C$33))*100 -> #DIV/0! | E10: =SUM(D6:D10) -> #DIV/0! | G10: =B10 -> -6 | H10: 0 | I10: 0 | J10: 0 | K10: 0 | L10: 0 | M10: 0 | N10: 0 | O10: 0 | P10: =SUM(H10:O10) -> 0 | R10: =G10 -> -6 | S10: =100*H10/$P10 -> #DIV/0! | T10: =100*I10/$P10 -> #DIV/0! | U10: =100*J10/$P10 -> #DIV/0! | V10: =100*K10/$P10 -> #DIV/0! | W10: =100*L10/$P10 -> #DIV/0! | X10: =100*M10/$P10 -> #DIV/0! | Y10: =100*N10/$P10 -> #DIV/0! | Z10: =100*O10/$P10 -> #DIV/0! | AA10: =SUM(S10:Z10) -> #DIV/0! | AC10: =R10 -> -6 | AD10: =S10*100/(SUM($S10:$W10)+SUM($Y10:$Z10)) -> #DIV/0! | AE10: =T10*100/(SUM($S10:$W10)+SUM($Y10:$Z10)) -> #DIV/0! | AF10: =U10*100/(SUM($S10:$W10)+SUM($Y10:$Z10)) -> #DIV/0! | AG10: =V10*100/(SUM($S10:$W10)+SUM($Y10:$Z10)) -> #DIV/0! | AH10: =W10*100/(SUM($S10:$W10)+SUM($Y10:$Z10)) -> #DIV/0! | AI10: =X10*100/(SUM($S10:$W10)+SUM($Y10:$Z10)) -> #DIV/0! | AJ10: =Y10*100/(SUM($S10:$W10)+SUM($Y10:$Z10)) -> #DIV/0! | AK10: =Z10*100/(SUM($S10:$W10)+SUM($Y10:$Z10)) -> #DIV/0! | AL10: =SUM(AD10:AK10) -> #DIV/0!
A11: 64-45.3 | B11: -5.5 | D11: =(C11/SUM($C$7:$C$33))*100 -> #DIV/0! | E11: =SUM(D6:D11) -> #DIV/0! | G11: =B11 -> -5.5 | H11: 0 | I11: 0 | J11: 0 | K11: 0 | L11: 0 | M11: 0 | N11: 0 | O11: 0 | P11: =SUM(H11:O11) -> 0 | R11: =G11 -> -5.5 | S11: =100*H11/$P11 -> #DIV/0! | T11: =100*I11/$P11 -> #DIV/0! | U11: =100*J11/$P11 -> #DIV/0! | V11: =100*K11/$P11 -> #DIV/0! | W11: =100*L11/$P11 -> #DIV/0! | X11: =100*M11/$P11 -> #DIV/0! | Y11: =100*N11/$P11 -> #DIV/0! | Z11: =100*O11/$P11 -> #DIV/0! | AA11: =SUM(S11:Z11) -> #DIV/0! | AC11: =R11 -> -5.5 | AD11: =S11*100/(SUM($S11:$W11)+SUM($Y11:$Z11)) -> #DIV/0! | AE11: =T11*100/(SUM($S11:$W11)+SUM($Y11:$Z11)) -> #DIV/0! | AF11: =U11*100/(SUM($S11:$W11)+SUM($Y11:$Z11)) -> #DIV/0! | AG11: =V11*100/(SUM($S11:$W11)+SUM($Y11:$Z11)) -> #DIV/0! | AH11: =W11*100/(SUM($S11:$W11)+SUM($Y11:$Z11)) -> #DIV/0! | AI11: =X11*100/(SUM($S11:$W11)+SUM($Y11:$Z11)) -> #DIV/0! | AJ11: =Y11*100/(SUM($S11:$W11)+SUM($Y11:$Z11)) -> #DIV/0! | AK11: =Z11*100/(SUM($S11:$W11)+SUM($Y11:$Z11)) -> #DIV/0! | AL11: =SUM(AD11:AK11) -> #DIV/0!
A12: 45.3-32 | B12: -5 | D12: =(C12/SUM($C$7:$C$33))*100 -> #DIV/0! | E12: =SUM(D6:D12) -> #DIV/0! | G12: =B12 -> -5 | H12: 0 | I12: 0 | J12: 0 | K12: 0 | L12: 0 | M12: 0 | N12: 0 | O12: 0 | P12: =SUM(H12:O12) -> 0 | R12: =G12 -> -5 | S12: =100*H12/$P12 -> #DIV/0! | T12: =100*I12/$P12 -> #DIV/0! | U12: =100*J12/$P12 -> #DIV/0! | V12: =100*K12/$P12 -> #DIV/0! | W12: =100*L12/$P12 -> #DIV/0! | X12: =100*M12/$P12 -> #DIV/0! | Y12: =100*N12/$P12 -> #DIV/0! | Z12: =100*O12/$P12 -> #DIV/0! | AA12: =SUM(S12:Z12) -> #DIV/0! | AC12: =R12 -> -5 | AD12: =S12*100/(SUM($S12:$W12)+SUM($Y12:$Z12)) -> #DIV/0! | AE12: =T12*100/(SUM($S12:$W12)+SUM($Y12:$Z12)) -> #DIV/0! | AF12: =U12*100/(SUM($S12:$W12)+SUM($Y12:$Z12)) -> #DIV/0! | AG12: =V12*100/(SUM($S12:$W12)+SUM($Y12:$Z12)) -> #DIV/0! | AH12: =W12*100/(SUM($S12:$W12)+SUM($Y12:$Z12)) -> #DIV/0! | AI12: =X12*100/(SUM($S12:$W12)+SUM($Y12:$Z12)) -> #DIV/0! | AJ12: =Y12*100/(SUM($S12:$W12)+SUM($Y12:$Z12)) -> #DIV/0! | AK12: =Z12*100/(SUM($S12:$W12)+SUM($Y12:$Z12)) -> #DIV/0! | AL12: =SUM(AD12:AK12) -> #DIV/0!
A13: 32-22.6 | B13: -4.5 | D13: =(C13/SUM($C$7:$C$33))*100 -> #DIV/0! | E13: =SUM(D7:D13) -> #DIV/0! | G13: =B13 -> -4.5 | H13: 0 | I13: 0 | J13: 0 | K13: 0 | L13: 0 | M13: 0 | N13: 0 | O13: 0 | P13: =SUM(H13:O13) -> 0 | R13: =G13 -> -4.5 | S13: =100*H13/$P13 -> #DIV/0! | T13: =100*I13/$P13 -> #DIV/0! | U13: =100*J13/$P13 -> #DIV/0! | V13: =100*K13/$P13 -> #DIV/0! | W13: =100*L13/$P13 -> #DIV/0! | X13: =100*M13/$P13 -> #DIV/0! | Y13: =100*N13/$P13 -> #DIV/0! | Z13: =100*O13/$P13 -> #DIV/0! | AA13: =SUM(S13:Z13) -> #DIV/0! | AC13: =R13 -> -4.5 | AD13: =S13*100/(SUM($S13:$W13)+SUM($Y13:$Z13)) -> #DIV/0! | AE13: =T13*100/(SUM($S13:$W13)+SUM($Y13:$Z13)) -> #DIV/0! | AF13: =U13*100/(SUM($S13:$W13)+SUM($Y13:$Z13)) -> #DIV/0! | AG13: =V13*100/(SUM($S13:$W13)+SUM($Y13:$Z13)) -> #DIV/0! | AH13: =W13*100/(SUM($S13:$W13)+SUM($Y13:$Z13)) -> #DIV/0! | AI13: =X13*100/(SUM($S13:$W13)+SUM($Y13:$Z13)) -> #DIV/0! | AJ13: =Y13*100/(SUM($S13:$W13)+SUM($Y13:$Z13)) -> #DIV/0! | AK13: =Z13*100/(SUM($S13:$W13)+SUM($Y13:$Z13)) -> #DIV/0! | AL13: =SUM(AD13:AK13) -> #DIV/0!
A14: 22,6-16 | B14: -4 | D14: =(C14/SUM($C$7:$C$33))*100 -> #DIV/0! | E14: =SUM(D8:D14) -> #DIV/0! | G14: =B14 -> -4 | H14: 0 | I14: 0 | J14: 0 | K14: 0 | L14: 0 | M14: 0 | N14: 0 | O14: 0 | P14: =SUM(H14:O14) -> 0 | R14: =G14 -> -4 | S14: =100*H14/$P14 -> #DIV/0! | T14: =100*I14/$P14 -> #DIV/0! | U14: =100*J14/$P14 -> #DIV/0! | V14: =100*K14/$P14 -> #DIV/0! | W14: =100*L14/$P14 -> #DIV/0! | X14: =100*M14/$P14 -> #DIV/0! | Y14: =100*N14/$P14 -> #DIV/0! | Z14: =100*O14/$P14 -> #DIV/0! | AA14: =SUM(S14:Z14) -> #DIV/0! | AC14: =R14 -> -4 | AD14: =S14*100/(SUM($S14:$W14)+SUM($Y14:$Z14)) -> #DIV/0! | AE14: =T14*100/(SUM($S14:$W14)+SUM($Y14:$Z14)) -> #DIV/0! | AF14: =U14*100/(SUM($S14:$W14)+SUM($Y14:$Z14)) -> #DIV/0! | AG14: =V14*100/(SUM($S14:$W14)+SUM($Y14:$Z14)) -> #DIV/0! | AH14: =W14*100/(SUM($S14:$W14)+SUM($Y14:$Z14)) -> #DIV/0! | AI14: =X14*100/(SUM($S14:$W14)+SUM($Y14:$Z14)) -> #DIV/0! | AJ14: =Y14*100/(SUM($S14:$W14)+SUM($Y14:$Z14)) -> #DIV/0! | AK14: =Z14*100/(SUM($S14:$W14)+SUM($Y14:$Z14)) -> #DIV/0! | AL14: =SUM(AD14:AK14) -> #DIV/0!
A15: 16-11.3 | B15: -3.5 | D15: =(C15/SUM($C$7:$C$33))*100 -> #DIV/0! | E15: =SUM(D6:D15) -> #DIV/0! | G15: =B15 -> -3.5 | H15: 0 | I15: 0 | J15: 0 | K15: 0 | L15: 0 | M15: 0 | N15: 0 | O15: 0 | P15: =SUM(H15:O15) -> 0 | R15: =G15 -> -3.5 | S15: =100*H15/$P15 -> #DIV/0! | T15: =100*I15/$P15 -> #DIV/0! | U15: =100*J15/$P15 -> #DIV/0! | V15: =100*K15/$P15 -> #DIV/0! | W15: =100*L15/$P15 -> #DIV/0! | X15: =100*M15/$P15 -> #DIV/0! | Y15: =100*N15/$P15 -> #DIV/0! | Z15: =100*O15/$P15 -> #DIV/0! | AA15: =SUM(S15:Z15) -> #DIV/0! | AC15: =R15 -> -3.5 | AD15: =S15*100/(SUM($S15:$W15)+SUM($Y15:$Z15)) -> #DIV/0! | AE15: =T15*100/(SUM($S15:$W15)+SUM($Y15:$Z15)) -> #DIV/0! | AF15: =U15*100/(SUM($S15:$W15)+SUM($Y15:$Z15)) -> #DIV/0! | AG15: =V15*100/(SUM($S15:$W15)+SUM($Y15:$Z15)) -> #DIV/0! | AH15: =W15*100/(SUM($S15:$W15)+SUM($Y15:$Z15)) -> #DIV/0! | AI15: 0 | AJ15: =Y15*100/(SUM($S15:$W15)+SUM($Y15:$Z15)) -> #DIV/0! | AK15: =Z15*100/(SUM($S15:$W15)+SUM($Y15:$Z15)) -> #DIV/0! | AL15: =SUM(AD15:AK15) -> #DIV/0!
A16: 11.3-8 | B16: -3 | D16: =(C16/SUM($C$7:$C$33))*100 -> #DIV/0! | E16: =SUM(D6:D16) -> #DIV/0! | G16: =B16 -> -3 | H16: 0 | I16: 0 | J16: 0 | K16: 0 | L16: 0 | M16: 0 | N16: 0 | O16: 0 | P16: =SUM(H16:O16) -> 0 | R16: =G16 -> -3 | S16: =100*H16/$P16 -> #DIV/0! | T16: =100*I16/$P16 -> #DIV/0! | U16: =100*J16/$P16 -> #DIV/0! | V16: =100*K16/$P16 -> #DIV/0! | W16: =100*L16/$P16 -> #DIV/0! | X16: =100*M16/$P16 -> #DIV/0! | Y16: =100*N16/$P16 -> #DIV/0! | Z16: =100*O16/$P16 -> #DIV/0! | AA16: =SUM(S16:Z16) -> #DIV/0! | AC16: =R16 -> -3 | AD16: =S16*100/(SUM($S16:$W16)+SUM($Y16:$Z16)) -> #DIV/0! | AE16: =T16*100/(SUM($S16:$W16)+SUM($Y16:$Z16)) -> #DIV/0! | AF16: =U16*100/(SUM($S16:$W16)+SUM($Y16:$Z16)) -> #DIV/0! | AG16: =V16*100/(SUM($S16:$W16)+SUM($Y16:$Z16)) -> #DIV/0! | AH16: =W16*100/(SUM($S16:$W16)+SUM($Y16:$Z16)) -> #DIV/0! | AI16: 0 | AJ16: =Y16*100/(SUM($S16:$W16)+SUM($Y16:$Z16)) -> #DIV/0! | AK16: =Z16*100/(SUM($S16:$W16)+SUM($Y16:$Z16)) -> #DIV/0! | AL16: =SUM(AD16:AK16) -> #DIV/0!
A17: 8-5,66 | B17: -2.5 | D17: =(C17/SUM($C$7:$C$33))*100 -> #DIV/0! | E17: =SUM(D6:D17) -> #DIV/0! | G17: =B17 -> -2.5 | H17: 0 | I17: 0 | J17: 0 | K17: 0 | L17: 0 | M17: 0 | N17: 0 | O17: 0 | P17: =SUM(H17:O17) -> 0 | R17: =G17 -> -2.5 | S17: =100*H17/$P17 -> #DIV/0! | T17: =100*I17/$P17 -> #DIV/0! | U17: =100*J17/$P17 -> #DIV/0! | V17: =100*K17/$P17 -> #DIV/0! | W17: =100*L17/$P17 -> #DIV/0! | X17: =100*M17/$P17 -> #DIV/0! | Y17: =100*N17/$P17 -> #DIV/0! | Z17: =100*O17/$P17 -> #DIV/0! | AA17: =SUM(S17:Z17) -> #DIV/0! | AC17: =R17 -> -2.5 | AD17: =S17*100/(SUM($S17:$W17)+SUM($Y17:$Z17)) -> #DIV/0! | AE17: =T17*100/(SUM($S17:$W17)+SUM($Y17:$Z17)) -> #DIV/0! | AF17: =U17*100/(SUM($S17:$W17)+SUM($Y17:$Z17)) -> #DIV/0! | AG17: =V17*100/(SUM($S17:$W17)+SUM($Y17:$Z17)) -> #DIV/0! | AH17: =W17*100/(SUM($S17:$W17)+SUM($Y17:$Z17)) -> #DIV/0! | AI17: 0 | AJ17: =Y17*100/(SUM($S17:$W17)+SUM($Y17:$Z17)) -> #DIV/0! | AK17: =Z17*100/(SUM($S17:$W17)+SUM($Y17:$Z17)) -> #DIV/0! | AL17: =SUM(AD17:AK17) -> #DIV/0!
A18: 5,66-4 | B18: -2 | D18: =(C18/SUM($C$7:$C$33))*100 -> #DIV/0! | E18: =SUM(D6:D18) -> #DIV/0! | G18: =B18 -> -2 | H18: 0 | I18: 0 | J18: 0 | K18: 0 | L18: 0 | M18: 0 | N18: 0 | O18: 0 | P18: =SUM(H18:O18) -> 0 | R18: =G18 -> -2 | S18: =100*H18/$P18 -> #DIV/0! | T18: =100*I18/$P18 -> #DIV/0! | U18: =100*J18/$P18 -> #DIV/0! | V18: =100*K18/$P18 -> #DIV/0! | W18: =100*L18/$P18 -> #DIV/0! | X18: =100*M18/$P18 -> #DIV/0! | Y18: =100*N18/$P18 -> #DIV/0! | Z18: =100*O18/$P18 -> #DIV/0! | AA18: =SUM(S18:Z18) -> #DIV/0! | AC18: =R18 -> -2 | AD18: =S18*100/(SUM($S18:$W18)+SUM($Y18:$Z18)) -> #DIV/0! | AE18: =T18*100/(SUM($S18:$W18)+SUM($Y18:$Z18)) -> #DIV/0! | AF18: =U18*100/(SUM($S18:$W18)+SUM($Y18:$Z18)) -> #DIV/0! | AG18: =V18*100/(SUM($S18:$W18)+SUM($Y18:$Z18)) -> #DIV/0! | AH18: =W18*100/(SUM($S18:$W18)+SUM($Y18:$Z18)) -> #DIV/0! | AI18: 0 | AJ18: =Y18*100/(SUM($S18:$W18)+SUM($Y18:$Z18)) -> #DIV/0! | AK18: =Z18*100/(SUM($S18:$W18)+SUM($Y18:$Z18)) -> #DIV/0! | AL18: =SUM(AD18:AK18) -> #DIV/0!
A19: 4000 - 2800 | B19: -1.5 | D19: =(C19/SUM($C$7:$C$33))*100 -> #DIV/0! | E19: =SUM(D6:D19) -> #DIV/0! | G19: =B19 -> -1.5 | H19: 0 | I19: 0 | J19: 0 | K19: 0 | L19: 0 | M19: 0 | N19: 0 | O19: 0 | P19: =SUM(H19:O19) -> 0 | R19: =G19 -> -1.5 | S19: =100*H19/$P19 -> #DIV/0! | T19: =100*I19/$P19 -> #DIV/0! | U19: =100*J19/$P19 -> #DIV/0! | V19: =100*K19/$P19 -> #DIV/0! | W19: =100*L19/$P19 -> #DIV/0! | X19: =100*M19/$P19 -> #DIV/0! | Y19: =100*N19/$P19 -> #DIV/0! | Z19: =100*O19/$P19 -> #DIV/0! | AA19: =SUM(S19:Z19) -> #DIV/0! | AC19: =R19 -> -1.5 | AD19: =S19*100/(SUM($S19:$W19)+SUM($Y19:$Z19)) -> #DIV/0! | AE19: =T19*100/(SUM($S19:$W19)+SUM($Y19:$Z19)) -> #DIV/0! | AF19: =U19*100/(SUM($S19:$W19)+SUM($Y19:$Z19)) -> #DIV/0! | AG19: =V19*100/(SUM($S19:$W19)+SUM($Y19:$Z19)) -> #DIV/0! | AH19: =W19*100/(SUM($S19:$W19)+SUM($Y19:$Z19)) -> #DIV/0! | AI19: 0 | AJ19: =Y19*100/(SUM($S19:$W19)+SUM($Y19:$Z19)) -> #DIV/0! | AK19: =Z19*100/(SUM($S19:$W19)+SUM($Y19:$Z19)) -> #DIV/0! | AL19: =SUM(AD19:AK19) -> #DIV/0!
A20: 2800 - 2000 | B20: -1 | D20: =(C20/SUM($C$7:$C$33))*100 -> #DIV/0! | E20: =SUM(D6:D20) -> #DIV/0! | G20: =B20 -> -1 | H20: 0 | I20: 0 | J20: 0 | K20: 0 | L20: 0 | M20: 0 | N20: 0 | O20: 0 | P20: =SUM(H20:O20) -> 0 | R20: =G20 -> -1 | S20: =100*H20/$P20 -> #DIV/0! | T20: =100*I20/$P20 -> #DIV/0! | U20: =100*J20/$P20 -> #DIV/0! | V20: =100*K20/$P20 -> #DIV/0! | W20: =100*L20/$P20 -> #DIV/0! | X20: =100*M20/$P20 -> #DIV/0! | Y20: =100*N20/$P20 -> #DIV/0! | Z20: =100*O20/$P20 -> #DIV/0! | AA20: =SUM(S20:Z20) -> #DIV/0! | AC20: =R20 -> -1 | AD20: =S20*100/(SUM($S20:$W20)+SUM($Y20:$Z20)) -> #DIV/0! | AE20: =T20*100/(SUM($S20:$W20)+SUM($Y20:$Z20)) -> #DIV/0! | AF20: =U20*100/(SUM($S20:$W20)+SUM($Y20:$Z20)) -> #DIV/0! | AG20: =V20*100/(SUM($S20:$W20)+SUM($Y20:$Z20)) -> #DIV/0! | AH20: =W20*100/(SUM($S20:$W20)+SUM($Y20:$Z20)) -> #DIV/0! | AI20: 0 | AJ20: =Y20*100/(SUM($S20:$W20)+SUM($Y20:$Z20)) -> #DIV/0! | AK20: =Z20*100/(SUM($S20:$W20)+SUM($Y20:$Z20)) -> #DIV/0! | AL20: =SUM(AD20:AK20) -> #DIV/0!
A21: 2000-1400 | B21: -0.5 | D21: =(C21/SUM($C$7:$C$33))*100 -> #DIV/0! | E21: =SUM(D6:D21) -> #DIV/0! | G21: =B21 -> -0.5 | H21: 0 | I21: 0 | J21: 0 | K21: 0 | L21: 0 | M21: 0 | N21: 0 | O21: 0 | P21: =SUM(H21:O21) -> 0 | R21: =G21 -> -0.5 | S21: =100*H21/$P21 -> #DIV/0! | T21: =100*I21/$P21 -> #DIV/0! | U21: =100*J21/$P21 -> #DIV/0! | V21: =100*K21/$P21 -> #DIV/0! | W21: =100*L21/$P21 -> #DIV/0! | X21: =100*M21/$P21 -> #DIV/0! | Y21: =100*N21/$P21 -> #DIV/0! | Z21: =100*O21/$P21 -> #DIV/0! | AA21: =SUM(S21:Z21) -> #DIV/0! | AC21: =R21 -> -0.5 | AD21: =S21*100/(SUM($S21:$W21)+SUM($Y21:$Z21)) -> #DIV/0! | AE21: =T21*100/(SUM($S21:$W21)+SUM($Y21:$Z21)) -> #DIV/0! | AF21: =U21*100/(SUM($S21:$W21)+SUM($Y21:$Z21)) -> #DIV/0! | AG21: =V21*100/(SUM($S21:$W21)+SUM($Y21:$Z21)) -> #DIV/0! | AH21: =W21*100/(SUM($S21:$W21)+SUM($Y21:$Z21)) -> #DIV/0! | AI21: 0 | AJ21: =Y21*100/(SUM($S21:$W21)+SUM($Y21:$Z21)) -> #DIV/0! | AK21: =Z21*100/(SUM($S21:$W21)+SUM($Y21:$Z21)) -> #DIV/0! | AL21: =SUM(AD21:AK21) -> #DIV/0!
A22: 1400 - 1000 | B22: 0 | D22: =(C22/SUM($C$7:$C$33))*100 -> #DIV/0! | E22: =SUM(D6:D22) -> #DIV/0! | G22: =B22 -> 0 | H22: 0 | I22: 0 | J22: 0 | K22: 0 | L22: 0 | M22: 0 | N22: 0 | O22: 0 | P22: =SUM(H22:O22) -> 0 | R22: =G22 -> 0 | S22: =100*H22/$P22 -> #DIV/0! | T22: =100*I22/$P22 -> #DIV/0! | U22: =100*J22/$P22 -> #DIV/0! | V22: =100*K22/$P22 -> #DIV/0! | W22: =100*L22/$P22 -> #DIV/0! | X22: =100*M22/$P22 -> #DIV/0! | Y22: =100*N22/$P22 -> #DIV/0! | Z22: =100*O22/$P22 -> #DIV/0! | AA22: =SUM(S22:Z22) -> #DIV/0! | AC22: =R22 -> 0 | AD22: =S22*100/(SUM($S22:$W22)+SUM($Y22:$Z22)) -> #DIV/0! | AE22: =T22*100/(SUM($S22:$W22)+SUM($Y22:$Z22)) -> #DIV/0! | AF22: =U22*100/(SUM($S22:$W22)+SUM($Y22:$Z22)) -> #DIV/0! | AG22: =V22*100/(SUM($S22:$W22)+SUM($Y22:$Z22)) -> #DIV/0! | AH22: =W22*100/(SUM($S22:$W22)+SUM($Y22:$Z22)) -> #DIV/0! | AI22: =X22*100/(SUM($S22:$W22)+SUM($Y22:$Z22)) -> #DIV/0! | AJ22: =Y22*100/(SUM($S22:$W22)+SUM($Y22:$Z22)) -> #DIV/0! | AK22: =Z22*100/(SUM($S22:$W22)+SUM($Y22:$Z22)) -> #DIV/0! | AL22: =SUM(AD22:AK22) -> #DIV/0!
A23: 1000-710 | B23: 0.5 | D23: =(C23/SUM($C$7:$C$33))*100 -> #DIV/0! | E23: =SUM(D6:D23) -> #DIV/0! | G23: =B23 -> 0.5 | H23: 0 | I23: 0 | J23: 0 | K23: 0 | L23: 0 | M23: 0 | N23: 0 | O23: 0 | P23: =SUM(H23:O23) -> 0 | R23: =G23 -> 0.5 | S23: =100*H23/$P23 -> #DIV/0! | T23: =100*I23/$P23 -> #DIV/0! | U23: =100*J23/$P23 -> #DIV/0! | V23: =100*K23/$P23 -> #DIV/0! | W23: =100*L23/$P23 -> #DIV/0! | X23: =100*M23/$P23 -> #DIV/0! | Y23: =100*N23/$P23 -> #DIV/0! | Z23: =100*O23/$P23 -> #DIV/0! | AA23: =SUM(S23:Z23) -> #DIV/0! | AC23: =R23 -> 0.5 | AD23: =S23*100/(SUM($S23:$W23)+SUM($Y23:$Z23)) -> #DIV/0! | AE23: =T23*100/(SUM($S23:$W23)+SUM($Y23:$Z23)) -> #DIV/0! | AF23: =U23*100/(SUM($S23:$W23)+SUM($Y23:$Z23)) -> #DIV/0! | AG23: =V23*100/(SUM($S23:$W23)+SUM($Y23:$Z23)) -> #DIV/0! | AH23: =W23*100/(SUM($S23:$W23)+SUM($Y23:$Z23)) -> #DIV/0! | AI23: =X23*100/(SUM($S23:$W23)+SUM($Y23:$Z23)) -> #DIV/0! | AJ23: =Y23*100/(SUM($S23:$W23)+SUM($Y23:$Z23)) -> #DIV/0! | AK23: =Z23*100/(SUM($S23:$W23)+SUM($Y23:$Z23)) -> #DIV/0! | AL23: =SUM(AD23:AK23) -> #DIV/0!
A24: 710-500 | B24: 1 | D24: =(C24/SUM($C$7:$C$33))*100 -> #DIV/0! | E24: =SUM(D6:D24) -> #DIV/0! | G24: =B24 -> 1 | H24: 0 | I24: 0 | J24: 0 | K24: 0 | L24: 0 | M24: 0 | N24: 0 | O24: 0 | P24: =SUM(H24:O24) -> 0 | R24: =G24 -> 1 | S24: =100*H24/$P24 -> #DIV/0! | T24: =100*I24/$P24 -> #DIV/0! | U24: =100*J24/$P24 -> #DIV/0! | V24: =100*K24/$P24 -> #DIV/0! | W24: =100*L24/$P24 -> #DIV/0! | X24: =100*M24/$P24 -> #DIV/0! | Y24: =100*N24/$P24 -> #DIV/0! | Z24: =100*O24/$P24 -> #DIV/0! | AA24: =SUM(S24:Z24) -> #DIV/0! | AC24: =R24 -> 1 | AD24: =S24*100/(SUM($S24:$W24)+SUM($Y24:$Z24)) -> #DIV/0! | AE24: =T24*100/(SUM($S24:$W24)+SUM($Y24:$Z24)) -> #DIV/0! | AF24: =U24*100/(SUM($S24:$W24)+SUM($Y24:$Z24)) -> #DIV/0! | AG24: =V24*100/(SUM($S24:$W24)+SUM($Y24:$Z24)) -> #DIV/0! | AH24: =W24*100/(SUM($S24:$W24)+SUM($Y24:$Z24)) -> #DIV/0! | AI24: =X24*100/(SUM($S24:$W24)+SUM($Y24:$Z24)) -> #DIV/0! | AJ24: =Y24*100/(SUM($S24:$W24)+SUM($Y24:$Z24)) -> #DIV/0! | AK24: =Z24*100/(SUM($S24:$W24)+SUM($Y24:$Z24)) -> #DIV/0! | AL24: =SUM(AD24:AK24) -> #DIV/0!
A25: 500-355 | B25: 1.5 | D25: =(C25/SUM($C$7:$C$33))*100 -> #DIV/0! | E25: =SUM(D6:D25) -> #DIV/0! | G25: =B25 -> 1.5 | H25: 0 | I25: 0 | J25: 0 | K25: 0 | L25: 0 | M25: 0 | N25: 0 | O25: 0 | P25: =SUM(H25:O25) -> 0 | R25: =G25 -> 1.5 | S25: =100*H25/$P25 -> #DIV/0! | T25: =100*I25/$P25 -> #DIV/0! | U25: =100*J25/$P25 -> #DIV/0! | V25: =100*K25/$P25 -> #DIV/0! | W25: =100*L25/$P25 -> #DIV/0! | X25: =100*M25/$P25 -> #DIV/0! | Y25: =100*N25/$P25 -> #DIV/0! | Z25: =100*O25/$P25 -> #DIV/0! | AA25: =SUM(S25:Z25) -> #DIV/0! | AC25: =R25 -> 1.5 | AD25: =S25*100/(SUM($S25:$W25)+SUM($Y25:$Z25)) -> #DIV/0! | AE25: =T25*100/(SUM($S25:$W25)+SUM($Y25:$Z25)) -> #DIV/0! | AF25: =U25*100/(SUM($S25:$W25)+SUM($Y25:$Z25)) -> #DIV/0! | AG25: =V25*100/(SUM($S25:$W25)+SUM($Y25:$Z25)) -> #DIV/0! | AH25: =W25*100/(SUM($S25:$W25)+SUM($Y25:$Z25)) -> #DIV/0! | AI25: =X25*100/(SUM($S25:$W25)+SUM($Y25:$Z25)) -> #DIV/0! | AJ25: =Y25*100/(SUM($S25:$W25)+SUM($Y25:$Z25)) -> #DIV/0! | AK25: =Z25*100/(SUM($S25:$W25)+SUM($Y25:$Z25)) -> #DIV/0! | AL25: =SUM(AD25:AK25) -> #DIV/0!
A26: 355 - 250 | B26: 2 | D26: =(C26/SUM($C$7:$C$33))*100 -> #DIV/0! | E26: =SUM(D6:D26) -> #DIV/0! | G26: =B26 -> 2 | H26: 0 | I26: 0 | J26: 0 | K26: 0 | L26: 0 | M26: 0 | N26: 0 | O26: 0 | P26: =SUM(H26:O26) -> 0 | R26: =G26 -> 2 | S26: =100*H26/$P26 -> #DIV/0! | T26: =100*I26/$P26 -> #DIV/0! | U26: =100*J26/$P26 -> #DIV/0! | V26: =100*K26/$P26 -> #DIV/0! | W26: =100*L26/$P26 -> #DIV/0! | X26: =100*M26/$P26 -> #DIV/0! | Y26: =100*N26/$P26 -> #DIV/0! | Z26: =100*O26/$P26 -> #DIV/0! | AA26: =SUM(S26:Z26) -> #DIV/0! | AC26: =R26 -> 2 | AD26: =S26*100/(SUM($S26:$W26)+SUM($Y26:$Z26)) -> #DIV/0! | AE26: =T26*100/(SUM($S26:$W26)+SUM($Y26:$Z26)) -> #DIV/0! | AF26: =U26*100/(SUM($S26:$W26)+SUM($Y26:$Z26)) -> #DIV/0! | AG26: =V26*100/(SUM($S26:$W26)+SUM($Y26:$Z26)) -> #DIV/0! | AH26: =W26*100/(SUM($S26:$W26)+SUM($Y26:$Z26)) -> #DIV/0! | AI26: =X26*100/(SUM($S26:$W26)+SUM($Y26:$Z26)) -> #DIV/0! | AJ26: =Y26*100/(SUM($S26:$W26)+SUM($Y26:$Z26)) -> #DIV/0! | AK26: =Z26*100/(SUM($S26:$W26)+SUM($Y26:$Z26)) -> #DIV/0! | AL26: =SUM(AD26:AK26) -> #DIV/0!
A27: 250-180 | B27: 2.5 | D27: =(C27/SUM($C$7:$C$33))*100 -> #DIV/0! | E27: =SUM(D7:D27) -> #DIV/0! | G27: =B27 -> 2.5 | H27: 0 | I27: 0 | J27: 0 | K27: 0 | L27: 0 | M27: 0 | N27: 0 | O27: 0 | P27: =SUM(H27:O27) -> 0 | R27: =G27 -> 2.5 | S27: =100*H27/$P27 -> #DIV/0! | T27: =100*I27/$P27 -> #DIV/0! | U27: =100*J27/$P27 -> #DIV/0! | V27: =100*K27/$P27 -> #DIV/0! | W27: =100*L27/$P27 -> #DIV/0! | X27: =100*M27/$P27 -> #DIV/0! | Y27: =100*N27/$P27 -> #DIV/0! | Z27: =100*O27/$P27 -> #DIV/0! | AA27: =SUM(S27:Z27) -> #DIV/0! | AC27: =R27 -> 2.5 | AD27: =S27*100/(SUM($S27:$W27)+SUM($Y27:$Z27)) -> #DIV/0! | AE27: =T27*100/(SUM($S27:$W27)+SUM($Y27:$Z27)) -> #DIV/0! | AF27: =U27*100/(SUM($S27:$W27)+SUM($Y27:$Z27)) -> #DIV/0! | AG27: =V27*100/(SUM($S27:$W27)+SUM($Y27:$Z27)) -> #DIV/0! | AH27: =W27*100/(SUM($S27:$W27)+SUM($Y27:$Z27)) -> #DIV/0! | AI27: =X27*100/(SUM($S27:$W27)+SUM($Y27:$Z27)) -> #DIV/0! | AJ27: =Y27*100/(SUM($S27:$W27)+SUM($Y27:$Z27)) -> #DIV/0! | AK27: =Z27*100/(SUM($S27:$W27)+SUM($Y27:$Z27)) -> #DIV/0! | AL27: =SUM(AD27:AK27) -> #DIV/0!
A28: 180 - 125 | B28: 3 | D28: =(C28/SUM($C$7:$C$33))*100 -> #DIV/0! | E28: =SUM(D7:D28) -> #DIV/0! | G28: =B28 -> 3 | H28: 0 | I28: 0 | J28: 0 | K28: 0 | L28: 0 | M28: 0 | N28: 0 | O28: 0 | P28: =SUM(H28:O28) -> 0 | R28: =G28 -> 3 | S28: =100*H28/$P28 -> #DIV/0! | T28: =100*I28/$P28 -> #DIV/0! | U28: =100*J28/$P28 -> #DIV/0! | V28: =100*K28/$P28 -> #DIV/0! | W28: =100*L28/$P28 -> #DIV/0! | X28: =100*M28/$P28 -> #DIV/0! | Y28: =100*N28/$P28 -> #DIV/0! | Z28: =100*O28/$P28 -> #DIV/0! | AA28: =SUM(S28:Z28) -> #DIV/0! | AC28: =R28 -> 3 | AD28: =S28*100/(SUM($S28:$W28)+SUM($Y28:$Z28)) -> #DIV/0! | AE28: =T28*100/(SUM($S28:$W28)+SUM($Y28:$Z28)) -> #DIV/0! | AF28: =U28*100/(SUM($S28:$W28)+SUM($Y28:$Z28)) -> #DIV/0! | AG28: =V28*100/(SUM($S28:$W28)+SUM($Y28:$Z28)) -> #DIV/0! | AH28: =W28*100/(SUM($S28:$W28)+SUM($Y28:$Z28)) -> #DIV/0! | AI28: =X28*100/(SUM($S28:$W28)+SUM($Y28:$Z28)) -> #DIV/0! | AJ28: =Y28*100/(SUM($S28:$W28)+SUM($Y28:$Z28)) -> #DIV/0! | AK28: =Z28*100/(SUM($S28:$W28)+SUM($Y28:$Z28)) -> #DIV/0! | AL28: =SUM(AD28:AK28) -> #DIV/0!
