Workbook
Name cum_tot_2: MAY181215_10!$E$7:$E$33
Name cum_tot_2: 'MAY181215_10 aggr'!$E$7:$E$33
Name cum_tot_2: MAY181215_10_no_aggr!$E$7:$E$33
Name cum_tot_2: MAY181215_11!$E$7:$E$33
Name cum_tot_2: 'MAY181215_11 aggr'!$E$7:$E$33
Name cum_tot_2: MAY181215_11_no_aggr!$E$7:$E$33
Name cum_tot_2: MAY181215_12!$E$7:$E$33
Name cum_tot_2: MAY181215_13!$E$7:$E$33
Name cum_tot_2: 'MAY181215_13 aggr'!$E$7:$E$33
Name cum_tot_2: MAY181215_13_no_aggr!$E$7:$E$33
Name cum_tot_2: MAY181215_9!$E$7:$E$33
Name cum_tot_2: 'MAY181215_9 aggr'!$E$7:$E$33
Name cum_tot_2: MAY181215_9_no_agg!$E$7:$E$33
Name cum_tot_2: MAY181217_18!$E$7:$E$33
Name cum_tot_2: 'MAY181217_18 aggr'!$E$7:$E$33
Name cum_tot_2: MAY181217_18_no_aggr!$E$7:$E$33
Name cum_tot_2: MAY181217_19!$E$7:$E$33
Name cum_tot_2: 'MAY181217_19 aggr'!$E$7:$E$33
Name cum_tot_2: MAY181217_19_no_aggr!$E$7:$E$33
Name cum_tot_2: MAY181217_21!$E$7:$E$33
Name cum_tot_2: 'MAY181217_21 aggr'!$E$7:$E$33
Name cum_tot_2: MAY181217_21_no_aggr!$E$7:$E$33
Name cum_tot_2: MAY181217_22!$E$7:$E$33
Name cum_tot_2: 'MAY181217_22 aggr'!$E$7:$E$33
Name cum_tot_2: MAY181217_22_no_aggr!$E$7:$E$33
Name cum_tot_2: MAY181217_23!$E$7:$E$33
Name cum_tot_2: 'MAY181217_23 aggr'!$E$7:$E$33
Name cum_tot_2: MAY181217_23_no_aggr!$E$7:$E$33
Name cum_tot_2: MAY181217_26_27!$E$7:$E$33
Name cum_tot_2: MAY181217_28!$E$7:$E$33
Name cum_tot_2: 'MAY181217_28 aggr'!$E$7:$E$33
Name cum_tot_2: MAY181217_28_no_aggr!$E$7:$E$33
Name cum_tot_2: MAY181217_29!$E$7:$E$33
Name cum_tot_2: MAY190403_2!$E$7:$E$33
Name cum_tot_2: MAY190406_1!$E$7:$E$33
Name cum_tot_2: 'MAY190406_1 aggr'!$E$7:$E$33
Name cum_tot_2: MAY190406_1_no_aggr!$E$7:$E$33
Name cum_tot_2: MAY190406_2!$E$7:$E$33
Name cum_tot_2: MAY190406_3!$E$7:$E$33
Name cum_tot_2: MAY190409_1!$E$7:$E$33
Name cum_tot_2: MAY210713_5!$E$7:$E$33
Name cum_tot_2: 'MAY210713_5 aggr'!$E$7:$E$33
Name cum_tot_2: MAY210713_5_no_aggr!$E$7:$E$33
Name cum_tot_2: MAY210713_7!$E$7:$E$33
Name cum_tot_2: MAY210713_8!$E$7:$E$33
Name cum_tot_2: MAY210713_8_aggr!$E$7:$E$33
Name cum_tot_2: MAY210713_8_no_aggr!$E$7:$E$33
Name cum_tot_2: MAY210714_7!$E$7:$E$33
Name cum_tot_2: MAY210714_7_aggr!$E$7:$E$33
Name cum_tot_2: MAY210714_7_no_aggr!$E$7:$E$33
Name cum_tot_2: MAY210714_8!$E$7:$E$33
Name cum_tot_2: MAY210714_8_aggr!$E$7:$E$33
Name cum_tot_2: MAY210714_8_no_aggr!$E$7:$E$33
Name cum_tot_2: Blank!$E$7:$E$33
Name phi: MAY181215_10!$B$7:$B$33
Name phi: 'MAY181215_10 aggr'!$B$7:$B$33
Name phi: MAY181215_10_no_aggr!$B$7:$B$33
Name phi: MAY181215_11!$B$7:$B$33
Name phi: 'MAY181215_11 aggr'!$B$7:$B$33
Name phi: MAY181215_11_no_aggr!$B$7:$B$33

Sheet Resume
A1: Graphical Parameters
A2: FACIES | C2: Ba | D2: Fb | E2: Fb | F2: Fb | G2: Fb | H2: M | I2: M | J2: M | K2: M | L2: M | M2: M | N2: Pa | O2: Pa | P2: Pb | Q2: Pb | R2: Pb | S2: Pb | T2: Pb | U2: Pb
A3: Sample name | C3: =MAY181217_23!$D2 -> MAY181217_23 | D3: =MAY190409_1!$D2 -> MAY190409_1 | E3: =MAY190406_3!$D2 -> MAY190406_3 | F3: =MAY210714_7!$D2 -> MAY210714_7 | G3: =MAY190406_2!$D2 -> MAY190406_2 | H3: =MAY181217_28!$D2 -> MAY181217_28 | I3: =MAY181215_13!$D2 -> MAY181215_13 | J3: =MAY181217_29!$D2 -> MAY181217_29 | K3: =MAY181215_9!$D2 -> MAY181215_9 | L3: =MAY181215_10!$D2 -> MAY181215_10 | M3: =MAY181215_11!$D2 -> MAY181215_11 | N3: =MAY210713_5!$D2 -> MAY210713_5 | O3: =MAY181217_19!$D2 -> MAY181217_19 | P3: =MAY210713_7!$D2 -> MAY210713_7 | Q3: =MAY210713_8!$D2 -> MAY210713_8 | R3: =MAY181217_18!$D2 -> MAY181217_18 | S3: =MAY181217_21!$D2 -> MAY181217_21 | T3: =MAY190406_1!$D2 -> MAY190406_1 | U3: =MAY181217_22!$D2 -> MAY181217_22 | V3: =MAY210714_8!$D2 -> MAY210714_8
A6: Granulometry | C6: MAY181217_23_no_aggr | E6: MAY190406_3_no_aggr | F6: MAY210714_7_no_aggr | G6: MAY190406_2_no_aggr | H6: MAY181217_28_no_aggr | I6: MAY181215_13_no_aggr | J6: MAY181217_29_no_aggr | K6: MAY181215_9_no_agg | L6: MAY181215_10_no_aggr | M6: MAY181215_11_no_aggr | N6: MAY210713_5_no_aggr | O6: MAY181217_19_no_aggr | Q6: MAY210713_8_no_aggr | R6: MAY181217_18_no_aggr | S6: MAY181217_21_no_aggr | T6: MAY190406_1_no_aggr | U6: MAY181217_22_no_aggr | V6: MAY210714_8_no_aggr
A8: Φ5% | C8: =IF(C45>0,INDIRECT(C$6&"!"&ADDRESS(69,3)),INDIRECT(C$3&"!"&ADDRESS(69,3))) -> -3.4859928 | D8: =IF(D45>0.1,INDIRECT(D$6&"!"&ADDRESS(69,3)),INDIRECT(D$3&"!"&ADDRESS(69,3))) -> -3.6704348 | E8: =IF(E45>0,INDIRECT(E$6&"!"&ADDRESS(69,3)),INDIRECT(E$3&"!"&ADDRESS(69,3))) -> -5.0473216 | F8: =IF(F45>0,INDIRECT(F$6&"!"&ADDRESS(69,3)),INDIRECT(F$3&"!"&ADDRESS(69,3))) -> -4.0787304 | G8: =IF(G45>0,INDIRECT(G$6&"!"&ADDRESS(69,3)),INDIRECT(G$3&"!"&ADDRESS(69,3))) -> -4.5422974 | H8: =IF(H45>0,INDIRECT(H$6&"!"&ADDRESS(69,3)),INDIRECT(H$3&"!"&ADDRESS(69,3))) -> -2.44848 | I8: =IF(I45>0,INDIRECT(I$6&"!"&ADDRESS(69,3)),INDIRECT(I$3&"!"&ADDRESS(69,3))) -> -2.084473 | J8: =IF(J45>0,INDIRECT(J$6&"!"&ADDRESS(69,3)),INDIRECT(J$3&"!"&ADDRESS(69,3))) -> -1.3132417 | K8: =IF(K45>0,INDIRECT(K$6&"!"&ADDRESS(69,3)),INDIRECT(K$3&"!"&ADDRESS(69,3))) -> -2.207079 | L8: =IF(L45>0,INDIRECT(L$6&"!"&ADDRESS(69,3)),INDIRECT(L$3&"!"&ADDRESS(69,3))) -> -2.5732779 | ... V8: =IF(V45>0,INDIRECT(V$6&"!"&ADDRESS(69,3)),INDIRECT(V$3&"!"&ADDRESS(69,3))) -> -3.5848177
A9: Φ16% | C9: =IF(C45>0,INDIRECT(C$6&"!"&ADDRESS(70,3)),INDIRECT(C$3&"!"&ADDRESS(70,3))) -> -2.6517977 | D9: =IF(D45>0.1,INDIRECT(D$6&"!"&ADDRESS(70,3)),INDIRECT(D$3&"!"&ADDRESS(70,3))) -> -3.0736031 | E9: =IF(E45>0,INDIRECT(E$6&"!"&ADDRESS(70,3)),INDIRECT(E$3&"!"&ADDRESS(70,3))) -> -4.2145375 | F9: =IF(F45>0,INDIRECT(F$6&"!"&ADDRESS(70,3)),INDIRECT(F$3&"!"&ADDRESS(70,3))) -> -2.8977567 | G9: =IF(G45>0,INDIRECT(G$6&"!"&ADDRESS(70,3)),INDIRECT(G$3&"!"&ADDRESS(70,3))) -> -3.9724405 | H9: =IF(H45>0,INDIRECT(H$6&"!"&ADDRESS(70,3)),INDIRECT(H$3&"!"&ADDRESS(70,3))) -> 0.010442591 | I9: =IF(I45>0,INDIRECT(I$6&"!"&ADDRESS(70,3)),INDIRECT(I$3&"!"&ADDRESS(70,3))) -> -1.0626323 | J9: =IF(J45>0,INDIRECT(J$6&"!"&ADDRESS(70,3)),INDIRECT(J$3&"!"&ADDRESS(70,3))) -> 1.2675207 | K9: =IF(K45>0,INDIRECT(K$6&"!"&ADDRESS(70,3)),INDIRECT(K$3&"!"&ADDRESS(70,3))) -> -0.58478022 | L9: =IF(L45>0,INDIRECT(L$6&"!"&ADDRESS(70,3)),INDIRECT(L$3&"!"&ADDRESS(70,3))) -> -1.8009602 | ... V9: =IF(V45>0,INDIRECT(V$6&"!"&ADDRESS(70,3)),INDIRECT(V$3&"!"&ADDRESS(70,3))) -> -2.7202993
A10: Φ25% | C10: =IF(C45>0,INDIRECT(C$6&"!"&ADDRESS(71,3)),INDIRECT(C$3&"!"&ADDRESS(71,3))) -> -2.1702197 | D10: =IF(D45>0.1,INDIRECT(D$6&"!"&ADDRESS(71,3)),INDIRECT(D$3&"!"&ADDRESS(71,3))) -> -2.6119243 | E10: =IF(E45>0,INDIRECT(E$6&"!"&ADDRESS(71,3)),INDIRECT(E$3&"!"&ADDRESS(71,3))) -> -3.7551412 | F10: =IF(F45>0,INDIRECT(F$6&"!"&ADDRESS(71,3)),INDIRECT(F$3&"!"&ADDRESS(71,3))) -> -2.1537627 | G10: =IF(G45>0,INDIRECT(G$6&"!"&ADDRESS(71,3)),INDIRECT(G$3&"!"&ADDRESS(71,3))) -> -3.6088293 | H10: =IF(H45>0,INDIRECT(H$6&"!"&ADDRESS(71,3)),INDIRECT(H$3&"!"&ADDRESS(71,3))) -> 1.5694118 | I10: =IF(I45>0,INDIRECT(I$6&"!"&ADDRESS(71,3)),INDIRECT(I$3&"!"&ADDRESS(71,3))) -> -0.562358 | J10: =IF(J45>0,INDIRECT(J$6&"!"&ADDRESS(71,3)),INDIRECT(J$3&"!"&ADDRESS(71,3))) -> 2.6218959 | K10: =IF(K45>0,INDIRECT(K$6&"!"&ADDRESS(71,3)),INDIRECT(K$3&"!"&ADDRESS(71,3))) -> -0.22509987 | L10: =IF(L45>0,INDIRECT(L$6&"!"&ADDRESS(71,3)),INDIRECT(L$3&"!"&ADDRESS(71,3))) -> -1.3950707 | ... V10: =IF(V45>0,INDIRECT(V$6&"!"&ADDRESS(71,3)),INDIRECT(V$3&"!"&ADDRESS(71,3))) -> -2.3026101
A11: Φ50% | C11: =IF(C45>0,INDIRECT(C$6&"!"&ADDRESS(72,3)),INDIRECT(C$3&"!"&ADDRESS(72,3))) -> -0.74729273 | D11: =IF(D45>0.1,INDIRECT(D$6&"!"&ADDRESS(72,3)),INDIRECT(D$3&"!"&ADDRESS(72,3))) -> -1.0497936 | E11: =IF(E45>0,INDIRECT(E$6&"!"&ADDRESS(72,3)),INDIRECT(E$3&"!"&ADDRESS(72,3))) -> -2.6782234 | F11: =IF(F45>0,INDIRECT(F$6&"!"&ADDRESS(72,3)),INDIRECT(F$3&"!"&ADDRESS(72,3))) -> -0.50944616 | G11: =IF(G45>0,INDIRECT(G$6&"!"&ADDRESS(72,3)),INDIRECT(G$3&"!"&ADDRESS(72,3))) -> -2.5492911 | H11: =IF(H45>0,INDIRECT(H$6&"!"&ADDRESS(72,3)),INDIRECT(H$3&"!"&ADDRESS(72,3))) -> 3.7790022 | I11: =IF(I45>0,INDIRECT(I$6&"!"&ADDRESS(72,3)),INDIRECT(I$3&"!"&ADDRESS(72,3))) -> 0.52957729 | J11: =IF(J45>0,INDIRECT(J$6&"!"&ADDRESS(72,3)),INDIRECT(J$3&"!"&ADDRESS(72,3))) -> 4.4235751 | K11: =IF(K45>0,INDIRECT(K$6&"!"&ADDRESS(72,3)),INDIRECT(K$3&"!"&ADDRESS(72,3))) -> 0.85870039 | L11: =IF(L45>0,INDIRECT(L$6&"!"&ADDRESS(72,3)),INDIRECT(L$3&"!"&ADDRESS(72,3))) -> -0.1746515 | ... V11: =IF(V45>0,INDIRECT(V$6&"!"&ADDRESS(72,3)),INDIRECT(V$3&"!"&ADDRESS(72,3))) -> -1.0487426
A12: Φ75% | C12: =IF(C45>0,INDIRECT(C$6&"!"&ADDRESS(73,3)),INDIRECT(C$3&"!"&ADDRESS(73,3))) -> 2.7537609 | D12: =IF(D45>0.1,INDIRECT(D$6&"!"&ADDRESS(73,3)),INDIRECT(D$3&"!"&ADDRESS(73,3))) -> 2.9032258 | E12: =IF(E45>0,INDIRECT(E$6&"!"&ADDRESS(73,3)),INDIRECT(E$3&"!"&ADDRESS(73,3))) -> -1.4351866 | F12: =IF(F45>0,INDIRECT(F$6&"!"&ADDRESS(73,3)),INDIRECT(F$3&"!"&ADDRESS(73,3))) -> 3.0322839 | G12: =IF(G45>0,INDIRECT(G$6&"!"&ADDRESS(73,3)),INDIRECT(G$3&"!"&ADDRESS(73,3))) -> -0.72729339 | H12: =IF(H45>0,INDIRECT(H$6&"!"&ADDRESS(73,3)),INDIRECT(H$3&"!"&ADDRESS(73,3))) -> 4.7707115 | I12: =IF(I45>0,INDIRECT(I$6&"!"&ADDRESS(73,3)),INDIRECT(I$3&"!"&ADDRESS(73,3))) -> 1.657821 | J12: =IF(J45>0,INDIRECT(J$6&"!"&ADDRESS(73,3)),INDIRECT(J$3&"!"&ADDRESS(73,3))) -> 6 | K12: =IF(K45>0,INDIRECT(K$6&"!"&ADDRESS(73,3)),INDIRECT(K$3&"!"&ADDRESS(73,3))) -> 2.4724803 | L12: =IF(L45>0,INDIRECT(L$6&"!"&ADDRESS(73,3)),INDIRECT(L$3&"!"&ADDRESS(73,3))) -> 2.0745484 | ... V12: =IF(V45>0,INDIRECT(V$6&"!"&ADDRESS(73,3)),INDIRECT(V$3&"!"&ADDRESS(73,3))) -> 1.1245589
A13: Φ84% | C13: =IF(C45>0,INDIRECT(C$6&"!"&ADDRESS(74,3)),INDIRECT(C$3&"!"&ADDRESS(74,3))) -> 4.3266815 | D13: =IF(D45>0.1,INDIRECT(D$6&"!"&ADDRESS(74,3)),INDIRECT(D$3&"!"&ADDRESS(74,3))) -> 6 | E13: =IF(E45>0,INDIRECT(E$6&"!"&ADDRESS(74,3)),INDIRECT(E$3&"!"&ADDRESS(74,3))) -> -0.79526825 | F13: =IF(F45>0,INDIRECT(F$6&"!"&ADDRESS(74,3)),INDIRECT(F$3&"!"&ADDRESS(74,3))) -> 6 | G13: =IF(G45>0,INDIRECT(G$6&"!"&ADDRESS(74,3)),INDIRECT(G$3&"!"&ADDRESS(74,3))) -> 0.30085547 | H13: =IF(H45>0,INDIRECT(H$6&"!"&ADDRESS(74,3)),INDIRECT(H$3&"!"&ADDRESS(74,3))) -> 4.9499415 | I13: =IF(I45>0,INDIRECT(I$6&"!"&ADDRESS(74,3)),INDIRECT(I$3&"!"&ADDRESS(74,3))) -> 2.2825204 | J13: =IF(J45>0,INDIRECT(J$6&"!"&ADDRESS(74,3)),INDIRECT(J$3&"!"&ADDRESS(74,3))) -> 6 | K13: =IF(K45>0,INDIRECT(K$6&"!"&ADDRESS(74,3)),INDIRECT(K$3&"!"&ADDRESS(74,3))) -> 3.2903155 | L13: =IF(L45>0,INDIRECT(L$6&"!"&ADDRESS(74,3)),INDIRECT(L$3&"!"&ADDRESS(74,3))) -> 3.3618064 | ... V13: =IF(V45>0,INDIRECT(V$6&"!"&ADDRESS(74,3)),INDIRECT(V$3&"!"&ADDRESS(74,3))) -> 2.6693441
A14: Φ95% | C14: =IF(C45>0,INDIRECT(C$6&"!"&ADDRESS(75,3)),INDIRECT(C$3&"!"&ADDRESS(75,3))) -> 6 | D14: =IF(D45>0.1,INDIRECT(D$6&"!"&ADDRESS(75,3)),INDIRECT(D$3&"!"&ADDRESS(75,3))) -> 6 | E14: =IF(E45>0,INDIRECT(E$6&"!"&ADDRESS(75,3)),INDIRECT(E$3&"!"&ADDRESS(75,3))) -> 0.65774038 | F14: =IF(F45>0,INDIRECT(F$6&"!"&ADDRESS(75,3)),INDIRECT(F$3&"!"&ADDRESS(75,3))) -> 6 | G14: =IF(G45>0,INDIRECT(G$6&"!"&ADDRESS(75,3)),INDIRECT(G$3&"!"&ADDRESS(75,3))) -> 2.7325656 | H14: =IF(H45>0,INDIRECT(H$6&"!"&ADDRESS(75,3)),INDIRECT(H$3&"!"&ADDRESS(75,3))) -> 6 | I14: =IF(I45>0,INDIRECT(I$6&"!"&ADDRESS(75,3)),INDIRECT(I$3&"!"&ADDRESS(75,3))) -> 4.5066019 | J14: =IF(J45>0,INDIRECT(J$6&"!"&ADDRESS(75,3)),INDIRECT(J$3&"!"&ADDRESS(75,3))) -> 6 | K14: =IF(K45>0,INDIRECT(K$6&"!"&ADDRESS(75,3)),INDIRECT(K$3&"!"&ADDRESS(75,3))) -> 4.4019813 | L14: =IF(L45>0,INDIRECT(L$6&"!"&ADDRESS(75,3)),INDIRECT(L$3&"!"&ADDRESS(75,3))) -> 4.8847445 | ... V14: =IF(V45>0,INDIRECT(V$6&"!"&ADDRESS(75,3)),INDIRECT(V$3&"!"&ADDRESS(75,3))) -> 3.4501647
A16: MzΦ | C16: =IF(C45>0,INDIRECT(C$6&"!"&ADDRESS(85,4)),INDIRECT(C$3&"!"&ADDRESS(85,4))) -> 0.30919704 | D16: =IF(D45>0.1,INDIRECT(D$6&"!"&ADDRESS(85,4)),INDIRECT(D$3&"!"&ADDRESS(85,4))) -> 0.62553443 | E16: =IF(E45>0,INDIRECT(E$6&"!"&ADDRESS(85,4)),INDIRECT(E$3&"!"&ADDRESS(85,4))) -> -2.5626764 | F16: =IF(F45>0,INDIRECT(F$6&"!"&ADDRESS(85,4)),INDIRECT(F$3&"!"&ADDRESS(85,4))) -> 0.86426571 | G16: =IF(G45>0,INDIRECT(G$6&"!"&ADDRESS(85,4)),INDIRECT(G$3&"!"&ADDRESS(85,4))) -> -2.0736254 | H16: =IF(H45>0,INDIRECT(H$6&"!"&ADDRESS(85,4)),INDIRECT(H$3&"!"&ADDRESS(85,4))) -> 2.9131288 | I16: =IF(I45>0,INDIRECT(I$6&"!"&ADDRESS(85,4)),INDIRECT(I$3&"!"&ADDRESS(85,4))) -> 0.58315515 | J16: =IF(J45>0,INDIRECT(J$6&"!"&ADDRESS(85,4)),INDIRECT(J$3&"!"&ADDRESS(85,4))) -> 3.8970319 | K16: =IF(K45>0,INDIRECT(K$6&"!"&ADDRESS(85,4)),INDIRECT(K$3&"!"&ADDRESS(85,4))) -> 1.1880786 | L16: =IF(L45>0,INDIRECT(L$6&"!"&ADDRESS(85,4)),INDIRECT(L$3&"!"&ADDRESS(85,4))) -> 0.46206491 | ... V16: =IF(V45>0,INDIRECT(V$6&"!"&ADDRESS(85,4)),INDIRECT(V$3&"!"&ADDRESS(85,4))) -> -0.3665659
A17: MdΦ | C17: =IF(C45>0,INDIRECT(C$6&"!"&ADDRESS(86,4)),INDIRECT(C$3&"!"&ADDRESS(86,4))) -> -0.74729273 | D17: =IF(D45>0.1,INDIRECT(D$6&"!"&ADDRESS(86,4)),INDIRECT(D$3&"!"&ADDRESS(86,4))) -> -1.0497936 | E17: =IF(E45>0,INDIRECT(E$6&"!"&ADDRESS(86,4)),INDIRECT(E$3&"!"&ADDRESS(86,4))) -> -2.6782234 | F17: =IF(F45>0,INDIRECT(F$6&"!"&ADDRESS(86,4)),INDIRECT(F$3&"!"&ADDRESS(86,4))) -> -0.50944616 | G17: =IF(G45>0,INDIRECT(G$6&"!"&ADDRESS(86,4)),INDIRECT(G$3&"!"&ADDRESS(86,4))) -> -2.5492911 | H17: =IF(H45>0,INDIRECT(H$6&"!"&ADDRESS(86,4)),INDIRECT(H$3&"!"&ADDRESS(86,4))) -> 3.7790022 | I17: =IF(I45>0,INDIRECT(I$6&"!"&ADDRESS(86,4)),INDIRECT(I$3&"!"&ADDRESS(86,4))) -> 0.52957729 | J17: =IF(J45>0,INDIRECT(J$6&"!"&ADDRESS(86,4)),INDIRECT(J$3&"!"&ADDRESS(86,4))) -> 4.4235751 | K17: =IF(K45>0,INDIRECT(K$6&"!"&ADDRESS(86,4)),INDIRECT(K$3&"!"&ADDRESS(86,4))) -> 0.85870039 | L17: =IF(L45>0,INDIRECT(L$6&"!"&ADDRESS(86,4)),INDIRECT(L$3&"!"&ADDRESS(86,4))) -> -0.1746515 | ... V17: =IF(V45>0,INDIRECT(V$6&"!"&ADDRESS(86,4)),INDIRECT(V$3&"!"&ADDRESS(86,4))) -> -1.0487426
A18: σΦ | C18: =IF(C45>0,INDIRECT(C$6&"!"&ADDRESS(87,4)),INDIRECT(C$3&"!"&ADDRESS(87,4))) -> 3.4892396 | D18: =IF(D45>0.1,INDIRECT(D$6&"!"&ADDRESS(87,4)),INDIRECT(D$3&"!"&ADDRESS(87,4))) -> 4.5368015 | E18: =IF(E45>0,INDIRECT(E$6&"!"&ADDRESS(87,4)),INDIRECT(E$3&"!"&ADDRESS(87,4))) -> 1.7096346 | F18: =IF(F45>0,INDIRECT(F$6&"!"&ADDRESS(87,4)),INDIRECT(F$3&"!"&ADDRESS(87,4))) -> 4.4488784 | G18: =IF(G45>0,INDIRECT(G$6&"!"&ADDRESS(87,4)),INDIRECT(G$3&"!"&ADDRESS(87,4))) -> 2.136648 | H18: =IF(H45>0,INDIRECT(H$6&"!"&ADDRESS(87,4)),INDIRECT(H$3&"!"&ADDRESS(87,4))) -> 2.4697495 | I18: =IF(I45>0,INDIRECT(I$6&"!"&ADDRESS(87,4)),INDIRECT(I$3&"!"&ADDRESS(87,4))) -> 1.6725763 | J18: =IF(J45>0,INDIRECT(J$6&"!"&ADDRESS(87,4)),INDIRECT(J$3&"!"&ADDRESS(87,4))) -> 2.3662397 | K18: =IF(K45>0,INDIRECT(K$6&"!"&ADDRESS(87,4)),INDIRECT(K$3&"!"&ADDRESS(87,4))) -> 1.9375479 | L18: =IF(L45>0,INDIRECT(L$6&"!"&ADDRESS(87,4)),INDIRECT(L$3&"!"&ADDRESS(87,4))) -> 2.5813833 | ... V18: =IF(V45>0,INDIRECT(V$6&"!"&ADDRESS(87,4)),INDIRECT(V$3&"!"&ADDRESS(87,4))) -> 2.6948217
A19: aΦ | C19: =IF(C45>0,INDIRECT(C$6&"!"&ADDRESS(88,4)),INDIRECT(C$3&"!"&ADDRESS(88,4))) -> 0.69418466 | D19: =IF(D45>0.1,INDIRECT(D$6&"!"&ADDRESS(88,4)),INDIRECT(D$3&"!"&ADDRESS(88,4))) -> 0.87643034 | E19: =IF(E45>0,INDIRECT(E$6&"!"&ADDRESS(88,4)),INDIRECT(E$3&"!"&ADDRESS(88,4))) -> -1.3637899 | F19: =IF(F45>0,INDIRECT(F$6&"!"&ADDRESS(88,4)),INDIRECT(F$3&"!"&ADDRESS(88,4))) -> 0.81182023 | G19: =IF(G45>0,INDIRECT(G$6&"!"&ADDRESS(88,4)),INDIRECT(G$3&"!"&ADDRESS(88,4))) -> -0.52525918 | H19: =IF(H45>0,INDIRECT(H$6&"!"&ADDRESS(88,4)),INDIRECT(H$3&"!"&ADDRESS(88,4))) -> 0.47834078 | I19: =IF(I45>0,INDIRECT(I$6&"!"&ADDRESS(88,4)),INDIRECT(I$3&"!"&ADDRESS(88,4))) -> 0.41272308 | J19: =IF(J45>0,INDIRECT(J$6&"!"&ADDRESS(88,4)),INDIRECT(J$3&"!"&ADDRESS(88,4))) -> 1.201884 | K19: =IF(K45>0,INDIRECT(K$6&"!"&ADDRESS(88,4)),INDIRECT(K$3&"!"&ADDRESS(88,4))) -> 0.95318157 | L19: =IF(L45>0,INDIRECT(L$6&"!"&ADDRESS(88,4)),INDIRECT(L$3&"!"&ADDRESS(88,4))) -> 0.67231307 | ... V19: =IF(V45>0,INDIRECT(V$6&"!"&ADDRESS(88,4)),INDIRECT(V$3&"!"&ADDRESS(88,4))) -> 0.37026102
A20: Inclusive graphic standard deviation | C20: =IF(C45>0,INDIRECT(C$6&"!"&ADDRESS(89,4)),INDIRECT(C$3&"!"&ADDRESS(89,4))) -> 3.1818914 | D20: =IF(D45>0.1,INDIRECT(D$6&"!"&ADDRESS(89,4)),INDIRECT(D$3&"!"&ADDRESS(89,4))) -> 3.7336182 | E20: =IF(E45>0,INDIRECT(E$6&"!"&ADDRESS(89,4)),INDIRECT(E$3&"!"&ADDRESS(89,4))) -> 1.7192206 | F20: =IF(F45>0,INDIRECT(F$6&"!"&ADDRESS(89,4)),INDIRECT(F$3&"!"&ADDRESS(89,4))) -> 3.7515195 | G20: =IF(G45>0,INDIRECT(G$6&"!"&ADDRESS(89,4)),INDIRECT(G$3&"!"&ADDRESS(89,4))) -> 2.170576 | H20: =IF(H45>0,INDIRECT(H$6&"!"&ADDRESS(89,4)),INDIRECT(H$3&"!"&ADDRESS(89,4))) -> 2.5149475 | I20: =IF(I45>0,INDIRECT(I$6&"!"&ADDRESS(89,4)),INDIRECT(I$3&"!"&ADDRESS(89,4))) -> 1.8349359 | J20: =IF(J45>0,INDIRECT(J$6&"!"&ADDRESS(89,4)),INDIRECT(J$3&"!"&ADDRESS(89,4))) -> 2.2911868 | K20: =IF(K45>0,INDIRECT(K$6&"!"&ADDRESS(89,4)),INDIRECT(K$3&"!"&ADDRESS(89,4))) -> 1.9701467 | L20: =IF(L45>0,INDIRECT(L$6&"!"&ADDRESS(89,4)),INDIRECT(L$3&"!"&ADDRESS(89,4))) -> 2.4206951 | ... V20: =IF(V45>0,INDIRECT(V$6&"!"&ADDRESS(89,4)),INDIRECT(V$3&"!"&ADDRESS(89,4))) -> 2.4133173
A21: Inclusive graphic skewness | C21: =IF(C45>0,INDIRECT(C$6&"!"&ADDRESS(90,4)),INDIRECT(C$3&"!"&ADDRESS(90,4))) -> 0.43837892 | D21: =IF(D45>0.1,INDIRECT(D$6&"!"&ADDRESS(90,4)),INDIRECT(D$3&"!"&ADDRESS(90,4))) -> 0.50596118 | E21: =IF(E45>0,INDIRECT(E$6&"!"&ADDRESS(90,4)),INDIRECT(E$3&"!"&ADDRESS(90,4))) -> 0.13542686 | F21: =IF(F45>0,INDIRECT(F$6&"!"&ADDRESS(90,4)),INDIRECT(F$3&"!"&ADDRESS(90,4))) -> 0.37744258 | G21: =IF(G45>0,INDIRECT(G$6&"!"&ADDRESS(90,4)),INDIRECT(G$3&"!"&ADDRESS(90,4))) -> 0.39300888 | H21: =IF(H45>0,INDIRECT(H$6&"!"&ADDRESS(90,4)),INDIRECT(H$3&"!"&ADDRESS(90,4))) -> -0.50005645 | I21: =IF(I45>0,INDIRECT(I$6&"!"&ADDRESS(90,4)),INDIRECT(I$3&"!"&ADDRESS(90,4))) -> 0.1274203 | J21: =IF(J45>0,INDIRECT(J$6&"!"&ADDRESS(90,4)),INDIRECT(J$3&"!"&ADDRESS(90,4))) -> -0.45133479 | K21: =IF(K45>0,INDIRECT(K$6&"!"&ADDRESS(90,4)),INDIRECT(K$3&"!"&ADDRESS(90,4))) -> 0.16362284 | L21: =IF(L45>0,INDIRECT(L$6&"!"&ADDRESS(90,4)),INDIRECT(L$3&"!"&ADDRESS(90,4))) -> 0.36337585 | ... V21: =IF(V45>0,INDIRECT(V$6&"!"&ADDRESS(90,4)),INDIRECT(V$3&"!"&ADDRESS(90,4))) -> 0.32936276
A22: Graphic kurtosis | C22: =IF(C45>0,INDIRECT(C$6&"!"&ADDRESS(91,4)),INDIRECT(C$3&"!"&ADDRESS(91,4))) -> 0.65026977 | D22: =IF(D45>0.1,INDIRECT(D$6&"!"&ADDRESS(91,4)),INDIRECT(D$3&"!"&ADDRESS(91,4))) -> 0.71861923 | E22: =IF(E45>0,INDIRECT(E$6&"!"&ADDRESS(91,4)),INDIRECT(E$3&"!"&ADDRESS(91,4))) -> 0.75115471 | F22: =IF(F45>0,INDIRECT(F$6&"!"&ADDRESS(91,4)),INDIRECT(F$3&"!"&ADDRESS(91,4))) -> 0.79648864 | G22: =IF(G45>0,INDIRECT(G$6&"!"&ADDRESS(91,4)),INDIRECT(G$3&"!"&ADDRESS(91,4))) -> 0.68883358 | H22: =IF(H45>0,INDIRECT(H$6&"!"&ADDRESS(91,4)),INDIRECT(H$3&"!"&ADDRESS(91,4))) -> 0.94715905 | I22: =IF(I45>0,INDIRECT(I$6&"!"&ADDRESS(91,4)),INDIRECT(I$3&"!"&ADDRESS(91,4))) -> 0.80612933 | J22: =IF(J45>0,INDIRECT(J$6&"!"&ADDRESS(91,4)),INDIRECT(J$3&"!"&ADDRESS(91,4))) -> 0.88725217 | K22: =IF(K45>0,INDIRECT(K$6&"!"&ADDRESS(91,4)),INDIRECT(K$3&"!"&ADDRESS(91,4))) -> 0.83520431 | L22: =IF(L45>0,INDIRECT(L$6&"!"&ADDRESS(91,4)),INDIRECT(L$3&"!"&ADDRESS(91,4))) -> 0.70106014 | ... V22: =IF(V45>0,INDIRECT(V$6&"!"&ADDRESS(91,4)),INDIRECT(V$3&"!"&ADDRESS(91,4))) -> 0.74790039
A23: Graphic mean | C23: =IF(C45>0,INDIRECT(C$6&"!"&ADDRESS(92,4)),INDIRECT(C$3&"!"&ADDRESS(92,4))) -> 0.30919704 | D23: =IF(D45>0.1,INDIRECT(D$6&"!"&ADDRESS(92,4)),INDIRECT(D$3&"!"&ADDRESS(92,4))) -> 0.62553443 | E23: =IF(E45>0,INDIRECT(E$6&"!"&ADDRESS(92,4)),INDIRECT(E$3&"!"&ADDRESS(92,4))) -> -2.5626764 | F23: =IF(F45>0,INDIRECT(F$6&"!"&ADDRESS(92,4)),INDIRECT(F$3&"!"&ADDRESS(92,4))) -> 0.86426571 | G23: =IF(G45>0,INDIRECT(G$6&"!"&ADDRESS(92,4)),INDIRECT(G$3&"!"&ADDRESS(92,4))) -> -2.0736254 | H23: =IF(H45>0,INDIRECT(H$6&"!"&ADDRESS(92,4)),INDIRECT(H$3&"!"&ADDRESS(92,4))) -> 2.9131288 | I23: =IF(I45>0,INDIRECT(I$6&"!"&ADDRESS(92,4)),INDIRECT(I$3&"!"&ADDRESS(92,4))) -> 0.58315515 | J23: =IF(J45>0,INDIRECT(J$6&"!"&ADDRESS(92,4)),INDIRECT(J$3&"!"&ADDRESS(92,4))) -> 3.8970319 | K23: =IF(K45>0,INDIRECT(K$6&"!"&ADDRESS(92,4)),INDIRECT(K$3&"!"&ADDRESS(92,4))) -> 1.1880786 | L23: =IF(L45>0,INDIRECT(L$6&"!"&ADDRESS(92,4)),INDIRECT(L$3&"!"&ADDRESS(92,4))) -> 0.46206491 | ... V23: =IF(V45>0,INDIRECT(V$6&"!"&ADDRESS(92,4)),INDIRECT(V$3&"!"&ADDRESS(92,4))) -> -0.3665659
A24: MΦ | C24: =IF(C45>0,INDIRECT(C$6&"!"&ADDRESS(94,4)),INDIRECT(C$3&"!"&ADDRESS(94,4))) -> 0.83744193 | D24: =IF(D45>0.1,INDIRECT(D$6&"!"&ADDRESS(94,4)),INDIRECT(D$3&"!"&ADDRESS(94,4))) -> 1.4631985 | E24: =IF(E45>0,INDIRECT(E$6&"!"&ADDRESS(94,4)),INDIRECT(E$3&"!"&ADDRESS(94,4))) -> -2.5049029 | F24: =IF(F45>0,INDIRECT(F$6&"!"&ADDRESS(94,4)),INDIRECT(F$3&"!"&ADDRESS(94,4))) -> 1.5511216 | G24: =IF(G45>0,INDIRECT(G$6&"!"&ADDRESS(94,4)),INDIRECT(G$3&"!"&ADDRESS(94,4))) -> -1.8357925 | H24: =IF(H45>0,INDIRECT(H$6&"!"&ADDRESS(94,4)),INDIRECT(H$3&"!"&ADDRESS(94,4))) -> 2.480192 | I24: =IF(I45>0,INDIRECT(I$6&"!"&ADDRESS(94,4)),INDIRECT(I$3&"!"&ADDRESS(94,4))) -> 0.60994408 | J24: =IF(J45>0,INDIRECT(J$6&"!"&ADDRESS(94,4)),INDIRECT(J$3&"!"&ADDRESS(94,4))) -> 3.6337603 | K24: =IF(K45>0,INDIRECT(K$6&"!"&ADDRESS(94,4)),INDIRECT(K$3&"!"&ADDRESS(94,4))) -> 1.3527677 | L24: =IF(L45>0,INDIRECT(L$6&"!"&ADDRESS(94,4)),INDIRECT(L$3&"!"&ADDRESS(94,4))) -> 0.78042312 | ... V24: =IF(V45>0,INDIRECT(V$6&"!"&ADDRESS(94,4)),INDIRECT(V$3&"!"&ADDRESS(94,4))) -> -0.025477569
A25: F1 | C25: =IF(C45>0,INDIRECT(C$6&"!"&ADDRESS(95,4)),INDIRECT(C$3&"!"&ADDRESS(95,4))) -> 37.632516 | D25: =IF(D45>0.1,INDIRECT(D$6&"!"&ADDRESS(95,4)),INDIRECT(D$3&"!"&ADDRESS(95,4))) -> 36.89071 | E25: =IF(E45>0,INDIRECT(E$6&"!"&ADDRESS(95,4)),INDIRECT(E$3&"!"&ADDRESS(95,4))) -> 5.5720878 | F25: =IF(F45>0,INDIRECT(F$6&"!"&ADDRESS(95,4)),INDIRECT(F$3&"!"&ADDRESS(95,4))) -> 39.187421 | G25: =IF(G45>0,INDIRECT(G$6&"!"&ADDRESS(95,4)),INDIRECT(G$3&"!"&ADDRESS(95,4))) -> 14.542724 | H25: =IF(H45>0,INDIRECT(H$6&"!"&ADDRESS(95,4)),INDIRECT(H$3&"!"&ADDRESS(95,4))) -> 81.589172 | I25: =IF(I45>0,INDIRECT(I$6&"!"&ADDRESS(95,4)),INDIRECT(I$3&"!"&ADDRESS(95,4))) -> 50.713488 | J25: =IF(J45>0,INDIRECT(J$6&"!"&ADDRESS(95,4)),INDIRECT(J$3&"!"&ADDRESS(95,4))) -> 87.532347 | K25: =IF(K45>0,INDIRECT(K$6&"!"&ADDRESS(95,4)),INDIRECT(K$3&"!"&ADDRESS(95,4))) -> 56.405264 | L25: =IF(L45>0,INDIRECT(L$6&"!"&ADDRESS(95,4)),INDIRECT(L$3&"!"&ADDRESS(95,4))) -> 40.069645 | ... V25: =IF(V45>0,INDIRECT(V$6&"!"&ADDRESS(95,4)),INDIRECT(V$3&"!"&ADDRESS(95,4))) -> 29.425547
A26: F2 | C26: =IF(C45>0,INDIRECT(C$6&"!"&ADDRESS(96,4)),INDIRECT(C$3&"!"&ADDRESS(96,4))) -> 17.629835 | D26: =IF(D45>0.1,INDIRECT(D$6&"!"&ADDRESS(96,4)),INDIRECT(D$3&"!"&ADDRESS(96,4))) -> 18.903624 | E26: =IF(E45>0,INDIRECT(E$6&"!"&ADDRESS(96,4)),INDIRECT(E$3&"!"&ADDRESS(96,4))) -> 0.91715392 | F26: =IF(F45>0,INDIRECT(F$6&"!"&ADDRESS(96,4)),INDIRECT(F$3&"!"&ADDRESS(96,4))) -> 16.967681 | G26: =IF(G45>0,INDIRECT(G$6&"!"&ADDRESS(96,4)),INDIRECT(G$3&"!"&ADDRESS(96,4))) -> 2.7943406 | H26: =IF(H45>0,INDIRECT(H$6&"!"&ADDRESS(96,4)),INDIRECT(H$3&"!"&ADDRESS(96,4))) -> 45.914145 | I26: =IF(I45>0,INDIRECT(I$6&"!"&ADDRESS(96,4)),INDIRECT(I$3&"!"&ADDRESS(96,4))) -> 6.1906055 | J26: =IF(J45>0,INDIRECT(J$6&"!"&ADDRESS(96,4)),INDIRECT(J$3&"!"&ADDRESS(96,4))) -> 56.386407 | K26: =IF(K45>0,INDIRECT(K$6&"!"&ADDRESS(96,4)),INDIRECT(K$3&"!"&ADDRESS(96,4))) -> 9.3450666 | L26: =IF(L45>0,INDIRECT(L$6&"!"&ADDRESS(96,4)),INDIRECT(L$3&"!"&ADDRESS(96,4))) -> 11.332573 | ... V26: =IF(V45>0,INDIRECT(V$6&"!"&ADDRESS(96,4)),INDIRECT(V$3&"!"&ADDRESS(96,4))) -> 1.1668355
A28: Block and bombs | C28: =IF(C45>0,INDIRECT(C$6&"!"&ADDRESS(77,2)),INDIRECT(C$3&"!"&ADDRESS(77,2))) -> 0 | D28: =IF(D45>0.1,INDIRECT(D$6&"!"&ADDRESS(77,2)),INDIRECT(D$3&"!"&ADDRESS(77,2))) -> 0 | E28: =IF(E45>0,INDIRECT(E$6&"!"&ADDRESS(77,2)),INDIRECT(E$3&"!"&ADDRESS(77,2))) -> 0 | F28: =IF(F45>0,INDIRECT(F$6&"!"&ADDRESS(77,2)),INDIRECT(F$3&"!"&ADDRESS(77,2))) -> 0.004462323 | G28: =IF(G45>0,INDIRECT(G$6&"!"&ADDRESS(77,2)),INDIRECT(G$3&"!"&ADDRESS(77,2))) -> 0 | H28: =IF(H45>0,INDIRECT(H$6&"!"&ADDRESS(77,2)),INDIRECT(H$3&"!"&ADDRESS(77,2))) -> 0 | I28: =IF(I45>0,INDIRECT(I$6&"!"&ADDRESS(77,2)),INDIRECT(I$3&"!"&ADDRESS(77,2))) -> 0 | J28: =IF(J45>0,INDIRECT(J$6&"!"&ADDRESS(77,2)),INDIRECT(J$3&"!"&ADDRESS(77,2))) -> 0 | K28: =IF(K45>0,INDIRECT(K$6&"!"&ADDRESS(77,2)),INDIRECT(K$3&"!"&ADDRESS(77,2))) -> 0 | L28: =IF(L45>0,INDIRECT(L$6&"!"&ADDRESS(77,2)),INDIRECT(L$3&"!"&ADDRESS(77,2))) -> 0 | ... V28: =IF(V45>0,INDIRECT(V$6&"!"&ADDRESS(77,2)),INDIRECT(V$3&"!"&ADDRESS(77,2))) -> 0
A29: Lapilli | C29: =IF(C45>0,INDIRECT(C$6&"!"&ADDRESS(78,2)),INDIRECT(C$3&"!"&ADDRESS(78,2))) -> 0.46473545 | D29: =IF(D45>0.1,INDIRECT(D$6&"!"&ADDRESS(78,2)),INDIRECT(D$3&"!"&ADDRESS(78,2))) -> 0.6310929 | E29: =IF(E45>0,INDIRECT(E$6&"!"&ADDRESS(78,2)),INDIRECT(E$3&"!"&ADDRESS(78,2))) -> 0.8173771 | F29: =IF(F45>0,INDIRECT(F$6&"!"&ADDRESS(78,2)),INDIRECT(F$3&"!"&ADDRESS(78,2))) -> 0.60366347 | G29: =IF(G45>0,INDIRECT(G$6&"!"&ADDRESS(78,2)),INDIRECT(G$3&"!"&ADDRESS(78,2))) -> 0.72051961 | H29: =IF(H45>0,INDIRECT(H$6&"!"&ADDRESS(78,2)),INDIRECT(H$3&"!"&ADDRESS(78,2))) -> 0.11475772 | I29: =IF(I45>0,INDIRECT(I$6&"!"&ADDRESS(78,2)),INDIRECT(I$3&"!"&ADDRESS(78,2))) -> 0.16864271 | J29: =IF(J45>0,INDIRECT(J$6&"!"&ADDRESS(78,2)),INDIRECT(J$3&"!"&ADDRESS(78,2))) -> 0.060568332 | K29: =IF(K45>0,INDIRECT(K$6&"!"&ADDRESS(78,2)),INDIRECT(K$3&"!"&ADDRESS(78,2))) -> 0.11291955 | L29: =IF(L45>0,INDIRECT(L$6&"!"&ADDRESS(78,2)),INDIRECT(L$3&"!"&ADDRESS(78,2))) -> 0.35272834 | ... V29: =IF(V45>0,INDIRECT(V$6&"!"&ADDRESS(78,2)),INDIRECT(V$3&"!"&ADDRESS(78,2))) -> 0.70574453
A30: Ash | C30: =IF(C45>0,INDIRECT(C$6&"!"&ADDRESS(79,2)),INDIRECT(C$3&"!"&ADDRESS(79,2))) -> 0.53526455 | D30: =IF(D45>0.1,INDIRECT(D$6&"!"&ADDRESS(79,2)),INDIRECT(D$3&"!"&ADDRESS(79,2))) -> 0.3689071 | E30: =IF(E45>0,INDIRECT(E$6&"!"&ADDRESS(79,2)),INDIRECT(E$3&"!"&ADDRESS(79,2))) -> 0.1826229 | F30: =IF(F45>0,INDIRECT(F$6&"!"&ADDRESS(79,2)),INDIRECT(F$3&"!"&ADDRESS(79,2))) -> 0.39187421 | G30: =IF(G45>0,INDIRECT(G$6&"!"&ADDRESS(79,2)),INDIRECT(G$3&"!"&ADDRESS(79,2))) -> 0.27948039 | H30: =IF(H45>0,INDIRECT(H$6&"!"&ADDRESS(79,2)),INDIRECT(H$3&"!"&ADDRESS(79,2))) -> 0.88524228 | I30: =IF(I45>0,INDIRECT(I$6&"!"&ADDRESS(79,2)),INDIRECT(I$3&"!"&ADDRESS(79,2))) -> 0.83135729 | J30: =IF(J45>0,INDIRECT(J$6&"!"&ADDRESS(79,2)),INDIRECT(J$3&"!"&ADDRESS(79,2))) -> 0.93943167 | K30: =IF(K45>0,INDIRECT(K$6&"!"&ADDRESS(79,2)),INDIRECT(K$3&"!"&ADDRESS(79,2))) -> 0.88708045 | L30: =IF(L45>0,INDIRECT(L$6&"!"&ADDRESS(79,2)),INDIRECT(L$3&"!"&ADDRESS(79,2))) -> 0.64727166 | ... V30: =IF(V45>0,INDIRECT(V$6&"!"&ADDRESS(79,2)),INDIRECT(V$3&"!"&ADDRESS(79,2))) -> 0.29425547
A32: Lapilli (%) | C32: =IF(C45>0,INDIRECT(C$6&"!"&ADDRESS(77,5)),INDIRECT(C$3&"!"&ADDRESS(77,5))) -> 46.473545 | D32: =IF(D45>0.1,INDIRECT(D$6&"!"&ADDRESS(77,5)),INDIRECT(D$3&"!"&ADDRESS(77,5))) -> 50.670046 | E32: =IF(E45>0,INDIRECT(E$6&"!"&ADDRESS(77,5)),INDIRECT(E$3&"!"&ADDRESS(77,5))) -> 81.73771 | F32: =IF(F45>0,INDIRECT(F$6&"!"&ADDRESS(77,5)),INDIRECT(F$3&"!"&ADDRESS(77,5))) -> 42.401715 | G32: =IF(G45>0,INDIRECT(G$6&"!"&ADDRESS(77,5)),INDIRECT(G$3&"!"&ADDRESS(77,5))) -> 72.051961 | H32: =IF(H45>0,INDIRECT(H$6&"!"&ADDRESS(77,5)),INDIRECT(H$3&"!"&ADDRESS(77,5))) -> 11.475772 | I32: =IF(I45>0,INDIRECT(I$6&"!"&ADDRESS(77,5)),INDIRECT(I$3&"!"&ADDRESS(77,5))) -> 16.864271 | J32: =IF(J45>0,INDIRECT(J$6&"!"&ADDRESS(77,5)),INDIRECT(J$3&"!"&ADDRESS(77,5))) -> 6.0568332 | K32: =IF(K45>0,INDIRECT(K$6&"!"&ADDRESS(77,5)),INDIRECT(K$3&"!"&ADDRESS(77,5))) -> 11.291955 | L32: =IF(L45>0,INDIRECT(L$6&"!"&ADDRESS(77,5)),INDIRECT(L$3&"!"&ADDRESS(77,5))) -> 35.272834 | ... V32: =IF(V45>0,INDIRECT(V$6&"!"&ADDRESS(77,5)),INDIRECT(V$3&"!"&ADDRESS(77,5))) -> 50.953167
A33: Coarse ash (%) | C33: =IF(C45>0,INDIRECT(C$6&"!"&ADDRESS(78,5)),INDIRECT(C$3&"!"&ADDRESS(78,5))) -> 35.89662 | D33: =IF(D45>0.1,INDIRECT(D$6&"!"&ADDRESS(78,5)),INDIRECT(D$3&"!"&ADDRESS(78,5))) -> 30.42633 | E33: =IF(E45>0,INDIRECT(E$6&"!"&ADDRESS(78,5)),INDIRECT(E$3&"!"&ADDRESS(78,5))) -> 17.345136 | F33: =IF(F45>0,INDIRECT(F$6&"!"&ADDRESS(78,5)),INDIRECT(F$3&"!"&ADDRESS(78,5))) -> 40.630604 | G33: =IF(G45>0,INDIRECT(G$6&"!"&ADDRESS(78,5)),INDIRECT(G$3&"!"&ADDRESS(78,5))) -> 25.153699 | H33: =IF(H45>0,INDIRECT(H$6&"!"&ADDRESS(78,5)),INDIRECT(H$3&"!"&ADDRESS(78,5))) -> 42.610083 | I33: =IF(I45>0,INDIRECT(I$6&"!"&ADDRESS(78,5)),INDIRECT(I$3&"!"&ADDRESS(78,5))) -> 76.945123 | J33: =IF(J45>0,INDIRECT(J$6&"!"&ADDRESS(78,5)),INDIRECT(J$3&"!"&ADDRESS(78,5))) -> 37.55676 | K33: =IF(K45>0,INDIRECT(K$6&"!"&ADDRESS(78,5)),INDIRECT(K$3&"!"&ADDRESS(78,5))) -> 79.362978 | L33: =IF(L45>0,INDIRECT(L$6&"!"&ADDRESS(78,5)),INDIRECT(L$3&"!"&ADDRESS(78,5))) -> 53.394593 | ... V33: =IF(V45>0,INDIRECT(V$6&"!"&ADDRESS(78,5)),INDIRECT(V$3&"!"&ADDRESS(78,5))) -> 47.879998
A34: Fine ash (%) | C34: =IF(C45>0,INDIRECT(C$6&"!"&ADDRESS(79,5)),INDIRECT(C$3&"!"&ADDRESS(79,5))) -> 17.629835 | D34: =IF(D45>0.1,INDIRECT(D$6&"!"&ADDRESS(79,5)),INDIRECT(D$3&"!"&ADDRESS(79,5))) -> 18.903624 | E34: =IF(E45>0,INDIRECT(E$6&"!"&ADDRESS(79,5)),INDIRECT(E$3&"!"&ADDRESS(79,5))) -> 0.91715392 | F34: =IF(F45>0,INDIRECT(F$6&"!"&ADDRESS(79,5)),INDIRECT(F$3&"!"&ADDRESS(79,5))) -> 16.967681 | G34: =IF(G45>0,INDIRECT(G$6&"!"&ADDRESS(79,5)),INDIRECT(G$3&"!"&ADDRESS(79,5))) -> 2.7943406 | H34: =IF(H45>0,INDIRECT(H$6&"!"&ADDRESS(79,5)),INDIRECT(H$3&"!"&ADDRESS(79,5))) -> 45.914145 | I34: =IF(I45>0,INDIRECT(I$6&"!"&ADDRESS(79,5)),INDIRECT(I$3&"!"&ADDRESS(79,5))) -> 6.1906055 | J34: =IF(J45>0,INDIRECT(J$6&"!"&ADDRESS(79,5)),INDIRECT(J$3&"!"&ADDRESS(79,5))) -> 56.386407 | K34: =IF(K45>0,INDIRECT(K$6&"!"&ADDRESS(79,5)),INDIRECT(K$3&"!"&ADDRESS(79,5))) -> 9.3450666 | L34: =IF(L45>0,INDIRECT(L$6&"!"&ADDRESS(79,5)),INDIRECT(L$3&"!"&ADDRESS(79,5))) -> 11.332573 | ... V34: =IF(V45>0,INDIRECT(V$6&"!"&ADDRESS(79,5)),INDIRECT(V$3&"!"&ADDRESS(79,5))) -> 1.1668355
C35: =C34/SUM(C32:C34) -> 0.17629835 | D35: =D34/SUM(D32:D34) -> 0.18903624 | E35: =E34/SUM(E32:E34) -> 0.0091715392 | F35: =F34/SUM(F32:F34) -> 0.16967681 | G35: =G34/SUM(G32:G34) -> 0.027943406 | H35: =H34/SUM(H32:H34) -> 0.45914145 | I35: =I34/SUM(I32:I34) -> 0.061906055 | J35: =J34/SUM(J32:J34) -> 0.56386407 | ... V35: =V34/SUM(V32:V34) -> 0.011668355
A36: Componentry
A38: Juvenile (%) | C38: =INDIRECT(C$3&"!"&ADDRESS(81,2)) -> 76.32591 | D38: =INDIRECT(D$3&"!"&ADDRESS(81,2)) -> 62.121494 | E38: =INDIRECT(E$3&"!"&ADDRESS(81,2)) -> 57.763824 | F38: =INDIRECT(F$3&"!"&ADDRESS(81,2)) -> 49.067323 | G38: =INDIRECT(G$3&"!"&ADDRESS(81,2)) -> 58.018016 | H38: =INDIRECT(H$3&"!"&ADDRESS(81,2)) -> 25.297002 | I38: =INDIRECT(I$3&"!"&ADDRESS(81,2)) -> 66.574836 | J38: =INDIRECT(J$3&"!"&ADDRESS(81,2)) -> 98.772563 | ... V38: =INDIRECT(V$3&"!"&ADDRESS(81,2)) -> 38.521605
A39: Lithics (%) | C39: =INDIRECT(C$3&"!"&ADDRESS(82,2)) -> 2.1713529 | D39: =INDIRECT(D$3&"!"&ADDRESS(82,2)) -> 34.295302 | E39: =INDIRECT(E$3&"!"&ADDRESS(82,2)) -> 42.108134 | F39: =INDIRECT(F$3&"!"&ADDRESS(82,2)) -> 3.2849516 | G39: =INDIRECT(G$3&"!"&ADDRESS(82,2)) -> 41.929551 | H39: =INDIRECT(H$3&"!"&ADDRESS(82,2)) -> 72.058809 | I39: =INDIRECT(I$3&"!"&ADDRESS(82,2)) -> 14.346952 | J39: =INDIRECT(J$3&"!"&ADDRESS(82,2)) -> 1.1191336 | ... V39: =INDIRECT(V$3&"!"&ADDRESS(82,2)) -> 1.7896019
A40: Crystals (%) | C40: =INDIRECT(C$3&"!"&ADDRESS(83,2)) -> 0.013793322 | D40: =INDIRECT(D$3&"!"&ADDRESS(83,2)) -> 0 | E40: =INDIRECT(E$3&"!"&ADDRESS(83,2)) -> 0.12804175 | F40: =INDIRECT(F$3&"!"&ADDRESS(83,2)) -> 0.022808307 | G40: =INDIRECT(G$3&"!"&ADDRESS(83,2)) -> 0.052432525 | H40: =INDIRECT(H$3&"!"&ADDRESS(83,2)) -> 0.94235107 | I40: =INDIRECT(I$3&"!"&ADDRESS(83,2)) -> 0 | J40: =INDIRECT(J$3&"!"&ADDRESS(83,2)) -> 0 | ... V40: =INDIRECT(V$3&"!"&ADDRESS(83,2)) -> 0
A42: Juvenile (%) | C42: =INDIRECT(C$3&"!"&ADDRESS(81,5)) -> 76.32591 | D42: =INDIRECT(D$3&"!"&ADDRESS(81,5)) -> 62.121494 | E42: =INDIRECT(E$3&"!"&ADDRESS(81,5)) -> 57.763824 | F42: =INDIRECT(F$3&"!"&ADDRESS(81,5)) -> 49.067323 | G42: =INDIRECT(G$3&"!"&ADDRESS(81,5)) -> 58.018016 | H42: =INDIRECT(H$3&"!"&ADDRESS(81,5)) -> 25.297002 | I42: =INDIRECT(I$3&"!"&ADDRESS(81,5)) -> 66.574836 | J42: =INDIRECT(J$3&"!"&ADDRESS(81,5)) -> 98.772563 | ... V42: =INDIRECT(V$3&"!"&ADDRESS(81,5)) -> 38.521605
A43: Lithics (%) | C43: =INDIRECT(C$3&"!"&ADDRESS(82,5)) -> 2.1713529 | D43: =INDIRECT(D$3&"!"&ADDRESS(82,5)) -> 34.295302 | E43: =INDIRECT(E$3&"!"&ADDRESS(82,5)) -> 42.108134 | F43: =INDIRECT(F$3&"!"&ADDRESS(82,5)) -> 3.2849516 | G43: =INDIRECT(G$3&"!"&ADDRESS(82,5)) -> 41.929551 | H43: =INDIRECT(H$3&"!"&ADDRESS(82,5)) -> 72.058809 | I43: =INDIRECT(I$3&"!"&ADDRESS(82,5)) -> 14.346952 | J43: =INDIRECT(J$3&"!"&ADDRESS(82,5)) -> 1.1191336 | ... V43: =INDIRECT(V$3&"!"&ADDRESS(82,5)) -> 1.7896019
A44: Mixed (%) | C44: =INDIRECT(C$3&"!"&ADDRESS(83,5)) -> 21.488944 | D44: =INDIRECT(D$3&"!"&ADDRESS(83,5)) -> 3.5832039 | E44: =INDIRECT(E$3&"!"&ADDRESS(83,5)) -> 0 | F44: =INDIRECT(F$3&"!"&ADDRESS(83,5)) -> 47.624918 | G44: =INDIRECT(G$3&"!"&ADDRESS(83,5)) -> 0 | H44: =INDIRECT(H$3&"!"&ADDRESS(83,5)) -> 1.701838 | I44: =INDIRECT(I$3&"!"&ADDRESS(83,5)) -> 19.078212 | J44: =INDIRECT(J$3&"!"&ADDRESS(83,5)) -> 0.10830325 | ... V44: =INDIRECT(V$3&"!"&ADDRESS(83,5)) -> 59.688793
A45: Only Aggregates | C45: =(INDIRECT(C$3&"!"&ADDRESS(34,13)))/(INDIRECT(C$3&"!"&ADDRESS(4,2))) -> 0.12788345 | D45: =(INDIRECT(D$3&"!"&ADDRESS(34,13)))/(INDIRECT(D$3&"!"&ADDRESS(4,2))) -> 0.018802597 | E45: =(INDIRECT(E$3&"!"&ADDRESS(34,13)))/(INDIRECT(E$3&"!"&ADDRESS(4,2))) -> 0 | F45: =(INDIRECT(F$3&"!"&ADDRESS(34,13)))/(INDIRECT(F$3&"!"&ADDRESS(4,2))) -> 0.31317873 | G45: =(INDIRECT(G$3&"!"&ADDRESS(34,13)))/(INDIRECT(G$3&"!"&ADDRESS(4,2))) -> 0 | H45: =(INDIRECT(H$3&"!"&ADDRESS(34,13)))/(INDIRECT(H$3&"!"&ADDRESS(4,2))) -> 0.0023634702 | I45: =(INDIRECT(I$3&"!"&ADDRESS(34,13)))/(INDIRECT(I$3&"!"&ADDRESS(4,2))) -> 0.058281423 | J45: =(INDIRECT(J$3&"!"&ADDRESS(34,13)))/(INDIRECT(J$3&"!"&ADDRESS(4,2))) -> 0 | ... V45: =(INDIRECT(V$3&"!"&ADDRESS(34,13)))/(INDIRECT(V$3&"!"&ADDRESS(4,2))) -> 0.46449497
A47: Pumices (%) | C47: =INDIRECT(C$3&"!"&ADDRESS(81,8)) -> 14.606857 | D47: =INDIRECT(D$3&"!"&ADDRESS(81,8)) -> 40.524499 | E47: =INDIRECT(E$3&"!"&ADDRESS(81,8)) -> 37.840184 | F47: =INDIRECT(F$3&"!"&ADDRESS(81,8)) -> 29.898544 | G47: =INDIRECT(G$3&"!"&ADDRESS(81,8)) -> 52.776884 | H47: =INDIRECT(H$3&"!"&ADDRESS(81,8)) -> 18.603248 | I47: =INDIRECT(I$3&"!"&ADDRESS(81,8)) -> 0.65660562 | J47: =INDIRECT(J$3&"!"&ADDRESS(81,8)) -> 39.139863 | ... V47: =INDIRECT(V$3&"!"&ADDRESS(81,8)) -> 15.262231
A48: Dense Juvenile (%) | C48: =INDIRECT(C$3&"!"&ADDRESS(82,8)) -> 82.609909 | D48: =INDIRECT(D$3&"!"&ADDRESS(82,8)) -> 23.905658 | E48: =INDIRECT(E$3&"!"&ADDRESS(82,8)) -> 19.923641 | F48: =INDIRECT(F$3&"!"&ADDRESS(82,8)) -> 63.785934 | G48: =INDIRECT(G$3&"!"&ADDRESS(82,8)) -> 5.2411329 | H48: =INDIRECT(H$3&"!"&ADDRESS(82,8)) -> 7.1317209 | I48: =INDIRECT(I$3&"!"&ADDRESS(82,8)) -> 81.613989 | J48: =INDIRECT(J$3&"!"&ADDRESS(82,8)) -> 59.73979 | ... V48: =INDIRECT(V$3&"!"&ADDRESS(82,8)) -> 80.298305
A49: Lithics (%) | C49: =INDIRECT(C$3&"!"&ADDRESS(83,8)) -> 2.7656651 | D49: =INDIRECT(D$3&"!"&ADDRESS(83,8)) -> 35.569842 | E49: =INDIRECT(E$3&"!"&ADDRESS(83,8)) -> 42.108134 | F49: =INDIRECT(F$3&"!"&ADDRESS(83,8)) -> 6.271974 | G49: =INDIRECT(G$3&"!"&ADDRESS(83,8)) -> 41.929551 | H49: =INDIRECT(H$3&"!"&ADDRESS(83,8)) -> 73.306365 | I49: =INDIRECT(I$3&"!"&ADDRESS(83,8)) -> 17.729405 | J49: =INDIRECT(J$3&"!"&ADDRESS(83,8)) -> 1.1203469 | ... V49: =INDIRECT(V$3&"!"&ADDRESS(83,8)) -> 4.4394648
A51: Coral | C51: =100*((INDIRECT(C$3&"!"&ADDRESS(34,11)))/((INDIRECT(C$3&"!"&ADDRESS(34,11)))+(INDIRECT(C$3&"!"&ADDRESS(34,12))+(INDIRECT(C$3&"!"&ADDRESS(34,15)))))) -> 5.5468931 | D51: =100*((INDIRECT(D$3&"!"&ADDRESS(34,11)))/((INDIRECT(D$3&"!"&ADDRESS(34,11)))+(INDIRECT(D$3&"!"&ADDRESS(34,12))+(INDIRECT(D$3&"!"&ADDRESS(34,15)))))) -> 59.287632 | E51: =100*((INDIRECT(E$3&"!"&ADDRESS(34,11)))/((INDIRECT(E$3&"!"&ADDRESS(34,11)))+(INDIRECT(E$3&"!"&ADDRESS(34,12))+(INDIRECT(E$3&"!"&ADDRESS(34,15)))))) -> 7.2142602 | F51: =100*((INDIRECT(F$3&"!"&ADDRESS(34,11)))/((INDIRECT(F$3&"!"&ADDRESS(34,11)))+(INDIRECT(F$3&"!"&ADDRESS(34,12))+(INDIRECT(F$3&"!"&ADDRESS(34,15)))))) -> 7.4237967 | G51: =100*((INDIRECT(G$3&"!"&ADDRESS(34,11)))/((INDIRECT(G$3&"!"&ADDRESS(34,11)))+(INDIRECT(G$3&"!"&ADDRESS(34,12))+(INDIRECT(G$3&"!"&ADDRESS(34,15)))))) -> 84.782349 | H51: =100*((INDIRECT(H$3&"!"&ADDRESS(34,11)))/((INDIRECT(H$3&"!"&ADDRESS(34,11)))+(INDIRECT(H$3&"!"&ADDRESS(34,12))+(INDIRECT(H$3&"!"&ADDRESS(34,15)))))) -> 65.596254 | I51: =100*((INDIRECT(I$3&"!"&ADDRESS(34,11)))/((INDIRECT(I$3&"!"&ADDRESS(34,11)))+(INDIRECT(I$3&"!"&ADDRESS(34,12))+(INDIRECT(I$3&"!"&ADDRESS(34,15)))))) -> 12.829945 | J51: =100*((INDIRECT(J$3&"!"&ADDRESS(34,11)))/((INDIRECT(J$3&"!"&ADDRESS(34,11)))+(INDIRECT(J$3&"!"&ADDRESS(34,12))+(INDIRECT(J$3&"!"&ADDRESS(34,15)))))) -> 9.6774194 | ... V51: =100*((INDIRECT(V$3&"!"&ADDRESS(34,11)))/((INDIRECT(V$3&"!"&ADDRESS(34,11)))+(INDIRECT(V$3&"!"&ADDRESS(34,12))+(INDIRECT(V$3&"!"&ADDRESS(34,15)))))) -> 19.949219
A52: Mafics | C52: =100*((INDIRECT(C$3&"!"&ADDRESS(34,12)))/((INDIRECT(C$3&"!"&ADDRESS(34,11)))+(INDIRECT(C$3&"!"&ADDRESS(34,12))+(INDIRECT(C$3&"!"&ADDRESS(34,15)))))) -> 93.821876 | D52: =100*((INDIRECT(D$3&"!"&ADDRESS(34,12)))/((INDIRECT(D$3&"!"&ADDRESS(34,11)))+(INDIRECT(D$3&"!"&ADDRESS(34,12))+(INDIRECT(D$3&"!"&ADDRESS(34,15)))))) -> 40.712368 | E52: =100*((INDIRECT(E$3&"!"&ADDRESS(34,12)))/((INDIRECT(E$3&"!"&ADDRESS(34,11)))+(INDIRECT(E$3&"!"&ADDRESS(34,12))+(INDIRECT(E$3&"!"&ADDRESS(34,15)))))) -> 92.482583 | F52: =100*((INDIRECT(F$3&"!"&ADDRESS(34,12)))/((INDIRECT(F$3&"!"&ADDRESS(34,11)))+(INDIRECT(F$3&"!"&ADDRESS(34,12))+(INDIRECT(F$3&"!"&ADDRESS(34,15)))))) -> 91.886664 | G52: =100*((INDIRECT(G$3&"!"&ADDRESS(34,12)))/((INDIRECT(G$3&"!"&ADDRESS(34,11)))+(INDIRECT(G$3&"!"&ADDRESS(34,12))+(INDIRECT(G$3&"!"&ADDRESS(34,15)))))) -> 15.092758 | H52: =100*((INDIRECT(H$3&"!"&ADDRESS(34,12)))/((INDIRECT(H$3&"!"&ADDRESS(34,11)))+(INDIRECT(H$3&"!"&ADDRESS(34,12))+(INDIRECT(H$3&"!"&ADDRESS(34,15)))))) -> 33.112875 | I52: =100*((INDIRECT(I$3&"!"&ADDRESS(34,12)))/((INDIRECT(I$3&"!"&ADDRESS(34,11)))+(INDIRECT(I$3&"!"&ADDRESS(34,12))+(INDIRECT(I$3&"!"&ADDRESS(34,15)))))) -> 87.170055 | J52: =100*((INDIRECT(J$3&"!"&ADDRESS(34,12)))/((INDIRECT(J$3&"!"&ADDRESS(34,11)))+(INDIRECT(J$3&"!"&ADDRESS(34,12))+(INDIRECT(J$3&"!"&ADDRESS(34,15)))))) -> 90.322581 | ... V52: =100*((INDIRECT(V$3&"!"&ADDRESS(34,12)))/((INDIRECT(V$3&"!"&ADDRESS(34,11)))+(INDIRECT(V$3&"!"&ADDRESS(34,12))+(INDIRECT(V$3&"!"&ADDRESS(34,15)))))) -> 80.050781
A53: Xenolith | C53: =100*((INDIRECT(C$3&"!"&ADDRESS(34,15)))/((INDIRECT(C$3&"!"&ADDRESS(34,11)))+(INDIRECT(C$3&"!"&ADDRESS(34,12))+(INDIRECT(C$3&"!"&ADDRESS(34,15)))))) -> 0.63123105 | D53: =100*((INDIRECT(D$3&"!"&ADDRESS(34,15)))/((INDIRECT(D$3&"!"&ADDRESS(34,11)))+(INDIRECT(D$3&"!"&ADDRESS(34,12))+(INDIRECT(D$3&"!"&ADDRESS(34,15)))))) -> 0 | E53: =100*((INDIRECT(E$3&"!"&ADDRESS(34,15)))/((INDIRECT(E$3&"!"&ADDRESS(34,11)))+(INDIRECT(E$3&"!"&ADDRESS(34,12))+(INDIRECT(E$3&"!"&ADDRESS(34,15)))))) -> 0.30315659 | F53: =100*((INDIRECT(F$3&"!"&ADDRESS(34,15)))/((INDIRECT(F$3&"!"&ADDRESS(34,11)))+(INDIRECT(F$3&"!"&ADDRESS(34,12))+(INDIRECT(F$3&"!"&ADDRESS(34,15)))))) -> 0.68953939 | G53: =100*((INDIRECT(G$3&"!"&ADDRESS(34,15)))/((INDIRECT(G$3&"!"&ADDRESS(34,11)))+(INDIRECT(G$3&"!"&ADDRESS(34,12))+(INDIRECT(G$3&"!"&ADDRESS(34,15)))))) -> 0.12489292 | H53: =100*((INDIRECT(H$3&"!"&ADDRESS(34,15)))/((INDIRECT(H$3&"!"&ADDRESS(34,11)))+(INDIRECT(H$3&"!"&ADDRESS(34,12))+(INDIRECT(H$3&"!"&ADDRESS(34,15)))))) -> 1.2908714 | I53: =100*((INDIRECT(I$3&"!"&ADDRESS(34,15)))/((INDIRECT(I$3&"!"&ADDRESS(34,11)))+(INDIRECT(I$3&"!"&ADDRESS(34,12))+(INDIRECT(I$3&"!"&ADDRESS(34,15)))))) -> 0 | J53: =100*((INDIRECT(J$3&"!"&ADDRESS(34,15)))/((INDIRECT(J$3&"!"&ADDRESS(34,11)))+(INDIRECT(J$3&"!"&ADDRESS(34,12))+(INDIRECT(J$3&"!"&ADDRESS(34,15)))))) -> 0 | ... V53: =100*((INDIRECT(V$3&"!"&ADDRESS(34,15)))/((INDIRECT(V$3&"!"&ADDRESS(34,11)))+(INDIRECT(V$3&"!"&ADDRESS(34,12))+(INDIRECT(V$3&"!"&ADDRESS(34,15)))))) -> 0
A55: Presence of mixed ? | C55: =INDIRECT(C$3&"!"&ADDRESS(98,3)) -> Mixed | D55: =INDIRECT(D$3&"!"&ADDRESS(98,3)) -> Mixed | E55: =INDIRECT(E$3&"!"&ADDRESS(98,3)) -> No Mixed | F55: =INDIRECT(F$3&"!"&ADDRESS(98,3)) -> Mixed | G55: =INDIRECT(G$3&"!"&ADDRESS(98,3)) -> No Mixed | H55: =INDIRECT(H$3&"!"&ADDRESS(98,3)) -> Mixed | I55: =INDIRECT(I$3&"!"&ADDRESS(98,3)) -> Mixed | J55: =INDIRECT(J$3&"!"&ADDRESS(98,3)) -> Mixed | ... V55: =INDIRECT(V$3&"!"&ADDRESS(98,3)) -> Mixed
A56: Presence of obsidian ? | C56: =INDIRECT(C$3&"!"&ADDRESS(99,3)) -> Obsidian | D56: =INDIRECT(D$3&"!"&ADDRESS(99,3)) -> Obsidian | E56: =INDIRECT(E$3&"!"&ADDRESS(99,3)) -> Obsidian | F56: =INDIRECT(F$3&"!"&ADDRESS(99,3)) -> No obsidian | G56: =INDIRECT(G$3&"!"&ADDRESS(99,3)) -> Obsidian | H56: =INDIRECT(H$3&"!"&ADDRESS(99,3)) -> No obsidian | I56: =INDIRECT(I$3&"!"&ADDRESS(99,3)) -> Obsidian | J56: =INDIRECT(J$3&"!"&ADDRESS(99,3)) -> Obsidian | ... V56: =INDIRECT(V$3&"!"&ADDRESS(99,3)) -> No obsidian
A58: Dense/Pumice ratio | C58: =C48/(C48+C47) -> 0.84974961 | D58: =D48/(D48+D47) -> 0.37103213 | E58: =E48/(E48+E47) -> 0.34491554 | F58: =F48/(F48+F47) -> 0.68085915 | G58: =G48/(G48+G47) -> 0.090336299 | H58: =H48/(H48+H47) -> 0.2771218 | I58: =I48/(I48+I47) -> 0.99201895 | J58: =J48/(J48+J47) -> 0.60416667 | ... V58: =V48/(V48+V47) -> 0.8402873
A59: Dense | C59: =C42*C58 -> 64.857912 | D59: =D42*D58 -> 23.04907 | E59: =E42*E58 -> 19.923641 | F59: =F42*F58 -> 33.407936 | G59: =G42*G58 -> 5.2411329 | H59: =H42*H58 -> 7.0103505 | I59: =I42*I58 -> 66.043499 | J59: =J42*J58 -> 59.67509 | ... V59: =V42*V58 -> 32.369216
A60: Pumices | C60: =C42*(1-C58) -> 11.467998 | D60: =D42*(1-D58) -> 39.072424 | E60: =E42*(1-E58) -> 37.840184 | F60: =F42*(1-F58) -> 15.659387 | G60: =G42*(1-G58) -> 52.776884 | H60: =H42*(1-H58) -> 18.286651 | I60: =I42*(1-I58) -> 0.531337 | J60: =J42*(1-J58) -> 39.097473 | ... V60: =V42*(1-V58) -> 6.1523894
A61: Non juveniles | C61: =C39 -> 2.1713529 | D61: =D39 -> 34.295302 | E61: =E39 -> 42.108134 | F61: =F39 -> 3.2849516 | G61: =G39 -> 41.929551 | H61: =H39 -> 72.058809 | I61: =I39 -> 14.346952 | J61: =J39 -> 1.1191336 | ... V61: =V39 -> 1.7896019
A62: Mixed | C62: =C44 -> 21.488944 | D62: =D44 -> 3.5832039 | E62: =E44 -> 0 | F62: =F44 -> 47.624918 | G62: =G44 -> 0 | H62: =H44 -> 1.701838 | I62: =I44 -> 19.078212 | J62: =J44 -> 0.10830325 | ... V62: =V44 -> 59.688793
A63: Total | C63: =SUM(C59:C62) -> 99.986207 | D63: =SUM(D59:D62) -> 100 | E63: =SUM(E59:E62) -> 99.871958 | F63: =SUM(F59:F62) -> 99.977192 | G63: =SUM(G59:G62) -> 99.947567 | H63: =SUM(H59:H62) -> 99.057649 | I63: =SUM(I59:I62) -> 100 | J63: =SUM(J59:J62) -> 100 | ... V63: =SUM(V59:V62) -> 100
A65: Ratio Juv/(Juv+Lit) | C65: =(C42)/(C43+C42+C44) -> 0.76336439 | D65: =(D42)/(D43+D42+D44) -> 0.62121494 | E65: =(E42)/(E43+E42+E44) -> 0.57837881 | F65: =(F42)/(F43+F42+F44) -> 0.49078517 | G65: =(G42)/(G43+G42+G44) -> 0.58048453 | H65: =(H42)/(H43+H42+H44) -> 0.25537656 | I65: =(I42)/(I43+I42+I44) -> 0.66574836 | J65: =(J42)/(J43+J42+J44) -> 0.98772563 | ... V65: =(V42)/(V43+V42+V44) -> 0.38521605
A66: Ratio Ponce/(J1+J2) | C66: =C47/(C47+C48) -> 0.15025039 | D66: =D47/(D47+D48) -> 0.62896787 | E66: =E47/(E47+E48) -> 0.65508446 | F66: =F47/(F47+F48) -> 0.31914085 | G66: =G47/(G47+G48) -> 0.9096637 | H66: =H47/(H47+H48) -> 0.7228782 | I66: =I47/(I47+I48) -> 0.0079810486 | J66: =J47/(J47+J48) -> 0.39583333 | ... V66: =V47/(V47+V48) -> 0.1597127
A67: Mix/(Mix+Lith+Juv) | C67: =C44/(C44+C43+C42) -> 0.21491908 | D67: =D44/(D44+D43+D42) -> 0.035832039 | E67: =E44/(E44+E43+E42) -> 0 | F67: =F44/(F44+F43+F42) -> 0.47635782 | G67: =G44/(G44+G43+G42) -> 0 | H67: =H44/(H44+H43+H42) -> 0.017180278 | I67: =I44/(I44+I43+I42) -> 0.19078212 | J67: =J44/(J44+J43+J42) -> 0.0010830325 | ... V67: =V44/(V44+V43+V42) -> 0.59688793

Sheet Blank
A2: Grain size analysis of sample | D2: =RIGHT(CELL("nomfichier",A1),LEN(CELL("nomfichier",A1))-FIND("]",CELL("nomfichier",A1))) -> Blank | G2: Sample : | H2: =D2 -> Blank | K2: Location : Airport Beach
H3: Juveniles | K3: Lithics | S3: Juveniles | V3: Lithics | AD3: Juveniles | AG3: Lithics
A4: Total weight (g) | B4: =SUM(C7:C33) -> 0 | G4: Grain size (phi) | H4: Pumices | I4: Dense juveniles | J4: Obsidian | K4: Coral fragments | L4: Mafic clasts | M4: Aggregate | N4: Accretionnary lapilli | O4: Crystals | P4: Total | R4: =G4 -> Grain size (phi) | S4: =H4 -> Pumices | T4: =I4 -> Dense juveniles | U4: =J4 -> Obsidian | V4: =K4 -> Coral fragments | W4: =L4 -> Mafic clasts | X4: =M4 -> Aggregate | Y4: =N4 -> Accretionnary lapilli | Z4: =O4 -> Crystals | AA4: Total | AC4: =R4 -> Grain size (phi) | AD4: =S4 -> Pumices | AE4: =T4 -> Dense juveniles | AF4: =U4 -> Obsidian | AG4: =V4 -> Coral fragments | AH4: =W4 -> Mafic clasts | AI4: =X4 -> Aggregate | AJ4: =Y4 -> Accretionnary lapilli | AK4: =Z4 -> Crystals | AL4: Total
A5: Diameters (mm/μ) | B5: F | C5: Wt | D5: % Wt | E5: %Cum
A7: 256-181 | B7: -7.5 | D7: =(C7/SUM($C$7:$C$33))*100 -> #DIV/0! | E7: 0 | G7: =B7 -> -7.5 | H7: 0 | I7: 0 | J7: 0 | K7: 0 | L7: 0 | M7: 0 | N7: 0 | O7: 0 | P7: =SUM(H7:O7) -> 0 | R7: =G7 -> -7.5 | S7: =100*H7/$P7 -> #DIV/0! | T7: =100*I7/$P7 -> #DIV/0! | U7: =100*J7/$P7 -> #DIV/0! | V7: =100*K7/$P7 -> #DIV/0! | W7: =100*L7/$P7 -> #DIV/0! | X7: =100*M7/$P7 -> #DIV/0! | Y7: =100*N7/$P7 -> #DIV/0! | Z7: =100*O7/$P7 -> #DIV/0! | AA7: =SUM(S7:Z7) -> #DIV/0! | AC7: =R7 -> -7.5 | AD7: =S7*100/(SUM($S7:$W7)+SUM($Y7:$Z7)) -> #DIV/0! | AE7: =T7*100/(SUM($S7:$W7)+SUM($Y7:$Z7)) -> #DIV/0! | AF7: =U7*100/(SUM($S7:$W7)+SUM($Y7:$Z7)) -> #DIV/0! | AG7: =V7*100/(SUM($S7:$W7)+SUM($Y7:$Z7)) -> #DIV/0! | AH7: =W7*100/(SUM($S7:$W7)+SUM($Y7:$Z7)) -> #DIV/0! | AI7: =X7*100/(SUM($S7:$W7)+SUM($Y7:$Z7)) -> #DIV/0! | AJ7: =Y7*100/(SUM($S7:$W7)+SUM($Y7:$Z7)) -> #DIV/0! | AK7: =Z7*100/(SUM($S7:$W7)+SUM($Y7:$Z7)) -> #DIV/0! | AL7: =SUM(AD7:AK7) -> #DIV/0!
A8: 181-128 | B8: -7 | D8: =(C8/SUM($C$7:$C$33))*100 -> #DIV/0! | E8: =SUM(D6,D8) -> #DIV/0! | G8: =B8 -> -7 | H8: 0 | I8: 0 | J8: 0 | K8: 0 | L8: 0 | M8: 0 | N8: 0 | O8: 0 | P8: =SUM(H8:O8) -> 0 | R8: =G8 -> -7 | S8: =100*H8/$P8 -> #DIV/0! | T8: =100*I8/$P8 -> #DIV/0! | U8: =100*J8/$P8 -> #DIV/0! | V8: =100*K8/$P8 -> #DIV/0! | W8: =100*L8/$P8 -> #DIV/0! | X8: =100*M8/$P8 -> #DIV/0! | Y8: =100*N8/$P8 -> #DIV/0! | Z8: =100*O8/$P8 -> #DIV/0! | AA8: =SUM(S8:Z8) -> #DIV/0! | AC8: =R8 -> -7 | AD8: =S8*100/(SUM($S8:$W8)+SUM($Y8:$Z8)) -> #DIV/0! | AE8: =T8*100/(SUM($S8:$W8)+SUM($Y8:$Z8)) -> #DIV/0! | AF8: =U8*100/(SUM($S8:$W8)+SUM($Y8:$Z8)) -> #DIV/0! | AG8: =V8*100/(SUM($S8:$W8)+SUM($Y8:$Z8)) -> #DIV/0! | AH8: =W8*100/(SUM($S8:$W8)+SUM($Y8:$Z8)) -> #DIV/0! | AI8: =X8*100/(SUM($S8:$W8)+SUM($Y8:$Z8)) -> #DIV/0! | AJ8: =Y8*100/(SUM($S8:$W8)+SUM($Y8:$Z8)) -> #DIV/0! | AK8: =Z8*100/(SUM($S8:$W8)+SUM($Y8:$Z8)) -> #DIV/0! | AL8: =SUM(AD8:AK8) -> #DIV/0!
A9: 128-90,5 | B9: -6.5 | D9: =(C9/SUM($C$7:$C$33))*100 -> #DIV/0! | E9: =SUM(D6:D9) -> #DIV/0! | G9: =B9 -> -6.5 | H9: 0 | I9: 0 | J9: 0 | K9: 0 | L9: 0 | M9: 0 | N9: 0 | O9: 0 | P9: =SUM(H9:O9) -> 0 | R9: =G9 -> -6.5 | S9: =100*H9/$P9 -> #DIV/0! | T9: =100*I9/$P9 -> #DIV/0! | U9: =100*J9/$P9 -> #DIV/0! | V9: =100*K9/$P9 -> #DIV/0! | W9: =100*L9/$P9 -> #DIV/0! | X9: =100*M9/$P9 -> #DIV/0! | Y9: =100*N9/$P9 -> #DIV/0! | Z9: =100*O9/$P9 -> #DIV/0! | AA9: =SUM(S9:Z9) -> #DIV/0! | AC9: =R9 -> -6.5 | AD9: =S9*100/(SUM($S9:$W9)+SUM($Y9:$Z9)) -> #DIV/0! | AE9: =T9*100/(SUM($S9:$W9)+SUM($Y9:$Z9)) -> #DIV/0! | AF9: =U9*100/(SUM($S9:$W9)+SUM($Y9:$Z9)) -> #DIV/0! | AG9: =V9*100/(SUM($S9:$W9)+SUM($Y9:$Z9)) -> #DIV/0! | AH9: =W9*100/(SUM($S9:$W9)+SUM($Y9:$Z9)) -> #DIV/0! | AI9: =X9*100/(SUM($S9:$W9)+SUM($Y9:$Z9)) -> #DIV/0! | AJ9: =Y9*100/(SUM($S9:$W9)+SUM($Y9:$Z9)) -> #DIV/0! | AK9: =Z9*100/(SUM($S9:$W9)+SUM($Y9:$Z9)) -> #DIV/0! | AL9: =SUM(AD9:AK9) -> #DIV/0!
A10: >64 | B10: -6 | D10: =(C10/SUM($C$7:$C$33))*100 -> #DIV/0! | E10: =SUM(D6:D10) -> #DIV/0! | G10: =B10 -> -6 | H10: 0 | I10: 0 | J10: 0 | K10: 0 | L10: 0 | M10: 0 | N10: 0 | O10: 0 | P10: =SUM(H10:O10) -> 0 | R10: =G10 -> -6 | S10: =100*H10/$P10 -> #DIV/0! | T10: =100*I10/$P10 -> #DIV/0! | U10: =100*J10/$P10 -> #DIV/0! | V10: =100*K10/$P10 -> #DIV/0! | W10: =100*L10/$P10 -> #DIV/0! | X10: =100*M10/$P10 -> #DIV/0! | Y10: =100*N10/$P10 -> #DIV/0! | Z10: =100*O10/$P10 -> #DIV/0! | AA10: =SUM(S10:Z10) -> #DIV/0! | AC10: =R10 -> -6 | AD10: =S10*100/(SUM($S10:$W10)+SUM($Y10:$Z10)) -> #DIV/0! | AE10: =T10*100/(SUM($S10:$W10)+SUM($Y10:$Z10)) -> #DIV/0! | AF10: =U10*100/(SUM($S10:$W10)+SUM($Y10:$Z10)) -> #DIV/0! | AG10: =V10*100/(SUM($S10:$W10)+SUM($Y10:$Z10)) -> #DIV/0! | AH10: =W10*100/(SUM($S10:$W10)+SUM($Y10:$Z10)) -> #DIV/0! | AI10: =X10*100/(SUM($S10:$W10)+SUM($Y10:$Z10)) -> #DIV/0! | AJ10: =Y10*100/(SUM($S10:$W10)+SUM($Y10:$Z10)) -> #DIV/0! | AK10: =Z10*100/(SUM($S10:$W10)+SUM($Y10:$Z10)) -> #DIV/0! | AL10: =SUM(AD10:AK10) -> #DIV/0!
A11: 64-45.3 | B11: -5.5 | D11: =(C11/SUM($C$7:$C$33))*100 -> #DIV/0! | E11: =SUM(D6:D11) -> #DIV/0! | G11: =B11 -> -5.5 | H11: 0 | I11: 0 | J11: 0 | K11: 0 | L11: 0 | M11: 0 | N11: 0 | O11: 0 | P11: =SUM(H11:O11) -> 0 | R11: =G11 -> -5.5 | S11: =100*H11/$P11 -> #DIV/0! | T11: =100*I11/$P11 -> #DIV/0! | U11: =100*J11/$P11 -> #DIV/0! | V11: =100*K11/$P11 -> #DIV/0! | W11: =100*L11/$P11 -> #DIV/0! | X11: =100*M11/$P11 -> #DIV/0! | Y11: =100*N11/$P11 -> #DIV/0! | Z11: =100*O11/$P11 -> #DIV/0! | AA11: =SUM(S11:Z11) -> #DIV/0! | AC11: =R11 -> -5.5 | AD11: =S11*100/(SUM($S11:$W11)+SUM($Y11:$Z11)) -> #DIV/0! | AE11: =T11*100/(SUM($S11:$W11)+SUM($Y11:$Z11)) -> #DIV/0! | AF11: =U11*100/(SUM($S11:$W11)+SUM($Y11:$Z11)) -> #DIV/0! | AG11: =V11*100/(SUM($S11:$W11)+SUM($Y11:$Z11)) -> #DIV/0! | AH11: =W11*100/(SUM($S11:$W11)+SUM($Y11:$Z11)) -> #DIV/0! | AI11: =X11*100/(SUM($S11:$W11)+SUM($Y11:$Z11)) -> #DIV/0! | AJ11: =Y11*100/(SUM($S11:$W11)+SUM($Y11:$Z11)) -> #DIV/0! | AK11: =Z11*100/(SUM($S11:$W11)+SUM($Y11:$Z11)) -> #DIV/0! | AL11: =SUM(AD11:AK11) -> #DIV/0!
A12: 45.3-32 | B12: -5 | D12: =(C12/SUM($C$7:$C$33))*100 -> #DIV/0! | E12: =SUM(D6:D12) -> #DIV/0! | G12: =B12 -> -5 | H12: 0 | I12: 0 | J12: 0 | K12: 0 | L12: 0 | M12: 0 | N12: 0 | O12: 0 | P12: =SUM(H12:O12) -> 0 | R12: =G12 -> -5 | S12: =100*H12/$P12 -> #DIV/0! | T12: =100*I12/$P12 -> #DIV/0! | U12: =100*J12/$P12 -> #DIV/0! | V12: =100*K12/$P12 -> #DIV/0! | W12: =100*L12/$P12 -> #DIV/0! | X12: =100*M12/$P12 -> #DIV/0! | Y12: =100*N12/$P12 -> #DIV/0! | Z12: =100*O12/$P12 -> #DIV/0! | AA12: =SUM(S12:Z12) -> #DIV/0! | AC12: =R12 -> -5 | AD12: =S12*100/(SUM($S12:$W12)+SUM($Y12:$Z12)) -> #DIV/0! | AE12: =T12*100/(SUM($S12:$W12)+SUM($Y12:$Z12)) -> #DIV/0! | AF12: =U12*100/(SUM($S12:$W12)+SUM($Y12:$Z12)) -> #DIV/0! | AG12: =V12*100/(SUM($S12:$W12)+SUM($Y12:$Z12)) -> #DIV/0! | AH12: =W12*100/(SUM($S12:$W12)+SUM($Y12:$Z12)) -> #DIV/0! | AI12: =X12*100/(SUM($S12:$W12)+SUM($Y12:$Z12)) -> #DIV/0! | AJ12: =Y12*100/(SUM($S12:$W12)+SUM($Y12:$Z12)) -> #DIV/0! | AK12: =Z12*100/(SUM($S12:$W12)+SUM($Y12:$Z12)) -> #DIV/0! | AL12: =SUM(AD12:AK12) -> #DIV/0!
A13: 32-22.6 | B13: -4.5 | D13: =(C13/SUM($C$7:$C$33))*100 -> #DIV/0! | E13: =SUM(D7:D13) -> #DIV/0! | G13: =B13 -> -4.5 | H13: 0 | I13: 0 | J13: 0 | K13: 0 | L13: 0 | M13: 0 | N13: 0 | O13: 0 | P13: =SUM(H13:O13) -> 0 | R13: =G13 -> -4.5 | S13: =100*H13/$P13 -> #DIV/0! | T13: =100*I13/$P13 -> #DIV/0! | U13: =100*J13/$P13 -> #DIV/0! | V13: =100*K13/$P13 -> #DIV/0! | W13: =100*L13/$P13 -> #DIV/0! | X13: =100*M13/$P13 -> #DIV/0! | Y13: =100*N13/$P13 -> #DIV/0! | Z13: =100*O13/$P13 -> #DIV/0! | AA13: =SUM(S13:Z13) -> #DIV/0! | AC13: =R13 -> -4.5 | AD13: =S13*100/(SUM($S13:$W13)+SUM($Y13:$Z13)) -> #DIV/0! | AE13: =T13*100/(SUM($S13:$W13)+SUM($Y13:$Z13)) -> #DIV/0! | AF13: =U13*100/(SUM($S13:$W13)+SUM($Y13:$Z13)) -> #DIV/0! | AG13: =V13*100/(SUM($S13:$W13)+SUM($Y13:$Z13)) -> #DIV/0! | AH13: =W13*100/(SUM($S13:$W13)+SUM($Y13:$Z13)) -> #DIV/0! | AI13: =X13*100/(SUM($S13:$W13)+SUM($Y13:$Z13)) -> #DIV/0! | AJ13: =Y13*100/(SUM($S13:$W13)+SUM($Y13:$Z13)) -> #DIV/0! | AK13: =Z13*100/(SUM($S13:$W13)+SUM($Y13:$Z13)) -> #DIV/0! | AL13: =SUM(AD13:AK13) -> #DIV/0!
A14: 22,6-16 | B14: -4 | D14: =(C14/SUM($C$7:$C$33))*100 -> #DIV/0! | E14: =SUM(D8:D14) -> #DIV/0! | G14: =B14 -> -4 | H14: 0 | I14: 0 | J14: 0 | K14: 0 | L14: 0 | M14: 0 | N14: 0 | O14: 0 | P14: =SUM(H14:O14) -> 0 | R14: =G14 -> -4 | S14: =100*H14/$P14 -> #DIV/0! | T14: =100*I14/$P14 -> #DIV/0! | U14: =100*J14/$P14 -> #DIV/0! | V14: =100*K14/$P14 -> #DIV/0! | W14: =100*L14/$P14 -> #DIV/0! | X14: =100*M14/$P14 -> #DIV/0! | Y14: =100*N14/$P14 -> #DIV/0! | Z14: =100*O14/$P14 -> #DIV/0! | AA14: =SUM(S14:Z14) -> #DIV/0! | AC14: =R14 -> -4 | AD14: =S14*100/(SUM($S14:$W14)+SUM($Y14:$Z14)) -> #DIV/0! | AE14: =T14*100/(SUM($S14:$W14)+SUM($Y14:$Z14)) -> #DIV/0! | AF14: =U14*100/(SUM($S14:$W14)+SUM($Y14:$Z14)) -> #DIV/0! | AG14: =V14*100/(SUM($S14:$W14)+SUM($Y14:$Z14)) -> #DIV/0! | AH14: =W14*100/(SUM($S14:$W14)+SUM($Y14:$Z14)) -> #DIV/0! | AI14: =X14*100/(SUM($S14:$W14)+SUM($Y14:$Z14)) -> #DIV/0! | AJ14: =Y14*100/(SUM($S14:$W14)+SUM($Y14:$Z14)) -> #DIV/0! | AK14: =Z14*100/(SUM($S14:$W14)+SUM($Y14:$Z14)) -> #DIV/0! | AL14: =SUM(AD14:AK14) -> #DIV/0!
A15: 16-11.3 | B15: -3.5 | D15: =(C15/SUM($C$7:$C$33))*100 -> #DIV/0! | E15: =SUM(D6:D15) -> #DIV/0! | G15: =B15 -> -3.5 | H15: 0 | I15: 0 | J15: 0 | K15: 0 | L15: 0 | M15: 0 | N15: 0 | O15: 0 | P15: =SUM(H15:O15) -> 0 | R15: =G15 -> -3.5 | S15: =100*H15/$P15 -> #DIV/0! | T15: =100*I15/$P15 -> #DIV/0! | U15: =100*J15/$P15 -> #DIV/0! | V15: =100*K15/$P15 -> #DIV/0! | W15: =100*L15/$P15 -> #DIV/0! | X15: =100*M15/$P15 -> #DIV/0! | Y15: =100*N15/$P15 -> #DIV/0! | Z15: =100*O15/$P15 -> #DIV/0! | AA15: =SUM(S15:Z15) -> #DIV/0! | AC15: =R15 -> -3.5 | AD15: =S15*100/(SUM($S15:$W15)+SUM($Y15:$Z15)) -> #DIV/0! | AE15: =T15*100/(SUM($S15:$W15)+SUM($Y15:$Z15)) -> #DIV/0! | AF15: =U15*100/(SUM($S15:$W15)+SUM($Y15:$Z15)) -> #DIV/0! | AG15: =V15*100/(SUM($S15:$W15)+SUM($Y15:$Z15)) -> #DIV/0! | AH15: =W15*100/(SUM($S15:$W15)+SUM($Y15:$Z15)) -> #DIV/0! | AI15: 0 | AJ15: =Y15*100/(SUM($S15:$W15)+SUM($Y15:$Z15)) -> #DIV/0! | AK15: =Z15*100/(SUM($S15:$W15)+SUM($Y15:$Z15)) -> #DIV/0! | AL15: =SUM(AD15:AK15) -> #DIV/0!
A16: 11.3-8 | B16: -3 | D16: =(C16/SUM($C$7:$C$33))*100 -> #DIV/0! | E16: =SUM(D6:D16) -> #DIV/0! | G16: =B16 -> -3 | H16: 0 | I16: 0 | J16: 0 | K16: 0 | L16: 0 | M16: 0 | N16: 0 | O16: 0 | P16: =SUM(H16:O16) -> 0 | R16: =G16 -> -3 | S16: =100*H16/$P16 -> #DIV/0! | T16: =100*I16/$P16 -> #DIV/0! | U16: =100*J16/$P16 -> #DIV/0! | V16: =100*K16/$P16 -> #DIV/0! | W16: =100*L16/$P16 -> #DIV/0! | X16: =100*M16/$P16 -> #DIV/0! | Y16: =100*N16/$P16 -> #DIV/0! | Z16: =100*O16/$P16 -> #DIV/0! | AA16: =SUM(S16:Z16) -> #DIV/0! | AC16: =R16 -> -3 | AD16: =S16*100/(SUM($S16:$W16)+SUM($Y16:$Z16)) -> #DIV/0! | AE16: =T16*100/(SUM($S16:$W16)+SUM($Y16:$Z16)) -> #DIV/0! | AF16: =U16*100/(SUM($S16:$W16)+SUM($Y16:$Z16)) -> #DIV/0! | AG16: =V16*100/(SUM($S16:$W16)+SUM($Y16:$Z16)) -> #DIV/0! | AH16: =W16*100/(SUM($S16:$W16)+SUM($Y16:$Z16)) -> #DIV/0! | AI16: 0 | AJ16: =Y16*100/(SUM($S16:$W16)+SUM($Y16:$Z16)) -> #DIV/0! | AK16: =Z16*100/(SUM($S16:$W16)+SUM($Y16:$Z16)) -> #DIV/0! | AL16: =SUM(AD16:AK16) -> #DIV/0!
A17: 8-5,66 | B17: -2.5 | D17: =(C17/SUM($C$7:$C$33))*100 -> #DIV/0! | E17: =SUM(D6:D17) -> #DIV/0! | G17: =B17 -> -2.5 | H17: 0 | I17: 0 | J17: 0 | K17: 0 | L17: 0 | M17: 0 | N17: 0 | O17: 0 | P17: =SUM(H17:O17) -> 0 | R17: =G17 -> -2.5 | S17: =100*H17/$P17 -> #DIV/0! | T17: =100*I17/$P17 -> #DIV/0! | U17: =100*J17/$P17 -> #DIV/0! | V17: =100*K17/$P17 -> #DIV/0! | W17: =100*L17/$P17 -> #DIV/0! | X17: =100*M17/$P17 -> #DIV/0! | Y17: =100*N17/$P17 -> #DIV/0! | Z17: =100*O17/$P17 -> #DIV/0! | AA17: =SUM(S17:Z17) -> #DIV/0! | AC17: =R17 -> -2.5 | AD17: =S17*100/(SUM($S17:$W17)+SUM($Y17:$Z17)) -> #DIV/0! | AE17: =T17*100/(SUM($S17:$W17)+SUM($Y17:$Z17)) -> #DIV/0! | AF17: =U17*100/(SUM($S17:$W17)+SUM($Y17:$Z17)) -> #DIV/0! | AG17: =V17*100/(SUM($S17:$W17)+SUM($Y17:$Z17)) -> #DIV/0! | AH17: =W17*100/(SUM($S17:$W17)+SUM($Y17:$Z17)) -> #DIV/0! | AI17: 0 | AJ17: =Y17*100/(SUM($S17:$W17)+SUM($Y17:$Z17)) -> #DIV/0! | AK17: =Z17*100/(SUM($S17:$W17)+SUM($Y17:$Z17)) -> #DIV/0! | AL17: =SUM(AD17:AK17) -> #DIV/0!
A18: 5,66-4 | B18: -2 | D18: =(C18/SUM($C$7:$C$33))*100 -> #DIV/0! | E18: =SUM(D6:D18) -> #DIV/0! | G18: =B18 -> -2 | H18: 0 | I18: 0 | J18: 0 | K18: 0 | L18: 0 | M18: 0 | N18: 0 | O18: 0 | P18: =SUM(H18:O18) -> 0 | R18: =G18 -> -2 | S18: =100*H18/$P18 -> #DIV/0! | T18: =100*I18/$P18 -> #DIV/0! | U18: =100*J18/$P18 -> #DIV/0! | V18: =100*K18/$P18 -> #DIV/0! | W18: =100*L18/$P18 -> #DIV/0! | X18: =100*M18/$P18 -> #DIV/0! | Y18: =100*N18/$P18 -> #DIV/0! | Z18: =100*O18/$P18 -> #DIV/0! | AA18: =SUM(S18:Z18) -> #DIV/0! | AC18: =R18 -> -2 | AD18: =S18*100/(SUM($S18:$W18)+SUM($Y18:$Z18)) -> #DIV/0! | AE18: =T18*100/(SUM($S18:$W18)+SUM($Y18:$Z18)) -> #DIV/0! | AF18: =U18*100/(SUM($S18:$W18)+SUM($Y18:$Z18)) -> #DIV/0! | AG18: =V18*100/(SUM($S18:$W18)+SUM($Y18:$Z18)) -> #DIV/0! | AH18: =W18*100/(SUM($S18:$W18)+SUM($Y18:$Z18)) -> #DIV/0! | AI18: 0 | AJ18: =Y18*100/(SUM($S18:$W18)+SUM($Y18:$Z18)) -> #DIV/0! | AK18: =Z18*100/(SUM($S18:$W18)+SUM($Y18:$Z18)) -> #DIV/0! | AL18: =SUM(AD18:AK18) -> #DIV/0!
A19: 4000 - 2800 | B19: -1.5 | D19: =(C19/SUM($C$7:$C$33))*100 -> #DIV/0! | E19: =SUM(D6:D19) -> #DIV/0! | G19: =B19 -> -1.5 | H19: 0 | I19: 0 | J19: 0 | K19: 0 | L19: 0 | M19: 0 | N19: 0 | O19: 0 | P19: =SUM(H19:O19) -> 0 | R19: =G19 -> -1.5 | S19: =100*H19/$P19 -> #DIV/0! | T19: =100*I19/$P19 -> #DIV/0! | U19: =100*J19/$P19 -> #DIV/0! | V19: =100*K19/$P19 -> #DIV/0! | W19: =100*L19/$P19 -> #DIV/0! | X19: =100*M19/$P19 -> #DIV/0! | Y19: =100*N19/$P19 -> #DIV/0! | Z19: =100*O19/$P19 -> #DIV/0! | AA19: =SUM(S19:Z19) -> #DIV/0! | AC19: =R19 -> -1.5 | AD19: =S19*100/(SUM($S19:$W19)+SUM($Y19:$Z19)) -> #DIV/0! | AE19: =T19*100/(SUM($S19:$W19)+SUM($Y19:$Z19)) -> #DIV/0! | AF19: =U19*100/(SUM($S19:$W19)+SUM($Y19:$Z19)) -> #DIV/0! | AG19: =V19*100/(SUM($S19:$W19)+SUM($Y19:$Z19)) -> #DIV/0! | AH19: =W19*100/(SUM($S19:$W19)+SUM($Y19:$Z19)) -> #DIV/0! | AI19: 0 | AJ19: =Y19*100/(SUM($S19:$W19)+SUM($Y19:$Z19)) -> #DIV/0! | AK19: =Z19*100/(SUM($S19:$W19)+SUM($Y19:$Z19)) -> #DIV/0! | AL19: =SUM(AD19:AK19) -> #DIV/0!
A20: 2800 - 2000 | B20: -1 | D20: =(C20/SUM($C$7:$C$33))*100 -> #DIV/0! | E20: =SUM(D6:D20) -> #DIV/0! | G20: =B20 -> -1 | H20: 0 | I20: 0 | J20: 0 | K20: 0 | L20: 0 | M20: 0 | N20: 0 | O20: 0 | P20: =SUM(H20:O20) -> 0 | R20: =G20 -> -1 | S20: =100*H20/$P20 -> #DIV/0! | T20: =100*I20/$P20 -> #DIV/0! | U20: =100*J20/$P20 -> #DIV/0! | V20: =100*K20/$P20 -> #DIV/0! | W20: =100*L20/$P20 -> #DIV/0! | X20: =100*M20/$P20 -> #DIV/0! | Y20: =100*N20/$P20 -> #DIV/0! | Z20: =100*O20/$P20 -> #DIV/0! | AA20: =SUM(S20:Z20) -> #DIV/0! | AC20: =R20 -> -1 | AD20: =S20*100/(SUM($S20:$W20)+SUM($Y20:$Z20)) -> #DIV/0! | AE20: =T20*100/(SUM($S20:$W20)+SUM($Y20:$Z20)) -> #DIV/0! | AF20: =U20*100/(SUM($S20:$W20)+SUM($Y20:$Z20)) -> #DIV/0! | AG20: =V20*100/(SUM($S20:$W20)+SUM($Y20:$Z20)) -> #DIV/0! | AH20: =W20*100/(SUM($S20:$W20)+SUM($Y20:$Z20)) -> #DIV/0! | AI20: 0 | AJ20: =Y20*100/(SUM($S20:$W20)+SUM($Y20:$Z20)) -> #DIV/0! | AK20: =Z20*100/(SUM($S20:$W20)+SUM($Y20:$Z20)) -> #DIV/0! | AL20: =SUM(AD20:AK20) -> #DIV/0!
A21: 2000-1400 | B21: -0.5 | D21: =(C21/SUM($C$7:$C$33))*100 -> #DIV/0! | E21: =SUM(D6:D21) -> #DIV/0! | G21: =B21 -> -0.5 | H21: 0 | I21: 0 | J21: 0 | K21: 0 | L21: 0 | M21: 0 | N21: 0 | O21: 0 | P21: =SUM(H21:O21) -> 0 | R21: =G21 -> -0.5 | S21: =100*H21/$P21 -> #DIV/0! | T21: =100*I21/$P21 -> #DIV/0! | U21: =100*J21/$P21 -> #DIV/0! | V21: =100*K21/$P21 -> #DIV/0! | W21: =100*L21/$P21 -> #DIV/0! | X21: =100*M21/$P21 -> #DIV/0! | Y21: =100*N21/$P21 -> #DIV/0! | Z21: =100*O21/$P21 -> #DIV/0! | AA21: =SUM(S21:Z21) -> #DIV/0! | AC21: =R21 -> -0.5 | AD21: =S21*100/(SUM($S21:$W21)+SUM($Y21:$Z21)) -> #DIV/0! | AE21: =T21*100/(SUM($S21:$W21)+SUM($Y21:$Z21)) -> #DIV/0! | AF21: =U21*100/(SUM($S21:$W21)+SUM($Y21:$Z21)) -> #DIV/0! | AG21: =V21*100/(SUM($S21:$W21)+SUM($Y21:$Z21)) -> #DIV/0! | AH21: =W21*100/(SUM($S21:$W21)+SUM($Y21:$Z21)) -> #DIV/0! | AI21: 0 | AJ21: =Y21*100/(SUM($S21:$W21)+SUM($Y21:$Z21)) -> #DIV/0! | AK21: =Z21*100/(SUM($S21:$W21)+SUM($Y21:$Z21)) -> #DIV/0! | AL21: =SUM(AD21:AK21) -> #DIV/0!
A22: 1400 - 1000 | B22: 0 | D22: =(C22/SUM($C$7:$C$33))*100 -> #DIV/0! | E22: =SUM(D6:D22) -> #DIV/0! | G22: =B22 -> 0 | H22: 0 | I22: 0 | J22: 0 | K22: 0 | L22: 0 | M22: 0 | N22: 0 | O22: 0 | P22: =SUM(H22:O22) -> 0 | R22: =G22 -> 0 | S22: =100*H22/$P22 -> #DIV/0! | T22: =100*I22/$P22 -> #DIV/0! | U22: =100*J22/$P22 -> #DIV/0! | V22: =100*K22/$P22 -> #DIV/0! | W22: =100*L22/$P22 -> #DIV/0! | X22: =100*M22/$P22 -> #DIV/0! | Y22: =100*N22/$P22 -> #DIV/0! | Z22: =100*O22/$P22 -> #DIV/0! | AA22: =SUM(S22:Z22) -> #DIV/0! | AC22: =R22 -> 0 | AD22: =S22*100/(SUM($S22:$W22)+SUM($Y22:$Z22)) -> #DIV/0! | AE22: =T22*100/(SUM($S22:$W22)+SUM($Y22:$Z22)) -> #DIV/0! | AF22: =U22*100/(SUM($S22:$W22)+SUM($Y22:$Z22)) -> #DIV/0! | AG22: =V22*100/(SUM($S22:$W22)+SUM($Y22:$Z22)) -> #DIV/0! | AH22: =W22*100/(SUM($S22:$W22)+SUM($Y22:$Z22)) -> #DIV/0! | AI22: =X22*100/(SUM($S22:$W22)+SUM($Y22:$Z22)) -> #DIV/0! | AJ22: =Y22*100/(SUM($S22:$W22)+SUM($Y22:$Z22)) -> #DIV/0! | AK22: =Z22*100/(SUM($S22:$W22)+SUM($Y22:$Z22)) -> #DIV/0! | AL22: =SUM(AD22:AK22) -> #DIV/0!
A23: 1000-710 | B23: 0.5 | D23: =(C23/SUM($C$7:$C$33))*100 -> #DIV/0! | E23: =SUM(D6:D23) -> #DIV/0! | G23: =B23 -> 0.5 | H23: 0 | I23: 0 | J23: 0 | K23: 0 | L23: 0 | M23: 0 | N23: 0 | O23: 0 | P23: =SUM(H23:O23) -> 0 | R23: =G23 -> 0.5 | S23: =100*H23/$P23 -> #DIV/0! | T23: =100*I23/$P23 -> #DIV/0! | U23: =100*J23/$P23 -> #DIV/0! | V23: =100*K23/$P23 -> #DIV/0! | W23: =100*L23/$P23 -> #DIV/0! | X23: =100*M23/$P23 -> #DIV/0! | Y23: =100*N23/$P23 -> #DIV/0! | Z23: =100*O23/$P23 -> #DIV/0! | AA23: =SUM(S23:Z23) -> #DIV/0! | AC23: =R23 -> 0.5 | AD23: =S23*100/(SUM($S23:$W23)+SUM($Y23:$Z23)) -> #DIV/0! | AE23: =T23*100/(SUM($S23:$W23)+SUM($Y23:$Z23)) -> #DIV/0! | AF23: =U23*100/(SUM($S23:$W23)+SUM($Y23:$Z23)) -> #DIV/0! | AG23: =V23*100/(SUM($S23:$W23)+SUM($Y23:$Z23)) -> #DIV/0! | AH23: =W23*100/(SUM($S23:$W23)+SUM($Y23:$Z23)) -> #DIV/0! | AI23: =X23*100/(SUM($S23:$W23)+SUM($Y23:$Z23)) -> #DIV/0! | AJ23: =Y23*100/(SUM($S23:$W23)+SUM($Y23:$Z23)) -> #DIV/0! | AK23: =Z23*100/(SUM($S23:$W23)+SUM($Y23:$Z23)) -> #DIV/0! | AL23: =SUM(AD23:AK23) -> #DIV/0!
A24: 710-500 | B24: 1 | D24: =(C24/SUM($C$7:$C$33))*100 -> #DIV/0! | E24: =SUM(D6:D24) -> #DIV/0! | G24: =B24 -> 1 | H24: 0 | I24: 0 | J24: 0 | K24: 0 | L24: 0 | M24: 0 | N24: 0 | O24: 0 | P24: =SUM(H24:O24) -> 0 | R24: =G24 -> 1 | S24: =100*H24/$P24 -> #DIV/0! | T24: =100*I24/$P24 -> #DIV/0! | U24: =100*J24/$P24 -> #DIV/0! | V24: =100*K24/$P24 -> #DIV/0! | W24: =100*L24/$P24 -> #DIV/0! | X24: =100*M24/$P24 -> #DIV/0! | Y24: =100*N24/$P24 -> #DIV/0! | Z24: =100*O24/$P24 -> #DIV/0! | AA24: =SUM(S24:Z24) -> #DIV/0! | AC24: =R24 -> 1 | AD24: =S24*100/(SUM($S24:$W24)+SUM($Y24:$Z24)) -> #DIV/0! | AE24: =T24*100/(SUM($S24:$W24)+SUM($Y24:$Z24)) -> #DIV/0! | AF24: =U24*100/(SUM($S24:$W24)+SUM($Y24:$Z24)) -> #DIV/0! | AG24: =V24*100/(SUM($S24:$W24)+SUM($Y24:$Z24)) -> #DIV/0! | AH24: =W24*100/(SUM($S24:$W24)+SUM($Y24:$Z24)) -> #DIV/0! | AI24: =X24*100/(SUM($S24:$W24)+SUM($Y24:$Z24)) -> #DIV/0! | AJ24: =Y24*100/(SUM($S24:$W24)+SUM($Y24:$Z24)) -> #DIV/0! | AK24: =Z24*100/(SUM($S24:$W24)+SUM($Y24:$Z24)) -> #DIV/0! | AL24: =SUM(AD24:AK24) -> #DIV/0!
A25: 500-355 | B25: 1.5 | D25: =(C25/SUM($C$7:$C$33))*100 -> #DIV/0! | E25: =SUM(D6:D25) -> #DIV/0! | G25: =B25 -> 1.5 | H25: 0 | I25: 0 | J25: 0 | K25: 0 | L25: 0 | M25: 0 | N25: 0 | O25: 0 | P25: =SUM(H25:O25) -> 0 | R25: =G25 -> 1.5 | S25: =100*H25/$P25 -> #DIV/0! | T25: =100*I25/$P25 -> #DIV/0! | U25: =100*J25/$P25 -> #DIV/0! | V25: =100*K25/$P25 -> #DIV/0! | W25: =100*L25/$P25 -> #DIV/0! | X25: =100*M25/$P25 -> #DIV/0! | Y25: =100*N25/$P25 -> #DIV/0! | Z25: =100*O25/$P25 -> #DIV/0! | AA25: =SUM(S25:Z25) -> #DIV/0! | AC25: =R25 -> 1.5 | AD25: =S25*100/(SUM($S25:$W25)+SUM($Y25:$Z25)) -> #DIV/0! | AE25: =T25*100/(SUM($S25:$W25)+SUM($Y25:$Z25)) -> #DIV/0! | AF25: =U25*100/(SUM($S25:$W25)+SUM($Y25:$Z25)) -> #DIV/0! | AG25: =V25*100/(SUM($S25:$W25)+SUM($Y25:$Z25)) -> #DIV/0! | AH25: =W25*100/(SUM($S25:$W25)+SUM($Y25:$Z25)) -> #DIV/0! | AI25: =X25*100/(SUM($S25:$W25)+SUM($Y25:$Z25)) -> #DIV/0! | AJ25: =Y25*100/(SUM($S25:$W25)+SUM($Y25:$Z25)) -> #DIV/0! | AK25: =Z25*100/(SUM($S25:$W25)+SUM($Y25:$Z25)) -> #DIV/0! | AL25: =SUM(AD25:AK25) -> #DIV/0!
A26: 355 - 250 | B26: 2 | D26: =(C26/SUM($C$7:$C$33))*100 -> #DIV/0! | E26: =SUM(D6:D26) -> #DIV/0! | G26: =B26 -> 2 | H26: 0 | I26: 0 | J26: 0 | K26: 0 | L26: 0 | M26: 0 | N26: 0 | O26: 0 | P26: =SUM(H26:O26) -> 0 | R26: =G26 -> 2 | S26: =100*H26/$P26 -> #DIV/0! | T26: =100*I26/$P26 -> #DIV/0! | U26: =100*J26/$P26 -> #DIV/0! | V26: =100*K26/$P26 -> #DIV/0! | W26: =100*L26/$P26 -> #DIV/0! | X26: =100*M26/$P26 -> #DIV/0! | Y26: =100*N26/$P26 -> #DIV/0! | Z26: =100*O26/$P26 -> #DIV/0! | AA26: =SUM(S26:Z26) -> #DIV/0! | AC26: =R26 -> 2 | AD26: =S26*100/(SUM($S26:$W26)+SUM($Y26:$Z26)) -> #DIV/0! | AE26: =T26*100/(SUM($S26:$W26)+SUM($Y26:$Z26)) -> #DIV/0! | AF26: =U26*100/(SUM($S26:$W26)+SUM($Y26:$Z26)) -> #DIV/0! | AG26: =V26*100/(SUM($S26:$W26)+SUM($Y26:$Z26)) -> #DIV/0! | AH26: =W26*100/(SUM($S26:$W26)+SUM($Y26:$Z26)) -> #DIV/0! | AI26: =X26*100/(SUM($S26:$W26)+SUM($Y26:$Z26)) -> #DIV/0! | AJ26: =Y26*100/(SUM($S26:$W26)+SUM($Y26:$Z26)) -> #DIV/0! | AK26: =Z26*100/(SUM($S26:$W26)+SUM($Y26:$Z26)) -> #DIV/0! | AL26: =SUM(AD26:AK26) -> #DIV/0!
A27: 250-180 | B27: 2.5 | D27: =(C27/SUM($C$7:$C$33))*100 -> #DIV/0! | E27: =SUM(D7:D27) -> #DIV/0! | G27: =B27 -> 2.5 | H27: 0 | I27: 0 | J27: 0 | K27: 0 | L27: 0 | M27: 0 | N27: 0 | O27: 0 | P27: =SUM(H27:O27) -> 0 | R27: =G27 -> 2.5 | S27: =100*H27/$P27 -> #DIV/0! | T27: =100*I27/$P27 -> #DIV/0! | U27: =100*J27/$P27 -> #DIV/0! | V27: =100*K27/$P27 -> #DIV/0! | W27: =100*L27/$P27 -> #DIV/0! | X27: =100*M27/$P27 -> #DIV/0! | Y27: =100*N27/$P27 -> #DIV/0! | Z27: =100*O27/$P27 -> #DIV/0! | AA27: =SUM(S27:Z27) -> #DIV/0! | AC27: =R27 -> 2.5 | AD27: =S27*100/(SUM($S27:$W27)+SUM($Y27:$Z27)) -> #DIV/0! | AE27: =T27*100/(SUM($S27:$W27)+SUM($Y27:$Z27)) -> #DIV/0! | AF27: =U27*100/(SUM($S27:$W27)+SUM($Y27:$Z27)) -> #DIV/0! | AG27: =V27*100/(SUM($S27:$W27)+SUM($Y27:$Z27)) -> #DIV/0! | AH27: =W27*100/(SUM($S27:$W27)+SUM($Y27:$Z27)) -> #DIV/0! | AI27: =X27*100/(SUM($S27:$W27)+SUM($Y27:$Z27)) -> #DIV/0! | AJ27: =Y27*100/(SUM($S27:$W27)+SUM($Y27:$Z27)) -> #DIV/0! | AK27: =Z27*100/(SUM($S27:$W27)+SUM($Y27:$Z27)) -> #DIV/0! | AL27: =SUM(AD27:AK27) -> #DIV/0!
A28: 180 - 125 | B28: 3 | D28: =(C28/SUM($C$7:$C$33))*100 -> #DIV/0! | E28: =SUM(D7:D28) -> #DIV/0! | G28: =B28 -> 3 | H28: 0 | I28: 0 | J28: 0 | K28: 0 | L28: 0 | M28: 0 | N28: 0 | O28: 0 | P28: =SUM(H28:O28) -> 0 | R28: =G28 -> 3 | S28: =100*H28/$P28 -> #DIV/0! | T28: =100*I28/$P28 -> #DIV/0! | U28: =100*J28/$P28 -> #DIV/0! | V28: =100*K28/$P28 -> #DIV/0! | W28: =100*L28/$P28 -> #DIV/0! | X28: =100*M28/$P28 -> #DIV/0! | Y28: =100*N28/$P28 -> #DIV/0! | Z28: =100*O28/$P28 -> #DIV/0! | AA28: =SUM(S28:Z28) -> #DIV/0! | AC28: =R28 -> 3 | AD28: =S28*100/(SUM($S28:$W28)+SUM($Y28:$Z28)) -> #DIV/0! | AE28: =T28*100/(SUM($S28:$W28)+SUM($Y28:$Z28)) -> #DIV/0! | AF28: =U28*100/(SUM($S28:$W28)+SUM($Y28:$Z28)) -> #DIV/0! | AG28: =V28*100/(SUM($S28:$W28)+SUM($Y28:$Z28)) -> #DIV/0! | AH28: =W28*100/(SUM($S28:$W28)+SUM($Y28:$Z28)) -> #DIV/0! | AI28: =X28*100/(SUM($S28:$W28)+SUM($Y28:$Z28)) -> #DIV/0! | AJ28: =Y28*100/(SUM($S28:$W28)+SUM($Y28:$Z28)) -> #DIV/0! | AK28: =Z28*100/(SUM($S28:$W28)+SUM($Y28:$Z28)) -> #DIV/0! | AL28: =SUM(AD28:AK28) -> #DIV/0!
A29: 125-90 | B29: 3.5 | D29: =(C29/SUM($C$7:$C$33))*100 -> #DIV/0! | E29: =SUM(D7:D29) -> #DIV/0! | G29: =B29 -> 3.5 | H29: 0 | I29: 0 | J29: 0 | K29: 0 | L29: 0 | M29: 0 | N29: 0 | O29: 0 | P29: =SUM(H29:O29) -> 0 | R29: =G29 -> 3.5 | S29: =100*H29/$P29 -> #DIV/0! | T29: =100*I29/$P29 -> #DIV/0! | U29: =100*J29/$P29 -> #DIV/0! | V29: =100*K29/$P29 -> #DIV/0! | W29: =100*L29/$P29 -> #DIV/0! | X29: =100*M29/$P29 -> #DIV/0! | Y29: =100*N29/$P29 -> #DIV/0! | Z29: =100*O29/$P29 -> #DIV/0! | AA29: =SUM(S29:Z29) -> #DIV/0! | AC29: =R29 -> 3.5 | AD29: =S29*100/(SUM($S29:$W29)+SUM($Y29:$Z29)) -> #DIV/0! | AE29: =T29*100/(SUM($S29:$W29)+SUM($Y29:$Z29)) -> #DIV/0! | AF29: =U29*100/(SUM($S29:$W29)+SUM($Y29:$Z29)) -> #DIV/0! | AG29: =V29*100/(SUM($S29:$W29)+SUM($Y29:$Z29)) -> #DIV/0! | AH29: =W29*100/(SUM($S29:$W29)+SUM($Y29:$Z29)) -> #DIV/0! | AI29: =X29*100/(SUM($S29:$W29)+SUM($Y29:$Z29)) -> #DIV/0! | AJ29: =Y29*100/(SUM($S29:$W29)+SUM($Y29:$Z29)) -> #DIV/0! | AK29: =Z29*100/(SUM($S29:$W29)+SUM($Y29:$Z29)) -> #DIV/0! | AL29: =SUM(AD29:AK29) -> #DIV/0!
A30: 90 - 63 | B30: 4 | D30: =(C30/SUM($C$7:$C$33))*100 -> #DIV/0! | E30: =SUM(D7:D30) -> #DIV/0! | G30: =B30 -> 4 | H30: 0 | I30: 0 | J30: 0 | K30: 0 | L30: 0 | M30: 0 | N30: 0 | O30: 0 | P30: =SUM(H30:O30) -> 0 | R30: =G30 -> 4 | S30: =100*H30/$P30 -> #DIV/0! | T30: =100*I30/$P30 -> #DIV/0! | U30: =100*J30/$P30 -> #DIV/0! | V30: =100*K30/$P30 -> #DIV/0! | W30: =100*L30/$P30 -> #DIV/0! | X30: =100*M30/$P30 -> #DIV/0! | Y30: =100*N30/$P30 -> #DIV/0! | Z30: =100*O30/$P30 -> #DIV/0! | AA30: =SUM(S30:Z30) -> #DIV/0! | AC30: =R30 -> 4 | AD30: =S30*100/(SUM($S30:$W30)+SUM($Y30:$Z30)) -> #DIV/0! | AE30: =T30*100/(SUM($S30:$W30)+SUM($Y30:$Z30)) -> #DIV/0! | AF30: =U30*100/(SUM($S30:$W30)+SUM($Y30:$Z30)) -> #DIV/0! | AG30: =V30*100/(SUM($S30:$W30)+SUM($Y30:$Z30)) -> #DIV/0! | AH30: =W30*100/(SUM($S30:$W30)+SUM($Y30:$Z30)) -> #DIV/0! | AI30: =X30*100/(SUM($S30:$W30)+SUM($Y30:$Z30)) -> #DIV/0! | AJ30: =Y30*100/(SUM($S30:$W30)+SUM($Y30:$Z30)) -> #DIV/0! | AK30: =Z30*100/(SUM($S30:$W30)+SUM($Y30:$Z30)) -> #DIV/0! | AL30: =SUM(AD30:AK30) -> #DIV/0!
A31: 63 - 45 | B31: 4.5 | D31: =(C31/SUM($C$7:$C$33))*100 -> #DIV/0! | E31: =SUM(D7:D31) -> #DIV/0! | G31: =B31 -> 4.5 | H31: 0 | I31: 0 | J31: 0 | K31: 0 | L31: 0 | M31: 0 | N31: 0 | O31: 0 | P31: =SUM(H31:O31) -> 0 | R31: =G31 -> 4.5 | S31: =100*H31/$P31 -> #DIV/0! | T31: =100*I31/$P31 -> #DIV/0! | U31: =100*J31/$P31 -> #DIV/0! | V31: =100*K31/$P31 -> #DIV/0! | W31: =100*L31/$P31 -> #DIV/0! | X31: =100*M31/$P31 -> #DIV/0! | Y31: =100*N31/$P31 -> #DIV/0! | Z31: =100*O31/$P31 -> #DIV/0! | AA31: =SUM(S31:Z31) -> #DIV/0! | AC31: =R31 -> 4.5 | AD31: =S31*100/(SUM($S31:$W31)+SUM($Y31:$Z31)) -> #DIV/0! | AE31: =T31*100/(SUM($S31:$W31)+SUM($Y31:$Z31)) -> #DIV/0! | AF31: =U31*100/(SUM($S31:$W31)+SUM($Y31:$Z31)) -> #DIV/0! | AG31: =V31*100/(SUM($S31:$W31)+SUM($Y31:$Z31)) -> #DIV/0! | AH31: =W31*100/(SUM($S31:$W31)+SUM($Y31:$Z31)) -> #DIV/0! | AI31: =X31*100/(SUM($S31:$W31)+SUM($Y31:$Z31)) -> #DIV/0! | AJ31: =Y31*100/(SUM($S31:$W31)+SUM($Y31:$Z31)) -> #DIV/0! | AK31: =Z31*100/(SUM($S31:$W31)+SUM($Y31:$Z31)) -> #DIV/0! | AL31: =SUM(AD31:AK31) -> #DIV/0!
A32: 45 - 31 | B32: 5 | D32: =(C32/SUM($C$7:$C$33))*100 -> #DIV/0! | E32: =SUM(D7:D32) -> #DIV/0! | G32: =B32 -> 5 | H32: 0 | I32: 0 | J32: 0 | K32: 0 | L32: 0 | M32: 0 | N32: 0 | O32: 0 | P32: =SUM(H32:O32) -> 0 | R32: =G32 -> 5 | S32: =100*H32/$P32 -> #DIV/0! | T32: =100*I32/$P32 -> #DIV/0! | U32: =100*J32/$P32 -> #DIV/0! | V32: =100*K32/$P32 -> #DIV/0! | W32: =100*L32/$P32 -> #DIV/0! | X32: =100*M32/$P32 -> #DIV/0! | Y32: =100*N32/$P32 -> #DIV/0! | Z32: =100*O32/$P32 -> #DIV/0! | AA32: =SUM(S32:Z32) -> #DIV/0! | AC32: =R32 -> 5 | AD32: =S32*100/(SUM($S32:$W32)+SUM($Y32:$Z32)) -> #DIV/0! | AE32: =T32*100/(SUM($S32:$W32)+SUM($Y32:$Z32)) -> #DIV/0! | AF32: =U32*100/(SUM($S32:$W32)+SUM($Y32:$Z32)) -> #DIV/0! | AG32: =V32*100/(SUM($S32:$W32)+SUM($Y32:$Z32)) -> #DIV/0! | AH32: =W32*100/(SUM($S32:$W32)+SUM($Y32:$Z32)) -> #DIV/0! | AI32: =X32*100/(SUM($S32:$W32)+SUM($Y32:$Z32)) -> #DIV/0! | AJ32: =Y32*100/(SUM($S32:$W32)+SUM($Y32:$Z32)) -> #DIV/0! | AK32: =Z32*100/(SUM($S32:$W32)+SUM($Y32:$Z32)) -> #DIV/0! | AL32: =SUM(AD32:AK32) -> #DIV/0!
A33: <32 | B33: >6 | D33: =(C33/SUM($C$7:$C$33))*100 -> #DIV/0! | E33: =SUM(D7:D33) -> #DIV/0! | G33: =B33 -> >6 | H33: 0 | I33: 0 | J33: 0 | K33: 0 | L33: 0 | M33: 0 | N33: 0 | O33: 0 | P33: =SUM(H33:O33) -> 0 | R33: =G33 -> >6 | S33: =100*H33/$P33 -> #DIV/0! | T33: =100*I33/$P33 -> #DIV/0! | U33: =100*J33/$P33 -> #DIV/0! | V33: =100*K33/$P33 -> #DIV/0! | W33: =100*L33/$P33 -> #DIV/0! | X33: =100*M33/$P33 -> #DIV/0! | Y33: =100*N33/$P33 -> #DIV/0! | Z33: =100*O33/$P33 -> #DIV/0! | AA33: =SUM(S33:Z33) -> #DIV/0! | AC33: =R33 -> >6 | AD33: =S33*100/(SUM($S33:$W33)+SUM($Y33:$Z33)) -> #DIV/0! | AE33: =T33*100/(SUM($S33:$W33)+SUM($Y33:$Z33)) -> #DIV/0! | AF33: =U33*100/(SUM($S33:$W33)+SUM($Y33:$Z33)) -> #DIV/0! | AG33: =V33*100/(SUM($S33:$W33)+SUM($Y33:$Z33)) -> #DIV/0! | AH33: =W33*100/(SUM($S33:$W33)+SUM($Y33:$Z33)) -> #DIV/0! | AI33: =X33*100/(SUM($S33:$W33)+SUM($Y33:$Z33)) -> #DIV/0! | AJ33: =Y33*100/(SUM($S33:$W33)+SUM($Y33:$Z33)) -> #DIV/0! | AK33: =Z33*100/(SUM($S33:$W33)+SUM($Y33:$Z33)) -> #DIV/0! | AL33: =SUM(AD33:AK33) -> #DIV/0!
G34: total | H34: =SUM(H7:H33) -> 0 | I34: =SUM(I7:I33) -> 0 | J34: =SUM(J7:J33) -> 0 | K34: =SUM(K7:K33) -> 0 | L34: =SUM(L7:L33) -> 0 | M34: =SUM(M7:M33) -> 0 | N34: =SUM(N7:N33) -> 0 | O34: =SUM(O7:O33) -> 0
A67: Graphical Parameters
A68: (totale)
A69: Φ | B69: 5 | C69: =IFERROR((((INDEX(phi,MATCH(B69,cum_tot_2,1)+1,1)-INDEX(phi,MATCH(B69,cum_tot_2,1),1))/(INDEX(cum_tot_2,MATCH(B69,cum_tot_2,1)+1,1)-INDEX(cum_tot_2,MATCH(B69,cum_tot_2,1),1)))*(B69-INDEX(cum_tot_2,MATCH(B69,cum_tot_2,1),1)))+INDEX(phi,MATCH(B69,cum_tot_2,1),1),"6") -> 6
A70: Φ | B70: 16 | C70: =IFERROR((((INDEX(phi,MATCH(B70,cum_tot_2,1)+1,1)-INDEX(phi,MATCH(B70,cum_tot_2,1),1))/(INDEX(cum_tot_2,MATCH(B70,cum_tot_2,1)+1,1)-INDEX(cum_tot_2,MATCH(B70,cum_tot_2,1),1)))*(B70-INDEX(cum_tot_2,MATCH(B70,cum_tot_2,1),1)))+INDEX(phi,MATCH(B70,cum_tot_2,1),1),"6") -> 6
A71: Φ | B71: 25 | C71: =IFERROR((((INDEX(phi,MATCH(B71,cum_tot_2,1)+1,1)-INDEX(phi,MATCH(B71,cum_tot_2,1),1))/(INDEX(cum_tot_2,MATCH(B71,cum_tot_2,1)+1,1)-INDEX(cum_tot_2,MATCH(B71,cum_tot_2,1),1)))*(B71-INDEX(cum_tot_2,MATCH(B71,cum_tot_2,1),1)))+INDEX(phi,MATCH(B71,cum_tot_2,1),1),"6") -> 6
A72: Φ | B72: 50 | C72: =IFERROR((((INDEX(phi,MATCH(B72,cum_tot_2,1)+1,1)-INDEX(phi,MATCH(B72,cum_tot_2,1),1))/(INDEX(cum_tot_2,MATCH(B72,cum_tot_2,1)+1,1)-INDEX(cum_tot_2,MATCH(B72,cum_tot_2,1),1)))*(B72-INDEX(cum_tot_2,MATCH(B72,cum_tot_2,1),1)))+INDEX(phi,MATCH(B72,cum_tot_2,1),1),"6") -> 6
A73: Φ | B73: 75 | C73: =IFERROR((((INDEX(phi,MATCH(B73,cum_tot_2,1)+1,1)-INDEX(phi,MATCH(B73,cum_tot_2,1),1))/(INDEX(cum_tot_2,MATCH(B73,cum_tot_2,1)+1,1)-INDEX(cum_tot_2,MATCH(B73,cum_tot_2,1),1)))*(B73-INDEX(cum_tot_2,MATCH(B73,cum_tot_2,1),1)))+INDEX(phi,MATCH(B73,cum_tot_2,1),1),"6") -> 6
A74: Φ | B74: 84 | C74: =IFERROR((((INDEX(phi,MATCH(B74,cum_tot_2,1)+1,1)-INDEX(phi,MATCH(B74,cum_tot_2,1),1))/(INDEX(cum_tot_2,MATCH(B74,cum_tot_2,1)+1,1)-INDEX(cum_tot_2,MATCH(B74,cum_tot_2,1),1)))*(B74-INDEX(cum_tot_2,MATCH(B74,cum_tot_2,1),1)))+INDEX(phi,MATCH(B74,cum_tot_2,1),1),"6") -> 6
A75: Φ | B75: 95 | C75: =IFERROR((((INDEX(phi,MATCH(B75,cum_tot_2,1)+1,1)-INDEX(phi,MATCH(B75,cum_tot_2,1),1))/(INDEX(cum_tot_2,MATCH(B75,cum_tot_2,1)+1,1)-INDEX(cum_tot_2,MATCH(B75,cum_tot_2,1),1)))*(B75-INDEX(cum_tot_2,MATCH(B75,cum_tot_2,1),1)))+INDEX(phi,MATCH(B75,cum_tot_2,1),1),"6") -> 6
A77: Block and bombs | B77: =SUM(C7:C10)/SUM(C7:C33) -> #DIV/0! | D77: Lapilli (%) | E77: =SUM($D$7:$D$20) -> #DIV/0!
A78: Lapilli | B78: =SUM(C11:C20)/SUM(C7:C33) -> #DIV/0! | D78: Coarse ash (%) | E78: =SUM($D$21:$D$30) -> #DIV/0!
A79: Ash | B79: =SUM(C21:C33)/SUM(C7:C33) -> #DIV/0! | D79: Fine ash (%) | E79: =SUM($D$31:$D$33) -> #DIV/0!
A81: Juvenile (%) | B81: =100*SUM(H7:J33)/SUM(P7:P33) -> #DIV/0! | D81: Juvenile (%) | E81: =100*SUM(H7:J33)/SUM(P7:P33) -> #DIV/0! | G81: Pumices (%) | H81: =100*SUM(H7:H33)/(SUM(P7:P33)-SUM(M7:N33)) -> #DIV/0!
A82: Lithics (%) | B82: =100*SUM(K7:L33)/SUM(P7:P33) -> #DIV/0! | D82: Lithics (%) | E82: =100*SUM(K7:L33)/SUM(P7:P33) -> #DIV/0! | G82: Dense Juvenile (%) | H82: =100*SUM(I7:J33)/(SUM(P7:P33)-SUM(M7:N33)) -> #DIV/0!
A83: Crystals (%) | B83: =100*SUM(O7:O33)/SUM(P7:P33) -> #DIV/0! | D83: Mixed (%) | E83: =100*SUM(M7:N33)/SUM(P7:P33) -> #DIV/0! | G83: Lithics (%) | H83: =100*SUM(K7:L33)/(SUM(P7:P33)-SUM(M7:N33)) -> #DIV/0!
A85: Mz | D85: =(C70+C74+C72)/3 -> 6
A86: MdΦ (mean) = Φ50 | D86: =C72 -> 6
A87: σΦ (sorting) = (Φ84- Φ16)/2 | D87: =(C74-C70)/2 -> 0
A88: aΦ (skewness) = (Φ84 + Φ16-Mdf)/σΦ | D88: =(C74+C70-D86)/D87 -> #DIV/0!
A89: Inclusive graphic standard deviation = | D89: =((C74-C70)/4)+((C75-C69)/6.6) -> 0
A90: Inclusive graphic skewness = | D90: =((C70+C74-(2*C72))/(2*(C74-C70)))+((C69+C75-(2*C72))/(2*(C75-C69))) -> #DIV/0!
A91: Graphic kurtosis = | D91: =(C74-C69)/(2.44*(C73-C71)) -> #DIV/0!
A92: Graphic mean = | D92: =(C70+C72+C74)/3 -> 6
A94: Mean diameter MΦ (Φ16+Φ84)/2 | D94: =(C70+C74)/2 -> 6
A95: F1 | D95: =100-E23 -> #DIV/0!
A96: F2 | D96: =100-E30 -> #DIV/0!
A98: Presence of mixed ? | C98: =IF(SUM(M7:N33)>0,"Mixed","No Mixed") -> No Mixed
A99: Presence of obsidian ? | C99: =IF(SUM(J7:J33)>0,"Obsidian","No obsidian") -> No obsidian

Sheet MAY210713_7
A2: Grain size analysis of sample | D2: =RIGHT(CELL("nomfichier",A1),LEN(CELL("nomfichier",A1))-FIND("]",CELL("nomfichier",A1))) -> MAY210713_7 | G2: Sample : | H2: =D2 -> MAY210713_7 | K2: Location : Airport Beach
H3: Juveniles | K3: Lithics | S3: Juveniles | V3: Lithics | AD3: Juveniles | AG3: Lithics
A4: Total weight (g) | B4: =SUM(C7:C33) -> 753.58 | G4: Grain size (phi) | H4: Pumices | I4: Dense juveniles | J4: Obsidian | K4: Coral fragments | L4: Mafic clasts | M4: Aggregate | N4: Accretionnary lapilli | O4: Crystals | P4: Total | R4: =G4 -> Grain size (phi) | S4: =H4 -> Pumices | T4: =I4 -> Dense juveniles | U4: =J4 -> Obsidian | V4: =K4 -> Coral fragments | W4: =L4 -> Mafic clasts | X4: =M4 -> Aggregate | Y4: =N4 -> Accretionnary lapilli | Z4: =O4 -> Crystals | AA4: Total | AC4: =R4 -> Grain size (phi) | AD4: =S4 -> Pumices | AE4: =T4 -> Dense juveniles | AF4: =U4 -> Obsidian | AG4: =V4 -> Coral fragments | AH4: =W4 -> Mafic clasts | AI4: =X4 -> Aggregate | AJ4: =Y4 -> Accretionnary lapilli | AK4: =Z4 -> Crystals | AL4: Total
A5: Diameters (mm/μ) | B5: F | C5: Wt | D5: % Wt | E5: %Cum
A7: 256-181 | B7: -7.5 | C7: 0 | D7: =(C7/SUM($C$7:$C$33))*100 -> 0 | E7: 0 | G7: =B7 -> -7.5 | H7: 0 | I7: 0 | J7: 0 | K7: 0 | L7: 0 | M7: 0 | N7: 0 | O7: 0 | P7: =SUM(H7:O7) -> 0 | R7: =G7 -> -7.5 | S7: =100*H7/$P7 -> #DIV/0! | T7: =100*I7/$P7 -> #DIV/0! | U7: =100*J7/$P7 -> #DIV/0! | V7: =100*K7/$P7 -> #DIV/0! | W7: =100*L7/$P7 -> #DIV/0! | X7: =100*M7/$P7 -> #DIV/0! | Y7: =100*N7/$P7 -> #DIV/0! | Z7: =100*O7/$P7 -> #DIV/0! | AA7: =SUM(S7:Z7) -> #DIV/0! | AC7: =R7 -> -7.5 | AD7: =S7*100/(SUM($S7:$W7)+SUM($Y7:$Z7)) -> #DIV/0! | AE7: =T7*100/(SUM($S7:$W7)+SUM($Y7:$Z7)) -> #DIV/0! | AF7: =U7*100/(SUM($S7:$W7)+SUM($Y7:$Z7)) -> #DIV/0! | AG7: =V7*100/(SUM($S7:$W7)+SUM($Y7:$Z7)) -> #DIV/0! | AH7: =W7*100/(SUM($S7:$W7)+SUM($Y7:$Z7)) -> #DIV/0! | AI7: =X7*100/(SUM($S7:$W7)+SUM($Y7:$Z7)) -> #DIV/0! | AJ7: =Y7*100/(SUM($S7:$W7)+SUM($Y7:$Z7)) -> #DIV/0! | AK7: =Z7*100/(SUM($S7:$W7)+SUM($Y7:$Z7)) -> #DIV/0! | AL7: =SUM(AD7:AK7) -> #DIV/0!
A8: 181-128 | B8: -7 | C8: 0 | D8: =(C8/SUM($C$7:$C$33))*100 -> 0 | E8: =SUM(D6,D8) -> 0 | G8: =B8 -> -7 | H8: 0 | I8: 0 | J8: 0 | K8: 0 | L8: 0 | M8: 0 | N8: 0 | O8: 0 | P8: =SUM(H8:O8) -> 0 | R8: =G8 -> -7 | S8: =100*H8/$P8 -> #DIV/0! | T8: =100*I8/$P8 -> #DIV/0! | U8: =100*J8/$P8 -> #DIV/0! | V8: =100*K8/$P8 -> #DIV/0! | W8: =100*L8/$P8 -> #DIV/0! | X8: =100*M8/$P8 -> #DIV/0! | Y8: =100*N8/$P8 -> #DIV/0! | Z8: =100*O8/$P8 -> #DIV/0! | AA8: =SUM(S8:Z8) -> #DIV/0! | AC8: =R8 -> -7 | AD8: =S8*100/(SUM($S8:$W8)+SUM($Y8:$Z8)) -> #DIV/0! | AE8: =T8*100/(SUM($S8:$W8)+SUM($Y8:$Z8)) -> #DIV/0! | AF8: =U8*100/(SUM($S8:$W8)+SUM($Y8:$Z8)) -> #DIV/0! | AG8: =V8*100/(SUM($S8:$W8)+SUM($Y8:$Z8)) -> #DIV/0! | AH8: =W8*100/(SUM($S8:$W8)+SUM($Y8:$Z8)) -> #DIV/0! | AI8: =X8*100/(SUM($S8:$W8)+SUM($Y8:$Z8)) -> #DIV/0! | AJ8: =Y8*100/(SUM($S8:$W8)+SUM($Y8:$Z8)) -> #DIV/0! | AK8: =Z8*100/(SUM($S8:$W8)+SUM($Y8:$Z8)) -> #DIV/0! | AL8: =SUM(AD8:AK8) -> #DIV/0!
A9: 128-90,5 | B9: -6.5 | C9: 0 | D9: =(C9/SUM($C$7:$C$33))*100 -> 0 | E9: =SUM(D6:D9) -> 0 | G9: =B9 -> -6.5 | H9: 0 | I9: 0 | J9: 0 | K9: 0 | L9: 0 | M9: 0 | N9: 0 | O9: 0 | P9: =SUM(H9:O9) -> 0 | R9: =G9 -> -6.5 | S9: =100*H9/$P9 -> #DIV/0! | T9: =100*I9/$P9 -> #DIV/0! | U9: =100*J9/$P9 -> #DIV/0! | V9: =100*K9/$P9 -> #DIV/0! | W9: =100*L9/$P9 -> #DIV/0! | X9: =100*M9/$P9 -> #DIV/0! | Y9: =100*N9/$P9 -> #DIV/0! | Z9: =100*O9/$P9 -> #DIV/0! | AA9: =SUM(S9:Z9) -> #DIV/0! | AC9: =R9 -> -6.5 | AD9: =S9*100/(SUM($S9:$W9)+SUM($Y9:$Z9)) -> #DIV/0! | AE9: =T9*100/(SUM($S9:$W9)+SUM($Y9:$Z9)) -> #DIV/0! | AF9: =U9*100/(SUM($S9:$W9)+SUM($Y9:$Z9)) -> #DIV/0! | AG9: =V9*100/(SUM($S9:$W9)+SUM($Y9:$Z9)) -> #DIV/0! | AH9: =W9*100/(SUM($S9:$W9)+SUM($Y9:$Z9)) -> #DIV/0! | AI9: =X9*100/(SUM($S9:$W9)+SUM($Y9:$Z9)) -> #DIV/0! | AJ9: =Y9*100/(SUM($S9:$W9)+SUM($Y9:$Z9)) -> #DIV/0! | AK9: =Z9*100/(SUM($S9:$W9)+SUM($Y9:$Z9)) -> #DIV/0! | AL9: =SUM(AD9:AK9) -> #DIV/0!
A10: >64 | B10: -6 | C10: 0 | D10: =(C10/SUM($C$7:$C$33))*100 -> 0 | E10: =SUM(D6:D10) -> 0 | G10: =B10 -> -6 | H10: 0 | I10: 0 | J10: 0 | K10: 0 | L10: 0 | M10: 0 | N10: 0 | O10: 0 | P10: =SUM(H10:O10) -> 0 | R10: =G10 -> -6 | S10: =100*H10/$P10 -> #DIV/0! | T10: =100*I10/$P10 -> #DIV/0! | U10: =100*J10/$P10 -> #DIV/0! | V10: =100*K10/$P10 -> #DIV/0! | W10: =100*L10/$P10 -> #DIV/0! | X10: =100*M10/$P10 -> #DIV/0! | Y10: =100*N10/$P10 -> #DIV/0! | Z10: =100*O10/$P10 -> #DIV/0! | AA10: =SUM(S10:Z10) -> #DIV/0! | AC10: =R10 -> -6 | AD10: =S10*100/(SUM($S10:$W10)+SUM($Y10:$Z10)) -> #DIV/0! | AE10: =T10*100/(SUM($S10:$W10)+SUM($Y10:$Z10)) -> #DIV/0! | AF10: =U10*100/(SUM($S10:$W10)+SUM($Y10:$Z10)) -> #DIV/0! | AG10: =V10*100/(SUM($S10:$W10)+SUM($Y10:$Z10)) -> #DIV/0! | AH10: =W10*100/(SUM($S10:$W10)+SUM($Y10:$Z10)) -> #DIV/0! | AI10: =X10*100/(SUM($S10:$W10)+SUM($Y10:$Z10)) -> #DIV/0! | AJ10: =Y10*100/(SUM($S10:$W10)+SUM($Y10:$Z10)) -> #DIV/0! | AK10: =Z10*100/(SUM($S10:$W10)+SUM($Y10:$Z10)) -> #DIV/0! | AL10: =SUM(AD10:AK10) -> #DIV/0!
A11: 64-45.3 | B11: -5.5 | C11: 0 | D11: =(C11/SUM($C$7:$C$33))*100 -> 0 | E11: =SUM(D6:D11) -> 0 | G11: =B11 -> -5.5 | H11: 0 | I11: 0 | J11: 0 | K11: 0 | L11: 0 | M11: 0 | N11: 0 | O11: 0 | P11: =SUM(H11:O11) -> 0 | R11: =G11 -> -5.5 | S11: =100*H11/$P11 -> #DIV/0! | T11: =100*I11/$P11 -> #DIV/0! | U11: =100*J11/$P11 -> #DIV/0! | V11: =100*K11/$P11 -> #DIV/0! | W11: =100*L11/$P11 -> #DIV/0! | X11: =100*M11/$P11 -> #DIV/0! | Y11: =100*N11/$P11 -> #DIV/0! | Z11: =100*O11/$P11 -> #DIV/0! | AA11: =SUM(S11:Z11) -> #DIV/0! | AC11: =R11 -> -5.5 | AD11: =S11*100/(SUM($S11:$W11)+SUM($Y11:$Z11)) -> #DIV/0! | AE11: =T11*100/(SUM($S11:$W11)+SUM($Y11:$Z11)) -> #DIV/0! | AF11: =U11*100/(SUM($S11:$W11)+SUM($Y11:$Z11)) -> #DIV/0! | AG11: =V11*100/(SUM($S11:$W11)+SUM($Y11:$Z11)) -> #DIV/0! | AH11: =W11*100/(SUM($S11:$W11)+SUM($Y11:$Z11)) -> #DIV/0! | AI11: =X11*100/(SUM($S11:$W11)+SUM($Y11:$Z11)) -> #DIV/0! | AJ11: =Y11*100/(SUM($S11:$W11)+SUM($Y11:$Z11)) -> #DIV/0! | AK11: =Z11*100/(SUM($S11:$W11)+SUM($Y11:$Z11)) -> #DIV/0! | AL11: =SUM(AD11:AK11) -> #DIV/0!
A12: 45.3-32 | B12: -5 | C12: 0 | D12: =(C12/SUM($C$7:$C$33))*100 -> 0 | E12: =SUM(D6:D12) -> 0 | G12: =B12 -> -5 | H12: 0 | I12: 0 | J12: 0 | K12: 0 | L12: 0 | M12: 0 | N12: 0 | O12: 0 | P12: =SUM(H12:O12) -> 0 | R12: =G12 -> -5 | S12: =100*H12/$P12 -> #DIV/0! | T12: =100*I12/$P12 -> #DIV/0! | U12: =100*J12/$P12 -> #DIV/0! | V12: =100*K12/$P12 -> #DIV/0! | W12: =100*L12/$P12 -> #DIV/0! | X12: =100*M12/$P12 -> #DIV/0! | Y12: =100*N12/$P12 -> #DIV/0! | Z12: =100*O12/$P12 -> #DIV/0! | AA12: =SUM(S12:Z12) -> #DIV/0! | AC12: =R12 -> -5 | AD12: =S12*100/(SUM($S12:$W12)+SUM($Y12:$Z12)) -> #DIV/0! | AE12: =T12*100/(SUM($S12:$W12)+SUM($Y12:$Z12)) -> #DIV/0! | AF12: =U12*100/(SUM($S12:$W12)+SUM($Y12:$Z12)) -> #DIV/0! | AG12: =V12*100/(SUM($S12:$W12)+SUM($Y12:$Z12)) -> #DIV/0! | AH12: =W12*100/(SUM($S12:$W12)+SUM($Y12:$Z12)) -> #DIV/0! | AI12: =X12*100/(SUM($S12:$W12)+SUM($Y12:$Z12)) -> #DIV/0! | AJ12: =Y12*100/(SUM($S12:$W12)+SUM($Y12:$Z12)) -> #DIV/0! | AK12: =Z12*100/(SUM($S12:$W12)+SUM($Y12:$Z12)) -> #DIV/0! | AL12: =SUM(AD12:AK12) -> #DIV/0!
A13: 32-22.6 | B13: -4.5 | C13: 10.92 | D13: =(C13/SUM($C$6:$C$33))*100 -> 1.449083 | E13: =SUM(D7:D13) -> 1.449083 | G13: =B13 -> -4.5 | H13: 0 | I13: 0 | J13: 0 | K13: 0 | L13: 0 | M13: 0 | N13: 0 | O13: 0 | P13: =SUM(H13:O13) -> 0 | R13: =G13 -> -4.5 | S13: =100*H13/$P13 -> #DIV/0! | T13: =100*I13/$P13 -> #DIV/0! | U13: =100*J13/$P13 -> #DIV/0! | V13: =100*K13/$P13 -> #DIV/0! | W13: =100*L13/$P13 -> #DIV/0! | X13: =100*M13/$P13 -> #DIV/0! | Y13: =100*N13/$P13 -> #DIV/0! | Z13: =100*O13/$P13 -> #DIV/0! | AA13: =SUM(S13:Z13) -> #DIV/0! | AC13: =R13 -> -4.5 | AD13: =S13*100/(SUM($S13:$W13)+SUM($Y13:$Z13)) -> #DIV/0! | AE13: =T13*100/(SUM($S13:$W13)+SUM($Y13:$Z13)) -> #DIV/0! | AF13: =U13*100/(SUM($S13:$W13)+SUM($Y13:$Z13)) -> #DIV/0! | AG13: =V13*100/(SUM($S13:$W13)+SUM($Y13:$Z13)) -> #DIV/0! | AH13: =W13*100/(SUM($S13:$W13)+SUM($Y13:$Z13)) -> #DIV/0! | AI13: =X13*100/(SUM($S13:$W13)+SUM($Y13:$Z13)) -> #DIV/0! | AJ13: =Y13*100/(SUM($S13:$W13)+SUM($Y13:$Z13)) -> #DIV/0! | AK13: =Z13*100/(SUM($S13:$W13)+SUM($Y13:$Z13)) -> #DIV/0! | AL13: =SUM(AD13:AK13) -> #DIV/0!
A14: 22,6-16 | B14: -4 | C14: 40.21 | D14: =(C14/SUM($C$7:$C$33))*100 -> 5.3358635 | E14: =SUM(D8:D14) -> 6.7849465 | G14: =B14 -> -4 | H14: 0 | I14: 0 | J14: 0 | K14: 0 | L14: 0 | M14: 0 | N14: 0 | O14: 0 | P14: =SUM(H14:O14) -> 0 | R14: =G14 -> -4 | S14: =100*H14/$P14 -> #DIV/0! | T14: =100*I14/$P14 -> #DIV/0! | U14: =100*J14/$P14 -> #DIV/0! | V14: =100*K14/$P14 -> #DIV/0! | W14: =100*L14/$P14 -> #DIV/0! | X14: =100*M14/$P14 -> #DIV/0! | Y14: =100*N14/$P14 -> #DIV/0! | Z14: =100*O14/$P14 -> #DIV/0! | AA14: =SUM(S14:Z14) -> #DIV/0! | AC14: =R14 -> -4 | AD14: =S14*100/(SUM($S14:$W14)+SUM($Y14:$Z14)) -> #DIV/0! | AE14: =T14*100/(SUM($S14:$W14)+SUM($Y14:$Z14)) -> #DIV/0! | AF14: =U14*100/(SUM($S14:$W14)+SUM($Y14:$Z14)) -> #DIV/0! | AG14: =V14*100/(SUM($S14:$W14)+SUM($Y14:$Z14)) -> #DIV/0! | AH14: =W14*100/(SUM($S14:$W14)+SUM($Y14:$Z14)) -> #DIV/0! | AI14: =X14*100/(SUM($S14:$W14)+SUM($Y14:$Z14)) -> #DIV/0! | AJ14: =Y14*100/(SUM($S14:$W14)+SUM($Y14:$Z14)) -> #DIV/0! | AK14: =Z14*100/(SUM($S14:$W14)+SUM($Y14:$Z14)) -> #DIV/0! | AL14: =SUM(AD14:AK14) -> #DIV/0!
A15: 16-11.3 | B15: -3.5 | C15: 64.12 | D15: =(C15/SUM($C$7:$C$33))*100 -> 8.5087184 | E15: =SUM(D6:D15) -> 15.293665 | G15: =B15 -> -3.5 | H15: 0 | I15: 0 | J15: 0 | K15: 0 | L15: 0 | M15: 0 | N15: 0 | O15: 0 | P15: =SUM(H15:O15) -> 0 | R15: =G15 -> -3.5 | S15: =100*H15/$P15 -> #DIV/0! | T15: =100*I15/$P15 -> #DIV/0! | U15: =100*J15/$P15 -> #DIV/0! | V15: =100*K15/$P15 -> #DIV/0! | W15: =100*L15/$P15 -> #DIV/0! | X15: =100*M15/$P15 -> #DIV/0! | Y15: =100*N15/$P15 -> #DIV/0! | Z15: =100*O15/$P15 -> #DIV/0! | AA15: =SUM(S15:Z15) -> #DIV/0! | AC15: =R15 -> -3.5 | AD15: =S15*100/(SUM($S15:$W15)+SUM($Y15:$Z15)) -> #DIV/0! | AE15: =T15*100/(SUM($S15:$W15)+SUM($Y15:$Z15)) -> #DIV/0! | AF15: =U15*100/(SUM($S15:$W15)+SUM($Y15:$Z15)) -> #DIV/0! | AG15: =V15*100/(SUM($S15:$W15)+SUM($Y15:$Z15)) -> #DIV/0! | AH15: =W15*100/(SUM($S15:$W15)+SUM($Y15:$Z15)) -> #DIV/0! | AI15: 0 | AJ15: =Y15*100/(SUM($S15:$W15)+SUM($Y15:$Z15)) -> #DIV/0! | AK15: =Z15*100/(SUM($S15:$W15)+SUM($Y15:$Z15)) -> #DIV/0! | AL15: =SUM(AD15:AK15) -> #DIV/0!
A16: 11.3-8 | B16: -3 | C16: 55.87 | D16: =(C16/SUM($C$7:$C$33))*100 -> 7.4139441 | E16: =SUM(D6:D16) -> 22.707609 | G16: =B16 -> -3 | H16: 0 | I16: 0 | J16: 0 | K16: 0 | L16: 0 | M16: 0 | N16: 0 | O16: 0 | P16: =SUM(H16:O16) -> 0 | R16: =G16 -> -3 | S16: =100*H16/$P16 -> #DIV/0! | T16: =100*I16/$P16 -> #DIV/0! | U16: =100*J16/$P16 -> #DIV/0! | V16: =100*K16/$P16 -> #DIV/0! | W16: =100*L16/$P16 -> #DIV/0! | X16: =100*M16/$P16 -> #DIV/0! | Y16: =100*N16/$P16 -> #DIV/0! | Z16: =100*O16/$P16 -> #DIV/0! | AA16: =SUM(S16:Z16) -> #DIV/0! | AC16: =R16 -> -3 | AD16: =S16*100/(SUM($S16:$W16)+SUM($Y16:$Z16)) -> #DIV/0! | AE16: =T16*100/(SUM($S16:$W16)+SUM($Y16:$Z16)) -> #DIV/0! | AF16: =U16*100/(SUM($S16:$W16)+SUM($Y16:$Z16)) -> #DIV/0! | AG16: =V16*100/(SUM($S16:$W16)+SUM($Y16:$Z16)) -> #DIV/0! | AH16: =W16*100/(SUM($S16:$W16)+SUM($Y16:$Z16)) -> #DIV/0! | AI16: 0 | AJ16: =Y16*100/(SUM($S16:$W16)+SUM($Y16:$Z16)) -> #DIV/0! | AK16: =Z16*100/(SUM($S16:$W16)+SUM($Y16:$Z16)) -> #DIV/0! | AL16: =SUM(AD16:AK16) -> #DIV/0!
A17: 8-5,66 | B17: -2.5 | C17: 36.71 | D17: =(C17/SUM($C$7:$C$33))*100 -> 4.8714138 | E17: =SUM(D6:D17) -> 27.579023 | G17: =B17 -> -2.5 | H17: 0 | I17: 0 | J17: 0 | K17: 0 | L17: 0 | M17: 0 | N17: 0 | O17: 0 | P17: =SUM(H17:O17) -> 0 | R17: =G17 -> -2.5 | S17: =100*H17/$P17 -> #DIV/0! | T17: =100*I17/$P17 -> #DIV/0! | U17: =100*J17/$P17 -> #DIV/0! | V17: =100*K17/$P17 -> #DIV/0! | W17: =100*L17/$P17 -> #DIV/0! | X17: =100*M17/$P17 -> #DIV/0! | Y17: =100*N17/$P17 -> #DIV/0! | Z17: =100*O17/$P17 -> #DIV/0! | AA17: =SUM(S17:Z17) -> #DIV/0! | AC17: =R17 -> -2.5 | AD17: =S17*100/(SUM($S17:$W17)+SUM($Y17:$Z17)) -> #DIV/0! | AE17: =T17*100/(SUM($S17:$W17)+SUM($Y17:$Z17)) -> #DIV/0! | AF17: =U17*100/(SUM($S17:$W17)+SUM($Y17:$Z17)) -> #DIV/0! | AG17: =V17*100/(SUM($S17:$W17)+SUM($Y17:$Z17)) -> #DIV/0! | AH17: =W17*100/(SUM($S17:$W17)+SUM($Y17:$Z17)) -> #DIV/0! | AI17: 0 | AJ17: =Y17*100/(SUM($S17:$W17)+SUM($Y17:$Z17)) -> #DIV/0! | AK17: =Z17*100/(SUM($S17:$W17)+SUM($Y17:$Z17)) -> #DIV/0! | AL17: =SUM(AD17:AK17) -> #DIV/0!
A18: 5,66-4 | B18: -2 | C18: 26.07 | D18: =(C18/SUM($C$7:$C$33))*100 -> 3.4594867 | E18: =SUM(D6:D18) -> 31.03851 | G18: =B18 -> -2 | H18: 0 | I18: 0 | J18: 0 | K18: 0 | L18: 0 | M18: 0 | N18: 0 | O18: 0 | P18: =SUM(H18:O18) -> 0 | R18: =G18 -> -2 | S18: =100*H18/$P18 -> #DIV/0! | T18: =100*I18/$P18 -> #DIV/0! | U18: =100*J18/$P18 -> #DIV/0! | V18: =100*K18/$P18 -> #DIV/0! | W18: =100*L18/$P18 -> #DIV/0! | X18: =100*M18/$P18 -> #DIV/0! | Y18: =100*N18/$P18 -> #DIV/0! | Z18: =100*O18/$P18 -> #DIV/0! | AA18: =SUM(S18:Z18) -> #DIV/0! | AC18: =R18 -> -2 | AD18: =S18*100/(SUM($S18:$W18)+SUM($Y18:$Z18)) -> #DIV/0! | AE18: =T18*100/(SUM($S18:$W18)+SUM($Y18:$Z18)) -> #DIV/0! | AF18: =U18*100/(SUM($S18:$W18)+SUM($Y18:$Z18)) -> #DIV/0! | AG18: =V18*100/(SUM($S18:$W18)+SUM($Y18:$Z18)) -> #DIV/0! | AH18: =W18*100/(SUM($S18:$W18)+SUM($Y18:$Z18)) -> #DIV/0! | AI18: 0 | AJ18: =Y18*100/(SUM($S18:$W18)+SUM($Y18:$Z18)) -> #DIV/0! | AK18: =Z18*100/(SUM($S18:$W18)+SUM($Y18:$Z18)) -> #DIV/0! | AL18: =SUM(AD18:AK18) -> #DIV/0!
A19: 4000 - 2800 | B19: -1.5 | C19: 36.55 | D19: =(C19/SUM($C$7:$C$33))*100 -> 4.8501818 | E19: =SUM(D6:D19) -> 35.888691 | G19: =B19 -> -1.5 | H19: 0 | I19: 0 | J19: 0 | K19: 0 | L19: 0 | M19: 0 | N19: 0 | O19: 0 | P19: =SUM(H19:O19) -> 0 | R19: =G19 -> -1.5 | S19: =100*H19/$P19 -> #DIV/0! | T19: =100*I19/$P19 -> #DIV/0! | U19: =100*J19/$P19 -> #DIV/0! | V19: =100*K19/$P19 -> #DIV/0! | W19: =100*L19/$P19 -> #DIV/0! | X19: =100*M19/$P19 -> #DIV/0! | Y19: =100*N19/$P19 -> #DIV/0! | Z19: =100*O19/$P19 -> #DIV/0! | AA19: =SUM(S19:Z19) -> #DIV/0! | AC19: =R19 -> -1.5 | AD19: =S19*100/(SUM($S19:$W19)+SUM($Y19:$Z19)) -> #DIV/0! | AE19: =T19*100/(SUM($S19:$W19)+SUM($Y19:$Z19)) -> #DIV/0! | AF19: =U19*100/(SUM($S19:$W19)+SUM($Y19:$Z19)) -> #DIV/0! | AG19: =V19*100/(SUM($S19:$W19)+SUM($Y19:$Z19)) -> #DIV/0! | AH19: =W19*100/(SUM($S19:$W19)+SUM($Y19:$Z19)) -> #DIV/0! | AI19: 0 | AJ19: =Y19*100/(SUM($S19:$W19)+SUM($Y19:$Z19)) -> #DIV/0! | AK19: =Z19*100/(SUM($S19:$W19)+SUM($Y19:$Z19)) -> #DIV/0! | AL19: =SUM(AD19:AK19) -> #DIV/0!
A20: 2800 - 2000 | B20: -1 | C20: 40.71 | D20: =(C20/SUM($C$7:$C$33))*100 -> 5.4022134 | E20: =SUM(D6:D20) -> 41.290905 | G20: =B20 -> -1 | H20: 0 | I20: 0 | J20: 0 | K20: 0 | L20: 0 | M20: 0 | N20: 0 | O20: 0 | P20: =SUM(H20:O20) -> 0 | R20: =G20 -> -1 | S20: =100*H20/$P20 -> #DIV/0! | T20: =100*I20/$P20 -> #DIV/0! | U20: =100*J20/$P20 -> #DIV/0! | V20: =100*K20/$P20 -> #DIV/0! | W20: =100*L20/$P20 -> #DIV/0! | X20: =100*M20/$P20 -> #DIV/0! | Y20: =100*N20/$P20 -> #DIV/0! | Z20: =100*O20/$P20 -> #DIV/0! | AA20: =SUM(S20:Z20) -> #DIV/0! | AC20: =R20 -> -1 | AD20: =S20*100/(SUM($S20:$W20)+SUM($Y20:$Z20)) -> #DIV/0! | AE20: =T20*100/(SUM($S20:$W20)+SUM($Y20:$Z20)) -> #DIV/0! | AF20: =U20*100/(SUM($S20:$W20)+SUM($Y20:$Z20)) -> #DIV/0! | AG20: =V20*100/(SUM($S20:$W20)+SUM($Y20:$Z20)) -> #DIV/0! | AH20: =W20*100/(SUM($S20:$W20)+SUM($Y20:$Z20)) -> #DIV/0! | AI20: 0 | AJ20: =Y20*100/(SUM($S20:$W20)+SUM($Y20:$Z20)) -> #DIV/0! | AK20: =Z20*100/(SUM($S20:$W20)+SUM($Y20:$Z20)) -> #DIV/0! | AL20: =SUM(AD20:AK20) -> #DIV/0!
A21: 2000-1400 | B21: -0.5 | C21: 38.9 | D21: =(C21/SUM($C$7:$C$33))*100 -> 5.1620266 | E21: =SUM(D6:D21) -> 46.452931 | G21: =B21 -> -0.5 | H21: 0 | I21: 0 | J21: 0 | K21: 0 | L21: 0 | M21: 0 | N21: 0 | O21: 0 | P21: =SUM(H21:O21) -> 0 | R21: =G21 -> -0.5 | S21: =100*H21/$P21 -> #DIV/0! | T21: =100*I21/$P21 -> #DIV/0! | U21: =100*J21/$P21 -> #DIV/0! | V21: =100*K21/$P21 -> #DIV/0! | W21: =100*L21/$P21 -> #DIV/0! | X21: =100*M21/$P21 -> #DIV/0! | Y21: =100*N21/$P21 -> #DIV/0! | Z21: =100*O21/$P21 -> #DIV/0! | AA21: =SUM(S21:Z21) -> #DIV/0! | AC21: =R21 -> -0.5 | AD21: =S21*100/(SUM($S21:$W21)+SUM($Y21:$Z21)) -> #DIV/0! | AE21: =T21*100/(SUM($S21:$W21)+SUM($Y21:$Z21)) -> #DIV/0! | AF21: =U21*100/(SUM($S21:$W21)+SUM($Y21:$Z21)) -> #DIV/0! | AG21: =V21*100/(SUM($S21:$W21)+SUM($Y21:$Z21)) -> #DIV/0! | AH21: =W21*100/(SUM($S21:$W21)+SUM($Y21:$Z21)) -> #DIV/0! | AI21: 0 | AJ21: =Y21*100/(SUM($S21:$W21)+SUM($Y21:$Z21)) -> #DIV/0! | AK21: =Z21*100/(SUM($S21:$W21)+SUM($Y21:$Z21)) -> #DIV/0! | AL21: =SUM(AD21:AK21) -> #DIV/0!
A22: 1400 - 1000 | B22: 0 | C22: 35.49 | D22: =(C22/SUM($C$7:$C$33))*100 -> 4.7095199 | E22: =SUM(D6:D22) -> 51.162451 | G22: =B22 -> 0 | H22: 0 | I22: 0 | J22: 0 | K22: 0 | L22: 0 | M22: 0 | N22: 0 | O22: 0 | P22: =SUM(H22:O22) -> 0 | R22: =G22 -> 0 | S22: =100*H22/$P22 -> #DIV/0! | T22: =100*I22/$P22 -> #DIV/0! | U22: =100*J22/$P22 -> #DIV/0! | V22: =100*K22/$P22 -> #DIV/0! | W22: =100*L22/$P22 -> #DIV/0! | X22: =100*M22/$P22 -> #DIV/0! | Y22: =100*N22/$P22 -> #DIV/0! | Z22: =100*O22/$P22 -> #DIV/0! | AA22: =SUM(S22:Z22) -> #DIV/0! | AC22: =R22 -> 0 | AD22: =S22*100/(SUM($S22:$W22)+SUM($Y22:$Z22)) -> #DIV/0! | AE22: =T22*100/(SUM($S22:$W22)+SUM($Y22:$Z22)) -> #DIV/0! | AF22: =U22*100/(SUM($S22:$W22)+SUM($Y22:$Z22)) -> #DIV/0! | AG22: =V22*100/(SUM($S22:$W22)+SUM($Y22:$Z22)) -> #DIV/0! | AH22: =W22*100/(SUM($S22:$W22)+SUM($Y22:$Z22)) -> #DIV/0! | AI22: =X22*100/(SUM($S22:$W22)+SUM($Y22:$Z22)) -> #DIV/0! | AJ22: =Y22*100/(SUM($S22:$W22)+SUM($Y22:$Z22)) -> #DIV/0! | AK22: =Z22*100/(SUM($S22:$W22)+SUM($Y22:$Z22)) -> #DIV/0! | AL22: =SUM(AD22:AK22) -> #DIV/0!
A23: 1000-710 | B23: 0.5 | C23: 33.05 | D23: =(C23/SUM($C$7:$C$33))*100 -> 4.3857321 | E23: =SUM(D6:D23) -> 55.548183 | G23: =B23 -> 0.5 | H23: 0 | I23: 0 | J23: 0 | K23: 0 | L23: 0 | M23: 0 | N23: 0 | O23: 0 | P23: =SUM(H23:O23) -> 0 | R23: =G23 -> 0.5 | S23: =100*H23/$P23 -> #DIV/0! | T23: =100*I23/$P23 -> #DIV/0! | U23: =100*J23/$P23 -> #DIV/0! | V23: =100*K23/$P23 -> #DIV/0! | W23: =100*L23/$P23 -> #DIV/0! | X23: =100*M23/$P23 -> #DIV/0! | Y23: =100*N23/$P23 -> #DIV/0! | Z23: =100*O23/$P23 -> #DIV/0! | AA23: =SUM(S23:Z23) -> #DIV/0! | AC23: =R23 -> 0.5 | AD23: =S23*100/(SUM($S23:$W23)+SUM($Y23:$Z23)) -> #DIV/0! | AE23: =T23*100/(SUM($S23:$W23)+SUM($Y23:$Z23)) -> #DIV/0! | AF23: =U23*100/(SUM($S23:$W23)+SUM($Y23:$Z23)) -> #DIV/0! | AG23: =V23*100/(SUM($S23:$W23)+SUM($Y23:$Z23)) -> #DIV/0! | AH23: =W23*100/(SUM($S23:$W23)+SUM($Y23:$Z23)) -> #DIV/0! | AI23: =X23*100/(SUM($S23:$W23)+SUM($Y23:$Z23)) -> #DIV/0! | AJ23: =Y23*100/(SUM($S23:$W23)+SUM($Y23:$Z23)) -> #DIV/0! | AK23: =Z23*100/(SUM($S23:$W23)+SUM($Y23:$Z23)) -> #DIV/0! | AL23: =SUM(AD23:AK23) -> #DIV/0!
A24: 710-500 | B24: 1 | C24: 28.7 | D24: =(C24/SUM($C$7:$C$33))*100 -> 3.8084875 | E24: =SUM(D6:D24) -> 59.356671 | G24: =B24 -> 1 | H24: 0 | I24: 0 | J24: 0 | K24: 0 | L24: 0 | M24: 0 | N24: 0 | O24: 0 | P24: =SUM(H24:O24) -> 0 | R24: =G24 -> 1 | S24: =100*H24/$P24 -> #DIV/0! | T24: =100*I24/$P24 -> #DIV/0! | U24: =100*J24/$P24 -> #DIV/0! | V24: =100*K24/$P24 -> #DIV/0! | W24: =100*L24/$P24 -> #DIV/0! | X24: =100*M24/$P24 -> #DIV/0! | Y24: =100*N24/$P24 -> #DIV/0! | Z24: =100*O24/$P24 -> #DIV/0! | AA24: =SUM(S24:Z24) -> #DIV/0! | AC24: =R24 -> 1 | AD24: =S24*100/(SUM($S24:$W24)+SUM($Y24:$Z24)) -> #DIV/0! | AE24: =T24*100/(SUM($S24:$W24)+SUM($Y24:$Z24)) -> #DIV/0! | AF24: =U24*100/(SUM($S24:$W24)+SUM($Y24:$Z24)) -> #DIV/0! | AG24: =V24*100/(SUM($S24:$W24)+SUM($Y24:$Z24)) -> #DIV/0! | AH24: =W24*100/(SUM($S24:$W24)+SUM($Y24:$Z24)) -> #DIV/0! | AI24: =X24*100/(SUM($S24:$W24)+SUM($Y24:$Z24)) -> #DIV/0! | AJ24: =Y24*100/(SUM($S24:$W24)+SUM($Y24:$Z24)) -> #DIV/0! | AK24: =Z24*100/(SUM($S24:$W24)+SUM($Y24:$Z24)) -> #DIV/0! | AL24: =SUM(AD24:AK24) -> #DIV/0!
A25: 500-355 | B25: 1.5 | C25: 22.35 | D25: =(C25/SUM($C$7:$C$33))*100 -> 2.965843 | E25: =SUM(D6:D25) -> 62.322514 | G25: =B25 -> 1.5 | H25: 0 | I25: 0 | J25: 0 | K25: 0 | L25: 0 | M25: 0 | N25: 0 | O25: 0 | P25: =SUM(H25:O25) -> 0 | R25: =G25 -> 1.5 | S25: =100*H25/$P25 -> #DIV/0! | T25: =100*I25/$P25 -> #DIV/0! | U25: =100*J25/$P25 -> #DIV/0! | V25: =100*K25/$P25 -> #DIV/0! | W25: =100*L25/$P25 -> #DIV/0! | X25: =100*M25/$P25 -> #DIV/0! | Y25: =100*N25/$P25 -> #DIV/0! | Z25: =100*O25/$P25 -> #DIV/0! | AA25: =SUM(S25:Z25) -> #DIV/0! | AC25: =R25 -> 1.5 | AD25: =S25*100/(SUM($S25:$W25)+SUM($Y25:$Z25)) -> #DIV/0! | AE25: =T25*100/(SUM($S25:$W25)+SUM($Y25:$Z25)) -> #DIV/0! | AF25: =U25*100/(SUM($S25:$W25)+SUM($Y25:$Z25)) -> #DIV/0! | AG25: =V25*100/(SUM($S25:$W25)+SUM($Y25:$Z25)) -> #DIV/0! | AH25: =W25*100/(SUM($S25:$W25)+SUM($Y25:$Z25)) -> #DIV/0! | AI25: =X25*100/(SUM($S25:$W25)+SUM($Y25:$Z25)) -> #DIV/0! | AJ25: =Y25*100/(SUM($S25:$W25)+SUM($Y25:$Z25)) -> #DIV/0! | AK25: =Z25*100/(SUM($S25:$W25)+SUM($Y25:$Z25)) -> #DIV/0! | AL25: =SUM(AD25:AK25) -> #DIV/0!
A26: 355 - 250 | B26: 2 | C26: 21.95 | D26: =(C26/SUM($C$7:$C$33))*100 -> 2.9127631 | E26: =SUM(D6:D26) -> 65.235277 | G26: =B26 -> 2 | H26: 0 | I26: 0 | J26: 0 | K26: 0 | L26: 0 | M26: 0 | N26: 0 | O26: 0 | P26: =SUM(H26:O26) -> 0 | R26: =G26 -> 2 | S26: =100*H26/$P26 -> #DIV/0! | T26: =100*I26/$P26 -> #DIV/0! | U26: =100*J26/$P26 -> #DIV/0! | V26: =100*K26/$P26 -> #DIV/0! | W26: =100*L26/$P26 -> #DIV/0! | X26: =100*M26/$P26 -> #DIV/0! | Y26: =100*N26/$P26 -> #DIV/0! | Z26: =100*O26/$P26 -> #DIV/0! | AA26: =SUM(S26:Z26) -> #DIV/0! | AC26: =R26 -> 2 | AD26: =S26*100/(SUM($S26:$W26)+SUM($Y26:$Z26)) -> #DIV/0! | AE26: =T26*100/(SUM($S26:$W26)+SUM($Y26:$Z26)) -> #DIV/0! | AF26: =U26*100/(SUM($S26:$W26)+SUM($Y26:$Z26)) -> #DIV/0! | AG26: =V26*100/(SUM($S26:$W26)+SUM($Y26:$Z26)) -> #DIV/0! | AH26: =W26*100/(SUM($S26:$W26)+SUM($Y26:$Z26)) -> #DIV/0! | AI26: =X26*100/(SUM($S26:$W26)+SUM($Y26:$Z26)) -> #DIV/0! | AJ26: =Y26*100/(SUM($S26:$W26)+SUM($Y26:$Z26)) -> #DIV/0! | AK26: =Z26*100/(SUM($S26:$W26)+SUM($Y26:$Z26)) -> #DIV/0! | AL26: =SUM(AD26:AK26) -> #DIV/0!
A27: 250-180 | B27: 2.5 | C27: 18.38 | D27: =(C27/SUM($C$7:$C$33))*100 -> 2.4390244 | E27: =SUM(D7:D27) -> 67.674301 | G27: =B27 -> 2.5 | H27: 0 | I27: 0 | J27: 0 | K27: 0 | L27: 0 | M27: 0 | N27: 0 | O27: 0 | P27: =SUM(H27:O27) -> 0 | R27: =G27 -> 2.5 | S27: =100*H27/$P27 -> #DIV/0! | T27: =100*I27/$P27 -> #DIV/0! | U27: =100*J27/$P27 -> #DIV/0! | V27: =100*K27/$P27 -> #DIV/0! | W27: =100*L27/$P27 -> #DIV/0! | X27: =100*M27/$P27 -> #DIV/0! | Y27: =100*N27/$P27 -> #DIV/0! | Z27: =100*O27/$P27 -> #DIV/0! | AA27: =SUM(S27:Z27) -> #DIV/0! | AC27: =R27 -> 2.5 | AD27: =S27*100/(SUM($S27:$W27)+SUM($Y27:$Z27)) -> #DIV/0! | AE27: =T27*100/(SUM($S27:$W27)+SUM($Y27:$Z27)) -> #DIV/0! | AF27: =U27*100/(SUM($S27:$W27)+SUM($Y27:$Z27)) -> #DIV/0! | AG27: =V27*100/(SUM($S27:$W27)+SUM($Y27:$Z27)) -> #DIV/0! | AH27: =W27*100/(SUM($S27:$W27)+SUM($Y27:$Z27)) -> #DIV/0! | AI27: =X27*100/(SUM($S27:$W27)+SUM($Y27:$Z27)) -> #DIV/0! | AJ27: =Y27*100/(SUM($S27:$W27)+SUM($Y27:$Z27)) -> #DIV/0! | AK27: =Z27*100/(SUM($S27:$W27)+SUM($Y27:$Z27)) -> #DIV/0! | AL27: =SUM(AD27:AK27) -> #DIV/0!
A28: 180 - 125 | B28: 3 | C28: 18.34 | D28: =(C28/SUM($C$7:$C$33))*100 -> 2.4337164 | E28: =SUM(D7:D28) -> 70.108018 | G28: =B28 -> 3 | H28: 0 | I28: 0 | J28: 0 | K28: 0 | L28: 0 | M28: 0 | N28: 0 | O28: 0 | P28: =SUM(H28:O28) -> 0 | R28: =G28 -> 3 | S28: =100*H28/$P28 -> #DIV/0! | T28: =100*I28/$P28 -> #DIV/0! | U28: =100*J28/$P28 -> #DIV/0! | V28: =100*K28/$P28 -> #DIV/0! | W28: =100*L28/$P28 -> #DIV/0! | X28: =100*M28/$P28 -> #DIV/0! | Y28: =100*N28/$P28 -> #DIV/0! | Z28: =100*O28/$P28 -> #DIV/0! | AA28: =SUM(S28:Z28) -> #DIV/0! | AC28: =R28 -> 3 | AD28: =S28*100/(SUM($S28:$W28)+SUM($Y28:$Z28)) -> #DIV/0! | AE28: =T28*100/(SUM($S28:$W28)+SUM($Y28:$Z28)) -> #DIV/0! | AF28: =U28*100/(SUM($S28:$W28)+SUM($Y28:$Z28)) -> #DIV/0! | AG28: =V28*100/(SUM($S28:$W28)+SUM($Y28:$Z28)) -> #DIV/0! | AH28: =W28*100/(SUM($S28:$W28)+SUM($Y28:$Z28)) -> #DIV/0! | AI28: =X28*100/(SUM($S28:$W28)+SUM($Y28:$Z28)) -> #DIV/0! | AJ28: =Y28*100/(SUM($S28:$W28)+SUM($Y28:$Z28)) -> #DIV/0! | AK28: =Z28*100/(SUM($S28:$W28)+SUM($Y28:$Z28)) -> #DIV/0! | AL28: =SUM(AD28:AK28) -> #DIV/0!
A29: 125-90 | B29: 3.5 | C29: 18.1 | D29: =(C29/SUM($C$7:$C$33))*100 -> 2.4018684 | E29: =SUM(D7:D29) -> 72.509886 | G29: =B29 -> 3.5 | H29: 0 | I29: 0 | J29: 0 | K29: 0 | L29: 0 | M29: 0 | N29: 0 | O29: 0 | P29: =SUM(H29:O29) -> 0 | R29: =G29 -> 3.5 | S29: =100*H29/$P29 -> #DIV/0! | T29: =100*I29/$P29 -> #DIV/0! | U29: =100*J29/$P29 -> #DIV/0! | V29: =100*K29/$P29 -> #DIV/0! | W29: =100*L29/$P29 -> #DIV/0! | X29: =100*M29/$P29 -> #DIV/0! | Y29: =100*N29/$P29 -> #DIV/0! | Z29: =100*O29/$P29 -> #DIV/0! | AA29: =SUM(S29:Z29) -> #DIV/0! | AC29: =R29 -> 3.5 | AD29: =S29*100/(SUM($S29:$W29)+SUM($Y29:$Z29)) -> #DIV/0! | AE29: =T29*100/(SUM($S29:$W29)+SUM($Y29:$Z29)) -> #DIV/0! | AF29: =U29*100/(SUM($S29:$W29)+SUM($Y29:$Z29)) -> #DIV/0! | AG29: =V29*100/(SUM($S29:$W29)+SUM($Y29:$Z29)) -> #DIV/0! | AH29: =W29*100/(SUM($S29:$W29)+SUM($Y29:$Z29)) -> #DIV/0! | AI29: =X29*100/(SUM($S29:$W29)+SUM($Y29:$Z29)) -> #DIV/0! | AJ29: =Y29*100/(SUM($S29:$W29)+SUM($Y29:$Z29)) -> #DIV/0! | AK29: =Z29*100/(SUM($S29:$W29)+SUM($Y29:$Z29)) -> #DIV/0! | AL29: =SUM(AD29:AK29) -> #DIV/0!
A30: 90 - 63 | B30: 4 | C30: 19.91 | D30: =(C30/SUM($C$7:$C$33))*100 -> 2.6420553 | E30: =SUM(D7:D30) -> 75.151941 | G30: =B30 -> 4 | H30: 0 | I30: 0 | J30: 0 | K30: 0 | L30: 0 | M30: 0 | N30: 0 | O30: 0 | P30: =SUM(H30:O30) -> 0 | R30: =G30 -> 4 | S30: =100*H30/$P30 -> #DIV/0! | T30: =100*I30/$P30 -> #DIV/0! | U30: =100*J30/$P30 -> #DIV/0! | V30: =100*K30/$P30 -> #DIV/0! | W30: =100*L30/$P30 -> #DIV/0! | X30: =100*M30/$P30 -> #DIV/0! | Y30: =100*N30/$P30 -> #DIV/0! | Z30: =100*O30/$P30 -> #DIV/0! | AA30: =SUM(S30:Z30) -> #DIV/0! | AC30: =R30 -> 4 | AD30: =S30*100/(SUM($S30:$W30)+SUM($Y30:$Z30)) -> #DIV/0! | AE30: =T30*100/(SUM($S30:$W30)+SUM($Y30:$Z30)) -> #DIV/0! | AF30: =U30*100/(SUM($S30:$W30)+SUM($Y30:$Z30)) -> #DIV/0! | AG30: =V30*100/(SUM($S30:$W30)+SUM($Y30:$Z30)) -> #DIV/0! | AH30: =W30*100/(SUM($S30:$W30)+SUM($Y30:$Z30)) -> #DIV/0! | AI30: =X30*100/(SUM($S30:$W30)+SUM($Y30:$Z30)) -> #DIV/0! | AJ30: =Y30*100/(SUM($S30:$W30)+SUM($Y30:$Z30)) -> #DIV/0! | AK30: =Z30*100/(SUM($S30:$W30)+SUM($Y30:$Z30)) -> #DIV/0! | AL30: =SUM(AD30:AK30) -> #DIV/0!
A31: 63 - 45 | B31: >4.0 | C31: 187.25 | D31: =(C31/SUM($C$7:$C$33))*100 -> 24.848059 | E31: =SUM(D7:D31) -> 100 | G31: =B31 -> >4.0 | H31: 0 | I31: 0 | J31: 0 | K31: 0 | L31: 0 | M31: 0 | N31: 0 | O31: 0 | P31: =SUM(H31:O31) -> 0 | R31: =G31 -> >4.0 | S31: =100*H31/$P31 -> #DIV/0! | T31: =100*I31/$P31 -> #DIV/0! | U31: =100*J31/$P31 -> #DIV/0! | V31: =100*K31/$P31 -> #DIV/0! | W31: =100*L31/$P31 -> #DIV/0! | X31: =100*M31/$P31 -> #DIV/0! | Y31: =100*N31/$P31 -> #DIV/0! | Z31: =100*O31/$P31 -> #DIV/0! | AA31: =SUM(S31:Z31) -> #DIV/0! | AC31: =R31 -> >4.0 | AD31: =S31*100/(SUM($S31:$W31)+SUM($Y31:$Z31)) -> #DIV/0! | AE31: =T31*100/(SUM($S31:$W31)+SUM($Y31:$Z31)) -> #DIV/0! | AF31: =U31*100/(SUM($S31:$W31)+SUM($Y31:$Z31)) -> #DIV/0! | AG31: =V31*100/(SUM($S31:$W31)+SUM($Y31:$Z31)) -> #DIV/0! | AH31: =W31*100/(SUM($S31:$W31)+SUM($Y31:$Z31)) -> #DIV/0! | AI31: =X31*100/(SUM($S31:$W31)+SUM($Y31:$Z31)) -> #DIV/0! | AJ31: =Y31*100/(SUM($S31:$W31)+SUM($Y31:$Z31)) -> #DIV/0! | AK31: =Z31*100/(SUM($S31:$W31)+SUM($Y31:$Z31)) -> #DIV/0! | AL31: =SUM(AD31:AK31) -> #DIV/0!
A32: 45 - 31 | B32: 5 | D32: =(C32/SUM($C$7:$C$33))*100 -> 0 | E32: =SUM(D7:D32) -> 100 | G32: =B32 -> 5 | H32: 0 | I32: 0 | J32: 0 | K32: 0 | L32: 0 | M32: 0 | N32: 0 | O32: 0 | P32: =SUM(H32:O32) -> 0 | R32: =G32 -> 5 | S32: =100*H32/$P32 -> #DIV/0! | T32: =100*I32/$P32 -> #DIV/0! | U32: =100*J32/$P32 -> #DIV/0! | V32: =100*K32/$P32 -> #DIV/0! | W32: =100*L32/$P32 -> #DIV/0! | X32: =100*M32/$P32 -> #DIV/0! | Y32: =100*N32/$P32 -> #DIV/0! | Z32: =100*O32/$P32 -> #DIV/0! | AA32: =SUM(S32:Z32) -> #DIV/0! | AC32: =R32 -> 5 | AD32: =S32*100/(SUM($S32:$W32)+SUM($Y32:$Z32)) -> #DIV/0! | AE32: =T32*100/(SUM($S32:$W32)+SUM($Y32:$Z32)) -> #DIV/0! | AF32: =U32*100/(SUM($S32:$W32)+SUM($Y32:$Z32)) -> #DIV/0! | AG32: =V32*100/(SUM($S32:$W32)+SUM($Y32:$Z32)) -> #DIV/0! | AH32: =W32*100/(SUM($S32:$W32)+SUM($Y32:$Z32)) -> #DIV/0! | AI32: =X32*100/(SUM($S32:$W32)+SUM($Y32:$Z32)) -> #DIV/0! | AJ32: =Y32*100/(SUM($S32:$W32)+SUM($Y32:$Z32)) -> #DIV/0! | AK32: =Z32*100/(SUM($S32:$W32)+SUM($Y32:$Z32)) -> #DIV/0! | AL32: =SUM(AD32:AK32) -> #DIV/0!
A33: <32 | B33: >6 | D33: =(C33/SUM($C$7:$C$33))*100 -> 0 | E33: =SUM(D7:D33) -> 100 | G33: =B33 -> >6 | H33: 0 | I33: 0 | J33: 0 | K33: 0 | L33: 0 | M33: 0 | N33: 0 | O33: 0 | P33: =SUM(H33:O33) -> 0 | R33: =G33 -> >6 | S33: =100*H33/$P33 -> #DIV/0! | T33: =100*I33/$P33 -> #DIV/0! | U33: =100*J33/$P33 -> #DIV/0! | V33: =100*K33/$P33 -> #DIV/0! | W33: =100*L33/$P33 -> #DIV/0! | X33: =100*M33/$P33 -> #DIV/0! | Y33: =100*N33/$P33 -> #DIV/0! | Z33: =100*O33/$P33 -> #DIV/0! | AA33: =SUM(S33:Z33) -> #DIV/0! | AC33: =R33 -> >6 | AD33: =S33*100/(SUM($S33:$W33)+SUM($Y33:$Z33)) -> #DIV/0! | AE33: =T33*100/(SUM($S33:$W33)+SUM($Y33:$Z33)) -> #DIV/0! | AF33: =U33*100/(SUM($S33:$W33)+SUM($Y33:$Z33)) -> #DIV/0! | AG33: =V33*100/(SUM($S33:$W33)+SUM($Y33:$Z33)) -> #DIV/0! | AH33: =W33*100/(SUM($S33:$W33)+SUM($Y33:$Z33)) -> #DIV/0! | AI33: =X33*100/(SUM($S33:$W33)+SUM($Y33:$Z33)) -> #DIV/0! | AJ33: =Y33*100/(SUM($S33:$W33)+SUM($Y33:$Z33)) -> #DIV/0! | AK33: =Z33*100/(SUM($S33:$W33)+SUM($Y33:$Z33)) -> #DIV/0! | AL33: =SUM(AD33:AK33) -> #DIV/0!
G34: total | H34: =SUM(H7:H33) -> 0 | I34: =SUM(I7:I33) -> 0 | J34: =SUM(J7:J33) -> 0 | K34: =SUM(K7:K33) -> 0 | L34: =SUM(L7:L33) -> 0 | M34: =SUM(M7:M33) -> 0 | N34: =SUM(N7:N33) -> 0 | O34: =SUM(O7:O33) -> 0
A67: Graphical Parameters
A68: (totale)
A69: Φ | B69: 5 | C69: =IFERROR((((INDEX(phi,MATCH(B69,cum_tot_2,1)+1,1)-INDEX(phi,MATCH(B69,cum_tot_2,1),1))/(INDEX(cum_tot_2,MATCH(B69,cum_tot_2,1)+1,1)-INDEX(cum_tot_2,MATCH(B69,cum_tot_2,1),1)))*(B69-INDEX(cum_tot_2,MATCH(B69,cum_tot_2,1),1)))+INDEX(phi,MATCH(B69,cum_tot_2,1),1),"6") -> -4.1672594
A70: Φ | B70: 16 | C70: =IFERROR((((INDEX(phi,MATCH(B70,cum_tot_2,1)+1,1)-INDEX(phi,MATCH(B70,cum_tot_2,1),1))/(INDEX(cum_tot_2,MATCH(B70,cum_tot_2,1)+1,1)-INDEX(cum_tot_2,MATCH(B70,cum_tot_2,1),1)))*(B70-INDEX(cum_tot_2,MATCH(B70,cum_tot_2,1),1)))+INDEX(phi,MATCH(B70,cum_tot_2,1),1),"6") -> -3.4523644
A71: Φ | B71: 25 | C71: =IFERROR((((INDEX(phi,MATCH(B71,cum_tot_2,1)+1,1)-INDEX(phi,MATCH(B71,cum_tot_2,1),1))/(INDEX(cum_tot_2,MATCH(B71,cum_tot_2,1)+1,1)-INDEX(cum_tot_2,MATCH(B71,cum_tot_2,1),1)))*(B71-INDEX(cum_tot_2,MATCH(B71,cum_tot_2,1),1)))+INDEX(phi,MATCH(B71,cum_tot_2,1),1),"6") -> -2.7647099
A72: Φ | B72: 50 | C72: =IFERROR((((INDEX(phi,MATCH(B72,cum_tot_2,1)+1,1)-INDEX(phi,MATCH(B72,cum_tot_2,1),1))/(INDEX(cum_tot_2,MATCH(B72,cum_tot_2,1)+1,1)-INDEX(cum_tot_2,MATCH(B72,cum_tot_2,1),1)))*(B72-INDEX(cum_tot_2,MATCH(B72,cum_tot_2,1),1)))+INDEX(phi,MATCH(B72,cum_tot_2,1),1),"6") -> -0.12341505
A73: Φ | B73: 75 | C73: =IFERROR((((INDEX(phi,MATCH(B73,cum_tot_2,1)+1,1)-INDEX(phi,MATCH(B73,cum_tot_2,1),1))/(INDEX(cum_tot_2,MATCH(B73,cum_tot_2,1)+1,1)-INDEX(cum_tot_2,MATCH(B73,cum_tot_2,1),1)))*(B73-INDEX(cum_tot_2,MATCH(B73,cum_tot_2,1),1)))+INDEX(phi,MATCH(B73,cum_tot_2,1),1),"6") -> 3.9712456
A74: Φ | B74: 84 | C74: =IFERROR((((INDEX(phi,MATCH(B74,cum_tot_2,1)+1,1)-INDEX(phi,MATCH(B74,cum_tot_2,1),1))/(INDEX(cum_tot_2,MATCH(B74,cum_tot_2,1)+1,1)-INDEX(cum_tot_2,MATCH(B74,cum_tot_2,1),1)))*(B74-INDEX(cum_tot_2,MATCH(B74,cum_tot_2,1),1)))+INDEX(phi,MATCH(B74,cum_tot_2,1),1),"6") -> 6
A75: Φ | B75: 95 | C75: =IFERROR((((INDEX(phi,MATCH(B75,cum_tot_2,1)+1,1)-INDEX(phi,MATCH(B75,cum_tot_2,1),1))/(INDEX(cum_tot_2,MATCH(B75,cum_tot_2,1)+1,1)-INDEX(cum_tot_2,MATCH(B75,cum_tot_2,1),1)))*(B75-INDEX(cum_tot_2,MATCH(B75,cum_tot_2,1),1)))+INDEX(phi,MATCH(B75,cum_tot_2,1),1),"6") -> 6
A77: Block and bombs | B77: =SUM(C7:C10)/SUM(C7:C33) -> 0 | D77: Lapilli (%) | E77: =SUM($D$7:$D$20) -> 41.290905
A78: Lapilli | B78: =SUM(C11:C20)/SUM(C7:C33) -> 0.41290905 | D78: Coarse ash (%) | E78: =SUM($D$21:$D$30) -> 33.861037
A79: Ash | B79: =SUM(C21:C33)/SUM(C7:C33) -> 0.58709095 | D79: Fine ash (%) | E79: =SUM($D$31:$D$33) -> 24.848059
A81: Juvenile (%) | B81: =100*SUM(H7:J33)/SUM(P7:P33) -> #DIV/0! | D81: Juvenile (%) | E81: =100*SUM(H7:J33)/SUM(P7:P33) -> #DIV/0! | G81: Pumices (%) | H81: =100*SUM(H7:H33)/(SUM(P7:P33)-SUM(M7:N33)) -> #DIV/0!
A82: Lithics (%) | B82: =100*SUM(K7:L33)/SUM(P7:P33) -> #DIV/0! | D82: Lithics (%) | E82: =100*SUM(K7:L33)/SUM(P7:P33) -> #DIV/0! | G82: Dense Juvenile (%) | H82: =100*SUM(I7:J33)/(SUM(P7:P33)-SUM(M7:N33)) -> #DIV/0!
A83: Crystals (%) | B83: =100*SUM(O7:O33)/SUM(P7:P33) -> #DIV/0! | D83: Mixed (%) | E83: =100*SUM(M7:N33)/SUM(P7:P33) -> #DIV/0! | G83: Lithics (%) | H83: =100*SUM(K7:L33)/(SUM(P7:P33)-SUM(M7:N33)) -> #DIV/0!
A85: Mz | D85: =(C70+C74+C72)/3 -> 0.80807351
A86: MdΦ (mean) = Φ50 | D86: =C72 -> -0.12341505
A87: σΦ (sorting) = (Φ84- Φ16)/2 | D87: =(C74-C70)/2 -> 4.7261822
A88: aΦ (skewness) = (Φ84 + Φ16-Mdf)/σΦ | D88: =(C74+C70-D86)/D87 -> 0.56516032
A89: Inclusive graphic standard deviation = | D89: =((C74-C70)/4)+((C75-C69)/6.6) -> 3.903585
A90: Inclusive graphic skewness = | D90: =((C70+C74-(2*C72))/(2*(C74-C70)))+((C69+C75-(2*C72))/(2*(C75-C69))) -> 0.25008635
A91: Graphic kurtosis = | D91: =(C74-C69)/(2.44*(C73-C71)) -> 0.61860705
A92: Graphic mean = | D92: =(C70+C72+C74)/3 -> 0.80807351
A94: Mean diameter MΦ (Φ16+Φ84)/2 | D94: =(C70+C74)/2 -> 1.2738178
A95: F1 | D95: =100-E23 -> 44.451817
A96: F2 | D96: =100-E30 -> 24.848059
A98: Presence of mixed ? | C98: =IF(SUM(M7:N33)>0,"Mixed","No Mixed") -> No Mixed
A99: Presence of obsidian ? | C99: =IF(SUM(J7:J33)>0,"Obsidian","No obsidian") -> No obsidian

Sheet MAY181215_9
A2: Grain size analysis of sample | D2: =RIGHT(CELL("nomfichier",A1),LEN(CELL("nomfichier",A1))-FIND("]",CELL("nomfichier",A1))) -> MAY181215_9 | G2: Sample : | H2: =D2 -> MAY181215_9 | K2: Location : Airport Beach
H3: Juveniles | K3: Lithics | S3: Juveniles | V3: Lithics | AD3: Juveniles | AG3: Lithics
A4: Total weight (g) | B4: =SUM(C7:C33) -> 534.29 | G4: Grain size (phi) | H4: Pumices | I4: Dense juveniles | J4: Obsidian | K4: Coral fragments | L4: Mafic clasts | M4: Aggregate | N4: Charcoal | O4: Crystals | P4: Total | R4: =G4 -> Grain size (phi) | S4: =H4 -> Pumices | T4: =I4 -> Dense juveniles | U4: =J4 -> Obsidian | V4: =K4 -> Coral fragments | W4: =L4 -> Mafic clasts | X4: =M4 -> Aggregate | Y4: =N4 -> Charcoal | Z4: =O4 -> Crystals | AA4: Total | AC4: =R4 -> Grain size (phi) | AD4: =S4 -> Pumices | AE4: =T4 -> Dense juveniles | AF4: =U4 -> Obsidian | AG4: =V4 -> Coral fragments | AH4: =W4 -> Mafic clasts | AI4: =X4 -> Aggregate | AJ4: =Y4 -> Charcoal | AK4: =Z4 -> Crystals | AL4: Total
A5: Diameters (mm/μ) | B5: F | C5: Wt | D5: % Wt | E5: %Cum
A7: 256-181 | B7: -7.5 | C7: 0 | D7: =(C7/SUM($C$7:$C$33))*100 -> 0 | E7: 0 | G7: =B7 -> -7.5 | H7: 0 | I7: 0 | J7: 0 | K7: 0 | L7: 0 | M7: 0 | N7: 0 | O7: 0 | P7: =SUM(H7:O7) -> 0 | R7: =G7 -> -7.5 | S7: =100*H7/$P7 -> #DIV/0! | T7: =100*I7/$P7 -> #DIV/0! | U7: =100*J7/$P7 -> #DIV/0! | V7: =100*K7/$P7 -> #DIV/0! | W7: =100*L7/$P7 -> #DIV/0! | X7: =100*M7/$P7 -> #DIV/0! | Y7: =100*N7/$P7 -> #DIV/0! | Z7: =100*O7/$P7 -> #DIV/0! | AA7: =SUM(S7:Z7) -> #DIV/0! | AC7: =R7 -> -7.5 | AD7: =S7*100/(SUM($S7:$W7)+SUM($Y7:$Z7)) -> #DIV/0! | AE7: =T7*100/(SUM($S7:$W7)+SUM($Y7:$Z7)) -> #DIV/0! | AF7: =U7*100/(SUM($S7:$W7)+SUM($Y7:$Z7)) -> #DIV/0! | AG7: =V7*100/(SUM($S7:$W7)+SUM($Y7:$Z7)) -> #DIV/0! | AH7: =W7*100/(SUM($S7:$W7)+SUM($Y7:$Z7)) -> #DIV/0! | AI7: =X7*100/(SUM($S7:$W7)+SUM($Y7:$Z7)) -> #DIV/0! | AJ7: =Y7*100/(SUM($S7:$W7)+SUM($Y7:$Z7)) -> #DIV/0! | AK7: =Z7*100/(SUM($S7:$W7)+SUM($Y7:$Z7)) -> #DIV/0! | AL7: =SUM(AD7:AK7) -> #DIV/0!
A8: 181-128 | B8: -7 | C8: 0 | D8: =(C8/SUM($C$7:$C$33))*100 -> 0 | E8: =SUM(D6,D8) -> 0 | G8: =B8 -> -7 | H8: 0 | I8: 0 | J8: 0 | K8: 0 | L8: 0 | M8: 0 | N8: 0 | O8: 0 | P8: =SUM(H8:O8) -> 0 | R8: =G8 -> -7 | S8: =100*H8/$P8 -> #DIV/0! | T8: =100*I8/$P8 -> #DIV/0! | U8: =100*J8/$P8 -> #DIV/0! | V8: =100*K8/$P8 -> #DIV/0! | W8: =100*L8/$P8 -> #DIV/0! | X8: =100*M8/$P8 -> #DIV/0! | Y8: =100*N8/$P8 -> #DIV/0! | Z8: =100*O8/$P8 -> #DIV/0! | AA8: =SUM(S8:Z8) -> #DIV/0! | AC8: =R8 -> -7 | AD8: =S8*100/(SUM($S8:$W8)+SUM($Y8:$Z8)) -> #DIV/0! | AE8: =T8*100/(SUM($S8:$W8)+SUM($Y8:$Z8)) -> #DIV/0! | AF8: =U8*100/(SUM($S8:$W8)+SUM($Y8:$Z8)) -> #DIV/0! | AG8: =V8*100/(SUM($S8:$W8)+SUM($Y8:$Z8)) -> #DIV/0! | AH8: =W8*100/(SUM($S8:$W8)+SUM($Y8:$Z8)) -> #DIV/0! | AI8: =X8*100/(SUM($S8:$W8)+SUM($Y8:$Z8)) -> #DIV/0! | AJ8: =Y8*100/(SUM($S8:$W8)+SUM($Y8:$Z8)) -> #DIV/0! | AK8: =Z8*100/(SUM($S8:$W8)+SUM($Y8:$Z8)) -> #DIV/0! | AL8: =SUM(AD8:AK8) -> #DIV/0!
A9: 128-90,5 | B9: -6.5 | C9: 0 | D9: =(C9/SUM($C$7:$C$33))*100 -> 0 | E9: =SUM(D6:D9) -> 0 | G9: =B9 -> -6.5 | H9: 0 | I9: 0 | J9: 0 | K9: 0 | L9: 0 | M9: 0 | N9: 0 | O9: 0 | P9: =SUM(H9:O9) -> 0 | R9: =G9 -> -6.5 | S9: =100*H9/$P9 -> #DIV/0! | T9: =100*I9/$P9 -> #DIV/0! | U9: =100*J9/$P9 -> #DIV/0! | V9: =100*K9/$P9 -> #DIV/0! | W9: =100*L9/$P9 -> #DIV/0! | X9: =100*M9/$P9 -> #DIV/0! | Y9: =100*N9/$P9 -> #DIV/0! | Z9: =100*O9/$P9 -> #DIV/0! | AA9: =SUM(S9:Z9) -> #DIV/0! | AC9: =R9 -> -6.5 | AD9: =S9*100/(SUM($S9:$W9)+SUM($Y9:$Z9)) -> #DIV/0! | AE9: =T9*100/(SUM($S9:$W9)+SUM($Y9:$Z9)) -> #DIV/0! | AF9: =U9*100/(SUM($S9:$W9)+SUM($Y9:$Z9)) -> #DIV/0! | AG9: =V9*100/(SUM($S9:$W9)+SUM($Y9:$Z9)) -> #DIV/0! | AH9: =W9*100/(SUM($S9:$W9)+SUM($Y9:$Z9)) -> #DIV/0! | AI9: =X9*100/(SUM($S9:$W9)+SUM($Y9:$Z9)) -> #DIV/0! | AJ9: =Y9*100/(SUM($S9:$W9)+SUM($Y9:$Z9)) -> #DIV/0! | AK9: =Z9*100/(SUM($S9:$W9)+SUM($Y9:$Z9)) -> #DIV/0! | AL9: =SUM(AD9:AK9) -> #DIV/0!
A10: >64 | B10: -6 | C10: 0 | D10: =(C10/SUM($C$7:$C$33))*100 -> 0 | E10: =SUM(D6:D10) -> 0 | G10: =B10 -> -6 | H10: 0 | I10: 0 | J10: 0 | K10: 0 | L10: 0 | M10: 0 | N10: 0 | O10: 0 | P10: =SUM(H10:O10) -> 0 | R10: =G10 -> -6 | S10: =100*H10/$P10 -> #DIV/0! | T10: =100*I10/$P10 -> #DIV/0! | U10: =100*J10/$P10 -> #DIV/0! | V10: =100*K10/$P10 -> #DIV/0! | W10: =100*L10/$P10 -> #DIV/0! | X10: =100*M10/$P10 -> #DIV/0! | Y10: =100*N10/$P10 -> #DIV/0! | Z10: =100*O10/$P10 -> #DIV/0! | AA10: =SUM(S10:Z10) -> #DIV/0! | AC10: =R10 -> -6 | AD10: =S10*100/(SUM($S10:$W10)+SUM($Y10:$Z10)) -> #DIV/0! | AE10: =T10*100/(SUM($S10:$W10)+SUM($Y10:$Z10)) -> #DIV/0! | AF10: =U10*100/(SUM($S10:$W10)+SUM($Y10:$Z10)) -> #DIV/0! | AG10: =V10*100/(SUM($S10:$W10)+SUM($Y10:$Z10)) -> #DIV/0! | AH10: =W10*100/(SUM($S10:$W10)+SUM($Y10:$Z10)) -> #DIV/0! | AI10: =X10*100/(SUM($S10:$W10)+SUM($Y10:$Z10)) -> #DIV/0! | AJ10: =Y10*100/(SUM($S10:$W10)+SUM($Y10:$Z10)) -> #DIV/0! | AK10: =Z10*100/(SUM($S10:$W10)+SUM($Y10:$Z10)) -> #DIV/0! | AL10: =SUM(AD10:AK10) -> #DIV/0!
A11: 64-45.3 | B11: -5.5 | C11: 0 | D11: =(C11/SUM($C$7:$C$33))*100 -> 0 | E11: =SUM(D6:D11) -> 0 | G11: =B11 -> -5.5 | H11: 0 | I11: 0 | J11: 0 | K11: 0 | L11: 0 | M11: 0 | N11: 0 | O11: 0 | P11: =SUM(H11:O11) -> 0 | R11: =G11 -> -5.5 | S11: =100*H11/$P11 -> #DIV/0! | T11: =100*I11/$P11 -> #DIV/0! | U11: =100*J11/$P11 -> #DIV/0! | V11: =100*K11/$P11 -> #DIV/0! | W11: =100*L11/$P11 -> #DIV/0! | X11: =100*M11/$P11 -> #DIV/0! | Y11: =100*N11/$P11 -> #DIV/0! | Z11: =100*O11/$P11 -> #DIV/0! | AA11: =SUM(S11:Z11) -> #DIV/0! | AC11: =R11 -> -5.5 | AD11: =S11*100/(SUM($S11:$W11)+SUM($Y11:$Z11)) -> #DIV/0! | AE11: =T11*100/(SUM($S11:$W11)+SUM($Y11:$Z11)) -> #DIV/0! | AF11: =U11*100/(SUM($S11:$W11)+SUM($Y11:$Z11)) -> #DIV/0! | AG11: =V11*100/(SUM($S11:$W11)+SUM($Y11:$Z11)) -> #DIV/0! | AH11: =W11*100/(SUM($S11:$W11)+SUM($Y11:$Z11)) -> #DIV/0! | AI11: =X11*100/(SUM($S11:$W11)+SUM($Y11:$Z11)) -> #DIV/0! | AJ11: =Y11*100/(SUM($S11:$W11)+SUM($Y11:$Z11)) -> #DIV/0! | AK11: =Z11*100/(SUM($S11:$W11)+SUM($Y11:$Z11)) -> #DIV/0! | AL11: =SUM(AD11:AK11) -> #DIV/0!
A12: 45.3-32 | B12: -5 | C12: 0 | D12: =(C12/SUM($C$7:$C$33))*100 -> 0 | E12: =SUM(D6:D12) -> 0 | G12: =B12 -> -5 | H12: 0 | I12: 0 | J12: 0 | K12: 0 | L12: 0 | M12: 0 | N12: 0 | O12: 0 | P12: =SUM(H12:O12) -> 0 | R12: =G12 -> -5 | S12: =100*H12/$P12 -> #DIV/0! | T12: =100*I12/$P12 -> #DIV/0! | U12: =100*J12/$P12 -> #DIV/0! | V12: =100*K12/$P12 -> #DIV/0! | W12: =100*L12/$P12 -> #DIV/0! | X12: =100*M12/$P12 -> #DIV/0! | Y12: =100*N12/$P12 -> #DIV/0! | Z12: =100*O12/$P12 -> #DIV/0! | AA12: =SUM(S12:Z12) -> #DIV/0! | AC12: =R12 -> -5 | AD12: =S12*100/(SUM($S12:$W12)+SUM($Y12:$Z12)) -> #DIV/0! | AE12: =T12*100/(SUM($S12:$W12)+SUM($Y12:$Z12)) -> #DIV/0! | AF12: =U12*100/(SUM($S12:$W12)+SUM($Y12:$Z12)) -> #DIV/0! | AG12: =V12*100/(SUM($S12:$W12)+SUM($Y12:$Z12)) -> #DIV/0! | AH12: =W12*100/(SUM($S12:$W12)+SUM($Y12:$Z12)) -> #DIV/0! | AI12: =X12*100/(SUM($S12:$W12)+SUM($Y12:$Z12)) -> #DIV/0! | AJ12: =Y12*100/(SUM($S12:$W12)+SUM($Y12:$Z12)) -> #DIV/0! | AK12: =Z12*100/(SUM($S12:$W12)+SUM($Y12:$Z12)) -> #DIV/0! | AL12: =SUM(AD12:AK12) -> #DIV/0!
A13: 32-22.6 | B13: -4.5 | C13: 4.92 | D13: =(C13/SUM($C$7:$C$33))*100 -> 0.92084823 | E13: =SUM(D7:D13) -> 0.92084823 | G13: =B13 -> -4.5 | H13: 0 | I13: 0 | J13: 0 | K13: 0 | L13: 0 | M13: 4.92 | N13: 0 | O13: 0 | P13: =SUM(H13:O13) -> 4.92 | R13: =G13 -> -4.5 | S13: =100*H13/$P13 -> 0 | T13: =100*I13/$P13 -> 0 | U13: =100*J13/$P13 -> 0 | V13: =100*K13/$P13 -> 0 | W13: =100*L13/$P13 -> 0 | X13: =100*M13/$P13 -> 100 | Y13: =100*N13/$P13 -> 0 | Z13: =100*O13/$P13 -> 0 | AA13: =SUM(S13:Z13) -> 100 | AC13: =R13 -> -4.5 | AD13: =S13*100/(SUM($S13:$W13)+SUM($Y13:$Z13)) -> #DIV/0! | AE13: =T13*100/(SUM($S13:$W13)+SUM($Y13:$Z13)) -> #DIV/0! | AF13: =U13*100/(SUM($S13:$W13)+SUM($Y13:$Z13)) -> #DIV/0! | AG13: =V13*100/(SUM($S13:$W13)+SUM($Y13:$Z13)) -> #DIV/0! | AH13: =W13*100/(SUM($S13:$W13)+SUM($Y13:$Z13)) -> #DIV/0! | AI13: =X13*100/(SUM($S13:$W13)+SUM($Y13:$Z13)) -> #DIV/0! | AJ13: =Y13*100/(SUM($S13:$W13)+SUM($Y13:$Z13)) -> #DIV/0! | AK13: =Z13*100/(SUM($S13:$W13)+SUM($Y13:$Z13)) -> #DIV/0! | AL13: =SUM(AD13:AK13) -> #DIV/0!
A14: 22,6-16 | B14: -4 | C14: 6.63 | D14: =(C14/SUM($C$7:$C$33))*100 -> 1.2408991 | E14: =SUM(D8:D14) -> 2.1617474 | G14: =B14 -> -4 | H14: 0 | I14: 0 | J14: 0 | K14: 0 | L14: 0 | M14: 6.63 | N14: 0 | O14: 0 | P14: =SUM(H14:O14) -> 6.63 | R14: =G14 -> -4 | S14: =100*H14/$P14 -> 0 | T14: =100*I14/$P14 -> 0 | U14: =100*J14/$P14 -> 0 | V14: =100*K14/$P14 -> 0 | W14: =100*L14/$P14 -> 0 | X14: =100*M14/$P14 -> 100 | Y14: =100*N14/$P14 -> 0 | Z14: =100*O14/$P14 -> 0 | AA14: =SUM(S14:Z14) -> 100 | AC14: =R14 -> -4 | AD14: =S14*100/(SUM($S14:$W14)+SUM($Y14:$Z14)) -> #DIV/0! | AE14: =T14*100/(SUM($S14:$W14)+SUM($Y14:$Z14)) -> #DIV/0! | AF14: =U14*100/(SUM($S14:$W14)+SUM($Y14:$Z14)) -> #DIV/0! | AG14: =V14*100/(SUM($S14:$W14)+SUM($Y14:$Z14)) -> #DIV/0! | AH14: =W14*100/(SUM($S14:$W14)+SUM($Y14:$Z14)) -> #DIV/0! | AI14: =X14*100/(SUM($S14:$W14)+SUM($Y14:$Z14)) -> #DIV/0! | AJ14: =Y14*100/(SUM($S14:$W14)+SUM($Y14:$Z14)) -> #DIV/0! | AK14: =Z14*100/(SUM($S14:$W14)+SUM($Y14:$Z14)) -> #DIV/0! | AL14: =SUM(AD14:AK14) -> #DIV/0!
A15: 16-11.3 | B15: -3.5 | C15: 5.14 | D15: =(C15/SUM($C$7:$C$33))*100 -> 0.96202437 | E15: =SUM(D6:D15) -> 3.1237717 | G15: =B15 -> -3.5 | H15: 0 | I15: 0 | J15: 0 | K15: 0 | L15: 0 | M15: 5.14 | N15: 0 | O15: 0 | P15: =SUM(H15:O15) -> 5.14 | R15: =G15 -> -3.5 | S15: =100*H15/$P15 -> 0 | T15: =100*I15/$P15 -> 0 | U15: =100*J15/$P15 -> 0 | V15: =100*K15/$P15 -> 0 | W15: =100*L15/$P15 -> 0 | X15: =100*M15/$P15 -> 100 | Y15: =100*N15/$P15 -> 0 | Z15: =100*O15/$P15 -> 0 | AA15: =SUM(S15:Z15) -> 100 | AC15: =R15 -> -3.5 | AD15: =S15*100/(SUM($S15:$W15)+SUM($Y15:$Z15)) -> #DIV/0! | AE15: =T15*100/(SUM($S15:$W15)+SUM($Y15:$Z15)) -> #DIV/0! | AF15: =U15*100/(SUM($S15:$W15)+SUM($Y15:$Z15)) -> #DIV/0! | AG15: =V15*100/(SUM($S15:$W15)+SUM($Y15:$Z15)) -> #DIV/0! | AH15: =W15*100/(SUM($S15:$W15)+SUM($Y15:$Z15)) -> #DIV/0! | AI15: 0 | AJ15: =Y15*100/(SUM($S15:$W15)+SUM($Y15:$Z15)) -> #DIV/0! | AK15: =Z15*100/(SUM($S15:$W15)+SUM($Y15:$Z15)) -> #DIV/0! | AL15: =SUM(AD15:AK15) -> #DIV/0!
A16: 11.3-8 | B16: -3 | C16: 13.6 | D16: =(C16/SUM($C$7:$C$33))*100 -> 2.5454341 | E16: =SUM(D6:D16) -> 5.6692059 | G16: =B16 -> -3 | H16: 0.76 | I16: 0 | J16: 0 | K16: 0 | L16: 0 | M16: 12.84 | N16: 0 | O16: 0 | P16: =SUM(H16:O16) -> 13.6 | R16: =G16 -> -3 | S16: =100*H16/$P16 -> 5.5882353 | T16: =100*I16/$P16 -> 0 | U16: =100*J16/$P16 -> 0 | V16: =100*K16/$P16 -> 0 | W16: =100*L16/$P16 -> 0 | X16: =100*M16/$P16 -> 94.411765 | Y16: =100*N16/$P16 -> 0 | Z16: =100*O16/$P16 -> 0 | AA16: =SUM(S16:Z16) -> 100 | AC16: =R16 -> -3 | AD16: =S16*100/(SUM($S16:$W16)+SUM($Y16:$Z16)) -> 100 | AE16: =T16*100/(SUM($S16:$W16)+SUM($Y16:$Z16)) -> 0 | AF16: =U16*100/(SUM($S16:$W16)+SUM($Y16:$Z16)) -> 0 | AG16: =V16*100/(SUM($S16:$W16)+SUM($Y16:$Z16)) -> 0 | AH16: =W16*100/(SUM($S16:$W16)+SUM($Y16:$Z16)) -> 0 | AI16: 0 | AJ16: =Y16*100/(SUM($S16:$W16)+SUM($Y16:$Z16)) -> 0 | AK16: =Z16*100/(SUM($S16:$W16)+SUM($Y16:$Z16)) -> 0 | AL16: =SUM(AD16:AK16) -> 100
A17: 8-5,66 | B17: -2.5 | C17: 30.42 | D17: =(C17/SUM($C$7:$C$33))*100 -> 5.6935372 | E17: =SUM(D6:D17) -> 11.362743 | G17: =B17 -> -2.5 | H17: 6.19 | I17: 0.64 | J17: 0 | K17: 0 | L17: 1.32 | M17: 22.27 | N17: 0 | O17: 0 | P17: =SUM(H17:O17) -> 30.42 | R17: =G17 -> -2.5 | S17: =100*H17/$P17 -> 20.348455 | T17: =100*I17/$P17 -> 2.103879 | U17: =100*J17/$P17 -> 0 | V17: =100*K17/$P17 -> 0 | W17: =100*L17/$P17 -> 4.3392505 | X17: =100*M17/$P17 -> 73.208416 | Y17: =100*N17/$P17 -> 0 | Z17: =100*O17/$P17 -> 0 | AA17: =SUM(S17:Z17) -> 100 | AC17: =R17 -> -2.5 | AD17: =S17*100/(SUM($S17:$W17)+SUM($Y17:$Z17)) -> 75.95092 | AE17: =T17*100/(SUM($S17:$W17)+SUM($Y17:$Z17)) -> 7.8527607 | AF17: =U17*100/(SUM($S17:$W17)+SUM($Y17:$Z17)) -> 0 | AG17: =V17*100/(SUM($S17:$W17)+SUM($Y17:$Z17)) -> 0 | AH17: =W17*100/(SUM($S17:$W17)+SUM($Y17:$Z17)) -> 16.196319 | AI17: 0 | AJ17: =Y17*100/(SUM($S17:$W17)+SUM($Y17:$Z17)) -> 0 | AK17: =Z17*100/(SUM($S17:$W17)+SUM($Y17:$Z17)) -> 0 | AL17: =SUM(AD17:AK17) -> 100
A18: 5,66-4 | B18: -2 | C18: 66.87 | D18: =(C18/SUM($C$7:$C$33))*100 -> 12.515675 | E18: =SUM(D6:D18) -> 23.878418 | G18: =B18 -> -2 | H18: 6.09 | I18: 0.33 | J18: 0 | K18: 0 | L18: 0.29 | M18: 60.16 | N18: 0 | O18: 0 | P18: =SUM(H18:O18) -> 66.87 | R18: =G18 -> -2 | S18: =100*H18/$P18 -> 9.107223 | T18: =100*I18/$P18 -> 0.49349484 | U18: =100*J18/$P18 -> 0 | V18: =100*K18/$P18 -> 0 | W18: =100*L18/$P18 -> 0.43367728 | X18: =100*M18/$P18 -> 89.965605 | Y18: =100*N18/$P18 -> 0 | Z18: =100*O18/$P18 -> 0 | AA18: =SUM(S18:Z18) -> 100 | AC18: =R18 -> -2 | AD18: =S18*100/(SUM($S18:$W18)+SUM($Y18:$Z18)) -> 90.76006 | AE18: =T18*100/(SUM($S18:$W18)+SUM($Y18:$Z18)) -> 4.9180328 | AF18: =U18*100/(SUM($S18:$W18)+SUM($Y18:$Z18)) -> 0 | AG18: =V18*100/(SUM($S18:$W18)+SUM($Y18:$Z18)) -> 0 | AH18: =W18*100/(SUM($S18:$W18)+SUM($Y18:$Z18)) -> 4.3219076 | AI18: 0 | AJ18: =Y18*100/(SUM($S18:$W18)+SUM($Y18:$Z18)) -> 0 | AK18: =Z18*100/(SUM($S18:$W18)+SUM($Y18:$Z18)) -> 0 | AL18: =SUM(AD18:AK18) -> 100
A19: 4000 - 2800 | B19: -1.5 | C19: 77.44 | D19: =(C19/SUM($C$7:$C$33))*100 -> 14.494001 | E19: =SUM(D6:D19) -> 38.372419 | G19: =B19 -> -1.5 | H19: 6.42 | I19: 1.27 | J19: 0 | K19: 0 | L19: 0.16 | M19: 69.59 | N19: 0 | O19: 0 | P19: =SUM(H19:O19) -> 77.44 | R19: =G19 -> -1.5 | S19: =100*H19/$P19 -> 8.2902893 | T19: =100*I19/$P19 -> 1.6399793 | U19: =100*J19/$P19 -> 0 | V19: =100*K19/$P19 -> 0 | W19: =100*L19/$P19 -> 0.20661157 | X19: =100*M19/$P19 -> 89.86312 | Y19: =100*N19/$P19 -> 0 | Z19: =100*O19/$P19 -> 0 | AA19: =SUM(S19:Z19) -> 100 | AC19: =R19 -> -1.5 | AD19: =S19*100/(SUM($S19:$W19)+SUM($Y19:$Z19)) -> 81.783439 | AE19: =T19*100/(SUM($S19:$W19)+SUM($Y19:$Z19)) -> 16.178344 | AF19: =U19*100/(SUM($S19:$W19)+SUM($Y19:$Z19)) -> 0 | AG19: =V19*100/(SUM($S19:$W19)+SUM($Y19:$Z19)) -> 0 | AH19: =W19*100/(SUM($S19:$W19)+SUM($Y19:$Z19)) -> 2.0382166 | AI19: 0 | AJ19: =Y19*100/(SUM($S19:$W19)+SUM($Y19:$Z19)) -> 0 | AK19: =Z19*100/(SUM($S19:$W19)+SUM($Y19:$Z19)) -> 0 | AL19: =SUM(AD19:AK19) -> 100
A20: 2800 - 2000 | B20: -1 | C20: 63.84 | D20: =(C20/SUM($C$7:$C$33))*100 -> 11.948567 | E20: =SUM(D6:D20) -> 50.320987 | G20: =B20 -> -1 | H20: 5.05 | I20: 0.2 | J20: 0 | K20: 0 | L20: 0.28 | M20: 58.31 | N20: 0 | O20: 0 | P20: =SUM(H20:O20) -> 63.84 | R20: =G20 -> -1 | S20: =100*H20/$P20 -> 7.910401 | T20: =100*I20/$P20 -> 0.31328321 | U20: =100*J20/$P20 -> 0 | V20: =100*K20/$P20 -> 0 | W20: =100*L20/$P20 -> 0.43859649 | X20: =100*M20/$P20 -> 91.337719 | Y20: =100*N20/$P20 -> 0 | Z20: =100*O20/$P20 -> 0 | AA20: =SUM(S20:Z20) -> 100 | AC20: =R20 -> -1 | AD20: =S20*100/(SUM($S20:$W20)+SUM($Y20:$Z20)) -> 91.320072 | AE20: =T20*100/(SUM($S20:$W20)+SUM($Y20:$Z20)) -> 3.6166365 | AF20: =U20*100/(SUM($S20:$W20)+SUM($Y20:$Z20)) -> 0 | AG20: =V20*100/(SUM($S20:$W20)+SUM($Y20:$Z20)) -> 0 | AH20: =W20*100/(SUM($S20:$W20)+SUM($Y20:$Z20)) -> 5.0632911 | AI20: 0 | AJ20: =Y20*100/(SUM($S20:$W20)+SUM($Y20:$Z20)) -> 0 | AK20: =Z20*100/(SUM($S20:$W20)+SUM($Y20:$Z20)) -> 0 | AL20: =SUM(AD20:AK20) -> 100
A21: 2000-1400 | B21: -0.5 | C21: 52.17 | D21: =(C21/SUM($C$7:$C$33))*100 -> 9.7643602 | E21: =SUM(D6:D21) -> 60.085347 | G21: =B21 -> -0.5 | H21: 13.62 | I21: 0.48 | J21: 0 | K21: 0 | L21: 0.3 | M21: 37.61 | N21: =0.08*2 -> 0.16 | O21: 0 | P21: =SUM(H21:O21) -> 52.17 | R21: =G21 -> -0.5 | S21: =100*H21/$P21 -> 26.106958 | T21: =100*I21/$P21 -> 0.92006901 | U21: =100*J21/$P21 -> 0 | V21: =100*K21/$P21 -> 0 | W21: =100*L21/$P21 -> 0.57504313 | X21: =100*M21/$P21 -> 72.09124 | Y21: =100*N21/$P21 -> 0.30668967 | Z21: =100*O21/$P21 -> 0 | AA21: =SUM(S21:Z21) -> 100 | AC21: =R21 -> -0.5 | AD21: =S21*100/(SUM($S21:$W21)+SUM($Y21:$Z21)) -> 93.543956 | AE21: =T21*100/(SUM($S21:$W21)+SUM($Y21:$Z21)) -> 3.2967033 | AF21: =U21*100/(SUM($S21:$W21)+SUM($Y21:$Z21)) -> 0 | AG21: =V21*100/(SUM($S21:$W21)+SUM($Y21:$Z21)) -> 0 | AH21: =W21*100/(SUM($S21:$W21)+SUM($Y21:$Z21)) -> 2.0604396 | AI21: 0 | AJ21: =Y21*100/(SUM($S21:$W21)+SUM($Y21:$Z21)) -> 1.0989011 | AK21: =Z21*100/(SUM($S21:$W21)+SUM($Y21:$Z21)) -> 0 | AL21: =SUM(AD21:AK21) -> 100
A22: 1400 - 1000 | B22: 0 | C22: 37.55 | D22: =(C22/SUM($C$7:$C$33))*100 -> 7.0280185 | E22: =SUM(D6:D22) -> 67.113365 | G22: =B22 -> 0 | H22: 0 | I22: 0 | J22: 0 | K22: 0 | L22: 0 | M22: 0 | N22: 0 | O22: 0 | P22: =SUM(H22:O22) -> 0 | R22: =G22 -> 0 | S22: =100*H22/$P22 -> #DIV/0! | T22: =100*I22/$P22 -> #DIV/0! | U22: =100*J22/$P22 -> #DIV/0! | V22: =100*K22/$P22 -> #DIV/0! | W22: =100*L22/$P22 -> #DIV/0! | X22: =100*M22/$P22 -> #DIV/0! | Y22: =100*N22/$P22 -> #DIV/0! | Z22: =100*O22/$P22 -> #DIV/0! | AA22: =SUM(S22:Z22) -> #DIV/0! | AC22: =R22 -> 0 | AD22: =S22*100/(SUM($S22:$W22)+SUM($Y22:$Z22)) -> #DIV/0! | AE22: =T22*100/(SUM($S22:$W22)+SUM($Y22:$Z22)) -> #DIV/0! | AF22: =U22*100/(SUM($S22:$W22)+SUM($Y22:$Z22)) -> #DIV/0! | AG22: =V22*100/(SUM($S22:$W22)+SUM($Y22:$Z22)) -> #DIV/0! | AH22: =W22*100/(SUM($S22:$W22)+SUM($Y22:$Z22)) -> #DIV/0! | AI22: =X22*100/(SUM($S22:$W22)+SUM($Y22:$Z22)) -> #DIV/0! | AJ22: =Y22*100/(SUM($S22:$W22)+SUM($Y22:$Z22)) -> #DIV/0! | AK22: =Z22*100/(SUM($S22:$W22)+SUM($Y22:$Z22)) -> #DIV/0! | AL22: =SUM(AD22:AK22) -> #DIV/0!
A23: 1000-710 | B23: 0.5 | C23: 30.85 | D23: =(C23/SUM($C$7:$C$33))*100 -> 5.7740179 | E23: =SUM(D6:D23) -> 72.887383 | G23: =B23 -> 0.5 | H23: 0 | I23: 0 | J23: 0 | K23: 0 | L23: 0 | M23: 0 | N23: 0 | O23: 0 | P23: =SUM(H23:O23) -> 0 | R23: =G23 -> 0.5 | S23: =100*H23/$P23 -> #DIV/0! | T23: =100*I23/$P23 -> #DIV/0! | U23: =100*J23/$P23 -> #DIV/0! | V23: =100*K23/$P23 -> #DIV/0! | W23: =100*L23/$P23 -> #DIV/0! | X23: =100*M23/$P23 -> #DIV/0! | Y23: =100*N23/$P23 -> #DIV/0! | Z23: =100*O23/$P23 -> #DIV/0! | AA23: =SUM(S23:Z23) -> #DIV/0! | AC23: =R23 -> 0.5 | AD23: =S23*100/(SUM($S23:$W23)+SUM($Y23:$Z23)) -> #DIV/0! | AE23: =T23*100/(SUM($S23:$W23)+SUM($Y23:$Z23)) -> #DIV/0! | AF23: =U23*100/(SUM($S23:$W23)+SUM($Y23:$Z23)) -> #DIV/0! | AG23: =V23*100/(SUM($S23:$W23)+SUM($Y23:$Z23)) -> #DIV/0! | AH23: =W23*100/(SUM($S23:$W23)+SUM($Y23:$Z23)) -> #DIV/0! | AI23: =X23*100/(SUM($S23:$W23)+SUM($Y23:$Z23)) -> #DIV/0! | AJ23: =Y23*100/(SUM($S23:$W23)+SUM($Y23:$Z23)) -> #DIV/0! | AK23: =Z23*100/(SUM($S23:$W23)+SUM($Y23:$Z23)) -> #DIV/0! | AL23: =SUM(AD23:AK23) -> #DIV/0!
A24: 710-500 | B24: 1 | C24: 22.93 | D24: =(C24/SUM($C$7:$C$33))*100 -> 4.2916768 | E24: =SUM(D6:D24) -> 77.17906 | G24: =B24 -> 1 | H24: 0 | I24: 0 | J24: 0 | K24: 0 | L24: 0 | M24: 0 | N24: 0 | O24: 0 | P24: =SUM(H24:O24) -> 0 | R24: =G24 -> 1 | S24: =100*H24/$P24 -> #DIV/0! | T24: =100*I24/$P24 -> #DIV/0! | U24: =100*J24/$P24 -> #DIV/0! | V24: =100*K24/$P24 -> #DIV/0! | W24: =100*L24/$P24 -> #DIV/0! | X24: =100*M24/$P24 -> #DIV/0! | Y24: =100*N24/$P24 -> #DIV/0! | Z24: =100*O24/$P24 -> #DIV/0! | AA24: =SUM(S24:Z24) -> #DIV/0! | AC24: =R24 -> 1 | AD24: =S24*100/(SUM($S24:$W24)+SUM($Y24:$Z24)) -> #DIV/0! | AE24: =T24*100/(SUM($S24:$W24)+SUM($Y24:$Z24)) -> #DIV/0! | AF24: =U24*100/(SUM($S24:$W24)+SUM($Y24:$Z24)) -> #DIV/0! | AG24: =V24*100/(SUM($S24:$W24)+SUM($Y24:$Z24)) -> #DIV/0! | AH24: =W24*100/(SUM($S24:$W24)+SUM($Y24:$Z24)) -> #DIV/0! | AI24: =X24*100/(SUM($S24:$W24)+SUM($Y24:$Z24)) -> #DIV/0! | AJ24: =Y24*100/(SUM($S24:$W24)+SUM($Y24:$Z24)) -> #DIV/0! | AK24: =Z24*100/(SUM($S24:$W24)+SUM($Y24:$Z24)) -> #DIV/0! | AL24: =SUM(AD24:AK24) -> #DIV/0!
A25: 500-355 | B25: 1.5 | C25: 20.43 | D25: =(C25/SUM($C$7:$C$33))*100 -> 3.8237661 | E25: =SUM(D6:D25) -> 81.002826 | G25: =B25 -> 1.5 | H25: 0 | I25: 0 | J25: 0 | K25: 0 | L25: 0 | M25: 0 | N25: 0 | O25: 0 | P25: =SUM(H25:O25) -> 0 | R25: =G25 -> 1.5 | S25: =100*H25/$P25 -> #DIV/0! | T25: =100*I25/$P25 -> #DIV/0! | U25: =100*J25/$P25 -> #DIV/0! | V25: =100*K25/$P25 -> #DIV/0! | W25: =100*L25/$P25 -> #DIV/0! | X25: =100*M25/$P25 -> #DIV/0! | Y25: =100*N25/$P25 -> #DIV/0! | Z25: =100*O25/$P25 -> #DIV/0! | AA25: =SUM(S25:Z25) -> #DIV/0! | AC25: =R25 -> 1.5 | AD25: =S25*100/(SUM($S25:$W25)+SUM($Y25:$Z25)) -> #DIV/0! | AE25: =T25*100/(SUM($S25:$W25)+SUM($Y25:$Z25)) -> #DIV/0! | AF25: =U25*100/(SUM($S25:$W25)+SUM($Y25:$Z25)) -> #DIV/0! | AG25: =V25*100/(SUM($S25:$W25)+SUM($Y25:$Z25)) -> #DIV/0! | AH25: =W25*100/(SUM($S25:$W25)+SUM($Y25:$Z25)) -> #DIV/0! | AI25: =X25*100/(SUM($S25:$W25)+SUM($Y25:$Z25)) -> #DIV/0! | AJ25: =Y25*100/(SUM($S25:$W25)+SUM($Y25:$Z25)) -> #DIV/0! | AK25: =Z25*100/(SUM($S25:$W25)+SUM($Y25:$Z25)) -> #DIV/0! | AL25: =SUM(AD25:AK25) -> #DIV/0!
A26: 355 - 250 | B26: 2 | C26: 16.95 | D26: =(C26/SUM($C$7:$C$33))*100 -> 3.1724344 | E26: =SUM(D6:D26) -> 84.175261 | G26: =B26 -> 2 | H26: 0 | I26: 0 | J26: 0 | K26: 0 | L26: 0 | M26: 0 | N26: 0 | O26: 0 | P26: =SUM(H26:O26) -> 0 | R26: =G26 -> 2 | S26: =100*H26/$P26 -> #DIV/0! | T26: =100*I26/$P26 -> #DIV/0! | U26: =100*J26/$P26 -> #DIV/0! | V26: =100*K26/$P26 -> #DIV/0! | W26: =100*L26/$P26 -> #DIV/0! | X26: =100*M26/$P26 -> #DIV/0! | Y26: =100*N26/$P26 -> #DIV/0! | Z26: =100*O26/$P26 -> #DIV/0! | AA26: =SUM(S26:Z26) -> #DIV/0! | AC26: =R26 -> 2 | AD26: =S26*100/(SUM($S26:$W26)+SUM($Y26:$Z26)) -> #DIV/0! | AE26: =T26*100/(SUM($S26:$W26)+SUM($Y26:$Z26)) -> #DIV/0! | AF26: =U26*100/(SUM($S26:$W26)+SUM($Y26:$Z26)) -> #DIV/0! | AG26: =V26*100/(SUM($S26:$W26)+SUM($Y26:$Z26)) -> #DIV/0! | AH26: =W26*100/(SUM($S26:$W26)+SUM($Y26:$Z26)) -> #DIV/0! | AI26: =X26*100/(SUM($S26:$W26)+SUM($Y26:$Z26)) -> #DIV/0! | AJ26: =Y26*100/(SUM($S26:$W26)+SUM($Y26:$Z26)) -> #DIV/0! | AK26: =Z26*100/(SUM($S26:$W26)+SUM($Y26:$Z26)) -> #DIV/0! | AL26: =SUM(AD26:AK26) -> #DIV/0!
A27: 250-180 | B27: 2.5 | C27: 21.53 | D27: =(C27/SUM($C$7:$C$33))*100 -> 4.0296468 | E27: =SUM(D7:D27) -> 88.204907 | G27: =B27 -> 2.5 | H27: 0 | I27: 0 | J27: 0 | K27: 0 | L27: 0 | M27: 0 | N27: 0 | O27: 0 | P27: =SUM(H27:O27) -> 0 | R27: =G27 -> 2.5 | S27: =100*H27/$P27 -> #DIV/0! | T27: =100*I27/$P27 -> #DIV/0! | U27: =100*J27/$P27 -> #DIV/0! | V27: =100*K27/$P27 -> #DIV/0! | W27: =100*L27/$P27 -> #DIV/0! | X27: =100*M27/$P27 -> #DIV/0! | Y27: =100*N27/$P27 -> #DIV/0! | Z27: =100*O27/$P27 -> #DIV/0! | AA27: =SUM(S27:Z27) -> #DIV/0! | AC27: =R27 -> 2.5 | AD27: =S27*100/(SUM($S27:$W27)+SUM($Y27:$Z27)) -> #DIV/0! | AE27: =T27*100/(SUM($S27:$W27)+SUM($Y27:$Z27)) -> #DIV/0! | AF27: =U27*100/(SUM($S27:$W27)+SUM($Y27:$Z27)) -> #DIV/0! | AG27: =V27*100/(SUM($S27:$W27)+SUM($Y27:$Z27)) -> #DIV/0! | AH27: =W27*100/(SUM($S27:$W27)+SUM($Y27:$Z27)) -> #DIV/0! | AI27: =X27*100/(SUM($S27:$W27)+SUM($Y27:$Z27)) -> #DIV/0! | AJ27: =Y27*100/(SUM($S27:$W27)+SUM($Y27:$Z27)) -> #DIV/0! | AK27: =Z27*100/(SUM($S27:$W27)+SUM($Y27:$Z27)) -> #DIV/0! | AL27: =SUM(AD27:AK27) -> #DIV/0!
A28: 180 - 125 | B28: 3 | C28: 12.36 | D28: =(C28/SUM($C$7:$C$33))*100 -> 2.3133504 | E28: =SUM(D7:D28) -> 90.518258 | G28: =B28 -> 3 | H28: 0 | I28: 0 | J28: 0 | K28: 0 | L28: 0 | M28: 0 | N28: 0 | O28: 0 | P28: =SUM(H28:O28) -> 0 | R28: =G28 -> 3 | S28: =100*H28/$P28 -> #DIV/0! | T28: =100*I28/$P28 -> #DIV/0! | U28: =100*J28/$P28 -> #DIV/0! | V28: =100*K28/$P28 -> #DIV/0! | W28: =100*L28/$P28 -> #DIV/0! | X28: =100*M28/$P28 -> #DIV/0! | Y28: =100*N28/$P28 -> #DIV/0! | Z28: =100*O28/$P28 -> #DIV/0! | AA28: =SUM(S28:Z28) -> #DIV/0! | AC28: =R28 -> 3 | AD28: =S28*100/(SUM($S28:$W28)+SUM($Y28:$Z28)) -> #DIV/0! | AE28: =T28*100/(SUM($S28:$W28)+SUM($Y28:$Z28)) -> #DIV/0! | AF28: =U28*100/(SUM($S28:$W28)+SUM($Y28:$Z28)) -> #DIV/0! | AG28: =V28*100/(SUM($S28:$W28)+SUM($Y28:$Z28)) -> #DIV/0! | AH28: =W28*100/(SUM($S28:$W28)+SUM($Y28:$Z28)) -> #DIV/0! | AI28: =X28*100/(SUM($S28:$W28)+SUM($Y28:$Z28)) -> #DIV/0! | AJ28: =Y28*100/(SUM($S28:$W28)+SUM($Y28:$Z28)) -> #DIV/0! | AK28: =Z28*100/(SUM($S28:$W28)+SUM($Y28:$Z28)) -> #DIV/0! | AL28: =SUM(AD28:AK28) -> #DIV/0!
A29: 125-90 | B29: 3.5 | C29: 16.48 | D29: =(C29/SUM($C$7:$C$33))*100 -> 3.0844672 | E29: =SUM(D7:D29) -> 93.602725 | G29: =B29 -> 3.5 | H29: 0 | I29: 0 | J29: 0 | K29: 0 | L29: 0 | M29: 0 | N29: 0 | O29: 0 | P29: =SUM(H29:O29) -> 0 | R29: =G29 -> 3.5 | S29: =100*H29/$P29 -> #DIV/0! | T29: =100*I29/$P29 -> #DIV/0! | U29: =100*J29/$P29 -> #DIV/0! | V29: =100*K29/$P29 -> #DIV/0! | W29: =100*L29/$P29 -> #DIV/0! | X29: =100*M29/$P29 -> #DIV/0! | Y29: =100*N29/$P29 -> #DIV/0! | Z29: =100*O29/$P29 -> #DIV/0! | AA29: =SUM(S29:Z29) -> #DIV/0! | AC29: =R29 -> 3.5 | AD29: =S29*100/(SUM($S29:$W29)+SUM($Y29:$Z29)) -> #DIV/0! | AE29: =T29*100/(SUM($S29:$W29)+SUM($Y29:$Z29)) -> #DIV/0! | AF29: =U29*100/(SUM($S29:$W29)+SUM($Y29:$Z29)) -> #DIV/0! | AG29: =V29*100/(SUM($S29:$W29)+SUM($Y29:$Z29)) -> #DIV/0! | AH29: =W29*100/(SUM($S29:$W29)+SUM($Y29:$Z29)) -> #DIV/0! | AI29: =X29*100/(SUM($S29:$W29)+SUM($Y29:$Z29)) -> #DIV/0! | AJ29: =Y29*100/(SUM($S29:$W29)+SUM($Y29:$Z29)) -> #DIV/0! | AK29: =Z29*100/(SUM($S29:$W29)+SUM($Y29:$Z29)) -> #DIV/0! | AL29: =SUM(AD29:AK29) -> #DIV/0!
A30: 90 - 63 | B30: 4 | C30: 10.18 | D30: =(C30/SUM($C$7:$C$33))*100 -> 1.9053323 | E30: =SUM(D7:D30) -> 95.508057 | G30: =B30 -> 4 | H30: 0 | I30: 0 | J30: 0 | K30: 0 | L30: 0 | M30: 0 | N30: 0 | O30: 0 | P30: =SUM(H30:O30) -> 0 | R30: =G30 -> 4 | S30: =100*H30/$P30 -> #DIV/0! | T30: =100*I30/$P30 -> #DIV/0! | U30: =100*J30/$P30 -> #DIV/0! | V30: =100*K30/$P30 -> #DIV/0! | W30: =100*L30/$P30 -> #DIV/0! | X30: =100*M30/$P30 -> #DIV/0! | Y30: =100*N30/$P30 -> #DIV/0! | Z30: =100*O30/$P30 -> #DIV/0! | AA30: =SUM(S30:Z30) -> #DIV/0! | AC30: =R30 -> 4 | AD30: =S30*100/(SUM($S30:$W30)+SUM($Y30:$Z30)) -> #DIV/0! | AE30: =T30*100/(SUM($S30:$W30)+SUM($Y30:$Z30)) -> #DIV/0! | AF30: =U30*100/(SUM($S30:$W30)+SUM($Y30:$Z30)) -> #DIV/0! | AG30: =V30*100/(SUM($S30:$W30)+SUM($Y30:$Z30)) -> #DIV/0! | AH30: =W30*100/(SUM($S30:$W30)+SUM($Y30:$Z30)) -> #DIV/0! | AI30: =X30*100/(SUM($S30:$W30)+SUM($Y30:$Z30)) -> #DIV/0! | AJ30: =Y30*100/(SUM($S30:$W30)+SUM($Y30:$Z30)) -> #DIV/0! | AK30: =Z30*100/(SUM($S30:$W30)+SUM($Y30:$Z30)) -> #DIV/0! | AL30: =SUM(AD30:AK30) -> #DIV/0!
A31: 63 - 45 | B31: 4.5 | C31: 13.88 | D31: =(C31/SUM($C$7:$C$33))*100 -> 2.5978401 | E31: =SUM(D7:D31) -> 98.105898 | G31: =B31 -> 4.5 | H31: 0 | I31: 0 | J31: 0 | K31: 0 | L31: 0 | M31: 0 | N31: 0 | O31: 0 | P31: =SUM(H31:O31) -> 0 | R31: =G31 -> 4.5 | S31: =100*H31/$P31 -> #DIV/0! | T31: =100*I31/$P31 -> #DIV/0! | U31: =100*J31/$P31 -> #DIV/0! | V31: =100*K31/$P31 -> #DIV/0! | W31: =100*L31/$P31 -> #DIV/0! | X31: =100*M31/$P31 -> #DIV/0! | Y31: =100*N31/$P31 -> #DIV/0! | Z31: =100*O31/$P31 -> #DIV/0! | AA31: =SUM(S31:Z31) -> #DIV/0! | AC31: =R31 -> 4.5 | AD31: =S31*100/(SUM($S31:$W31)+SUM($Y31:$Z31)) -> #DIV/0! | AE31: =T31*100/(SUM($S31:$W31)+SUM($Y31:$Z31)) -> #DIV/0! | AF31: =U31*100/(SUM($S31:$W31)+SUM($Y31:$Z31)) -> #DIV/0! | AG31: =V31*100/(SUM($S31:$W31)+SUM($Y31:$Z31)) -> #DIV/0! | AH31: =W31*100/(SUM($S31:$W31)+SUM($Y31:$Z31)) -> #DIV/0! | AI31: =X31*100/(SUM($S31:$W31)+SUM($Y31:$Z31)) -> #DIV/0! | AJ31: =Y31*100/(SUM($S31:$W31)+SUM($Y31:$Z31)) -> #DIV/0! | AK31: =Z31*100/(SUM($S31:$W31)+SUM($Y31:$Z31)) -> #DIV/0! | AL31: =SUM(AD31:AK31) -> #DIV/0!
A32: 45 - 31 | B32: 5 | C32: 10.12 | D32: =(C32/SUM($C$7:$C$33))*100 -> 1.8941025 | E32: =SUM(D7:D32) -> 100 | G32: =B32 -> 5 | H32: 0 | I32: 0 | J32: 0 | K32: 0 | L32: 0 | M32: 0 | N32: 0 | O32: 0 | P32: =SUM(H32:O32) -> 0 | R32: =G32 -> 5 | S32: =100*H32/$P32 -> #DIV/0! | T32: =100*I32/$P32 -> #DIV/0! | U32: =100*J32/$P32 -> #DIV/0! | V32: =100*K32/$P32 -> #DIV/0! | W32: =100*L32/$P32 -> #DIV/0! | X32: =100*M32/$P32 -> #DIV/0! | Y32: =100*N32/$P32 -> #DIV/0! | Z32: =100*O32/$P32 -> #DIV/0! | AA32: =SUM(S32:Z32) -> #DIV/0! | AC32: =R32 -> 5 | AD32: =S32*100/(SUM($S32:$W32)+SUM($Y32:$Z32)) -> #DIV/0! | AE32: =T32*100/(SUM($S32:$W32)+SUM($Y32:$Z32)) -> #DIV/0! | AF32: =U32*100/(SUM($S32:$W32)+SUM($Y32:$Z32)) -> #DIV/0! | AG32: =V32*100/(SUM($S32:$W32)+SUM($Y32:$Z32)) -> #DIV/0! | AH32: =W32*100/(SUM($S32:$W32)+SUM($Y32:$Z32)) -> #DIV/0! | AI32: =X32*100/(SUM($S32:$W32)+SUM($Y32:$Z32)) -> #DIV/0! | AJ32: =Y32*100/(SUM($S32:$W32)+SUM($Y32:$Z32)) -> #DIV/0! | AK32: =Z32*100/(SUM($S32:$W32)+SUM($Y32:$Z32)) -> #DIV/0! | AL32: =SUM(AD32:AK32) -> #DIV/0!
A33: <32 | B33: >6 | C33: 0 | D33: =(C33/SUM($C$7:$C$33))*100 -> 0 | E33: =SUM(D7:D33) -> 100 | G33: =B33 -> >6 | H33: 0 | I33: 0 | J33: 0 | K33: 0 | L33: 0 | M33: 0 | N33: 0 | O33: 0 | P33: =SUM(H33:O33) -> 0 | R33: =G33 -> >6 | S33: =100*H33/$P33 -> #DIV/0! | T33: =100*I33/$P33 -> #DIV/0! | U33: =100*J33/$P33 -> #DIV/0! | V33: =100*K33/$P33 -> #DIV/0! | W33: =100*L33/$P33 -> #DIV/0! | X33: =100*M33/$P33 -> #DIV/0! | Y33: =100*N33/$P33 -> #DIV/0! | Z33: =100*O33/$P33 -> #DIV/0! | AA33: =SUM(S33:Z33) -> #DIV/0! | AC33: =R33 -> >6 | AD33: =S33*100/(SUM($S33:$W33)+SUM($Y33:$Z33)) -> #DIV/0! | AE33: =T33*100/(SUM($S33:$W33)+SUM($Y33:$Z33)) -> #DIV/0! | AF33: =U33*100/(SUM($S33:$W33)+SUM($Y33:$Z33)) -> #DIV/0! | AG33: =V33*100/(SUM($S33:$W33)+SUM($Y33:$Z33)) -> #DIV/0! | AH33: =W33*100/(SUM($S33:$W33)+SUM($Y33:$Z33)) -> #DIV/0! | AI33: =X33*100/(SUM($S33:$W33)+SUM($Y33:$Z33)) -> #DIV/0! | AJ33: =Y33*100/(SUM($S33:$W33)+SUM($Y33:$Z33)) -> #DIV/0! | AK33: =Z33*100/(SUM($S33:$W33)+SUM($Y33:$Z33)) -> #DIV/0! | AL33: =SUM(AD33:AK33) -> #DIV/0!
G34: total | H34: =SUM(H7:H33) -> 38.13 | I34: =SUM(I7:I33) -> 2.92 | J34: =SUM(J7:J33) -> 0 | K34: =SUM(K7:K33) -> 0 | L34: =SUM(L7:L33) -> 2.35 | M34: =SUM(M7:M33) -> 277.47 | N34: =SUM(N7:N33) -> 0.16 | O34: =SUM(O7:O33) -> 0
A67: Graphical Parameters
A68: (totale)
A69: Φ | B69: 5 | C69: =IFERROR((((INDEX(phi,MATCH(B69,cum_tot_2,1)+1,1)-INDEX(phi,MATCH(B69,cum_tot_2,1),1))/(INDEX(cum_tot_2,MATCH(B69,cum_tot_2,1)+1,1)-INDEX(cum_tot_2,MATCH(B69,cum_tot_2,1),1)))*(B69-INDEX(cum_tot_2,MATCH(B69,cum_tot_2,1),1)))+INDEX(phi,MATCH(B69,cum_tot_2,1),1),"6") -> -3.1314522
A70: Φ | B70: 16 | C70: =IFERROR((((INDEX(phi,MATCH(B70,cum_tot_2,1)+1,1)-INDEX(phi,MATCH(B70,cum_tot_2,1),1))/(INDEX(cum_tot_2,MATCH(B70,cum_tot_2,1)+1,1)-INDEX(cum_tot_2,MATCH(B70,cum_tot_2,1),1)))*(B70-INDEX(cum_tot_2,MATCH(B70,cum_tot_2,1),1)))+INDEX(phi,MATCH(B70,cum_tot_2,1),1),"6") -> -2.314742
A71: Φ | B71: 25 | C71: =IFERROR((((INDEX(phi,MATCH(B71,cum_tot_2,1)+1,1)-INDEX(phi,MATCH(B71,cum_tot_2,1),1))/(INDEX(cum_tot_2,MATCH(B71,cum_tot_2,1)+1,1)-INDEX(cum_tot_2,MATCH(B71,cum_tot_2,1),1)))*(B71-INDEX(cum_tot_2,MATCH(B71,cum_tot_2,1),1)))+INDEX(phi,MATCH(B71,cum_tot_2,1),1),"6") -> -1.9613088
A72: Φ | B72: 50 | C72: =IFERROR((((INDEX(phi,MATCH(B72,cum_tot_2,1)+1,1)-INDEX(phi,MATCH(B72,cum_tot_2,1),1))/(INDEX(cum_tot_2,MATCH(B72,cum_tot_2,1)+1,1)-INDEX(cum_tot_2,MATCH(B72,cum_tot_2,1),1)))*(B72-INDEX(cum_tot_2,MATCH(B72,cum_tot_2,1),1)))+INDEX(phi,MATCH(B72,cum_tot_2,1),1),"6") -> -1.013432
A73: Φ | B73: 75 | C73: =IFERROR((((INDEX(phi,MATCH(B73,cum_tot_2,1)+1,1)-INDEX(phi,MATCH(B73,cum_tot_2,1),1))/(INDEX(cum_tot_2,MATCH(B73,cum_tot_2,1)+1,1)-INDEX(cum_tot_2,MATCH(B73,cum_tot_2,1),1)))*(B73-INDEX(cum_tot_2,MATCH(B73,cum_tot_2,1),1)))+INDEX(phi,MATCH(B73,cum_tot_2,1),1),"6") -> 0.74612952
A74: Φ | B74: 84 | C74: =IFERROR((((INDEX(phi,MATCH(B74,cum_tot_2,1)+1,1)-INDEX(phi,MATCH(B74,cum_tot_2,1),1))/(INDEX(cum_tot_2,MATCH(B74,cum_tot_2,1)+1,1)-INDEX(cum_tot_2,MATCH(B74,cum_tot_2,1),1)))*(B74-INDEX(cum_tot_2,MATCH(B74,cum_tot_2,1),1)))+INDEX(phi,MATCH(B74,cum_tot_2,1),1),"6") -> 1.9723776
A75: Φ | B75: 95 | C75: =IFERROR((((INDEX(phi,MATCH(B75,cum_tot_2,1)+1,1)-INDEX(phi,MATCH(B75,cum_tot_2,1),1))/(INDEX(cum_tot_2,MATCH(B75,cum_tot_2,1)+1,1)-INDEX(cum_tot_2,MATCH(B75,cum_tot_2,1),1)))*(B75-INDEX(cum_tot_2,MATCH(B75,cum_tot_2,1),1)))+INDEX(phi,MATCH(B75,cum_tot_2,1),1),"6") -> 3.8666749
A77: Block and bombs | B77: =SUM(C7:C10)/SUM(C7:C33) -> 0 | D77: Lapilli (%) | E77: =SUM($D$7:$D$20) -> 50.320987
A78: Lapilli | B78: =SUM(C11:C20)/SUM(C7:C33) -> 0.50320987 | D78: Coarse ash (%) | E78: =SUM($D$21:$D$30) -> 45.187071
A79: Ash | B79: =SUM(C21:C33)/SUM(C7:C33) -> 0.49679013 | D79: Fine ash (%) | E79: =SUM($D$31:$D$33) -> 4.4919426
A81: Juvenile (%) | B81: =100*SUM(H7:J33)/SUM(P7:P33) -> 12.786967 | D81: Juvenile (%) | E81: =100*SUM(H7:J33)/SUM(P7:P33) -> 12.786967 | G81: Pumices (%) | H81: =100*SUM(H7:H33)/(SUM(P7:P33)-SUM(M7:N33)) -> 87.857143
A82: Lithics (%) | B82: =100*SUM(K7:L33)/SUM(P7:P33) -> 0.73201881 | D82: Lithics (%) | E82: =100*SUM(K7:L33)/SUM(P7:P33) -> 0.73201881 | G82: Dense Juvenile (%) | H82: =100*SUM(I7:J33)/(SUM(P7:P33)-SUM(M7:N33)) -> 6.7281106
A83: Crystals (%) | B83: =100*SUM(O7:O33)/SUM(P7:P33) -> 0 | D83: Mixed (%) | E83: =100*SUM(M7:N33)/SUM(P7:P33) -> 86.481014 | G83: Lithics (%) | H83: =100*SUM(K7:L33)/(SUM(P7:P33)-SUM(M7:N33)) -> 5.4147465
A85: Mz | D85: =(C70+C74+C72)/3 -> -0.45193216
A86: MdΦ (mean) = Φ50 | D86: =C72 -> -1.013432
A87: σΦ (sorting) = (Φ84- Φ16)/2 | D87: =(C74-C70)/2 -> 2.1435598
A88: aΦ (skewness) = (Φ84 + Φ16-Mdf)/σΦ | D88: =(C74+C70-D86)/D87 -> 0.31306221
A89: Inclusive graphic standard deviation = | D89: =((C74-C70)/4)+((C75-C69)/6.6) -> 2.1321022
A90: Inclusive graphic skewness = | D90: =((C70+C74-(2*C72))/(2*(C74-C70)))+((C69+C75-(2*C72))/(2*(C75-C69))) -> 0.39380524
A91: Graphic kurtosis = | D91: =(C74-C69)/(2.44*(C73-C71)) -> 0.7725877
A92: Graphic mean = | D92: =(C70+C72+C74)/3 -> -0.45193216
A94: Mean diameter MΦ (Φ16+Φ84)/2 | D94: =(C70+C74)/2 -> -0.17118223
A95: F1 | D95: =100-E23 -> 27.112617
A96: F2 | D96: =100-E30 -> 4.4919426
A98: Presence of mixed ? | C98: =IF(SUM(M7:N33)>0,"Mixed","No Mixed") -> Mixed
A99: Presence of obsidian ? | C99: =IF(SUM(J7:J33)>0,"Obsidian","No obsidian") -> No obsidian

Sheet MAY181215_9 aggr
A2: Grain size analysis of sample | D2: =RIGHT(CELL("nomfichier",A1),LEN(CELL("nomfichier",A1))-FIND("]",CELL("nomfichier",A1))) -> MAY181215_9 aggr | G2: Sample : | H2: =D2 -> MAY181215_9 aggr | K2: Location : Airport Beach
H3: Juveniles | K3: Lithics | U3: Juveniles | X3: Lithics | AF3: Juveniles | AI3: Lithics
A4: Total weight (g) | B4: 534.29 | G4: Grain size (phi) | H4: Pumices | I4: Dense juveniles | J4: Obsidian | K4: Coral fragments | L4: Mafic clasts | M4: Aggregate | N4: Charcoal | O4: Crystals | P4: Total | R4: aggregate wt% | T4: =G4 -> Grain size (phi) | U4: =H4 -> Pumices | V4: =I4 -> Dense juveniles | W4: =J4 -> Obsidian | X4: =K4 -> Coral fragments | Y4: =L4 -> Mafic clasts | Z4: =M4 -> Aggregate | AA4: =N4 -> Charcoal | AB4: =O4 -> Crystals | AC4: Total | AE4: =T4 -> Grain size (phi) | AF4: =U4 -> Pumices | AG4: =V4 -> Dense juveniles | AH4: =W4 -> Obsidian | AI4: =X4 -> Coral fragments | AJ4: =Y4 -> Mafic clasts | AK4: =Z4 -> Aggregate | AL4: =AA4 -> Charcoal | AM4: =AB4 -> Crystals | AN4: Total
A5: Diameters (mm/μ) | B5: F | C5: Wt | D5: % Wt | E5: %Cum
A7: 256-181 | B7: -7.5 | C7: 0 | D7: =(C7/B$4)*100 -> 0 | E7: 0 | G7: =B7 -> -7.5 | H7: 0 | I7: 0 | J7: 0 | K7: 0 | L7: 0 | M7: 0 | N7: 0 | O7: 0 | P7: =SUM(H7:O7) -> 0 | R7: =100*(M7/B$4) -> 0 | T7: =G7 -> -7.5 | U7: =100*H7/$P7 -> #DIV/0! | V7: =100*I7/$P7 -> #DIV/0! | W7: =100*J7/$P7 -> #DIV/0! | X7: =100*K7/$P7 -> #DIV/0! | Y7: =100*L7/$P7 -> #DIV/0! | Z7: =100*M7/$P7 -> #DIV/0! | AA7: =100*N7/$P7 -> #DIV/0! | AB7: =100*O7/$P7 -> #DIV/0! | AC7: =SUM(U7:AB7) -> #DIV/0! | AE7: =T7 -> -7.5 | AF7: =U7*100/(SUM($U7:$Y7)+SUM($AA7:$AB7)) -> #DIV/0! | AG7: =V7*100/(SUM($U7:$Y7)+SUM($AA7:$AB7)) -> #DIV/0! | AH7: =W7*100/(SUM($U7:$Y7)+SUM($AA7:$AB7)) -> #DIV/0! | AI7: =X7*100/(SUM($U7:$Y7)+SUM($AA7:$AB7)) -> #DIV/0! | AJ7: =Y7*100/(SUM($U7:$Y7)+SUM($AA7:$AB7)) -> #DIV/0! | AK7: =Z7*100/(SUM($U7:$Y7)+SUM($AA7:$AB7)) -> #DIV/0! | AL7: =AA7*100/(SUM($U7:$Y7)+SUM($AA7:$AB7)) -> #DIV/0! | AM7: =AB7*100/(SUM($U7:$Y7)+SUM($AA7:$AB7)) -> #DIV/0! | AN7: =SUM(AF7:AM7) -> #DIV/0!
A8: 181-128 | B8: -7 | C8: 0 | D8: =(C8/B$4)*100 -> 0 | E8: =SUM(D6,D8) -> 0 | G8: =B8 -> -7 | H8: 0 | I8: 0 | J8: 0 | K8: 0 | L8: 0 | M8: 0 | N8: 0 | O8: 0 | P8: =SUM(H8:O8) -> 0 | R8: =100*(M8/B$4) -> 0 | T8: =G8 -> -7 | U8: =100*H8/$P8 -> #DIV/0! | V8: =100*I8/$P8 -> #DIV/0! | W8: =100*J8/$P8 -> #DIV/0! | X8: =100*K8/$P8 -> #DIV/0! | Y8: =100*L8/$P8 -> #DIV/0! | Z8: =100*M8/$P8 -> #DIV/0! | AA8: =100*N8/$P8 -> #DIV/0! | AB8: =100*O8/$P8 -> #DIV/0! | AC8: =SUM(U8:AB8) -> #DIV/0! | AE8: =T8 -> -7 | AF8: =U8*100/(SUM($U8:$Y8)+SUM($AA8:$AB8)) -> #DIV/0! | AG8: =V8*100/(SUM($U8:$Y8)+SUM($AA8:$AB8)) -> #DIV/0! | AH8: =W8*100/(SUM($U8:$Y8)+SUM($AA8:$AB8)) -> #DIV/0! | AI8: =X8*100/(SUM($U8:$Y8)+SUM($AA8:$AB8)) -> #DIV/0! | AJ8: =Y8*100/(SUM($U8:$Y8)+SUM($AA8:$AB8)) -> #DIV/0! | AK8: =Z8*100/(SUM($U8:$Y8)+SUM($AA8:$AB8)) -> #DIV/0! | AL8: =AA8*100/(SUM($U8:$Y8)+SUM($AA8:$AB8)) -> #DIV/0! | AM8: =AB8*100/(SUM($U8:$Y8)+SUM($AA8:$AB8)) -> #DIV/0! | AN8: =SUM(AF8:AM8) -> #DIV/0!
A9: 128-90,5 | B9: -6.5 | C9: 0 | D9: =(C9/B$4)*100 -> 0 | E9: =SUM(D6:D9) -> 0 | G9: =B9 -> -6.5 | H9: 0 | I9: 0 | J9: 0 | K9: 0 | L9: 0 | M9: 0 | N9: 0 | O9: 0 | P9: =SUM(H9:O9) -> 0 | R9: =100*(M9/B$4) -> 0 | T9: =G9 -> -6.5 | U9: =100*H9/$P9 -> #DIV/0! | V9: =100*I9/$P9 -> #DIV/0! | W9: =100*J9/$P9 -> #DIV/0! | X9: =100*K9/$P9 -> #DIV/0! | Y9: =100*L9/$P9 -> #DIV/0! | Z9: =100*M9/$P9 -> #DIV/0! | AA9: =100*N9/$P9 -> #DIV/0! | AB9: =100*O9/$P9 -> #DIV/0! | AC9: =SUM(U9:AB9) -> #DIV/0! | AE9: =T9 -> -6.5 | AF9: =U9*100/(SUM($U9:$Y9)+SUM($AA9:$AB9)) -> #DIV/0! | AG9: =V9*100/(SUM($U9:$Y9)+SUM($AA9:$AB9)) -> #DIV/0! | AH9: =W9*100/(SUM($U9:$Y9)+SUM($AA9:$AB9)) -> #DIV/0! | AI9: =X9*100/(SUM($U9:$Y9)+SUM($AA9:$AB9)) -> #DIV/0! | AJ9: =Y9*100/(SUM($U9:$Y9)+SUM($AA9:$AB9)) -> #DIV/0! | AK9: =Z9*100/(SUM($U9:$Y9)+SUM($AA9:$AB9)) -> #DIV/0! | AL9: =AA9*100/(SUM($U9:$Y9)+SUM($AA9:$AB9)) -> #DIV/0! | AM9: =AB9*100/(SUM($U9:$Y9)+SUM($AA9:$AB9)) -> #DIV/0! | AN9: =SUM(AF9:AM9) -> #DIV/0!
A10: >64 | B10: -6 | C10: 0 | D10: =(C10/B$4)*100 -> 0 | E10: =SUM(D6:D10) -> 0 | G10: =B10 -> -6 | H10: 0 | I10: 0 | J10: 0 | K10: 0 | L10: 0 | M10: 0 | N10: 0 | O10: 0 | P10: =SUM(H10:O10) -> 0 | R10: =100*(M10/B$4) -> 0 | T10: =G10 -> -6 | U10: =100*H10/$P10 -> #DIV/0! | V10: =100*I10/$P10 -> #DIV/0! | W10: =100*J10/$P10 -> #DIV/0! | X10: =100*K10/$P10 -> #DIV/0! | Y10: =100*L10/$P10 -> #DIV/0! | Z10: =100*M10/$P10 -> #DIV/0! | AA10: =100*N10/$P10 -> #DIV/0! | AB10: =100*O10/$P10 -> #DIV/0! | AC10: =SUM(U10:AB10) -> #DIV/0! | AE10: =T10 -> -6 | AF10: =U10*100/(SUM($U10:$Y10)+SUM($AA10:$AB10)) -> #DIV/0! | AG10: =V10*100/(SUM($U10:$Y10)+SUM($AA10:$AB10)) -> #DIV/0! | AH10: =W10*100/(SUM($U10:$Y10)+SUM($AA10:$AB10)) -> #DIV/0! | AI10: =X10*100/(SUM($U10:$Y10)+SUM($AA10:$AB10)) -> #DIV/0! | AJ10: =Y10*100/(SUM($U10:$Y10)+SUM($AA10:$AB10)) -> #DIV/0! | AK10: =Z10*100/(SUM($U10:$Y10)+SUM($AA10:$AB10)) -> #DIV/0! | AL10: =AA10*100/(SUM($U10:$Y10)+SUM($AA10:$AB10)) -> #DIV/0! | AM10: =AB10*100/(SUM($U10:$Y10)+SUM($AA10:$AB10)) -> #DIV/0! | AN10: =SUM(AF10:AM10) -> #DIV/0!
A11: 64-45.3 | B11: -5.5 | C11: 0 | D11: =(C11/B$4)*100 -> 0 | E11: =SUM(D6:D11) -> 0 | G11: =B11 -> -5.5 | H11: 0 | I11: 0 | J11: 0 | K11: 0 | L11: 0 | M11: 0 | N11: 0 | O11: 0 | P11: =SUM(H11:O11) -> 0 | R11: =100*(M11/B$4) -> 0 | T11: =G11 -> -5.5 | U11: =100*H11/$P11 -> #DIV/0! | V11: =100*I11/$P11 -> #DIV/0! | W11: =100*J11/$P11 -> #DIV/0! | X11: =100*K11/$P11 -> #DIV/0! | Y11: =100*L11/$P11 -> #DIV/0! | Z11: =100*M11/$P11 -> #DIV/0! | AA11: =100*N11/$P11 -> #DIV/0! | AB11: =100*O11/$P11 -> #DIV/0! | AC11: =SUM(U11:AB11) -> #DIV/0! | AE11: =T11 -> -5.5 | AF11: =U11*100/(SUM($U11:$Y11)+SUM($AA11:$AB11)) -> #DIV/0! | AG11: =V11*100/(SUM($U11:$Y11)+SUM($AA11:$AB11)) -> #DIV/0! | AH11: =W11*100/(SUM($U11:$Y11)+SUM($AA11:$AB11)) -> #DIV/0! | AI11: =X11*100/(SUM($U11:$Y11)+SUM($AA11:$AB11)) -> #DIV/0! | AJ11: =Y11*100/(SUM($U11:$Y11)+SUM($AA11:$AB11)) -> #DIV/0! | AK11: =Z11*100/(SUM($U11:$Y11)+SUM($AA11:$AB11)) -> #DIV/0! | AL11: =AA11*100/(SUM($U11:$Y11)+SUM($AA11:$AB11)) -> #DIV/0! | AM11: =AB11*100/(SUM($U11:$Y11)+SUM($AA11:$AB11)) -> #DIV/0! | AN11: =SUM(AF11:AM11) -> #DIV/0!
A12: 45.3-32 | B12: -5 | C12: 0 | D12: =(C12/B$4)*100 -> 0 | E12: =SUM(D6:D12) -> 0 | G12: =B12 -> -5 | H12: 0 | I12: 0 | J12: 0 | K12: 0 | L12: 0 | M12: 0 | N12: 0 | O12: 0 | P12: =SUM(H12:O12) -> 0 | R12: =100*(M12/B$4) -> 0 | T12: =G12 -> -5 | U12: =100*H12/$P12 -> #DIV/0! | V12: =100*I12/$P12 -> #DIV/0! | W12: =100*J12/$P12 -> #DIV/0! | X12: =100*K12/$P12 -> #DIV/0! | Y12: =100*L12/$P12 -> #DIV/0! | Z12: =100*M12/$P12 -> #DIV/0! | AA12: =100*N12/$P12 -> #DIV/0! | AB12: =100*O12/$P12 -> #DIV/0! | AC12: =SUM(U12:AB12) -> #DIV/0! | AE12: =T12 -> -5 | AF12: =U12*100/(SUM($U12:$Y12)+SUM($AA12:$AB12)) -> #DIV/0! | AG12: =V12*100/(SUM($U12:$Y12)+SUM($AA12:$AB12)) -> #DIV/0! | AH12: =W12*100/(SUM($U12:$Y12)+SUM($AA12:$AB12)) -> #DIV/0! | AI12: =X12*100/(SUM($U12:$Y12)+SUM($AA12:$AB12)) -> #DIV/0! | AJ12: =Y12*100/(SUM($U12:$Y12)+SUM($AA12:$AB12)) -> #DIV/0! | AK12: =Z12*100/(SUM($U12:$Y12)+SUM($AA12:$AB12)) -> #DIV/0! | AL12: =AA12*100/(SUM($U12:$Y12)+SUM($AA12:$AB12)) -> #DIV/0! | AM12: =AB12*100/(SUM($U12:$Y12)+SUM($AA12:$AB12)) -> #DIV/0! | AN12: =SUM(AF12:AM12) -> #DIV/0!
A13: 32-22.6 | B13: -4.5 | C13: 0 | D13: =(C13/B$4)*100 -> 0 | E13: =SUM(D7:D13) -> 0 | G13: =B13 -> -4.5 | H13: 0 | I13: 0 | J13: 0 | K13: 0 | L13: 0 | M13: 4.92 | N13: 0 | O13: 0 | P13: =SUM(H13:O13) -> 4.92 | R13: =100*(M13/B$4) -> 0.92084823 | T13: =G13 -> -4.5 | U13: =100*H13/$P13 -> 0 | V13: =100*I13/$P13 -> 0 | W13: =100*J13/$P13 -> 0 | X13: =100*K13/$P13 -> 0 | Y13: =100*L13/$P13 -> 0 | Z13: =100*M13/$P13 -> 100 | AA13: =100*N13/$P13 -> 0 | AB13: =100*O13/$P13 -> 0 | AC13: =SUM(U13:AB13) -> 100 | AE13: =T13 -> -4.5 | AF13: =U13*100/(SUM($U13:$Y13)+SUM($AA13:$AB13)) -> #DIV/0! | AG13: =V13*100/(SUM($U13:$Y13)+SUM($AA13:$AB13)) -> #DIV/0! | AH13: =W13*100/(SUM($U13:$Y13)+SUM($AA13:$AB13)) -> #DIV/0! | AI13: =X13*100/(SUM($U13:$Y13)+SUM($AA13:$AB13)) -> #DIV/0! | AJ13: =Y13*100/(SUM($U13:$Y13)+SUM($AA13:$AB13)) -> #DIV/0! | AK13: =Z13*100/(SUM($U13:$Y13)+SUM($AA13:$AB13)) -> #DIV/0! | AL13: =AA13*100/(SUM($U13:$Y13)+SUM($AA13:$AB13)) -> #DIV/0! | AM13: =AB13*100/(SUM($U13:$Y13)+SUM($AA13:$AB13)) -> #DIV/0! | AN13: =SUM(AF13:AM13) -> #DIV/0!
A14: 22,6-16 | B14: -4 | C14: 0 | D14: =(C14/B$4)*100 -> 0 | E14: =SUM(D8:D14) -> 0 | G14: =B14 -> -4 | H14: 0 | I14: 0 | J14: 0 | K14: 0 | L14: 0 | M14: 6.63 | N14: 0 | O14: 0 | P14: =SUM(H14:O14) -> 6.63 | R14: =100*(M14/B$4) -> 1.2408991 | T14: =G14 -> -4 | U14: =100*H14/$P14 -> 0 | V14: =100*I14/$P14 -> 0 | W14: =100*J14/$P14 -> 0 | X14: =100*K14/$P14 -> 0 | Y14: =100*L14/$P14 -> 0 | Z14: =100*M14/$P14 -> 100 | AA14: =100*N14/$P14 -> 0 | AB14: =100*O14/$P14 -> 0 | AC14: =SUM(U14:AB14) -> 100 | AE14: =T14 -> -4 | AF14: =U14*100/(SUM($U14:$Y14)+SUM($AA14:$AB14)) -> #DIV/0! | AG14: =V14*100/(SUM($U14:$Y14)+SUM($AA14:$AB14)) -> #DIV/0! | AH14: =W14*100/(SUM($U14:$Y14)+SUM($AA14:$AB14)) -> #DIV/0! | AI14: =X14*100/(SUM($U14:$Y14)+SUM($AA14:$AB14)) -> #DIV/0! | AJ14: =Y14*100/(SUM($U14:$Y14)+SUM($AA14:$AB14)) -> #DIV/0! | AK14: =Z14*100/(SUM($U14:$Y14)+SUM($AA14:$AB14)) -> #DIV/0! | AL14: =AA14*100/(SUM($U14:$Y14)+SUM($AA14:$AB14)) -> #DIV/0! | AM14: =AB14*100/(SUM($U14:$Y14)+SUM($AA14:$AB14)) -> #DIV/0! | AN14: =SUM(AF14:AM14) -> #DIV/0!
A15: 16-11.3 | B15: -3.5 | C15: 0 | D15: =(C15/B$4)*100 -> 0 | E15: =SUM(D6:D15) -> 0 | G15: =B15 -> -3.5 | H15: 0 | I15: 0 | J15: 0 | K15: 0 | L15: 0 | M15: 5.14 | N15: 0 | O15: 0 | P15: =SUM(H15:O15) -> 5.14 | R15: =100*(M15/B$4) -> 0.96202437 | T15: =G15 -> -3.5 | U15: =100*H15/$P15 -> 0 | V15: =100*I15/$P15 -> 0 | W15: =100*J15/$P15 -> 0 | X15: =100*K15/$P15 -> 0 | Y15: =100*L15/$P15 -> 0 | Z15: =100*M15/$P15 -> 100 | AA15: =100*N15/$P15 -> 0 | AB15: =100*O15/$P15 -> 0 | AC15: =SUM(U15:AB15) -> 100 | AE15: =T15 -> -3.5 | AF15: =U15*100/(SUM($U15:$Y15)+SUM($AA15:$AB15)) -> #DIV/0! | AG15: =V15*100/(SUM($U15:$Y15)+SUM($AA15:$AB15)) -> #DIV/0! | AH15: =W15*100/(SUM($U15:$Y15)+SUM($AA15:$AB15)) -> #DIV/0! | AI15: =X15*100/(SUM($U15:$Y15)+SUM($AA15:$AB15)) -> #DIV/0! | AJ15: =Y15*100/(SUM($U15:$Y15)+SUM($AA15:$AB15)) -> #DIV/0! | AK15: 0 | AL15: =AA15*100/(SUM($U15:$Y15)+SUM($AA15:$AB15)) -> #DIV/0! | AM15: =AB15*100/(SUM($U15:$Y15)+SUM($AA15:$AB15)) -> #DIV/0! | AN15: =SUM(AF15:AM15) -> #DIV/0!
A16: 11.3-8 | B16: -3 | C16: 0.76 | D16: =(C16/B$4)*100 -> 0.14224485 | E16: =SUM(D6:D16) -> 0.14224485 | G16: =B16 -> -3 | H16: 0.76 | I16: 0 | J16: 0 | K16: 0 | L16: 0 | M16: 12.84 | N16: 0 | O16: 0 | P16: =SUM(H16:O16) -> 13.6 | R16: =100*(M16/B$4) -> 2.4031893 | T16: =G16 -> -3 | U16: =100*H16/$P16 -> 5.5882353 | V16: =100*I16/$P16 -> 0 | W16: =100*J16/$P16 -> 0 | X16: =100*K16/$P16 -> 0 | Y16: =100*L16/$P16 -> 0 | Z16: =100*M16/$P16 -> 94.411765 | AA16: =100*N16/$P16 -> 0 | AB16: =100*O16/$P16 -> 0 | AC16: =SUM(U16:AB16) -> 100 | AE16: =T16 -> -3 | AF16: =U16*100/(SUM($U16:$Y16)+SUM($AA16:$AB16)) -> 100 | AG16: =V16*100/(SUM($U16:$Y16)+SUM($AA16:$AB16)) -> 0 | AH16: =W16*100/(SUM($U16:$Y16)+SUM($AA16:$AB16)) -> 0 | AI16: =X16*100/(SUM($U16:$Y16)+SUM($AA16:$AB16)) -> 0 | AJ16: =Y16*100/(SUM($U16:$Y16)+SUM($AA16:$AB16)) -> 0 | AK16: 0 | AL16: =AA16*100/(SUM($U16:$Y16)+SUM($AA16:$AB16)) -> 0 | AM16: =AB16*100/(SUM($U16:$Y16)+SUM($AA16:$AB16)) -> 0 | AN16: =SUM(AF16:AM16) -> 100
A17: 8-5,66 | B17: -2.5 | C17: 8.15 | D17: =(C17/B$4)*100 -> 1.5253888 | E17: =SUM(D6:D17) -> 1.6676337 | G17: =B17 -> -2.5 | H17: 6.19 | I17: 0.64 | J17: 0 | K17: 0 | L17: 1.32 | M17: 22.27 | N17: 0 | O17: 0 | P17: =SUM(H17:O17) -> 30.42 | R17: =100*(M17/B$4) -> 4.1681484 | T17: =G17 -> -2.5 | U17: =100*H17/$P17 -> 20.348455 | V17: =100*I17/$P17 -> 2.103879 | W17: =100*J17/$P17 -> 0 | X17: =100*K17/$P17 -> 0 | Y17: =100*L17/$P17 -> 4.3392505 | Z17: =100*M17/$P17 -> 73.208416 | AA17: =100*N17/$P17 -> 0 | AB17: =100*O17/$P17 -> 0 | AC17: =SUM(U17:AB17) -> 100 | AE17: =T17 -> -2.5 | AF17: =U17*100/(SUM($U17:$Y17)+SUM($AA17:$AB17)) -> 75.95092 | AG17: =V17*100/(SUM($U17:$Y17)+SUM($AA17:$AB17)) -> 7.8527607 | AH17: =W17*100/(SUM($U17:$Y17)+SUM($AA17:$AB17)) -> 0 | AI17: =X17*100/(SUM($U17:$Y17)+SUM($AA17:$AB17)) -> 0 | AJ17: =Y17*100/(SUM($U17:$Y17)+SUM($AA17:$AB17)) -> 16.196319 | AK17: 0 | AL17: =AA17*100/(SUM($U17:$Y17)+SUM($AA17:$AB17)) -> 0 | AM17: =AB17*100/(SUM($U17:$Y17)+SUM($AA17:$AB17)) -> 0 | AN17: =SUM(AF17:AM17) -> 100
A18: 5,66-4 | B18: -2 | C18: 6.71 | D18: =(C18/B$4)*100 -> 1.2558723 | E18: =SUM(D6:D18) -> 2.923506 | G18: =B18 -> -2 | H18: 6.09 | I18: 0.33 | J18: 0 | K18: 0 | L18: 0.29 | M18: 60.16 | N18: 0 | O18: 0 | P18: =SUM(H18:O18) -> 66.87 | R18: =100*(M18/B$4) -> 11.259803 | T18: =G18 -> -2 | U18: =100*H18/$P18 -> 9.107223 | V18: =100*I18/$P18 -> 0.49349484 | W18: =100*J18/$P18 -> 0 | X18: =100*K18/$P18 -> 0 | Y18: =100*L18/$P18 -> 0.43367728 | Z18: =100*M18/$P18 -> 89.965605 | AA18: =100*N18/$P18 -> 0 | AB18: =100*O18/$P18 -> 0 | AC18: =SUM(U18:AB18) -> 100 | AE18: =T18 -> -2 | AF18: =U18*100/(SUM($U18:$Y18)+SUM($AA18:$AB18)) -> 90.76006 | AG18: =V18*100/(SUM($U18:$Y18)+SUM($AA18:$AB18)) -> 4.9180328 | AH18: =W18*100/(SUM($U18:$Y18)+SUM($AA18:$AB18)) -> 0 | AI18: =X18*100/(SUM($U18:$Y18)+SUM($AA18:$AB18)) -> 0 | AJ18: =Y18*100/(SUM($U18:$Y18)+SUM($AA18:$AB18)) -> 4.3219076 | AK18: 0 | AL18: =AA18*100/(SUM($U18:$Y18)+SUM($AA18:$AB18)) -> 0 | AM18: =AB18*100/(SUM($U18:$Y18)+SUM($AA18:$AB18)) -> 0 | AN18: =SUM(AF18:AM18) -> 100
A19: 4000 - 2800 | B19: -1.5 | C19: 7.85 | D19: =(C19/B$4)*100 -> 1.4692396 | E19: =SUM(D6:D19) -> 4.3927455 | G19: =B19 -> -1.5 | H19: 6.42 | I19: 1.27 | J19: 0 | K19: 0 | L19: 0.16 | M19: 69.59 | N19: 0 | O19: 0 | P19: =SUM(H19:O19) -> 77.44 | R19: =100*(M19/B$4) -> 13.024762 | T19: =G19 -> -1.5 | U19: =100*H19/$P19 -> 8.2902893 | V19: =100*I19/$P19 -> 1.6399793 | W19: =100*J19/$P19 -> 0 | X19: =100*K19/$P19 -> 0 | Y19: =100*L19/$P19 -> 0.20661157 | Z19: =100*M19/$P19 -> 89.86312 | AA19: =100*N19/$P19 -> 0 | AB19: =100*O19/$P19 -> 0 | AC19: =SUM(U19:AB19) -> 100 | AE19: =T19 -> -1.5 | AF19: =U19*100/(SUM($U19:$Y19)+SUM($AA19:$AB19)) -> 81.783439 | AG19: =V19*100/(SUM($U19:$Y19)+SUM($AA19:$AB19)) -> 16.178344 | AH19: =W19*100/(SUM($U19:$Y19)+SUM($AA19:$AB19)) -> 0 | AI19: =X19*100/(SUM($U19:$Y19)+SUM($AA19:$AB19)) -> 0 | AJ19: =Y19*100/(SUM($U19:$Y19)+SUM($AA19:$AB19)) -> 2.0382166 | AK19: 0 | AL19: =AA19*100/(SUM($U19:$Y19)+SUM($AA19:$AB19)) -> 0 | AM19: =AB19*100/(SUM($U19:$Y19)+SUM($AA19:$AB19)) -> 0 | AN19: =SUM(AF19:AM19) -> 100
A20: 2800 - 2000 | B20: -1 | C20: 5.53 | D20: =(C20/B$4)*100 -> 1.0350184 | E20: =SUM(D6:D20) -> 5.4277639 | G20: =B20 -> -1 | H20: 5.05 | I20: 0.2 | J20: 0 | K20: 0 | L20: 0.28 | M20: 58.31 | N20: 0 | O20: 0 | P20: =SUM(H20:O20) -> 63.84 | R20: =100*(M20/B$4) -> 10.913549 | T20: =G20 -> -1 | U20: =100*H20/$P20 -> 7.910401 | V20: =100*I20/$P20 -> 0.31328321 | W20: =100*J20/$P20 -> 0 | X20: =100*K20/$P20 -> 0 | Y20: =100*L20/$P20 -> 0.43859649 | Z20: =100*M20/$P20 -> 91.337719 | AA20: =100*N20/$P20 -> 0 | AB20: =100*O20/$P20 -> 0 | AC20: =SUM(U20:AB20) -> 100 | AE20: =T20 -> -1 | AF20: =U20*100/(SUM($U20:$Y20)+SUM($AA20:$AB20)) -> 91.320072 | AG20: =V20*100/(SUM($U20:$Y20)+SUM($AA20:$AB20)) -> 3.6166365 | AH20: =W20*100/(SUM($U20:$Y20)+SUM($AA20:$AB20)) -> 0 | AI20: =X20*100/(SUM($U20:$Y20)+SUM($AA20:$AB20)) -> 0 | AJ20: =Y20*100/(SUM($U20:$Y20)+SUM($AA20:$AB20)) -> 5.0632911 | AK20: 0 | AL20: =AA20*100/(SUM($U20:$Y20)+SUM($AA20:$AB20)) -> 0 | AM20: =AB20*100/(SUM($U20:$Y20)+SUM($AA20:$AB20)) -> 0 | AN20: =SUM(AF20:AM20) -> 100
A21: 2000-1400 | B21: -0.5 | C21: 14.56 | D21: =(C21/B$4)*100 -> 2.7251118 | E21: =SUM(D6:D21) -> 8.1528758 | G21: =B21 -> -0.5 | H21: 13.62 | I21: 0.48 | J21: 0 | K21: 0 | L21: 0.3 | M21: 37.61 | N21: =0.08*2 -> 0.16 | O21: 0 | P21: =SUM(H21:O21) -> 52.17 | R21: =100*(M21/B$4) -> 7.0392483 | T21: =G21 -> -0.5 | U21: =100*H21/$P21 -> 26.106958 | V21: =100*I21/$P21 -> 0.92006901 | W21: =100*J21/$P21 -> 0 | X21: =100*K21/$P21 -> 0 | Y21: =100*L21/$P21 -> 0.57504313 | Z21: =100*M21/$P21 -> 72.09124 | AA21: =100*N21/$P21 -> 0.30668967 | AB21: =100*O21/$P21 -> 0 | AC21: =SUM(U21:AB21) -> 100 | AE21: =T21 -> -0.5 | AF21: =U21*100/(SUM($U21:$Y21)+SUM($AA21:$AB21)) -> 93.543956 | AG21: =V21*100/(SUM($U21:$Y21)+SUM($AA21:$AB21)) -> 3.2967033 | AH21: =W21*100/(SUM($U21:$Y21)+SUM($AA21:$AB21)) -> 0 | AI21: =X21*100/(SUM($U21:$Y21)+SUM($AA21:$AB21)) -> 0 | AJ21: =Y21*100/(SUM($U21:$Y21)+SUM($AA21:$AB21)) -> 2.0604396 | AK21: 0 | AL21: =AA21*100/(SUM($U21:$Y21)+SUM($AA21:$AB21)) -> 1.0989011 | AM21: =AB21*100/(SUM($U21:$Y21)+SUM($AA21:$AB21)) -> 0 | AN21: =SUM(AF21:AM21) -> 100
A22: 1400 - 1000 | B22: 0 | C22: 37.55 | D22: =(C22/B$4)*100 -> 7.0280185 | E22: =SUM(D6:D22) -> 15.180894 | G22: =B22 -> 0 | H22: 0 | I22: 0 | J22: 0 | K22: 0 | L22: 0 | M22: 0 | N22: 0 | O22: 0 | P22: =SUM(H22:O22) -> 0 | R22: =100*(M22/B$4) -> 0 | T22: =G22 -> 0 | U22: =100*H22/$P22 -> #DIV/0! | V22: =100*I22/$P22 -> #DIV/0! | W22: =100*J22/$P22 -> #DIV/0! | X22: =100*K22/$P22 -> #DIV/0! | Y22: =100*L22/$P22 -> #DIV/0! | Z22: =100*M22/$P22 -> #DIV/0! | AA22: =100*N22/$P22 -> #DIV/0! | AB22: =100*O22/$P22 -> #DIV/0! | AC22: =SUM(U22:AB22) -> #DIV/0! | AE22: =T22 -> 0 | AF22: =U22*100/(SUM($U22:$Y22)+SUM($AA22:$AB22)) -> #DIV/0! | AG22: =V22*100/(SUM($U22:$Y22)+SUM($AA22:$AB22)) -> #DIV/0! | AH22: =W22*100/(SUM($U22:$Y22)+SUM($AA22:$AB22)) -> #DIV/0! | AI22: =X22*100/(SUM($U22:$Y22)+SUM($AA22:$AB22)) -> #DIV/0! | AJ22: =Y22*100/(SUM($U22:$Y22)+SUM($AA22:$AB22)) -> #DIV/0! | AK22: =Z22*100/(SUM($U22:$Y22)+SUM($AA22:$AB22)) -> #DIV/0! | AL22: =AA22*100/(SUM($U22:$Y22)+SUM($AA22:$AB22)) -> #DIV/0! | AM22: =AB22*100/(SUM($U22:$Y22)+SUM($AA22:$AB22)) -> #DIV/0! | AN22: =SUM(AF22:AM22) -> #DIV/0!
A23: 1000-710 | B23: 0.5 | C23: 30.85 | D23: =(C23/B$4)*100 -> 5.7740179 | E23: =SUM(D6:D23) -> 20.954912 | G23: =B23 -> 0.5 | H23: 0 | I23: 0 | J23: 0 | K23: 0 | L23: 0 | M23: 0 | N23: 0 | O23: 0 | P23: =SUM(H23:O23) -> 0 | R23: =100*(M23/B$4) -> 0 | T23: =G23 -> 0.5 | U23: =100*H23/$P23 -> #DIV/0! | V23: =100*I23/$P23 -> #DIV/0! | W23: =100*J23/$P23 -> #DIV/0! | X23: =100*K23/$P23 -> #DIV/0! | Y23: =100*L23/$P23 -> #DIV/0! | Z23: =100*M23/$P23 -> #DIV/0! | AA23: =100*N23/$P23 -> #DIV/0! | AB23: =100*O23/$P23 -> #DIV/0! | AC23: =SUM(U23:AB23) -> #DIV/0! | AE23: =T23 -> 0.5 | AF23: =U23*100/(SUM($U23:$Y23)+SUM($AA23:$AB23)) -> #DIV/0! | AG23: =V23*100/(SUM($U23:$Y23)+SUM($AA23:$AB23)) -> #DIV/0! | AH23: =W23*100/(SUM($U23:$Y23)+SUM($AA23:$AB23)) -> #DIV/0! | AI23: =X23*100/(SUM($U23:$Y23)+SUM($AA23:$AB23)) -> #DIV/0! | AJ23: =Y23*100/(SUM($U23:$Y23)+SUM($AA23:$AB23)) -> #DIV/0! | AK23: =Z23*100/(SUM($U23:$Y23)+SUM($AA23:$AB23)) -> #DIV/0! | AL23: =AA23*100/(SUM($U23:$Y23)+SUM($AA23:$AB23)) -> #DIV/0! | AM23: =AB23*100/(SUM($U23:$Y23)+SUM($AA23:$AB23)) -> #DIV/0! | AN23: =SUM(AF23:AM23) -> #DIV/0!
A24: 710-500 | B24: 1 | C24: 22.93 | D24: =(C24/B$4)*100 -> 4.2916768 | E24: =SUM(D6:D24) -> 25.246589 | G24: =B24 -> 1 | H24: 0 | I24: 0 | J24: 0 | K24: 0 | L24: 0 | M24: 0 | N24: 0 | O24: 0 | P24: =SUM(H24:O24) -> 0 | R24: =100*(M24/B$4) -> 0 | T24: =G24 -> 1 | U24: =100*H24/$P24 -> #DIV/0! | V24: =100*I24/$P24 -> #DIV/0! | W24: =100*J24/$P24 -> #DIV/0! | X24: =100*K24/$P24 -> #DIV/0! | Y24: =100*L24/$P24 -> #DIV/0! | Z24: =100*M24/$P24 -> #DIV/0! | AA24: =100*N24/$P24 -> #DIV/0! | AB24: =100*O24/$P24 -> #DIV/0! | AC24: =SUM(U24:AB24) -> #DIV/0! | AE24: =T24 -> 1 | AF24: =U24*100/(SUM($U24:$Y24)+SUM($AA24:$AB24)) -> #DIV/0! | AG24: =V24*100/(SUM($U24:$Y24)+SUM($AA24:$AB24)) -> #DIV/0! | AH24: =W24*100/(SUM($U24:$Y24)+SUM($AA24:$AB24)) -> #DIV/0! | AI24: =X24*100/(SUM($U24:$Y24)+SUM($AA24:$AB24)) -> #DIV/0! | AJ24: =Y24*100/(SUM($U24:$Y24)+SUM($AA24:$AB24)) -> #DIV/0! | AK24: =Z24*100/(SUM($U24:$Y24)+SUM($AA24:$AB24)) -> #DIV/0! | AL24: =AA24*100/(SUM($U24:$Y24)+SUM($AA24:$AB24)) -> #DIV/0! | AM24: =AB24*100/(SUM($U24:$Y24)+SUM($AA24:$AB24)) -> #DIV/0! | AN24: =SUM(AF24:AM24) -> #DIV/0!
A25: 500-355 | B25: 1.5 | C25: 20.43 | D25: =(C25/B$4)*100 -> 3.8237661 | E25: =SUM(D6:D25) -> 29.070355 | G25: =B25 -> 1.5 | H25: 0 | I25: 0 | J25: 0 | K25: 0 | L25: 0 | M25: 0 | N25: 0 | O25: 0 | P25: =SUM(H25:O25) -> 0 | R25: =100*(M25/B$4) -> 0 | T25: =G25 -> 1.5 | U25: =100*H25/$P25 -> #DIV/0! | V25: =100*I25/$P25 -> #DIV/0! | W25: =100*J25/$P25 -> #DIV/0! | X25: =100*K25/$P25 -> #DIV/0! | Y25: =100*L25/$P25 -> #DIV/0! | Z25: =100*M25/$P25 -> #DIV/0! | AA25: =100*N25/$P25 -> #DIV/0! | AB25: =100*O25/$P25 -> #DIV/0! | AC25: =SUM(U25:AB25) -> #DIV/0! | AE25: =T25 -> 1.5 | AF25: =U25*100/(SUM($U25:$Y25)+SUM($AA25:$AB25)) -> #DIV/0! | AG25: =V25*100/(SUM($U25:$Y25)+SUM($AA25:$AB25)) -> #DIV/0! | AH25: =W25*100/(SUM($U25:$Y25)+SUM($AA25:$AB25)) -> #DIV/0! | AI25: =X25*100/(SUM($U25:$Y25)+SUM($AA25:$AB25)) -> #DIV/0! | AJ25: =Y25*100/(SUM($U25:$Y25)+SUM($AA25:$AB25)) -> #DIV/0! | AK25: =Z25*100/(SUM($U25:$Y25)+SUM($AA25:$AB25)) -> #DIV/0! | AL25: =AA25*100/(SUM($U25:$Y25)+SUM($AA25:$AB25)) -> #DIV/0! | AM25: =AB25*100/(SUM($U25:$Y25)+SUM($AA25:$AB25)) -> #DIV/0! | AN25: =SUM(AF25:AM25) -> #DIV/0!
A26: 355 - 250 | B26: 2 | C26: 16.95 | D26: =(C26/B$4)*100 -> 3.1724344 | E26: =SUM(D6:D26) -> 32.242789 | G26: =B26 -> 2 | H26: 0 | I26: 0 | J26: 0 | K26: 0 | L26: 0 | M26: 0 | N26: 0 | O26: 0 | P26: =SUM(H26:O26) -> 0 | R26: =100*(M26/B$4) -> 0 | T26: =G26 -> 2 | U26: =100*H26/$P26 -> #DIV/0! | V26: =100*I26/$P26 -> #DIV/0! | W26: =100*J26/$P26 -> #DIV/0! | X26: =100*K26/$P26 -> #DIV/0! | Y26: =100*L26/$P26 -> #DIV/0! | Z26: =100*M26/$P26 -> #DIV/0! | AA26: =100*N26/$P26 -> #DIV/0! | AB26: =100*O26/$P26 -> #DIV/0! | AC26: =SUM(U26:AB26) -> #DIV/0! | AE26: =T26 -> 2 | AF26: =U26*100/(SUM($U26:$Y26)+SUM($AA26:$AB26)) -> #DIV/0! | AG26: =V26*100/(SUM($U26:$Y26)+SUM($AA26:$AB26)) -> #DIV/0! | AH26: =W26*100/(SUM($U26:$Y26)+SUM($AA26:$AB26)) -> #DIV/0! | AI26: =X26*100/(SUM($U26:$Y26)+SUM($AA26:$AB26)) -> #DIV/0! | AJ26: =Y26*100/(SUM($U26:$Y26)+SUM($AA26:$AB26)) -> #DIV/0! | AK26: =Z26*100/(SUM($U26:$Y26)+SUM($AA26:$AB26)) -> #DIV/0! | AL26: =AA26*100/(SUM($U26:$Y26)+SUM($AA26:$AB26)) -> #DIV/0! | AM26: =AB26*100/(SUM($U26:$Y26)+SUM($AA26:$AB26)) -> #DIV/0! | AN26: =SUM(AF26:AM26) -> #DIV/0!
A27: 250-180 | B27: 2.5 | C27: 21.53 | D27: =(C27/B$4)*100 -> 4.0296468 | E27: =SUM(D7:D27) -> 36.272436 | G27: =B27 -> 2.5 | H27: 0 | I27: 0 | J27: 0 | K27: 0 | L27: 0 | M27: 0 | N27: 0 | O27: 0 | P27: =SUM(H27:O27) -> 0 | R27: =100*(M27/B$4) -> 0 | T27: =G27 -> 2.5 | U27: =100*H27/$P27 -> #DIV/0! | V27: =100*I27/$P27 -> #DIV/0! | W27: =100*J27/$P27 -> #DIV/0! | X27: =100*K27/$P27 -> #DIV/0! | Y27: =100*L27/$P27 -> #DIV/0! | Z27: =100*M27/$P27 -> #DIV/0! | AA27: =100*N27/$P27 -> #DIV/0! | AB27: =100*O27/$P27 -> #DIV/0! | AC27: =SUM(U27:AB27) -> #DIV/0! | AE27: =T27 -> 2.5 | AF27: =U27*100/(SUM($U27:$Y27)+SUM($AA27:$AB27)) -> #DIV/0! | AG27: =V27*100/(SUM($U27:$Y27)+SUM($AA27:$AB27)) -> #DIV/0! | AH27: =W27*100/(SUM($U27:$Y27)+SUM($AA27:$AB27)) -> #DIV/0! | AI27: =X27*100/(SUM($U27:$Y27)+SUM($AA27:$AB27)) -> #DIV/0! | AJ27: =Y27*100/(SUM($U27:$Y27)+SUM($AA27:$AB27)) -> #DIV/0! | AK27: =Z27*100/(SUM($U27:$Y27)+SUM($AA27:$AB27)) -> #DIV/0! | AL27: =AA27*100/(SUM($U27:$Y27)+SUM($AA27:$AB27)) -> #DIV/0! | AM27: =AB27*100/(SUM($U27:$Y27)+SUM($AA27:$AB27)) -> #DIV/0! | AN27: =SUM(AF27:AM27) -> #DIV/0!
A28: 180 - 125 | B28: 3 | C28: 12.36 | D28: =(C28/B$4)*100 -> 2.3133504 | E28: =SUM(D7:D28) -> 38.585787 | G28: =B28 -> 3 | H28: 0 | I28: 0 | J28: 0 | K28: 0 | L28: 0 | M28: 0 | N28: 0 | O28: 0 | P28: =SUM(H28:O28) -> 0 | R28: =100*(M28/B$4) -> 0 | T28: =G28 -> 3 | U28: =100*H28/$P28 -> #DIV/0! | V28: =100*I28/$P28 -> #DIV/0! | W28: =100*J28/$P28 -> #DIV/0! | X28: =100*K28/$P28 -> #DIV/0! | Y28: =100*L28/$P28 -> #DIV/0! | Z28: =100*M28/$P28 -> #DIV/0! | AA28: =100*N28/$P28 -> #DIV/0! | AB28: =100*O28/$P28 -> #DIV/0! | AC28: =SUM(U28:AB28) -> #DIV/0! | AE28: =T28 -> 3 | AF28: =U28*100/(SUM($U28:$Y28)+SUM($AA28:$AB28)) -> #DIV/0! | AG28: =V28*100/(SUM($U28:$Y28)+SUM($AA28:$AB28)) -> #DIV/0! | AH28: =W28*100/(SUM($U28:$Y28)+SUM($AA28:$AB28)) -> #DIV/0! | AI28: =X28*100/(SUM($U28:$Y28)+SUM($AA28:$AB28)) -> #DIV/0! | AJ28: =Y28*100/(SUM($U28:$Y28)+SUM($AA28:$AB28)) -> #DIV/0! | AK28: =Z28*100/(SUM($U28:$Y28)+SUM($AA28:$AB28)) -> #DIV/0! | AL28: =AA28*100/(SUM($U28:$Y28)+SUM($AA28:$AB28)) -> #DIV/0! | AM28: =AB28*100/(SUM($U28:$Y28)+SUM($AA28:$AB28)) -> #DIV/0! | AN28: =SUM(AF28:AM28) -> #DIV/0!
A29: 125-90 | B29: 3.5 | C29: 16.48 | D29: =(C29/B$4)*100 -> 3.0844672 | E29: =SUM(D7:D29) -> 41.670254 | G29: =B29 -> 3.5 | H29: 0 | I29: 0 | J29: 0 | K29: 0 | L29: 0 | M29: 0 | N29: 0 | O29: 0 | P29: =SUM(H29:O29) -> 0 | R29: =100*(M29/B$4) -> 0 | T29: =G29 -> 3.5 | U29: =100*H29/$P29 -> #DIV/0! | V29: =100*I29/$P29 -> #DIV/0! | W29: =100*J29/$P29 -> #DIV/0! | X29: =100*K29/$P29 -> #DIV/0! | Y29: =100*L29/$P29 -> #DIV/0! | Z29: =100*M29/$P29 -> #DIV/0! | AA29: =100*N29/$P29 -> #DIV/0! | AB29: =100*O29/$P29 -> #DIV/0! | AC29: =SUM(U29:AB29) -> #DIV/0! | AE29: =T29 -> 3.5 | AF29: =U29*100/(SUM($U29:$Y29)+SUM($AA29:$AB29)) -> #DIV/0! | AG29: =V29*100/(SUM($U29:$Y29)+SUM($AA29:$AB29)) -> #DIV/0! | AH29: =W29*100/(SUM($U29:$Y29)+SUM($AA29:$AB29)) -> #DIV/0! | AI29: =X29*100/(SUM($U29:$Y29)+SUM($AA29:$AB29)) -> #DIV/0! | AJ29: =Y29*100/(SUM($U29:$Y29)+SUM($AA29:$AB29)) -> #DIV/0! | AK29: =Z29*100/(SUM($U29:$Y29)+SUM($AA29:$AB29)) -> #DIV/0! | AL29: =AA29*100/(SUM($U29:$Y29)+SUM($AA29:$AB29)) -> #DIV/0! | AM29: =AB29*100/(SUM($U29:$Y29)+SUM($AA29:$AB29)) -> #DIV/0! | AN29: =SUM(AF29:AM29) -> #DIV/0!
A30: 90 - 63 | B30: 4 | C30: 10.18 | D30: =(C30/B$4)*100 -> 1.9053323 | E30: =SUM(D7:D30) -> 43.575586 | G30: =B30 -> 4 | H30: 0 | I30: 0 | J30: 0 | K30: 0 | L30: 0 | M30: 0 | N30: 0 | O30: 0 | P30: =SUM(H30:O30) -> 0 | R30: =100*(M30/B$4) -> 0 | T30: =G30 -> 4 | U30: =100*H30/$P30 -> #DIV/0! | V30: =100*I30/$P30 -> #DIV/0! | W30: =100*J30/$P30 -> #DIV/0! | X30: =100*K30/$P30 -> #DIV/0! | Y30: =100*L30/$P30 -> #DIV/0! | Z30: =100*M30/$P30 -> #DIV/0! | AA30: =100*N30/$P30 -> #DIV/0! | AB30: =100*O30/$P30 -> #DIV/0! | AC30: =SUM(U30:AB30) -> #DIV/0! | AE30: =T30 -> 4 | AF30: =U30*100/(SUM($U30:$Y30)+SUM($AA30:$AB30)) -> #DIV/0! | AG30: =V30*100/(SUM($U30:$Y30)+SUM($AA30:$AB30)) -> #DIV/0! | AH30: =W30*100/(SUM($U30:$Y30)+SUM($AA30:$AB30)) -> #DIV/0! | AI30: =X30*100/(SUM($U30:$Y30)+SUM($AA30:$AB30)) -> #DIV/0! | AJ30: =Y30*100/(SUM($U30:$Y30)+SUM($AA30:$AB30)) -> #DIV/0! | AK30: =Z30*100/(SUM($U30:$Y30)+SUM($AA30:$AB30)) -> #DIV/0! | AL30: =AA30*100/(SUM($U30:$Y30)+SUM($AA30:$AB30)) -> #DIV/0! | AM30: =AB30*100/(SUM($U30:$Y30)+SUM($AA30:$AB30)) -> #DIV/0! | AN30: =SUM(AF30:AM30) -> #DIV/0!
A31: 63 - 45 | B31: 4.5 | C31: 13.88 | D31: =(C31/B$4)*100 -> 2.5978401 | E31: =SUM(D7:D31) -> 46.173426 | G31: =B31 -> 4.5 | H31: 0 | I31: 0 | J31: 0 | K31: 0 | L31: 0 | M31: 0 | N31: 0 | O31: 0 | P31: =SUM(H31:O31) -> 0 | R31: =100*(M31/B$4) -> 0 | T31: =G31 -> 4.5 | U31: =100*H31/$P31 -> #DIV/0! | V31: =100*I31/$P31 -> #DIV/0! | W31: =100*J31/$P31 -> #DIV/0! | X31: =100*K31/$P31 -> #DIV/0! | Y31: =100*L31/$P31 -> #DIV/0! | Z31: =100*M31/$P31 -> #DIV/0! | AA31: =100*N31/$P31 -> #DIV/0! | AB31: =100*O31/$P31 -> #DIV/0! | AC31: =SUM(U31:AB31) -> #DIV/0! | AE31: =T31 -> 4.5 | AF31: =U31*100/(SUM($U31:$Y31)+SUM($AA31:$AB31)) -> #DIV/0! | AG31: =V31*100/(SUM($U31:$Y31)+SUM($AA31:$AB31)) -> #DIV/0! | AH31: =W31*100/(SUM($U31:$Y31)+SUM($AA31:$AB31)) -> #DIV/0! | AI31: =X31*100/(SUM($U31:$Y31)+SUM($AA31:$AB31)) -> #DIV/0! | AJ31: =Y31*100/(SUM($U31:$Y31)+SUM($AA31:$AB31)) -> #DIV/0! | AK31: =Z31*100/(SUM($U31:$Y31)+SUM($AA31:$AB31)) -> #DIV/0! | AL31: =AA31*100/(SUM($U31:$Y31)+SUM($AA31:$AB31)) -> #DIV/0! | AM31: =AB31*100/(SUM($U31:$Y31)+SUM($AA31:$AB31)) -> #DIV/0! | AN31: =SUM(AF31:AM31) -> #DIV/0!
A32: 45 - 31 | B32: 5 | C32: 10.12 | D32: =(C32/B$4)*100 -> 1.8941025 | E32: =SUM(D7:D32) -> 48.067529 | G32: =B32 -> 5 | H32: 0 | I32: 0 | J32: 0 | K32: 0 | L32: 0 | M32: 0 | N32: 0 | O32: 0 | P32: =SUM(H32:O32) -> 0 | R32: =100*(M32/B$4) -> 0 | T32: =G32 -> 5 | U32: =100*H32/$P32 -> #DIV/0! | V32: =100*I32/$P32 -> #DIV/0! | W32: =100*J32/$P32 -> #DIV/0! | X32: =100*K32/$P32 -> #DIV/0! | Y32: =100*L32/$P32 -> #DIV/0! | Z32: =100*M32/$P32 -> #DIV/0! | AA32: =100*N32/$P32 -> #DIV/0! | AB32: =100*O32/$P32 -> #DIV/0! | AC32: =SUM(U32:AB32) -> #DIV/0! | AE32: =T32 -> 5 | AF32: =U32*100/(SUM($U32:$Y32)+SUM($AA32:$AB32)) -> #DIV/0! | AG32: =V32*100/(SUM($U32:$Y32)+SUM($AA32:$AB32)) -> #DIV/0! | AH32: =W32*100/(SUM($U32:$Y32)+SUM($AA32:$AB32)) -> #DIV/0! | AI32: =X32*100/(SUM($U32:$Y32)+SUM($AA32:$AB32)) -> #DIV/0! | AJ32: =Y32*100/(SUM($U32:$Y32)+SUM($AA32:$AB32)) -> #DIV/0! | AK32: =Z32*100/(SUM($U32:$Y32)+SUM($AA32:$AB32)) -> #DIV/0! | AL32: =AA32*100/(SUM($U32:$Y32)+SUM($AA32:$AB32)) -> #DIV/0! | AM32: =AB32*100/(SUM($U32:$Y32)+SUM($AA32:$AB32)) -> #DIV/0! | AN32: =SUM(AF32:AM32) -> #DIV/0!
A33: <32 | B33: >6 | C33: 0 | D33: =(C33/B$4)*100 -> 0 | E33: =SUM(D7:D33) -> 48.067529 | G33: =B33 -> >6 | H33: 0 | I33: 0 | J33: 0 | K33: 0 | L33: 0 | M33: 0 | N33: 0 | O33: 0 | P33: =SUM(H33:O33) -> 0 | R33: =100*(M33/B$4) -> 0 | T33: =G33 -> >6 | U33: =100*H33/$P33 -> #DIV/0! | V33: =100*I33/$P33 -> #DIV/0! | W33: =100*J33/$P33 -> #DIV/0! | X33: =100*K33/$P33 -> #DIV/0! | Y33: =100*L33/$P33 -> #DIV/0! | Z33: =100*M33/$P33 -> #DIV/0! | AA33: =100*N33/$P33 -> #DIV/0! | AB33: =100*O33/$P33 -> #DIV/0! | AC33: =SUM(U33:AB33) -> #DIV/0! | AE33: =T33 -> >6 | AF33: =U33*100/(SUM($U33:$Y33)+SUM($AA33:$AB33)) -> #DIV/0! | AG33: =V33*100/(SUM($U33:$Y33)+SUM($AA33:$AB33)) -> #DIV/0! | AH33: =W33*100/(SUM($U33:$Y33)+SUM($AA33:$AB33)) -> #DIV/0! | AI33: =X33*100/(SUM($U33:$Y33)+SUM($AA33:$AB33)) -> #DIV/0! | AJ33: =Y33*100/(SUM($U33:$Y33)+SUM($AA33:$AB33)) -> #DIV/0! | AK33: =Z33*100/(SUM($U33:$Y33)+SUM($AA33:$AB33)) -> #DIV/0! | AL33: =AA33*100/(SUM($U33:$Y33)+SUM($AA33:$AB33)) -> #DIV/0! | AM33: =AB33*100/(SUM($U33:$Y33)+SUM($AA33:$AB33)) -> #DIV/0! | AN33: =SUM(AF33:AM33) -> #DIV/0!
G34: total | H34: =SUM(H7:H33) -> 38.13 | I34: =SUM(I7:I33) -> 2.92 | J34: =SUM(J7:J33) -> 0 | K34: =SUM(K7:K33) -> 0 | L34: =SUM(L7:L33) -> 2.35 | M34: =SUM(M7:M33) -> 277.47 | N34: =SUM(N7:N33) -> 0.16 | O34: =SUM(O7:O33) -> 0
A67: Graphical Parameters
A68: (totale)
A69: Φ | B69: 5 | C69: =IFERROR((((INDEX(phi,MATCH(B69,cum_tot_2,1)+1,1)-INDEX(phi,MATCH(B69,cum_tot_2,1),1))/(INDEX(cum_tot_2,MATCH(B69,cum_tot_2,1)+1,1)-INDEX(cum_tot_2,MATCH(B69,cum_tot_2,1),1)))*(B69-INDEX(cum_tot_2,MATCH(B69,cum_tot_2,1),1)))+INDEX(phi,MATCH(B69,cum_tot_2,1),1),"6") -> -1.2066456
A70: Φ | B70: 16 | C70: =IFERROR((((INDEX(phi,MATCH(B70,cum_tot_2,1)+1,1)-INDEX(phi,MATCH(B70,cum_tot_2,1),1))/(INDEX(cum_tot_2,MATCH(B70,cum_tot_2,1)+1,1)-INDEX(cum_tot_2,MATCH(B70,cum_tot_2,1),1)))*(B70-INDEX(cum_tot_2,MATCH(B70,cum_tot_2,1),1)))+INDEX(phi,MATCH(B70,cum_tot_2,1),1),"6") -> 0.070930308
A71: Φ | B71: 25 | C71: =IFERROR((((INDEX(phi,MATCH(B71,cum_tot_2,1)+1,1)-INDEX(phi,MATCH(B71,cum_tot_2,1),1))/(INDEX(cum_tot_2,MATCH(B71,cum_tot_2,1)+1,1)-INDEX(cum_tot_2,MATCH(B71,cum_tot_2,1),1)))*(B71-INDEX(cum_tot_2,MATCH(B71,cum_tot_2,1),1)))+INDEX(phi,MATCH(B71,cum_tot_2,1),1),"6") -> 0.97127126
A72: Φ | B72: 50 | C72: =IFERROR((((INDEX(phi,MATCH(B72,cum_tot_2,1)+1,1)-INDEX(phi,MATCH(B72,cum_tot_2,1),1))/(INDEX(cum_tot_2,MATCH(B72,cum_tot_2,1)+1,1)-INDEX(cum_tot_2,MATCH(B72,cum_tot_2,1),1)))*(B72-INDEX(cum_tot_2,MATCH(B72,cum_tot_2,1),1)))+INDEX(phi,MATCH(B72,cum_tot_2,1),1),"6") -> 6
A73: Φ | B73: 75 | C73: =IFERROR((((INDEX(phi,MATCH(B73,cum_tot_2,1)+1,1)-INDEX(phi,MATCH(B73,cum_tot_2,1),1))/(INDEX(cum_tot_2,MATCH(B73,cum_tot_2,1)+1,1)-INDEX(cum_tot_2,MATCH(B73,cum_tot_2,1),1)))*(B73-INDEX(cum_tot_2,MATCH(B73,cum_tot_2,1),1)))+INDEX(phi,MATCH(B73,cum_tot_2,1),1),"6") -> 6
A74: Φ | B74: 84 | C74: =IFERROR((((INDEX(phi,MATCH(B74,cum_tot_2,1)+1,1)-INDEX(phi,MATCH(B74,cum_tot_2,1),1))/(INDEX(cum_tot_2,MATCH(B74,cum_tot_2,1)+1,1)-INDEX(cum_tot_2,MATCH(B74,cum_tot_2,1),1)))*(B74-INDEX(cum_tot_2,MATCH(B74,cum_tot_2,1),1)))+INDEX(phi,MATCH(B74,cum_tot_2,1),1),"6") -> 6
A75: Φ | B75: 95 | C75: =IFERROR((((INDEX(phi,MATCH(B75,cum_tot_2,1)+1,1)-INDEX(phi,MATCH(B75,cum_tot_2,1),1))/(INDEX(cum_tot_2,MATCH(B75,cum_tot_2,1)+1,1)-INDEX(cum_tot_2,MATCH(B75,cum_tot_2,1),1)))*(B75-INDEX(cum_tot_2,MATCH(B75,cum_tot_2,1),1)))+INDEX(phi,MATCH(B75,cum_tot_2,1),1),"6") -> 6
A77: Block and bombs | B77: =SUM(C7:C10)/SUM(C7:C33) -> 0 | D77: Lapilli (%) | E77: =SUM($D$7:$D$20) -> 5.4277639
A78: Lapilli | B78: =SUM(C11:C20)/SUM(C7:C33) -> 0.11291955 | D78: Coarse ash (%) | E78: =SUM($D$21:$D$30) -> 38.147822
A79: Ash | B79: =SUM(C21:C33)/SUM(C7:C33) -> 0.88708045 | D79: Fine ash (%) | E79: =SUM($D$31:$D$33) -> 4.4919426
A81: Juvenile (%) | B81: =100*SUM(H7:J33)/SUM(P7:P33) -> 12.786967 | D81: Juvenile (%) | E81: =100*SUM(H7:J33)/SUM(P7:P33) -> 12.786967 | G81: Pumices (%) | H81: =100*SUM(H7:H33)/(SUM(P7:P33)-SUM(M7:N33)) -> 87.857143
A82: Lithics (%) | B82: =100*SUM(K7:L33)/SUM(P7:P33) -> 0.73201881 | D82: Lithics (%) | E82: =100*SUM(K7:L33)/SUM(P7:P33) -> 0.73201881 | G82: Dense Juvenile (%) | H82: =100*SUM(I7:J33)/(SUM(P7:P33)-SUM(M7:N33)) -> 6.7281106
A83: Crystals (%) | B83: =100*SUM(O7:O33)/SUM(P7:P33) -> 0 | D83: Mixed (%) | E83: =100*SUM(M7:N33)/SUM(P7:P33) -> 86.481014 | G83: Lithics (%) | H83: =100*SUM(K7:L33)/(SUM(P7:P33)-SUM(M7:N33)) -> 5.4147465
A85: Mz | D85: =(C70+C74+C72)/3 -> 4.0236434
A86: MdΦ (mean) = Φ50 | D86: =C72 -> 6
A87: σΦ (sorting) = (Φ84- Φ16)/2 | D87: =(C74-C70)/2 -> 2.9645348
A88: aΦ (skewness) = (Φ84 + Φ16-Mdf)/σΦ | D88: =(C74+C70-D86)/D87 -> 0.023926286
A89: Inclusive graphic standard deviation = | D89: =((C74-C70)/4)+((C75-C69)/6.6) -> 2.5741834
A90: Inclusive graphic skewness = | D90: =((C70+C74-(2*C72))/(2*(C74-C70)))+((C69+C75-(2*C72))/(2*(C75-C69))) -> -1
A91: Graphic kurtosis = | D91: =(C74-C69)/(2.44*(C73-C71)) -> 0.58733398
A92: Graphic mean = | D92: =(C70+C72+C74)/3 -> 4.0236434
A94: Mean diameter MΦ (Φ16+Φ84)/2 | D94: =(C70+C74)/2 -> 3.0354652
A95: F1 | D95: =100-E23 -> 79.045088
A96: F2 | D96: =100-E30 -> 56.424414
A98: Presence of mixed ? | C98: =IF(SUM(M7:N33)>0,"Mixed","No Mixed") -> Mixed
A99: Presence of obsidian ? | C99: =IF(SUM(J7:J33)>0,"Obsidian","No obsidian") -> No obsidian

Sheet MAY181215_9_no_agg
A2: Grain size analysis of sample | D2: =RIGHT(CELL("nomfichier",A1),LEN(CELL("nomfichier",A1))-FIND("]",CELL("nomfichier",A1))) -> MAY181215_9_no_agg | G2: Sample : | H2: =D2 -> MAY181215_9_no_agg | K2: Location : Airport Beach
H3: Juveniles | K3: Lithics | S3: Juveniles | V3: Lithics | AD3: Juveniles | AG3: Lithics
A4: Total weight (g) | B4: =SUM(C7:C33) -> 256.82 | G4: Grain size (phi) | H4: Pumices | I4: Dense juveniles | J4: Obsidian | K4: Coral fragments | L4: Mafic clasts | M4: Aggregate | N4: Charcoal | O4: Crystals | P4: Total | R4: =G4 -> Grain size (phi) | S4: =H4 -> Pumices | T4: =I4 -> Dense juveniles | U4: =J4 -> Obsidian | V4: =K4 -> Coral fragments | W4: =L4 -> Mafic clasts | X4: =M4 -> Aggregate | Y4: =N4 -> Charcoal | Z4: =O4 -> Crystals | AA4: Total | AC4: =R4 -> Grain size (phi) | AD4: =S4 -> Pumices | AE4: =T4 -> Dense juveniles | AF4: =U4 -> Obsidian | AG4: =V4 -> Coral fragments | AH4: =W4 -> Mafic clasts | AI4: =X4 -> Aggregate | AJ4: =Y4 -> Charcoal | AK4: =Z4 -> Crystals | AL4: Total
A5: Diameters (mm/μ) | B5: F | C5: Wt | D5: % Wt | E5: %Cum
A7: 256-181 | B7: -7.5 | C7: 0 | D7: =(C7/SUM($C$7:$C$33))*100 -> 0 | E7: 0 | G7: =B7 -> -7.5 | H7: 0 | I7: 0 | J7: 0 | K7: 0 | L7: 0 | M7: 0 | N7: 0 | O7: 0 | P7: =SUM(H7:O7) -> 0 | R7: =G7 -> -7.5 | S7: =100*H7/$P7 -> #DIV/0! | T7: =100*I7/$P7 -> #DIV/0! | U7: =100*J7/$P7 -> #DIV/0! | V7: =100*K7/$P7 -> #DIV/0! | W7: =100*L7/$P7 -> #DIV/0! | X7: =100*M7/$P7 -> #DIV/0! | Y7: =100*N7/$P7 -> #DIV/0! | Z7: =100*O7/$P7 -> #DIV/0! | AA7: =SUM(S7:Z7) -> #DIV/0! | AC7: =R7 -> -7.5 | AD7: =S7*100/(SUM($S7:$W7)+SUM($Y7:$Z7)) -> #DIV/0! | AE7: =T7*100/(SUM($S7:$W7)+SUM($Y7:$Z7)) -> #DIV/0! | AF7: =U7*100/(SUM($S7:$W7)+SUM($Y7:$Z7)) -> #DIV/0! | AG7: =V7*100/(SUM($S7:$W7)+SUM($Y7:$Z7)) -> #DIV/0! | AH7: =W7*100/(SUM($S7:$W7)+SUM($Y7:$Z7)) -> #DIV/0! | AI7: =X7*100/(SUM($S7:$W7)+SUM($Y7:$Z7)) -> #DIV/0! | AJ7: =Y7*100/(SUM($S7:$W7)+SUM($Y7:$Z7)) -> #DIV/0! | AK7: =Z7*100/(SUM($S7:$W7)+SUM($Y7:$Z7)) -> #DIV/0! | AL7: =SUM(AD7:AK7) -> #DIV/0!
A8: 181-128 | B8: -7 | C8: 0 | D8: =(C8/SUM($C$7:$C$33))*100 -> 0 | E8: =SUM(D6,D8) -> 0 | G8: =B8 -> -7 | H8: 0 | I8: 0 | J8: 0 | K8: 0 | L8: 0 | M8: 0 | N8: 0 | O8: 0 | P8: =SUM(H8:O8) -> 0 | R8: =G8 -> -7 | S8: =100*H8/$P8 -> #DIV/0! | T8: =100*I8/$P8 -> #DIV/0! | U8: =100*J8/$P8 -> #DIV/0! | V8: =100*K8/$P8 -> #DIV/0! | W8: =100*L8/$P8 -> #DIV/0! | X8: =100*M8/$P8 -> #DIV/0! | Y8: =100*N8/$P8 -> #DIV/0! | Z8: =100*O8/$P8 -> #DIV/0! | AA8: =SUM(S8:Z8) -> #DIV/0! | AC8: =R8 -> -7 | AD8: =S8*100/(SUM($S8:$W8)+SUM($Y8:$Z8)) -> #DIV/0! | AE8: =T8*100/(SUM($S8:$W8)+SUM($Y8:$Z8)) -> #DIV/0! | AF8: =U8*100/(SUM($S8:$W8)+SUM($Y8:$Z8)) -> #DIV/0! | AG8: =V8*100/(SUM($S8:$W8)+SUM($Y8:$Z8)) -> #DIV/0! | AH8: =W8*100/(SUM($S8:$W8)+SUM($Y8:$Z8)) -> #DIV/0! | AI8: =X8*100/(SUM($S8:$W8)+SUM($Y8:$Z8)) -> #DIV/0! | AJ8: =Y8*100/(SUM($S8:$W8)+SUM($Y8:$Z8)) -> #DIV/0! | AK8: =Z8*100/(SUM($S8:$W8)+SUM($Y8:$Z8)) -> #DIV/0! | AL8: =SUM(AD8:AK8) -> #DIV/0!
A9: 128-90,5 | B9: -6.5 | C9: 0 | D9: =(C9/SUM($C$7:$C$33))*100 -> 0 | E9: =SUM(D6:D9) -> 0 | G9: =B9 -> -6.5 | H9: 0 | I9: 0 | J9: 0 | K9: 0 | L9: 0 | M9: 0 | N9: 0 | O9: 0 | P9: =SUM(H9:O9) -> 0 | R9: =G9 -> -6.5 | S9: =100*H9/$P9 -> #DIV/0! | T9: =100*I9/$P9 -> #DIV/0! | U9: =100*J9/$P9 -> #DIV/0! | V9: =100*K9/$P9 -> #DIV/0! | W9: =100*L9/$P9 -> #DIV/0! | X9: =100*M9/$P9 -> #DIV/0! | Y9: =100*N9/$P9 -> #DIV/0! | Z9: =100*O9/$P9 -> #DIV/0! | AA9: =SUM(S9:Z9) -> #DIV/0! | AC9: =R9 -> -6.5 | AD9: =S9*100/(SUM($S9:$W9)+SUM($Y9:$Z9)) -> #DIV/0! | AE9: =T9*100/(SUM($S9:$W9)+SUM($Y9:$Z9)) -> #DIV/0! | AF9: =U9*100/(SUM($S9:$W9)+SUM($Y9:$Z9)) -> #DIV/0! | AG9: =V9*100/(SUM($S9:$W9)+SUM($Y9:$Z9)) -> #DIV/0! | AH9: =W9*100/(SUM($S9:$W9)+SUM($Y9:$Z9)) -> #DIV/0! | AI9: =X9*100/(SUM($S9:$W9)+SUM($Y9:$Z9)) -> #DIV/0! | AJ9: =Y9*100/(SUM($S9:$W9)+SUM($Y9:$Z9)) -> #DIV/0! | AK9: =Z9*100/(SUM($S9:$W9)+SUM($Y9:$Z9)) -> #DIV/0! | AL9: =SUM(AD9:AK9) -> #DIV/0!
A10: >64 | B10: -6 | C10: 0 | D10: =(C10/SUM($C$7:$C$33))*100 -> 0 | E10: =SUM(D6:D10) -> 0 | G10: =B10 -> -6 | H10: 0 | I10: 0 | J10: 0 | K10: 0 | L10: 0 | M10: 0 | N10: 0 | O10: 0 | P10: =SUM(H10:O10) -> 0 | R10: =G10 -> -6 | S10: =100*H10/$P10 -> #DIV/0! | T10: =100*I10/$P10 -> #DIV/0! | U10: =100*J10/$P10 -> #DIV/0! | V10: =100*K10/$P10 -> #DIV/0! | W10: =100*L10/$P10 -> #DIV/0! | X10: =100*M10/$P10 -> #DIV/0! | Y10: =100*N10/$P10 -> #DIV/0! | Z10: =100*O10/$P10 -> #DIV/0! | AA10: =SUM(S10:Z10) -> #DIV/0! | AC10: =R10 -> -6 | AD10: =S10*100/(SUM($S10:$W10)+SUM($Y10:$Z10)) -> #DIV/0! | AE10: =T10*100/(SUM($S10:$W10)+SUM($Y10:$Z10)) -> #DIV/0! | AF10: =U10*100/(SUM($S10:$W10)+SUM($Y10:$Z10)) -> #DIV/0! | AG10: =V10*100/(SUM($S10:$W10)+SUM($Y10:$Z10)) -> #DIV/0! | AH10: =W10*100/(SUM($S10:$W10)+SUM($Y10:$Z10)) -> #DIV/0! | AI10: =X10*100/(SUM($S10:$W10)+SUM($Y10:$Z10)) -> #DIV/0! | AJ10: =Y10*100/(SUM($S10:$W10)+SUM($Y10:$Z10)) -> #DIV/0! | AK10: =Z10*100/(SUM($S10:$W10)+SUM($Y10:$Z10)) -> #DIV/0! | AL10: =SUM(AD10:AK10) -> #DIV/0!
A11: 64-45.3 | B11: -5.5 | C11: 0 | D11: =(C11/SUM($C$7:$C$33))*100 -> 0 | E11: =SUM(D6:D11) -> 0 | G11: =B11 -> -5.5 | H11: 0 | I11: 0 | J11: 0 | K11: 0 | L11: 0 | M11: 0 | N11: 0 | O11: 0 | P11: =SUM(H11:O11) -> 0 | R11: =G11 -> -5.5 | S11: =100*H11/$P11 -> #DIV/0! | T11: =100*I11/$P11 -> #DIV/0! | U11: =100*J11/$P11 -> #DIV/0! | V11: =100*K11/$P11 -> #DIV/0! | W11: =100*L11/$P11 -> #DIV/0! | X11: =100*M11/$P11 -> #DIV/0! | Y11: =100*N11/$P11 -> #DIV/0! | Z11: =100*O11/$P11 -> #DIV/0! | AA11: =SUM(S11:Z11) -> #DIV/0! | AC11: =R11 -> -5.5 | AD11: =S11*100/(SUM($S11:$W11)+SUM($Y11:$Z11)) -> #DIV/0! | AE11: =T11*100/(SUM($S11:$W11)+SUM($Y11:$Z11)) -> #DIV/0! | AF11: =U11*100/(SUM($S11:$W11)+SUM($Y11:$Z11)) -> #DIV/0! | AG11: =V11*100/(SUM($S11:$W11)+SUM($Y11:$Z11)) -> #DIV/0! | AH11: =W11*100/(SUM($S11:$W11)+SUM($Y11:$Z11)) -> #DIV/0! | AI11: =X11*100/(SUM($S11:$W11)+SUM($Y11:$Z11)) -> #DIV/0! | AJ11: =Y11*100/(SUM($S11:$W11)+SUM($Y11:$Z11)) -> #DIV/0! | AK11: =Z11*100/(SUM($S11:$W11)+SUM($Y11:$Z11)) -> #DIV/0! | AL11: =SUM(AD11:AK11) -> #DIV/0!
A12: 45.3-32 | B12: -5 | C12: 0 | D12: =(C12/SUM($C$7:$C$33))*100 -> 0 | E12: =SUM(D6:D12) -> 0 | G12: =B12 -> -5 | H12: 0 | I12: 0 | J12: 0 | K12: 0 | L12: 0 | M12: 0 | N12: 0 | O12: 0 | P12: =SUM(H12:O12) -> 0 | R12: =G12 -> -5 | S12: =100*H12/$P12 -> #DIV/0! | T12: =100*I12/$P12 -> #DIV/0! | U12: =100*J12/$P12 -> #DIV/0! | V12: =100*K12/$P12 -> #DIV/0! | W12: =100*L12/$P12 -> #DIV/0! | X12: =100*M12/$P12 -> #DIV/0! | Y12: =100*N12/$P12 -> #DIV/0! | Z12: =100*O12/$P12 -> #DIV/0! | AA12: =SUM(S12:Z12) -> #DIV/0! | AC12: =R12 -> -5 | AD12: =S12*100/(SUM($S12:$W12)+SUM($Y12:$Z12)) -> #DIV/0! | AE12: =T12*100/(SUM($S12:$W12)+SUM($Y12:$Z12)) -> #DIV/0! | AF12: =U12*100/(SUM($S12:$W12)+SUM($Y12:$Z12)) -> #DIV/0! | AG12: =V12*100/(SUM($S12:$W12)+SUM($Y12:$Z12)) -> #DIV/0! | AH12: =W12*100/(SUM($S12:$W12)+SUM($Y12:$Z12)) -> #DIV/0! | AI12: =X12*100/(SUM($S12:$W12)+SUM($Y12:$Z12)) -> #DIV/0! | AJ12: =Y12*100/(SUM($S12:$W12)+SUM($Y12:$Z12)) -> #DIV/0! | AK12: =Z12*100/(SUM($S12:$W12)+SUM($Y12:$Z12)) -> #DIV/0! | AL12: =SUM(AD12:AK12) -> #DIV/0!
A13: 32-22.6 | B13: -4.5 | C13: 0 | D13: =(C13/SUM($C$7:$C$33))*100 -> 0 | E13: =SUM(D7:D13) -> 0 | G13: =B13 -> -4.5 | H13: 0 | I13: 0 | J13: 0 | K13: 0 | L13: 0 | M13: 0 | N13: 0 | O13: 0 | P13: =SUM(H13:O13) -> 0 | R13: =G13 -> -4.5 | S13: =100*H13/$P13 -> #DIV/0! | T13: =100*I13/$P13 -> #DIV/0! | U13: =100*J13/$P13 -> #DIV/0! | V13: =100*K13/$P13 -> #DIV/0! | W13: =100*L13/$P13 -> #DIV/0! | X13: =100*M13/$P13 -> #DIV/0! | Y13: =100*N13/$P13 -> #DIV/0! | Z13: =100*O13/$P13 -> #DIV/0! | AA13: =SUM(S13:Z13) -> #DIV/0! | AC13: =R13 -> -4.5 | AD13: =S13*100/(SUM($S13:$W13)+SUM($Y13:$Z13)) -> #DIV/0! | AE13: =T13*100/(SUM($S13:$W13)+SUM($Y13:$Z13)) -> #DIV/0! | AF13: =U13*100/(SUM($S13:$W13)+SUM($Y13:$Z13)) -> #DIV/0! | AG13: =V13*100/(SUM($S13:$W13)+SUM($Y13:$Z13)) -> #DIV/0! | AH13: =W13*100/(SUM($S13:$W13)+SUM($Y13:$Z13)) -> #DIV/0! | AI13: =X13*100/(SUM($S13:$W13)+SUM($Y13:$Z13)) -> #DIV/0! | AJ13: =Y13*100/(SUM($S13:$W13)+SUM($Y13:$Z13)) -> #DIV/0! | AK13: =Z13*100/(SUM($S13:$W13)+SUM($Y13:$Z13)) -> #DIV/0! | AL13: =SUM(AD13:AK13) -> #DIV/0!
A14: 22,6-16 | B14: -4 | C14: 0 | D14: =(C14/SUM($C$7:$C$33))*100 -> 0 | E14: =SUM(D8:D14) -> 0 | G14: =B14 -> -4 | H14: 0 | I14: 0 | J14: 0 | K14: 0 | L14: 0 | M14: 0 | N14: 0 | O14: 0 | P14: =SUM(H14:O14) -> 0 | R14: =G14 -> -4 | S14: =100*H14/$P14 -> #DIV/0! | T14: =100*I14/$P14 -> #DIV/0! | U14: =100*J14/$P14 -> #DIV/0! | V14: =100*K14/$P14 -> #DIV/0! | W14: =100*L14/$P14 -> #DIV/0! | X14: =100*M14/$P14 -> #DIV/0! | Y14: =100*N14/$P14 -> #DIV/0! | Z14: =100*O14/$P14 -> #DIV/0! | AA14: =SUM(S14:Z14) -> #DIV/0! | AC14: =R14 -> -4 | AD14: =S14*100/(SUM($S14:$W14)+SUM($Y14:$Z14)) -> #DIV/0! | AE14: =T14*100/(SUM($S14:$W14)+SUM($Y14:$Z14)) -> #DIV/0! | AF14: =U14*100/(SUM($S14:$W14)+SUM($Y14:$Z14)) -> #DIV/0! | AG14: =V14*100/(SUM($S14:$W14)+SUM($Y14:$Z14)) -> #DIV/0! | AH14: =W14*100/(SUM($S14:$W14)+SUM($Y14:$Z14)) -> #DIV/0! | AI14: =X14*100/(SUM($S14:$W14)+SUM($Y14:$Z14)) -> #DIV/0! | AJ14: =Y14*100/(SUM($S14:$W14)+SUM($Y14:$Z14)) -> #DIV/0! | AK14: =Z14*100/(SUM($S14:$W14)+SUM($Y14:$Z14)) -> #DIV/0! | AL14: =SUM(AD14:AK14) -> #DIV/0!
A15: 16-11.3 | B15: -3.5 | C15: 0 | D15: =(C15/SUM($C$7:$C$33))*100 -> 0 | E15: =SUM(D6:D15) -> 0 | G15: =B15 -> -3.5 | H15: 0 | I15: 0 | J15: 0 | K15: 0 | L15: 0 | M15: 0 | N15: 0 | O15: 0 | P15: =SUM(H15:O15) -> 0 | R15: =G15 -> -3.5 | S15: =100*H15/$P15 -> #DIV/0! | T15: =100*I15/$P15 -> #DIV/0! | U15: =100*J15/$P15 -> #DIV/0! | V15: =100*K15/$P15 -> #DIV/0! | W15: =100*L15/$P15 -> #DIV/0! | X15: =100*M15/$P15 -> #DIV/0! | Y15: =100*N15/$P15 -> #DIV/0! | Z15: =100*O15/$P15 -> #DIV/0! | AA15: =SUM(S15:Z15) -> #DIV/0! | AC15: =R15 -> -3.5 | AD15: =S15*100/(SUM($S15:$W15)+SUM($Y15:$Z15)) -> #DIV/0! | AE15: =T15*100/(SUM($S15:$W15)+SUM($Y15:$Z15)) -> #DIV/0! | AF15: =U15*100/(SUM($S15:$W15)+SUM($Y15:$Z15)) -> #DIV/0! | AG15: =V15*100/(SUM($S15:$W15)+SUM($Y15:$Z15)) -> #DIV/0! | AH15: =W15*100/(SUM($S15:$W15)+SUM($Y15:$Z15)) -> #DIV/0! | AI15: 0 | AJ15: =Y15*100/(SUM($S15:$W15)+SUM($Y15:$Z15)) -> #DIV/0! | AK15: =Z15*100/(SUM($S15:$W15)+SUM($Y15:$Z15)) -> #DIV/0! | AL15: =SUM(AD15:AK15) -> #DIV/0!
A16: 11.3-8 | B16: -3 | C16: 0.76 | D16: =(C16/SUM($C$7:$C$33))*100 -> 0.29592711 | E16: =SUM(D6:D16) -> 0.29592711 | G16: =B16 -> -3 | H16: 0.76 | I16: 0 | J16: 0 | K16: 0 | L16: 0 | M16: 0 | N16: 0 | O16: 0 | P16: =SUM(H16:O16) -> 0.76 | R16: =G16 -> -3 | S16: =100*H16/$P16 -> 100 | T16: =100*I16/$P16 -> 0 | U16: =100*J16/$P16 -> 0 | V16: =100*K16/$P16 -> 0 | W16: =100*L16/$P16 -> 0 | X16: =100*M16/$P16 -> 0 | Y16: =100*N16/$P16 -> 0 | Z16: =100*O16/$P16 -> 0 | AA16: =SUM(S16:Z16) -> 100 | AC16: =R16 -> -3 | AD16: =S16*100/(SUM($S16:$W16)+SUM($Y16:$Z16)) -> 100 | AE16: =T16*100/(SUM($S16:$W16)+SUM($Y16:$Z16)) -> 0 | AF16: =U16*100/(SUM($S16:$W16)+SUM($Y16:$Z16)) -> 0 | AG16: =V16*100/(SUM($S16:$W16)+SUM($Y16:$Z16)) -> 0 | AH16: =W16*100/(SUM($S16:$W16)+SUM($Y16:$Z16)) -> 0 | AI16: 0 | AJ16: =Y16*100/(SUM($S16:$W16)+SUM($Y16:$Z16)) -> 0 | AK16: =Z16*100/(SUM($S16:$W16)+SUM($Y16:$Z16)) -> 0 | AL16: =SUM(AD16:AK16) -> 100
A17: 8-5,66 | B17: -2.5 | C17: 8.15 | D17: =(C17/SUM($C$7:$C$33))*100 -> 3.1734289 | E17: =SUM(D6:D17) -> 3.469356 | G17: =B17 -> -2.5 | H17: 6.19 | I17: 0.64 | J17: 0 | K17: 0 | L17: 1.32 | M17: 0 | N17: 0 | O17: 0 | P17: =SUM(H17:O17) -> 8.15 | R17: =G17 -> -2.5 | S17: =100*H17/$P17 -> 75.95092 | T17: =100*I17/$P17 -> 7.8527607 | U17: =100*J17/$P17 -> 0 | V17: =100*K17/$P17 -> 0 | W17: =100*L17/$P17 -> 16.196319 | X17: =100*M17/$P17 -> 0 | Y17: =100*N17/$P17 -> 0 | Z17: =100*O17/$P17 -> 0 | AA17: =SUM(S17:Z17) -> 100 | AC17: =R17 -> -2.5 | AD17: =S17*100/(SUM($S17:$W17)+SUM($Y17:$Z17)) -> 75.95092 | AE17: =T17*100/(SUM($S17:$W17)+SUM($Y17:$Z17)) -> 7.8527607 | AF17: =U17*100/(SUM($S17:$W17)+SUM($Y17:$Z17)) -> 0 | AG17: =V17*100/(SUM($S17:$W17)+SUM($Y17:$Z17)) -> 0 | AH17: =W17*100/(SUM($S17:$W17)+SUM($Y17:$Z17)) -> 16.196319 | AI17: 0 | AJ17: =Y17*100/(SUM($S17:$W17)+SUM($Y17:$Z17)) -> 0 | AK17: =Z17*100/(SUM($S17:$W17)+SUM($Y17:$Z17)) -> 0 | AL17: =SUM(AD17:AK17) -> 100
A18: 5,66-4 | B18: -2 | C18: 6.71 | D18: =(C18/SUM($C$7:$C$33))*100 -> 2.6127249 | E18: =SUM(D6:D18) -> 6.0820808 | G18: =B18 -> -2 | H18: 6.09 | I18: 0.33 | J18: 0 | K18: 0 | L18: 0.29 | M18: 0 | N18: 0 | O18: 0 | P18: =SUM(H18:O18) -> 6.71 | R18: =G18 -> -2 | S18: =100*H18/$P18 -> 90.76006 | T18: =100*I18/$P18 -> 4.9180328 | U18: =100*J18/$P18 -> 0 | V18: =100*K18/$P18 -> 0 | W18: =100*L18/$P18 -> 4.3219076 | X18: =100*M18/$P18 -> 0 | Y18: =100*N18/$P18 -> 0 | Z18: =100*O18/$P18 -> 0 | AA18: =SUM(S18:Z18) -> 100 | AC18: =R18 -> -2 | AD18: =S18*100/(SUM($S18:$W18)+SUM($Y18:$Z18)) -> 90.76006 | AE18: =T18*100/(SUM($S18:$W18)+SUM($Y18:$Z18)) -> 4.9180328 | AF18: =U18*100/(SUM($S18:$W18)+SUM($Y18:$Z18)) -> 0 | AG18: =V18*100/(SUM($S18:$W18)+SUM($Y18:$Z18)) -> 0 | AH18: =W18*100/(SUM($S18:$W18)+SUM($Y18:$Z18)) -> 4.3219076 | AI18: 0 | AJ18: =Y18*100/(SUM($S18:$W18)+SUM($Y18:$Z18)) -> 0 | AK18: =Z18*100/(SUM($S18:$W18)+SUM($Y18:$Z18)) -> 0 | AL18: =SUM(AD18:AK18) -> 100
A19: 4000 - 2800 | B19: -1.5 | C19: 7.85 | D19: =(C19/SUM($C$7:$C$33))*100 -> 3.0566155 | E19: =SUM(D6:D19) -> 9.1386964 | G19: =B19 -> -1.5 | H19: 6.42 | I19: 1.27 | J19: 0 | K19: 0 | L19: 0.16 | M19: 0 | N19: 0 | O19: 0 | P19: =SUM(H19:O19) -> 7.85 | R19: =G19 -> -1.5 | S19: =100*H19/$P19 -> 81.783439 | T19: =100*I19/$P19 -> 16.178344 | U19: =100*J19/$P19 -> 0 | V19: =100*K19/$P19 -> 0 | W19: =100*L19/$P19 -> 2.0382166 | X19: =100*M19/$P19 -> 0 | Y19: =100*N19/$P19 -> 0 | Z19: =100*O19/$P19 -> 0 | AA19: =SUM(S19:Z19) -> 100 | AC19: =R19 -> -1.5 | AD19: =S19*100/(SUM($S19:$W19)+SUM($Y19:$Z19)) -> 81.783439 | AE19: =T19*100/(SUM($S19:$W19)+SUM($Y19:$Z19)) -> 16.178344 | AF19: =U19*100/(SUM($S19:$W19)+SUM($Y19:$Z19)) -> 0 | AG19: =V19*100/(SUM($S19:$W19)+SUM($Y19:$Z19)) -> 0 | AH19: =W19*100/(SUM($S19:$W19)+SUM($Y19:$Z19)) -> 2.0382166 | AI19: 0 | AJ19: =Y19*100/(SUM($S19:$W19)+SUM($Y19:$Z19)) -> 0 | AK19: =Z19*100/(SUM($S19:$W19)+SUM($Y19:$Z19)) -> 0 | AL19: =SUM(AD19:AK19) -> 100
A20: 2800 - 2000 | B20: -1 | C20: 5.53 | D20: =(C20/SUM($C$7:$C$33))*100 -> 2.1532591 | E20: =SUM(D6:D20) -> 11.291955 | G20: =B20 -> -1 | H20: 5.05 | I20: 0.2 | J20: 0 | K20: 0 | L20: 0.28 | M20: 0 | N20: 0 | O20: 0 | P20: =SUM(H20:O20) -> 5.53 | R20: =G20 -> -1 | S20: =100*H20/$P20 -> 91.320072 | T20: =100*I20/$P20 -> 3.6166365 | U20: =100*J20/$P20 -> 0 | V20: =100*K20/$P20 -> 0 | W20: =100*L20/$P20 -> 5.0632911 | X20: =100*M20/$P20 -> 0 | Y20: =100*N20/$P20 -> 0 | Z20: =100*O20/$P20 -> 0 | AA20: =SUM(S20:Z20) -> 100 | AC20: =R20 -> -1 | AD20: =S20*100/(SUM($S20:$W20)+SUM($Y20:$Z20)) -> 91.320072 | AE20: =T20*100/(SUM($S20:$W20)+SUM($Y20:$Z20)) -> 3.6166365 | AF20: =U20*100/(SUM($S20:$W20)+SUM($Y20:$Z20)) -> 0 | AG20: =V20*100/(SUM($S20:$W20)+SUM($Y20:$Z20)) -> 0 | AH20: =W20*100/(SUM($S20:$W20)+SUM($Y20:$Z20)) -> 5.0632911 | AI20: 0 | AJ20: =Y20*100/(SUM($S20:$W20)+SUM($Y20:$Z20)) -> 0 | AK20: =Z20*100/(SUM($S20:$W20)+SUM($Y20:$Z20)) -> 0 | AL20: =SUM(AD20:AK20) -> 100
A21: 2000-1400 | B21: -0.5 | C21: 14.56 | D21: =(C21/SUM($C$7:$C$33))*100 -> 5.6693404 | E21: =SUM(D6:D21) -> 16.961296 | G21: =B21 -> -0.5 | H21: 13.62 | I21: 0.48 | J21: 0 | K21: 0 | L21: 0.3 | M21: 0 | N21: 0.16 | O21: 0 | P21: =SUM(H21:O21) -> 14.56 | R21: =G21 -> -0.5 | S21: =100*H21/$P21 -> 93.543956 | T21: =100*I21/$P21 -> 3.2967033 | U21: =100*J21/$P21 -> 0 | V21: =100*K21/$P21 -> 0 | W21: =100*L21/$P21 -> 2.0604396 | X21: =100*M21/$P21 -> 0 | Y21: =100*N21/$P21 -> 1.0989011 | Z21: =100*O21/$P21 -> 0 | AA21: =SUM(S21:Z21) -> 100 | AC21: =R21 -> -0.5 | AD21: =S21*100/(SUM($S21:$W21)+SUM($Y21:$Z21)) -> 93.543956 | AE21: =T21*100/(SUM($S21:$W21)+SUM($Y21:$Z21)) -> 3.2967033 | AF21: =U21*100/(SUM($S21:$W21)+SUM($Y21:$Z21)) -> 0 | AG21: =V21*100/(SUM($S21:$W21)+SUM($Y21:$Z21)) -> 0 | AH21: =W21*100/(SUM($S21:$W21)+SUM($Y21:$Z21)) -> 2.0604396 | AI21: 0 | AJ21: =Y21*100/(SUM($S21:$W21)+SUM($Y21:$Z21)) -> 1.0989011 | AK21: =Z21*100/(SUM($S21:$W21)+SUM($Y21:$Z21)) -> 0 | AL21: =SUM(AD21:AK21) -> 100
A22: 1400 - 1000 | B22: 0 | C22: 37.55 | D22: =(C22/SUM($C$7:$C$33))*100 -> 14.621135 | E22: =SUM(D6:D22) -> 31.582431 | G22: =B22 -> 0 | H22: 0 | I22: 0 | J22: 0 | K22: 0 | L22: 0 | M22: 0 | N22: 0 | O22: 0 | P22: =SUM(H22:O22) -> 0 | R22: =G22 -> 0 | S22: =100*H22/$P22 -> #DIV/0! | T22: =100*I22/$P22 -> #DIV/0! | U22: =100*J22/$P22 -> #DIV/0! | V22: =100*K22/$P22 -> #DIV/0! | W22: =100*L22/$P22 -> #DIV/0! | X22: =100*M22/$P22 -> #DIV/0! | Y22: =100*N22/$P22 -> #DIV/0! | Z22: =100*O22/$P22 -> #DIV/0! | AA22: =SUM(S22:Z22) -> #DIV/0! | AC22: =R22 -> 0 | AD22: =S22*100/(SUM($S22:$W22)+SUM($Y22:$Z22)) -> #DIV/0! | AE22: =T22*100/(SUM($S22:$W22)+SUM($Y22:$Z22)) -> #DIV/0! | AF22: =U22*100/(SUM($S22:$W22)+SUM($Y22:$Z22)) -> #DIV/0! | AG22: =V22*100/(SUM($S22:$W22)+SUM($Y22:$Z22)) -> #DIV/0! | AH22: =W22*100/(SUM($S22:$W22)+SUM($Y22:$Z22)) -> #DIV/0! | AI22: =X22*100/(SUM($S22:$W22)+SUM($Y22:$Z22)) -> #DIV/0! | AJ22: =Y22*100/(SUM($S22:$W22)+SUM($Y22:$Z22)) -> #DIV/0! | AK22: =Z22*100/(SUM($S22:$W22)+SUM($Y22:$Z22)) -> #DIV/0! | AL22: =SUM(AD22:AK22) -> #DIV/0!
A23: 1000-710 | B23: 0.5 | C23: 30.85 | D23: =(C23/SUM($C$7:$C$33))*100 -> 12.012304 | E23: =SUM(D6:D23) -> 43.594736 | G23: =B23 -> 0.5 | H23: 0 | I23: 0 | J23: 0 | K23: 0 | L23: 0 | M23: 0 | N23: 0 | O23: 0 | P23: =SUM(H23:O23) -> 0 | R23: =G23 -> 0.5 | S23: =100*H23/$P23 -> #DIV/0! | T23: =100*I23/$P23 -> #DIV/0! | U23: =100*J23/$P23 -> #DIV/0! | V23: =100*K23/$P23 -> #DIV/0! | W23: =100*L23/$P23 -> #DIV/0! | X23: =100*M23/$P23 -> #DIV/0! | Y23: =100*N23/$P23 -> #DIV/0! | Z23: =100*O23/$P23 -> #DIV/0! | AA23: =SUM(S23:Z23) -> #DIV/0! | AC23: =R23 -> 0.5 | AD23: =S23*100/(SUM($S23:$W23)+SUM($Y23:$Z23)) -> #DIV/0! | AE23: =T23*100/(SUM($S23:$W23)+SUM($Y23:$Z23)) -> #DIV/0! | AF23: =U23*100/(SUM($S23:$W23)+SUM($Y23:$Z23)) -> #DIV/0! | AG23: =V23*100/(SUM($S23:$W23)+SUM($Y23:$Z23)) -> #DIV/0! | AH23: =W23*100/(SUM($S23:$W23)+SUM($Y23:$Z23)) -> #DIV/0! | AI23: =X23*100/(SUM($S23:$W23)+SUM($Y23:$Z23)) -> #DIV/0! | AJ23: =Y23*100/(SUM($S23:$W23)+SUM($Y23:$Z23)) -> #DIV/0! | AK23: =Z23*100/(SUM($S23:$W23)+SUM($Y23:$Z23)) -> #DIV/0! | AL23: =SUM(AD23:AK23) -> #DIV/0!
A24: 710-500 | B24: 1 | C24: 22.93 | D24: =(C24/SUM($C$7:$C$33))*100 -> 8.9284324 | E24: =SUM(D6:D24) -> 52.523168 | G24: =B24 -> 1 | H24: 0 | I24: 0 | J24: 0 | K24: 0 | L24: 0 | M24: 0 | N24: 0 | O24: 0 | P24: =SUM(H24:O24) -> 0 | R24: =G24 -> 1 | S24: =100*H24/$P24 -> #DIV/0! | T24: =100*I24/$P24 -> #DIV/0! | U24: =100*J24/$P24 -> #DIV/0! | V24: =100*K24/$P24 -> #DIV/0! | W24: =100*L24/$P24 -> #DIV/0! | X24: =100*M24/$P24 -> #DIV/0! | Y24: =100*N24/$P24 -> #DIV/0! | Z24: =100*O24/$P24 -> #DIV/0! | AA24: =SUM(S24:Z24) -> #DIV/0! | AC24: =R24 -> 1 | AD24: =S24*100/(SUM($S24:$W24)+SUM($Y24:$Z24)) -> #DIV/0! | AE24: =T24*100/(SUM($S24:$W24)+SUM($Y24:$Z24)) -> #DIV/0! | AF24: =U24*100/(SUM($S24:$W24)+SUM($Y24:$Z24)) -> #DIV/0! | AG24: =V24*100/(SUM($S24:$W24)+SUM($Y24:$Z24)) -> #DIV/0! | AH24: =W24*100/(SUM($S24:$W24)+SUM($Y24:$Z24)) -> #DIV/0! | AI24: =X24*100/(SUM($S24:$W24)+SUM($Y24:$Z24)) -> #DIV/0! | AJ24: =Y24*100/(SUM($S24:$W24)+SUM($Y24:$Z24)) -> #DIV/0! | AK24: =Z24*100/(SUM($S24:$W24)+SUM($Y24:$Z24)) -> #DIV/0! | AL24: =SUM(AD24:AK24) -> #DIV/0!
A25: 500-355 | B25: 1.5 | C25: 20.43 | D25: =(C25/SUM($C$7:$C$33))*100 -> 7.9549879 | E25: =SUM(D6:D25) -> 60.478156 | G25: =B25 -> 1.5 | H25: 0 | I25: 0 | J25: 0 | K25: 0 | L25: 0 | M25: 0 | N25: 0 | O25: 0 | P25: =SUM(H25:O25) -> 0 | R25: =G25 -> 1.5 | S25: =100*H25/$P25 -> #DIV/0! | T25: =100*I25/$P25 -> #DIV/0! | U25: =100*J25/$P25 -> #DIV/0! | V25: =100*K25/$P25 -> #DIV/0! | W25: =100*L25/$P25 -> #DIV/0! | X25: =100*M25/$P25 -> #DIV/0! | Y25: =100*N25/$P25 -> #DIV/0! | Z25: =100*O25/$P25 -> #DIV/0! | AA25: =SUM(S25:Z25) -> #DIV/0! | AC25: =R25 -> 1.5 | AD25: =S25*100/(SUM($S25:$W25)+SUM($Y25:$Z25)) -> #DIV/0! | AE25: =T25*100/(SUM($S25:$W25)+SUM($Y25:$Z25)) -> #DIV/0! | AF25: =U25*100/(SUM($S25:$W25)+SUM($Y25:$Z25)) -> #DIV/0! | AG25: =V25*100/(SUM($S25:$W25)+SUM($Y25:$Z25)) -> #DIV/0! | AH25: =W25*100/(SUM($S25:$W25)+SUM($Y25:$Z25)) -> #DIV/0! | AI25: =X25*100/(SUM($S25:$W25)+SUM($Y25:$Z25)) -> #DIV/0! | AJ25: =Y25*100/(SUM($S25:$W25)+SUM($Y25:$Z25)) -> #DIV/0! | AK25: =Z25*100/(SUM($S25:$W25)+SUM($Y25:$Z25)) -> #DIV/0! | AL25: =SUM(AD25:AK25) -> #DIV/0!
A26: 355 - 250 | B26: 2 | C26: 16.95 | D26: =(C26/SUM($C$7:$C$33))*100 -> 6.5999533 | E26: =SUM(D6:D26) -> 67.078109 | G26: =B26 -> 2 | H26: 0 | I26: 0 | J26: 0 | K26: 0 | L26: 0 | M26: 0 | N26: 0 | O26: 0 | P26: =SUM(H26:O26) -> 0 | R26: =G26 -> 2 | S26: =100*H26/$P26 -> #DIV/0! | T26: =100*I26/$P26 -> #DIV/0! | U26: =100*J26/$P26 -> #DIV/0! | V26: =100*K26/$P26 -> #DIV/0! | W26: =100*L26/$P26 -> #DIV/0! | X26: =100*M26/$P26 -> #DIV/0! | Y26: =100*N26/$P26 -> #DIV/0! | Z26: =100*O26/$P26 -> #DIV/0! | AA26: =SUM(S26:Z26) -> #DIV/0! | AC26: =R26 -> 2 | AD26: =S26*100/(SUM($S26:$W26)+SUM($Y26:$Z26)) -> #DIV/0! | AE26: =T26*100/(SUM($S26:$W26)+SUM($Y26:$Z26)) -> #DIV/0! | AF26: =U26*100/(SUM($S26:$W26)+SUM($Y26:$Z26)) -> #DIV/0! | AG26: =V26*100/(SUM($S26:$W26)+SUM($Y26:$Z26)) -> #DIV/0! | AH26: =W26*100/(SUM($S26:$W26)+SUM($Y26:$Z26)) -> #DIV/0! | AI26: =X26*100/(SUM($S26:$W26)+SUM($Y26:$Z26)) -> #DIV/0! | AJ26: =Y26*100/(SUM($S26:$W26)+SUM($Y26:$Z26)) -> #DIV/0! | AK26: =Z26*100/(SUM($S26:$W26)+SUM($Y26:$Z26)) -> #DIV/0! | AL26: =SUM(AD26:AK26) -> #DIV/0!
