Workbook

Sheet Sheet1
A1: Title: Assessing the predictability of existing water-to-enamel geolocation models against known human teeth: Do we need tissue-specific δ 18O reference maps?
A3: Supplementary Table S2. Drinking water data collected from other sources.
A4: City | B4: Country | C4: Collection Date | D4: Latitude | E4: Longitude | F4: Type | G4: Source | H4: d2H | I4: d18O | J4: Reference
A5: Baysville | B5: Canada
A6: Chapeau | B6: Canada | C6: unknown | F6: Tap | G6: Ottawa River | H6: -81 | I6: -10.8 | J6: [60]
A7: Hamilton | B7: Canada | C7: unknown | F7: Tap | G7: Lake Ontario | H7: -52.5 | I7: -6.8 | J7: [60]
A8: Hamilton | B8: Canada | C8: unknown | F8: Tap | G8: Lake Ontario | H8: -53 | I8: -5.8 | J8: [60]
A9: Kelowna | B9: Canada | C9: 38838 | D9: 50.24 | E9: 119.36 | F9: Surface water | G9: Okanagan Lake | H9: -104 | I9: -11.1 | J9: [61]
A10: Kelowna | B10: Canada | C10: 38869 | D10: 50.24 | E10: 119.36 | F10: Surface water | G10: Okanagan Lake | H10: -105 | I10: -12 | J10: [61]
A11: Kelowna | B11: Canada | C11: 38873 | D11: 49.78 | E11: 119.73 | F11: Surface water | G11: Okanagan Lake | H11: -109 | I11: -11.9 | J11: [61]
A12: Kelowna | B12: Canada | C12: 38905 | D12: 49.78 | E12: 119.73 | F12: Surface water | G12: Okanagan Lake | H12: -105 | I12: -11.8 | J12: [61]
A13: Kelowna | B13: Canada | C13: 38906 | D13: 50.24 | E13: 119.36 | F13: Surface water | G13: Okanagan Lake | H13: -105 | I13: -11.6 | J13: [61]
A14: Kelowna | B14: Canada | C14: 38930 | D14: 50.24 | E14: 119.36 | F14: Surface water | G14: Okanagan Lake | H14: -105 | I14: -10.6 | J14: [61]
A15: Kelowna | B15: Canada | C15: 38933 | D15: 49.78 | E15: 119.73 | F15: Surface water | G15: Okanagan Lake | H15: -106 | I15: -10.7 | J15: [61]
A16: Kelowna | B16: Canada | C16: 38968 | D16: 49.78 | E16: 119.73 | F16: Surface water | G16: Okanagan Lake | H16: -104 | I16: -11.2 | J16: [61]
A17: Kelowna | B17: Canada | C17: 38969 | D17: 50.24 | E17: 119.36 | F17: Surface water | G17: Okanagan Lake | H17: -103 | I17: -11.4 | J17: [61]
A18: Kelowna | B18: Canada | C18: 38997 | D18: 50.24 | E18: 119.36 | F18: Surface water | G18: Okanagan Lake | H18: -102 | I18: -10.7 | J18: [61]
A19: Kelowna | B19: Canada | C19: 38998 | D19: 49.78 | E19: 119.73 | F19: Surface water | G19: Okanagan Lake | H19: -102 | I19: -10.7 | J19: [61]
A20: Kelowna | B20: Canada | C20: 39023 | D20: 49.78 | E20: 119.73 | F20: Surface water | G20: Okanagan Lake | H20: -98 | I20: -10.7 | J20: [61]
... A44: Kelowna | B44: Canada | C44: 39562 | D44: 49.78 | E44: 119.73 | F44: Surface water | G44: Okanagan Lake | H44: -109 | I44: -11.6 | J44: [61]
A45: Kingston | B45: Canada | F45: Tap | G45: Lake Ontario | I45: -6.4 | J45: [60]
A46: Morin Heights | B46: Canada | C46: unknown | F46: Tap | G46: Ottawa River | H46: -81 | I46: -10.8 | J46: [60]
A47: Prince George | B47: Canada | C47: 34151 | F47: Surface water | G47: Nechako River | H47: -129.8 | I47: -15.78 | J47: [62]
A48: Prince George | B48: Canada | C48: 34274 | F48: Surface water | G48: Nechako River | H48: -131 | I48: -16.66 | J48: [62]
A49: St. Catharines | B49: Canada | C49: unknown | F49: Tap | G49: Lake Erie via the Welland Canal | H49: -51.5 | I49: -6.8 | J49: [60]
A50: St. Catharines | B50: Canada | C50: unknown | F50: Tap | G50: Lake Erie via the Welland Canal | H50: -53.4 | I50: -6.7 | J50: [60]
A51: Toronto | B51: Canada | C51: unknown | F51: Tap | G51: Lake Ontario | H51: -53.6 | I51: -6.9 | J51: [60]
A52: Toronto | B52: Canada | C52: unknown | F52: Tap | G52: Lake Ontario | H52: -53.2 | I52: -6.9 | J52: [60]
A53: Toronto | B53: Canada | C53: unknown | F53: Tap | G53: Lake Ontario | H53: -49.1 | I53: -5.2 | J53: [60]
A54: Toronto | B54: Canada | C54: unknown | F54: Tap | G54: Lake Ontario | H54: -54 | I54: -6.9 | J54: [60]
A55: Vanderhoof | B55: Canada | C55: 34151 | F55: Surface water | G55: Nechako River | H55: -129.8 | I55: -15.78 | J55: [62]
A56: Vanderhoof | B56: Canada | C56: 34274 | F56: Surface water | G56: Nechako River | H56: -131 | I56: -16.66 | J56: [62]
A57: Williams Lake | B57: Canada
A58: Winnipeg | B58: Canada | C58: unknown | F58: Tap | G58: Shoal Lake | H58: -60 | I58: -6.8 | J58: [61]
A59: Chifeng | B59: China | C59: 41988 | D59: 42.267982 | E59: 118.94982 | F59: Tap | G59: unknown | H59: -74.629014 | I59: -9.7419767 | J59: [65]
A60: Chifeng | B60: China | C60: 42019 | D60: 42.267982 | E60: 118.94982 | F60: Tap | G60: unknown | H60: -77.512653 | I60: -10.006047 | J60: [65]
A61: Chifeng | B61: China | C61: 42050 | D61: 42.267982 | E61: 118.94982 | F61: Tap | G61: unknown | H61: -70.157066 | I61: -8.5878834 | J61: [65]
A62: Chifeng | B62: China | C62: 42078 | D62: 42.267982 | E62: 118.94982 | F62: Tap | G62: unknown | H62: -74.285226 | I62: -9.5422205 | J62: [65]
A63: Chifeng | B63: China | C63: 42109 | D63: 42.267982 | E63: 118.94982 | F63: Tap | G63: unknown | H63: -73.579151 | I63: -9.6123706 | J63: [65]
A64: Chifeng | B64: China | C64: 42139 | D64: 42.267982 | E64: 118.94982 | F64: Tap | G64: unknown | H64: -76.231434 | I64: -10.030299 | J64: [65]
A65: Chifeng | B65: China | C65: 42170 | D65: 42.267982 | E65: 118.94982 | F65: Tap | G65: unknown | H65: -75.510359 | I65: -9.9571052 | J65: [65]
A66: Chifeng | B66: China | C66: 42200 | D66: 42.267982 | E66: 118.94982 | F66: Tap | G66: unknown | H66: -74.742784 | I66: -10.056416 | J66: [65]
A67: Chifeng | B67: China | C67: 42231 | D67: 42.267982 | E67: 118.94982 | F67: Tap | G67: unknown | H67: -75.004978 | I67: -9.6429263 | J67: [65]
A68: Chifeng | B68: China | C68: 42292 | D68: 42.267982 | E68: 118.94982 | F68: Tap | G68: unknown | H68: -75.335379 | I68: -9.8043236 | J68: [65]
A69: Chifeng | B69: China | C69: unknown | F69: Tap | H69: -81 | I69: -10.5 | J69: [67]
A70: Guangzhou | B70: China | C70: 41988 | D70: 23.118912 | E70: 113.26143 | F70: Tap | G70: unknown | H70: -36.697863 | I70: -5.7764357 | J70: [65]
A71: Guangzhou | B71: China | C71: 42019 | D71: 23.118912 | E71: 113.26143 | F71: Tap | G71: unknown | H71: -38.432464 | I71: -5.98584 | J71: [65]
A72: Guangzhou | B72: China | C72: 42050 | D72: 23.118912 | E72: 113.26143 | F72: Tap | G72: unknown | H72: -43.950466 | I72: -6.7150771 | J72: [65]
A73: Guangzhou | B73: China | C73: 42078 | D73: 23.118912 | E73: 113.26143 | F73: Tap | G73: unknown | H73: -37.920061 | I73: -6.1250538 | J73: [65]
A74: Guangzhou | B74: China | C74: 42139 | D74: 23.118912 | E74: 113.26143 | F74: Tap | G74: unknown | H74: -26.022485 | I74: -4.8567429 | J74: [65]
A75: Guangzhou | B75: China | C75: 42200 | D75: 23.118912 | E75: 113.26143 | F75: Tap | G75: unknown | H75: -35.542853 | I75: -5.8608619 | J75: [65]
A76: Guangzhou | B76: China | C76: 42231 | D76: 23.118912 | E76: 113.26143 | F76: Tap | G76: unknown | H76: -45.694314 | I76: -6.9048583 | J76: [65]
A77: Guangzhou | B77: China | C77: 42262 | D77: 23.118912 | E77: 113.26143 | F77: Tap | G77: unknown | H77: -41.336028 | I77: -6.3261763 | J77: [65]
A78: Guangzhou | B78: China | C78: 42292 | D78: 23.118912 | E78: 113.26143 | F78: Tap | G78: unknown | H78: -44.165 | I78: -6.7398874 | J78: [65]
A79: Lianyungang | B79: China | C79: 41919 | D79: 34.36 | E79: 119.76 | F79: Tap | G79: unknown | H79: -32.793066 | I79: -4.164327 | J79: [65]
A80: Lianyungang | B80: China | C80: 41950 | D80: 34.36 | E80: 119.76 | F80: Tap | G80: unknown | H80: -32.972858 | I80: -4.221907 | J80: [65]
A81: Lianyungang | B81: China | C81: 41980 | D81: 34.36 | E81: 119.76 | F81: Tap | G81: unknown | H81: -30.193546 | I81: -3.881204 | J81: [65]
... A213: Tianjin | B213: China | C213: 42437 | D213: 39.14 | E213: 117.15 | F213: Tap | G213: unknown | H213: -46.912126 | I213: -6.910341 | J213: [65]
A214: Yiyuan, Zibo | B214: China
A215: Zibo | B215: China | C215: 41942 | D215: 36.82 | E215: 118.03 | F215: Tap | G215: unknown | H215: -60.87879 | I215: -8.516592 | J215: [65]
A216: Zibo | B216: China | C216: 41973 | D216: 36.82 | E216: 118.03 | F216: Tap | G216: unknown | H216: -59.995395 | I216: -8.431705 | J216: [65]
A217: Zibo | B217: China | C217: 42003 | D217: 36.82 | E217: 118.03 | F217: Tap | G217: unknown | H217: -60.635373 | I217: -8.554601 | J217: [65]
A218: Zibo | B218: China | C218: 42034 | D218: 36.82 | E218: 118.03 | F218: Tap | G218: unknown | H218: -58.829894 | I218: -8.305007 | J218: [65]
A219: Zibo | B219: China | C219: 42063 | D219: 36.82 | E219: 118.03 | F219: Tap | G219: unknown | H219: -60.0228 | I219: -8.305007 | J219: [65]
A220: Zibo | B220: China | C220: 42092 | D220: 36.82 | E220: 118.03 | F220: Tap | G220: unknown | H220: -60.511246 | I220: -8.405098 | J220: [65]
A221: Zibo | B221: China | C221: 42124 | D221: 36.82 | E221: 118.03 | F221: Tap | G221: unknown | H221: -59.13211 | I221: -8.709079 | J221: [65]
A222: Zibo | B222: China | C222: 42154 | D222: 36.82 | E222: 118.03 | F222: Tap | G222: unknown | H222: -61.248557 | I222: -8.468455 | J222: [65]
A223: Zibo | B223: China | C223: 42185 | D223: 36.82 | E223: 118.03 | F223: Tap | G223: unknown | H223: -60.59594 | I223: -8.470923 | J223: [65]
A224: Zibo | B224: China | C224: 42215 | D224: 36.82 | E224: 118.03 | F224: Tap | G224: unknown | H224: -61.30934 | I224: -8.540004 | J224: [65]
A225: Zibo | B225: China | C225: 42246 | D225: 36.82 | E225: 118.03 | F225: Tap | G225: unknown | H225: -59.933726 | I225: -8.368534 | J225: [65]
A226: Zibo | B226: China | C226: 42277 | D226: 36.82 | E226: 118.03 | F226: Tap | G226: unknown | H226: -59.706589 | I226: -8.28835 | J226: [65]
A227: Fiji Island | B227: Fiji
A228: Hong Kong | B228: Hong Kong | C228: 38587 | D228: 22.28733 | E228: 114.1667 | F228: Tap | G228: unknown | H228: -44.845588 | I228: -6.8312279 | J228: [65]
A229: Hong Kong | B229: Hong Kong | C229: December 2014 to December 2015 | D229: 27.87 | E229: 112.92 | F229: Tap | G229: unknown | H229: -31.71 | I229: −5.38 | J229: [33]
A230: Kolkata | B230: India | C230: 41460 | D230: 22.472034 | E230: 88.388122 | F230: Groundwater | G230: unknown | H230: -44.236173 | I230: -6.599289 | J230: [65]
A231: Kolkata | B231: India | C231: 41461 | D231: 22.472034 | E231: 88.388122 | F231: Groundwater | G231: unknown | H231: -33.493986 | I231: -4.9768296 | J231: [65]
A232: Kolkata | B232: India | C232: 41462 | D232: 22.472034 | E232: 88.388122 | F232: Groundwater | G232: unknown | H232: -33.519368 | I232: -4.9529925 | J232: [65]
A233: Kolkata | B233: India | C233: 41464 | D233: 22.472034 | E233: 88.388122 | F233: Groundwater | G233: unknown | H233: -40.649893 | I233: -6.069667 | J233: [65]
A234: Kolkata | B234: India | C234: 41465 | D234: 22.472034 | E234: 88.388122 | F234: Groundwater | G234: unknown | H234: -33.170218 | I234: -4.9217195 | J234: [65]
A235: Kolkata | B235: India | C235: 41466 | D235: 22.472034 | E235: 88.388122 | F235: Groundwater | G235: unknown | H235: -33.346753 | I235: -4.9325887 | J235: [65]
A236: Kolkata | B236: India | C236: 41467 | D236: 22.472034 | E236: 88.388122 | F236: Groundwater | G236: unknown | H236: -29.653185 | I236: -4.7118077 | J236: [65]
A237: Kolkata | B237: India | C237: 41468 | D237: 22.472034 | E237: 88.388122 | F237: Groundwater | G237: unknown | H237: -33.554296 | I237: -5.0133971 | J237: [65]
A238: Kolkata | B238: India | C238: 41470 | D238: 22.472034 | E238: 88.388122 | F238: Groundwater | G238: unknown | H238: -32.800077 | I238: -5.2774682 | J238: [65]
A239: Kolkata | B239: India | C239: 41474 | D239: 22.472034 | E239: 88.388122 | F239: Groundwater | G239: unknown | H239: -33.587432 | I239: -5.0535889 | J239: [65]
A240: Kolkata | B240: India | C240: 41477 | D240: 22.472034 | E240: 88.388122 | F240: Groundwater | G240: unknown | H240: -33.729481 | I240: -5.0782135 | J240: [65]
A241: Kolkata | B241: India | C241: 41479 | D241: 22.472034 | E241: 88.388122 | F241: Groundwater | G241: unknown | H241: -33.618449 | I241: -5.0797778 | J241: [65]
... A245: New Delhi | B245: India | C245: 38187 | D245: 28.6 | E245: 77.2 | F245: Tap | G245: unknown | H245: -51.328654 | I245: -6.4588623 | J245: [65]
A246: New Delhi | B246: India | C246: 38187 | D246: 28.6 | E246: 77.2 | F246: Tap | G246: unknown | I246: -6.8121999 | J246: [65]
A247: New Delhi | B247: India | F247: Tap | G247: unknown | H247: -50 | I247: -7.1 | J247: [67]
A248: Ahvaz | B248: Iran | C248: 38108 | D248: 31.3292 | E248: 48.6911 | F248: Tap | G248: unknown | H248: -25.961755 | I248: -5.5620105 | J248: [65]
A249: Ahvaz | B249: Iran | C249: 38108 | D249: 31.3292 | E249: 48.6911 | F249: Tap | G249: unknown | H249: -26.566581 | I249: -5.7747126 | J249: [65]
A250: Ahvaz | B250: Iran | C250: 39611 | D250: 31.31667 | E250: 48.6667 | F250: Tap | G250: unknown | H250: -27.964599 | I250: -5.3025082 | J250: [65]
A251: Shiraz | B251: Iran | C251: 39605 | D251: 29.6 | E251: 52.51667 | F251: Tap | G251: unknown | H251: -32.917276 | I251: -5.7900226 | J251: [65]
A252: Tehran | B252: Iran | C252: 38072 | D252: 35.8161 | E252: 51.4027 | F252: Tap | G252: unknown | H252: -48.777686 | I252: -8.4581871 | J252: [65]
A253: Tehran | B253: Iran | C253: 38072 | D253: 35.8161 | E253: 51.4027 | F253: Tap | G253: unknown | H253: -49.891556 | J253: [65]
A254: Tehran | B254: Iran | C254: 38072 | D254: 35.8161 | E254: 51.4027 | F254: Tap | G254: unknown | H254: -48.68676 | I254: -8.6097534 | J254: [65]
A255: Tehran | B255: Iran | C255: 38072 | D255: 35.7737 | E255: 51.4137 | F255: Tap | G255: unknown | H255: -51.010497 | I255: -9.1091305 | J255: [65]
A256: Tehran | B256: Iran | C256: 38072 | D256: 35.7737 | E256: 51.4137 | F256: Tap | G256: unknown | H256: -50.491585 | I256: -8.5055067 | J256: [65]
A257: Tehran | B257: Iran | C257: 38072 | D257: 35.7737 | E257: 51.4137 | F257: Tap | G257: unknown | H257: -49.638274 | I257: -8.8592391 | J257: [65]
A258: Tehran | B258: Iran | C258: 39295 | D258: 35.6719 | E258: 51.4244 | F258: Tap | G258: unknown | H258: -54.009442 | I258: -9.024462 | J258: [65]
...

Sheet Sheet2
A1: City | B1: Country | C1: Time frame | D1: Type | E1: Source | F1: n | G1: d2H | H1: d18O
A2: Baysville | B2: Canada | D2: =INDEX(Sheet1!F5:F287,MATCH(Sheet2!A2,Sheet1!A5:A287,0)) -> 0 | E2: =INDEX(Sheet1!$G$5:$G$287,MATCH(Sheet2!A2,Sheet1!$A$5:$A$287,0)) -> 0 | F2: =COUNTIF(Sheet1!$A$5:'Sheet1'!$A$287,Sheet2!A2) -> 1 | G2: =AVERAGEIF(Sheet1!$A$5:'Sheet1'!$A$287,Sheet2!A2,Sheet1!$H$5:'Sheet1'!$H$287) -> #DIV/0! | H2: =AVERAGEIF(Sheet1!$A$5:'Sheet1'!$A$287,Sheet2!A2,Sheet1!$I$5:'Sheet1'!$I$287) -> #DIV/0!
A3: Chapeau | B3: Canada | D3: =INDEX(Sheet1!F6:F288,MATCH(Sheet2!A3,Sheet1!A6:A288,0)) -> Tap | E3: =INDEX(Sheet1!$G$5:$G$287,MATCH(Sheet2!A3,Sheet1!$A$5:$A$287,0)) -> Ottawa River | F3: =COUNTIF(Sheet1!$A$5:'Sheet1'!$A$287,Sheet2!A3) -> 1 | G3: =AVERAGEIF(Sheet1!$A$5:'Sheet1'!$A$287,Sheet2!A3,Sheet1!$H$5:'Sheet1'!$H$287) -> -81 | H3: =AVERAGEIF(Sheet1!$A$5:'Sheet1'!$A$287,Sheet2!A3,Sheet1!$I$5:'Sheet1'!$I$287) -> -10.8
A4: Hamilton | B4: Canada | D4: =INDEX(Sheet1!F7:F289,MATCH(Sheet2!A4,Sheet1!A7:A289,0)) -> Tap | E4: =INDEX(Sheet1!$G$5:$G$287,MATCH(Sheet2!A4,Sheet1!$A$5:$A$287,0)) -> Lake Ontario | F4: =COUNTIF(Sheet1!$G$5:'Sheet1'!$G$287,"Lake Ontario") -> 7 | G4: =AVERAGEIF(Sheet1!$G$5:'Sheet1'!$G$287,"Lake Ontario",Sheet1!$H$5:'Sheet1'!$H$287) -> -52.566667 | H4: =AVERAGEIF(Sheet1!$G$5:'Sheet1'!$G$287,"Lake Ontario",Sheet1!$I$5:'Sheet1'!$I$287) -> -6.4142857
A5: Kelowna | B5: Canada | C5: Annual | D5: =INDEX(Sheet1!F8:F290,MATCH(Sheet2!A5,Sheet1!A8:A290,0)) -> Surface water | E5: =INDEX(Sheet1!$G$5:$G$287,MATCH(Sheet2!A5,Sheet1!$A$5:$A$287,0)) -> Okanagan Lake | F5: =COUNTIF(Sheet1!$A$5:'Sheet1'!$A$287,Sheet2!A5) -> 36 | G5: =AVERAGEIF(Sheet1!$A$5:'Sheet1'!$A$287,Sheet2!A5,Sheet1!$H$5:'Sheet1'!$H$287) -> -103.47222 | H5: =AVERAGEIF(Sheet1!$A$5:'Sheet1'!$A$287,Sheet2!A5,Sheet1!$I$5:'Sheet1'!$I$287) -> -11.425
A6: Kingston | B6: Canada | D6: =INDEX(Sheet1!F9:F291,MATCH(Sheet2!A6,Sheet1!A9:A291,0)) -> Tap | E6: =INDEX(Sheet1!$G$5:$G$287,MATCH(Sheet2!A6,Sheet1!$A$5:$A$287,0)) -> Lake Ontario | F6: =COUNTIF(Sheet1!$G$5:'Sheet1'!$G$287,"Lake Ontario") -> 7 | G6: =AVERAGEIF(Sheet1!$G$5:'Sheet1'!$G$287,"Lake Ontario",Sheet1!$H$5:'Sheet1'!$H$287) -> -52.566667 | H6: =AVERAGEIF(Sheet1!$G$5:'Sheet1'!$G$287,"Lake Ontario",Sheet1!$I$5:'Sheet1'!$I$287) -> -6.4142857
A7: Morin Heights | B7: Canada | D7: =INDEX(Sheet1!F10:F292,MATCH(Sheet2!A7,Sheet1!A10:A292,0)) -> Tap | E7: =INDEX(Sheet1!$G$5:$G$287,MATCH(Sheet2!A7,Sheet1!$A$5:$A$287,0)) -> Ottawa River | F7: =COUNTIF(Sheet1!$A$5:'Sheet1'!$A$287,Sheet2!A7) -> 1 | G7: =AVERAGEIF(Sheet1!$A$5:'Sheet1'!$A$287,Sheet2!A7,Sheet1!$H$5:'Sheet1'!$H$287) -> -81 | H7: =AVERAGEIF(Sheet1!$A$5:'Sheet1'!$A$287,Sheet2!A7,Sheet1!$I$5:'Sheet1'!$I$287) -> -10.8
A8: Prince George | B8: Canada | D8: =INDEX(Sheet1!F11:F293,MATCH(Sheet2!A8,Sheet1!A11:A293,0)) -> Surface water | E8: =INDEX(Sheet1!$G$5:$G$287,MATCH(Sheet2!A8,Sheet1!$A$5:$A$287,0)) -> Nechako River | F8: =COUNTIF(Sheet1!$A$5:'Sheet1'!$A$287,Sheet2!A8) -> 2 | G8: =AVERAGEIF(Sheet1!$A$5:'Sheet1'!$A$287,Sheet2!A8,Sheet1!$H$5:'Sheet1'!$H$287) -> -130.4 | H8: =AVERAGEIF(Sheet1!$A$5:'Sheet1'!$A$287,Sheet2!A8,Sheet1!$I$5:'Sheet1'!$I$287) -> -16.22
A9: St. Catharines | B9: Canada | D9: =INDEX(Sheet1!F12:F294,MATCH(Sheet2!A9,Sheet1!A12:A294,0)) -> Tap | E9: =INDEX(Sheet1!$G$5:$G$287,MATCH(Sheet2!A9,Sheet1!$A$5:$A$287,0)) -> Lake Erie via the Welland Canal | F9: =COUNTIF(Sheet1!$A$5:'Sheet1'!$A$287,Sheet2!A9) -> 2 | G9: =AVERAGEIF(Sheet1!$A$5:'Sheet1'!$A$287,Sheet2!A9,Sheet1!$H$5:'Sheet1'!$H$287) -> -52.45 | H9: =AVERAGEIF(Sheet1!$A$5:'Sheet1'!$A$287,Sheet2!A9,Sheet1!$I$5:'Sheet1'!$I$287) -> -6.75
A10: Toronto | B10: Canada | D10: =INDEX(Sheet1!F13:F295,MATCH(Sheet2!A10,Sheet1!A13:A295,0)) -> Tap | E10: =INDEX(Sheet1!$G$5:$G$287,MATCH(Sheet2!A10,Sheet1!$A$5:$A$287,0)) -> Lake Ontario | F10: =COUNTIF(Sheet1!$G$5:'Sheet1'!$G$287,"Lake Ontario") -> 7 | G10: =AVERAGEIF(Sheet1!$G$5:'Sheet1'!$G$287,"Lake Ontario",Sheet1!$H$5:'Sheet1'!$H$287) -> -52.566667 | H10: =AVERAGEIF(Sheet1!$G$5:'Sheet1'!$G$287,"Lake Ontario",Sheet1!$I$5:'Sheet1'!$I$287) -> -6.4142857
A11: Vanderhoof | B11: Canada | D11: =INDEX(Sheet1!F14:F296,MATCH(Sheet2!A11,Sheet1!A14:A296,0)) -> Surface water | E11: =INDEX(Sheet1!$G$5:$G$287,MATCH(Sheet2!A11,Sheet1!$A$5:$A$287,0)) -> Nechako River | F11: =COUNTIF(Sheet1!$A$5:'Sheet1'!$A$287,Sheet2!A11) -> 2 | G11: =AVERAGEIF(Sheet1!$A$5:'Sheet1'!$A$287,Sheet2!A11,Sheet1!$H$5:'Sheet1'!$H$287) -> -130.4 | H11: =AVERAGEIF(Sheet1!$A$5:'Sheet1'!$A$287,Sheet2!A11,Sheet1!$I$5:'Sheet1'!$I$287) -> -16.22
A12: Williams Lake | B12: Canada | D12: =INDEX(Sheet1!F15:F297,MATCH(Sheet2!A12,Sheet1!A15:A297,0)) -> 0 | E12: =INDEX(Sheet1!$G$5:$G$287,MATCH(Sheet2!A12,Sheet1!$A$5:$A$287,0)) -> 0 | F12: =COUNTIF(Sheet1!$A$5:'Sheet1'!$A$287,Sheet2!A12) -> 1 | G12: =AVERAGEIF(Sheet1!$A$5:'Sheet1'!$A$287,Sheet2!A12,Sheet1!$H$5:'Sheet1'!$H$287) -> #DIV/0! | H12: =AVERAGEIF(Sheet1!$A$5:'Sheet1'!$A$287,Sheet2!A12,Sheet1!$I$5:'Sheet1'!$I$287) -> #DIV/0!
A13: Winnipeg | B13: Canada | D13: =INDEX(Sheet1!F16:F298,MATCH(Sheet2!A13,Sheet1!A16:A298,0)) -> Tap | E13: =INDEX(Sheet1!$G$5:$G$287,MATCH(Sheet2!A13,Sheet1!$A$5:$A$287,0)) -> Shoal Lake | F13: =COUNTIF(Sheet1!$A$5:'Sheet1'!$A$287,Sheet2!A13) -> 1 | G13: =AVERAGEIF(Sheet1!$A$5:'Sheet1'!$A$287,Sheet2!A13,Sheet1!$H$5:'Sheet1'!$H$287) -> -60 | H13: =AVERAGEIF(Sheet1!$A$5:'Sheet1'!$A$287,Sheet2!A13,Sheet1!$I$5:'Sheet1'!$I$287) -> -6.8
A14: Chifeng | B14: China | C14: Annual | D14: =INDEX(Sheet1!F17:F299,MATCH(Sheet2!A14,Sheet1!A17:A299,0)) -> Tap | E14: =INDEX(Sheet1!$G$5:$G$287,MATCH(Sheet2!A14,Sheet1!$A$5:$A$287,0)) -> unknown | F14: 12 | G14: =AVERAGEIF(Sheet1!$A$5:'Sheet1'!$A$287,Sheet2!A14,Sheet1!$H$5:'Sheet1'!$H$287) -> -75.27164 | H14: =AVERAGEIF(Sheet1!$A$5:'Sheet1'!$A$287,Sheet2!A14,Sheet1!$I$5:'Sheet1'!$I$287) -> -9.7710516
A15: Guangzhou | B15: China | C15: Annual | D15: =INDEX(Sheet1!F18:F300,MATCH(Sheet2!A15,Sheet1!A18:A300,0)) -> Tap | E15: =INDEX(Sheet1!$G$5:$G$287,MATCH(Sheet2!A15,Sheet1!$A$5:$A$287,0)) -> unknown | F15: =COUNTIF(Sheet1!$A$5:'Sheet1'!$A$287,Sheet2!A15) -> 9 | G15: =AVERAGEIF(Sheet1!$A$5:'Sheet1'!$A$287,Sheet2!A15,Sheet1!$H$5:'Sheet1'!$H$287) -> -38.862393 | H15: =AVERAGEIF(Sheet1!$A$5:'Sheet1'!$A$287,Sheet2!A15,Sheet1!$I$5:'Sheet1'!$I$287) -> -6.1434371
A16: Lianyungang | B16: China | C16: Annual | D16: =INDEX(Sheet1!F19:F301,MATCH(Sheet2!A16,Sheet1!A19:A301,0)) -> Tap | E16: =INDEX(Sheet1!$G$5:$G$287,MATCH(Sheet2!A16,Sheet1!$A$5:$A$287,0)) -> unknown | F16: =COUNTIF(Sheet1!$A$5:'Sheet1'!$A$287,Sheet2!A16) -> 12 | G16: =AVERAGEIF(Sheet1!$A$5:'Sheet1'!$A$287,Sheet2!A16,Sheet1!$H$5:'Sheet1'!$H$287) -> -33.942229 | H16: =AVERAGEIF(Sheet1!$A$5:'Sheet1'!$A$287,Sheet2!A16,Sheet1!$I$5:'Sheet1'!$I$287) -> -4.4392178
A17: Linyi | B17: China | C17: Annual | D17: =INDEX(Sheet1!F20:F302,MATCH(Sheet2!A17,Sheet1!A20:A302,0)) -> Tap | E17: =INDEX(Sheet1!$G$5:$G$287,MATCH(Sheet2!A17,Sheet1!$A$5:$A$287,0)) -> unknown | F17: =COUNTIF(Sheet1!$A$5:'Sheet1'!$A$287,Sheet2!A17) -> 12 | G17: =AVERAGEIF(Sheet1!$A$5:'Sheet1'!$A$287,Sheet2!A17,Sheet1!$H$5:'Sheet1'!$H$287) -> -52.3175 | H17: =AVERAGEIF(Sheet1!$A$5:'Sheet1'!$A$287,Sheet2!A17,Sheet1!$I$5:'Sheet1'!$I$287) -> -6.7841667
A18: Nanjing | B18: China | C18: Annual | D18: =INDEX(Sheet1!F21:F303,MATCH(Sheet2!A18,Sheet1!A21:A303,0)) -> Tap | E18: =INDEX(Sheet1!$G$5:$G$287,MATCH(Sheet2!A18,Sheet1!$A$5:$A$287,0)) -> unknown | F18: =COUNTIF(Sheet1!$A$5:'Sheet1'!$A$287,Sheet2!A18) -> 24 | G18: =AVERAGEIF(Sheet1!$A$5:'Sheet1'!$A$287,Sheet2!A18,Sheet1!$H$5:'Sheet1'!$H$287) -> -52.923488 | H18: =AVERAGEIF(Sheet1!$A$5:'Sheet1'!$A$287,Sheet2!A18,Sheet1!$I$5:'Sheet1'!$I$287) -> -7.9437941
A19: Nantong | B19: China | C19: Annual | D19: =INDEX(Sheet1!F22:F304,MATCH(Sheet2!A19,Sheet1!A22:A304,0)) -> Tap | E19: =INDEX(Sheet1!$G$5:$G$287,MATCH(Sheet2!A19,Sheet1!$A$5:$A$287,0)) -> unknown | F19: =COUNTIF(Sheet1!$A$5:'Sheet1'!$A$287,Sheet2!A19) -> 17 | G19: =AVERAGEIF(Sheet1!$A$5:'Sheet1'!$A$287,Sheet2!A19,Sheet1!$H$5:'Sheet1'!$H$287) -> -50.499592 | H19: =AVERAGEIF(Sheet1!$A$5:'Sheet1'!$A$287,Sheet2!A19,Sheet1!$I$5:'Sheet1'!$I$287) -> -7.5947102
A20: Shanghai | B20: China | C20: Annual | D20: =INDEX(Sheet1!F23:F305,MATCH(Sheet2!A20,Sheet1!A23:A305,0)) -> Tap | E20: =INDEX(Sheet1!$G$5:$G$287,MATCH(Sheet2!A20,Sheet1!$A$5:$A$287,0)) -> unknown | F20: =COUNTIF(Sheet1!$A$5:'Sheet1'!$A$287,Sheet2!A20) -> 39 | G20: =AVERAGEIF(Sheet1!$A$5:'Sheet1'!$A$287,Sheet2!A20,Sheet1!$H$5:'Sheet1'!$H$287) -> -44.389603 | H20: =AVERAGEIF(Sheet1!$A$5:'Sheet1'!$A$287,Sheet2!A20,Sheet1!$I$5:'Sheet1'!$I$287) -> -6.6514365
A21: Shenzhen | B21: China | C21: Annual | D21: =INDEX(Sheet1!F24:F306,MATCH(Sheet2!A21,Sheet1!A24:A306,0)) -> Tap | E21: =INDEX(Sheet1!$G$5:$G$287,MATCH(Sheet2!A21,Sheet1!$A$5:$A$287,0)) -> unknown | F21: =COUNTIF(Sheet1!$A$5:'Sheet1'!$A$287,Sheet2!A21) -> 9 | G21: =AVERAGEIF(Sheet1!$A$5:'Sheet1'!$A$287,Sheet2!A21,Sheet1!$H$5:'Sheet1'!$H$287) -> -35.600818 | H21: =AVERAGEIF(Sheet1!$A$5:'Sheet1'!$A$287,Sheet2!A21,Sheet1!$I$5:'Sheet1'!$I$287) -> -5.6897676
A22: Taiyuan | B22: China | C22: First half | D22: =INDEX(Sheet1!F25:F307,MATCH(Sheet2!A22,Sheet1!A25:A307,0)) -> Tap | E22: =INDEX(Sheet1!$G$5:$G$287,MATCH(Sheet2!A22,Sheet1!$A$5:$A$287,0)) -> unknown | F22: =COUNTIF(Sheet1!$A$5:'Sheet1'!$A$287,Sheet2!A22) -> 5 | G22: =AVERAGEIF(Sheet1!$A$5:'Sheet1'!$A$287,Sheet2!A22,Sheet1!$H$5:'Sheet1'!$H$287) -> -63.982874 | H22: =AVERAGEIF(Sheet1!$A$5:'Sheet1'!$A$287,Sheet2!A22,Sheet1!$I$5:'Sheet1'!$I$287) -> -8.5692648
A23: Tianjin | B23: China | C23: Annual | D23: =INDEX(Sheet1!F26:F308,MATCH(Sheet2!A23,Sheet1!A26:A308,0)) -> Tap | E23: =INDEX(Sheet1!$G$5:$G$287,MATCH(Sheet2!A23,Sheet1!$A$5:$A$287,0)) -> unknown | F23: =COUNTIF(Sheet1!$A$5:'Sheet1'!$A$287,Sheet2!A23) -> 17 | G23: =AVERAGEIF(Sheet1!$A$5:'Sheet1'!$A$287,Sheet2!A23,Sheet1!$H$5:'Sheet1'!$H$287) -> -49.651256 | H23: =AVERAGEIF(Sheet1!$A$5:'Sheet1'!$A$287,Sheet2!A23,Sheet1!$I$5:'Sheet1'!$I$287) -> -6.6608948
A24: Yiyuan, Zibo | B24: China | D24: =INDEX(Sheet1!F27:F309,MATCH(Sheet2!A24,Sheet1!A27:A309,0)) -> 0 | E24: =INDEX(Sheet1!$G$5:$G$287,MATCH(Sheet2!A24,Sheet1!$A$5:$A$287,0)) -> 0 | F24: =COUNTIF(Sheet1!$A$5:'Sheet1'!$A$287,Sheet2!A24) -> 1 | G24: =AVERAGEIF(Sheet1!$A$5:'Sheet1'!$A$287,Sheet2!A24,Sheet1!$H$5:'Sheet1'!$H$287) -> #DIV/0! | H24: =AVERAGEIF(Sheet1!$A$5:'Sheet1'!$A$287,Sheet2!A24,Sheet1!$I$5:'Sheet1'!$I$287) -> #DIV/0!
A25: Zibo | B25: China | C25: Annual | D25: =INDEX(Sheet1!F28:F310,MATCH(Sheet2!A25,Sheet1!A28:A310,0)) -> Tap | E25: =INDEX(Sheet1!$G$5:$G$287,MATCH(Sheet2!A25,Sheet1!$A$5:$A$287,0)) -> unknown | F25: =COUNTIF(Sheet1!$A$5:'Sheet1'!$A$287,Sheet2!A25) -> 12 | G25: =AVERAGEIF(Sheet1!$A$5:'Sheet1'!$A$287,Sheet2!A25,Sheet1!$H$5:'Sheet1'!$H$287) -> -60.233313 | H25: =AVERAGEIF(Sheet1!$A$5:'Sheet1'!$A$287,Sheet2!A25,Sheet1!$I$5:'Sheet1'!$I$287) -> -8.4469462
A26: Fiji Island | B26: Fiji | D26: =INDEX(Sheet1!F29:F311,MATCH(Sheet2!A26,Sheet1!A29:A311,0)) -> 0 | E26: =INDEX(Sheet1!$G$5:$G$287,MATCH(Sheet2!A26,Sheet1!$A$5:$A$287,0)) -> 0 | F26: =COUNTIF(Sheet1!$A$5:'Sheet1'!$A$287,Sheet2!A26) -> 1 | G26: =AVERAGEIF(Sheet1!$A$5:'Sheet1'!$A$287,Sheet2!A26,Sheet1!$H$5:'Sheet1'!$H$287) -> #DIV/0! | H26: =AVERAGEIF(Sheet1!$A$5:'Sheet1'!$A$287,Sheet2!A26,Sheet1!$I$5:'Sheet1'!$I$287) -> #DIV/0!
A27: Hong Kong | B27: Hong Kong | D27: =INDEX(Sheet1!F30:F312,MATCH(Sheet2!A27,Sheet1!A30:A312,0)) -> Tap | E27: =INDEX(Sheet1!$G$5:$G$287,MATCH(Sheet2!A27,Sheet1!$A$5:$A$287,0)) -> unknown | F27: 11 | G27: =AVERAGEIF(Sheet1!$A$5:'Sheet1'!$A$287,Sheet2!A27,Sheet1!$H$5:'Sheet1'!$H$287) -> -38.277794 | H27: =AVERAGEIF(Sheet1!$A$5:'Sheet1'!$A$287,Sheet2!A27,Sheet1!$I$5:'Sheet1'!$I$287) -> -6.8312279
A28: Kolkata | B28: India | C28: July | D28: =INDEX(Sheet1!F31:F313,MATCH(Sheet2!A28,Sheet1!A31:A313,0)) -> Groundwater | E28: =INDEX(Sheet1!$G$5:$G$287,MATCH(Sheet2!A28,Sheet1!$A$5:$A$287,0)) -> unknown | F28: =COUNTIF(Sheet1!$A$5:'Sheet1'!$A$287,Sheet2!A28) -> 13 | G28: =AVERAGEIF(Sheet1!$A$5:'Sheet1'!$A$287,Sheet2!A28,Sheet1!$H$5:'Sheet1'!$H$287) -> -34.564594 | H28: =AVERAGEIF(Sheet1!$A$5:'Sheet1'!$A$287,Sheet2!A28,Sheet1!$I$5:'Sheet1'!$I$287) -> -5.2156144
A29: New Delhi | B29: India | D29: =INDEX(Sheet1!F32:F314,MATCH(Sheet2!A29,Sheet1!A32:A314,0)) -> Tap | E29: =INDEX(Sheet1!$G$5:$G$287,MATCH(Sheet2!A29,Sheet1!$A$5:$A$287,0)) -> unknown | F29: =COUNTIF(Sheet1!$A$5:'Sheet1'!$A$287,Sheet2!A29) -> 5 | G29: =AVERAGEIF(Sheet1!$A$5:'Sheet1'!$A$287,Sheet2!A29,Sheet1!$H$5:'Sheet1'!$H$287) -> -48.369314 | H29: =AVERAGEIF(Sheet1!$A$5:'Sheet1'!$A$287,Sheet2!A29,Sheet1!$I$5:'Sheet1'!$I$287) -> -6.6236885
A30: Ahvaz | B30: Iran | D30: =INDEX(Sheet1!F33:F315,MATCH(Sheet2!A30,Sheet1!A33:A315,0)) -> Tap | E30: =INDEX(Sheet1!$G$5:$G$287,MATCH(Sheet2!A30,Sheet1!$A$5:$A$287,0)) -> unknown | F30: =COUNTIF(Sheet1!$A$5:'Sheet1'!$A$287,Sheet2!A30) -> 3 | G30: =AVERAGEIF(Sheet1!$A$5:'Sheet1'!$A$287,Sheet2!A30,Sheet1!$H$5:'Sheet1'!$H$287) -> -26.830978 | H30: =AVERAGEIF(Sheet1!$A$5:'Sheet1'!$A$287,Sheet2!A30,Sheet1!$I$5:'Sheet1'!$I$287) -> -5.5464105
A31: Shiraz | B31: Iran | D31: =INDEX(Sheet1!F34:F316,MATCH(Sheet2!A31,Sheet1!A34:A316,0)) -> Tap | E31: =INDEX(Sheet1!$G$5:$G$287,MATCH(Sheet2!A31,Sheet1!$A$5:$A$287,0)) -> unknown | F31: =COUNTIF(Sheet1!$A$5:'Sheet1'!$A$287,Sheet2!A31) -> 1 | G31: =AVERAGEIF(Sheet1!$A$5:'Sheet1'!$A$287,Sheet2!A31,Sheet1!$H$5:'Sheet1'!$H$287) -> -32.917276 | H31: =AVERAGEIF(Sheet1!$A$5:'Sheet1'!$A$287,Sheet2!A31,Sheet1!$I$5:'Sheet1'!$I$287) -> -5.7900226
A32: Tehran | B32: Iran | D32: =INDEX(Sheet1!F35:F317,MATCH(Sheet2!A32,Sheet1!A35:A317,0)) -> Tap | E32: =INDEX(Sheet1!$G$5:$G$287,MATCH(Sheet2!A32,Sheet1!$A$5:$A$287,0)) -> unknown | F32: =COUNTIF(Sheet1!$A$5:'Sheet1'!$A$287,Sheet2!A32) -> 8 | G32: =AVERAGEIF(Sheet1!$A$5:'Sheet1'!$A$287,Sheet2!A32,Sheet1!$H$5:'Sheet1'!$H$287) -> -50.847957 | H32: =AVERAGEIF(Sheet1!$A$5:'Sheet1'!$A$287,Sheet2!A32,Sheet1!$I$5:'Sheet1'!$I$287) -> -8.7507438
A33: Osaka | B33: Japan | D33: =INDEX(Sheet1!F36:F318,MATCH(Sheet2!A33,Sheet1!A36:A318,0)) -> 0 | E33: =INDEX(Sheet1!$G$5:$G$287,MATCH(Sheet2!A33,Sheet1!$A$5:$A$287,0)) -> 0 | F33: =COUNTIF(Sheet1!$A$5:'Sheet1'!$A$287,Sheet2!A33) -> 1 | G33: =AVERAGEIF(Sheet1!$A$5:'Sheet1'!$A$287,Sheet2!A33,Sheet1!$H$5:'Sheet1'!$H$287) -> #DIV/0! | H33: =AVERAGEIF(Sheet1!$A$5:'Sheet1'!$A$287,Sheet2!A33,Sheet1!$I$5:'Sheet1'!$I$287) -> #DIV/0!
A34: Almaty | B34: Kazakhstan | D34: =INDEX(Sheet1!F37:F319,MATCH(Sheet2!A34,Sheet1!A37:A319,0)) -> Tap | E34: =INDEX(Sheet1!$G$5:$G$287,MATCH(Sheet2!A34,Sheet1!$A$5:$A$287,0)) -> unknown | F34: =COUNTIF(Sheet1!$A$5:'Sheet1'!$A$287,Sheet2!A34) -> 2 | G34: =AVERAGEIF(Sheet1!$A$5:'Sheet1'!$A$287,Sheet2!A34,Sheet1!$H$5:'Sheet1'!$H$287) -> -68.1 | H34: =AVERAGEIF(Sheet1!$A$5:'Sheet1'!$A$287,Sheet2!A34,Sheet1!$I$5:'Sheet1'!$I$287) -> -7.89
A35: Nairobi | B35: Kenya | D35: =INDEX(Sheet1!F38:F320,MATCH(Sheet2!A35,Sheet1!A38:A320,0)) -> Tap | E35: =INDEX(Sheet1!$G$5:$G$287,MATCH(Sheet2!A35,Sheet1!$A$5:$A$287,0)) -> unknown | F35: =COUNTIF(Sheet1!$A$5:'Sheet1'!$A$287,Sheet2!A35) -> 10 | G35: =AVERAGEIF(Sheet1!$A$5:'Sheet1'!$A$287,Sheet2!A35,Sheet1!$H$5:'Sheet1'!$H$287) -> -16.902896 | H35: =AVERAGEIF(Sheet1!$A$5:'Sheet1'!$A$287,Sheet2!A35,Sheet1!$I$5:'Sheet1'!$I$287) -> -3.1294234
A36: Klang | B36: Malaysia | D36: =INDEX(Sheet1!F39:F321,MATCH(Sheet2!A36,Sheet1!A39:A321,0)) -> Tap | E36: =INDEX(Sheet1!$G$5:$G$287,MATCH(Sheet2!A36,Sheet1!$A$5:$A$287,0)) -> unknown | F36: =COUNTIF(Sheet1!$A$5:'Sheet1'!$A$287,Sheet2!A36) -> 1 | G36: =AVERAGEIF(Sheet1!$A$5:'Sheet1'!$A$287,Sheet2!A36,Sheet1!$H$5:'Sheet1'!$H$287) -> -43.27 | H36: =AVERAGEIF(Sheet1!$A$5:'Sheet1'!$A$287,Sheet2!A36,Sheet1!$I$5:'Sheet1'!$I$287) -> -5.39
A37: Mexico City | B37: Mexico | D37: =INDEX(Sheet1!F40:F322,MATCH(Sheet2!A37,Sheet1!A40:A322,0)) -> Tap | E37: =INDEX(Sheet1!$G$5:$G$287,MATCH(Sheet2!A37,Sheet1!$A$5:$A$287,0)) -> unknown | F37: =COUNTIF(Sheet1!$A$5:'Sheet1'!$A$287,Sheet2!A37) -> 2 | G37: =AVERAGEIF(Sheet1!$A$5:'Sheet1'!$A$287,Sheet2!A37,Sheet1!$H$5:'Sheet1'!$H$287) -> -64.01825 | H37: =AVERAGEIF(Sheet1!$A$5:'Sheet1'!$A$287,Sheet2!A37,Sheet1!$I$5:'Sheet1'!$I$287) -> -8.9752703
A38: Moscow | B38: Russia | D38: =INDEX(Sheet1!F41:F323,MATCH(Sheet2!A38,Sheet1!A41:A323,0)) -> Tap | E38: =INDEX(Sheet1!$G$5:$G$287,MATCH(Sheet2!A38,Sheet1!$A$5:$A$287,0)) -> unknown | F38: =COUNTIF(Sheet1!$A$5:'Sheet1'!$A$287,Sheet2!A38) -> 10 | G38: =AVERAGEIF(Sheet1!$A$5:'Sheet1'!$A$287,Sheet2!A38,Sheet1!$H$5:'Sheet1'!$H$287) -> -79.322256 | H38: =AVERAGEIF(Sheet1!$A$5:'Sheet1'!$A$287,Sheet2!A38,Sheet1!$I$5:'Sheet1'!$I$287) -> -10.181128
A39: Hanoi | B39: Vietnam | D39: =INDEX(Sheet1!F42:F324,MATCH(Sheet2!A39,Sheet1!A42:A324,0)) -> Tap | E39: =INDEX(Sheet1!$G$5:$G$287,MATCH(Sheet2!A39,Sheet1!$A$5:$A$287,0)) -> unknown | F39: =COUNTIF(Sheet1!$A$5:'Sheet1'!$A$287,Sheet2!A39) -> 1 | G39: =AVERAGEIF(Sheet1!$A$5:'Sheet1'!$A$287,Sheet2!A39,Sheet1!$H$5:'Sheet1'!$H$287) -> -45.960386 | H39: =AVERAGEIF(Sheet1!$A$5:'Sheet1'!$A$287,Sheet2!A39,Sheet1!$I$5:'Sheet1'!$I$287) -> -6.5038482
A40: Kitwe | B40: Zambia | D40: =INDEX(Sheet1!F43:F325,MATCH(Sheet2!A40,Sheet1!A43:A325,0)) -> Surface water | E40: =INDEX(Sheet1!$G$5:$G$287,MATCH(Sheet2!A40,Sheet1!$A$5:$A$287,0)) -> Kafue River | F40: =COUNTIF(Sheet1!$A$5:'Sheet1'!$A$287,Sheet2!A40) -> 1 | G40: =AVERAGEIF(Sheet1!$A$5:'Sheet1'!$A$287,Sheet2!A40,Sheet1!$H$5:'Sheet1'!$H$287) -> #DIV/0! | H40: =AVERAGEIF(Sheet1!$A$5:'Sheet1'!$A$287,Sheet2!A40,Sheet1!$I$5:'Sheet1'!$I$287) -> -5
