Workbook

Sheet Sheet1
A1: Title: Assessing the predictability of existing water-to-enamel geolocation models against known human teeth: Do we need tissue-specific δ 18O reference maps?
A3: Supplementary Table S2. Drinking water data collected from other sources.
A4: City | B4: Country | C4: Collection Date | D4: Latitude | E4: Longitude | F4: Type | G4: Source | H4: d2H | I4: d18O | J4: Reference
A5: Baysville | B5: Canada
A6: Chapeau | B6: Canada | C6: unknown | F6: Tap | G6: Ottawa River | H6: -81 | I6: -10.8 | J6: [60]
A7: Hamilton | B7: Canada | C7: unknown | F7: Tap | G7: Lake Ontario | H7: -52.5 | I7: -6.8 | J7: [60]
A8: Hamilton | B8: Canada | C8: unknown | F8: Tap | G8: Lake Ontario | H8: -53 | I8: -5.8 | J8: [60]
A9: Kelowna | B9: Canada | C9: 38838 | D9: 50.24 | E9: 119.36 | F9: Surface water | G9: Okanagan Lake | H9: -104 | I9: -11.1 | J9: [61]
A10: Kelowna | B10: Canada | C10: 38869 | D10: 50.24 | E10: 119.36 | F10: Surface water | G10: Okanagan Lake | H10: -105 | I10: -12 | J10: [61]
A11: Kelowna | B11: Canada | C11: 38873 | D11: 49.78 | E11: 119.73 | F11: Surface water | G11: Okanagan Lake | H11: -109 | I11: -11.9 | J11: [61]
A12: Kelowna | B12: Canada | C12: 38905 | D12: 49.78 | E12: 119.73 | F12: Surface water | G12: Okanagan Lake | H12: -105 | I12: -11.8 | J12: [61]
A13: Kelowna | B13: Canada | C13: 38906 | D13: 50.24 | E13: 119.36 | F13: Surface water | G13: Okanagan Lake | H13: -105 | I13: -11.6 | J13: [61]
A14: Kelowna | B14: Canada | C14: 38930 | D14: 50.24 | E14: 119.36 | F14: Surface water | G14: Okanagan Lake | H14: -105 | I14: -10.6 | J14: [61]
A15: Kelowna | B15: Canada | C15: 38933 | D15: 49.78 | E15: 119.73 | F15: Surface water | G15: Okanagan Lake | H15: -106 | I15: -10.7 | J15: [61]
A16: Kelowna | B16: Canada | C16: 38968 | D16: 49.78 | E16: 119.73 | F16: Surface water | G16: Okanagan Lake | H16: -104 | I16: -11.2 | J16: [61]
A17: Kelowna | B17: Canada | C17: 38969 | D17: 50.24 | E17: 119.36 | F17: Surface water | G17: Okanagan Lake | H17: -103 | I17: -11.4 | J17: [61]
A18: Kelowna | B18: Canada | C18: 38997 | D18: 50.24 | E18: 119.36 | F18: Surface water | G18: Okanagan Lake | H18: -102 | I18: -10.7 | J18: [61]
A19: Kelowna | B19: Canada | C19: 38998 | D19: 49.78 | E19: 119.73 | F19: Surface water | G19: Okanagan Lake | H19: -102 | I19: -10.7 | J19: [61]
A20: Kelowna | B20: Canada | C20: 39023 | D20: 49.78 | E20: 119.73 | F20: Surface water | G20: Okanagan Lake | H20: -98 | I20: -10.7 | J20: [61]
... A44: Kelowna | B44: Canada | C44: 39562 | D44: 49.78 | E44: 119.73 | F44: Surface water | G44: Okanagan Lake | H44: -109 | I44: -11.6 | J44: [61]
A45: Kingston | B45: Canada | F45: Tap | G45: Lake Ontario | I45: -6.4 | J45: [60]
A46: Morin Heights | B46: Canada | C46: unknown | F46: Tap | G46: Ottawa River | H46: -81 | I46: -10.8 | J46: [60]
A47: Prince George | B47: Canada | C47: 34151 | F47: Surface water | G47: Nechako River | H47: -129.8 | I47: -15.78 | J47: [62]
A48: Prince George | B48: Canada | C48: 34274 | F48: Surface water | G48: Nechako River | H48: -131 | I48: -16.66 | J48: [62]
A49: St. Catharines | B49: Canada | C49: unknown | F49: Tap | G49: Lake Erie via the Welland Canal | H49: -51.5 | I49: -6.8 | J49: [60]
A50: St. Catharines | B50: Canada | C50: unknown | F50: Tap | G50: Lake Erie via the Welland Canal | H50: -53.4 | I50: -6.7 | J50: [60]
A51: Toronto | B51: Canada | C51: unknown | F51: Tap | G51: Lake Ontario | H51: -53.6 | I51: -6.9 | J51: [60]
A52: Toronto | B52: Canada | C52: unknown | F52: Tap | G52: Lake Ontario | H52: -53.2 | I52: -6.9 | J52: [60]
A53: Toronto | B53: Canada | C53: unknown | F53: Tap | G53: Lake Ontario | H53: -49.1 | I53: -5.2 | J53: [60]
A54: Toronto | B54: Canada | C54: unknown | F54: Tap | G54: Lake Ontario | H54: -54 | I54: -6.9 | J54: [60]
A55: Vanderhoof | B55: Canada | C55: 34151 | F55: Surface water | G55: Nechako River | H55: -129.8 | I55: -15.78 | J55: [62]
A56: Vanderhoof | B56: Canada | C56: 34274 | F56: Surface water | G56: Nechako River | H56: -131 | I56: -16.66 | J56: [62]
A57: Williams Lake | B57: Canada
A58: Winnipeg | B58: Canada | C58: unknown | F58: Tap | G58: Shoal Lake | H58: -60 | I58: -6.8 | J58: [61]
A59: Chifeng | B59: China | C59: 41988 | D59: 42.267982 | E59: 118.94982 | F59: Tap | G59: unknown | H59: -74.629014 | I59: -9.7419767 | J59: [65]
A60: Chifeng | B60: China | C60: 42019 | D60: 42.267982 | E60: 118.94982 | F60: Tap | G60: unknown | H60: -77.512653 | I60: -10.006047 | J60: [65]
A61: Chifeng | B61: China | C61: 42050 | D61: 42.267982 | E61: 118.94982 | F61: Tap | G61: unknown | H61: -70.157066 | I61: -8.5878834 | J61: [65]
A62: Chifeng | B62: China | C62: 42078 | D62: 42.267982 | E62: 118.94982 | F62: Tap | G62: unknown | H62: -74.285226 | I62: -9.5422205 | J62: [65]
A63: Chifeng | B63: China | C63: 42109 | D63: 42.267982 | E63: 118.94982 | F63: Tap | G63: unknown | H63: -73.579151 | I63: -9.6123706 | J63: [65]
A64: Chifeng | B64: China | C64: 42139 | D64: 42.267982 | E64: 118.94982 | F64: Tap | G64: unknown | H64: -76.231434 | I64: -10.030299 | J64: [65]
...

Sheet Sheet2
A1: City | B1: Country | C1: Time frame | D1: Type | E1: Source | F1: n | G1: d2H | H1: d18O
A2: Baysville | B2: Canada | D2: =INDEX(Sheet1!F5:F287,MATCH(Sheet2!A2,Sheet1!A5:A287,0)) -> 0 | E2: =INDEX(Sheet1!$G$5:$G$287,MATCH(Sheet2!A2,Sheet1!$A$5:$A$287,0)) -> 0 | F2: =COUNTIF(Sheet1!$A$5:'Sheet1'!$A$287,Sheet2!A2) -> 1 | G2: =AVERAGEIF(Sheet1!$A$5:'Sheet1'!$A$287,Sheet2!A2,Sheet1!$H$5:'Sheet1'!$H$287) -> #DIV/0! | H2: =AVERAGEIF(Sheet1!$A$5:'Sheet1'!$A$287,Sheet2!A2,Sheet1!$I$5:'Sheet1'!$I$287) -> #DIV/0!
A3: Chapeau | B3: Canada | D3: =INDEX(Sheet1!F6:F288,MATCH(Sheet2!A3,Sheet1!A6:A288,0)) -> Tap | E3: =INDEX(Sheet1!$G$5:$G$287,MATCH(Sheet2!A3,Sheet1!$A$5:$A$287,0)) -> Ottawa River | F3: =COUNTIF(Sheet1!$A$5:'Sheet1'!$A$287,Sheet2!A3) -> 1 | G3: =AVERAGEIF(Sheet1!$A$5:'Sheet1'!$A$287,Sheet2!A3,Sheet1!$H$5:'Sheet1'!$H$287) -> -81 | H3: =AVERAGEIF(Sheet1!$A$5:'Sheet1'!$A$287,Sheet2!A3,Sheet1!$I$5:'Sheet1'!$I$287) -> -10.8
A4: Hamilton | B4: Canada | D4: =INDEX(Sheet1!F7:F289,MATCH(Sheet2!A4,Sheet1!A7:A289,0)) -> Tap | E4: =INDEX(Sheet1!$G$5:$G$287,MATCH(Sheet2!A4,Sheet1!$A$5:$A$287,0)) -> Lake Ontario | F4: =COUNTIF(Sheet1!$G$5:'Sheet1'!$G$287,"Lake Ontario") -> 7 | G4: =AVERAGEIF(Sheet1!$G$5:'Sheet1'!$G$287,"Lake Ontario",Sheet1!$H$5:'Sheet1'!$H$287) -> -52.566667 | H4: =AVERAGEIF(Sheet1!$G$5:'Sheet1'!$G$287,"Lake Ontario",Sheet1!$I$5:'Sheet1'!$I$287) -> -6.4142857
A5: Kelowna | B5: Canada | C5: Annual | D5: =INDEX(Sheet1!F8:F290,MATCH(Sheet2!A5,Sheet1!A8:A290,0)) -> Surface water | E5: =INDEX(Sheet1!$G$5:$G$287,MATCH(Sheet2!A5,Sheet1!$A$5:$A$287,0)) -> Okanagan Lake | F5: =COUNTIF(Sheet1!$A$5:'Sheet1'!$A$287,Sheet2!A5) -> 36 | G5: =AVERAGEIF(Sheet1!$A$5:'Sheet1'!$A$287,Sheet2!A5,Sheet1!$H$5:'Sheet1'!$H$287) -> -103.47222 | H5: =AVERAGEIF(Sheet1!$A$5:'Sheet1'!$A$287,Sheet2!A5,Sheet1!$I$5:'Sheet1'!$I$287) -> -11.425
A6: Kingston | B6: Canada | D6: =INDEX(Sheet1!F9:F291,MATCH(Sheet2!A6,Sheet1!A9:A291,0)) -> Tap | E6: =INDEX(Sheet1!$G$5:$G$287,MATCH(Sheet2!A6,Sheet1!$A$5:$A$287,0)) -> Lake Ontario | F6: =COUNTIF(Sheet1!$G$5:'Sheet1'!$G$287,"Lake Ontario") -> 7 | G6: =AVERAGEIF(Sheet1!$G$5:'Sheet1'!$G$287,"Lake Ontario",Sheet1!$H$5:'Sheet1'!$H$287) -> -52.566667 | H6: =AVERAGEIF(Sheet1!$G$5:'Sheet1'!$G$287,"Lake Ontario",Sheet1!$I$5:'Sheet1'!$I$287) -> -6.4142857
A7: Morin Heights | B7: Canada | D7: =INDEX(Sheet1!F10:F292,MATCH(Sheet2!A7,Sheet1!A10:A292,0)) -> Tap | E7: =INDEX(Sheet1!$G$5:$G$287,MATCH(Sheet2!A7,Sheet1!$A$5:$A$287,0)) -> Ottawa River | F7: =COUNTIF(Sheet1!$A$5:'Sheet1'!$A$287,Sheet2!A7) -> 1 | G7: =AVERAGEIF(Sheet1!$A$5:'Sheet1'!$A$287,Sheet2!A7,Sheet1!$H$5:'Sheet1'!$H$287) -> -81 | H7: =AVERAGEIF(Sheet1!$A$5:'Sheet1'!$A$287,Sheet2!A7,Sheet1!$I$5:'Sheet1'!$I$287) -> -10.8
A8: Prince George | B8: Canada | D8: =INDEX(Sheet1!F11:F293,MATCH(Sheet2!A8,Sheet1!A11:A293,0)) -> Surface water | E8: =INDEX(Sheet1!$G$5:$G$287,MATCH(Sheet2!A8,Sheet1!$A$5:$A$287,0)) -> Nechako River | F8: =COUNTIF(Sheet1!$A$5:'Sheet1'!$A$287,Sheet2!A8) -> 2 | G8: =AVERAGEIF(Sheet1!$A$5:'Sheet1'!$A$287,Sheet2!A8,Sheet1!$H$5:'Sheet1'!$H$287) -> -130.4 | H8: =AVERAGEIF(Sheet1!$A$5:'Sheet1'!$A$287,Sheet2!A8,Sheet1!$I$5:'Sheet1'!$I$287) -> -16.22
A9: St. Catharines | B9: Canada | D9: =INDEX(Sheet1!F12:F294,MATCH(Sheet2!A9,Sheet1!A12:A294,0)) -> Tap | E9: =INDEX(Sheet1!$G$5:$G$287,MATCH(Sheet2!A9,Sheet1!$A$5:$A$287,0)) -> Lake Erie via the Welland Canal | F9: =COUNTIF(Sheet1!$A$5:'Sheet1'!$A$287,Sheet2!A9) -> 2 | G9: =AVERAGEIF(Sheet1!$A$5:'Sheet1'!$A$287,Sheet2!A9,Sheet1!$H$5:'Sheet1'!$H$287) -> -52.45 | H9: =AVERAGEIF(Sheet1!$A$5:'Sheet1'!$A$287,Sheet2!A9,Sheet1!$I$5:'Sheet1'!$I$287) -> -6.75
A10: Toronto | B10: Canada | D10: =INDEX(Sheet1!F13:F295,MATCH(Sheet2!A10,Sheet1!A13:A295,0)) -> Tap | E10: =INDEX(Sheet1!$G$5:$G$287,MATCH(Sheet2!A10,Sheet1!$A$5:$A$287,0)) -> Lake Ontario | F10: =COUNTIF(Sheet1!$G$5:'Sheet1'!$G$287,"Lake Ontario") -> 7 | G10: =AVERAGEIF(Sheet1!$G$5:'Sheet1'!$G$287,"Lake Ontario",Sheet1!$H$5:'Sheet1'!$H$287) -> -52.566667 | H10: =AVERAGEIF(Sheet1!$G$5:'Sheet1'!$G$287,"Lake Ontario",Sheet1!$I$5:'Sheet1'!$I$287) -> -6.4142857
A11: Vanderhoof | B11: Canada | D11: =INDEX(Sheet1!F14:F296,MATCH(Sheet2!A11,Sheet1!A14:A296,0)) -> Surface water | E11: =INDEX(Sheet1!$G$5:$G$287,MATCH(Sheet2!A11,Sheet1!$A$5:$A$287,0)) -> Nechako River | F11: =COUNTIF(Sheet1!$A$5:'Sheet1'!$A$287,Sheet2!A11) -> 2 | G11: =AVERAGEIF(Sheet1!$A$5:'Sheet1'!$A$287,Sheet2!A11,Sheet1!$H$5:'Sheet1'!$H$287) -> -130.4 | H11: =AVERAGEIF(Sheet1!$A$5:'Sheet1'!$A$287,Sheet2!A11,Sheet1!$I$5:'Sheet1'!$I$287) -> -16.22
A12: Williams Lake | B12: Canada | D12: =INDEX(Sheet1!F15:F297,MATCH(Sheet2!A12,Sheet1!A15:A297,0)) -> 0 | E12: =INDEX(Sheet1!$G$5:$G$287,MATCH(Sheet2!A12,Sheet1!$A$5:$A$287,0)) -> 0 | F12: =COUNTIF(Sheet1!$A$5:'Sheet1'!$A$287,Sheet2!A12) -> 1 | G12: =AVERAGEIF(Sheet1!$A$5:'Sheet1'!$A$287,Sheet2!A12,Sheet1!$H$5:'Sheet1'!$H$287) -> #DIV/0! | H12: =AVERAGEIF(Sheet1!$A$5:'Sheet1'!$A$287,Sheet2!A12,Sheet1!$I$5:'Sheet1'!$I$287) -> #DIV/0!
A13: Winnipeg | B13: Canada | D13: =INDEX(Sheet1!F16:F298,MATCH(Sheet2!A13,Sheet1!A16:A298,0)) -> Tap | E13: =INDEX(Sheet1!$G$5:$G$287,MATCH(Sheet2!A13,Sheet1!$A$5:$A$287,0)) -> Shoal Lake | F13: =COUNTIF(Sheet1!$A$5:'Sheet1'!$A$287,Sheet2!A13) -> 1 | G13: =AVERAGEIF(Sheet1!$A$5:'Sheet1'!$A$287,Sheet2!A13,Sheet1!$H$5:'Sheet1'!$H$287) -> -60 | H13: =AVERAGEIF(Sheet1!$A$5:'Sheet1'!$A$287,Sheet2!A13,Sheet1!$I$5:'Sheet1'!$I$287) -> -6.8
A14: Chifeng | B14: China | C14: Annual | D14: =INDEX(Sheet1!F17:F299,MATCH(Sheet2!A14,Sheet1!A17:A299,0)) -> Tap | E14: =INDEX(Sheet1!$G$5:$G$287,MATCH(Sheet2!A14,Sheet1!$A$5:$A$287,0)) -> unknown | F14: 12 | G14: =AVERAGEIF(Sheet1!$A$5:'Sheet1'!$A$287,Sheet2!A14,Sheet1!$H$5:'Sheet1'!$H$287) -> -75.27164 | H14: =AVERAGEIF(Sheet1!$A$5:'Sheet1'!$A$287,Sheet2!A14,Sheet1!$I$5:'Sheet1'!$I$287) -> -9.7710516
A15: Guangzhou | B15: China | C15: Annual | D15: =INDEX(Sheet1!F18:F300,MATCH(Sheet2!A15,Sheet1!A18:A300,0)) -> Tap | E15: =INDEX(Sheet1!$G$5:$G$287,MATCH(Sheet2!A15,Sheet1!$A$5:$A$287,0)) -> unknown | F15: =COUNTIF(Sheet1!$A$5:'Sheet1'!$A$287,Sheet2!A15) -> 9 | G15: =AVERAGEIF(Sheet1!$A$5:'Sheet1'!$A$287,Sheet2!A15,Sheet1!$H$5:'Sheet1'!$H$287) -> -38.862393 | H15: =AVERAGEIF(Sheet1!$A$5:'Sheet1'!$A$287,Sheet2!A15,Sheet1!$I$5:'Sheet1'!$I$287) -> -6.1434371
A16: Lianyungang | B16: China | C16: Annual | D16: =INDEX(Sheet1!F19:F301,MATCH(Sheet2!A16,Sheet1!A19:A301,0)) -> Tap | E16: =INDEX(Sheet1!$G$5:$G$287,MATCH(Sheet2!A16,Sheet1!$A$5:$A$287,0)) -> unknown | F16: =COUNTIF(Sheet1!$A$5:'Sheet1'!$A$287,Sheet2!A16) -> 12 | G16: =AVERAGEIF(Sheet1!$A$5:'Sheet1'!$A$287,Sheet2!A16,Sheet1!$H$5:'Sheet1'!$H$287) -> -33.942229 | H16: =AVERAGEIF(Sheet1!$A$5:'Sheet1'!$A$287,Sheet2!A16,Sheet1!$I$5:'Sheet1'!$I$287) -> -4.4392178
A17: Linyi | B17: China | C17: Annual | D17: =INDEX(Sheet1!F20:F302,MATCH(Sheet2!A17,Sheet1!A20:A302,0)) -> Tap | E17: =INDEX(Sheet1!$G$5:$G$287,MATCH(Sheet2!A17,Sheet1!$A$5:$A$287,0)) -> unknown | F17: =COUNTIF(Sheet1!$A$5:'Sheet1'!$A$287,Sheet2!A17) -> 12 | G17: =AVERAGEIF(Sheet1!$A$5:'Sheet1'!$A$287,Sheet2!A17,Sheet1!$H$5:'Sheet1'!$H$287) -> -52.3175 | H17: =AVERAGEIF(Sheet1!$A$5:'Sheet1'!$A$287,Sheet2!A17,Sheet1!$I$5:'Sheet1'!$I$287) -> -6.7841667
A18: Nanjing | B18: China | C18: Annual | D18: =INDEX(Sheet1!F21:F303,MATCH(Sheet2!A18,Sheet1!A21:A303,0)) -> Tap | E18: =INDEX(Sheet1!$G$5:$G$287,MATCH(Sheet2!A18,Sheet1!$A$5:$A$287,0)) -> unknown | F18: =COUNTIF(Sheet1!$A$5:'Sheet1'!$A$287,Sheet2!A18) -> 24 | G18: =AVERAGEIF(Sheet1!$A$5:'Sheet1'!$A$287,Sheet2!A18,Sheet1!$H$5:'Sheet1'!$H$287) -> -52.923488 | H18: =AVERAGEIF(Sheet1!$A$5:'Sheet1'!$A$287,Sheet2!A18,Sheet1!$I$5:'Sheet1'!$I$287) -> -7.9437941
A19: Nantong | B19: China | C19: Annual | D19: =INDEX(Sheet1!F22:F304,MATCH(Sheet2!A19,Sheet1!A22:A304,0)) -> Tap | E19: =INDEX(Sheet1!$G$5:$G$287,MATCH(Sheet2!A19,Sheet1!$A$5:$A$287,0)) -> unknown | F19: =COUNTIF(Sheet1!$A$5:'Sheet1'!$A$287,Sheet2!A19) -> 17 | G19: =AVERAGEIF(Sheet1!$A$5:'Sheet1'!$A$287,Sheet2!A19,Sheet1!$H$5:'Sheet1'!$H$287) -> -50.499592 | H19: =AVERAGEIF(Sheet1!$A$5:'Sheet1'!$A$287,Sheet2!A19,Sheet1!$I$5:'Sheet1'!$I$287) -> -7.5947102
A20: Shanghai | B20: China | C20: Annual | D20: =INDEX(Sheet1!F23:F305,MATCH(Sheet2!A20,Sheet1!A23:A305,0)) -> Tap | E20: =INDEX(Sheet1!$G$5:$G$287,MATCH(Sheet2!A20,Sheet1!$A$5:$A$287,0)) -> unknown | F20: =COUNTIF(Sheet1!$A$5:'Sheet1'!$A$287,Sheet2!A20) -> 39 | G20: =AVERAGEIF(Sheet1!$A$5:'Sheet1'!$A$287,Sheet2!A20,Sheet1!$H$5:'Sheet1'!$H$287) -> -44.389603 | H20: =AVERAGEIF(Sheet1!$A$5:'Sheet1'!$A$287,Sheet2!A20,Sheet1!$I$5:'Sheet1'!$I$287) -> -6.6514365
A21: Shenzhen | B21: China | C21: Annual | D21: =INDEX(Sheet1!F24:F306,MATCH(Sheet2!A21,Sheet1!A24:A306,0)) -> Tap | E21: =INDEX(Sheet1!$G$5:$G$287,MATCH(Sheet2!A21,Sheet1!$A$5:$A$287,0)) -> unknown | F21: =COUNTIF(Sheet1!$A$5:'Sheet1'!$A$287,Sheet2!A21) -> 9 | G21: =AVERAGEIF(Sheet1!$A$5:'Sheet1'!$A$287,Sheet2!A21,Sheet1!$H$5:'Sheet1'!$H$287) -> -35.600818 | H21: =AVERAGEIF(Sheet1!$A$5:'Sheet1'!$A$287,Sheet2!A21,Sheet1!$I$5:'Sheet1'!$I$287) -> -5.6897676
A22: Taiyuan | B22: China | C22: First half | D22: =INDEX(Sheet1!F25:F307,MATCH(Sheet2!A22,Sheet1!A25:A307,0)) -> Tap | E22: =INDEX(Sheet1!$G$5:$G$287,MATCH(Sheet2!A22,Sheet1!$A$5:$A$287,0)) -> unknown | F22: =COUNTIF(Sheet1!$A$5:'Sheet1'!$A$287,Sheet2!A22) -> 5 | G22: =AVERAGEIF(Sheet1!$A$5:'Sheet1'!$A$287,Sheet2!A22,Sheet1!$H$5:'Sheet1'!$H$287) -> -63.982874 | H22: =AVERAGEIF(Sheet1!$A$5:'Sheet1'!$A$287,Sheet2!A22,Sheet1!$I$5:'Sheet1'!$I$287) -> -8.5692648
A23: Tianjin | B23: China | C23: Annual | D23: =INDEX(Sheet1!F26:F308,MATCH(Sheet2!A23,Sheet1!A26:A308,0)) -> Tap | E23: =INDEX(Sheet1!$G$5:$G$287,MATCH(Sheet2!A23,Sheet1!$A$5:$A$287,0)) -> unknown | F23: =COUNTIF(Sheet1!$A$5:'Sheet1'!$A$287,Sheet2!A23) -> 17 | G23: =AVERAGEIF(Sheet1!$A$5:'Sheet1'!$A$287,Sheet2!A23,Sheet1!$H$5:'Sheet1'!$H$287) -> -49.651256 | H23: =AVERAGEIF(Sheet1!$A$5:'Sheet1'!$A$287,Sheet2!A23,Sheet1!$I$5:'Sheet1'!$I$287) -> -6.6608948
A24: Yiyuan, Zibo | B24: China | D24: =INDEX(Sheet1!F27:F309,MATCH(Sheet2!A24,Sheet1!A27:A309,0)) -> 0 | E24: =INDEX(Sheet1!$G$5:$G$287,MATCH(Sheet2!A24,Sheet1!$A$5:$A$287,0)) -> 0 | F24: =COUNTIF(Sheet1!$A$5:'Sheet1'!$A$287,Sheet2!A24) -> 1 | G24: =AVERAGEIF(Sheet1!$A$5:'Sheet1'!$A$287,Sheet2!A24,Sheet1!$H$5:'Sheet1'!$H$287) -> #DIV/0! | H24: =AVERAGEIF(Sheet1!$A$5:'Sheet1'!$A$287,Sheet2!A24,Sheet1!$I$5:'Sheet1'!$I$287) -> #DIV/0!
A25: Zibo | B25: China | C25: Annual | D25: =INDEX(Sheet1!F28:F310,MATCH(Sheet2!A25,Sheet1!A28:A310,0)) -> Tap | E25: =INDEX(Sheet1!$G$5:$G$287,MATCH(Sheet2!A25,Sheet1!$A$5:$A$287,0)) -> unknown | F25: =COUNTIF(Sheet1!$A$5:'Sheet1'!$A$287,Sheet2!A25) -> 12 | G25: =AVERAGEIF(Sheet1!$A$5:'Sheet1'!$A$287,Sheet2!A25,Sheet1!$H$5:'Sheet1'!$H$287) -> -60.233313 | H25: =AVERAGEIF(Sheet1!$A$5:'Sheet1'!$A$287,Sheet2!A25,Sheet1!$I$5:'Sheet1'!$I$287) -> -8.4469462
A26: Fiji Island | B26: Fiji | D26: =INDEX(Sheet1!F29:F311,MATCH(Sheet2!A26,Sheet1!A29:A311,0)) -> 0 | E26: =INDEX(Sheet1!$G$5:$G$287,MATCH(Sheet2!A26,Sheet1!$A$5:$A$287,0)) -> 0 | F26: =COUNTIF(Sheet1!$A$5:'Sheet1'!$A$287,Sheet2!A26) -> 1 | G26: =AVERAGEIF(Sheet1!$A$5:'Sheet1'!$A$287,Sheet2!A26,Sheet1!$H$5:'Sheet1'!$H$287) -> #DIV/0! | H26: =AVERAGEIF(Sheet1!$A$5:'Sheet1'!$A$287,Sheet2!A26,Sheet1!$I$5:'Sheet1'!$I$287) -> #DIV/0!
A27: Hong Kong | B27: Hong Kong | D27: =INDEX(Sheet1!F30:F312,MATCH(Sheet2!A27,Sheet1!A30:A312,0)) -> Tap | E27: =INDEX(Sheet1!$G$5:$G$287,MATCH(Sheet2!A27,Sheet1!$A$5:$A$287,0)) -> unknown | F27: 11 | G27: =AVERAGEIF(Sheet1!$A$5:'Sheet1'!$A$287,Sheet2!A27,Sheet1!$H$5:'Sheet1'!$H$287) -> -38.277794 | H27: =AVERAGEIF(Sheet1!$A$5:'Sheet1'!$A$287,Sheet2!A27,Sheet1!$I$5:'Sheet1'!$I$287) -> -6.8312279
A28: Kolkata | B28: India | C28: July | D28: =INDEX(Sheet1!F31:F313,MATCH(Sheet2!A28,Sheet1!A31:A313,0)) -> Groundwater | E28: =INDEX(Sheet1!$G$5:$G$287,MATCH(Sheet2!A28,Sheet1!$A$5:$A$287,0)) -> unknown | F28: =COUNTIF(Sheet1!$A$5:'Sheet1'!$A$287,Sheet2!A28) -> 13 | G28: =AVERAGEIF(Sheet1!$A$5:'Sheet1'!$A$287,Sheet2!A28,Sheet1!$H$5:'Sheet1'!$H$287) -> -34.564594 | H28: =AVERAGEIF(Sheet1!$A$5:'Sheet1'!$A$287,Sheet2!A28,Sheet1!$I$5:'Sheet1'!$I$287) -> -5.2156144
A29: New Delhi | B29: India | D29: =INDEX(Sheet1!F32:F314,MATCH(Sheet2!A29,Sheet1!A32:A314,0)) -> Tap | E29: =INDEX(Sheet1!$G$5:$G$287,MATCH(Sheet2!A29,Sheet1!$A$5:$A$287,0)) -> unknown | F29: =COUNTIF(Sheet1!$A$5:'Sheet1'!$A$287,Sheet2!A29) -> 5 | G29: =AVERAGEIF(Sheet1!$A$5:'Sheet1'!$A$287,Sheet2!A29,Sheet1!$H$5:'Sheet1'!$H$287) -> -48.369314 | H29: =AVERAGEIF(Sheet1!$A$5:'Sheet1'!$A$287,Sheet2!A29,Sheet1!$I$5:'Sheet1'!$I$287) -> -6.6236885
A30: Ahvaz | B30: Iran | D30: =INDEX(Sheet1!F33:F315,MATCH(Sheet2!A30,Sheet1!A33:A315,0)) -> Tap | E30: =INDEX(Sheet1!$G$5:$G$287,MATCH(Sheet2!A30,Sheet1!$A$5:$A$287,0)) -> unknown | F30: =COUNTIF(Sheet1!$A$5:'Sheet1'!$A$287,Sheet2!A30) -> 3 | G30: =AVERAGEIF(Sheet1!$A$5:'Sheet1'!$A$287,Sheet2!A30,Sheet1!$H$5:'Sheet1'!$H$287) -> -26.830978 | H30: =AVERAGEIF(Sheet1!$A$5:'Sheet1'!$A$287,Sheet2!A30,Sheet1!$I$5:'Sheet1'!$I$287) -> -5.5464105
A31: Shiraz | B31: Iran | D31: =INDEX(Sheet1!F34:F316,MATCH(Sheet2!A31,Sheet1!A34:A316,0)) -> Tap | E31: =INDEX(Sheet1!$G$5:$G$287,MATCH(Sheet2!A31,Sheet1!$A$5:$A$287,0)) -> unknown | F31: =COUNTIF(Sheet1!$A$5:'Sheet1'!$A$287,Sheet2!A31) -> 1 | G31: =AVERAGEIF(Sheet1!$A$5:'Sheet1'!$A$287,Sheet2!A31,Sheet1!$H$5:'Sheet1'!$H$287) -> -32.917276 | H31: =AVERAGEIF(Sheet1!$A$5:'Sheet1'!$A$287,Sheet2!A31,Sheet1!$I$5:'Sheet1'!$I$287) -> -5.7900226
A32: Tehran | B32: Iran | D32: =INDEX(Sheet1!F35:F317,MATCH(Sheet2!A32,Sheet1!A35:A317,0)) -> Tap | E32: =INDEX(Sheet1!$G$5:$G$287,MATCH(Sheet2!A32,Sheet1!$A$5:$A$287,0)) -> unknown | F32: =COUNTIF(Sheet1!$A$5:'Sheet1'!$A$287,Sheet2!A32) -> 8 | G32: =AVERAGEIF(Sheet1!$A$5:'Sheet1'!$A$287,Sheet2!A32,Sheet1!$H$5:'Sheet1'!$H$287) -> -50.847957 | H32: =AVERAGEIF(Sheet1!$A$5:'Sheet1'!$A$287,Sheet2!A32,Sheet1!$I$5:'Sheet1'!$I$287) -> -8.7507438
A33: Osaka | B33: Japan | D33: =INDEX(Sheet1!F36:F318,MATCH(Sheet2!A33,Sheet1!A36:A318,0)) -> 0 | E33: =INDEX(Sheet1!$G$5:$G$287,MATCH(Sheet2!A33,Sheet1!$A$5:$A$287,0)) -> 0 | F33: =COUNTIF(Sheet1!$A$5:'Sheet1'!$A$287,Sheet2!A33) -> 1 | G33: =AVERAGEIF(Sheet1!$A$5:'Sheet1'!$A$287,Sheet2!A33,Sheet1!$H$5:'Sheet1'!$H$287) -> #DIV/0! | H33: =AVERAGEIF(Sheet1!$A$5:'Sheet1'!$A$287,Sheet2!A33,Sheet1!$I$5:'Sheet1'!$I$287) -> #DIV/0!
A34: Almaty | B34: Kazakhstan | D34: =INDEX(Sheet1!F37:F319,MATCH(Sheet2!A34,Sheet1!A37:A319,0)) -> Tap | E34: =INDEX(Sheet1!$G$5:$G$287,MATCH(Sheet2!A34,Sheet1!$A$5:$A$287,0)) -> unknown | F34: =COUNTIF(Sheet1!$A$5:'Sheet1'!$A$287,Sheet2!A34) -> 2 | G34: =AVERAGEIF(Sheet1!$A$5:'Sheet1'!$A$287,Sheet2!A34,Sheet1!$H$5:'Sheet1'!$H$287) -> -68.1 | H34: =AVERAGEIF(Sheet1!$A$5:'Sheet1'!$A$287,Sheet2!A34,Sheet1!$I$5:'Sheet1'!$I$287) -> -7.89
A35: Nairobi | B35: Kenya | D35: =INDEX(Sheet1!F38:F320,MATCH(Sheet2!A35,Sheet1!A38:A320,0)) -> Tap | E35: =INDEX(Sheet1!$G$5:$G$287,MATCH(Sheet2!A35,Sheet1!$A$5:$A$287,0)) -> unknown | F35: =COUNTIF(Sheet1!$A$5:'Sheet1'!$A$287,Sheet2!A35) -> 10 | G35: =AVERAGEIF(Sheet1!$A$5:'Sheet1'!$A$287,Sheet2!A35,Sheet1!$H$5:'Sheet1'!$H$287) -> -16.902896 | H35: =AVERAGEIF(Sheet1!$A$5:'Sheet1'!$A$287,Sheet2!A35,Sheet1!$I$5:'Sheet1'!$I$287) -> -3.1294234
A36: Klang | B36: Malaysia | D36: =INDEX(Sheet1!F39:F321,MATCH(Sheet2!A36,Sheet1!A39:A321,0)) -> Tap | E36: =INDEX(Sheet1!$G$5:$G$287,MATCH(Sheet2!A36,Sheet1!$A$5:$A$287,0)) -> unknown | F36: =COUNTIF(Sheet1!$A$5:'Sheet1'!$A$287,Sheet2!A36) -> 1 | G36: =AVERAGEIF(Sheet1!$A$5:'Sheet1'!$A$287,Sheet2!A36,Sheet1!$H$5:'Sheet1'!$H$287) -> -43.27 | H36: =AVERAGEIF(Sheet1!$A$5:'Sheet1'!$A$287,Sheet2!A36,Sheet1!$I$5:'Sheet1'!$I$287) -> -5.39
A37: Mexico City | B37: Mexico | D37: =INDEX(Sheet1!F40:F322,MATCH(Sheet2!A37,Sheet1!A40:A322,0)) -> Tap | E37: =INDEX(Sheet1!$G$5:$G$287,MATCH(Sheet2!A37,Sheet1!$A$5:$A$287,0)) -> unknown | F37: =COUNTIF(Sheet1!$A$5:'Sheet1'!$A$287,Sheet2!A37) -> 2 | G37: =AVERAGEIF(Sheet1!$A$5:'Sheet1'!$A$287,Sheet2!A37,Sheet1!$H$5:'Sheet1'!$H$287) -> -64.01825 | H37: =AVERAGEIF(Sheet1!$A$5:'Sheet1'!$A$287,Sheet2!A37,Sheet1!$I$5:'Sheet1'!$I$287) -> -8.9752703
A38: Moscow | B38: Russia | D38: =INDEX(Sheet1!F41:F323,MATCH(Sheet2!A38,Sheet1!A41:A323,0)) -> Tap | E38: =INDEX(Sheet1!$G$5:$G$287,MATCH(Sheet2!A38,Sheet1!$A$5:$A$287,0)) -> unknown | F38: =COUNTIF(Sheet1!$A$5:'Sheet1'!$A$287,Sheet2!A38) -> 10 | G38: =AVERAGEIF(Sheet1!$A$5:'Sheet1'!$A$287,Sheet2!A38,Sheet1!$H$5:'Sheet1'!$H$287) -> -79.322256 | H38: =AVERAGEIF(Sheet1!$A$5:'Sheet1'!$A$287,Sheet2!A38,Sheet1!$I$5:'Sheet1'!$I$287) -> -10.181128
A39: Hanoi | B39: Vietnam | D39: =INDEX(Sheet1!F42:F324,MATCH(Sheet2!A39,Sheet1!A42:A324,0)) -> Tap | E39: =INDEX(Sheet1!$G$5:$G$287,MATCH(Sheet2!A39,Sheet1!$A$5:$A$287,0)) -> unknown | F39: =COUNTIF(Sheet1!$A$5:'Sheet1'!$A$287,Sheet2!A39) -> 1 | G39: =AVERAGEIF(Sheet1!$A$5:'Sheet1'!$A$287,Sheet2!A39,Sheet1!$H$5:'Sheet1'!$H$287) -> -45.960386 | H39: =AVERAGEIF(Sheet1!$A$5:'Sheet1'!$A$287,Sheet2!A39,Sheet1!$I$5:'Sheet1'!$I$287) -> -6.5038482
A40: Kitwe | B40: Zambia | D40: =INDEX(Sheet1!F43:F325,MATCH(Sheet2!A40,Sheet1!A43:A325,0)) -> Surface water | E40: =INDEX(Sheet1!$G$5:$G$287,MATCH(Sheet2!A40,Sheet1!$A$5:$A$287,0)) -> Kafue River | F40: =COUNTIF(Sheet1!$A$5:'Sheet1'!$A$287,Sheet2!A40) -> 1 | G40: =AVERAGEIF(Sheet1!$A$5:'Sheet1'!$A$287,Sheet2!A40,Sheet1!$H$5:'Sheet1'!$H$287) -> #DIV/0! | H40: =AVERAGEIF(Sheet1!$A$5:'Sheet1'!$A$287,Sheet2!A40,Sheet1!$I$5:'Sheet1'!$I$287) -> -5
