Workbook

Sheet GTV Size
A1: GTV | C1: patID | D1: GTV Volume for baseline plan [in cm3] | H1: PTV | J1: patID | K1: PTV Volume for baseline plan [in cm3]
C2: A | D2: 5.4 | J2: A | K2: 33.6
C3: B | D3: 22.7 | J3: B | K3: 62.7
C4: C | D4: 14.9 | J4: C | K4: 67.4
C5: D | D5: 36.2 | J5: D | K5: 78.1
C6: E | D6: 28.5 | J6: E | K6: 111.8
C7: F | D7: 4.4 | J7: F | K7: 31
C8: G | D8: 4.9 | J8: G | K8: 34.5
C9: H | D9: 3.7 | J9: H | K9: 26.9
C10: I | D10: 106.1 | J10: I | K10: 278.2
C11: J | D11: 11.3 | J11: J | K11: 56.4
C12: K | D12: 14.3 | J12: K | K12: 50.3
C13: L | D13: 29.5 | J13: L | K13: 100.7
... C16: O | D16: 10 | J16: O | K16: 62.2
A23: patID | B23: Fraction | C23: Adapted GTV Volume for each fraction [in cm3] | D23: GTV change for each fraction compared to baseline plan [in cm3] | H23: patID | I23: Fraction | J23: Adapted PTV Volume for each fraction [in cm3] | K23: PTV change for each fraction compared to baseline plan [in cm3]
A24: =LEFT('GTV Size'!H24,1) -> A | B24: 1 | C24: 6.1 | D24: -0.8 | H24: A | I24: 1 | J24: 37.8 | K24: -4.2
A25: =LEFT('GTV Size'!H25,1) -> A | B25: 2 | C25: 6 | D25: -1.6 | H25: A | I25: 2 | J25: 36.3 | K25: -2.7
A26: =LEFT('GTV Size'!H26,1) -> A | B26: 3 | C26: 5.4 | D26: -0.2 | H26: A | I26: 3 | J26: 32.8 | K26: 0.8
A27: =LEFT('GTV Size'!H27,1) -> A | B27: 4 | C27: 5.8 | D27: -0.1 | H27: A | I27: 4 | J27: 35.9 | K27: -2.3
A28: =LEFT('GTV Size'!H28,1) -> A | B28: 5 | C28: 5.4 | D28: -0.2 | H28: A | I28: 5 | J28: 34.6 | K28: -1
A29: =LEFT('GTV Size'!H29,1) -> B | B29: 1 | C29: 22 | D29: 0.2 | H29: B | I29: 1 | J29: 65.2 | K29: -2.5
A30: =LEFT('GTV Size'!H30,1) -> B | B30: 2 | C30: 22.3 | D30: -0.9 | H30: B | I30: 2 | J30: 60.6 | K30: 2.1
A31: =LEFT('GTV Size'!H31,1) -> B | B31: 3 | C31: 22.4 | D31: 0.8 | H31: B | I31: 3 | J31: 62.6 | K31: 0.1
A32: =LEFT('GTV Size'!H32,1) -> B | B32: 4 | C32: 22.2 | D32: -0.3 | H32: B | I32: 4 | J32: 69.4 | K32: -6.7
A33: =LEFT('GTV Size'!H33,1) -> B | B33: 5 | C33: 23 | D33: -0.3 | H33: B | I33: 5 | J33: 71.7 | K33: -9
A34: =LEFT('GTV Size'!H34,1) -> C | B34: 1 | C34: 15.2 | D34: 0 | H34: C | I34: 1 | J34: 67.8 | K34: -0.4
A35: =LEFT('GTV Size'!H35,1) -> C | B35: 2 | C35: 14.9 | D35: 0 | H35: C | I35: 2 | J35: 67.4 | K35: 0
... A98: =LEFT('GTV Size'!H98,1) -> O | B98: 5 | C98: 10.2 | D98: -0.9 | H98: O | I98: 5 | J98: 62.4 | K98: -0.2

Sheet PTV Size
