Workbook

Sheet Ratio Generation
B2: Region | C2: CLoCk Reweighted: % Females aged 11-14 | D2: Census:CLoCk Ratio (Females, younger) | E2: CLoCk Reweighted: % Females aged 15-17 | F2: Census:CLoCk Ratio (Females, older) | G2: CLoCk Reweighted: % Males aged 11-14 | H2: Census:CLoCk Ratio (Males, younger) | I2: CLoCk Reweighted: % Males aged 15-17 | J2: Census:CLoCk Ratio (Males, older)
B5: North East | D5: ='Census %'!B5/C5 -> #DIV/0! | F5: ='Census %'!C5/E5 -> #DIV/0! | H5: ='Census %'!D5/G5 -> #DIV/0! | J5: ='Census %'!E5/I5 -> #DIV/0!
B6: North West | D6: ='Census %'!B6/C6 -> #DIV/0! | F6: ='Census %'!C6/E6 -> #DIV/0! | H6: ='Census %'!D6/G6 -> #DIV/0! | J6: ='Census %'!E6/I6 -> #DIV/0!
B7: Yorkshire and The Humber | D7: ='Census %'!B7/C7 -> #DIV/0! | F7: ='Census %'!C7/E7 -> #DIV/0! | H7: ='Census %'!D7/G7 -> #DIV/0! | J7: ='Census %'!E7/I7 -> #DIV/0!
B8: East Midlands | D8: ='Census %'!B8/C8 -> #DIV/0! | F8: ='Census %'!C8/E8 -> #DIV/0! | H8: ='Census %'!D8/G8 -> #DIV/0! | J8: ='Census %'!E8/I8 -> #DIV/0!
B9: West Midlands | D9: ='Census %'!B9/C9 -> #DIV/0! | F9: ='Census %'!C9/E9 -> #DIV/0! | H9: ='Census %'!D9/G9 -> #DIV/0! | J9: ='Census %'!E9/I9 -> #DIV/0!
B10: East of England | D10: ='Census %'!B10/C10 -> #DIV/0! | F10: ='Census %'!C10/E10 -> #DIV/0! | H10: ='Census %'!D10/G10 -> #DIV/0! | J10: ='Census %'!E10/I10 -> #DIV/0!
B11: London | D11: ='Census %'!B11/C11 -> #DIV/0! | F11: ='Census %'!C11/E11 -> #DIV/0! | H11: ='Census %'!D11/G11 -> #DIV/0! | J11: ='Census %'!E11/I11 -> #DIV/0!
B12: South East | D12: ='Census %'!B12/C12 -> #DIV/0! | F12: ='Census %'!C12/E12 -> #DIV/0! | H12: ='Census %'!D12/G12 -> #DIV/0! | J12: ='Census %'!E12/I12 -> #DIV/0!
B13: South West | D13: ='Census %'!B13/C13 -> #DIV/0! | F13: ='Census %'!C13/E13 -> #DIV/0! | H13: ='Census %'!D13/G13 -> #DIV/0! | J13: ='Census %'!E13/I13 -> #DIV/0!

Sheet Illustrative Example
B2: Region | C2: CLoCk Reweighted: % Females aged 11-14 | D2: Census:CLoCk Ratio (Females, younger) | E2: CLoCk Reweighted: % Females aged 15-17 | F2: Census:CLoCk Ratio (Females, older) | G2: CLoCk Reweighted: % Males aged 11-14 | H2: Census:CLoCk Ratio (Males, younger) | I2: CLoCk Reweighted: % Males aged 15-17 | J2: Census:CLoCk Ratio (Males, older)
B5: North East | C5: 0.0724 | D5: ='Census %'!B5/C5 -> 0.62499564 | E5: 0.0571 | F5: ='Census %'!C5/E5 -> 0.82199268 | G5: 0.035 | H5: ='Census %'!D5/G5 -> 1.292167 | I5: 0.035 | J5: ='Census %'!E5/I5 -> 1.3240334
B6: North West | C6: 0.2457 | D6: ='Census %'!B6/C6 -> 0.53831374 | E6: 0.1624 | F6: ='Census %'!C6/E6 -> 0.82895022 | G6: 0.2178 | H6: ='Census %'!D6/G6 -> 0.60981981 | I6: 0.2575 | J6: ='Census %'!E6/I6 -> 0.51707792
B7: Yorkshire and The Humber | C7: 0.1085 | D7: ='Census %'!B7/C7 -> 0.89778812 | E7: 0.0886 | F7: ='Census %'!C7/E7 -> 1.1343543 | G7: 0.1236 | H7: ='Census %'!D7/G7 -> 0.78917033 | I7: 0.0953 | J7: ='Census %'!E7/I7 -> 1.0519876
B8: East Midlands | C8: 0.0687 | D8: ='Census %'!B8/C8 -> 1.2385886 | E8: 0.0751 | F8: ='Census %'!C8/E8 -> 1.187966 | G8: 0.101 | H8: ='Census %'!D8/G8 -> 0.84178229 | I8: 0.0865 | J8: ='Census %'!E8/I8 -> 1.0322548
B9: West Midlands | C9: 0.1331 | D9: ='Census %'!B9/C9 -> 0.8239586 | E9: 0.1433 | F9: ='Census %'!C9/E9 -> 0.77255565 | G9: 0.1591 | H9: ='Census %'!D9/G9 -> 0.68962816 | I9: 0.1047 | J9: ='Census %'!E9/I9 -> 1.0639975
B10: East of England | C10: 0.1121 | D10: ='Census %'!B10/C10 -> 1.0056522 | E10: 0.1 | F10: ='Census %'!C10/E10 -> 1.0560551 | G10: 0.0981 | H10: ='Census %'!D10/G10 -> 1.1510874 | I10: 0.0725 | J10: ='Census %'!E10/I10 -> 1.4814134
B11: London | C11: 0.1248 | D11: ='Census %'!B11/C11 -> 1.2601137 | E11: 0.196 | F11: ='Census %'!C11/E11 -> 0.78185091 | G11: 0.1369 | H11: ='Census %'!D11/G11 -> 1.1426753 | I11: 0.1689 | J11: ='Census %'!E11/I11 -> 0.89340755
B12: South East | C12: 0.0959 | D12: ='Census %'!B12/C12 -> 1.7357283 | E12: 0.1244 | F12: ='Census %'!C12/E12 -> 1.2995226 | G12: 0.096 | H12: ='Census %'!D12/G12 -> 1.739089 | I12: 0.1166 | J12: ='Census %'!E12/I12 -> 1.4053169
B13: South West | C13: 0.0388 | D13: ='Census %'!B13/C13 -> 2.422287 | E13: 0.053 | F13: ='Census %'!C13/E13 -> 1.839746 | G13: 0.0327 | H13: ='Census %'!D13/G13 -> 2.853531 | I13: 0.063 | J13: ='Census %'!E13/I13 -> 1.5461479

Sheet Census %
B2: Census: % Females aged 10-14 | C2: Census: % Females aged 15-19 | D2: Census: % Males aged 10-14 | E2: Census: % Males aged 15-19
B5: 0.045249685 | C5: 0.046935782 | D5: 0.045225843 | E5: 0.046341168
B6: 0.13226369 | C6: 0.13462152 | D6: 0.13281875 | E6: 0.13314756
B7: 0.097410011 | C7: 0.10050379 | D7: 0.097541452 | E7: 0.10025442
B8: 0.08509104 | C8: 0.089216249 | D8: 0.085020011 | E8: 0.089290041
B9: 0.10966889 | C9: 0.11070723 | D9: 0.10971984 | E9: 0.11140053
B10: 0.11273361 | C10: 0.10560551 | D10: 0.11292167 | E10: 0.10740247
B11: 0.15726218 | C11: 0.15324278 | D11: 0.15643225 | E11: 0.15089654
B12: 0.16645634 | C12: 0.16166061 | D12: 0.16695254 | E12: 0.16385995
B13: 0.093984736 | C13: 0.097506537 | D13: 0.093310463 | E13: 0.097407318
