Workbook

Sheet S1 phenotype trials stats
A1: S1: Trait statistics of locations within years
A2: year | B2: location | C2: trait | D2: mean | E2: sd | F2: plots | G2: genotypes | H2: r | I2: σ²genotype | J2: σ²spatial | K2: σ²residual | L2: σ²total | M2: rep²
A3: 2019 | B3: AT-DOE | C3: GY | D3: 44.59 | E3: 5.306 | F3: 150 | G3: 114 | H3: 1.316 | I3: 5.409 | J3: 53.3 | K3: 6.272 | L3: 64.98 | M3: 0.532
A4: 2020 | B4: AT-DOE | C4: GY | D4: 49.76 | E4: 11.36 | F4: 149 | G4: 108 | H4: 1.38 | I4: 11.17 | J4: 6894 | K4: 6.788 | L4: 6912 | M4: 0.694
A5: 2021 | B5: AT-DOE | C5: GY | D5: 48.94 | E5: 7.074 | F5: 300 | G5: 219 | H5: 1.37 | I5: 8.008 | J5: 4823 | K5: 2.089 | L5: 4833 | M5: 0.84
A6: 2022 | B6: AT-DOE | C6: GY | D6: 62.62 | E6: 5.105 | F6: 300 | G6: 215 | H6: 1.395 | I6: 8.252 | J6: 141.7 | K6: 6.508 | L6: 156.5 | M6: 0.639
A7: 2019 | B7: AT-PRO | C7: GY | D7: 64.93 | E7: 7.716 | F7: 149 | G7: 113 | H7: 1.319 | I7: 38.82 | J7: 55.47 | K7: 5.378 | L7: 99.67 | M7: 0.905
A8: 2020 | B8: AT-PRO | C8: GY | D8: 77.38 | E8: 12.03 | F8: 150 | G8: 108 | H8: 1.389 | I8: 64.35 | J8: 492 | K8: 18.47 | L8: 574.9 | M8: 0.829
A9: 2021 | B9: AT-PRO | C9: GY | D9: 89.95 | E9: 9.54 | F9: 300 | G9: 219 | H9: 1.37 | I9: 28.64 | J9: 100.9 | K9: 9.589 | L9: 139.1 | M9: 0.804
A10: 2022 | B10: AT-PRO | C10: GY | D10: 66.91 | E10: 6.283 | F10: 300 | G10: 215 | H10: 1.395 | I10: 7.395 | J10: 307.1 | K10: 7.008 | L10: 321.5 | M10: 0.596
A11: 2019 | B11: AT-WEI | C11: GY | D11: 72.21 | E11: 6.258 | F11: 150 | G11: 114 | H11: 1.316 | I11: 25.34 | J11: 25.95 | K11: 8.654 | L11: 59.95 | M11: 0.794
A12: 2020 | B12: AT-WEI | C12: GY | D12: 74.07 | E12: 8.865 | F12: 150 | G12: 108 | H12: 1.389 | I12: 16.83 | J12: 73.87 | K12: 2.91 | L12: 93.61 | M12: 0.889
A13: 2021 | B13: AT-WEI | C13: GY | D13: 64.09 | E13: 5.577 | F13: 299 | G13: 218 | H13: 1.372 | I13: 11.61 | J13: 81.56 | K13: 3.134 | L13: 96.3 | M13: 0.836
A14: 2022 | B14: AT-WEI | C14: GY | D14: 42.96 | E14: 4.28 | F14: 300 | G14: 215 | H14: 1.395 | I14: 9.413 | J14: 169.5 | K14: 1.782 | L14: 180.7 | M14: 0.881
... A66: 2022 | B66: AT-WEI | C66: TW | D66: 82.66 | E66: 1.503 | F66: 300 | G66: 215 | H66: 1.395 | I66: 1.277 | J66: 32.48 | K66: 0.1853 | L66: 33.95 | M66: 0.906
A67: 2019 | B67: AT-DOE | C67: EWPY | D67: -5.6561353e-16 | E67: 1.1527642 | G67: 114
A68: 2020 | B68: AT-DOE | C68: EWPY | D68: 8.3579539e-16 | E68: 1.19538 | G68: 108
A69: 2021 | B69: AT-DOE | C69: EWPY | D69: -1.6347803e-15 | E69: 1.0516675 | G69: 219
A70: 2022 | B70: AT-DOE | C70: EWPY | D70: 1.8046863e-15 | E70: 1.2332663 | G70: 215
A71: 2019 | B71: AT-PRO | C71: EWPY | D71: -0.0041199108 | E71: 1.431005 | G71: 113
A72: 2020 | B72: AT-PRO | C72: EWPY | D72: -4.21329e-16 | E72: 1.2141282 | G72: 108
A73: 2021 | B73: AT-PRO | C73: EWPY | D73: 1.4681939e-15 | E73: 1.0626239 | G73: 219
A74: 2022 | B74: AT-PRO | C74: EWPY | D74: -4.3565109e-16 | E74: 1.1897728 | G74: 215
A75: 2019 | B75: AT-WEI | C75: EWPY | D75: -1.1946348e-15 | E75: 1.2754652 | G75: 114
A76: 2020 | B76: AT-WEI | C76: EWPY | D76: -6.5767302e-16 | E76: 0.82503308 | G76: 108
A77: 2021 | B77: AT-WEI | C77: EWPY | D77: 0.0054415654 | E77: 0.91085133 | G77: 218
A78: 2022 | B78: AT-WEI | C78: EWPY | D78: 2.4562094e-16 | E78: 1.1106434 | G78: 215
... A102: 2022 | B102: AT-WEI | C102: PY | D102: 6.3600292 | E102: 0.47619967 | G102: 215

Sheet S2 phenotype location stats
A1: S2: Trait statistics of locations across years
A2: location | B2: trait | C2: years | D2: genotypes | E2: records | F2: r | G2: rep²_min | H2: rep²_max | I2: H² | J2: mean | K2: sd | L2: σ²genotype | M2: σ²year | N2: σ²residual | O2: σ²total
A3: AT-DOE | B3: HD | C3: 2020, 2022 | D3: 310 | E3: 323 | F3: 1.0419355 | G3: =_xlfn.MINIFS('S1 phenotype trials stats'!$M$3:$M$66,'S1 phenotype trials stats'!$B$3:$B$66,$A3,'S1 phenotype trials stats'!$C$3:$C$66,$B3) -> 0.777 | H3: =_xlfn.MAXIFS('S1 phenotype trials stats'!$M$3:$M$66,'S1 phenotype trials stats'!$B$3:$B$66,$A3,'S1 phenotype trials stats'!$C$3:$C$66,$B3) -> 0.936 | I3: 0.8811 | J3: 138.5 | K3: 2.2 | L3: 4.24 | M3: 11.86 | N3: 0.5963 | O3: 16.69
A4: AT-PRO | B4: HD | C4: 2019, 2020, 2021, 2022 | D4: 568 | E4: 656 | F4: 1.1549296 | G4: =_xlfn.MINIFS('S1 phenotype trials stats'!$M$3:$M$66,'S1 phenotype trials stats'!$B$3:$B$66,$A4,'S1 phenotype trials stats'!$C$3:$C$66,$B4) -> 0.928 | H4: =_xlfn.MAXIFS('S1 phenotype trials stats'!$M$3:$M$66,'S1 phenotype trials stats'!$B$3:$B$66,$A4,'S1 phenotype trials stats'!$C$3:$C$66,$B4) -> 0.99 | I4: 0.8034 | J4: 139.6 | K4: 2.679 | L4: 5.17 | M4: 43.98 | N4: 1.461 | O4: 50.61
A5: AT-DOE | B5: EWPY | C5: 2019, 2020, 2021, 2022 | D5: 568 | E5: 656 | F5: 1.1549296 | I5: 0.3921 | J5: -0.03079 | K5: 1.13 | L5: 0.4779 | M5: 0 | N5: 0.8556 | O5: 1.333
A6: AT-PRO | B6: EWPY | C6: 2019, 2020, 2021, 2022 | D6: 567 | E6: 655 | F6: 1.1552028 | I6: 0.2261 | J6: 0.0006149 | K6: 1.184 | L6: 0.2885 | M6: 0 | N6: 1.141 | O6: 1.429
A7: AT-WEI | B7: EWPY | C7: 2019, 2020, 2021, 2022 | D7: 568 | E7: 655 | F7: 1.153169 | I7: 0.4909 | J7: -0.04624 | K7: 1.032 | L7: 0.4918 | M7: 0 | N7: 0.5882 | O7: 1.08
A8: AT-DOE | B8: GYD | C8: 2019, 2020, 2021, 2022 | D8: 568 | E8: 656 | F8: 1.1549296 | I8: 0.3075 | J8: 74.73 | K8: 3.96 | L8: 4.596 | M8: 141.1 | N8: 11.95 | O8: 157.7
A9: AT-PRO | B9: GYD | C9: 2019, 2020, 2021, 2022 | D9: 567 | E9: 655 | F9: 1.1552028 | I9: 0.0941 | J9: 97.52 | K9: 6.4 | L9: 3.204 | M9: 1043 | N9: 35.63 | O9: 1082
A10: AT-WEI | B10: GYD | C10: 2019, 2020, 2021, 2022 | D10: 568 | E10: 655 | F10: 1.153169 | I10: 0.4183 | J10: 95.54 | K10: 3.886 | L10: 5.874 | M10: 332.2 | N10: 9.421 | O10: 347.5
A11: AT-DOE | B11: TW | C11: 2019, 2020, 2021, 2022 | D11: 568 | E11: 656 | F11: 1.1549296 | G11: =_xlfn.MINIFS('S1 phenotype trials stats'!$M$3:$M$66,'S1 phenotype trials stats'!$B$3:$B$66,$A11,'S1 phenotype trials stats'!$C$3:$C$66,$B11) -> 0.693 | H11: =_xlfn.MAXIFS('S1 phenotype trials stats'!$M$3:$M$66,'S1 phenotype trials stats'!$B$3:$B$66,$A11,'S1 phenotype trials stats'!$C$3:$C$66,$B11) -> 0.97 | I11: 0.7975 | J11: 82.24 | K11: 1.679 | L11: 2.04 | M11: 0.8809 | N11: 0.5981 | O11: 3.519
A12: AT-PRO | B12: TW | C12: 2019, 2020, 2021, 2022 | D12: 568 | E12: 656 | F12: 1.1549296 | G12: =_xlfn.MINIFS('S1 phenotype trials stats'!$M$3:$M$66,'S1 phenotype trials stats'!$B$3:$B$66,$A12,'S1 phenotype trials stats'!$C$3:$C$66,$B12) -> 0.593 | H12: =_xlfn.MAXIFS('S1 phenotype trials stats'!$M$3:$M$66,'S1 phenotype trials stats'!$B$3:$B$66,$A12,'S1 phenotype trials stats'!$C$3:$C$66,$B12) -> 0.94 | I12: 0.6754 | J12: 80.75 | K12: 1.906 | L12: 2.197 | M12: 3.067 | N12: 1.219 | O12: 6.483
A13: AT-WEI | B13: TW | C13: 2019, 2020, 2021, 2022 | D13: 568 | E13: 656 | F13: 1.1549296 | G13: =_xlfn.MINIFS('S1 phenotype trials stats'!$M$3:$M$66,'S1 phenotype trials stats'!$B$3:$B$66,$A13,'S1 phenotype trials stats'!$C$3:$C$66,$B13) -> 0.84 | H13: =_xlfn.MAXIFS('S1 phenotype trials stats'!$M$3:$M$66,'S1 phenotype trials stats'!$B$3:$B$66,$A13,'S1 phenotype trials stats'!$C$3:$C$66,$B13) -> 0.955 | I13: 0.6559 | J13: 81.34 | K13: 1.87 | L13: 2.115 | M13: 3.252 | N13: 1.281 | O13: 6.649
A14: AT-DOE | B14: GY | C14: 2019, 2020, 2021, 2022 | D14: 568 | E14: 656 | F14: 1.1549296 | G14: =_xlfn.MINIFS('S1 phenotype trials stats'!$M$3:$M$66,'S1 phenotype trials stats'!$B$3:$B$66,$A14,'S1 phenotype trials stats'!$C$3:$C$66,$B14) -> 0.532 | H14: =_xlfn.MAXIFS('S1 phenotype trials stats'!$M$3:$M$66,'S1 phenotype trials stats'!$B$3:$B$66,$A14,'S1 phenotype trials stats'!$C$3:$C$66,$B14) -> 0.84 | I14: 0.354 | J14: 50.28 | K14: 4.231 | L14: 5.945 | M14: 81.28 | N14: 12.53 | O14: 99.75
A15: AT-PRO | B15: GY | C15: 2019, 2020, 2021, 2022 | D15: 567 | E15: 655 | F15: 1.1552028 | G15: =_xlfn.MINIFS('S1 phenotype trials stats'!$M$3:$M$66,'S1 phenotype trials stats'!$B$3:$B$66,$A15,'S1 phenotype trials stats'!$C$3:$C$66,$B15) -> 0.596 | H15: =_xlfn.MAXIFS('S1 phenotype trials stats'!$M$3:$M$66,'S1 phenotype trials stats'!$B$3:$B$66,$A15,'S1 phenotype trials stats'!$C$3:$C$66,$B15) -> 0.905 | I15: 0.1411 | J15: 71.75 | K15: 6.717 | L15: 5.329 | M15: 128.1 | N15: 37.48 | O15: 170.9
A16: AT-WEI | B16: GY | C16: 2019, 2020, 2021, 2022 | D16: 568 | E16: 655 | F16: 1.153169 | G16: =_xlfn.MINIFS('S1 phenotype trials stats'!$M$3:$M$66,'S1 phenotype trials stats'!$B$3:$B$66,$A16,'S1 phenotype trials stats'!$C$3:$C$66,$B16) -> 0.794 | H16: =_xlfn.MAXIFS('S1 phenotype trials stats'!$M$3:$M$66,'S1 phenotype trials stats'!$B$3:$B$66,$A16,'S1 phenotype trials stats'!$C$3:$C$66,$B16) -> 0.889 | I16: 0.3443 | J16: 59.51 | K16: 4.294 | L16: 6.012 | M16: 141 | N16: 13.2 | O16: 160.2
A17: AT-DOE | B17: PC | C17: 2019, 2020, 2021, 2022 | D17: 568 | E17: 656 | F17: 1.1549296 | G17: =_xlfn.MINIFS('S1 phenotype trials stats'!$M$3:$M$66,'S1 phenotype trials stats'!$B$3:$B$66,$A17,'S1 phenotype trials stats'!$C$3:$C$66,$B17) -> 0.597 | H17: =_xlfn.MAXIFS('S1 phenotype trials stats'!$M$3:$M$66,'S1 phenotype trials stats'!$B$3:$B$66,$A17,'S1 phenotype trials stats'!$C$3:$C$66,$B17) -> 0.865 | I17: 0.5913 | J17: 10.99 | K17: 0.6512 | L17: 0.227 | M17: 0.9438 | N17: 0.1812 | O17: 1.352
A18: AT-PRO | B18: PC | C18: 2019, 2020, 2021, 2022 | D18: 568 | E18: 656 | F18: 1.1549296 | G18: =_xlfn.MINIFS('S1 phenotype trials stats'!$M$3:$M$66,'S1 phenotype trials stats'!$B$3:$B$66,$A18,'S1 phenotype trials stats'!$C$3:$C$66,$B18) -> 0.679 | H18: =_xlfn.MAXIFS('S1 phenotype trials stats'!$M$3:$M$66,'S1 phenotype trials stats'!$B$3:$B$66,$A18,'S1 phenotype trials stats'!$C$3:$C$66,$B18) -> 0.884 | I18: 0.4791 | J18: 14.17 | K18: 0.8308 | L18: 0.3068 | M18: 0.5981 | N18: 0.3853 | O18: 1.29
A19: AT-WEI | B19: PC | C19: 2019, 2020, 2021, 2022 | D19: 568 | E19: 656 | F19: 1.1549296 | G19: =_xlfn.MINIFS('S1 phenotype trials stats'!$M$3:$M$66,'S1 phenotype trials stats'!$B$3:$B$66,$A19,'S1 phenotype trials stats'!$C$3:$C$66,$B19) -> 0.716 | H19: =_xlfn.MAXIFS('S1 phenotype trials stats'!$M$3:$M$66,'S1 phenotype trials stats'!$B$3:$B$66,$A19,'S1 phenotype trials stats'!$C$3:$C$66,$B19) -> 0.883 | I19: 0.399 | J19: 14.75 | K19: 0.7627 | L19: 0.216 | M19: 0.02469 | N19: 0.3758 | O19: 0.6165
A20: AT-DOE | B20: PY | C20: 2019, 2020, 2021, 2022 | D20: 568 | E20: 656 | F20: 1.1549296 | I20: 0.3193 | J20: 5.545 | K20: 0.4599 | L20: 0.06465 | M20: 1.884 | N20: 0.1591 | O20: 2.108
A21: AT-PRO | B21: PY | C21: 2019, 2020, 2021, 2022 | D21: 567 | E21: 655 | F21: 1.1552028 | I21: 0.0872 | J21: 10.19 | K21: 0.9929 | L21: 0.07108 | M21: 4.014 | N21: 0.8596 | O21: 4.945
A22: AT-WEI | B22: PY | C22: 2019, 2020, 2021, 2022 | D22: 568 | E22: 655 | F22: 1.153169 | I22: 0.4944 | J22: 8.776 | K22: 0.6209 | L22: 0.1742 | M22: 3.122 | N22: 0.2054 | O22: 3.501
A23: AT-DOE | B23: TKW | C23: 2019, 2020, 2021, 2022 | D23: 568 | E23: 656 | F23: 1.1549296 | G23: =_xlfn.MINIFS('S1 phenotype trials stats'!$M$3:$M$66,'S1 phenotype trials stats'!$B$3:$B$66,$A23,'S1 phenotype trials stats'!$C$3:$C$66,$B23) -> 0.877 | H23: =_xlfn.MAXIFS('S1 phenotype trials stats'!$M$3:$M$66,'S1 phenotype trials stats'!$B$3:$B$66,$A23,'S1 phenotype trials stats'!$C$3:$C$66,$B23) -> 0.981 | I23: 0.7872 | J23: 41.99 | K23: 3.028 | L23: 6.945 | M23: 8.153 | N23: 2.168 | O23: 17.27
A24: AT-PRO | B24: TKW | C24: 2019, 2020, 2021, 2022 | D24: 568 | E24: 656 | F24: 1.1549296 | G24: =_xlfn.MINIFS('S1 phenotype trials stats'!$M$3:$M$66,'S1 phenotype trials stats'!$B$3:$B$66,$A24,'S1 phenotype trials stats'!$C$3:$C$66,$B24) -> 0.926 | H24: =_xlfn.MAXIFS('S1 phenotype trials stats'!$M$3:$M$66,'S1 phenotype trials stats'!$B$3:$B$66,$A24,'S1 phenotype trials stats'!$C$3:$C$66,$B24) -> 0.955 | I24: 0.7232 | J24: 43.95 | K24: 3.646 | L24: 8.834 | M24: 21.62 | N24: 3.906 | O24: 34.36
A25: AT-WEI | B25: TKW | C25: 2019, 2020, 2021, 2022 | D25: 568 | E25: 656 | F25: 1.1549296 | G25: =_xlfn.MINIFS('S1 phenotype trials stats'!$M$3:$M$66,'S1 phenotype trials stats'!$B$3:$B$66,$A25,'S1 phenotype trials stats'!$C$3:$C$66,$B25) -> 0.929 | H25: =_xlfn.MAXIFS('S1 phenotype trials stats'!$M$3:$M$66,'S1 phenotype trials stats'!$B$3:$B$66,$A25,'S1 phenotype trials stats'!$C$3:$C$66,$B25) -> 0.961 | I25: 0.7354 | J25: 40.76 | K25: 3.192 | L25: 7.117 | M25: 25.17 | N25: 2.957 | O25: 35.24
A26: AT-DOE | B26: PH | C26: 2020, 2021, 2022 | D26: 475 | E26: 542 | F26: 1.1410526 | G26: =_xlfn.MINIFS('S1 phenotype trials stats'!$M$3:$M$66,'S1 phenotype trials stats'!$B$3:$B$66,$A26,'S1 phenotype trials stats'!$C$3:$C$66,$B26) -> 0.789 | H26: =_xlfn.MAXIFS('S1 phenotype trials stats'!$M$3:$M$66,'S1 phenotype trials stats'!$B$3:$B$66,$A26,'S1 phenotype trials stats'!$C$3:$C$66,$B26) -> 0.931 | I26: 0.7992 | J26: 92.44 | K26: 7.691 | L26: 46.75 | M26: 16.55 | N26: 13.4 | O26: 76.7
A27: AT-PRO | B27: PH | C27: 2019, 2020, 2021, 2022 | D27: 568 | E27: 656 | F27: 1.1549296 | G27: =_xlfn.MINIFS('S1 phenotype trials stats'!$M$3:$M$66,'S1 phenotype trials stats'!$B$3:$B$66,$A27,'S1 phenotype trials stats'!$C$3:$C$66,$B27) -> 0.812 | H27: =_xlfn.MAXIFS('S1 phenotype trials stats'!$M$3:$M$66,'S1 phenotype trials stats'!$B$3:$B$66,$A27,'S1 phenotype trials stats'!$C$3:$C$66,$B27) -> 0.935 | I27: 0.7128 | J27: 101.6 | K27: 7.903 | L27: 40.57 | M27: 72.64 | N27: 18.88 | O27: 132.1
A28: AT-WEI | B28: PH | C28: 2020, 2022 | D28: 310 | E28: 323 | F28: 1.0419355 | G28: =_xlfn.MINIFS('S1 phenotype trials stats'!$M$3:$M$66,'S1 phenotype trials stats'!$B$3:$B$66,$A28,'S1 phenotype trials stats'!$C$3:$C$66,$B28) -> 0.855 | H28: =_xlfn.MAXIFS('S1 phenotype trials stats'!$M$3:$M$66,'S1 phenotype trials stats'!$B$3:$B$66,$A28,'S1 phenotype trials stats'!$C$3:$C$66,$B28) -> 0.879 | I28: 0.6553 | J28: 74.4 | K28: 6.058 | L28: 23.5 | M28: 209.2 | N28: 12.88 | O28: 245.6

Sheet S3 phenotypic trait correlation
A1: S3: Phenotypic correlations of all traits on all locations
A2: LOC | B2: trait | C2: GY | D2: PC | E2: GYD | F2: PY | G2: EWPY | H2: HD | I2: PH | J2: TW | K2: TKW
A3: AT-DOE | B3: GY | C3: 1 | D3: -0.337 | E3: 0.943 | F3: 0.757 | G3: 0.538 | H3: -0.116 | I3: -0.111 | J3: -0.022 | K3: 0.066
A4: AT-DOE | B4: PC | C4: -0.337 | D4: 1 | E4: -0.016 | F4: 0.345 | G4: 0.56 | H4: -0.049 | I4: 0.137 | J4: 0.361 | K4: 0.205
A5: AT-DOE | B5: GYD | C5: 0.943 | D5: -0.016 | E5: 1 | F5: 0.919 | G5: 0.769 | H5: -0.136 | I5: -0.068 | J5: 0.103 | K5: 0.129
A6: AT-DOE | B6: PY | C6: 0.757 | D6: 0.345 | E6: 0.919 | F6: 1 | G6: 0.941 | H6: -0.14 | I6: -0.032 | J6: 0.212 | K6: 0.188
A7: AT-DOE | B7: EWPY | C7: 0.538 | D7: 0.56 | E7: 0.769 | F7: 0.941 | G7: 1 | H7: -0.142 | I7: -0.014 | J7: 0.259 | K7: 0.208
A8: AT-DOE | B8: HD | C8: -0.116 | D8: -0.049 | E8: -0.136 | F8: -0.14 | G8: -0.142 | H8: 1 | I8: 0.179 | J8: 0.018 | K8: -0.245
A9: AT-DOE | B9: PH | C9: -0.111 | D9: 0.137 | E9: -0.068 | F9: -0.032 | G9: -0.014 | H9: 0.179 | I9: 1 | J9: 0.231 | K9: 0.153
A10: AT-DOE | B10: TW | C10: -0.022 | D10: 0.361 | E10: 0.103 | F10: 0.212 | G10: 0.259 | H10: 0.018 | I10: 0.231 | J10: 1 | K10: 0.205
A11: AT-DOE | B11: TKW | C11: 0.066 | D11: 0.205 | E11: 0.129 | F11: 0.188 | G11: 0.208 | H11: -0.245 | I11: 0.153 | J11: 0.205 | K11: 1
A12: AT-PRO | B12: GY | C12: 1 | D12: -0.248 | E12: 0.957 | F12: 0.809 | G12: 0.575 | H12: -0.138 | I12: 0.084 | J12: 0.318 | K12: 0.211
A13: AT-PRO | B13: PC | C13: -0.248 | D13: 1 | E13: 0.004 | F13: 0.36 | G13: 0.593 | H13: 0.021 | I13: 0.267 | J13: 0.174 | K13: 0.106
A14: AT-PRO | B14: GYD | C14: 0.957 | D14: 0.004 | E14: 1 | F14: 0.926 | G14: 0.736 | H14: -0.142 | I14: 0.162 | J14: 0.367 | K14: 0.246
... A20: AT-PRO | B20: TKW | C20: 0.211 | D20: 0.106 | E20: 0.246 | F20: 0.281 | G20: 0.243 | H20: -0.379 | I20: 0.287 | J20: 0.295 | K20: 1
A21: AT-WEI | B21: GY | C21: 1 | D21: -0.408 | E21: 0.89 | F21: 0.732 | G21: 0.525 | I21: 0.088 | J21: 0.336 | K21: 0.258
A22: AT-WEI | B22: PC | C22: -0.408 | D22: 1 | E22: 0.027 | F22: 0.307 | G22: 0.532 | I22: 0.208 | J22: 0.078 | K22: 0.11
A23: AT-WEI | B23: GYD | C23: 0.89 | D23: 0.027 | E23: 1 | F23: 0.936 | G23: 0.816 | I23: 0.232 | J23: 0.386 | K23: 0.317
A24: AT-WEI | B24: PY | C24: 0.732 | D24: 0.307 | E24: 0.936 | F24: 1 | G24: 0.911 | I24: 0.271 | J24: 0.411 | K24: 0.349
A25: AT-WEI | B25: EWPY | C25: 0.525 | D25: 0.532 | E25: 0.816 | F25: 0.911 | G25: 1 | I25: 0.304 | J25: 0.337 | K25: 0.334
A26: AT-WEI | B26: HD
A27: AT-WEI | B27: PH | C27: 0.088 | D27: 0.208 | E27: 0.232 | F27: 0.271 | G27: 0.304 | I27: 1 | J27: 0.088 | K27: 0.091
A28: AT-WEI | B28: TW | C28: 0.336 | D28: 0.078 | E28: 0.386 | F28: 0.411 | G28: 0.337 | I28: 0.088 | J28: 1 | K28: 0.372
A29: AT-WEI | B29: TKW | C29: 0.258 | D29: 0.11 | E29: 0.317 | F29: 0.349 | G29: 0.334 | I29: 0.091 | J29: 0.372 | K29: 1

Sheet S4 NIRS trial stats
A1: S4: NIRS statistics of locations within years
A2: year | B2: location | C2: wavenr. | D2: plots | E2: genotypes | F2: r | G2: σ²genotype | H2: σ²spatial | I2: σ²residual | J2: σ²total | K2: rep²
A3: 2019 | B3: AT-DOE | C3: 4000 | D3: 151 | E3: 114 | F3: 1.325 | G3: 0.0022062904 | H3: 3.01e-05 | I3: 0.00030303312 | J3: 0.00254 | K3: 0.90607608
A4: 2019 | B4: AT-DOE | C4: 4004 | D4: 151 | E4: 114 | F4: 1.325 | G4: 0.0022158965 | H4: 3e-05 | I4: 0.00029657572 | J4: 0.00254 | K4: 0.90825584
A5: 2019 | B5: AT-DOE | C5: 4008 | D5: 151 | E5: 114 | F5: 1.325 | G5: 0.0022135688 | H5: 2.96e-05 | I5: 0.0002929487 | J5: 0.00254 | K5: 0.90918931
A6: 2019 | B6: AT-DOE | C6: 4012 | D6: 151 | E6: 114 | F6: 1.325 | G6: 0.0022044938 | H6: 2.92e-05 | I6: 0.00029354887 | J6: 0.00253 | K6: 0.90867986
A7: 2019 | B7: AT-DOE | C7: 4016 | D7: 151 | E7: 114 | F7: 1.325 | G7: 0.0021946178 | H7: 2.91e-05 | I7: 0.00029491149 | J7: 0.00252 | K7: 0.90792016
A8: 2019 | B8: AT-DOE | C8: 4020 | D8: 151 | E8: 114 | F8: 1.325 | G8: 0.0021851648 | H8: 2.92e-05 | I8: 0.00029264428 | J8: 0.00251 | K8: 0.90820407
A9: 2019 | B9: AT-DOE | C9: 4024 | D9: 151 | E9: 114 | F9: 1.325 | G9: 0.0021733187 | H9: 2.96e-05 | I9: 0.00028649748 | J9: 0.00249 | K9: 0.9095122
A10: 2019 | B10: AT-DOE | C10: 4028 | D10: 151 | E10: 114 | F10: 1.325 | G10: 0.0021574281 | H10: 3.01e-05 | I10: 0.00027972397 | J10: 0.00247 | K10: 0.91086814
A11: 2019 | B11: AT-DOE | C11: 4032 | D11: 151 | E11: 114 | F11: 1.325 | G11: 0.0021388955 | H11: 3.07e-05 | I11: 0.00027466035 | J11: 0.00244 | K11: 0.91164775
A12: 2019 | B12: AT-DOE | C12: 4036 | D12: 151 | E12: 114 | F12: 1.325 | G12: 0.0021190133 | H12: 3.1e-05 | I12: 0.00027091585 | J12: 0.00242 | K12: 0.91200055
A13: 2019 | B13: AT-DOE | C13: 4040 | D13: 151 | E13: 114 | F13: 1.325 | G13: 0.0020967966 | H13: 3.11e-05 | I13: 0.00026703509 | J13: 0.00239 | K13: 0.91231211
A14: 2019 | B14: AT-DOE | C14: 4044 | D14: 151 | E14: 114 | F14: 1.325 | G14: 0.002070755 | H14: 3.09e-05 | I14: 0.0002621468 | J14: 0.00236 | K14: 0.91278917
... A19515: 2022 | B19515: AT-WEI | C19515: 10000 | D19515: 300 | E19515: 215 | F19515: 1.395 | G19515: 8.16e-05 | H19515: 4.09e-05 | I19515: 2.69e-05 | J19515: 0.000149 | K19515: 0.80880597

Sheet S5 NIRS location stats
A1: S5: NIRS statistics of locations across years
A2: location | B2: wavenr. | C2: years | D2: genotypes | E2: records | F2: r | G2: σ²genotype | H2: σ²year | I2: σ²residual | J2: σ²total | K2: H²
A3: AT-PRO | B3: 5288 | C3: 2019,2020,2021,2022 | D3: 656 | E3: 568 | F3: 1.155 | G3: 2.3e-05 | H3: 0.0001368 | I3: 8.3e-06 | J3: 0.0001682 | K3: 0.762
A4: AT-PRO | B4: 5284 | C4: 2019,2020,2021,2022 | D4: 656 | E4: 568 | F4: 1.155 | G4: 1.74e-05 | H4: 9.67e-05 | I4: 6.4e-06 | J4: 0.0001205 | K4: 0.759
A5: AT-DOE | B5: 5180 | C5: 2019,2020,2021,2022 | D5: 611 | E5: 526 | F5: 1.162 | G5: 0.0005706 | H5: 0.0021318 | I5: 0.0002212 | J5: 0.0029236 | K5: 0.75
A6: AT-DOE | B6: 5184 | C6: 2019,2020,2021,2022 | D6: 611 | E6: 526 | F6: 1.162 | G6: 0.0005668 | H6: 0.002124 | I6: 0.0002193 | J6: 0.0029101 | K6: 0.75
A7: AT-DOE | B7: 5188 | C7: 2019,2020,2021,2022 | D7: 611 | E7: 526 | F7: 1.162 | G7: 0.0005603 | H7: 0.0021097 | I7: 0.0002165 | J7: 0.0028865 | K7: 0.75
A8: AT-DOE | B8: 5192 | C8: 2019,2020,2021,2022 | D8: 611 | E8: 526 | F8: 1.162 | G8: 0.000551 | H8: 0.0020892 | I8: 0.0002129 | J8: 0.0028532 | K8: 0.75
A9: AT-DOE | B9: 5196 | C9: 2019,2020,2021,2022 | D9: 611 | E9: 526 | F9: 1.162 | G9: 0.0005391 | H9: 0.0020628 | I9: 0.0002085 | J9: 0.0028105 | K9: 0.75
A10: AT-DOE | B10: 5200 | C10: 2019,2020,2021,2022 | D10: 611 | E10: 526 | F10: 1.162 | G10: 0.0005247 | H10: 0.0020302 | I10: 0.0002032 | J10: 0.0027581 | K10: 0.75
A11: AT-DOE | B11: 5204 | C11: 2019,2020,2021,2022 | D11: 611 | E11: 526 | F11: 1.162 | G11: 0.0005076 | H11: 0.0019894 | I11: 0.0001969 | J11: 0.0026939 | K11: 0.75
A12: AT-DOE | B12: 5172 | C12: 2019,2020,2021,2022 | D12: 611 | E12: 526 | F12: 1.162 | G12: 0.0005707 | H12: 0.0021284 | I12: 0.0002226 | J12: 0.0029218 | K12: 0.749
A13: AT-DOE | B13: 5176 | C13: 2019,2020,2021,2022 | D13: 611 | E13: 526 | F13: 1.162 | G13: 0.0005719 | H13: 0.0021332 | I13: 0.0002224 | J13: 0.0029274 | K13: 0.749
A14: AT-DOE | B14: 5208 | C14: 2019,2020,2021,2022 | D14: 611 | E14: 526 | F14: 1.162 | G14: 0.0004878 | H14: 0.0019385 | I14: 0.0001897 | J14: 0.002616 | K14: 0.749
... A4505: AT-WEI | B4505: 8700 | C4505: 2019,2020,2021,2022 | D4505: 649 | E4505: 563 | F4505: 1.153 | G4505: 2.8e-06 | H4505: 0.0001141 | I4505: 6.4e-06 | J4505: 0.0001233 | K4505: 0.338

Sheet S6 phenomic and genomic predict
A1: S6: Marginal means estimated from a linear model with prediction ability, correlation prediction to protein content or grain yield as the response, and Model, Trait, Location and Predictor as fixed effects as well as log(number of samples) as a co-variate, including all possible multi-way interactions.
E2: prediction ability | F2: prediction ability | G2: prediction ability | H2: prediction ability | I2: prediction ability | J2: correlation prediction to protein content | O2: correlation prediction grain yield
A3: Model | B3: Trait | C3: Location | D3: Predictor | E3: emmean | F3: SE | G3: df | H3: lower.CL | I3: upper.CL | J3: emmean | K3: SE | L3: df | M3: lower.CL | N3: upper.CL | O3: emmean | P3: SE | Q3: df | R3: lower.CL | S3: upper.CL
A4: rrBLUP | B4: TW | C4: AT-DOE | D4: detrend | E4: 0.77859144 | F4: 0.007803905 | G4: 116133 | H4: 0.7632959 | I4: 0.79388697 | J4: 0.4003444 | K4: 0.0097384676 | L4: 116133 | M4: 0.38125715 | N4: 0.41943164 | O4: -0.13660809 | P4: 0.0089846208 | Q4: 116133 | R4: -0.1542178 | S4: -0.11899837
A5: PLSR | B5: TW | C5: AT-DOE | D5: detrend | E5: 0.76449093 | F5: 0.007803905 | G5: 116133 | H5: 0.7491954 | I5: 0.77978647 | J5: 0.40161254 | K5: 0.0097384676 | L5: 116133 | M5: 0.3825253 | N5: 0.42069979 | O5: -0.13492879 | P5: 0.0089846208 | Q5: 116133 | R5: -0.1525385 | S5: -0.11731907
A6: GBLUP_HBLUP | B6: TW | C6: AT-DOE | D6: detrend | E6: 0.70258017 | F6: 0.007803905 | G6: 116133 | H6: 0.68728464 | I6: 0.7178757 | J6: 0.38150081 | K6: 0.0097384676 | L6: 116133 | M6: 0.36241357 | N6: 0.40058806 | O6: -0.13777048 | P6: 0.0089846208 | Q6: 116133 | R6: -0.15538019 | S6: -0.12016076
A7: PLSR | B7: EWPY | C7: AT-DOE | D7: detrend | E7: 0.41929596 | F7: 0.007803905 | G7: 116133 | H7: 0.40400043 | I7: 0.43459149 | J7: 0.68954548 | K7: 0.0097384676 | L7: 116133 | M7: 0.67045823 | N7: 0.70863272 | O7: -0.18843633 | P7: 0.0089846208 | Q7: 116133 | R7: -0.20604605 | S7: -0.17082661
A8: rrBLUP | B8: EWPY | C8: AT-DOE | D8: detrend | E8: 0.39834754 | F8: 0.0078694226 | G8: 116133 | H8: 0.38292359 | I8: 0.41377148 | J8: 0.71457124 | K8: 0.0098202268 | L8: 116133 | M8: 0.69532375 | N8: 0.73381874 | O8: -0.22082107 | P8: 0.0090600511 | Q8: 116133 | R8: -0.23857863 | S8: -0.20306351
A9: GBLUP_HBLUP | B9: EWPY | C9: AT-DOE | D9: detrend | E9: 0.38145289 | F9: 0.0078685949 | G9: 116133 | H9: 0.36603057 | I9: 0.39687522 | J9: 0.64265157 | K9: 0.0098191939 | L9: 116133 | M9: 0.62340611 | N9: 0.66189704 | O9: -0.17806116 | P9: 0.0090590981 | Q9: 116133 | R9: -0.19581685 | S9: -0.16030547
A10: PLSR | B10: PH | C10: AT-DOE | D10: detrend | E10: 0.32417779 | F10: 0.007803905 | G10: 116133 | H10: 0.30888226 | I10: 0.33947332 | J10: 0.26079416 | K10: 0.0097384676 | L10: 116133 | M10: 0.24170692 | N10: 0.2798814 | O10: -0.19276919 | P10: 0.0089846208 | Q10: 116133 | R10: -0.21037891 | S10: -0.17515948
A11: PLSR | B11: GY | C11: AT-DOE | D11: detrend | E11: 0.29817993 | F11: 0.007803905 | G11: 116133 | H11: 0.28288439 | I11: 0.31347546 | J11: -0.61698622 | K11: 0.0097384676 | L11: 116133 | M11: -0.63607346 | N11: -0.59789897 | O11: 0.29817993 | P11: 0.0089846208 | Q11: 116133 | R11: 0.28057021 | S11: 0.31578964
A12: rrBLUP | B12: GY | C12: AT-DOE | D12: detrend | E12: 0.295669 | F12: 0.0078644978 | G12: 116133 | H12: 0.28025471 | I12: 0.31108329 | J12: -0.63806105 | K12: 0.0098140812 | L12: 116133 | M12: -0.6572965 | N12: -0.61882561 | O12: 0.295669 | P12: 0.0090543812 | Q12: 116133 | R12: 0.27792256 | S12: 0.31341545
A13: rrBLUP | B13: PH | C13: AT-DOE | D13: detrend | E13: 0.28825007 | F13: 0.0078367666 | G13: 116133 | H13: 0.27289013 | I13: 0.30361001 | J13: 0.4368577 | K13: 0.0097794755 | L13: 116133 | M13: 0.41769008 | N13: 0.45602532 | O13: -0.21942436 | P13: 0.0090224543 | Q13: 116133 | R13: -0.23710823 | S13: -0.20174049
A14: GBLUP_HBLUP | B14: GY | C14: AT-DOE | D14: detrend | E14: 0.25403563 | F14: 0.0079290167 | G14: 116133 | H14: 0.23849488 | I14: 0.26957638 | J14: -0.57145904 | K14: 0.0098945941 | L14: 116133 | M14: -0.59085229 | N14: -0.55206578 | O14: 0.25403563 | P14: 0.0091286617 | Q14: 116133 | R14: 0.23614359 | S14: 0.27192766
A15: GBLUP_HBLUP | B15: PH | C15: AT-DOE | D15: detrend | E15: 0.24498887 | F15: 0.0078886584 | G15: 116133 | H15: 0.22952722 | I15: 0.26045052 | J15: 0.35359468 | K15: 0.009844231 | L15: 116133 | M15: 0.33430014 | N15: 0.37288922 | O15: -0.18934558 | P15: 0.0090821972 | Q15: 116133 | R15: -0.20714655 | S15: -0.17154462
... A325: PLSR | B325: GYD | C325: AT-WEI | D325: sgolay2 | E325: 0.060882406 | F325: 0.007803905 | G325: 116133 | H325: 0.045586874 | I325: 0.076177938 | J325: 0.097929613 | K325: 0.0097384676 | L325: 116133 | M325: 0.078842368 | N325: 0.11701686 | O325: 0.016274292 | P325: 0.0089846208 | Q325: 116133 | R325: -0.0013354241 | S325: 0.033884009
