Workbook

Sheet AE SAE List
A2: Subject 001
A4: Piktor AE/SAE | B4: Grade | C4: Nab Pac Cis AE/SAE | D4: Grade
A5: Nausea 2 | B5: 2 | C5: URI 2 | D5: 2
A6: Vomiting 1 | B6: 1 | C6: Neuropathy Upper Extremities 2 | D6: 2
A7: Hyperglycemia 2 | B7: 2 | C7: Neuropathy Lower Extremities 2 | D7: 2
A8: Stomatitis 2 | B8: 2 | C8: Tinutus 1 | D8: 1
A9: Rash 1 | B9: 1 | C9: Thrombus 1 | D9: 1
A10: Fatigue 1 | B10: 1 | C10: Cervicalgia 1 | D10: 1
A11: Diarrhea 2 | B11: 2 | C11: Blurred Vision 1 | D11: 1
A12: Subject 002
A14: Piktor | B14: Grade | C14: Chemo | D14: Grade
A15: Hemoptysis 2 | B15: 2 | C15: Fever 1 | D15: 1
A16: Heartburn 2 | B16: 2 | C16: Diarrhea 1 | D16: 1
A17: Cough 2 | B17: 2 | C17: Jaw Pain 1 | D17: 1
A18: Nausea 2 | B18: 2 | C18: Death (Acute respiratory failure) 5 | D18: 5
A19: Fatigue 2 | B19: 2
A20: Stomatitis 2 | B20: 2
A21: Diarrhea 1 | B21: 1
A22: Constipation 2 | B22: 2
A23: Increased forgetfullness 1 | B23: 1
A24: Insomnia 1 | B24: 1
A25: Hyperglycemia 1 | B25: 1
A26: Subject 004
A28: Piktor | B28: Grade | C28: Chemo | D28: Grade
A29: Nausea 2 | B29: 2 | C29: Fever 1 | D29: 1
A30: Fatigue 2 | B30: 2 | C30: Transaminitis 1 | D30: 1
A31: Diarrhea 1 | B31: 1 | C31: Acute Renal Failure 1 | D31: 1
A32: URI 1 | B32: 1 | C32: Cough 1 | D32: 1
A33: Congestion 1 | B33: 1 | C33: Dehydration 1 | D33: 1
A34: Vomiting 1 | B34: 1 | C34: Sore throat 1 | D34: 1
A35: Chest wall pain 3 | B35: 3 | C35: Pleural effusion 2 | D35: 2
A36: Rib cage pain 2 | B36: 2 | C36: Viral gastroenteritis 1 | D36: 1
A37: Axilla pain 1 | B37: 1 | C37: Neuropathy Lower Extremities 1 | D37: 1
C38: Hyperopia 1 | D38: 1
C39: Hot flashes 1 | D39: 1
C40: Tinutus 1 | D40: 1
C41: Chest wall pain 1 | D41: 1
A42: Subject 005
A44: Piktor | C44: Chemo
A45: Nausea 2 | B45: 2 | C45: Cough 2 | D45: 2
A46: Vomiting 1 | B46: 1 | C46: Bone pain 1 | D46: 1
A47: Fatigue 1 | B47: 1 | C47: Neuropathy Upper Extremities 1 | D47: 1
A48: Ictericia 1 | B48: 1 | C48: Neuropathy Lower Extremities 1 | D48: 1
A49: Scalp tenderness 1 | B49: 1 | C49: Anemia 1 | D49: 1
A50: Chest wall pain 1 | B50: 1 | C50: Strep throat 1 | D50: 1
A51: Tremors 1 | B51: 1 | C51: Bronchitis 1 | D51: 1
A52: Folliculitis 1 | B52: 1 | C52: Fever 1 | D52: 1
A53: Insomnia 1 | B53: 1 | C53: Cough 1 | D53: 1
A54: Weight Loss 1 | B54: 1
A55: Stomatitis 1 | B55: 1
A56: Abdominal pain 1 | B56: 1
A57: Back pain 1 | B57: 1
A58: Cough 1 | B58: 1
A59: Diarrhea 1 | B59: 1
A60: Pruritus 1 | B60: 1
A61: Rash 1 | B61: 1
A62: Transaminitis 1 | B62: 1
A63: Earache 1 | B63: 1
A64: Fever 1 | B64: 1
A65: Subject 006
A67: Piktor | C67: Chemo
A68: UTI 1 | B68: 1 | C68: Dehydration 2 | D68: 2
A69: URI 2 | B69: 2 | C69: Nausea 2 | D69: 2
A70: Fatigue 1 | B70: 1 | C70: UTI 2 | D70: 2
A71: Decreased appetite 1 | B71: 1 | C71: Back pain 1 | D71: 1
A72: Weight Loss 1 | B72: 1 | C72: Alopecia 1 | D72: 1
A73: Chest wall pain 1 | B73: 1 | C73: Anemia 1 | D73: 1
C74: Dysgeusia 1 | D74: 1
C75: Nausea 1 | D75: 1
A76: Subject 008
A78: Piktor | C78: Chemo
A79: Nausea 2 | B79: 2 | C79: Alopecia 1 | D79: 1
A80: Vomitting 1 | B80: 1 | C80: Neuropathy Lower Extremities 1 | D80: 1
A81: Dry throat 1 | B81: 1 | C81: Myalgias 1 | D81: 1
A82: Fatigue 1 | B82: 1 | C82: Leg cramps 1 | D82: 1
A83: Lethargy 1 | B83: 1 | C83: Vision changes 1 | D83: 1
A84: Axilla pain 1 | B84: 1
A85: Rash 3 | B85: 3
A86: Strep throat 1 | B86: 1
A87: Bacterial Vaginosis 1 | B87: 1
A88: Vitamin D Deficiency 1 | B88: 1
A89: Anemia 1 | B89: 1
A90: Diarrhea 2 | B90: 2
A91: Subject 009
A93: Piktor | C93: Chemo
A94: Nausea 1 | B94: 1 | C94: URI | D94: 1
A95: Dizziness 1 | B95: 1 | C95: Neuropathy Lower Extremities | D95: 1
A96: Fatigue 1 | B96: 1 | C96: Insomnia | D96: 2
A97: Anxiety 2 | B97: 2 | C97: Ear fullness | D97: 1
A98: Depression 2 | B98: 2 | C98: Diarrhea | D98: 1
A99: Hoarseness 1 | B99: 1 | C99: Tinutus | D99: 1
A100: Myalgias 1 | B100: 1 | C100: Blurred Vision | D100: 1
A101: Heartburn 2 | B101: 2
A102: Dysphagia 1 | B102: 1
A103: Stomatitis 1 | B103: 1
A104: Hyperglycemia | B104: 2
A105: Chills | B105: 1
A106: Dysguesia | B106: 1
A107: Back pain | B107: 1
A108: Pulmonary Embolism | B108: 2
...

Sheet Combined
B2: AE/SAE ALL GRADES COMBINED
B3: PIKTOR | G3: CHEMO
B4: AE/SAE | C4: GRADE | D4: N | E4: % | F4: % TOT | G4: AE/SAE | H4: GRADE | I4: N | J4: % | K4: % TOT | N4: AE/SAE ALL GRADES COMBINED ≥ 20%*
B5: Abdominal pain | C5: 1 | D5: 1 | E5: 10 | F5: 10 | G5: Abdominal pain | H5: 1 | I5: 0 | J5: 0 | K5: 0 | N5: PIKTOR | Q5: CHEMO
B6: Acute Renal Failure | C6: 1 | D6: 0 | E6: 0 | F6: 0 | G6: Acute Renal Failure | H6: 1 | I6: 1 | J6: 10 | K6: 10 | N6: AE/SAE | O6: GRADE | P6: N (%) | Q6: AE/SAE | R6: GRADE | S6: N (%)
B7: Alopecia | C7: 1 | D7: 0 | E7: 0 | F7: 0 | G7: Alopecia | H7: 1 | I7: 2 | J7: 20 | K7: 20 | L7: * | N7: Anemia | O7: 1 | P7: 1 (10) | Q7: Anemia | R7: 1 | S7: 2 (20)
B8: Anemia | C8: 1 | D8: 1 | E8: 10 | F8: 10 | G8: Anemia | H8: 1 | I8: 2 | J8: 20 | K8: 20 | O8: 2 | P8: 0 (0) | R8: 2 | S8: 0 (0)
B9: Axilla pain | C9: 1 | D9: 2 | E9: 20 | F9: 20 | G9: Axilla pain | H9: 1 | I9: 0 | J9: 0 | K9: 0 | N9: Diarrhea | O9: 1 | P9: 4 (40) | Q9: Diarrhea | R9: 1 | S9: 2 (20)
B10: Back pain | C10: 1 | D10: 2 | E10: 2 | F10: 20 | G10: Back pain | H10: 1 | I10: 2 | J10: 20 | K10: 20 | O10: 2 | P10: 2 (20) | R10: 2 | S10: 0 (0)
B11: Bacterial Vaginosis | C11: 1 | D11: 1 | E11: 10 | F11: 10 | G11: Bacterial Vaginosis | H11: 1 | I11: 0 | J11: 0 | K11: 0 | N11: Fatigue | O11: 1 | P11: 6 (60) | Q11: Fatigue | R11: 1 | S11: 0 (0)
B12: Blurred Vision | C12: 1 | D12: 0 | E12: 0 | F12: 0 | G12: Blurred Vision | H12: 1 | I12: 2 | J12: 20 | K12: 20 | L12: * | O12: 2 | P12: 2 (20) | R12: 2 | S12: 0 (0)
B13: Bone pain | C13: 1 | D13: 0 | E13: 0 | F13: 0 | G13: Bone pain | H13: 1 | I13: 1 | J13: 10 | K13: 10 | O13: 3 | P13: 1 (10) | R13: 3 | S13: 0 (0)
B14: Bronchitis | C14: 1 | D14: 0 | E14: 0 | F14: 0 | G14: Bronchitis | H14: 1 | I14: 1 | J14: 10 | K14: 10 | N14: Fever | O14: 1 | P14: 1 (10) | Q14: Fever | R14: 1 | S14: 4 (40)
B15: Cervicalgia | C15: 1 | D15: 0 | E15: 0 | F15: 0 | G15: Cervicalgia | H15: 1 | I15: 1 | J15: 10 | K15: =AVERAGE(J15:J16) -> 10 | N15: Leg Cramps | O15: 1 | P15: 0 (0) | Q15: Leg Cramps | R15: 1 | S15: 3 (30)
C16: 2 | D16: 0 | E16: 0 | H16: 2 | I16: 1 | J16: 10 | N16: Nausea | O16: 1 | P16: 3 (30) | Q16: Nausea | R16: 1 | S16: 1 (10)
B17: Chest wall pain | C17: 1 | D17: 2 | E17: 20 | F17: =AVERAGE(E17:E19) -> 10 | G17: Chest wall pain | H17: 1 | I17: 1 | J17: 10 | K17: =AVERAGE(J17:J19) -> 3.3333333 | O17: 2 | P17: 5 (50) | R17: 2 | S17: 1 (10)
C18: 2 | D18: 0 | E18: 0 | H18: 2 | I18: 0 | J18: 0 | N18: Neuropathy | O18: 1 | P18: 0 (0) | Q18: Neuropathy | R18: 1 | S18: 6 (60)
C19: 3 | D19: 1 | E19: 10 | H19: 3 | I19: 0 | J19: 0 | O19: 2 | P19: 0 (0) | R19: 2 | S19: 3 (30)
B20: Congestion | C20: 1 | D20: 2 | E20: 20 | F20: 20 | G20: Congestion | H20: 1 | I20: 0 | J20: 0 | K20: 0 | N20: Tinnitus | O20: 1 | P20: 0 (0) | Q20: Tinnitus | R20: 1 | S20: 3(30)
B21: Cough | C21: 1 | D21: 1 | E21: 10 | F21: =AVERAGE(E21:E22) -> 15 | G21: Cough | H21: 1 | I21: 2 | J21: 20 | K21: =AVERAGE(J21:J22) -> 15 | O21: 2 | P21: 0 (0) | R21: 2 | S21: 0 (0)
C22: 2 | D22: 2 | E22: 20 | H22: 2 | I22: 1 | J22: 10 | N22: Stomatitis | O22: 1 | P22: 2 (20) | Q22: Stomatitis | R22: 1 | S22: 1 (10)
B23: Death (Acute Resp. Failure) | C23: 5 | D23: 0 | E23: 0 | F23: 0 | G23: Death (Acute Resp. Failure) | H23: 5 | I23: 1 | J23: 10 | K23: 10 | O23: 2 | P23: 2 (20) | R23: 2 | S23: 0 (0)
B24: Decreased appetite | C24: 1 | D24: 1 | E24: 10 | F24: 10 | G24: Decreased appetite | H24: 1 | I24: 0 | J24: 0 | K24: 0 | N24: Weight Loss | O24: 1 | P24: 2 (20) | Q24: Weight Loss | R24: 1 | S24: 0 (0) | V24: Anemia | X24: Diarrhea | Z24: Fatigue | AB24: Fever | AD24: Leg Cramps | AF24: Nausea | AH24: Neuropathy | AJ24: Tinnitus | AL24: Stomatitis | AN24: Weight Loss
B25: Dehydration | C25: 1 | D25: 0 | E25: 0 | F25: 0 | G25: Dehydration | H25: 1 | I25: 1 | J25: 10 | K25: 10 | O25: 2 | P25: 0 (0) | R25: 2 | S25: 0 (0) | V25: PIKTOR | W25: CHEMO | X25: PIKTOR | Y25: CHEMO | Z25: PIKTOR | AA25: CHEMO | AB25: PIKTOR | AC25: CHEMO | AD25: PIKTOR | AE25: CHEMO | AF25: PIKTOR | AG25: CHEMO | AH25: PIKTOR | AI25: CHEMO | AJ25: PIKTOR | AK25: CHEMO | AL25: PIKTOR | AM25: CHEMO | AN25: PIKTOR | AO25: CHEMO
C26: 2 | D26: 0 | E26: 0 | H26: 2 | I26: 1 | J26: 10 | N26: * Other AEs ≥ 20% unrelated to study treatments are not reported. These include: XXX | U26: Grade 1 | V26: 10 | W26: 20 | X26: 40 | Y26: 20 | Z26: 60 | AA26: 0 | AB26: 10 | AC26: 40 | AD26: 0 | AE26: 30 | AF26: 30 | AG26: 10 | AH26: 0 | AI26: 60 | AJ26: 0 | AK26: 30 | AL26: 20 | AM26: 10 | AN26: 20 | AO26: 0
B27: Diarrhea | C27: 1 | D27: 4 | E27: 40 | F27: 30 | G27: Diarrhea | H27: 1 | I27: 2 | J27: 20 | K27: =AVERAGE(J27:J28) -> 10 | U27: Grade 2 | V27: 0 | W27: 0 | X27: 20 | Y27: 0 | Z27: 20 | AA27: 0 | AB27: 0 | AC27: 0 | AD27: 0 | AE27: 0 | AF27: 50 | AG27: 10 | AH27: 0 | AI27: 30 | AJ27: 0 | AK27: 0 | AL27: 20 | AM27: 0 | AN27: 0 | AO27: 0
C28: 2 | D28: 2 | E28: 20 | H28: 2 | I28: 0 | J28: 0 | U28: Grade 3 | V28: 0 | W28: 0 | X28: 0 | Y28: 0 | Z28: 10 | AA28: 0 | AB28: 0 | AC28: 0 | AD28: 0 | AE28: 0 | AF28: 0 | AG28: 0 | AH28: 0 | AI28: 0 | AJ28: 0 | AK28: 0 | AL28: 0 | AM28: 0 | AN28: 0 | AO28: 0
B29: Dizziness | C29: 1 | D29: 1 | E29: 10 | F29: 10 | G29: Dizziness | H29: 1 | I29: 1 | J29: 10 | K29: 5 | U29: Grade 4 | V29: 0 | W29: 0 | X29: 0 | Y29: 0 | Z29: 0 | AA29: 0 | AB29: 0 | AC29: 0 | AD29: 0 | AE29: 0 | AF29: 0 | AG29: 0 | AH29: 0 | AI29: 0 | AJ29: 0 | AK29: 0 | AL29: 0 | AM29: 0 | AN29: 0 | AO29: 0
C30: 2 | D30: 1 | E30: 10 | H30: 2 | I30: 0 | J30: 0
B31: Dry throat | C31: 1 | D31: 1 | E31: 10 | F31: 10 | G31: Dry throat | H31: 1 | I31: 0 | J31: 0 | K31: 0
B32: Dysgeusia | C32: 1 | D32: 1 | E32: 10 | F32: 10 | G32: Dysgeusia | H32: 1 | I32: 1 | J32: 10 | K32: 10
B33: Dysphagia | C33: 1 | D33: 1 | E33: 10 | F33: 10 | G33: Dysphagia | H33: 1 | I33: 0 | J33: 0 | K33: 0
B34: Dysphonia | C34: 1 | D34: 1 | E34: 10 | F34: 10 | G34: Dysphonia | H34: 1 | I34: 0 | J34: 0 | K34: 0
B35: Dyspnea | C35: 1 | D35: 1 | E35: 10 | F35: 10 | G35: Dyspnea | H35: 1 | I35: 0 | J35: 0 | K35: 0
C36: 2 | D36: 1 | E36: 10 | H36: 2 | I36: 0 | J36: 0
B37: Earache | C37: 1 | D37: 1 | E37: 10 | F37: 10 | G37: Earache | H37: 1 | I37: 1 | J37: 10 | K37: 10
B38: Fatigue | C38: 1 | D38: 6 | E38: 60 | F38: =AVERAGE(E38:E40) -> 30 | G38: Fatigue | H38: 1 | I38: 0 | J38: 0 | K38: 0
C39: 2 | D39: 2 | E39: 20 | H39: 2 | I39: 0 | J39: 0
C40: 3 | D40: 1 | E40: 10 | H40: 3 | I40: 0 | J40: 0
B41: Fever | C41: 1 | D41: 1 | E41: 10 | F41: 10 | G41: Fever | H41: 1 | I41: 4 | J41: 40 | K41: 40
B42: Folliculitis | C42: 1 | D42: 1 | E42: 10 | F42: 10 | G42: Folliculitis | H42: 1 | I42: 0 | J42: 0 | K42: 0
B43: Hoarseness | C43: 1 | D43: 2 | E43: 20 | F43: 20 | G43: Hoarseness | H43: 1 | I43: 0 | J43: 0 | K43: 0
B44: Hot flashes | C44: 1 | D44: 0 | E44: 0 | F44: 0 | G44: Hot flashes | H44: 1 | I44: 1 | J44: 10 | K44: 10
B45: Hyperglycemia | C45: 1 | D45: 1 | E45: 10 | F45: 15 | G45: Hyperglycemia | H45: 1 | I45: 0 | J45: 0 | K45: 0
C46: 2 | D46: 2 | E46: 20 | H46: 2 | I46: 0 | J46: 0
B47: Hyperopia | C47: 1 | D47: 0 | E47: 0 | F47: 0 | G47: Hyperopia | H47: 1 | I47: 1 | J47: 10 | K47: 10
B48: Hypokalemia | C48: 1 | D48: 0 | E48: 0 | F48: 0 | G48: Hypokalemia | H48: 1 | I48: 1 | J48: 10 | K48: 10
B49: Ictericia | C49: 1 | D49: 1 | E49: 10 | F49: 10 | G49: Ictericia | H49: 1 | I49: 0 | J49: 0 | K49: 0
B50: Increased forgetfullness | C50: 1 | D50: 1 | E50: 10 | F50: 10 | G50: Increased forgetfullness | H50: 1 | I50: 0 | J50: 0 | K50: 0
B51: Insomnia | C51: 1 | D51: 2 | E51: 20 | F51: =AVERAGE(E51:E52) -> 10 | G51: Insomnia | H51: 1 | I51: 0 | J51: 0 | K51: =AVERAGE(J51:J52) -> 5
C52: 2 | D52: 0 | E52: 0 | H52: 2 | I52: 1 | J52: 10
B53: Jaw Pain | C53: 1 | D53: 0 | E53: 0 | F53: 0 | G53: Jaw Pain | H53: 1 | I53: 1 | J53: 10 | K53: 10
B54: Leg cramps | C54: 1 | D54: 0 | E54: 0 | F54: 0 | G54: Leg cramps | H54: 1 | I54: 3 | J54: 30 | K54: 30
B55: Lethargy | C55: 1 | D55: 1 | E55: 10 | F55: 10 | G55: Lethargy | H55: 1 | I55: 0 | J55: 0 | K55: 0
B56: Myalgias | C56: 1 | D56: 1 | E56: 10 | F56: 10 | G56: Myalgias | H56: 1 | I56: 1 | J56: 10 | K56: 10
B57: Nausea | C57: 1 | D57: 3 | E57: 30 | F57: =AVERAGE(E57:E58) -> 40 | G57: Nausea | H57: 1 | I57: 1 | J57: 10 | K57: 10
C58: 2 | D58: 5 | E58: 50 | H58: 2 | I58: 1 | J58: 10
B59: Neuropathy (ALL) | C59: 1 | D59: 0 | E59: 0 | F59: 0 | G59: Neuropathy (ALL) | H59: 1 | I59: 6 | J59: 60 | K59: =AVERAGE(J59:J60) -> 45
C60: 2 | D60: 0 | E60: 0 | H60: 2 | I60: 3 | J60: 30
B61: Neuropathy Lower Extremities | C61: 1 | D61: 0 | E61: 0 | G61: Neuropathy Lower Extremities | H61: 1 | I61: 3 | J61: 30
C62: 2 | D62: 0 | E62: 0 | H62: 2 | I62: 1 | J62: 10
B63: Neuropathy Upper Extremities | C63: 1 | D63: 0 | E63: 0 | G63: Neuropathy Upper Extremities | H63: 1 | I63: 1 | J63: 10
C64: 2 | D64: 0 | E64: 0 | H64: 2 | I64: 1 | J64: 10
B65: Pleural effusion | C65: 1 | D65: 1 | E65: 10 | F65: 5 | G65: Pleural effusion | H65: 1 | I65: 0 | J65: 0 | K65: 5
C66: 2 | D66: 0 | E66: 0 | H66: 2 | I66: 1 | J66: 10
B67: Pruritus | C67: 1 | D67: 1 | E67: 10 | F67: 10 | G67: Pruritus | H67: 1 | I67: 0 | J67: 0 | K67: 0
B68: Rash | C68: 1 | D68: 2 | E68: 20 | F68: =AVERAGE(E68:E70) -> 10 | G68: Rash | H68: 1 | I68: 0 | J68: 0 | K68: 0
C69: 2 | D69: 0 | E69: 0 | H69: 2 | I69: 0 | J69: 0
C70: 3 | D70: 1 | E70: 10 | H70: 3 | I70: 0 | J70: 0
B71: Scalp tenderness | C71: 1 | D71: 1 | E71: 10 | F71: 10 | G71: Scalp tenderness | H71: 1 | I71: 0 | J71: 0 | K71: 0
B72: Shin pain | C72: 1 | D72: 0 | E72: 0 | F72: 0 | G72: Shin pain | H72: 1 | I72: 1 | J72: 10 | K72: 10
B73: Shingles | C73: 1 | D73: 1 | E73: 10 | F73: 10 | G73: Shingles | H73: 1 | I73: 0 | J73: 0 | K73: 0
B74: Shoulder pain | C74: 1 | D74: 1 | E74: 10 | F74: 10 | G74: Shoulder pain | H74: 1 | I74: 0 | J74: 0 | K74: 0
B75: Sore throat | C75: 1 | D75: 0 | E75: 0 | F75: 0 | G75: Sore throat | H75: 1 | I75: 1 | J75: 10 | K75: 10
B76: Stomatitis | C76: 1 | D76: 2 | E76: 20 | F76: =AVERAGE(E76:E77) -> 20 | G76: Stomatitis | H76: 1 | I76: 1 | J76: 10 | K76: =AVERAGE(J76:J77) -> 5
C77: 2 | D77: 2 | E77: 20 | H77: 2 | I77: 0 | J77: 0
B78: Strep throat | C78: 1 | D78: 1 | E78: 10 | F78: 10 | G78: Strep throat | H78: 1 | I78: 1 | J78: 10 | K78: 10
B79: Thrombus | C79: 1 | D79: 0 | E79: 0 | F79: 0 | G79: Thrombus | H79: 1 | I79: 1 | J79: 10 | K79: 10
B80: Tinutus | C80: 1 | D80: 0 | E80: 0 | F80: 0 | G80: Tinutus | H80: 1 | I80: 3 | J80: 30 | K80: 30
B81: Transaminitis | C81: 1 | D81: 1 | E81: 10 | F81: 10 | G81: Transaminitis | H81: 1 | I81: 1 | J81: 10 | K81: 10
B82: Tremors | C82: 1 | D82: 1 | E82: 10 | F82: 10 | G82: Tremors | H82: 1 | I82: 0 | J82: 0 | K82: 0
B83: URI | C83: 1 | D83: 2 | E83: 20 | F83: 15 | G83: URI | H83: 1 | I83: 1 | J83: 10 | K83: 10
C84: 2 | D84: 1 | E84: 10 | H84: 2 | I84: 1 | J84: 10
B85: UTI | C85: 1 | D85: 2 | E85: 20 | F85: 10 | G85: UTI | H85: 1 | I85: 0 | J85: 0 | K85: 5
C86: 2 | D86: 0 | E86: 0 | H86: 2 | I86: 1 | J86: 10
B87: Viral gastroenteritis | C87: 1 | D87: 0 | E87: 0 | F87: 0 | G87: Viral gastroenteritis | H87: 1 | I87: 1 | J87: 10 | K87: 10
B88: Vision changes | C88: 1 | D88: 0 | E88: 0 | F88: 0 | G88: Vision changes | H88: 1 | I88: 1 | J88: 10 | K88: 10
B89: Vitamin D Deficiency | C89: 1 | D89: 1 | E89: 10 | F89: 10 | G89: Vitamin D Deficiency | H89: 1 | I89: 0 | J89: 0 | K89: 0
B90: Vomitting | C90: 1 | D90: 1 | E90: 10 | F90: 10 | G90: Vomitting | H90: 1 | I90: 0 | J90: 0 | K90: 0
B91: Weight Loss | C91: 1 | D91: 2 | E91: 20 | F91: 20 | G91: Weight Loss | H91: 1 | I91: 0 | J91: 0 | K91: 0

Sheet Grade 1
B2: Grade 1 AE/SAE | J2: Grade 1 AE/SAE
B3: PIKTOR | E3: CHEMO | J3: PIKTOR | L3: CHEMO
B4: AE/SAE | C4: N | D4: % | E4: AE/SAE | F4: N | G4: % | J4: Fatigue | K4: 60 | L4: Fatigue | M4: 0
B5: Abdominal pain 1 | C5: =COUNTIF('AE SAE List'!$A$5:$A$200, B5) -> 1 | D5: =(C5/10)*100 -> 10 | E5: Abdominal pain 1 | F5: =COUNTIF('AE SAE List'!$C$5:$C$200, E5) -> 0 | G5: =(F5/10)*100 -> 0 | J5: Diarrhea | K5: 40 | L5: Diarrhea | M5: 10
B6: Acute Renal Failure 1 | C6: =COUNTIF('AE SAE List'!$A$5:$A$200, B6) -> 0 | D6: =(C6/10)*100 -> 0 | E6: Acute Renal Failure 1 | F6: =COUNTIF('AE SAE List'!$C$5:$C$200, E6) -> 1 | G6: =(F6/10)*100 -> 10 | J6: Nausea | K6: 30 | L6: Nausea | M6: 10
B7: Alopecia 1 | C7: =COUNTIF('AE SAE List'!$A$5:$A$200, B7) -> 0 | D7: =(C7/10)*100 -> 0 | E7: Alopecia 1 | F7: =COUNTIF('AE SAE List'!$C$5:$C$200, E7) -> 2 | G7: =(F7/10)*100 -> 20 | J7: Fever | K7: 10 | L7: Fever | M7: 40
B8: Anemia 1 | C8: =COUNTIF('AE SAE List'!$A$5:$A$200, B8) -> 1 | D8: =(C8/10)*100 -> 10 | E8: Anemia 1 | F8: =COUNTIF('AE SAE List'!$C$5:$C$200, E8) -> 2 | G8: =(F8/10)*100 -> 20 | J8: Leg Cramps | K8: 0 | L8: Leg Cramps | M8: 30
B9: Axilla pain 1 | C9: =COUNTIF('AE SAE List'!$A$5:$A$200, B9) -> 2 | D9: =(C9/10)*100 -> 20 | E9: Axilla pain 1 | F9: =COUNTIF('AE SAE List'!$C$5:$C$200, E9) -> 0 | G9: =(F9/10)*100 -> 0
B10: Back pain 1 | C10: =COUNTIF('AE SAE List'!$A$5:$A$200, B10) -> 1 | D10: =(C10/10)*100 -> 10 | E10: Back pain 1 | F10: =COUNTIF('AE SAE List'!$C$5:$C$200, E10) -> 2 | G10: =(F10/10)*100 -> 20
B11: Bacterial Vaginosis 1 | C11: =COUNTIF('AE SAE List'!$A$5:$A$200, B11) -> 1 | D11: =(C11/10)*100 -> 10 | E11: Bacterial Vaginosis 1 | F11: =COUNTIF('AE SAE List'!$C$5:$C$200, E11) -> 0 | G11: =(F11/10)*100 -> 0
B12: Blurred Vision 1 | C12: =COUNTIF('AE SAE List'!$A$5:$A$200, B12) -> 0 | D12: =(C12/10)*100 -> 0 | E12: Blurred Vision 1 | F12: =COUNTIF('AE SAE List'!$C$5:$C$200, E12) -> 1 | G12: =(F12/10)*100 -> 10
B13: Bone pain 1 | C13: =COUNTIF('AE SAE List'!$A$5:$A$200, B13) -> 0 | D13: =(C13/10)*100 -> 0 | E13: Bone pain 1 | F13: =COUNTIF('AE SAE List'!$C$5:$C$200, E13) -> 1 | G13: =(F13/10)*100 -> 10
B14: Bronchitis 1 | C14: =COUNTIF('AE SAE List'!$A$5:$A$200, B14) -> 0 | D14: =(C14/10)*100 -> 0 | E14: Bronchitis 1 | F14: =COUNTIF('AE SAE List'!$C$5:$C$200, E14) -> 1 | G14: =(F14/10)*100 -> 10
B15: Cervicalgia 1 | C15: =COUNTIF('AE SAE List'!$A$5:$A$200, B15) -> 0 | D15: =(C15/10)*100 -> 0 | E15: Cervicalgia 1 | F15: =COUNTIF('AE SAE List'!$C$5:$C$200, E15) -> 1 | G15: =(F15/10)*100 -> 10
B16: Chest wall pain 1 | C16: =COUNTIF('AE SAE List'!$A$5:$A$200, B16) -> 2 | D16: =(C16/10)*100 -> 20 | E16: Chest wall pain 1 | F16: =COUNTIF('AE SAE List'!$C$5:$C$200, E16) -> 1 | G16: =(F16/10)*100 -> 10
B17: Congestion 1 | C17: =COUNTIF('AE SAE List'!$A$5:$A$200, B17) -> 2 | D17: =(C17/10)*100 -> 20 | E17: Congestion 1 | F17: =COUNTIF('AE SAE List'!$C$5:$C$200, E17) -> 0 | G17: =(F17/10)*100 -> 0
B18: Cough 1 | C18: =COUNTIF('AE SAE List'!$A$5:$A$200, B18) -> 1 | D18: =(C18/10)*100 -> 10 | E18: Cough 1 | F18: =COUNTIF('AE SAE List'!$C$5:$C$200, E18) -> 2 | G18: =(F18/10)*100 -> 20
B19: Decreased appetite 1 | C19: =COUNTIF('AE SAE List'!$A$5:$A$200, B19) -> 1 | D19: =(C19/10)*100 -> 10 | E19: Decreased appetite 1 | F19: =COUNTIF('AE SAE List'!$C$5:$C$200, E19) -> 0 | G19: =(F19/10)*100 -> 0
B20: Dehydration 1 | C20: =COUNTIF('AE SAE List'!$A$5:$A$200, B20) -> 0 | D20: =(C20/10)*100 -> 0 | E20: Dehydration 1 | F20: =COUNTIF('AE SAE List'!$C$5:$C$200, E20) -> 1 | G20: =(F20/10)*100 -> 10
... B68: Weight Loss 1 | C68: =COUNTIF('AE SAE List'!$A$5:$A$200, B68) -> 2 | D68: =(C68/10)*100 -> 20 | E68: Weight Loss 1 | F68: =COUNTIF('AE SAE List'!$C$5:$C$200, E68) -> 0 | G68: =(F68/10)*100 -> 0

Sheet Grade 2
B2: Grade 2 AE/SAE | I2: Grade 2 AE/SAE
B3: PIKTOR | E3: CHEMO | I3: PIKTOR | K3: CHEMO
B4: AE/SAE | C4: N | D4: % | E4: AE/SAE | F4: N | G4: % | I4: Nausea | J4: 50 | K4: Nausea | L4: 10
B5: Cervicalgia 2 | C5: =COUNTIF('AE SAE List'!$A$5:$A$200, B5) -> 0 | D5: =(C5/10)*100 -> 0 | E5: Cervicalgia 2 | F5: =COUNTIF('AE SAE List'!$C$5:$C$200, E5) -> 1 | G5: =(F5/10)*100 -> 10 | I5: Cough | J5: 20 | K5: Cough | L5: 10
B6: Cough 2 | C6: =COUNTIF('AE SAE List'!$A$5:$A$200, B6) -> 2 | D6: =(C6/10)*100 -> 20 | E6: Cough 2 | F6: =COUNTIF('AE SAE List'!$C$5:$C$200, E6) -> 1 | G6: =(F6/10)*100 -> 10 | I6: Diarrhea | J6: 20 | K6: Diarrhea | L6: 0
B7: Dehydration 2 | C7: =COUNTIF('AE SAE List'!$A$5:$A$200, B7) -> 0 | D7: =(C7/10)*100 -> 0 | E7: Dehydration 2 | F7: =COUNTIF('AE SAE List'!$C$5:$C$200, E7) -> 1 | G7: =(F7/10)*100 -> 10 | I7: Fatigue | J7: 20 | K7: Fatigue | L7: 0
B8: Diarrhea 2 | C8: =COUNTIF('AE SAE List'!$A$5:$A$200, B8) -> 2 | D8: =(C8/10)*100 -> 20 | E8: Diarrhea 2 | F8: =COUNTIF('AE SAE List'!$C$5:$C$200, E8) -> 0 | G8: =(F8/10)*100 -> 0 | I8: Stomatitis | J8: 20 | K8: Stomatitis | L8: 0
B9: Dizziness 2 | C9: =COUNTIF('AE SAE List'!$A$5:$A$200, B9) -> 1 | D9: =(C9/10)*100 -> 10 | E9: Dizziness 2 | F9: =COUNTIF('AE SAE List'!$C$5:$C$200, E9) -> 0 | G9: =(F9/10)*100 -> 0
B10: Dyspnea 2 | C10: =COUNTIF('AE SAE List'!$A$5:$A$200, B10) -> 1 | D10: =(C10/10)*100 -> 10 | E10: Dyspnea 2 | F10: =COUNTIF('AE SAE List'!$C$5:$C$200, E10) -> 0 | G10: =(F10/10)*100 -> 0
B11: Fatigue 2 | C11: =COUNTIF('AE SAE List'!$A$5:$A$200, B11) -> 2 | D11: =(C11/10)*100 -> 20 | E11: Fatigue 2 | F11: =COUNTIF('AE SAE List'!$C$5:$C$200, E11) -> 0 | G11: =(F11/10)*100 -> 0
B12: Hyperglycemia 2 | C12: =COUNTIF('AE SAE List'!$A$5:$A$200, B12) -> 1 | D12: =(C12/10)*100 -> 10 | E12: Hyperglycemia 2 | F12: =COUNTIF('AE SAE List'!$C$5:$C$200, E12) -> 0 | G12: =(F12/10)*100 -> 0
B13: Nausea 2 | C13: =COUNTIF('AE SAE List'!$A$5:$A$200, B13) -> 5 | D13: =(C13/10)*100 -> 50 | E13: Nausea 2 | F13: =COUNTIF('AE SAE List'!$C$5:$C$200, E13) -> 1 | G13: =(F13/10)*100 -> 10
B14: Neuropathy 2 | C14: =COUNTIF('AE SAE List'!$A$5:$A$200, B14) -> 0 | D14: =(C14/10)*100 -> 0 | E14: Neuropathy 2 | F14: =COUNTIF('AE SAE List'!$C$5:$C$200, E14) -> 1 | G14: =(F14/10)*100 -> 10
B15: Neuropathy Lower Extremities 2 | C15: =COUNTIF('AE SAE List'!$A$5:$A$200, B15) -> 0 | D15: =(C15/10)*100 -> 0 | E15: Neuropathy Lower Extremities 2 | F15: =COUNTIF('AE SAE List'!$C$5:$C$200, E15) -> 1 | G15: =(F15/10)*100 -> 10
B16: Neuropathy Upper Extremities 2 | C16: =COUNTIF('AE SAE List'!$A$5:$A$200, B16) -> 0 | D16: =(C16/10)*100 -> 0 | E16: Neuropathy Upper Extremities 2 | F16: =COUNTIF('AE SAE List'!$C$5:$C$200, E16) -> 1 | G16: =(F16/10)*100 -> 10
B17: Pleural effusion 2 | C17: =COUNTIF('AE SAE List'!$A$5:$A$200, B17) -> 0 | D17: =(C17/10)*100 -> 0 | E17: Pleural effusion 2 | F17: =COUNTIF('AE SAE List'!$C$5:$C$200, E17) -> 1 | G17: =(F17/10)*100 -> 10
B18: Stomatitis 2 | C18: =COUNTIF('AE SAE List'!$A$5:$A$200, B18) -> 2 | D18: =(C18/10)*100 -> 20 | E18: Stomatitis 2 | F18: =COUNTIF('AE SAE List'!$C$5:$C$200, E18) -> 0 | G18: =(F18/10)*100 -> 0
B19: URI 2 | C19: =COUNTIF('AE SAE List'!$A$5:$A$200, B19) -> 1 | D19: =(C19/10)*100 -> 10 | E19: URI 2 | F19: =COUNTIF('AE SAE List'!$C$5:$C$200, E19) -> 1 | G19: =(F19/10)*100 -> 10
B20: UTI 2 | C20: =COUNTIF('AE SAE List'!$A$5:$A$200, B20) -> 0 | D20: =(C20/10)*100 -> 0 | E20: UTI 2 | F20: =COUNTIF('AE SAE List'!$C$5:$C$200, E20) -> 1 | G20: =(F20/10)*100 -> 10

Sheet Grade 3
B2: Grade 3 AE/SAE | J2: Grade 3 AE/SAE
B3: PIKTOR | E3: CHEMO | J3: PIKTOR | L3: CHEMO
B4: AE/SAE | C4: N | D4: % | E4: AE/SAE | F4: N | G4: % | J4: Chest Wall Pain | K4: 10 | L4: Chest Wall Pain | M4: 0
B5: Chest wall pain 3 | C5: =COUNTIF('AE SAE List'!$A$5:$A$200, B5) -> 1 | D5: =(C5/10)*100 -> 10 | E5: Chest wall pain 3 | F5: =COUNTIF('AE SAE List'!$C$5:$C$200, E5) -> 0 | G5: =(F5/10)*100 -> 0 | J5: Fatigue | K5: 10 | L5: Fatigue | M5: 0
B6: Fatigue 3 | C6: =COUNTIF('AE SAE List'!$A$5:$A$200, B6) -> 1 | D6: =(C6/10)*100 -> 10 | E6: Fatigue 2 | F6: =COUNTIF('AE SAE List'!$C$5:$C$200, E6) -> 0 | G6: =(F6/10)*100 -> 0 | J6: Rash | K6: 10 | L6: Rash | M6: 0
B7: Rash 3 | C7: =COUNTIF('AE SAE List'!$A$5:$A$200, B7) -> 1 | D7: =(C7/10)*100 -> 10 | E7: Rash 2 | F7: =COUNTIF('AE SAE List'!$C$5:$C$200, E7) -> 0 | G7: =(F7/10)*100 -> 0

Sheet Grade 5
B2: Grade 5 AE/SAE | I2: Grade 5 AE/SAE
B3: PIKTOR | E3: CHEMO | I3: PIKTOR | K3: CHEMO
B4: AE/SAE | C4: N | D4: % | E4: AE/SAE | F4: N | G4: % | I4: Death | J4: 0 | K4: Death | L4: 10
B5: Death | C5: 0 | D5: =(C5/10)*100 -> 0 | E5: Death | F5: 1 | G5: =(F5/10)*100 -> 10
