Workbook

Sheet Nongrowing season flux of other
A1: ID | B1: References | C1: Treatment) | D1: Purpose | E1: Climatic conditions | F1: Wetland type | G1: Nutrient supply type | H1: Microtopography | I1: Permanently/seasonally flooded | J1: Dominant plant species in prestine wetland | K1: Function group | L1: Peat depth (m) in pristine wetland | M1: N rate (kg N ha-1) in drained wetland | N1: Biomass/manure application (t ha-1) in drained wetland | O1: Country | P1: Latitude (°, N) | Q1: Longitude (°, E) | R1: Altitude (m) | S1: MAT ( °C) | T1: MAP (mm) | U1: Climatic conditions | V1: Drainage duration (years) | W1: Drainage intensity | X1: Wetland type | Y1: Nutrient supply type | Z1: Microtopography | AA1: Permanently/seasonally flooded | AB1: Dominant plant species in prestine wetland | AC1: Function group | AD1: Measurement period | AE1: Season | AF1: Dry/wet | AG1: Measurement frequency | AH1: Method | AI1: Annual soil N2O flux | AJ1: Control | AK1: SD | AL1: n | AM1: Treatment | AN1: SD | AO1: n | AP1: Growing season soil N2O flux | AQ1: Control | AR1: SD | AS1: n | AT1: Treatment | AU1: SD | AV1: n | AW1: Non-growing season soil N2O flux | AX1: Control | AY1: SD | AZ1: n | BA1: Treatment | BB1: SD | BC1: n | BD1: Ratio of growing season to annual | BE1: Control | BF1: SD | BG1: n | BH1: Treatment | BI1: SD | BJ1: n | BK1: Ratio of non-growing season to annual | BL1: Control | BM1: SD | BN1: n | BO1: Treatment | BP1: SD | BQ1: n | BR1: References
A2: 1 | B2: Kandel et al. 2018 | C2: Drainage | D2: Grassland | E2: Temperate | F2: Peatland (bog) | G2: / | H2: overall | I2: seasonally | J2: Eriophorum vaginatum, Empetrum nigrum | K2: Cyperaceae | L2: 4 | M2: 0 | N2: 0 | O2: Denmark | P2: 57.23 | Q2: 9.84 | R2: / | S2: 9.3 | T2: 925 | U2: Temperate | V2: 94 | W2: / | X2: Peatland (bog) | Y2: / | Z2: overall | AA2: seasonally | AB2: Eriophorum vaginatum, Empetrum nigrum | AC2: Cyperaceae | AD2: 2014/06/10-2015/06/09 | AE2: Annual | AF2: / | AG2: 1-2 week intervals | AH2: Field, Chamber | AI2: kg ha-1 yr-1 | AJ2: 0.3 | AK2: =0.7/2 -> 0.35 | AL2: 6 | AM2: 3 | AN2: =1.9/2 -> 0.95 | AO2: 6 | AP2: kg ha-1 GS-1 | AQ2: =AJ2-AX2 -> -1.5615972 | AR2: =SQRT(AK2^2+AY2^2) -> 0.74423707 | AS2: 6 | AT2: =AM2-BA2 -> 1.658074 | AU2: =SQRT(AN2^2+BB2^2) -> 1.2029822 | AV2: 6 | AW2: kg ha-1 NGS-1 | AX2: 1.8615972 | AY2: 0.65680196 | AZ2: 6 | BA2: 1.341926 | BB2: 0.73801496 | BC2: 6 | BE2: =AQ2/AJ2 -> -5.2053241 | BF2: =SQRT((1/AJ2)^2*AR2^2+((-AQ2/AJ2^2)^2*AK2^2)) -> 6.5600433 | BG2: =AZ2 -> 6 | BH2: =AT2/AM2 -> 0.55269134 | BI2: =SQRT((1/AM2)^2*AU2^2+((-AT2/AM2^2)^2*AN2^2)) -> 0.43752469 | BJ2: =BC2 -> 6 | BR2: Kandel et al. 2018. Annual emissions of CO2, CH4 and N2O from a temperate peat bog: Comparison of an undrained and four drained sites under permanent grass and arable crop rotations with cereals and potato
A3: 2 | B3: Pandel et al. 2018 | C3: Drainage | D3: Cropland | E3: Temperate | F3: Peatland (bog) | G3: / | H3: overall | I3: seasonally | J3: Eriophorum vaginatum, Empetrum nigrum | K3: Cyperaceae | L3: 4 | M3: 135 | N3: 0 | O3: Denmark | P3: 57.23 | Q3: 9.84 | R3: / | S3: 9.3 | T3: 925 | U3: Temperate | V3: 94 | W3: / | X3: Peatland (bog) | Y3: / | Z3: overall | AA3: seasonally | AB3: Eriophorum vaginatum, Empetrum nigrum | AC3: Cyperaceae | AD3: 2014/06/10-2015/06/09 | AE3: Annual | AF3: / | AG3: 1-2 week intervals | AH3: Field, Chamber | AI3: kg ha-1 yr-1 | AJ3: 0.3 | AK3: =0.7/2 -> 0.35 | AL3: 6 | AM3: 3.7 | AN3: =2.1/2 -> 1.05 | AO3: 6 | AP3: kg ha-1 GS-1 | AQ3: =AJ3-AX3 -> -1.5615972 | AR3: =SQRT(AK3^2+AY3^2) -> 0.74423707 | AS3: 3 | AT3: =AM3-BA3 -> 1.9789052 | AU3: =SQRT(AN3^2+BB3^2) -> 1.536653 | AV3: 3 | AW3: kg ha-1 NGS-1 | AX3: 1.8615972 | AY3: 0.65680196 | AZ3: 6 | BA3: 1.7210948 | BB3: 1.1219637 | BC3: 6 | BE3: =AQ3/AJ3 -> -5.2053241 | BF3: =SQRT((1/AJ3)^2*AR3^2+((-AQ3/AJ3^2)^2*AK3^2)) -> 6.5600433 | BG3: =AZ3 -> 6 | BH3: =AT3/AM3 -> 0.53483926 | BI3: =SQRT((1/AM3)^2*AU3^2+((-AT3/AM3^2)^2*AN3^2)) -> 0.44217703 | BJ3: =BC3 -> 6 | BR3: Pandel et al. 2018. Annual emissions of CO2, CH4 and N2O from a temperate peat bog: Comparison of an undrained and four drained sites under permanent grass and arable crop rotations with cereals and potato
A4: 3 | B4: Pandel et al. 2018 | C4: Drainage | D4: Cropland | E4: Temperate | F4: Peatland (bog) | G4: / | H4: overall | I4: seasonally | J4: Eriophorum vaginatum, Empetrum nigrum | K4: Cyperaceae | L4: 4 | M4: 112 | N4: 25 | O4: Denmark | P4: 57.23 | Q4: 9.84 | R4: / | S4: 9.3 | T4: 925 | U4: Temperate | V4: 94 | W4: / | X4: Peatland (bog) | Y4: / | Z4: overall | AA4: seasonally | AB4: Eriophorum vaginatum, Empetrum nigrum | AC4: Cyperaceae | AD4: 2014/06/10-2015/06/09 | AE4: Annual | AF4: / | AG4: 1-2 week intervals | AH4: Field, Chamber | AI4: kg ha-1 yr-1 | AJ4: 0.3 | AK4: =0.7/2 -> 0.35 | AL4: 6 | AM4: 1.5 | AN4: =1.2/2 -> 0.6 | AO4: 6 | AP4: kg ha-1 GS-1 | AQ4: =AJ4-AX4 -> -1.5615972 | AR4: =SQRT(AK4^2+AY4^2) -> 0.74423707 | AS4: 3 | AT4: =AM4-BA4 -> -0.77356966 | AU4: =SQRT(AN4^2+BB4^2) -> 0.86400994 | AV4: 3 | AW4: kg ha-1 NGS-1 | AX4: 1.8615972 | AY4: 0.65680196 | AZ4: 6 | BA4: 2.2735697 | BB4: 0.62170184 | BC4: 6 | BE4: =AQ4/AJ4 -> -5.2053241 | BF4: =SQRT((1/AJ4)^2*AR4^2+((-AQ4/AJ4^2)^2*AK4^2)) -> 6.5600433 | BG4: =AZ4 -> 6 | BH4: =AT4/AM4 -> -0.51571311 | BI4: =SQRT((1/AM4)^2*AU4^2+((-AT4/AM4^2)^2*AN4^2)) -> 0.61183105 | BJ4: =BC4 -> 6 | BR4: Pandel et al. 2018. Annual emissions of CO2, CH4 and N2O from a temperate peat bog: Comparison of an undrained and four drained sites under permanent grass and arable crop rotations with cereals and potato
A5: 4 | B5: Pandel et al. 2018 | C5: Drainage | D5: Cropland | E5: Temperate | F5: Peatland (bog) | G5: / | H5: overall | I5: seasonally | J5: Eriophorum vaginatum, Empetrum nigrum | K5: Cyperaceae | L5: 4 | M5: 126 | N5: 0 | O5: Denmark | P5: 57.23 | Q5: 9.84 | R5: / | S5: 9.3 | T5: 925 | U5: Temperate | V5: 94 | W5: / | X5: Peatland (bog) | Y5: / | Z5: overall | AA5: seasonally | AB5: Eriophorum vaginatum, Empetrum nigrum | AC5: Cyperaceae | AD5: 2014/06/10-2015/06/09 | AE5: Annual | AF5: / | AG5: 1-2 week intervals | AH5: Field, Chamber | AI5: kg ha-1 yr-1 | AJ5: 0.3 | AK5: =0.7/2 -> 0.35 | AL5: 6 | AM5: 37.7 | AN5: =5.9/2 -> 2.95 | AO5: 4 | AP5: kg ha-1 GS-1 | AQ5: =AJ5-AX5 -> -1.5615972 | AR5: =SQRT(AK5^2+AY5^2) -> 0.74423707 | AS5: 3 | AT5: =AM5-BA5 -> 16.42757 | AU5: =SQRT(AN5^2+BB5^2) -> 7.0779557 | AV5: 3 | AW5: kg ha-1 NGS-1 | AX5: 1.8615972 | AY5: 0.65680196 | AZ5: 6 | BA5: 21.27243 | BB5: 6.4338913 | BC5: 6 | BE5: =AQ5/AJ5 -> -5.2053241 | BF5: =SQRT((1/AJ5)^2*AR5^2+((-AQ5/AJ5^2)^2*AK5^2)) -> 6.5600433 | BG5: =AZ5 -> 6 | BH5: =AT5/AM5 -> 0.43574456 | BI5: =SQRT((1/AM5)^2*AU5^2+((-AT5/AM5^2)^2*AN5^2)) -> 0.19081526 | BJ5: =BC5 -> 6 | BR5: Pandel et al. 2018. Annual emissions of CO2, CH4 and N2O from a temperate peat bog: Comparison of an undrained and four drained sites under permanent grass and arable crop rotations with cereals and potato
A6: 5 | B6: Laine et al. 1996 | C6: Drainage | D6: Forestry | E6: Boreal | F6: Peatland (fen) | G6: minerotrophic | H6: overall | I6: seasonally | J6: Carex rostrata | K6: Cyperaceae | L6: / | M6: 0 | N6: 0 | O6: Finland | P6: 61.8 | Q6: 24.317 | R6: 150 | S6: 3 | T6: 700 | U6: Boreal | V6: 30 | W6: / | X6: Peatland (fen) | Y6: minerotrophic | Z6: overall | AA6: seasonally | AB6: / | AC6: / | AD6: 1991 | AE6: Annual | AF6: / | AG6: once per week | AH6: Field, Chamber | AI6: kg ha-1 yr-1 | AJ6: =1.45*44/28*10^4/10^6 -> 0.022785714 | AK6: / | AL6: 3 | AM6: =134*44/28*10^4/10^6 -> 2.1057143 | AN6: / | AO6: 3 | AP6: kg ha-1 GS-1 | AQ6: =AJ6-AX6 -> 0.01822028 | AR6: / | AS6: 3 | AT6: =AM6-BA6 -> 0.81590034 | AU6: / | AV6: 3 | AW6: kg ha-1 NGS-1 | AX6: 0.0045654339 | AY6: 0.038475256 | AZ6: 3 | BA6: 1.2898139 | BB6: 0.52274239 | BC6: 3 | BE6: =AQ6/AJ6 -> 0.79963613 | BG6: =AZ6 -> 3 | BH6: =AT6/AM6 -> 0.38746963 | BJ6: =BC6 -> 3 | BR6: Laine et al. 1996. Effect of Water-Level Drawdown on Global Climatic Warming: Northern Peatlands
A7: 6 | B7: Laine et al. 1996 | C7: Drainage | D7: Forestry | E7: Boreal | F7: Peatland (fen) | G7: minerotrophic | H7: overall | I7: seasonally | J7: Carex rostrata | K7: Cyperaceae | L7: / | M7: 0 | N7: 0 | O7: Finland | P7: 61.8 | Q7: 24.317 | R7: 150 | S7: 3 | T7: 700 | U7: Boreal | V7: 31 | W7: / | X7: Peatland (fen) | Y7: minerotrophic | Z7: overall | AA7: seasonally | AB7: / | AC7: / | AD7: 1992 | AE7: Annual | AF7: / | AG7: once per week | AH7: Field, Chamber | AI7: kg ha-1 yr-1 | AJ7: =5.85*44/28*10^4/10^6 -> 0.091928571 | AK7: / | AL7: 3 | AM7: =55.4*44/28*10^4/10^6 -> 0.87057143 | AN7: / | AO7: 3 | AP7: kg ha-1 GS-1 | AQ7: =AJ7-AX7 -> 0.060842117 | AR7: / | AS7: 3 | AT7: =AM7-BA7 -> 0.49157401 | AU7: / | AV7: 3 | AW7: kg ha-1 NGS-1 | AX7: 0.031086455 | AY7: 0.0024653343 | AZ7: 3 | BA7: 0.37899742 | BB7: 0.33105207 | BC7: 3 | BE7: =AQ7/AJ7 -> 0.66184121 | BG7: =AZ7 -> 3 | BH7: =AT7/AM7 -> 0.56465672 | BJ7: =BC7 -> 3 | BR7: Laine et al. 1996. Effect of Water-Level Drawdown on Global Climatic Warming: Northern Peatlands
A8: 7 | B8: Laine et al. 1996 | C8: Drainage | D8: Forestry | E8: Boreal | F8: Peatland (fen) | G8: minerotrophic | H8: overall | I8: seasonally | J8: Carex rostrata | K8: Cyperaceae | L8: / | M8: 0 | N8: 0 | O8: Finland | P8: 61.8 | Q8: 24.317 | R8: 150 | S8: 3 | T8: 700 | U8: Boreal | V8: 30 | W8: / | X8: Peatland (fen) | Y8: minerotrophic | Z8: overall | AA8: seasonally | AB8: / | AC8: / | AD8: 1991 | AE8: Annual | AF8: / | AG8: once per week | AH8: Field, Chamber | AI8: kg ha-1 yr-1 | AJ8: =3.4*44/28*10^4/10^6 -> 0.053428571 | AK8: / | AL8: 3 | AM8: =3.69*44/28*10^4/10^6 -> 0.057985714 | AN8: / | AO8: 3 | AP8: kg ha-1 GS-1 | AQ8: / | AR8: / | AS8: 3 | AT8: / | AU8: / | AV8: 3 | AX8: / | AY8: / | AZ8: / | BA8: / | BB8: / | BC8: / | BR8: Laine et al. 1996. Effect of Water-Level Drawdown on Global Climatic Warming: Northern Peatlands
A9: 8 | B9: Laine et al. 1996 | C9: Drainage | D9: Forestry | E9: Boreal | F9: Peatland (fen) | G9: minerotrophic | H9: overall | I9: seasonally | J9: Carex rostrata | K9: Cyperaceae | L9: / | M9: 0 | N9: 0 | O9: Finland | P9: 61.8 | Q9: 24.317 | R9: 150 | S9: 3 | T9: 700 | U9: Boreal | V9: 31 | W9: / | X9: Peatland (fen) | Y9: minerotrophic | Z9: overall | AA9: seasonally | AB9: / | AC9: / | AD9: 1992 | AE9: Annual | AF9: / | AG9: once per week | AH9: Field, Chamber | AI9: kg ha-1 yr-1 | AJ9: =15.3*44/28*10^4/10^6 -> 0.24042857 | AK9: / | AL9: 3 | AM9: =56.2*44/28*10^4/10^6 -> 0.88314286 | AN9: / | AO9: 3 | AP9: kg ha-1 GS-1 | AQ9: / | AR9: / | AS9: 3 | AT9: / | AU9: / | AV9: 3 | AX9: / | AY9: / | AZ9: / | BA9: / | BB9: / | BC9: / | BR9: Laine et al. 1996. Effect of Water-Level Drawdown on Global Climatic Warming: Northern Peatlands
A10: 9 | B10: Laine et al. 1996 | C10: Drainage | D10: Forestry | E10: Boreal | F10: Peatland (bog) | G10: ombrotrophic | H10: overall | I10: seasonally | J10: Sphagnum mosses, Eriophorum vaginatum, | K10: Peat moss | L10: / | M10: 0 | N10: 0 | O10: Finland | P10: 61.8 | Q10: 24.317 | R10: 150 | S10: 3 | T10: 700 | U10: Boreal | V10: 30 | W10: / | X10: Peatland (bog) | Y10: ombrotrophic | Z10: overall | AA10: seasonally | AB10: / | AC10: / | AD10: 1991 | AE10: Annual | AF10: / | AG10: once per week | AH10: Field, Chamber | AI10: kg ha-1 yr-1 | AJ10: =1.22*44/28*10^4/10^6 -> 0.019171429 | AK10: / | AL10: 3 | AM10: =1.95*44/28*10^4/10^6 -> 0.030642857 | AN10: / | AO10: 3 | AP10: kg ha-1 GS-1 | AQ10: / | AR10: / | AS10: 3 | AT10: / | AU10: / | AV10: 3 | AX10: / | AY10: / | AZ10: / | BA10: / | BB10: / | BC10: / | BR10: Laine et al. 1996. Effect of Water-Level Drawdown on Global Climatic Warming: Northern Peatlands
A11: 10 | B11: Laine et al. 1996 | C11: Drainage | D11: Forestry | E11: Boreal | F11: Peatland (bog) | G11: ombrotrophic | H11: overall | I11: seasonally | J11: Sphagnum mosses, Eriophorum vaginatum, | K11: Peat moss | L11: / | M11: 0 | N11: 0 | O11: Finland | P11: 61.8 | Q11: 24.317 | R11: 150 | S11: 3 | T11: 700 | U11: Boreal | V11: 31 | W11: / | X11: Peatland (bog) | Y11: ombrotrophic | Z11: overall | AA11: seasonally | AB11: / | AC11: / | AD11: 1992 | AE11: Annual | AF11: / | AG11: once per week | AH11: Field, Chamber | AI11: kg ha-1 yr-1 | AJ11: =3.04*44/28*10^4/10^6 -> 0.047771429 | AK11: / | AL11: 3 | AM11: =13.8*44/28*10^4/10^6 -> 0.21685714 | AN11: / | AO11: 3 | AP11: kg ha-1 GS-1 | AQ11: / | AR11: / | AT11: / | AU11: / | AX11: / | AY11: / | AZ11: / | BA11: / | BB11: / | BC11: / | BR11: Laine et al. 1996. Effect of Water-Level Drawdown on Global Climatic Warming: Northern Peatlands
A12: 11 | B12: Laine et al. 1996 | C12: Drainage | D12: Forestry | E12: Boreal | F12: Peatland (bog) | G12: ombrotrophic | H12: hummock | I12: seasonally | J12: Sphagnum mosses, Eriophorum vaginatum, | K12: Peat moss | L12: / | M12: 0 | N12: 0 | O12: Finland | P12: 61.8 | Q12: 24.317 | R12: 150 | S12: 3 | T12: 700 | U12: Boreal | V12: 30 | W12: / | X12: Peatland (bog) | Y12: ombrotrophic | Z12: hummock | AA12: seasonally | AB12: / | AC12: / | AD12: 1991 | AE12: Annual | AF12: / | AG12: once per week | AH12: Field, Chamber | AI12: kg ha-1 yr-1 | AJ12: =3.47*10^4*44/28/10^6 -> 0.054528571 | AK12: / | AL12: 3 | AM12: =2.28*44/28*10^4/10^6 -> 0.035828571 | AN12: / | AO12: 3 | AP12: kg ha-1 GS-1 | AQ12: =AJ12-AX12 -> 0.025368612 | AR12: / | AS12: 3 | AT12: =AM12-BA12 -> 0.038087178 | AU12: / | AV12: 3 | AW12: kg ha-1 NGS-1 | AX12: 0.029159959 | AY12: 0.044859286 | AZ12: 3 | BA12: -0.0022586062 | BB12: 0.029366166 | BC12: 3 | BE12: =AQ12/AJ12 -> 0.46523523 | BG12: =AZ12 -> 3 | BH12: =AT12/AM12 -> 1.0630392 | BJ12: =BC12 -> 3 | BR12: Laine et al. 1996. Effect of Water-Level Drawdown on Global Climatic Warming: Northern Peatlands
A13: 12 | B13: Laine et al. 1996 | C13: Drainage | D13: Forestry | E13: Boreal | F13: Peatland (bog) | G13: ombrotrophic | H13: hummock | I13: seasonally | J13: Sphagnum mosses, Eriophorum vaginatum, | K13: Peat moss | L13: / | M13: 0 | N13: 0 | O13: Finland | P13: 61.8 | Q13: 24.317 | R13: 150 | S13: 3 | T13: 700 | U13: Boreal | V13: 31 | W13: / | X13: Peatland (bog) | Y13: ombrotrophic | Z13: hummock | AA13: seasonally | AB13: / | AC13: / | AD13: 1992 | AE13: Annual | AF13: / | AG13: once per week | AH13: Field, Chamber | AI13: kg ha-1 yr-1 | AJ13: =5.39*44/28*10^4/10^6 -> 0.0847 | AK13: / | AL13: 3 | AM13: =3.92*44/28*10^4/10^6 -> 0.0616 | AN13: / | AO13: 3 | AP13: kg ha-1 GS-1 | AQ13: =AJ13-AX13 -> -0.0024884442 | AR13: / | AS13: 3 | AT13: =AM13-BA13 -> 0.032581594 | AU13: / | AV13: 3 | AW13: kg ha-1 NGS-1 | AX13: 0.087188444 | AY13: 0.019443859 | AZ13: 3 | BA13: 0.029018406 | BB13: 0.039901839 | BC13: 3 | BE13: =AQ13/AJ13 -> -0.029379506 | BG13: =AZ13 -> 3 | BH13: =AT13/AM13 -> 0.52892198 | BJ13: =BC13 -> 3 | BR13: Laine et al. 1996. Effect of Water-Level Drawdown on Global Climatic Warming: Northern Peatlands
A14: 13 | B14: Beetz et al. 2013 | C14: Drainage | D14: Grassland | E14: Temperate | F14: Peatland (bog) | G14: ombrotrophic | H14: overall | I14: seasonally | J14: Eriophorum angustifolium, Sphagnum fallax | K14: Cyperaceae | L14: 5.15 | M14: 118 | N14: 2.3 | O14: Germany | P14: 53.683 | Q14: 8.817 | R14: / | S14: 10.2 | T14: 916 | U14: Temperate | V14: 57 | W14: / | X14: Peatland (bog) | Y14: ombrotrophic | Z14: overall | AA14: seasonally | AB14: Eriophorum angustifolium, Sphagnum fallax | AC14: Cyperaceae | AD14: 2007/07/01-2008/06/30 | AE14: Annual | AF14: dry | AG14: biweekly | AH14: Field, Chamber | AI14: kg ha-1 yr-1 | AJ14: =9*44/28*10^4/10^6 -> 0.14142857 | AK14: =11*SQRT(3)*44/28*10^4/10^6 -> 0.29939735 | AL14: 3 | AM14: =115*44/28*10^4/10^6 -> 1.8071429 | AN14: =78*SQRT(3)*44/28*10^4/10^6 -> 2.1229994 | AO14: 3 | AP14: kg ha-1 GS-1 | AQ14: =AJ14-AX14 -> 0.30689866 | AR14: =SQRT(AK14^2+AY14^2) -> 0.31089158 | AS14: 3 | AT14: =AM14-BA14 -> 1.6416728 | AU14: =SQRT(AN14^2+BB14^2) -> 2.1241716 | AV14: 3 | AW14: kg ha-1 NGS-1 | AX14: -0.16547009 | AY14: 0.083754404 | AZ14: 3 | BA14: 0.16547009 | BB14: 0.070556682 | BC14: 3 | BE14: =AQ14/AJ14 -> 2.1699905 | BF14: =SQRT((1/AJ14)^2*AR14^2+((-AQ14/AJ14^2)^2*AK14^2)) -> 5.0926269 | BG14: =AZ14 -> 3 | BH14: =AT14/AM14 -> 0.90843553 | BI14: =SQRT((1/AM14)^2*AU14^2+((-AT14/AM14^2)^2*AN14^2)) -> 1.5876345 | BJ14: =BC14 -> 3 | BR14: Beetz et al. 2013. Effects of land use intensity on the full greenhouse gas balance in an Atlantic peat bog
A15: 14 | B15: Beetz et al. 2013 | C15: Drainage | D15: Grassland | E15: Temperate | F15: Peatland (bog) | G15: ombrotrophic | H15: overall | I15: seasonally | J15: Eriophorum angustifolium, Sphagnum fallax | K15: Cyperaceae | L15: 5.15 | M15: 121 | N15: 2.1 | O15: Germany | P15: 53.683 | Q15: 8.817 | R15: / | S15: 10.8 | T15: 929 | U15: Temperate | V15: 57 | W15: / | X15: Peatland (bog) | Y15: ombrotrophic | Z15: overall | AA15: seasonally | AB15: Eriophorum angustifolium, Sphagnum fallax | AC15: Cyperaceae | AD15: 2008/07/01-2009/06/30 | AE15: Annual | AF15: wet | AG15: biweekly | AH15: Field, Chamber | AI15: kg ha-1 yr-1 | AJ15: =7*44/28*10^4/10^6 -> 0.11 | AK15: =24*SQRT(3)*44/28*10^4/10^6 -> 0.65323059 | AL15: 3 | AM15: =255*44/28*10^4/10^6 -> 4.0071429 | AN15: =101*SQRT(3)*44/28*10^4/10^6 -> 2.7490121 | AO15: 3 | AP15: kg ha-1 GS-1 | AQ15: =AJ15-AX15 -> 0.40333333 | AR15: =SQRT(AK15^2+AY15^2) -> 0.66457533 | AS15: 3 | AT15: =AM15-BA15 -> -0.46054945 | AU15: =SQRT(AN15^2+BB15^2) -> 3.4194671 | AV15: 3 | AW15: kg ha-1 NGS-1 | AX15: -0.29333333 | AY15: 0.12227086 | AZ15: 3 | BA15: 4.4676923 | BB15: 2.033639 | BC15: 3 | BE15: =AQ15/AJ15 -> 3.6666667 | BF15: =SQRT((1/AJ15)^2*AR15^2+((-AQ15/AJ15^2)^2*AK15^2)) -> 22.596976 | BG15: =AZ15 -> 3 | BH15: =AT15/AM15 -> -0.11493213 | BI15: =SQRT((1/AM15)^2*AU15^2+((-AT15/AM15^2)^2*AN15^2)) -> 0.85697781 | BJ15: =BC15 -> 3 | BR15: Beetz et al. 2013. Effects of land use intensity on the full greenhouse gas balance in an Atlantic peat bog
A16: 15 | B16: Nykanen et al. 1995 | C16: Drainage | D16: Grassland | E16: Boreal | F16: Peatland (fen) | G16: minerotrophic | H16: overall | I16: seasonally | J16: Molinia-Carex-Tri- chophorum caespitosum-Sphagnum papillosum | K16: Graminoid | L16: 6.5 | M16: 80 | N16: 0 | O16: Finland | P16: 62.667 | Q16: 30.833 | R16: / | S16: 1.9 | T16: 791.02804 | U16: Boreal | V16: 60 | W16: / | X16: Peatland (fen) | Y16: minerotrophic | Z16: overall | AA16: seasonally | AB16: Molinia-Carex-Tri- chophorum caespitosum-Sphagnum papillosum | AC16: Cyperaceae | AD16: 1991 | AE16: Annual | AF16: wet | AG16: biweekly | AH16: Field, Chamber | AI16: kg ha-1 yr-1 | AJ16: =0.2*44/28 -> 0.31428571 | AK16: / | AL16: 3 | AM16: =9.3*44/28 -> 14.614286 | AN16: / | AO16: 3 | AP16: kg ha-1 GS-1 | AQ16: / | AR16: / | AS16: / | AT16: / | AU16: / | AV16: / | AX16: / | AY16: / | AZ16: / | BA16: / | BB16: / | BC16: / | BR16: Nykanen et al. 1995. Emissions of CH4, N2O and CO2 from a Virgin Fen and a Fen Drained for Grassland inFinland
A17: 16 | B17: Nykanen et al. 1995 | C17: Drainage | D17: Grassland | E17: Boreal | F17: Peatland (fen) | G17: minerotrophic | H17: overall | I17: seasonally | J17: Molinia-Carex-Tri- chophorum caespitosum-Sphagnum papillosum | K17: Graminoid | L17: 6.5 | M17: 80 | N17: 0 | O17: Finland | P17: 62.667 | Q17: 30.833 | R17: / | S17: 1.9 | T17: 753.67482 | U17: Boreal | V17: 61 | W17: / | X17: Peatland (fen) | Y17: minerotrophic | Z17: overall | AA17: seasonally | AB17: Molinia-Carex-Tri- chophorum caespitosum-Sphagnum papillosum | AC17: Cyperaceae | AD17: 1992 | AE17: Annual | AF17: wet | AG17: biweekly | AH17: Field, Chamber | AI17: kg ha-1 yr-1 | AJ17: / | AK17: / | AL17: 3 | AM17: =7.8*44/28 -> 12.257143 | AN17: / | AO17: 3 | AP17: kg ha-1 GS-1 | AQ17: / | AR17: / | AS17: / | AT17: / | AU17: / | AV17: / | AX17: / | AY17: / | AZ17: / | BA17: / | BB17: / | BC17: / | BR17: Nykanen et al. 1995. Emissions of CH4, N2O and CO2 from a Virgin Fen and a Fen Drained for Grassland inFinland
A18: 17 | B18: Danevcic et al. 2010 | C18: Drainage | D18: Forestry | E18: Boreal | F18: Peatland (bog) | G18: / | H18: overall | I18: seasonally | J18: Betula sp., Frangula alnus, Salix sp., Quercus robur and Pinus sylvestris | K18: Forest | L18: / | M18: 0 | N18: 0 | O18: Slovenia | P18: 45.983 | Q18: 14.5 | R18: / | S18: 10 | T18: 1400 | U18: Boreal | V18: / | W18: / | X18: Peatland (bog) | Y18: / | Z18: overall | AA18: seasonally | AB18: Forest | AC18: Forest | AD18: 2005/6-2006/8 | AE18: Annual | AF18: wet | AG18: weekly | AH18: Field, Chamber | AI18: kg ha-1 yr-1 | AJ18: / | AK18: / | AL18: / | AM18: / | AN18: / | AO18: / | AP18: kg ha-1 GS-1 | AQ18: / | AR18: / | AS18: / | AT18: / | AU18: / | AV18: / | AX18: / | AY18: / | AZ18: / | BA18: / | BB18: / | BC18: / | BR18: Danevcic et al. 2010. Emissions of CO2, CH4 and N2O from Southern European peatlands
A19: 18 | B19: Von Arnold et al. 2005a | C19: Drainage | D19: Forestry | E19: Boreal | F19: Peatland (bog) | G19: / | H19: overall | I19: seasonally | J19: Sedges | K19: Cyperaceae | L19: 0.9 | M19: 0 | N19: 0 | O19: Sweden | P19: 57.133 | Q19: 14.75 | R19: / | S19: 5.6 | T19: 766.95985 | U19: Boreal | V19: 30 | W19: / | X19: Peatland (bog) | Y19: / | Z19: overall | AA19: seasonally | AB19: Sedges | AC19: Cyperaceae | AD19: 2000/9-2001/9 | AE19: Annual | AF19: wet | AG19: weekly | AH19: Field, Chamber | AI19: kg ha-1 yr-1 | AJ19: 0.2 | AK19: =0.3*SQRT(3) -> 0.51961524 | AL19: 3 | AM19: 0.9 | AN19: =0.6*SQRT(3) -> 1.0392305 | AO19: 3 | AP19: kg ha-1 GS-1 | AQ19: =AJ19-AX19 -> -0.012919786 | AR19: =SQRT(AK19^2+AY19^2) -> 0.53470943 | AS19: 10 | AT19: =AM19-BA19 -> 0.71738509 | AU19: =SQRT(AN19^2+BB19^2) -> 1.0440419 | AV19: 10 | AW19: kg ha-1 NGS-1 | AX19: 0.21291979 | AY19: 0.12615141 | AZ19: 3 | BA19: 0.18261491 | BB19: 0.1001169 | BC19: 3 | BE19: =AQ19/AJ19 -> -0.06459893 | BF19: =SQRT((1/AJ19)^2*AR19^2+((-AQ19/AJ19^2)^2*AK19^2)) -> 2.6788099 | BG19: =AZ19 -> 3 | BH19: =AT19/AM19 -> 0.79709455 | BI19: =SQRT((1/AM19)^2*AU19^2+((-AT19/AM19^2)^2*AN19^2)) -> 1.4808289 | BJ19: =BC19 -> 3 | BR19: Von Arnold et al. 2005a. Fluxes of CO2, CH4 and N2O from drained coniferous forests on organic soils
A20: 19 | B20: Von Arnold et al. 2005a | C20: Drainage | D20: Forestry | E20: Boreal | F20: Peatland (bog) | G20: / | H20: overall | I20: seasonally | J20: Sedges | K20: Cyperaceae | L20: 0.9 | M20: 0 | N20: 0 | O20: Sweden | P20: 57.133 | Q20: 14.75 | R20: / | S20: 5.6 | T20: 789.59847 | U20: Boreal | V20: 31 | W20: / | X20: Peatland (bog) | Y20: / | Z20: overall | AA20: seasonally | AB20: Sedges | AC20: Cyperaceae | AD20: 2001/9-2002/9 | AE20: Annual | AF20: wet | AG20: weekly | AH20: Field, Chamber | AI20: kg ha-1 yr-1 | AJ20: 0.3 | AK20: =0.5*SQRT(3) -> 0.8660254 | AL20: 3 | AM20: 0.7 | AN20: =0.5*SQRT(3) -> 0.8660254 | AO20: 3 | AP20: kg ha-1 GS-1 | AQ20: =AJ20-AX20 -> 0.14616701 | AR20: =SQRT(AK20^2+AY20^2) -> 0.87761942 | AS20: 10 | AT20: =AM20-BA20 -> 0.55770668 | AU20: =SQRT(AN20^2+BB20^2) -> 0.86763719 | AV20: 10 | AW20: kg ha-1 NGS-1 | AX20: 0.15383299 | AY20: 0.14218245 | AZ20: 3 | BA20: 0.14229332 | BB20: 0.052861146 | BC20: 3 | BE20: =AQ20/AJ20 -> 0.48722336 | BF20: =SQRT((1/AJ20)^2*AR20^2+((-AQ20/AJ20^2)^2*AK20^2)) -> 3.2459476 | BG20: =AZ20 -> 3 | BH20: =AT20/AM20 -> 0.79672382 | BI20: =SQRT((1/AM20)^2*AU20^2+((-AT20/AM20^2)^2*AN20^2)) -> 1.583635 | BJ20: =BC20 -> 3 | BR20: Von Arnold et al. 2005a. Fluxes of CO2, CH4 and N2O from drained coniferous forests on organic soils
A21: 20 | B21: Von Arnold et al. 2005a | C21: Drainage | D21: Forestry | E21: Boreal | F21: Peatland (bog) | G21: / | H21: overall | I21: seasonally | J21: Sedges | K21: Cyperaceae | L21: 0.9 | M21: 0 | N21: 0 | O21: Sweden | P21: 57.133 | Q21: 14.75 | R21: / | S21: 5.6 | T21: 766.95985 | U21: Boreal | V21: 40 | W21: / | X21: Peatland (bog) | Y21: / | Z21: overall | AA21: seasonally | AB21: Sedges | AC21: Cyperaceae | AD21: 2000/9-2001/9 | AE21: Annual | AF21: wet | AG21: weekly | AH21: Field, Chamber | AI21: kg ha-1 yr-1 | AJ21: 0.2 | AK21: =0.3*SQRT(3) -> 0.51961524 | AL21: 3 | AM21: 0.6 | AN21: =0.3*SQRT(3) -> 0.51961524 | AO21: 3 | AP21: kg ha-1 GS-1 | AQ21: =AJ21-AX21 -> -0.012919786 | AR21: =SQRT(AK21^2+AY21^2) -> 0.53470943 | AS21: 10 | AT21: =AM21-BA21 -> 0.47815385 | AU21: =SQRT(AN21^2+BB21^2) -> 0.52070369 | AV21: 10 | AW21: kg ha-1 NGS-1 | AX21: 0.21291979 | AY21: 0.12615141 | AZ21: 3 | BA21: 0.12184615 | BB21: 0.033650102 | BC21: 3 | BE21: =AQ21/AJ21 -> -0.06459893 | BF21: =SQRT((1/AJ21)^2*AR21^2+((-AQ21/AJ21^2)^2*AK21^2)) -> 2.6788099 | BG21: =AZ21 -> 3 | BH21: =AT21/AM21 -> 0.79692308 | BI21: =SQRT((1/AM21)^2*AU21^2+((-AT21/AM21^2)^2*AN21^2)) -> 1.1088102 | BJ21: =BC21 -> 3 | BR21: Von Arnold et al. 2005a. Fluxes of CO2, CH4 and N2O from drained coniferous forests on organic soils
A22: 21 | B22: Von Arnold et al. 2005a | C22: Drainage | D22: Forestry | E22: Boreal | F22: Peatland (bog) | G22: / | H22: overall | I22: seasonally | J22: Sedges | K22: Cyperaceae | L22: 0.9 | M22: 0 | N22: 0 | O22: Sweden | P22: 57.133 | Q22: 14.75 | R22: / | S22: 5.6 | T22: 789.59847 | U22: Boreal | V22: 41 | W22: / | X22: Peatland (bog) | Y22: / | Z22: overall | AA22: seasonally | AB22: Sedges | AC22: Cyperaceae | AD22: 2001/9-2002/9 | AE22: Annual | AF22: wet | AG22: weekly | AH22: Field, Chamber | AI22: kg ha-1 yr-1 | AJ22: 0.3 | AK22: =0.5*SQRT(3) -> 0.8660254 | AL22: 3 | AM22: 0.4 | AN22: =0.4*SQRT(3) -> 0.69282032 | AO22: 3 | AP22: kg ha-1 GS-1 | AQ22: =AJ22-AX22 -> 0.14616701 | AR22: =SQRT(AK22^2+AY22^2) -> 0.87761942 | AS22: 4 | AT22: =AM22-BA22 -> 0.23640237 | AU22: =SQRT(AN22^2+BB22^2) -> 0.69565963 | AV22: 4 | AW22: kg ha-1 NGS-1 | AX22: 0.15383299 | AY22: 0.14218245 | AZ22: 3 | BA22: 0.16359763 | BB22: 0.062787863 | BC22: 3 | BE22: =AQ22/AJ22 -> 0.48722336 | BF22: =SQRT((1/AJ22)^2*AR22^2+((-AQ22/AJ22^2)^2*AK22^2)) -> 3.2459476 | BG22: =AZ22 -> 3 | BH22: =AT22/AM22 -> 0.59100592 | BI22: =SQRT((1/AM22)^2*AU22^2+((-AT22/AM22^2)^2*AN22^2)) -> 2.0180445 | BJ22: =BC22 -> 3 | BR22: Von Arnold et al. 2005a. Fluxes of CO2, CH4 and N2O from drained coniferous forests on organic soils
A23: 22 | B23: Von Arnold et al. 2005a | C23: Drainage | D23: Forestry | E23: Boreal | F23: Peatland (bog) | G23: / | H23: overall | I23: seasonally | J23: Sedges | K23: Cyperaceae | L23: 0.9 | M23: 0 | N23: 0 | O23: Sweden | P23: 57.133 | Q23: 14.75 | R23: / | S23: 5.6 | T23: 766.95985 | U23: Boreal | V23: 40 | W23: / | X23: Peatland (bog) | Y23: / | Z23: overall | AA23: seasonally | AB23: Sedges | AC23: Cyperaceae | AD23: 2000/9-2001/9 | AE23: Annual | AF23: wet | AG23: weekly | AH23: Field, Chamber | AI23: kg ha-1 yr-1 | AJ23: 0.2 | AK23: =0.3*SQRT(3) -> 0.51961524 | AL23: 3 | AM23: 0.3 | AN23: =0.3*SQRT(3) -> 0.51961524 | AO23: 3 | AP23: kg ha-1 GS-1 | AQ23: =AJ23-AX23 -> -0.012919786 | AR23: =SQRT(AK23^2+AY23^2) -> 0.53470943 | AS23: 4 | AT23: =AM23-BA23 -> 0.21405653 | AU23: =SQRT(AN23^2+BB23^2) -> 0.5207173 | AV23: 4 | AW23: kg ha-1 NGS-1 | AX23: 0.21291979 | AY23: 0.12615141 | AZ23: 3 | BA23: 0.085943467 | BB23: 0.033860151 | BC23: 3 | BE23: =AQ23/AJ23 -> -0.06459893 | BF23: =SQRT((1/AJ23)^2*AR23^2+((-AQ23/AJ23^2)^2*AK23^2)) -> 2.6788099 | BG23: =AZ23 -> 3 | BH23: =AT23/AM23 -> 0.71352178 | BI23: =SQRT((1/AM23)^2*AU23^2+((-AT23/AM23^2)^2*AN23^2)) -> 2.1307461 | BJ23: =BC23 -> 3 | BR23: Von Arnold et al. 2005a. Fluxes of CO2, CH4 and N2O from drained coniferous forests on organic soils
A24: 23 | B24: Von Arnold et al. 2005a | C24: Drainage | D24: Forestry | E24: Boreal | F24: Peatland (bog) | G24: / | H24: overall | I24: seasonally | J24: Sedges | K24: Cyperaceae | L24: 0.9 | M24: 0 | N24: 0 | O24: Sweden | P24: 57.133 | Q24: 14.75 | R24: / | S24: 5.6 | T24: 789.59847 | U24: Boreal | V24: 41 | W24: / | X24: Peatland (bog) | Y24: / | Z24: overall | AA24: seasonally | AB24: Sedges | AC24: Cyperaceae | AD24: 2001/9-2002/9 | AE24: Annual | AF24: wet | AG24: weekly | AH24: Field, Chamber | AI24: kg ha-1 yr-1 | AJ24: 0.3 | AK24: =0.5*SQRT(3) -> 0.8660254 | AL24: 3 | AM24: 0.4 | AN24: =0.6*SQRT(3) -> 1.0392305 | AO24: 3 | AP24: kg ha-1 GS-1 | AQ24: =AJ24-AX24 -> 0.14616701 | AR24: =SQRT(AK24^2+AY24^2) -> 0.87761942 | AS24: 4 | AT24: =AM24-BA24 -> 0.25380705 | AU24: =SQRT(AN24^2+BB24^2) -> 1.0418357 | AV24: 4 | AW24: kg ha-1 NGS-1 | AX24: 0.15383299 | AY24: 0.14218245 | AZ24: 3 | BA24: 0.14619295 | BB24: 0.073631187 | BC24: 3 | BE24: =AQ24/AJ24 -> 0.48722336 | BF24: =SQRT((1/AJ24)^2*AR24^2+((-AQ24/AJ24^2)^2*AK24^2)) -> 3.2459476 | BG24: =AZ24 -> 3 | BH24: =AT24/AM24 -> 0.63451762 | BI24: =SQRT((1/AM24)^2*AU24^2+((-AT24/AM24^2)^2*AN24^2)) -> 3.0824535 | BJ24: =BC24 -> 3 | BR24: Von Arnold et al. 2005a. Fluxes of CO2, CH4 and N2O from drained coniferous forests on organic soils
A25: 24 | B25: Von Arnold et al. 2005b | C25: Drainage | D25: Forestry | E25: Boreal | F25: Peatland (bog) | G25: / | H25: overall | I25: seasonally | J25: Sedges | K25: Cyperaceae | L25: 0.9 | M25: 0 | N25: 0 | O25: Sweden | P25: 57.133 | Q25: 14.75 | R25: / | S25: 5.6 | T25: 766.95985 | U25: Boreal | V25: 60 | W25: / | X25: Peatland (bog) | Y25: / | Z25: overall | AA25: seasonally | AB25: Sedges | AC25: Cyperaceae | AD25: 2000/9-2001/9 | AE25: Annual | AF25: wet | AG25: weekly | AH25: Field, Chamber | AI25: kg ha-1 yr-1 | AJ25: 1 | AK25: =0.5*SQRT(10) -> 1.5811388 | AL25: 10 | AM25: 2 | AN25: =0.9*SQRT(10) -> 2.8460499 | AO25: 10 | AP25: kg ha-1 GS-1 | AQ25: =AJ25-AX25 -> 0.86724643 | AR25: =SQRT(AK25^2+AY25^2) -> 1.5819768 | AS25: 4 | AT25: =AM25-BA25 -> 1.4158654 | AU25: =SQRT(AN25^2+BB25^2) -> 2.8488816 | AV25: 4 | AW25: kg ha-1 NGS-1 | AX25: 0.13275357 | AY25: 0.051482904 | AZ25: 3 | BA25: 0.58413462 | BB25: 0.12698862 | BC25: 3 | BE25: =AQ25/AJ25 -> 0.86724643 | BF25: =SQRT((1/AJ25)^2*AR25^2+((-AQ25/AJ25^2)^2*AK25^2)) -> 2.0935476 | BG25: =AZ25 -> 3 | BH25: =AT25/AM25 -> 0.70793269 | BI25: =SQRT((1/AM25)^2*AU25^2+((-AT25/AM25^2)^2*AN25^2)) -> 1.7446771 | BJ25: =BC25 -> 3 | BR25: Von Arnold et al. 2005b. Fluxes of CO2, CH4 and N2O from drained organic soils in deciduous forests
A26: 25 | B26: Von Arnold et al. 2005b | C26: Drainage | D26: Forestry | E26: Boreal | F26: Peatland (bog) | G26: / | H26: overall | I26: seasonally | J26: Sedges | K26: Cyperaceae | L26: 0.9 | M26: 0 | N26: 0 | O26: Sweden | P26: 57.133 | Q26: 14.75 | R26: / | S26: 5.6 | T26: 789.59847 | U26: Boreal | V26: 61 | W26: / | X26: Peatland (bog) | Y26: / | Z26: overall | AA26: seasonally | AB26: Sedges | AC26: Cyperaceae | AD26: 2001/9-2002/9 | AE26: Annual | AF26: wet | AG26: weekly | AH26: Field, Chamber | AI26: kg ha-1 yr-1 | AJ26: 1 | AK26: =0.5*SQRT(10) -> 1.5811388 | AL26: 10 | AM26: 2 | AN26: =1.4*SQRT(10) -> 4.4271887 | AO26: 10 | AP26: kg ha-1 GS-1 | AQ26: =AJ26-AX26 -> 0.86724643 | AR26: =SQRT(AK26^2+AY26^2) -> 1.5817793 | AS26: 4 | AT26: =AM26-BA26 -> 1.3852679 | AU26: =SQRT(AN26^2+BB26^2) -> 4.4326965 | AV26: 4 | AW26: kg ha-1 NGS-1 | AX26: 0.13275357 | AY26: 0.045006678 | AZ26: 3 | BA26: 0.61473214 | BB26: 0.22090346 | BC26: 3 | BE26: =AQ26/AJ26 -> 0.86724643 | BF26: =SQRT((1/AJ26)^2*AR26^2+((-AQ26/AJ26^2)^2*AK26^2)) -> 2.0933983 | BG26: =AZ26 -> 3 | BH26: =AT26/AM26 -> 0.69263393 | BI26: =SQRT((1/AM26)^2*AU26^2+((-AT26/AM26^2)^2*AN26^2)) -> 2.6949832 | BJ26: =BC26 -> 3 | BR26: Von Arnold et al. 2005b. Fluxes of CO2, CH4 and N2O from drained organic soils in deciduous forests
A27: 26 | B27: Von Arnold et al. 2005b | C27: Drainage | D27: Forestry | E27: Boreal | F27: Peatland (bog) | G27: / | H27: overall | I27: seasonally | J27: Sedges | K27: Cyperaceae | L27: 0.9 | M27: 0 | N27: 0 | O27: Sweden | P27: 57.133 | Q27: 14.75 | R27: / | S27: 5.6 | T27: 766.95985 | U27: Boreal | V27: 20 | W27: / | X27: Peatland (bog) | Y27: / | Z27: overall | AA27: seasonally | AB27: Sedges | AC27: Cyperaceae | AD27: 2000/9-2001/9 | AE27: Annual | AF27: wet | AG27: weekly | AH27: Field, Chamber | AI27: kg ha-1 yr-1 | AJ27: 1 | AK27: =0.5*SQRT(10) -> 1.5811388 | AL27: 10 | AM27: 11 | AN27: =4.4*SQRT(10) -> 13.914022 | AO27: 10 | AP27: kg ha-1 GS-1 | AQ27: =AJ27-AX27 -> 0.86724643 | AR27: =SQRT(AK27^2+AY27^2) -> 1.5819768 | AS27: 4 | AT27: =AM27-BA27 -> 7.3904509 | AU27: =SQRT(AN27^2+BB27^2) -> 13.958686 | AV27: 4 | AW27: kg ha-1 NGS-1 | AX27: 0.13275357 | AY27: 0.051482904 | AZ27: 3 | BA27: 3.6095491 | BB27: 1.115756 | BC27: 3 | BE27: =AQ27/AJ27 -> 0.86724643 | BF27: =SQRT((1/AJ27)^2*AR27^2+((-AQ27/AJ27^2)^2*AK27^2)) -> 2.0935476 | BG27: =AZ27 -> 3 | BH27: =AT27/AM27 -> 0.67185918 | BI27: =SQRT((1/AM27)^2*AU27^2+((-AT27/AM27^2)^2*AN27^2)) -> 1.527259 | BJ27: =BC27 -> 3 | BR27: Von Arnold et al. 2005b. Fluxes of CO2, CH4 and N2O from drained organic soils in deciduous forests
A28: 27 | B28: Von Arnold et al. 2005b | C28: Drainage | D28: Forestry | E28: Boreal | F28: Peatland (bog) | G28: / | H28: overall | I28: seasonally | J28: Sedges | K28: Cyperaceae | L28: 0.9 | M28: 0 | N28: 0 | O28: Sweden | P28: 57.133 | Q28: 14.75 | R28: / | S28: 5.6 | T28: 789.59847 | U28: Boreal | V28: 21 | W28: / | X28: Peatland (bog) | Y28: / | Z28: overall | AA28: seasonally | AB28: Sedges | AC28: Cyperaceae | AD28: 2001/9-2002/9 | AE28: Annual | AF28: wet | AG28: weekly | AH28: Field, Chamber | AI28: kg ha-1 yr-1 | AJ28: 1 | AK28: =0.5*SQRT(10) -> 1.5811388 | AL28: 10 | AM28: 6 | AN28: =2.7*SQRT(10) -> 8.5381497 | AO28: 10 | AP28: kg ha-1 GS-1 | AQ28: =AJ28-AX28 -> 0.86724643 | AR28: =SQRT(AK28^2+AY28^2) -> 1.5817793 | AS28: / | AT28: =AM28-BA28 -> 2.4730223 | AU28: =SQRT(AN28^2+BB28^2) -> 8.5846712 | AV28: / | AW28: kg ha-1 NGS-1 | AX28: 0.13275357 | AY28: 0.045006678 | AZ28: 3 | BA28: 3.5269777 | BB28: 0.89251295 | BC28: 3 | BE28: =AQ28/AJ28 -> 0.86724643 | BF28: =SQRT((1/AJ28)^2*AR28^2+((-AQ28/AJ28^2)^2*AK28^2)) -> 2.0933983 | BG28: =AZ28 -> 3 | BH28: =AT28/AM28 -> 0.41217039 | BI28: =SQRT((1/AM28)^2*AU28^2+((-AT28/AM28^2)^2*AN28^2)) -> 1.5463322 | BJ28: =BC28 -> 3 | BR28: Von Arnold et al. 2005b. Fluxes of CO2, CH4 and N2O from drained organic soils in deciduous forests
A29: 28 | B29: Ma et al. 2018 | C29: Drainage | D29: Grassland | E29: Temperate | F29: Marsh | G29: minerotrophic | H29: overall | I29: seasonally | J29: Kobresia tibetica | K29: Cyperaceae | L29: / | M29: 0 | N29: 0 | O29: China | P29: 34.267 | Q29: 102.433 | R29: 3430 | S29: 2.9 | T29: 592.6 | U29: Temperate | V29: / | W29: / | X29: Marsh | Y29: minerotrophic | Z29: overall | AA29: seasonally | AB29: Kobresia tibetica | AC29: Cyperaceae | AD29: 2013/5-2014/5 | AE29: Annual | AF29: / | AG29: weekly | AH29: Field, Chamber | AI29: kg ha-1 yr-1 | AJ29: =SUM(-88.6,23.35)*10^4/10^6 -> -0.6525 | AK29: =SQRT(9.22^2+1.27^2)*10^4/10^6 -> 0.093070565 | AL29: 4 | AM29: =SUM(42.79,23.44)*10^4/10^6 -> 0.6623 | AN29: =SQRT(5.95^2+1.46^2)*10^4/10^6 -> 0.06126508 | AO29: 4 | AP29: kg ha-1 GS-1 | AQ29: =AJ29-AX29 -> 0.2335 | AR29: =SQRT(AK29^2+AY29^2) -> 0.13100752 | AS29: 3 | AT29: =AM29-BA29 -> 0.2344 | AU29: =SQRT(AN29^2+BB29^2) -> 0.062980711 | AV29: 3 | AW29: kg ha-1 NGS-1 | AX29: -0.886 | AY29: 0.0922 | AZ29: 4 | BA29: 0.4279 | BB29: 0.0146 | BC29: 4 | BE29: =AQ29/AJ29 -> -0.35785441 | BF29: =SQRT((1/AJ29)^2*AR29^2+((-AQ29/AJ29^2)^2*AK29^2)) -> 0.20716452 | BG29: =AZ29 -> 4 | BH29: =AT29/AM29 -> 0.35391816 | BI29: =SQRT((1/AM29)^2*AU29^2+((-AT29/AM29^2)^2*AN29^2)) -> 0.10057175 | BJ29: =BC29 -> 4 | BL29: =AX29/AJ29 -> 1.3578544 | BM29: =SQRT((1/AJ29)^2*AY29^2+((-AX29/AJ29^2)^2*AK29^2)) -> 0.23974661 | BN29: 4 | BO29: =BA29/AM29 -> 0.64608184 | BP29: =SQRT((1/AM29)^2*BB29^2+((-BA29/AM29^2)^2*AN29^2)) -> 0.063700797 | BQ29: 4 | BR29: Ma et al. 2018. Greenhouse gas emissions as influenced by wetland vegetation degradation along a moisture gradient on the eastern Qinghai-Tibet Plateau of North-West China
A30: 29 | B30: Ma et al. 2018 | C30: Drainage | D30: Grassland | E30: Temperate | F30: Marsh | G30: minerotrophic | H30: overall | I30: seasonally | J30: Kobresia tibetica | K30: Cyperaceae | L30: / | M30: 0 | N30: 0 | O30: China | P30: 34.267 | Q30: 102.433 | R30: 3430 | S30: 2.9 | T30: 592.6 | U30: Temperate | V30: / | W30: / | X30: Marsh | Y30: minerotrophic | Z30: overall | AA30: seasonally | AB30: Kobresia tibetica | AC30: Cyperaceae | AD30: 2013/5-2014/5 | AE30: Annual | AF30: / | AG30: weekly | AH30: Field, Chamber | AI30: kg ha-1 yr-1 | AJ30: =SUM(-88.6,23.35)*10^4/10^6 -> -0.6525 | AK30: =SQRT(9.22^2+1.27^2)*10^4/10^6 -> 0.093070565 | AL30: 4 | AM30: =SUM(26.42,-13.95)*10^4/10^6 -> 0.1247 | AN30: =SQRT(2.56^2+3.26^2)*10^4/10^6 -> 0.041450211 | AO30: 4 | AP30: kg ha-1 GS-1 | AQ30: =AJ30-AX30 -> 0.2335 | AR30: =SQRT(AK30^2+AY30^2) -> 0.13100752 | AS30: 6 | AT30: =AM30-BA30 -> -0.1395 | AU30: =SQRT(AN30^2+BB30^2) -> 0.05273405 | AV30: 6 | AW30: kg ha-1 NGS-1 | AX30: -0.886 | AY30: 0.0922 | AZ30: 4 | BA30: 0.2642 | BB30: 0.0326 | BC30: 4 | BE30: =AQ30/AJ30 -> -0.35785441 | BF30: =SQRT((1/AJ30)^2*AR30^2+((-AQ30/AJ30^2)^2*AK30^2)) -> 0.20716452 | BG30: =AZ30 -> 4 | BH30: =AT30/AM30 -> -1.1186848 | BI30: =SQRT((1/AM30)^2*AU30^2+((-AT30/AM30^2)^2*AN30^2)) -> 0.56312191 | BJ30: =BC30 -> 4 | BL30: =AX30/AJ30 -> 1.3578544 | BM30: =SQRT((1/AJ30)^2*AY30^2+((-AX30/AJ30^2)^2*AK30^2)) -> 0.23974661 | BN30: 4 | BO30: =BA30/AM30 -> 2.1186848 | BP30: =SQRT((1/AM30)^2*BB30^2+((-BA30/AM30^2)^2*AN30^2)) -> 0.75120696 | BQ30: 4 | BR30: Ma et al. 2018. Greenhouse gas emissions as influenced by wetland vegetation degradation along a moisture gradient on the eastern Qinghai-Tibet Plateau of North-West China
A31: 30 | B31: Ma et al. 2018 | C31: Drainage | D31: Grassland | E31: Temperate | F31: Marsh | G31: minerotrophic | H31: overall | I31: seasonally | J31: Kobresia tibetica | K31: Cyperaceae | L31: / | M31: 0 | N31: 0 | O31: China | P31: 34.267 | Q31: 102.433 | R31: 3430 | S31: 2.9 | T31: 592.6 | U31: Temperate | V31: / | W31: / | X31: Marsh | Y31: minerotrophic | Z31: overall | AA31: seasonally | AB31: Kobresia tibetica | AC31: Cyperaceae | AD31: 2013/5-2014/5 | AE31: Annual | AF31: / | AG31: weekly | AH31: Field, Chamber | AI31: kg ha-1 yr-1 | AJ31: =SUM(-88.6,23.35)*10^4/10^6 -> -0.6525 | AK31: =SQRT(9.22^2+1.27^2)*10^4/10^6 -> 0.093070565 | AL31: 4 | AM31: =SUM(25.79,16.24)*10^4/10^6 -> 0.4203 | AN31: =SQRT(1.28^2+2.46^2)*10^4/10^6 -> 0.027730849 | AO31: 4 | AP31: kg ha-1 GS-1 | AQ31: =AJ31-AX31 -> 0.2335 | AR31: =SQRT(AK31^2+AY31^2) -> 0.13100752 | AS31: 6 | AT31: =AM31-BA31 -> 0.1624 | AU31: =SQRT(AN31^2+BB31^2) -> 0.037069664 | AV31: 6 | AW31: kg ha-1 NGS-1 | AX31: -0.886 | AY31: 0.0922 | AZ31: 4 | BA31: 0.2579 | BB31: 0.0246 | BC31: 4 | BE31: =AQ31/AJ31 -> -0.35785441 | BF31: =SQRT((1/AJ31)^2*AR31^2+((-AQ31/AJ31^2)^2*AK31^2)) -> 0.20716452 | BG31: =AZ31 -> 4 | BH31: =AT31/AM31 -> 0.38639067 | BI31: =SQRT((1/AM31)^2*AU31^2+((-AT31/AM31^2)^2*AN31^2)) -> 0.091808645 | BJ31: =BC31 -> 4 | BL31: =AX31/AJ31 -> 1.3578544 | BM31: =SQRT((1/AJ31)^2*AY31^2+((-AX31/AJ31^2)^2*AK31^2)) -> 0.23974661 | BN31: 4 | BO31: =BA31/AM31 -> 0.61360933 | BP31: =SQRT((1/AM31)^2*BB31^2+((-BA31/AM31^2)^2*AN31^2)) -> 0.071167154 | BQ31: 4 | BR31: Ma et al. 2018. Greenhouse gas emissions as influenced by wetland vegetation degradation along a moisture gradient on the eastern Qinghai-Tibet Plateau of North-West China
A32: 31 | B32: Ma et al. 2018 | C32: Drainage | D32: Grassland | E32: Temperate | F32: Marsh | G32: minerotrophic | H32: overall | I32: seasonally | J32: Kobresia tibetica | K32: Cyperaceae | L32: / | M32: 0 | N32: 0 | O32: China | P32: 34.267 | Q32: 102.433 | R32: 3430 | S32: 2.9 | T32: 592.6 | U32: Temperate | V32: / | W32: / | X32: Marsh | Y32: minerotrophic | Z32: overall | AA32: seasonally | AB32: Kobresia tibetica | AC32: Cyperaceae | AD32: 2014/5-2015/5 | AE32: Annual | AF32: / | AG32: weekly | AH32: Field, Chamber | AI32: kg ha-1 yr-1 | AJ32: =SUM(-39.18,2.96)*10^4/10^6 -> -0.3622 | AK32: =SQRT(1.62^2+55.4^2)*10^4/10^6 -> 0.55423681 | AL32: 4 | AM32: =SUM(1.12,-3.97)*10^4/10^6 -> -0.0285 | AN32: =SQRT(9.94^2+0.58^2)*10^4/10^6 -> 0.099569072 | AO32: 4 | AP32: kg ha-1 GS-1 | AQ32: =AJ32-AX32 -> 0.0296 | AR32: =SQRT(AK32^2+AY32^2) -> 0.78364178 | AS32: 3 | AT32: =AM32-BA32 -> -0.0397 | AU32: =SQRT(AN32^2+BB32^2) -> 0.099569072 | AV32: 3 | AW32: kg ha-1 NGS-1 | AX32: -0.3918 | AY32: 0.554 | AZ32: 4 | BA32: 0.0112 | BB32: 3.4444489e-16 | BC32: 4 | BE32: =AQ32/AJ32 -> -0.081722805 | BF32: =SQRT((1/AJ32)^2*AR32^2+((-AQ32/AJ32^2)^2*AK32^2)) -> 2.1671719 | BG32: =AZ32 -> 4 | BH32: =AT32/AM32 -> 1.3929825 | BI32: =SQRT((1/AM32)^2*AU32^2+((-AT32/AM32^2)^2*AN32^2)) -> 5.9907723 | BJ32: =BC32 -> 4 | BL32: =AX32/AJ32 -> 1.0817228 | BM32: =SQRT((1/AJ32)^2*AY32^2+((-AX32/AJ32^2)^2*AK32^2)) -> 2.2537395 | BN32: 4 | BO32: =BA32/AM32 -> -0.39298246 | BP32: =SQRT((1/AM32)^2*BB32^2+((-BA32/AM32^2)^2*AN32^2)) -> 1.3729438 | BQ32: 4 | BR32: Ma et al. 2018. Greenhouse gas emissions as influenced by wetland vegetation degradation along a moisture gradient on the eastern Qinghai-Tibet Plateau of North-West China
A33: 32 | B33: Ma et al. 2018 | C33: Drainage | D33: Grassland | E33: Temperate | F33: Marsh | G33: minerotrophic | H33: overall | I33: seasonally | J33: Kobresia tibetica | K33: Cyperaceae | L33: / | M33: 0 | N33: 0 | O33: China | P33: 34.267 | Q33: 102.433 | R33: 3430 | S33: 2.9 | T33: 592.6 | U33: Temperate | V33: / | W33: / | X33: Marsh | Y33: minerotrophic | Z33: overall | AA33: seasonally | AB33: Kobresia tibetica | AC33: Cyperaceae | AD33: 2014/5-2015/5 | AE33: Annual | AF33: / | AG33: weekly | AH33: Field, Chamber | AI33: kg ha-1 yr-1 | AJ33: =SUM(-39.18,2.96)*10^4/10^6 -> -0.3622 | AK33: =SQRT(1.62^2+55.4^2)*10^4/10^6 -> 0.55423681 | AL33: 4 | AM33: =SUM(8.47,-0.26)*10^4/10^6 -> 0.0821 | AN33: =SQRT(0.1^2+1.26^2)*10^4/10^6 -> 0.01263962 | AO33: 4 | AP33: kg ha-1 GS-1 | AQ33: =AJ33-AX33 -> 0.0296 | AR33: =SQRT(AK33^2+AY33^2) -> 0.78364178 | AS33: 3 | AT33: =AM33-BA33 -> -0.0026 | AU33: =SQRT(AN33^2+BB33^2) -> 0.017847129 | AV33: 3 | AW33: kg ha-1 NGS-1 | AX33: -0.3918 | AY33: 0.554 | AZ33: 4 | BA33: 0.0847 | BB33: 0.0126 | BC33: 4 | BE33: =AQ33/AJ33 -> -0.081722805 | BF33: =SQRT((1/AJ33)^2*AR33^2+((-AQ33/AJ33^2)^2*AK33^2)) -> 2.1671719 | BG33: =AZ33 -> 4 | BH33: =AT33/AM33 -> -0.031668697 | BI33: =SQRT((1/AM33)^2*AU33^2+((-AT33/AM33^2)^2*AN33^2)) -> 0.21743748 | BJ33: =BC33 -> 4 | BL33: =AX33/AJ33 -> 1.0817228 | BM33: =SQRT((1/AJ33)^2*AY33^2+((-AX33/AJ33^2)^2*AK33^2)) -> 2.2537395 | BN33: 4 | BO33: =BA33/AM33 -> 1.0316687 | BP33: =SQRT((1/AM33)^2*BB33^2+((-BA33/AM33^2)^2*AN33^2)) -> 0.22086255 | BQ33: 4 | BR33: Ma et al. 2018. Greenhouse gas emissions as influenced by wetland vegetation degradation along a moisture gradient on the eastern Qinghai-Tibet Plateau of North-West China
A34: 33 | B34: Ma et al. 2018 | C34: Drainage | D34: Grassland | E34: Temperate | F34: Marsh | G34: minerotrophic | H34: overall | I34: seasonally | J34: Kobresia tibetica | K34: Cyperaceae | L34: / | M34: 0 | N34: 0 | O34: China | P34: 34.267 | Q34: 102.433 | R34: 3430 | S34: 2.9 | T34: 592.6 | U34: Temperate | V34: / | W34: / | X34: Marsh | Y34: minerotrophic | Z34: overall | AA34: seasonally | AB34: Kobresia tibetica | AC34: Cyperaceae | AD34: 2014/5-2015/5 | AE34: Annual | AF34: / | AG34: weekly | AH34: Field, Chamber | AI34: kg ha-1 yr-1 | AJ34: =SUM(-39.18,2.96)*10^4/10^6 -> -0.3622 | AK34: =SQRT(1.62^2+55.4^2)*10^4/10^6 -> 0.55423681 | AL34: 4 | AM34: =SUM(-3.1,33.14)*10^4/10^6 -> 0.3004 | AN34: =SQRT(2.25^2+0.56^2)*10^4/10^6 -> 0.023186418 | AO34: 4 | AP34: kg ha-1 GS-1 | AQ34: =AJ34-AX34 -> 0.0296 | AR34: =SQRT(AK34^2+AY34^2) -> 0.78364178 | AS34: / | AT34: =AM34-BA34 -> 0.3314 | AU34: =SQRT(AN34^2+BB34^2) -> 0.023853092 | AV34: 6 | AW34: kg ha-1 NGS-1 | AX34: -0.3918 | AY34: 0.554 | AZ34: 4 | BA34: -0.031 | BB34: 0.0056 | BC34: 4 | BE34: =AQ34/AJ34 -> -0.081722805 | BF34: =SQRT((1/AJ34)^2*AR34^2+((-AQ34/AJ34^2)^2*AK34^2)) -> 2.1671719 | BG34: =AZ34 -> 4 | BH34: =AT34/AM34 -> 1.1031957 | BI34: =SQRT((1/AM34)^2*AU34^2+((-AT34/AM34^2)^2*AN34^2)) -> 0.1164287 | BJ34: =BC34 -> 4 | BL34: =AX34/AJ34 -> 1.0817228 | BM34: =SQRT((1/AJ34)^2*AY34^2+((-AX34/AJ34^2)^2*AK34^2)) -> 2.2537395 | BN34: 4 | BO34: =BA34/AM34 -> -0.10319574 | BP34: =SQRT((1/AM34)^2*BB34^2+((-BA34/AM34^2)^2*AN34^2)) -> 0.020272178 | BQ34: 4 | BR34: Ma et al. 2018. Greenhouse gas emissions as influenced by wetland vegetation degradation along a moisture gradient on the eastern Qinghai-Tibet Plateau of North-West China
A35: 34 | B35: Yamulki et al. 2013 | C35: Drainage | D35: Cropland | E35: Temperate | F35: Peatland (bog) | G35: ombrotrophic | H35: overall | I35: seasonally | J35: Sphagnum mosses | K35: Peat moss | L35: 4.6 | M35: 0 | N35: 0 | O35: UK | P35: 56.146 | Q35: -4.3 | R35: 15 | S35: 9.4 | T35: 1672 | U35: Temperate | V35: 88 | W35: / | X35: Peatland (bog) | Y35: ombrotrophic | Z35: overall | AA35: seasonally | AB35: Sphagnum mosses | AC35: Peat moss | AD35: 2008/02-2009/02 | AE35: Annual | AF35: wet | AG35: biweekly | AH35: Field, Chamber | AJ35: / | AK35: / | AL35: / | AM35: / | AN35: / | AO35: / | AP35: kg ha-1 GS-1 | AQ35: / | AR35: / | AS35: / | AT35: / | AU35: / | AV35: / | AW35: kg ha-1 NGS-1 | AX35: 0.010932057 | AY35: 0.0021896008 | AZ35: 3 | BA35: 0.0093905995 | BB35: 0.002527449 | BC35: 3 | BL35: 0.49152542 | BM35: 0.97035416 | BN35: 6 | BO35: 0.50847458 | BP35: 1.3444172 | BQ35: 6 | BR35: Yamulki et al. 2013. Soil CO2 CH4 and N2O fluxes from an afforested lowland raised peatbog in Scotland: implications for drainage and restoration
A36: 35 | B36: Yamulki et al. 2013 | C36: Drainage | D36: Cropland | E36: Temperate | F36: Peatland (bog) | G36: ombrotrophic | H36: overall | I36: seasonally | J36: Sphagnum mosses | K36: Peat moss | L36: 5.6 | M36: 0 | N36: 0 | O36: UK | P36: 56.146 | Q36: -4.3 | R36: 15 | S36: 9.4 | T36: 1311 | U36: Temperate | V36: 89 | W36: / | X36: Peatland (bog) | Y36: ombrotrophic | Z36: overall | AA36: seasonally | AB36: Sphagnum mosses | AC36: Peat moss | AD36: 2009/02-2009/12 | AE36: Annual | AF36: dry | AG36: monthly | AH36: Field, Chamber | AI36: kg ha-1 yr-1 | AJ36: 0.7 | AK36: / | AL36: 3 | AM36: 0.8 | AN36: / | AO36: 3 | AP36: kg ha-1 GS-1 | AQ36: =AJ36-AX36 -> 0.69344515 | AR36: / | AS36: 3 | AT36: =AM36-BA36 -> 0.78899761 | AU36: / | AV36: / | AW36: kg ha-1 NGS-1 | AX36: 0.0065548499 | AY36: 0.0035308143 | AZ36: 3 | BA36: 0.011002392 | BB36: 0.0019711663 | BC36: 3 | BE36: =AQ36/AJ36 -> 0.99063593 | BG36: =AZ36 -> 3 | BH36: =AT36/AM36 -> 0.98624701 | BJ36: =BC36 -> 3 | BL36: 0.49152542 | BM36: 0.97035416 | BN36: 6 | BO36: 0.50847458 | BP36: 1.1296542 | BQ36: 6 | BR36: Yamulki et al. 2013. Soil CO2 CH4 and N2O fluxes from an afforested lowland raised peatbog in Scotland: implications for drainage and restoration
A37: 36 | B37: Cao et al. 2018 | C37: Low drainage | D37: Grassland | E37: Temperate | F37: Marsh | G37: minerotrophic | H37: overall | I37: seasonally | J37: Scirpus pumilus, Blysmus sinocompressus, Carex muliensis, Kobresia humilis | K37: Cyperaceae | L37: 0.3-10.0 | M37: 0 | N37: 0 | O37: China | P37: 32.8 | Q37: 102.55 | R37: 3500 | S37: 1.7 | T37: 756 | U37: Temperate | V37: 4-month | W37: / | X37: Marsh | Y37: minerotrophic | Z37: overall | AA37: seasonally | AB37: Scirpus pumilus, Blysmus sinocompressus, Carex muliensis, Kobresia humilis | AC37: Cyperaceae | AD37: 2013/08-2016/12 | AE37: Annual | AF37: / | AG37: monthly | AH37: Field, Chamber | AI37: kg ha-1 yr-1 | AJ37: 1.3785047 | AK37: 1.0301592 | AL37: 6 | AM37: 3.2242991 | AN37: 3.5483263 | AO37: 6 | AP37: kg ha-1 GS-1 | AQ37: =AJ37-AX37 -> 0.67757009 | AR37: =SQRT(AK37^2+AY37^2) -> 1.2380973 | AS37: 3 | AT37: =AM37-BA37 -> 2.0093458 | AU37: =SQRT(AN37^2+BB37^2) -> 3.7283746 | AV37: / | AW37: kg ha-1 NGS-1 | AX37: 0.70093458 | AY37: 0.68677283 | AZ37: 6 | BA37: 1.2149533 | BB37: 1.1446214 | BC37: 6 | BE37: =AQ37/AJ37 -> 0.49152542 | BF37: =SQRT((1/AJ37)^2*AR37^2+((-AQ37/AJ37^2)^2*AK37^2)) -> 0.97035416 | BG37: =AZ37 -> 6 | BH37: =AT37/AM37 -> 0.62318841 | BI37: =SQRT((1/AM37)^2*AU37^2+((-AT37/AM37^2)^2*AN37^2)) -> 1.3444172 | BJ37: =BC37 -> 6 | BL37: =AX37/AJ37 -> 0.50847458 | BM37: =SQRT((1/AJ37)^2*AY37^2+((-AX37/AJ37^2)^2*AK37^2)) -> 0.62657195 | BN37: 6 | BO37: =BA37/AM37 -> 0.37681159 | BP37: =SQRT((1/AM37)^2*BB37^2+((-BA37/AM37^2)^2*AN37^2)) -> 0.54587816 | BQ37: 4 | BR37: Cao et al. 2018. The effect of drainage on CO2, CH4 and N2O emissions in the Zoige peatland: a 40-month in situ study
A38: 37 | B38: Cao et al. 2018 | C38: High drainage | D38: Grassland | E38: Temperate | F38: Marsh | G38: minerotrophic | H38: overall | I38: seasonally | J38: Scirpus pumilus, Blysmus sinocompressus, Carex muliensis, Kobresia humilis | K38: Cyperaceae | L38: 0.3-10.0 | M38: 0 | N38: 0 | O38: China | P38: 32.8 | Q38: 102.55 | R38: 3500 | S38: 1.7 | T38: 756 | U38: Temperate | V38: 4-month | W38: / | X38: Marsh | Y38: minerotrophic | Z38: overall | AA38: seasonally | AB38: Scirpus pumilus, Blysmus sinocompressus, Carex muliensis, Kobresia humilis | AC38: Cyperaceae | AD38: 2013/08-2016/12 | AE38: Annual | AF38: / | AG38: monthly | AH38: Field, Chamber | AI38: kg ha-1 yr-1 | AJ38: 1.3785047 | AK38: 1.0301592 | AL38: 6 | AM38: 2.8037383 | AN38: 2.518167 | AO38: 6 | AP38: kg ha-1 GS-1 | AQ38: =AJ38-AX38 -> 0.67757009 | AR38: =SQRT(AK38^2+AY38^2) -> 1.2380973 | AS38: 3 | AT38: =AM38-BA38 -> 1.4953271 | AU38: =SQRT(AN38^2+BB38^2) -> 2.8684129 | AV38: / | AW38: kg ha-1 NGS-1 | AX38: 0.70093458 | AY38: 0.68677283 | AZ38: 6 | BA38: 1.3084112 | BB38: 1.3735457 | BC38: 6 | BE38: =AQ38/AJ38 -> 0.49152542 | BF38: =SQRT((1/AJ38)^2*AR38^2+((-AQ38/AJ38^2)^2*AK38^2)) -> 0.97035416 | BG38: =AZ38 -> 6 | BH38: =AT38/AM38 -> 0.53333333 | BI38: =SQRT((1/AM38)^2*AU38^2+((-AT38/AM38^2)^2*AN38^2)) -> 1.1296542 | BJ38: =BC38 -> 6 | BL38: =AX38/AJ38 -> 0.50847458 | BM38: =SQRT((1/AJ38)^2*AY38^2+((-AX38/AJ38^2)^2*AK38^2)) -> 0.62657195 | BN38: 6 | BO38: =BA38/AM38 -> 0.46666667 | BP38: =SQRT((1/AM38)^2*BB38^2+((-BA38/AM38^2)^2*AN38^2)) -> 0.64472791 | BQ38: 4 | BR38: Cao et al. 2018. The effect of drainage on CO2, CH4 and N2O emissions in the Zoige peatland: a 40-month in situ study
A39: 38 | B39: Mojeremane et al. 2012 | C39: Drainage | D39: Forestry | E39: Temperate | F39: Swamp | G39: / | H39: overall | I39: seasonally | J39: Festuca ovina, Deschampsia flexusosa | K39: Graminoid | L39: 0.15-0.40 | M39: 0 | N39: 0 | O39: UK | P39: 55.167 | Q39: -2.05 | R39: 300 | S39: 7.6 | T39: 950 | U39: Temperate | V39: 2-month | W39: / | X39: Swamp | Y39: / | Z39: overall | AA39: seasonally | AB39: Festuca ovina, Deschampsia flexusosa | AC39: Graminoid | AD39: 2006/06-2007/06 | AE39: Annual | AF39: / | AG39: monthly | AH39: Field, Chamber | AI39: kg ha-1 yr-1 | AJ39: =1.46*44/28 -> 2.2942857 | AK39: =0.32*SQRT(3)*44/28 -> 0.87097412 | AL39: 3 | AM39: =1.37*44/28 -> 2.1528571 | AN39: =0.3*SQRT(3)*44/28 -> 0.81653824 | AO39: 3 | AP39: kg ha-1 GS-1 | AQ39: =AJ39-AX39 -> 1.9819032 | AR39: =SQRT(AK39^2+AY39^2) -> 0.87773171 | AS39: 3 | AT39: =AM39-BA39 -> 1.9151631 | AU39: =SQRT(AN39^2+BB39^2) -> 0.81963972 | AV39: / | AW39: kg ha-1 NGS-1 | AX39: 0.31238252 | AY39: 0.10870623 | AZ39: 3 | BA39: 0.23769409 | BB39: 0.071236112 | BC39: 3 | BE39: =AQ39/AJ39 -> 0.86384324 | BF39: =SQRT((1/AJ39)^2*AR39^2+((-AQ39/AJ39^2)^2*AK39^2)) -> 0.50389074 | BG39: =AZ39 -> 3 | BH39: =AT39/AM39 -> 0.88959133 | BI39: =SQRT((1/AM39)^2*AU39^2+((-AT39/AM39^2)^2*AN39^2)) -> 0.50871547 | BJ39: =BC39 -> 3 | BL39: -0.89312977 | BN39: 3 | BO39: 1.8931298 | BR39: Mojeremane et al. 2012. The effects of site preparation practices on carbon dioxide, methane and nitrous oxide fluxes from a peaty gley soil
A40: 39 | B40: Mojeremane et al. 2012 | C40: Drainage | D40: Forestry | E40: Temperate | F40: Swamp | G40: / | H40: overall | I40: seasonally | J40: Festuca ovina, Deschampsia flexusosa | K40: Graminoid | L40: 0.15-0.40 | M40: 0 | N40: 0 | O40: UK | P40: 55.167 | Q40: -2.05 | R40: 300 | S40: 7.6 | T40: 950 | U40: Temperate | V40: 2-month | W40: / | X40: Swamp | Y40: / | Z40: overall | AA40: seasonally | AB40: Festuca ovina, Deschampsia flexusosa | AC40: Graminoid | AD40: 2007/06-2008/06 | AE40: Annual | AF40: / | AG40: monthly | AH40: Field, Chamber | AI40: kg ha-1 yr-1 | AJ40: =0.22*44/28 -> 0.34571429 | AK40: =0.04*SQRT(3)*44/28 -> 0.10887177 | AL40: 3 | AM40: =0.19*44/28 -> 0.29857143 | AN40: =0.03*SQRT(3)*44/28 -> 0.081653824 | AO40: 3 | AP40: kg ha-1 GS-1 | AQ40: =AJ40-AX40 -> 0.026643849 | AR40: =SQRT(AK40^2+AY40^2) -> 0.14120905 | AS40: 3 | AT40: =AM40-BA40 -> 0.048564231 | AU40: =SQRT(AN40^2+BB40^2) -> 0.11419643 | AV40: / | AW40: kg ha-1 NGS-1 | AX40: 0.31907044 | AY40: 0.089927379 | AZ40: 3 | BA40: 0.2500072 | BB40: 0.079834059 | BC40: 3 | BE40: =AQ40/AJ40 -> 0.077068984 | BF40: =SQRT((1/AJ40)^2*AR40^2+((-AQ40/AJ40^2)^2*AK40^2)) -> 0.40917636 | BG40: =AZ40 -> 3 | BH40: =AT40/AM40 -> 0.16265532 | BI40: =SQRT((1/AM40)^2*AU40^2+((-AT40/AM40^2)^2*AN40^2)) -> 0.38505416 | BJ40: =BC40 -> 3 | BL40: 1.0034602 | BN40: 3 | BO40: -0.0034602076 | BR40: Mojeremane et al. 2012. The effects of site preparation practices on carbon dioxide, methane and nitrous oxide fluxes from a peaty gley soil
...

Sheet Wet season flux for tropical
A1: ID | B1: References | C1: Drainage (treatment) | D1: Purpose | E1: Climatic conditions | F1: Wetland type | G1: Nutrient supply type | H1: Microtopography | I1: Permanently/seasonally flooded | J1: Dominant plant species in prestine wetland | K1: Function group | L1: Peat depth (m) in pristine wetland | M1: N rate (kg N ha-1) in drained wetland | N1: Biomass/manure application (t ha-1) in drained wetland | O1: Country | P1: Latitude (°, N) | Q1: Longitude (°, E) | R1: Latitude (°, N) | S1: Longitude (°, E) | T1: Altitude (m) | U1: MAT ( °C) | V1: MAP (mm) | W1: Climatic conditions | X1: Drainage duration (years) | Y1: Drainage intensity | Z1: Wetland type | AA1: Nutrient supply type | AB1: Microtopography | AC1: Permanently/seasonally flooded | AD1: Dominant plant species in prestine wetland | AE1: Function group | AF1: Measurement period | AG1: Season | AH1: Dry/wet | AI1: Measurement frequency | AJ1: Method | AK1: Annual soil N2O flux | AL1: Control | AM1: SD | AN1: n | AO1: Treatment | AP1: SD | AQ1: n | AR1: Wet season soil N2O flux | AS1: Control | AT1: SD | AU1: n | AV1: Treatment | AW1: SD | AX1: n | AY1: Ratio of wet season to annual | AZ1: Control | BA1: SD | BB1: n | BC1: Treatment | BD1: SD | BE1: n | BF1: References
A2: 1 | B2: Takakai et al. 2006 | C2: Drainage | D2: Grassland | E2: Tropical | F2: Swamp | G2: / | H2: overall | I2: / | J2: Forest | K2: Forest | L2: 3.50-4.85 | M2: 0 | N2: 0 | O2: Indonesia | P2: -2.35 | Q2: 114.033 | R2: 2°21′S | S2: 114°02′ | T2: / | U2: 25.6 | V2: 1994 | W2: Tropical | X2: / | Y2: / | Z2: Swamp | AA2: / | AB2: overall | AC2: / | AD2: Forest | AE2: Forest | AF2: 2003/04-2004/04 | AG2: Annual | AH2: / | AI2: monthly | AJ2: Field, Chamber | AK2: kg ha-1 yr-1 | AL2: =4.4*44/28 -> 6.9142857 | AM2: =1.2*44/28 -> 1.8857143 | AN2: 4 | AO2: =23*44/28 -> 36.142857 | AP2: =9.8*44/28 -> 15.4 | AQ2: 4 | AR2: kg ha-1 wet season-1 | AS2: =49*44/28*10^4*24*("2002-12-31"-"2002-11-1"+"2003-5-31"-"2003-1-1")/10^9 -> 3.8808 | AT2: =63/SQRT(13)*44/28*10^4*24*("2002-12-31"-"2002-11-1"+"2003-5-31"-"2003-1-1")/10^9 -> 1.383866 | AU2: 4 | AV2: =257*44/28*10^4*24*("2002-12-31"-"2002-11-1"+"2003-5-31"-"2003-1-1")/10^9 -> 20.3544 | AW2: =335/SQRT(13)*44/28*10^4*24*("2002-12-31"-"2002-11-1"+"2003-5-31"-"2003-1-1")/10^9 -> 7.3586528 | AX2: 4 | AZ2: =AS2/AL2 -> 0.56127273 | BA2: / | BB2: =AN2 -> 4 | BC2: =AV2/AO2 -> 0.56316522 | BD2: / | BE2: =AQ2 -> 4 | BF2: Takakai et al. 2006. Effects of agricultural land-use change and forest fire on N2O emission from tropical peatlands, Central Kalimantan, Indonesia
A3: 2 | B3: Melling et al. 2007 | C3: Drainage | D3: Cropland | E3: Tropical | F3: Swamp | G3: / | H3: overall | I3: / | J3: Forest | K3: Forest | L3: 4.8 | M3: 0 | N3: 0 | O3: Malaysia | P3: 2.817 | Q3: 111.85 | R3: 2°49′ | S3: 111°51′ | T3: / | U3: 27.4 | V3: / | W3: Tropical | X3: / | Y3: / | Z3: Swamp | AA3: / | AB3: overall | AC3: / | AD3: Forest | AE3: Forest | AF3: 2002/08-2003-07 | AG3: Annual | AH3: / | AI3: monthly | AJ3: Field, Chamber | AK3: kg ha-1 yr-1 | AL3: =0.7*44/28 -> 1.1 | AM3: / | AN3: / | AO3: / | AP3: / | AQ3: / | AR3: kg ha-1 wet season-1 | AS3: =8.4*44/28*10^4*24*(((("2002-12-31"-"2002-12-1")+("2003-2-28"-"2003-1-1")))/10^9) -> 0.278784 | AT3: / | AU3: / | AV3: / | AW3: / | AX3: / | AZ3: =AS3/AL3 -> 0.25344 | BA3: =SQRT((1/AL3)^2*AT3^2+((-AS3/AL3^2)^2*AM3^2))*100 -> #VALUE! | BB3: =AU3 -> / | BC3: =AV3/AO3 -> #VALUE! | BD3: =SQRT((1/AO3)^2*AW3^2+((-AV3/AO3^2)^2*AP3^2))*100 -> #VALUE! | BE3: =AX3 -> / | BF3: Melling et al. 2007. Nitrous oxide emissions from three ecosystems in tropical peatland of Sarawak, Malaysia
AZ4: =STDEVA(AZ2:AZ3)/SQRT(COUNT(AZ2:AZ3))*1.96 -> 0.30167607

Sheet Classess
B1: Purposes | C1: Climate | D1: Wetland type | E1: Nutrirnt type | F1: Microtopography | G1: Permanently/seasonally flooded | H1: Function group | I1: Mean ratio of GS or wet season CH4 to annual flux | J1: SD | K1: Number of data-points | L1: Lower 95% CI | M1: Upper 95% CI
A2: Pristine | B2: Pristine | C2: Temperate | D2: Swamp | E2: / | F2: overall | G2: seasonally | H2: Forest | I2: =AVERAGEA('Nongrowing season flux of other'!BE39,'Nongrowing season flux of other'!BE40) -> 0.47045611 | J2: =STDEVA('Nongrowing season flux of other'!BE39,'Nongrowing season flux of other'!BE40)/SQRT(COUNT('Nongrowing season flux of other'!BE39,'Nongrowing season flux of other'!BE40))*1.96 -> 0.77103877 | K2: =COUNT('Nongrowing season flux of other'!BE39,'Nongrowing season flux of other'!BE40) -> 2 | L2: =I2-J2 -> -0.30058266 | M2: =I2+J2 -> 1.2414949
A3: Drainage | B3: Cropland | C3: Temperate | D3: Swamp | E3: / | F3: overall | G3: seasonally | H3: Forest | I3: =AVERAGEA('Nongrowing season flux of other'!BH36) -> 0.98624701 | K3: 1 | L3: =I3-J3 -> 0.98624701 | M3: =I3+J3 -> 0.98624701
A4: Pristine | B4: Pristine | C4: Temperate | D4: Peatland (bog) | E4: minerotrophic | F4: overall | G4: seasonally | H4: / | I4: =AVERAGEA('Nongrowing season flux of other'!BE2,'Nongrowing season flux of other'!BE29,'Nongrowing season flux of other'!BE32,'Nongrowing season flux of other'!BE37,'Nongrowing season flux of other'!BE39,'Nongrowing season flux of other'!BE40,'Nongrowing season flux of other'!BE45,'Nongrowing season flux of other'!BE46,'Nongrowing season flux of other'!BE50,'Nongrowing season flux of other'!BE51,'Nongrowing season flux of other'!BE52,'Nongrowing season flux of other'!BE58,'Nongrowing season flux of other'!BE59) -> 0.76949157 | J4: =STDEVA('Nongrowing season flux of other'!BE2,'Nongrowing season flux of other'!BE29,'Nongrowing season flux of other'!BE32,'Nongrowing season flux of other'!BE37,'Nongrowing season flux of other'!BE39,'Nongrowing season flux of other'!BE40,'Nongrowing season flux of other'!BE45,'Nongrowing season flux of other'!BE46,'Nongrowing season flux of other'!BE50,'Nongrowing season flux of other'!BE51,'Nongrowing season flux of other'!BE52,'Nongrowing season flux of other'!BE58,'Nongrowing season flux of other'!BE59)/SQRT(COUNT('Nongrowing season flux of other'!BE2,'Nongrowing season flux of other'!BE29,'Nongrowing season flux of other'!BE32,'Nongrowing season flux of other'!BE37,'Nongrowing season flux of other'!BE39,'Nongrowing season flux of other'!BE40,'Nongrowing season flux of other'!BE45,'Nongrowing season flux of other'!BE46,'Nongrowing season flux of other'!BE50,'Nongrowing season flux of other'!BE51,'Nongrowing season flux of other'!BE52,'Nongrowing season flux of other'!BE58,'Nongrowing season flux of other'!BE59))*1.96 -> 2.2391159 | K4: =COUNT('Nongrowing season flux of other'!BE2,'Nongrowing season flux of other'!BE29,'Nongrowing season flux of other'!BE32,'Nongrowing season flux of other'!BE37,'Nongrowing season flux of other'!BE39,'Nongrowing season flux of other'!BE40,'Nongrowing season flux of other'!BE45,'Nongrowing season flux of other'!BE46,'Nongrowing season flux of other'!BE50,'Nongrowing season flux of other'!BE51,'Nongrowing season flux of other'!BE52,'Nongrowing season flux of other'!BE58,'Nongrowing season flux of other'!BE59) -> 13 | L4: =I4-J4 -> -1.4696243 | M4: =I4+J4 -> 3.0086075
