Workbook

Sheet 2014
A1: 2014 West Virginia Deaths
A2: Drug Overdose Deaths by County
A4: County | B4: Estimated Population | C4: Number of Resident Drug Overdose Deaths | D4: Rate per 100,000 Population | E4: Rank | F4: Number of Occurrence Drug Overdose Deaths | G4: Estimated Male Population | H4: Number of Male Resident Drug Overdose Deaths | I4: Rate per 100,000 Males | J4: Rank | K4: Number of Male Occurrence Drug Overdose Deaths | L4: Estimated Female Population | M4: Number of Female Resident Drug Overdose Deaths | N4: Rate per 100,000 Females | O4: Rank | P4: Number of Female Occurrence Drug Overdose Deaths
A5: Barbour | B5: 16902 | C5: 1 | D5: =(C5/B5)*100000 -> 5.9164596 | E5: =RANK(D5,D5:D59) -> 49 | F5: 1 | G5: 8237 | H5: 0 | I5: =(H5/G5)*100000 -> 0 | K5: 0 | L5: =B5-G5 -> 8665 | M5: =C5-H5 -> 1 | N5: =(M5/L5)*100000 -> 11.540681 | O5: =RANK(N5,N5:N59) -> 36 | P5: =F5-K5 -> 1
A6: Berkeley | B6: 110026 | C6: 46 | D6: =(C6/B6)*100000 -> 41.8083 | E6: =RANK(D6,D5:D59) -> 13 | F6: 47 | G6: 54321 | H6: 28 | I6: =(H6/G6)*100000 -> 51.545443 | J6: =RANK(I6,I5:I59) -> 15 | K6: 29 | L6: =B6-G6 -> 55705 | M6: =C6-H6 -> 18 | N6: =(M6/L6)*100000 -> 32.313078 | O6: =RANK(N6,N5:N59) -> 16 | P6: =F6-K6 -> 18
A7: Boone | B7: 23708 | C7: 24 | D7: =(C7/B7)*100000 -> 101.23165 | E7: =RANK(D7,D5:D59) -> 1 | F7: 22 | G7: 11801 | H7: 18 | I7: =(H7/G7)*100000 -> 152.52945 | J7: =RANK(I7,I5:I59) -> 1 | K7: 16 | L7: =B7-G7 -> 11907 | M7: =C7-H7 -> 6 | N7: =(M7/L7)*100000 -> 50.390527 | O7: =RANK(N7,N5:N59) -> 4 | P7: =F7-K7 -> 6
A8: Braxton | B8: 14400 | C8: 2 | D8: =(C8/B8)*100000 -> 13.888889 | E8: =RANK(D8,D5:D59) -> 37 | F8: 3 | G8: 7274 | H8: 1 | I8: =(H8/G8)*100000 -> 13.747594 | J8: =RANK(I8,I5:I59) -> 41 | K8: 2 | L8: =B8-G8 -> 7126 | M8: =C8-H8 -> 1 | N8: =(M8/L8)*100000 -> 14.033118 | O8: =RANK(N8,N5:N59) -> 33 | P8: =F8-K8 -> 1
A9: Brooke | B9: 23382 | C9: 10 | D9: =(C9/B9)*100000 -> 42.767941 | E9: =RANK(D9,D5:D59) -> 12 | F9: 14 | G9: 11452 | H9: 6 | I9: =(H9/G9)*100000 -> 52.392595 | J9: =RANK(I9,I5:I59) -> 14 | K9: 9 | L9: =B9-G9 -> 11930 | M9: =C9-H9 -> 4 | N9: =(M9/L9)*100000 -> 33.528919 | O9: =RANK(N9,N5:N59) -> 15 | P9: =F9-K9 -> 5
A10: Cabell | B10: 96514 | C10: 50 | D10: =(C10/B10)*100000 -> 51.805956 | E10: =RANK(D10,D5:D59) -> 7 | F10: 70 | G10: 47077 | H10: 28 | I10: =(H10/G10)*100000 -> 59.477027 | J10: =RANK(I10,I5:I59) -> 11 | K10: 41 | L10: =B10-G10 -> 49437 | M10: =C10-H10 -> 22 | N10: =(M10/L10)*100000 -> 44.501082 | O10: =RANK(N10,N5:N59) -> 7 | P10: =F10-K10 -> 29
A11: Calhoun | B11: 7559 | C11: 2 | D11: =(C11/B11)*100000 -> 26.458526 | E11: =RANK(D11,D5:D59) -> 23 | F11: 2 | G11: 3785 | H11: 1 | I11: =(H11/G11)*100000 -> 26.420079 | J11: =RANK(I11,I5:I59) -> 31 | K11: 1 | L11: =B11-G11 -> 3774 | M11: =C11-H11 -> 1 | N11: =(M11/L11)*100000 -> 26.497085 | O11: =RANK(N11,N5:N59) -> 19 | P11: =F11-K11 -> 1
A12: Clay | B12: 8882 | C12: 2 | D12: =(C12/B12)*100000 -> 22.517451 | E12: =RANK(D12,D5:D59) -> 29 | F12: 1 | G12: 4444 | H12: 2 | I12: =(H12/G12)*100000 -> 45.0045 | J12: =RANK(I12,I5:I59) -> 18 | K12: 1 | L12: =B12-G12 -> 4438 | M12: =C12-H12 -> 0 | N12: =(M12/L12)*100000 -> 0 | P12: =F12-K12 -> 0
A13: Doddridge | B13: 8467 | C13: 1 | D13: =(C13/B13)*100000 -> 11.810559 | E13: =RANK(D13,D5:D59) -> 43 | F13: 0 | G13: 4580 | H13: 1 | I13: =(H13/G13)*100000 -> 21.834061 | J13: =RANK(I13,I5:I59) -> 36 | K13: 0 | L13: =B13-G13 -> 3887 | M13: =C13-H13 -> 0 | N13: =(M13/L13)*100000 -> 0 | P13: =F13-K13 -> 0
A14: Fayette | B14: 45152 | C14: 17 | D14: =(C14/B14)*100000 -> 37.650602 | E14: =RANK(D14,D5:D59) -> 17 | F14: 17 | G14: 22737 | H14: 9 | I14: =(H14/G14)*100000 -> 39.583058 | J14: =RANK(I14,I5:I59) -> 22 | K14: 9 | L14: =B14-G14 -> 22415 | M14: =C14-H14 -> 8 | N14: =(M14/L14)*100000 -> 35.690386 | O14: =RANK(N14,N5:N59) -> 13 | P14: =F14-K14 -> 8
A15: Gilmer | B15: 8489 | C15: 0 | D15: =(C15/B15)*100000 -> 0 | F15: 0 | G15: 5098 | H15: 0 | I15: =(H15/G15)*100000 -> 0 | K15: 0 | L15: =B15-G15 -> 3391 | M15: =C15-H15 -> 0 | N15: =(M15/L15)*100000 -> 0 | P15: =F15-K15 -> 0
A16: Grant | B16: 11632 | C16: 0 | D16: =(C16/B16)*100000 -> 0 | F16: 0 | G16: 5815 | H16: 0 | I16: =(H16/G16)*100000 -> 0 | K16: 0 | L16: =B16-G16 -> 5817 | M16: =C16-H16 -> 0 | N16: =(M16/L16)*100000 -> 0 | P16: =F16-K16 -> 0
A17: Greenbrier | B17: 35522 | C17: 12 | D17: =(C17/B17)*100000 -> 33.781882 | E17: =RANK(D17,D5:D59) -> 19 | F17: 11 | G17: 17328 | H17: 7 | I17: =(H17/G17)*100000 -> 40.397045 | J17: =RANK(I17,I5:I59) -> 20 | K17: 6 | L17: =B17-G17 -> 18194 | M17: =C17-H17 -> 5 | N17: =(M17/L17)*100000 -> 27.481587 | O17: =RANK(N17,N5:N59) -> 18 | P17: =F17-K17 -> 5
A18: Hampshire | B18: 23439 | C18: 6 | D18: =(C18/B18)*100000 -> 25.598362 | E18: =RANK(D18,D5:D59) -> 25 | F18: 9 | G18: 11905 | H18: 3 | I18: =(H18/G18)*100000 -> 25.199496 | J18: =RANK(I18,I5:I59) -> 32 | K18: 5 | L18: =B18-G18 -> 11534 | M18: =C18-H18 -> 3 | N18: =(M18/L18)*100000 -> 26.010057 | O18: =RANK(N18,N5:N59) -> 20 | P18: =F18-K18 -> 4
A19: Hancock | B19: 30228 | C19: 18 | D19: =(C19/B19)*100000 -> 59.547439 | E19: =RANK(D19,D5:D59) -> 6 | F19: 7 | G19: 14674 | H19: 12 | I19: =(H19/G19)*100000 -> 81.777293 | J19: =RANK(I19,I5:I59) -> 5 | K19: 5 | L19: =B19-G19 -> 15554 | M19: =C19-H19 -> 6 | N19: =(M19/L19)*100000 -> 38.575286 | O19: =RANK(N19,N5:N59) -> 9 | P19: =F19-K19 -> 2
A20: Hardy | B20: 13915 | C20: 1 | D20: =(C20/B20)*100000 -> 7.1864894 | E20: =RANK(D20,D5:D59) -> 48 | F20: 1 | G20: 7000 | H20: 0 | I20: =(H20/G20)*100000 -> 0 | K20: 0 | L20: =B20-G20 -> 6915 | M20: =C20-H20 -> 1 | N20: =(M20/L20)*100000 -> 14.461316 | O20: =RANK(N20,N5:N59) -> 30 | P20: =F20-K20 -> 1
A21: Harrison | B21: 68671 | C21: 20 | D21: =(C21/B21)*100000 -> 29.124376 | E21: =RANK(D21,D5:D59) -> 21 | F21: 17 | G21: 33660 | H21: 15 | I21: =(H21/G21)*100000 -> 44.56328 | J21: =RANK(I21,I5:I59) -> 19 | K21: 11 | L21: =B21-G21 -> 35011 | M21: =C21-H21 -> 5 | N21: =(M21/L21)*100000 -> 14.281226 | O21: =RANK(N21,N5:N59) -> 31 | P21: =F21-K21 -> 6
A22: Jackson | B22: 29126 | C22: 6 | D22: =(C22/B22)*100000 -> 20.600151 | E22: =RANK(D22,D5:D59) -> 31 | F22: 5 | G22: 14389 | H22: 3 | I22: =(H22/G22)*100000 -> 20.84926 | J22: =RANK(I22,I5:I59) -> 37 | K22: 3 | L22: =B22-G22 -> 14737 | M22: =C22-H22 -> 3 | N22: =(M22/L22)*100000 -> 20.356925 | O22: =RANK(N22,N5:N59) -> 24 | P22: =F22-K22 -> 2
A23: Jefferson | B23: 55448 | C23: 12 | D23: =(C23/B23)*100000 -> 21.641899 | E23: =RANK(D23,D5:D59) -> 30 | F23: 11 | G23: 27375 | H23: 9 | I23: =(H23/G23)*100000 -> 32.876712 | J23: =RANK(I23,I5:I59) -> 28 | K23: 9 | L23: =B23-G23 -> 28073 | M23: =C23-H23 -> 3 | N23: =(M23/L23)*100000 -> 10.686425 | O23: =RANK(N23,N5:N59) -> 37 | P23: =F23-K23 -> 2
A24: Kanawha | B24: 190212 | C24: 79 | D24: =(C24/B24)*100000 -> 41.532606 | E24: =RANK(D24,D5:D59) -> 14 | F24: 85 | G24: 91666 | H24: 57 | I24: =(H24/G24)*100000 -> 62.18227 | J24: =RANK(I24,I5:I59) -> 10 | K24: 61 | L24: =B24-G24 -> 98546 | M24: =C24-H24 -> 22 | N24: =(M24/L24)*100000 -> 22.3246 | O24: =RANK(N24,N5:N59) -> 22 | P24: =F24-K24 -> 24
A25: Lewis | B25: 16438 | C25: 0 | D25: =(C25/B25)*100000 -> 0 | F25: 0 | G25: 8124 | H25: 0 | I25: =(H25/G25)*100000 -> 0 | K25: 0 | L25: =B25-G25 -> 8314 | M25: =C25-H25 -> 0 | N25: =(M25/L25)*100000 -> 0 | P25: =F25-K25 -> 0
A26: Lincoln | B26: 21532 | C26: 10 | D26: =(C26/B26)*100000 -> 46.442504 | E26: =RANK(D26,D5:D59) -> 9 | F26: 9 | G26: 10711 | H26: 8 | I26: =(H26/G26)*100000 -> 74.689571 | J26: =RANK(I26,I5:I59) -> 7 | K26: 7 | L26: =B26-G26 -> 10821 | M26: =C26-H26 -> 2 | N26: =(M26/L26)*100000 -> 18.48258 | O26: =RANK(N26,N5:N59) -> 26 | P26: =F26-K26 -> 2
A27: Logan | B27: 35235 | C27: 21 | D27: =(C27/B27)*100000 -> 59.59983 | E27: =RANK(D27,D5:D59) -> 5 | F27: 21 | G27: 17378 | H27: 13 | I27: =(H27/G27)*100000 -> 74.807228 | J27: =RANK(I27,I5:I59) -> 6 | K27: 11 | L27: =B27-G27 -> 17857 | M27: =C27-H27 -> 8 | N27: =(M27/L27)*100000 -> 44.800358 | O27: =RANK(N27,N5:N59) -> 6 | P27: =F27-K27 -> 10
A28: McDowell | B28: 20329 | C28: 8 | D28: =(C28/B28)*100000 -> 39.352649 | E28: =RANK(D28,D5:D59) -> 15 | F28: 7 | G28: 9978 | H28: 4 | I28: =(H28/G28)*100000 -> 40.088194 | J28: =RANK(I28,I5:I59) -> 21 | K28: 4 | L28: =B28-G28 -> 10351 | M28: =C28-H28 -> 4 | N28: =(M28/L28)*100000 -> 38.643609 | O28: =RANK(N28,N5:N59) -> 8 | P28: =F28-K28 -> 3
A29: Marion | B29: 56722 | C29: 7 | D29: =(C29/B29)*100000 -> 12.340891 | E29: =RANK(D29,D5:D59) -> 42 | F29: 4 | G29: 27895 | H29: 5 | I29: =(H29/G29)*100000 -> 17.924359 | J29: =RANK(I29,I5:I59) -> 40 | K29: 3 | L29: =B29-G29 -> 28827 | M29: =C29-H29 -> 2 | N29: =(M29/L29)*100000 -> 6.9379401 | O29: =RANK(N29,N5:N59) -> 40 | P29: =F29-K29 -> 1
A30: Marshall | B30: 32332 | C30: 6 | D30: =(C30/B30)*100000 -> 18.557466 | E30: =RANK(D30,D5:D59) -> 32 | F30: 4 | G30: 15874 | H30: 3 | I30: =(H30/G30)*100000 -> 18.898828 | J30: =RANK(I30,I5:I59) -> 39 | K30: 3 | L30: =B30-G30 -> 16458 | M30: =C30-H30 -> 3 | N30: =(M30/L30)*100000 -> 18.228217 | O30: =RANK(N30,N5:N59) -> 28 | P30: =F30-K30 -> 1
A31: Mason | B31: 27121 | C31: 12 | D31: =(C31/B31)*100000 -> 44.246156 | E31: =RANK(D31,D5:D59) -> 11 | F31: 8 | G31: 13065 | H31: 7 | I31: =(H31/G31)*100000 -> 53.578263 | J31: =RANK(I31,I5:I59) -> 13 | K31: 5 | L31: =B31-G31 -> 14056 | M31: =C31-H31 -> 5 | N31: =(M31/L31)*100000 -> 35.571998 | O31: =RANK(N31,N5:N59) -> 14 | P31: =F31-K31 -> 3
A32: Mercer | B32: 61686 | C32: 44 | D32: =(C32/B32)*100000 -> 71.328989 | E32: =RANK(D32,D5:D59) -> 4 | F32: 49 | G32: 29554 | H32: 28 | I32: =(H32/G32)*100000 -> 94.741829 | J32: =RANK(I32,I5:I59) -> 4 | K32: 32 | L32: =B32-G32 -> 32132 | M32: =C32-H32 -> 16 | N32: =(M32/L32)*100000 -> 49.794597 | O32: =RANK(N32,N5:N59) -> 5 | P32: =F32-K32 -> 17
A33: Mineral | B33: 27531 | C33: 2 | D33: =(C33/B33)*100000 -> 7.2645382 | E33: =RANK(D33,D5:D59) -> 47 | F33: 2 | G33: 13703 | H33: 1 | I33: =(H33/G33)*100000 -> 7.297672 | J33: =RANK(I33,I5:I59) -> 43 | K33: 0 | L33: =B33-G33 -> 13828 | M33: =C33-H33 -> 1 | N33: =(M33/L33)*100000 -> 7.2317038 | O33: =RANK(N33,N5:N59) -> 39 | P33: =F33-K33 -> 2
A34: Mingo | B34: 25696 | C34: 26 | D34: =(C34/B34)*100000 -> 101.18306 | E34: =RANK(D34,D5:D59) -> 2 | F34: 25 | G34: 12642 | H34: 15 | I34: =(H34/G34)*100000 -> 118.65211 | J34: =RANK(I34,I5:I59) -> 2 | K34: 16 | L34: =B34-G34 -> 13054 | M34: =C34-H34 -> 11 | N34: =(M34/L34)*100000 -> 84.265359 | O34: =RANK(N34,N5:N59) -> 1 | P34: =F34-K34 -> 9
A35: Monongalia | B35: 102951 | C35: 14 | D35: =(C35/B35)*100000 -> 13.598702 | E35: =RANK(D35,D5:D59) -> 40 | F35: 21 | G35: 53044 | H35: 7 | I35: =(H35/G35)*100000 -> 13.196592 | J35: =RANK(I35,I5:I59) -> 42 | K35: 14 | L35: =B35-G35 -> 49907 | M35: =C35-H35 -> 7 | N35: =(M35/L35)*100000 -> 14.026089 | O35: =RANK(N35,N5:N59) -> 34 | P35: =F35-K35 -> 7
A36: Monroe | B36: 13609 | C36: 2 | D36: =(C36/B36)*100000 -> 14.696157 | E36: =RANK(D36,D5:D59) -> 36 | F36: 1 | G36: 6773 | H36: 2 | I36: =(H36/G36)*100000 -> 29.529012 | J36: =RANK(I36,I5:I59) -> 29 | K36: 1 | L36: =B36-G36 -> 6836 | M36: =C36-H36 -> 0 | N36: =(M36/L36)*100000 -> 0 | P36: =F36-K36 -> 0
A37: Morgan | B37: 17456 | C37: 4 | D37: =(C37/B37)*100000 -> 22.914757 | E37: =RANK(D37,D5:D59) -> 28 | F37: 3 | G37: 8644 | H37: 4 | I37: =(H37/G37)*100000 -> 46.274873 | J37: =RANK(I37,I5:I59) -> 17 | K37: 3 | L37: =B37-G37 -> 8812 | M37: =C37-H37 -> 0 | N37: =(M37/L37)*100000 -> 0 | P37: =F37-K37 -> 0
A38: Nicholas | B38: 25702 | C38: 10 | D38: =(C38/B38)*100000 -> 38.907478 | E38: =RANK(D38,D5:D59) -> 16 | F38: 9 | G38: 12675 | H38: 5 | I38: =(H38/G38)*100000 -> 39.447732 | J38: =RANK(I38,I5:I59) -> 23 | K38: 4 | L38: =B38-G38 -> 13027 | M38: =C38-H38 -> 5 | N38: =(M38/L38)*100000 -> 38.381822 | O38: =RANK(N38,N5:N59) -> 10 | P38: =F38-K38 -> 5
A39: Ohio | B39: 43226 | C39: 8 | D39: =(C39/B39)*100000 -> 18.50738 | E39: =RANK(D39,D5:D59) -> 33 | F39: 12 | G39: 20724 | H39: 7 | I39: =(H39/G39)*100000 -> 33.777263 | J39: =RANK(I39,I5:I59) -> 26 | K39: 7 | L39: =B39-G39 -> 22502 | M39: =C39-H39 -> 1 | N39: =(M39/L39)*100000 -> 4.4440494 | O39: =RANK(N39,N5:N59) -> 41 | P39: =F39-K39 -> 5
A40: Pendleton | B40: 7229 | C40: 1 | D40: =(C40/B40)*100000 -> 13.833172 | E40: =RANK(D40,D5:D59) -> 38 | F40: 1 | G40: 3652 | H40: 0 | I40: =(H40/G40)*100000 -> 0 | K40: 0 | L40: =B40-G40 -> 3577 | M40: =C40-H40 -> 1 | N40: =(M40/L40)*100000 -> 27.956388 | O40: =RANK(N40,N5:N59) -> 17 | P40: =F40-K40 -> 1
A41: Pleasants | B41: 7589 | C41: 2 | D41: =(C41/B41)*100000 -> 26.353933 | E41: =RANK(D41,D5:D59) -> 24 | F41: 2 | G41: 4082 | H41: 2 | I41: =(H41/G41)*100000 -> 48.99559 | J41: =RANK(I41,I5:I59) -> 16 | K41: 2 | L41: =B41-G41 -> 3507 | M41: =C41-H41 -> 0 | N41: =(M41/L41)*100000 -> 0 | P41: =F41-K41 -> 0
A42: Pocahontas | B42: 8649 | C42: 1 | D42: =(C42/B42)*100000 -> 11.56203 | E42: =RANK(D42,D5:D59) -> 44 | F42: 2 | G42: 4456 | H42: 1 | I42: =(H42/G42)*100000 -> 22.441652 | J42: =RANK(I42,I5:I59) -> 34 | K42: 2 | L42: =B42-G42 -> 4193 | M42: =C42-H42 -> 0 | N42: =(M42/L42)*100000 -> 0 | P42: =F42-K42 -> 0
A43: Preston | B43: 33920 | C43: 9 | D43: =(C43/B43)*100000 -> 26.533019 | E43: =RANK(D43,D5:D59) -> 22 | F43: 6 | G43: 17494 | H43: 6 | I43: =(H43/G43)*100000 -> 34.297473 | J43: =RANK(I43,I5:I59) -> 24 | K43: 4 | L43: =B43-G43 -> 16426 | M43: =C43-H43 -> 3 | N43: =(M43/L43)*100000 -> 18.263728 | O43: =RANK(N43,N5:N59) -> 27 | P43: =F43-K43 -> 2
A44: Putnam | B44: 56634 | C44: 13 | D44: =(C44/B44)*100000 -> 22.954409 | E44: =RANK(D44,D5:D59) -> 27 | F44: 8 | G44: 27832 | H44: 7 | I44: =(H44/G44)*100000 -> 25.150905 | J44: =RANK(I44,I5:I59) -> 33 | K44: 4 | L44: =B44-G44 -> 28802 | M44: =C44-H44 -> 6 | N44: =(M44/L44)*100000 -> 20.831887 | O44: =RANK(N44,N5:N59) -> 23 | P44: =F44-K44 -> 4
A45: Raleigh | B45: 78139 | C45: 39 | D45: =(C45/B45)*100000 -> 49.911056 | E45: =RANK(D45,D5:D59) -> 8 | F45: 42 | G45: 39100 | H45: 25 | I45: =(H45/G45)*100000 -> 63.938619 | J45: =RANK(I45,I5:I59) -> 9 | K45: 28 | L45: =B45-G45 -> 39039 | M45: =C45-H45 -> 14 | N45: =(M45/L45)*100000 -> 35.861574 | O45: =RANK(N45,N5:N59) -> 12 | P45: =F45-K45 -> 14
A46: Randolph | B46: 29316 | C46: 5 | D46: =(C46/B46)*100000 -> 17.055533 | E46: =RANK(D46,D5:D59) -> 35 | F46: 5 | G46: 15092 | H46: 3 | I46: =(H46/G46)*100000 -> 19.878081 | J46: =RANK(I46,I5:I59) -> 38 | K46: 3 | L46: =B46-G46 -> 14224 | M46: =C46-H46 -> 2 | N46: =(M46/L46)*100000 -> 14.060742 | O46: =RANK(N46,N5:N59) -> 32 | P46: =F46-K46 -> 2
A47: Ritchie | B47: 10078 | C47: 1 | D47: =(C47/B47)*100000 -> 9.9226037 | E47: =RANK(D47,D5:D59) -> 46 | F47: 1 | G47: 5035 | H47: 0 | I47: =(H47/G47)*100000 -> 0 | K47: 0 | L47: =B47-G47 -> 5043 | M47: =C47-H47 -> 1 | N47: =(M47/L47)*100000 -> 19.829467 | O47: =RANK(N47,N5:N59) -> 25 | P47: =F47-K47 -> 1
A48: Roane | B48: 14590 | C48: 2 | D48: =(C48/B48)*100000 -> 13.708019 | E48: =RANK(D48,D5:D59) -> 39 | F48: 1 | G48: 7223 | H48: 2 | I48: =(H48/G48)*100000 -> 27.689326 | J48: =RANK(I48,I5:I59) -> 30 | K48: 1 | L48: =B48-G48 -> 7367 | M48: =C48-H48 -> 0 | N48: =(M48/L48)*100000 -> 0 | P48: =F48-K48 -> 0
A49: Summers | B49: 13331 | C49: 4 | D49: =(C49/B49)*100000 -> 30.005251 | E49: =RANK(D49,D5:D59) -> 20 | F49: 3 | G49: 6004 | H49: 4 | I49: =(H49/G49)*100000 -> 66.622252 | J49: =RANK(I49,I5:I59) -> 8 | K49: 3 | L49: =B49-G49 -> 7327 | M49: =C49-H49 -> 0 | N49: =(M49/L49)*100000 -> 0 | P49: =F49-K49 -> 0
A50: Taylor | B50: 17098 | C50: 1 | D50: =(C50/B50)*100000 -> 5.8486373 | E50: =RANK(D50,D5:D59) -> 50 | F50: 1 | G50: 8646 | H50: 0 | I50: =(H50/G50)*100000 -> 0 | K50: 0 | L50: =B50-G50 -> 8452 | M50: =C50-H50 -> 1 | N50: =(M50/L50)*100000 -> 11.831519 | O50: =RANK(N50,N5:N59) -> 35 | P50: =F50-K50 -> 1
A51: Tucker | B51: 7053 | C51: 0 | D51: =(C51/B51)*100000 -> 0 | F51: 0 | G51: 3581 | H51: 0 | I51: =(H51/G51)*100000 -> 0 | K51: 0 | L51: =B51-G51 -> 3472 | M51: =C51-H51 -> 0 | N51: =(M51/L51)*100000 -> 0 | P51: =F51-K51 -> 0
A52: Tyler | B52: 9067 | C52: 1 | D52: =(C52/B52)*100000 -> 11.029006 | E52: =RANK(D52,D5:D59) -> 45 | F52: 3 | G52: 4492 | H52: 1 | I52: =(H52/G52)*100000 -> 22.261799 | J52: =RANK(I52,I5:I59) -> 35 | K52: 3 | L52: =B52-G52 -> 4575 | M52: =C52-H52 -> 0 | N52: =(M52/L52)*100000 -> 0 | P52: =F52-K52 -> 0
A53: Upshur | B53: 24655 | C53: 1 | D53: =(C53/B53)*100000 -> 4.0559724 | E53: =RANK(D53,D5:D59) -> 51 | F53: 2 | G53: 12198 | H53: 0 | I53: =(H53/G53)*100000 -> 0 | K53: 1 | L53: =B53-G53 -> 12457 | M53: =C53-H53 -> 1 | N53: =(M53/L53)*100000 -> 8.027615 | O53: =RANK(N53,N5:N59) -> 38 | P53: =F53-K53 -> 1
A54: Wayne | B54: 41491 | C54: 19 | D54: =(C54/B54)*100000 -> 45.793064 | E54: =RANK(D54,D5:D59) -> 10 | F54: 10 | G54: 20224 | H54: 11 | I54: =(H54/G54)*100000 -> 54.390823 | J54: =RANK(I54,I5:I59) -> 12 | K54: 5 | L54: =B54-G54 -> 21267 | M54: =C54-H54 -> 8 | N54: =(M54/L54)*100000 -> 37.616965 | O54: =RANK(N54,N5:N59) -> 11 | P54: =F54-K54 -> 5
A55: Webster | B55: 8757 | C55: 3 | D55: =(C55/B55)*100000 -> 34.258308 | E55: =RANK(D55,D5:D59) -> 18 | F55: 2 | G55: 4322 | H55: 0 | I55: =(H55/G55)*100000 -> 0 | K55: 0 | L55: =B55-G55 -> 4435 | M55: =C55-H55 -> 3 | N55: =(M55/L55)*100000 -> 67.643743 | O55: =RANK(N55,N5:N59) -> 2 | P55: =F55-K55 -> 2
A56: Wetzel | B56: 15970 | C56: 2 | D56: =(C56/B56)*100000 -> 12.523482 | E56: =RANK(D56,D5:D59) -> 41 | F56: 2 | G56: 7881 | H56: 0 | I56: =(H56/G56)*100000 -> 0 | K56: 1 | L56: =B56-G56 -> 8089 | M56: =C56-H56 -> 2 | N56: =(M56/L56)*100000 -> 24.724935 | O56: =RANK(N56,N5:N59) -> 21 | P56: =F56-K56 -> 1
A57: Wirt | B57: 5791 | C57: 1 | D57: =(C57/B57)*100000 -> 17.268175 | E57: =RANK(D57,D5:D59) -> 34 | F57: 0 | G57: 2939 | H57: 1 | I57: =(H57/G57)*100000 -> 34.025179 | J57: =RANK(I57,I5:I59) -> 25 | K57: 0 | L57: =B57-G57 -> 2852 | M57: =C57-H57 -> 0 | N57: =(M57/L57)*100000 -> 0 | P57: =F57-K57 -> 0
A58: Wood | B58: 86451 | C58: 22 | D58: =(C58/B58)*100000 -> 25.447942 | E58: =RANK(D58,D5:D59) -> 26 | F58: 26 | G58: 41823 | H58: 14 | I58: =(H58/G58)*100000 -> 33.474404 | J58: =RANK(I58,I5:I59) -> 27 | K58: 15 | L58: =B58-G58 -> 44628 | M58: =C58-H58 -> 8 | N58: =(M58/L58)*100000 -> 17.925966 | O58: =RANK(N58,N5:N59) -> 29 | P58: =F58-K58 -> 11
A59: Wyoming | B59: 22576 | C59: 19 | D59: =(C59/B59)*100000 -> 84.16017 | E59: =RANK(D59,D5:D59) -> 3 | F59: 14 | G59: 11178 | H59: 13 | I59: =(H59/G59)*100000 -> 116.29987 | J59: =RANK(I59,I5:I59) -> 3 | K59: 7 | L59: =B59-G59 -> 11398 | M59: =C59-H59 -> 6 | N59: =(M59/L59)*100000 -> 52.640814 | O59: =RANK(N59,N5:N59) -> 3 | P59: =F59-K59 -> 7
A60: WV Total | B60: =SUM(B5:B59) -> 1847624 | C60: =SUM(C5:C59) -> 629 | D60: =(C60/B60)*100000 -> 34.043723 | F60: =SUM(F5:F59) -> 629 | G60: =SUM(G5:G59) -> 912656 | H60: =SUM(H5:H59) -> 399 | I60: =(H60/G60)*100000 -> 43.718553 | K60: =SUM(K5:K59) -> 397 | L60: =SUM(L5:L59) -> 934968 | M60: =SUM(M5:M59) -> 230 | N60: =(M60/L60)*100000 -> 24.599772 | P60: =SUM(P5:P59) -> 232
A61: Source: West Virginia Health Statistics Center, Vital Statistics System, September 2018.
A65: 2014 West Virginia Resident Births
A66: Births to Teens Ages 15-19 by County
A68: County | B68: Estimated Female Population Ages 15-19 | C68: Number of Resident Births to Mothers Ages 15-19 | D68: Rate per 1,000 Females Ages 10-19 | E68: Rank | F68: Number of Resident Fetal Deaths to Mothers Ages 15-19 | G68: Number of Resident *Abortions to Females Ages 15-19 | H68: Estimated Number of Pregnancies to Females Ages 15-19 | I68: Rate per 1,000 Females Ages 10-19 | J68: Rank
A69: Barbour | B69: 679 | C69: 18 | D69: =(C69/B69)*1000 -> 26.509573 | E69: =RANK(D69,D69:D123) -> 44 | F69: 0 | G69: 1 | H69: =C69+F69+G69 -> 19 | I69: =(H69/B69)*1000 -> 27.982327 | J69: =RANK(I69,I69:I123) -> 42
A70: Berkeley | B70: 3295 | C70: 109 | D70: =(C70/B70)*1000 -> 33.080425 | E70: =RANK(D70,D69:D123) -> 32 | F70: 0 | G70: 1 | H70: =C70+F70+G70 -> 110 | I70: =(H70/B70)*1000 -> 33.383915 | J70: =RANK(I70,I69:I123) -> 35
A71: Boone | B71: 658 | C71: 37 | D71: =(C71/B71)*1000 -> 56.231003 | E71: =RANK(D71,D69:D123) -> 7 | F71: 0 | G71: 4 | H71: =C71+F71+G71 -> 41 | I71: =(H71/B71)*1000 -> 62.31003 | J71: =RANK(I71,I69:I123) -> 6
A72: Braxton | B72: 390 | C72: 16 | D72: =(C72/B72)*1000 -> 41.025641 | E72: =RANK(D72,D69:D123) -> 20 | F72: 0 | G72: 0 | H72: =C72+F72+G72 -> 16 | I72: =(H72/B72)*1000 -> 41.025641 | J72: =RANK(I72,I69:I123) -> 24
A73: Brooke | B73: 729 | C73: 16 | D73: =(C73/B73)*1000 -> 21.947874 | E73: =RANK(D73,D69:D123) -> 47 | F73: 0 | G73: 1 | H73: =C73+F73+G73 -> 17 | I73: =(H73/B73)*1000 -> 23.319616 | J73: =RANK(I73,I69:I123) -> 48
A74: Cabell | B74: 3161 | C74: 103 | D74: =(C74/B74)*1000 -> 32.584625 | E74: =RANK(D74,D69:D123) -> 33 | F74: 1 | G74: 17 | H74: =C74+F74+G74 -> 121 | I74: =(H74/B74)*1000 -> 38.279026 | J74: =RANK(I74,I69:I123) -> 28
A75: Calhoun | B75: 185 | C75: 5 | D75: =(C75/B75)*1000 -> 27.027027 | E75: =RANK(D75,D69:D123) -> 42 | F75: 0 | G75: 0 | H75: =C75+F75+G75 -> 5 | I75: =(H75/B75)*1000 -> 27.027027 | J75: =RANK(I75,I69:I123) -> 44
A76: Clay | B76: 266 | C76: 10 | D76: =(C76/B76)*1000 -> 37.593985 | E76: =RANK(D76,D69:D123) -> 27 | F76: 0 | G76: 0 | H76: =C76+F76+G76 -> 10 | I76: =(H76/B76)*1000 -> 37.593985 | J76: =RANK(I76,I69:I123) -> 30
A77: Doddridge | B77: 214 | C77: 3 | D77: =(C77/B77)*1000 -> 14.018692 | E77: =RANK(D77,D69:D123) -> 54 | F77: 0 | G77: 0 | H77: =C77+F77+G77 -> 3 | I77: =(H77/B77)*1000 -> 14.018692 | J77: =RANK(I77,I69:I123) -> 55
A78: Fayette | B78: 1147 | C78: 55 | D78: =(C78/B78)*1000 -> 47.951177 | E78: =RANK(D78,D69:D123) -> 16 | F78: 2 | G78: 7 | H78: =C78+F78+G78 -> 64 | I78: =(H78/B78)*1000 -> 55.797733 | J78: =RANK(I78,I69:I123) -> 11
A79: Gilmer | B79: 294 | C79: 5 | D79: =(C79/B79)*1000 -> 17.006803 | E79: =RANK(D79,D69:D123) -> 51 | F79: 0 | G79: 2 | H79: =C79+F79+G79 -> 7 | I79: =(H79/B79)*1000 -> 23.809524 | J79: =RANK(I79,I69:I123) -> 45
A80: Grant | B80: 309 | C80: 18 | D80: =(C80/B80)*1000 -> 58.252427 | E80: =RANK(D80,D69:D123) -> 5 | F80: 0 | G80: 0 | H80: =C80+F80+G80 -> 18 | I80: =(H80/B80)*1000 -> 58.252427 | J80: =RANK(I80,I69:I123) -> 8
A81: Greenbrier | B81: 854 | C81: 24 | D81: =(C81/B81)*1000 -> 28.103044 | E81: =RANK(D81,D69:D123) -> 40 | F81: 0 | G81: 3 | H81: =C81+F81+G81 -> 27 | I81: =(H81/B81)*1000 -> 31.615925 | J81: =RANK(I81,I69:I123) -> 37
A82: Hampshire | B82: 688 | C82: 37 | D82: =(C82/B82)*1000 -> 53.77907 | E82: =RANK(D82,D69:D123) -> 12 | F82: 0 | G82: 0 | H82: =C82+F82+G82 -> 37 | I82: =(H82/B82)*1000 -> 53.77907 | J82: =RANK(I82,I69:I123) -> 14
A83: Hancock | B83: 773 | C83: 28 | D83: =(C83/B83)*1000 -> 36.22251 | E83: =RANK(D83,D69:D123) -> 30 | F83: 0 | G83: 0 | H83: =C83+F83+G83 -> 28 | I83: =(H83/B83)*1000 -> 36.22251 | J83: =RANK(I83,I69:I123) -> 32
A84: Hardy | B84: 390 | C84: 15 | D84: =(C84/B84)*1000 -> 38.461538 | E84: =RANK(D84,D69:D123) -> 24 | F84: 0 | G84: 0 | H84: =C84+F84+G84 -> 15 | I84: =(H84/B84)*1000 -> 38.461538 | J84: =RANK(I84,I69:I123) -> 27
A85: Harrison | B85: 1943 | C85: 74 | D85: =(C85/B85)*1000 -> 38.085435 | E85: =RANK(D85,D69:D123) -> 25 | F85: 1 | G85: 12 | H85: =C85+F85+G85 -> 87 | I85: =(H85/B85)*1000 -> 44.776119 | J85: =RANK(I85,I69:I123) -> 21
A86: Jackson | B86: 844 | C86: 32 | D86: =(C86/B86)*1000 -> 37.914692 | E86: =RANK(D86,D69:D123) -> 26 | F86: 0 | G86: 2 | H86: =C86+F86+G86 -> 34 | I86: =(H86/B86)*1000 -> 40.28436 | J86: =RANK(I86,I69:I123) -> 25
A87: Jefferson | B87: 1860 | C87: 30 | D87: =(C87/B87)*1000 -> 16.129032 | E87: =RANK(D87,D69:D123) -> 53 | F87: 0 | G87: 0 | H87: =C87+F87+G87 -> 30 | I87: =(H87/B87)*1000 -> 16.129032 | J87: =RANK(I87,I69:I123) -> 53
A88: Kanawha | B88: 5129 | C88: 208 | D88: =(C88/B88)*1000 -> 40.553714 | E88: =RANK(D88,D69:D123) -> 21 | F88: 0 | G88: 56 | H88: =C88+F88+G88 -> 264 | I88: =(H88/B88)*1000 -> 51.472022 | J88: =RANK(I88,I69:I123) -> 16
A89: Lewis | B89: 379 | C89: 26 | D89: =(C89/B89)*1000 -> 68.601583 | E89: =RANK(D89,D69:D123) -> 2 | F89: 0 | G89: 1 | H89: =C89+F89+G89 -> 27 | I89: =(H89/B89)*1000 -> 71.240106 | J89: =RANK(I89,I69:I123) -> 2
A90: Lincoln | B90: 588 | C90: 32 | D90: =(C90/B90)*1000 -> 54.421769 | E90: =RANK(D90,D69:D123) -> 9 | F90: 0 | G90: 2 | H90: =C90+F90+G90 -> 34 | I90: =(H90/B90)*1000 -> 57.823129 | J90: =RANK(I90,I69:I123) -> 9
A91: Logan | B91: 978 | C91: 58 | D91: =(C91/B91)*1000 -> 59.304703 | E91: =RANK(D91,D69:D123) -> 4 | F91: 0 | G91: 9 | H91: =C91+F91+G91 -> 67 | I91: =(H91/B91)*1000 -> 68.507157 | J91: =RANK(I91,I69:I123) -> 5
A92: McDowell | B92: 523 | C92: 34 | D92: =(C92/B92)*1000 -> 65.00956 | E92: =RANK(D92,D69:D123) -> 3 | F92: 2 | G92: 0 | H92: =C92+F92+G92 -> 36 | I92: =(H92/B92)*1000 -> 68.833652 | J92: =RANK(I92,I69:I123) -> 3
A93: Marion | B93: 1703 | C93: 52 | D93: =(C93/B93)*1000 -> 30.534351 | E93: =RANK(D93,D69:D123) -> 36 | F93: 0 | G93: 5 | H93: =C93+F93+G93 -> 57 | I93: =(H93/B93)*1000 -> 33.470346 | J93: =RANK(I93,I69:I123) -> 34
A94: Marshall | B94: 873 | C94: 32 | D94: =(C94/B94)*1000 -> 36.655212 | E94: =RANK(D94,D69:D123) -> 28 | F94: 0 | G94: 2 | H94: =C94+F94+G94 -> 34 | I94: =(H94/B94)*1000 -> 38.946163 | J94: =RANK(I94,I69:I123) -> 26
A95: Mason | B95: 717 | C95: 32 | D95: =(C95/B95)*1000 -> 44.630404 | E95: =RANK(D95,D69:D123) -> 18 | F95: 0 | G95: 4 | H95: =C95+F95+G95 -> 36 | I95: =(H95/B95)*1000 -> 50.209205 | J95: =RANK(I95,I69:I123) -> 17
A96: Mercer | B96: 1775 | C96: 96 | D96: =(C96/B96)*1000 -> 54.084507 | E96: =RANK(D96,D69:D123) -> 11 | F96: 1 | G96: 5 | H96: =C96+F96+G96 -> 102 | I96: =(H96/B96)*1000 -> 57.464789 | J96: =RANK(I96,I69:I123) -> 10
A97: Mineral | B97: 880 | C97: 25 | D97: =(C97/B97)*1000 -> 28.409091 | E97: =RANK(D97,D69:D123) -> 39 | F97: 0 | G97: 1 | H97: =C97+F97+G97 -> 26 | I97: =(H97/B97)*1000 -> 29.545455 | J97: =RANK(I97,I69:I123) -> 40
A98: Mingo | B98: 669 | C98: 50 | D98: =(C98/B98)*1000 -> 74.738416 | E98: =RANK(D98,D69:D123) -> 1 | F98: 0 | G98: 1 | H98: =C98+F98+G98 -> 51 | I98: =(H98/B98)*1000 -> 76.233184 | J98: =RANK(I98,I69:I123) -> 1
A99: Monongalia | B99: 4102 | C99: 57 | D99: =(C99/B99)*1000 -> 13.895661 | E99: =RANK(D99,D69:D123) -> 55 | F99: 0 | G99: 6 | H99: =C99+F99+G99 -> 63 | I99: =(H99/B99)*1000 -> 15.358362 | J99: =RANK(I99,I69:I123) -> 54
A100: Monroe | B100: 331 | C100: 13 | D100: =(C100/B100)*1000 -> 39.274924 | E100: =RANK(D100,D69:D123) -> 22 | F100: 0 | G100: 1 | H100: =C100+F100+G100 -> 14 | I100: =(H100/B100)*1000 -> 42.296073 | J100: =RANK(I100,I69:I123) -> 22
A101: Morgan | B101: 538 | C101: 9 | D101: =(C101/B101)*1000 -> 16.728625 | E101: =RANK(D101,D69:D123) -> 52 | F101: 0 | G101: 0 | H101: =C101+F101+G101 -> 9 | I101: =(H101/B101)*1000 -> 16.728625 | J101: =RANK(I101,I69:I123) -> 52
A102: Nicholas | B102: 627 | C102: 30 | D102: =(C102/B102)*1000 -> 47.84689 | E102: =RANK(D102,D69:D123) -> 17 | F102: 0 | G102: 1 | H102: =C102+F102+G102 -> 31 | I102: =(H102/B102)*1000 -> 49.441786 | J102: =RANK(I102,I69:I123) -> 18
A103: Ohio | B103: 1499 | C103: 41 | D103: =(C103/B103)*1000 -> 27.351568 | E103: =RANK(D103,D69:D123) -> 41 | F103: 0 | G103: 0 | H103: =C103+F103+G103 -> 41 | I103: =(H103/B103)*1000 -> 27.351568 | J103: =RANK(I103,I69:I123) -> 43
A104: Pendleton | B104: 171 | C104: 3 | D104: =(C104/B104)*1000 -> 17.54386 | E104: =RANK(D104,D69:D123) -> 50 | F104: 0 | G104: 1 | H104: =C104+F104+G104 -> 4 | I104: =(H104/B104)*1000 -> 23.391813 | J104: =RANK(I104,I69:I123) -> 47
A105: Pleasants | B105: 206 | C105: 10 | D105: =(C105/B105)*1000 -> 48.543689 | E105: =RANK(D105,D69:D123) -> 15 | F105: 0 | G105: 0 | H105: =C105+F105+G105 -> 10 | I105: =(H105/B105)*1000 -> 48.543689 | J105: =RANK(I105,I69:I123) -> 19
...

Sheet 2015
A1: 2015 West Virginia Deaths
A2: Drug Overdose Deaths by County
A4: County | B4: Estimated Population | C4: Number of Resident Drug Overdose Deaths | D4: Rate per 100,000 Population | E4: Rank | F4: Number of Occurrence Drug Overdose Deaths | G4: Estimated Male Population | H4: Number of Male Resident Drug Overdose Deaths | I4: Rate per 100,000 Males | J4: Rank | K4: Number of Male Occurrence Drug Overdose Deaths | L4: Estimated Female Population | M4: Number of Female Resident Drug Overdose Deaths | N4: Rate per 100,000 Females | O4: Rank | P4: Number of Female Occurrence Drug Overdose Deaths
A5: Barbour | B5: 16970 | C5: 3 | D5: =(C5/B5)*100000 -> 17.678256 | E5: =RANK(D5,D5:D59) -> 36 | F5: 2 | G5: 8280 | H5: 3 | I5: =(H5/G5)*100000 -> 36.231884 | J5: =RANK(I5,I5:I59) -> 23 | K5: 2 | L5: =B5-G5 -> 8690 | M5: =C5-H5 -> 0 | N5: =(M5/L5)*100000 -> 0 | P5: =F5-K5 -> 0
A6: Berkeley | B6: 111497 | C6: 48 | D6: =(C6/B6)*100000 -> 43.050486 | E6: =RANK(D6,D5:D59) -> 16 | F6: 51 | G6: 55084 | H6: 34 | I6: =(H6/G6)*100000 -> 61.723913 | J6: =RANK(I6,I5:I59) -> 15 | K6: 38 | L6: =B6-G6 -> 56413 | M6: =C6-H6 -> 14 | N6: =(M6/L6)*100000 -> 24.816975 | O6: =RANK(N6,N5:N59) -> 24 | P6: =F6-K6 -> 13
A7: Boone | B7: 23241 | C7: 17 | D7: =(C7/B7)*100000 -> 73.146594 | E7: =RANK(D7,D5:D59) -> 5 | F7: 14 | G7: 11577 | H7: 9 | I7: =(H7/G7)*100000 -> 77.740347 | J7: =RANK(I7,I5:I59) -> 6 | K7: 7 | L7: =B7-G7 -> 11664 | M7: =C7-H7 -> 8 | N7: =(M7/L7)*100000 -> 68.587106 | O7: =RANK(N7,N5:N59) -> 4 | P7: =F7-K7 -> 7
A8: Braxton | B8: 14366 | C8: 2 | D8: =(C8/B8)*100000 -> 13.92176 | E8: =RANK(D8,D5:D59) -> 40 | F8: 1 | G8: 7271 | H8: 1 | I8: =(H8/G8)*100000 -> 13.753266 | J8: =RANK(I8,I5:I59) -> 43 | K8: 1 | L8: =B8-G8 -> 7095 | M8: =C8-H8 -> 1 | N8: =(M8/L8)*100000 -> 14.094433 | O8: =RANK(N8,N5:N59) -> 40 | P8: =F8-K8 -> 0
A9: Brooke | B9: 23200 | C9: 10 | D9: =(C9/B9)*100000 -> 43.103448 | E9: =RANK(D9,D5:D59) -> 15 | F9: 12 | G9: 11347 | H9: 3 | I9: =(H9/G9)*100000 -> 26.438706 | J9: =RANK(I9,I5:I59) -> 33 | K9: 5 | L9: =B9-G9 -> 11853 | M9: =C9-H9 -> 7 | N9: =(M9/L9)*100000 -> 59.056779 | O9: =RANK(N9,N5:N59) -> 6 | P9: =F9-K9 -> 7
A10: Cabell | B10: 96462 | C10: 78 | D10: =(C10/B10)*100000 -> 80.860857 | E10: =RANK(D10,D5:D59) -> 4 | F10: 102 | G10: 47198 | H10: 49 | I10: =(H10/G10)*100000 -> 103.81796 | J10: =RANK(I10,I5:I59) -> 3 | K10: 67 | L10: =B10-G10 -> 49264 | M10: =C10-H10 -> 29 | N10: =(M10/L10)*100000 -> 58.866515 | O10: =RANK(N10,N5:N59) -> 7 | P10: =F10-K10 -> 35
A11: Calhoun | B11: 7465 | C11: 1 | D11: =(C11/B11)*100000 -> 13.395847 | E11: =RANK(D11,D5:D59) -> 42 | F11: 0 | G11: 3719 | H11: 0 | I11: =(H11/G11)*100000 -> 0 | K11: 0 | L11: =B11-G11 -> 3746 | M11: =C11-H11 -> 1 | N11: =(M11/L11)*100000 -> 26.695141 | O11: =RANK(N11,N5:N59) -> 22 | P11: =F11-K11 -> 0
A12: Clay | B12: 8876 | C12: 3 | D12: =(C12/B12)*100000 -> 33.799009 | E12: =RANK(D12,D5:D59) -> 20 | F12: 2 | G12: 4461 | H12: 1 | I12: =(H12/G12)*100000 -> 22.416499 | J12: =RANK(I12,I5:I59) -> 36 | K12: 1 | L12: =B12-G12 -> 4415 | M12: =C12-H12 -> 2 | N12: =(M12/L12)*100000 -> 45.300113 | O12: =RANK(N12,N5:N59) -> 10 | P12: =F12-K12 -> 1
A13: Doddridge | B13: 8696 | C13: 1 | D13: =(C13/B13)*100000 -> 11.49954 | E13: =RANK(D13,D5:D59) -> 48 | F13: 1 | G13: 4793 | H13: 0 | I13: =(H13/G13)*100000 -> 0 | K13: 0 | L13: =B13-G13 -> 3903 | M13: =C13-H13 -> 1 | N13: =(M13/L13)*100000 -> 25.621317 | O13: =RANK(N13,N5:N59) -> 23 | P13: =F13-K13 -> 1
A14: Fayette | B14: 44687 | C14: 12 | D14: =(C14/B14)*100000 -> 26.853447 | E14: =RANK(D14,D5:D59) -> 28 | F14: 15 | G14: 22520 | H14: 5 | I14: =(H14/G14)*100000 -> 22.202487 | J14: =RANK(I14,I5:I59) -> 37 | K14: 7 | L14: =B14-G14 -> 22167 | M14: =C14-H14 -> 7 | N14: =(M14/L14)*100000 -> 31.578473 | O14: =RANK(N14,N5:N59) -> 16 | P14: =F14-K14 -> 8
A15: Gilmer | B15: 8287 | C15: 0 | D15: =(C15/B15)*100000 -> 0 | F15: 0 | G15: 4922 | H15: 0 | I15: =(H15/G15)*100000 -> 0 | K15: 0 | L15: =B15-G15 -> 3365 | M15: =C15-H15 -> 0 | N15: =(M15/L15)*100000 -> 0 | P15: =F15-K15 -> 0
A16: Grant | B16: 11666 | C16: 2 | D16: =(C16/B16)*100000 -> 17.143837 | E16: =RANK(D16,D5:D59) -> 38 | F16: 2 | G16: 5847 | H16: 2 | I16: =(H16/G16)*100000 -> 34.205576 | J16: =RANK(I16,I5:I59) -> 26 | K16: 2 | L16: =B16-G16 -> 5819 | M16: =C16-H16 -> 0 | N16: =(M16/L16)*100000 -> 0 | P16: =F16-K16 -> 0
A17: Greenbrier | B17: 35541 | C17: 13 | D17: =(C17/B17)*100000 -> 36.577474 | E17: =RANK(D17,D5:D59) -> 19 | F17: 12 | G17: 17372 | H17: 5 | I17: =(H17/G17)*100000 -> 28.781948 | J17: =RANK(I17,I5:I59) -> 31 | K17: 4 | L17: =B17-G17 -> 18169 | M17: =C17-H17 -> 8 | N17: =(M17/L17)*100000 -> 44.031042 | O17: =RANK(N17,N5:N59) -> 11 | P17: =F17-K17 -> 8
A18: Hampshire | B18: 23318 | C18: 13 | D18: =(C18/B18)*100000 -> 55.750922 | E18: =RANK(D18,D5:D59) -> 10 | F18: 10 | G18: 11864 | H18: 8 | I18: =(H18/G18)*100000 -> 67.430883 | J18: =RANK(I18,I5:I59) -> 11 | K18: 6 | L18: =B18-G18 -> 11454 | M18: =C18-H18 -> 5 | N18: =(M18/L18)*100000 -> 43.652872 | O18: =RANK(N18,N5:N59) -> 12 | P18: =F18-K18 -> 4
A19: Hancock | B19: 29950 | C19: 15 | D19: =(C19/B19)*100000 -> 50.083472 | E19: =RANK(D19,D5:D59) -> 11 | F19: 12 | G19: 14572 | H19: 10 | I19: =(H19/G19)*100000 -> 68.62476 | J19: =RANK(I19,I5:I59) -> 9 | K19: 8 | L19: =B19-G19 -> 15378 | M19: =C19-H19 -> 5 | N19: =(M19/L19)*100000 -> 32.513981 | O19: =RANK(N19,N5:N59) -> 15 | P19: =F19-K19 -> 4
A20: Hardy | B20: 13764 | C20: 2 | D20: =(C20/B20)*100000 -> 14.53066 | E20: =RANK(D20,D5:D59) -> 39 | F20: 1 | G20: 6906 | H20: 1 | I20: =(H20/G20)*100000 -> 14.480162 | J20: =RANK(I20,I5:I59) -> 40 | K20: 0 | L20: =B20-G20 -> 6858 | M20: =C20-H20 -> 1 | N20: =(M20/L20)*100000 -> 14.581511 | O20: =RANK(N20,N5:N59) -> 35 | P20: =F20-K20 -> 1
A21: Harrison | B21: 68514 | C21: 19 | D21: =(C21/B21)*100000 -> 27.731559 | E21: =RANK(D21,D5:D59) -> 27 | F21: 17 | G21: 33614 | H21: 11 | I21: =(H21/G21)*100000 -> 32.72446 | J21: =RANK(I21,I5:I59) -> 28 | K21: 9 | L21: =B21-G21 -> 34900 | M21: =C21-H21 -> 8 | N21: =(M21/L21)*100000 -> 22.922636 | O21: =RANK(N21,N5:N59) -> 29 | P21: =F21-K21 -> 8
A22: Jackson | B22: 29164 | C22: 6 | D22: =(C22/B22)*100000 -> 20.57331 | E22: =RANK(D22,D5:D59) -> 35 | F22: 5 | G22: 14414 | H22: 5 | I22: =(H22/G22)*100000 -> 34.688497 | J22: =RANK(I22,I5:I59) -> 25 | K22: 4 | L22: =B22-G22 -> 14750 | M22: =C22-H22 -> 1 | N22: =(M22/L22)*100000 -> 6.779661 | O22: =RANK(N22,N5:N59) -> 46 | P22: =F22-K22 -> 1
A23: Jefferson | B23: 55911 | C23: 17 | D23: =(C23/B23)*100000 -> 30.405466 | E23: =RANK(D23,D5:D59) -> 25 | F23: 15 | G23: 27615 | H23: 10 | I23: =(H23/G23)*100000 -> 36.212204 | J23: =RANK(I23,I5:I59) -> 24 | K23: 10 | L23: =B23-G23 -> 28296 | M23: =C23-H23 -> 7 | N23: =(M23/L23)*100000 -> 24.738479 | O23: =RANK(N23,N5:N59) -> 25 | P23: =F23-K23 -> 5
A24: Kanawha | B24: 188119 | C24: 109 | D24: =(C24/B24)*100000 -> 57.942047 | E24: =RANK(D24,D5:D59) -> 8 | F24: 122 | G24: 90731 | H24: 64 | I24: =(H24/G24)*100000 -> 70.538184 | J24: =RANK(I24,I5:I59) -> 8 | K24: 70 | L24: =B24-G24 -> 97388 | M24: =C24-H24 -> 45 | N24: =(M24/L24)*100000 -> 46.206925 | O24: =RANK(N24,N5:N59) -> 9 | P24: =F24-K24 -> 52
A25: Lewis | B25: 16422 | C25: 1 | D25: =(C25/B25)*100000 -> 6.0893923 | E25: =RANK(D25,D5:D59) -> 52 | F25: 0 | G25: 8144 | H25: 0 | I25: =(H25/G25)*100000 -> 0 | K25: 0 | L25: =B25-G25 -> 8278 | M25: =C25-H25 -> 1 | N25: =(M25/L25)*100000 -> 12.080213 | O25: =RANK(N25,N5:N59) -> 42 | P25: =F25-K25 -> 0
A26: Lincoln | B26: 21292 | C26: 7 | D26: =(C26/B26)*100000 -> 32.876198 | E26: =RANK(D26,D5:D59) -> 22 | F26: 6 | G26: 10606 | H26: 3 | I26: =(H26/G26)*100000 -> 28.285876 | J26: =RANK(I26,I5:I59) -> 32 | K26: 3 | L26: =B26-G26 -> 10686 | M26: =C26-H26 -> 4 | N26: =(M26/L26)*100000 -> 37.432154 | O26: =RANK(N26,N5:N59) -> 14 | P26: =F26-K26 -> 3
A27: Logan | B27: 34419 | C27: 22 | D27: =(C27/B27)*100000 -> 63.918185 | E27: =RANK(D27,D5:D59) -> 6 | F27: 27 | G27: 16951 | H27: 13 | I27: =(H27/G27)*100000 -> 76.691641 | J27: =RANK(I27,I5:I59) -> 7 | K27: 16 | L27: =B27-G27 -> 17468 | M27: =C27-H27 -> 9 | N27: =(M27/L27)*100000 -> 51.522785 | O27: =RANK(N27,N5:N59) -> 8 | P27: =F27-K27 -> 11
A28: McDowell | B28: 19704 | C28: 28 | D28: =(C28/B28)*100000 -> 142.10313 | E28: =RANK(D28,D5:D59) -> 1 | F28: 24 | G28: 9598 | H28: 18 | I28: =(H28/G28)*100000 -> 187.53907 | J28: =RANK(I28,I5:I59) -> 1 | K28: 16 | L28: =B28-G28 -> 10106 | M28: =C28-H28 -> 10 | N28: =(M28/L28)*100000 -> 98.951118 | O28: =RANK(N28,N5:N59) -> 1 | P28: =F28-K28 -> 8
A29: Marion | B29: 56690 | C29: 7 | D29: =(C29/B29)*100000 -> 12.347857 | E29: =RANK(D29,D5:D59) -> 44 | F29: 7 | G29: 27899 | H29: 4 | I29: =(H29/G29)*100000 -> 14.337431 | J29: =RANK(I29,I5:I59) -> 41 | K29: 5 | L29: =B29-G29 -> 28791 | M29: =C29-H29 -> 3 | N29: =(M29/L29)*100000 -> 10.419923 | O29: =RANK(N29,N5:N59) -> 43 | P29: =F29-K29 -> 2
A30: Marshall | B30: 32184 | C30: 4 | D30: =(C30/B30)*100000 -> 12.428536 | E30: =RANK(D30,D5:D59) -> 43 | F30: 3 | G30: 15880 | H30: 2 | I30: =(H30/G30)*100000 -> 12.594458 | J30: =RANK(I30,I5:I59) -> 44 | K30: 2 | L30: =B30-G30 -> 16304 | M30: =C30-H30 -> 2 | N30: =(M30/L30)*100000 -> 12.266928 | O30: =RANK(N30,N5:N59) -> 41 | P30: =F30-K30 -> 1
A31: Mason | B31: 27047 | C31: 6 | D31: =(C31/B31)*100000 -> 22.183606 | E31: =RANK(D31,D5:D59) -> 31 | F31: 6 | G31: 13047 | H31: 4 | I31: =(H31/G31)*100000 -> 30.658389 | J31: =RANK(I31,I5:I59) -> 29 | K31: 5 | L31: =B31-G31 -> 14000 | M31: =C31-H31 -> 2 | N31: =(M31/L31)*100000 -> 14.285714 | O31: =RANK(N31,N5:N59) -> 37 | P31: =F31-K31 -> 1
A32: Mercer | B32: 61038 | C32: 36 | D32: =(C32/B32)*100000 -> 58.979652 | E32: =RANK(D32,D5:D59) -> 7 | F32: 40 | G32: 29215 | H32: 23 | I32: =(H32/G32)*100000 -> 78.726681 | J32: =RANK(I32,I5:I59) -> 5 | K32: 25 | L32: =B32-G32 -> 31823 | M32: =C32-H32 -> 13 | N32: =(M32/L32)*100000 -> 40.850957 | O32: =RANK(N32,N5:N59) -> 13 | P32: =F32-K32 -> 15
A33: Mineral | B33: 27366 | C33: 6 | D33: =(C33/B33)*100000 -> 21.925016 | E33: =RANK(D33,D5:D59) -> 33 | F33: 5 | G33: 13637 | H33: 4 | I33: =(H33/G33)*100000 -> 29.331965 | J33: =RANK(I33,I5:I59) -> 30 | K33: 3 | L33: =B33-G33 -> 13729 | M33: =C33-H33 -> 2 | N33: =(M33/L33)*100000 -> 14.567703 | O33: =RANK(N33,N5:N59) -> 36 | P33: =F33-K33 -> 2
A34: Mingo | B34: 25278 | C34: 12 | D34: =(C34/B34)*100000 -> 47.47211 | E34: =RANK(D34,D5:D59) -> 12 | F34: 8 | G34: 12414 | H34: 8 | I34: =(H34/G34)*100000 -> 64.44337 | J34: =RANK(I34,I5:I59) -> 13 | K34: 5 | L34: =B34-G34 -> 12864 | M34: =C34-H34 -> 4 | N34: =(M34/L34)*100000 -> 31.094527 | O34: =RANK(N34,N5:N59) -> 18 | P34: =F34-K34 -> 3
A35: Monongalia | B35: 103940 | C35: 14 | D35: =(C35/B35)*100000 -> 13.469309 | E35: =RANK(D35,D5:D59) -> 41 | F35: 28 | G35: 53572 | H35: 9 | I35: =(H35/G35)*100000 -> 16.799821 | J35: =RANK(I35,I5:I59) -> 38 | K35: 17 | L35: =B35-G35 -> 50368 | M35: =C35-H35 -> 5 | N35: =(M35/L35)*100000 -> 9.9269377 | O35: =RANK(N35,N5:N59) -> 44 | P35: =F35-K35 -> 11
A36: Monroe | B36: 13574 | C36: 3 | D36: =(C36/B36)*100000 -> 22.101076 | E36: =RANK(D36,D5:D59) -> 32 | F36: 2 | G36: 6763 | H36: 3 | I36: =(H36/G36)*100000 -> 44.359012 | J36: =RANK(I36,I5:I59) -> 21 | K36: 2 | L36: =B36-G36 -> 6811 | M36: =C36-H36 -> 0 | N36: =(M36/L36)*100000 -> 0 | P36: =F36-K36 -> 0
A37: Morgan | B37: 17433 | C37: 4 | D37: =(C37/B37)*100000 -> 22.944989 | E37: =RANK(D37,D5:D59) -> 30 | F37: 4 | G37: 8682 | H37: 2 | I37: =(H37/G37)*100000 -> 23.036167 | J37: =RANK(I37,I5:I59) -> 35 | K37: 2 | L37: =B37-G37 -> 8751 | M37: =C37-H37 -> 2 | N37: =(M37/L37)*100000 -> 22.854531 | O37: =RANK(N37,N5:N59) -> 30 | P37: =F37-K37 -> 2
A38: Nicholas | B38: 25510 | C38: 11 | D38: =(C38/B38)*100000 -> 43.120345 | E38: =RANK(D38,D5:D59) -> 14 | F38: 10 | G38: 12580 | H38: 7 | I38: =(H38/G38)*100000 -> 55.643879 | J38: =RANK(I38,I5:I59) -> 16 | K38: 7 | L38: =B38-G38 -> 12930 | M38: =C38-H38 -> 4 | N38: =(M38/L38)*100000 -> 30.935808 | O38: =RANK(N38,N5:N59) -> 19 | P38: =F38-K38 -> 3
A39: Ohio | B39: 42950 | C39: 14 | D39: =(C39/B39)*100000 -> 32.596042 | E39: =RANK(D39,D5:D59) -> 23 | F39: 16 | G39: 20601 | H39: 9 | I39: =(H39/G39)*100000 -> 43.6872 | J39: =RANK(I39,I5:I59) -> 22 | K39: 10 | L39: =B39-G39 -> 22349 | M39: =C39-H39 -> 5 | N39: =(M39/L39)*100000 -> 22.372366 | O39: =RANK(N39,N5:N59) -> 31 | P39: =F39-K39 -> 6
A40: Pendleton | B40: 7103 | C40: 0 | D40: =(C40/B40)*100000 -> 0 | F40: 0 | G40: 3576 | H40: 0 | I40: =(H40/G40)*100000 -> 0 | K40: 0 | L40: =B40-G40 -> 3527 | M40: =C40-H40 -> 0 | N40: =(M40/L40)*100000 -> 0 | P40: =F40-K40 -> 0
A41: Pleasants | B41: 7503 | C41: 2 | D41: =(C41/B41)*100000 -> 26.656004 | E41: =RANK(D41,D5:D59) -> 29 | F41: 1 | G41: 4042 | H41: 2 | I41: =(H41/G41)*100000 -> 49.480455 | J41: =RANK(I41,I5:I59) -> 18 | K41: 1 | L41: =B41-G41 -> 3461 | M41: =C41-H41 -> 0 | N41: =(M41/L41)*100000 -> 0 | P41: =F41-K41 -> 0
A42: Pocahontas | B42: 8571 | C42: 4 | D42: =(C42/B42)*100000 -> 46.669 | E42: =RANK(D42,D5:D59) -> 13 | F42: 4 | G42: 4399 | H42: 3 | I42: =(H42/G42)*100000 -> 68.197318 | J42: =RANK(I42,I5:I59) -> 10 | K42: 4 | L42: =B42-G42 -> 4172 | M42: =C42-H42 -> 1 | N42: =(M42/L42)*100000 -> 23.969319 | O42: =RANK(N42,N5:N59) -> 27 | P42: =F42-K42 -> 0
A43: Preston | B43: 33805 | C43: 4 | D43: =(C43/B43)*100000 -> 11.832569 | E43: =RANK(D43,D5:D59) -> 46 | F43: 3 | G43: 17406 | H43: 0 | I43: =(H43/G43)*100000 -> 0 | K43: 1 | L43: =B43-G43 -> 16399 | M43: =C43-H43 -> 4 | N43: =(M43/L43)*100000 -> 24.391731 | O43: =RANK(N43,N5:N59) -> 26 | P43: =F43-K43 -> 2
A44: Putnam | B44: 56606 | C44: 19 | D44: =(C44/B44)*100000 -> 33.565346 | E44: =RANK(D44,D5:D59) -> 21 | F44: 10 | G44: 27805 | H44: 13 | I44: =(H44/G44)*100000 -> 46.754181 | J44: =RANK(I44,I5:I59) -> 19 | K44: 7 | L44: =B44-G44 -> 28801 | M44: =C44-H44 -> 6 | N44: =(M44/L44)*100000 -> 20.83261 | O44: =RANK(N44,N5:N59) -> 33 | P44: =F44-K44 -> 3
A45: Raleigh | B45: 77335 | C45: 63 | D45: =(C45/B45)*100000 -> 81.463762 | E45: =RANK(D45,D5:D59) -> 3 | F45: 59 | G45: 38735 | H45: 37 | I45: =(H45/G45)*100000 -> 95.520847 | J45: =RANK(I45,I5:I59) -> 4 | K45: 35 | L45: =B45-G45 -> 38600 | M45: =C45-H45 -> 26 | N45: =(M45/L45)*100000 -> 67.357513 | O45: =RANK(N45,N5:N59) -> 5 | P45: =F45-K45 -> 24
A46: Randolph | B46: 29165 | C46: 3 | D46: =(C46/B46)*100000 -> 10.286302 | E46: =RANK(D46,D5:D59) -> 50 | F46: 3 | G46: 15062 | H46: 1 | I46: =(H46/G46)*100000 -> 6.6392245 | J46: =RANK(I46,I5:I59) -> 45 | K46: 2 | L46: =B46-G46 -> 14103 | M46: =C46-H46 -> 2 | N46: =(M46/L46)*100000 -> 14.18138 | O46: =RANK(N46,N5:N59) -> 39 | P46: =F46-K46 -> 1
A47: Ritchie | B47: 10086 | C47: 1 | D47: =(C47/B47)*100000 -> 9.9147333 | E47: =RANK(D47,D5:D59) -> 51 | F47: 0 | G47: 5044 | H47: 0 | I47: =(H47/G47)*100000 -> 0 | K47: 0 | L47: =B47-G47 -> 5042 | M47: =C47-H47 -> 1 | N47: =(M47/L47)*100000 -> 19.833399 | O47: =RANK(N47,N5:N59) -> 34 | P47: =F47-K47 -> 0
A48: Roane | B48: 14372 | C48: 3 | D48: =(C48/B48)*100000 -> 20.873922 | E48: =RANK(D48,D5:D59) -> 34 | F48: 2 | G48: 7122 | H48: 1 | I48: =(H48/G48)*100000 -> 14.041 | J48: =RANK(I48,I5:I59) -> 42 | K48: 0 | L48: =B48-G48 -> 7250 | M48: =C48-H48 -> 2 | N48: =(M48/L48)*100000 -> 27.586207 | O48: =RANK(N48,N5:N59) -> 21 | P48: =F48-K48 -> 2
A49: Summers | B49: 13130 | C49: 5 | D49: =(C49/B49)*100000 -> 38.080731 | E49: =RANK(D49,D5:D59) -> 18 | F49: 2 | G49: 5961 | H49: 3 | I49: =(H49/G49)*100000 -> 50.327126 | J49: =RANK(I49,I5:I59) -> 17 | K49: 1 | L49: =B49-G49 -> 7169 | M49: =C49-H49 -> 2 | N49: =(M49/L49)*100000 -> 27.897894 | O49: =RANK(N49,N5:N59) -> 20 | P49: =F49-K49 -> 1
A50: Taylor | B50: 16923 | C50: 2 | D50: =(C50/B50)*100000 -> 11.818236 | E50: =RANK(D50,D5:D59) -> 47 | F50: 2 | G50: 8555 | H50: 0 | I50: =(H50/G50)*100000 -> 0 | K50: 0 | L50: =B50-G50 -> 8368 | M50: =C50-H50 -> 2 | N50: =(M50/L50)*100000 -> 23.900574 | O50: =RANK(N50,N5:N59) -> 28 | P50: =F50-K50 -> 2
A51: Tucker | B51: 7087 | C51: 0 | D51: =(C51/B51)*100000 -> 0 | F51: 1 | G51: 3621 | H51: 0 | I51: =(H51/G51)*100000 -> 0 | K51: 1 | L51: =B51-G51 -> 3466 | M51: =C51-H51 -> 0 | N51: =(M51/L51)*100000 -> 0 | P51: =F51-K51 -> 0
A52: Tyler | B52: 8935 | C52: 1 | D52: =(C52/B52)*100000 -> 11.191942 | E52: =RANK(D52,D5:D59) -> 49 | F52: 1 | G52: 4437 | H52: 0 | I52: =(H52/G52)*100000 -> 0 | K52: 0 | L52: =B52-G52 -> 4498 | M52: =C52-H52 -> 1 | N52: =(M52/L52)*100000 -> 22.232103 | O52: =RANK(N52,N5:N59) -> 32 | P52: =F52-K52 -> 1
A53: Upshur | B53: 24695 | C53: 3 | D53: =(C53/B53)*100000 -> 12.148208 | E53: =RANK(D53,D5:D59) -> 45 | F53: 3 | G53: 12239 | H53: 2 | I53: =(H53/G53)*100000 -> 16.341204 | J53: =RANK(I53,I5:I59) -> 39 | K53: 1 | L53: =B53-G53 -> 12456 | M53: =C53-H53 -> 1 | N53: =(M53/L53)*100000 -> 8.0282595 | O53: =RANK(N53,N5:N59) -> 45 | P53: =F53-K53 -> 2
A54: Wayne | B54: 41187 | C54: 16 | D54: =(C54/B54)*100000 -> 38.847209 | E54: =RANK(D54,D5:D59) -> 17 | F54: 10 | G54: 20056 | H54: 13 | I54: =(H54/G54)*100000 -> 64.818508 | J54: =RANK(I54,I5:I59) -> 12 | K54: 8 | L54: =B54-G54 -> 21131 | M54: =C54-H54 -> 3 | N54: =(M54/L54)*100000 -> 14.197151 | O54: =RANK(N54,N5:N59) -> 38 | P54: =F54-K54 -> 2
A55: Webster | B55: 8648 | C55: 5 | D55: =(C55/B55)*100000 -> 57.816836 | E55: =RANK(D55,D5:D59) -> 9 | F55: 5 | G55: 4283 | H55: 2 | I55: =(H55/G55)*100000 -> 46.696241 | J55: =RANK(I55,I5:I59) -> 20 | K55: 2 | L55: =B55-G55 -> 4365 | M55: =C55-H55 -> 3 | N55: =(M55/L55)*100000 -> 68.728522 | O55: =RANK(N55,N5:N59) -> 3 | P55: =F55-K55 -> 3
A56: Wetzel | B56: 15793 | C56: 5 | D56: =(C56/B56)*100000 -> 31.659596 | E56: =RANK(D56,D5:D59) -> 24 | F56: 5 | G56: 7784 | H56: 5 | I56: =(H56/G56)*100000 -> 64.234327 | J56: =RANK(I56,I5:I59) -> 14 | K56: 5 | L56: =B56-G56 -> 8009 | M56: =C56-H56 -> 0 | N56: =(M56/L56)*100000 -> 0 | P56: =F56-K56 -> 0
A57: Wirt | B57: 5805 | C57: 1 | D57: =(C57/B57)*100000 -> 17.226529 | E57: =RANK(D57,D5:D59) -> 37 | F57: 0 | G57: 2948 | H57: 1 | I57: =(H57/G57)*100000 -> 33.921303 | J57: =RANK(I57,I5:I59) -> 27 | K57: 0 | L57: =B57-G57 -> 2857 | M57: =C57-H57 -> 0 | N57: =(M57/L57)*100000 -> 0 | P57: =F57-K57 -> 0
A58: Wood | B58: 86304 | C58: 24 | D58: =(C58/B58)*100000 -> 27.808676 | E58: =RANK(D58,D5:D59) -> 26 | F58: 25 | G58: 41774 | H58: 10 | I58: =(H58/G58)*100000 -> 23.938335 | J58: =RANK(I58,I5:I59) -> 34 | K58: 12 | L58: =B58-G58 -> 44530 | M58: =C58-H58 -> 14 | N58: =(M58/L58)*100000 -> 31.439479 | O58: =RANK(N58,N5:N59) -> 17 | P58: =F58-K58 -> 13
A59: Wyoming | B59: 22173 | C59: 25 | D59: =(C59/B59)*100000 -> 112.74974 | E59: =RANK(D59,D5:D59) -> 2 | F59: 17 | G59: 10939 | H59: 15 | I59: =(H59/G59)*100000 -> 137.12405 | J59: =RANK(I59,I5:I59) -> 2 | K59: 10 | L59: =B59-G59 -> 11234 | M59: =C59-H59 -> 10 | N59: =(M59/L59)*100000 -> 89.015489 | O59: =RANK(N59,N5:N59) -> 2 | P59: =F59-K59 -> 7
A60: WV Total | B60: =SUM(B5:B59) -> 1839767 | C60: =SUM(C5:C59) -> 732 | D60: =(C60/B60)*100000 -> 39.787647 | F60: =SUM(F5:F59) -> 735 | G60: =SUM(G5:G59) -> 909484 | H60: =SUM(H5:H59) -> 438 | I60: =(H60/G60)*100000 -> 48.159176 | K60: =SUM(K5:K59) -> 449 | L60: =SUM(L5:L59) -> 930283 | M60: =SUM(M5:M59) -> 294 | N60: =(M60/L60)*100000 -> 31.603286 | P60: =SUM(P5:P59) -> 286
A61: Source: West Virginia Health Statistics Center, Vital Statistics System, September 2018.
A65: 2015 West Virginia Resident Births
A66: Births to Teens Ages 15-19 by County
A68: County | B68: Estimated Female Population Ages 15-19 | C68: Number of Resident Births to Mothers Ages 15-19 | D68: Rate per 1,000 Females Ages 10-19 | E68: Rank | F68: Number of Resident Fetal Deaths to Mothers Ages 15-19 | G68: Number of Resident *Abortions to Females Ages 15-19 | H68: Estimated Number of Pregnancies to Females Ages 15-19 | I68: Rate per 1,000 Females Ages 10-19 | J68: Rank
A69: Barbour | B69: 694 | C69: 15 | D69: =(C69/B69)*1000 -> 21.613833 | E69: =RANK(D69,D69:D123) -> 48 | F69: 0 | G69: 0 | H69: =C69+F69+G69 -> 15 | I69: =(H69/B69)*1000 -> 21.613833 | J69: =RANK(I69,I69:I123) -> 48
A70: Berkeley | B70: 3353 | C70: 103 | D70: =(C70/B70)*1000 -> 30.718759 | E70: =RANK(D70,D69:D123) -> 35 | F70: 2 | G70: 0 | H70: =C70+F70+G70 -> 105 | I70: =(H70/B70)*1000 -> 31.31524 | J70: =RANK(I70,I69:I123) -> 38
A71: Boone | B71: 643 | C71: 35 | D71: =(C71/B71)*1000 -> 54.432348 | E71: =RANK(D71,D69:D123) -> 3 | F71: 0 | G71: 1 | H71: =C71+F71+G71 -> 36 | I71: =(H71/B71)*1000 -> 55.987558 | J71: =RANK(I71,I69:I123) -> 4
A72: Braxton | B72: 376 | C72: 14 | D72: =(C72/B72)*1000 -> 37.234043 | E72: =RANK(D72,D69:D123) -> 23 | F72: 0 | G72: 2 | H72: =C72+F72+G72 -> 16 | I72: =(H72/B72)*1000 -> 42.553191 | J72: =RANK(I72,I69:I123) -> 20
A73: Brooke | B73: 726 | C73: 19 | D73: =(C73/B73)*1000 -> 26.170799 | E73: =RANK(D73,D69:D123) -> 45 | F73: 0 | G73: 2 | H73: =C73+F73+G73 -> 21 | I73: =(H73/B73)*1000 -> 28.92562 | J73: =RANK(I73,I69:I123) -> 45
A74: Cabell | B74: 3255 | C74: 90 | D74: =(C74/B74)*1000 -> 27.64977 | E74: =RANK(D74,D69:D123) -> 43 | F74: 0 | G74: 12 | H74: =C74+F74+G74 -> 102 | I74: =(H74/B74)*1000 -> 31.336406 | J74: =RANK(I74,I69:I123) -> 37
A75: Calhoun | B75: 180 | C75: 9 | D75: =(C75/B75)*1000 -> 50 | E75: =RANK(D75,D69:D123) -> 6 | F75: 0 | G75: 0 | H75: =C75+F75+G75 -> 9 | I75: =(H75/B75)*1000 -> 50 | J75: =RANK(I75,I69:I123) -> 9
A76: Clay | B76: 259 | C76: 15 | D76: =(C76/B76)*1000 -> 57.915058 | E76: =RANK(D76,D69:D123) -> 2 | F76: 0 | G76: 0 | H76: =C76+F76+G76 -> 15 | I76: =(H76/B76)*1000 -> 57.915058 | J76: =RANK(I76,I69:I123) -> 3
A77: Doddridge | B77: 217 | C77: 8 | D77: =(C77/B77)*1000 -> 36.866359 | E77: =RANK(D77,D69:D123) -> 25 | F77: 0 | G77: 0 | H77: =C77+F77+G77 -> 8 | I77: =(H77/B77)*1000 -> 36.866359 | J77: =RANK(I77,I69:I123) -> 28
A78: Fayette | B78: 1150 | C78: 52 | D78: =(C78/B78)*1000 -> 45.217391 | E78: =RANK(D78,D69:D123) -> 9 | F78: 0 | G78: 6 | H78: =C78+F78+G78 -> 58 | I78: =(H78/B78)*1000 -> 50.434783 | J78: =RANK(I78,I69:I123) -> 8
A79: Gilmer | B79: 283 | C79: 5 | D79: =(C79/B79)*1000 -> 17.667845 | E79: =RANK(D79,D69:D123) -> 53 | F79: 0 | G79: 1 | H79: =C79+F79+G79 -> 6 | I79: =(H79/B79)*1000 -> 21.201413 | J79: =RANK(I79,I69:I123) -> 49
A80: Grant | B80: 298 | C80: 11 | D80: =(C80/B80)*1000 -> 36.912752 | E80: =RANK(D80,D69:D123) -> 24 | F80: 0 | G80: 0 | H80: =C80+F80+G80 -> 11 | I80: =(H80/B80)*1000 -> 36.912752 | J80: =RANK(I80,I69:I123) -> 27
A81: Greenbrier | B81: 888 | C81: 34 | D81: =(C81/B81)*1000 -> 38.288288 | E81: =RANK(D81,D69:D123) -> 20 | F81: 0 | G81: 2 | H81: =C81+F81+G81 -> 36 | I81: =(H81/B81)*1000 -> 40.540541 | J81: =RANK(I81,I69:I123) -> 22
A82: Hampshire | B82: 680 | C82: 33 | D82: =(C82/B82)*1000 -> 48.529412 | E82: =RANK(D82,D69:D123) -> 8 | F82: 0 | G82: 1 | H82: =C82+F82+G82 -> 34 | I82: =(H82/B82)*1000 -> 50 | J82: =RANK(I82,I69:I123) -> 9
A83: Hancock | B83: 770 | C83: 14 | D83: =(C83/B83)*1000 -> 18.181818 | E83: =RANK(D83,D69:D123) -> 51 | F83: 0 | G83: 0 | H83: =C83+F83+G83 -> 14 | I83: =(H83/B83)*1000 -> 18.181818 | J83: =RANK(I83,I69:I123) -> 53
A84: Hardy | B84: 370 | C84: 12 | D84: =(C84/B84)*1000 -> 32.432432 | E84: =RANK(D84,D69:D123) -> 31 | F84: 1 | G84: 0 | H84: =C84+F84+G84 -> 13 | I84: =(H84/B84)*1000 -> 35.135135 | J84: =RANK(I84,I69:I123) -> 31
A85: Harrison | B85: 1939 | C85: 56 | D85: =(C85/B85)*1000 -> 28.880866 | E85: =RANK(D85,D69:D123) -> 40 | F85: 0 | G85: 6 | H85: =C85+F85+G85 -> 62 | I85: =(H85/B85)*1000 -> 31.975245 | J85: =RANK(I85,I69:I123) -> 35
A86: Jackson | B86: 845 | C86: 24 | D86: =(C86/B86)*1000 -> 28.402367 | E86: =RANK(D86,D69:D123) -> 41 | F86: 1 | G86: 2 | H86: =C86+F86+G86 -> 27 | I86: =(H86/B86)*1000 -> 31.952663 | J86: =RANK(I86,I69:I123) -> 36
A87: Jefferson | B87: 1858 | C87: 26 | D87: =(C87/B87)*1000 -> 13.993541 | E87: =RANK(D87,D69:D123) -> 54 | F87: 0 | G87: 0 | H87: =C87+F87+G87 -> 26 | I87: =(H87/B87)*1000 -> 13.993541 | J87: =RANK(I87,I69:I123) -> 54
A88: Kanawha | B88: 5145 | C88: 195 | D88: =(C88/B88)*1000 -> 37.900875 | E88: =RANK(D88,D69:D123) -> 21 | F88: 0 | G88: 39 | H88: =C88+F88+G88 -> 234 | I88: =(H88/B88)*1000 -> 45.48105 | J88: =RANK(I88,I69:I123) -> 15
A89: Lewis | B89: 389 | C89: 17 | D89: =(C89/B89)*1000 -> 43.701799 | E89: =RANK(D89,D69:D123) -> 13 | F89: 0 | G89: 0 | H89: =C89+F89+G89 -> 17 | I89: =(H89/B89)*1000 -> 43.701799 | J89: =RANK(I89,I69:I123) -> 18
A90: Lincoln | B90: 576 | C90: 25 | D90: =(C90/B90)*1000 -> 43.402778 | E90: =RANK(D90,D69:D123) -> 14 | F90: 0 | G90: 2 | H90: =C90+F90+G90 -> 27 | I90: =(H90/B90)*1000 -> 46.875 | J90: =RANK(I90,I69:I123) -> 11
A91: Logan | B91: 947 | C91: 46 | D91: =(C91/B91)*1000 -> 48.574446 | E91: =RANK(D91,D69:D123) -> 7 | F91: 0 | G91: 4 | H91: =C91+F91+G91 -> 50 | I91: =(H91/B91)*1000 -> 52.79831 | J91: =RANK(I91,I69:I123) -> 6
A92: McDowell | B92: 492 | C92: 26 | D92: =(C92/B92)*1000 -> 52.845528 | E92: =RANK(D92,D69:D123) -> 5 | F92: 0 | G92: 0 | H92: =C92+F92+G92 -> 26 | I92: =(H92/B92)*1000 -> 52.845528 | J92: =RANK(I92,I69:I123) -> 5
A93: Marion | B93: 1709 | C93: 33 | D93: =(C93/B93)*1000 -> 19.309538 | E93: =RANK(D93,D69:D123) -> 49 | F93: 0 | G93: 2 | H93: =C93+F93+G93 -> 35 | I93: =(H93/B93)*1000 -> 20.479813 | J93: =RANK(I93,I69:I123) -> 50
A94: Marshall | B94: 859 | C94: 29 | D94: =(C94/B94)*1000 -> 33.760186 | E94: =RANK(D94,D69:D123) -> 29 | F94: 0 | G94: 0 | H94: =C94+F94+G94 -> 29 | I94: =(H94/B94)*1000 -> 33.760186 | J94: =RANK(I94,I69:I123) -> 32
A95: Mason | B95: 719 | C95: 32 | D95: =(C95/B95)*1000 -> 44.506259 | E95: =RANK(D95,D69:D123) -> 11 | F95: 1 | G95: 0 | H95: =C95+F95+G95 -> 33 | I95: =(H95/B95)*1000 -> 45.897079 | J95: =RANK(I95,I69:I123) -> 13
A96: Mercer | B96: 1736 | C96: 71 | D96: =(C96/B96)*1000 -> 40.898618 | E96: =RANK(D96,D69:D123) -> 19 | F96: 0 | G96: 3 | H96: =C96+F96+G96 -> 74 | I96: =(H96/B96)*1000 -> 42.626728 | J96: =RANK(I96,I69:I123) -> 19
A97: Mineral | B97: 863 | C97: 27 | D97: =(C97/B97)*1000 -> 31.286211 | E97: =RANK(D97,D69:D123) -> 33 | F97: 0 | G97: 0 | H97: =C97+F97+G97 -> 27 | I97: =(H97/B97)*1000 -> 31.286211 | J97: =RANK(I97,I69:I123) -> 39
A98: Mingo | B98: 656 | C98: 35 | D98: =(C98/B98)*1000 -> 53.353659 | E98: =RANK(D98,D69:D123) -> 4 | F98: 1 | G98: 2 | H98: =C98+F98+G98 -> 38 | I98: =(H98/B98)*1000 -> 57.926829 | J98: =RANK(I98,I69:I123) -> 2
A99: Monongalia | B99: 4008 | C99: 40 | D99: =(C99/B99)*1000 -> 9.9800399 | E99: =RANK(D99,D69:D123) -> 55 | F99: 0 | G99: 3 | H99: =C99+F99+G99 -> 43 | I99: =(H99/B99)*1000 -> 10.728543 | J99: =RANK(I99,I69:I123) -> 55
A100: Monroe | B100: 324 | C100: 11 | D100: =(C100/B100)*1000 -> 33.950617 | E100: =RANK(D100,D69:D123) -> 28 | F100: 0 | G100: 1 | H100: =C100+F100+G100 -> 12 | I100: =(H100/B100)*1000 -> 37.037037 | J100: =RANK(I100,I69:I123) -> 26
A101: Morgan | B101: 523 | C101: 10 | D101: =(C101/B101)*1000 -> 19.120459 | E101: =RANK(D101,D69:D123) -> 50 | F101: 0 | G101: 0 | H101: =C101+F101+G101 -> 10 | I101: =(H101/B101)*1000 -> 19.120459 | J101: =RANK(I101,I69:I123) -> 52
A102: Nicholas | B102: 636 | C102: 24 | D102: =(C102/B102)*1000 -> 37.735849 | E102: =RANK(D102,D69:D123) -> 22 | F102: 0 | G102: 0 | H102: =C102+F102+G102 -> 24 | I102: =(H102/B102)*1000 -> 37.735849 | J102: =RANK(I102,I69:I123) -> 25
A103: Ohio | B103: 1458 | C103: 33 | D103: =(C103/B103)*1000 -> 22.633745 | E103: =RANK(D103,D69:D123) -> 47 | F103: 0 | G103: 2 | H103: =C103+F103+G103 -> 35 | I103: =(H103/B103)*1000 -> 24.005487 | J103: =RANK(I103,I69:I123) -> 47
A104: Pendleton | B104: 172 | C104: 11 | D104: =(C104/B104)*1000 -> 63.953488 | E104: =RANK(D104,D69:D123) -> 1 | F104: 0 | G104: 0 | H104: =C104+F104+G104 -> 11 | I104: =(H104/B104)*1000 -> 63.953488 | J104: =RANK(I104,I69:I123) -> 1
A105: Pleasants | B105: 201 | C105: 9 | D105: =(C105/B105)*1000 -> 44.776119 | E105: =RANK(D105,D69:D123) -> 10 | F105: 0 | G105: 0 | H105: =C105+F105+G105 -> 9 | I105: =(H105/B105)*1000 -> 44.776119 | J105: =RANK(I105,I69:I123) -> 17
...

Sheet 2016
A1: 2016 West Virginia Deaths
A2: Drug Overdose Deaths by County
A4: County | B4: Estimated Population | C4: Number of Resident Drug Overdose Deaths | D4: Rate per 100,000 Population | E4: Rank | F4: Number of Occurrence Drug Overdose Deaths | G4: Estimated Male Population | H4: Number of Male Resident Drug Overdose Deaths | I4: Rate per 100,000 Males | J4: Rank | K4: Number of Male Occurrence Drug Overdose Deaths | L4: Estimated Female Population | M4: Number of Female Resident Drug Overdose Deaths | N4: Rate per 100,000 Females | O4: Rank | P4: Number of Female Occurrence Drug Overdose Deaths
A5: Barbour | B5: 16720 | C5: 2 | D5: =(C5/B5)*100000 -> 11.961722 | E5: =RANK(D5,D5:D59) -> 48 | F5: 1 | G5: 8178 | H5: 1 | I5: =(H5/G5)*100000 -> 12.227929 | J5: =RANK(I5,I5:I59) -> 47 | K5: 1 | L5: =B5-G5 -> 8542 | M5: =C5-H5 -> 1 | N5: =(M5/L5)*100000 -> 11.70686 | O5: =RANK(N5,N5:N59) -> 37 | P5: =F5-K5 -> 0
A6: Berkeley | B6: 113270 | C6: 88 | D6: =(C6/B6)*100000 -> 77.690474 | E6: =RANK(D6,D5:D59) -> 4 | F6: 94 | G6: 56081 | H6: 55 | I6: =(H6/G6)*100000 -> 98.072431 | J6: =RANK(I6,I5:I59) -> 7 | K6: 63 | L6: =B6-G6 -> 57189 | M6: =C6-H6 -> 33 | N6: =(M6/L6)*100000 -> 57.703405 | O6: =RANK(N6,N5:N59) -> 2 | P6: =F6-K6 -> 31
A7: Boone | B7: 22795 | C7: 8 | D7: =(C7/B7)*100000 -> 35.095416 | E7: =RANK(D7,D5:D59) -> 25 | F7: 9 | G7: 11348 | H7: 4 | I7: =(H7/G7)*100000 -> 35.248502 | J7: =RANK(I7,I5:I59) -> 35 | K7: 4 | L7: =B7-G7 -> 11447 | M7: =C7-H7 -> 4 | N7: =(M7/L7)*100000 -> 34.943653 | O7: =RANK(N7,N5:N59) -> 18 | P7: =F7-K7 -> 5
A8: Braxton | B8: 14341 | C8: 2 | D8: =(C8/B8)*100000 -> 13.946029 | E8: =RANK(D8,D5:D59) -> 45 | F8: 2 | G8: 7237 | H8: 1 | I8: =(H8/G8)*100000 -> 13.81788 | J8: =RANK(I8,I5:I59) -> 46 | K8: 1 | L8: =B8-G8 -> 7104 | M8: =C8-H8 -> 1 | N8: =(M8/L8)*100000 -> 14.076577 | O8: =RANK(N8,N5:N59) -> 32 | P8: =F8-K8 -> 1
A9: Brooke | B9: 22707 | C9: 11 | D9: =(C9/B9)*100000 -> 48.443211 | E9: =RANK(D9,D5:D59) -> 18 | F9: 11 | G9: 11134 | H9: 7 | I9: =(H9/G9)*100000 -> 62.870487 | J9: =RANK(I9,I5:I59) -> 20 | K9: 7 | L9: =B9-G9 -> 11573 | M9: =C9-H9 -> 4 | N9: =(M9/L9)*100000 -> 34.563207 | O9: =RANK(N9,N5:N59) -> 19 | P9: =F9-K9 -> 4
A10: Cabell | B10: 95669 | C10: 100 | D10: =(C10/B10)*100000 -> 104.52707 | E10: =RANK(D10,D5:D59) -> 1 | F10: 133 | G10: 46880 | H10: 75 | I10: =(H10/G10)*100000 -> 159.98294 | J10: =RANK(I10,I5:I59) -> 1 | K10: 97 | L10: =B10-G10 -> 48789 | M10: =C10-H10 -> 25 | N10: =(M10/L10)*100000 -> 51.241058 | O10: =RANK(N10,N5:N59) -> 6 | P10: =F10-K10 -> 36
A11: Calhoun | B11: 7367 | C11: 0 | D11: =(C11/B11)*100000 -> 0 | F11: 0 | G11: 3655 | H11: 0 | I11: =(H11/G11)*100000 -> 0 | K11: 0 | L11: =B11-G11 -> 3712 | M11: =C11-H11 -> 0 | N11: =(M11/L11)*100000 -> 0 | P11: =F11-K11 -> 0
A12: Clay | B12: 8843 | C12: 3 | D12: =(C12/B12)*100000 -> 33.925139 | E12: =RANK(D12,D5:D59) -> 29 | F12: 2 | G12: 4451 | H12: 3 | I12: =(H12/G12)*100000 -> 67.400584 | J12: =RANK(I12,I5:I59) -> 19 | K12: 2 | L12: =B12-G12 -> 4392 | M12: =C12-H12 -> 0 | N12: =(M12/L12)*100000 -> 0 | P12: =F12-K12 -> 0
A13: Doddridge | B13: 8583 | C13: 2 | D13: =(C13/B13)*100000 -> 23.301876 | E13: =RANK(D13,D5:D59) -> 37 | F13: 1 | G13: 4714 | H13: 2 | I13: =(H13/G13)*100000 -> 42.426814 | J13: =RANK(I13,I5:I59) -> 31 | K13: 1 | L13: =B13-G13 -> 3869 | M13: =C13-H13 -> 0 | N13: =(M13/L13)*100000 -> 0 | P13: =F13-K13 -> 0
A14: Fayette | B14: 44102 | C14: 16 | D14: =(C14/B14)*100000 -> 36.279534 | E14: =RANK(D14,D5:D59) -> 24 | F14: 18 | G14: 22210 | H14: 12 | I14: =(H14/G14)*100000 -> 54.029716 | J14: =RANK(I14,I5:I59) -> 26 | K14: 13 | L14: =B14-G14 -> 21892 | M14: =C14-H14 -> 4 | N14: =(M14/L14)*100000 -> 18.271515 | O14: =RANK(N14,N5:N59) -> 30 | P14: =F14-K14 -> 5
A15: Gilmer | B15: 8128 | C15: 0 | D15: =(C15/B15)*100000 -> 0 | F15: 0 | G15: 4810 | H15: 0 | I15: =(H15/G15)*100000 -> 0 | K15: 0 | L15: =B15-G15 -> 3318 | M15: =C15-H15 -> 0 | N15: =(M15/L15)*100000 -> 0 | P15: =F15-K15 -> 0
A16: Grant | B16: 11643 | C16: 4 | D16: =(C16/B16)*100000 -> 34.355407 | E16: =RANK(D16,D5:D59) -> 27 | F16: 4 | G16: 5820 | H16: 4 | I16: =(H16/G16)*100000 -> 68.728522 | J16: =RANK(I16,I5:I59) -> 18 | K16: 4 | L16: =B16-G16 -> 5823 | M16: =C16-H16 -> 0 | N16: =(M16/L16)*100000 -> 0 | P16: =F16-K16 -> 0
A17: Greenbrier | B17: 35494 | C17: 8 | D17: =(C17/B17)*100000 -> 22.539021 | E17: =RANK(D17,D5:D59) -> 38 | F17: 7 | G17: 17335 | H17: 4 | I17: =(H17/G17)*100000 -> 23.074704 | J17: =RANK(I17,I5:I59) -> 43 | K17: 5 | L17: =B17-G17 -> 18159 | M17: =C17-H17 -> 4 | N17: =(M17/L17)*100000 -> 22.027645 | O17: =RANK(N17,N5:N59) -> 28 | P17: =F17-K17 -> 2
A18: Hampshire | B18: 23343 | C18: 16 | D18: =(C18/B18)*100000 -> 68.543032 | E18: =RANK(D18,D5:D59) -> 7 | F18: 12 | G18: 11870 | H18: 13 | I18: =(H18/G18)*100000 -> 109.5198 | J18: =RANK(I18,I5:I59) -> 3 | K18: 9 | L18: =B18-G18 -> 11473 | M18: =C18-H18 -> 3 | N18: =(M18/L18)*100000 -> 26.148348 | O18: =RANK(N18,N5:N59) -> 24 | P18: =F18-K18 -> 3
A19: Hancock | B19: 29621 | C19: 12 | D19: =(C19/B19)*100000 -> 40.511799 | E19: =RANK(D19,D5:D59) -> 21 | F19: 5 | G19: 14453 | H19: 8 | I19: =(H19/G19)*100000 -> 55.35183 | J19: =RANK(I19,I5:I59) -> 24 | K19: 3 | L19: =B19-G19 -> 15168 | M19: =C19-H19 -> 4 | N19: =(M19/L19)*100000 -> 26.371308 | O19: =RANK(N19,N5:N59) -> 23 | P19: =F19-K19 -> 2
A20: Hardy | B20: 13731 | C20: 2 | D20: =(C20/B20)*100000 -> 14.565582 | E20: =RANK(D20,D5:D59) -> 42 | F20: 0 | G20: 6908 | H20: 1 | I20: =(H20/G20)*100000 -> 14.47597 | J20: =RANK(I20,I5:I59) -> 45 | K20: 0 | L20: =B20-G20 -> 6823 | M20: =C20-H20 -> 1 | N20: =(M20/L20)*100000 -> 14.65631 | O20: =RANK(N20,N5:N59) -> 31 | P20: =F20-K20 -> 0
A21: Harrison | B21: 68280 | C21: 27 | D21: =(C21/B21)*100000 -> 39.543058 | E21: =RANK(D21,D5:D59) -> 22 | F21: 26 | G21: 33517 | H21: 17 | I21: =(H21/G21)*100000 -> 50.72053 | J21: =RANK(I21,I5:I59) -> 29 | K21: 16 | L21: =B21-G21 -> 34763 | M21: =C21-H21 -> 10 | N21: =(M21/L21)*100000 -> 28.766217 | O21: =RANK(N21,N5:N59) -> 20 | P21: =F21-K21 -> 10
A22: Jackson | B22: 29172 | C22: 5 | D22: =(C22/B22)*100000 -> 17.139723 | E22: =RANK(D22,D5:D59) -> 41 | F22: 3 | G22: 14442 | H22: 4 | I22: =(H22/G22)*100000 -> 27.696995 | J22: =RANK(I22,I5:I59) -> 39 | K22: 2 | L22: =B22-G22 -> 14730 | M22: =C22-H22 -> 1 | N22: =(M22/L22)*100000 -> 6.7888663 | O22: =RANK(N22,N5:N59) -> 40 | P22: =F22-K22 -> 1
A23: Jefferson | B23: 55848 | C23: 35 | D23: =(C23/B23)*100000 -> 62.670105 | E23: =RANK(D23,D5:D59) -> 9 | F23: 33 | G23: 27644 | H23: 27 | I23: =(H23/G23)*100000 -> 97.670381 | J23: =RANK(I23,I5:I59) -> 8 | K23: 25 | L23: =B23-G23 -> 28204 | M23: =C23-H23 -> 8 | N23: =(M23/L23)*100000 -> 28.364771 | O23: =RANK(N23,N5:N59) -> 21 | P23: =F23-K23 -> 8
A24: Kanawha | B24: 186097 | C24: 112 | D24: =(C24/B24)*100000 -> 60.183668 | E24: =RANK(D24,D5:D59) -> 12 | F24: 130 | G24: 89709 | H24: 62 | I24: =(H24/G24)*100000 -> 69.112352 | J24: =RANK(I24,I5:I59) -> 17 | K24: 75 | L24: =B24-G24 -> 96388 | M24: =C24-H24 -> 50 | N24: =(M24/L24)*100000 -> 51.873677 | O24: =RANK(N24,N5:N59) -> 5 | P24: =F24-K24 -> 55
A25: Lewis | B25: 16292 | C25: 0 | D25: =(C25/B25)*100000 -> 0 | F25: 2 | G25: 8127 | H25: 0 | I25: =(H25/G25)*100000 -> 0 | K25: 2 | L25: =B25-G25 -> 8165 | M25: =C25-H25 -> 0 | N25: =(M25/L25)*100000 -> 0 | P25: =F25-K25 -> 0
A26: Lincoln | B26: 21096 | C26: 13 | D26: =(C26/B26)*100000 -> 61.623057 | E26: =RANK(D26,D5:D59) -> 10 | F26: 7 | G26: 10497 | H26: 8 | I26: =(H26/G26)*100000 -> 76.212251 | J26: =RANK(I26,I5:I59) -> 12 | K26: 2 | L26: =B26-G26 -> 10599 | M26: =C26-H26 -> 5 | N26: =(M26/L26)*100000 -> 47.174262 | O26: =RANK(N26,N5:N59) -> 9 | P26: =F26-K26 -> 5
A27: Logan | B27: 33644 | C27: 15 | D27: =(C27/B27)*100000 -> 44.584473 | E27: =RANK(D27,D5:D59) -> 20 | F27: 11 | G27: 16522 | H27: 9 | I27: =(H27/G27)*100000 -> 54.472824 | J27: =RANK(I27,I5:I59) -> 25 | K27: 7 | L27: =B27-G27 -> 17122 | M27: =C27-H27 -> 6 | N27: =(M27/L27)*100000 -> 35.042635 | O27: =RANK(N27,N5:N59) -> 17 | P27: =F27-K27 -> 4
A28: McDowell | B28: 19139 | C28: 12 | D28: =(C28/B28)*100000 -> 62.699201 | E28: =RANK(D28,D5:D59) -> 8 | F28: 9 | G28: 9350 | H28: 7 | I28: =(H28/G28)*100000 -> 74.86631 | J28: =RANK(I28,I5:I59) -> 14 | K28: 5 | L28: =B28-G28 -> 9789 | M28: =C28-H28 -> 5 | N28: =(M28/L28)*100000 -> 51.07774 | O28: =RANK(N28,N5:N59) -> 7 | P28: =F28-K28 -> 4
A29: Marion | B29: 56477 | C29: 10 | D29: =(C29/B29)*100000 -> 17.706323 | E29: =RANK(D29,D5:D59) -> 40 | F29: 9 | G29: 27828 | H29: 8 | I29: =(H29/G29)*100000 -> 28.748024 | J29: =RANK(I29,I5:I59) -> 36 | K29: 6 | L29: =B29-G29 -> 28649 | M29: =C29-H29 -> 2 | N29: =(M29/L29)*100000 -> 6.9810465 | O29: =RANK(N29,N5:N59) -> 39 | P29: =F29-K29 -> 3
A30: Marshall | B30: 31705 | C30: 8 | D30: =(C30/B30)*100000 -> 25.232613 | E30: =RANK(D30,D5:D59) -> 34 | F30: 6 | G30: 15650 | H30: 6 | I30: =(H30/G30)*100000 -> 38.338658 | J30: =RANK(I30,I5:I59) -> 34 | K30: 4 | L30: =B30-G30 -> 16055 | M30: =C30-H30 -> 2 | N30: =(M30/L30)*100000 -> 12.457178 | O30: =RANK(N30,N5:N59) -> 35 | P30: =F30-K30 -> 2
A31: Mason | B31: 26909 | C31: 15 | D31: =(C31/B31)*100000 -> 55.743432 | E31: =RANK(D31,D5:D59) -> 14 | F31: 13 | G31: 12984 | H31: 10 | I31: =(H31/G31)*100000 -> 77.017868 | J31: =RANK(I31,I5:I59) -> 11 | K31: 10 | L31: =B31-G31 -> 13925 | M31: =C31-H31 -> 5 | N31: =(M31/L31)*100000 -> 35.906643 | O31: =RANK(N31,N5:N59) -> 16 | P31: =F31-K31 -> 3
A32: Mercer | B32: 60494 | C32: 44 | D32: =(C32/B32)*100000 -> 72.734486 | E32: =RANK(D32,D5:D59) -> 6 | F32: 45 | G32: 28953 | H32: 27 | I32: =(H32/G32)*100000 -> 93.254585 | J32: =RANK(I32,I5:I59) -> 9 | K32: 26 | L32: =B32-G32 -> 31541 | M32: =C32-H32 -> 17 | N32: =(M32/L32)*100000 -> 53.898101 | O32: =RANK(N32,N5:N59) -> 3 | P32: =F32-K32 -> 19
A33: Mineral | B33: 27322 | C33: 13 | D33: =(C33/B33)*100000 -> 47.580704 | E33: =RANK(D33,D5:D59) -> 19 | F33: 11 | G33: 13579 | H33: 8 | I33: =(H33/G33)*100000 -> 58.9145 | J33: =RANK(I33,I5:I59) -> 22 | K33: 7 | L33: =B33-G33 -> 13743 | M33: =C33-H33 -> 5 | N33: =(M33/L33)*100000 -> 36.382158 | O33: =RANK(N33,N5:N59) -> 14 | P33: =F33-K33 -> 4
A34: Mingo | B34: 24677 | C34: 22 | D34: =(C34/B34)*100000 -> 89.151842 | E34: =RANK(D34,D5:D59) -> 2 | F34: 21 | G34: 12129 | H34: 13 | I34: =(H34/G34)*100000 -> 107.18114 | J34: =RANK(I34,I5:I59) -> 4 | K34: 11 | L34: =B34-G34 -> 12548 | M34: =C34-H34 -> 9 | N34: =(M34/L34)*100000 -> 71.724578 | O34: =RANK(N34,N5:N59) -> 1 | P34: =F34-K34 -> 10
A35: Monongalia | B35: 104771 | C35: 31 | D35: =(C35/B35)*100000 -> 29.58834 | E35: =RANK(D35,D5:D59) -> 32 | F35: 51 | G35: 53965 | H35: 29 | I35: =(H35/G35)*100000 -> 53.738534 | J35: =RANK(I35,I5:I59) -> 27 | K35: 40 | L35: =B35-G35 -> 50806 | M35: =C35-H35 -> 2 | N35: =(M35/L35)*100000 -> 3.9365429 | O35: =RANK(N35,N5:N59) -> 41 | P35: =F35-K35 -> 11
A36: Monroe | B36: 13477 | C36: 4 | D36: =(C36/B36)*100000 -> 29.680196 | E36: =RANK(D36,D5:D59) -> 31 | F36: 3 | G36: 6723 | H36: 4 | I36: =(H36/G36)*100000 -> 59.497248 | J36: =RANK(I36,I5:I59) -> 21 | K36: 3 | L36: =B36-G36 -> 6754 | M36: =C36-H36 -> 0 | N36: =(M36/L36)*100000 -> 0 | P36: =F36-K36 -> 0
A37: Morgan | B37: 17583 | C37: 6 | D37: =(C37/B37)*100000 -> 34.12387 | E37: =RANK(D37,D5:D59) -> 28 | F37: 5 | G37: 8753 | H37: 2 | I37: =(H37/G37)*100000 -> 22.849309 | J37: =RANK(I37,I5:I59) -> 44 | K37: 2 | L37: =B37-G37 -> 8830 | M37: =C37-H37 -> 4 | N37: =(M37/L37)*100000 -> 45.300113 | O37: =RANK(N37,N5:N59) -> 11 | P37: =F37-K37 -> 3
A38: Nicholas | B38: 25291 | C38: 14 | D38: =(C38/B38)*100000 -> 55.35566 | E38: =RANK(D38,D5:D59) -> 15 | F38: 8 | G38: 12459 | H38: 11 | I38: =(H38/G38)*100000 -> 88.28959 | J38: =RANK(I38,I5:I59) -> 10 | K38: 6 | L38: =B38-G38 -> 12832 | M38: =C38-H38 -> 3 | N38: =(M38/L38)*100000 -> 23.379052 | O38: =RANK(N38,N5:N59) -> 26 | P38: =F38-K38 -> 2
A39: Ohio | B39: 42598 | C39: 11 | D39: =(C39/B39)*100000 -> 25.822809 | E39: =RANK(D39,D5:D59) -> 33 | F39: 12 | G39: 20489 | H39: 8 | I39: =(H39/G39)*100000 -> 39.045341 | J39: =RANK(I39,I5:I59) -> 33 | K39: 8 | L39: =B39-G39 -> 22109 | M39: =C39-H39 -> 3 | N39: =(M39/L39)*100000 -> 13.569135 | O39: =RANK(N39,N5:N59) -> 33 | P39: =F39-K39 -> 4
A40: Pendleton | B40: 6987 | C40: 1 | D40: =(C40/B40)*100000 -> 14.312294 | E40: =RANK(D40,D5:D59) -> 43 | F40: 0 | G40: 3525 | H40: 1 | I40: =(H40/G40)*100000 -> 28.368794 | J40: =RANK(I40,I5:I59) -> 37 | K40: 0 | L40: =B40-G40 -> 3462 | M40: =C40-H40 -> 0 | N40: =(M40/L40)*100000 -> 0 | P40: =F40-K40 -> 0
A41: Pleasants | B41: 7512 | C41: 1 | D41: =(C41/B41)*100000 -> 13.312034 | E41: =RANK(D41,D5:D59) -> 46 | F41: 1 | G41: 4057 | H41: 1 | I41: =(H41/G41)*100000 -> 24.648755 | J41: =RANK(I41,I5:I59) -> 41 | K41: 1 | L41: =B41-G41 -> 3455 | M41: =C41-H41 -> 0 | N41: =(M41/L41)*100000 -> 0 | P41: =F41-K41 -> 0
A42: Pocahontas | B42: 8518 | C42: 2 | D42: =(C42/B42)*100000 -> 23.47969 | E42: =RANK(D42,D5:D59) -> 36 | F42: 2 | G42: 4377 | H42: 0 | I42: =(H42/G42)*100000 -> 0 | K42: 0 | L42: =B42-G42 -> 4141 | M42: =C42-H42 -> 2 | N42: =(M42/L42)*100000 -> 48.297513 | O42: =RANK(N42,N5:N59) -> 8 | P42: =F42-K42 -> 2
A43: Preston | B43: 33711 | C43: 11 | D43: =(C43/B43)*100000 -> 32.630299 | E43: =RANK(D43,D5:D59) -> 30 | F43: 7 | G43: 17326 | H43: 9 | I43: =(H43/G43)*100000 -> 51.945054 | J43: =RANK(I43,I5:I59) -> 28 | K43: 5 | L43: =B43-G43 -> 16385 | M43: =C43-H43 -> 2 | N43: =(M43/L43)*100000 -> 12.206286 | O43: =RANK(N43,N5:N59) -> 36 | P43: =F43-K43 -> 2
A44: Putnam | B44: 56692 | C44: 21 | D44: =(C44/B44)*100000 -> 37.042263 | E44: =RANK(D44,D5:D59) -> 23 | F44: 13 | G44: 27830 | H44: 14 | I44: =(H44/G44)*100000 -> 50.305426 | J44: =RANK(I44,I5:I59) -> 30 | K44: 8 | L44: =B44-G44 -> 28862 | M44: =C44-H44 -> 7 | N44: =(M44/L44)*100000 -> 24.253343 | O44: =RANK(N44,N5:N59) -> 25 | P44: =F44-K44 -> 5
A45: Raleigh | B45: 76259 | C45: 44 | D45: =(C45/B45)*100000 -> 57.698108 | E45: =RANK(D45,D5:D59) -> 13 | F45: 43 | G45: 38200 | H45: 29 | I45: =(H45/G45)*100000 -> 75.91623 | J45: =RANK(I45,I5:I59) -> 13 | K45: 30 | L45: =B45-G45 -> 38059 | M45: =C45-H45 -> 15 | N45: =(M45/L45)*100000 -> 39.412491 | O45: =RANK(N45,N5:N59) -> 13 | P45: =F45-K45 -> 13
A46: Randolph | B46: 28962 | C46: 7 | D46: =(C46/B46)*100000 -> 24.169602 | E46: =RANK(D46,D5:D59) -> 35 | F46: 6 | G46: 14957 | H46: 6 | I46: =(H46/G46)*100000 -> 40.114996 | J46: =RANK(I46,I5:I59) -> 32 | K46: 5 | L46: =B46-G46 -> 14005 | M46: =C46-H46 -> 1 | N46: =(M46/L46)*100000 -> 7.140307 | O46: =RANK(N46,N5:N59) -> 38 | P46: =F46-K46 -> 1
A47: Ritchie | B47: 9942 | C47: 1 | D47: =(C47/B47)*100000 -> 10.058338 | E47: =RANK(D47,D5:D59) -> 50 | F47: 1 | G47: 4987 | H47: 0 | I47: =(H47/G47)*100000 -> 0 | K47: 0 | L47: =B47-G47 -> 4955 | M47: =C47-H47 -> 1 | N47: =(M47/L47)*100000 -> 20.181635 | O47: =RANK(N47,N5:N59) -> 29 | P47: =F47-K47 -> 1
A48: Roane | B48: 14128 | C48: 7 | D48: =(C48/B48)*100000 -> 49.546999 | E48: =RANK(D48,D5:D59) -> 17 | F48: 4 | G48: 6989 | H48: 4 | I48: =(H48/G48)*100000 -> 57.232794 | J48: =RANK(I48,I5:I59) -> 23 | K48: 3 | L48: =B48-G48 -> 7139 | M48: =C48-H48 -> 3 | N48: =(M48/L48)*100000 -> 42.022692 | O48: =RANK(N48,N5:N59) -> 12 | P48: =F48-K48 -> 1
A49: Summers | B49: 13004 | C49: 8 | D49: =(C49/B49)*100000 -> 61.519532 | E49: =RANK(D49,D5:D59) -> 11 | F49: 8 | G49: 5857 | H49: 6 | I49: =(H49/G49)*100000 -> 102.44152 | J49: =RANK(I49,I5:I59) -> 6 | K49: 5 | L49: =B49-G49 -> 7147 | M49: =C49-H49 -> 2 | N49: =(M49/L49)*100000 -> 27.983769 | O49: =RANK(N49,N5:N59) -> 22 | P49: =F49-K49 -> 3
A50: Taylor | B50: 16947 | C50: 1 | D50: =(C50/B50)*100000 -> 5.9007494 | E50: =RANK(D50,D5:D59) -> 51 | F50: 1 | G50: 8596 | H50: 1 | I50: =(H50/G50)*100000 -> 11.633318 | J50: =RANK(I50,I5:I59) -> 48 | K50: 1 | L50: =B50-G50 -> 8351 | M50: =C50-H50 -> 0 | N50: =(M50/L50)*100000 -> 0 | P50: =F50-K50 -> 0
A51: Tucker | B51: 7041 | C51: 1 | D51: =(C51/B51)*100000 -> 14.202528 | E51: =RANK(D51,D5:D59) -> 44 | F51: 0 | G51: 3606 | H51: 1 | I51: =(H51/G51)*100000 -> 27.731559 | J51: =RANK(I51,I5:I59) -> 38 | K51: 0 | L51: =B51-G51 -> 3435 | M51: =C51-H51 -> 0 | N51: =(M51/L51)*100000 -> 0 | P51: =F51-K51 -> 0
A52: Tyler | B52: 8958 | C52: 1 | D52: =(C52/B52)*100000 -> 11.163206 | E52: =RANK(D52,D5:D59) -> 49 | F52: 1 | G52: 4459 | H52: 0 | I52: =(H52/G52)*100000 -> 0 | K52: 0 | L52: =B52-G52 -> 4499 | M52: =C52-H52 -> 1 | N52: =(M52/L52)*100000 -> 22.227162 | O52: =RANK(N52,N5:N59) -> 27 | P52: =F52-K52 -> 1
A53: Upshur | B53: 24610 | C53: 3 | D53: =(C53/B53)*100000 -> 12.190167 | E53: =RANK(D53,D5:D59) -> 47 | F53: 3 | G53: 12181 | H53: 3 | I53: =(H53/G53)*100000 -> 24.62852 | J53: =RANK(I53,I5:I59) -> 42 | K53: 3 | L53: =B53-G53 -> 12429 | M53: =C53-H53 -> 0 | N53: =(M53/L53)*100000 -> 0 | P53: =F53-K53 -> 0
A54: Wayne | B54: 40680 | C54: 34 | D54: =(C54/B54)*100000 -> 83.579154 | E54: =RANK(D54,D5:D59) -> 3 | F54: 27 | G54: 19809 | H54: 23 | I54: =(H54/G54)*100000 -> 116.10884 | J54: =RANK(I54,I5:I59) -> 2 | K54: 21 | L54: =B54-G54 -> 20871 | M54: =C54-H54 -> 11 | N54: =(M54/L54)*100000 -> 52.70471 | O54: =RANK(N54,N5:N59) -> 4 | P54: =F54-K54 -> 6
A55: Webster | B55: 8575 | C55: 3 | D55: =(C55/B55)*100000 -> 34.985423 | E55: =RANK(D55,D5:D59) -> 26 | F55: 2 | G55: 4261 | H55: 3 | I55: =(H55/G55)*100000 -> 70.406008 | J55: =RANK(I55,I5:I59) -> 16 | K55: 2 | L55: =B55-G55 -> 4314 | M55: =C55-H55 -> 0 | N55: =(M55/L55)*100000 -> 0 | P55: =F55-K55 -> 0
A56: Wetzel | B56: 15641 | C56: 3 | D56: =(C56/B56)*100000 -> 19.180359 | E56: =RANK(D56,D5:D59) -> 39 | F56: 3 | G56: 7719 | H56: 2 | I56: =(H56/G56)*100000 -> 25.910092 | J56: =RANK(I56,I5:I59) -> 40 | K56: 2 | L56: =B56-G56 -> 7922 | M56: =C56-H56 -> 1 | N56: =(M56/L56)*100000 -> 12.623075 | O56: =RANK(N56,N5:N59) -> 34 | P56: =F56-K56 -> 1
A57: Wirt | B57: 5770 | C57: 0 | D57: =(C57/B57)*100000 -> 0 | F57: 0 | G57: 2940 | H57: 0 | I57: =(H57/G57)*100000 -> 0 | K57: 0 | L57: =B57-G57 -> 2830 | M57: =C57-H57 -> 0 | N57: =(M57/L57)*100000 -> 0 | P57: =F57-K57 -> 0
A58: Wood | B58: 85718 | C58: 46 | D58: =(C58/B58)*100000 -> 53.664341 | E58: =RANK(D58,D5:D59) -> 16 | F58: 45 | G58: 41486 | H58: 30 | I58: =(H58/G58)*100000 -> 72.313552 | J58: =RANK(I58,I5:I59) -> 15 | K58: 28 | L58: =B58-G58 -> 44232 | M58: =C58-H58 -> 16 | N58: =(M58/L58)*100000 -> 36.172906 | O58: =RANK(N58,N5:N59) -> 15 | P58: =F58-K58 -> 17
A59: Wyoming | B59: 21753 | C59: 16 | D59: =(C59/B59)*100000 -> 73.553073 | E59: =RANK(D59,D5:D59) -> 5 | F59: 16 | G59: 10722 | H59: 11 | I59: =(H59/G59)*100000 -> 102.5928 | J59: =RANK(I59,I5:I59) -> 5 | K59: 11 | L59: =B59-G59 -> 11031 | M59: =C59-H59 -> 5 | N59: =(M59/L59)*100000 -> 45.326806 | O59: =RANK(N59,N5:N59) -> 10 | P59: =F59-K59 -> 5
A60: WV Total | B60: =SUM(B5:B59) -> 1828637 | C60: =SUM(C5:C59) -> 882 | D60: =(C60/B60)*100000 -> 48.232645 | F60: =SUM(F5:F59) -> 887 | G60: =SUM(G5:G59) -> 904288 | H60: =SUM(H5:H59) -> 594 | I60: =(H60/G60)*100000 -> 65.687038 | K60: =SUM(K5:K59) -> 592 | L60: =SUM(L5:L59) -> 924349 | M60: =SUM(M5:M59) -> 288 | N60: =(M60/L60)*100000 -> 31.157063 | P60: =SUM(P5:P59) -> 295
A61: Source: West Virginia Health Statistics Center, Vital Statistics System, September 2018.
A65: 2016 West Virginia Resident Births
A66: Births to Teens Ages 15-19 by County
A68: County | B68: Estimated Female Population Ages 15-19 | C68: Number of Resident Births to Mothers Ages 15-19 | D68: Rate per 1,000 Females Ages 10-19 | E68: Rank | F68: Number of Resident Fetal Deaths to Mothers Ages 15-19 | G68: Number of Resident *Abortions to Females Ages 15-19 | H68: Estimated Number of Pregnancies to Females Ages 15-19 | I68: Rate per 1,000 Females Ages 10-19 | J68: Rank
A69: Barbour | B69: 634 | C69: 19 | D69: =(C69/B69)*1000 -> 29.968454 | E69: =RANK(D69,D69:D123) -> 30 | F69: 0 | G69: 4 | H69: =C69+F69+G69 -> 23 | I69: =(H69/B69)*1000 -> 36.277603 | J69: =RANK(I69,I69:I123) -> 25
A70: Berkeley | B70: 3435 | C70: 85 | D70: =(C70/B70)*1000 -> 24.745269 | E70: =RANK(D70,D69:D123) -> 41 | F70: 0 | G70: 0 | H70: =C70+F70+G70 -> 85 | I70: =(H70/B70)*1000 -> 24.745269 | J70: =RANK(I70,I69:I123) -> 44
A71: Boone | B71: 649 | C71: 35 | D71: =(C71/B71)*1000 -> 53.929122 | E71: =RANK(D71,D69:D123) -> 1 | F71: 0 | G71: 0 | H71: =C71+F71+G71 -> 35 | I71: =(H71/B71)*1000 -> 53.929122 | J71: =RANK(I71,I69:I123) -> 2
A72: Braxton | B72: 380 | C72: 8 | D72: =(C72/B72)*1000 -> 21.052632 | E72: =RANK(D72,D69:D123) -> 46 | F72: 0 | G72: 2 | H72: =C72+F72+G72 -> 10 | I72: =(H72/B72)*1000 -> 26.315789 | J72: =RANK(I72,I69:I123) -> 42
A73: Brooke | B73: 694 | C73: 11 | D73: =(C73/B73)*1000 -> 15.850144 | E73: =RANK(D73,D69:D123) -> 53 | F73: 0 | G73: 0 | H73: =C73+F73+G73 -> 11 | I73: =(H73/B73)*1000 -> 15.850144 | J73: =RANK(I73,I69:I123) -> 54
A74: Cabell | B74: 3249 | C74: 87 | D74: =(C74/B74)*1000 -> 26.77747 | E74: =RANK(D74,D69:D123) -> 39 | F74: 1 | G74: 10 | H74: =C74+F74+G74 -> 98 | I74: =(H74/B74)*1000 -> 30.163127 | J74: =RANK(I74,I69:I123) -> 34
A75: Calhoun | B75: 180 | C75: 6 | D75: =(C75/B75)*1000 -> 33.333333 | E75: =RANK(D75,D69:D123) -> 25 | F75: 0 | G75: 1 | H75: =C75+F75+G75 -> 7 | I75: =(H75/B75)*1000 -> 38.888889 | J75: =RANK(I75,I69:I123) -> 20
A76: Clay | B76: 256 | C76: 6 | D76: =(C76/B76)*1000 -> 23.4375 | E76: =RANK(D76,D69:D123) -> 43 | F76: 0 | G76: 1 | H76: =C76+F76+G76 -> 7 | I76: =(H76/B76)*1000 -> 27.34375 | J76: =RANK(I76,I69:I123) -> 39
A77: Doddridge | B77: 200 | C77: 9 | D77: =(C77/B77)*1000 -> 45 | E77: =RANK(D77,D69:D123) -> 8 | F77: 0 | G77: 0 | H77: =C77+F77+G77 -> 9 | I77: =(H77/B77)*1000 -> 45 | J77: =RANK(I77,I69:I123) -> 11
A78: Fayette | B78: 1158 | C78: 43 | D78: =(C78/B78)*1000 -> 37.132988 | E78: =RANK(D78,D69:D123) -> 19 | F78: 1 | G78: 7 | H78: =C78+F78+G78 -> 51 | I78: =(H78/B78)*1000 -> 44.041451 | J78: =RANK(I78,I69:I123) -> 13
A79: Gilmer | B79: 276 | C79: 9 | D79: =(C79/B79)*1000 -> 32.608696 | E79: =RANK(D79,D69:D123) -> 26 | F79: 0 | G79: 0 | H79: =C79+F79+G79 -> 9 | I79: =(H79/B79)*1000 -> 32.608696 | J79: =RANK(I79,I69:I123) -> 29
A80: Grant | B80: 290 | C80: 9 | D80: =(C80/B80)*1000 -> 31.034483 | E80: =RANK(D80,D69:D123) -> 29 | F80: 0 | G80: 0 | H80: =C80+F80+G80 -> 9 | I80: =(H80/B80)*1000 -> 31.034483 | J80: =RANK(I80,I69:I123) -> 32
A81: Greenbrier | B81: 902 | C81: 27 | D81: =(C81/B81)*1000 -> 29.933481 | E81: =RANK(D81,D69:D123) -> 31 | F81: 0 | G81: 2 | H81: =C81+F81+G81 -> 29 | I81: =(H81/B81)*1000 -> 32.150776 | J81: =RANK(I81,I69:I123) -> 30
A82: Hampshire | B82: 670 | C82: 20 | D82: =(C82/B82)*1000 -> 29.850746 | E82: =RANK(D82,D69:D123) -> 32 | F82: 0 | G82: 0 | H82: =C82+F82+G82 -> 20 | I82: =(H82/B82)*1000 -> 29.850746 | J82: =RANK(I82,I69:I123) -> 35
A83: Hancock | B83: 765 | C83: 14 | D83: =(C83/B83)*1000 -> 18.300654 | E83: =RANK(D83,D69:D123) -> 51 | F83: 0 | G83: 0 | H83: =C83+F83+G83 -> 14 | I83: =(H83/B83)*1000 -> 18.300654 | J83: =RANK(I83,I69:I123) -> 51
A84: Hardy | B84: 354 | C84: 13 | D84: =(C84/B84)*1000 -> 36.723164 | E84: =RANK(D84,D69:D123) -> 20 | F84: 0 | G84: 0 | H84: =C84+F84+G84 -> 13 | I84: =(H84/B84)*1000 -> 36.723164 | J84: =RANK(I84,I69:I123) -> 23
A85: Harrison | B85: 1886 | C85: 69 | D85: =(C85/B85)*1000 -> 36.585366 | E85: =RANK(D85,D69:D123) -> 21 | F85: 0 | G85: 4 | H85: =C85+F85+G85 -> 73 | I85: =(H85/B85)*1000 -> 38.706257 | J85: =RANK(I85,I69:I123) -> 21
A86: Jackson | B86: 864 | C86: 36 | D86: =(C86/B86)*1000 -> 41.666667 | E86: =RANK(D86,D69:D123) -> 12 | F86: 0 | G86: 6 | H86: =C86+F86+G86 -> 42 | I86: =(H86/B86)*1000 -> 48.611111 | J86: =RANK(I86,I69:I123) -> 7
A87: Jefferson | B87: 1782 | C87: 31 | D87: =(C87/B87)*1000 -> 17.396184 | E87: =RANK(D87,D69:D123) -> 52 | F87: 0 | G87: 0 | H87: =C87+F87+G87 -> 31 | I87: =(H87/B87)*1000 -> 17.396184 | J87: =RANK(I87,I69:I123) -> 52
A88: Kanawha | B88: 5057 | C88: 161 | D88: =(C88/B88)*1000 -> 31.837058 | E88: =RANK(D88,D69:D123) -> 27 | F88: 1 | G88: 22 | H88: =C88+F88+G88 -> 184 | I88: =(H88/B88)*1000 -> 36.385209 | J88: =RANK(I88,I69:I123) -> 24
A89: Lewis | B89: 409 | C89: 11 | D89: =(C89/B89)*1000 -> 26.894866 | E89: =RANK(D89,D69:D123) -> 38 | F89: 0 | G89: 0 | H89: =C89+F89+G89 -> 11 | I89: =(H89/B89)*1000 -> 26.894866 | J89: =RANK(I89,I69:I123) -> 40
A90: Lincoln | B90: 569 | C90: 27 | D90: =(C90/B90)*1000 -> 47.45167 | E90: =RANK(D90,D69:D123) -> 5 | F90: 0 | G90: 1 | H90: =C90+F90+G90 -> 28 | I90: =(H90/B90)*1000 -> 49.209139 | J90: =RANK(I90,I69:I123) -> 4
A91: Logan | B91: 932 | C91: 38 | D91: =(C91/B91)*1000 -> 40.772532 | E91: =RANK(D91,D69:D123) -> 15 | F91: 0 | G91: 5 | H91: =C91+F91+G91 -> 43 | I91: =(H91/B91)*1000 -> 46.137339 | J91: =RANK(I91,I69:I123) -> 10
A92: McDowell | B92: 475 | C92: 25 | D92: =(C92/B92)*1000 -> 52.631579 | E92: =RANK(D92,D69:D123) -> 2 | F92: 0 | G92: 2 | H92: =C92+F92+G92 -> 27 | I92: =(H92/B92)*1000 -> 56.842105 | J92: =RANK(I92,I69:I123) -> 1
A93: Marion | B93: 1712 | C93: 37 | D93: =(C93/B93)*1000 -> 21.61215 | E93: =RANK(D93,D69:D123) -> 45 | F93: 0 | G93: 3 | H93: =C93+F93+G93 -> 40 | I93: =(H93/B93)*1000 -> 23.364486 | J93: =RANK(I93,I69:I123) -> 46
A94: Marshall | B94: 846 | C94: 17 | D94: =(C94/B94)*1000 -> 20.094563 | E94: =RANK(D94,D69:D123) -> 48 | F94: 0 | G94: 0 | H94: =C94+F94+G94 -> 17 | I94: =(H94/B94)*1000 -> 20.094563 | J94: =RANK(I94,I69:I123) -> 49
A95: Mason | B95: 714 | C95: 29 | D95: =(C95/B95)*1000 -> 40.616246 | E95: =RANK(D95,D69:D123) -> 16 | F95: 0 | G95: 3 | H95: =C95+F95+G95 -> 32 | I95: =(H95/B95)*1000 -> 44.817927 | J95: =RANK(I95,I69:I123) -> 12
A96: Mercer | B96: 1709 | C96: 78 | D96: =(C96/B96)*1000 -> 45.640726 | E96: =RANK(D96,D69:D123) -> 6 | F96: 2 | G96: 6 | H96: =C96+F96+G96 -> 86 | I96: =(H96/B96)*1000 -> 50.321826 | J96: =RANK(I96,I69:I123) -> 3
A97: Mineral | B97: 834 | C97: 20 | D97: =(C97/B97)*1000 -> 23.980815 | E97: =RANK(D97,D69:D123) -> 42 | F97: 0 | G97: 2 | H97: =C97+F97+G97 -> 22 | I97: =(H97/B97)*1000 -> 26.378897 | J97: =RANK(I97,I69:I123) -> 41
A98: Mingo | B98: 636 | C98: 29 | D98: =(C98/B98)*1000 -> 45.597484 | E98: =RANK(D98,D69:D123) -> 7 | F98: 0 | G98: 2 | H98: =C98+F98+G98 -> 31 | I98: =(H98/B98)*1000 -> 48.742138 | J98: =RANK(I98,I69:I123) -> 5
A99: Monongalia | B99: 4085 | C99: 40 | D99: =(C99/B99)*1000 -> 9.7919217 | E99: =RANK(D99,D69:D123) -> 55 | F99: 0 | G99: 5 | H99: =C99+F99+G99 -> 45 | I99: =(H99/B99)*1000 -> 11.015912 | J99: =RANK(I99,I69:I123) -> 55
A100: Monroe | B100: 341 | C100: 15 | D100: =(C100/B100)*1000 -> 43.98827 | E100: =RANK(D100,D69:D123) -> 9 | F100: 0 | G100: 0 | H100: =C100+F100+G100 -> 15 | I100: =(H100/B100)*1000 -> 43.98827 | J100: =RANK(I100,I69:I123) -> 14
A101: Morgan | B101: 505 | C101: 10 | D101: =(C101/B101)*1000 -> 19.80198 | E101: =RANK(D101,D69:D123) -> 49 | F101: 0 | G101: 1 | H101: =C101+F101+G101 -> 11 | I101: =(H101/B101)*1000 -> 21.782178 | J101: =RANK(I101,I69:I123) -> 47
A102: Nicholas | B102: 609 | C102: 22 | D102: =(C102/B102)*1000 -> 36.124795 | E102: =RANK(D102,D69:D123) -> 22 | F102: 0 | G102: 1 | H102: =C102+F102+G102 -> 23 | I102: =(H102/B102)*1000 -> 37.766831 | J102: =RANK(I102,I69:I123) -> 22
A103: Ohio | B103: 1428 | C103: 27 | D103: =(C103/B103)*1000 -> 18.907563 | E103: =RANK(D103,D69:D123) -> 50 | F103: 0 | G103: 1 | H103: =C103+F103+G103 -> 28 | I103: =(H103/B103)*1000 -> 19.607843 | J103: =RANK(I103,I69:I123) -> 50
A104: Pendleton | B104: 169 | C104: 7 | D104: =(C104/B104)*1000 -> 41.420118 | E104: =RANK(D104,D69:D123) -> 13 | F104: 0 | G104: 0 | H104: =C104+F104+G104 -> 7 | I104: =(H104/B104)*1000 -> 41.420118 | J104: =RANK(I104,I69:I123) -> 18
A105: Pleasants | B105: 205 | C105: 7 | D105: =(C105/B105)*1000 -> 34.146341 | E105: =RANK(D105,D69:D123) -> 23 | F105: 0 | G105: 0 | H105: =C105+F105+G105 -> 7 | I105: =(H105/B105)*1000 -> 34.146341 | J105: =RANK(I105,I69:I123) -> 27
...

Sheet 2017
A1: 2017 (Preliminary) West Virginia Deaths
A2: Drug Overdose Deaths by County
A4: County | B4: Estimated Population | C4: Number of Resident Drug Overdose Deaths | D4: Rate per 100,000 Population | E4: Rank | F4: Number of Occurrence Drug Overdose Deaths | G4: Estimated Male Population | H4: Number of Male Resident Drug Overdose Deaths | I4: Rate per 100,000 Males | J4: Rank | K4: Number of Male Occurrence Drug Overdose Deaths | L4: Estimated Female Population | M4: Number of Female Resident Drug Overdose Deaths | N4: Rate per 100,000 Females | O4: Rank | P4: Number of Female Occurrence Drug Overdose Deaths
A5: Barbour | B5: 16497 | C5: 5 | D5: =(C5/B5)*100000 -> 30.308541 | E5: =RANK(D5,D5:D59) -> 30 | F5: 4 | G5: 8080 | H5: 2 | I5: =(H5/G5)*100000 -> 24.752475 | J5: =RANK(I5,I5:I59) -> 41 | K5: 2 | L5: =B5-G5 -> 8417 | M5: =C5-H5 -> 3 | N5: =(M5/L5)*100000 -> 35.642153 | O5: =RANK(N5,N5:N59) -> 20 | P5: =F5-K5 -> 2
A6: Berkeley | B6: 114920 | C6: 87 | D6: =(C6/B6)*100000 -> 75.704838 | E6: =RANK(D6,D5:D59) -> 5 | F6: 92 | G6: 56963 | H6: 62 | I6: =(H6/G6)*100000 -> 108.84258 | J6: =RANK(I6,I5:I59) -> 5 | K6: 64 | L6: =B6-G6 -> 57957 | M6: =C6-H6 -> 25 | N6: =(M6/L6)*100000 -> 43.135428 | O6: =RANK(N6,N5:N59) -> 16 | P6: =F6-K6 -> 28
A7: Boone | B7: 22349 | C7: 13 | D7: =(C7/B7)*100000 -> 58.168151 | E7: =RANK(D7,D5:D59) -> 13 | F7: 12 | G7: 11112 | H7: 8 | I7: =(H7/G7)*100000 -> 71.99424 | J7: =RANK(I7,I5:I59) -> 11 | K7: 8 | L7: =B7-G7 -> 11237 | M7: =C7-H7 -> 5 | N7: =(M7/L7)*100000 -> 44.495862 | O7: =RANK(N7,N5:N59) -> 15 | P7: =F7-K7 -> 4
A8: Braxton | B8: 14237 | C8: 4 | D8: =(C8/B8)*100000 -> 28.095807 | E8: =RANK(D8,D5:D59) -> 32 | F8: 5 | G8: 7191 | H8: 3 | I8: =(H8/G8)*100000 -> 41.718815 | J8: =RANK(I8,I5:I59) -> 24 | K8: 2 | L8: =B8-G8 -> 7046 | M8: =C8-H8 -> 1 | N8: =(M8/L8)*100000 -> 14.19245 | O8: =RANK(N8,N5:N59) -> 42 | P8: =F8-K8 -> 3
A9: Brooke | B9: 22443 | C9: 9 | D9: =(C9/B9)*100000 -> 40.101591 | E9: =RANK(D9,D5:D59) -> 20 | F9: 12 | G9: 11020 | H9: 6 | I9: =(H9/G9)*100000 -> 54.446461 | J9: =RANK(I9,I5:I59) -> 18 | K9: 8 | L9: =B9-G9 -> 11423 | M9: =C9-H9 -> 3 | N9: =(M9/L9)*100000 -> 26.262803 | O9: =RANK(N9,N5:N59) -> 27 | P9: =F9-K9 -> 4
A10: Cabell | B10: 94958 | C10: 144 | D10: =(C10/B10)*100000 -> 151.64599 | E10: =RANK(D10,D5:D59) -> 1 | F10: 201 | G10: 46461 | H10: 100 | I10: =(H10/G10)*100000 -> 215.23428 | J10: =RANK(I10,I5:I59) -> 1 | K10: 135 | L10: =B10-G10 -> 48497 | M10: =C10-H10 -> 44 | N10: =(M10/L10)*100000 -> 90.727261 | O10: =RANK(N10,N5:N59) -> 1 | P10: =F10-K10 -> 66
A11: Calhoun | B11: 7307 | C11: 1 | D11: =(C11/B11)*100000 -> 13.685507 | E11: =RANK(D11,D5:D59) -> 47 | F11: 1 | G11: 3640 | H11: 1 | I11: =(H11/G11)*100000 -> 27.472527 | J11: =RANK(I11,I5:I59) -> 38 | K11: 1 | L11: =B11-G11 -> 3667 | M11: =C11-H11 -> 0 | N11: =(M11/L11)*100000 -> 0 | P11: =F11-K11 -> 0
A12: Clay | B12: 8764 | C12: 1 | D12: =(C12/B12)*100000 -> 11.410315 | E12: =RANK(D12,D5:D59) -> 51 | F12: 2 | G12: 4423 | H12: 1 | I12: =(H12/G12)*100000 -> 22.609089 | J12: =RANK(I12,I5:I59) -> 48 | K12: 1 | L12: =B12-G12 -> 4341 | M12: =C12-H12 -> 0 | N12: =(M12/L12)*100000 -> 0 | P12: =F12-K12 -> 1
A13: Doddridge | B13: 8560 | C13: 1 | D13: =(C13/B13)*100000 -> 11.682243 | E13: =RANK(D13,D5:D59) -> 50 | F13: 1 | G13: 4711 | H13: 0 | I13: =(H13/G13)*100000 -> 0 | K13: 0 | L13: =B13-G13 -> 3849 | M13: =C13-H13 -> 1 | N13: =(M13/L13)*100000 -> 25.980774 | O13: =RANK(N13,N5:N59) -> 28 | P13: =F13-K13 -> 1
A14: Fayette | B14: 43521 | C14: 31 | D14: =(C14/B14)*100000 -> 71.229981 | E14: =RANK(D14,D5:D59) -> 7 | F14: 21 | G14: 21915 | H14: 18 | I14: =(H14/G14)*100000 -> 82.135524 | J14: =RANK(I14,I5:I59) -> 10 | K14: 11 | L14: =B14-G14 -> 21606 | M14: =C14-H14 -> 13 | N14: =(M14/L14)*100000 -> 60.168472 | O14: =RANK(N14,N5:N59) -> 4 | P14: =F14-K14 -> 10
A15: Gilmer | B15: 8005 | C15: 0 | D15: =(C15/B15)*100000 -> 0 | F15: 0 | G15: 4754 | H15: 0 | I15: =(H15/G15)*100000 -> 0 | K15: 0 | L15: =B15-G15 -> 3251 | M15: =C15-H15 -> 0 | N15: =(M15/L15)*100000 -> 0 | P15: =F15-K15 -> 0
A16: Grant | B16: 11670 | C16: 1 | D16: =(C16/B16)*100000 -> 8.5689803 | E16: =RANK(D16,D5:D59) -> 53 | F16: 3 | G16: 5828 | H16: 0 | I16: =(H16/G16)*100000 -> 0 | K16: 0 | L16: =B16-G16 -> 5842 | M16: =C16-H16 -> 1 | N16: =(M16/L16)*100000 -> 17.117426 | O16: =RANK(N16,N5:N59) -> 37 | P16: =F16-K16 -> 3
A17: Greenbrier | B17: 35287 | C17: 8 | D17: =(C17/B17)*100000 -> 22.671239 | E17: =RANK(D17,D5:D59) -> 38 | F17: 7 | G17: 17307 | H17: 3 | I17: =(H17/G17)*100000 -> 17.334027 | J17: =RANK(I17,I5:I59) -> 50 | K17: 2 | L17: =B17-G17 -> 17980 | M17: =C17-H17 -> 5 | N17: =(M17/L17)*100000 -> 27.808676 | O17: =RANK(N17,N5:N59) -> 23 | P17: =F17-K17 -> 5
A18: Hampshire | B18: 23471 | C18: 6 | D18: =(C18/B18)*100000 -> 25.563461 | E18: =RANK(D18,D5:D59) -> 34 | F18: 8 | G18: 11960 | H18: 4 | I18: =(H18/G18)*100000 -> 33.444816 | J18: =RANK(I18,I5:I59) -> 32 | K18: 5 | L18: =B18-G18 -> 11511 | M18: =C18-H18 -> 2 | N18: =(M18/L18)*100000 -> 17.374685 | O18: =RANK(N18,N5:N59) -> 36 | P18: =F18-K18 -> 3
A19: Hancock | B19: 29448 | C19: 13 | D19: =(C19/B19)*100000 -> 44.145613 | E19: =RANK(D19,D5:D59) -> 18 | F19: 9 | G19: 14375 | H19: 9 | I19: =(H19/G19)*100000 -> 62.608696 | J19: =RANK(I19,I5:I59) -> 16 | K19: 6 | L19: =B19-G19 -> 15073 | M19: =C19-H19 -> 4 | N19: =(M19/L19)*100000 -> 26.537517 | O19: =RANK(N19,N5:N59) -> 26 | P19: =F19-K19 -> 3
A20: Hardy | B20: 13717 | C20: 3 | D20: =(C20/B20)*100000 -> 21.870671 | E20: =RANK(D20,D5:D59) -> 41 | F20: 4 | G20: 6893 | H20: 2 | I20: =(H20/G20)*100000 -> 29.014943 | J20: =RANK(I20,I5:I59) -> 36 | K20: 2 | L20: =B20-G20 -> 6824 | M20: =C20-H20 -> 1 | N20: =(M20/L20)*100000 -> 14.654162 | O20: =RANK(N20,N5:N59) -> 40 | P20: =F20-K20 -> 2
A21: Harrison | B21: 67811 | C21: 21 | D21: =(C21/B21)*100000 -> 30.968427 | E21: =RANK(D21,D5:D59) -> 27 | F21: 23 | G21: 33302 | H21: 14 | I21: =(H21/G21)*100000 -> 42.039517 | J21: =RANK(I21,I5:I59) -> 23 | K21: 14 | L21: =B21-G21 -> 34509 | M21: =C21-H21 -> 7 | N21: =(M21/L21)*100000 -> 20.284563 | O21: =RANK(N21,N5:N59) -> 33 | P21: =F21-K21 -> 9
A22: Jackson | B22: 28976 | C22: 7 | D22: =(C22/B22)*100000 -> 24.157924 | E22: =RANK(D22,D5:D59) -> 36 | F22: 5 | G22: 14375 | H22: 5 | I22: =(H22/G22)*100000 -> 34.782609 | J22: =RANK(I22,I5:I59) -> 30 | K22: 3 | L22: =B22-G22 -> 14601 | M22: =C22-H22 -> 2 | N22: =(M22/L22)*100000 -> 13.697692 | O22: =RANK(N22,N5:N59) -> 44 | P22: =F22-K22 -> 2
A23: Jefferson | B23: 56338 | C23: 23 | D23: =(C23/B23)*100000 -> 40.82502 | E23: =RANK(D23,D5:D59) -> 19 | F23: 28 | G23: 27964 | H23: 19 | I23: =(H23/G23)*100000 -> 67.9445 | J23: =RANK(I23,I5:I59) -> 14 | K23: 22 | L23: =B23-G23 -> 28374 | M23: =C23-H23 -> 4 | N23: =(M23/L23)*100000 -> 14.097413 | O23: =RANK(N23,N5:N59) -> 43 | P23: =F23-K23 -> 6
A24: Kanawha | B24: 183293 | C24: 125 | D24: =(C24/B24)*100000 -> 68.196821 | E24: =RANK(D24,D5:D59) -> 8 | F24: 147 | G24: 88276 | H24: 78 | I24: =(H24/G24)*100000 -> 88.359237 | J24: =RANK(I24,I5:I59) -> 9 | K24: 95 | L24: =B24-G24 -> 95017 | M24: =C24-H24 -> 47 | N24: =(M24/L24)*100000 -> 49.464833 | O24: =RANK(N24,N5:N59) -> 11 | P24: =F24-K24 -> 52
A25: Lewis | B25: 16226 | C25: 8 | D25: =(C25/B25)*100000 -> 49.303587 | E25: =RANK(D25,D5:D59) -> 16 | F25: 6 | G25: 8037 | H25: 4 | I25: =(H25/G25)*100000 -> 49.769815 | J25: =RANK(I25,I5:I59) -> 20 | K25: 4 | L25: =B25-G25 -> 8189 | M25: =C25-H25 -> 4 | N25: =(M25/L25)*100000 -> 48.846013 | O25: =RANK(N25,N5:N59) -> 12 | P25: =F25-K25 -> 2
A26: Lincoln | B26: 20825 | C26: 17 | D26: =(C26/B26)*100000 -> 81.632653 | E26: =RANK(D26,D5:D59) -> 4 | F26: 9 | G26: 10332 | H26: 14 | I26: =(H26/G26)*100000 -> 135.50136 | J26: =RANK(I26,I5:I59) -> 4 | K26: 8 | L26: =B26-G26 -> 10493 | M26: =C26-H26 -> 3 | N26: =(M26/L26)*100000 -> 28.590489 | O26: =RANK(N26,N5:N59) -> 21 | P26: =F26-K26 -> 1
A27: Logan | B27: 32925 | C27: 33 | D27: =(C27/B27)*100000 -> 100.22779 | E27: =RANK(D27,D5:D59) -> 3 | F27: 27 | G27: 16207 | H27: 24 | I27: =(H27/G27)*100000 -> 148.08416 | J27: =RANK(I27,I5:I59) -> 3 | K27: 22 | L27: =B27-G27 -> 16718 | M27: =C27-H27 -> 9 | N27: =(M27/L27)*100000 -> 53.834191 | O27: =RANK(N27,N5:N59) -> 7 | P27: =F27-K27 -> 5
A28: McDowell | B28: 18456 | C28: 9 | D28: =(C28/B28)*100000 -> 48.764629 | E28: =RANK(D28,D5:D59) -> 17 | F28: 10 | G28: 9008 | H28: 4 | I28: =(H28/G28)*100000 -> 44.404973 | J28: =RANK(I28,I5:I59) -> 22 | K28: 4 | L28: =B28-G28 -> 9448 | M28: =C28-H28 -> 5 | N28: =(M28/L28)*100000 -> 52.921253 | O28: =RANK(N28,N5:N59) -> 8 | P28: =F28-K28 -> 6
A29: Marion | B29: 56337 | C29: 9 | D29: =(C29/B29)*100000 -> 15.975292 | E29: =RANK(D29,D5:D59) -> 45 | F29: 10 | G29: 27754 | H29: 7 | I29: =(H29/G29)*100000 -> 25.22159 | J29: =RANK(I29,I5:I59) -> 40 | K29: 9 | L29: =B29-G29 -> 28583 | M29: =C29-H29 -> 2 | N29: =(M29/L29)*100000 -> 6.9971661 | O29: =RANK(N29,N5:N59) -> 46 | P29: =F29-K29 -> 1
A30: Marshall | B30: 31190 | C30: 7 | D30: =(C30/B30)*100000 -> 22.443091 | E30: =RANK(D30,D5:D59) -> 39 | F30: 7 | G30: 15394 | H30: 4 | I30: =(H30/G30)*100000 -> 25.98415 | J30: =RANK(I30,I5:I59) -> 39 | K30: 4 | L30: =B30-G30 -> 15796 | M30: =C30-H30 -> 3 | N30: =(M30/L30)*100000 -> 18.99215 | O30: =RANK(N30,N5:N59) -> 35 | P30: =F30-K30 -> 3
A31: Mason | B31: 26801 | C31: 16 | D31: =(C31/B31)*100000 -> 59.699265 | E31: =RANK(D31,D5:D59) -> 12 | F31: 17 | G31: 12940 | H31: 9 | I31: =(H31/G31)*100000 -> 69.551777 | J31: =RANK(I31,I5:I59) -> 13 | K31: 10 | L31: =B31-G31 -> 13861 | M31: =C31-H31 -> 7 | N31: =(M31/L31)*100000 -> 50.501407 | O31: =RANK(N31,N5:N59) -> 10 | P31: =F31-K31 -> 7
A32: Mercer | B32: 59753 | C32: 33 | D32: =(C32/B32)*100000 -> 55.227353 | E32: =RANK(D32,D5:D59) -> 15 | F32: 35 | G32: 28623 | H32: 20 | I32: =(H32/G32)*100000 -> 69.873878 | J32: =RANK(I32,I5:I59) -> 12 | K32: 23 | L32: =B32-G32 -> 31130 | M32: =C32-H32 -> 13 | N32: =(M32/L32)*100000 -> 41.76036 | O32: =RANK(N32,N5:N59) -> 17 | P32: =F32-K32 -> 12
A33: Mineral | B33: 27222 | C33: 7 | D33: =(C33/B33)*100000 -> 25.714496 | E33: =RANK(D33,D5:D59) -> 33 | F33: 7 | G33: 13585 | H33: 4 | I33: =(H33/G33)*100000 -> 29.44424 | J33: =RANK(I33,I5:I59) -> 35 | K33: 4 | L33: =B33-G33 -> 13637 | M33: =C33-H33 -> 3 | N33: =(M33/L33)*100000 -> 21.998973 | O33: =RANK(N33,N5:N59) -> 31 | P33: =F33-K33 -> 3
A34: Mingo | B34: 24127 | C34: 16 | D34: =(C34/B34)*100000 -> 66.315746 | E34: =RANK(D34,D5:D59) -> 10 | F34: 15 | G34: 11827 | H34: 8 | I34: =(H34/G34)*100000 -> 67.641836 | J34: =RANK(I34,I5:I59) -> 15 | K34: 8 | L34: =B34-G34 -> 12300 | M34: =C34-H34 -> 8 | N34: =(M34/L34)*100000 -> 65.04065 | O34: =RANK(N34,N5:N59) -> 3 | P34: =F34-K34 -> 7
A35: Monongalia | B35: 105030 | C35: 32 | D35: =(C35/B35)*100000 -> 30.467485 | E35: =RANK(D35,D5:D59) -> 29 | F35: 41 | G35: 54080 | H35: 22 | I35: =(H35/G35)*100000 -> 40.680473 | J35: =RANK(I35,I5:I59) -> 26 | K35: 27 | L35: =B35-G35 -> 50950 | M35: =C35-H35 -> 10 | N35: =(M35/L35)*100000 -> 19.627085 | O35: =RANK(N35,N5:N59) -> 34 | P35: =F35-K35 -> 14
A36: Monroe | B36: 13402 | C36: 3 | D36: =(C36/B36)*100000 -> 22.384719 | E36: =RANK(D36,D5:D59) -> 40 | F36: 3 | G36: 6681 | H36: 2 | I36: =(H36/G36)*100000 -> 29.935638 | J36: =RANK(I36,I5:I59) -> 34 | K36: 3 | L36: =B36-G36 -> 6721 | M36: =C36-H36 -> 1 | N36: =(M36/L36)*100000 -> 14.878738 | O36: =RANK(N36,N5:N59) -> 39 | P36: =F36-K36 -> 0
A37: Morgan | B37: 17686 | C37: 12 | D37: =(C37/B37)*100000 -> 67.850277 | E37: =RANK(D37,D5:D59) -> 9 | F37: 10 | G37: 8815 | H37: 8 | I37: =(H37/G37)*100000 -> 90.754396 | J37: =RANK(I37,I5:I59) -> 8 | K37: 7 | L37: =B37-G37 -> 8871 | M37: =C37-H37 -> 4 | N37: =(M37/L37)*100000 -> 45.090745 | O37: =RANK(N37,N5:N59) -> 14 | P37: =F37-K37 -> 3
A38: Nicholas | B38: 25043 | C38: 8 | D38: =(C38/B38)*100000 -> 31.945055 | E38: =RANK(D38,D5:D59) -> 26 | F38: 7 | G38: 12334 | H38: 5 | I38: =(H38/G38)*100000 -> 40.538349 | J38: =RANK(I38,I5:I59) -> 27 | K38: 4 | L38: =B38-G38 -> 12709 | M38: =C38-H38 -> 3 | N38: =(M38/L38)*100000 -> 23.605319 | O38: =RANK(N38,N5:N59) -> 30 | P38: =F38-K38 -> 3
A39: Ohio | B39: 42035 | C39: 16 | D39: =(C39/B39)*100000 -> 38.063518 | E39: =RANK(D39,D5:D59) -> 23 | F39: 22 | G39: 20271 | H39: 10 | I39: =(H39/G39)*100000 -> 49.331557 | J39: =RANK(I39,I5:I59) -> 21 | K39: 12 | L39: =B39-G39 -> 21764 | M39: =C39-H39 -> 6 | N39: =(M39/L39)*100000 -> 27.568462 | O39: =RANK(N39,N5:N59) -> 25 | P39: =F39-K39 -> 10
A40: Pendleton | B40: 6996 | C40: 2 | D40: =(C40/B40)*100000 -> 28.587764 | E40: =RANK(D40,D5:D59) -> 31 | F40: 1 | G40: 3538 | H40: 0 | I40: =(H40/G40)*100000 -> 0 | K40: 0 | L40: =B40-G40 -> 3458 | M40: =C40-H40 -> 2 | N40: =(M40/L40)*100000 -> 57.8369 | O40: =RANK(N40,N5:N59) -> 5 | P40: =F40-K40 -> 1
A41: Pleasants | B41: 7512 | C41: 1 | D41: =(C41/B41)*100000 -> 13.312034 | E41: =RANK(D41,D5:D59) -> 48 | F41: 0 | G41: 4068 | H41: 1 | I41: =(H41/G41)*100000 -> 24.582104 | J41: =RANK(I41,I5:I59) -> 42 | K41: 0 | L41: =B41-G41 -> 3444 | M41: =C41-H41 -> 0 | N41: =(M41/L41)*100000 -> 0 | P41: =F41-K41 -> 0
A42: Pocahontas | B42: 8456 | C42: 1 | D42: =(C42/B42)*100000 -> 11.825922 | E42: =RANK(D42,D5:D59) -> 49 | F42: 0 | G42: 4372 | H42: 1 | I42: =(H42/G42)*100000 -> 22.872827 | J42: =RANK(I42,I5:I59) -> 46 | K42: 0 | L42: =B42-G42 -> 4084 | M42: =C42-H42 -> 0 | N42: =(M42/L42)*100000 -> 0 | P42: =F42-K42 -> 0
A43: Preston | B43: 33679 | C43: 8 | D43: =(C43/B43)*100000 -> 23.753674 | E43: =RANK(D43,D5:D59) -> 37 | F43: 6 | G43: 17322 | H43: 4 | I43: =(H43/G43)*100000 -> 23.092022 | J43: =RANK(I43,I5:I59) -> 45 | K43: 2 | L43: =B43-G43 -> 16357 | M43: =C43-H43 -> 4 | N43: =(M43/L43)*100000 -> 24.454362 | O43: =RANK(N43,N5:N59) -> 29 | P43: =F43-K43 -> 4
A44: Putnam | B44: 56792 | C44: 35 | D44: =(C44/B44)*100000 -> 61.628398 | E44: =RANK(D44,D5:D59) -> 11 | F44: 32 | G44: 28002 | H44: 27 | I44: =(H44/G44)*100000 -> 96.421684 | J44: =RANK(I44,I5:I59) -> 7 | K44: 22 | L44: =B44-G44 -> 28790 | M44: =C44-H44 -> 8 | N44: =(M44/L44)*100000 -> 27.787426 | O44: =RANK(N44,N5:N59) -> 24 | P44: =F44-K44 -> 10
A45: Raleigh | B45: 75022 | C45: 56 | D45: =(C45/B45)*100000 -> 74.644771 | E45: =RANK(D45,D5:D59) -> 6 | F45: 59 | G45: 37547 | H45: 37 | I45: =(H45/G45)*100000 -> 98.543159 | J45: =RANK(I45,I5:I59) -> 6 | K45: 41 | L45: =B45-G45 -> 37475 | M45: =C45-H45 -> 19 | N45: =(M45/L45)*100000 -> 50.700467 | O45: =RANK(N45,N5:N59) -> 9 | P45: =F45-K45 -> 18
A46: Randolph | B46: 28785 | C46: 5 | D46: =(C46/B46)*100000 -> 17.370158 | E46: =RANK(D46,D5:D59) -> 43 | F46: 5 | G46: 14867 | H46: 3 | I46: =(H46/G46)*100000 -> 20.17892 | J46: =RANK(I46,I5:I59) -> 49 | K46: 4 | L46: =B46-G46 -> 13918 | M46: =C46-H46 -> 2 | N46: =(M46/L46)*100000 -> 14.369881 | O46: =RANK(N46,N5:N59) -> 41 | P46: =F46-K46 -> 1
A47: Ritchie | B47: 9774 | C47: 3 | D47: =(C47/B47)*100000 -> 30.693677 | E47: =RANK(D47,D5:D59) -> 28 | F47: 2 | G47: 4892 | H47: 2 | I47: =(H47/G47)*100000 -> 40.883074 | J47: =RANK(I47,I5:I59) -> 25 | K47: 1 | L47: =B47-G47 -> 4882 | M47: =C47-H47 -> 1 | N47: =(M47/L47)*100000 -> 20.483408 | O47: =RANK(N47,N5:N59) -> 32 | P47: =F47-K47 -> 1
A48: Roane | B48: 14043 | C48: 2 | D48: =(C48/B48)*100000 -> 14.241971 | E48: =RANK(D48,D5:D59) -> 46 | F48: 3 | G48: 6954 | H48: 2 | I48: =(H48/G48)*100000 -> 28.760426 | J48: =RANK(I48,I5:I59) -> 37 | K48: 2 | L48: =B48-G48 -> 7089 | M48: =C48-H48 -> 0 | N48: =(M48/L48)*100000 -> 0 | P48: =F48-K48 -> 1
A49: Summers | B49: 12993 | C49: 5 | D49: =(C49/B49)*100000 -> 38.48226 | E49: =RANK(D49,D5:D59) -> 22 | F49: 5 | G49: 5870 | H49: 3 | I49: =(H49/G49)*100000 -> 51.107325 | J49: =RANK(I49,I5:I59) -> 19 | K49: 2 | L49: =B49-G49 -> 7123 | M49: =C49-H49 -> 2 | N49: =(M49/L49)*100000 -> 28.078057 | O49: =RANK(N49,N5:N59) -> 22 | P49: =F49-K49 -> 3
A50: Taylor | B50: 16930 | C50: 6 | D50: =(C50/B50)*100000 -> 35.440047 | E50: =RANK(D50,D5:D59) -> 25 | F50: 2 | G50: 8586 | H50: 3 | I50: =(H50/G50)*100000 -> 34.940601 | J50: =RANK(I50,I5:I59) -> 29 | K50: 2 | L50: =B50-G50 -> 8344 | M50: =C50-H50 -> 3 | N50: =(M50/L50)*100000 -> 35.953979 | O50: =RANK(N50,N5:N59) -> 19 | P50: =F50-K50 -> 0
A51: Tucker | B51: 6915 | C51: 0 | D51: =(C51/B51)*100000 -> 0 | F51: 0 | G51: 3532 | H51: 0 | I51: =(H51/G51)*100000 -> 0 | K51: 0 | L51: =B51-G51 -> 3383 | M51: =C51-H51 -> 0 | N51: =(M51/L51)*100000 -> 0 | P51: =F51-K51 -> 0
A52: Tyler | B52: 8795 | C52: 1 | D52: =(C52/B52)*100000 -> 11.370097 | E52: =RANK(D52,D5:D59) -> 52 | F52: 1 | G52: 4415 | H52: 1 | I52: =(H52/G52)*100000 -> 22.650057 | J52: =RANK(I52,I5:I59) -> 47 | K52: 1 | L52: =B52-G52 -> 4380 | M52: =C52-H52 -> 0 | N52: =(M52/L52)*100000 -> 0 | P52: =F52-K52 -> 0
A53: Upshur | B53: 24465 | C53: 6 | D53: =(C53/B53)*100000 -> 24.524831 | E53: =RANK(D53,D5:D59) -> 35 | F53: 6 | G53: 12113 | H53: 4 | I53: =(H53/G53)*100000 -> 33.022373 | J53: =RANK(I53,I5:I59) -> 33 | K53: 3 | L53: =B53-G53 -> 12352 | M53: =C53-H53 -> 2 | N53: =(M53/L53)*100000 -> 16.19171 | O53: =RANK(N53,N5:N59) -> 38 | P53: =F53-K53 -> 3
A54: Wayne | B54: 40153 | C54: 49 | D54: =(C54/B54)*100000 -> 122.03322 | E54: =RANK(D54,D5:D59) -> 2 | F54: 33 | G54: 19632 | H54: 31 | I54: =(H54/G54)*100000 -> 157.90546 | J54: =RANK(I54,I5:I59) -> 2 | K54: 24 | L54: =B54-G54 -> 20521 | M54: =C54-H54 -> 18 | N54: =(M54/L54)*100000 -> 87.715024 | O54: =RANK(N54,N5:N59) -> 2 | P54: =F54-K54 -> 9
A55: Webster | B55: 8372 | C55: 3 | D55: =(C55/B55)*100000 -> 35.833731 | E55: =RANK(D55,D5:D59) -> 24 | F55: 2 | G55: 4183 | H55: 1 | I55: =(H55/G55)*100000 -> 23.906287 | J55: =RANK(I55,I5:I59) -> 44 | K55: 0 | L55: =B55-G55 -> 4189 | M55: =C55-H55 -> 2 | N55: =(M55/L55)*100000 -> 47.744092 | O55: =RANK(N55,N5:N59) -> 13 | P55: =F55-K55 -> 2
A56: Wetzel | B56: 15437 | C56: 6 | D56: =(C56/B56)*100000 -> 38.867656 | E56: =RANK(D56,D5:D59) -> 21 | F56: 6 | G56: 7579 | H56: 3 | I56: =(H56/G56)*100000 -> 39.583058 | J56: =RANK(I56,I5:I59) -> 28 | K56: 4 | L56: =B56-G56 -> 7858 | M56: =C56-H56 -> 3 | N56: =(M56/L56)*100000 -> 38.177653 | O56: =RANK(N56,N5:N59) -> 18 | P56: =F56-K56 -> 2
A57: Wirt | B57: 5794 | C57: 1 | D57: =(C57/B57)*100000 -> 17.259234 | E57: =RANK(D57,D5:D59) -> 44 | F57: 0 | G57: 2961 | H57: 1 | I57: =(H57/G57)*100000 -> 33.772374 | J57: =RANK(I57,I5:I59) -> 31 | K57: 0 | L57: =B57-G57 -> 2833 | M57: =C57-H57 -> 0 | N57: =(M57/L57)*100000 -> 0 | P57: =F57-K57 -> 0
A58: Wood | B58: 85104 | C58: 16 | D58: =(C58/B58)*100000 -> 18.800526 | E58: =RANK(D58,D5:D59) -> 42 | F58: 20 | G58: 41293 | H58: 10 | I58: =(H58/G58)*100000 -> 24.21718 | J58: =RANK(I58,I5:I59) -> 43 | K58: 15 | L58: =B58-G58 -> 43811 | M58: =C58-H58 -> 6 | N58: =(M58/L58)*100000 -> 13.695191 | O58: =RANK(N58,N5:N59) -> 45 | P58: =F58-K58 -> 5
A59: Wyoming | B59: 21210 | C59: 12 | D59: =(C59/B59)*100000 -> 56.577086 | E59: =RANK(D59,D5:D59) -> 14 | F59: 8 | G59: 10456 | H59: 6 | I59: =(H59/G59)*100000 -> 57.383321 | J59: =RANK(I59,I5:I59) -> 17 | K59: 4 | L59: =B59-G59 -> 10754 | M59: =C59-H59 -> 6 | N59: =(M59/L59)*100000 -> 55.793193 | O59: =RANK(N59,N5:N59) -> 6 | P59: =F59-K59 -> 4
A60: WV Total | B60: =SUM(B5:B59) -> 1815857 | C60: =SUM(C5:C59) -> 947 | D60: =(C60/B60)*100000 -> 52.151684 | F60: =SUM(F5:F59) -> 1002 | G60: =SUM(G5:G59) -> 898620 | H60: =SUM(H5:H59) -> 620 | I60: =(H60/G60)*100000 -> 68.994681 | K60: =SUM(K5:K59) -> 657 | L60: =SUM(L5:L59) -> 917237 | M60: =SUM(M5:M59) -> 327 | N60: =(M60/L60)*100000 -> 35.650546 | P60: =SUM(P5:P59) -> 345
A61: Source: West Virginia Health Statistics Center, Vital Statistics System, September 2018.
A65: 2017 (Preliminary) West Virginia Resident Births
A66: Births to Teens Ages 15-19 by County
A68: County | B68: Estimated Female Population Ages 15-19 | C68: Number of Resident Births to Mothers Ages 15-19 | D68: Rate per 1,000 Females Ages 10-19 | E68: Rank | F68: Number of Resident Fetal Deaths to Mothers Ages 15-19 | G68: Number of Resident *Abortions to Females Ages 15-19 | H68: Estimated Number of Pregnancies to Females Ages 15-19 | I68: Rate per 1,000 Females Ages 10-19 | J68: Rank
A69: Barbour | B69: 619 | C69: 24 | D69: =(C69/B69)*1000 -> 38.772213 | E69: =RANK(D69,D69:D123) -> 11 | F69: 0 | G69: 1 | H69: =C69+F69+G69 -> 25 | I69: =(H69/B69)*1000 -> 40.387722 | J69: =RANK(I69,I69:I123) -> 16
A70: Berkeley | B70: 3501 | C70: 67 | D70: =(C70/B70)*1000 -> 19.137389 | E70: =RANK(D70,D69:D123) -> 49 | F70: 0 | G70: 0 | H70: =C70+F70+G70 -> 67 | I70: =(H70/B70)*1000 -> 19.137389 | J70: =RANK(I70,I69:I123) -> 51
A71: Boone | B71: 640 | C71: 32 | D71: =(C71/B71)*1000 -> 50 | E71: =RANK(D71,D69:D123) -> 3 | F71: 0 | G71: 4 | H71: =C71+F71+G71 -> 36 | I71: =(H71/B71)*1000 -> 56.25 | J71: =RANK(I71,I69:I123) -> 3
A72: Braxton | B72: 372 | C72: 9 | D72: =(C72/B72)*1000 -> 24.193548 | E72: =RANK(D72,D69:D123) -> 39 | F72: 0 | G72: 0 | H72: =C72+F72+G72 -> 9 | I72: =(H72/B72)*1000 -> 24.193548 | J72: =RANK(I72,I69:I123) -> 41
A73: Brooke | B73: 672 | C73: 18 | D73: =(C73/B73)*1000 -> 26.785714 | E73: =RANK(D73,D69:D123) -> 32 | F73: 0 | G73: 1 | H73: =C73+F73+G73 -> 19 | I73: =(H73/B73)*1000 -> 28.27381 | J73: =RANK(I73,I69:I123) -> 33
A74: Cabell | B74: 3233 | C74: 60 | D74: =(C74/B74)*1000 -> 18.558614 | E74: =RANK(D74,D69:D123) -> 50 | F74: 0 | G74: 13 | H74: =C74+F74+G74 -> 73 | I74: =(H74/B74)*1000 -> 22.579647 | J74: =RANK(I74,I69:I123) -> 46
A75: Calhoun | B75: 180 | C75: 3 | D75: =(C75/B75)*1000 -> 16.666667 | E75: =RANK(D75,D69:D123) -> 51 | F75: 0 | G75: 2 | H75: =C75+F75+G75 -> 5 | I75: =(H75/B75)*1000 -> 27.777778 | J75: =RANK(I75,I69:I123) -> 35
A76: Clay | B76: 238 | C76: 8 | D76: =(C76/B76)*1000 -> 33.613445 | E76: =RANK(D76,D69:D123) -> 23 | F76: 0 | G76: 0 | H76: =C76+F76+G76 -> 8 | I76: =(H76/B76)*1000 -> 33.613445 | J76: =RANK(I76,I69:I123) -> 28
A77: Doddridge | B77: 191 | C77: 6 | D77: =(C77/B77)*1000 -> 31.413613 | E77: =RANK(D77,D69:D123) -> 28 | F77: 0 | G77: 0 | H77: =C77+F77+G77 -> 6 | I77: =(H77/B77)*1000 -> 31.413613 | J77: =RANK(I77,I69:I123) -> 30
A78: Fayette | B78: 1121 | C78: 43 | D78: =(C78/B78)*1000 -> 38.358608 | E78: =RANK(D78,D69:D123) -> 13 | F78: 0 | G78: 3 | H78: =C78+F78+G78 -> 46 | I78: =(H78/B78)*1000 -> 41.03479 | J78: =RANK(I78,I69:I123) -> 15
A79: Gilmer | B79: 252 | C79: 3 | D79: =(C79/B79)*1000 -> 11.904762 | E79: =RANK(D79,D69:D123) -> 53 | F79: 0 | G79: 0 | H79: =C79+F79+G79 -> 3 | I79: =(H79/B79)*1000 -> 11.904762 | J79: =RANK(I79,I69:I123) -> 53
A80: Grant | B80: 286 | C80: 14 | D80: =(C80/B80)*1000 -> 48.951049 | E80: =RANK(D80,D69:D123) -> 4 | F80: 0 | G80: 1 | H80: =C80+F80+G80 -> 15 | I80: =(H80/B80)*1000 -> 52.447552 | J80: =RANK(I80,I69:I123) -> 4
A81: Greenbrier | B81: 920 | C81: 18 | D81: =(C81/B81)*1000 -> 19.565217 | E81: =RANK(D81,D69:D123) -> 48 | F81: 0 | G81: 3 | H81: =C81+F81+G81 -> 21 | I81: =(H81/B81)*1000 -> 22.826087 | J81: =RANK(I81,I69:I123) -> 45
A82: Hampshire | B82: 655 | C82: 17 | D82: =(C82/B82)*1000 -> 25.954198 | E82: =RANK(D82,D69:D123) -> 35 | F82: 0 | G82: 0 | H82: =C82+F82+G82 -> 17 | I82: =(H82/B82)*1000 -> 25.954198 | J82: =RANK(I82,I69:I123) -> 39
A83: Hancock | B83: 735 | C83: 17 | D83: =(C83/B83)*1000 -> 23.129252 | E83: =RANK(D83,D69:D123) -> 42 | F83: 0 | G83: 0 | H83: =C83+F83+G83 -> 17 | I83: =(H83/B83)*1000 -> 23.129252 | J83: =RANK(I83,I69:I123) -> 44
A84: Hardy | B84: 338 | C84: 9 | D84: =(C84/B84)*1000 -> 26.627219 | E84: =RANK(D84,D69:D123) -> 34 | F84: 0 | G84: 0 | H84: =C84+F84+G84 -> 9 | I84: =(H84/B84)*1000 -> 26.627219 | J84: =RANK(I84,I69:I123) -> 38
A85: Harrison | B85: 1856 | C85: 46 | D85: =(C85/B85)*1000 -> 24.784483 | E85: =RANK(D85,D69:D123) -> 38 | F85: 0 | G85: 4 | H85: =C85+F85+G85 -> 50 | I85: =(H85/B85)*1000 -> 26.939655 | J85: =RANK(I85,I69:I123) -> 37
A86: Jackson | B86: 809 | C86: 27 | D86: =(C86/B86)*1000 -> 33.374536 | E86: =RANK(D86,D69:D123) -> 24 | F86: 0 | G86: 7 | H86: =C86+F86+G86 -> 34 | I86: =(H86/B86)*1000 -> 42.027194 | J86: =RANK(I86,I69:I123) -> 13
A87: Jefferson | B87: 1794 | C87: 27 | D87: =(C87/B87)*1000 -> 15.050167 | E87: =RANK(D87,D69:D123) -> 52 | F87: 0 | G87: 0 | H87: =C87+F87+G87 -> 27 | I87: =(H87/B87)*1000 -> 15.050167 | J87: =RANK(I87,I69:I123) -> 52
A88: Kanawha | B88: 5012 | C88: 154 | D88: =(C88/B88)*1000 -> 30.726257 | E88: =RANK(D88,D69:D123) -> 29 | F88: 0 | G88: 23 | H88: =C88+F88+G88 -> 177 | I88: =(H88/B88)*1000 -> 35.315243 | J88: =RANK(I88,I69:I123) -> 24
A89: Lewis | B89: 406 | C89: 12 | D89: =(C89/B89)*1000 -> 29.55665 | E89: =RANK(D89,D69:D123) -> 30 | F89: 1 | G89: 0 | H89: =C89+F89+G89 -> 13 | I89: =(H89/B89)*1000 -> 32.019704 | J89: =RANK(I89,I69:I123) -> 29
A90: Lincoln | B90: 569 | C90: 27 | D90: =(C90/B90)*1000 -> 47.45167 | E90: =RANK(D90,D69:D123) -> 5 | F90: 0 | G90: 2 | H90: =C90+F90+G90 -> 29 | I90: =(H90/B90)*1000 -> 50.966608 | J90: =RANK(I90,I69:I123) -> 6
A91: Logan | B91: 891 | C91: 42 | D91: =(C91/B91)*1000 -> 47.138047 | E91: =RANK(D91,D69:D123) -> 6 | F91: 0 | G91: 4 | H91: =C91+F91+G91 -> 46 | I91: =(H91/B91)*1000 -> 51.627385 | J91: =RANK(I91,I69:I123) -> 5
A92: McDowell | B92: 460 | C92: 24 | D92: =(C92/B92)*1000 -> 52.173913 | E92: =RANK(D92,D69:D123) -> 2 | F92: 0 | G92: 2 | H92: =C92+F92+G92 -> 26 | I92: =(H92/B92)*1000 -> 56.521739 | J92: =RANK(I92,I69:I123) -> 2
A93: Marion | B93: 1684 | C93: 38 | D93: =(C93/B93)*1000 -> 22.565321 | E93: =RANK(D93,D69:D123) -> 43 | F93: 0 | G93: 1 | H93: =C93+F93+G93 -> 39 | I93: =(H93/B93)*1000 -> 23.159145 | J93: =RANK(I93,I69:I123) -> 42
A94: Marshall | B94: 824 | C94: 17 | D94: =(C94/B94)*1000 -> 20.631068 | E94: =RANK(D94,D69:D123) -> 46 | F94: 0 | G94: 1 | H94: =C94+F94+G94 -> 18 | I94: =(H94/B94)*1000 -> 21.84466 | J94: =RANK(I94,I69:I123) -> 48
A95: Mason | B95: 684 | C95: 23 | D95: =(C95/B95)*1000 -> 33.625731 | E95: =RANK(D95,D69:D123) -> 22 | F95: 0 | G95: 1 | H95: =C95+F95+G95 -> 24 | I95: =(H95/B95)*1000 -> 35.087719 | J95: =RANK(I95,I69:I123) -> 25
A96: Mercer | B96: 1703 | C96: 72 | D96: =(C96/B96)*1000 -> 42.278332 | E96: =RANK(D96,D69:D123) -> 9 | F96: 2 | G96: 3 | H96: =C96+F96+G96 -> 77 | I96: =(H96/B96)*1000 -> 45.214328 | J96: =RANK(I96,I69:I123) -> 9
A97: Mineral | B97: 837 | C97: 20 | D97: =(C97/B97)*1000 -> 23.894863 | E97: =RANK(D97,D69:D123) -> 40 | F97: 0 | G97: 1 | H97: =C97+F97+G97 -> 21 | I97: =(H97/B97)*1000 -> 25.089606 | J97: =RANK(I97,I69:I123) -> 40
A98: Mingo | B98: 630 | C98: 36 | D98: =(C98/B98)*1000 -> 57.142857 | E98: =RANK(D98,D69:D123) -> 1 | F98: 0 | G98: 2 | H98: =C98+F98+G98 -> 38 | I98: =(H98/B98)*1000 -> 60.31746 | J98: =RANK(I98,I69:I123) -> 1
A99: Monongalia | B99: 4079 | C99: 41 | D99: =(C99/B99)*1000 -> 10.051483 | E99: =RANK(D99,D69:D123) -> 54 | F99: 0 | G99: 1 | H99: =C99+F99+G99 -> 42 | I99: =(H99/B99)*1000 -> 10.296641 | J99: =RANK(I99,I69:I123) -> 54
A100: Monroe | B100: 344 | C100: 10 | D100: =(C100/B100)*1000 -> 29.069767 | E100: =RANK(D100,D69:D123) -> 31 | F100: 0 | G100: 0 | H100: =C100+F100+G100 -> 10 | I100: =(H100/B100)*1000 -> 29.069767 | J100: =RANK(I100,I69:I123) -> 32
A101: Morgan | B101: 484 | C101: 10 | D101: =(C101/B101)*1000 -> 20.661157 | E101: =RANK(D101,D69:D123) -> 45 | F101: 0 | G101: 0 | H101: =C101+F101+G101 -> 10 | I101: =(H101/B101)*1000 -> 20.661157 | J101: =RANK(I101,I69:I123) -> 50
A102: Nicholas | B102: 602 | C102: 23 | D102: =(C102/B102)*1000 -> 38.20598 | E102: =RANK(D102,D69:D123) -> 14 | F102: 1 | G102: 1 | H102: =C102+F102+G102 -> 25 | I102: =(H102/B102)*1000 -> 41.528239 | J102: =RANK(I102,I69:I123) -> 14
A103: Ohio | B103: 1416 | C103: 29 | D103: =(C103/B103)*1000 -> 20.480226 | E103: =RANK(D103,D69:D123) -> 47 | F103: 0 | G103: 2 | H103: =C103+F103+G103 -> 31 | I103: =(H103/B103)*1000 -> 21.892655 | J103: =RANK(I103,I69:I123) -> 47
A104: Pendleton | B104: 169 | C104: 6 | D104: =(C104/B104)*1000 -> 35.502959 | E104: =RANK(D104,D69:D123) -> 17 | F104: 0 | G104: 0 | H104: =C104+F104+G104 -> 6 | I104: =(H104/B104)*1000 -> 35.502959 | J104: =RANK(I104,I69:I123) -> 23
A105: Pleasants | B105: 200 | C105: 5 | D105: =(C105/B105)*1000 -> 25 | E105: =RANK(D105,D69:D123) -> 37 | F105: 0 | G105: 1 | H105: =C105+F105+G105 -> 6 | I105: =(H105/B105)*1000 -> 30 | J105: =RANK(I105,I69:I123) -> 31
...

Sheet 2014-2017
A1: 2014-2017 West Virginia Deaths
A2: Drug Overdose Deaths by County
A4: County | B4: Estimated Population | C4: Number of Resident Drug Overdose Deaths | D4: Rate per 100,000 Population | E4: Rank | F4: Number of Occurrence Drug Overdose Deaths | G4: Estimated Male Population | H4: Number of Male Resident Drug Overdose Deaths | I4: Rate per 100,000 Males | J4: Rank | K4: Number of Male Occurrence Drug Overdose Deaths | L4: Estimated Female Population | M4: Number of Female Resident Drug Overdose Deaths | N4: Rate per 100,000 Females | O4: Rank | P4: Number of Female Occurrence Drug Overdose Deaths
A5: Barbour | B5: ='2014'!B5+'2015'!B5+'2016'!B5+'2017'!B5 -> 67089 | C5: ='2014'!C5+'2015'!C5+'2016'!C5+'2017'!C5 -> 11 | D5: =(C5/B5)*100000 -> 16.396131 | E5: =RANK(D5,D5:D59) -> 41 | F5: ='2014'!F5+'2015'!F5+'2016'!F5+'2017'!F5 -> 8 | G5: ='2014'!G5+'2015'!G5+'2016'!G5+'2017'!G5 -> 32775 | H5: ='2014'!H5+'2015'!H5+'2016'!H5+'2017'!H5 -> 6 | I5: =(H5/G5)*100000 -> 18.306636 | J5: =RANK(I5,I5:I59) -> 45 | K5: ='2014'!K5+'2015'!K5+'2016'!K5+'2017'!K5 -> 5 | L5: =B5-G5 -> 34314 | M5: =C5-H5 -> 5 | N5: =(M5/L5)*100000 -> 14.571312 | O5: =RANK(N5,N5:N59) -> 39 | P5: =F5-K5 -> 3
A6: Berkeley | B6: ='2014'!B6+'2015'!B6+'2016'!B6+'2017'!B6 -> 449713 | C6: ='2014'!C6+'2015'!C6+'2016'!C6+'2017'!C6 -> 269 | D6: =(C6/B6)*100000 -> 59.815927 | E6: =RANK(D6,D5:D59) -> 10 | F6: ='2014'!F6+'2015'!F6+'2016'!F6+'2017'!F6 -> 284 | G6: ='2014'!G6+'2015'!G6+'2016'!G6+'2017'!G6 -> 222449 | H6: ='2014'!H6+'2015'!H6+'2016'!H6+'2017'!H6 -> 179 | I6: =(H6/G6)*100000 -> 80.467883 | J6: =RANK(I6,I5:I59) -> 10 | K6: ='2014'!K6+'2015'!K6+'2016'!K6+'2017'!K6 -> 194 | L6: =B6-G6 -> 227264 | M6: =C6-H6 -> 90 | N6: =(M6/L6)*100000 -> 39.601521 | O6: =RANK(N6,N5:N59) -> 12 | P6: =F6-K6 -> 90
A7: Boone | B7: ='2014'!B7+'2015'!B7+'2016'!B7+'2017'!B7 -> 92093 | C7: ='2014'!C7+'2015'!C7+'2016'!C7+'2017'!C7 -> 62 | D7: =(C7/B7)*100000 -> 67.323249 | E7: =RANK(D7,D5:D59) -> 6 | F7: ='2014'!F7+'2015'!F7+'2016'!F7+'2017'!F7 -> 57 | G7: ='2014'!G7+'2015'!G7+'2016'!G7+'2017'!G7 -> 45838 | H7: ='2014'!H7+'2015'!H7+'2016'!H7+'2017'!H7 -> 39 | I7: =(H7/G7)*100000 -> 85.082246 | J7: =RANK(I7,I5:I59) -> 7 | K7: ='2014'!K7+'2015'!K7+'2016'!K7+'2017'!K7 -> 35 | L7: =B7-G7 -> 46255 | M7: =C7-H7 -> 23 | N7: =(M7/L7)*100000 -> 49.724354 | O7: =RANK(N7,N5:N59) -> 5 | P7: =F7-K7 -> 22
A8: Braxton | B8: ='2014'!B8+'2015'!B8+'2016'!B8+'2017'!B8 -> 57344 | C8: ='2014'!C8+'2015'!C8+'2016'!C8+'2017'!C8 -> 10 | D8: =(C8/B8)*100000 -> 17.438616 | E8: =RANK(D8,D5:D59) -> 39 | F8: ='2014'!F8+'2015'!F8+'2016'!F8+'2017'!F8 -> 11 | G8: ='2014'!G8+'2015'!G8+'2016'!G8+'2017'!G8 -> 28973 | H8: ='2014'!H8+'2015'!H8+'2016'!H8+'2017'!H8 -> 6 | I8: =(H8/G8)*100000 -> 20.708936 | J8: =RANK(I8,I5:I59) -> 43 | K8: ='2014'!K8+'2015'!K8+'2016'!K8+'2017'!K8 -> 6 | L8: =B8-G8 -> 28371 | M8: =C8-H8 -> 4 | N8: =(M8/L8)*100000 -> 14.098904 | O8: =RANK(N8,N5:N59) -> 40 | P8: =F8-K8 -> 5
A9: Brooke | B9: ='2014'!B9+'2015'!B9+'2016'!B9+'2017'!B9 -> 91732 | C9: ='2014'!C9+'2015'!C9+'2016'!C9+'2017'!C9 -> 40 | D9: =(C9/B9)*100000 -> 43.605285 | E9: =RANK(D9,D5:D59) -> 16 | F9: ='2014'!F9+'2015'!F9+'2016'!F9+'2017'!F9 -> 49 | G9: ='2014'!G9+'2015'!G9+'2016'!G9+'2017'!G9 -> 44953 | H9: ='2014'!H9+'2015'!H9+'2016'!H9+'2017'!H9 -> 22 | I9: =(H9/G9)*100000 -> 48.940004 | J9: =RANK(I9,I5:I59) -> 21 | K9: ='2014'!K9+'2015'!K9+'2016'!K9+'2017'!K9 -> 29 | L9: =B9-G9 -> 46779 | M9: =C9-H9 -> 18 | N9: =(M9/L9)*100000 -> 38.478805 | O9: =RANK(N9,N5:N59) -> 13 | P9: =F9-K9 -> 20
A10: Cabell | B10: ='2014'!B10+'2015'!B10+'2016'!B10+'2017'!B10 -> 383603 | C10: ='2014'!C10+'2015'!C10+'2016'!C10+'2017'!C10 -> 372 | D10: =(C10/B10)*100000 -> 96.975258 | E10: =RANK(D10,D5:D59) -> 1 | F10: ='2014'!F10+'2015'!F10+'2016'!F10+'2017'!F10 -> 506 | G10: ='2014'!G10+'2015'!G10+'2016'!G10+'2017'!G10 -> 187616 | H10: ='2014'!H10+'2015'!H10+'2016'!H10+'2017'!H10 -> 252 | I10: =(H10/G10)*100000 -> 134.3169 | J10: =RANK(I10,I5:I59) -> 1 | K10: ='2014'!K10+'2015'!K10+'2016'!K10+'2017'!K10 -> 340 | L10: =B10-G10 -> 195987 | M10: =C10-H10 -> 120 | N10: =(M10/L10)*100000 -> 61.228551 | O10: =RANK(N10,N5:N59) -> 2 | P10: =F10-K10 -> 166
A11: Calhoun | B11: ='2014'!B11+'2015'!B11+'2016'!B11+'2017'!B11 -> 29698 | C11: ='2014'!C11+'2015'!C11+'2016'!C11+'2017'!C11 -> 4 | D11: =(C11/B11)*100000 -> 13.46892 | E11: =RANK(D11,D5:D59) -> 50 | F11: ='2014'!F11+'2015'!F11+'2016'!F11+'2017'!F11 -> 3 | G11: ='2014'!G11+'2015'!G11+'2016'!G11+'2017'!G11 -> 14799 | H11: ='2014'!H11+'2015'!H11+'2016'!H11+'2017'!H11 -> 2 | I11: =(H11/G11)*100000 -> 13.514427 | J11: =RANK(I11,I5:I59) -> 48 | K11: ='2014'!K11+'2015'!K11+'2016'!K11+'2017'!K11 -> 2 | L11: =B11-G11 -> 14899 | M11: =C11-H11 -> 2 | N11: =(M11/L11)*100000 -> 13.42372 | O11: =RANK(N11,N5:N59) -> 41 | P11: =F11-K11 -> 1
A12: Clay | B12: ='2014'!B12+'2015'!B12+'2016'!B12+'2017'!B12 -> 35365 | C12: ='2014'!C12+'2015'!C12+'2016'!C12+'2017'!C12 -> 9 | D12: =(C12/B12)*100000 -> 25.44889 | E12: =RANK(D12,D5:D59) -> 30 | F12: ='2014'!F12+'2015'!F12+'2016'!F12+'2017'!F12 -> 7 | G12: ='2014'!G12+'2015'!G12+'2016'!G12+'2017'!G12 -> 17779 | H12: ='2014'!H12+'2015'!H12+'2016'!H12+'2017'!H12 -> 7 | I12: =(H12/G12)*100000 -> 39.372293 | J12: =RANK(I12,I5:I59) -> 26 | K12: ='2014'!K12+'2015'!K12+'2016'!K12+'2017'!K12 -> 5 | L12: =B12-G12 -> 17586 | M12: =C12-H12 -> 2 | N12: =(M12/L12)*100000 -> 11.372683 | O12: =RANK(N12,N5:N59) -> 46 | P12: =F12-K12 -> 2
A13: Doddridge | B13: ='2014'!B13+'2015'!B13+'2016'!B13+'2017'!B13 -> 34306 | C13: ='2014'!C13+'2015'!C13+'2016'!C13+'2017'!C13 -> 5 | D13: =(C13/B13)*100000 -> 14.57471 | E13: =RANK(D13,D5:D59) -> 46 | F13: ='2014'!F13+'2015'!F13+'2016'!F13+'2017'!F13 -> 3 | G13: ='2014'!G13+'2015'!G13+'2016'!G13+'2017'!G13 -> 18798 | H13: ='2014'!H13+'2015'!H13+'2016'!H13+'2017'!H13 -> 3 | I13: =(H13/G13)*100000 -> 15.959145 | J13: =RANK(I13,I5:I59) -> 46 | K13: ='2014'!K13+'2015'!K13+'2016'!K13+'2017'!K13 -> 1 | L13: =B13-G13 -> 15508 | M13: =C13-H13 -> 2 | N13: =(M13/L13)*100000 -> 12.89657 | O13: =RANK(N13,N5:N59) -> 42 | P13: =F13-K13 -> 2
A14: Fayette | B14: ='2014'!B14+'2015'!B14+'2016'!B14+'2017'!B14 -> 177462 | C14: ='2014'!C14+'2015'!C14+'2016'!C14+'2017'!C14 -> 76 | D14: =(C14/B14)*100000 -> 42.82607 | E14: =RANK(D14,D5:D59) -> 17 | F14: ='2014'!F14+'2015'!F14+'2016'!F14+'2017'!F14 -> 71 | G14: ='2014'!G14+'2015'!G14+'2016'!G14+'2017'!G14 -> 89382 | H14: ='2014'!H14+'2015'!H14+'2016'!H14+'2017'!H14 -> 44 | I14: =(H14/G14)*100000 -> 49.226914 | J14: =RANK(I14,I5:I59) -> 20 | K14: ='2014'!K14+'2015'!K14+'2016'!K14+'2017'!K14 -> 40 | L14: =B14-G14 -> 88080 | M14: =C14-H14 -> 32 | N14: =(M14/L14)*100000 -> 36.330609 | O14: =RANK(N14,N5:N59) -> 14 | P14: =F14-K14 -> 31
A15: Gilmer | B15: ='2014'!B15+'2015'!B15+'2016'!B15+'2017'!B15 -> 32909 | C15: ='2014'!C15+'2015'!C15+'2016'!C15+'2017'!C15 -> 0 | D15: =(C15/B15)*100000 -> 0 | E15: =RANK(D15,D5:D59) -> 55 | F15: ='2014'!F15+'2015'!F15+'2016'!F15+'2017'!F15 -> 0 | G15: ='2014'!G15+'2015'!G15+'2016'!G15+'2017'!G15 -> 19584 | H15: ='2014'!H15+'2015'!H15+'2016'!H15+'2017'!H15 -> 0 | I15: =(H15/G15)*100000 -> 0 | J15: =RANK(I15,I5:I59) -> 55 | K15: ='2014'!K15+'2015'!K15+'2016'!K15+'2017'!K15 -> 0 | L15: =B15-G15 -> 13325 | M15: =C15-H15 -> 0 | N15: =(M15/L15)*100000 -> 0 | P15: =F15-K15 -> 0
A16: Grant | B16: ='2014'!B16+'2015'!B16+'2016'!B16+'2017'!B16 -> 46611 | C16: ='2014'!C16+'2015'!C16+'2016'!C16+'2017'!C16 -> 7 | D16: =(C16/B16)*100000 -> 15.017914 | E16: =RANK(D16,D5:D59) -> 43 | F16: ='2014'!F16+'2015'!F16+'2016'!F16+'2017'!F16 -> 9 | G16: ='2014'!G16+'2015'!G16+'2016'!G16+'2017'!G16 -> 23310 | H16: ='2014'!H16+'2015'!H16+'2016'!H16+'2017'!H16 -> 6 | I16: =(H16/G16)*100000 -> 25.740026 | J16: =RANK(I16,I5:I59) -> 38 | K16: ='2014'!K16+'2015'!K16+'2016'!K16+'2017'!K16 -> 6 | L16: =B16-G16 -> 23301 | M16: =C16-H16 -> 1 | N16: =(M16/L16)*100000 -> 4.2916613 | O16: =RANK(N16,N5:N59) -> 50 | P16: =F16-K16 -> 3
A17: Greenbrier | B17: ='2014'!B17+'2015'!B17+'2016'!B17+'2017'!B17 -> 141844 | C17: ='2014'!C17+'2015'!C17+'2016'!C17+'2017'!C17 -> 41 | D17: =(C17/B17)*100000 -> 28.904994 | E17: =RANK(D17,D5:D59) -> 26 | F17: ='2014'!F17+'2015'!F17+'2016'!F17+'2017'!F17 -> 37 | G17: ='2014'!G17+'2015'!G17+'2016'!G17+'2017'!G17 -> 69342 | H17: ='2014'!H17+'2015'!H17+'2016'!H17+'2017'!H17 -> 19 | I17: =(H17/G17)*100000 -> 27.400421 | J17: =RANK(I17,I5:I59) -> 36 | K17: ='2014'!K17+'2015'!K17+'2016'!K17+'2017'!K17 -> 17 | L17: =B17-G17 -> 72502 | M17: =C17-H17 -> 22 | N17: =(M17/L17)*100000 -> 30.343991 | O17: =RANK(N17,N5:N59) -> 18 | P17: =F17-K17 -> 20
A18: Hampshire | B18: ='2014'!B18+'2015'!B18+'2016'!B18+'2017'!B18 -> 93571 | C18: ='2014'!C18+'2015'!C18+'2016'!C18+'2017'!C18 -> 41 | D18: =(C18/B18)*100000 -> 43.816995 | E18: =RANK(D18,D5:D59) -> 15 | F18: ='2014'!F18+'2015'!F18+'2016'!F18+'2017'!F18 -> 39 | G18: ='2014'!G18+'2015'!G18+'2016'!G18+'2017'!G18 -> 47599 | H18: ='2014'!H18+'2015'!H18+'2016'!H18+'2017'!H18 -> 28 | I18: =(H18/G18)*100000 -> 58.824765 | J18: =RANK(I18,I5:I59) -> 15 | K18: ='2014'!K18+'2015'!K18+'2016'!K18+'2017'!K18 -> 25 | L18: =B18-G18 -> 45972 | M18: =C18-H18 -> 13 | N18: =(M18/L18)*100000 -> 28.278082 | O18: =RANK(N18,N5:N59) -> 21 | P18: =F18-K18 -> 14
A19: Hancock | B19: ='2014'!B19+'2015'!B19+'2016'!B19+'2017'!B19 -> 119247 | C19: ='2014'!C19+'2015'!C19+'2016'!C19+'2017'!C19 -> 58 | D19: =(C19/B19)*100000 -> 48.63854 | E19: =RANK(D19,D5:D59) -> 13 | F19: ='2014'!F19+'2015'!F19+'2016'!F19+'2017'!F19 -> 33 | G19: ='2014'!G19+'2015'!G19+'2016'!G19+'2017'!G19 -> 58074 | H19: ='2014'!H19+'2015'!H19+'2016'!H19+'2017'!H19 -> 39 | I19: =(H19/G19)*100000 -> 67.155698 | J19: =RANK(I19,I5:I59) -> 14 | K19: ='2014'!K19+'2015'!K19+'2016'!K19+'2017'!K19 -> 22 | L19: =B19-G19 -> 61173 | M19: =C19-H19 -> 19 | N19: =(M19/L19)*100000 -> 31.059454 | O19: =RANK(N19,N5:N59) -> 17 | P19: =F19-K19 -> 11
A20: Hardy | B20: ='2014'!B20+'2015'!B20+'2016'!B20+'2017'!B20 -> 55127 | C20: ='2014'!C20+'2015'!C20+'2016'!C20+'2017'!C20 -> 8 | D20: =(C20/B20)*100000 -> 14.511945 | E20: =RANK(D20,D5:D59) -> 47 | F20: ='2014'!F20+'2015'!F20+'2016'!F20+'2017'!F20 -> 6 | G20: ='2014'!G20+'2015'!G20+'2016'!G20+'2017'!G20 -> 27707 | H20: ='2014'!H20+'2015'!H20+'2016'!H20+'2017'!H20 -> 4 | I20: =(H20/G20)*100000 -> 14.436785 | J20: =RANK(I20,I5:I59) -> 47 | K20: ='2014'!K20+'2015'!K20+'2016'!K20+'2017'!K20 -> 2 | L20: =B20-G20 -> 27420 | M20: =C20-H20 -> 4 | N20: =(M20/L20)*100000 -> 14.587892 | O20: =RANK(N20,N5:N59) -> 38 | P20: =F20-K20 -> 4
A21: Harrison | B21: ='2014'!B21+'2015'!B21+'2016'!B21+'2017'!B21 -> 273276 | C21: ='2014'!C21+'2015'!C21+'2016'!C21+'2017'!C21 -> 87 | D21: =(C21/B21)*100000 -> 31.835946 | E21: =RANK(D21,D5:D59) -> 24 | F21: ='2014'!F21+'2015'!F21+'2016'!F21+'2017'!F21 -> 83 | G21: ='2014'!G21+'2015'!G21+'2016'!G21+'2017'!G21 -> 134093 | H21: ='2014'!H21+'2015'!H21+'2016'!H21+'2017'!H21 -> 57 | I21: =(H21/G21)*100000 -> 42.507812 | J21: =RANK(I21,I5:I59) -> 23 | K21: ='2014'!K21+'2015'!K21+'2016'!K21+'2017'!K21 -> 50 | L21: =B21-G21 -> 139183 | M21: =C21-H21 -> 30 | N21: =(M21/L21)*100000 -> 21.554356 | O21: =RANK(N21,N5:N59) -> 24 | P21: =F21-K21 -> 33
A22: Jackson | B22: ='2014'!B22+'2015'!B22+'2016'!B22+'2017'!B22 -> 116438 | C22: ='2014'!C22+'2015'!C22+'2016'!C22+'2017'!C22 -> 24 | D22: =(C22/B22)*100000 -> 20.611828 | E22: =RANK(D22,D5:D59) -> 36 | F22: ='2014'!F22+'2015'!F22+'2016'!F22+'2017'!F22 -> 18 | G22: ='2014'!G22+'2015'!G22+'2016'!G22+'2017'!G22 -> 57620 | H22: ='2014'!H22+'2015'!H22+'2016'!H22+'2017'!H22 -> 17 | I22: =(H22/G22)*100000 -> 29.503645 | J22: =RANK(I22,I5:I59) -> 34 | K22: ='2014'!K22+'2015'!K22+'2016'!K22+'2017'!K22 -> 12 | L22: =B22-G22 -> 58818 | M22: =C22-H22 -> 7 | N22: =(M22/L22)*100000 -> 11.901119 | O22: =RANK(N22,N5:N59) -> 44 | P22: =F22-K22 -> 6
A23: Jefferson | B23: ='2014'!B23+'2015'!B23+'2016'!B23+'2017'!B23 -> 223545 | C23: ='2014'!C23+'2015'!C23+'2016'!C23+'2017'!C23 -> 87 | D23: =(C23/B23)*100000 -> 38.918339 | E23: =RANK(D23,D5:D59) -> 21 | F23: ='2014'!F23+'2015'!F23+'2016'!F23+'2017'!F23 -> 87 | G23: ='2014'!G23+'2015'!G23+'2016'!G23+'2017'!G23 -> 110598 | H23: ='2014'!H23+'2015'!H23+'2016'!H23+'2017'!H23 -> 65 | I23: =(H23/G23)*100000 -> 58.771406 | J23: =RANK(I23,I5:I59) -> 16 | K23: ='2014'!K23+'2015'!K23+'2016'!K23+'2017'!K23 -> 66 | L23: =B23-G23 -> 112947 | M23: =C23-H23 -> 22 | N23: =(M23/L23)*100000 -> 19.478162 | O23: =RANK(N23,N5:N59) -> 30 | P23: =F23-K23 -> 21
A24: Kanawha | B24: ='2014'!B24+'2015'!B24+'2016'!B24+'2017'!B24 -> 747721 | C24: ='2014'!C24+'2015'!C24+'2016'!C24+'2017'!C24 -> 425 | D24: =(C24/B24)*100000 -> 56.839383 | E24: =RANK(D24,D5:D59) -> 11 | F24: ='2014'!F24+'2015'!F24+'2016'!F24+'2017'!F24 -> 484 | G24: ='2014'!G24+'2015'!G24+'2016'!G24+'2017'!G24 -> 360382 | H24: ='2014'!H24+'2015'!H24+'2016'!H24+'2017'!H24 -> 261 | I24: =(H24/G24)*100000 -> 72.423151 | J24: =RANK(I24,I5:I59) -> 12 | K24: ='2014'!K24+'2015'!K24+'2016'!K24+'2017'!K24 -> 301 | L24: =B24-G24 -> 387339 | M24: =C24-H24 -> 164 | N24: =(M24/L24)*100000 -> 42.340172 | O24: =RANK(N24,N5:N59) -> 11 | P24: =F24-K24 -> 183
A25: Lewis | B25: ='2014'!B25+'2015'!B25+'2016'!B25+'2017'!B25 -> 65378 | C25: ='2014'!C25+'2015'!C25+'2016'!C25+'2017'!C25 -> 9 | D25: =(C25/B25)*100000 -> 13.766099 | E25: =RANK(D25,D5:D59) -> 49 | F25: ='2014'!F25+'2015'!F25+'2016'!F25+'2017'!F25 -> 8 | G25: ='2014'!G25+'2015'!G25+'2016'!G25+'2017'!G25 -> 32432 | H25: ='2014'!H25+'2015'!H25+'2016'!H25+'2017'!H25 -> 4 | I25: =(H25/G25)*100000 -> 12.333498 | J25: =RANK(I25,I5:I59) -> 49 | K25: ='2014'!K25+'2015'!K25+'2016'!K25+'2017'!K25 -> 6 | L25: =B25-G25 -> 32946 | M25: =C25-H25 -> 5 | N25: =(M25/L25)*100000 -> 15.176349 | O25: =RANK(N25,N5:N59) -> 37 | P25: =F25-K25 -> 2
A26: Lincoln | B26: ='2014'!B26+'2015'!B26+'2016'!B26+'2017'!B26 -> 84745 | C26: ='2014'!C26+'2015'!C26+'2016'!C26+'2017'!C26 -> 47 | D26: =(C26/B26)*100000 -> 55.460499 | E26: =RANK(D26,D5:D59) -> 12 | F26: ='2014'!F26+'2015'!F26+'2016'!F26+'2017'!F26 -> 31 | G26: ='2014'!G26+'2015'!G26+'2016'!G26+'2017'!G26 -> 42146 | H26: ='2014'!H26+'2015'!H26+'2016'!H26+'2017'!H26 -> 33 | I26: =(H26/G26)*100000 -> 78.299245 | J26: =RANK(I26,I5:I59) -> 11 | K26: ='2014'!K26+'2015'!K26+'2016'!K26+'2017'!K26 -> 20 | L26: =B26-G26 -> 42599 | M26: =C26-H26 -> 14 | N26: =(M26/L26)*100000 -> 32.864621 | O26: =RANK(N26,N5:N59) -> 16 | P26: =F26-K26 -> 11
A27: Logan | B27: ='2014'!B27+'2015'!B27+'2016'!B27+'2017'!B27 -> 136223 | C27: ='2014'!C27+'2015'!C27+'2016'!C27+'2017'!C27 -> 91 | D27: =(C27/B27)*100000 -> 66.802229 | E27: =RANK(D27,D5:D59) -> 7 | F27: ='2014'!F27+'2015'!F27+'2016'!F27+'2017'!F27 -> 86 | G27: ='2014'!G27+'2015'!G27+'2016'!G27+'2017'!G27 -> 67058 | H27: ='2014'!H27+'2015'!H27+'2016'!H27+'2017'!H27 -> 59 | I27: =(H27/G27)*100000 -> 87.983537 | J27: =RANK(I27,I5:I59) -> 5 | K27: ='2014'!K27+'2015'!K27+'2016'!K27+'2017'!K27 -> 56 | L27: =B27-G27 -> 69165 | M27: =C27-H27 -> 32 | N27: =(M27/L27)*100000 -> 46.266175 | O27: =RANK(N27,N5:N59) -> 9 | P27: =F27-K27 -> 30
A28: McDowell | B28: ='2014'!B28+'2015'!B28+'2016'!B28+'2017'!B28 -> 77628 | C28: ='2014'!C28+'2015'!C28+'2016'!C28+'2017'!C28 -> 57 | D28: =(C28/B28)*100000 -> 73.427114 | E28: =RANK(D28,D5:D59) -> 4 | F28: ='2014'!F28+'2015'!F28+'2016'!F28+'2017'!F28 -> 50 | G28: ='2014'!G28+'2015'!G28+'2016'!G28+'2017'!G28 -> 37934 | H28: ='2014'!H28+'2015'!H28+'2016'!H28+'2017'!H28 -> 33 | I28: =(H28/G28)*100000 -> 86.993199 | J28: =RANK(I28,I5:I59) -> 6 | K28: ='2014'!K28+'2015'!K28+'2016'!K28+'2017'!K28 -> 29 | L28: =B28-G28 -> 39694 | M28: =C28-H28 -> 24 | N28: =(M28/L28)*100000 -> 60.462538 | O28: =RANK(N28,N5:N59) -> 4 | P28: =F28-K28 -> 21
A29: Marion | B29: ='2014'!B29+'2015'!B29+'2016'!B29+'2017'!B29 -> 226226 | C29: ='2014'!C29+'2015'!C29+'2016'!C29+'2017'!C29 -> 33 | D29: =(C29/B29)*100000 -> 14.587183 | E29: =RANK(D29,D5:D59) -> 45 | F29: ='2014'!F29+'2015'!F29+'2016'!F29+'2017'!F29 -> 30 | G29: ='2014'!G29+'2015'!G29+'2016'!G29+'2017'!G29 -> 111376 | H29: ='2014'!H29+'2015'!H29+'2016'!H29+'2017'!H29 -> 24 | I29: =(H29/G29)*100000 -> 21.548628 | J29: =RANK(I29,I5:I59) -> 42 | K29: ='2014'!K29+'2015'!K29+'2016'!K29+'2017'!K29 -> 23 | L29: =B29-G29 -> 114850 | M29: =C29-H29 -> 9 | N29: =(M29/L29)*100000 -> 7.8363082 | O29: =RANK(N29,N5:N59) -> 49 | P29: =F29-K29 -> 7
A30: Marshall | B30: ='2014'!B30+'2015'!B30+'2016'!B30+'2017'!B30 -> 127411 | C30: ='2014'!C30+'2015'!C30+'2016'!C30+'2017'!C30 -> 25 | D30: =(C30/B30)*100000 -> 19.62154 | E30: =RANK(D30,D5:D59) -> 38 | F30: ='2014'!F30+'2015'!F30+'2016'!F30+'2017'!F30 -> 20 | G30: ='2014'!G30+'2015'!G30+'2016'!G30+'2017'!G30 -> 62798 | H30: ='2014'!H30+'2015'!H30+'2016'!H30+'2017'!H30 -> 15 | I30: =(H30/G30)*100000 -> 23.886111 | J30: =RANK(I30,I5:I59) -> 40 | K30: ='2014'!K30+'2015'!K30+'2016'!K30+'2017'!K30 -> 13 | L30: =B30-G30 -> 64613 | M30: =C30-H30 -> 10 | N30: =(M30/L30)*100000 -> 15.476762 | O30: =RANK(N30,N5:N59) -> 36 | P30: =F30-K30 -> 7
A31: Mason | B31: ='2014'!B31+'2015'!B31+'2016'!B31+'2017'!B31 -> 107878 | C31: ='2014'!C31+'2015'!C31+'2016'!C31+'2017'!C31 -> 49 | D31: =(C31/B31)*100000 -> 45.42168 | E31: =RANK(D31,D5:D59) -> 14 | F31: ='2014'!F31+'2015'!F31+'2016'!F31+'2017'!F31 -> 44 | G31: ='2014'!G31+'2015'!G31+'2016'!G31+'2017'!G31 -> 52036 | H31: ='2014'!H31+'2015'!H31+'2016'!H31+'2017'!H31 -> 30 | I31: =(H31/G31)*100000 -> 57.652394 | J31: =RANK(I31,I5:I59) -> 17 | K31: ='2014'!K31+'2015'!K31+'2016'!K31+'2017'!K31 -> 30 | L31: =B31-G31 -> 55842 | M31: =C31-H31 -> 19 | N31: =(M31/L31)*100000 -> 34.024569 | O31: =RANK(N31,N5:N59) -> 15 | P31: =F31-K31 -> 14
A32: Mercer | B32: ='2014'!B32+'2015'!B32+'2016'!B32+'2017'!B32 -> 242971 | C32: ='2014'!C32+'2015'!C32+'2016'!C32+'2017'!C32 -> 157 | D32: =(C32/B32)*100000 -> 64.616765 | E32: =RANK(D32,D5:D59) -> 9 | F32: ='2014'!F32+'2015'!F32+'2016'!F32+'2017'!F32 -> 169 | G32: ='2014'!G32+'2015'!G32+'2016'!G32+'2017'!G32 -> 116345 | H32: ='2014'!H32+'2015'!H32+'2016'!H32+'2017'!H32 -> 98 | I32: =(H32/G32)*100000 -> 84.23224 | J32: =RANK(I32,I5:I59) -> 8 | K32: ='2014'!K32+'2015'!K32+'2016'!K32+'2017'!K32 -> 106 | L32: =B32-G32 -> 126626 | M32: =C32-H32 -> 59 | N32: =(M32/L32)*100000 -> 46.593906 | O32: =RANK(N32,N5:N59) -> 8 | P32: =F32-K32 -> 63
A33: Mineral | B33: ='2014'!B33+'2015'!B33+'2016'!B33+'2017'!B33 -> 109441 | C33: ='2014'!C33+'2015'!C33+'2016'!C33+'2017'!C33 -> 28 | D33: =(C33/B33)*100000 -> 25.584562 | E33: =RANK(D33,D5:D59) -> 28 | F33: ='2014'!F33+'2015'!F33+'2016'!F33+'2017'!F33 -> 25 | G33: ='2014'!G33+'2015'!G33+'2016'!G33+'2017'!G33 -> 54504 | H33: ='2014'!H33+'2015'!H33+'2016'!H33+'2017'!H33 -> 17 | I33: =(H33/G33)*100000 -> 31.190371 | J33: =RANK(I33,I5:I59) -> 33 | K33: ='2014'!K33+'2015'!K33+'2016'!K33+'2017'!K33 -> 14 | L33: =B33-G33 -> 54937 | M33: =C33-H33 -> 11 | N33: =(M33/L33)*100000 -> 20.022935 | O33: =RANK(N33,N5:N59) -> 28 | P33: =F33-K33 -> 11
A34: Mingo | B34: ='2014'!B34+'2015'!B34+'2016'!B34+'2017'!B34 -> 99778 | C34: ='2014'!C34+'2015'!C34+'2016'!C34+'2017'!C34 -> 76 | D34: =(C34/B34)*100000 -> 76.169095 | E34: =RANK(D34,D5:D59) -> 3 | F34: ='2014'!F34+'2015'!F34+'2016'!F34+'2017'!F34 -> 69 | G34: ='2014'!G34+'2015'!G34+'2016'!G34+'2017'!G34 -> 49012 | H34: ='2014'!H34+'2015'!H34+'2016'!H34+'2017'!H34 -> 44 | I34: =(H34/G34)*100000 -> 89.773933 | J34: =RANK(I34,I5:I59) -> 4 | K34: ='2014'!K34+'2015'!K34+'2016'!K34+'2017'!K34 -> 40 | L34: =B34-G34 -> 50766 | M34: =C34-H34 -> 32 | N34: =(M34/L34)*100000 -> 63.034314 | O34: =RANK(N34,N5:N59) -> 1 | P34: =F34-K34 -> 29
A35: Monongalia | B35: ='2014'!B35+'2015'!B35+'2016'!B35+'2017'!B35 -> 416692 | C35: ='2014'!C35+'2015'!C35+'2016'!C35+'2017'!C35 -> 91 | D35: =(C35/B35)*100000 -> 21.838672 | E35: =RANK(D35,D5:D59) -> 35 | F35: ='2014'!F35+'2015'!F35+'2016'!F35+'2017'!F35 -> 141 | G35: ='2014'!G35+'2015'!G35+'2016'!G35+'2017'!G35 -> 214661 | H35: ='2014'!H35+'2015'!H35+'2016'!H35+'2017'!H35 -> 67 | I35: =(H35/G35)*100000 -> 31.212004 | J35: =RANK(I35,I5:I59) -> 32 | K35: ='2014'!K35+'2015'!K35+'2016'!K35+'2017'!K35 -> 98 | L35: =B35-G35 -> 202031 | M35: =C35-H35 -> 24 | N35: =(M35/L35)*100000 -> 11.879365 | O35: =RANK(N35,N5:N59) -> 45 | P35: =F35-K35 -> 43
A36: Monroe | B36: ='2014'!B36+'2015'!B36+'2016'!B36+'2017'!B36 -> 54062 | C36: ='2014'!C36+'2015'!C36+'2016'!C36+'2017'!C36 -> 12 | D36: =(C36/B36)*100000 -> 22.196737 | E36: =RANK(D36,D5:D59) -> 34 | F36: ='2014'!F36+'2015'!F36+'2016'!F36+'2017'!F36 -> 9 | G36: ='2014'!G36+'2015'!G36+'2016'!G36+'2017'!G36 -> 26940 | H36: ='2014'!H36+'2015'!H36+'2016'!H36+'2017'!H36 -> 11 | I36: =(H36/G36)*100000 -> 40.831477 | J36: =RANK(I36,I5:I59) -> 25 | K36: ='2014'!K36+'2015'!K36+'2016'!K36+'2017'!K36 -> 9 | L36: =B36-G36 -> 27122 | M36: =C36-H36 -> 1 | N36: =(M36/L36)*100000 -> 3.6870437 | O36: =RANK(N36,N5:N59) -> 51 | P36: =F36-K36 -> 0
A37: Morgan | B37: ='2014'!B37+'2015'!B37+'2016'!B37+'2017'!B37 -> 70158 | C37: ='2014'!C37+'2015'!C37+'2016'!C37+'2017'!C37 -> 26 | D37: =(C37/B37)*100000 -> 37.059209 | E37: =RANK(D37,D5:D59) -> 23 | F37: ='2014'!F37+'2015'!F37+'2016'!F37+'2017'!F37 -> 22 | G37: ='2014'!G37+'2015'!G37+'2016'!G37+'2017'!G37 -> 34894 | H37: ='2014'!H37+'2015'!H37+'2016'!H37+'2017'!H37 -> 16 | I37: =(H37/G37)*100000 -> 45.853155 | J37: =RANK(I37,I5:I59) -> 22 | K37: ='2014'!K37+'2015'!K37+'2016'!K37+'2017'!K37 -> 14 | L37: =B37-G37 -> 35264 | M37: =C37-H37 -> 10 | N37: =(M37/L37)*100000 -> 28.357532 | O37: =RANK(N37,N5:N59) -> 20 | P37: =F37-K37 -> 8
A38: Nicholas | B38: ='2014'!B38+'2015'!B38+'2016'!B38+'2017'!B38 -> 101546 | C38: ='2014'!C38+'2015'!C38+'2016'!C38+'2017'!C38 -> 43 | D38: =(C38/B38)*100000 -> 42.345341 | E38: =RANK(D38,D5:D59) -> 18 | F38: ='2014'!F38+'2015'!F38+'2016'!F38+'2017'!F38 -> 34 | G38: ='2014'!G38+'2015'!G38+'2016'!G38+'2017'!G38 -> 50048 | H38: ='2014'!H38+'2015'!H38+'2016'!H38+'2017'!H38 -> 28 | I38: =(H38/G38)*100000 -> 55.946292 | J38: =RANK(I38,I5:I59) -> 18 | K38: ='2014'!K38+'2015'!K38+'2016'!K38+'2017'!K38 -> 21 | L38: =B38-G38 -> 51498 | M38: =C38-H38 -> 15 | N38: =(M38/L38)*100000 -> 29.127345 | O38: =RANK(N38,N5:N59) -> 19 | P38: =F38-K38 -> 13
A39: Ohio | B39: ='2014'!B39+'2015'!B39+'2016'!B39+'2017'!B39 -> 170809 | C39: ='2014'!C39+'2015'!C39+'2016'!C39+'2017'!C39 -> 49 | D39: =(C39/B39)*100000 -> 28.687013 | E39: =RANK(D39,D5:D59) -> 27 | F39: ='2014'!F39+'2015'!F39+'2016'!F39+'2017'!F39 -> 62 | G39: ='2014'!G39+'2015'!G39+'2016'!G39+'2017'!G39 -> 82085 | H39: ='2014'!H39+'2015'!H39+'2016'!H39+'2017'!H39 -> 34 | I39: =(H39/G39)*100000 -> 41.420479 | J39: =RANK(I39,I5:I59) -> 24 | K39: ='2014'!K39+'2015'!K39+'2016'!K39+'2017'!K39 -> 37 | L39: =B39-G39 -> 88724 | M39: =C39-H39 -> 15 | N39: =(M39/L39)*100000 -> 16.906361 | O39: =RANK(N39,N5:N59) -> 35 | P39: =F39-K39 -> 25
A40: Pendleton | B40: ='2014'!B40+'2015'!B40+'2016'!B40+'2017'!B40 -> 28315 | C40: ='2014'!C40+'2015'!C40+'2016'!C40+'2017'!C40 -> 4 | D40: =(C40/B40)*100000 -> 14.126788 | E40: =RANK(D40,D5:D59) -> 48 | F40: ='2014'!F40+'2015'!F40+'2016'!F40+'2017'!F40 -> 2 | G40: ='2014'!G40+'2015'!G40+'2016'!G40+'2017'!G40 -> 14291 | H40: ='2014'!H40+'2015'!H40+'2016'!H40+'2017'!H40 -> 1 | I40: =(H40/G40)*100000 -> 6.997411 | J40: =RANK(I40,I5:I59) -> 53 | K40: ='2014'!K40+'2015'!K40+'2016'!K40+'2017'!K40 -> 0 | L40: =B40-G40 -> 14024 | M40: =C40-H40 -> 3 | N40: =(M40/L40)*100000 -> 21.3919 | O40: =RANK(N40,N5:N59) -> 25 | P40: =F40-K40 -> 2
A41: Pleasants | B41: ='2014'!B41+'2015'!B41+'2016'!B41+'2017'!B41 -> 30116 | C41: ='2014'!C41+'2015'!C41+'2016'!C41+'2017'!C41 -> 6 | D41: =(C41/B41)*100000 -> 19.922965 | E41: =RANK(D41,D5:D59) -> 37 | F41: ='2014'!F41+'2015'!F41+'2016'!F41+'2017'!F41 -> 4 | G41: ='2014'!G41+'2015'!G41+'2016'!G41+'2017'!G41 -> 16249 | H41: ='2014'!H41+'2015'!H41+'2016'!H41+'2017'!H41 -> 6 | I41: =(H41/G41)*100000 -> 36.925349 | J41: =RANK(I41,I5:I59) -> 28 | K41: ='2014'!K41+'2015'!K41+'2016'!K41+'2017'!K41 -> 4 | L41: =B41-G41 -> 13867 | M41: =C41-H41 -> 0 | N41: =(M41/L41)*100000 -> 0 | P41: =F41-K41 -> 0
A42: Pocahontas | B42: ='2014'!B42+'2015'!B42+'2016'!B42+'2017'!B42 -> 34194 | C42: ='2014'!C42+'2015'!C42+'2016'!C42+'2017'!C42 -> 8 | D42: =(C42/B42)*100000 -> 23.395917 | E42: =RANK(D42,D5:D59) -> 33 | F42: ='2014'!F42+'2015'!F42+'2016'!F42+'2017'!F42 -> 8 | G42: ='2014'!G42+'2015'!G42+'2016'!G42+'2017'!G42 -> 17604 | H42: ='2014'!H42+'2015'!H42+'2016'!H42+'2017'!H42 -> 5 | I42: =(H42/G42)*100000 -> 28.402636 | J42: =RANK(I42,I5:I59) -> 35 | K42: ='2014'!K42+'2015'!K42+'2016'!K42+'2017'!K42 -> 6 | L42: =B42-G42 -> 16590 | M42: =C42-H42 -> 3 | N42: =(M42/L42)*100000 -> 18.083183 | O42: =RANK(N42,N5:N59) -> 32 | P42: =F42-K42 -> 2
A43: Preston | B43: ='2014'!B43+'2015'!B43+'2016'!B43+'2017'!B43 -> 135115 | C43: ='2014'!C43+'2015'!C43+'2016'!C43+'2017'!C43 -> 32 | D43: =(C43/B43)*100000 -> 23.683529 | E43: =RANK(D43,D5:D59) -> 32 | F43: ='2014'!F43+'2015'!F43+'2016'!F43+'2017'!F43 -> 22 | G43: ='2014'!G43+'2015'!G43+'2016'!G43+'2017'!G43 -> 69548 | H43: ='2014'!H43+'2015'!H43+'2016'!H43+'2017'!H43 -> 19 | I43: =(H43/G43)*100000 -> 27.319262 | J43: =RANK(I43,I5:I59) -> 37 | K43: ='2014'!K43+'2015'!K43+'2016'!K43+'2017'!K43 -> 12 | L43: =B43-G43 -> 65567 | M43: =C43-H43 -> 13 | N43: =(M43/L43)*100000 -> 19.827047 | O43: =RANK(N43,N5:N59) -> 29 | P43: =F43-K43 -> 10
A44: Putnam | B44: ='2014'!B44+'2015'!B44+'2016'!B44+'2017'!B44 -> 226724 | C44: ='2014'!C44+'2015'!C44+'2016'!C44+'2017'!C44 -> 88 | D44: =(C44/B44)*100000 -> 38.813712 | E44: =RANK(D44,D5:D59) -> 22 | F44: ='2014'!F44+'2015'!F44+'2016'!F44+'2017'!F44 -> 63 | G44: ='2014'!G44+'2015'!G44+'2016'!G44+'2017'!G44 -> 111469 | H44: ='2014'!H44+'2015'!H44+'2016'!H44+'2017'!H44 -> 61 | I44: =(H44/G44)*100000 -> 54.723735 | J44: =RANK(I44,I5:I59) -> 19 | K44: ='2014'!K44+'2015'!K44+'2016'!K44+'2017'!K44 -> 41 | L44: =B44-G44 -> 115255 | M44: =C44-H44 -> 27 | N44: =(M44/L44)*100000 -> 23.426316 | O44: =RANK(N44,N5:N59) -> 23 | P44: =F44-K44 -> 22
A45: Raleigh | B45: ='2014'!B45+'2015'!B45+'2016'!B45+'2017'!B45 -> 306755 | C45: ='2014'!C45+'2015'!C45+'2016'!C45+'2017'!C45 -> 202 | D45: =(C45/B45)*100000 -> 65.850597 | E45: =RANK(D45,D5:D59) -> 8 | F45: ='2014'!F45+'2015'!F45+'2016'!F45+'2017'!F45 -> 203 | G45: ='2014'!G45+'2015'!G45+'2016'!G45+'2017'!G45 -> 153582 | H45: ='2014'!H45+'2015'!H45+'2016'!H45+'2017'!H45 -> 128 | I45: =(H45/G45)*100000 -> 83.3431 | J45: =RANK(I45,I5:I59) -> 9 | K45: ='2014'!K45+'2015'!K45+'2016'!K45+'2017'!K45 -> 134 | L45: =B45-G45 -> 153173 | M45: =C45-H45 -> 74 | N45: =(M45/L45)*100000 -> 48.311386 | O45: =RANK(N45,N5:N59) -> 6 | P45: =F45-K45 -> 69
A46: Randolph | B46: ='2014'!B46+'2015'!B46+'2016'!B46+'2017'!B46 -> 116228 | C46: ='2014'!C46+'2015'!C46+'2016'!C46+'2017'!C46 -> 20 | D46: =(C46/B46)*100000 -> 17.207558 | E46: =RANK(D46,D5:D59) -> 40 | F46: ='2014'!F46+'2015'!F46+'2016'!F46+'2017'!F46 -> 19 | G46: ='2014'!G46+'2015'!G46+'2016'!G46+'2017'!G46 -> 59978 | H46: ='2014'!H46+'2015'!H46+'2016'!H46+'2017'!H46 -> 13 | I46: =(H46/G46)*100000 -> 21.674614 | J46: =RANK(I46,I5:I59) -> 41 | K46: ='2014'!K46+'2015'!K46+'2016'!K46+'2017'!K46 -> 14 | L46: =B46-G46 -> 56250 | M46: =C46-H46 -> 7 | N46: =(M46/L46)*100000 -> 12.444444 | O46: =RANK(N46,N5:N59) -> 43 | P46: =F46-K46 -> 5
A47: Ritchie | B47: ='2014'!B47+'2015'!B47+'2016'!B47+'2017'!B47 -> 39880 | C47: ='2014'!C47+'2015'!C47+'2016'!C47+'2017'!C47 -> 6 | D47: =(C47/B47)*100000 -> 15.045135 | E47: =RANK(D47,D5:D59) -> 42 | F47: ='2014'!F47+'2015'!F47+'2016'!F47+'2017'!F47 -> 4 | G47: ='2014'!G47+'2015'!G47+'2016'!G47+'2017'!G47 -> 19958 | H47: ='2014'!H47+'2015'!H47+'2016'!H47+'2017'!H47 -> 2 | I47: =(H47/G47)*100000 -> 10.021044 | J47: =RANK(I47,I5:I59) -> 52 | K47: ='2014'!K47+'2015'!K47+'2016'!K47+'2017'!K47 -> 1 | L47: =B47-G47 -> 19922 | M47: =C47-H47 -> 4 | N47: =(M47/L47)*100000 -> 20.078305 | O47: =RANK(N47,N5:N59) -> 27 | P47: =F47-K47 -> 3
A48: Roane | B48: ='2014'!B48+'2015'!B48+'2016'!B48+'2017'!B48 -> 57133 | C48: ='2014'!C48+'2015'!C48+'2016'!C48+'2017'!C48 -> 14 | D48: =(C48/B48)*100000 -> 24.504227 | E48: =RANK(D48,D5:D59) -> 31 | F48: ='2014'!F48+'2015'!F48+'2016'!F48+'2017'!F48 -> 10 | G48: ='2014'!G48+'2015'!G48+'2016'!G48+'2017'!G48 -> 28288 | H48: ='2014'!H48+'2015'!H48+'2016'!H48+'2017'!H48 -> 9 | I48: =(H48/G48)*100000 -> 31.815611 | J48: =RANK(I48,I5:I59) -> 31 | K48: ='2014'!K48+'2015'!K48+'2016'!K48+'2017'!K48 -> 6 | L48: =B48-G48 -> 28845 | M48: =C48-H48 -> 5 | N48: =(M48/L48)*100000 -> 17.334027 | O48: =RANK(N48,N5:N59) -> 34 | P48: =F48-K48 -> 4
A49: Summers | B49: ='2014'!B49+'2015'!B49+'2016'!B49+'2017'!B49 -> 52458 | C49: ='2014'!C49+'2015'!C49+'2016'!C49+'2017'!C49 -> 22 | D49: =(C49/B49)*100000 -> 41.938313 | E49: =RANK(D49,D5:D59) -> 19 | F49: ='2014'!F49+'2015'!F49+'2016'!F49+'2017'!F49 -> 18 | G49: ='2014'!G49+'2015'!G49+'2016'!G49+'2017'!G49 -> 23692 | H49: ='2014'!H49+'2015'!H49+'2016'!H49+'2017'!H49 -> 16 | I49: =(H49/G49)*100000 -> 67.533345 | J49: =RANK(I49,I5:I59) -> 13 | K49: ='2014'!K49+'2015'!K49+'2016'!K49+'2017'!K49 -> 11 | L49: =B49-G49 -> 28766 | M49: =C49-H49 -> 6 | N49: =(M49/L49)*100000 -> 20.857957 | O49: =RANK(N49,N5:N59) -> 26 | P49: =F49-K49 -> 7
A50: Taylor | B50: ='2014'!B50+'2015'!B50+'2016'!B50+'2017'!B50 -> 67898 | C50: ='2014'!C50+'2015'!C50+'2016'!C50+'2017'!C50 -> 10 | D50: =(C50/B50)*100000 -> 14.727974 | E50: =RANK(D50,D5:D59) -> 44 | F50: ='2014'!F50+'2015'!F50+'2016'!F50+'2017'!F50 -> 6 | G50: ='2014'!G50+'2015'!G50+'2016'!G50+'2017'!G50 -> 34383 | H50: ='2014'!H50+'2015'!H50+'2016'!H50+'2017'!H50 -> 4 | I50: =(H50/G50)*100000 -> 11.633656 | J50: =RANK(I50,I5:I59) -> 50 | K50: ='2014'!K50+'2015'!K50+'2016'!K50+'2017'!K50 -> 3 | L50: =B50-G50 -> 33515 | M50: =C50-H50 -> 6 | N50: =(M50/L50)*100000 -> 17.902432 | O50: =RANK(N50,N5:N59) -> 33 | P50: =F50-K50 -> 3
A51: Tucker | B51: ='2014'!B51+'2015'!B51+'2016'!B51+'2017'!B51 -> 28096 | C51: ='2014'!C51+'2015'!C51+'2016'!C51+'2017'!C51 -> 1 | D51: =(C51/B51)*100000 -> 3.5592255 | E51: =RANK(D51,D5:D59) -> 54 | F51: ='2014'!F51+'2015'!F51+'2016'!F51+'2017'!F51 -> 1 | G51: ='2014'!G51+'2015'!G51+'2016'!G51+'2017'!G51 -> 14340 | H51: ='2014'!H51+'2015'!H51+'2016'!H51+'2017'!H51 -> 1 | I51: =(H51/G51)*100000 -> 6.9735007 | J51: =RANK(I51,I5:I59) -> 54 | K51: ='2014'!K51+'2015'!K51+'2016'!K51+'2017'!K51 -> 1 | L51: =B51-G51 -> 13756 | M51: =C51-H51 -> 0 | N51: =(M51/L51)*100000 -> 0 | P51: =F51-K51 -> 0
A52: Tyler | B52: ='2014'!B52+'2015'!B52+'2016'!B52+'2017'!B52 -> 35755 | C52: ='2014'!C52+'2015'!C52+'2016'!C52+'2017'!C52 -> 4 | D52: =(C52/B52)*100000 -> 11.187247 | E52: =RANK(D52,D5:D59) -> 53 | F52: ='2014'!F52+'2015'!F52+'2016'!F52+'2017'!F52 -> 6 | G52: ='2014'!G52+'2015'!G52+'2016'!G52+'2017'!G52 -> 17803 | H52: ='2014'!H52+'2015'!H52+'2016'!H52+'2017'!H52 -> 2 | I52: =(H52/G52)*100000 -> 11.234062 | J52: =RANK(I52,I5:I59) -> 51 | K52: ='2014'!K52+'2015'!K52+'2016'!K52+'2017'!K52 -> 4 | L52: =B52-G52 -> 17952 | M52: =C52-H52 -> 2 | N52: =(M52/L52)*100000 -> 11.14082 | O52: =RANK(N52,N5:N59) -> 47 | P52: =F52-K52 -> 2
A53: Upshur | B53: ='2014'!B53+'2015'!B53+'2016'!B53+'2017'!B53 -> 98425 | C53: ='2014'!C53+'2015'!C53+'2016'!C53+'2017'!C53 -> 13 | D53: =(C53/B53)*100000 -> 13.208026 | E53: =RANK(D53,D5:D59) -> 51 | F53: ='2014'!F53+'2015'!F53+'2016'!F53+'2017'!F53 -> 14 | G53: ='2014'!G53+'2015'!G53+'2016'!G53+'2017'!G53 -> 48731 | H53: ='2014'!H53+'2015'!H53+'2016'!H53+'2017'!H53 -> 9 | I53: =(H53/G53)*100000 -> 18.468737 | J53: =RANK(I53,I5:I59) -> 44 | K53: ='2014'!K53+'2015'!K53+'2016'!K53+'2017'!K53 -> 8 | L53: =B53-G53 -> 49694 | M53: =C53-H53 -> 4 | N53: =(M53/L53)*100000 -> 8.0492615 | O53: =RANK(N53,N5:N59) -> 48 | P53: =F53-K53 -> 6
A54: Wayne | B54: ='2014'!B54+'2015'!B54+'2016'!B54+'2017'!B54 -> 163511 | C54: ='2014'!C54+'2015'!C54+'2016'!C54+'2017'!C54 -> 118 | D54: =(C54/B54)*100000 -> 72.166399 | E54: =RANK(D54,D5:D59) -> 5 | F54: ='2014'!F54+'2015'!F54+'2016'!F54+'2017'!F54 -> 80 | G54: ='2014'!G54+'2015'!G54+'2016'!G54+'2017'!G54 -> 79721 | H54: ='2014'!H54+'2015'!H54+'2016'!H54+'2017'!H54 -> 78 | I54: =(H54/G54)*100000 -> 97.841221 | J54: =RANK(I54,I5:I59) -> 3 | K54: ='2014'!K54+'2015'!K54+'2016'!K54+'2017'!K54 -> 58 | L54: =B54-G54 -> 83790 | M54: =C54-H54 -> 40 | N54: =(M54/L54)*100000 -> 47.738394 | O54: =RANK(N54,N5:N59) -> 7 | P54: =F54-K54 -> 22
A55: Webster | B55: ='2014'!B55+'2015'!B55+'2016'!B55+'2017'!B55 -> 34352 | C55: ='2014'!C55+'2015'!C55+'2016'!C55+'2017'!C55 -> 14 | D55: =(C55/B55)*100000 -> 40.754541 | E55: =RANK(D55,D5:D59) -> 20 | F55: ='2014'!F55+'2015'!F55+'2016'!F55+'2017'!F55 -> 11 | G55: ='2014'!G55+'2015'!G55+'2016'!G55+'2017'!G55 -> 17049 | H55: ='2014'!H55+'2015'!H55+'2016'!H55+'2017'!H55 -> 6 | I55: =(H55/G55)*100000 -> 35.19268 | J55: =RANK(I55,I5:I59) -> 29 | K55: ='2014'!K55+'2015'!K55+'2016'!K55+'2017'!K55 -> 4 | L55: =B55-G55 -> 17303 | M55: =C55-H55 -> 8 | N55: =(M55/L55)*100000 -> 46.234757 | O55: =RANK(N55,N5:N59) -> 10 | P55: =F55-K55 -> 7
A56: Wetzel | B56: ='2014'!B56+'2015'!B56+'2016'!B56+'2017'!B56 -> 62841 | C56: ='2014'!C56+'2015'!C56+'2016'!C56+'2017'!C56 -> 16 | D56: =(C56/B56)*100000 -> 25.461084 | E56: =RANK(D56,D5:D59) -> 29 | F56: ='2014'!F56+'2015'!F56+'2016'!F56+'2017'!F56 -> 16 | G56: ='2014'!G56+'2015'!G56+'2016'!G56+'2017'!G56 -> 30963 | H56: ='2014'!H56+'2015'!H56+'2016'!H56+'2017'!H56 -> 10 | I56: =(H56/G56)*100000 -> 32.296612 | J56: =RANK(I56,I5:I59) -> 30 | K56: ='2014'!K56+'2015'!K56+'2016'!K56+'2017'!K56 -> 12 | L56: =B56-G56 -> 31878 | M56: =C56-H56 -> 6 | N56: =(M56/L56)*100000 -> 18.821758 | O56: =RANK(N56,N5:N59) -> 31 | P56: =F56-K56 -> 4
A57: Wirt | B57: ='2014'!B57+'2015'!B57+'2016'!B57+'2017'!B57 -> 23160 | C57: ='2014'!C57+'2015'!C57+'2016'!C57+'2017'!C57 -> 3 | D57: =(C57/B57)*100000 -> 12.953368 | E57: =RANK(D57,D5:D59) -> 52 | F57: ='2014'!F57+'2015'!F57+'2016'!F57+'2017'!F57 -> 0 | G57: ='2014'!G57+'2015'!G57+'2016'!G57+'2017'!G57 -> 11788 | H57: ='2014'!H57+'2015'!H57+'2016'!H57+'2017'!H57 -> 3 | I57: =(H57/G57)*100000 -> 25.44961 | J57: =RANK(I57,I5:I59) -> 39 | K57: ='2014'!K57+'2015'!K57+'2016'!K57+'2017'!K57 -> 0 | L57: =B57-G57 -> 11372 | M57: =C57-H57 -> 0 | N57: =(M57/L57)*100000 -> 0 | P57: =F57-K57 -> 0
A58: Wood | B58: ='2014'!B58+'2015'!B58+'2016'!B58+'2017'!B58 -> 343577 | C58: ='2014'!C58+'2015'!C58+'2016'!C58+'2017'!C58 -> 108 | D58: =(C58/B58)*100000 -> 31.434002 | E58: =RANK(D58,D5:D59) -> 25 | F58: ='2014'!F58+'2015'!F58+'2016'!F58+'2017'!F58 -> 116 | G58: ='2014'!G58+'2015'!G58+'2016'!G58+'2017'!G58 -> 166376 | H58: ='2014'!H58+'2015'!H58+'2016'!H58+'2017'!H58 -> 64 | I58: =(H58/G58)*100000 -> 38.467087 | J58: =RANK(I58,I5:I59) -> 27 | K58: ='2014'!K58+'2015'!K58+'2016'!K58+'2017'!K58 -> 70 | L58: =B58-G58 -> 177201 | M58: =C58-H58 -> 44 | N58: =(M58/L58)*100000 -> 24.83056 | O58: =RANK(N58,N5:N59) -> 22 | P58: =F58-K58 -> 46
A59: Wyoming | B59: ='2014'!B59+'2015'!B59+'2016'!B59+'2017'!B59 -> 87712 | C59: ='2014'!C59+'2015'!C59+'2016'!C59+'2017'!C59 -> 72 | D59: =(C59/B59)*100000 -> 82.08683 | E59: =RANK(D59,D5:D59) -> 2 | F59: ='2014'!F59+'2015'!F59+'2016'!F59+'2017'!F59 -> 55 | G59: ='2014'!G59+'2015'!G59+'2016'!G59+'2017'!G59 -> 43295 | H59: ='2014'!H59+'2015'!H59+'2016'!H59+'2017'!H59 -> 45 | I59: =(H59/G59)*100000 -> 103.9381 | J59: =RANK(I59,I5:I59) -> 2 | K59: ='2014'!K59+'2015'!K59+'2016'!K59+'2017'!K59 -> 32 | L59: =B59-G59 -> 44417 | M59: =C59-H59 -> 27 | N59: =(M59/L59)*100000 -> 60.787536 | O59: =RANK(N59,N5:N59) -> 3 | P59: =F59-K59 -> 23
A60: WV Total | B60: =SUM(B5:B59) -> 7331885 | C60: =SUM(C5:C59) -> 3190 | D60: =(C60/B60)*100000 -> 43.508593 | F60: =SUM(F5:F59) -> 3253 | G60: =SUM(G5:G59) -> 3625048 | H60: =SUM(H5:H59) -> 2051 | I60: =(H60/G60)*100000 -> 56.578561 | K60: =SUM(K5:K59) -> 2095 | L60: =SUM(L5:L59) -> 3706837 | M60: =SUM(M5:M59) -> 1139 | N60: =(M60/L60)*100000 -> 30.727005 | P60: =SUM(P5:P59) -> 1158
A61: Source: West Virginia Health Statistics Center, Vital Statistics System, September 2018.
A65: 2014-2017 West Virginia Resident Births
A66: Births to Teens Ages 15-19 by County
A68: County | B68: Estimated Female Population Ages 15-19 | C68: Number of Resident Births to Mothers Ages 15-19 | D68: Rate per 1,000 Females Ages 10-19 | E68: Rank | F68: Number of Resident Fetal Deaths to Mothers Ages 15-19 | G68: Number of Resident *Abortions to Females Ages 15-19 | H68: Estimated Number of Pregnancies to Females Ages 15-19 | I68: Rate per 1,000 Females Ages 10-19 | J68: Rank
A69: Barbour | B69: ='2014'!B69+'2015'!B69+'2016'!B69+'2017'!B69 -> 2626 | C69: ='2014'!C69+'2015'!C69+'2016'!C69+'2017'!C69 -> 76 | D69: =(C69/B69)*1000 -> 28.941356 | E69: =RANK(D69,D69:D123) -> 39 | F69: ='2014'!F69+'2015'!F69+'2016'!F69+'2017'!F69 -> 0 | G69: ='2014'!G69+'2015'!G69+'2016'!G69+'2017'!G69 -> 6 | H69: =C69+F69+G69 -> 82 | I69: =(H69/B69)*1000 -> 31.2262 | J69: =RANK(I69,I69:I123) -> 38
A70: Berkeley | B70: ='2014'!B70+'2015'!B70+'2016'!B70+'2017'!B70 -> 13584 | C70: ='2014'!C70+'2015'!C70+'2016'!C70+'2017'!C70 -> 364 | D70: =(C70/B70)*1000 -> 26.796231 | E70: =RANK(D70,D69:D123) -> 45 | F70: ='2014'!F70+'2015'!F70+'2016'!F70+'2017'!F70 -> 2 | G70: ='2014'!G70+'2015'!G70+'2016'!G70+'2017'!G70 -> 1 | H70: =C70+F70+G70 -> 367 | I70: =(H70/B70)*1000 -> 27.017079 | J70: =RANK(I70,I69:I123) -> 46
A71: Boone | B71: ='2014'!B71+'2015'!B71+'2016'!B71+'2017'!B71 -> 2590 | C71: ='2014'!C71+'2015'!C71+'2016'!C71+'2017'!C71 -> 139 | D71: =(C71/B71)*1000 -> 53.667954 | E71: =RANK(D71,D69:D123) -> 3 | F71: ='2014'!F71+'2015'!F71+'2016'!F71+'2017'!F71 -> 0 | G71: ='2014'!G71+'2015'!G71+'2016'!G71+'2017'!G71 -> 9 | H71: =C71+F71+G71 -> 148 | I71: =(H71/B71)*1000 -> 57.142857 | J71: =RANK(I71,I69:I123) -> 3
A72: Braxton | B72: ='2014'!B72+'2015'!B72+'2016'!B72+'2017'!B72 -> 1518 | C72: ='2014'!C72+'2015'!C72+'2016'!C72+'2017'!C72 -> 47 | D72: =(C72/B72)*1000 -> 30.961792 | E72: =RANK(D72,D69:D123) -> 35 | F72: ='2014'!F72+'2015'!F72+'2016'!F72+'2017'!F72 -> 0 | G72: ='2014'!G72+'2015'!G72+'2016'!G72+'2017'!G72 -> 4 | H72: =C72+F72+G72 -> 51 | I72: =(H72/B72)*1000 -> 33.596838 | J72: =RANK(I72,I69:I123) -> 34
A73: Brooke | B73: ='2014'!B73+'2015'!B73+'2016'!B73+'2017'!B73 -> 2821 | C73: ='2014'!C73+'2015'!C73+'2016'!C73+'2017'!C73 -> 64 | D73: =(C73/B73)*1000 -> 22.68699 | E73: =RANK(D73,D69:D123) -> 49 | F73: ='2014'!F73+'2015'!F73+'2016'!F73+'2017'!F73 -> 0 | G73: ='2014'!G73+'2015'!G73+'2016'!G73+'2017'!G73 -> 4 | H73: =C73+F73+G73 -> 68 | I73: =(H73/B73)*1000 -> 24.104927 | J73: =RANK(I73,I69:I123) -> 48
A74: Cabell | B74: ='2014'!B74+'2015'!B74+'2016'!B74+'2017'!B74 -> 12898 | C74: ='2014'!C74+'2015'!C74+'2016'!C74+'2017'!C74 -> 340 | D74: =(C74/B74)*1000 -> 26.360676 | E74: =RANK(D74,D69:D123) -> 46 | F74: ='2014'!F74+'2015'!F74+'2016'!F74+'2017'!F74 -> 2 | G74: ='2014'!G74+'2015'!G74+'2016'!G74+'2017'!G74 -> 52 | H74: =C74+F74+G74 -> 394 | I74: =(H74/B74)*1000 -> 30.547372 | J74: =RANK(I74,I69:I123) -> 40
A75: Calhoun | B75: ='2014'!B75+'2015'!B75+'2016'!B75+'2017'!B75 -> 725 | C75: ='2014'!C75+'2015'!C75+'2016'!C75+'2017'!C75 -> 23 | D75: =(C75/B75)*1000 -> 31.724138 | E75: =RANK(D75,D69:D123) -> 31 | F75: ='2014'!F75+'2015'!F75+'2016'!F75+'2017'!F75 -> 0 | G75: ='2014'!G75+'2015'!G75+'2016'!G75+'2017'!G75 -> 3 | H75: =C75+F75+G75 -> 26 | I75: =(H75/B75)*1000 -> 35.862069 | J75: =RANK(I75,I69:I123) -> 27
A76: Clay | B76: ='2014'!B76+'2015'!B76+'2016'!B76+'2017'!B76 -> 1019 | C76: ='2014'!C76+'2015'!C76+'2016'!C76+'2017'!C76 -> 39 | D76: =(C76/B76)*1000 -> 38.272816 | E76: =RANK(D76,D69:D123) -> 20 | F76: ='2014'!F76+'2015'!F76+'2016'!F76+'2017'!F76 -> 0 | G76: ='2014'!G76+'2015'!G76+'2016'!G76+'2017'!G76 -> 1 | H76: =C76+F76+G76 -> 40 | I76: =(H76/B76)*1000 -> 39.254171 | J76: =RANK(I76,I69:I123) -> 24
A77: Doddridge | B77: ='2014'!B77+'2015'!B77+'2016'!B77+'2017'!B77 -> 822 | C77: ='2014'!C77+'2015'!C77+'2016'!C77+'2017'!C77 -> 26 | D77: =(C77/B77)*1000 -> 31.63017 | E77: =RANK(D77,D69:D123) -> 32 | F77: ='2014'!F77+'2015'!F77+'2016'!F77+'2017'!F77 -> 0 | G77: ='2014'!G77+'2015'!G77+'2016'!G77+'2017'!G77 -> 0 | H77: =C77+F77+G77 -> 26 | I77: =(H77/B77)*1000 -> 31.63017 | J77: =RANK(I77,I69:I123) -> 37
A78: Fayette | B78: ='2014'!B78+'2015'!B78+'2016'!B78+'2017'!B78 -> 4576 | C78: ='2014'!C78+'2015'!C78+'2016'!C78+'2017'!C78 -> 193 | D78: =(C78/B78)*1000 -> 42.176573 | E78: =RANK(D78,D69:D123) -> 8 | F78: ='2014'!F78+'2015'!F78+'2016'!F78+'2017'!F78 -> 3 | G78: ='2014'!G78+'2015'!G78+'2016'!G78+'2017'!G78 -> 23 | H78: =C78+F78+G78 -> 219 | I78: =(H78/B78)*1000 -> 47.858392 | J78: =RANK(I78,I69:I123) -> 7
A79: Gilmer | B79: ='2014'!B79+'2015'!B79+'2016'!B79+'2017'!B79 -> 1105 | C79: ='2014'!C79+'2015'!C79+'2016'!C79+'2017'!C79 -> 22 | D79: =(C79/B79)*1000 -> 19.909502 | E79: =RANK(D79,D69:D123) -> 51 | F79: ='2014'!F79+'2015'!F79+'2016'!F79+'2017'!F79 -> 0 | G79: ='2014'!G79+'2015'!G79+'2016'!G79+'2017'!G79 -> 3 | H79: =C79+F79+G79 -> 25 | I79: =(H79/B79)*1000 -> 22.624434 | J79: =RANK(I79,I69:I123) -> 51
A80: Grant | B80: ='2014'!B80+'2015'!B80+'2016'!B80+'2017'!B80 -> 1183 | C80: ='2014'!C80+'2015'!C80+'2016'!C80+'2017'!C80 -> 52 | D80: =(C80/B80)*1000 -> 43.956044 | E80: =RANK(D80,D69:D123) -> 7 | F80: ='2014'!F80+'2015'!F80+'2016'!F80+'2017'!F80 -> 0 | G80: ='2014'!G80+'2015'!G80+'2016'!G80+'2017'!G80 -> 1 | H80: =C80+F80+G80 -> 53 | I80: =(H80/B80)*1000 -> 44.801352 | J80: =RANK(I80,I69:I123) -> 10
A81: Greenbrier | B81: ='2014'!B81+'2015'!B81+'2016'!B81+'2017'!B81 -> 3564 | C81: ='2014'!C81+'2015'!C81+'2016'!C81+'2017'!C81 -> 103 | D81: =(C81/B81)*1000 -> 28.900112 | E81: =RANK(D81,D69:D123) -> 40 | F81: ='2014'!F81+'2015'!F81+'2016'!F81+'2017'!F81 -> 0 | G81: ='2014'!G81+'2015'!G81+'2016'!G81+'2017'!G81 -> 10 | H81: =C81+F81+G81 -> 113 | I81: =(H81/B81)*1000 -> 31.705948 | J81: =RANK(I81,I69:I123) -> 36
A82: Hampshire | B82: ='2014'!B82+'2015'!B82+'2016'!B82+'2017'!B82 -> 2693 | C82: ='2014'!C82+'2015'!C82+'2016'!C82+'2017'!C82 -> 107 | D82: =(C82/B82)*1000 -> 39.73264 | E82: =RANK(D82,D69:D123) -> 16 | F82: ='2014'!F82+'2015'!F82+'2016'!F82+'2017'!F82 -> 0 | G82: ='2014'!G82+'2015'!G82+'2016'!G82+'2017'!G82 -> 1 | H82: =C82+F82+G82 -> 108 | I82: =(H82/B82)*1000 -> 40.103973 | J82: =RANK(I82,I69:I123) -> 22
A83: Hancock | B83: ='2014'!B83+'2015'!B83+'2016'!B83+'2017'!B83 -> 3043 | C83: ='2014'!C83+'2015'!C83+'2016'!C83+'2017'!C83 -> 73 | D83: =(C83/B83)*1000 -> 23.989484 | E83: =RANK(D83,D69:D123) -> 47 | F83: ='2014'!F83+'2015'!F83+'2016'!F83+'2017'!F83 -> 0 | G83: ='2014'!G83+'2015'!G83+'2016'!G83+'2017'!G83 -> 0 | H83: =C83+F83+G83 -> 73 | I83: =(H83/B83)*1000 -> 23.989484 | J83: =RANK(I83,I69:I123) -> 49
A84: Hardy | B84: ='2014'!B84+'2015'!B84+'2016'!B84+'2017'!B84 -> 1452 | C84: ='2014'!C84+'2015'!C84+'2016'!C84+'2017'!C84 -> 49 | D84: =(C84/B84)*1000 -> 33.746556 | E84: =RANK(D84,D69:D123) -> 28 | F84: ='2014'!F84+'2015'!F84+'2016'!F84+'2017'!F84 -> 1 | G84: ='2014'!G84+'2015'!G84+'2016'!G84+'2017'!G84 -> 0 | H84: =C84+F84+G84 -> 50 | I84: =(H84/B84)*1000 -> 34.435262 | J84: =RANK(I84,I69:I123) -> 30
A85: Harrison | B85: ='2014'!B85+'2015'!B85+'2016'!B85+'2017'!B85 -> 7624 | C85: ='2014'!C85+'2015'!C85+'2016'!C85+'2017'!C85 -> 245 | D85: =(C85/B85)*1000 -> 32.135362 | E85: =RANK(D85,D69:D123) -> 30 | F85: ='2014'!F85+'2015'!F85+'2016'!F85+'2017'!F85 -> 1 | G85: ='2014'!G85+'2015'!G85+'2016'!G85+'2017'!G85 -> 26 | H85: =C85+F85+G85 -> 272 | I85: =(H85/B85)*1000 -> 35.67681 | J85: =RANK(I85,I69:I123) -> 28
A86: Jackson | B86: ='2014'!B86+'2015'!B86+'2016'!B86+'2017'!B86 -> 3362 | C86: ='2014'!C86+'2015'!C86+'2016'!C86+'2017'!C86 -> 119 | D86: =(C86/B86)*1000 -> 35.395598 | E86: =RANK(D86,D69:D123) -> 25 | F86: ='2014'!F86+'2015'!F86+'2016'!F86+'2017'!F86 -> 1 | G86: ='2014'!G86+'2015'!G86+'2016'!G86+'2017'!G86 -> 17 | H86: =C86+F86+G86 -> 137 | I86: =(H86/B86)*1000 -> 40.749554 | J86: =RANK(I86,I69:I123) -> 21
A87: Jefferson | B87: ='2014'!B87+'2015'!B87+'2016'!B87+'2017'!B87 -> 7294 | C87: ='2014'!C87+'2015'!C87+'2016'!C87+'2017'!C87 -> 114 | D87: =(C87/B87)*1000 -> 15.629284 | E87: =RANK(D87,D69:D123) -> 53 | F87: ='2014'!F87+'2015'!F87+'2016'!F87+'2017'!F87 -> 0 | G87: ='2014'!G87+'2015'!G87+'2016'!G87+'2017'!G87 -> 0 | H87: =C87+F87+G87 -> 114 | I87: =(H87/B87)*1000 -> 15.629284 | J87: =RANK(I87,I69:I123) -> 54
A88: Kanawha | B88: ='2014'!B88+'2015'!B88+'2016'!B88+'2017'!B88 -> 20343 | C88: ='2014'!C88+'2015'!C88+'2016'!C88+'2017'!C88 -> 718 | D88: =(C88/B88)*1000 -> 35.294696 | E88: =RANK(D88,D69:D123) -> 26 | F88: ='2014'!F88+'2015'!F88+'2016'!F88+'2017'!F88 -> 1 | G88: ='2014'!G88+'2015'!G88+'2016'!G88+'2017'!G88 -> 140 | H88: =C88+F88+G88 -> 859 | I88: =(H88/B88)*1000 -> 42.225827 | J88: =RANK(I88,I69:I123) -> 15
A89: Lewis | B89: ='2014'!B89+'2015'!B89+'2016'!B89+'2017'!B89 -> 1583 | C89: ='2014'!C89+'2015'!C89+'2016'!C89+'2017'!C89 -> 66 | D89: =(C89/B89)*1000 -> 41.692988 | E89: =RANK(D89,D69:D123) -> 9 | F89: ='2014'!F89+'2015'!F89+'2016'!F89+'2017'!F89 -> 1 | G89: ='2014'!G89+'2015'!G89+'2016'!G89+'2017'!G89 -> 1 | H89: =C89+F89+G89 -> 68 | I89: =(H89/B89)*1000 -> 42.956412 | J89: =RANK(I89,I69:I123) -> 12
A90: Lincoln | B90: ='2014'!B90+'2015'!B90+'2016'!B90+'2017'!B90 -> 2302 | C90: ='2014'!C90+'2015'!C90+'2016'!C90+'2017'!C90 -> 111 | D90: =(C90/B90)*1000 -> 48.21894 | E90: =RANK(D90,D69:D123) -> 5 | F90: ='2014'!F90+'2015'!F90+'2016'!F90+'2017'!F90 -> 0 | G90: ='2014'!G90+'2015'!G90+'2016'!G90+'2017'!G90 -> 7 | H90: =C90+F90+G90 -> 118 | I90: =(H90/B90)*1000 -> 51.259774 | J90: =RANK(I90,I69:I123) -> 5
A91: Logan | B91: ='2014'!B91+'2015'!B91+'2016'!B91+'2017'!B91 -> 3748 | C91: ='2014'!C91+'2015'!C91+'2016'!C91+'2017'!C91 -> 184 | D91: =(C91/B91)*1000 -> 49.09285 | E91: =RANK(D91,D69:D123) -> 4 | F91: ='2014'!F91+'2015'!F91+'2016'!F91+'2017'!F91 -> 0 | G91: ='2014'!G91+'2015'!G91+'2016'!G91+'2017'!G91 -> 22 | H91: =C91+F91+G91 -> 206 | I91: =(H91/B91)*1000 -> 54.962647 | J91: =RANK(I91,I69:I123) -> 4
A92: McDowell | B92: ='2014'!B92+'2015'!B92+'2016'!B92+'2017'!B92 -> 1950 | C92: ='2014'!C92+'2015'!C92+'2016'!C92+'2017'!C92 -> 109 | D92: =(C92/B92)*1000 -> 55.897436 | E92: =RANK(D92,D69:D123) -> 2 | F92: ='2014'!F92+'2015'!F92+'2016'!F92+'2017'!F92 -> 2 | G92: ='2014'!G92+'2015'!G92+'2016'!G92+'2017'!G92 -> 4 | H92: =C92+F92+G92 -> 115 | I92: =(H92/B92)*1000 -> 58.974359 | J92: =RANK(I92,I69:I123) -> 2
A93: Marion | B93: ='2014'!B93+'2015'!B93+'2016'!B93+'2017'!B93 -> 6808 | C93: ='2014'!C93+'2015'!C93+'2016'!C93+'2017'!C93 -> 160 | D93: =(C93/B93)*1000 -> 23.501763 | E93: =RANK(D93,D69:D123) -> 48 | F93: ='2014'!F93+'2015'!F93+'2016'!F93+'2017'!F93 -> 0 | G93: ='2014'!G93+'2015'!G93+'2016'!G93+'2017'!G93 -> 11 | H93: =C93+F93+G93 -> 171 | I93: =(H93/B93)*1000 -> 25.117509 | J93: =RANK(I93,I69:I123) -> 47
A94: Marshall | B94: ='2014'!B94+'2015'!B94+'2016'!B94+'2017'!B94 -> 3402 | C94: ='2014'!C94+'2015'!C94+'2016'!C94+'2017'!C94 -> 95 | D94: =(C94/B94)*1000 -> 27.92475 | E94: =RANK(D94,D69:D123) -> 41 | F94: ='2014'!F94+'2015'!F94+'2016'!F94+'2017'!F94 -> 0 | G94: ='2014'!G94+'2015'!G94+'2016'!G94+'2017'!G94 -> 3 | H94: =C94+F94+G94 -> 98 | I94: =(H94/B94)*1000 -> 28.806584 | J94: =RANK(I94,I69:I123) -> 42
A95: Mason | B95: ='2014'!B95+'2015'!B95+'2016'!B95+'2017'!B95 -> 2834 | C95: ='2014'!C95+'2015'!C95+'2016'!C95+'2017'!C95 -> 116 | D95: =(C95/B95)*1000 -> 40.931546 | E95: =RANK(D95,D69:D123) -> 14 | F95: ='2014'!F95+'2015'!F95+'2016'!F95+'2017'!F95 -> 1 | G95: ='2014'!G95+'2015'!G95+'2016'!G95+'2017'!G95 -> 8 | H95: =C95+F95+G95 -> 125 | I95: =(H95/B95)*1000 -> 44.107269 | J95: =RANK(I95,I69:I123) -> 11
A96: Mercer | B96: ='2014'!B96+'2015'!B96+'2016'!B96+'2017'!B96 -> 6923 | C96: ='2014'!C96+'2015'!C96+'2016'!C96+'2017'!C96 -> 317 | D96: =(C96/B96)*1000 -> 45.789398 | E96: =RANK(D96,D69:D123) -> 6 | F96: ='2014'!F96+'2015'!F96+'2016'!F96+'2017'!F96 -> 5 | G96: ='2014'!G96+'2015'!G96+'2016'!G96+'2017'!G96 -> 17 | H96: =C96+F96+G96 -> 339 | I96: =(H96/B96)*1000 -> 48.967211 | J96: =RANK(I96,I69:I123) -> 6
A97: Mineral | B97: ='2014'!B97+'2015'!B97+'2016'!B97+'2017'!B97 -> 3414 | C97: ='2014'!C97+'2015'!C97+'2016'!C97+'2017'!C97 -> 92 | D97: =(C97/B97)*1000 -> 26.947862 | E97: =RANK(D97,D69:D123) -> 44 | F97: ='2014'!F97+'2015'!F97+'2016'!F97+'2017'!F97 -> 0 | G97: ='2014'!G97+'2015'!G97+'2016'!G97+'2017'!G97 -> 4 | H97: =C97+F97+G97 -> 96 | I97: =(H97/B97)*1000 -> 28.119508 | J97: =RANK(I97,I69:I123) -> 45
A98: Mingo | B98: ='2014'!B98+'2015'!B98+'2016'!B98+'2017'!B98 -> 2591 | C98: ='2014'!C98+'2015'!C98+'2016'!C98+'2017'!C98 -> 150 | D98: =(C98/B98)*1000 -> 57.892706 | E98: =RANK(D98,D69:D123) -> 1 | F98: ='2014'!F98+'2015'!F98+'2016'!F98+'2017'!F98 -> 1 | G98: ='2014'!G98+'2015'!G98+'2016'!G98+'2017'!G98 -> 7 | H98: =C98+F98+G98 -> 158 | I98: =(H98/B98)*1000 -> 60.980316 | J98: =RANK(I98,I69:I123) -> 1
A99: Monongalia | B99: ='2014'!B99+'2015'!B99+'2016'!B99+'2017'!B99 -> 16274 | C99: ='2014'!C99+'2015'!C99+'2016'!C99+'2017'!C99 -> 178 | D99: =(C99/B99)*1000 -> 10.937692 | E99: =RANK(D99,D69:D123) -> 55 | F99: ='2014'!F99+'2015'!F99+'2016'!F99+'2017'!F99 -> 0 | G99: ='2014'!G99+'2015'!G99+'2016'!G99+'2017'!G99 -> 15 | H99: =C99+F99+G99 -> 193 | I99: =(H99/B99)*1000 -> 11.859408 | J99: =RANK(I99,I69:I123) -> 55
A100: Monroe | B100: ='2014'!B100+'2015'!B100+'2016'!B100+'2017'!B100 -> 1340 | C100: ='2014'!C100+'2015'!C100+'2016'!C100+'2017'!C100 -> 49 | D100: =(C100/B100)*1000 -> 36.567164 | E100: =RANK(D100,D69:D123) -> 23 | F100: ='2014'!F100+'2015'!F100+'2016'!F100+'2017'!F100 -> 0 | G100: ='2014'!G100+'2015'!G100+'2016'!G100+'2017'!G100 -> 2 | H100: =C100+F100+G100 -> 51 | I100: =(H100/B100)*1000 -> 38.059701 | J100: =RANK(I100,I69:I123) -> 26
A101: Morgan | B101: ='2014'!B101+'2015'!B101+'2016'!B101+'2017'!B101 -> 2050 | C101: ='2014'!C101+'2015'!C101+'2016'!C101+'2017'!C101 -> 39 | D101: =(C101/B101)*1000 -> 19.02439 | E101: =RANK(D101,D69:D123) -> 52 | F101: ='2014'!F101+'2015'!F101+'2016'!F101+'2017'!F101 -> 0 | G101: ='2014'!G101+'2015'!G101+'2016'!G101+'2017'!G101 -> 1 | H101: =C101+F101+G101 -> 40 | I101: =(H101/B101)*1000 -> 19.512195 | J101: =RANK(I101,I69:I123) -> 52
A102: Nicholas | B102: ='2014'!B102+'2015'!B102+'2016'!B102+'2017'!B102 -> 2474 | C102: ='2014'!C102+'2015'!C102+'2016'!C102+'2017'!C102 -> 99 | D102: =(C102/B102)*1000 -> 40.016168 | E102: =RANK(D102,D69:D123) -> 15 | F102: ='2014'!F102+'2015'!F102+'2016'!F102+'2017'!F102 -> 1 | G102: ='2014'!G102+'2015'!G102+'2016'!G102+'2017'!G102 -> 3 | H102: =C102+F102+G102 -> 103 | I102: =(H102/B102)*1000 -> 41.632983 | J102: =RANK(I102,I69:I123) -> 17
A103: Ohio | B103: ='2014'!B103+'2015'!B103+'2016'!B103+'2017'!B103 -> 5801 | C103: ='2014'!C103+'2015'!C103+'2016'!C103+'2017'!C103 -> 130 | D103: =(C103/B103)*1000 -> 22.409929 | E103: =RANK(D103,D69:D123) -> 50 | F103: ='2014'!F103+'2015'!F103+'2016'!F103+'2017'!F103 -> 0 | G103: ='2014'!G103+'2015'!G103+'2016'!G103+'2017'!G103 -> 5 | H103: =C103+F103+G103 -> 135 | I103: =(H103/B103)*1000 -> 23.27185 | J103: =RANK(I103,I69:I123) -> 50
A104: Pendleton | B104: ='2014'!B104+'2015'!B104+'2016'!B104+'2017'!B104 -> 681 | C104: ='2014'!C104+'2015'!C104+'2016'!C104+'2017'!C104 -> 27 | D104: =(C104/B104)*1000 -> 39.647577 | E104: =RANK(D104,D69:D123) -> 17 | F104: ='2014'!F104+'2015'!F104+'2016'!F104+'2017'!F104 -> 0 | G104: ='2014'!G104+'2015'!G104+'2016'!G104+'2017'!G104 -> 1 | H104: =C104+F104+G104 -> 28 | I104: =(H104/B104)*1000 -> 41.116006 | J104: =RANK(I104,I69:I123) -> 20
A105: Pleasants | B105: ='2014'!B105+'2015'!B105+'2016'!B105+'2017'!B105 -> 812 | C105: ='2014'!C105+'2015'!C105+'2016'!C105+'2017'!C105 -> 31 | D105: =(C105/B105)*1000 -> 38.17734 | E105: =RANK(D105,D69:D123) -> 21 | F105: ='2014'!F105+'2015'!F105+'2016'!F105+'2017'!F105 -> 0 | G105: ='2014'!G105+'2015'!G105+'2016'!G105+'2017'!G105 -> 1 | H105: =C105+F105+G105 -> 32 | I105: =(H105/B105)*1000 -> 39.408867 | J105: =RANK(I105,I69:I123) -> 23
...

Sheet births to teens 2014-2017
A1: 2014-2017 West Virginia Resident Births
A2: Births to Teens Ages 15-19 by County
A3: County | B3: Estimated Female Population Ages 15-19 | C3: Number of Resident Births to Mothers Ages 15-19 | D3: Rate per 1,000 Females Ages 10-19 | E3: Rank | F3: Number of Resident Fetal Deaths to Mothers Ages 15-19 | G3: Number of Resident *Abortions to Females Ages 15-19 | H3: Estimated Number of Pregnancies to Females Ages 15-19 | I3: Rate per 1,000 Females Ages 10-19 | J3: Rank
A4: Barbour | B4: 2626 | C4: 76 | D4: 28.941356 | E4: 39 | F4: 0 | G4: 6 | H4: 82 | I4: 31.2262 | J4: 38
A5: Berkeley | B5: 13584 | C5: 364 | D5: 26.796231 | E5: 45 | F5: 2 | G5: 1 | H5: 367 | I5: 27.017079 | J5: 46
A6: Boone | B6: 2590 | C6: 139 | D6: 53.667954 | E6: 3 | F6: 0 | G6: 9 | H6: 148 | I6: 57.142857 | J6: 3
A7: Braxton | B7: 1518 | C7: 47 | D7: 30.961792 | E7: 35 | F7: 0 | G7: 4 | H7: 51 | I7: 33.596838 | J7: 34
A8: Brooke | B8: 2821 | C8: 64 | D8: 22.68699 | E8: 49 | F8: 0 | G8: 4 | H8: 68 | I8: 24.104927 | J8: 48
A9: Cabell | B9: 12898 | C9: 340 | D9: 26.360676 | E9: 46 | F9: 2 | G9: 52 | H9: 394 | I9: 30.547372 | J9: 40
A10: Calhoun | B10: 725 | C10: 23 | D10: 31.724138 | E10: 31 | F10: 0 | G10: 3 | H10: 26 | I10: 35.862069 | J10: 27
A11: Clay | B11: 1019 | C11: 39 | D11: 38.272816 | E11: 20 | F11: 0 | G11: 1 | H11: 40 | I11: 39.254171 | J11: 24
A12: Doddridge | B12: 822 | C12: 26 | D12: 31.63017 | E12: 32 | F12: 0 | G12: 0 | H12: 26 | I12: 31.63017 | J12: 37
A13: Fayette | B13: 4576 | C13: 193 | D13: 42.176573 | E13: 8 | F13: 3 | G13: 23 | H13: 219 | I13: 47.858392 | J13: 7
A14: Gilmer | B14: 1105 | C14: 22 | D14: 19.909502 | E14: 51 | F14: 0 | G14: 3 | H14: 25 | I14: 22.624434 | J14: 51
A15: Grant | B15: 1183 | C15: 52 | D15: 43.956044 | E15: 7 | F15: 0 | G15: 1 | H15: 53 | I15: 44.801352 | J15: 10
... A58: Wyoming | B58: 2476 | C58: 89 | D58: 35.945073 | E58: 24 | F58: 4 | G58: 4 | H58: 97 | I58: 39.17609 | J58: 25
A59: WV Total | B59: 212738 | C59: 6621 | D59: 31.12279 | F59: 41 | G59: 535 | H59: 7197 | I59: 33.830345
A60: *WV only has records of abortions performed in this state. There are no data available for out of state occurrences.
A61: Source: West Virginia Health Statistics Center, Vital Statistics System, September 2018.
