Workbook

Sheet 2014
A1: 2014 West Virginia Deaths
A2: Drug Overdose Deaths by County
A4: County | B4: Estimated Population | C4: Number of Resident Drug Overdose Deaths | D4: Rate per 100,000 Population | E4: Rank | F4: Number of Occurrence Drug Overdose Deaths | G4: Estimated Male Population | H4: Number of Male Resident Drug Overdose Deaths | I4: Rate per 100,000 Males | J4: Rank | K4: Number of Male Occurrence Drug Overdose Deaths | L4: Estimated Female Population | M4: Number of Female Resident Drug Overdose Deaths | N4: Rate per 100,000 Females | O4: Rank | P4: Number of Female Occurrence Drug Overdose Deaths
A5: Barbour | B5: 16902 | C5: 1 | D5: =(C5/B5)*100000 -> 5.9164596 | E5: =RANK(D5,D5:D59) -> 49 | F5: 1 | G5: 8237 | H5: 0 | I5: =(H5/G5)*100000 -> 0 | K5: 0 | L5: =B5-G5 -> 8665 | M5: =C5-H5 -> 1 | N5: =(M5/L5)*100000 -> 11.540681 | O5: =RANK(N5,N5:N59) -> 36 | P5: =F5-K5 -> 1
A6: Berkeley | B6: 110026 | C6: 46 | D6: =(C6/B6)*100000 -> 41.8083 | E6: =RANK(D6,D5:D59) -> 13 | F6: 47 | G6: 54321 | H6: 28 | I6: =(H6/G6)*100000 -> 51.545443 | J6: =RANK(I6,I5:I59) -> 15 | K6: 29 | L6: =B6-G6 -> 55705 | M6: =C6-H6 -> 18 | N6: =(M6/L6)*100000 -> 32.313078 | O6: =RANK(N6,N5:N59) -> 16 | P6: =F6-K6 -> 18
A7: Boone | B7: 23708 | C7: 24 | D7: =(C7/B7)*100000 -> 101.23165 | E7: =RANK(D7,D5:D59) -> 1 | F7: 22 | G7: 11801 | H7: 18 | I7: =(H7/G7)*100000 -> 152.52945 | J7: =RANK(I7,I5:I59) -> 1 | K7: 16 | L7: =B7-G7 -> 11907 | M7: =C7-H7 -> 6 | N7: =(M7/L7)*100000 -> 50.390527 | O7: =RANK(N7,N5:N59) -> 4 | P7: =F7-K7 -> 6
A8: Braxton | B8: 14400 | C8: 2 | D8: =(C8/B8)*100000 -> 13.888889 | E8: =RANK(D8,D5:D59) -> 37 | F8: 3 | G8: 7274 | H8: 1 | I8: =(H8/G8)*100000 -> 13.747594 | J8: =RANK(I8,I5:I59) -> 41 | K8: 2 | L8: =B8-G8 -> 7126 | M8: =C8-H8 -> 1 | N8: =(M8/L8)*100000 -> 14.033118 | O8: =RANK(N8,N5:N59) -> 33 | P8: =F8-K8 -> 1
A9: Brooke | B9: 23382 | C9: 10 | D9: =(C9/B9)*100000 -> 42.767941 | E9: =RANK(D9,D5:D59) -> 12 | F9: 14 | G9: 11452 | H9: 6 | I9: =(H9/G9)*100000 -> 52.392595 | J9: =RANK(I9,I5:I59) -> 14 | K9: 9 | L9: =B9-G9 -> 11930 | M9: =C9-H9 -> 4 | N9: =(M9/L9)*100000 -> 33.528919 | O9: =RANK(N9,N5:N59) -> 15 | P9: =F9-K9 -> 5
A10: Cabell | B10: 96514 | C10: 50 | D10: =(C10/B10)*100000 -> 51.805956 | E10: =RANK(D10,D5:D59) -> 7 | F10: 70 | G10: 47077 | H10: 28 | I10: =(H10/G10)*100000 -> 59.477027 | J10: =RANK(I10,I5:I59) -> 11 | K10: 41 | L10: =B10-G10 -> 49437 | M10: =C10-H10 -> 22 | N10: =(M10/L10)*100000 -> 44.501082 | O10: =RANK(N10,N5:N59) -> 7 | P10: =F10-K10 -> 29
A11: Calhoun | B11: 7559 | C11: 2 | D11: =(C11/B11)*100000 -> 26.458526 | E11: =RANK(D11,D5:D59) -> 23 | F11: 2 | G11: 3785 | H11: 1 | I11: =(H11/G11)*100000 -> 26.420079 | J11: =RANK(I11,I5:I59) -> 31 | K11: 1 | L11: =B11-G11 -> 3774 | M11: =C11-H11 -> 1 | N11: =(M11/L11)*100000 -> 26.497085 | O11: =RANK(N11,N5:N59) -> 19 | P11: =F11-K11 -> 1
A12: Clay | B12: 8882 | C12: 2 | D12: =(C12/B12)*100000 -> 22.517451 | E12: =RANK(D12,D5:D59) -> 29 | F12: 1 | G12: 4444 | H12: 2 | I12: =(H12/G12)*100000 -> 45.0045 | J12: =RANK(I12,I5:I59) -> 18 | K12: 1 | L12: =B12-G12 -> 4438 | M12: =C12-H12 -> 0 | N12: =(M12/L12)*100000 -> 0 | P12: =F12-K12 -> 0
A13: Doddridge | B13: 8467 | C13: 1 | D13: =(C13/B13)*100000 -> 11.810559 | E13: =RANK(D13,D5:D59) -> 43 | F13: 0 | G13: 4580 | H13: 1 | I13: =(H13/G13)*100000 -> 21.834061 | J13: =RANK(I13,I5:I59) -> 36 | K13: 0 | L13: =B13-G13 -> 3887 | M13: =C13-H13 -> 0 | N13: =(M13/L13)*100000 -> 0 | P13: =F13-K13 -> 0
A14: Fayette | B14: 45152 | C14: 17 | D14: =(C14/B14)*100000 -> 37.650602 | E14: =RANK(D14,D5:D59) -> 17 | F14: 17 | G14: 22737 | H14: 9 | I14: =(H14/G14)*100000 -> 39.583058 | J14: =RANK(I14,I5:I59) -> 22 | K14: 9 | L14: =B14-G14 -> 22415 | M14: =C14-H14 -> 8 | N14: =(M14/L14)*100000 -> 35.690386 | O14: =RANK(N14,N5:N59) -> 13 | P14: =F14-K14 -> 8
A15: Gilmer | B15: 8489 | C15: 0 | D15: =(C15/B15)*100000 -> 0 | F15: 0 | G15: 5098 | H15: 0 | I15: =(H15/G15)*100000 -> 0 | K15: 0 | L15: =B15-G15 -> 3391 | M15: =C15-H15 -> 0 | N15: =(M15/L15)*100000 -> 0 | P15: =F15-K15 -> 0
A16: Grant | B16: 11632 | C16: 0 | D16: =(C16/B16)*100000 -> 0 | F16: 0 | G16: 5815 | H16: 0 | I16: =(H16/G16)*100000 -> 0 | K16: 0 | L16: =B16-G16 -> 5817 | M16: =C16-H16 -> 0 | N16: =(M16/L16)*100000 -> 0 | P16: =F16-K16 -> 0
A17: Greenbrier | B17: 35522 | C17: 12 | D17: =(C17/B17)*100000 -> 33.781882 | E17: =RANK(D17,D5:D59) -> 19 | F17: 11 | G17: 17328 | H17: 7 | I17: =(H17/G17)*100000 -> 40.397045 | J17: =RANK(I17,I5:I59) -> 20 | K17: 6 | L17: =B17-G17 -> 18194 | M17: =C17-H17 -> 5 | N17: =(M17/L17)*100000 -> 27.481587 | O17: =RANK(N17,N5:N59) -> 18 | P17: =F17-K17 -> 5
A18: Hampshire | B18: 23439 | C18: 6 | D18: =(C18/B18)*100000 -> 25.598362 | E18: =RANK(D18,D5:D59) -> 25 | F18: 9 | G18: 11905 | H18: 3 | I18: =(H18/G18)*100000 -> 25.199496 | J18: =RANK(I18,I5:I59) -> 32 | K18: 5 | L18: =B18-G18 -> 11534 | M18: =C18-H18 -> 3 | N18: =(M18/L18)*100000 -> 26.010057 | O18: =RANK(N18,N5:N59) -> 20 | P18: =F18-K18 -> 4
A19: Hancock | B19: 30228 | C19: 18 | D19: =(C19/B19)*100000 -> 59.547439 | E19: =RANK(D19,D5:D59) -> 6 | F19: 7 | G19: 14674 | H19: 12 | I19: =(H19/G19)*100000 -> 81.777293 | J19: =RANK(I19,I5:I59) -> 5 | K19: 5 | L19: =B19-G19 -> 15554 | M19: =C19-H19 -> 6 | N19: =(M19/L19)*100000 -> 38.575286 | O19: =RANK(N19,N5:N59) -> 9 | P19: =F19-K19 -> 2
A20: Hardy | B20: 13915 | C20: 1 | D20: =(C20/B20)*100000 -> 7.1864894 | E20: =RANK(D20,D5:D59) -> 48 | F20: 1 | G20: 7000 | H20: 0 | I20: =(H20/G20)*100000 -> 0 | K20: 0 | L20: =B20-G20 -> 6915 | M20: =C20-H20 -> 1 | N20: =(M20/L20)*100000 -> 14.461316 | O20: =RANK(N20,N5:N59) -> 30 | P20: =F20-K20 -> 1
A21: Harrison | B21: 68671 | C21: 20 | D21: =(C21/B21)*100000 -> 29.124376 | E21: =RANK(D21,D5:D59) -> 21 | F21: 17 | G21: 33660 | H21: 15 | I21: =(H21/G21)*100000 -> 44.56328 | J21: =RANK(I21,I5:I59) -> 19 | K21: 11 | L21: =B21-G21 -> 35011 | M21: =C21-H21 -> 5 | N21: =(M21/L21)*100000 -> 14.281226 | O21: =RANK(N21,N5:N59) -> 31 | P21: =F21-K21 -> 6
A22: Jackson | B22: 29126 | C22: 6 | D22: =(C22/B22)*100000 -> 20.600151 | E22: =RANK(D22,D5:D59) -> 31 | F22: 5 | G22: 14389 | H22: 3 | I22: =(H22/G22)*100000 -> 20.84926 | J22: =RANK(I22,I5:I59) -> 37 | K22: 3 | L22: =B22-G22 -> 14737 | M22: =C22-H22 -> 3 | N22: =(M22/L22)*100000 -> 20.356925 | O22: =RANK(N22,N5:N59) -> 24 | P22: =F22-K22 -> 2
A23: Jefferson | B23: 55448 | C23: 12 | D23: =(C23/B23)*100000 -> 21.641899 | E23: =RANK(D23,D5:D59) -> 30 | F23: 11 | G23: 27375 | H23: 9 | I23: =(H23/G23)*100000 -> 32.876712 | J23: =RANK(I23,I5:I59) -> 28 | K23: 9 | L23: =B23-G23 -> 28073 | M23: =C23-H23 -> 3 | N23: =(M23/L23)*100000 -> 10.686425 | O23: =RANK(N23,N5:N59) -> 37 | P23: =F23-K23 -> 2
A24: Kanawha | B24: 190212 | C24: 79 | D24: =(C24/B24)*100000 -> 41.532606 | E24: =RANK(D24,D5:D59) -> 14 | F24: 85 | G24: 91666 | H24: 57 | I24: =(H24/G24)*100000 -> 62.18227 | J24: =RANK(I24,I5:I59) -> 10 | K24: 61 | L24: =B24-G24 -> 98546 | M24: =C24-H24 -> 22 | N24: =(M24/L24)*100000 -> 22.3246 | O24: =RANK(N24,N5:N59) -> 22 | P24: =F24-K24 -> 24
A25: Lewis | B25: 16438 | C25: 0 | D25: =(C25/B25)*100000 -> 0 | F25: 0 | G25: 8124 | H25: 0 | I25: =(H25/G25)*100000 -> 0 | K25: 0 | L25: =B25-G25 -> 8314 | M25: =C25-H25 -> 0 | N25: =(M25/L25)*100000 -> 0 | P25: =F25-K25 -> 0
A26: Lincoln | B26: 21532 | C26: 10 | D26: =(C26/B26)*100000 -> 46.442504 | E26: =RANK(D26,D5:D59) -> 9 | F26: 9 | G26: 10711 | H26: 8 | I26: =(H26/G26)*100000 -> 74.689571 | J26: =RANK(I26,I5:I59) -> 7 | K26: 7 | L26: =B26-G26 -> 10821 | M26: =C26-H26 -> 2 | N26: =(M26/L26)*100000 -> 18.48258 | O26: =RANK(N26,N5:N59) -> 26 | P26: =F26-K26 -> 2
A27: Logan | B27: 35235 | C27: 21 | D27: =(C27/B27)*100000 -> 59.59983 | E27: =RANK(D27,D5:D59) -> 5 | F27: 21 | G27: 17378 | H27: 13 | I27: =(H27/G27)*100000 -> 74.807228 | J27: =RANK(I27,I5:I59) -> 6 | K27: 11 | L27: =B27-G27 -> 17857 | M27: =C27-H27 -> 8 | N27: =(M27/L27)*100000 -> 44.800358 | O27: =RANK(N27,N5:N59) -> 6 | P27: =F27-K27 -> 10
A28: McDowell | B28: 20329 | C28: 8 | D28: =(C28/B28)*100000 -> 39.352649 | E28: =RANK(D28,D5:D59) -> 15 | F28: 7 | G28: 9978 | H28: 4 | I28: =(H28/G28)*100000 -> 40.088194 | J28: =RANK(I28,I5:I59) -> 21 | K28: 4 | L28: =B28-G28 -> 10351 | M28: =C28-H28 -> 4 | N28: =(M28/L28)*100000 -> 38.643609 | O28: =RANK(N28,N5:N59) -> 8 | P28: =F28-K28 -> 3
A29: Marion | B29: 56722 | C29: 7 | D29: =(C29/B29)*100000 -> 12.340891 | E29: =RANK(D29,D5:D59) -> 42 | F29: 4 | G29: 27895 | H29: 5 | I29: =(H29/G29)*100000 -> 17.924359 | J29: =RANK(I29,I5:I59) -> 40 | K29: 3 | L29: =B29-G29 -> 28827 | M29: =C29-H29 -> 2 | N29: =(M29/L29)*100000 -> 6.9379401 | O29: =RANK(N29,N5:N59) -> 40 | P29: =F29-K29 -> 1
A30: Marshall | B30: 32332 | C30: 6 | D30: =(C30/B30)*100000 -> 18.557466 | E30: =RANK(D30,D5:D59) -> 32 | F30: 4 | G30: 15874 | H30: 3 | I30: =(H30/G30)*100000 -> 18.898828 | J30: =RANK(I30,I5:I59) -> 39 | K30: 3 | L30: =B30-G30 -> 16458 | M30: =C30-H30 -> 3 | N30: =(M30/L30)*100000 -> 18.228217 | O30: =RANK(N30,N5:N59) -> 28 | P30: =F30-K30 -> 1
A31: Mason | B31: 27121 | C31: 12 | D31: =(C31/B31)*100000 -> 44.246156 | E31: =RANK(D31,D5:D59) -> 11 | F31: 8 | G31: 13065 | H31: 7 | I31: =(H31/G31)*100000 -> 53.578263 | J31: =RANK(I31,I5:I59) -> 13 | K31: 5 | L31: =B31-G31 -> 14056 | M31: =C31-H31 -> 5 | N31: =(M31/L31)*100000 -> 35.571998 | O31: =RANK(N31,N5:N59) -> 14 | P31: =F31-K31 -> 3
A32: Mercer | B32: 61686 | C32: 44 | D32: =(C32/B32)*100000 -> 71.328989 | E32: =RANK(D32,D5:D59) -> 4 | F32: 49 | G32: 29554 | H32: 28 | I32: =(H32/G32)*100000 -> 94.741829 | J32: =RANK(I32,I5:I59) -> 4 | K32: 32 | L32: =B32-G32 -> 32132 | M32: =C32-H32 -> 16 | N32: =(M32/L32)*100000 -> 49.794597 | O32: =RANK(N32,N5:N59) -> 5 | P32: =F32-K32 -> 17
A33: Mineral | B33: 27531 | C33: 2 | D33: =(C33/B33)*100000 -> 7.2645382 | E33: =RANK(D33,D5:D59) -> 47 | F33: 2 | G33: 13703 | H33: 1 | I33: =(H33/G33)*100000 -> 7.297672 | J33: =RANK(I33,I5:I59) -> 43 | K33: 0 | L33: =B33-G33 -> 13828 | M33: =C33-H33 -> 1 | N33: =(M33/L33)*100000 -> 7.2317038 | O33: =RANK(N33,N5:N59) -> 39 | P33: =F33-K33 -> 2
A34: Mingo | B34: 25696 | C34: 26 | D34: =(C34/B34)*100000 -> 101.18306 | E34: =RANK(D34,D5:D59) -> 2 | F34: 25 | G34: 12642 | H34: 15 | I34: =(H34/G34)*100000 -> 118.65211 | J34: =RANK(I34,I5:I59) -> 2 | K34: 16 | L34: =B34-G34 -> 13054 | M34: =C34-H34 -> 11 | N34: =(M34/L34)*100000 -> 84.265359 | O34: =RANK(N34,N5:N59) -> 1 | P34: =F34-K34 -> 9
A35: Monongalia | B35: 102951 | C35: 14 | D35: =(C35/B35)*100000 -> 13.598702 | E35: =RANK(D35,D5:D59) -> 40 | F35: 21 | G35: 53044 | H35: 7 | I35: =(H35/G35)*100000 -> 13.196592 | J35: =RANK(I35,I5:I59) -> 42 | K35: 14 | L35: =B35-G35 -> 49907 | M35: =C35-H35 -> 7 | N35: =(M35/L35)*100000 -> 14.026089 | O35: =RANK(N35,N5:N59) -> 34 | P35: =F35-K35 -> 7
A36: Monroe | B36: 13609 | C36: 2 | D36: =(C36/B36)*100000 -> 14.696157 | E36: =RANK(D36,D5:D59) -> 36 | F36: 1 | G36: 6773 | H36: 2 | I36: =(H36/G36)*100000 -> 29.529012 | J36: =RANK(I36,I5:I59) -> 29 | K36: 1 | L36: =B36-G36 -> 6836 | M36: =C36-H36 -> 0 | N36: =(M36/L36)*100000 -> 0 | P36: =F36-K36 -> 0
A37: Morgan | B37: 17456 | C37: 4 | D37: =(C37/B37)*100000 -> 22.914757 | E37: =RANK(D37,D5:D59) -> 28 | F37: 3 | G37: 8644 | H37: 4 | I37: =(H37/G37)*100000 -> 46.274873 | J37: =RANK(I37,I5:I59) -> 17 | K37: 3 | L37: =B37-G37 -> 8812 | M37: =C37-H37 -> 0 | N37: =(M37/L37)*100000 -> 0 | P37: =F37-K37 -> 0
A38: Nicholas | B38: 25702 | C38: 10 | D38: =(C38/B38)*100000 -> 38.907478 | E38: =RANK(D38,D5:D59) -> 16 | F38: 9 | G38: 12675 | H38: 5 | I38: =(H38/G38)*100000 -> 39.447732 | J38: =RANK(I38,I5:I59) -> 23 | K38: 4 | L38: =B38-G38 -> 13027 | M38: =C38-H38 -> 5 | N38: =(M38/L38)*100000 -> 38.381822 | O38: =RANK(N38,N5:N59) -> 10 | P38: =F38-K38 -> 5
A39: Ohio | B39: 43226 | C39: 8 | D39: =(C39/B39)*100000 -> 18.50738 | E39: =RANK(D39,D5:D59) -> 33 | F39: 12 | G39: 20724 | H39: 7 | I39: =(H39/G39)*100000 -> 33.777263 | J39: =RANK(I39,I5:I59) -> 26 | K39: 7 | L39: =B39-G39 -> 22502 | M39: =C39-H39 -> 1 | N39: =(M39/L39)*100000 -> 4.4440494 | O39: =RANK(N39,N5:N59) -> 41 | P39: =F39-K39 -> 5
A40: Pendleton | B40: 7229 | C40: 1 | D40: =(C40/B40)*100000 -> 13.833172 | E40: =RANK(D40,D5:D59) -> 38 | F40: 1 | G40: 3652 | H40: 0 | I40: =(H40/G40)*100000 -> 0 | K40: 0 | L40: =B40-G40 -> 3577 | M40: =C40-H40 -> 1 | N40: =(M40/L40)*100000 -> 27.956388 | O40: =RANK(N40,N5:N59) -> 17 | P40: =F40-K40 -> 1
A41: Pleasants | B41: 7589 | C41: 2 | D41: =(C41/B41)*100000 -> 26.353933 | E41: =RANK(D41,D5:D59) -> 24 | F41: 2 | G41: 4082 | H41: 2 | I41: =(H41/G41)*100000 -> 48.99559 | J41: =RANK(I41,I5:I59) -> 16 | K41: 2 | L41: =B41-G41 -> 3507 | M41: =C41-H41 -> 0 | N41: =(M41/L41)*100000 -> 0 | P41: =F41-K41 -> 0
...

Sheet 2015
A1: 2015 West Virginia Deaths
A2: Drug Overdose Deaths by County
A4: County | B4: Estimated Population | C4: Number of Resident Drug Overdose Deaths | D4: Rate per 100,000 Population | E4: Rank | F4: Number of Occurrence Drug Overdose Deaths | G4: Estimated Male Population | H4: Number of Male Resident Drug Overdose Deaths | I4: Rate per 100,000 Males | J4: Rank | K4: Number of Male Occurrence Drug Overdose Deaths | L4: Estimated Female Population | M4: Number of Female Resident Drug Overdose Deaths | N4: Rate per 100,000 Females | O4: Rank | P4: Number of Female Occurrence Drug Overdose Deaths
A5: Barbour | B5: 16970 | C5: 3 | D5: =(C5/B5)*100000 -> 17.678256 | E5: =RANK(D5,D5:D59) -> 36 | F5: 2 | G5: 8280 | H5: 3 | I5: =(H5/G5)*100000 -> 36.231884 | J5: =RANK(I5,I5:I59) -> 23 | K5: 2 | L5: =B5-G5 -> 8690 | M5: =C5-H5 -> 0 | N5: =(M5/L5)*100000 -> 0 | P5: =F5-K5 -> 0
A6: Berkeley | B6: 111497 | C6: 48 | D6: =(C6/B6)*100000 -> 43.050486 | E6: =RANK(D6,D5:D59) -> 16 | F6: 51 | G6: 55084 | H6: 34 | I6: =(H6/G6)*100000 -> 61.723913 | J6: =RANK(I6,I5:I59) -> 15 | K6: 38 | L6: =B6-G6 -> 56413 | M6: =C6-H6 -> 14 | N6: =(M6/L6)*100000 -> 24.816975 | O6: =RANK(N6,N5:N59) -> 24 | P6: =F6-K6 -> 13
A7: Boone | B7: 23241 | C7: 17 | D7: =(C7/B7)*100000 -> 73.146594 | E7: =RANK(D7,D5:D59) -> 5 | F7: 14 | G7: 11577 | H7: 9 | I7: =(H7/G7)*100000 -> 77.740347 | J7: =RANK(I7,I5:I59) -> 6 | K7: 7 | L7: =B7-G7 -> 11664 | M7: =C7-H7 -> 8 | N7: =(M7/L7)*100000 -> 68.587106 | O7: =RANK(N7,N5:N59) -> 4 | P7: =F7-K7 -> 7
A8: Braxton | B8: 14366 | C8: 2 | D8: =(C8/B8)*100000 -> 13.92176 | E8: =RANK(D8,D5:D59) -> 40 | F8: 1 | G8: 7271 | H8: 1 | I8: =(H8/G8)*100000 -> 13.753266 | J8: =RANK(I8,I5:I59) -> 43 | K8: 1 | L8: =B8-G8 -> 7095 | M8: =C8-H8 -> 1 | N8: =(M8/L8)*100000 -> 14.094433 | O8: =RANK(N8,N5:N59) -> 40 | P8: =F8-K8 -> 0
A9: Brooke | B9: 23200 | C9: 10 | D9: =(C9/B9)*100000 -> 43.103448 | E9: =RANK(D9,D5:D59) -> 15 | F9: 12 | G9: 11347 | H9: 3 | I9: =(H9/G9)*100000 -> 26.438706 | J9: =RANK(I9,I5:I59) -> 33 | K9: 5 | L9: =B9-G9 -> 11853 | M9: =C9-H9 -> 7 | N9: =(M9/L9)*100000 -> 59.056779 | O9: =RANK(N9,N5:N59) -> 6 | P9: =F9-K9 -> 7
A10: Cabell | B10: 96462 | C10: 78 | D10: =(C10/B10)*100000 -> 80.860857 | E10: =RANK(D10,D5:D59) -> 4 | F10: 102 | G10: 47198 | H10: 49 | I10: =(H10/G10)*100000 -> 103.81796 | J10: =RANK(I10,I5:I59) -> 3 | K10: 67 | L10: =B10-G10 -> 49264 | M10: =C10-H10 -> 29 | N10: =(M10/L10)*100000 -> 58.866515 | O10: =RANK(N10,N5:N59) -> 7 | P10: =F10-K10 -> 35
A11: Calhoun | B11: 7465 | C11: 1 | D11: =(C11/B11)*100000 -> 13.395847 | E11: =RANK(D11,D5:D59) -> 42 | F11: 0 | G11: 3719 | H11: 0 | I11: =(H11/G11)*100000 -> 0 | K11: 0 | L11: =B11-G11 -> 3746 | M11: =C11-H11 -> 1 | N11: =(M11/L11)*100000 -> 26.695141 | O11: =RANK(N11,N5:N59) -> 22 | P11: =F11-K11 -> 0
A12: Clay | B12: 8876 | C12: 3 | D12: =(C12/B12)*100000 -> 33.799009 | E12: =RANK(D12,D5:D59) -> 20 | F12: 2 | G12: 4461 | H12: 1 | I12: =(H12/G12)*100000 -> 22.416499 | J12: =RANK(I12,I5:I59) -> 36 | K12: 1 | L12: =B12-G12 -> 4415 | M12: =C12-H12 -> 2 | N12: =(M12/L12)*100000 -> 45.300113 | O12: =RANK(N12,N5:N59) -> 10 | P12: =F12-K12 -> 1
A13: Doddridge | B13: 8696 | C13: 1 | D13: =(C13/B13)*100000 -> 11.49954 | E13: =RANK(D13,D5:D59) -> 48 | F13: 1 | G13: 4793 | H13: 0 | I13: =(H13/G13)*100000 -> 0 | K13: 0 | L13: =B13-G13 -> 3903 | M13: =C13-H13 -> 1 | N13: =(M13/L13)*100000 -> 25.621317 | O13: =RANK(N13,N5:N59) -> 23 | P13: =F13-K13 -> 1
A14: Fayette | B14: 44687 | C14: 12 | D14: =(C14/B14)*100000 -> 26.853447 | E14: =RANK(D14,D5:D59) -> 28 | F14: 15 | G14: 22520 | H14: 5 | I14: =(H14/G14)*100000 -> 22.202487 | J14: =RANK(I14,I5:I59) -> 37 | K14: 7 | L14: =B14-G14 -> 22167 | M14: =C14-H14 -> 7 | N14: =(M14/L14)*100000 -> 31.578473 | O14: =RANK(N14,N5:N59) -> 16 | P14: =F14-K14 -> 8
A15: Gilmer | B15: 8287 | C15: 0 | D15: =(C15/B15)*100000 -> 0 | F15: 0 | G15: 4922 | H15: 0 | I15: =(H15/G15)*100000 -> 0 | K15: 0 | L15: =B15-G15 -> 3365 | M15: =C15-H15 -> 0 | N15: =(M15/L15)*100000 -> 0 | P15: =F15-K15 -> 0
A16: Grant | B16: 11666 | C16: 2 | D16: =(C16/B16)*100000 -> 17.143837 | E16: =RANK(D16,D5:D59) -> 38 | F16: 2 | G16: 5847 | H16: 2 | I16: =(H16/G16)*100000 -> 34.205576 | J16: =RANK(I16,I5:I59) -> 26 | K16: 2 | L16: =B16-G16 -> 5819 | M16: =C16-H16 -> 0 | N16: =(M16/L16)*100000 -> 0 | P16: =F16-K16 -> 0
A17: Greenbrier | B17: 35541 | C17: 13 | D17: =(C17/B17)*100000 -> 36.577474 | E17: =RANK(D17,D5:D59) -> 19 | F17: 12 | G17: 17372 | H17: 5 | I17: =(H17/G17)*100000 -> 28.781948 | J17: =RANK(I17,I5:I59) -> 31 | K17: 4 | L17: =B17-G17 -> 18169 | M17: =C17-H17 -> 8 | N17: =(M17/L17)*100000 -> 44.031042 | O17: =RANK(N17,N5:N59) -> 11 | P17: =F17-K17 -> 8
A18: Hampshire | B18: 23318 | C18: 13 | D18: =(C18/B18)*100000 -> 55.750922 | E18: =RANK(D18,D5:D59) -> 10 | F18: 10 | G18: 11864 | H18: 8 | I18: =(H18/G18)*100000 -> 67.430883 | J18: =RANK(I18,I5:I59) -> 11 | K18: 6 | L18: =B18-G18 -> 11454 | M18: =C18-H18 -> 5 | N18: =(M18/L18)*100000 -> 43.652872 | O18: =RANK(N18,N5:N59) -> 12 | P18: =F18-K18 -> 4
A19: Hancock | B19: 29950 | C19: 15 | D19: =(C19/B19)*100000 -> 50.083472 | E19: =RANK(D19,D5:D59) -> 11 | F19: 12 | G19: 14572 | H19: 10 | I19: =(H19/G19)*100000 -> 68.62476 | J19: =RANK(I19,I5:I59) -> 9 | K19: 8 | L19: =B19-G19 -> 15378 | M19: =C19-H19 -> 5 | N19: =(M19/L19)*100000 -> 32.513981 | O19: =RANK(N19,N5:N59) -> 15 | P19: =F19-K19 -> 4
A20: Hardy | B20: 13764 | C20: 2 | D20: =(C20/B20)*100000 -> 14.53066 | E20: =RANK(D20,D5:D59) -> 39 | F20: 1 | G20: 6906 | H20: 1 | I20: =(H20/G20)*100000 -> 14.480162 | J20: =RANK(I20,I5:I59) -> 40 | K20: 0 | L20: =B20-G20 -> 6858 | M20: =C20-H20 -> 1 | N20: =(M20/L20)*100000 -> 14.581511 | O20: =RANK(N20,N5:N59) -> 35 | P20: =F20-K20 -> 1
A21: Harrison | B21: 68514 | C21: 19 | D21: =(C21/B21)*100000 -> 27.731559 | E21: =RANK(D21,D5:D59) -> 27 | F21: 17 | G21: 33614 | H21: 11 | I21: =(H21/G21)*100000 -> 32.72446 | J21: =RANK(I21,I5:I59) -> 28 | K21: 9 | L21: =B21-G21 -> 34900 | M21: =C21-H21 -> 8 | N21: =(M21/L21)*100000 -> 22.922636 | O21: =RANK(N21,N5:N59) -> 29 | P21: =F21-K21 -> 8
A22: Jackson | B22: 29164 | C22: 6 | D22: =(C22/B22)*100000 -> 20.57331 | E22: =RANK(D22,D5:D59) -> 35 | F22: 5 | G22: 14414 | H22: 5 | I22: =(H22/G22)*100000 -> 34.688497 | J22: =RANK(I22,I5:I59) -> 25 | K22: 4 | L22: =B22-G22 -> 14750 | M22: =C22-H22 -> 1 | N22: =(M22/L22)*100000 -> 6.779661 | O22: =RANK(N22,N5:N59) -> 46 | P22: =F22-K22 -> 1
A23: Jefferson | B23: 55911 | C23: 17 | D23: =(C23/B23)*100000 -> 30.405466 | E23: =RANK(D23,D5:D59) -> 25 | F23: 15 | G23: 27615 | H23: 10 | I23: =(H23/G23)*100000 -> 36.212204 | J23: =RANK(I23,I5:I59) -> 24 | K23: 10 | L23: =B23-G23 -> 28296 | M23: =C23-H23 -> 7 | N23: =(M23/L23)*100000 -> 24.738479 | O23: =RANK(N23,N5:N59) -> 25 | P23: =F23-K23 -> 5
A24: Kanawha | B24: 188119 | C24: 109 | D24: =(C24/B24)*100000 -> 57.942047 | E24: =RANK(D24,D5:D59) -> 8 | F24: 122 | G24: 90731 | H24: 64 | I24: =(H24/G24)*100000 -> 70.538184 | J24: =RANK(I24,I5:I59) -> 8 | K24: 70 | L24: =B24-G24 -> 97388 | M24: =C24-H24 -> 45 | N24: =(M24/L24)*100000 -> 46.206925 | O24: =RANK(N24,N5:N59) -> 9 | P24: =F24-K24 -> 52
A25: Lewis | B25: 16422 | C25: 1 | D25: =(C25/B25)*100000 -> 6.0893923 | E25: =RANK(D25,D5:D59) -> 52 | F25: 0 | G25: 8144 | H25: 0 | I25: =(H25/G25)*100000 -> 0 | K25: 0 | L25: =B25-G25 -> 8278 | M25: =C25-H25 -> 1 | N25: =(M25/L25)*100000 -> 12.080213 | O25: =RANK(N25,N5:N59) -> 42 | P25: =F25-K25 -> 0
A26: Lincoln | B26: 21292 | C26: 7 | D26: =(C26/B26)*100000 -> 32.876198 | E26: =RANK(D26,D5:D59) -> 22 | F26: 6 | G26: 10606 | H26: 3 | I26: =(H26/G26)*100000 -> 28.285876 | J26: =RANK(I26,I5:I59) -> 32 | K26: 3 | L26: =B26-G26 -> 10686 | M26: =C26-H26 -> 4 | N26: =(M26/L26)*100000 -> 37.432154 | O26: =RANK(N26,N5:N59) -> 14 | P26: =F26-K26 -> 3
A27: Logan | B27: 34419 | C27: 22 | D27: =(C27/B27)*100000 -> 63.918185 | E27: =RANK(D27,D5:D59) -> 6 | F27: 27 | G27: 16951 | H27: 13 | I27: =(H27/G27)*100000 -> 76.691641 | J27: =RANK(I27,I5:I59) -> 7 | K27: 16 | L27: =B27-G27 -> 17468 | M27: =C27-H27 -> 9 | N27: =(M27/L27)*100000 -> 51.522785 | O27: =RANK(N27,N5:N59) -> 8 | P27: =F27-K27 -> 11
A28: McDowell | B28: 19704 | C28: 28 | D28: =(C28/B28)*100000 -> 142.10313 | E28: =RANK(D28,D5:D59) -> 1 | F28: 24 | G28: 9598 | H28: 18 | I28: =(H28/G28)*100000 -> 187.53907 | J28: =RANK(I28,I5:I59) -> 1 | K28: 16 | L28: =B28-G28 -> 10106 | M28: =C28-H28 -> 10 | N28: =(M28/L28)*100000 -> 98.951118 | O28: =RANK(N28,N5:N59) -> 1 | P28: =F28-K28 -> 8
A29: Marion | B29: 56690 | C29: 7 | D29: =(C29/B29)*100000 -> 12.347857 | E29: =RANK(D29,D5:D59) -> 44 | F29: 7 | G29: 27899 | H29: 4 | I29: =(H29/G29)*100000 -> 14.337431 | J29: =RANK(I29,I5:I59) -> 41 | K29: 5 | L29: =B29-G29 -> 28791 | M29: =C29-H29 -> 3 | N29: =(M29/L29)*100000 -> 10.419923 | O29: =RANK(N29,N5:N59) -> 43 | P29: =F29-K29 -> 2
A30: Marshall | B30: 32184 | C30: 4 | D30: =(C30/B30)*100000 -> 12.428536 | E30: =RANK(D30,D5:D59) -> 43 | F30: 3 | G30: 15880 | H30: 2 | I30: =(H30/G30)*100000 -> 12.594458 | J30: =RANK(I30,I5:I59) -> 44 | K30: 2 | L30: =B30-G30 -> 16304 | M30: =C30-H30 -> 2 | N30: =(M30/L30)*100000 -> 12.266928 | O30: =RANK(N30,N5:N59) -> 41 | P30: =F30-K30 -> 1
A31: Mason | B31: 27047 | C31: 6 | D31: =(C31/B31)*100000 -> 22.183606 | E31: =RANK(D31,D5:D59) -> 31 | F31: 6 | G31: 13047 | H31: 4 | I31: =(H31/G31)*100000 -> 30.658389 | J31: =RANK(I31,I5:I59) -> 29 | K31: 5 | L31: =B31-G31 -> 14000 | M31: =C31-H31 -> 2 | N31: =(M31/L31)*100000 -> 14.285714 | O31: =RANK(N31,N5:N59) -> 37 | P31: =F31-K31 -> 1
A32: Mercer | B32: 61038 | C32: 36 | D32: =(C32/B32)*100000 -> 58.979652 | E32: =RANK(D32,D5:D59) -> 7 | F32: 40 | G32: 29215 | H32: 23 | I32: =(H32/G32)*100000 -> 78.726681 | J32: =RANK(I32,I5:I59) -> 5 | K32: 25 | L32: =B32-G32 -> 31823 | M32: =C32-H32 -> 13 | N32: =(M32/L32)*100000 -> 40.850957 | O32: =RANK(N32,N5:N59) -> 13 | P32: =F32-K32 -> 15
A33: Mineral | B33: 27366 | C33: 6 | D33: =(C33/B33)*100000 -> 21.925016 | E33: =RANK(D33,D5:D59) -> 33 | F33: 5 | G33: 13637 | H33: 4 | I33: =(H33/G33)*100000 -> 29.331965 | J33: =RANK(I33,I5:I59) -> 30 | K33: 3 | L33: =B33-G33 -> 13729 | M33: =C33-H33 -> 2 | N33: =(M33/L33)*100000 -> 14.567703 | O33: =RANK(N33,N5:N59) -> 36 | P33: =F33-K33 -> 2
A34: Mingo | B34: 25278 | C34: 12 | D34: =(C34/B34)*100000 -> 47.47211 | E34: =RANK(D34,D5:D59) -> 12 | F34: 8 | G34: 12414 | H34: 8 | I34: =(H34/G34)*100000 -> 64.44337 | J34: =RANK(I34,I5:I59) -> 13 | K34: 5 | L34: =B34-G34 -> 12864 | M34: =C34-H34 -> 4 | N34: =(M34/L34)*100000 -> 31.094527 | O34: =RANK(N34,N5:N59) -> 18 | P34: =F34-K34 -> 3
A35: Monongalia | B35: 103940 | C35: 14 | D35: =(C35/B35)*100000 -> 13.469309 | E35: =RANK(D35,D5:D59) -> 41 | F35: 28 | G35: 53572 | H35: 9 | I35: =(H35/G35)*100000 -> 16.799821 | J35: =RANK(I35,I5:I59) -> 38 | K35: 17 | L35: =B35-G35 -> 50368 | M35: =C35-H35 -> 5 | N35: =(M35/L35)*100000 -> 9.9269377 | O35: =RANK(N35,N5:N59) -> 44 | P35: =F35-K35 -> 11
A36: Monroe | B36: 13574 | C36: 3 | D36: =(C36/B36)*100000 -> 22.101076 | E36: =RANK(D36,D5:D59) -> 32 | F36: 2 | G36: 6763 | H36: 3 | I36: =(H36/G36)*100000 -> 44.359012 | J36: =RANK(I36,I5:I59) -> 21 | K36: 2 | L36: =B36-G36 -> 6811 | M36: =C36-H36 -> 0 | N36: =(M36/L36)*100000 -> 0 | P36: =F36-K36 -> 0
A37: Morgan | B37: 17433 | C37: 4 | D37: =(C37/B37)*100000 -> 22.944989 | E37: =RANK(D37,D5:D59) -> 30 | F37: 4 | G37: 8682 | H37: 2 | I37: =(H37/G37)*100000 -> 23.036167 | J37: =RANK(I37,I5:I59) -> 35 | K37: 2 | L37: =B37-G37 -> 8751 | M37: =C37-H37 -> 2 | N37: =(M37/L37)*100000 -> 22.854531 | O37: =RANK(N37,N5:N59) -> 30 | P37: =F37-K37 -> 2
A38: Nicholas | B38: 25510 | C38: 11 | D38: =(C38/B38)*100000 -> 43.120345 | E38: =RANK(D38,D5:D59) -> 14 | F38: 10 | G38: 12580 | H38: 7 | I38: =(H38/G38)*100000 -> 55.643879 | J38: =RANK(I38,I5:I59) -> 16 | K38: 7 | L38: =B38-G38 -> 12930 | M38: =C38-H38 -> 4 | N38: =(M38/L38)*100000 -> 30.935808 | O38: =RANK(N38,N5:N59) -> 19 | P38: =F38-K38 -> 3
A39: Ohio | B39: 42950 | C39: 14 | D39: =(C39/B39)*100000 -> 32.596042 | E39: =RANK(D39,D5:D59) -> 23 | F39: 16 | G39: 20601 | H39: 9 | I39: =(H39/G39)*100000 -> 43.6872 | J39: =RANK(I39,I5:I59) -> 22 | K39: 10 | L39: =B39-G39 -> 22349 | M39: =C39-H39 -> 5 | N39: =(M39/L39)*100000 -> 22.372366 | O39: =RANK(N39,N5:N59) -> 31 | P39: =F39-K39 -> 6
A40: Pendleton | B40: 7103 | C40: 0 | D40: =(C40/B40)*100000 -> 0 | F40: 0 | G40: 3576 | H40: 0 | I40: =(H40/G40)*100000 -> 0 | K40: 0 | L40: =B40-G40 -> 3527 | M40: =C40-H40 -> 0 | N40: =(M40/L40)*100000 -> 0 | P40: =F40-K40 -> 0
A41: Pleasants | B41: 7503 | C41: 2 | D41: =(C41/B41)*100000 -> 26.656004 | E41: =RANK(D41,D5:D59) -> 29 | F41: 1 | G41: 4042 | H41: 2 | I41: =(H41/G41)*100000 -> 49.480455 | J41: =RANK(I41,I5:I59) -> 18 | K41: 1 | L41: =B41-G41 -> 3461 | M41: =C41-H41 -> 0 | N41: =(M41/L41)*100000 -> 0 | P41: =F41-K41 -> 0
...

Sheet 2016
A1: 2016 West Virginia Deaths
A2: Drug Overdose Deaths by County
A4: County | B4: Estimated Population | C4: Number of Resident Drug Overdose Deaths | D4: Rate per 100,000 Population | E4: Rank | F4: Number of Occurrence Drug Overdose Deaths | G4: Estimated Male Population | H4: Number of Male Resident Drug Overdose Deaths | I4: Rate per 100,000 Males | J4: Rank | K4: Number of Male Occurrence Drug Overdose Deaths | L4: Estimated Female Population | M4: Number of Female Resident Drug Overdose Deaths | N4: Rate per 100,000 Females | O4: Rank | P4: Number of Female Occurrence Drug Overdose Deaths
A5: Barbour | B5: 16720 | C5: 2 | D5: =(C5/B5)*100000 -> 11.961722 | E5: =RANK(D5,D5:D59) -> 48 | F5: 1 | G5: 8178 | H5: 1 | I5: =(H5/G5)*100000 -> 12.227929 | J5: =RANK(I5,I5:I59) -> 47 | K5: 1 | L5: =B5-G5 -> 8542 | M5: =C5-H5 -> 1 | N5: =(M5/L5)*100000 -> 11.70686 | O5: =RANK(N5,N5:N59) -> 37 | P5: =F5-K5 -> 0
A6: Berkeley | B6: 113270 | C6: 88 | D6: =(C6/B6)*100000 -> 77.690474 | E6: =RANK(D6,D5:D59) -> 4 | F6: 94 | G6: 56081 | H6: 55 | I6: =(H6/G6)*100000 -> 98.072431 | J6: =RANK(I6,I5:I59) -> 7 | K6: 63 | L6: =B6-G6 -> 57189 | M6: =C6-H6 -> 33 | N6: =(M6/L6)*100000 -> 57.703405 | O6: =RANK(N6,N5:N59) -> 2 | P6: =F6-K6 -> 31
A7: Boone | B7: 22795 | C7: 8 | D7: =(C7/B7)*100000 -> 35.095416 | E7: =RANK(D7,D5:D59) -> 25 | F7: 9 | G7: 11348 | H7: 4 | I7: =(H7/G7)*100000 -> 35.248502 | J7: =RANK(I7,I5:I59) -> 35 | K7: 4 | L7: =B7-G7 -> 11447 | M7: =C7-H7 -> 4 | N7: =(M7/L7)*100000 -> 34.943653 | O7: =RANK(N7,N5:N59) -> 18 | P7: =F7-K7 -> 5
A8: Braxton | B8: 14341 | C8: 2 | D8: =(C8/B8)*100000 -> 13.946029 | E8: =RANK(D8,D5:D59) -> 45 | F8: 2 | G8: 7237 | H8: 1 | I8: =(H8/G8)*100000 -> 13.81788 | J8: =RANK(I8,I5:I59) -> 46 | K8: 1 | L8: =B8-G8 -> 7104 | M8: =C8-H8 -> 1 | N8: =(M8/L8)*100000 -> 14.076577 | O8: =RANK(N8,N5:N59) -> 32 | P8: =F8-K8 -> 1
A9: Brooke | B9: 22707 | C9: 11 | D9: =(C9/B9)*100000 -> 48.443211 | E9: =RANK(D9,D5:D59) -> 18 | F9: 11 | G9: 11134 | H9: 7 | I9: =(H9/G9)*100000 -> 62.870487 | J9: =RANK(I9,I5:I59) -> 20 | K9: 7 | L9: =B9-G9 -> 11573 | M9: =C9-H9 -> 4 | N9: =(M9/L9)*100000 -> 34.563207 | O9: =RANK(N9,N5:N59) -> 19 | P9: =F9-K9 -> 4
A10: Cabell | B10: 95669 | C10: 100 | D10: =(C10/B10)*100000 -> 104.52707 | E10: =RANK(D10,D5:D59) -> 1 | F10: 133 | G10: 46880 | H10: 75 | I10: =(H10/G10)*100000 -> 159.98294 | J10: =RANK(I10,I5:I59) -> 1 | K10: 97 | L10: =B10-G10 -> 48789 | M10: =C10-H10 -> 25 | N10: =(M10/L10)*100000 -> 51.241058 | O10: =RANK(N10,N5:N59) -> 6 | P10: =F10-K10 -> 36
A11: Calhoun | B11: 7367 | C11: 0 | D11: =(C11/B11)*100000 -> 0 | F11: 0 | G11: 3655 | H11: 0 | I11: =(H11/G11)*100000 -> 0 | K11: 0 | L11: =B11-G11 -> 3712 | M11: =C11-H11 -> 0 | N11: =(M11/L11)*100000 -> 0 | P11: =F11-K11 -> 0
A12: Clay | B12: 8843 | C12: 3 | D12: =(C12/B12)*100000 -> 33.925139 | E12: =RANK(D12,D5:D59) -> 29 | F12: 2 | G12: 4451 | H12: 3 | I12: =(H12/G12)*100000 -> 67.400584 | J12: =RANK(I12,I5:I59) -> 19 | K12: 2 | L12: =B12-G12 -> 4392 | M12: =C12-H12 -> 0 | N12: =(M12/L12)*100000 -> 0 | P12: =F12-K12 -> 0
A13: Doddridge | B13: 8583 | C13: 2 | D13: =(C13/B13)*100000 -> 23.301876 | E13: =RANK(D13,D5:D59) -> 37 | F13: 1 | G13: 4714 | H13: 2 | I13: =(H13/G13)*100000 -> 42.426814 | J13: =RANK(I13,I5:I59) -> 31 | K13: 1 | L13: =B13-G13 -> 3869 | M13: =C13-H13 -> 0 | N13: =(M13/L13)*100000 -> 0 | P13: =F13-K13 -> 0
A14: Fayette | B14: 44102 | C14: 16 | D14: =(C14/B14)*100000 -> 36.279534 | E14: =RANK(D14,D5:D59) -> 24 | F14: 18 | G14: 22210 | H14: 12 | I14: =(H14/G14)*100000 -> 54.029716 | J14: =RANK(I14,I5:I59) -> 26 | K14: 13 | L14: =B14-G14 -> 21892 | M14: =C14-H14 -> 4 | N14: =(M14/L14)*100000 -> 18.271515 | O14: =RANK(N14,N5:N59) -> 30 | P14: =F14-K14 -> 5
A15: Gilmer | B15: 8128 | C15: 0 | D15: =(C15/B15)*100000 -> 0 | F15: 0 | G15: 4810 | H15: 0 | I15: =(H15/G15)*100000 -> 0 | K15: 0 | L15: =B15-G15 -> 3318 | M15: =C15-H15 -> 0 | N15: =(M15/L15)*100000 -> 0 | P15: =F15-K15 -> 0
A16: Grant | B16: 11643 | C16: 4 | D16: =(C16/B16)*100000 -> 34.355407 | E16: =RANK(D16,D5:D59) -> 27 | F16: 4 | G16: 5820 | H16: 4 | I16: =(H16/G16)*100000 -> 68.728522 | J16: =RANK(I16,I5:I59) -> 18 | K16: 4 | L16: =B16-G16 -> 5823 | M16: =C16-H16 -> 0 | N16: =(M16/L16)*100000 -> 0 | P16: =F16-K16 -> 0
A17: Greenbrier | B17: 35494 | C17: 8 | D17: =(C17/B17)*100000 -> 22.539021 | E17: =RANK(D17,D5:D59) -> 38 | F17: 7 | G17: 17335 | H17: 4 | I17: =(H17/G17)*100000 -> 23.074704 | J17: =RANK(I17,I5:I59) -> 43 | K17: 5 | L17: =B17-G17 -> 18159 | M17: =C17-H17 -> 4 | N17: =(M17/L17)*100000 -> 22.027645 | O17: =RANK(N17,N5:N59) -> 28 | P17: =F17-K17 -> 2
A18: Hampshire | B18: 23343 | C18: 16 | D18: =(C18/B18)*100000 -> 68.543032 | E18: =RANK(D18,D5:D59) -> 7 | F18: 12 | G18: 11870 | H18: 13 | I18: =(H18/G18)*100000 -> 109.5198 | J18: =RANK(I18,I5:I59) -> 3 | K18: 9 | L18: =B18-G18 -> 11473 | M18: =C18-H18 -> 3 | N18: =(M18/L18)*100000 -> 26.148348 | O18: =RANK(N18,N5:N59) -> 24 | P18: =F18-K18 -> 3
A19: Hancock | B19: 29621 | C19: 12 | D19: =(C19/B19)*100000 -> 40.511799 | E19: =RANK(D19,D5:D59) -> 21 | F19: 5 | G19: 14453 | H19: 8 | I19: =(H19/G19)*100000 -> 55.35183 | J19: =RANK(I19,I5:I59) -> 24 | K19: 3 | L19: =B19-G19 -> 15168 | M19: =C19-H19 -> 4 | N19: =(M19/L19)*100000 -> 26.371308 | O19: =RANK(N19,N5:N59) -> 23 | P19: =F19-K19 -> 2
A20: Hardy | B20: 13731 | C20: 2 | D20: =(C20/B20)*100000 -> 14.565582 | E20: =RANK(D20,D5:D59) -> 42 | F20: 0 | G20: 6908 | H20: 1 | I20: =(H20/G20)*100000 -> 14.47597 | J20: =RANK(I20,I5:I59) -> 45 | K20: 0 | L20: =B20-G20 -> 6823 | M20: =C20-H20 -> 1 | N20: =(M20/L20)*100000 -> 14.65631 | O20: =RANK(N20,N5:N59) -> 31 | P20: =F20-K20 -> 0
A21: Harrison | B21: 68280 | C21: 27 | D21: =(C21/B21)*100000 -> 39.543058 | E21: =RANK(D21,D5:D59) -> 22 | F21: 26 | G21: 33517 | H21: 17 | I21: =(H21/G21)*100000 -> 50.72053 | J21: =RANK(I21,I5:I59) -> 29 | K21: 16 | L21: =B21-G21 -> 34763 | M21: =C21-H21 -> 10 | N21: =(M21/L21)*100000 -> 28.766217 | O21: =RANK(N21,N5:N59) -> 20 | P21: =F21-K21 -> 10
A22: Jackson | B22: 29172 | C22: 5 | D22: =(C22/B22)*100000 -> 17.139723 | E22: =RANK(D22,D5:D59) -> 41 | F22: 3 | G22: 14442 | H22: 4 | I22: =(H22/G22)*100000 -> 27.696995 | J22: =RANK(I22,I5:I59) -> 39 | K22: 2 | L22: =B22-G22 -> 14730 | M22: =C22-H22 -> 1 | N22: =(M22/L22)*100000 -> 6.7888663 | O22: =RANK(N22,N5:N59) -> 40 | P22: =F22-K22 -> 1
A23: Jefferson | B23: 55848 | C23: 35 | D23: =(C23/B23)*100000 -> 62.670105 | E23: =RANK(D23,D5:D59) -> 9 | F23: 33 | G23: 27644 | H23: 27 | I23: =(H23/G23)*100000 -> 97.670381 | J23: =RANK(I23,I5:I59) -> 8 | K23: 25 | L23: =B23-G23 -> 28204 | M23: =C23-H23 -> 8 | N23: =(M23/L23)*100000 -> 28.364771 | O23: =RANK(N23,N5:N59) -> 21 | P23: =F23-K23 -> 8
A24: Kanawha | B24: 186097 | C24: 112 | D24: =(C24/B24)*100000 -> 60.183668 | E24: =RANK(D24,D5:D59) -> 12 | F24: 130 | G24: 89709 | H24: 62 | I24: =(H24/G24)*100000 -> 69.112352 | J24: =RANK(I24,I5:I59) -> 17 | K24: 75 | L24: =B24-G24 -> 96388 | M24: =C24-H24 -> 50 | N24: =(M24/L24)*100000 -> 51.873677 | O24: =RANK(N24,N5:N59) -> 5 | P24: =F24-K24 -> 55
A25: Lewis | B25: 16292 | C25: 0 | D25: =(C25/B25)*100000 -> 0 | F25: 2 | G25: 8127 | H25: 0 | I25: =(H25/G25)*100000 -> 0 | K25: 2 | L25: =B25-G25 -> 8165 | M25: =C25-H25 -> 0 | N25: =(M25/L25)*100000 -> 0 | P25: =F25-K25 -> 0
A26: Lincoln | B26: 21096 | C26: 13 | D26: =(C26/B26)*100000 -> 61.623057 | E26: =RANK(D26,D5:D59) -> 10 | F26: 7 | G26: 10497 | H26: 8 | I26: =(H26/G26)*100000 -> 76.212251 | J26: =RANK(I26,I5:I59) -> 12 | K26: 2 | L26: =B26-G26 -> 10599 | M26: =C26-H26 -> 5 | N26: =(M26/L26)*100000 -> 47.174262 | O26: =RANK(N26,N5:N59) -> 9 | P26: =F26-K26 -> 5
A27: Logan | B27: 33644 | C27: 15 | D27: =(C27/B27)*100000 -> 44.584473 | E27: =RANK(D27,D5:D59) -> 20 | F27: 11 | G27: 16522 | H27: 9 | I27: =(H27/G27)*100000 -> 54.472824 | J27: =RANK(I27,I5:I59) -> 25 | K27: 7 | L27: =B27-G27 -> 17122 | M27: =C27-H27 -> 6 | N27: =(M27/L27)*100000 -> 35.042635 | O27: =RANK(N27,N5:N59) -> 17 | P27: =F27-K27 -> 4
A28: McDowell | B28: 19139 | C28: 12 | D28: =(C28/B28)*100000 -> 62.699201 | E28: =RANK(D28,D5:D59) -> 8 | F28: 9 | G28: 9350 | H28: 7 | I28: =(H28/G28)*100000 -> 74.86631 | J28: =RANK(I28,I5:I59) -> 14 | K28: 5 | L28: =B28-G28 -> 9789 | M28: =C28-H28 -> 5 | N28: =(M28/L28)*100000 -> 51.07774 | O28: =RANK(N28,N5:N59) -> 7 | P28: =F28-K28 -> 4
A29: Marion | B29: 56477 | C29: 10 | D29: =(C29/B29)*100000 -> 17.706323 | E29: =RANK(D29,D5:D59) -> 40 | F29: 9 | G29: 27828 | H29: 8 | I29: =(H29/G29)*100000 -> 28.748024 | J29: =RANK(I29,I5:I59) -> 36 | K29: 6 | L29: =B29-G29 -> 28649 | M29: =C29-H29 -> 2 | N29: =(M29/L29)*100000 -> 6.9810465 | O29: =RANK(N29,N5:N59) -> 39 | P29: =F29-K29 -> 3
A30: Marshall | B30: 31705 | C30: 8 | D30: =(C30/B30)*100000 -> 25.232613 | E30: =RANK(D30,D5:D59) -> 34 | F30: 6 | G30: 15650 | H30: 6 | I30: =(H30/G30)*100000 -> 38.338658 | J30: =RANK(I30,I5:I59) -> 34 | K30: 4 | L30: =B30-G30 -> 16055 | M30: =C30-H30 -> 2 | N30: =(M30/L30)*100000 -> 12.457178 | O30: =RANK(N30,N5:N59) -> 35 | P30: =F30-K30 -> 2
A31: Mason | B31: 26909 | C31: 15 | D31: =(C31/B31)*100000 -> 55.743432 | E31: =RANK(D31,D5:D59) -> 14 | F31: 13 | G31: 12984 | H31: 10 | I31: =(H31/G31)*100000 -> 77.017868 | J31: =RANK(I31,I5:I59) -> 11 | K31: 10 | L31: =B31-G31 -> 13925 | M31: =C31-H31 -> 5 | N31: =(M31/L31)*100000 -> 35.906643 | O31: =RANK(N31,N5:N59) -> 16 | P31: =F31-K31 -> 3
A32: Mercer | B32: 60494 | C32: 44 | D32: =(C32/B32)*100000 -> 72.734486 | E32: =RANK(D32,D5:D59) -> 6 | F32: 45 | G32: 28953 | H32: 27 | I32: =(H32/G32)*100000 -> 93.254585 | J32: =RANK(I32,I5:I59) -> 9 | K32: 26 | L32: =B32-G32 -> 31541 | M32: =C32-H32 -> 17 | N32: =(M32/L32)*100000 -> 53.898101 | O32: =RANK(N32,N5:N59) -> 3 | P32: =F32-K32 -> 19
A33: Mineral | B33: 27322 | C33: 13 | D33: =(C33/B33)*100000 -> 47.580704 | E33: =RANK(D33,D5:D59) -> 19 | F33: 11 | G33: 13579 | H33: 8 | I33: =(H33/G33)*100000 -> 58.9145 | J33: =RANK(I33,I5:I59) -> 22 | K33: 7 | L33: =B33-G33 -> 13743 | M33: =C33-H33 -> 5 | N33: =(M33/L33)*100000 -> 36.382158 | O33: =RANK(N33,N5:N59) -> 14 | P33: =F33-K33 -> 4
A34: Mingo | B34: 24677 | C34: 22 | D34: =(C34/B34)*100000 -> 89.151842 | E34: =RANK(D34,D5:D59) -> 2 | F34: 21 | G34: 12129 | H34: 13 | I34: =(H34/G34)*100000 -> 107.18114 | J34: =RANK(I34,I5:I59) -> 4 | K34: 11 | L34: =B34-G34 -> 12548 | M34: =C34-H34 -> 9 | N34: =(M34/L34)*100000 -> 71.724578 | O34: =RANK(N34,N5:N59) -> 1 | P34: =F34-K34 -> 10
A35: Monongalia | B35: 104771 | C35: 31 | D35: =(C35/B35)*100000 -> 29.58834 | E35: =RANK(D35,D5:D59) -> 32 | F35: 51 | G35: 53965 | H35: 29 | I35: =(H35/G35)*100000 -> 53.738534 | J35: =RANK(I35,I5:I59) -> 27 | K35: 40 | L35: =B35-G35 -> 50806 | M35: =C35-H35 -> 2 | N35: =(M35/L35)*100000 -> 3.9365429 | O35: =RANK(N35,N5:N59) -> 41 | P35: =F35-K35 -> 11
A36: Monroe | B36: 13477 | C36: 4 | D36: =(C36/B36)*100000 -> 29.680196 | E36: =RANK(D36,D5:D59) -> 31 | F36: 3 | G36: 6723 | H36: 4 | I36: =(H36/G36)*100000 -> 59.497248 | J36: =RANK(I36,I5:I59) -> 21 | K36: 3 | L36: =B36-G36 -> 6754 | M36: =C36-H36 -> 0 | N36: =(M36/L36)*100000 -> 0 | P36: =F36-K36 -> 0
A37: Morgan | B37: 17583 | C37: 6 | D37: =(C37/B37)*100000 -> 34.12387 | E37: =RANK(D37,D5:D59) -> 28 | F37: 5 | G37: 8753 | H37: 2 | I37: =(H37/G37)*100000 -> 22.849309 | J37: =RANK(I37,I5:I59) -> 44 | K37: 2 | L37: =B37-G37 -> 8830 | M37: =C37-H37 -> 4 | N37: =(M37/L37)*100000 -> 45.300113 | O37: =RANK(N37,N5:N59) -> 11 | P37: =F37-K37 -> 3
A38: Nicholas | B38: 25291 | C38: 14 | D38: =(C38/B38)*100000 -> 55.35566 | E38: =RANK(D38,D5:D59) -> 15 | F38: 8 | G38: 12459 | H38: 11 | I38: =(H38/G38)*100000 -> 88.28959 | J38: =RANK(I38,I5:I59) -> 10 | K38: 6 | L38: =B38-G38 -> 12832 | M38: =C38-H38 -> 3 | N38: =(M38/L38)*100000 -> 23.379052 | O38: =RANK(N38,N5:N59) -> 26 | P38: =F38-K38 -> 2
A39: Ohio | B39: 42598 | C39: 11 | D39: =(C39/B39)*100000 -> 25.822809 | E39: =RANK(D39,D5:D59) -> 33 | F39: 12 | G39: 20489 | H39: 8 | I39: =(H39/G39)*100000 -> 39.045341 | J39: =RANK(I39,I5:I59) -> 33 | K39: 8 | L39: =B39-G39 -> 22109 | M39: =C39-H39 -> 3 | N39: =(M39/L39)*100000 -> 13.569135 | O39: =RANK(N39,N5:N59) -> 33 | P39: =F39-K39 -> 4
A40: Pendleton | B40: 6987 | C40: 1 | D40: =(C40/B40)*100000 -> 14.312294 | E40: =RANK(D40,D5:D59) -> 43 | F40: 0 | G40: 3525 | H40: 1 | I40: =(H40/G40)*100000 -> 28.368794 | J40: =RANK(I40,I5:I59) -> 37 | K40: 0 | L40: =B40-G40 -> 3462 | M40: =C40-H40 -> 0 | N40: =(M40/L40)*100000 -> 0 | P40: =F40-K40 -> 0
A41: Pleasants | B41: 7512 | C41: 1 | D41: =(C41/B41)*100000 -> 13.312034 | E41: =RANK(D41,D5:D59) -> 46 | F41: 1 | G41: 4057 | H41: 1 | I41: =(H41/G41)*100000 -> 24.648755 | J41: =RANK(I41,I5:I59) -> 41 | K41: 1 | L41: =B41-G41 -> 3455 | M41: =C41-H41 -> 0 | N41: =(M41/L41)*100000 -> 0 | P41: =F41-K41 -> 0
...

Sheet 2017
A1: 2017 (Preliminary) West Virginia Deaths
A2: Drug Overdose Deaths by County
A4: County | B4: Estimated Population | C4: Number of Resident Drug Overdose Deaths | D4: Rate per 100,000 Population | E4: Rank | F4: Number of Occurrence Drug Overdose Deaths | G4: Estimated Male Population | H4: Number of Male Resident Drug Overdose Deaths | I4: Rate per 100,000 Males | J4: Rank | K4: Number of Male Occurrence Drug Overdose Deaths | L4: Estimated Female Population | M4: Number of Female Resident Drug Overdose Deaths | N4: Rate per 100,000 Females | O4: Rank | P4: Number of Female Occurrence Drug Overdose Deaths
A5: Barbour | B5: 16497 | C5: 5 | D5: =(C5/B5)*100000 -> 30.308541 | E5: =RANK(D5,D5:D59) -> 30 | F5: 4 | G5: 8080 | H5: 2 | I5: =(H5/G5)*100000 -> 24.752475 | J5: =RANK(I5,I5:I59) -> 41 | K5: 2 | L5: =B5-G5 -> 8417 | M5: =C5-H5 -> 3 | N5: =(M5/L5)*100000 -> 35.642153 | O5: =RANK(N5,N5:N59) -> 20 | P5: =F5-K5 -> 2
A6: Berkeley | B6: 114920 | C6: 87 | D6: =(C6/B6)*100000 -> 75.704838 | E6: =RANK(D6,D5:D59) -> 5 | F6: 92 | G6: 56963 | H6: 62 | I6: =(H6/G6)*100000 -> 108.84258 | J6: =RANK(I6,I5:I59) -> 5 | K6: 64 | L6: =B6-G6 -> 57957 | M6: =C6-H6 -> 25 | N6: =(M6/L6)*100000 -> 43.135428 | O6: =RANK(N6,N5:N59) -> 16 | P6: =F6-K6 -> 28
A7: Boone | B7: 22349 | C7: 13 | D7: =(C7/B7)*100000 -> 58.168151 | E7: =RANK(D7,D5:D59) -> 13 | F7: 12 | G7: 11112 | H7: 8 | I7: =(H7/G7)*100000 -> 71.99424 | J7: =RANK(I7,I5:I59) -> 11 | K7: 8 | L7: =B7-G7 -> 11237 | M7: =C7-H7 -> 5 | N7: =(M7/L7)*100000 -> 44.495862 | O7: =RANK(N7,N5:N59) -> 15 | P7: =F7-K7 -> 4
A8: Braxton | B8: 14237 | C8: 4 | D8: =(C8/B8)*100000 -> 28.095807 | E8: =RANK(D8,D5:D59) -> 32 | F8: 5 | G8: 7191 | H8: 3 | I8: =(H8/G8)*100000 -> 41.718815 | J8: =RANK(I8,I5:I59) -> 24 | K8: 2 | L8: =B8-G8 -> 7046 | M8: =C8-H8 -> 1 | N8: =(M8/L8)*100000 -> 14.19245 | O8: =RANK(N8,N5:N59) -> 42 | P8: =F8-K8 -> 3
A9: Brooke | B9: 22443 | C9: 9 | D9: =(C9/B9)*100000 -> 40.101591 | E9: =RANK(D9,D5:D59) -> 20 | F9: 12 | G9: 11020 | H9: 6 | I9: =(H9/G9)*100000 -> 54.446461 | J9: =RANK(I9,I5:I59) -> 18 | K9: 8 | L9: =B9-G9 -> 11423 | M9: =C9-H9 -> 3 | N9: =(M9/L9)*100000 -> 26.262803 | O9: =RANK(N9,N5:N59) -> 27 | P9: =F9-K9 -> 4
A10: Cabell | B10: 94958 | C10: 144 | D10: =(C10/B10)*100000 -> 151.64599 | E10: =RANK(D10,D5:D59) -> 1 | F10: 201 | G10: 46461 | H10: 100 | I10: =(H10/G10)*100000 -> 215.23428 | J10: =RANK(I10,I5:I59) -> 1 | K10: 135 | L10: =B10-G10 -> 48497 | M10: =C10-H10 -> 44 | N10: =(M10/L10)*100000 -> 90.727261 | O10: =RANK(N10,N5:N59) -> 1 | P10: =F10-K10 -> 66
A11: Calhoun | B11: 7307 | C11: 1 | D11: =(C11/B11)*100000 -> 13.685507 | E11: =RANK(D11,D5:D59) -> 47 | F11: 1 | G11: 3640 | H11: 1 | I11: =(H11/G11)*100000 -> 27.472527 | J11: =RANK(I11,I5:I59) -> 38 | K11: 1 | L11: =B11-G11 -> 3667 | M11: =C11-H11 -> 0 | N11: =(M11/L11)*100000 -> 0 | P11: =F11-K11 -> 0
A12: Clay | B12: 8764 | C12: 1 | D12: =(C12/B12)*100000 -> 11.410315 | E12: =RANK(D12,D5:D59) -> 51 | F12: 2 | G12: 4423 | H12: 1 | I12: =(H12/G12)*100000 -> 22.609089 | J12: =RANK(I12,I5:I59) -> 48 | K12: 1 | L12: =B12-G12 -> 4341 | M12: =C12-H12 -> 0 | N12: =(M12/L12)*100000 -> 0 | P12: =F12-K12 -> 1
A13: Doddridge | B13: 8560 | C13: 1 | D13: =(C13/B13)*100000 -> 11.682243 | E13: =RANK(D13,D5:D59) -> 50 | F13: 1 | G13: 4711 | H13: 0 | I13: =(H13/G13)*100000 -> 0 | K13: 0 | L13: =B13-G13 -> 3849 | M13: =C13-H13 -> 1 | N13: =(M13/L13)*100000 -> 25.980774 | O13: =RANK(N13,N5:N59) -> 28 | P13: =F13-K13 -> 1
A14: Fayette | B14: 43521 | C14: 31 | D14: =(C14/B14)*100000 -> 71.229981 | E14: =RANK(D14,D5:D59) -> 7 | F14: 21 | G14: 21915 | H14: 18 | I14: =(H14/G14)*100000 -> 82.135524 | J14: =RANK(I14,I5:I59) -> 10 | K14: 11 | L14: =B14-G14 -> 21606 | M14: =C14-H14 -> 13 | N14: =(M14/L14)*100000 -> 60.168472 | O14: =RANK(N14,N5:N59) -> 4 | P14: =F14-K14 -> 10
A15: Gilmer | B15: 8005 | C15: 0 | D15: =(C15/B15)*100000 -> 0 | F15: 0 | G15: 4754 | H15: 0 | I15: =(H15/G15)*100000 -> 0 | K15: 0 | L15: =B15-G15 -> 3251 | M15: =C15-H15 -> 0 | N15: =(M15/L15)*100000 -> 0 | P15: =F15-K15 -> 0
A16: Grant | B16: 11670 | C16: 1 | D16: =(C16/B16)*100000 -> 8.5689803 | E16: =RANK(D16,D5:D59) -> 53 | F16: 3 | G16: 5828 | H16: 0 | I16: =(H16/G16)*100000 -> 0 | K16: 0 | L16: =B16-G16 -> 5842 | M16: =C16-H16 -> 1 | N16: =(M16/L16)*100000 -> 17.117426 | O16: =RANK(N16,N5:N59) -> 37 | P16: =F16-K16 -> 3
A17: Greenbrier | B17: 35287 | C17: 8 | D17: =(C17/B17)*100000 -> 22.671239 | E17: =RANK(D17,D5:D59) -> 38 | F17: 7 | G17: 17307 | H17: 3 | I17: =(H17/G17)*100000 -> 17.334027 | J17: =RANK(I17,I5:I59) -> 50 | K17: 2 | L17: =B17-G17 -> 17980 | M17: =C17-H17 -> 5 | N17: =(M17/L17)*100000 -> 27.808676 | O17: =RANK(N17,N5:N59) -> 23 | P17: =F17-K17 -> 5
A18: Hampshire | B18: 23471 | C18: 6 | D18: =(C18/B18)*100000 -> 25.563461 | E18: =RANK(D18,D5:D59) -> 34 | F18: 8 | G18: 11960 | H18: 4 | I18: =(H18/G18)*100000 -> 33.444816 | J18: =RANK(I18,I5:I59) -> 32 | K18: 5 | L18: =B18-G18 -> 11511 | M18: =C18-H18 -> 2 | N18: =(M18/L18)*100000 -> 17.374685 | O18: =RANK(N18,N5:N59) -> 36 | P18: =F18-K18 -> 3
A19: Hancock | B19: 29448 | C19: 13 | D19: =(C19/B19)*100000 -> 44.145613 | E19: =RANK(D19,D5:D59) -> 18 | F19: 9 | G19: 14375 | H19: 9 | I19: =(H19/G19)*100000 -> 62.608696 | J19: =RANK(I19,I5:I59) -> 16 | K19: 6 | L19: =B19-G19 -> 15073 | M19: =C19-H19 -> 4 | N19: =(M19/L19)*100000 -> 26.537517 | O19: =RANK(N19,N5:N59) -> 26 | P19: =F19-K19 -> 3
A20: Hardy | B20: 13717 | C20: 3 | D20: =(C20/B20)*100000 -> 21.870671 | E20: =RANK(D20,D5:D59) -> 41 | F20: 4 | G20: 6893 | H20: 2 | I20: =(H20/G20)*100000 -> 29.014943 | J20: =RANK(I20,I5:I59) -> 36 | K20: 2 | L20: =B20-G20 -> 6824 | M20: =C20-H20 -> 1 | N20: =(M20/L20)*100000 -> 14.654162 | O20: =RANK(N20,N5:N59) -> 40 | P20: =F20-K20 -> 2
A21: Harrison | B21: 67811 | C21: 21 | D21: =(C21/B21)*100000 -> 30.968427 | E21: =RANK(D21,D5:D59) -> 27 | F21: 23 | G21: 33302 | H21: 14 | I21: =(H21/G21)*100000 -> 42.039517 | J21: =RANK(I21,I5:I59) -> 23 | K21: 14 | L21: =B21-G21 -> 34509 | M21: =C21-H21 -> 7 | N21: =(M21/L21)*100000 -> 20.284563 | O21: =RANK(N21,N5:N59) -> 33 | P21: =F21-K21 -> 9
A22: Jackson | B22: 28976 | C22: 7 | D22: =(C22/B22)*100000 -> 24.157924 | E22: =RANK(D22,D5:D59) -> 36 | F22: 5 | G22: 14375 | H22: 5 | I22: =(H22/G22)*100000 -> 34.782609 | J22: =RANK(I22,I5:I59) -> 30 | K22: 3 | L22: =B22-G22 -> 14601 | M22: =C22-H22 -> 2 | N22: =(M22/L22)*100000 -> 13.697692 | O22: =RANK(N22,N5:N59) -> 44 | P22: =F22-K22 -> 2
A23: Jefferson | B23: 56338 | C23: 23 | D23: =(C23/B23)*100000 -> 40.82502 | E23: =RANK(D23,D5:D59) -> 19 | F23: 28 | G23: 27964 | H23: 19 | I23: =(H23/G23)*100000 -> 67.9445 | J23: =RANK(I23,I5:I59) -> 14 | K23: 22 | L23: =B23-G23 -> 28374 | M23: =C23-H23 -> 4 | N23: =(M23/L23)*100000 -> 14.097413 | O23: =RANK(N23,N5:N59) -> 43 | P23: =F23-K23 -> 6
A24: Kanawha | B24: 183293 | C24: 125 | D24: =(C24/B24)*100000 -> 68.196821 | E24: =RANK(D24,D5:D59) -> 8 | F24: 147 | G24: 88276 | H24: 78 | I24: =(H24/G24)*100000 -> 88.359237 | J24: =RANK(I24,I5:I59) -> 9 | K24: 95 | L24: =B24-G24 -> 95017 | M24: =C24-H24 -> 47 | N24: =(M24/L24)*100000 -> 49.464833 | O24: =RANK(N24,N5:N59) -> 11 | P24: =F24-K24 -> 52
A25: Lewis | B25: 16226 | C25: 8 | D25: =(C25/B25)*100000 -> 49.303587 | E25: =RANK(D25,D5:D59) -> 16 | F25: 6 | G25: 8037 | H25: 4 | I25: =(H25/G25)*100000 -> 49.769815 | J25: =RANK(I25,I5:I59) -> 20 | K25: 4 | L25: =B25-G25 -> 8189 | M25: =C25-H25 -> 4 | N25: =(M25/L25)*100000 -> 48.846013 | O25: =RANK(N25,N5:N59) -> 12 | P25: =F25-K25 -> 2
A26: Lincoln | B26: 20825 | C26: 17 | D26: =(C26/B26)*100000 -> 81.632653 | E26: =RANK(D26,D5:D59) -> 4 | F26: 9 | G26: 10332 | H26: 14 | I26: =(H26/G26)*100000 -> 135.50136 | J26: =RANK(I26,I5:I59) -> 4 | K26: 8 | L26: =B26-G26 -> 10493 | M26: =C26-H26 -> 3 | N26: =(M26/L26)*100000 -> 28.590489 | O26: =RANK(N26,N5:N59) -> 21 | P26: =F26-K26 -> 1
A27: Logan | B27: 32925 | C27: 33 | D27: =(C27/B27)*100000 -> 100.22779 | E27: =RANK(D27,D5:D59) -> 3 | F27: 27 | G27: 16207 | H27: 24 | I27: =(H27/G27)*100000 -> 148.08416 | J27: =RANK(I27,I5:I59) -> 3 | K27: 22 | L27: =B27-G27 -> 16718 | M27: =C27-H27 -> 9 | N27: =(M27/L27)*100000 -> 53.834191 | O27: =RANK(N27,N5:N59) -> 7 | P27: =F27-K27 -> 5
A28: McDowell | B28: 18456 | C28: 9 | D28: =(C28/B28)*100000 -> 48.764629 | E28: =RANK(D28,D5:D59) -> 17 | F28: 10 | G28: 9008 | H28: 4 | I28: =(H28/G28)*100000 -> 44.404973 | J28: =RANK(I28,I5:I59) -> 22 | K28: 4 | L28: =B28-G28 -> 9448 | M28: =C28-H28 -> 5 | N28: =(M28/L28)*100000 -> 52.921253 | O28: =RANK(N28,N5:N59) -> 8 | P28: =F28-K28 -> 6
A29: Marion | B29: 56337 | C29: 9 | D29: =(C29/B29)*100000 -> 15.975292 | E29: =RANK(D29,D5:D59) -> 45 | F29: 10 | G29: 27754 | H29: 7 | I29: =(H29/G29)*100000 -> 25.22159 | J29: =RANK(I29,I5:I59) -> 40 | K29: 9 | L29: =B29-G29 -> 28583 | M29: =C29-H29 -> 2 | N29: =(M29/L29)*100000 -> 6.9971661 | O29: =RANK(N29,N5:N59) -> 46 | P29: =F29-K29 -> 1
A30: Marshall | B30: 31190 | C30: 7 | D30: =(C30/B30)*100000 -> 22.443091 | E30: =RANK(D30,D5:D59) -> 39 | F30: 7 | G30: 15394 | H30: 4 | I30: =(H30/G30)*100000 -> 25.98415 | J30: =RANK(I30,I5:I59) -> 39 | K30: 4 | L30: =B30-G30 -> 15796 | M30: =C30-H30 -> 3 | N30: =(M30/L30)*100000 -> 18.99215 | O30: =RANK(N30,N5:N59) -> 35 | P30: =F30-K30 -> 3
A31: Mason | B31: 26801 | C31: 16 | D31: =(C31/B31)*100000 -> 59.699265 | E31: =RANK(D31,D5:D59) -> 12 | F31: 17 | G31: 12940 | H31: 9 | I31: =(H31/G31)*100000 -> 69.551777 | J31: =RANK(I31,I5:I59) -> 13 | K31: 10 | L31: =B31-G31 -> 13861 | M31: =C31-H31 -> 7 | N31: =(M31/L31)*100000 -> 50.501407 | O31: =RANK(N31,N5:N59) -> 10 | P31: =F31-K31 -> 7
A32: Mercer | B32: 59753 | C32: 33 | D32: =(C32/B32)*100000 -> 55.227353 | E32: =RANK(D32,D5:D59) -> 15 | F32: 35 | G32: 28623 | H32: 20 | I32: =(H32/G32)*100000 -> 69.873878 | J32: =RANK(I32,I5:I59) -> 12 | K32: 23 | L32: =B32-G32 -> 31130 | M32: =C32-H32 -> 13 | N32: =(M32/L32)*100000 -> 41.76036 | O32: =RANK(N32,N5:N59) -> 17 | P32: =F32-K32 -> 12
A33: Mineral | B33: 27222 | C33: 7 | D33: =(C33/B33)*100000 -> 25.714496 | E33: =RANK(D33,D5:D59) -> 33 | F33: 7 | G33: 13585 | H33: 4 | I33: =(H33/G33)*100000 -> 29.44424 | J33: =RANK(I33,I5:I59) -> 35 | K33: 4 | L33: =B33-G33 -> 13637 | M33: =C33-H33 -> 3 | N33: =(M33/L33)*100000 -> 21.998973 | O33: =RANK(N33,N5:N59) -> 31 | P33: =F33-K33 -> 3
A34: Mingo | B34: 24127 | C34: 16 | D34: =(C34/B34)*100000 -> 66.315746 | E34: =RANK(D34,D5:D59) -> 10 | F34: 15 | G34: 11827 | H34: 8 | I34: =(H34/G34)*100000 -> 67.641836 | J34: =RANK(I34,I5:I59) -> 15 | K34: 8 | L34: =B34-G34 -> 12300 | M34: =C34-H34 -> 8 | N34: =(M34/L34)*100000 -> 65.04065 | O34: =RANK(N34,N5:N59) -> 3 | P34: =F34-K34 -> 7
A35: Monongalia | B35: 105030 | C35: 32 | D35: =(C35/B35)*100000 -> 30.467485 | E35: =RANK(D35,D5:D59) -> 29 | F35: 41 | G35: 54080 | H35: 22 | I35: =(H35/G35)*100000 -> 40.680473 | J35: =RANK(I35,I5:I59) -> 26 | K35: 27 | L35: =B35-G35 -> 50950 | M35: =C35-H35 -> 10 | N35: =(M35/L35)*100000 -> 19.627085 | O35: =RANK(N35,N5:N59) -> 34 | P35: =F35-K35 -> 14
A36: Monroe | B36: 13402 | C36: 3 | D36: =(C36/B36)*100000 -> 22.384719 | E36: =RANK(D36,D5:D59) -> 40 | F36: 3 | G36: 6681 | H36: 2 | I36: =(H36/G36)*100000 -> 29.935638 | J36: =RANK(I36,I5:I59) -> 34 | K36: 3 | L36: =B36-G36 -> 6721 | M36: =C36-H36 -> 1 | N36: =(M36/L36)*100000 -> 14.878738 | O36: =RANK(N36,N5:N59) -> 39 | P36: =F36-K36 -> 0
A37: Morgan | B37: 17686 | C37: 12 | D37: =(C37/B37)*100000 -> 67.850277 | E37: =RANK(D37,D5:D59) -> 9 | F37: 10 | G37: 8815 | H37: 8 | I37: =(H37/G37)*100000 -> 90.754396 | J37: =RANK(I37,I5:I59) -> 8 | K37: 7 | L37: =B37-G37 -> 8871 | M37: =C37-H37 -> 4 | N37: =(M37/L37)*100000 -> 45.090745 | O37: =RANK(N37,N5:N59) -> 14 | P37: =F37-K37 -> 3
A38: Nicholas | B38: 25043 | C38: 8 | D38: =(C38/B38)*100000 -> 31.945055 | E38: =RANK(D38,D5:D59) -> 26 | F38: 7 | G38: 12334 | H38: 5 | I38: =(H38/G38)*100000 -> 40.538349 | J38: =RANK(I38,I5:I59) -> 27 | K38: 4 | L38: =B38-G38 -> 12709 | M38: =C38-H38 -> 3 | N38: =(M38/L38)*100000 -> 23.605319 | O38: =RANK(N38,N5:N59) -> 30 | P38: =F38-K38 -> 3
A39: Ohio | B39: 42035 | C39: 16 | D39: =(C39/B39)*100000 -> 38.063518 | E39: =RANK(D39,D5:D59) -> 23 | F39: 22 | G39: 20271 | H39: 10 | I39: =(H39/G39)*100000 -> 49.331557 | J39: =RANK(I39,I5:I59) -> 21 | K39: 12 | L39: =B39-G39 -> 21764 | M39: =C39-H39 -> 6 | N39: =(M39/L39)*100000 -> 27.568462 | O39: =RANK(N39,N5:N59) -> 25 | P39: =F39-K39 -> 10
A40: Pendleton | B40: 6996 | C40: 2 | D40: =(C40/B40)*100000 -> 28.587764 | E40: =RANK(D40,D5:D59) -> 31 | F40: 1 | G40: 3538 | H40: 0 | I40: =(H40/G40)*100000 -> 0 | K40: 0 | L40: =B40-G40 -> 3458 | M40: =C40-H40 -> 2 | N40: =(M40/L40)*100000 -> 57.8369 | O40: =RANK(N40,N5:N59) -> 5 | P40: =F40-K40 -> 1
A41: Pleasants | B41: 7512 | C41: 1 | D41: =(C41/B41)*100000 -> 13.312034 | E41: =RANK(D41,D5:D59) -> 48 | F41: 0 | G41: 4068 | H41: 1 | I41: =(H41/G41)*100000 -> 24.582104 | J41: =RANK(I41,I5:I59) -> 42 | K41: 0 | L41: =B41-G41 -> 3444 | M41: =C41-H41 -> 0 | N41: =(M41/L41)*100000 -> 0 | P41: =F41-K41 -> 0
...

Sheet 2014-2017
A1: 2014-2017 West Virginia Deaths
A2: Drug Overdose Deaths by County
A4: County | B4: Estimated Population | C4: Number of Resident Drug Overdose Deaths | D4: Rate per 100,000 Population | E4: Rank | F4: Number of Occurrence Drug Overdose Deaths | G4: Estimated Male Population | H4: Number of Male Resident Drug Overdose Deaths | I4: Rate per 100,000 Males | J4: Rank | K4: Number of Male Occurrence Drug Overdose Deaths | L4: Estimated Female Population | M4: Number of Female Resident Drug Overdose Deaths | N4: Rate per 100,000 Females | O4: Rank | P4: Number of Female Occurrence Drug Overdose Deaths
A5: Barbour | B5: ='2014'!B5+'2015'!B5+'2016'!B5+'2017'!B5 -> 67089 | C5: ='2014'!C5+'2015'!C5+'2016'!C5+'2017'!C5 -> 11 | D5: =(C5/B5)*100000 -> 16.396131 | E5: =RANK(D5,D5:D59) -> 41 | F5: ='2014'!F5+'2015'!F5+'2016'!F5+'2017'!F5 -> 8 | G5: ='2014'!G5+'2015'!G5+'2016'!G5+'2017'!G5 -> 32775 | H5: ='2014'!H5+'2015'!H5+'2016'!H5+'2017'!H5 -> 6 | I5: =(H5/G5)*100000 -> 18.306636 | J5: =RANK(I5,I5:I59) -> 45 | K5: ='2014'!K5+'2015'!K5+'2016'!K5+'2017'!K5 -> 5 | L5: =B5-G5 -> 34314 | M5: =C5-H5 -> 5 | N5: =(M5/L5)*100000 -> 14.571312 | O5: =RANK(N5,N5:N59) -> 39 | P5: =F5-K5 -> 3
A6: Berkeley | B6: ='2014'!B6+'2015'!B6+'2016'!B6+'2017'!B6 -> 449713 | C6: ='2014'!C6+'2015'!C6+'2016'!C6+'2017'!C6 -> 269 | D6: =(C6/B6)*100000 -> 59.815927 | E6: =RANK(D6,D5:D59) -> 10 | F6: ='2014'!F6+'2015'!F6+'2016'!F6+'2017'!F6 -> 284 | G6: ='2014'!G6+'2015'!G6+'2016'!G6+'2017'!G6 -> 222449 | H6: ='2014'!H6+'2015'!H6+'2016'!H6+'2017'!H6 -> 179 | I6: =(H6/G6)*100000 -> 80.467883 | J6: =RANK(I6,I5:I59) -> 10 | K6: ='2014'!K6+'2015'!K6+'2016'!K6+'2017'!K6 -> 194 | L6: =B6-G6 -> 227264 | M6: =C6-H6 -> 90 | N6: =(M6/L6)*100000 -> 39.601521 | O6: =RANK(N6,N5:N59) -> 12 | P6: =F6-K6 -> 90
A7: Boone | B7: ='2014'!B7+'2015'!B7+'2016'!B7+'2017'!B7 -> 92093 | C7: ='2014'!C7+'2015'!C7+'2016'!C7+'2017'!C7 -> 62 | D7: =(C7/B7)*100000 -> 67.323249 | E7: =RANK(D7,D5:D59) -> 6 | F7: ='2014'!F7+'2015'!F7+'2016'!F7+'2017'!F7 -> 57 | G7: ='2014'!G7+'2015'!G7+'2016'!G7+'2017'!G7 -> 45838 | H7: ='2014'!H7+'2015'!H7+'2016'!H7+'2017'!H7 -> 39 | I7: =(H7/G7)*100000 -> 85.082246 | J7: =RANK(I7,I5:I59) -> 7 | K7: ='2014'!K7+'2015'!K7+'2016'!K7+'2017'!K7 -> 35 | L7: =B7-G7 -> 46255 | M7: =C7-H7 -> 23 | N7: =(M7/L7)*100000 -> 49.724354 | O7: =RANK(N7,N5:N59) -> 5 | P7: =F7-K7 -> 22
A8: Braxton | B8: ='2014'!B8+'2015'!B8+'2016'!B8+'2017'!B8 -> 57344 | C8: ='2014'!C8+'2015'!C8+'2016'!C8+'2017'!C8 -> 10 | D8: =(C8/B8)*100000 -> 17.438616 | E8: =RANK(D8,D5:D59) -> 39 | F8: ='2014'!F8+'2015'!F8+'2016'!F8+'2017'!F8 -> 11 | G8: ='2014'!G8+'2015'!G8+'2016'!G8+'2017'!G8 -> 28973 | H8: ='2014'!H8+'2015'!H8+'2016'!H8+'2017'!H8 -> 6 | I8: =(H8/G8)*100000 -> 20.708936 | J8: =RANK(I8,I5:I59) -> 43 | K8: ='2014'!K8+'2015'!K8+'2016'!K8+'2017'!K8 -> 6 | L8: =B8-G8 -> 28371 | M8: =C8-H8 -> 4 | N8: =(M8/L8)*100000 -> 14.098904 | O8: =RANK(N8,N5:N59) -> 40 | P8: =F8-K8 -> 5
A9: Brooke | B9: ='2014'!B9+'2015'!B9+'2016'!B9+'2017'!B9 -> 91732 | C9: ='2014'!C9+'2015'!C9+'2016'!C9+'2017'!C9 -> 40 | D9: =(C9/B9)*100000 -> 43.605285 | E9: =RANK(D9,D5:D59) -> 16 | F9: ='2014'!F9+'2015'!F9+'2016'!F9+'2017'!F9 -> 49 | G9: ='2014'!G9+'2015'!G9+'2016'!G9+'2017'!G9 -> 44953 | H9: ='2014'!H9+'2015'!H9+'2016'!H9+'2017'!H9 -> 22 | I9: =(H9/G9)*100000 -> 48.940004 | J9: =RANK(I9,I5:I59) -> 21 | K9: ='2014'!K9+'2015'!K9+'2016'!K9+'2017'!K9 -> 29 | L9: =B9-G9 -> 46779 | M9: =C9-H9 -> 18 | N9: =(M9/L9)*100000 -> 38.478805 | O9: =RANK(N9,N5:N59) -> 13 | P9: =F9-K9 -> 20
A10: Cabell | B10: ='2014'!B10+'2015'!B10+'2016'!B10+'2017'!B10 -> 383603 | C10: ='2014'!C10+'2015'!C10+'2016'!C10+'2017'!C10 -> 372 | D10: =(C10/B10)*100000 -> 96.975258 | E10: =RANK(D10,D5:D59) -> 1 | F10: ='2014'!F10+'2015'!F10+'2016'!F10+'2017'!F10 -> 506 | G10: ='2014'!G10+'2015'!G10+'2016'!G10+'2017'!G10 -> 187616 | H10: ='2014'!H10+'2015'!H10+'2016'!H10+'2017'!H10 -> 252 | I10: =(H10/G10)*100000 -> 134.3169 | J10: =RANK(I10,I5:I59) -> 1 | K10: ='2014'!K10+'2015'!K10+'2016'!K10+'2017'!K10 -> 340 | L10: =B10-G10 -> 195987 | M10: =C10-H10 -> 120 | N10: =(M10/L10)*100000 -> 61.228551 | O10: =RANK(N10,N5:N59) -> 2 | P10: =F10-K10 -> 166
A11: Calhoun | B11: ='2014'!B11+'2015'!B11+'2016'!B11+'2017'!B11 -> 29698 | C11: ='2014'!C11+'2015'!C11+'2016'!C11+'2017'!C11 -> 4 | D11: =(C11/B11)*100000 -> 13.46892 | E11: =RANK(D11,D5:D59) -> 50 | F11: ='2014'!F11+'2015'!F11+'2016'!F11+'2017'!F11 -> 3 | G11: ='2014'!G11+'2015'!G11+'2016'!G11+'2017'!G11 -> 14799 | H11: ='2014'!H11+'2015'!H11+'2016'!H11+'2017'!H11 -> 2 | I11: =(H11/G11)*100000 -> 13.514427 | J11: =RANK(I11,I5:I59) -> 48 | K11: ='2014'!K11+'2015'!K11+'2016'!K11+'2017'!K11 -> 2 | L11: =B11-G11 -> 14899 | M11: =C11-H11 -> 2 | N11: =(M11/L11)*100000 -> 13.42372 | O11: =RANK(N11,N5:N59) -> 41 | P11: =F11-K11 -> 1
A12: Clay | B12: ='2014'!B12+'2015'!B12+'2016'!B12+'2017'!B12 -> 35365 | C12: ='2014'!C12+'2015'!C12+'2016'!C12+'2017'!C12 -> 9 | D12: =(C12/B12)*100000 -> 25.44889 | E12: =RANK(D12,D5:D59) -> 30 | F12: ='2014'!F12+'2015'!F12+'2016'!F12+'2017'!F12 -> 7 | G12: ='2014'!G12+'2015'!G12+'2016'!G12+'2017'!G12 -> 17779 | H12: ='2014'!H12+'2015'!H12+'2016'!H12+'2017'!H12 -> 7 | I12: =(H12/G12)*100000 -> 39.372293 | J12: =RANK(I12,I5:I59) -> 26 | K12: ='2014'!K12+'2015'!K12+'2016'!K12+'2017'!K12 -> 5 | L12: =B12-G12 -> 17586 | M12: =C12-H12 -> 2 | N12: =(M12/L12)*100000 -> 11.372683 | O12: =RANK(N12,N5:N59) -> 46 | P12: =F12-K12 -> 2
A13: Doddridge | B13: ='2014'!B13+'2015'!B13+'2016'!B13+'2017'!B13 -> 34306 | C13: ='2014'!C13+'2015'!C13+'2016'!C13+'2017'!C13 -> 5 | D13: =(C13/B13)*100000 -> 14.57471 | E13: =RANK(D13,D5:D59) -> 46 | F13: ='2014'!F13+'2015'!F13+'2016'!F13+'2017'!F13 -> 3 | G13: ='2014'!G13+'2015'!G13+'2016'!G13+'2017'!G13 -> 18798 | H13: ='2014'!H13+'2015'!H13+'2016'!H13+'2017'!H13 -> 3 | I13: =(H13/G13)*100000 -> 15.959145 | J13: =RANK(I13,I5:I59) -> 46 | K13: ='2014'!K13+'2015'!K13+'2016'!K13+'2017'!K13 -> 1 | L13: =B13-G13 -> 15508 | M13: =C13-H13 -> 2 | N13: =(M13/L13)*100000 -> 12.89657 | O13: =RANK(N13,N5:N59) -> 42 | P13: =F13-K13 -> 2
A14: Fayette | B14: ='2014'!B14+'2015'!B14+'2016'!B14+'2017'!B14 -> 177462 | C14: ='2014'!C14+'2015'!C14+'2016'!C14+'2017'!C14 -> 76 | D14: =(C14/B14)*100000 -> 42.82607 | E14: =RANK(D14,D5:D59) -> 17 | F14: ='2014'!F14+'2015'!F14+'2016'!F14+'2017'!F14 -> 71 | G14: ='2014'!G14+'2015'!G14+'2016'!G14+'2017'!G14 -> 89382 | H14: ='2014'!H14+'2015'!H14+'2016'!H14+'2017'!H14 -> 44 | I14: =(H14/G14)*100000 -> 49.226914 | J14: =RANK(I14,I5:I59) -> 20 | K14: ='2014'!K14+'2015'!K14+'2016'!K14+'2017'!K14 -> 40 | L14: =B14-G14 -> 88080 | M14: =C14-H14 -> 32 | N14: =(M14/L14)*100000 -> 36.330609 | O14: =RANK(N14,N5:N59) -> 14 | P14: =F14-K14 -> 31
A15: Gilmer | B15: ='2014'!B15+'2015'!B15+'2016'!B15+'2017'!B15 -> 32909 | C15: ='2014'!C15+'2015'!C15+'2016'!C15+'2017'!C15 -> 0 | D15: =(C15/B15)*100000 -> 0 | E15: =RANK(D15,D5:D59) -> 55 | F15: ='2014'!F15+'2015'!F15+'2016'!F15+'2017'!F15 -> 0 | G15: ='2014'!G15+'2015'!G15+'2016'!G15+'2017'!G15 -> 19584 | H15: ='2014'!H15+'2015'!H15+'2016'!H15+'2017'!H15 -> 0 | I15: =(H15/G15)*100000 -> 0 | J15: =RANK(I15,I5:I59) -> 55 | K15: ='2014'!K15+'2015'!K15+'2016'!K15+'2017'!K15 -> 0 | L15: =B15-G15 -> 13325 | M15: =C15-H15 -> 0 | N15: =(M15/L15)*100000 -> 0 | P15: =F15-K15 -> 0
A16: Grant | B16: ='2014'!B16+'2015'!B16+'2016'!B16+'2017'!B16 -> 46611 | C16: ='2014'!C16+'2015'!C16+'2016'!C16+'2017'!C16 -> 7 | D16: =(C16/B16)*100000 -> 15.017914 | E16: =RANK(D16,D5:D59) -> 43 | F16: ='2014'!F16+'2015'!F16+'2016'!F16+'2017'!F16 -> 9 | G16: ='2014'!G16+'2015'!G16+'2016'!G16+'2017'!G16 -> 23310 | H16: ='2014'!H16+'2015'!H16+'2016'!H16+'2017'!H16 -> 6 | I16: =(H16/G16)*100000 -> 25.740026 | J16: =RANK(I16,I5:I59) -> 38 | K16: ='2014'!K16+'2015'!K16+'2016'!K16+'2017'!K16 -> 6 | L16: =B16-G16 -> 23301 | M16: =C16-H16 -> 1 | N16: =(M16/L16)*100000 -> 4.2916613 | O16: =RANK(N16,N5:N59) -> 50 | P16: =F16-K16 -> 3
