Workbook

Sheet Description of worksheets
A1: Note to reader:
A2: This workbood is adapted from a previous study, hence there are elements of it that are not in use in this study. We have deleted whole sheets that are not relevant but the remaining sheets comtain some cells within that are no used. We have 'faded/greyed out' cells that are not used in the calculations for this study in order to attempt to provide greater clarity and tracability. Please disregard any reference to 'unthinned' or 'no-thin' scenarios and to 'Harvest 2'.
A3: The 'material flow' sheet cacluates the flow of wood through the value chain from the forest gate to end products. This spreadsheet then drives the GWP calculation - scaling the unit-impact factors in the 'database' to UK flows.
A4: The 'GWP_impact' sheet is where all GWP impacts are calculated and presented.
A5: The 'database' sheet contains impact fators from Ecoinvent v.3.539 using OpenLCA v1.7.4.
A6: The 'Decarb_proj' sheet contains the decarbonisation assumptions used in the study - which are pasted and applied to the results for all wood use scenarios in Supplementary Information S5&S6.
A7: The 'C_model' sheet contains Forest C ecosystem data from the CBM-CFS3 model output, with appropriate conversioni factors applied to calculated harvested wood volumes and tonnages. These tonnages scale GWP impacts to UK wood flows.

Sheet material_flow
A1: The product breakout data here will be used to calculate emissions from timber processing in each of the identifed manufacturing processes. Wood product/residues data from the ecoinvent processes (e.g. sawmilling) will not be used to feed into other ecoinvent processes that use these residues as a feedstock (e.g. biomass, wood panels) - where UK site specific material flow data has already been calculated below. | M1: data imported from another spreadsheet
A2: Repeat this page but for tonnes C. The green tonnes are needed only for calcuating emissions in Ecoinvent, where the process is in tonnes. For HWP C storage calcs, the figures can remain in tonnes of C, to minimise unit conversion errors. | M2: data used in LCA
M3: conversion factors
A4: Product breakout from thins - calculation of tonnages going to each manufacturing process/use
B6: Green tonnes | C6: Dry tonnes | D6: m3 | E6: tonnes C
A7: thin1 (yr21) | B7: =C_model!Z114 -> 0 | C7: =C_model!Y114 -> 0 | D7: =C7*1/$B$43 -> 0 | E7: =C_model!X114 -> 0
A8: thin2 (yr71) | B8: =C_model!Z115 -> 0 | C8: =C_model!Y115 -> 0 | D8: =C8*1/$B$43 -> 0 | E8: =C_model!X115 -> 0
T9: =1/B43 -> 2.7653338 | U9: (m3/tonne) - density of freshly felled SS
A10: Sorting: | I10: Debarking: | P10: Timber use summary | R10: >75% thinned (green tonnes) | T10: >75% thinned (m3)
B11: Thinned | C11: Sorted products | D11: Thinned | M11: Thinned | Q11: Thinned | R11: Thinning 1 (yr 21) | S11: Thinning 2 (yr 71) | T11: Thinning 1 (yr 21) | U11: Thinning 2 (yr 71)
A12: Chip/Fuel/Pulp | B12: =100%*2/3 -> 0.66666667 | C12: Panel boards logs | D12: =B12/2 -> 0.33333333 | E12: particle board | F12: 0.75 | G12: =D12*F12 -> 0.25 | H12: To debarking | I12: particle board | M12: =G12/B55 -> 0.22321429 | N12: To particle board manufacturing | P12: Particle board | Q12: =M12 -> 0.22321429 | R12: =Q12*$B$7 -> 0 | S12: =Q12*$B$8 -> 0 | T12: =$T$9*R12 -> 0 | U12: =$T$9*S12 -> 0
E13: fibre board | F13: 0.25 | G13: =D12*F13 -> 0.083333333 | H13: To debarking | I13: fibre board | M13: =G13/B55 -> 0.074404762 | N13: To fibre board manufacturing | P13: Fibre board | Q13: =M13 -> 0.074404762 | R13: =Q13*$B$7 -> 0 | S13: =Q13*$B$8 -> 0 | T13: =$T$9*R13 -> 0 | U13: =$T$9*S13 -> 0
C14: Fuel logs | D14: =B12/2 -> 0.33333333 | H14: To biomass (electricity) | P14: Biomass (heat) | Q14: 0
C15: Pulp logs | D15: 0 | I15: Pulp logs | M15: =D15/B55 -> 0 | P15: Biomass (electricity) | Q15: =D14+M18 -> 0.36904762 | R15: =Q15*$B$7 -> 0 | S15: =Q15*$B$8 -> 0 | T15: =$T$9*R15 -> 0 | U15: =$T$9*S15 -> 0
A16: Fencing | B16: =100%*1/3 -> 0.33333333 | C16: Fencing (fence poles) | D16: =B16 -> 0.33333333 | H16: To debarking | I16: Fencing (fence poles) | M16: =D16/B55 -> 0.29761905 | N16: To fence poles | P16: Pulp | Q16: =M15 -> 0 | R16: =Q16*$B$7 -> 0 | S16: =Q16*$B$8 -> 0 | T16: =$T$9*R16 -> 0 | U16: =$T$9*S16 -> 0
I17: Bark | J17: =(D12+D15+D16)-(M12+M13+M15+M16) -> 0.071428571 | K17: horticultural mulch | L17: 0.5 | M17: =L17*J17 -> 0.035714286 | N17: To horticulture | P17: Fence poles | Q17: =M16 -> 0.29761905 | R17: =Q17*$B$7 -> 0 | S17: =Q17*$B$8 -> 0 | T17: =$T$9*R17 -> 0 | U17: =$T$9*S17 -> 0
C18: Mass of woodchips, wet (measured as dry mass) - (thin1) | D18: =1000*D14*C7 -> 0 | E18: kg (dry mass) | K18: biomass | L18: 0.5 | M18: =L18*J17 -> 0.035714286 | N18: To biomass (electricity) | P18: Pallets and packaging | Q18: =0 -> 0 | R18: =Q18*$B$7 -> 0 | S18: =Q18*$B$8 -> 0 | T18: =$T$9*R18 -> 0 | U18: =$T$9*S18 -> 0
C19: Mass of woodchips, wet (measured as dry mass) - (thin2) | D19: =1000*D14*C8 -> 0 | E19: kg (dry mass) | P19: Fencing | Q19: =0 -> 0 | R19: =Q19*$B$7 -> 0 | S19: =Q19*$B$8 -> 0 | T19: =$T$9*R19 -> 0 | U19: =$T$9*S19 -> 0
I20: Vol. of debarked timber (thin1): | J20: =(M12+M15+M16+M13)*D7 -> 0 | K20: m3 | P20: Carcassing | Q20: =0 -> 0 | R20: =Q20*$B$7 -> 0 | S20: =Q20*$B$8 -> 0 | T20: =$T$9*R20 -> 0 | U20: =$T$9*S20 -> 0
I21: Vol. of debarked timber (thin2): | J21: =(M12+M15+M16+M13)*D8 -> 0 | K21: m3 | P21: Hoticultural mulch | Q21: =M17 -> 0.035714286 | R21: =Q21*$B$7 -> 0 | S21: =Q21*$B$8 -> 0 | T21: =$T$9*R21 -> 0 | U21: =$T$9*S21 -> 0
I22: Mass of chemically treated timber(thin1) | J22: =M16*D7*B44 -> 0 | K22: kg | Q22: =SUM(Q12:Q21) -> 1 | R22: =SUM(R12:R21) -> 0 | S22: =SUM(S12:S21) -> 0 | T22: =$T$9*R22 -> 0 | U22: =$T$9*S22 -> 0
I23: Mass of chemically treated timber(thin2) | J23: =M16*D8*B44 -> 0 | K23: kg
I24: Mass of particle board produced (thin1) | J24: =M12*D7/B45 -> 0 | K24: tonnes | P24: Mass horticultural mulch (thin1) | Q24: =Q21*E7 -> 0 | R24: tonnes C
I25: Mass of particle board produced (thin2) | J25: =M12*D8/B45 -> 0 | K25: tonnes | P25: Mass horticultural mulch (thin1) | Q25: =Q21*E8 -> 0 | R25: tonnes C
I26: Mass of fibre board produced (thin1) | J26: =M13*D7/B45 -> 0 | K26: tonnes | P26: Mass of biomass (electricity) (thin1) | Q26: =1000*$Q$15*E7*44/12 -> 0 | R26: kg CO2 eq
I27: Mass of fibre board produced (thin2) | J27: =M13*D8/B45 -> 0 | K27: tonnes | P27: Mass of biomass (electricity) (thin2) | Q27: =1000*$Q$15*E8*44/12 -> 0 | R27: kg CO2 eq
I28: Vol of particle board produced (thin1) | J28: =J24*B46 -> 0 | K28: m3 | P28: Mass of biomass (electricity) (thin1) | Q28: =1000*$Q$15*C7 -> 0 | R28: kg (dry mass)
I29: Vol of particle board produced (thin2) | J29: =J25*B46 -> 0 | K29: m3 | P29: Mass of biomass (electricity) (thin2) | Q29: =1000*$Q$15*C8 -> 0 | R29: kg (dry mass)
I30: Vol of fibre board produced (thin1) | J30: =J26*B47 -> 0 | K30: m3 | P30: Mass of biomass to be pelleted (thin1) | Q30: =Q28 -> 0 | R30: kg (dry mass)
I31: Vol of fibre board produced (thin2) | J31: =J27*B47 -> 0 | K31: m3 | P31: Mass of biomass to be pelleted (thin2) | Q31: =Q29 -> 0 | R31: kg (dry mass)
P32: Electricity from biomass (thin1) | Q32: =Q28*$B$51 -> 0 | R32: kWh
P33: Electricity from biomass (thin2) | Q33: =Q29*$B$51 -> 0 | R33: kWh
A36: Product breakout from harvests - calculation of tonnages going to each manufacturing process/use
B38: Green tonnes | C38: Dry tonnes | D38: m3 | E38: tonnes C
A39: harvest1 (no thin) (yr50) | B39: =C_model!T114 -> 597.31683 | C39: =C_model!S114 -> 311.10251 | D39: =C39*1/$B$43 -> 860.30229 | E39: =C_model!R114 -> 155.39571
A40: harvest2 (no thin) (yr100) | B40: =C_model!T115 -> 610.37385 | C40: =C_model!S115 -> 317.90305 | D40: =C40*1/$B$43 -> 879.10803 | E40: =C_model!R115 -> 158.79257
A41: harvest1 (thinned) (yr50) | B41: =C_model!Z116 -> 9548005.7 | C41: =C_model!Y116 -> 4972919.6 | D41: =C41*1/$B$43 -> 13751783 | E41: =C_model!X116 -> 2483973.4
A42: harvest2 (thinned) (yr100) | B42: =C_model!Z117 -> 0 | C42: =C_model!Y117 -> 0 | D42: =C42*1/$B$43 -> 0 | E42: =C_model!X117 -> 0
A43: Green/fresh wood density (@oven dry mass, fresh volume) | B43: 0.36162 | C43: g/cm3
A44: conversion factor from m3 dry wood to kg dry wood (20% mc) | B44: 449 | C44: kg/m3
A45: Wood panels - Factor to wood raw material underbark | B45: 2.5 | C45: m3 (of green tonnes underbark = 1 tonnes of wood panel)
A46: particle board density | B46: 1.54 | C46: m3/tonne | F46: =282.65/B46 -> 183.53896
A47: fibre board (MDF) density | B47: 1.667 | C47: m3/tonne
A48: Newsprint - Factor to wood raw material underbark | B48: 2.8 | C48: m3 (of green tonnes underbark = 1 tonnes of newsprint)
A49: Paperboard - Factor to wood raw material underbark | B49: 2.5 | C49: m3 (of green tonnes underbark = 1 tonnes of 'other' paper and paperboard)
A50: Conversion factor from kg wet woodchips (measured as dry mass) to 1kWh electricity (in CHP plant) | B50: 0.84147763 | C50: kg/KWh
A51: Conversion factor from kg (dry weight) wood to electricity in biomass power plant | B51: =fossilfuel_substitution!C23 -> 7.334 | C51: kWh/kg
A52: Conversion factor from kg wet woodchips (measured as dry mass) to 1MJ heat in industrial boiler | B52: 0.069808028 | C52: kg/MJ | D52: =1/B52 -> 14.325
A53: Conversion factor for kg waste (wood, assumed 20% dry) to electric energy | B53: 1.39 | C53: MJ/kg | D53: =B53*0.2778 -> 0.386142 | E53: kWhr/kg
A54: Conversion factor for kg waste (wood, assumed 20% dry) to heat energy | B54: 2.85 | C54: MJ/kg
A55: Debarking conversion factor | B55: 1.12 | AK55: =(AK60+AL60+AK61+AL61+AK68+AL68)/(D39+D40) -> 0 | AM55: =(AI60+AJ60+AI61+AJ61+AI68+AJ68+R12+S12+R13+S13)/(B7+B8+B41+B42) -> 0.27812723
A56: moisture content of green wood | B56: =C_model!R110 -> 0.92
A57: Vol natural gas (HP) needed to produce 1MJ heat | B57: 0.026990553 | C57: m3 | AF57: 3
B58: Sorting (forest gate): | L58: Debarking: | S58: Sawmilling: | AD58: Timber use summary | AG58: No thin (green tonnes) | AI58: Thinned (>75%) (green tonnes) | AK58: No thin (m3) | AM58: Thinned (>75%) (m3)
A59: Product groups | B59: Unthinned | C59: Thinned | F59: Sorted products: | H59: Unthinned | I59: Thinned | K59: Debarked products | L59: Unthinned | M59: Thinned | P59: Unthinned | Q59: Thinned | U59: Unthinned | V59: Thinned | Y59: Sawmill products | AA59: Unthinned | AB59: Thinned | AE59: Unthinned | AF59: Thinned | AG59: Harvest1 (yr 50) | AH59: Harvest2 (yr 100) | AI59: Harvest1 (yr 50) | AJ59: Harvest2 (yr 100) | AK59: Harvest1 (yr 50) | AL59: Harvest2 (yr 100) | AM59: Harvest1 (yr 50) | AN59: Harvest2 (yr 100) | AP59: (my model data) | AQ59: (UK data) | AT59: Non-circ model data (pasted from UK baseline)
A60: Chip/Fuel/Pulp | C60: 0.2 | D60: Panel board logs | E60: 0.27 | F60: Particle board (chip and OSB) | G60: 1 | H60: =E60*G60*B60 -> 0 | I60: =E60*G60*C60 -> 0.054 | J60: To debarking | K60: Particle board logs | P60: =H60/$B$55 -> 0 | Q60: =I60/$B$55 -> 0.048214286 | R60: To particle board manufacturing. | AD60: Particle board | AE60: =P60+AA69+AA76 -> 0 | AF60: =Q60+AB69+AB76 -> 0.14158728 | AG60: =AE60*$B$39 -> 0 | AH60: =AE60*$B$40 -> 0 | AI60: =AF60*$B$41 -> 1351876.1 | AJ60: =AF60*$B$42 -> 0 | AK60: =$T$9*AG60 -> 0 | AL60: =$T$9*AH60 -> 0 | AM60: =AI60/(1+C_model!$R$110)/$B$43 -> 1947077.5 | AN60: =$T$9*AJ60 -> 0 | AP60: =AF64 -> 0.05 | AQ60: 0.048382184 | AR60: Pulp and paper | AT60: 0.05
F61: Fibre board (MDF) | G61: 0 | H61: =B60*E60*G61 -> 0 | I61: =C60*E60*G61 -> 0 | J61: To debarking | K61: Fibre board logs | P61: =H61/B55 -> 0 | Q61: =I61/B55 -> 0 | R61: To fibre board manufacturing | AD61: Fibre board | AE61: =P61+AA70+AA77 -> 0 | AF61: =Q61+AB70+AB77 -> 0.051952902 | AG61: =AE61*$B$39 -> 0 | AH61: =AE61*$B$40 -> 0 | AI61: =AF61*$B$41 -> 496046.6 | AJ61: =AF61*$B$42 -> 0 | AK61: =$T$9*AG61 -> 0 | AL61: =$T$9*AH61 -> 0 | AM61: =AI61/(1+C_model!$R$110)/$B$43 -> 714445.01 | AN61: =$T$9*AJ61 -> 0 | AP61: =AF60+AF61 -> 0.19354018 | AQ61: 0.27282363 | AR61: Wood panel | AT61: 0.26622768 | AU61: =AT61-AP61 -> 0.0726875 | AV61: =(AF60+AF61)*100/95 -> 0.2037265
D62: Fuel logs | E62: 0.45 | H62: =E62*B60 -> 0 | I62: =E62*C60 -> 0.09 | J62: To biomass (electricity) | P62: n/a | Q62: n/a | AD62: Biomass (heat) | AE62: =AA71+AA78 -> 0 | AF62: =AB71+AB79 -> 0.05855625 | AG62: =AE62*$B$39 -> 0 | AH62: =AE62*$B$40 -> 0 | AI62: =AF62*$B$41 -> 559095.41 | AJ62: =AF62*$B$42 -> 0 | AK62: =$T$9*AG62 -> 0 | AL62: =$T$9*AH62 -> 0 | AM62: =AI62/(1+C_model!$R$110)/$B$43 -> 805252.82 | AN62: =$T$9*AJ62 -> 0 | AP62: =AF65 -> 0.049107143 | AQ62: 0.049702178 | AR62: Fence poles | AT62: 0.049107143
D63: Pulp logs | E63: 0.28 | H63: =E63*B60 -> 0 | I63: =E63*C60 -> 0.056 | J63: To debarking | K63: Pulp logs | P63: =H63/$B$55 -> 0 | Q63: =I63/$B$55 -> 0.05 | R63: To pulp and paper manufacturing | AD63: Biomass (electricity) | AE63: =H62+P81+AA72+AA79 -> 0 | AF63: =I62+Q81+AB72 -> 0.15912321 | AG63: =AE63*$B$39 -> 0 | AH63: =AE63*$B$40 -> 0 | AI63: =AF63*$B$41 -> 1519309.4 | AJ63: =AF63*$B$42 -> 0 | AK63: =$T$9*AG63 -> 0 | AL63: =$T$9*AH63 -> 0 | AM63: =AI63/(1+C_model!$R$110)/$B$43 -> 2188227.9 | AN63: =$T$9*AJ63 -> 0 | AP63: =AF62+AF63 -> 0.21767946 | AQ63: 0.20840496 | AR63: Wood fuel | AT63: 0.21712054
A64: Fencing (fence poles) | C64: 0.055 | F64: Fence pole logs | H64: =B64 -> 0 | I64: =C64 -> 0.055 | J64: To debarking | K64: Fence pole logs | P64: =H64/$B$55 -> 0 | Q64: =I64/$B$55 -> 0.049107143 | R64: To fence pole manufacturing | AD64: Pulp | AE64: =P63 -> 0 | AF64: =Q63 -> 0.05 | AG64: =AE64*$B$39 -> 0 | AH64: =AE64*$B$40 -> 0 | AI64: =AF64*$B$41 -> 477400.29 | AJ64: =AF64*$B$42 -> 0 | AK64: =$T$9*AG64 -> 0 | AL64: =$T$9*AH64 -> 0 | AM64: =AI64/(1+C_model!$R$110)/$B$43 -> 687589.13 | AN64: =$T$9*AJ64 -> 0 | AP64: =AF68 -> 0.084587054 | AQ64: 0.084657419 | AR64: Carcassing | AT64: 0.080904018
AD65: Fence poles | AE65: =P64 -> 0 | AF65: =Q64 -> 0.049107143 | AG65: =AE65*$B$39 -> 0 | AH65: =AE65*$B$40 -> 0 | AI65: =AF65*$B$41 -> 468875.28 | AJ65: =AF65*$B$42 -> 0 | AK65: =$T$9*AG65 -> 0 | AL65: =$T$9*AH65 -> 0 | AM65: =AI65/(1+C_model!$R$110)/$B$43 -> 675310.75 | AN65: =$T$9*AJ65 -> 0 | AP65: =AF67 -> 0.12620536 | AQ65: 0.10582177 | AR65: Fencing | AT65: 0.11147321
A66: Reds/Bars/Pallet | C66: 0.205 | F66: Pallet logs | H66: =B66 -> 0 | I66: =C66 -> 0.205 | J66: To debarking | K66: Pallet logs | P66: =H66/B55 -> 0 | Q66: =I66/B55 -> 0.18303571 | R66: To sawmilling | S66: sawn timber (JJ): | T66: 0.55 | U66: =T66*P66 -> 0 | V66: =T66*Q66 -> 0.10066964 | W66: p&p | X66: 0.75 | Y66: p&p material | AA66: =U66*X66 -> 0 | AB66: =V66*X66 -> 0.075502232 | AD66: Pallets and packaging | AE66: =AA66+AA75 -> 0 | AF66: =AB66+AB75 -> 0.1550558 | AG66: =AE66*$B$39 -> 0 | AH66: =AE66*$B$40 -> 0 | AI66: =AF66*$B$41 -> 1480473.7 | AJ66: =AF66*$B$42 -> 0 | AK66: =$T$9*AG66 -> 0 | AL66: =$T$9*AH66 -> 0 | AM66: =AI66/(1+C_model!$R$110)/$B$43 -> 2132293.7 | AN66: =$T$9*AJ66 -> 0 | AP66: =AF66 -> 0.1550558 | AQ66: 0.090691884 | AR66: P&P | AT66: 0.099810268
E67: =SUM(E60:E63) -> 1 | W67: fencing | X67: 0.2 | Y67: fencing material | AA67: =U66*X67 -> 0 | AB67: =V66*X67 -> 0.020133929 | AD67: Fencing | AE67: =AA67+AA74 -> 0 | AF67: =AB67+AB74 -> 0.12620536 | AG67: =AE67*$B$39 -> 0 | AH67: =AE67*$B$40 -> 0 | AI67: =AF67*$B$41 -> 1205009.5 | AJ67: =AF67*$B$42 -> 0 | AK67: =$T$9*AG67 -> 0 | AL67: =$T$9*AH67 -> 0 | AM67: =AI67/(1+C_model!$R$110)/$B$43 -> 1735548.6 | AN67: =$T$9*AJ67 -> 0 | AP67: =AF69 -> 0.123825 | AQ67: 0.13951597 | AR67: Other | AT67: 0.12535714
W68: carcassing | X68: 0.05 | Y68: carcassing | AA68: =U66*X68 -> 0 | AB68: =V66*X68 -> 0.0050334821 | AD68: Carcassing | AE68: =AA68+AA73 -> 0 | AF68: =AB68+AB73 -> 0.084587054 | AG68: =AE68*$B$39 -> 0 | AH68: =AE68*$B$40 -> 0 | AI68: =AF68*$B$41 -> 807637.67 | AJ68: =AF68*$B$42 -> 0 | AK68: =$T$9*AG68 -> 0 | AL68: =$T$9*AH68 -> 0 | AM68: =AI68/(1+C_model!$R$110)/$B$43 -> 1163222.8 | AN68: =$T$9*AJ68 -> 0
S69: chips and sawdust: | T69: 0.45 | U69: =T69*P66 -> 0 | V69: =T69*Q66 -> 0.082366071 | W69: panel boards | X69: 0.5 | Y69: Particle board material | Z69: 0.75 | AA69: =U69*X69*Z69 -> 0 | AB69: =V69*X69*Z69 -> 0.030887277 | AD69: Other/Horticultural mulch | AE69: =P80 -> 0 | AF69: =Q80+AB78 -> 0.123825 | AG69: =AE69*$B$39 -> 0 | AH69: =AE69*$B$40 -> 0 | AI69: =AF69*$B$41 -> 1182281.8 | AJ69: =AF69*$B$42 -> 0 | AK69: =$T$9*AG69 -> 0 | AL69: =$T$9*AH69 -> 0 | AM69: =AI69/(1+C_model!$R$110)/$B$43 -> 1702814.5 | AN69: =$T$9*AJ69 -> 0 | AP69: =SUM(AP60:AP67) -> 1 | AQ69: =SUM(AQ60:AQ67) -> 1
Y70: Fibre board material | Z70: 0.25 | AA70: =U69*X69*Z70 -> 0 | AB70: =V69*X69*Z70 -> 0.010295759 | AE70: =SUM(AE60:AE69) -> 0 | AF70: =SUM(AF60:AF69) -> 1 | AG70: =SUM(AG60:AG69) -> 0 | AH70: =SUM(AH60:AH69) -> 0 | AI70: =SUM(AI60:AI69) -> 9548005.7 | AJ70: =SUM(AJ60:AJ69) -> 0 | AK70: =$T$9*AG70 -> 0 | AL70: =$T$9*AH70 -> 0 | AM70: =AI70/(1+C_model!$R$110)/$B$43 -> 13751783 | AN70: =$T$9*AJ70 -> 0 | AP70: i.e. when roundwood is diverted from wood panels at forest gate to sawmills (P&P focussed) there are more fencing and P&P produced but everything else stays more or less the same.
W71: biomass | X71: 0.5 | Y71: biomass (heat) | Z71: 0.6 | AA71: =U69*X71*Z71 -> 0 | AB71: =V69*X71*Z71 -> 0.024709821 | AC71: To biomass (heat)
Y72: biomass (electricity) | Z72: 0.4 | AA72: =U69*X71*Z72 -> 0 | AB72: =V69*X71*Z72 -> 0.016473214 | AC72: To biomass (electricity) | AE72: unthinned | AF72: thinned
A73: Greens | C73: 0.54 | F73: Green logs | H73: =B73 -> 0 | I73: =C73 -> 0.54 | J73: To debarking | K73: Green logs | P73: =H73/B55 -> 0 | Q73: =I73/B55 -> 0.48214286 | R73: To sawmilling | S73: sawn timber: | T73: 0.55 | U73: =T73*P73 -> 0 | V73: =T73*Q73 -> 0.26517857 | W73: carcassing | X73: 0.3 | Y73: carcassing | AA73: =U73*X73 -> 0 | AB73: =V73*X73 -> 0.079553571 | AD73: Mass of particle board produced (harvest1) | AE73: =AE60*D39/B45 -> 0 | AF73: =AF60*D41/B45 -> 778830.98 | AG73: tonnes
H74: unthinned | I74: thinned | W74: fencing | X74: 0.4 | Y74: fencing material | AA74: =U73*X74 -> 0 | AB74: =V73*X74 -> 0.10607143 | AD74: Mass of particle board produced (harvest2) | AE74: =AE60*D40/B45 -> 0 | AF74: =AF60*D42/B45 -> 0 | AG74: tonnes
B75: =SUM(B60:B73) -> 0 | C75: =SUM(C60:C73) -> 1 | G75: Mass of woodchips, wet (measured as dry mass) (harvest1) | H75: =1000*$H$62*C39 -> 0 | I75: =1000*$I$62*C41 -> 4.4756277e+08 | J75: kg | W75: p&p | X75: 0.3 | Y75: p&p material | AA75: =U73*X75 -> 0 | AB75: =V73*X75 -> 0.079553571 | AD75: Mass of fibre board produced (harvest1) | AE75: =AE61*D39/B45 -> 0 | AF75: =AF61*D41/B45 -> 285778.01 | AG75: tonnes
G76: Mass of woodchips, wet (measured as dry mass) (harvest2) | H76: =1000*$H$62*C40 -> 0 | I76: =1000*$I$62*C42 -> 0 | J76: kg | S76: chips and sawdust: | T76: 0.45 | U76: =T76*P73 -> 0 | V76: =T76*Q73 -> 0.21696429 | W76: panel boards | X76: 0.48 | Y76: Particle board material | Z76: 0.6 | AA76: =U76*X76*Z76 -> 0 | AB76: =V76*X76*Z76 -> 0.062485714 | AD76: Mass of fibre board produced (harvest2) | AE76: =AE61*D40/B45 -> 0 | AF76: =AF61*D42/B45 -> 0 | AG76: tonnes
Y77: Fibre board material | Z77: 0.4 | AA77: =U76*X76*Z77 -> 0 | AB77: =V76*X76*Z77 -> 0.041657143 | AD77: Vol of particle board produced (harvest1) | AE77: =AE73*B46 -> 0 | AF77: =AF73*B46 -> 1199399.7 | AG77: m3
W78: biomass | X78: 0.52 | Y78: other' i.e. horticulture | Z78: 0.7 | AA78: =U76*X78*Z78 -> 0 | AB78: =V76*X78*Z78 -> 0.078975 | AC78: other' i.e. horticulture | AD78: Vol of particle board produced (harvest2) | AE78: =AE74*B46 -> 0 | AF78: =AF74*B46 -> 0 | AG78: m3
Y79: biomass (heat) | Z79: 0.3 | AA79: =U76*X78*Z79 -> 0 | AB79: =V76*X78*Z79 -> 0.033846429 | AC79: biomass (heat)
K80: Bark | L80: =(H60+H61+H63+H64+H66+H73)-(P60+P61+P63+P64+P66+P73) -> 0 | M80: =(I60+I61+I63+I64+I66+I73)-(Q60+Q61+Q63+Q64+Q66+Q73) -> 0.0975 | N80: Horticultural mulch | O80: 0.46 | P80: =O80*L80 -> 0 | Q80: =O80*M80 -> 0.04485 | R80: To horticulture | AD80: Vols of fibre board produced (harvest1) | AE80: =AE75*B47 -> 0 | AF80: =AF75*B47 -> 476391.93 | AG80: m3
N81: Biomass | O81: 0.54 | P81: =O81*L80 -> 0 | Q81: =O81*M80 -> 0.05265 | R81: To biomass (electricity) | W81: unthinned | X81: thinned | AD81: Vol of fibre board produced (harvest2) | AE81: =AE76*B47 -> 0 | AF81: =AF76*B47 -> 0 | AG81: m3
L82: unthinned | M82: thinned | V82: Vol. of sawn timber (harvest1): | W82: =(AA66+AA67+AA68+AA73+AA74+AA75)*D39 -> 0 | X82: =(AB66+AB67+AB68+AB73+AB74+AB75)*D41 -> 5031065.1 | Y82: m3 | AD82: Amount of horticultural mulch (harvest1) | AE82: =$AE$69*E39 -> 0 | AF82: =$AF$69*E41 -> 307578 | AG82: tonnes C
K83: Vol. of debarked timber (harvest1): | L83: =(P60+P61+P63+P64+P66+P73)*D39 -> 0 | M83: =(Q60+Q61+Q63+Q64+Q66+Q73)*D41 -> 11173323 | N83: m3 | V83: Vol. of sawn timber (harvest2): | W83: =(AA66+AA67+AA68+AA73+AA74+AA75)*D40 -> 0 | X83: =(AB66+AB67+AB68+AB73+AB74+AB75)*D42 -> 0 | Y83: m3 | AA83: % output split of sawn products: | AD83: Amount of horticultural mulch (harvest2) | AE83: =$AE$69*E40 -> 0 | AF83: =$AF$69*E42 -> 0 | AG83: tonnes C
K84: Vol. of debarked timber (harvest2): | L84: =(P60+P61+P63+P64+P66+P73)*D40 -> 0 | M84: =(Q60+Q61+Q63+Q64+Q66+Q73)*D42 -> 0 | N84: m3 | V84: Vol. of planed timber (harvest1): | W84: =(AA68+AA73)*D39 -> 0 | X84: =(AB68+AB73)*D41 -> 1163222.8 | Y84: m3 | AA84: =(X66*$T$66+X75*$T$73)/($T$66+$T$73) -> 0.525 | AB84: pp
K85: Mass newsprint produced (harvest1) | L85: =0.5*P63*D39/B48 -> 0 | M85: =0.5*Q63*D41/B48 -> 122783.77 | N85: tonnes | V85: Vol. of planed timber (harvest2): | W85: =(AA68+AA73)*D40 -> 0 | X85: =(AB68+AB73)*D42 -> 0 | Y85: m3 | AA85: =(X67*$T$66+X74*$T$73)/($T$66+$T$73) -> 0.3 | AB85: fencing | AD85: Mass of biomass (heat) (harvest1) | AE85: =1000*$AE$62*$E$39*44/12 -> 0 | AF85: =1000*$AF$62*E41*44/12 -> 5.3332461e+08 | AG85: kg CO2 eq
K86: Mass newsprint produced (harvest2) | L86: =0.5*P63*D40/B48 -> 0 | M86: =0.5*Q63*D42/B48 -> 0 | N86: tonnes | V86: Mass of chemically treated timber(harvest1) | W86: =(P64+AA67+AA74)*D39*B44 -> 0 | X86: =(Q64+AB67+AB74)*D41*B44 -> 1.0824759e+09 | Y86: kg | AA86: =(X68*$T$66+X73*$T$73)/($T$66+$T$73) -> 0.175 | AB86: carcassing | AD86: Mass of biomass (heat) (harvest2) | AE86: =1000*$AE$62*E40*44/12 -> 0 | AF86: =1000*$AF$62*E42*44/12 -> 0 | AG86: kg CO2 eq
K87: Mass paperboard produced (harvest1) | L87: =0.5*P63*D39/B49 -> 0 | M87: =0.5*Q63*D41/B49 -> 137517.83 | N87: tonnes | V87: Mass of chemically treated timber(harvest2) | W87: =(P64+AA67+AA74)*D40*B44 -> 0 | X87: =(Q64+AB67+AB74)*D42*B44 -> 0 | Y87: kg | AA87: =SUM(AA84:AA86) -> 1 | AD87: Mass of biomass (heat) (harvest1) | AE87: =1000*$AE$62*E39 -> 0 | AF87: =1000*$AF$62*E41 -> 1.4545217e+08 | AG87: kg
K88: Mass paperboard produced (harvest2) | L88: =0.5*P63*D40/B49 -> 0 | M88: =0.5*Q63*D42/B49 -> 0 | N88: tonnes | AD88: Mass of biomass (heat) (harvest2) | AE88: =1000*$AE$62*E40 -> 0 | AF88: =1000*$AF$62*E42 -> 0 | AG88: kg
AD89: Heat produced from biomass (havest 1) | AE89: =AE87/$B$52 -> 0 | AF89: =AF87/$B$52 -> 2.0836023e+09 | AG89: MJ
AD90: Heat produced from biomass (havest 2) | AE90: =AE88/$B$52 -> 0 | AF90: =AF88/$B$52 -> 0 | AG90: MJ
AD92: Mass of biomass (electricity) (harvest1) | AE92: =1000*$AE$63*$E$39*44/12 -> 0 | AF92: =1000*$AF$63*E41*44/12 -> 1.4492787e+09 | AG92: kg CO2 eq
AD93: Mass of biomass (electricity) (harvest2) | AE93: =1000*$AE$63*$E$40*44/12 -> 0 | AF93: =1000*$AF$63*E42*44/12 -> 0 | AG93: kg CO2 eq
AD94: Mass of biomass (electricity) (harvest1) | AE94: =1000*$AE$63*$C$39 -> 0 | AF94: =1000*$AF$63*$C$41 -> 7.9130696e+08 | AG94: kg
AD95: Mass of biomass (electricity) (harvest2) | AE95: =1000*$AE$63*$C$40 -> 0 | AF95: =1000*$AF$63*$C$42 -> 0 | AG95: kg
AD96: Electricity produced from biomass (harvest1) | AE96: =AE94*$B$51 -> 0 | AF96: =AF94*$B$51 -> 5.8034452e+09 | AG96: kWh
AD97: Electricity produced from biomass (harvest2) | AE97: =AE95*$B$51 -> 0 | AF97: =AF95*$B$51 -> 0 | AG97: kWh
A100: Product breakout for recycled/end-of-life material - calculation of tonnages going to each secondary manufacturing process or solid waste disposal site (SWDS):
A101: Assume only one recycle then waste wood goes to incineration.
C103: % of initial harvest going to each recycling/SWDS process at end of primary use. | P103: % of initial harvest going to each recycling/SWDS process at end of primary use.
C104: thin | D104: harvest (unthinned) | E104: harvest (thinned) | H104: thin | I104: harvest (unthinned) | J104: harvest (thinned) | U104: thin | V104: harvest (unthinned) | W104: harvest (thinned)
A105: % wood waste collected/recycled: | B105: =E124+E125 -> 0.79754593 | C105: =B105*(Q12+Q13+Q17+Q19) -> 0.47472972 | D105: =B105*(AE60+AE61+AE66+AE68+AE65+AE67) -> 0 | E105: =B105*(AF60+AF61+AF66+AF68+AF65+AF67) -> 0.48530314 | F105: particle board production | G105: =F124 -> 0.80014369 | H105: =G105*C105 -> 0.37985199 | I105: =G105*D105 -> 0 | J105: =G105*E105 -> 0.38831224 | N105: % wood waste collected/recycled: | S105: Wood collected | T105: particle board production | U105: 0.029166667 | V105: 0.032642239 | W105: 0.033881886
F106: biomass (energy production) | G106: =F125 -> 0.19985631 | H106: =G106*C105 -> 0.09487773 | I106: =G106*D105 -> 0 | J106: =G106*E105 -> 0.096990894 | T106: biomass (energy production) | U106: 0.054166667 | V106: 0.0606213 | W106: 0.062923503
A107: % wood waste to SWDS: | B107: =E126+E127 -> 0.20245407 | C107: =B107*(Q12+Q13+Q17+Q19) -> 0.12050838 | D107: =B107*(AE60+AE61+AE66+AE68+AE65+AE67) -> 0 | E107: =B107*(AF60+AF61+AF66+AF68+AF65+AF67) -> 0.1231924 | F107: incineration | G107: =F126 -> 0.96344555 | H107: =G107*C107 -> 0.11610326 | I107: =G107*D107 -> 0 | J107: =G107*E107 -> 0.11868917 | N107: % wood waste to SWDS: | T107: incineration | U107: 0.4495666 | V107: 0.50313807 | W107: 0.52224563
F108: landfill | G108: =F127 -> 0.036554451 | H108: =G108*C107 -> 0.0044051175 | I108: =G108*D107 -> 0 | J108: =G108*E107 -> 0.0045032305 | T108: landfill | U108: 0.06233816 | V108: 0.069766529 | W108: 0.072416038
...

Sheet GWP_impact
L1: Summary of harvest1 primary timber use impacts (i.e. not including recovered wood or recycled uses) | Q1: Condensed summary for purposes of presentation | V1: Alternative condensed summary for purposes of presentation
A2: Processes | B2: System inputs/output | C2: Quantity | D2: Units | E2: Abiotic depletion (fossil fuels) - CML-IA baseline | G2: IPCC GWP 100a - IPCC 2013 GWP 100a (kg CO2eq) | N2: Abiotic depletion (fossil fuels) - CML-IA baseline | O2: IPCC GWP 100a - IPCC 2013 GWP 100a (kg CO2eq) | X2: Tonnes CO2e per year (2020 baseline)
A3: Site establishment | R3: Summary | S3: MJ | T3: kg CO2e | W3: MJ | X3: Scope 1,2&3 | Y3: Scope 1&2 | Z3: Scope 3 | AA3: Scope 4 | AD3: % contribution to total value chain GWP impact (Scopes 1,2&3)
A4: Land use change | B4: Displacement of low intensity UK beef production | C4: =#REF! -> #REF! | D4: kg CO2 eq | G4: =-C4 -> #REF! | L4: Planting | M4: Market for tree seedlings | N4: =E13 -> 1.9405631e+08 | O4: =G13 -> 17412310 | Q4: Nursery | R4: Market for tree seedlings | S4: =N4 -> 1.9405631e+08 | T4: =O4 -> 17412310 | V4: Forestry Operations | W4: =S5+S7+S6+S4 -> 1.2782554e+09 | X4: =(T5+T7+T6+T4)/1000 -> 87903.249 | Y4: =(T5+T7+T4)/1000 -> 87768.376 | Z4: =X4-Y4 -> 134.87299 | AA4: =(T5+T6+T7)/1000/$Y$11 -> 0.03622223 | AD4: =(X4)/(X4+X5+X6+X7+X8) -> 0.033963521 | AE4: Forestry ops
B5: Scenario 1: Replacement of displaced low intensity UK beef production with sustainable high intensity beef production in Europe | C5: =#REF! -> #REF! | D5: kg CO2eq | F5: =E4+E5 -> 0 | G5: =C5 -> #REF! | H5: =G4+G5 -> #REF! | M5: Clearing brash and mounding (ready for planting) - 'delimbing with excavator' used. | N5: =E15 -> 2.1848701e+08 | O5: =G15 -> 15201359 | Q5: Forest mgt | R5: Clearing brash and mounding (ready for planting) - 'delimbing with excavator' used. | S5: =N5 -> 2.1848701e+08 | T5: =O5 -> 15201359 | V5: Timber transport | W5: =S8 -> 2.6906523e+09 | X5: =T8/1000 -> 165049.94 | Y5: =T8/1000 -> 165049.94 | AD5: =(X5)/(X4+X5+X6+X7+X8) -> 0.063770988 | AE5: transport
B6: Scenario 2: Replacement of displaced low intensity UK beef production with expansion of average production in Brazil | C6: =#REF! -> #REF! | D6: kg CO2eq | G6: =C6 -> #REF! | M6: Application of pesicides (weevil) | N6: =E17 -> 2039416.4 | O6: =G17 -> 134872.99 | R6: Application of pesicides (weevil) | S6: =N6 -> 2039416.4 | T6: =O6 -> 134872.99 | V6: Sawmills | W6: =S9+S10+S12+S11+S13 -> 7.9049015e+09 | X6: =(T9+T10+T12+T11+T13)/1000 -> 547919.8 | Y6: =(T9+T10+T12+T11)/1000 -> 535481.22 | Z6: =X6-Y6 -> 12438.577 | AD6: =X6/(X4+X5+X6+X7+X8) -> 0.21170191 | AE6: sawmills
B7: Scenario 2: Conversion of tropical forestry to expand beef production in Brazil. | C7: =#REF! -> #REF! | D7: kg CO2eq | F7: =E4+E6+E7 -> 0 | G7: =C7 -> #REF! | H7: =G4+G6+G7 -> #REF! | L7: Forest mgt | M7: Thinning - harvester | N7: =E22 -> 85009440 | O7: 390.76507 | R7: Thinning/harvesting | S7: =N7+N8+N9+N10 -> 8.636727e+08 | T7: =O7+O8+O9+O10 -> 55154707 | V7: Wood Panel Production | W7: =S14+S15 -> 1.7561959e+10 | X7: =(T14+T15)/1000 -> 1561467.3 | Y7: =(T14*(1-O54)+T15*(1-O53))/1000 -> 931942.65 | Z7: =X7-Y7 -> 629524.67 | AD7: =X7/(X4+X5+X6+X7+X8) -> 0.60331021 | AE7: wood panels
A8: Conversion of grassland to forestry (above ground biomass loss) - DELETE? | B8: 1 ha of grassland converted to forest | C8: =#REF!*1000 -> #REF! | D8: kg CO2 eq | G8: =C8 -> #REF! | M8: Thinning - forwarder | N8: =E24 -> 70008736 | O8: =G24 -> 4936096.2 | Q8: Transport (forest to processor) | R8: Forest to processor | S8: =N11+N12 -> 2.6906523e+09 | T8: =O11+O12 -> 1.6504994e+08 | V8: Wood Fuel Production | W8: =S16+S20 -> 2.7617626e+09 | X8: =(T16+T20)/1000 -> 225826.25 | Y8: =(T16+T20)/1000 -> 225826.25 | AD8: =X8/(X4+X5+X6+X7+X8) -> 0.087253367 | AE8: wood fuel production
A9: Land clearing and irrigation | B9: Machine hours - excavator | C9: 15 | D9: hrs | E9: =C9*database!E6 -> 14113.923 | G9: =C9*database!M6 -> 981.98436 | M9: Harvest - harvester | N9: =E28 -> 3.8861458e+08 | O9: =G28 -> 27653209 | Q9: Sawmill | R9: Debarking | S9: =N13+N14 -> 3.3397579e+09 | T9: =O13+O14 -> 2.2598471e+08 | V9: Avoided emissions | X9: =AA9 -> -6827474.6 | AA9: =T21/1000 -> -6827474.6 | AD9: =SUM(AD4:AD8) -> 1
A10: Herbicide application (manual) | B10: Herbicide (glyphosphate) | C10: 0.84 | D10: g | E10: =C10*database!E22 -> 128.69002 | F10: =SUM(E8:E10) -> 14242.613 | G10: =C10*database!M22 -> 9.4177333 | H10: =SUM(G8:G10) -> #REF! | M10: Harvest - forwarder | N10: =E30 -> 3.2003993e+08 | O10: =G30 -> 22565011 | R10: Sawing | S10: =N15 -> 1.8250962e+09 | T10: =O15 -> 1.2452295e+08 | V10: Increased HWP C storage | X10: =T22 -> -421611.18
L11: Transport (forest to processor) | M11: Forest to processor - thin | N11: =E33 -> 0 | O11: =G33 -> 0 | R11: Drying (of sawn timber) | S11: =N16 -> 2.0282881e+09 | T11: =O16 -> 1.4407055e+08 | V11: Forestry and Wood Processing | X11: =SUM(X4:X8) -> 2588166.5 | Y11: =SUM(Y4:Y8) -> 1946068.4
A12: Planting (1&2) | M12: Forest to processor - harvest | N12: =E35 -> 2.6906523e+09 | O12: =G35 -> 1.6504994e+08 | R12: Planing | S12: =N17 -> 5.4532411e+08 | T12: =O17 -> 40903007 | V12: Pulp and paper | W12: =S17+S18+S19 -> 4.9258243e+10 | X12: =(T17+T18+T19)/1000 -> 4127664.6
A13: Market for tree seedlings | B13: Tree seedlings (planting1) | C13: =25000*C_model!Z120 -> 3.8700615e+08 | D13: seedlings | E13: =C13*database!E5 -> 1.9405631e+08 | G13: =C13*database!M5 -> 17412310 | L13: Sawmill | M13: Debarking - thin | N13: =E38 -> 0 | O13: =G38 -> 0 | R13: Chemical treatment | S13: =N18+N19 -> 1.6643518e+08 | T13: =O18+O19 -> 12438577 | V13: Imports emissions change | X13: =T23/1000 -> -111541.26
B14: Tree seedlings (planting2) | C14: =25000 -> 25000 | D14: seedlings | E14: =C14*database!E5 -> 12535.738 | G14: =C14*database!M5 -> 1124.8083 | M14: Debarking - harvest | N14: =E40 -> 3.3397579e+09 | O14: =G40 -> 2.2598471e+08 | Q14: Particle board production | R14: Particle board production | S14: =(M54+M55)*database!E15 -> 1.6104108e+10 | T14: =(M54+M55)*database!M15 -> 8.9511615e+08 | V14: Increased forest rotation impact | X14: =T24 -> -1415163.1
A15: Clearing brash and mounding (ready for planting) - 'delimbing with excavator' used. | B15: Machine hours (planting1) | C15: =15*C_model!Z120 -> 232203.69 | D15: hrs | E15: =C15*database!E6 -> 2.1848701e+08 | G15: =C15*database!M6 -> 15201359 | M15: Sawing | N15: =E43 -> 1.8250962e+09 | O15: =G43 -> 1.2452295e+08 | Q15: Fibre board production | R15: Fibre board production | S15: =M53*database!E16 -> 1.4578509e+09 | T15: =M53*database!M35*(1-0.5*0.5) -> 6.6635117e+08
B16: Machine hours (planting2) | C16: =15 -> 15 | D16: hrs | E16: =C16*database!E6 -> 14113.923 | G16: =C16*database!M6 -> 981.98436 | M16: Drying (of sawn timber) | N16: =E46 -> 2.0282881e+09 | O16: =G46 -> 1.4407055e+08 | Q16: Woodfuel production&use | R16: Woodchip/pellet production | S16: =N24+N25+N26+N27 -> 9.3109054e+08 | T16: =O24+O25+O26+O27 -> 75805200
A17: Application of pesicides (weevil) | B17: Pesticides (planting1) | C17: =0.832*C_model!Z120 -> 12879.565 | D17: g | E17: =C17*database!E21 -> 2039416.4 | G17: =C17*database!M21 -> 134872.99 | M17: Planing | N17: =E49 -> 5.4532411e+08 | O17: =G49 -> 40903007 | Q17: Paper production | R17: Graphics paper (virgin newsprint) - cascading | S17: =J40*1000000*database!E19 -> 1.2080582e+10 | T17: =J40*1000000*database!M19 -> 1.0544393e+09
B18: Pesticides (planting2) | C18: =0.832 -> 0.832 | D18: g | E18: =C18*database!E21 -> 131.74315 | F18: =SUM(E13:E18) -> 4.1460951e+08 | G18: =C18*database!M21 -> 8.7125869 | H18: =SUM(G13:G18) -> 32750658 | M18: Chemical treatment - thin | N18: =E52 -> 0 | O18: =G52 -> 0 | R18: Graphics paper (recycled newsprint) | S18: =J41*1000000*database!E18 -> 1.5574753e+10 | T18: =J41*1000000*database!M18 -> 1.3203412e+09
M19: Chemical treatment - harvest | N19: =E54 -> 1.6643518e+08 | O19: =G54 -> 12438577 | R19: Paperboard (Corrugated board box) - cascading | S19: =J39*1000000*database!E17 -> 2.1602909e+10 | T19: =J39*1000000*database!M17 -> 1.752884e+09
A20: Forest growth | B20: Net ecosystem C change over 100 yr period (not incl HWP) | C20: =-C_model!K109 -> -11759639 | D20: tonnes CO2 | E20: 0 | F20: =E20 -> 0 | G20: =C20*1000 -> -1.1759639e+10 | H20: =G20 -> -1.1759639e+10 | L20: Particle board production | M20: Particle board - thin | N20: =E56 -> 0 | O20: =G56 -> 0 | Q20: Woodfuel production&use (waste wood) | R20: Woodchip production - cascading | S20: =N69*database!E28 -> 1.830672e+09 | T20: =N69*database!M28 -> 1.5002105e+08 | V20: Carcassing avoided emissions (concrete_substitution, D48 pasted from BAU workbook):
M21: Particle board - harvest | N21: =E58 -> 5.6560067e+09 | O21: =G58 -> 3.1437834e+08 | Q21: Avoided emissions | T21: =N70+G130+G135+O110 -> -6.8274746e+09 | U21: 30 | V21: -2.4013298e+09
A22: Thinning (1&2) | B22: Machine hours - harvester (thin1) | C22: =7*C_model!Z120 -> 108361.72 | D22: hrs | E22: =C22*database!E8 -> 85009440 | G22: =C22*database!M8 -> 6049139.4 | L22: Fibre board production | M22: Fibre board - thin | N22: =E61 -> 0 | O22: =G61 -> 0 | Q22: Increased HWP C storage | T22: =O78 -> -421611.18
B23: Machine hours - harvester (thin2) | C23: 7 | D23: hrs | E23: =C23*database!E8 -> 5491.4787 | G23: =C23*database!M8 -> 390.76507 | M23: Fibre board - harvest | N23: =E63 -> 5.0694044e+08 | O23: =G63 -> 46791178 | Q23: Imports emissions change | T23: =O110 -> -1.1154126e+08
B24: Machine hours - forwarder (thin1) | C24: =7*C_model!Z120 -> 108361.72 | D24: hrs | E24: =C24*database!E7 -> 70008736 | G24: =C24*database!M7 -> 4936096.2 | L24: Biomass combustion | M24: Woodchip production (wet) - thin | N24: =E68 -> 0 | O24: =G68 -> 0 | Q24: Increased forest rotation impact | T24: =R87 -> -1415163.1
B25: Machine hours - forwarder (thin2) | C25: 7 | D25: hrs | E25: =C25*database!E7 -> 4522.4563 | F25: =SUM(E22:E25) -> 1.5502819e+08 | G25: =C25*database!M7 -> 318.8642 | H25: =SUM(G22:G25) -> 10985945 | M25: Woodchip production (wet) - harvest | N25: =E70 -> 68814642 | O25: =G70 -> 5142880.5
M26: Wood pellet production - harvest | N26: =E72 -> 0 | O26: =G72 -> 0
M27: Wood pellet production - thin | N27: =E74 -> 8.622759e+08 | O27: =G74 -> 70662320
A28: Harvesting (rotation 1&2) | B28: Machine hours - harvester (harvest1) | C28: =32*C_model!Z120 -> 495367.87 | D28: hrs | E28: =C28*database!E8 -> 3.8861458e+08 | G28: =C28*database!M8 -> 27653209 | L28: Paper production | M28: Graphics paper (virgin newsprint) | N28: =E90 -> 1.9777325e+09 | O28: =G90 -> 1.7262405e+08
B29: Machine hours - harvester (harvest2) | C29: 32 | D29: hrs | E29: =C29*database!E8 -> 25103.902 | G29: =C29*database!M8 -> 1786.3546 | M29: Paperboard (Corrugated board box) | N29: =E92 -> 1.5635711e+09 | O29: =G92 -> 1.2686989e+08
B30: Machine hours - forwarder (harvest1) | C30: =32*C_model!Z120 -> 495367.87 | D30: hrs | E30: =C30*database!E7 -> 3.2003993e+08 | G30: =C30*database!M7 -> 22565011 | L30: Wood panel production | M30: Cascading wood use - Wood panel production | N30: =E104 -> 1.6562923e+10 | O30: =G104 -> 9.2061847e+08
B31: Machine hours - forwarder (harvest2) | C31: 32 | D31: hrs | E31: =C31*database!E7 -> 20674.086 | F31: =SUM(E28:E31) -> 7.087003e+08 | G31: =C31*database!M7 -> 1457.6649 | H31: =SUM(G28:G31) -> 50221464 | L31: Biomass combustion (primary waste) | M31: Woodchip production (wet) | N31: =E107 -> 58183706 | O31: =G107 -> 4348374.6
L32: Biomass combustion (secondary waste) | M32: Woodchip production (wet) | N32: =E112 -> 98876801 | O32: =G112 -> 7389583.9
A33: Transport (forest to wood processor) | B33: Transport to processor sites (thin1) | C33: =material_flow!B7*100 -> 0 | D33: t*km | E33: =C33*database!E20 -> 0 | G33: =C33*database!M20 -> 0 | L33: Paper - cascading | M33: Graphics paper (recycled newsprint) | N33: =E117 -> 1.2432406e+09 | O33: =G117 -> 1.0539504e+08
B34: Transport to processor sites (thin2) | C34: =material_flow!B8*240 -> 0 | D34: t*km | E34: =C34*database!E20 -> 0 | G34: =C34*database!M20 -> 0 | M34: Paperboard (Corrugated board box) | N34: =E118 -> 1.2706346e+09 | O34: =G118 -> 1.031007e+08
B35: Transport to processor sites (harvest1) | C35: =(material_flow!B41)*200 -> 1.9096011e+09 | D35: t*km | E35: =C35*database!E20 -> 2.6906523e+09 | G35: =C35*database!M20 -> 1.6504994e+08
B36: Transport to processor sites (harvest2) | C36: =(material_flow!B42)*240 -> 0 | D36: t*km | E36: =C36*database!E20 -> 0 | F36: =SUM(E33:E36) -> 2.6906523e+09 | G36: =C36*database!M20 -> 0 | H36: =SUM(G33:G36) -> 1.6504994e+08
A38: Debarking | B38: Volume of merchantable timber debarked (thinning 1) | C38: =material_flow!J20 -> 0 | D38: m3 | E38: =C38*database!E9 -> 0 | G38: =C38*database!M9 -> 0 | I38: 2018 paper and paperboard production UK (000's metric tonnes):
B39: Volume of merchantable timber debarked (thinning 2) | C39: =material_flow!J21 -> 0 | D39: m3 | E39: =C39*database!E9 -> 0 | G39: =C39*database!M9 -> 0 | I39: packaging | J39: 1900
B40: Volume of merchantable timber debarked (harvest 1) | C40: =material_flow!M83 -> 11173323 | D40: m3 | E40: =C40*database!E9 -> 3.3397579e+09 | G40: =C40*database!M9 -> 2.2598471e+08 | I40: tissue | J40: 750
B41: Volume of merchantable timber debarked (harvest 2) | C41: =material_flow!M84 -> 0 | D41: m3 | E41: =C41*database!E9 -> 0 | F41: =SUM(E38:E41) -> 3.3397579e+09 | G41: =C41*database!M9 -> 0 | H41: =SUM(G38:G41) -> 2.2598471e+08 | I41: graphics and other | J41: 1250
I42: total | J42: =SUM(J39:J41) -> 3900
A43: Sawing | B43: Volume of sawn timber (harvest1) | C43: =material_flow!X82 -> 5031065.1 | D43: m3 | E43: =C43*database!E10 -> 1.8250962e+09 | G43: =C43*database!M10 -> 1.2452295e+08
B44: Volume of sawn timber (harvest2) | C44: =material_flow!X83 -> 0 | D44: m3 | E44: =C44*database!E10 -> 0 | F44: =SUM(E43:E44) -> 1.8250962e+09 | G44: =C44*database!M10 -> 0 | H44: =SUM(G43:G44) -> 1.2452295e+08
L45: Extra data/calcs to reconcile actual value chain impact, by including recovered waste contribution:
A46: Drying (of sawn timber) | B46: Volume of dried timber (harvest 1) | C46: =material_flow!X82 -> 5031065.1 | D46: m3 | E46: =C46*database!E11 -> 2.0282881e+09 | G46: =C46*database!M11 -> 1.4407055e+08
B47: Volume of dried timber (harvest 2) | C47: =material_flow!X83 -> 0 | D47: m3 | E47: =C47*database!E11 -> 0 | F47: =SUM(E46:E47) -> 2.0282881e+09 | G47: =C47*database!M11 -> 0 | H47: =SUM(G46:G47) -> 1.4407055e+08 | L47: 2020 wood panel production UK:
M48: Wet tonnes
A49: Planing | B49: Volume of planed timber (harvest1) | C49: =material_flow!X84 -> 1163222.8 | D49: m3 | E49: =C49*database!E12 -> 5.4532411e+08 | G49: =C49*database!M12 -> 40903007 | M49: Roundwood | N49: Sawmill Products | O49: Reclaimed Wood
B50: Volume of planed timber (harvest2) | C50: =material_flow!X85 -> 0 | D50: m3 | E50: =C50*database!E12 -> 0 | F50: =SUM(E49:E50) -> 5.4532411e+08 | G50: =C50*database!M12 -> 0 | H50: =SUM(G49:G50) -> 40903007 | L50: Wood Use | M50: 1310000 | N50: 1535000 | O50: 982000
A52: Chemical treatment | B52: Mass of chemically treated wood (thin1) | C52: =material_flow!J22 -> 0 | D52: kg | E52: =C52*database!E14 -> 0 | G52: =C52*database!M14 -> 0 | K52: Tonnes particle board/yr | L52: UK & Ireland production (m3) | N52: GWP of resins used (kg CO2e) | O52: % of total GWP
B53: Mass of chemically treated wood (thin2) | C53: =material_flow!J23 -> 0 | D53: kg | E53: =C53*database!E14 -> 0 | G53: =C53*database!M14 -> 0 | K53: =M53/material_flow!B47 -> 821835.63 | L53: MDF | M53: =950000+420000 -> 1370000 | N53: =M53*(N66*database!M29+N67*database!M30) -> 4.2762156e+08 | O53: =N53/(M53*database!M35) -> 0.48130204
B54: Mass of chemically treated wood (harvest1) | C54: =material_flow!X86 -> 1.0824759e+09 | D54: kg | E54: =C54*database!E14 -> 1.6643518e+08 | G54: =C54*database!M14 -> 12438577 | J54: Potential % contribution of recovered MDF | K54: =400000/K53 -> 0.48671533 | L54: OSB | M54: =600000+500000 -> 1100000 | N54: =M54*N65*database!M29 -> 1.4312001e+08 | O54: =(N54+N55)/((M54+M55)*database!M34) -> 0.34499265 | Q54: =SUM(N53:N55)/(M53*database!M35+(GWP_impact!M54+GWP_impact!M55)*database!M34) -> 0.40063834 | R54: i.e. around 40% of the impact of wood panel production is from resins used
B55: Mass of chemically treated wood (harvest2) | C55: =material_flow!X87 -> 0 | D55: kg | E55: =C55*database!E14 -> 0 | F55: =SUM(E52:E55) -> 1.6643518e+08 | G55: =C55*database!M14 -> 0 | H55: =SUM(G52:G55) -> 12438577 | L55: Particleboard | M55: 2315000 | N55: =M55*N65*database!M29 -> 3.0120256e+08
A56: Particle board production | B56: Volume of particle board (thin1) | C56: =material_flow!J28 -> 0 | D56: m3 | E56: =C56*database!E15 -> 0 | G56: =C56*database!M15 -> 0 | L56: Virgin material used in fibre board: | N56: =M53/material_flow!B47*material_flow!B45 -> 2054589.1 | O56: m3 (green tonnes)
B57: Volume of particle board (thin2) | C57: =material_flow!J29 -> 0 | D57: m3 | E57: =C57*database!E15 -> 0 | G57: =C57*database!M15 -> 0 | N57: =N56/(C_model!AA116+C_model!AA114) -> 0.14940529 | O57: as % of total harvest
B58: Volume of particle board (harvest1) | C58: =material_flow!AF77 -> 1199399.7 | D58: m3 | E58: =C58*database!E15 -> 5.6560067e+09 | G58: =C58*database!M15 -> 3.1437834e+08 | L58: Virgin material used in particle board: | N58: =((M55+M54)*P58/material_flow!B46)*material_flow!B45 -> 2217532.5 | P58: 0.4
B59: Volume of particle board (harvest2) | C59: =material_flow!AF78 -> 0 | D59: m3 | E59: =C59*database!E15 -> 0 | F59: =SUM(E56:E59) -> 5.6560067e+09 | G59: =C59*database!M15 -> 0 | H59: =SUM(G56:G59) -> 3.1437834e+08 | N59: =N58/(C_model!AA116+C_model!AA114) -> 0.16125418
D60: m3 | L60: So, roughly equal quantities of virgin material are used in fibreboard andparticleboard, respective.
A61: Fibre board production | B61: Volume of fibre board (thin1) | C61: =material_flow!J30 -> 0 | D61: m3 | E61: =C61*database!E16 -> 0 | G61: =C61*database!M16 -> 0 | L61: The actual split of virgin material, adjusted to match the material flow diagram, would be roughly 13% for MDF and 14% for particle board. (This tallies up with 'material flow' sheet)
B62: Volume of fibre board (thin2) | C62: =material_flow!J31 -> 0 | D62: m3 | E62: =C62*database!E16 -> 0 | G62: =C62*database!M16 -> 0 | L62: 0.13 | M62: =L62*(C_model!Z114+C_model!Z116) -> 1241240.7
B63: Volume of fibre board (harvest1) | C63: =material_flow!AF80 -> 476391.93 | D63: m3 | E63: =C63*database!E16 -> 5.0694044e+08 | G63: =C63*database!M16 -> 46791178 | L63: 0.14 | M63: =L63*(C_model!Z114+C_model!Z116) -> 1336720.8 | N63: =M62+M63 -> 2577961.5
B64: Volume of fibre board (harvest2) | C64: =material_flow!AF81 -> 0 | D64: m3 | E64: =C64*database!E16 -> 0 | F64: =SUM(E61:E64) -> 5.0694044e+08 | G64: =C64*database!M16 -> 0 | H64: =SUM(G61:G64) -> 46791178
L65: According to Ecoinvent unit processes for particle board | N65: 49.6 | O65: kg urea fomaldehyde resin /m3 particle board
A66: Biomass combustion | L66: According to Ecoinvent unit process for MDF | N66: 46.36 | O66: kg urea fomaldehyde resin /m3 MDF
L67: According to Ecoinvent unit process for MDF | N67: 41.79 | O67: kg melamine formaldehyde resin / m3 MDF
A68: Woodchip production (wet) | B68: Mass of woodchips, wet (measured as dry mass) - (thin1) | C68: =material_flow!D18 -> 0 | D68: kg | E68: =C68*database!E13 -> 0 | G68: =C68*database!M13 -> 0
B69: Mass of woodchips, wet (measured as dry mass) - (thin2) | C69: =material_flow!D19 -> 0 | D69: kg | E69: =C69*database!E13 -> 0 | G69: =C69*database!M13 -> 0 | L69: 2020 Waste wood fuel production | N69: =(2500000000-400000000)*0.8 -> 1680000000 | O69: kg (dry) | Q69: (Pasted from UK baseline workbook)
B70: Mass of woodchips, wet (measured as dry mass) - (harvest1) | C70: =material_flow!I75 -> 4.4756277e+08 | D70: kg | E70: =C70*database!E13 -> 68814642 | G70: =C70*database!M13 -> 5142880.5 | L70: Avoided emissions from waste wood fuel | N70: =-N69*material_flow!B51*database!M42/2 -> -2.1654053e+09 | O70: kg CO2e | Q70: -2.5778634e+09 | R70: kg CO2e
B71: Mass of woodchips, wet (measured as dry mass) - (harvest2) | C71: =material_flow!I76 -> 0 | D71: kg | E71: =C71*database!E13 -> 0 | G71: =C71*database!M13 -> 0 | P71: i.e. | Q71: =N70-Q70 -> 4.1245814e+08 | R71: kg CO2e less avoided emissions when diverting MDF
A72: Wood pellet production | B72: Wood pellets, measured as dry mass - (thin1) | C72: =material_flow!Q30 -> 0 | D72: kg | E72: =C72*database!$E$28 -> 0 | G72: =C72*database!$M$28 -> 0
B73: Wood pellets, measured as dry mass - (thin2) | C73: =material_flow!Q31 -> 0 | D73: kg | E73: =C73*database!$E$28 -> 0 | G73: =C73*database!$M$28 -> 0 | L73: Circularity impact
B74: Wood pellets, measured as dry mass - (harvest1) | C74: =material_flow!AF94 -> 7.9130696e+08 | D74: kg | E74: =C74*database!$E$28 -> 8.622759e+08 | G74: =C74*database!$M$28 -> 70662320 | L74: MDF recovered annually | N74: 400000 | O74: tonnes
B75: Wood pellets, measured as dry mass - (harvest2) | C75: =material_flow!AF95 -> 0 | D75: kg | E75: =C75*database!$E$28 -> 0 | G75: =C75*database!$M$28 -> 0 | L75: Green wood equivalent of recovered MDF | N75: =N74*material_flow!B45 -> 1000000 | O75: m3 | P75: =N75*material_flow!B44/1000 -> 449000 | Q75: dry tonnes | R75: =P75*(1+material_flow!B56) -> 862080 | S75: green tonnes
A76: Heat production (embodied emissions) | B76: Heat from biomass (woodchips) (thin1) | C76: 0 | D76: MJ | E76: =C76*database!$E$43 -> 0 | G76: =C76*database!$M$43 -> 0 | N76: =N75/material_flow!D41 -> 0.072717845 | O76: % of annual harvest
B77: Heat from biomass (woodchips) (thin2) | C77: 0 | D77: MJ | E77: =C77*database!$E$43 -> 0 | G77: =C77*database!$M$43 -> 0
B78: Heat from biomass (woodchips) (harvest1) | C78: =material_flow!AF89 -> 2.0836023e+09 | D78: MJ | E78: =C78*database!$E$43 -> 23532107 | G78: =C78*database!$M$43 -> 4271863.4 | L78: Increased HWP C storage is: | O78: =-(0.8*N74*0.5*44/12)*50%+HWP!AF100 -> -421611.18 | P78: tonnes CO2e | Q78: =-(0.8*N74*0.5*44/12) -> -586666.67
B79: Heat from biomass (woodchips) (harvest2) | C79: =material_flow!AF90 -> 0 | D79: MJ | E79: =C79*database!$E$43 -> 0 | G79: =C79*database!$M$43 -> 0 | L79: Avoided emissions from reduced MDF manufacturing emissions is: | O79: =-0.25*T14/1000 -> -223779.04 | P79: tonnes CO2e
A80: Electricity production (embodied emissions) | B80: Electricity from biomass (woodchips/pellets) (thin1) | C80: =material_flow!Q32 -> 0 | D80: kWh | L80: Total recovered MDF GWP impact: | O80: =SUM(O78:O79) -> -645390.22 | P80: tonnes CO2e
B81: Electricity from biomass (woodchips/pellets) (thin2) | C81: =material_flow!Q33 -> 0 | D81: kWh | L81: Reduced harvest volume due to MDF recycling (at 400ktonnes/year) | O81: =400000*material_flow!B45 -> 1000000 | P81: green m3/yr equivalent
B82: Electricity from biomass (woodchips/pellets) (harvest1) | C82: =material_flow!AF96 -> 5.8034452e+09 | D82: kWh | O82: =GWP_impact!O81/C_model!AA116 -> 0.072717845 | P82: of current UK harvest | R82: So if baseline is harvesting over 50 yrs, this has the impact of increasing UK rotation length to
B83: Electricity from biomass (woodchips/pellets) (harvest2) | C83: =material_flow!AF97 -> 0 | D83: kWh | R83: =50/(100%-O82) -> 53.92102 | S83: yrs
A84: Combustion (biogenic emissions) | B84: Mass biomass (thin1) | C84: 0 | D84: kg CO2 eq | G84: =C84 -> 0 | Q84: or increasing it by | R84: =(R83-50)/50 -> 0.078420408
B85: Mass biomass (thin2) | C85: 0 | D85: kg CO2 eq | G85: =C85 -> 0 | R85: tonnes CO2
B86: Mass biomass (harvest1) | C86: 0 | D86: kg CO2 eq | G86: =C86 -> 0 | Q86: Average annual impact of lengthened rotation (from 50 to 54 yrs) | R86: -446935.27 | S86: 100 yr average
B87: Mass biomass (harvest2) | C87: 0 | D87: kg CO2 eq | F87: =SUM(E68:E87) -> 9.5462265e+08 | G87: =C87 -> 0 | H87: =SUM(G68:G87) -> 80077064 | R87: -1415163.1 | S87: 28 yr average | T87: (most of the C gain is achieved by 2050, with marginal continued net C sequestration continuing thereafter).
A89: Paper production
A90: Graphics paper (virgin newsprint) | B90: Mass newsprint (harvest1) | C90: =material_flow!M85*1000 -> 1.2278377e+08 | D90: kg | E90: =C90*database!$E$19 -> 1.9777325e+09 | G90: =C90*database!$M$19 -> 1.7262405e+08
B91: Mass newsprint (harvest2) | C91: =material_flow!M86*1000 -> 0 | D91: kg | E91: =C91*database!$E$19 -> 0 | G91: =C91*database!$M$19 -> 0 | L91: Altered UK production (for calculating import substitution/increase)
A92: Paperboard (Corrugated board box) | B92: Mass paperboard (harvest1) | C92: =material_flow!M87*1000 -> 1.3751783e+08 | D92: kg | E92: =C92*database!E17 -> 1.5635711e+09 | G92: =C92*database!M17 -> 1.2686989e+08
B93: Mass paperboard (harvest2) | C93: =material_flow!M88*1000 -> 0 | D93: kg | E93: =C93*database!E17 -> 0 | F93: =SUM(E90:E93) -> 3.5413036e+09 | G93: =C93*database!M17 -> 0 | H93: =SUM(G90:G93) -> 2.9949395e+08 | M93: Change in amount (%) | N93: Change in amount (m3) | O93: Change in amount (tonnes) | P93: GWP (kg CO2e/m3) | Q93: Manufacturing impact (kg CO2e)
L94: carcassing | M94: =material_flow!AT64-material_flow!AP64 -> -0.0036830357 | N94: =M94*C_model!$AA$116 -> -50648.307 | P94: =database!M32 -> 100.66472 | Q94: =P94*N94 -> -5098497.7
A95: Horticultural mulch degradation | B95: Mass horticultural mulch (thin1) - emitted (biogenic) | C95: 0 | D95: kg CO2 eq | G95: =C95 -> 0 | L95: fencing | M95: =material_flow!AT65-material_flow!AP65 -> -0.014732143 | N95: =M95*C_model!$AA$116 -> -202593.23 | P95: =database!M33 -> 67.734524 | Q95: =P95*N95 -> -13722556
B96: Mass horticultural mulch (thin2) - emitted | C96: 0 | D96: kg CO2 eq | G96: =C96 -> 0 | L96: P&P | M96: =material_flow!AT66-material_flow!AP66 -> -0.055245536 | N96: =M96*C_model!$AA$116 -> -759724.6 | P96: =database!M33 -> 67.734524 | Q96: =P96*N96 -> -51459584
B97: Mass horticultural mulch (harvest1) - emitted | C97: 0 | D97: kg CO2 eq | G97: =C97 -> 0 | L97: Total (sawnwood) | N97: =SUM(N94:N96) -> -1012966.1 | O97: =N97*material_flow!B44/1000 -> -454821.79 | Q97: =SUM(Q94:Q96) -> -70280637
B98: Mass horticultural mulch (harvest2) - emitted | C98: =mulch_C_storage!L34*1000*44/12 -> 0 | D98: kg CO2 eq | G98: =C98 -> 0 | H98: =SUM(G95:G98) -> 0 | L98: fibreboard | M98: 0 | N98: 0 | O98: =N98/material_flow!B47 -> 0 | P98: =database!M35 -> 648.51695 | Q98: =P98*N98 -> 0
A99: Horticultural mulch C storage | B99: Mass horticultural mulch (thin1) - stored in soil | C99: =-1*mulch_C_storage!L27*1000*44/12 -> 0 | D99: kg CO2 eq | G99: =C99 -> 0 | L99: particle board | M99: 0 | N99: 0 | O99: =N99/material_flow!B46 -> 0 | P99: =database!M34 -> 377.13585 | Q99: =P99*N99 -> 0
B100: Mass horticultural mulch (thin2) - stored in soil | C100: =-1*mulch_C_storage!L29*1000*44/12 -> 0 | D100: kg CO2 eq | G100: =C100 -> 0 | L100: Total (wood panels) | M100: =SUM(M98:M99) -> 0 | N100: =SUM(N98:N99) -> 0 | O100: =SUM(O98:O99) -> 0 | Q100: =SUM(Q98:Q99) -> 0
B101: Mass horticultural mulch (harvest1) - stored in soil | C101: =-1*mulch_C_storage!L28*1000*44/12 -> -3.446796e+08 | D101: kg CO2 eq | G101: =C101 -> -3.446796e+08 | L101: Wood fuel | M101: 0 | N101: =M101*C_model!$AA$116 -> 0 | O101: =N101*material_flow!B44/1000*0.9/0.8 -> 0 | P101: =database!M38 -> 0.10114447 | Q101: =P101*O101*1000 -> 0
B102: Mass horticultural mulch (harvest2) - stored in soil | C102: =-1*mulch_C_storage!L30*1000*44/12 -> 0 | D102: kg CO2 eq | F102: =SUM(E95:E102) -> 0 | G102: =C102 -> 0 | H102: =SUM(G99:G102) -> -3.446796e+08 | O102: =(O101+O100+O97)/O103 -> -0.034331355 | P102: Total | Q102: =Q101+Q100+Q97 -> -70280637
L103: Assume transport mix of substituted imports: | O103: =13248000 -> 13248000
...

Sheet database
A1: ecoinvent
E3: MJ | F3: kg Sb eq | G3: molc H+ eq | H3: CTUe | I3: kg P eq | J3: CTUh | K3: CTUh | L3: kBq U235 eq | M3: kg CO2 eq | N3: kg N eq | O3: kg CFC-11 eq | P3: kg NMVOC eq | Q3: molc N eq
C4: number | D4: units | E4: Abiotic depletion (fossil fuels) - CML-IA baseline | F4: Abiotic depletion - CML-IA baseline | G4: Acidification - ILCD 2011 Midpoint+ | H4: Freshwater ecotoxicity - ILCD 2011 Midpoint+ | I4: Freshwater eutrophication - ILCD 2011 Midpoint+ | J4: Human toxicity, cancer effects - ILCD 2011 Midpoint+ | K4: Human toxicity, non-cancer effects - ILCD 2011 Midpoint+ | L4: Ionizing radiation HH - ILCD 2011 Midpoint+ | M4: IPCC GWP 100a - IPCC 2013 GWP 100a | N4: Marine eutrophication - ILCD 2011 Midpoint+ | O4: Ozone depletion - ILCD 2011 Midpoint+ | P4: Photochemical ozone formation - ILCD 2011 Midpoint+ | Q4: Terrestrial eutrophication - ILCD 2011 Midpoint+ | R4: Water use (Midpoint, per country, pre-defined factors) (m3)
A5: tree seedling production, in unheated greenhouse | tree seedling, for planting | APOS, U | B5: Europe | C5: 1 | D5: seedling | E5: 0.50142953 | F5: 8.6460007e-08 | G5: 0.00027777672 | H5: 0.56931224 | I5: 3.4283127e-05 | J5: 3.1740162e-09 | K5: 1.4348261e-08 | L5: 0.018402054 | M5: 0.044992334 | N5: 5.4105629e-05 | O5: 5.1594309e-09 | P5: 0.00012658456 | Q5: 0.00061423845 | R5: 16.824261
A6: delimbing__with_excavator_based_processor___delimbing_sorting__excavator_based_processor___APOS__U | C6: 1 | D6: hr | E6: 940.92823 | F6: 5.581457e-05 | G6: 0.30251967 | H6: 133.03443 | I6: 0.0041037132 | J6: 2.3720716e-06 | K6: 6.1526273e-06 | L6: 4.6264385 | M6: 65.465624 | N6: 0.10529915 | O6: 1.1692768e-05 | P6: 0.33268431 | Q6: 1.1539859
A7: forwarding__forwarder___forwarding__forwarder___APOS__U | B7: Europe | C7: 1 | D7: hr | E7: 646.06518 | F7: 8.8374005e-05 | G7: 0.24740937 | H7: 139.54399 | I7: 0.0034994786 | J7: 1.5417221e-06 | K7: 4.916495e-06 | L7: 3.2767158 | M7: 45.552028 | N7: 0.090790589 | O7: 7.8876478e-06 | P7: 0.28021412 | Q7: 0.99329652
A8: harvesting__forestry_harvester___harvesting__forestry_harvester___APOS__U | B8: Eurpoe | C8: 1 | D8: hr | E8: 784.49695 | F8: 0.00010671107 | G8: 0.26812657 | H8: 152.26202 | I8: 0.0052445892 | J8: 2.0693247e-06 | K8: 5.5750988e-06 | L8: 4.0914196 | M8: 55.823581 | N8: 0.094825011 | O8: 9.4350356e-06 | P8: 0.2861735 | Q8: 0.99418235
A9: debarking, softwood, in forest | sawlog and veneer log, softwood, debarked, measured as solid wood | APOS, U | B9: Europe | C9: 1 | D9: m3 | E9: 298.90461 | F9: 4.1297881e-05 | G9: 0.12738937 | H9: 73.474502 | I9: 0.0019863644 | J9: 6.8973132e-07 | K9: 2.9785553e-06 | L9: 1.6203925 | M9: 20.22538 | N9: 0.048105621 | O9: 3.621108e-06 | P9: 0.24535207 | Q9: 0.50798802
A10: sawing, softwood | sawnwood, softwood, raw | APOS, U - CH | B10: Switzerland | C10: 1 | D10: m3 | E10: 362.76537 | F10: 7.8213125e-05 | G10: 0.14158783 | H10: 165.82617 | I10: 0.0049142027 | J10: 1.789773e-06 | K10: 4.5502955e-06 | L10: 8.8663967 | M10: 24.750813 | N10: 0.051045199 | O10: 5.1381587e-06 | P10: 0.49293469 | Q10: 0.5209113
A11: beam, softwood, raw, kiln drying to u=20% | sawnwood, beam, softwood, raw, dried (u=20%) | APOS, U - CH | B11: Switzerland | C11: 1 | D11: m3 | E11: 403.15283 | F11: 9.2301177e-05 | G11: 0.27129568 | H11: 268.38811 | I11: 0.0093174076 | J11: 2.4034637e-06 | K11: 2.4210783e-05 | L11: 15.333226 | M11: 28.636193 | N11: 0.10975408 | O11: 6.2737883e-06 | P11: 0.67096434 | Q11: 1.1896497
A12: planing, beam, softwood, u=20% | sawnwood, beam, softwood, dried (u=20%), planed | APOS, U | B12: Switzerland | C12: 1 | D12: m3 | E12: 468.80453 | F12: 0.0003286146 | G12: 0.30267296 | H12: 367.41466 | I12: 0.012090505 | J12: 4.3031529e-06 | K12: 2.5651915e-05 | L12: 18.468791 | M12: 35.16352 | N12: 0.11034068 | O12: 7.140442e-06 | P12: 0.68872849 | Q12: 1.2551147
A13: wood chips production, softwood, at sawmill | wood chips, wet, measured as dry mass | APOS, U | B13: Switzerland | C13: 1 | D13: kg | E13: 0.15375417 | F13: 3.6872993e-08 | G13: 6.6347556e-05 | H13: 0.1273407 | I13: 4.9994455e-06 | J13: 1.1222508e-09 | K13: 3.2055826e-09 | L13: 0.011710007 | M13: 0.011490859 | N13: 2.1058937e-05 | O13: 2.9961464e-09 | P13: 0.00017594819 | Q13: 0.00023416365
A14: wood preservation, dipping/immersion, solvent-based preservative, outdoor use, no ground contact | wood preservation, dipping/immersion method, organic solvent-based, outdoor use, no ground contact | APOS, U | B14: Europe | C14: 1 | D14: kg | E14: 0.15375417 | F14: 3.6872993e-08 | G14: 6.6347556e-05 | H14: 0.1273407 | I14: 4.9994455e-06 | J14: 1.1222508e-09 | K14: 3.2055826e-09 | L14: 0.011710007 | M14: 0.011490859 | N14: 2.1058937e-05 | O14: 2.9961464e-09 | P14: 0.00017594819 | Q14: 0.00023416365
A15: particle board production, for indoor use | particle board, for indoor use | APOS, U | B15: Europe | C15: 1 | D15: m3 | E15: 4715.6979 | F15: 0.0013352376 | G15: 1.8975561 | H15: 2206.7858 | I15: 0.10620836 | J15: 1.674548e-05 | K15: 0.00012575456 | L15: 42.851531 | M15: 262.11307 | N15: 0.37291613 | O15: 3.6399902e-05 | P15: 1.9174037 | Q15: 5.391368
A16: fibreboard production, soft, from wet & dry processes | fibreboard, soft | APOS, U | B16: Europe | C16: 1 | D16: m3 | E16: 1064.1247 | F16: 0.09970872 | G16: 1.2468077 | H16: 4741.8251 | I16: 0.099840564 | J16: 1.6690578e-05 | K16: 0.0004409717 | L16: 1527.6325 | M16: 98.21992 | N16: 0.25039184 | O16: 7.649065e-06 | P16: 0.58531458 | Q16: 2.2504663
A17: corrugated board box production | corrugated board box | APOS, U | B17: Europe | C17: 1 | D17: kg | E17: 11.369952 | F17: 6.7848896e-06 | G17: 0.0046849155 | H17: 12.24638 | I17: 0.00054684053 | J17: 6.9575471e-08 | K17: 5.4709133e-07 | L17: 0.12966873 | M17: 0.92257052 | N17: 0.0019225096 | O17: 1.0367478e-07 | P17: 0.0029151883 | Q17: 0.012738448
A18: paper production, newsprint, recycled | paper, newsprint | APOS, U | B18: Europe | C18: 1 | D18: kg | E18: 12.459802 | F18: 5.1106935e-06 | G18: 0.0070873533 | H18: 11.346343 | I18: 0.00089462903 | J18: 8.497983e-08 | K18: 6.8528278e-07 | L18: 0.41283974 | M18: 1.056273 | N18: 0.0012181381 | O18: 1.3732423e-07 | P18: 0.00292708 | Q18: 0.011722944
... A26: cement_production__Portland___cement__Portland___APOS__U | B26: Europe, not including switzerland | C26: 1 | D26: kg | E26: 2.9515955 | F26: 3.5654994e-07 | G26: 0.0021145503 | H26: 1.2922588 | I26: 9.8345666e-05 | J26: 1.1796771e-08 | K26: 7.44442e-08 | L26: 0.036383279 | M26: 0.86069472 | N26: 0.0005474277 | O26: 2.6289325e-08 | P26: 0.0015237755 | Q26: 0.0062625145
A27: market for gravel, round | gravel, round | APOS, U | B27: Switzerland | C27: 1 | D27: kg | E27: 0.070832502 | F27: 3.2000611e-08 | G27: 3.6509535e-05 | H27: 0.036705198 | I27: 1.0365764e-06 | J27: 4.4411564e-10 | K27: 1.6464611e-09 | L27: 0.0013339067 | M27: 0.0050513984 | N27: 1.2831544e-05 | O27: 9.5312495e-10 | P27: 3.8434253e-05 | Q27: 0.00014670775 | R27: 2.0985757
A28: wood pellet production | wood pellet, measured as dry mass | APOS, U | B28: Europe | C28: 1 | D28: kg | E28: 1.0896857 | F28: 2.5689841e-07 | G28: 0.00090090864 | H28: 1.2622333 | I28: 7.6022553e-05 | J28: 8.7661627e-09 | K28: 1.2384024e-07 | L28: 0.041478254 | M28: 0.089298242 | N28: 0.00032805048 | O28: 1.0552927e-08 | P28: 0.00072192423 | Q28: 0.0030672233 | R28: 46.064447
A29: market for urea formaldehyde resin | urea formaldehyde resin | APOS, U | B29: Europe | C29: 1 | D29: kg | E29: 51.797364 | F29: 1.7439891e-05 | G29: 0.017908929 | H29: 20.043569 | I29: 0.00063742337 | J29: 1.341795e-07 | K29: 8.2646455e-07 | L29: 0.16211118 | M29: 2.6231673 | N29: 0.0022011377 | O29: 4.1321944e-07 | P29: 0.0070393165 | Q29: 0.046583793 | R29: 214.83049
A30: market for melamine formaldehyde resin | melamine formaldehyde resin | APOS, U | B30: RER | C30: 1 | D30: kg | E30: 78.349799 | F30: 2.8186352e-05 | G30: 0.035661362 | H30: 33.082263 | I30: 0.0011080479 | J30: 2.1118045e-07 | K30: 1.3541709e-06 | L30: 0.28346339 | M30: 4.5590451 | N30: 0.0039566299 | O30: 6.3801103e-07 | P30: 0.011150539 | Q30: 0.10039947 | R30: 413.51561
A31: market for phenolic resin | phenolic resin | APOS, U | B31: Europe | C31: 1 | D31: kg | E31: 80.450584 | F31: 1.3723597e-05 | G31: 0.015928429 | H31: 27.839781 | I31: 0.0012934519 | J31: 1.9356711e-07 | K31: 8.7131676e-07 | L31: 0.26761583 | M31: 3.5220246 | N31: 0.0028828831 | O31: 1.9268649e-07 | P31: 0.015615405 | Q31: 0.030068816 | R31: 422.50987
A32: market for sawnwood, softwood, dried (u=20%), planed | sawnwood, softwood, dried (u=20%), planed | APOS, U | B32: Europe | C32: 1 | D32: m3 | E32: 1259.0977 | F32: 0.00043255176 | G32: 0.72199588 | H32: 723.96365 | I32: 0.033495939 | J32: 8.4070294e-06 | K32: 3.8292578e-05 | L32: 10.596233 | M32: 100.66472 | N32: 0.22197201 | O32: 1.1285442e-05 | P32: 0.69627245 | Q32: 2.4637272 | R32: 18451.641
A33: market for sawnwood, softwood, raw, dried (u=20%) | sawnwood, softwood, raw, dried (u=20%) | APOS, U | B33: Europe | C33: 1 | D33: m3 | E33: 907.53504 | F33: 0.00017584577 | G33: 0.45187747 | H33: 426.53578 | I33: 0.016387946 | J33: 4.7211333e-06 | K33: 1.6863899e-05 | L33: 6.3938437 | M33: 67.734524 | N33: 0.14417562 | O33: 9.327938e-06 | P33: 0.47808673 | Q33: 1.5613005 | R33: 8863.392
A34: market for particle board, for indoor use | particle board, for indoor use | APOS, U | B34: Global | C34: 1 | D34: m3 | E34: 6173.9771 | F34: 0.0015431111 | G34: 3.0988404 | H34: 2659.3021 | I34: 0.11370488 | J34: 2.1077667e-05 | K34: 0.00013346343 | L34: 36.644419 | M34: 377.13585 | N34: 0.53712751 | O34: 4.883171e-05 | P34: 2.3633308 | Q34: 7.1541421 | R34: 55519.748
A35: medium density fibre board production, uncoated | medium density fibreboard | APOS, U | B35: Europe | C35: 1 | D35: m3 | E35: 10249.661 | F35: 0.0061716911 | G35: 4.5669076 | H35: 7186.1584 | I35: 0.29165632 | J35: 7.4659419e-05 | K35: 0.00035444271 | L35: 77.587717 | M35: 648.51695 | N35: 0.82415439 | O35: 7.9725196e-05 | P35: 3.0124883 | Q35: 12.701677 | R35: 105060.79
A36: transport, freight train | transport, freight train | APOS, U | B36: Germany | C36: 1 | D36: t.km | E36: 0.65952444 | F36: 1.0076591e-07 | G36: 0.00032808923 | H36: 0.66521726 | I36: 6.5014358e-05 | J36: 9.163771e-09 | K36: 2.3915046e-08 | L36: 0.010173769 | M36: 0.062125802 | N36: 9.7083542e-05 | O36: 4.5498489e-09 | P36: 0.00024398487 | Q36: 0.0011171339 | R36: 9.4169268
A37: transport, freight, sea, transoceanic ship | transport, freight, sea, transoceanic ship | APOS, U | B37: Global | C37: 1 | D37: t.km | E37: 0.15488326 | F37: 2.7788327e-09 | G37: 0.00028789005 | H37: 0.023989361 | I37: 1.5339179e-06 | J37: 3.1058076e-10 | K37: 9.3070096e-10 | L37: 0.0010149533 | M37: 0.011306099 | N37: 5.6887192e-05 | O37: 1.804502e-09 | P37: 0.00016643885 | Q37: 0.00063355003 | R37: 0.85070883
A38: market for wood pellet | wood pellet, measured as dry mass | APOS, U | B38: Europe | C38: 1 | D38: kg | E38: 1.2710407 | F38: 2.8862116e-07 | G38: 0.00096839537 | H38: 1.3094775 | I38: 7.6972679e-05 | J38: 9.1320628e-09 | K38: 1.2669202e-07 | L38: 0.042370359 | M38: 0.10114447 | N38: 0.00035216041 | O38: 1.2769859e-08 | P38: 0.00079591614 | Q38: 0.0033308782 | R38: 46.44431
A40: Energy options:
A41: heat production, at hard coal industrial furnace 1-10MW | heat, district or industrial, other than natural gas | APOS, U | B41: Europe, not including switzerland | C41: 1 | D41: MJ | E41: 1.1476616 | F41: 1.0461093e-08 | G41: 0.0012909204 | H41: 0.45428836 | I41: 4.6171976e-05 | J41: 5.4322328e-09 | K41: 2.0014444e-08 | L41: 0.0022613143 | M41: 0.13788883 | N41: 0.00015037412 | O41: 1.5788959e-09 | P41: 0.00044903437 | Q41: 0.0015847112 | R41: 2.3619944
A42: electricity production, natural gas, combined cycle power plant | electricity, high voltage | APOS, S | B42: UK | C42: 1 | D42: kWhr | E42: 6.0049845 | F42: 3.0908278e-08 | G42: 0.00020524442 | H42: 0.074958794 | I42: 2.187643e-06 | J42: 1.2981743e-09 | K42: 4.4899159e-09 | L42: 0.010973123 | M42: 0.35149487 | N42: 8.9238909e-05 | O42: 2.6491715e-08 | P42: 0.00027305499 | Q42: 0.0009754403
A43: heat production, softwood chips from forest, at furnace 1000kW | heat, district or industrial, other than natural gas | APOS, U | B43: Switzerland | C43: 1 | D43: MJ | E43: 0.011293953 | F43: 1.0803102e-08 | G43: 0.00013875687 | H43: 0.11873882 | I43: 4.3190767e-06 | J43: 7.0856084e-10 | K43: 3.2904163e-08 | L43: 0.0019874552 | M43: 0.0020502298 | N43: 6.3820887e-05 | O43: 3.1544237e-10 | P43: 0.00017456801 | Q43: 0.00073132576
A44: electricity production, oil | electricity, high voltage | APOS, U | B44: UK | C44: 1 | D44: kWh | E44: 18.343498 | F44: 1.3711786e-07 | G44: 0.020691901 | H44: 1.726864 | I44: 2.7229564e-05 | J44: 8.8295289e-09 | K44: 5.2726809e-08 | L44: 0.087600786 | M44: 1.3157409 | N44: 0.0018907738 | O44: 2.3601563e-07 | P44: 0.0060209627 | Q44: 0.019410866
A45: heat production, natural gas, at industrial furnace >100kW | heat, district or industrial, natural gas | APOS, U | B45: Europe, not including switzerland | C45: 1 | D45: MJ | E45: 1.1247711 | F45: 4.0435634e-09 | G45: 5.8516144e-05 | H45: 0.027124517 | I45: 1.023608e-06 | J45: 3.5042993e-10 | K45: 8.6257459e-10 | L45: 0.00075182235 | M45: 0.069703854 | N45: 1.622342e-05 | O45: 8.7860586e-09 | P45: 5.986167e-05 | Q45: 0.00017693649 | R45: 0.45614325
A46: electricity production, hard coal | electricity, high voltage | APOS, U | C46: 1 | D46: kWhr | E46: 11.971522 | F46: 1.3686621e-07 | G46: 0.0086370122 | H46: 6.2804011 | I46: 0.00059009733 | J46: 7.5794529e-08 | K46: 3.2177871e-07 | L46: 0.012707751 | M46: 1.0735192 | N46: 0.0011802069 | O46: 1.2828483e-08 | P46: 0.0032491585 | Q46: 0.012093525
A47: electricity, from municipal waste incineration to generic market for electricity, medium voltage | electricity, medium voltage | APOS, U | B47: UK | C47: 1 | D47: kWh | E47: 11.92833 | F47: 1.4809315e-06 | G47: 0.001743414 | H47: 1.6823961 | I47: 5.3788761e-05 | J47: 1.1368024e-08 | K47: 1.6177978e-07 | L47: 0.10238592 | M47: 0.16214517 | N47: 0.00035154101 | O47: 6.2236943e-07 | P47: 0.0010695078 | Q47: 0.0047213542
A48: heat and power co-generation, wood chips, 6667 kW, state-of-the-art 2014 | electricity, high voltage | APOS, S | B48: UK (adapted from Swiss plant) | C48: 1 | D48: kWh | E48: 0.51743142 | F48: 1.0393795e-07 | G48: 0.0020105913 | H48: 0.86592637 | I48: 3.8233776e-05 | J48: 5.8397118e-09 | K48: 3.5039975e-07 | L48: 0.0027366692 | M48: 0.047007723 | N48: 0.00058093742 | O48: 1.5679679e-08 | P48: 0.0016422899 | Q48: 0.0097587581
A49: heat and power co-generation, wood chips, 6667 kW, state-of-the-art 2014 | electricity, high voltage | APOS, S | B49: Switzerland | C49: 1 | D49: kWh | E49: 0.04147017 | F49: 4.5020817e-08 | G49: 0.0019240991 | H49: 0.87470563 | I49: 4.4240212e-05 | J49: 5.313968e-09 | K49: 4.1622049e-07 | L49: 0.00024933653 | M49: 0.014126439 | N49: 0.00093479432 | O49: 9.9499153e-09 | P49: 0.0024771698 | Q49: 0.010577376
A50: electricity production, natural gas, 10MW | electricity, high voltage | APOS, U | B50: UK | C50: 1 | D50: kWhr | E50: 12.226682 | F50: 4.5096471e-08 | G50: 0.0015382749 | H50: 0.15813028 | I50: 5.5622315e-06 | J50: 2.9971705e-09 | K50: 7.448257e-09 | L50: 0.0016019815 | M50: 0.72536493 | N50: 0.00064381029 | O50: 1.0893074e-07 | P50: 0.001863489 | Q50: 0.00704602
A51: heat production, heavy fuel oil, at industrial furnace 1MW | heat, district or industrial, other than natural gas | APOS, U | B51: Europe, not including switzerland | C51: 1 | D51: MJ | E51: 1.3611601 | F51: 1.0025603e-08 | G51: 0.00077986125 | H51: 0.1084816 | I51: 2.3620574e-06 | J51: 6.4002429e-10 | K51: 4.8598879e-09 | L51: 0.0067027687 | M51: 0.095901062 | N51: 5.8536921e-05 | O51: 1.7514801e-08 | P51: 0.0002197379 | Q51: 0.00063904128
A52: electricity production, solar tower power plant, 20 MW | electricity, high voltage | APOS, U | B52: RoW (but actually S Africa) | C52: 1 | D52: kWh | E52: 0.59212337 | F52: 2.4015689e-07 | G52: 0.00024266139 | H52: 0.89892674 | I52: 9.9988769e-06 | J52: 7.1795122e-09 | K52: 1.5010369e-08 | L52: 0.0010684336 | M52: 0.047672528 | N52: 3.5822232e-05 | O52: 3.6004348e-09 | P52: 0.00010183904 | Q52: 0.00033229172 | R52: 3.3486937

Sheet C_model
A1: Exported from CBM-CFS3 (summary tables at bottom of spreadsheet)
A3: Annual C stock - total ecosystem (tonnes C)- no thin | G3: Annual C stock - total ecosystem (tonnes C) - >75% thin | M3: Annual C stock - total ecosystem (tonnes C) - natural (zero mgt) | Q3: Ecosystem transfers - Softwood harvest (biomass) (tonnes C) - no thin | W3: Ecosystem transfers - Softwood harvest (biomass) (tonnes C) - >75%thin
A4: Time Step(GH model (no thin) average soil Default Simulation As | B4: Total Ecosystem(GH model (no thin) podzolic soil Default Simula | C4: Total Ecosystem(GH model (no thin) luvisolic soil Default Simul | D4: Total Ecosystem(GH model (no thin) gleysolic soil v2 Default Si | E4: Total Ecosystem(SSYC18 no_thin Default Simulat | G4: Time Step | H4: Total Ecosystem(GH model (thinned) podzolic soil Default Simula | I4: Total Ecosystem(GH model (thinned) luvisolic soil Default Simul | J4: Total Ecosystem(GH model (thinned) gleysolic soil v3 Default Si | K4: Total Ecosystem(SSYC18 int_thin Default Simulation Assumption) | M4: Time Step | N4: Total Ecosystem(Afforestation 50BL50C v3 Default Simulation Ass | Q4: Time Step(GH model (no thin) average soil Default Simulation As | R4: Softwood Harvest (Biomass)(SSYC18 no_thin Default Simulation A | W4: Time Step '(Biomass)(SSYC18 int_thin Default Simulation | X4: Softwood Harvest (Biomass)(SSYC18 int_thin Default Simulation A
A5: 0 | B5: 74 | C5: 40 | D5: 106 | E5: 81 | G5: 0 | H5: 74 | I5: 40 | J5: 106 | K5: 81 | M5: 0 | N5: 81 | Q5: 0 | R5: 0 | W5: 0 | X5: 0
A6: 1 | B6: 73.854216 | C6: 39.966422 | D6: 105.74862 | E6: 80.876647 | G6: 1 | H6: 73.825809 | I6: 39.938007 | J6: 105.72021 | K6: 80.836466 | M6: 1 | N6: 80.842938 | Q6: 1 | R6: 0 | W6: 1 | X6: 0
A7: 2 | B7: 74.002478 | C7: 40.226516 | D7: 105.79162 | E7: 81.124261 | G7: 2 | H7: 73.887061 | I7: 40.111083 | J7: 105.67621 | K7: 80.974991 | M7: 2 | N7: 80.94241 | Q7: 2 | R7: 0 | W7: 2 | X7: 0
A8: 3 | B8: 74.532931 | C8: 40.868426 | D8: 106.21717 | E8: 81.813289 | G8: 3 | H8: 74.277329 | I8: 40.612824 | J8: 105.96157 | K8: 81.499972 | M8: 3 | N8: 81.339349 | Q8: 3 | R8: 0 | W8: 3 | X8: 0
A9: 4 | B9: 75.507158 | C9: 41.953748 | D9: 107.08684 | E9: 82.989471 | G9: 4 | H9: 75.066444 | I9: 41.513031 | J9: 106.64613 | K9: 82.469886 | M9: 4 | N9: 82.061726 | Q9: 4 | R9: 0 | W9: 4 | X9: 0
A10: 5 | B10: 76.972481 | C10: 43.5298 | D10: 108.44795 | E10: 84.685265 | G10: 5 | H10: 76.311243 | I10: 42.868551 | J10: 107.78671 | K10: 83.929504 | M10: 5 | N10: 83.129701 | Q10: 5 | R10: 0 | W10: 5 | X10: 0
A11: 6 | B11: 78.965259 | C11: 45.632938 | D11: 110.33686 | E11: 86.922905 | G11: 6 | H11: 78.05847 | I11: 44.726142 | J11: 109.43008 | K11: 85.913211 | M11: 6 | N11: 84.557311 | Q11: 6 | R11: 0 | W11: 6 | X11: 0
A12: 7 | B12: 81.512256 | C12: 48.289927 | D12: 112.78033 | E12: 89.715985 | G12: 7 | H12: 80.345886 | I12: 47.123554 | J12: 111.61397 | K12: 88.446462 | M12: 7 | N12: 86.353375 | Q12: 7 | R12: 0 | W12: 7 | X12: 0
A13: 8 | B13: 84.631456 | C13: 51.518758 | D13: 115.79634 | E13: 93.070391 | G13: 8 | H13: 83.20273 | I13: 50.090029 | J13: 114.36762 | K13: 91.546611 | M13: 8 | N13: 88.522116 | Q13: 8 | R13: 0 | W13: 8 | X13: 0
A14: 9 | B14: 88.332721 | C14: 55.329291 | D14: 119.39476 | E14: 96.985242 | G14: 9 | H14: 86.650093 | I14: 53.646663 | J14: 117.71214 | K14: 95.223635 | M14: 9 | N14: 91.063651 | Q14: 9 | R14: 0 | W14: 9 | X14: 0
A15: 10 | B15: 92.618441 | C15: 59.723921 | D15: 123.57797 | E15: 101.45372 | G15: 10 | H15: 90.701299 | I15: 57.806779 | J15: 121.66085 | K15: 99.480783 | M15: 10 | N15: 93.974465 | Q15: 10 | R15: 0 | W15: 10 | X15: 0
A16: 11 | B16: 97.484285 | C16: 64.698309 | D16: 128.34165 | E16: 106.46396 | G16: 11 | H16: 95.362361 | I16: 62.576392 | J16: 126.21974 | K16: 104.31534 | M16: 11 | N16: 97.247829 | Q16: 11 | R16: 0 | W16: 11 | X16: 0
... A105: 100 | B105: 298.04703 | C105: 273.61694 | D105: 321.04001 | E105: 303.43356 | G105: 100 | H105: 282.89801 | I105: 258.46799 | J105: 305.89103 | K105: 288.1785 | M105: 100 | N105: 437.99838 | Q105: 100 | R105: 158.79257 | W105: 100 | X105: 163.00079
Q106: Assumptions:
A107: yr100-yr0 | B107: =B105-B5 -> 224.04703 | C107: =C105-C5 -> 233.61694 | D107: =D105-D5 -> 215.04001 | E107: =E105-E5 -> 222.43356 | F107: tonnes C | G107: yr100-yr0 | H107: =H105-H5 -> 208.89801 | I107: =I105-I5 -> 218.46799 | J107: =J105-J5 -> 199.89103 | K107: =(K105-K5)*Z120 -> 3207174.2 | L107: tonnes C | M107: yr100-yr0 | N107: =N105-N5 -> 356.99838 | O107: tonnes C | Q107: C content of oven dry wood | R107: 0.4995
A108: average stock change | B108: =B107/100 -> 2.2404703 | C108: =C107/100 -> 2.3361694 | D108: =D107/100 -> 2.1504001 | E108: =E107/100 -> 2.2243356 | F108: tonnes C/yr | G108: average annual stock change | H108: =H107/100 -> 2.0889801 | I108: =I107/100 -> 2.1846799 | J108: =J107/100 -> 1.9989103 | K108: =K107/100 -> 32071.742 | L108: tonnes C/yr | Q108: moisture content of green wood | R108: 0.47
A109: yr100-yr0 | B109: =B107*44/12 -> 821.50576 | C109: =C107*44/12 -> 856.59544 | D109: =D107*44/12 -> 788.48002 | E109: =E107*44/12 -> 815.58973 | F109: tonnes CO2 | G109: yr100-yr0 | H109: =H107*44/12 -> 765.95936 | I109: =I107*44/12 -> 801.04928 | J109: =J107*44/12 -> 732.93376 | K109: =K107*44/12 -> 11759639 | L109: tonnes CO2 | Q109: Basic SG (g/cm3) (green wood) | R109: =0.37 -> 0.37
Q110: Avge moisture content SS (on harvest) | R110: 0.92
Q111: Avg SG ss (on harvest) (g/cm3) | R111: =R109*(1+R110) -> 0.7104
T112: =S114*(1+R110) -> 597.31683
Q113: Unthinned stand | R113: tonnes C | S113: tonnes dry wood | T113: tonnes green wood | U113: vol green wood (m3) | W113: >75% thinned | X113: tonnes C | Y113: tonnes dry wood | Z113: tonnes green wood | AA113: vol green wood (m3)
Q114: harvest1 (yr 50) | R114: =R55 -> 155.39571 | S114: =R114/$R$107 -> 311.10251 | T114: =S114*(1+$R$110) -> 597.31683 | W114: thin1 (yr 21) | X114: 0 | Y114: =X114/$R$107 -> 0 | Z114: =Y114*(1+$R$110) -> 0 | AA114: =Y114/material_flow!$B$43 -> 0
Q115: harvest2 (yr 100) | R115: =R105 -> 158.79257 | S115: =R115/$R$107 -> 317.90305 | T115: =S115*(1+$R$110) -> 610.37385 | W115: thin2 (yr 71) | X115: 0 | Y115: =X115/$R$107 -> 0 | Z115: =Y115*(1+$R$110) -> 0
W116: harvest1 (yr 50) | X116: =X55*$Z$120 -> 2483973.4 | Y116: =X116/$R$107 -> 4972919.6 | Z116: =Y116*(1+$R$110) -> 9548005.7 | AA116: =Y116/material_flow!$B$43 -> 13751783 | AB116: =(AA114+AA116)/1000 -> 13751.783 | AC116: 000s m3 total
R117: Summary of harvests (green tonnes) | W117: harvest2 (yr 100) | X117: 0 | Y117: =X117/$R$107 -> 0 | Z117: =Y117*(1+$R$110) -> 0
R118: Thin 1 | S118: Thin 2 | T118: Harvest 1 | U118: Harvest 2 | V118: Total
Q119: Unthinned | R119: 0 | S119: 0 | T119: =T114 -> 597.31683 | U119: =T115 -> 610.37385 | V119: =SUM(R119:U119) -> 1207.6907 | Z119: 10241000 | AA119: t green wood harvested in UK (2017 data, FC)
Q120: Thinned | R120: =Z114 -> 0 | S120: =Z115 -> 0 | T120: =Z116 -> 9548005.7 | U120: =Z117 -> 0 | V120: =SUM(R120:U120) -> 9548005.7 | Z120: 15480.246 | AA120: Use this scaling factor to scale up the harvest1 C data that don't use the harvest data in fields X116-Z116) (this is calculated from (UK harvest)/(harvest1) i.e. the number of ha's harvested each year.
A121: https://extension.psu.edu/calculating-the-green-weight-of-wood-species#section-2 | Z121: =Z119/(Z116+Z114) -> 1.07258 | AA121: I Changed unthinned data only - highlighted cells in red text were changed
D122: Moisture Content, % (MC = (mgreen - mdry) / mdry (1)) | I122: Weight of one cubic meter, in kilograms
A123: Common | B123: Basic SG (g/cm3) | C123: SG @ 12% | D123: Heartwood | E123: Sapwood | F123: Average | G123: Range Low | H123: Range High | I123: 12% MC | J123: Average Green | K123: Low Green | L123: High Green | Q123: MC = (mgreen - mdry) / mdry (1)
A124: Spruce, Sitka | B124: 0.37 | C124: 0.4 | D124: 41 | E124: 142 | F124: 92 | G124: 75 | H124: 108 | I124: 448 | J124: 709 | K124: 646 | L124: 771 | Q124: mgreen = mdry * (1 + MC) (2)
D296: =(D295/C_model!R107/(1-C_model!R108)) -> 0

Sheet HWP
A2: Decay Calculations - primary HWP:
A5: As per IPCC Equation 12.1
H9: =material_flow!B6 -> Green tonnes | I9: =material_flow!D6 -> m3 | J9: tonnes C
G10: =material_flow!A7 -> thin1 (yr21) | H10: =C_model!Z114 -> 0 | I10: =material_flow!D7 -> 0 | J10: =C_model!X114 -> 0
G11: =material_flow!A8 -> thin2 (yr71) | H11: =C_model!Z115 -> 0 | I11: =material_flow!D8 -> 0 | J11: =C_model!X115 -> 0
G12: =material_flow!A39 -> harvest1 (no thin) (yr50) | H12: =C_model!T114 -> 597.31683 | I12: =material_flow!D39 -> 860.30229 | J12: =C_model!R114 -> 155.39571
G13: =material_flow!A40 -> harvest2 (no thin) (yr100) | H13: =C_model!T115 -> 610.37385 | I13: =material_flow!D40 -> 879.10803 | J13: =C_model!R115 -> 158.79257
G14: =material_flow!A41 -> harvest1 (thinned) (yr50) | H14: =C_model!Z116 -> 9548005.7 | I14: =material_flow!D41 -> 13751783 | J14: =C_model!X116 -> 2483973.4
G15: =material_flow!A42 -> harvest2 (thinned) (yr100) | H15: =C_model!Z117 -> 0 | I15: =material_flow!D42 -> 0 | J15: =C_model!X117 -> 0
G17: Conversion from green tonnes to tonnes C: | H17: =L17/(1+L18) -> 0.26015625 | K17: C content of dry wood | L17: =C_model!R107 -> 0.4995
K18: moisture content of green wood | L18: =C_model!R110 -> 0.92
B20: c(i)= C in year 0 = 0
B21: c(i+100) = C in yr 100
B23: Calculation of Inflows:
G24: Harvest 1 (no thin) | H24: Harvest 2 (no thin) | I24: Harvest 1 (thinned) | J24: Harvest 2 (thinned)
A25: Losses at construction site: | B25: Particle/fibre board | C25: 0 | D25: (Not using this) | G25: kg (dry wood)
B26: Carcassing | C26: 0.095 | D26: Going to panel production | E26: =material_flow!G105 -> 0.80014369 | F26: =E26*C26 -> 0.076013651
D27: Going to biomas (energy) | E27: =material_flow!G106 -> 0.19985631 | F27: =E27*C26 -> 0.018986349 | G27: =$F$27*$D$38*$J$12*1000/C_model!$R$107 -> 0 | H27: =$F$27*$D$38*$J$13*1000/C_model!$R$107 -> 0 | I27: =$F$27*$E$38*$J$14*1000/C_model!$R$107 -> 7986505.7 | J27: =$F$27*$E$38*$J$15*1000/C_model!$R$107 -> 0
F29: Inflows (green tonnes) | L29: Inflows (Gg C) | T29: Decay rate
B30: Primary Use | C30: Thin | D30: harvest (unthinned) | E30: harvest (thinned) | F30: Thin1 (yr21) | G30: Thin2 (yr71) | H30: harvest1 (unthinned) (yr50) | I30: harvest2 (unthinned) (yr100) | J30: harvest1 (thinned) (yr50) | K30: harvest2 (thinned) (yr100) | L30: harvest1 (unthinned) (yr50) | M30: harvest2 (unthinned) (yr100) | N30: harvest1 (thinned) (yr50) | O30: harvest2 (thinned) (yr100) | P30: Thin1 (yr21) | Q30: Thin2 (yr71) | S30: Half life (yrs) | T30: (k) (units per year) | U30: Fraction lost/yr (ln2/half life)
B31: Particle board (chip+OSB) | C31: =material_flow!Q12 -> 0.22321429 | D31: =material_flow!AE60 -> 0 | E31: =material_flow!AF60 -> 0.14158728 | F31: =C31*$H$10 -> 0 | G31: =C31*$H$11 -> 0 | H31: =D31*$H$12 -> 0 | I31: =D31*$H$13 -> 0 | J31: =E31*$H$14 -> 1351876.1 | K31: =E31*$H$15 -> 0 | L31: =D31*$J$12/1000 -> 0 | M31: =D31*$J$13/1000 -> 0 | N31: =E31*$J$14/1000 -> 351.69902 | O31: =E31*$J$15/1000 -> 0 | P31: =C31*$J$10/1000 -> 0 | Q31: =C31*$J$11/1000 -> 0 | S31: 30 | T31: =(LN(2))/S31 -> 0.023104906 | U31: 0.0231
B32: Fibre board | C32: =material_flow!Q13 -> 0.074404762 | D32: =material_flow!AE61 -> 0 | E32: =material_flow!AF61 -> 0.051952902 | F32: =C32*$H$10 -> 0 | G32: =C32*$H$11 -> 0 | H32: =D32*$H$12 -> 0 | I32: =D32*$H$13 -> 0 | J32: =E32*$H$14 -> 496046.6 | K32: =E32*$H$15 -> 0 | L32: =D32*$J$12/1000 -> 0 | M32: =D32*$J$13/1000 -> 0 | N32: =E32*$J$14/1000 -> 129.04962 | O32: =E32*$J$15/1000 -> 0 | P32: =C32*$J$10/1000 -> 0 | Q32: =C32*$J$11/1000 -> 0 | S32: 20 | T32: =(LN(2))/S32 -> 0.034657359 | U32: 0.0347
B33: Biomass | C33: =material_flow!Q15 -> 0.36904762 | D33: =material_flow!AE62 -> 0 | E33: =material_flow!AF62 -> 0.05855625 | F33: =C33*$H$10 -> 0 | G33: =C33*$H$11 -> 0 | H33: =D33*$H$12 -> 0 | I33: =D33*$H$13 -> 0 | J33: =E33*$H$14 -> 559095.41 | K33: =E33*$H$15 -> 0 | L33: =D33*$J$12/1000 -> 0 | M33: =D33*$J$13/1000 -> 0 | N33: =E33*$J$14/1000 -> 145.45217 | O33: =E33*$J$15/1000 -> 0 | P33: =C33*$J$10/1000 -> 0 | Q33: =C33*$J$11/1000 -> 0 | S33: n/a | T33: n/a | U33: n/a
B34: Pulp (paper) | C34: =material_flow!Q16 -> 0 | D34: =material_flow!AE64 -> 0 | E34: =material_flow!AF64 -> 0.05 | F34: =C34*$H$10 -> 0 | G34: =C34*$H$11 -> 0 | H34: =D34*$H$12 -> 0 | I34: =D34*$H$13 -> 0 | J34: =E34*$H$14 -> 477400.29 | K34: =E34*$H$15 -> 0 | L34: =D34*$J$12/1000 -> 0 | M34: =D34*$J$13/1000 -> 0 | N34: =E34*$J$14/1000 -> 124.19867 | O34: =E34*$J$15/1000 -> 0 | P34: =C34*$J$10/1000 -> 0 | Q34: =C34*$J$11/1000 -> 0 | S34: 2 | T34: =(LN(2))/S34 -> 0.34657359 | U34: 0.3466
B35: Fence poles | C35: =material_flow!Q17 -> 0.29761905 | D35: =material_flow!AE65 -> 0 | E35: =material_flow!AF65 -> 0.049107143 | F35: =C35*$H$10 -> 0 | G35: =C35*$H$11 -> 0 | H35: =D35*$H$12 -> 0 | I35: =D35*$H$13 -> 0 | J35: =E35*$H$14 -> 468875.28 | K35: =E35*$H$15 -> 0 | L35: =D35*$J$12/1000 -> 0 | M35: =D35*$J$13/1000 -> 0 | N35: =E35*$J$14/1000 -> 121.98083 | O35: =E35*$J$15/1000 -> 0 | P35: =C35*$J$10/1000 -> 0 | Q35: =C35*$J$11/1000 -> 0 | S35: 18 | T35: =(LN(2))/S35 -> 0.038508177 | U35: 0.0385
B36: Pallets and packaging | C36: =material_flow!Q18 -> 0 | D36: =material_flow!AE66 -> 0 | E36: =material_flow!AF66 -> 0.1550558 | F36: =C36*$H$10 -> 0 | G36: =C36*$H$11 -> 0 | H36: =D36*$H$12 -> 0 | I36: =D36*$H$13 -> 0 | J36: =E36*$H$14 -> 1480473.7 | K36: =E36*$H$15 -> 0 | L36: =D36*$J$12/1000 -> 0 | M36: =D36*$J$13/1000 -> 0 | N36: =E36*$J$14/1000 -> 385.15449 | O36: =E36*$J$15/1000 -> 0 | P36: =C36*$J$10/1000 -> 0 | Q36: =C36*$J$11/1000 -> 0 | S36: 3 | T36: =(LN(2))/S36 -> 0.23104906 | U36: 0.231
B37: Fencing | C37: =material_flow!Q19 -> 0 | D37: =material_flow!AE67 -> 0 | E37: =material_flow!AF67 -> 0.12620536 | F37: =C37*$H$10 -> 0 | G37: =C37*$H$11 -> 0 | H37: =D37*$H$12 -> 0 | I37: =D37*$H$13 -> 0 | J37: =E37*$H$14 -> 1205009.5 | K37: =E37*$H$15 -> 0 | L37: =D37*$J$12/1000 -> 0 | M37: =D37*$J$13/1000 -> 0 | N37: =E37*$J$14/1000 -> 313.49075 | O37: =E37*$J$15/1000 -> 0 | P37: =C37*$J$10/1000 -> 0 | Q37: =C37*$J$11/1000 -> 0 | S37: 18 | T37: =(LN(2))/S37 -> 0.038508177 | U37: 0.0385
B38: Carcassing | C38: =material_flow!Q20 -> 0 | D38: =material_flow!AE68 -> 0 | E38: =material_flow!AF68 -> 0.084587054 | F38: =C38*$H$10 -> 0 | G38: =C38*$H$11 -> 0 | H38: =D38*$H$12 -> 0 | I38: =D38*$H$13 -> 0 | J38: =E38*$H$14 -> 807637.67 | K38: =E38*$H$15 -> 0 | L38: =(1-$C$26)*D38*$J$12/1000 -> 0 | M38: =(1-$C$26)*D38*$J$13/1000 -> 0 | N38: =(1-$C$26)*E38*$J$14/1000 -> 190.15135 | O38: =(1-$C$26)*E38*$J$15/1000 -> 0 | P38: =C38*$J$10/1000 -> 0 | Q38: =C38*$J$11/1000 -> 0 | R38: 50 | S38: 90 | T38: =(LN(2))/S38 -> 0.0077016353 | U38: =LN(2)/S38 -> 0.0077016353
B39: Mulch | C39: =material_flow!Q21 -> 0.035714286 | D39: =material_flow!AE69 -> 0 | E39: =material_flow!AF69 -> 0.123825 | F39: =C39*$H$10 -> 0 | G39: =C39*$H$11 -> 0 | H39: =D39*$H$12 -> 0 | I39: =D39*$H$13 -> 0 | J39: =E39*$H$14 -> 1182281.8 | K39: =E39*$H$15 -> 0 | L39: =D39*$J$12/1000 -> 0 | M39: =D39*$J$13/1000 -> 0 | N39: =E39*$J$14/1000 -> 307.578 | O39: =E39*$J$15/1000 -> 0 | P39: =C39*$J$10/1000 -> 0 | Q39: =C39*$J$11/1000 -> 0 | S39: n/a | T39: n/a | U39: n/a
C40: =SUM(C31:C39) -> 1 | D40: =SUM(D31:D39) -> 0 | E40: =SUM(E31:E39) -> 0.84087679 | K40: total (wood products, not including mulch or biomass) | L40: =L31+L32+L35+L36+L37+L38 -> 0 | M40: =M31+M32+M35+M36+M37+M38 -> 0 | N40: =N31+N32+N35+N36+N37+N38 -> 1491.5261 | O40: =O31+O32+O35+O36+O37+O38 -> 0 | P40: =P31+P32+P35+P36+P37+P38 -> 0 | Q40: =Q31+Q32+Q35+Q36+Q37+Q38 -> 0
K41: total (paper products) | L41: =L34 -> 0 | M41: =M34 -> 0 | N41: =N34 -> 124.19867 | O41: =O34 -> 0 | P41: =P34 -> 0 | Q41: =Q34 -> 0
B42: Inflow in all non harvest/thin years: | C42: 0 | O42: =N41+O41+N40+O40+P40+Q40 -> 1615.7247
B44: Decay rate, k= | C44: =T31 -> 0.023104906 | D44: =T32 -> 0.034657359 | E44: =T33 -> n/a | F44: =T34 -> 0.34657359 | G44: =T35 -> 0.038508177 | H44: =T36 -> 0.23104906 | I44: =T37 -> 0.038508177 | J44: =T38 -> 0.0077016353 | K44: =T39 -> n/a
B45: Unthinned | M45: Thinned
B46: yr | C46: Particle board (chip+OSB) | D46: Fibre board | E46: Biomass | F46: Pulp (paper) | G46: Fence poles | H46: Pallets and packaging | I46: Fencing | J46: Carcassing | K46: Mulch | M46: Particle board | N46: Fibre board | O46: Biomass | P46: Pulp (paper) | Q46: Fence poles | R46: Pallets and packaging | S46: Fencing | T46: Carcassing | U46: Mulch | V46: Total
B47: 0 | C47: 0 | D47: 0 | E47: 0 | F47: 0 | G47: 0 | H47: 0 | I47: 0 | J47: 0 | K47: 0 | M47: 0 | N47: 0 | O47: 0 | P47: 0 | Q47: 0 | R47: 0 | S47: 0 | T47: 0 | U47: 0 | V47: =SUM(M47:U47) -> 0
B48: 1 | C48: =(1*10^(-$C$44))*C47+((1-(1*10^(-$C$44)))/$C$44)*$C$42 -> 0 | D48: =(1*10^(-$D$44))*D47+((1-(1*10^(-$D$44)))/$D$44)*$C$42 -> 0 | E48: 0 | F48: =(1*10^(-$F$44))*F47+((1-(1*10^(-$F$44)))/$F$44)*$C$42 -> 0 | G48: =(1*10^(-$F$44))*G47+((1-(1*10^(-$F$44)))/$F$44)*$C$42 -> 0 | H48: =(1*10^(-$H$44))*H47+((1-(1*10^(-$H$44)))/$H$44)*$C$42 -> 0 | I48: =(1*10^(-$I$44))*I47+((1-(1*10^(-$I$44)))/$I$44)*$C$42 -> 0 | J48: =(1*10^(-$J$44))*J47+((1-(1*10^(-$J$44)))/$J$44)*$C$42 -> 0 | K48: 0 | M48: =(EXP(-$C$44))*M47+((1-(EXP(-$C$44)))/$C$44)*$C$42 -> 0 | N48: =(EXP(-$D$44))*N47+((1-(EXP(-$D$44)))/$D$44)*$C$42 -> 0 | O48: 0 | P48: =(EXP(-$F$44))*P47+((1-(EXP(-$F$44)))/$F$44)*$C$42 -> 0 | Q48: =(EXP(-$F$44))*Q47+((1-(EXP(-$F$44)))/$F$44)*$C$42 -> 0 | R48: =(EXP(-$H$44))*R47+((1-(EXP(-$H$44)))/$H$44)*$C$42 -> 0 | S48: =(EXP(-$I$44))*S47+((1-(EXP(-$I$44)))/$I$44)*$C$42 -> 0 | T48: =(EXP(-$J$44))*T47+((1-(EXP(-$J$44)))/$J$44)*$C$42 -> 0 | U48: 0 | V48: =SUM(M48:U48) -> 0
B49: 2 | C49: =(1*10^(-$C$44))*C48+((1-(1*10^(-$C$44)))/$C$44)*$C$42 -> 0 | D49: =(1*10^(-$D$44))*D48+((1-(1*10^(-$D$44)))/$D$44)*$C$42 -> 0 | E49: 0 | F49: =(1*10^(-$F$44))*F48+((1-(1*10^(-$F$44)))/$F$44)*$C$42 -> 0 | G49: =(1*10^(-$F$44))*G48+((1-(1*10^(-$F$44)))/$F$44)*$C$42 -> 0 | H49: =(1*10^(-$H$44))*H48+((1-(1*10^(-$H$44)))/$H$44)*$C$42 -> 0 | I49: =(1*10^(-$I$44))*I48+((1-(1*10^(-$I$44)))/$I$44)*$C$42 -> 0 | J49: =(1*10^(-$J$44))*J48+((1-(1*10^(-$J$44)))/$J$44)*$C$42 -> 0 | K49: 0 | M49: =(EXP(-$C$44))*M48+((1-(EXP(-$C$44)))/$C$44)*$C$42 -> 0 | N49: =(EXP(-$D$44))*N48+((1-(EXP(-$D$44)))/$D$44)*$C$42 -> 0 | O49: 0 | P49: =(EXP(-$F$44))*P48+((1-(EXP(-$F$44)))/$F$44)*$C$42 -> 0 | Q49: =(EXP(-$F$44))*Q48+((1-(EXP(-$F$44)))/$F$44)*$C$42 -> 0 | R49: =(EXP(-$H$44))*R48+((1-(EXP(-$H$44)))/$H$44)*$C$42 -> 0 | S49: =(EXP(-$I$44))*S48+((1-(EXP(-$I$44)))/$I$44)*$C$42 -> 0 | T49: =(EXP(-$J$44))*T48+((1-(EXP(-$J$44)))/$J$44)*$C$42 -> 0 | U49: 0 | V49: =SUM(M49:U49) -> 0
B50: 3 | C50: =(1*10^(-$C$44))*C49+((1-(1*10^(-$C$44)))/$C$44)*$C$42 -> 0 | D50: =(1*10^(-$D$44))*D49+((1-(1*10^(-$D$44)))/$D$44)*$C$42 -> 0 | E50: 0 | F50: =(1*10^(-$F$44))*F49+((1-(1*10^(-$F$44)))/$F$44)*$C$42 -> 0 | G50: =(1*10^(-$F$44))*G49+((1-(1*10^(-$F$44)))/$F$44)*$C$42 -> 0 | H50: =(1*10^(-$H$44))*H49+((1-(1*10^(-$H$44)))/$H$44)*$C$42 -> 0 | I50: =(1*10^(-$I$44))*I49+((1-(1*10^(-$I$44)))/$I$44)*$C$42 -> 0 | J50: =(1*10^(-$J$44))*J49+((1-(1*10^(-$J$44)))/$J$44)*$C$42 -> 0 | K50: 0 | M50: =(EXP(-$C$44))*M49+((1-(EXP(-$C$44)))/$C$44)*$C$42 -> 0 | N50: =(EXP(-$D$44))*N49+((1-(EXP(-$D$44)))/$D$44)*$C$42 -> 0 | O50: 0 | P50: =(EXP(-$F$44))*P49+((1-(EXP(-$F$44)))/$F$44)*$C$42 -> 0 | Q50: =(EXP(-$F$44))*Q49+((1-(EXP(-$F$44)))/$F$44)*$C$42 -> 0 | R50: =(EXP(-$H$44))*R49+((1-(EXP(-$H$44)))/$H$44)*$C$42 -> 0 | S50: =(EXP(-$I$44))*S49+((1-(EXP(-$I$44)))/$I$44)*$C$42 -> 0 | T50: =(EXP(-$J$44))*T49+((1-(EXP(-$J$44)))/$J$44)*$C$42 -> 0 | U50: 0 | V50: =SUM(M50:U50) -> 0
B51: 4 | C51: =(1*10^(-$C$44))*C50+((1-(1*10^(-$C$44)))/$C$44)*$C$42 -> 0 | D51: =(1*10^(-$D$44))*D50+((1-(1*10^(-$D$44)))/$D$44)*$C$42 -> 0 | E51: 0 | F51: =(1*10^(-$F$44))*F50+((1-(1*10^(-$F$44)))/$F$44)*$C$42 -> 0 | G51: =(1*10^(-$F$44))*G50+((1-(1*10^(-$F$44)))/$F$44)*$C$42 -> 0 | H51: =(1*10^(-$H$44))*H50+((1-(1*10^(-$H$44)))/$H$44)*$C$42 -> 0 | I51: =(1*10^(-$I$44))*I50+((1-(1*10^(-$I$44)))/$I$44)*$C$42 -> 0 | J51: =(1*10^(-$J$44))*J50+((1-(1*10^(-$J$44)))/$J$44)*$C$42 -> 0 | K51: 0 | M51: =(EXP(-$C$44))*M50+((1-(EXP(-$C$44)))/$C$44)*$C$42 -> 0 | N51: =(EXP(-$D$44))*N50+((1-(EXP(-$D$44)))/$D$44)*$C$42 -> 0 | O51: 0 | P51: =(EXP(-$F$44))*P50+((1-(EXP(-$F$44)))/$F$44)*$C$42 -> 0 | Q51: =(EXP(-$F$44))*Q50+((1-(EXP(-$F$44)))/$F$44)*$C$42 -> 0 | R51: =(EXP(-$H$44))*R50+((1-(EXP(-$H$44)))/$H$44)*$C$42 -> 0 | S51: =(EXP(-$I$44))*S50+((1-(EXP(-$I$44)))/$I$44)*$C$42 -> 0 | T51: =(EXP(-$J$44))*T50+((1-(EXP(-$J$44)))/$J$44)*$C$42 -> 0 | U51: 0 | V51: =SUM(M51:U51) -> 0
B52: 5 | C52: =(1*10^(-$C$44))*C51+((1-(1*10^(-$C$44)))/$C$44)*$C$42 -> 0 | D52: =(1*10^(-$D$44))*D51+((1-(1*10^(-$D$44)))/$D$44)*$C$42 -> 0 | E52: 0 | F52: =(1*10^(-$F$44))*F51+((1-(1*10^(-$F$44)))/$F$44)*$C$42 -> 0 | G52: =(1*10^(-$F$44))*G51+((1-(1*10^(-$F$44)))/$F$44)*$C$42 -> 0 | H52: =(1*10^(-$H$44))*H51+((1-(1*10^(-$H$44)))/$H$44)*$C$42 -> 0 | I52: =(1*10^(-$I$44))*I51+((1-(1*10^(-$I$44)))/$I$44)*$C$42 -> 0 | J52: =(1*10^(-$J$44))*J51+((1-(1*10^(-$J$44)))/$J$44)*$C$42 -> 0 | K52: 0 | M52: =(EXP(-$C$44))*M51+((1-(EXP(-$C$44)))/$C$44)*$C$42 -> 0 | N52: =(EXP(-$D$44))*N51+((1-(EXP(-$D$44)))/$D$44)*$C$42 -> 0 | O52: 0 | P52: =(EXP(-$F$44))*P51+((1-(EXP(-$F$44)))/$F$44)*$C$42 -> 0 | Q52: =(EXP(-$F$44))*Q51+((1-(EXP(-$F$44)))/$F$44)*$C$42 -> 0 | R52: =(EXP(-$H$44))*R51+((1-(EXP(-$H$44)))/$H$44)*$C$42 -> 0 | S52: =(EXP(-$I$44))*S51+((1-(EXP(-$I$44)))/$I$44)*$C$42 -> 0 | T52: =(EXP(-$J$44))*T51+((1-(EXP(-$J$44)))/$J$44)*$C$42 -> 0 | U52: 0 | V52: =SUM(M52:U52) -> 0
B53: 6 | C53: =(1*10^(-$C$44))*C52+((1-(1*10^(-$C$44)))/$C$44)*$C$42 -> 0 | D53: =(1*10^(-$D$44))*D52+((1-(1*10^(-$D$44)))/$D$44)*$C$42 -> 0 | E53: 0 | F53: =(1*10^(-$F$44))*F52+((1-(1*10^(-$F$44)))/$F$44)*$C$42 -> 0 | G53: =(1*10^(-$F$44))*G52+((1-(1*10^(-$F$44)))/$F$44)*$C$42 -> 0 | H53: =(1*10^(-$H$44))*H52+((1-(1*10^(-$H$44)))/$H$44)*$C$42 -> 0 | I53: =(1*10^(-$I$44))*I52+((1-(1*10^(-$I$44)))/$I$44)*$C$42 -> 0 | J53: =(1*10^(-$J$44))*J52+((1-(1*10^(-$J$44)))/$J$44)*$C$42 -> 0 | K53: 0 | M53: =(EXP(-$C$44))*M52+((1-(EXP(-$C$44)))/$C$44)*$C$42 -> 0 | N53: =(EXP(-$D$44))*N52+((1-(EXP(-$D$44)))/$D$44)*$C$42 -> 0 | O53: 0 | P53: =(EXP(-$F$44))*P52+((1-(EXP(-$F$44)))/$F$44)*$C$42 -> 0 | Q53: =(EXP(-$F$44))*Q52+((1-(EXP(-$F$44)))/$F$44)*$C$42 -> 0 | R53: =(EXP(-$H$44))*R52+((1-(EXP(-$H$44)))/$H$44)*$C$42 -> 0 | S53: =(EXP(-$I$44))*S52+((1-(EXP(-$I$44)))/$I$44)*$C$42 -> 0 | T53: =(EXP(-$J$44))*T52+((1-(EXP(-$J$44)))/$J$44)*$C$42 -> 0 | U53: 0 | V53: =SUM(M53:U53) -> 0
B54: 7 | C54: =(1*10^(-$C$44))*C53+((1-(1*10^(-$C$44)))/$C$44)*$C$42 -> 0 | D54: =(1*10^(-$D$44))*D53+((1-(1*10^(-$D$44)))/$D$44)*$C$42 -> 0 | E54: 0 | F54: =(1*10^(-$F$44))*F53+((1-(1*10^(-$F$44)))/$F$44)*$C$42 -> 0 | G54: =(1*10^(-$F$44))*G53+((1-(1*10^(-$F$44)))/$F$44)*$C$42 -> 0 | H54: =(1*10^(-$H$44))*H53+((1-(1*10^(-$H$44)))/$H$44)*$C$42 -> 0 | I54: =(1*10^(-$I$44))*I53+((1-(1*10^(-$I$44)))/$I$44)*$C$42 -> 0 | J54: =(1*10^(-$J$44))*J53+((1-(1*10^(-$J$44)))/$J$44)*$C$42 -> 0 | K54: 0 | M54: =(EXP(-$C$44))*M53+((1-(EXP(-$C$44)))/$C$44)*$C$42 -> 0 | N54: =(EXP(-$D$44))*N53+((1-(EXP(-$D$44)))/$D$44)*$C$42 -> 0 | O54: 0 | P54: =(EXP(-$F$44))*P53+((1-(EXP(-$F$44)))/$F$44)*$C$42 -> 0 | Q54: =(EXP(-$F$44))*Q53+((1-(EXP(-$F$44)))/$F$44)*$C$42 -> 0 | R54: =(EXP(-$H$44))*R53+((1-(EXP(-$H$44)))/$H$44)*$C$42 -> 0 | S54: =(EXP(-$I$44))*S53+((1-(EXP(-$I$44)))/$I$44)*$C$42 -> 0 | T54: =(EXP(-$J$44))*T53+((1-(EXP(-$J$44)))/$J$44)*$C$42 -> 0 | U54: 0 | V54: =SUM(M54:U54) -> 0
B55: 8 | C55: =(1*10^(-$C$44))*C54+((1-(1*10^(-$C$44)))/$C$44)*$C$42 -> 0 | D55: =(1*10^(-$D$44))*D54+((1-(1*10^(-$D$44)))/$D$44)*$C$42 -> 0 | E55: 0 | F55: =(1*10^(-$F$44))*F54+((1-(1*10^(-$F$44)))/$F$44)*$C$42 -> 0 | G55: =(1*10^(-$F$44))*G54+((1-(1*10^(-$F$44)))/$F$44)*$C$42 -> 0 | H55: =(1*10^(-$H$44))*H54+((1-(1*10^(-$H$44)))/$H$44)*$C$42 -> 0 | I55: =(1*10^(-$I$44))*I54+((1-(1*10^(-$I$44)))/$I$44)*$C$42 -> 0 | J55: =(1*10^(-$J$44))*J54+((1-(1*10^(-$J$44)))/$J$44)*$C$42 -> 0 | K55: 0 | M55: =(EXP(-$C$44))*M54+((1-(EXP(-$C$44)))/$C$44)*$C$42 -> 0 | N55: =(EXP(-$D$44))*N54+((1-(EXP(-$D$44)))/$D$44)*$C$42 -> 0 | O55: 0 | P55: =(EXP(-$F$44))*P54+((1-(EXP(-$F$44)))/$F$44)*$C$42 -> 0 | Q55: =(EXP(-$F$44))*Q54+((1-(EXP(-$F$44)))/$F$44)*$C$42 -> 0 | R55: =(EXP(-$H$44))*R54+((1-(EXP(-$H$44)))/$H$44)*$C$42 -> 0 | S55: =(EXP(-$I$44))*S54+((1-(EXP(-$I$44)))/$I$44)*$C$42 -> 0 | T55: =(EXP(-$J$44))*T54+((1-(EXP(-$J$44)))/$J$44)*$C$42 -> 0 | U55: 0 | V55: =SUM(M55:U55) -> 0
B56: 9 | C56: =(1*10^(-$C$44))*C55+((1-(1*10^(-$C$44)))/$C$44)*$C$42 -> 0 | D56: =(1*10^(-$D$44))*D55+((1-(1*10^(-$D$44)))/$D$44)*$C$42 -> 0 | E56: 0 | F56: =(1*10^(-$F$44))*F55+((1-(1*10^(-$F$44)))/$F$44)*$C$42 -> 0 | G56: =(1*10^(-$F$44))*G55+((1-(1*10^(-$F$44)))/$F$44)*$C$42 -> 0 | H56: =(1*10^(-$H$44))*H55+((1-(1*10^(-$H$44)))/$H$44)*$C$42 -> 0 | I56: =(1*10^(-$I$44))*I55+((1-(1*10^(-$I$44)))/$I$44)*$C$42 -> 0 | J56: =(1*10^(-$J$44))*J55+((1-(1*10^(-$J$44)))/$J$44)*$C$42 -> 0 | K56: 0 | M56: =(EXP(-$C$44))*M55+((1-(EXP(-$C$44)))/$C$44)*$C$42 -> 0 | N56: =(EXP(-$D$44))*N55+((1-(EXP(-$D$44)))/$D$44)*$C$42 -> 0 | O56: 0 | P56: =(EXP(-$F$44))*P55+((1-(EXP(-$F$44)))/$F$44)*$C$42 -> 0 | Q56: =(EXP(-$F$44))*Q55+((1-(EXP(-$F$44)))/$F$44)*$C$42 -> 0 | R56: =(EXP(-$H$44))*R55+((1-(EXP(-$H$44)))/$H$44)*$C$42 -> 0 | S56: =(EXP(-$I$44))*S55+((1-(EXP(-$I$44)))/$I$44)*$C$42 -> 0 | T56: =(EXP(-$J$44))*T55+((1-(EXP(-$J$44)))/$J$44)*$C$42 -> 0 | U56: 0 | V56: =SUM(M56:U56) -> 0
B57: 10 | C57: =(1*10^(-$C$44))*C56+((1-(1*10^(-$C$44)))/$C$44)*$C$42 -> 0 | D57: =(1*10^(-$D$44))*D56+((1-(1*10^(-$D$44)))/$D$44)*$C$42 -> 0 | E57: 0 | F57: =(1*10^(-$F$44))*F56+((1-(1*10^(-$F$44)))/$F$44)*$C$42 -> 0 | G57: =(1*10^(-$F$44))*G56+((1-(1*10^(-$F$44)))/$F$44)*$C$42 -> 0 | H57: =(1*10^(-$H$44))*H56+((1-(1*10^(-$H$44)))/$H$44)*$C$42 -> 0 | I57: =(1*10^(-$I$44))*I56+((1-(1*10^(-$I$44)))/$I$44)*$C$42 -> 0 | J57: =(1*10^(-$J$44))*J56+((1-(1*10^(-$J$44)))/$J$44)*$C$42 -> 0 | K57: 0 | M57: =(EXP(-$C$44))*M56+((1-(EXP(-$C$44)))/$C$44)*$C$42 -> 0 | N57: =(EXP(-$D$44))*N56+((1-(EXP(-$D$44)))/$D$44)*$C$42 -> 0 | O57: 0 | P57: =(EXP(-$F$44))*P56+((1-(EXP(-$F$44)))/$F$44)*$C$42 -> 0 | Q57: =(EXP(-$F$44))*Q56+((1-(EXP(-$F$44)))/$F$44)*$C$42 -> 0 | R57: =(EXP(-$H$44))*R56+((1-(EXP(-$H$44)))/$H$44)*$C$42 -> 0 | S57: =(EXP(-$I$44))*S56+((1-(EXP(-$I$44)))/$I$44)*$C$42 -> 0 | T57: =(EXP(-$J$44))*T56+((1-(EXP(-$J$44)))/$J$44)*$C$42 -> 0 | U57: 0 | V57: =SUM(M57:U57) -> 0
B58: 11 | C58: =(1*10^(-$C$44))*C57+((1-(1*10^(-$C$44)))/$C$44)*$C$42 -> 0 | D58: =(1*10^(-$D$44))*D57+((1-(1*10^(-$D$44)))/$D$44)*$C$42 -> 0 | E58: 0 | F58: =(1*10^(-$F$44))*F57+((1-(1*10^(-$F$44)))/$F$44)*$C$42 -> 0 | G58: =(1*10^(-$F$44))*G57+((1-(1*10^(-$F$44)))/$F$44)*$C$42 -> 0 | H58: =(1*10^(-$H$44))*H57+((1-(1*10^(-$H$44)))/$H$44)*$C$42 -> 0 | I58: =(1*10^(-$I$44))*I57+((1-(1*10^(-$I$44)))/$I$44)*$C$42 -> 0 | J58: =(1*10^(-$J$44))*J57+((1-(1*10^(-$J$44)))/$J$44)*$C$42 -> 0 | K58: 0 | M58: =(EXP(-$C$44))*M57+((1-(EXP(-$C$44)))/$C$44)*$C$42 -> 0 | N58: =(EXP(-$D$44))*N57+((1-(EXP(-$D$44)))/$D$44)*$C$42 -> 0 | O58: 0 | P58: =(EXP(-$F$44))*P57+((1-(EXP(-$F$44)))/$F$44)*$C$42 -> 0 | Q58: =(EXP(-$F$44))*Q57+((1-(EXP(-$F$44)))/$F$44)*$C$42 -> 0 | R58: =(EXP(-$H$44))*R57+((1-(EXP(-$H$44)))/$H$44)*$C$42 -> 0 | S58: =(EXP(-$I$44))*S57+((1-(EXP(-$I$44)))/$I$44)*$C$42 -> 0 | T58: =(EXP(-$J$44))*T57+((1-(EXP(-$J$44)))/$J$44)*$C$42 -> 0 | U58: 0 | V58: =SUM(M58:U58) -> 0
B59: 12 | C59: =(1*10^(-$C$44))*C58+((1-(1*10^(-$C$44)))/$C$44)*$C$42 -> 0 | D59: =(1*10^(-$D$44))*D58+((1-(1*10^(-$D$44)))/$D$44)*$C$42 -> 0 | E59: 0 | F59: =(1*10^(-$F$44))*F58+((1-(1*10^(-$F$44)))/$F$44)*$C$42 -> 0 | G59: =(1*10^(-$F$44))*G58+((1-(1*10^(-$F$44)))/$F$44)*$C$42 -> 0 | H59: =(1*10^(-$H$44))*H58+((1-(1*10^(-$H$44)))/$H$44)*$C$42 -> 0 | I59: =(1*10^(-$I$44))*I58+((1-(1*10^(-$I$44)))/$I$44)*$C$42 -> 0 | J59: =(1*10^(-$J$44))*J58+((1-(1*10^(-$J$44)))/$J$44)*$C$42 -> 0 | K59: 0 | M59: =(EXP(-$C$44))*M58+((1-(EXP(-$C$44)))/$C$44)*$C$42 -> 0 | N59: =(EXP(-$D$44))*N58+((1-(EXP(-$D$44)))/$D$44)*$C$42 -> 0 | O59: 0 | P59: =(EXP(-$F$44))*P58+((1-(EXP(-$F$44)))/$F$44)*$C$42 -> 0 | Q59: =(EXP(-$F$44))*Q58+((1-(EXP(-$F$44)))/$F$44)*$C$42 -> 0 | R59: =(EXP(-$H$44))*R58+((1-(EXP(-$H$44)))/$H$44)*$C$42 -> 0 | S59: =(EXP(-$I$44))*S58+((1-(EXP(-$I$44)))/$I$44)*$C$42 -> 0 | T59: =(EXP(-$J$44))*T58+((1-(EXP(-$J$44)))/$J$44)*$C$42 -> 0 | U59: 0 | V59: =SUM(M59:U59) -> 0
... B67: 20 | C67: =(1*10^(-$C$44))*C66+((1-(1*10^(-$C$44)))/$C$44)*$C$42 -> 0 | D67: =(1*10^(-$D$44))*D66+((1-(1*10^(-$D$44)))/$D$44)*$C$42 -> 0 | E67: 0 | F67: =(1*10^(-$F$44))*F66+((1-(1*10^(-$F$44)))/$F$44)*$C$42 -> 0 | G67: =(1*10^(-$F$44))*G66+((1-(1*10^(-$F$44)))/$F$44)*$C$42 -> 0 | H67: =(1*10^(-$H$44))*H66+((1-(1*10^(-$H$44)))/$H$44)*$C$42 -> 0 | I67: =(1*10^(-$I$44))*I66+((1-(1*10^(-$I$44)))/$I$44)*$C$42 -> 0 | J67: =(1*10^(-$J$44))*J66+((1-(1*10^(-$J$44)))/$J$44)*$C$42 -> 0 | K67: 0 | M67: =(EXP(-$C$44))*M66+((1-(EXP(-$C$44)))/$C$44)*$C$42 -> 0 | N67: =(EXP(-$D$44))*N66+((1-(EXP(-$D$44)))/$D$44)*$C$42 -> 0 | O67: 0 | P67: =(EXP(-$F$44))*P66+((1-(EXP(-$F$44)))/$F$44)*$C$42 -> 0 | Q67: =(EXP(-$F$44))*Q66+((1-(EXP(-$F$44)))/$F$44)*$C$42 -> 0 | R67: =(EXP(-$H$44))*R66+((1-(EXP(-$H$44)))/$H$44)*$C$42 -> 0 | S67: =(EXP(-$I$44))*S66+((1-(EXP(-$I$44)))/$I$44)*$C$42 -> 0 | T67: =(EXP(-$J$44))*T66+((1-(EXP(-$J$44)))/$J$44)*$C$42 -> 0 | U67: 0 | V67: =SUM(M67:U67) -> 0
B68: 21 | C68: =(1*10^(-$C$44))*C67+((1-(1*10^(-$C$44)))/$C$44)*$C$42 -> 0 | D68: =(1*10^(-$D$44))*D67+((1-(1*10^(-$D$44)))/$D$44)*$C$42 -> 0 | E68: 0 | F68: =(1*10^(-$F$44))*F67+((1-(1*10^(-$F$44)))/$F$44)*$C$42 -> 0 | G68: =(1*10^(-$F$44))*G67+((1-(1*10^(-$F$44)))/$F$44)*$C$42 -> 0 | H68: =(1*10^(-$H$44))*H67+((1-(1*10^(-$H$44)))/$H$44)*$C$42 -> 0 | I68: =(1*10^(-$I$44))*I67+((1-(1*10^(-$I$44)))/$I$44)*$C$42 -> 0 | J68: =(1*10^(-$J$44))*J67+((1-(1*10^(-$J$44)))/$J$44)*$C$42 -> 0 | K68: 0 | M68: =(EXP(-$C$44))*M67+((1-(EXP(-$C$44)))/$C$44)*P31 -> 0 | N68: =(EXP(-$D$44))*N67+((1-(EXP(-$D$44)))/$D$44)*P32 -> 0 | O68: 0 | P68: =(EXP(-$F$44))*P67+((1-(EXP(-$F$44)))/$F$44)*P34 -> 0 | Q68: =(EXP(-$F$44))*Q67+((1-(EXP(-$F$44)))/$F$44)*P35 -> 0 | R68: =(EXP(-$H$44))*R67+((1-(EXP(-$H$44)))/$H$44)*P36 -> 0 | S68: =(EXP(-$I$44))*S67+((1-(EXP(-$I$44)))/$I$44)*P37 -> 0 | T68: =(EXP(-$J$44))*T67+((1-(EXP(-$J$44)))/$J$44)*P38 -> 0 | U68: 0 | V68: =SUM(M68:U68) -> 0
B69: 22 | C69: =(1*10^(-$C$44))*C68+((1-(1*10^(-$C$44)))/$C$44)*$C$42 -> 0 | D69: =(1*10^(-$D$44))*D68+((1-(1*10^(-$D$44)))/$D$44)*$C$42 -> 0 | E69: 0 | F69: =(1*10^(-$F$44))*F68+((1-(1*10^(-$F$44)))/$F$44)*$C$42 -> 0 | G69: =(1*10^(-$F$44))*G68+((1-(1*10^(-$F$44)))/$F$44)*$C$42 -> 0 | H69: =(1*10^(-$H$44))*H68+((1-(1*10^(-$H$44)))/$H$44)*$C$42 -> 0 | I69: =(1*10^(-$I$44))*I68+((1-(1*10^(-$I$44)))/$I$44)*$C$42 -> 0 | J69: =(1*10^(-$J$44))*J68+((1-(1*10^(-$J$44)))/$J$44)*$C$42 -> 0 | K69: 0 | M69: =(EXP(-$C$44))*M68+((1-(EXP(-$C$44)))/$C$44)*$C$42 -> 0 | N69: =(EXP(-$D$44))*N68+((1-(EXP(-$D$44)))/$D$44)*$C$42 -> 0 | O69: 0 | P69: =(EXP(-$F$44))*P68+((1-(EXP(-$F$44)))/$F$44)*$C$42 -> 0 | Q69: =(EXP(-$F$44))*Q68+((1-(EXP(-$F$44)))/$F$44)*$C$42 -> 0 | R69: =(EXP(-$H$44))*R68+((1-(EXP(-$H$44)))/$H$44)*$C$42 -> 0 | S69: =(EXP(-$I$44))*S68+((1-(EXP(-$I$44)))/$I$44)*$C$42 -> 0 | T69: =(EXP(-$J$44))*T68+((1-(EXP(-$J$44)))/$J$44)*$C$42 -> 0 | U69: 0 | V69: =SUM(M69:U69) -> 0
B70: 23 | C70: =(1*10^(-$C$44))*C69+((1-(1*10^(-$C$44)))/$C$44)*$C$42 -> 0 | D70: =(1*10^(-$D$44))*D69+((1-(1*10^(-$D$44)))/$D$44)*$C$42 -> 0 | E70: 0 | F70: =(1*10^(-$F$44))*F69+((1-(1*10^(-$F$44)))/$F$44)*$C$42 -> 0 | G70: =(1*10^(-$F$44))*G69+((1-(1*10^(-$F$44)))/$F$44)*$C$42 -> 0 | H70: =(1*10^(-$H$44))*H69+((1-(1*10^(-$H$44)))/$H$44)*$C$42 -> 0 | I70: =(1*10^(-$I$44))*I69+((1-(1*10^(-$I$44)))/$I$44)*$C$42 -> 0 | J70: =(1*10^(-$J$44))*J69+((1-(1*10^(-$J$44)))/$J$44)*$C$42 -> 0 | K70: 0 | M70: =(EXP(-$C$44))*M69+((1-(EXP(-$C$44)))/$C$44)*$C$42 -> 0 | N70: =(EXP(-$D$44))*N69+((1-(EXP(-$D$44)))/$D$44)*$C$42 -> 0 | O70: 0 | P70: =(EXP(-$F$44))*P69+((1-(EXP(-$F$44)))/$F$44)*$C$42 -> 0 | Q70: =(EXP(-$F$44))*Q69+((1-(EXP(-$F$44)))/$F$44)*$C$42 -> 0 | R70: =(EXP(-$H$44))*R69+((1-(EXP(-$H$44)))/$H$44)*$C$42 -> 0 | S70: =(EXP(-$I$44))*S69+((1-(EXP(-$I$44)))/$I$44)*$C$42 -> 0 | T70: =(EXP(-$J$44))*T69+((1-(EXP(-$J$44)))/$J$44)*$C$42 -> 0 | U70: 0 | V70: =SUM(M70:U70) -> 0
B71: 24 | C71: =(1*10^(-$C$44))*C70+((1-(1*10^(-$C$44)))/$C$44)*$C$42 -> 0 | D71: =(1*10^(-$D$44))*D70+((1-(1*10^(-$D$44)))/$D$44)*$C$42 -> 0 | E71: 0 | F71: =(1*10^(-$F$44))*F70+((1-(1*10^(-$F$44)))/$F$44)*$C$42 -> 0 | G71: =(1*10^(-$F$44))*G70+((1-(1*10^(-$F$44)))/$F$44)*$C$42 -> 0 | H71: =(1*10^(-$H$44))*H70+((1-(1*10^(-$H$44)))/$H$44)*$C$42 -> 0 | I71: =(1*10^(-$I$44))*I70+((1-(1*10^(-$I$44)))/$I$44)*$C$42 -> 0 | J71: =(1*10^(-$J$44))*J70+((1-(1*10^(-$J$44)))/$J$44)*$C$42 -> 0 | K71: 0 | M71: =(EXP(-$C$44))*M70+((1-(EXP(-$C$44)))/$C$44)*$C$42 -> 0 | N71: =(EXP(-$D$44))*N70+((1-(EXP(-$D$44)))/$D$44)*$C$42 -> 0 | O71: 0 | P71: =(EXP(-$F$44))*P70+((1-(EXP(-$F$44)))/$F$44)*$C$42 -> 0 | Q71: =(EXP(-$F$44))*Q70+((1-(EXP(-$F$44)))/$F$44)*$C$42 -> 0 | R71: =(EXP(-$H$44))*R70+((1-(EXP(-$H$44)))/$H$44)*$C$42 -> 0 | S71: =(EXP(-$I$44))*S70+((1-(EXP(-$I$44)))/$I$44)*$C$42 -> 0 | T71: =(EXP(-$J$44))*T70+((1-(EXP(-$J$44)))/$J$44)*$C$42 -> 0 | U71: 0 | V71: =SUM(M71:U71) -> 0
B72: 25 | C72: =(1*10^(-$C$44))*C71+((1-(1*10^(-$C$44)))/$C$44)*$C$42 -> 0 | D72: =(1*10^(-$D$44))*D71+((1-(1*10^(-$D$44)))/$D$44)*$C$42 -> 0 | E72: 0 | F72: =(1*10^(-$F$44))*F71+((1-(1*10^(-$F$44)))/$F$44)*$C$42 -> 0 | G72: =(1*10^(-$F$44))*G71+((1-(1*10^(-$F$44)))/$F$44)*$C$42 -> 0 | H72: =(1*10^(-$H$44))*H71+((1-(1*10^(-$H$44)))/$H$44)*$C$42 -> 0 | I72: =(1*10^(-$I$44))*I71+((1-(1*10^(-$I$44)))/$I$44)*$C$42 -> 0 | J72: =(1*10^(-$J$44))*J71+((1-(1*10^(-$J$44)))/$J$44)*$C$42 -> 0 | K72: 0 | M72: =(EXP(-$C$44))*M71+((1-(EXP(-$C$44)))/$C$44)*$C$42 -> 0 | N72: =(EXP(-$D$44))*N71+((1-(EXP(-$D$44)))/$D$44)*$C$42 -> 0 | O72: 0 | P72: =(EXP(-$F$44))*P71+((1-(EXP(-$F$44)))/$F$44)*$C$42 -> 0 | Q72: =(EXP(-$F$44))*Q71+((1-(EXP(-$F$44)))/$F$44)*$C$42 -> 0 | R72: =(EXP(-$H$44))*R71+((1-(EXP(-$H$44)))/$H$44)*$C$42 -> 0 | S72: =(EXP(-$I$44))*S71+((1-(EXP(-$I$44)))/$I$44)*$C$42 -> 0 | T72: =(EXP(-$J$44))*T71+((1-(EXP(-$J$44)))/$J$44)*$C$42 -> 0 | U72: 0 | V72: =SUM(M72:U72) -> 0
B73: 26 | C73: =(1*10^(-$C$44))*C72+((1-(1*10^(-$C$44)))/$C$44)*$C$42 -> 0 | D73: =(1*10^(-$D$44))*D72+((1-(1*10^(-$D$44)))/$D$44)*$C$42 -> 0 | E73: 0 | F73: =(1*10^(-$F$44))*F72+((1-(1*10^(-$F$44)))/$F$44)*$C$42 -> 0 | G73: =(1*10^(-$F$44))*G72+((1-(1*10^(-$F$44)))/$F$44)*$C$42 -> 0 | H73: =(1*10^(-$H$44))*H72+((1-(1*10^(-$H$44)))/$H$44)*$C$42 -> 0 | I73: =(1*10^(-$I$44))*I72+((1-(1*10^(-$I$44)))/$I$44)*$C$42 -> 0 | J73: =(1*10^(-$J$44))*J72+((1-(1*10^(-$J$44)))/$J$44)*$C$42 -> 0 | K73: 0 | M73: =(EXP(-$C$44))*M72+((1-(EXP(-$C$44)))/$C$44)*$C$42 -> 0 | N73: =(EXP(-$D$44))*N72+((1-(EXP(-$D$44)))/$D$44)*$C$42 -> 0 | O73: 0 | P73: =(EXP(-$F$44))*P72+((1-(EXP(-$F$44)))/$F$44)*$C$42 -> 0 | Q73: =(EXP(-$F$44))*Q72+((1-(EXP(-$F$44)))/$F$44)*$C$42 -> 0 | R73: =(EXP(-$H$44))*R72+((1-(EXP(-$H$44)))/$H$44)*$C$42 -> 0 | S73: =(EXP(-$I$44))*S72+((1-(EXP(-$I$44)))/$I$44)*$C$42 -> 0 | T73: =(EXP(-$J$44))*T72+((1-(EXP(-$J$44)))/$J$44)*$C$42 -> 0 | U73: 0 | V73: =SUM(M73:U73) -> 0
B74: 27 | C74: =(1*10^(-$C$44))*C73+((1-(1*10^(-$C$44)))/$C$44)*$C$42 -> 0 | D74: =(1*10^(-$D$44))*D73+((1-(1*10^(-$D$44)))/$D$44)*$C$42 -> 0 | E74: 0 | F74: =(1*10^(-$F$44))*F73+((1-(1*10^(-$F$44)))/$F$44)*$C$42 -> 0 | G74: =(1*10^(-$F$44))*G73+((1-(1*10^(-$F$44)))/$F$44)*$C$42 -> 0 | H74: =(1*10^(-$H$44))*H73+((1-(1*10^(-$H$44)))/$H$44)*$C$42 -> 0 | I74: =(1*10^(-$I$44))*I73+((1-(1*10^(-$I$44)))/$I$44)*$C$42 -> 0 | J74: =(1*10^(-$J$44))*J73+((1-(1*10^(-$J$44)))/$J$44)*$C$42 -> 0 | K74: 0 | M74: =(EXP(-$C$44))*M73+((1-(EXP(-$C$44)))/$C$44)*$C$42 -> 0 | N74: =(EXP(-$D$44))*N73+((1-(EXP(-$D$44)))/$D$44)*$C$42 -> 0 | O74: 0 | P74: =(EXP(-$F$44))*P73+((1-(EXP(-$F$44)))/$F$44)*$C$42 -> 0 | Q74: =(EXP(-$F$44))*Q73+((1-(EXP(-$F$44)))/$F$44)*$C$42 -> 0 | R74: =(EXP(-$H$44))*R73+((1-(EXP(-$H$44)))/$H$44)*$C$42 -> 0 | S74: =(EXP(-$I$44))*S73+((1-(EXP(-$I$44)))/$I$44)*$C$42 -> 0 | T74: =(EXP(-$J$44))*T73+((1-(EXP(-$J$44)))/$J$44)*$C$42 -> 0 | U74: 0 | V74: =SUM(M74:U74) -> 0
B75: 28 | C75: =(1*10^(-$C$44))*C74+((1-(1*10^(-$C$44)))/$C$44)*$C$42 -> 0 | D75: =(1*10^(-$D$44))*D74+((1-(1*10^(-$D$44)))/$D$44)*$C$42 -> 0 | E75: 0 | F75: =(1*10^(-$F$44))*F74+((1-(1*10^(-$F$44)))/$F$44)*$C$42 -> 0 | G75: =(1*10^(-$F$44))*G74+((1-(1*10^(-$F$44)))/$F$44)*$C$42 -> 0 | H75: =(1*10^(-$H$44))*H74+((1-(1*10^(-$H$44)))/$H$44)*$C$42 -> 0 | I75: =(1*10^(-$I$44))*I74+((1-(1*10^(-$I$44)))/$I$44)*$C$42 -> 0 | J75: =(1*10^(-$J$44))*J74+((1-(1*10^(-$J$44)))/$J$44)*$C$42 -> 0 | K75: 0 | M75: =(EXP(-$C$44))*M74+((1-(EXP(-$C$44)))/$C$44)*$C$42 -> 0 | N75: =(EXP(-$D$44))*N74+((1-(EXP(-$D$44)))/$D$44)*$C$42 -> 0 | O75: 0 | P75: =(EXP(-$F$44))*P74+((1-(EXP(-$F$44)))/$F$44)*$C$42 -> 0 | Q75: =(EXP(-$F$44))*Q74+((1-(EXP(-$F$44)))/$F$44)*$C$42 -> 0 | R75: =(EXP(-$H$44))*R74+((1-(EXP(-$H$44)))/$H$44)*$C$42 -> 0 | S75: =(EXP(-$I$44))*S74+((1-(EXP(-$I$44)))/$I$44)*$C$42 -> 0 | T75: =(EXP(-$J$44))*T74+((1-(EXP(-$J$44)))/$J$44)*$C$42 -> 0 | U75: 0 | V75: =SUM(M75:U75) -> 0
B76: 29 | C76: =(1*10^(-$C$44))*C75+((1-(1*10^(-$C$44)))/$C$44)*$C$42 -> 0 | D76: =(1*10^(-$D$44))*D75+((1-(1*10^(-$D$44)))/$D$44)*$C$42 -> 0 | E76: 0 | F76: =(1*10^(-$F$44))*F75+((1-(1*10^(-$F$44)))/$F$44)*$C$42 -> 0 | G76: =(1*10^(-$F$44))*G75+((1-(1*10^(-$F$44)))/$F$44)*$C$42 -> 0 | H76: =(1*10^(-$H$44))*H75+((1-(1*10^(-$H$44)))/$H$44)*$C$42 -> 0 | I76: =(1*10^(-$I$44))*I75+((1-(1*10^(-$I$44)))/$I$44)*$C$42 -> 0 | J76: =(1*10^(-$J$44))*J75+((1-(1*10^(-$J$44)))/$J$44)*$C$42 -> 0 | K76: 0 | M76: =(EXP(-$C$44))*M75+((1-(EXP(-$C$44)))/$C$44)*$C$42 -> 0 | N76: =(EXP(-$D$44))*N75+((1-(EXP(-$D$44)))/$D$44)*$C$42 -> 0 | O76: 0 | P76: =(EXP(-$F$44))*P75+((1-(EXP(-$F$44)))/$F$44)*$C$42 -> 0 | Q76: =(EXP(-$F$44))*Q75+((1-(EXP(-$F$44)))/$F$44)*$C$42 -> 0 | R76: =(EXP(-$H$44))*R75+((1-(EXP(-$H$44)))/$H$44)*$C$42 -> 0 | S76: =(EXP(-$I$44))*S75+((1-(EXP(-$I$44)))/$I$44)*$C$42 -> 0 | T76: =(EXP(-$J$44))*T75+((1-(EXP(-$J$44)))/$J$44)*$C$42 -> 0 | U76: 0 | V76: =SUM(M76:U76) -> 0
B77: 30 | C77: =(1*10^(-$C$44))*C76+((1-(1*10^(-$C$44)))/$C$44)*$C$42 -> 0 | D77: =(1*10^(-$D$44))*D76+((1-(1*10^(-$D$44)))/$D$44)*$C$42 -> 0 | E77: 0 | F77: =(1*10^(-$F$44))*F76+((1-(1*10^(-$F$44)))/$F$44)*$C$42 -> 0 | G77: =(1*10^(-$F$44))*G76+((1-(1*10^(-$F$44)))/$F$44)*$C$42 -> 0 | H77: =(1*10^(-$H$44))*H76+((1-(1*10^(-$H$44)))/$H$44)*$C$42 -> 0 | I77: =(1*10^(-$I$44))*I76+((1-(1*10^(-$I$44)))/$I$44)*$C$42 -> 0 | J77: =(1*10^(-$J$44))*J76+((1-(1*10^(-$J$44)))/$J$44)*$C$42 -> 0 | K77: 0 | M77: =(EXP(-$C$44))*M76+((1-(EXP(-$C$44)))/$C$44)*$C$42 -> 0 | N77: =(EXP(-$D$44))*N76+((1-(EXP(-$D$44)))/$D$44)*$C$42 -> 0 | O77: 0 | P77: =(EXP(-$F$44))*P76+((1-(EXP(-$F$44)))/$F$44)*$C$42 -> 0 | Q77: =(EXP(-$F$44))*Q76+((1-(EXP(-$F$44)))/$F$44)*$C$42 -> 0 | R77: =(EXP(-$H$44))*R76+((1-(EXP(-$H$44)))/$H$44)*$C$42 -> 0 | S77: =(EXP(-$I$44))*S76+((1-(EXP(-$I$44)))/$I$44)*$C$42 -> 0 | T77: =(EXP(-$J$44))*T76+((1-(EXP(-$J$44)))/$J$44)*$C$42 -> 0 | U77: 0 | V77: =SUM(M77:U77) -> 0
B78: 31 | C78: =(1*10^(-$C$44))*C77+((1-(1*10^(-$C$44)))/$C$44)*$C$42 -> 0 | D78: =(1*10^(-$D$44))*D77+((1-(1*10^(-$D$44)))/$D$44)*$C$42 -> 0 | E78: 0 | F78: =(1*10^(-$F$44))*F77+((1-(1*10^(-$F$44)))/$F$44)*$C$42 -> 0 | G78: =(1*10^(-$F$44))*G77+((1-(1*10^(-$F$44)))/$F$44)*$C$42 -> 0 | H78: =(1*10^(-$H$44))*H77+((1-(1*10^(-$H$44)))/$H$44)*$C$42 -> 0 | I78: =(1*10^(-$I$44))*I77+((1-(1*10^(-$I$44)))/$I$44)*$C$42 -> 0 | J78: =(1*10^(-$J$44))*J77+((1-(1*10^(-$J$44)))/$J$44)*$C$42 -> 0 | K78: 0 | M78: =(EXP(-$C$44))*M77+((1-(EXP(-$C$44)))/$C$44)*$C$42 -> 0 | N78: =(EXP(-$D$44))*N77+((1-(EXP(-$D$44)))/$D$44)*$C$42 -> 0 | O78: 0 | P78: =(EXP(-$F$44))*P77+((1-(EXP(-$F$44)))/$F$44)*$C$42 -> 0 | Q78: =(EXP(-$F$44))*Q77+((1-(EXP(-$F$44)))/$F$44)*$C$42 -> 0 | R78: =(EXP(-$H$44))*R77+((1-(EXP(-$H$44)))/$H$44)*$C$42 -> 0 | S78: =(EXP(-$I$44))*S77+((1-(EXP(-$I$44)))/$I$44)*$C$42 -> 0 | T78: =(EXP(-$J$44))*T77+((1-(EXP(-$J$44)))/$J$44)*$C$42 -> 0 | U78: 0 | V78: =SUM(M78:U78) -> 0
B79: 32 | C79: =(1*10^(-$C$44))*C78+((1-(1*10^(-$C$44)))/$C$44)*$C$42 -> 0 | D79: =(1*10^(-$D$44))*D78+((1-(1*10^(-$D$44)))/$D$44)*$C$42 -> 0 | E79: 0 | F79: =(1*10^(-$F$44))*F78+((1-(1*10^(-$F$44)))/$F$44)*$C$42 -> 0 | G79: =(1*10^(-$F$44))*G78+((1-(1*10^(-$F$44)))/$F$44)*$C$42 -> 0 | H79: =(1*10^(-$H$44))*H78+((1-(1*10^(-$H$44)))/$H$44)*$C$42 -> 0 | I79: =(1*10^(-$I$44))*I78+((1-(1*10^(-$I$44)))/$I$44)*$C$42 -> 0 | J79: =(1*10^(-$J$44))*J78+((1-(1*10^(-$J$44)))/$J$44)*$C$42 -> 0 | K79: 0 | M79: =(EXP(-$C$44))*M78+((1-(EXP(-$C$44)))/$C$44)*$C$42 -> 0 | N79: =(EXP(-$D$44))*N78+((1-(EXP(-$D$44)))/$D$44)*$C$42 -> 0 | O79: 0 | P79: =(EXP(-$F$44))*P78+((1-(EXP(-$F$44)))/$F$44)*$C$42 -> 0 | Q79: =(EXP(-$F$44))*Q78+((1-(EXP(-$F$44)))/$F$44)*$C$42 -> 0 | R79: =(EXP(-$H$44))*R78+((1-(EXP(-$H$44)))/$H$44)*$C$42 -> 0 | S79: =(EXP(-$I$44))*S78+((1-(EXP(-$I$44)))/$I$44)*$C$42 -> 0 | T79: =(EXP(-$J$44))*T78+((1-(EXP(-$J$44)))/$J$44)*$C$42 -> 0 | U79: 0 | V79: =SUM(M79:U79) -> 0
B80: 33 | C80: =(1*10^(-$C$44))*C79+((1-(1*10^(-$C$44)))/$C$44)*$C$42 -> 0 | D80: =(1*10^(-$D$44))*D79+((1-(1*10^(-$D$44)))/$D$44)*$C$42 -> 0 | E80: 0 | F80: =(1*10^(-$F$44))*F79+((1-(1*10^(-$F$44)))/$F$44)*$C$42 -> 0 | G80: =(1*10^(-$F$44))*G79+((1-(1*10^(-$F$44)))/$F$44)*$C$42 -> 0 | H80: =(1*10^(-$H$44))*H79+((1-(1*10^(-$H$44)))/$H$44)*$C$42 -> 0 | I80: =(1*10^(-$I$44))*I79+((1-(1*10^(-$I$44)))/$I$44)*$C$42 -> 0 | J80: =(1*10^(-$J$44))*J79+((1-(1*10^(-$J$44)))/$J$44)*$C$42 -> 0 | K80: 0 | M80: =(EXP(-$C$44))*M79+((1-(EXP(-$C$44)))/$C$44)*$C$42 -> 0 | N80: =(EXP(-$D$44))*N79+((1-(EXP(-$D$44)))/$D$44)*$C$42 -> 0 | O80: 0 | P80: =(EXP(-$F$44))*P79+((1-(EXP(-$F$44)))/$F$44)*$C$42 -> 0 | Q80: =(EXP(-$F$44))*Q79+((1-(EXP(-$F$44)))/$F$44)*$C$42 -> 0 | R80: =(EXP(-$H$44))*R79+((1-(EXP(-$H$44)))/$H$44)*$C$42 -> 0 | S80: =(EXP(-$I$44))*S79+((1-(EXP(-$I$44)))/$I$44)*$C$42 -> 0 | T80: =(EXP(-$J$44))*T79+((1-(EXP(-$J$44)))/$J$44)*$C$42 -> 0 | U80: 0 | V80: =SUM(M80:U80) -> 0
... B92: 45 | C92: =(1*10^(-$C$44))*C91+((1-(1*10^(-$C$44)))/$C$44)*$C$42 -> 0 | D92: =(1*10^(-$D$44))*D91+((1-(1*10^(-$D$44)))/$D$44)*$C$42 -> 0 | E92: 0 | F92: =(1*10^(-$F$44))*F91+((1-(1*10^(-$F$44)))/$F$44)*$C$42 -> 0 | G92: =(1*10^(-$F$44))*G91+((1-(1*10^(-$F$44)))/$F$44)*$C$42 -> 0 | H92: =(1*10^(-$H$44))*H91+((1-(1*10^(-$H$44)))/$H$44)*$C$42 -> 0 | I92: =(1*10^(-$I$44))*I91+((1-(1*10^(-$I$44)))/$I$44)*$C$42 -> 0 | J92: =(1*10^(-$J$44))*J91+((1-(1*10^(-$J$44)))/$J$44)*$C$42 -> 0 | K92: 0 | M92: =(EXP(-$C$44))*M91+((1-(EXP(-$C$44)))/$C$44)*$C$42 -> 0 | N92: =(EXP(-$D$44))*N91+((1-(EXP(-$D$44)))/$D$44)*$C$42 -> 0 | O92: 0 | P92: =(EXP(-$F$44))*P91+((1-(EXP(-$F$44)))/$F$44)*$C$42 -> 0 | Q92: =(EXP(-$F$44))*Q91+((1-(EXP(-$F$44)))/$F$44)*$C$42 -> 0 | R92: =(EXP(-$H$44))*R91+((1-(EXP(-$H$44)))/$H$44)*$C$42 -> 0 | S92: =(EXP(-$I$44))*S91+((1-(EXP(-$I$44)))/$I$44)*$C$42 -> 0 | T92: =(EXP(-$J$44))*T91+((1-(EXP(-$J$44)))/$J$44)*$C$42 -> 0 | U92: 0 | V92: =SUM(M92:U92) -> 0
B93: 46 | C93: =(1*10^(-$C$44))*C92+((1-(1*10^(-$C$44)))/$C$44)*$C$42 -> 0 | D93: =(1*10^(-$D$44))*D92+((1-(1*10^(-$D$44)))/$D$44)*$C$42 -> 0 | E93: 0 | F93: =(1*10^(-$F$44))*F92+((1-(1*10^(-$F$44)))/$F$44)*$C$42 -> 0 | G93: =(1*10^(-$F$44))*G92+((1-(1*10^(-$F$44)))/$F$44)*$C$42 -> 0 | H93: =(1*10^(-$H$44))*H92+((1-(1*10^(-$H$44)))/$H$44)*$C$42 -> 0 | I93: =(1*10^(-$I$44))*I92+((1-(1*10^(-$I$44)))/$I$44)*$C$42 -> 0 | J93: =(1*10^(-$J$44))*J92+((1-(1*10^(-$J$44)))/$J$44)*$C$42 -> 0 | K93: 0 | M93: =(EXP(-$C$44))*M92+((1-(EXP(-$C$44)))/$C$44)*$C$42 -> 0 | N93: =(EXP(-$D$44))*N92+((1-(EXP(-$D$44)))/$D$44)*$C$42 -> 0 | O93: 0 | P93: =(EXP(-$F$44))*P92+((1-(EXP(-$F$44)))/$F$44)*$C$42 -> 0 | Q93: =(EXP(-$F$44))*Q92+((1-(EXP(-$F$44)))/$F$44)*$C$42 -> 0 | R93: =(EXP(-$H$44))*R92+((1-(EXP(-$H$44)))/$H$44)*$C$42 -> 0 | S93: =(EXP(-$I$44))*S92+((1-(EXP(-$I$44)))/$I$44)*$C$42 -> 0 | T93: =(EXP(-$J$44))*T92+((1-(EXP(-$J$44)))/$J$44)*$C$42 -> 0 | U93: 0 | V93: =SUM(M93:U93) -> 0 | Y93: Calculations for UK circularity workbook:
B94: 47 | C94: =(1*10^(-$C$44))*C93+((1-(1*10^(-$C$44)))/$C$44)*$C$42 -> 0 | D94: =(1*10^(-$D$44))*D93+((1-(1*10^(-$D$44)))/$D$44)*$C$42 -> 0 | E94: 0 | F94: =(1*10^(-$F$44))*F93+((1-(1*10^(-$F$44)))/$F$44)*$C$42 -> 0 | G94: =(1*10^(-$F$44))*G93+((1-(1*10^(-$F$44)))/$F$44)*$C$42 -> 0 | H94: =(1*10^(-$H$44))*H93+((1-(1*10^(-$H$44)))/$H$44)*$C$42 -> 0 | I94: =(1*10^(-$I$44))*I93+((1-(1*10^(-$I$44)))/$I$44)*$C$42 -> 0 | J94: =(1*10^(-$J$44))*J93+((1-(1*10^(-$J$44)))/$J$44)*$C$42 -> 0 | K94: 0 | M94: =(EXP(-$C$44))*M93+((1-(EXP(-$C$44)))/$C$44)*$C$42 -> 0 | N94: =(EXP(-$D$44))*N93+((1-(EXP(-$D$44)))/$D$44)*$C$42 -> 0 | O94: 0 | P94: =(EXP(-$F$44))*P93+((1-(EXP(-$F$44)))/$F$44)*$C$42 -> 0 | Q94: =(EXP(-$F$44))*Q93+((1-(EXP(-$F$44)))/$F$44)*$C$42 -> 0 | R94: =(EXP(-$H$44))*R93+((1-(EXP(-$H$44)))/$H$44)*$C$42 -> 0 | S94: =(EXP(-$I$44))*S93+((1-(EXP(-$I$44)))/$I$44)*$C$42 -> 0 | T94: =(EXP(-$J$44))*T93+((1-(EXP(-$J$44)))/$J$44)*$C$42 -> 0 | U94: 0 | V94: =SUM(M94:U94) -> 0
B95: 48 | C95: =(1*10^(-$C$44))*C94+((1-(1*10^(-$C$44)))/$C$44)*$C$42 -> 0 | D95: =(1*10^(-$D$44))*D94+((1-(1*10^(-$D$44)))/$D$44)*$C$42 -> 0 | E95: 0 | F95: =(1*10^(-$F$44))*F94+((1-(1*10^(-$F$44)))/$F$44)*$C$42 -> 0 | G95: =(1*10^(-$F$44))*G94+((1-(1*10^(-$F$44)))/$F$44)*$C$42 -> 0 | H95: =(1*10^(-$H$44))*H94+((1-(1*10^(-$H$44)))/$H$44)*$C$42 -> 0 | I95: =(1*10^(-$I$44))*I94+((1-(1*10^(-$I$44)))/$I$44)*$C$42 -> 0 | J95: =(1*10^(-$J$44))*J94+((1-(1*10^(-$J$44)))/$J$44)*$C$42 -> 0 | K95: 0 | M95: =(EXP(-$C$44))*M94+((1-(EXP(-$C$44)))/$C$44)*$C$42 -> 0 | N95: =(EXP(-$D$44))*N94+((1-(EXP(-$D$44)))/$D$44)*$C$42 -> 0 | O95: 0 | P95: =(EXP(-$F$44))*P94+((1-(EXP(-$F$44)))/$F$44)*$C$42 -> 0 | Q95: =(EXP(-$F$44))*Q94+((1-(EXP(-$F$44)))/$F$44)*$C$42 -> 0 | R95: =(EXP(-$H$44))*R94+((1-(EXP(-$H$44)))/$H$44)*$C$42 -> 0 | S95: =(EXP(-$I$44))*S94+((1-(EXP(-$I$44)))/$I$44)*$C$42 -> 0 | T95: =(EXP(-$J$44))*T94+((1-(EXP(-$J$44)))/$J$44)*$C$42 -> 0 | U95: 0 | V95: =SUM(M95:U95) -> 0 | Y95: The 50 yr average HWP C storage (tC) (from UK baseline workbook)
B96: 49 | C96: =(1*10^(-$C$44))*C95+((1-(1*10^(-$C$44)))/$C$44)*$C$42 -> 0 | D96: =(1*10^(-$D$44))*D95+((1-(1*10^(-$D$44)))/$D$44)*$C$42 -> 0 | E96: 0 | F96: =(1*10^(-$F$44))*F95+((1-(1*10^(-$F$44)))/$F$44)*$C$42 -> 0 | G96: =(1*10^(-$F$44))*G95+((1-(1*10^(-$F$44)))/$F$44)*$C$42 -> 0 | H96: =(1*10^(-$H$44))*H95+((1-(1*10^(-$H$44)))/$H$44)*$C$42 -> 0 | I96: =(1*10^(-$I$44))*I95+((1-(1*10^(-$I$44)))/$I$44)*$C$42 -> 0 | J96: =(1*10^(-$J$44))*J95+((1-(1*10^(-$J$44)))/$J$44)*$C$42 -> 0 | K96: 0 | M96: =(EXP(-$C$44))*M95+((1-(EXP(-$C$44)))/$C$44)*$C$42 -> 0 | N96: =(EXP(-$D$44))*N95+((1-(EXP(-$D$44)))/$D$44)*$C$42 -> 0 | O96: 0 | P96: =(EXP(-$F$44))*P95+((1-(EXP(-$F$44)))/$F$44)*$C$42 -> 0 | Q96: =(EXP(-$F$44))*Q95+((1-(EXP(-$F$44)))/$F$44)*$C$42 -> 0 | R96: =(EXP(-$H$44))*R95+((1-(EXP(-$H$44)))/$H$44)*$C$42 -> 0 | S96: =(EXP(-$I$44))*S95+((1-(EXP(-$I$44)))/$I$44)*$C$42 -> 0 | T96: =(EXP(-$J$44))*T95+((1-(EXP(-$J$44)))/$J$44)*$C$42 -> 0 | U96: 0 | V96: =SUM(M96:U96) -> 0 | Z96: Particleboard | AA96: Fibreboard (tC) | AB96: fence poles | AC96: P&P | AD96: Fencing | AE96: Carcassing | AF96: Total
B97: 50 | C97: =(EXP(-$C$44))*C96+((1-(EXP(-$C$44)))/$C$44)*L31 -> 0 | D97: =(EXP(-$D$44))*D96+((1-(EXP(-$D$44)))/$D$44)*L32 -> 0 | E97: 0 | F97: =(EXP(-$F$44))*F96+((1-(EXP(-$F$44)))/$F$44)*L34 -> 0 | G97: =(EXP(-$F$44))*G96+((1-(EXP(-$F$44)))/$F$44)*L35 -> 0 | H97: =(EXP(-$H$44))*H96+((1-(EXP(-$H$44)))/$H$44)*L36 -> 0 | I97: =(EXP(-$I$44))*I96+((1-(EXP(-$I$44)))/$I$44)*L37 -> 0 | J97: =(EXP(-$J$44))*J96+((1-(EXP(-$J$44)))/$J$44)*L38 -> 0 | K97: 0 | M97: =(EXP(-$C$44))*M96+((1-(EXP(-$C$44)))/$C$44)*N31 -> 347.66715 | N97: =(EXP(-$D$44))*N96+((1-(EXP(-$D$44)))/$D$44)*N32 -> 126.83898 | O97: 0 | P97: =(EXP(-$F$44))*P96+((1-(EXP(-$F$44)))/$F$44)*N34 -> 104.96168 | Q97: =(EXP(-$F$44))*Q96+((1-(EXP(-$F$44)))/$F$44)*N35 -> 103.08737 | R97: =(EXP(-$H$44))*R96+((1-(EXP(-$H$44)))/$H$44)*N36 -> 343.89739 | S97: =(EXP(-$I$44))*S96+((1-(EXP(-$I$44)))/$I$44)*N37 -> 307.5315 | T97: =(EXP(-$J$44))*T96+((1-(EXP(-$J$44)))/$J$44)*N38 -> 189.42099 | U97: 0 | V97: =SUM(M97:U97) -> 1523.4051 | Y97: Baseline | Z97: 212344.44 | AA97: 156153.77 | AB97: 7039.6042 | AC97: 21460.694 | AD97: 122841.71 | AE97: 150947.6 | AF97: 670787.82
B98: 51 | C98: =(EXP(-$C$44))*C97+((1-(EXP(-$C$44)))/$C$44)*$C$42 -> 0 | D98: =(EXP(-$D$44))*D97+((1-(EXP(-$D$44)))/$D$44)*$C$42 -> 0 | E98: 0 | F98: =(EXP(-$F$44))*F97+((1-(EXP(-$F$44)))/$F$44)*$C$42 -> 0 | G98: =(EXP(-$F$44))*G97+((1-(EXP(-$F$44)))/$F$44)*$C$42 -> 0 | H98: =(EXP(-$H$44))*H97+((1-(EXP(-$H$44)))/$H$44)*$C$42 -> 0 | I98: =(EXP(-$I$44))*I97+((1-(EXP(-$I$44)))/$I$44)*$C$42 -> 0 | J98: =(EXP(-$J$44))*J97+((1-(EXP(-$J$44)))/$J$44)*$C$42 -> 0 | K98: 0 | M98: =(EXP(-$C$44))*M97+((1-(EXP(-$C$44)))/$C$44)*$C$42 -> 339.72642 | N98: =(EXP(-$D$44))*N97+((1-(EXP(-$D$44)))/$D$44)*$C$42 -> 122.51838 | O98: 0 | P98: =(EXP(-$F$44))*P97+((1-(EXP(-$F$44)))/$F$44)*$C$42 -> 74.219118 | Q98: =(EXP(-$F$44))*Q97+((1-(EXP(-$F$44)))/$F$44)*$C$42 -> 72.893777 | R98: =(EXP(-$H$44))*R97+((1-(EXP(-$H$44)))/$H$44)*$C$42 -> 272.95154 | S98: =(EXP(-$I$44))*S97+((1-(EXP(-$I$44)))/$I$44)*$C$42 -> 295.91414 | T98: =(EXP(-$J$44))*T97+((1-(EXP(-$J$44)))/$J$44)*$C$42 -> 187.96774 | U98: 0 | V98: =SUM(M98:U98) -> 1366.1911 | Y98: Circ | Z98: =AVERAGE(M97:M146)*1000 -> 208545.12 | AA98: =AVERAGE(N97:N146)*1000 -> 61306.84 | AB98: =AVERAGE(Q97:Q146)*1000 -> 7039.2456 | AC98: =AVERAGE(R97:R146)*1000 -> 33339.307 | AD98: =AVERAGE(S97:S146)*1000 -> 139076.3 | AE98: =AVERAGE(T97:T146)*1000 -> 157819.27 | AF98: =SUM(Z98:AE98) -> 607126.08
B99: 52 | C99: =(EXP(-$C$44))*C98+((1-(EXP(-$C$44)))/$C$44)*$C$42 -> 0 | D99: =(EXP(-$D$44))*D98+((1-(EXP(-$D$44)))/$D$44)*$C$42 -> 0 | E99: 0 | F99: =(EXP(-$F$44))*F98+((1-(EXP(-$F$44)))/$F$44)*$C$42 -> 0 | G99: =(EXP(-$F$44))*G98+((1-(EXP(-$F$44)))/$F$44)*$C$42 -> 0 | H99: =(EXP(-$H$44))*H98+((1-(EXP(-$H$44)))/$H$44)*$C$42 -> 0 | I99: =(EXP(-$I$44))*I98+((1-(EXP(-$I$44)))/$I$44)*$C$42 -> 0 | J99: =(EXP(-$J$44))*J98+((1-(EXP(-$J$44)))/$J$44)*$C$42 -> 0 | K99: 0 | M99: =(EXP(-$C$44))*M98+((1-(EXP(-$C$44)))/$C$44)*$C$42 -> 331.96706 | N99: =(EXP(-$D$44))*N98+((1-(EXP(-$D$44)))/$D$44)*$C$42 -> 118.34495 | O99: 0 | P99: =(EXP(-$F$44))*P98+((1-(EXP(-$F$44)))/$F$44)*$C$42 -> 52.480842 | Q99: =(EXP(-$F$44))*Q98+((1-(EXP(-$F$44)))/$F$44)*$C$42 -> 51.543684 | R99: =(EXP(-$H$44))*R98+((1-(EXP(-$H$44)))/$H$44)*$C$42 -> 216.64178 | S99: =(EXP(-$I$44))*S98+((1-(EXP(-$I$44)))/$I$44)*$C$42 -> 284.73564 | T99: =(EXP(-$J$44))*T98+((1-(EXP(-$J$44)))/$J$44)*$C$42 -> 186.52564 | U99: 0 | V99: =SUM(M99:U99) -> 1242.2396 | Y99: Difference: | Z99: =Z97-Z98 -> 3799.3151 | AA99: =AA97-AA98 -> 94846.931 | AB99: =AB97-AB98 -> 0.35860178 | AC99: =AC97-AC98 -> -11878.613 | AD99: =AD97-AD98 -> -16234.588 | AE99: =AE97-AE98 -> -6871.6662 | AF99: =SUM(AC99:AE99) -> -34984.867 | AG99: Total
B100: 53 | C100: =(EXP(-$C$44))*C99+((1-(EXP(-$C$44)))/$C$44)*$C$42 -> 0 | D100: =(EXP(-$D$44))*D99+((1-(EXP(-$D$44)))/$D$44)*$C$42 -> 0 | E100: 0 | F100: =(EXP(-$F$44))*F99+((1-(EXP(-$F$44)))/$F$44)*$C$42 -> 0 | G100: =(EXP(-$F$44))*G99+((1-(EXP(-$F$44)))/$F$44)*$C$42 -> 0 | H100: =(EXP(-$H$44))*H99+((1-(EXP(-$H$44)))/$H$44)*$C$42 -> 0 | I100: =(EXP(-$I$44))*I99+((1-(EXP(-$I$44)))/$I$44)*$C$42 -> 0 | J100: =(EXP(-$J$44))*J99+((1-(EXP(-$J$44)))/$J$44)*$C$42 -> 0 | K100: 0 | M100: =(EXP(-$C$44))*M99+((1-(EXP(-$C$44)))/$C$44)*$C$42 -> 324.38492 | N100: =(EXP(-$D$44))*N99+((1-(EXP(-$D$44)))/$D$44)*$C$42 -> 114.31369 | O100: 0 | P100: =(EXP(-$F$44))*P99+((1-(EXP(-$F$44)))/$F$44)*$C$42 -> 37.109559 | Q100: =(EXP(-$F$44))*Q99+((1-(EXP(-$F$44)))/$F$44)*$C$42 -> 36.446889 | R100: =(EXP(-$H$44))*R99+((1-(EXP(-$H$44)))/$H$44)*$C$42 -> 171.94869 | S100: =(EXP(-$I$44))*S99+((1-(EXP(-$I$44)))/$I$44)*$C$42 -> 273.97942 | T100: =(EXP(-$J$44))*T99+((1-(EXP(-$J$44)))/$J$44)*$C$42 -> 185.09461 | U100: 0 | V100: =SUM(M100:U100) -> 1143.2778 | AF100: =AF99*44/12 -> -128277.85 | AG100: t CO2e
B101: 54 | C101: =(EXP(-$C$44))*C100+((1-(EXP(-$C$44)))/$C$44)*$C$42 -> 0 | D101: =(EXP(-$D$44))*D100+((1-(EXP(-$D$44)))/$D$44)*$C$42 -> 0 | E101: 0 | F101: =(EXP(-$F$44))*F100+((1-(EXP(-$F$44)))/$F$44)*$C$42 -> 0 | G101: =(EXP(-$F$44))*G100+((1-(EXP(-$F$44)))/$F$44)*$C$42 -> 0 | H101: =(EXP(-$H$44))*H100+((1-(EXP(-$H$44)))/$H$44)*$C$42 -> 0 | I101: =(EXP(-$I$44))*I100+((1-(EXP(-$I$44)))/$I$44)*$C$42 -> 0 | J101: =(EXP(-$J$44))*J100+((1-(EXP(-$J$44)))/$J$44)*$C$42 -> 0 | K101: 0 | M101: =(EXP(-$C$44))*M100+((1-(EXP(-$C$44)))/$C$44)*$C$42 -> 316.97596 | N101: =(EXP(-$D$44))*N100+((1-(EXP(-$D$44)))/$D$44)*$C$42 -> 110.41974 | O101: 0 | P101: =(EXP(-$F$44))*P100+((1-(EXP(-$F$44)))/$F$44)*$C$42 -> 26.240421 | Q101: =(EXP(-$F$44))*Q100+((1-(EXP(-$F$44)))/$F$44)*$C$42 -> 25.771842 | R101: =(EXP(-$H$44))*R100+((1-(EXP(-$H$44)))/$H$44)*$C$42 -> 136.47577 | S101: =(EXP(-$I$44))*S100+((1-(EXP(-$I$44)))/$I$44)*$C$42 -> 263.62953 | T101: =(EXP(-$J$44))*T100+((1-(EXP(-$J$44)))/$J$44)*$C$42 -> 183.67455 | U101: 0 | V101: =SUM(M101:U101) -> 1063.1878
B102: 55 | C102: =(EXP(-$C$44))*C101+((1-(EXP(-$C$44)))/$C$44)*$C$42 -> 0 | D102: =(EXP(-$D$44))*D101+((1-(EXP(-$D$44)))/$D$44)*$C$42 -> 0 | E102: 0 | F102: =(EXP(-$F$44))*F101+((1-(EXP(-$F$44)))/$F$44)*$C$42 -> 0 | G102: =(EXP(-$F$44))*G101+((1-(EXP(-$F$44)))/$F$44)*$C$42 -> 0 | H102: =(EXP(-$H$44))*H101+((1-(EXP(-$H$44)))/$H$44)*$C$42 -> 0 | I102: =(EXP(-$I$44))*I101+((1-(EXP(-$I$44)))/$I$44)*$C$42 -> 0 | J102: =(EXP(-$J$44))*J101+((1-(EXP(-$J$44)))/$J$44)*$C$42 -> 0 | K102: 0 | M102: =(EXP(-$C$44))*M101+((1-(EXP(-$C$44)))/$C$44)*$C$42 -> 309.73622 | N102: =(EXP(-$D$44))*N101+((1-(EXP(-$D$44)))/$D$44)*$C$42 -> 106.65844 | O102: 0 | P102: =(EXP(-$F$44))*P101+((1-(EXP(-$F$44)))/$F$44)*$C$42 -> 18.55478 | Q102: =(EXP(-$F$44))*Q101+((1-(EXP(-$F$44)))/$F$44)*$C$42 -> 18.223444 | R102: =(EXP(-$H$44))*R101+((1-(EXP(-$H$44)))/$H$44)*$C$42 -> 108.32089 | S102: =(EXP(-$I$44))*S101+((1-(EXP(-$I$44)))/$I$44)*$C$42 -> 253.67062 | T102: =(EXP(-$J$44))*T101+((1-(EXP(-$J$44)))/$J$44)*$C$42 -> 182.26539 | U102: 0 | V102: =SUM(M102:U102) -> 997.42978
B103: 56 | C103: =(EXP(-$C$44))*C102+((1-(EXP(-$C$44)))/$C$44)*$C$42 -> 0 | D103: =(EXP(-$D$44))*D102+((1-(EXP(-$D$44)))/$D$44)*$C$42 -> 0 | E103: 0 | F103: =(EXP(-$F$44))*F102+((1-(EXP(-$F$44)))/$F$44)*$C$42 -> 0 | G103: =(EXP(-$F$44))*G102+((1-(EXP(-$F$44)))/$F$44)*$C$42 -> 0 | H103: =(EXP(-$H$44))*H102+((1-(EXP(-$H$44)))/$H$44)*$C$42 -> 0 | I103: =(EXP(-$I$44))*I102+((1-(EXP(-$I$44)))/$I$44)*$C$42 -> 0 | J103: =(EXP(-$J$44))*J102+((1-(EXP(-$J$44)))/$J$44)*$C$42 -> 0 | K103: 0 | M103: =(EXP(-$C$44))*M102+((1-(EXP(-$C$44)))/$C$44)*$C$42 -> 302.66183 | N103: =(EXP(-$D$44))*N102+((1-(EXP(-$D$44)))/$D$44)*$C$42 -> 103.02526 | O103: 0 | P103: =(EXP(-$F$44))*P102+((1-(EXP(-$F$44)))/$F$44)*$C$42 -> 13.12021 | Q103: =(EXP(-$F$44))*Q102+((1-(EXP(-$F$44)))/$F$44)*$C$42 -> 12.885921 | R103: =(EXP(-$H$44))*R102+((1-(EXP(-$H$44)))/$H$44)*$C$42 -> 85.974346 | S103: =(EXP(-$I$44))*S102+((1-(EXP(-$I$44)))/$I$44)*$C$42 -> 244.08792 | T103: =(EXP(-$J$44))*T102+((1-(EXP(-$J$44)))/$J$44)*$C$42 -> 180.86704 | U103: 0 | V103: =SUM(M103:U103) -> 942.62253
B104: 57 | C104: =(EXP(-$C$44))*C103+((1-(EXP(-$C$44)))/$C$44)*$C$42 -> 0 | D104: =(EXP(-$D$44))*D103+((1-(EXP(-$D$44)))/$D$44)*$C$42 -> 0 | E104: 0 | F104: =(EXP(-$F$44))*F103+((1-(EXP(-$F$44)))/$F$44)*$C$42 -> 0 | G104: =(EXP(-$F$44))*G103+((1-(EXP(-$F$44)))/$F$44)*$C$42 -> 0 | H104: =(EXP(-$H$44))*H103+((1-(EXP(-$H$44)))/$H$44)*$C$42 -> 0 | I104: =(EXP(-$I$44))*I103+((1-(EXP(-$I$44)))/$I$44)*$C$42 -> 0 | J104: =(EXP(-$J$44))*J103+((1-(EXP(-$J$44)))/$J$44)*$C$42 -> 0 | K104: 0 | M104: =(EXP(-$C$44))*M103+((1-(EXP(-$C$44)))/$C$44)*$C$42 -> 295.74903 | N104: =(EXP(-$D$44))*N103+((1-(EXP(-$D$44)))/$D$44)*$C$42 -> 99.515844 | O104: 0 | P104: =(EXP(-$F$44))*P103+((1-(EXP(-$F$44)))/$F$44)*$C$42 -> 9.2773898 | Q104: =(EXP(-$F$44))*Q103+((1-(EXP(-$F$44)))/$F$44)*$C$42 -> 9.1117221 | R104: =(EXP(-$H$44))*R103+((1-(EXP(-$H$44)))/$H$44)*$C$42 -> 68.237884 | S104: =(EXP(-$I$44))*S103+((1-(EXP(-$I$44)))/$I$44)*$C$42 -> 234.86721 | T104: =(EXP(-$J$44))*T103+((1-(EXP(-$J$44)))/$J$44)*$C$42 -> 179.47942 | U104: 0 | V104: =SUM(M104:U104) -> 896.2385
B105: 58 | C105: =(EXP(-$C$44))*C104+((1-(EXP(-$C$44)))/$C$44)*$C$42 -> 0 | D105: =(EXP(-$D$44))*D104+((1-(EXP(-$D$44)))/$D$44)*$C$42 -> 0 | E105: 0 | F105: =(EXP(-$F$44))*F104+((1-(EXP(-$F$44)))/$F$44)*$C$42 -> 0 | G105: =(EXP(-$F$44))*G104+((1-(EXP(-$F$44)))/$F$44)*$C$42 -> 0 | H105: =(EXP(-$H$44))*H104+((1-(EXP(-$H$44)))/$H$44)*$C$42 -> 0 | I105: =(EXP(-$I$44))*I104+((1-(EXP(-$I$44)))/$I$44)*$C$42 -> 0 | J105: =(EXP(-$J$44))*J104+((1-(EXP(-$J$44)))/$J$44)*$C$42 -> 0 | K105: 0 | M105: =(EXP(-$C$44))*M104+((1-(EXP(-$C$44)))/$C$44)*$C$42 -> 288.99411 | N105: =(EXP(-$D$44))*N104+((1-(EXP(-$D$44)))/$D$44)*$C$42 -> 96.125969 | O105: 0 | P105: =(EXP(-$F$44))*P104+((1-(EXP(-$F$44)))/$F$44)*$C$42 -> 6.5601052 | Q105: =(EXP(-$F$44))*Q104+((1-(EXP(-$F$44)))/$F$44)*$C$42 -> 6.4429605 | R105: =(EXP(-$H$44))*R104+((1-(EXP(-$H$44)))/$H$44)*$C$42 -> 54.160444 | S105: =(EXP(-$I$44))*S104+((1-(EXP(-$I$44)))/$I$44)*$C$42 -> 225.99483 | T105: =(EXP(-$J$44))*T104+((1-(EXP(-$J$44)))/$J$44)*$C$42 -> 178.10244 | U105: 0 | V105: =SUM(M105:U105) -> 856.38086
B106: 59 | C106: =(EXP(-$C$44))*C105+((1-(EXP(-$C$44)))/$C$44)*$C$42 -> 0 | D106: =(EXP(-$D$44))*D105+((1-(EXP(-$D$44)))/$D$44)*$C$42 -> 0 | E106: 0 | F106: =(EXP(-$F$44))*F105+((1-(EXP(-$F$44)))/$F$44)*$C$42 -> 0 | G106: =(EXP(-$F$44))*G105+((1-(EXP(-$F$44)))/$F$44)*$C$42 -> 0 | H106: =(EXP(-$H$44))*H105+((1-(EXP(-$H$44)))/$H$44)*$C$42 -> 0 | I106: =(EXP(-$I$44))*I105+((1-(EXP(-$I$44)))/$I$44)*$C$42 -> 0 | J106: =(EXP(-$J$44))*J105+((1-(EXP(-$J$44)))/$J$44)*$C$42 -> 0 | K106: 0 | M106: =(EXP(-$C$44))*M105+((1-(EXP(-$C$44)))/$C$44)*$C$42 -> 282.39347 | N106: =(EXP(-$D$44))*N105+((1-(EXP(-$D$44)))/$D$44)*$C$42 -> 92.851566 | O106: 0 | P106: =(EXP(-$F$44))*P105+((1-(EXP(-$F$44)))/$F$44)*$C$42 -> 4.6386949 | Q106: =(EXP(-$F$44))*Q105+((1-(EXP(-$F$44)))/$F$44)*$C$42 -> 4.5558611 | R106: =(EXP(-$H$44))*R105+((1-(EXP(-$H$44)))/$H$44)*$C$42 -> 42.987173 | S106: =(EXP(-$I$44))*S105+((1-(EXP(-$I$44)))/$I$44)*$C$42 -> 217.45761 | T106: =(EXP(-$J$44))*T105+((1-(EXP(-$J$44)))/$J$44)*$C$42 -> 176.73603 | U106: 0 | V106: =SUM(M106:U106) -> 821.62041
B107: 60 | C107: =(EXP(-$C$44))*C106+((1-(EXP(-$C$44)))/$C$44)*$C$42 -> 0 | D107: =(EXP(-$D$44))*D106+((1-(EXP(-$D$44)))/$D$44)*$C$42 -> 0 | E107: 0 | F107: =(EXP(-$F$44))*F106+((1-(EXP(-$F$44)))/$F$44)*$C$42 -> 0 | G107: =(EXP(-$F$44))*G106+((1-(EXP(-$F$44)))/$F$44)*$C$42 -> 0 | H107: =(EXP(-$H$44))*H106+((1-(EXP(-$H$44)))/$H$44)*$C$42 -> 0 | I107: =(EXP(-$I$44))*I106+((1-(EXP(-$I$44)))/$I$44)*$C$42 -> 0 | J107: =(EXP(-$J$44))*J106+((1-(EXP(-$J$44)))/$J$44)*$C$42 -> 0 | K107: 0 | M107: =(EXP(-$C$44))*M106+((1-(EXP(-$C$44)))/$C$44)*$C$42 -> 275.9436 | N107: =(EXP(-$D$44))*N106+((1-(EXP(-$D$44)))/$D$44)*$C$42 -> 89.6887 | O107: 0 | P107: =(EXP(-$F$44))*P106+((1-(EXP(-$F$44)))/$F$44)*$C$42 -> 3.2800526 | Q107: =(EXP(-$F$44))*Q106+((1-(EXP(-$F$44)))/$F$44)*$C$42 -> 3.2214803 | R107: =(EXP(-$H$44))*R106+((1-(EXP(-$H$44)))/$H$44)*$C$42 -> 34.118942 | S107: =(EXP(-$I$44))*S106+((1-(EXP(-$I$44)))/$I$44)*$C$42 -> 209.2429 | T107: =(EXP(-$J$44))*T106+((1-(EXP(-$J$44)))/$J$44)*$C$42 -> 175.3801 | U107: 0 | V107: =SUM(M107:U107) -> 790.87577
B108: 61 | C108: =(EXP(-$C$44))*C107+((1-(EXP(-$C$44)))/$C$44)*$C$42 -> 0 | D108: =(EXP(-$D$44))*D107+((1-(EXP(-$D$44)))/$D$44)*$C$42 -> 0 | E108: 0 | F108: =(EXP(-$F$44))*F107+((1-(EXP(-$F$44)))/$F$44)*$C$42 -> 0 | G108: =(EXP(-$F$44))*G107+((1-(EXP(-$F$44)))/$F$44)*$C$42 -> 0 | H108: =(EXP(-$H$44))*H107+((1-(EXP(-$H$44)))/$H$44)*$C$42 -> 0 | I108: =(EXP(-$I$44))*I107+((1-(EXP(-$I$44)))/$I$44)*$C$42 -> 0 | J108: =(EXP(-$J$44))*J107+((1-(EXP(-$J$44)))/$J$44)*$C$42 -> 0 | K108: 0 | M108: =(EXP(-$C$44))*M107+((1-(EXP(-$C$44)))/$C$44)*$C$42 -> 269.64104 | N108: =(EXP(-$D$44))*N107+((1-(EXP(-$D$44)))/$D$44)*$C$42 -> 86.633574 | O108: 0 | P108: =(EXP(-$F$44))*P107+((1-(EXP(-$F$44)))/$F$44)*$C$42 -> 2.3193475 | Q108: =(EXP(-$F$44))*Q107+((1-(EXP(-$F$44)))/$F$44)*$C$42 -> 2.2779305 | R108: =(EXP(-$H$44))*R107+((1-(EXP(-$H$44)))/$H$44)*$C$42 -> 27.080222 | S108: =(EXP(-$I$44))*S107+((1-(EXP(-$I$44)))/$I$44)*$C$42 -> 201.3385 | T108: =(EXP(-$J$44))*T107+((1-(EXP(-$J$44)))/$J$44)*$C$42 -> 174.03458 | U108: 0 | V108: =SUM(M108:U108) -> 763.32519
B109: 62 | C109: =(EXP(-$C$44))*C108+((1-(EXP(-$C$44)))/$C$44)*$C$42 -> 0 | D109: =(EXP(-$D$44))*D108+((1-(EXP(-$D$44)))/$D$44)*$C$42 -> 0 | E109: 0 | F109: =(EXP(-$F$44))*F108+((1-(EXP(-$F$44)))/$F$44)*$C$42 -> 0 | G109: =(EXP(-$F$44))*G108+((1-(EXP(-$F$44)))/$F$44)*$C$42 -> 0 | H109: =(EXP(-$H$44))*H108+((1-(EXP(-$H$44)))/$H$44)*$C$42 -> 0 | I109: =(EXP(-$I$44))*I108+((1-(EXP(-$I$44)))/$I$44)*$C$42 -> 0 | J109: =(EXP(-$J$44))*J108+((1-(EXP(-$J$44)))/$J$44)*$C$42 -> 0 | K109: 0 | M109: =(EXP(-$C$44))*M108+((1-(EXP(-$C$44)))/$C$44)*$C$42 -> 263.48243 | N109: =(EXP(-$D$44))*N108+((1-(EXP(-$D$44)))/$D$44)*$C$42 -> 83.682516 | O109: 0 | P109: =(EXP(-$F$44))*P108+((1-(EXP(-$F$44)))/$F$44)*$C$42 -> 1.6400263 | Q109: =(EXP(-$F$44))*Q108+((1-(EXP(-$F$44)))/$F$44)*$C$42 -> 1.6107401 | R109: =(EXP(-$H$44))*R108+((1-(EXP(-$H$44)))/$H$44)*$C$42 -> 21.493587 | S109: =(EXP(-$I$44))*S108+((1-(EXP(-$I$44)))/$I$44)*$C$42 -> 193.73271 | T109: =(EXP(-$J$44))*T108+((1-(EXP(-$J$44)))/$J$44)*$C$42 -> 172.69937 | U109: 0 | V109: =SUM(M109:U109) -> 738.34138
B110: 63 | C110: =(EXP(-$C$44))*C109+((1-(EXP(-$C$44)))/$C$44)*$C$42 -> 0 | D110: =(EXP(-$D$44))*D109+((1-(EXP(-$D$44)))/$D$44)*$C$42 -> 0 | E110: 0 | F110: =(EXP(-$F$44))*F109+((1-(EXP(-$F$44)))/$F$44)*$C$42 -> 0 | G110: =(EXP(-$F$44))*G109+((1-(EXP(-$F$44)))/$F$44)*$C$42 -> 0 | H110: =(EXP(-$H$44))*H109+((1-(EXP(-$H$44)))/$H$44)*$C$42 -> 0 | I110: =(EXP(-$I$44))*I109+((1-(EXP(-$I$44)))/$I$44)*$C$42 -> 0 | J110: =(EXP(-$J$44))*J109+((1-(EXP(-$J$44)))/$J$44)*$C$42 -> 0 | K110: 0 | M110: =(EXP(-$C$44))*M109+((1-(EXP(-$C$44)))/$C$44)*$C$42 -> 257.46448 | N110: =(EXP(-$D$44))*N109+((1-(EXP(-$D$44)))/$D$44)*$C$42 -> 80.831983 | O110: 0 | P110: =(EXP(-$F$44))*P109+((1-(EXP(-$F$44)))/$F$44)*$C$42 -> 1.1596737 | Q110: =(EXP(-$F$44))*Q109+((1-(EXP(-$F$44)))/$F$44)*$C$42 -> 1.1389653 | R110: =(EXP(-$H$44))*R109+((1-(EXP(-$H$44)))/$H$44)*$C$42 -> 17.059471 | S110: =(EXP(-$I$44))*S109+((1-(EXP(-$I$44)))/$I$44)*$C$42 -> 186.41423 | T110: =(EXP(-$J$44))*T109+((1-(EXP(-$J$44)))/$J$44)*$C$42 -> 171.37441 | U110: 0 | V110: =SUM(M110:U110) -> 715.44322
B111: 64 | C111: =(EXP(-$C$44))*C110+((1-(EXP(-$C$44)))/$C$44)*$C$42 -> 0 | D111: =(EXP(-$D$44))*D110+((1-(EXP(-$D$44)))/$D$44)*$C$42 -> 0 | E111: 0 | F111: =(EXP(-$F$44))*F110+((1-(EXP(-$F$44)))/$F$44)*$C$42 -> 0 | G111: =(EXP(-$F$44))*G110+((1-(EXP(-$F$44)))/$F$44)*$C$42 -> 0 | H111: =(EXP(-$H$44))*H110+((1-(EXP(-$H$44)))/$H$44)*$C$42 -> 0 | I111: =(EXP(-$I$44))*I110+((1-(EXP(-$I$44)))/$I$44)*$C$42 -> 0 | J111: =(EXP(-$J$44))*J110+((1-(EXP(-$J$44)))/$J$44)*$C$42 -> 0 | K111: 0 | M111: =(EXP(-$C$44))*M110+((1-(EXP(-$C$44)))/$C$44)*$C$42 -> 251.58398 | N111: =(EXP(-$D$44))*N110+((1-(EXP(-$D$44)))/$D$44)*$C$42 -> 78.078549 | O111: 0 | P111: =(EXP(-$F$44))*P110+((1-(EXP(-$F$44)))/$F$44)*$C$42 -> 0.82001316 | Q111: =(EXP(-$F$44))*Q110+((1-(EXP(-$F$44)))/$F$44)*$C$42 -> 0.80537006 | R111: =(EXP(-$H$44))*R110+((1-(EXP(-$H$44)))/$H$44)*$C$42 -> 13.540111 | S111: =(EXP(-$I$44))*S110+((1-(EXP(-$I$44)))/$I$44)*$C$42 -> 179.37222 | T111: =(EXP(-$J$44))*T110+((1-(EXP(-$J$44)))/$J$44)*$C$42 -> 170.05962 | U111: 0 | V111: =SUM(M111:U111) -> 694.25986
B112: 65 | C112: =(EXP(-$C$44))*C111+((1-(EXP(-$C$44)))/$C$44)*$C$42 -> 0 | D112: =(EXP(-$D$44))*D111+((1-(EXP(-$D$44)))/$D$44)*$C$42 -> 0 | E112: 0 | F112: =(EXP(-$F$44))*F111+((1-(EXP(-$F$44)))/$F$44)*$C$42 -> 0 | G112: =(EXP(-$F$44))*G111+((1-(EXP(-$F$44)))/$F$44)*$C$42 -> 0 | H112: =(EXP(-$H$44))*H111+((1-(EXP(-$H$44)))/$H$44)*$C$42 -> 0 | I112: =(EXP(-$I$44))*I111+((1-(EXP(-$I$44)))/$I$44)*$C$42 -> 0 | J112: =(EXP(-$J$44))*J111+((1-(EXP(-$J$44)))/$J$44)*$C$42 -> 0 | K112: 0 | M112: =(EXP(-$C$44))*M111+((1-(EXP(-$C$44)))/$C$44)*$C$42 -> 245.8378 | N112: =(EXP(-$D$44))*N111+((1-(EXP(-$D$44)))/$D$44)*$C$42 -> 75.418907 | O112: 0 | P112: =(EXP(-$F$44))*P111+((1-(EXP(-$F$44)))/$F$44)*$C$42 -> 0.57983686 | Q112: =(EXP(-$F$44))*Q111+((1-(EXP(-$F$44)))/$F$44)*$C$42 -> 0.56948263 | R112: =(EXP(-$H$44))*R111+((1-(EXP(-$H$44)))/$H$44)*$C$42 -> 10.746793 | S112: =(EXP(-$I$44))*S111+((1-(EXP(-$I$44)))/$I$44)*$C$42 -> 172.59622 | T112: =(EXP(-$J$44))*T111+((1-(EXP(-$J$44)))/$J$44)*$C$42 -> 168.75491 | U112: 0 | V112: =SUM(M112:U112) -> 674.50395
... B117: 70 | C117: =(EXP(-$C$44))*C116+((1-(EXP(-$C$44)))/$C$44)*$C$42 -> 0 | D117: =(EXP(-$D$44))*D116+((1-(EXP(-$D$44)))/$D$44)*$C$42 -> 0 | E117: 0 | F117: =(EXP(-$F$44))*F116+((1-(EXP(-$F$44)))/$F$44)*$C$42 -> 0 | G117: =(EXP(-$F$44))*G116+((1-(EXP(-$F$44)))/$F$44)*$C$42 -> 0 | H117: =(EXP(-$H$44))*H116+((1-(EXP(-$H$44)))/$H$44)*$C$42 -> 0 | I117: =(EXP(-$I$44))*I116+((1-(EXP(-$I$44)))/$I$44)*$C$42 -> 0 | J117: =(EXP(-$J$44))*J116+((1-(EXP(-$J$44)))/$J$44)*$C$42 -> 0 | K117: 0 | M117: =(EXP(-$C$44))*M116+((1-(EXP(-$C$44)))/$C$44)*$C$42 -> 219.01658 | N117: =(EXP(-$D$44))*N116+((1-(EXP(-$D$44)))/$D$44)*$C$42 -> 63.419488 | O117: 0 | P117: =(EXP(-$F$44))*P116+((1-(EXP(-$F$44)))/$F$44)*$C$42 -> 0.10250164 | Q117: =(EXP(-$F$44))*Q116+((1-(EXP(-$F$44)))/$F$44)*$C$42 -> 0.10067126 | R117: =(EXP(-$H$44))*R116+((1-(EXP(-$H$44)))/$H$44)*$C$42 -> 3.3850278 | S117: =(EXP(-$I$44))*S116+((1-(EXP(-$I$44)))/$I$44)*$C$42 -> 142.36782 | T117: =(EXP(-$J$44))*T116+((1-(EXP(-$J$44)))/$J$44)*$C$42 -> 162.38 | U117: 0 | V117: =SUM(M117:U117) -> 590.77209
B118: 71 | C118: =(EXP(-$C$44))*C117+((1-(EXP(-$C$44)))/$C$44)*$C$42 -> 0 | D118: =(EXP(-$D$44))*D117+((1-(EXP(-$D$44)))/$D$44)*$C$42 -> 0 | E118: 0 | F118: =(EXP(-$F$44))*F117+((1-(EXP(-$F$44)))/$F$44)*$C$42 -> 0 | G118: =(EXP(-$F$44))*G117+((1-(EXP(-$F$44)))/$F$44)*$C$42 -> 0 | H118: =(EXP(-$H$44))*H117+((1-(EXP(-$H$44)))/$H$44)*$C$42 -> 0 | I118: =(EXP(-$I$44))*I117+((1-(EXP(-$I$44)))/$I$44)*$C$42 -> 0 | J118: =(EXP(-$J$44))*J117+((1-(EXP(-$J$44)))/$J$44)*$C$42 -> 0 | K118: 0 | M118: =(EXP(-$C$44))*M117+((1-(EXP(-$C$44)))/$C$44)*Q31 -> 214.01423 | N118: =(EXP(-$D$44))*N117+((1-(EXP(-$D$44)))/$D$44)*Q32 -> 61.259188 | O118: 0 | P118: =(EXP(-$F$44))*P117+((1-(EXP(-$F$44)))/$F$44)*Q34 -> 0.072479608 | Q118: =(EXP(-$F$44))*Q117+((1-(EXP(-$F$44)))/$F$44)*Q35 -> 0.071185329 | R118: =(EXP(-$H$44))*R117+((1-(EXP(-$H$44)))/$H$44)*Q36 -> 2.6866983 | S118: =(EXP(-$I$44))*S117+((1-(EXP(-$I$44)))/$I$44)*Q37 -> 136.98971 | T118: =(EXP(-$J$44))*T117+((1-(EXP(-$J$44)))/$J$44)*Q38 -> 161.13421 | U118: 0 | V118: =SUM(M118:U118) -> 576.22771
B119: 72 | C119: =(EXP(-$C$44))*C118+((1-(EXP(-$C$44)))/$C$44)*$C$42 -> 0 | D119: =(EXP(-$D$44))*D118+((1-(EXP(-$D$44)))/$D$44)*$C$42 -> 0 | E119: 0 | F119: =(EXP(-$F$44))*F118+((1-(EXP(-$F$44)))/$F$44)*$C$42 -> 0 | G119: =(EXP(-$F$44))*G118+((1-(EXP(-$F$44)))/$F$44)*$C$42 -> 0 | H119: =(EXP(-$H$44))*H118+((1-(EXP(-$H$44)))/$H$44)*$C$42 -> 0 | I119: =(EXP(-$I$44))*I118+((1-(EXP(-$I$44)))/$I$44)*$C$42 -> 0 | J119: =(EXP(-$J$44))*J118+((1-(EXP(-$J$44)))/$J$44)*$C$42 -> 0 | K119: 0 | M119: =(EXP(-$C$44))*M118+((1-(EXP(-$C$44)))/$C$44)*$C$42 -> 209.12614 | N119: =(EXP(-$D$44))*N118+((1-(EXP(-$D$44)))/$D$44)*$C$42 -> 59.172475 | O119: 0 | P119: =(EXP(-$F$44))*P118+((1-(EXP(-$F$44)))/$F$44)*$C$42 -> 0.051250822 | Q119: =(EXP(-$F$44))*Q118+((1-(EXP(-$F$44)))/$F$44)*$C$42 -> 0.050335629 | R119: =(EXP(-$H$44))*R118+((1-(EXP(-$H$44)))/$H$44)*$C$42 -> 2.1324339 | S119: =(EXP(-$I$44))*S118+((1-(EXP(-$I$44)))/$I$44)*$C$42 -> 131.81477 | T119: =(EXP(-$J$44))*T118+((1-(EXP(-$J$44)))/$J$44)*$C$42 -> 159.89798 | U119: 0 | V119: =SUM(M119:U119) -> 562.24539
B120: 73 | C120: =(EXP(-$C$44))*C119+((1-(EXP(-$C$44)))/$C$44)*$C$42 -> 0 | D120: =(EXP(-$D$44))*D119+((1-(EXP(-$D$44)))/$D$44)*$C$42 -> 0 | E120: 0 | F120: =(EXP(-$F$44))*F119+((1-(EXP(-$F$44)))/$F$44)*$C$42 -> 0 | G120: =(EXP(-$F$44))*G119+((1-(EXP(-$F$44)))/$F$44)*$C$42 -> 0 | H120: =(EXP(-$H$44))*H119+((1-(EXP(-$H$44)))/$H$44)*$C$42 -> 0 | I120: =(EXP(-$I$44))*I119+((1-(EXP(-$I$44)))/$I$44)*$C$42 -> 0 | J120: =(EXP(-$J$44))*J119+((1-(EXP(-$J$44)))/$J$44)*$C$42 -> 0 | K120: 0 | M120: =(EXP(-$C$44))*M119+((1-(EXP(-$C$44)))/$C$44)*$C$42 -> 204.34969 | N120: =(EXP(-$D$44))*N119+((1-(EXP(-$D$44)))/$D$44)*$C$42 -> 57.156843 | O120: 0 | P120: =(EXP(-$F$44))*P119+((1-(EXP(-$F$44)))/$F$44)*$C$42 -> 0.036239804 | Q120: =(EXP(-$F$44))*Q119+((1-(EXP(-$F$44)))/$F$44)*$C$42 -> 0.035592665 | R120: =(EXP(-$H$44))*R119+((1-(EXP(-$H$44)))/$H$44)*$C$42 -> 1.6925139 | S120: =(EXP(-$I$44))*S119+((1-(EXP(-$I$44)))/$I$44)*$C$42 -> 126.83531 | T120: =(EXP(-$J$44))*T119+((1-(EXP(-$J$44)))/$J$44)*$C$42 -> 158.67124 | U120: 0 | V120: =SUM(M120:U120) -> 548.77743
B121: 74 | C121: =(EXP(-$C$44))*C120+((1-(EXP(-$C$44)))/$C$44)*$C$42 -> 0 | D121: =(EXP(-$D$44))*D120+((1-(EXP(-$D$44)))/$D$44)*$C$42 -> 0 | E121: 0 | F121: =(EXP(-$F$44))*F120+((1-(EXP(-$F$44)))/$F$44)*$C$42 -> 0 | G121: =(EXP(-$F$44))*G120+((1-(EXP(-$F$44)))/$F$44)*$C$42 -> 0 | H121: =(EXP(-$H$44))*H120+((1-(EXP(-$H$44)))/$H$44)*$C$42 -> 0 | I121: =(EXP(-$I$44))*I120+((1-(EXP(-$I$44)))/$I$44)*$C$42 -> 0 | J121: =(EXP(-$J$44))*J120+((1-(EXP(-$J$44)))/$J$44)*$C$42 -> 0 | K121: 0 | M121: =(EXP(-$C$44))*M120+((1-(EXP(-$C$44)))/$C$44)*$C$42 -> 199.68234 | N121: =(EXP(-$D$44))*N120+((1-(EXP(-$D$44)))/$D$44)*$C$42 -> 55.209871 | O121: 0 | P121: =(EXP(-$F$44))*P120+((1-(EXP(-$F$44)))/$F$44)*$C$42 -> 0.025625411 | Q121: =(EXP(-$F$44))*Q120+((1-(EXP(-$F$44)))/$F$44)*$C$42 -> 0.025167814 | R121: =(EXP(-$H$44))*R120+((1-(EXP(-$H$44)))/$H$44)*$C$42 -> 1.3433492 | S121: =(EXP(-$I$44))*S120+((1-(EXP(-$I$44)))/$I$44)*$C$42 -> 122.04396 | T121: =(EXP(-$J$44))*T120+((1-(EXP(-$J$44)))/$J$44)*$C$42 -> 157.4539 | U121: 0 | V121: =SUM(M121:U121) -> 535.78422
B122: 75 | C122: =(EXP(-$C$44))*C121+((1-(EXP(-$C$44)))/$C$44)*$C$42 -> 0 | D122: =(EXP(-$D$44))*D121+((1-(EXP(-$D$44)))/$D$44)*$C$42 -> 0 | E122: 0 | F122: =(EXP(-$F$44))*F121+((1-(EXP(-$F$44)))/$F$44)*$C$42 -> 0 | G122: =(EXP(-$F$44))*G121+((1-(EXP(-$F$44)))/$F$44)*$C$42 -> 0 | H122: =(EXP(-$H$44))*H121+((1-(EXP(-$H$44)))/$H$44)*$C$42 -> 0 | I122: =(EXP(-$I$44))*I121+((1-(EXP(-$I$44)))/$I$44)*$C$42 -> 0 | J122: =(EXP(-$J$44))*J121+((1-(EXP(-$J$44)))/$J$44)*$C$42 -> 0 | K122: 0 | M122: =(EXP(-$C$44))*M121+((1-(EXP(-$C$44)))/$C$44)*$C$42 -> 195.12159 | N122: =(EXP(-$D$44))*N121+((1-(EXP(-$D$44)))/$D$44)*$C$42 -> 53.32922 | O122: 0 | P122: =(EXP(-$F$44))*P121+((1-(EXP(-$F$44)))/$F$44)*$C$42 -> 0.018119902 | Q122: =(EXP(-$F$44))*Q121+((1-(EXP(-$F$44)))/$F$44)*$C$42 -> 0.017796332 | R122: =(EXP(-$H$44))*R121+((1-(EXP(-$H$44)))/$H$44)*$C$42 -> 1.0662169 | S122: =(EXP(-$I$44))*S121+((1-(EXP(-$I$44)))/$I$44)*$C$42 -> 117.43361 | T122: =(EXP(-$J$44))*T121+((1-(EXP(-$J$44)))/$J$44)*$C$42 -> 156.24591 | U122: 0 | V122: =SUM(M122:U122) -> 523.23246
B123: 76 | C123: =(EXP(-$C$44))*C122+((1-(EXP(-$C$44)))/$C$44)*$C$42 -> 0 | D123: =(EXP(-$D$44))*D122+((1-(EXP(-$D$44)))/$D$44)*$C$42 -> 0 | E123: 0 | F123: =(EXP(-$F$44))*F122+((1-(EXP(-$F$44)))/$F$44)*$C$42 -> 0 | G123: =(EXP(-$F$44))*G122+((1-(EXP(-$F$44)))/$F$44)*$C$42 -> 0 | H123: =(EXP(-$H$44))*H122+((1-(EXP(-$H$44)))/$H$44)*$C$42 -> 0 | I123: =(EXP(-$I$44))*I122+((1-(EXP(-$I$44)))/$I$44)*$C$42 -> 0 | J123: =(EXP(-$J$44))*J122+((1-(EXP(-$J$44)))/$J$44)*$C$42 -> 0 | K123: 0 | M123: =(EXP(-$C$44))*M122+((1-(EXP(-$C$44)))/$C$44)*$C$42 -> 190.66501 | N123: =(EXP(-$D$44))*N122+((1-(EXP(-$D$44)))/$D$44)*$C$42 -> 51.512631 | O123: 0 | P123: =(EXP(-$F$44))*P122+((1-(EXP(-$F$44)))/$F$44)*$C$42 -> 0.012812706 | Q123: =(EXP(-$F$44))*Q122+((1-(EXP(-$F$44)))/$F$44)*$C$42 -> 0.012583907 | R123: =(EXP(-$H$44))*R122+((1-(EXP(-$H$44)))/$H$44)*$C$42 -> 0.84625694 | S123: =(EXP(-$I$44))*S122+((1-(EXP(-$I$44)))/$I$44)*$C$42 -> 112.99741 | T123: =(EXP(-$J$44))*T122+((1-(EXP(-$J$44)))/$J$44)*$C$42 -> 155.04718 | U123: 0 | V123: =SUM(M123:U123) -> 511.09389
B124: 77 | C124: =(EXP(-$C$44))*C123+((1-(EXP(-$C$44)))/$C$44)*$C$42 -> 0 | D124: =(EXP(-$D$44))*D123+((1-(EXP(-$D$44)))/$D$44)*$C$42 -> 0 | E124: 0 | F124: =(EXP(-$F$44))*F123+((1-(EXP(-$F$44)))/$F$44)*$C$42 -> 0 | G124: =(EXP(-$F$44))*G123+((1-(EXP(-$F$44)))/$F$44)*$C$42 -> 0 | H124: =(EXP(-$H$44))*H123+((1-(EXP(-$H$44)))/$H$44)*$C$42 -> 0 | I124: =(EXP(-$I$44))*I123+((1-(EXP(-$I$44)))/$I$44)*$C$42 -> 0 | J124: =(EXP(-$J$44))*J123+((1-(EXP(-$J$44)))/$J$44)*$C$42 -> 0 | K124: 0 | M124: =(EXP(-$C$44))*M123+((1-(EXP(-$C$44)))/$C$44)*$C$42 -> 186.31021 | N124: =(EXP(-$D$44))*N123+((1-(EXP(-$D$44)))/$D$44)*$C$42 -> 49.757922 | O124: 0 | P124: =(EXP(-$F$44))*P123+((1-(EXP(-$F$44)))/$F$44)*$C$42 -> 0.009059951 | Q124: =(EXP(-$F$44))*Q123+((1-(EXP(-$F$44)))/$F$44)*$C$42 -> 0.0088981661 | R124: =(EXP(-$H$44))*R123+((1-(EXP(-$H$44)))/$H$44)*$C$42 -> 0.67167458 | S124: =(EXP(-$I$44))*S123+((1-(EXP(-$I$44)))/$I$44)*$C$42 -> 108.72881 | T124: =(EXP(-$J$44))*T123+((1-(EXP(-$J$44)))/$J$44)*$C$42 -> 153.85765 | U124: 0 | V124: =SUM(M124:U124) -> 499.34422
B125: 78 | C125: =(EXP(-$C$44))*C124+((1-(EXP(-$C$44)))/$C$44)*$C$42 -> 0 | D125: =(EXP(-$D$44))*D124+((1-(EXP(-$D$44)))/$D$44)*$C$42 -> 0 | E125: 0 | F125: =(EXP(-$F$44))*F124+((1-(EXP(-$F$44)))/$F$44)*$C$42 -> 0 | G125: =(EXP(-$F$44))*G124+((1-(EXP(-$F$44)))/$F$44)*$C$42 -> 0 | H125: =(EXP(-$H$44))*H124+((1-(EXP(-$H$44)))/$H$44)*$C$42 -> 0 | I125: =(EXP(-$I$44))*I124+((1-(EXP(-$I$44)))/$I$44)*$C$42 -> 0 | J125: =(EXP(-$J$44))*J124+((1-(EXP(-$J$44)))/$J$44)*$C$42 -> 0 | K125: 0 | M125: =(EXP(-$C$44))*M124+((1-(EXP(-$C$44)))/$C$44)*$C$42 -> 182.05488 | N125: =(EXP(-$D$44))*N124+((1-(EXP(-$D$44)))/$D$44)*$C$42 -> 48.062984 | O125: 0 | P125: =(EXP(-$F$44))*P124+((1-(EXP(-$F$44)))/$F$44)*$C$42 -> 0.0064063528 | Q125: =(EXP(-$F$44))*Q124+((1-(EXP(-$F$44)))/$F$44)*$C$42 -> 0.0062919536 | R125: =(EXP(-$H$44))*R124+((1-(EXP(-$H$44)))/$H$44)*$C$42 -> 0.53310847 | S125: =(EXP(-$I$44))*S124+((1-(EXP(-$I$44)))/$I$44)*$C$42 -> 104.62145 | T125: =(EXP(-$J$44))*T124+((1-(EXP(-$J$44)))/$J$44)*$C$42 -> 152.67725 | U125: 0 | V125: =SUM(M125:U125) -> 487.96237
B126: 79 | C126: =(EXP(-$C$44))*C125+((1-(EXP(-$C$44)))/$C$44)*$C$42 -> 0 | D126: =(EXP(-$D$44))*D125+((1-(EXP(-$D$44)))/$D$44)*$C$42 -> 0 | E126: 0 | F126: =(EXP(-$F$44))*F125+((1-(EXP(-$F$44)))/$F$44)*$C$42 -> 0 | G126: =(EXP(-$F$44))*G125+((1-(EXP(-$F$44)))/$F$44)*$C$42 -> 0 | H126: =(EXP(-$H$44))*H125+((1-(EXP(-$H$44)))/$H$44)*$C$42 -> 0 | I126: =(EXP(-$I$44))*I125+((1-(EXP(-$I$44)))/$I$44)*$C$42 -> 0 | J126: =(EXP(-$J$44))*J125+((1-(EXP(-$J$44)))/$J$44)*$C$42 -> 0 | K126: 0 | M126: =(EXP(-$C$44))*M125+((1-(EXP(-$C$44)))/$C$44)*$C$42 -> 177.89674 | N126: =(EXP(-$D$44))*N125+((1-(EXP(-$D$44)))/$D$44)*$C$42 -> 46.425783 | O126: 0 | P126: =(EXP(-$F$44))*P125+((1-(EXP(-$F$44)))/$F$44)*$C$42 -> 0.0045299755 | Q126: =(EXP(-$F$44))*Q125+((1-(EXP(-$F$44)))/$F$44)*$C$42 -> 0.0044490831 | R126: =(EXP(-$H$44))*R125+((1-(EXP(-$H$44)))/$H$44)*$C$42 -> 0.42312847 | S126: =(EXP(-$I$44))*S125+((1-(EXP(-$I$44)))/$I$44)*$C$42 -> 100.66925 | T126: =(EXP(-$J$44))*T125+((1-(EXP(-$J$44)))/$J$44)*$C$42 -> 151.5059 | U126: 0 | V126: =SUM(M126:U126) -> 476.92978
B127: 80 | C127: =(EXP(-$C$44))*C126+((1-(EXP(-$C$44)))/$C$44)*$C$42 -> 0 | D127: =(EXP(-$D$44))*D126+((1-(EXP(-$D$44)))/$D$44)*$C$42 -> 0 | E127: 0 | F127: =(EXP(-$F$44))*F126+((1-(EXP(-$F$44)))/$F$44)*$C$42 -> 0 | G127: =(EXP(-$F$44))*G126+((1-(EXP(-$F$44)))/$F$44)*$C$42 -> 0 | H127: =(EXP(-$H$44))*H126+((1-(EXP(-$H$44)))/$H$44)*$C$42 -> 0 | I127: =(EXP(-$I$44))*I126+((1-(EXP(-$I$44)))/$I$44)*$C$42 -> 0 | J127: =(EXP(-$J$44))*J126+((1-(EXP(-$J$44)))/$J$44)*$C$42 -> 0 | K127: 0 | M127: =(EXP(-$C$44))*M126+((1-(EXP(-$C$44)))/$C$44)*$C$42 -> 173.83357 | N127: =(EXP(-$D$44))*N126+((1-(EXP(-$D$44)))/$D$44)*$C$42 -> 44.84435 | O127: 0 | P127: =(EXP(-$F$44))*P126+((1-(EXP(-$F$44)))/$F$44)*$C$42 -> 0.0032031764 | Q127: =(EXP(-$F$44))*Q126+((1-(EXP(-$F$44)))/$F$44)*$C$42 -> 0.0031459768 | R127: =(EXP(-$H$44))*R126+((1-(EXP(-$H$44)))/$H$44)*$C$42 -> 0.33583729 | S127: =(EXP(-$I$44))*S126+((1-(EXP(-$I$44)))/$I$44)*$C$42 -> 96.866354 | T127: =(EXP(-$J$44))*T126+((1-(EXP(-$J$44)))/$J$44)*$C$42 -> 150.34354 | U127: 0 | V127: =SUM(M127:U127) -> 466.23
B128: 81 | C128: =(EXP(-$C$44))*C127+((1-(EXP(-$C$44)))/$C$44)*$C$42 -> 0 | D128: =(EXP(-$D$44))*D127+((1-(EXP(-$D$44)))/$D$44)*$C$42 -> 0 | E128: 0 | F128: =(EXP(-$F$44))*F127+((1-(EXP(-$F$44)))/$F$44)*$C$42 -> 0 | G128: =(EXP(-$F$44))*G127+((1-(EXP(-$F$44)))/$F$44)*$C$42 -> 0 | H128: =(EXP(-$H$44))*H127+((1-(EXP(-$H$44)))/$H$44)*$C$42 -> 0 | I128: =(EXP(-$I$44))*I127+((1-(EXP(-$I$44)))/$I$44)*$C$42 -> 0 | J128: =(EXP(-$J$44))*J127+((1-(EXP(-$J$44)))/$J$44)*$C$42 -> 0 | K128: 0 | M128: =(EXP(-$C$44))*M127+((1-(EXP(-$C$44)))/$C$44)*$C$42 -> 169.86321 | N128: =(EXP(-$D$44))*N127+((1-(EXP(-$D$44)))/$D$44)*$C$42 -> 43.316787 | O128: 0 | P128: =(EXP(-$F$44))*P127+((1-(EXP(-$F$44)))/$F$44)*$C$42 -> 0.0022649877 | Q128: =(EXP(-$F$44))*Q127+((1-(EXP(-$F$44)))/$F$44)*$C$42 -> 0.0022245415 | R128: =(EXP(-$H$44))*R127+((1-(EXP(-$H$44)))/$H$44)*$C$42 -> 0.26655423 | S128: =(EXP(-$I$44))*S127+((1-(EXP(-$I$44)))/$I$44)*$C$42 -> 93.207115 | T128: =(EXP(-$J$44))*T127+((1-(EXP(-$J$44)))/$J$44)*$C$42 -> 149.19009 | U128: 0 | V128: =SUM(M128:U128) -> 455.84825
B129: 82 | C129: =(EXP(-$C$44))*C128+((1-(EXP(-$C$44)))/$C$44)*$C$42 -> 0 | D129: =(EXP(-$D$44))*D128+((1-(EXP(-$D$44)))/$D$44)*$C$42 -> 0 | E129: 0 | F129: =(EXP(-$F$44))*F128+((1-(EXP(-$F$44)))/$F$44)*$C$42 -> 0 | G129: =(EXP(-$F$44))*G128+((1-(EXP(-$F$44)))/$F$44)*$C$42 -> 0 | H129: =(EXP(-$H$44))*H128+((1-(EXP(-$H$44)))/$H$44)*$C$42 -> 0 | I129: =(EXP(-$I$44))*I128+((1-(EXP(-$I$44)))/$I$44)*$C$42 -> 0 | J129: =(EXP(-$J$44))*J128+((1-(EXP(-$J$44)))/$J$44)*$C$42 -> 0 | K129: 0 | M129: =(EXP(-$C$44))*M128+((1-(EXP(-$C$44)))/$C$44)*$C$42 -> 165.98353 | N129: =(EXP(-$D$44))*N128+((1-(EXP(-$D$44)))/$D$44)*$C$42 -> 41.841258 | O129: 0 | P129: =(EXP(-$F$44))*P128+((1-(EXP(-$F$44)))/$F$44)*$C$42 -> 0.0016015882 | Q129: =(EXP(-$F$44))*Q128+((1-(EXP(-$F$44)))/$F$44)*$C$42 -> 0.0015729884 | R129: =(EXP(-$H$44))*R128+((1-(EXP(-$H$44)))/$H$44)*$C$42 -> 0.21156424 | S129: =(EXP(-$I$44))*S128+((1-(EXP(-$I$44)))/$I$44)*$C$42 -> 89.686108 | T129: =(EXP(-$J$44))*T128+((1-(EXP(-$J$44)))/$J$44)*$C$42 -> 148.0455 | U129: 0 | V129: =SUM(M129:U129) -> 445.77113
B130: 83 | C130: =(EXP(-$C$44))*C129+((1-(EXP(-$C$44)))/$C$44)*$C$42 -> 0 | D130: =(EXP(-$D$44))*D129+((1-(EXP(-$D$44)))/$D$44)*$C$42 -> 0 | E130: 0 | F130: =(EXP(-$F$44))*F129+((1-(EXP(-$F$44)))/$F$44)*$C$42 -> 0 | G130: =(EXP(-$F$44))*G129+((1-(EXP(-$F$44)))/$F$44)*$C$42 -> 0 | H130: =(EXP(-$H$44))*H129+((1-(EXP(-$H$44)))/$H$44)*$C$42 -> 0 | I130: =(EXP(-$I$44))*I129+((1-(EXP(-$I$44)))/$I$44)*$C$42 -> 0 | J130: =(EXP(-$J$44))*J129+((1-(EXP(-$J$44)))/$J$44)*$C$42 -> 0 | K130: 0 | M130: =(EXP(-$C$44))*M129+((1-(EXP(-$C$44)))/$C$44)*$C$42 -> 162.19246 | N130: =(EXP(-$D$44))*N129+((1-(EXP(-$D$44)))/$D$44)*$C$42 -> 40.415991 | O130: 0 | P130: =(EXP(-$F$44))*P129+((1-(EXP(-$F$44)))/$F$44)*$C$42 -> 0.0011324939 | Q130: =(EXP(-$F$44))*Q129+((1-(EXP(-$F$44)))/$F$44)*$C$42 -> 0.0011122708 | R130: =(EXP(-$H$44))*R129+((1-(EXP(-$H$44)))/$H$44)*$C$42 -> 0.16791865 | S130: =(EXP(-$I$44))*S129+((1-(EXP(-$I$44)))/$I$44)*$C$42 -> 86.298111 | T130: =(EXP(-$J$44))*T129+((1-(EXP(-$J$44)))/$J$44)*$C$42 -> 146.90969 | U130: 0 | V130: =SUM(M130:U130) -> 435.98641
... B146: 99 | C146: =(EXP(-$C$44))*C145+((1-(EXP(-$C$44)))/$C$44)*$C$42 -> 0 | D146: =(EXP(-$D$44))*D145+((1-(EXP(-$D$44)))/$D$44)*$C$42 -> 0 | E146: 0 | F146: =(EXP(-$F$44))*F145+((1-(EXP(-$F$44)))/$F$44)*$C$42 -> 0 | G146: =(EXP(-$F$44))*G145+((1-(EXP(-$F$44)))/$F$44)*$C$42 -> 0 | H146: =(EXP(-$H$44))*H145+((1-(EXP(-$H$44)))/$H$44)*$C$42 -> 0 | I146: =(EXP(-$I$44))*I145+((1-(EXP(-$I$44)))/$I$44)*$C$42 -> 0 | J146: =(EXP(-$J$44))*J145+((1-(EXP(-$J$44)))/$J$44)*$C$42 -> 0 | K146: 0 | M146: =(EXP(-$C$44))*M145+((1-(EXP(-$C$44)))/$C$44)*$C$42 -> 112.06792 | N146: =(EXP(-$D$44))*N145+((1-(EXP(-$D$44)))/$D$44)*$C$42 -> 23.212891 | O146: 0 | P146: =(EXP(-$F$44))*P145+((1-(EXP(-$F$44)))/$F$44)*$C$42 -> 4.4238042e-06 | Q146: =(EXP(-$F$44))*Q145+((1-(EXP(-$F$44)))/$F$44)*$C$42 -> 4.3448077e-06 | R146: =(EXP(-$H$44))*R145+((1-(EXP(-$H$44)))/$H$44)*$C$42 -> 0.0041649099 | S146: =(EXP(-$I$44))*S145+((1-(EXP(-$I$44)))/$I$44)*$C$42 -> 46.603557 | T146: =(EXP(-$J$44))*T145+((1-(EXP(-$J$44)))/$J$44)*$C$42 -> 129.87752 | U146: 0 | V146: =SUM(M146:U146) -> 311.76607
B147: 100 | C147: =(EXP(-$C$44))*C146+((1-(EXP(-$C$44)))/$C$44)*M31 -> 0 | D147: =(EXP(-$D$44))*D146+((1-(EXP(-$D$44)))/$D$44)*M32 -> 0 | E147: 0 | F147: =(EXP(-$F$44))*F146+((1-(EXP(-$F$44)))/$F$44)*M34 -> 0 | G147: =(EXP(-$F$44))*G146+((1-(EXP(-$F$44)))/$F$44)*M35 -> 0 | H147: =(EXP(-$H$44))*H146+((1-(EXP(-$H$44)))/$H$44)*M36 -> 0 | I147: =(EXP(-$I$44))*I146+((1-(EXP(-$I$44)))/$I$44)*M37 -> 0 | J147: =(EXP(-$J$44))*J146+((1-(EXP(-$J$44)))/$J$44)*M38 -> 0 | K147: 0 | M147: =(EXP(-$C$44))*M146+((1-(EXP(-$C$44)))/$C$44)*O31 -> 109.50829 | N147: =(EXP(-$D$44))*N146+((1-(EXP(-$D$44)))/$D$44)*O32 -> 22.422175 | O147: 0 | P147: =(EXP(-$F$44))*P146+((1-(EXP(-$F$44)))/$F$44)*O34 -> 3.1281019e-06 | Q147: =(EXP(-$F$44))*Q146+((1-(EXP(-$F$44)))/$F$44)*O35 -> 3.072243e-06 | R147: =(EXP(-$H$44))*R146+((1-(EXP(-$H$44)))/$H$44)*O36 -> 0.0033056912 | S147: =(EXP(-$I$44))*S146+((1-(EXP(-$I$44)))/$I$44)*O37 -> 44.843054 | T147: =(EXP(-$J$44))*T146+((1-(EXP(-$J$44)))/$J$44)*O38 -> 128.88109 | U147: 0 | V147: =SUM(M147:U147) -> 305.65792
C148: Unthinned | M148: Thinned
...

Sheet fossilfuel_substitution
A2: Incineration avoided emissions calcs (assume MSW incineration with electricity and heat used within the process, no export)
B4: Conversion factor for kg waste (wood, assumed 20% dry) to electric energy | C4: =material_flow!D53 -> 0.386142 | D4: kWh/kg
B5: Conversion factor for kg waste (wood, assumed 20% dry) to heat energy | C5: =material_flow!B54 -> 2.85 | D5: MJ/kg
C8: Mass woodwaste (assume 20% moisture) | E8: MJ heat produced | F8: kWhr electricity produced
B9: incineration (thin1&2 and harvest1) (primary waste) (unthinned) | C9: =(HWP!D162/C_model!$R$107)/(1-20%) -> 0 | D9: kg | E9: =C9*$C$4 -> 0 | F9: =C9*$C$5 -> 0
B10: incineration (thin1&2 and harvest1) (primary waste) (thinned) | C10: =(HWP!N162/C_model!$R$107)/(1-20%) -> 5.788481e+08 | D10: kg | E10: =C10*$C$4 -> 2.2351756e+08 | F10: =C10*$C$5 -> 1.6497171e+09
B11: incineration (thin1&2 and harvest1) (secondary waste) (unthinned) | C11: =(HWP!D300/C_model!$R$107)/(1-20%) -> 0 | D11: kg | E11: =C11*$C$4 -> 0 | F11: =C11*$C$5 -> 0
B12: incineration (thin1&2 and harvest1) (secondary waste) (thinned) | C12: =(HWP!K300/C_model!$R$107)/(1-20%) -> 1.9660048e+08 | D12: kg | E12: =C12*$C$4 -> 75915703 | F12: =C12*$C$5 -> 5.6031137e+08
A16: Electricity avoided emissions calcs
B18: Biomass conversion to electricity (UK) | C18: 0.386
B19: Lower heating value wood (dry mass) | C19: 19 | D19: MJ/kg
C20: 5.3 | D20: kWh/kg
B21: Lower heating value wood (10% MC) | C21: 17 | D21: MJ/kg
C22: 4.8 | D22: kWh/kg
B23: Electrical output (per kg dry mass) | C23: =C18*C19 -> 7.334 | D23: kWh/kg

Sheet concrete_substitution
A1: Calculation of construction product substitution effect (timber frame wall (i.e. carcassing) replacing masonry wall(s):
P2: Facts | Q2: Sources
B3: Substitution assumption | P3: 70% of CO2 emissions in the sector come from the chemical process of calcining calcium carbonate13 (process emissions) rather than energy use. Can't be reduced without CCU/S | Q3: https://assets.publishing.service.gov.uk/government/uploads/system/uploads/attachment_data/file/651222/cement-decarbonisation-action-plan.pdf
A4: Particle board (chip and OSB) | B4: No substitution | P4: Plans to improve process efficiencies and switch to biomass/waste sources for heat generation. Reducing emissions by around 70%. | Q4: https://assets.publishing.service.gov.uk/government/uploads/system/uploads/attachment_data/file/651222/cement-decarbonisation-action-plan.pdf
A5: Fibre board (MDF) | B5: No substitution | P5: Although the cement industry uses a range of fuels, the large majority (54%) is coal or petcoke. It also uses 30% refuse derived fuels (waste tyres, plastics etc) and 15% from biomass. It doesn't expect to use much more biomass due to resource constraints. | Q5: https://europeanclimate.org/wp-content/uploads/2019/04/Industrial-Transformation-2050.pdf
A6: Pulp | B6: No substitution | P6: This paper says that they will use 40% biomass by 2050. (Replacing coal presumably, since the RDF contribution is also set to rise or stay the same.) Also, cement plants will be 22 per cent more efficient than in 1990 | Q6: https://cement.mineralproducts.org/documents/MPA_Cement_GHG_Reduction_Strategy_Technical_Document.pdf
A7: Fence poles | B7: No substitution | P7: Baseline scenario could be improved energy effciency (~10%), and decarbonisation of electricity supply (~6% reduction in emissions) with no change to fuel supply of CCS/U. | Q7: https://europeanclimate.org/wp-content/uploads/2019/04/Industrial-Transformation-2050.pdf
A8: Pallets and packaging | B8: No substitution | P8: Best case would be increased use of RDF/biomass pluc CCS/U
A9: Fencing | B9: No substitution
A10: Carcassing | B10: Assume replaces mineral materials in house building.
A11: Hoticultural mulch | B11: No substitution
A13: NOTE: Timber frame walls are assumed to be closed panel (i.e. OSB both sides) but the limiting material is assumed to be the carcassing material so OSB is ignored here.
B15: Materials required per 1m2 of wall
B16: Area (m2) | C16: Volume (m3) | D16: Mass (kg) | F16: IPCC GWP (kg CO2 eq) | G16: Abiotic depletion (MJ fossil fuels) | J16: Caculation of substitution factors
A17: Timber frame (superstructure) | B17: 1 | C17: 0.0175 | D17: 7 | J17: =D17 -> 7 | K17: kg | L17: =L33 -> 36.932587 | M17: kg CO2e
A18: Timber battening (for timber cladding) | B18: 1 | C18: 0.0044 | D18: 2 | J18: =J17*0.9*C_model!R107 -> 3.14685 | K18: kg C
A19: Timber cladding | B19: 1 | C19: 0.025 | I19: Yr 0 | J19: =J18/J18 -> 1 | K19: kg C | L19: =L17/J18*12/44 -> 3.2008274 | M19: kg C
A20: Fibreboard (9mm) | B20: 3 | L20: Core | N20: FA
A21: Block (140mm dense concrete blocks with 10mm jointing) | B21: 1 | C21: 0.1308 | D21: 261 | F21: =D21*database!M23 -> 28.047096 | G21: =D21*database!E23 -> 198.53159 | H21: These blocks are | I21: Yr 50 (core) | L21: =L19*#REF! -> #REF! | M21: kg C | N21: =L19*#REF!*#REF! -> #REF!
A22: Brick | B22: 1 | C22: 0.0849 | D22: 126 | F22: =D22*database!M24 -> 30.676132 | G22: =D22*database!E24 -> 284.4452 | I22: Yr 100 (FA) | L22: =L19*#REF!*#REF! -> #REF! | N22: =L19*#REF!*#REF! -> #REF! | O22: kg C
D23: (Sand) | E23: (Cement)
A24: Mortar (blocks) | C24: 0.01 | D24: 31 | E24: 9 | F24: =D24*database!M25+E24*database!M26 -> 8.8854911 | G24: =D24*database!$E$25+concrete_substitution!E24*database!$E$26 -> 37.915792
A25: Mortar (bricks) | C25: 0.02 | D25: 62 | E25: 18 | F25: =D25*database!M25+E25*database!M26 -> 17.770982 | G25: =D25*database!$E$25+concrete_substitution!E25*database!$E$26 -> 75.831584
A26: Render (cement:sand 1:4) 20mm | C26: 0.02 | D26: 25.4 | E26: 6.8 | F26: =D26*database!M25+E26*database!M26 -> 6.7861648 | G26: =D26*database!$E$25+concrete_substitution!E26*database!$E$26 -> 29.371701
A28: Emissions per m2 of external wall
B29: Blocks | D29: Bricks | F29: Mortar | H29: Render (20mm, cement and sand 1:4) | J29: Total | L29: Displaced emissions per m2 of wall
B30: kg CO2 eq | C30: MJ fossil fuels | D30: kg CO2 eq | E30: MJ fossil fuels | F30: kg CO2 eq | G30: MJ fossil fuels | H30: kg CO2 eq | I30: MJ fossil fuels | J30: kg CO2 eq | K30: MJ fossil fuels | L30: kg CO2 eq | M30: MJ fossil fuels | N30: Wall type displaced
A31: Block and brick | B31: =F21 -> 28.047096 | C31: =G21 -> 198.53159 | D31: =F22 -> 30.676132 | E31: =G22 -> 284.4452 | F31: =F24+F25 -> 26.656473 | G31: =G24+G25 -> 113.74738 | J31: =B31+D31+F31+H31 -> 85.379701 | K31: =C31+E31+G31+I31 -> 596.72417 | L31: 0 | M31: 0 | N31: None
A32: Double block and render | B32: =2*F21 -> 56.094191 | C32: =2*G21 -> 397.06318 | F32: =2*F24 -> 17.770982 | G32: =2*G24 -> 75.831584 | H32: =F26 -> 6.7861648 | I32: =G26 -> 29.371701 | J32: =B32+D32+F32+H32 -> 80.651338 | K32: =C32+E32+G32+I32 -> 502.26646 | L32: 0 | M32: 0 | N32: None
A33: Closed panel timber frame, block and render clad | B33: =F21 -> 28.047096 | C33: =G21 -> 198.53159 | F33: =F24 -> 8.8854911 | G33: =G24 -> 37.915792 | H33: =F26 -> 6.7861648 | I33: =G26 -> 29.371701 | J33: =B33+D33+F33+H33 -> 43.718752 | K33: =C33+E33+G33+I33 -> 265.81908 | L33: =F21+F24 -> 36.932587 | M33: =G21+G24 -> 236.44738 | N33: Single block wall
A34: Closed panel timber frame, brick clad | D34: =F22 -> 30.676132 | E34: =G22 -> 284.4452 | F34: =F25 -> 17.770982 | G34: =G25 -> 75.831584 | J34: =B34+D34+F34+H34 -> 48.447115 | K34: =C34+E34+G34+I34 -> 360.27679 | L34: =F21+F24 -> 36.932587 | M34: =G21+G24 -> 236.44738 | N34: Single block wall
A35: Closed timber frame, timber clad | L35: =J32 -> 80.651338 | M35: =K32 -> 502.26646 | N35: Double block wall and render
A36: CLT?
H37: or | L37: =J31 -> 85.379701 | M37: =K31 -> 596.72417 | N37: Brick wall + block wall
C38: unthinned | D38: thinned
B39: Assumed % carcassing loss at construction site (offcuts etc): | C39: =HWP!C26 -> 0.095 | D39: =HWP!C26 -> 0.095
B40: Assumed % of carcassing that is used in timber frames: | C40: =100%-C39 -> 0.905 | D40: =100%-D39 -> 0.905
B41: Assumed mass of carcassing used in timber frames (harvest1): | C41: =$C$40*(material_flow!E39)*material_flow!AE68/(C_model!R107*(1-20%)) -> 0 | D41: =$C$40*(material_flow!E41)*material_flow!AF68/(C_model!R107*(1-20%)) -> 475854.23 | E41: tonnes /ha
B42: Assumed mass of carcassing used in timber frames (harvest2): | C42: =$C$40*(material_flow!E40)*material_flow!AE68/(C_model!R107*(1-20%)) -> 0 | D42: =$C$40*(material_flow!E42)*material_flow!AF68/(C_model!R107*(1-20%)) -> 0 | E42: tonnes/ha
B43: Area of timber frame wall produced (harvest1): | C43: =C41*1000/$D$17 -> 0 | D43: =D41*1000/$D$17 -> 67979175 | E43: m2 | F43: Note: timber frame wall will also have OSB sheets but it is assumed that the carcassing is the limiting material, also the product life of OSB already reflects that some ends up in construction applications. We are only interested in bricks/mortar displacement effects here. Also, this is only accounting for external walls, not internal walls. However, similar displacement is likely to occur for internal timber walls replacing brick walls.
B44: Area of timber frame wall produced (harvest2): | C44: =C42*1000/$D$17 -> 0 | D44: =D42*1000/$D$17 -> 0 | E44: m3
B46: Displaced emissions: | C46: GWP (kg CO2eq) | E46: FF depletion (MJ eq)
C47: unthinned | D47: thinned | E47: unthinned | F47: thinned
B48: Option 1: replacement of block wall (harvest1) | C48: =C43*$L$34 -> 0 | D48: =D43*$L$34 -> 2.5106468e+09 | E48: =C43*$M$34 -> 0 | F48: =D43*$M$34 -> 1.6073498e+10
B49: Option 1: replacement of block wall (harvest2) | C49: =C44*$L$34 -> 0 | D49: =D44*$L$34 -> 0 | E49: =C44*$M$34 -> 0 | F49: =D44*$M$34 -> 0
B50: Option 2: timber clad, replacement of double block and render wall (harvest1) | C50: =C43*$L$35 -> 0 | D50: =D43*$L$35 -> 5.4826115e+09 | E50: =C43*$M$35 -> 0 | F50: =D43*$M$35 -> 3.414366e+10
B51: Option 2: timber clad, replacement of double block and render wall (harvest1) | C51: =C44*$L$35 -> 0 | D51: =D44*$L$35 -> 0 | E51: =C44*$M$35 -> 0 | F51: =D44*$M$35 -> 0
B52: Option 3: timber clad, replacement of block wall and brick wall (harvest2) | C52: =C43*$L$37 -> 0 | D52: =D43*$L$37 -> 5.8040417e+09 | E52: =C43*$M$37 -> 0 | F52: =D43*$M$37 -> 4.0564817e+10
B53: Option 3: timber clad, replacement of block wall and brick wall (harvest2) | C53: =C44*$L$37 -> 0 | D53: =D44*$L$37 -> 0 | E53: =C44*$M$37 -> 0 | F53: =D44*$M$37 -> 0
A55: Table 6 Estimates of volumes of wood used in different house types (Sadler 2010) (From Robson et al (2014)). | G55: Read Report (2009) - Suttie et al (2009)
B56: Wood usage t/m2 | C56: Wood usage (t/house) based on average house size of 88 m2 | D56: Wood usage (m3/house) based on density of 0.45 t m23 | F56: Wood application | G56: Wood usage m3/house | H56: Wood usage t/house | I56: Wood usage t/m2 - assuming 88m2 house | J56: Carcassing t/ house | K56: Carcassing t/m2 - assuming 88m2 house
A57: Traditional build | B57: 0.04 | C57: 3.52 | D57: 1.58 | F57: Timber frame | G57: 6 | H57: =G57*material_flow!$B$44/1000 -> 2.694 | I57: =H57/88 -> 0.030613636 | J57: =H57*2/3 -> 1.796 | K57: =J57/88 -> 0.020409091
A58: Timber frame brick clad | B58: 0.06 | C58: 5.28 | D58: 2.38 | F58: Walls | G58: 2 | H58: =G58*material_flow!$B$44/1000 -> 0.898 | I58: =H58/88 -> 0.010204545
A59: Timber frame timber clad | B59: 0.09 | C59: 7.92 | D59: 3.56 | F59: Structural floors and cassettes | G59: 2 | H59: =G59*material_flow!$B$44/1000 -> 0.898 | I59: =H59/88 -> 0.010204545
F60: Trusssed rafters | G60: 2.6 | H60: =G60*material_flow!$B$44/1000 -> 1.1674 | I60: =H60/88 -> 0.013265909
F61: Totals | H61: =SUM(H57:H60) -> 5.6574 | I61: =SUM(I57:I60) -> 0.064288636 | J61: These numbers are similar to (Sadler, 2010)
A62: Calculation of area of forest required to meet construction of 100,000 homes (in Wales) in the next 20 yrs:
C64: Moisture content of timber | D64: 0.2
E66: Area of forest required to supply carcassing over 20 yrs (ha) | H66: Avoided kg CO2 eq emissions (displacing block walls) | I66: Gg CO2 eq | J66: Avoided FF eq (TJ)
C67: Timber (carcassing for timber frames only) needed for 100,000 homes (tonnes) | D67: Area of timber frame walls (m2) | E67: Unthinned | F67: Thinned | G67: % increase (ha) (for un-thinned vs thinned)
B68: Timber frame brick/block clad | C68: =100000*H57 -> 269400 | D68: =C68*1000/D17 -> 38485714 | E68: =C68/(C41*20/100) -> #DIV/0! | F68: =C68/(D41*20/100) -> 2.8306988 | G68: =(E68-F68)/F68 -> #DIV/0! | H68: =D68*L34 -> 1.421377e+09 | I68: =H68/1000000 -> 1421.377 | J68: =D68*M34/1000000 -> 9099.8463
B72: Impact of forest (net C seq) supplying 100,000 homes over 20 yrs | C72: Unthinned | D72: Thinned
B73: GWP (kg CO2 eq) | C73: =E68*(#REF!*20/100) -> #DIV/0! | D73: =F68*(#REF!*20/100) -> #REF! | E73: =(C73-D73)/C73 -> #DIV/0!
B74: FF resource depletion (MJ) | C74: =E68*(#REF!*20/100) -> #DIV/0! | D74: =F68*(#REF!*20/100) -> #REF!

Sheet decarb_proj
B2: Time period
A3: Sub-sector | B3: 2020-2029 | C3: 2030-2039 | D3: 2040-2049 | E3: 2050-2059
A4: Mobile plant (forestry operations) | B4: 0.13 | C4: 0.33 | D4: 0.67 | E4: 1
A5: Timber transport | B5: 0.13 | C5: 0.33 | D5: 0.67 | E5: 1
A6: Sawmills | B6: =0.72*B9+0.17*B4+0.11*B10 -> 0.3876 | C6: =0.72*C9+0.17*C4+0.11*C10 -> 0.6215 | D6: =0.72*D9+0.17*D4+0.11*D10 -> 0.8199 | E6: =0.72*E9+0.17*E4+0.11*E10 -> 0.923
A7: Wood fuel | B7: =B6 -> 0.3876 | C7: =C6 -> 0.6215 | D7: =D6 -> 0.8199 | E7: =E6 -> 0.923
A8: Wood panels | B8: 0.25 | C8: 0.6 | D8: 0.7 | E8: 0.79
A9: Electricity grid | B9: 0.5 | C9: 0.77 | D9: 0.95 | E9: 1
A10: Gas grid | B10: 0.05 | C10: 0.1 | D10: 0.2 | E10: 0.3
A11: Shipping | B11: 0.1 | C11: 0.33 | D11: 0.67 | E11: 0.95
A12: Substitution credits
A13: Cement | B13: 0.05 | C13: 0.1 | D13: 0.2 | E13: 0.33

Sheet LCI_inventory
A1: Process stage | B1: Input/output/process | C1: Data source | D1: Units | E1: Unthinned | G1: Thinned | I1: Emissions factors (EF) | K1: EF source | L1: Units | M1: Ecoinvent
E2: In | F2: Out | G2: In | H2: Out | I2: FFRD | J2: GWP | M2: In | N2: Out
A3: Site establishment | B3: Land | D3: ha | E3: 1 | G3: 1
B4: 15 tonne 360 Excavator | C4: Expert estimate | D4: hrs | E4: 15 | G4: 15 | I4: 940.92823 | J4: 65.465624 | K4: Ecoinvent
B5: Herbicide (glyphosphate) | C5: Industry recommended | D5: kg | E5: 0.84 | G5: 0.84 | K5: Ecoinvent
A6: Planting (1&2) | B6: Tree seedlings | C6: GH | D6: Item(s) | E6: 50000 | G6: 50000 | I6: 1.1881175 | J6: 0.12085922 | K6: Ecoinvent
B7: 15 tonne 360 Excavator | C7: GH | D7: hrs | E7: 30 | G7: 30 | I7: 940.92823 | J7: 65.465624 | K7: Ecoinvent
B8: Pesticides (acetamiprip) | C8: Industry recommended | D8: kg | E8: =0.832*2 -> 1.664 | G8: =0.832*2 -> 1.664 | K8: Ecoinvent
A9: Forest management | B9: Harvester (diesel consumption) | C9: GH | D9: hrs | E9: 64 | G9: 78 | I9: 784.49695 | J9: 55.823581 | K9: Ecoinvent
B10: Forwarder (diesel consumption) | C10: GH | D10: hrs | E10: 64 | G10: 78 | I10: 646.06518 | J10: 45.552028 | K10: Ecoinvent
A11: Forest growth | B11: Net C sequestered | C11: CBM-CFS3 | D11: kg C | E11: =C_model!E107*1000 -> 222433.56 | G11: =C_model!K107*1000 -> 3.2071742e+09 | K11: IPCC 2006
B12: Harvested wood | C12: CBM-CFS3 (GH for product breakout) | D12: m3 | F12: =material_flow!D39+material_flow!D40 -> 1739.4103 | H12: =material_flow!D41+material_flow!D42+material_flow!D7+material_flow!D8 -> 13751783 | K12: IPCC 2006
A13: Transport (forest to processor) | B13: >32 t truck, EURO6 | C13: GH | D13: t.km | E13: =#REF!+#REF! -> #REF! | G13: =SUM(GWP_impact!C33:C36) -> 1.9096011e+09 | K13: Ecoinvent
A14: Debarking | B14: Harvested wood | C14: CBM, GH | D14: m3 | E14: =(material_flow!D39+material_flow!D40)*(material_flow!H60+material_flow!H61+material_flow!H63+material_flow!H64+material_flow!H66+material_flow!H73) -> 0 | G14: =(material_flow!D41+material_flow!D42)*(material_flow!I60+material_flow!I61+material_flow!I63+material_flow!I64+material_flow!I66+material_flow!I73)+(material_flow!D7+material_flow!D8)*(material_flow!D12+material_flow!D16) -> 12514122 | L14: m3
B15: Diesel | C15: Ecoinvent | D15: MJ | E15: =F17*M15 -> 0 | G15: =H17*M15 -> 11025470 | L15: MJ | M15: 0.011843493
B16: lubricating oil | C16: Ecoinvent | D16: kg | E16: =F17*M16 -> 0 | G16: =H17*M16 -> 9783.1633 | L16: kg | M16: 1.0509015e-05
B17: bark chips | C17: GH, FR conversions factors | D17: kg | F17: =material_flow!L80*(material_flow!B39+material_flow!B40)*1000 -> 0 | H17: =(material_flow!J17*(material_flow!D7+material_flow!D8)+material_flow!M80*(material_flow!B41+material_flow!B42))*1000 -> 9.3093056e+08 | I17: 298.90461 | J17: 20.22538 | K17: Ecoinvent | L17: kg | N17: 1
B18: Debarked wood | C18: GH, FR conversions factors | D18: m3 | F18: =(material_flow!P60+material_flow!P61+material_flow!P63+material_flow!P64+material_flow!P66+material_flow!P73)*(material_flow!D39+material_flow!D40) -> 0 | H18: =(material_flow!M12+material_flow!M13+material_flow!M15+material_flow!M16)*(material_flow!D7+material_flow!D8)+(material_flow!Q60+material_flow!Q61+material_flow!Q63+material_flow!Q64+material_flow!Q66+material_flow!Q73)*(material_flow!D41+material_flow!D42) -> 11173323
A19: Sawing | B19: diesel (internal transport) | C19: Ecoinvent | D19: MJ | E19: =SUM($F$23:$F$23)*M19 -> 0 | G19: =SUM($H$23:$H$23)*M19 -> 1.3149762e+08 | L19: MJ | M19: 26.137134
B20: electricity, medium voltage | C20: Ecoinvent | D20: kWh | E20: =SUM($F$23:$F$23)*M20 -> 0 | G20: =SUM($H$23:$H$23)*M20 -> 87934959 | L20: kWh | M20: 17.478398
B21: lubricating oil | C21: Ecoinvent | D21: kg | E21: =SUM($F$23:$F$23)*M21 -> 0 | G21: =SUM($H$23:$H$23)*M21 -> 478344.72 | L21: kg | M21: 0.09507822
B22: debarked wood | C22: GH, FR conversions factors | D22: m3 | E22: =(material_flow!P66+material_flow!P73)*(material_flow!D39+material_flow!D40) -> 0 | G22: =(material_flow!Q66+material_flow!Q73)*(material_flow!D41+material_flow!D42) -> 9147391.1 | L22: m3 | M22: 1.4572737
B23: sawnwood | C23: JJ | D23: m3 | F23: =(material_flow!U66+material_flow!U73)*(material_flow!$D$39+material_flow!$D$40) -> 0 | H23: =(material_flow!AF68+material_flow!AF66+material_flow!AF67)*(material_flow!$D$41+material_flow!$D$42) -> 5031065.1 | I23: 362.76537 | J23: 24.750813 | K23: Ecoinvent | L23: m3 | N23: 1
B24: sawmill residues | C24: JJ | D24: kg | F24: =(material_flow!U69+material_flow!U76)*(material_flow!B39+material_flow!B40)*0.5*1000 -> 0 | H24: =(material_flow!V69+material_flow!V76)*(material_flow!B41+material_flow!B42)*0.5*1000 -> 1.429004e+09 | L24: tonnes | N24: x
A25: Drying (of sawn timber) | B25: electricity, medium voltage | C25: Ecoinvent | D25: kWh | E25: =F27*M25 -> 0 | G25: =H27*M25 -> 84018788 | L25: kWh | M25: 16.7
B26: sawnwood | C26: JJ | D26: m3 | E26: =F23 -> 0 | G26: =H23 -> 5031065.1 | L26: m3 | M26: 1.0416667
B27: sawnwood - dried (u=20%) | C27: Assume no loss in volume during drying | D27: m3 | F27: =E26 -> 0 | H27: =G26 -> 5031065.1 | I27: 403.15283 | J27: 28.636193 | K27: Ecoinvent | L27: m3 | N27: 1
A28: Planing | B28: electricity, medium voltage | C28: Ecoinvent | D28: kWh | E28: =F30*M28 -> 0 | G28: =H30*M28 -> 43623224 | L28: kWh | M28: 8.6707731
B29: sawnwood (carcassing) dried (u=20%) | C29: JJ | D29: m3 | E29: =F27 -> 0 | G29: =H27 -> 5031065.1 | L29: m3 | M29: =0.835811689119006+0.208952922279751 -> 1.0447646
B30: sawnwood (carcassing) planed | C30: Assume no loss in volume (accounted for in 'sawing') | D30: m3 | F30: =E29 -> 0 | H30: =G29 -> 5031065.1 | I30: 468.80453 | J30: 35.16352 | K30: Ecoinvent | L30: m3 | N30: 1
B31: sawmill residues | C31: JJ | D31: kg | F31: =F24 -> 0 | H31: =H24 -> 1.429004e+09
A32: Chemical treatment | B32: electricity, medium voltage | C32: Ecoinvent | D32: kWh | E32: =F36*M32 -> 0 | G32: =H36*M32 -> 773197.05 | L32: kWh | M32: 0.00071428571
B33: wood preservative | C33: Ecoinvent | D33: kg | E33: =F36*M33 -> 0 | G33: =H36*M33 -> 1.0824759e+09 | L33: kg | M33: 1
B34: sawn wood (fencing) dried (u=20%) | C34: JJ | D34: kg | E34: =(material_flow!D39+material_flow!D40)*material_flow!B44*(material_flow!AA67+material_flow!AA74) -> 0 | G34: =(material_flow!D7+material_flow!D8)*material_flow!B44*material_flow!Q19+(material_flow!D41+material_flow!D42)*material_flow!B44*material_flow!AF67 -> 7.7926134e+08 | L34: kg | M34: 1
B35: debarked wood (fence poles) | C35: GH,FR conversion factor | D35: kg | E35: =(material_flow!D39+material_flow!D40)*material_flow!B44*material_flow!P64 -> 0 | G35: =(material_flow!D7+material_flow!D8)*material_flow!B44*material_flow!M16+(material_flow!D41+material_flow!D42)*material_flow!B44*material_flow!Q64 -> 3.0321453e+08
B36: preserved wood | C36: Assume no vol change | D36: kg | F36: =(material_flow!W86+material_flow!W87) -> 0 | H36: =material_flow!J22+material_flow!J23+material_flow!X86+material_flow!X87 -> 1.0824759e+09 | I36: 0.15375417 | J36: 0.011490859 | K36: Ecoinvent | L36: kg | N36: 1
A37: Particle board production | B37: electricity, medium voltage | C37: Ecoinvent | D37: kWh | E37: =F43*M37 -> 0 | G37: =H43*M37 -> 4.7626321e+08 | L37: kWh | M37: 101.08108
B38: heat | C38: Ecoinvent | D38: MJ | E38: =F43*M38 -> 0 | G38: =H43*M38 -> 5.5883076e+09 | L38: MJ | M38: =142.193866101262+1043.85654267092 -> 1186.0504
B39: resin | C39: Ecoinvent | D39: kg | E39: =F43*M39 -> 0 | G39: =H43*M39 -> 2.3355215e+08 | L39: kg | M39: 49.568607
B40: debarked wood (chip) | C40: GH | D40: kg | E40: =material_flow!P60*(material_flow!B39+material_flow!B40)*1000 -> 0 | G40: =(material_flow!M12*(material_flow!B7+material_flow!B8)+material_flow!Q60*(material_flow!B41+material_flow!B42))*1000 -> 4.6035028e+08 | L40: kg
B41: sawmill residues | C41: JJ | D41: kg | E41: =(material_flow!AA69+material_flow!AA76)*(material_flow!B39+material_flow!B40)*1000 -> 0 | G41: =(material_flow!B41+material_flow!B42)*(material_flow!AB69+material_flow!AB76)*1000 -> 8.9152585e+08 | L41: kg
B42: recycled wood | C42: FC report | D42: kg | E42: =HWP!F156+HWP!N283 -> 0 | G42: =HWP!O283+HWP!P156 -> 3.7120949e+09 | L42: kg
B43: particle board | C43: FR conversion factor | D43: m3 | F43: =material_flow!AE77+material_flow!AE78+HWP!F155+HWP!N282 -> 0 | H43: =material_flow!AF77+material_flow!AF78+material_flow!J28+material_flow!J29+HWP!P155+HWP!O282 -> 4711694.8 | I43: 4715.6979 | J43: 262.11307 | K43: Ecoinvent | L43: m3 | N43: 1
A44: Fibre board production
B45: electricity | C45: Ecoinvent | D45: kWh | E45: =F49*M45 -> 0 | G45: =H49*M45 -> 6064.4693 | L45: kWh | M45: 0.01273
B46: heat | C46: Ecoinvent | D46: MJ | E46: =F49*M46 -> 0 | G46: =H49*M46 -> 6574.2087 | L46: MJ | M46: 0.0138
B47: debarked wood (chip) | C47: GH, FR conversion factors | D47: kg | E47: =material_flow!P61*(material_flow!B39+material_flow!B40)*1000 -> 0 | G47: =(material_flow!M13*(material_flow!B7+material_flow!B8)+material_flow!Q61*(material_flow!B41+material_flow!B42))*1000 -> 0
B48: sawmill residues | C48: JJ | D48: kg | E48: =(material_flow!AA70+material_flow!AA77)*(material_flow!B39+material_flow!B40)*1000 -> 0 | G48: =(material_flow!B41+material_flow!B42)*(material_flow!AB70+material_flow!AB77)*1000 -> 4.960466e+08
B49: fibre board | C49: JJ, GH, FR conversion factor | D49: m3 | F49: =material_flow!AE80+material_flow!AE81 -> 0 | H49: =material_flow!J30+material_flow!J31+material_flow!AF80+material_flow!AF81 -> 476391.93 | I49: 1064.1247 | J49: 98.21992 | K49: Ecoinvent | L49: m3 | N49: 1
A50: Woodchip production (for biomass energy) | B50: electricity, medium voltage | C50: Ecoinvent | D50: kWh | E50: =$F$54*M50 -> #REF! | G50: =$H$54*M50 -> 37901924 | L50: kWh | M50: 0.0258
B51: lubricating oil | C51: Ecoinvent | D51: kg | E51: =$F$54*M51 -> #REF! | G51: =$H$54*M51 -> 2996.8963 | L51: kg | M51: 2.04e-06
B52: harvested wood - 'fuel' | C52: GH | D52: kg | E52: =SUM(#REF!) -> #REF! | G52: =SUM(GWP_impact!C68:C71) -> 4.4756277e+08 | L52: kg | M52: 1
B53: recycled wood - 'biomass' | C53: FC report | D53: kg | E53: =#REF!+#REF! -> #REF! | G53: =GWP_impact!C112+GWP_impact!C107 -> 1.021504e+09
B54: wood chips, wet, measured as dry mass | C54: GH | D54: kg | F54: =#REF!+#REF!+#REF!+#REF!+#REF!+#REF! -> #REF! | H54: =SUM(GWP_impact!C68:C71)+GWP_impact!C107+GWP_impact!C112 -> 1.4690668e+09 | I54: 0.15375417 | J54: 0.011490859 | K54: Ecoinvent | L54: kg | N54: 1
A55: Biomass energy | B55: electricity, low voltage | C55: Ecoinvent | D55: kWh | E55: =F59*M55 -> #REF! | H55: =H59*M55 -> 53238740 | L55: kWh | M55: 0.00556
B56: wood chips, wet, measured as dry mass | C56: GH | D56: kg | E56: =F54 -> #REF! | G56: =H54 -> 1.4690668e+09 | K56: Direct conversion from C content to CO2 eq | L56: kg | M56: 0.069808028
B57: bark chips | C57: GH, FR conversion factor | D57: kg | E57: =material_flow!P81*(material_flow!B39+material_flow!B40)*(1-C_model!$R$108) -> 0 | G57: =(material_flow!M18*(material_flow!B7+material_flow!B8)+material_flow!Q81*(material_flow!B41+material_flow!B42))*(1-C_model!R108) -> 266432.33 | L57: kg
B58: sawmill residues | C58: JJ | D58: kg | E58: =(material_flow!AA71+material_flow!AA78)*(material_flow!B39+material_flow!B40) -> 0 | G58: =(material_flow!AB71+material_flow!AB78)*(material_flow!B41+material_flow!B42) -> 989983.27 | L58: kg
B59: heat | C59: Ecoinvent | D59: MJ | F59: =SUM(#REF!)+#REF!+#REF! -> #REF! | H59: =SUM(GWP_impact!C76:C79)+GWP_impact!C108+GWP_impact!C113 -> 9.575313e+09 | I59: 0.011293953 | J59: 0.0020502298 | K59: Ecoinvent (infrastructure & consumables) | L59: MJ | N59: 1
A60: Graphics paper production | B60: electricity | C60: Ecoinvent | D60: kWh | E60: =F62*M60 -> #REF! | G60: =H62*M60 -> 3.4674138e+08 | L60: kWh | M60: 2.824
B61: debarked wood - 'pulp' | C61: FR conversion factor | D61: m3 | E61: =material_flow!P63*(material_flow!D39+material_flow!D40)*0.5 -> 0 | G61: =material_flow!Q63*(material_flow!D41+material_flow!D42)*0.5 -> 343794.57 | L61: m3 | M61: 0.002693
B62: paper, newsprint (virgin) | C62: FR conversion factor | D62: kg | F62: =#REF!+#REF! -> #REF! | H62: =GWP_impact!C90+GWP_impact!C91 -> 1.2278377e+08 | I62: 16.107442 | J62: 1.4059191 | K62: Ecoinvent | L62: kg | N62: 1
A63: Graphics paper production (recycled) | B63: electricity | C63: Ecoinvent | D63: kWh | E63: =F65*M63 -> #REF! | G63: =H65*M63 -> 1.5964695e+08 | L63: kWh | M63: 1.5999876
B64: recycled paper | C64: GH, FR conversion factors | D64: kg | E64: =F65 -> #REF! | G64: =H65 -> 99780118 | L64: m3 | M64: 0.0010839916
B65: paper, newsprint (recycled) | C65: Assumed equal to recycled paper mass | D65: kg | F65: =#REF! -> #REF! | H65: =GWP_impact!C117 -> 99780118 | I65: 12.459802 | J65: 1.056273 | K65: Ecoinvent | L65: kg | N65: 1
A66: Paperboard production | B66: electricity | C66: Ecoinvent | D66: kWh | E66: =F68*M66 -> #REF! | G66: =H68*M66 -> 17473092 | L66: kWh | M66: 0.070096614
B67: debarked wood - 'pulp' | C67: GH, FR conversion factor | D67: GH | E67: =material_flow!P63*(material_flow!D39+material_flow!D40)*0.5 -> 0 | G67: =material_flow!Q63*(material_flow!D41+material_flow!D42)*0.5 -> 343794.57
B68: board box | C68: GH, FR conversion factor | D68: kg | F68: =#REF!+#REF!+#REF! -> #REF! | H68: =GWP_impact!C92+GWP_impact!C93+GWP_impact!C118 -> 2.4927156e+08 | I68: 11.369952 | J68: 0.92257052 | K68: Ecoinvent | L68: kg | N68: 1
A69: HWP in use | B69: carbon accumulated in HWP | C69: IPCC | D69: kg C | E69: =-(#REF!+#REF!+mulch_C_storage!N30) -> #REF! | G69: =-(GWP_impact!C153+GWP_impact!C155+mulch_C_storage!O30) -> 2.3080244e+09 | K69: IPCC 2006
A70: Landfill | B70: waste wood | C70: IPCC, Defra | D70: kg | E70: =HWP!D167+HWP!D295 -> 0 | G70: =HWP!N167+HWP!K295 -> 29421431 | K70: IPCC 2006
B71: waste paper | C71: IPCC, Defra | D71: kg | E71: =HWP!D299+HWP!D169 -> 0 | G71: =HWP!K299+HWP!N169 -> 29334024 | K71: IPCC 2006
A72: Incineration | B72: waste wood | C72: IPCC, Defra | D72: kg | E72: =HWP!D163+HWP!D293 -> 0 | G72: =HWP!N163+HWP!K293 -> 7.7544448e+08 | K72: Conversion of biogenic C to CO2eq
B73: waste paper | C73: IPCC, Defra | D73: kg | E73: =HWP!D297+HWP!D165 -> 0 | G73: =HWP!K297+HWP!N165 -> 15399.82
B74: electricity | C74: Ecoinvent | D74: kWh | F74: =#REF!+#REF! -> #REF! | H74: =GWP_impact!C147+GWP_impact!C149 -> 2.2100285e+09
B75: heat | C75: Ecoinvent | D75: MJ | F75: =#REF!+#REF! -> #REF! | H75: =GWP_impact!C146+GWP_impact!C148 -> 2.9943327e+08
A76: Avoided construction materials | B76: Area of concrete block and mortar wall (replaced by timber frame wall) (harvest 1&2) | C76: Industry standard | D76: m2 | E76: =concrete_substitution!C43+concrete_substitution!C44 -> 0 | G76: =concrete_substitution!D43+concrete_substitution!D44 -> 67979175 | I76: =concrete_substitution!M34 -> 236.44738 | J76: =concrete_substitution!L34 -> 36.932587 | K76: Ecoinvent
A77: Avoided fossil fuels | B77: Avoided natural gas (high pressure) | C77: Ecoinvent | D77: m3 | E77: =(#REF!+#REF!+#REF!+#REF!+#REF!+#REF!)*material_flow!B57+(#REF!+#REF!)*LCI_inventory!B87 -> #REF! | G77: =(GWP_impact!C132+GWP_impact!C133+GWP_impact!C134+GWP_impact!C136+GWP_impact!C142+GWP_impact!C144+GWP_impact!C146+GWP_impact!C148)*LCI_inventory!B86+(GWP_impact!C147+GWP_impact!C149)*LCI_inventory!B87 -> 3.5094343e+08 | K77: Ecoinvnet
B78: (Avoided heavy fuel oil) | C78: Ecoinvent | D78: kg | K78: Ecoinvent
B79: (Avoided coal) | C79: Ecoinvent | D79: kg | K79: Ecoinvent
A80: Avoided beef production | B80: Low intesity beef production, UK | C80: Styles | D80: kg | E80: =#REF!*100 -> #REF! | G80: =#REF!*100 -> #REF! | J80: 32.8 | K80: Nguyen et al., 2010
B81: scenario 1 -high intensity beef production, UK | C81: Styles | D81: kg | E81: =E80 -> #REF! | G81: 0 | J81: 21.8 | K81: Nguyen et al., 2010
B82: Scenario 2 - average intensity beef production, Brazil) | C82: Styles | D82: kg | E82: =E81 -> #REF! | G82: =#REF!/10000 -> #REF! | J82: 46.8 | K82: Nguyen et al., 2010
B83: Scenario 2 - indirect LUC (rainforest converted to grass land, Brazi) | C83: Styles | D83: ha | E83: =#REF!/10000 -> #REF! | J83: =#REF! -> #REF! | K83: IPCC, 2006 (Ch4)
A86: Vol natural gas (HP) needed to produce 1MJ heat | B86: =material_flow!B57 -> 0.026990553 | C86: m3
A87: Vol natural gas (HP) needed to produce 1kWh | B87: 0.15513898 | C87: m3

Sheet biogenic_C_ems
A1: Biogenic emissions (without CCS)
C2: no thin | D2: >75% thin
C3: kg CO2eq
A4: Combustion (biogenic emissions) | B4: Mass biomass (electricity) (thin1) | C4: 0 | D4: =material_flow!Q26 -> 0
B5: Mass biomass (electricity) (thin2) | C5: 0 | D5: =material_flow!Q27 -> 0
B6: Mass biomass (electricity) (harvest1) | C6: =material_flow!AE92 -> 0 | D6: =material_flow!AF92 -> 1.4492787e+09
B7: Mass biomass (electricity) (harvest2) | C7: =material_flow!AE93 -> 0 | D7: =material_flow!AF93 -> 0
B8: Mass biomass (heat) (harvest1) | C8: =material_flow!AE85 -> 0 | D8: =material_flow!AF85 -> 5.3332461e+08
B9: Mass biomass (heat) (harvest2) | C9: =material_flow!AE86 -> 0 | D9: =material_flow!AF86 -> 0
A10: Cascading wood use - biomass combustion (primary waste) | B10: Primary waste (electricity) | C10: =HWP!F157 -> 0 | D10: =HWP!P157 -> 6.9307686e+08
B11: Secondary waste (electricity) | C11: =HWP!D288 -> 0 | D11: =HWP!K288 -> 1.1778078e+09
A12: Incineration | B12: Primary waste (electricity) | C12: =HWP!F162+HWP!F164 -> 0 | D12: =HWP!P162+HWP!P164 -> 8.4816336e+08
B13: Secondary waste (electricity) | C13: =HWP!F300 -> 0 | D13: =HWP!M300 -> 2.8805903e+08
A14: Horticultural mulch degradation

Sheet mulch_C_storage
A1: Mulch C storage pool
A3: After 50 years, the amount of carbon released from the composted MSW is between 0.66 amd 0.75 of the original C content (Bruun et. al., 2006, p261, Table 8).
A4: These figures will be used to approximate the remaining C stored in bark chips used for horticultural mulch. It is thought that this is likely to be a conservative approach since the bark chips are not yet composted.
C6: 10 yrs | D6: 50yrs | E6: 100yrs | F6: 79yrs (approx) | G6: 29yrs (approx)
B7: range of emission co-efficients: | C7: 0.19 | D7: 0.67 | E7: 0.87
C8: 0.21 | D8: 0.67 | E8: 0.87
C9: 0.21 | D9: 0.72 | E9: 0.91
C10: 0.22 | D10: 0.72 | E10: 0.9
C11: 0.2 | D11: 0.66 | E11: 0.86
C12: 0.22 | D12: 0.71 | E12: 0.91
C13: 0.23 | D13: 0.69 | E13: 0.87
C14: 0.21 | D14: 0.68 | E14: 0.87
C15: 0.24 | D15: 0.75 | E15: 0.92
C16: 0.23 | D16: 0.72 | E16: 0.92
C17: 0.2 | D17: 0.66 | E17: 0.86
C18: 0.21 | D18: 0.66 | E18: 0.86
C19: 0.21 | D19: 0.72 | E19: 0.91
... C22: 0.22 | D22: 0.71 | E22: 0.91
B23: average: | C23: =AVERAGE(C7:C22) -> 0.21375 | D23: =AVERAGE(D7:D22) -> 0.694375 | E23: =AVERAGE(E7:E22) -> 0.888125 | F23: =(D23+E23)/2 -> 0.79125 | G23: =(C23+D23)/2 -> 0.4540625 | Q23: (Used for C graph - C stored in mulch/soil)
Q24: Thinned
E25: Unthinned | I25: Thinned | Q25: Year | R25: t C
D26: Year | E26: 21 | F26: 50 | G26: 71 | H26: 100 | I26: 21 | J26: 50 | K26: 71 | L26: 100 | Q26: 0 | R26: 0
D27: Total C stored in mulch from thinning 1 (t) | I27: =material_flow!M17*material_flow!E7 -> 0 | J27: =(1-G23)*I27 -> 0 | K27: =(1-D23)*I27 -> 0 | L27: =(1-F23)*I27 -> 0 | Q27: 21 | R27: =SUM(I27:I30) -> 0
D28: Total C stored in mulch from harvest 1 (t) | F28: =material_flow!AE69*material_flow!E39 -> 0 | H28: =(1-D23)*F28 -> 0 | J28: =material_flow!AF69*material_flow!E41 -> 307578 | K28: =(1-G23)*J28 -> 167918.37 | L28: =(1-D23)*J28 -> 94003.527 | N28: Total C stored at yr 100 (t) | Q28: 50 | R28: =SUM(J27:J30) -> 307578
D29: Total C stored in mulch from thinning 2 (t) | K29: =material_flow!M17*material_flow!E8 -> 0 | L29: =(1-G23)*K29 -> 0 | N29: Unthinned | O29: Thinned | Q29: 71 | R29: =SUM(K27:K30) -> 167918.37
D30: Total C stored in mulch from harvest 2 (t) | H30: =material_flow!AE69*material_flow!E40 -> 0 | L30: =material_flow!AF69*material_flow!E42 -> 0 | N30: =SUM(H27:H30) -> 0 | O30: =SUM(L27:L30) -> 94003.527 | Q30: 100 | R30: =SUM(L27:L30) -> 94003.527
D31: Total C emmitted from thinning 1 mulch (t) | L31: =I27-L27 -> 0
D32: Total C emmitted from harvest 1 mulch (t) | H32: =F28-H28 -> 0 | L32: =J28-L28 -> 213574.47
D33: Total C emmitted from thinning 2 mulch (t) | L33: =K29-L29 -> 0
D34: Total C emmitted from harvest 2 mulch (t) | H34: 0 | L34: 0
