Workbook

Sheet Description of worksheets
A1: Note to reader:
A2: This workbood is adapted from a previous study, hence there are elements of it that are not in use in this study. We have deleted whole sheets that are not relevant but the remaining sheets comtain some cells within that are no used. We have 'faded/greyed out' cells that are not used in the calculations for this study in order to attempt to provide greater clarity and tracability. Please disregard any reference to 'unthinned' or 'no-thin' scenarios and to 'Harvest 2'.
A3: The 'material flow' sheet cacluates the flow of wood through the value chain from the forest gate to end products. This spreadsheet then drives the GWP calculation - scaling the unit-impact factors in the 'database' to UK flows.
A4: The 'GWP_impact' sheet is where all GWP impacts are calculated and presented.
A5: The 'database' sheet contains impact fators from Ecoinvent v.3.539 using OpenLCA v1.7.4.
A6: The 'Decarb_proj' sheet contains the decarbonisation assumptions used in the study - which are pasted and applied to the results for all wood use scenarios in Supplementary Information S5&S6.
A7: The 'C_model' sheet contains Forest C ecosystem data from the CBM-CFS3 model output, with appropriate conversioni factors applied to calculated harvested wood volumes and tonnages. These tonnages scale GWP impacts to UK wood flows.

Sheet material_flow
A1: The product breakout data here will be used to calculate emissions from timber processing in each of the identifed manufacturing processes. Wood product/residues data from the ecoinvent processes (e.g. sawmilling) will not be used to feed into other ecoinvent processes that use these residues as a feedstock (e.g. biomass, wood panels) - where UK site specific material flow data has already been calculated below. | M1: data imported from another spreadsheet
A2: Repeat this page but for tonnes C. The green tonnes are needed only for calcuating emissions in Ecoinvent, where the process is in tonnes. For HWP C storage calcs, the figures can remain in tonnes of C, to minimise unit conversion errors. | M2: data used in LCA
M3: conversion factors
A4: Product breakout from thins - calculation of tonnages going to each manufacturing process/use
B6: Green tonnes | C6: Dry tonnes | D6: m3 | E6: tonnes C
A7: thin1 (yr21) | B7: =C_model!Z114 -> 0 | C7: =C_model!Y114 -> 0 | D7: =C7*1/$B$43 -> 0 | E7: =C_model!X114 -> 0
A8: thin2 (yr71) | B8: =C_model!Z115 -> 0 | C8: =C_model!Y115 -> 0 | D8: =C8*1/$B$43 -> 0 | E8: =C_model!X115 -> 0
T9: =1/B43 -> 2.7653338 | U9: (m3/tonne) - density of freshly felled SS
A10: Sorting: | I10: Debarking: | P10: Timber use summary | R10: >75% thinned (green tonnes) | T10: >75% thinned (m3)
B11: Thinned | C11: Sorted products | D11: Thinned | M11: Thinned | Q11: Thinned | R11: Thinning 1 (yr 21) | S11: Thinning 2 (yr 71) | T11: Thinning 1 (yr 21) | U11: Thinning 2 (yr 71)
A12: Chip/Fuel/Pulp | B12: =100%*2/3 -> 0.66666667 | C12: Panel boards logs | D12: =B12/2 -> 0.33333333 | E12: particle board | F12: 0.75 | G12: =D12*F12 -> 0.25 | H12: To debarking | I12: particle board | M12: =G12/B55 -> 0.22321429 | N12: To particle board manufacturing | P12: Particle board | Q12: =M12 -> 0.22321429 | R12: =Q12*$B$7 -> 0 | S12: =Q12*$B$8 -> 0 | T12: =$T$9*R12 -> 0 | U12: =$T$9*S12 -> 0
E13: fibre board | F13: 0.25 | G13: =D12*F13 -> 0.083333333 | H13: To debarking | I13: fibre board | M13: =G13/B55 -> 0.074404762 | N13: To fibre board manufacturing | P13: Fibre board | Q13: =M13 -> 0.074404762 | R13: =Q13*$B$7 -> 0 | S13: =Q13*$B$8 -> 0 | T13: =$T$9*R13 -> 0 | U13: =$T$9*S13 -> 0
C14: Fuel logs | D14: =B12/2 -> 0.33333333 | H14: To biomass (electricity) | P14: Biomass (heat) | Q14: 0
C15: Pulp logs | D15: 0 | I15: Pulp logs | M15: =D15/B55 -> 0 | P15: Biomass (electricity) | Q15: =D14+M18 -> 0.36904762 | R15: =Q15*$B$7 -> 0 | S15: =Q15*$B$8 -> 0 | T15: =$T$9*R15 -> 0 | U15: =$T$9*S15 -> 0
A16: Fencing | B16: =100%*1/3 -> 0.33333333 | C16: Fencing (fence poles) | D16: =B16 -> 0.33333333 | H16: To debarking | I16: Fencing (fence poles) | M16: =D16/B55 -> 0.29761905 | N16: To fence poles | P16: Pulp | Q16: =M15 -> 0 | R16: =Q16*$B$7 -> 0 | S16: =Q16*$B$8 -> 0 | T16: =$T$9*R16 -> 0 | U16: =$T$9*S16 -> 0
I17: Bark | J17: =(D12+D15+D16)-(M12+M13+M15+M16) -> 0.071428571 | K17: horticultural mulch | L17: 0.5 | M17: =L17*J17 -> 0.035714286 | N17: To horticulture | P17: Fence poles | Q17: =M16 -> 0.29761905 | R17: =Q17*$B$7 -> 0 | S17: =Q17*$B$8 -> 0 | T17: =$T$9*R17 -> 0 | U17: =$T$9*S17 -> 0
C18: Mass of woodchips, wet (measured as dry mass) - (thin1) | D18: =1000*D14*C7 -> 0 | E18: kg (dry mass) | K18: biomass | L18: 0.5 | M18: =L18*J17 -> 0.035714286 | N18: To biomass (electricity) | P18: Pallets and packaging | Q18: =0 -> 0 | R18: =Q18*$B$7 -> 0 | S18: =Q18*$B$8 -> 0 | T18: =$T$9*R18 -> 0 | U18: =$T$9*S18 -> 0
C19: Mass of woodchips, wet (measured as dry mass) - (thin2) | D19: =1000*D14*C8 -> 0 | E19: kg (dry mass) | P19: Fencing | Q19: =0 -> 0 | R19: =Q19*$B$7 -> 0 | S19: =Q19*$B$8 -> 0 | T19: =$T$9*R19 -> 0 | U19: =$T$9*S19 -> 0
I20: Vol. of debarked timber (thin1): | J20: =(M12+M15+M16+M13)*D7 -> 0 | K20: m3 | P20: Carcassing | Q20: =0 -> 0 | R20: =Q20*$B$7 -> 0 | S20: =Q20*$B$8 -> 0 | T20: =$T$9*R20 -> 0 | U20: =$T$9*S20 -> 0
I21: Vol. of debarked timber (thin2): | J21: =(M12+M15+M16+M13)*D8 -> 0 | K21: m3 | P21: Hoticultural mulch | Q21: =M17 -> 0.035714286 | R21: =Q21*$B$7 -> 0 | S21: =Q21*$B$8 -> 0 | T21: =$T$9*R21 -> 0 | U21: =$T$9*S21 -> 0
I22: Mass of chemically treated timber(thin1) | J22: =M16*D7*B44 -> 0 | K22: kg | Q22: =SUM(Q12:Q21) -> 1 | R22: =SUM(R12:R21) -> 0 | S22: =SUM(S12:S21) -> 0 | T22: =$T$9*R22 -> 0 | U22: =$T$9*S22 -> 0
I23: Mass of chemically treated timber(thin2) | J23: =M16*D8*B44 -> 0 | K23: kg
I24: Mass of particle board produced (thin1) | J24: =M12*D7/B45 -> 0 | K24: tonnes | P24: Mass horticultural mulch (thin1) | Q24: =Q21*E7 -> 0 | R24: tonnes C
I25: Mass of particle board produced (thin2) | J25: =M12*D8/B45 -> 0 | K25: tonnes | P25: Mass horticultural mulch (thin1) | Q25: =Q21*E8 -> 0 | R25: tonnes C
I26: Mass of fibre board produced (thin1) | J26: =M13*D7/B45 -> 0 | K26: tonnes | P26: Mass of biomass (electricity) (thin1) | Q26: =1000*$Q$15*E7*44/12 -> 0 | R26: kg CO2 eq
I27: Mass of fibre board produced (thin2) | J27: =M13*D8/B45 -> 0 | K27: tonnes | P27: Mass of biomass (electricity) (thin2) | Q27: =1000*$Q$15*E8*44/12 -> 0 | R27: kg CO2 eq
I28: Vol of particle board produced (thin1) | J28: =J24*B46 -> 0 | K28: m3 | P28: Mass of biomass (electricity) (thin1) | Q28: =1000*$Q$15*C7 -> 0 | R28: kg (dry mass)
I29: Vol of particle board produced (thin2) | J29: =J25*B46 -> 0 | K29: m3 | P29: Mass of biomass (electricity) (thin2) | Q29: =1000*$Q$15*C8 -> 0 | R29: kg (dry mass)
I30: Vol of fibre board produced (thin1) | J30: =J26*B47 -> 0 | K30: m3 | P30: Mass of biomass to be pelleted (thin1) | Q30: =Q28 -> 0 | R30: kg (dry mass)
I31: Vol of fibre board produced (thin2) | J31: =J27*B47 -> 0 | K31: m3 | P31: Mass of biomass to be pelleted (thin2) | Q31: =Q29 -> 0 | R31: kg (dry mass)
P32: Electricity from biomass (thin1) | Q32: =Q28*$B$51 -> 0 | R32: kWh
P33: Electricity from biomass (thin2) | Q33: =Q29*$B$51 -> 0 | R33: kWh
A36: Product breakout from harvests - calculation of tonnages going to each manufacturing process/use
B38: Green tonnes | C38: Dry tonnes | D38: m3 | E38: tonnes C
A39: harvest1 (no thin) (yr50) | B39: =C_model!T114 -> 597.31683 | C39: =C_model!S114 -> 311.10251 | D39: =C39*1/$B$43 -> 860.30229 | E39: =C_model!R114 -> 155.39571
A40: harvest2 (no thin) (yr100) | B40: =C_model!T115 -> 610.37385 | C40: =C_model!S115 -> 317.90305 | D40: =C40*1/$B$43 -> 879.10803 | E40: =C_model!R115 -> 158.79257
A41: harvest1 (thinned) (yr50) | B41: =C_model!Z116 -> 9548005.7 | C41: =C_model!Y116 -> 4972919.6 | D41: =C41*1/$B$43 -> 13751783 | E41: =C_model!X116 -> 2483973.4
A42: harvest2 (thinned) (yr100) | B42: =C_model!Z117 -> 0 | C42: =C_model!Y117 -> 0 | D42: =C42*1/$B$43 -> 0 | E42: =C_model!X117 -> 0
A43: Green/fresh wood density (@oven dry mass, fresh volume) | B43: 0.36162 | C43: g/cm3
A44: conversion factor from m3 dry wood to kg dry wood (20% mc) | B44: 449 | C44: kg/m3
...

Sheet GWP_impact
L1: Summary of harvest1 primary timber use impacts (i.e. not including recovered wood or recycled uses) | Q1: Condensed summary for purposes of presentation | V1: Alternative condensed summary for purposes of presentation
A2: Processes | B2: System inputs/output | C2: Quantity | D2: Units | E2: Abiotic depletion (fossil fuels) - CML-IA baseline | G2: IPCC GWP 100a - IPCC 2013 GWP 100a (kg CO2eq) | N2: Abiotic depletion (fossil fuels) - CML-IA baseline | O2: IPCC GWP 100a - IPCC 2013 GWP 100a (kg CO2eq) | X2: Tonnes CO2e per year (2020 baseline)
A3: Site establishment | R3: Summary | S3: MJ | T3: kg CO2e | W3: MJ | X3: Scope 1,2&3 | Y3: Scope 1&2 | Z3: Scope 3 | AA3: Scope 4 | AD3: % contribution to total value chain GWP impact (Scopes 1,2&3)
A4: Land use change | B4: Displacement of low intensity UK beef production | C4: =#REF! -> #REF! | D4: kg CO2 eq | G4: =-C4 -> #REF! | L4: Planting | M4: Market for tree seedlings | N4: =E13 -> 1.9405631e+08 | O4: =G13 -> 17412310 | Q4: Nursery | R4: Market for tree seedlings | S4: =N4 -> 1.9405631e+08 | T4: =O4 -> 17412310 | V4: Forestry Operations | W4: =S5+S7+S6+S4 -> 1.2782554e+09 | X4: =(T5+T7+T6+T4)/1000 -> 87903.249 | Y4: =(T5+T7+T4)/1000 -> 87768.376 | Z4: =X4-Y4 -> 134.87299 | AA4: =(T5+T6+T7)/1000/$Y$11 -> 0.03622223 | AD4: =(X4)/(X4+X5+X6+X7+X8) -> 0.033963521 | AE4: Forestry ops
B5: Scenario 1: Replacement of displaced low intensity UK beef production with sustainable high intensity beef production in Europe | C5: =#REF! -> #REF! | D5: kg CO2eq | F5: =E4+E5 -> 0 | G5: =C5 -> #REF! | H5: =G4+G5 -> #REF! | M5: Clearing brash and mounding (ready for planting) - 'delimbing with excavator' used. | N5: =E15 -> 2.1848701e+08 | O5: =G15 -> 15201359 | Q5: Forest mgt | R5: Clearing brash and mounding (ready for planting) - 'delimbing with excavator' used. | S5: =N5 -> 2.1848701e+08 | T5: =O5 -> 15201359 | V5: Timber transport | W5: =S8 -> 2.6906523e+09 | X5: =T8/1000 -> 165049.94 | Y5: =T8/1000 -> 165049.94 | AD5: =(X5)/(X4+X5+X6+X7+X8) -> 0.063770988 | AE5: transport
B6: Scenario 2: Replacement of displaced low intensity UK beef production with expansion of average production in Brazil | C6: =#REF! -> #REF! | D6: kg CO2eq | G6: =C6 -> #REF! | M6: Application of pesicides (weevil) | N6: =E17 -> 2039416.4 | O6: =G17 -> 134872.99 | R6: Application of pesicides (weevil) | S6: =N6 -> 2039416.4 | T6: =O6 -> 134872.99 | V6: Sawmills | W6: =S9+S10+S12+S11+S13 -> 7.9049015e+09 | X6: =(T9+T10+T12+T11+T13)/1000 -> 547919.8 | Y6: =(T9+T10+T12+T11)/1000 -> 535481.22 | Z6: =X6-Y6 -> 12438.577 | AD6: =X6/(X4+X5+X6+X7+X8) -> 0.21170191 | AE6: sawmills
B7: Scenario 2: Conversion of tropical forestry to expand beef production in Brazil. | C7: =#REF! -> #REF! | D7: kg CO2eq | F7: =E4+E6+E7 -> 0 | G7: =C7 -> #REF! | H7: =G4+G6+G7 -> #REF! | L7: Forest mgt | M7: Thinning - harvester | N7: =E22 -> 85009440 | O7: 390.76507 | R7: Thinning/harvesting | S7: =N7+N8+N9+N10 -> 8.636727e+08 | T7: =O7+O8+O9+O10 -> 55154707 | V7: Wood Panel Production | W7: =S14+S15 -> 1.7561959e+10 | X7: =(T14+T15)/1000 -> 1561467.3 | Y7: =(T14*(1-O54)+T15*(1-O53))/1000 -> 931942.65 | Z7: =X7-Y7 -> 629524.67 | AD7: =X7/(X4+X5+X6+X7+X8) -> 0.60331021 | AE7: wood panels
A8: Conversion of grassland to forestry (above ground biomass loss) - DELETE? | B8: 1 ha of grassland converted to forest | C8: =#REF!*1000 -> #REF! | D8: kg CO2 eq | G8: =C8 -> #REF! | M8: Thinning - forwarder | N8: =E24 -> 70008736 | O8: =G24 -> 4936096.2 | Q8: Transport (forest to processor) | R8: Forest to processor | S8: =N11+N12 -> 2.6906523e+09 | T8: =O11+O12 -> 1.6504994e+08 | V8: Wood Fuel Production | W8: =S16+S20 -> 2.7617626e+09 | X8: =(T16+T20)/1000 -> 225826.25 | Y8: =(T16+T20)/1000 -> 225826.25 | AD8: =X8/(X4+X5+X6+X7+X8) -> 0.087253367 | AE8: wood fuel production
A9: Land clearing and irrigation | B9: Machine hours - excavator | C9: 15 | D9: hrs | E9: =C9*database!E6 -> 14113.923 | G9: =C9*database!M6 -> 981.98436 | M9: Harvest - harvester | N9: =E28 -> 3.8861458e+08 | O9: =G28 -> 27653209 | Q9: Sawmill | R9: Debarking | S9: =N13+N14 -> 3.3397579e+09 | T9: =O13+O14 -> 2.2598471e+08 | V9: Avoided emissions | X9: =AA9 -> -6827474.6 | AA9: =T21/1000 -> -6827474.6 | AD9: =SUM(AD4:AD8) -> 1
A10: Herbicide application (manual) | B10: Herbicide (glyphosphate) | C10: 0.84 | D10: g | E10: =C10*database!E22 -> 128.69002 | F10: =SUM(E8:E10) -> 14242.613 | G10: =C10*database!M22 -> 9.4177333 | H10: =SUM(G8:G10) -> #REF! | M10: Harvest - forwarder | N10: =E30 -> 3.2003993e+08 | O10: =G30 -> 22565011 | R10: Sawing | S10: =N15 -> 1.8250962e+09 | T10: =O15 -> 1.2452295e+08 | V10: Increased HWP C storage | X10: =T22 -> -421611.18
L11: Transport (forest to processor) | M11: Forest to processor - thin | N11: =E33 -> 0 | O11: =G33 -> 0 | R11: Drying (of sawn timber) | S11: =N16 -> 2.0282881e+09 | T11: =O16 -> 1.4407055e+08 | V11: Forestry and Wood Processing | X11: =SUM(X4:X8) -> 2588166.5 | Y11: =SUM(Y4:Y8) -> 1946068.4
A12: Planting (1&2) | M12: Forest to processor - harvest | N12: =E35 -> 2.6906523e+09 | O12: =G35 -> 1.6504994e+08 | R12: Planing | S12: =N17 -> 5.4532411e+08 | T12: =O17 -> 40903007 | V12: Pulp and paper | W12: =S17+S18+S19 -> 4.9258243e+10 | X12: =(T17+T18+T19)/1000 -> 4127664.6
A13: Market for tree seedlings | B13: Tree seedlings (planting1) | C13: =25000*C_model!Z120 -> 3.8700615e+08 | D13: seedlings | E13: =C13*database!E5 -> 1.9405631e+08 | G13: =C13*database!M5 -> 17412310 | L13: Sawmill | M13: Debarking - thin | N13: =E38 -> 0 | O13: =G38 -> 0 | R13: Chemical treatment | S13: =N18+N19 -> 1.6643518e+08 | T13: =O18+O19 -> 12438577 | V13: Imports emissions change | X13: =T23/1000 -> -111541.26
B14: Tree seedlings (planting2) | C14: =25000 -> 25000 | D14: seedlings | E14: =C14*database!E5 -> 12535.738 | G14: =C14*database!M5 -> 1124.8083 | M14: Debarking - harvest | N14: =E40 -> 3.3397579e+09 | O14: =G40 -> 2.2598471e+08 | Q14: Particle board production | R14: Particle board production | S14: =(M54+M55)*database!E15 -> 1.6104108e+10 | T14: =(M54+M55)*database!M15 -> 8.9511615e+08 | V14: Increased forest rotation impact | X14: =T24 -> -1415163.1
A15: Clearing brash and mounding (ready for planting) - 'delimbing with excavator' used. | B15: Machine hours (planting1) | C15: =15*C_model!Z120 -> 232203.69 | D15: hrs | E15: =C15*database!E6 -> 2.1848701e+08 | G15: =C15*database!M6 -> 15201359 | M15: Sawing | N15: =E43 -> 1.8250962e+09 | O15: =G43 -> 1.2452295e+08 | Q15: Fibre board production | R15: Fibre board production | S15: =M53*database!E16 -> 1.4578509e+09 | T15: =M53*database!M35*(1-0.5*0.5) -> 6.6635117e+08
B16: Machine hours (planting2) | C16: =15 -> 15 | D16: hrs | E16: =C16*database!E6 -> 14113.923 | G16: =C16*database!M6 -> 981.98436 | M16: Drying (of sawn timber) | N16: =E46 -> 2.0282881e+09 | O16: =G46 -> 1.4407055e+08 | Q16: Woodfuel production&use | R16: Woodchip/pellet production | S16: =N24+N25+N26+N27 -> 9.3109054e+08 | T16: =O24+O25+O26+O27 -> 75805200
A17: Application of pesicides (weevil) | B17: Pesticides (planting1) | C17: =0.832*C_model!Z120 -> 12879.565 | D17: g | E17: =C17*database!E21 -> 2039416.4 | G17: =C17*database!M21 -> 134872.99 | M17: Planing | N17: =E49 -> 5.4532411e+08 | O17: =G49 -> 40903007 | Q17: Paper production | R17: Graphics paper (virgin newsprint) - cascading | S17: =J40*1000000*database!E19 -> 1.2080582e+10 | T17: =J40*1000000*database!M19 -> 1.0544393e+09
B18: Pesticides (planting2) | C18: =0.832 -> 0.832 | D18: g | E18: =C18*database!E21 -> 131.74315 | F18: =SUM(E13:E18) -> 4.1460951e+08 | G18: =C18*database!M21 -> 8.7125869 | H18: =SUM(G13:G18) -> 32750658 | M18: Chemical treatment - thin | N18: =E52 -> 0 | O18: =G52 -> 0 | R18: Graphics paper (recycled newsprint) | S18: =J41*1000000*database!E18 -> 1.5574753e+10 | T18: =J41*1000000*database!M18 -> 1.3203412e+09
M19: Chemical treatment - harvest | N19: =E54 -> 1.6643518e+08 | O19: =G54 -> 12438577 | R19: Paperboard (Corrugated board box) - cascading | S19: =J39*1000000*database!E17 -> 2.1602909e+10 | T19: =J39*1000000*database!M17 -> 1.752884e+09
A20: Forest growth | B20: Net ecosystem C change over 100 yr period (not incl HWP) | C20: =-C_model!K109 -> -11759639 | D20: tonnes CO2 | E20: 0 | F20: =E20 -> 0 | G20: =C20*1000 -> -1.1759639e+10 | H20: =G20 -> -1.1759639e+10 | L20: Particle board production | M20: Particle board - thin | N20: =E56 -> 0 | O20: =G56 -> 0 | Q20: Woodfuel production&use (waste wood) | R20: Woodchip production - cascading | S20: =N69*database!E28 -> 1.830672e+09 | T20: =N69*database!M28 -> 1.5002105e+08 | V20: Carcassing avoided emissions (concrete_substitution, D48 pasted from BAU workbook):
M21: Particle board - harvest | N21: =E58 -> 5.6560067e+09 | O21: =G58 -> 3.1437834e+08 | Q21: Avoided emissions | T21: =N70+G130+G135+O110 -> -6.8274746e+09 | U21: 30 | V21: -2.4013298e+09
A22: Thinning (1&2) | B22: Machine hours - harvester (thin1) | C22: =7*C_model!Z120 -> 108361.72 | D22: hrs | E22: =C22*database!E8 -> 85009440 | G22: =C22*database!M8 -> 6049139.4 | L22: Fibre board production | M22: Fibre board - thin | N22: =E61 -> 0 | O22: =G61 -> 0 | Q22: Increased HWP C storage | T22: =O78 -> -421611.18
B23: Machine hours - harvester (thin2) | C23: 7 | D23: hrs | E23: =C23*database!E8 -> 5491.4787 | G23: =C23*database!M8 -> 390.76507 | M23: Fibre board - harvest | N23: =E63 -> 5.0694044e+08 | O23: =G63 -> 46791178 | Q23: Imports emissions change | T23: =O110 -> -1.1154126e+08
B24: Machine hours - forwarder (thin1) | C24: =7*C_model!Z120 -> 108361.72 | D24: hrs | E24: =C24*database!E7 -> 70008736 | G24: =C24*database!M7 -> 4936096.2 | L24: Biomass combustion | M24: Woodchip production (wet) - thin | N24: =E68 -> 0 | O24: =G68 -> 0 | Q24: Increased forest rotation impact | T24: =R87 -> -1415163.1
B25: Machine hours - forwarder (thin2) | C25: 7 | D25: hrs | E25: =C25*database!E7 -> 4522.4563 | F25: =SUM(E22:E25) -> 1.5502819e+08 | G25: =C25*database!M7 -> 318.8642 | H25: =SUM(G22:G25) -> 10985945 | M25: Woodchip production (wet) - harvest | N25: =E70 -> 68814642 | O25: =G70 -> 5142880.5
M26: Wood pellet production - harvest | N26: =E72 -> 0 | O26: =G72 -> 0
M27: Wood pellet production - thin | N27: =E74 -> 8.622759e+08 | O27: =G74 -> 70662320
A28: Harvesting (rotation 1&2) | B28: Machine hours - harvester (harvest1) | C28: =32*C_model!Z120 -> 495367.87 | D28: hrs | E28: =C28*database!E8 -> 3.8861458e+08 | G28: =C28*database!M8 -> 27653209 | L28: Paper production | M28: Graphics paper (virgin newsprint) | N28: =E90 -> 1.9777325e+09 | O28: =G90 -> 1.7262405e+08
B29: Machine hours - harvester (harvest2) | C29: 32 | D29: hrs | E29: =C29*database!E8 -> 25103.902 | G29: =C29*database!M8 -> 1786.3546 | M29: Paperboard (Corrugated board box) | N29: =E92 -> 1.5635711e+09 | O29: =G92 -> 1.2686989e+08
B30: Machine hours - forwarder (harvest1) | C30: =32*C_model!Z120 -> 495367.87 | D30: hrs | E30: =C30*database!E7 -> 3.2003993e+08 | G30: =C30*database!M7 -> 22565011 | L30: Wood panel production | M30: Cascading wood use - Wood panel production | N30: =E104 -> 1.6562923e+10 | O30: =G104 -> 9.2061847e+08
B31: Machine hours - forwarder (harvest2) | C31: 32 | D31: hrs | E31: =C31*database!E7 -> 20674.086 | F31: =SUM(E28:E31) -> 7.087003e+08 | G31: =C31*database!M7 -> 1457.6649 | H31: =SUM(G28:G31) -> 50221464 | L31: Biomass combustion (primary waste) | M31: Woodchip production (wet) | N31: =E107 -> 58183706 | O31: =G107 -> 4348374.6
L32: Biomass combustion (secondary waste) | M32: Woodchip production (wet) | N32: =E112 -> 98876801 | O32: =G112 -> 7389583.9
A33: Transport (forest to wood processor) | B33: Transport to processor sites (thin1) | C33: =material_flow!B7*100 -> 0 | D33: t*km | E33: =C33*database!E20 -> 0 | G33: =C33*database!M20 -> 0 | L33: Paper - cascading | M33: Graphics paper (recycled newsprint) | N33: =E117 -> 1.2432406e+09 | O33: =G117 -> 1.0539504e+08
B34: Transport to processor sites (thin2) | C34: =material_flow!B8*240 -> 0 | D34: t*km | E34: =C34*database!E20 -> 0 | G34: =C34*database!M20 -> 0 | M34: Paperboard (Corrugated board box) | N34: =E118 -> 1.2706346e+09 | O34: =G118 -> 1.031007e+08
B35: Transport to processor sites (harvest1) | C35: =(material_flow!B41)*200 -> 1.9096011e+09 | D35: t*km | E35: =C35*database!E20 -> 2.6906523e+09 | G35: =C35*database!M20 -> 1.6504994e+08
B36: Transport to processor sites (harvest2) | C36: =(material_flow!B42)*240 -> 0 | D36: t*km | E36: =C36*database!E20 -> 0 | F36: =SUM(E33:E36) -> 2.6906523e+09 | G36: =C36*database!M20 -> 0 | H36: =SUM(G33:G36) -> 1.6504994e+08
A38: Debarking | B38: Volume of merchantable timber debarked (thinning 1) | C38: =material_flow!J20 -> 0 | D38: m3 | E38: =C38*database!E9 -> 0 | G38: =C38*database!M9 -> 0 | I38: 2018 paper and paperboard production UK (000's metric tonnes):
B39: Volume of merchantable timber debarked (thinning 2) | C39: =material_flow!J21 -> 0 | D39: m3 | E39: =C39*database!E9 -> 0 | G39: =C39*database!M9 -> 0 | I39: packaging | J39: 1900
B40: Volume of merchantable timber debarked (harvest 1) | C40: =material_flow!M83 -> 11173323 | D40: m3 | E40: =C40*database!E9 -> 3.3397579e+09 | G40: =C40*database!M9 -> 2.2598471e+08 | I40: tissue | J40: 750
B41: Volume of merchantable timber debarked (harvest 2) | C41: =material_flow!M84 -> 0 | D41: m3 | E41: =C41*database!E9 -> 0 | F41: =SUM(E38:E41) -> 3.3397579e+09 | G41: =C41*database!M9 -> 0 | H41: =SUM(G38:G41) -> 2.2598471e+08 | I41: graphics and other | J41: 1250
...

Sheet database
A1: ecoinvent
E3: MJ | F3: kg Sb eq | G3: molc H+ eq | H3: CTUe | I3: kg P eq | J3: CTUh | K3: CTUh | L3: kBq U235 eq | M3: kg CO2 eq | N3: kg N eq | O3: kg CFC-11 eq | P3: kg NMVOC eq | Q3: molc N eq
C4: number | D4: units | E4: Abiotic depletion (fossil fuels) - CML-IA baseline | F4: Abiotic depletion - CML-IA baseline | G4: Acidification - ILCD 2011 Midpoint+ | H4: Freshwater ecotoxicity - ILCD 2011 Midpoint+ | I4: Freshwater eutrophication - ILCD 2011 Midpoint+ | J4: Human toxicity, cancer effects - ILCD 2011 Midpoint+ | K4: Human toxicity, non-cancer effects - ILCD 2011 Midpoint+ | L4: Ionizing radiation HH - ILCD 2011 Midpoint+ | M4: IPCC GWP 100a - IPCC 2013 GWP 100a | N4: Marine eutrophication - ILCD 2011 Midpoint+ | O4: Ozone depletion - ILCD 2011 Midpoint+ | P4: Photochemical ozone formation - ILCD 2011 Midpoint+ | Q4: Terrestrial eutrophication - ILCD 2011 Midpoint+ | R4: Water use (Midpoint, per country, pre-defined factors) (m3)
A5: tree seedling production, in unheated greenhouse | tree seedling, for planting | APOS, U | B5: Europe | C5: 1 | D5: seedling | E5: 0.50142953 | F5: 8.6460007e-08 | G5: 0.00027777672 | H5: 0.56931224 | I5: 3.4283127e-05 | J5: 3.1740162e-09 | K5: 1.4348261e-08 | L5: 0.018402054 | M5: 0.044992334 | N5: 5.4105629e-05 | O5: 5.1594309e-09 | P5: 0.00012658456 | Q5: 0.00061423845 | R5: 16.824261
A6: delimbing__with_excavator_based_processor___delimbing_sorting__excavator_based_processor___APOS__U | C6: 1 | D6: hr | E6: 940.92823 | F6: 5.581457e-05 | G6: 0.30251967 | H6: 133.03443 | I6: 0.0041037132 | J6: 2.3720716e-06 | K6: 6.1526273e-06 | L6: 4.6264385 | M6: 65.465624 | N6: 0.10529915 | O6: 1.1692768e-05 | P6: 0.33268431 | Q6: 1.1539859
A7: forwarding__forwarder___forwarding__forwarder___APOS__U | B7: Europe | C7: 1 | D7: hr | E7: 646.06518 | F7: 8.8374005e-05 | G7: 0.24740937 | H7: 139.54399 | I7: 0.0034994786 | J7: 1.5417221e-06 | K7: 4.916495e-06 | L7: 3.2767158 | M7: 45.552028 | N7: 0.090790589 | O7: 7.8876478e-06 | P7: 0.28021412 | Q7: 0.99329652
A8: harvesting__forestry_harvester___harvesting__forestry_harvester___APOS__U | B8: Eurpoe | C8: 1 | D8: hr | E8: 784.49695 | F8: 0.00010671107 | G8: 0.26812657 | H8: 152.26202 | I8: 0.0052445892 | J8: 2.0693247e-06 | K8: 5.5750988e-06 | L8: 4.0914196 | M8: 55.823581 | N8: 0.094825011 | O8: 9.4350356e-06 | P8: 0.2861735 | Q8: 0.99418235
A9: debarking, softwood, in forest | sawlog and veneer log, softwood, debarked, measured as solid wood | APOS, U | B9: Europe | C9: 1 | D9: m3 | E9: 298.90461 | F9: 4.1297881e-05 | G9: 0.12738937 | H9: 73.474502 | I9: 0.0019863644 | J9: 6.8973132e-07 | K9: 2.9785553e-06 | L9: 1.6203925 | M9: 20.22538 | N9: 0.048105621 | O9: 3.621108e-06 | P9: 0.24535207 | Q9: 0.50798802
A10: sawing, softwood | sawnwood, softwood, raw | APOS, U - CH | B10: Switzerland | C10: 1 | D10: m3 | E10: 362.76537 | F10: 7.8213125e-05 | G10: 0.14158783 | H10: 165.82617 | I10: 0.0049142027 | J10: 1.789773e-06 | K10: 4.5502955e-06 | L10: 8.8663967 | M10: 24.750813 | N10: 0.051045199 | O10: 5.1381587e-06 | P10: 0.49293469 | Q10: 0.5209113
A11: beam, softwood, raw, kiln drying to u=20% | sawnwood, beam, softwood, raw, dried (u=20%) | APOS, U - CH | B11: Switzerland | C11: 1 | D11: m3 | E11: 403.15283 | F11: 9.2301177e-05 | G11: 0.27129568 | H11: 268.38811 | I11: 0.0093174076 | J11: 2.4034637e-06 | K11: 2.4210783e-05 | L11: 15.333226 | M11: 28.636193 | N11: 0.10975408 | O11: 6.2737883e-06 | P11: 0.67096434 | Q11: 1.1896497
A12: planing, beam, softwood, u=20% | sawnwood, beam, softwood, dried (u=20%), planed | APOS, U | B12: Switzerland | C12: 1 | D12: m3 | E12: 468.80453 | F12: 0.0003286146 | G12: 0.30267296 | H12: 367.41466 | I12: 0.012090505 | J12: 4.3031529e-06 | K12: 2.5651915e-05 | L12: 18.468791 | M12: 35.16352 | N12: 0.11034068 | O12: 7.140442e-06 | P12: 0.68872849 | Q12: 1.2551147
A13: wood chips production, softwood, at sawmill | wood chips, wet, measured as dry mass | APOS, U | B13: Switzerland | C13: 1 | D13: kg | E13: 0.15375417 | F13: 3.6872993e-08 | G13: 6.6347556e-05 | H13: 0.1273407 | I13: 4.9994455e-06 | J13: 1.1222508e-09 | K13: 3.2055826e-09 | L13: 0.011710007 | M13: 0.011490859 | N13: 2.1058937e-05 | O13: 2.9961464e-09 | P13: 0.00017594819 | Q13: 0.00023416365
A14: wood preservation, dipping/immersion, solvent-based preservative, outdoor use, no ground contact | wood preservation, dipping/immersion method, organic solvent-based, outdoor use, no ground contact | APOS, U | B14: Europe | C14: 1 | D14: kg | E14: 0.15375417 | F14: 3.6872993e-08 | G14: 6.6347556e-05 | H14: 0.1273407 | I14: 4.9994455e-06 | J14: 1.1222508e-09 | K14: 3.2055826e-09 | L14: 0.011710007 | M14: 0.011490859 | N14: 2.1058937e-05 | O14: 2.9961464e-09 | P14: 0.00017594819 | Q14: 0.00023416365
A15: particle board production, for indoor use | particle board, for indoor use | APOS, U | B15: Europe | C15: 1 | D15: m3 | E15: 4715.6979 | F15: 0.0013352376 | G15: 1.8975561 | H15: 2206.7858 | I15: 0.10620836 | J15: 1.674548e-05 | K15: 0.00012575456 | L15: 42.851531 | M15: 262.11307 | N15: 0.37291613 | O15: 3.6399902e-05 | P15: 1.9174037 | Q15: 5.391368
A16: fibreboard production, soft, from wet & dry processes | fibreboard, soft | APOS, U | B16: Europe | C16: 1 | D16: m3 | E16: 1064.1247 | F16: 0.09970872 | G16: 1.2468077 | H16: 4741.8251 | I16: 0.099840564 | J16: 1.6690578e-05 | K16: 0.0004409717 | L16: 1527.6325 | M16: 98.21992 | N16: 0.25039184 | O16: 7.649065e-06 | P16: 0.58531458 | Q16: 2.2504663
A17: corrugated board box production | corrugated board box | APOS, U | B17: Europe | C17: 1 | D17: kg | E17: 11.369952 | F17: 6.7848896e-06 | G17: 0.0046849155 | H17: 12.24638 | I17: 0.00054684053 | J17: 6.9575471e-08 | K17: 5.4709133e-07 | L17: 0.12966873 | M17: 0.92257052 | N17: 0.0019225096 | O17: 1.0367478e-07 | P17: 0.0029151883 | Q17: 0.012738448
A18: paper production, newsprint, recycled | paper, newsprint | APOS, U | B18: Europe | C18: 1 | D18: kg | E18: 12.459802 | F18: 5.1106935e-06 | G18: 0.0070873533 | H18: 11.346343 | I18: 0.00089462903 | J18: 8.497983e-08 | K18: 6.8528278e-07 | L18: 0.41283974 | M18: 1.056273 | N18: 0.0012181381 | O18: 1.3732423e-07 | P18: 0.00292708 | Q18: 0.011722944
... A26: cement_production__Portland___cement__Portland___APOS__U | B26: Europe, not including switzerland | C26: 1 | D26: kg | E26: 2.9515955 | F26: 3.5654994e-07 | G26: 0.0021145503 | H26: 1.2922588 | I26: 9.8345666e-05 | J26: 1.1796771e-08 | K26: 7.44442e-08 | L26: 0.036383279 | M26: 0.86069472 | N26: 0.0005474277 | O26: 2.6289325e-08 | P26: 0.0015237755 | Q26: 0.0062625145
A27: market for gravel, round | gravel, round | APOS, U | B27: Switzerland | C27: 1 | D27: kg | E27: 0.070832502 | F27: 3.2000611e-08 | G27: 3.6509535e-05 | H27: 0.036705198 | I27: 1.0365764e-06 | J27: 4.4411564e-10 | K27: 1.6464611e-09 | L27: 0.0013339067 | M27: 0.0050513984 | N27: 1.2831544e-05 | O27: 9.5312495e-10 | P27: 3.8434253e-05 | Q27: 0.00014670775 | R27: 2.0985757
A28: wood pellet production | wood pellet, measured as dry mass | APOS, U | B28: Europe | C28: 1 | D28: kg | E28: 1.0896857 | F28: 2.5689841e-07 | G28: 0.00090090864 | H28: 1.2622333 | I28: 7.6022553e-05 | J28: 8.7661627e-09 | K28: 1.2384024e-07 | L28: 0.041478254 | M28: 0.089298242 | N28: 0.00032805048 | O28: 1.0552927e-08 | P28: 0.00072192423 | Q28: 0.0030672233 | R28: 46.064447
A29: market for urea formaldehyde resin | urea formaldehyde resin | APOS, U | B29: Europe | C29: 1 | D29: kg | E29: 51.797364 | F29: 1.7439891e-05 | G29: 0.017908929 | H29: 20.043569 | I29: 0.00063742337 | J29: 1.341795e-07 | K29: 8.2646455e-07 | L29: 0.16211118 | M29: 2.6231673 | N29: 0.0022011377 | O29: 4.1321944e-07 | P29: 0.0070393165 | Q29: 0.046583793 | R29: 214.83049
A30: market for melamine formaldehyde resin | melamine formaldehyde resin | APOS, U | B30: RER | C30: 1 | D30: kg | E30: 78.349799 | F30: 2.8186352e-05 | G30: 0.035661362 | H30: 33.082263 | I30: 0.0011080479 | J30: 2.1118045e-07 | K30: 1.3541709e-06 | L30: 0.28346339 | M30: 4.5590451 | N30: 0.0039566299 | O30: 6.3801103e-07 | P30: 0.011150539 | Q30: 0.10039947 | R30: 413.51561
A31: market for phenolic resin | phenolic resin | APOS, U | B31: Europe | C31: 1 | D31: kg | E31: 80.450584 | F31: 1.3723597e-05 | G31: 0.015928429 | H31: 27.839781 | I31: 0.0012934519 | J31: 1.9356711e-07 | K31: 8.7131676e-07 | L31: 0.26761583 | M31: 3.5220246 | N31: 0.0028828831 | O31: 1.9268649e-07 | P31: 0.015615405 | Q31: 0.030068816 | R31: 422.50987
A32: market for sawnwood, softwood, dried (u=20%), planed | sawnwood, softwood, dried (u=20%), planed | APOS, U | B32: Europe | C32: 1 | D32: m3 | E32: 1259.0977 | F32: 0.00043255176 | G32: 0.72199588 | H32: 723.96365 | I32: 0.033495939 | J32: 8.4070294e-06 | K32: 3.8292578e-05 | L32: 10.596233 | M32: 100.66472 | N32: 0.22197201 | O32: 1.1285442e-05 | P32: 0.69627245 | Q32: 2.4637272 | R32: 18451.641
A33: market for sawnwood, softwood, raw, dried (u=20%) | sawnwood, softwood, raw, dried (u=20%) | APOS, U | B33: Europe | C33: 1 | D33: m3 | E33: 907.53504 | F33: 0.00017584577 | G33: 0.45187747 | H33: 426.53578 | I33: 0.016387946 | J33: 4.7211333e-06 | K33: 1.6863899e-05 | L33: 6.3938437 | M33: 67.734524 | N33: 0.14417562 | O33: 9.327938e-06 | P33: 0.47808673 | Q33: 1.5613005 | R33: 8863.392
A34: market for particle board, for indoor use | particle board, for indoor use | APOS, U | B34: Global | C34: 1 | D34: m3 | E34: 6173.9771 | F34: 0.0015431111 | G34: 3.0988404 | H34: 2659.3021 | I34: 0.11370488 | J34: 2.1077667e-05 | K34: 0.00013346343 | L34: 36.644419 | M34: 377.13585 | N34: 0.53712751 | O34: 4.883171e-05 | P34: 2.3633308 | Q34: 7.1541421 | R34: 55519.748
A35: medium density fibre board production, uncoated | medium density fibreboard | APOS, U | B35: Europe | C35: 1 | D35: m3 | E35: 10249.661 | F35: 0.0061716911 | G35: 4.5669076 | H35: 7186.1584 | I35: 0.29165632 | J35: 7.4659419e-05 | K35: 0.00035444271 | L35: 77.587717 | M35: 648.51695 | N35: 0.82415439 | O35: 7.9725196e-05 | P35: 3.0124883 | Q35: 12.701677 | R35: 105060.79
A36: transport, freight train | transport, freight train | APOS, U | B36: Germany | C36: 1 | D36: t.km | E36: 0.65952444 | F36: 1.0076591e-07 | G36: 0.00032808923 | H36: 0.66521726 | I36: 6.5014358e-05 | J36: 9.163771e-09 | K36: 2.3915046e-08 | L36: 0.010173769 | M36: 0.062125802 | N36: 9.7083542e-05 | O36: 4.5498489e-09 | P36: 0.00024398487 | Q36: 0.0011171339 | R36: 9.4169268
A37: transport, freight, sea, transoceanic ship | transport, freight, sea, transoceanic ship | APOS, U | B37: Global | C37: 1 | D37: t.km | E37: 0.15488326 | F37: 2.7788327e-09 | G37: 0.00028789005 | H37: 0.023989361 | I37: 1.5339179e-06 | J37: 3.1058076e-10 | K37: 9.3070096e-10 | L37: 0.0010149533 | M37: 0.011306099 | N37: 5.6887192e-05 | O37: 1.804502e-09 | P37: 0.00016643885 | Q37: 0.00063355003 | R37: 0.85070883
A38: market for wood pellet | wood pellet, measured as dry mass | APOS, U | B38: Europe | C38: 1 | D38: kg | E38: 1.2710407 | F38: 2.8862116e-07 | G38: 0.00096839537 | H38: 1.3094775 | I38: 7.6972679e-05 | J38: 9.1320628e-09 | K38: 1.2669202e-07 | L38: 0.042370359 | M38: 0.10114447 | N38: 0.00035216041 | O38: 1.2769859e-08 | P38: 0.00079591614 | Q38: 0.0033308782 | R38: 46.44431
A40: Energy options:
A41: heat production, at hard coal industrial furnace 1-10MW | heat, district or industrial, other than natural gas | APOS, U | B41: Europe, not including switzerland | C41: 1 | D41: MJ | E41: 1.1476616 | F41: 1.0461093e-08 | G41: 0.0012909204 | H41: 0.45428836 | I41: 4.6171976e-05 | J41: 5.4322328e-09 | K41: 2.0014444e-08 | L41: 0.0022613143 | M41: 0.13788883 | N41: 0.00015037412 | O41: 1.5788959e-09 | P41: 0.00044903437 | Q41: 0.0015847112 | R41: 2.3619944
A42: electricity production, natural gas, combined cycle power plant | electricity, high voltage | APOS, S | B42: UK | C42: 1 | D42: kWhr | E42: 6.0049845 | F42: 3.0908278e-08 | G42: 0.00020524442 | H42: 0.074958794 | I42: 2.187643e-06 | J42: 1.2981743e-09 | K42: 4.4899159e-09 | L42: 0.010973123 | M42: 0.35149487 | N42: 8.9238909e-05 | O42: 2.6491715e-08 | P42: 0.00027305499 | Q42: 0.0009754403
A43: heat production, softwood chips from forest, at furnace 1000kW | heat, district or industrial, other than natural gas | APOS, U | B43: Switzerland | C43: 1 | D43: MJ | E43: 0.011293953 | F43: 1.0803102e-08 | G43: 0.00013875687 | H43: 0.11873882 | I43: 4.3190767e-06 | J43: 7.0856084e-10 | K43: 3.2904163e-08 | L43: 0.0019874552 | M43: 0.0020502298 | N43: 6.3820887e-05 | O43: 3.1544237e-10 | P43: 0.00017456801 | Q43: 0.00073132576
A44: electricity production, oil | electricity, high voltage | APOS, U | B44: UK | C44: 1 | D44: kWh | E44: 18.343498 | F44: 1.3711786e-07 | G44: 0.020691901 | H44: 1.726864 | I44: 2.7229564e-05 | J44: 8.8295289e-09 | K44: 5.2726809e-08 | L44: 0.087600786 | M44: 1.3157409 | N44: 0.0018907738 | O44: 2.3601563e-07 | P44: 0.0060209627 | Q44: 0.019410866
A45: heat production, natural gas, at industrial furnace >100kW | heat, district or industrial, natural gas | APOS, U | B45: Europe, not including switzerland | C45: 1 | D45: MJ | E45: 1.1247711 | F45: 4.0435634e-09 | G45: 5.8516144e-05 | H45: 0.027124517 | I45: 1.023608e-06 | J45: 3.5042993e-10 | K45: 8.6257459e-10 | L45: 0.00075182235 | M45: 0.069703854 | N45: 1.622342e-05 | O45: 8.7860586e-09 | P45: 5.986167e-05 | Q45: 0.00017693649 | R45: 0.45614325
A46: electricity production, hard coal | electricity, high voltage | APOS, U | C46: 1 | D46: kWhr | E46: 11.971522 | F46: 1.3686621e-07 | G46: 0.0086370122 | H46: 6.2804011 | I46: 0.00059009733 | J46: 7.5794529e-08 | K46: 3.2177871e-07 | L46: 0.012707751 | M46: 1.0735192 | N46: 0.0011802069 | O46: 1.2828483e-08 | P46: 0.0032491585 | Q46: 0.012093525
A47: electricity, from municipal waste incineration to generic market for electricity, medium voltage | electricity, medium voltage | APOS, U | B47: UK | C47: 1 | D47: kWh | E47: 11.92833 | F47: 1.4809315e-06 | G47: 0.001743414 | H47: 1.6823961 | I47: 5.3788761e-05 | J47: 1.1368024e-08 | K47: 1.6177978e-07 | L47: 0.10238592 | M47: 0.16214517 | N47: 0.00035154101 | O47: 6.2236943e-07 | P47: 0.0010695078 | Q47: 0.0047213542
A48: heat and power co-generation, wood chips, 6667 kW, state-of-the-art 2014 | electricity, high voltage | APOS, S | B48: UK (adapted from Swiss plant) | C48: 1 | D48: kWh | E48: 0.51743142 | F48: 1.0393795e-07 | G48: 0.0020105913 | H48: 0.86592637 | I48: 3.8233776e-05 | J48: 5.8397118e-09 | K48: 3.5039975e-07 | L48: 0.0027366692 | M48: 0.047007723 | N48: 0.00058093742 | O48: 1.5679679e-08 | P48: 0.0016422899 | Q48: 0.0097587581
A49: heat and power co-generation, wood chips, 6667 kW, state-of-the-art 2014 | electricity, high voltage | APOS, S | B49: Switzerland | C49: 1 | D49: kWh | E49: 0.04147017 | F49: 4.5020817e-08 | G49: 0.0019240991 | H49: 0.87470563 | I49: 4.4240212e-05 | J49: 5.313968e-09 | K49: 4.1622049e-07 | L49: 0.00024933653 | M49: 0.014126439 | N49: 0.00093479432 | O49: 9.9499153e-09 | P49: 0.0024771698 | Q49: 0.010577376
...

Sheet C_model
A1: Exported from CBM-CFS3 (summary tables at bottom of spreadsheet)
A3: Annual C stock - total ecosystem (tonnes C)- no thin | G3: Annual C stock - total ecosystem (tonnes C) - >75% thin | M3: Annual C stock - total ecosystem (tonnes C) - natural (zero mgt) | Q3: Ecosystem transfers - Softwood harvest (biomass) (tonnes C) - no thin | W3: Ecosystem transfers - Softwood harvest (biomass) (tonnes C) - >75%thin
A4: Time Step(GH model (no thin) average soil Default Simulation As | B4: Total Ecosystem(GH model (no thin) podzolic soil Default Simula | C4: Total Ecosystem(GH model (no thin) luvisolic soil Default Simul | D4: Total Ecosystem(GH model (no thin) gleysolic soil v2 Default Si | E4: Total Ecosystem(SSYC18 no_thin Default Simulat | G4: Time Step | H4: Total Ecosystem(GH model (thinned) podzolic soil Default Simula | I4: Total Ecosystem(GH model (thinned) luvisolic soil Default Simul | J4: Total Ecosystem(GH model (thinned) gleysolic soil v3 Default Si | K4: Total Ecosystem(SSYC18 int_thin Default Simulation Assumption) | M4: Time Step | N4: Total Ecosystem(Afforestation 50BL50C v3 Default Simulation Ass | Q4: Time Step(GH model (no thin) average soil Default Simulation As | R4: Softwood Harvest (Biomass)(SSYC18 no_thin Default Simulation A | W4: Time Step '(Biomass)(SSYC18 int_thin Default Simulation | X4: Softwood Harvest (Biomass)(SSYC18 int_thin Default Simulation A
A5: 0 | B5: 74 | C5: 40 | D5: 106 | E5: 81 | G5: 0 | H5: 74 | I5: 40 | J5: 106 | K5: 81 | M5: 0 | N5: 81 | Q5: 0 | R5: 0 | W5: 0 | X5: 0
A6: 1 | B6: 73.854216 | C6: 39.966422 | D6: 105.74862 | E6: 80.876647 | G6: 1 | H6: 73.825809 | I6: 39.938007 | J6: 105.72021 | K6: 80.836466 | M6: 1 | N6: 80.842938 | Q6: 1 | R6: 0 | W6: 1 | X6: 0
A7: 2 | B7: 74.002478 | C7: 40.226516 | D7: 105.79162 | E7: 81.124261 | G7: 2 | H7: 73.887061 | I7: 40.111083 | J7: 105.67621 | K7: 80.974991 | M7: 2 | N7: 80.94241 | Q7: 2 | R7: 0 | W7: 2 | X7: 0
A8: 3 | B8: 74.532931 | C8: 40.868426 | D8: 106.21717 | E8: 81.813289 | G8: 3 | H8: 74.277329 | I8: 40.612824 | J8: 105.96157 | K8: 81.499972 | M8: 3 | N8: 81.339349 | Q8: 3 | R8: 0 | W8: 3 | X8: 0
A9: 4 | B9: 75.507158 | C9: 41.953748 | D9: 107.08684 | E9: 82.989471 | G9: 4 | H9: 75.066444 | I9: 41.513031 | J9: 106.64613 | K9: 82.469886 | M9: 4 | N9: 82.061726 | Q9: 4 | R9: 0 | W9: 4 | X9: 0
A10: 5 | B10: 76.972481 | C10: 43.5298 | D10: 108.44795 | E10: 84.685265 | G10: 5 | H10: 76.311243 | I10: 42.868551 | J10: 107.78671 | K10: 83.929504 | M10: 5 | N10: 83.129701 | Q10: 5 | R10: 0 | W10: 5 | X10: 0
A11: 6 | B11: 78.965259 | C11: 45.632938 | D11: 110.33686 | E11: 86.922905 | G11: 6 | H11: 78.05847 | I11: 44.726142 | J11: 109.43008 | K11: 85.913211 | M11: 6 | N11: 84.557311 | Q11: 6 | R11: 0 | W11: 6 | X11: 0
A12: 7 | B12: 81.512256 | C12: 48.289927 | D12: 112.78033 | E12: 89.715985 | G12: 7 | H12: 80.345886 | I12: 47.123554 | J12: 111.61397 | K12: 88.446462 | M12: 7 | N12: 86.353375 | Q12: 7 | R12: 0 | W12: 7 | X12: 0
A13: 8 | B13: 84.631456 | C13: 51.518758 | D13: 115.79634 | E13: 93.070391 | G13: 8 | H13: 83.20273 | I13: 50.090029 | J13: 114.36762 | K13: 91.546611 | M13: 8 | N13: 88.522116 | Q13: 8 | R13: 0 | W13: 8 | X13: 0
A14: 9 | B14: 88.332721 | C14: 55.329291 | D14: 119.39476 | E14: 96.985242 | G14: 9 | H14: 86.650093 | I14: 53.646663 | J14: 117.71214 | K14: 95.223635 | M14: 9 | N14: 91.063651 | Q14: 9 | R14: 0 | W14: 9 | X14: 0
A15: 10 | B15: 92.618441 | C15: 59.723921 | D15: 123.57797 | E15: 101.45372 | G15: 10 | H15: 90.701299 | I15: 57.806779 | J15: 121.66085 | K15: 99.480783 | M15: 10 | N15: 93.974465 | Q15: 10 | R15: 0 | W15: 10 | X15: 0
A16: 11 | B16: 97.484285 | C16: 64.698309 | D16: 128.34165 | E16: 106.46396 | G16: 11 | H16: 95.362361 | I16: 62.576392 | J16: 126.21974 | K16: 104.31534 | M16: 11 | N16: 97.247829 | Q16: 11 | R16: 0 | W16: 11 | X16: 0
... A105: 100 | B105: 298.04703 | C105: 273.61694 | D105: 321.04001 | E105: 303.43356 | G105: 100 | H105: 282.89801 | I105: 258.46799 | J105: 305.89103 | K105: 288.1785 | M105: 100 | N105: 437.99838 | Q105: 100 | R105: 158.79257 | W105: 100 | X105: 163.00079
Q106: Assumptions:
A107: yr100-yr0 | B107: =B105-B5 -> 224.04703 | C107: =C105-C5 -> 233.61694 | D107: =D105-D5 -> 215.04001 | E107: =E105-E5 -> 222.43356 | F107: tonnes C | G107: yr100-yr0 | H107: =H105-H5 -> 208.89801 | I107: =I105-I5 -> 218.46799 | J107: =J105-J5 -> 199.89103 | K107: =(K105-K5)*Z120 -> 3207174.2 | L107: tonnes C | M107: yr100-yr0 | N107: =N105-N5 -> 356.99838 | O107: tonnes C | Q107: C content of oven dry wood | R107: 0.4995
A108: average stock change | B108: =B107/100 -> 2.2404703 | C108: =C107/100 -> 2.3361694 | D108: =D107/100 -> 2.1504001 | E108: =E107/100 -> 2.2243356 | F108: tonnes C/yr | G108: average annual stock change | H108: =H107/100 -> 2.0889801 | I108: =I107/100 -> 2.1846799 | J108: =J107/100 -> 1.9989103 | K108: =K107/100 -> 32071.742 | L108: tonnes C/yr | Q108: moisture content of green wood | R108: 0.47
A109: yr100-yr0 | B109: =B107*44/12 -> 821.50576 | C109: =C107*44/12 -> 856.59544 | D109: =D107*44/12 -> 788.48002 | E109: =E107*44/12 -> 815.58973 | F109: tonnes CO2 | G109: yr100-yr0 | H109: =H107*44/12 -> 765.95936 | I109: =I107*44/12 -> 801.04928 | J109: =J107*44/12 -> 732.93376 | K109: =K107*44/12 -> 11759639 | L109: tonnes CO2 | Q109: Basic SG (g/cm3) (green wood) | R109: =0.37 -> 0.37
Q110: Avge moisture content SS (on harvest) | R110: 0.92
Q111: Avg SG ss (on harvest) (g/cm3) | R111: =R109*(1+R110) -> 0.7104
T112: =S114*(1+R110) -> 597.31683
Q113: Unthinned stand | R113: tonnes C | S113: tonnes dry wood | T113: tonnes green wood | U113: vol green wood (m3) | W113: >75% thinned | X113: tonnes C | Y113: tonnes dry wood | Z113: tonnes green wood | AA113: vol green wood (m3)
Q114: harvest1 (yr 50) | R114: =R55 -> 155.39571 | S114: =R114/$R$107 -> 311.10251 | T114: =S114*(1+$R$110) -> 597.31683 | W114: thin1 (yr 21) | X114: 0 | Y114: =X114/$R$107 -> 0 | Z114: =Y114*(1+$R$110) -> 0 | AA114: =Y114/material_flow!$B$43 -> 0
Q115: harvest2 (yr 100) | R115: =R105 -> 158.79257 | S115: =R115/$R$107 -> 317.90305 | T115: =S115*(1+$R$110) -> 610.37385 | W115: thin2 (yr 71) | X115: 0 | Y115: =X115/$R$107 -> 0 | Z115: =Y115*(1+$R$110) -> 0
W116: harvest1 (yr 50) | X116: =X55*$Z$120 -> 2483973.4 | Y116: =X116/$R$107 -> 4972919.6 | Z116: =Y116*(1+$R$110) -> 9548005.7 | AA116: =Y116/material_flow!$B$43 -> 13751783 | AB116: =(AA114+AA116)/1000 -> 13751.783 | AC116: 000s m3 total
R117: Summary of harvests (green tonnes) | W117: harvest2 (yr 100) | X117: 0 | Y117: =X117/$R$107 -> 0 | Z117: =Y117*(1+$R$110) -> 0
R118: Thin 1 | S118: Thin 2 | T118: Harvest 1 | U118: Harvest 2 | V118: Total
Q119: Unthinned | R119: 0 | S119: 0 | T119: =T114 -> 597.31683 | U119: =T115 -> 610.37385 | V119: =SUM(R119:U119) -> 1207.6907 | Z119: 10241000 | AA119: t green wood harvested in UK (2017 data, FC)
Q120: Thinned | R120: =Z114 -> 0 | S120: =Z115 -> 0 | T120: =Z116 -> 9548005.7 | U120: =Z117 -> 0 | V120: =SUM(R120:U120) -> 9548005.7 | Z120: 15480.246 | AA120: Use this scaling factor to scale up the harvest1 C data that don't use the harvest data in fields X116-Z116) (this is calculated from (UK harvest)/(harvest1) i.e. the number of ha's harvested each year.
A121: https://extension.psu.edu/calculating-the-green-weight-of-wood-species#section-2 | Z121: =Z119/(Z116+Z114) -> 1.07258 | AA121: I Changed unthinned data only - highlighted cells in red text were changed
D122: Moisture Content, % (MC = (mgreen - mdry) / mdry (1)) | I122: Weight of one cubic meter, in kilograms
A123: Common | B123: Basic SG (g/cm3) | C123: SG @ 12% | D123: Heartwood | E123: Sapwood | F123: Average | G123: Range Low | H123: Range High | I123: 12% MC | J123: Average Green | K123: Low Green | L123: High Green | Q123: MC = (mgreen - mdry) / mdry (1)
A124: Spruce, Sitka | B124: 0.37 | C124: 0.4 | D124: 41 | E124: 142 | F124: 92 | G124: 75 | H124: 108 | I124: 448 | J124: 709 | K124: 646 | L124: 771 | Q124: mgreen = mdry * (1 + MC) (2)
D296: =(D295/C_model!R107/(1-C_model!R108)) -> 0

Sheet HWP
A2: Decay Calculations - primary HWP:
A5: As per IPCC Equation 12.1
H9: =material_flow!B6 -> Green tonnes | I9: =material_flow!D6 -> m3 | J9: tonnes C
G10: =material_flow!A7 -> thin1 (yr21) | H10: =C_model!Z114 -> 0 | I10: =material_flow!D7 -> 0 | J10: =C_model!X114 -> 0
G11: =material_flow!A8 -> thin2 (yr71) | H11: =C_model!Z115 -> 0 | I11: =material_flow!D8 -> 0 | J11: =C_model!X115 -> 0
G12: =material_flow!A39 -> harvest1 (no thin) (yr50) | H12: =C_model!T114 -> 597.31683 | I12: =material_flow!D39 -> 860.30229 | J12: =C_model!R114 -> 155.39571
G13: =material_flow!A40 -> harvest2 (no thin) (yr100) | H13: =C_model!T115 -> 610.37385 | I13: =material_flow!D40 -> 879.10803 | J13: =C_model!R115 -> 158.79257
G14: =material_flow!A41 -> harvest1 (thinned) (yr50) | H14: =C_model!Z116 -> 9548005.7 | I14: =material_flow!D41 -> 13751783 | J14: =C_model!X116 -> 2483973.4
G15: =material_flow!A42 -> harvest2 (thinned) (yr100) | H15: =C_model!Z117 -> 0 | I15: =material_flow!D42 -> 0 | J15: =C_model!X117 -> 0
G17: Conversion from green tonnes to tonnes C: | H17: =L17/(1+L18) -> 0.26015625 | K17: C content of dry wood | L17: =C_model!R107 -> 0.4995
K18: moisture content of green wood | L18: =C_model!R110 -> 0.92
B20: c(i)= C in year 0 = 0
B21: c(i+100) = C in yr 100
B23: Calculation of Inflows:
G24: Harvest 1 (no thin) | H24: Harvest 2 (no thin) | I24: Harvest 1 (thinned) | J24: Harvest 2 (thinned)
A25: Losses at construction site: | B25: Particle/fibre board | C25: 0 | D25: (Not using this) | G25: kg (dry wood)
B26: Carcassing | C26: 0.095 | D26: Going to panel production | E26: =material_flow!G105 -> 0.80014369 | F26: =E26*C26 -> 0.076013651
D27: Going to biomas (energy) | E27: =material_flow!G106 -> 0.19985631 | F27: =E27*C26 -> 0.018986349 | G27: =$F$27*$D$38*$J$12*1000/C_model!$R$107 -> 0 | H27: =$F$27*$D$38*$J$13*1000/C_model!$R$107 -> 0 | I27: =$F$27*$E$38*$J$14*1000/C_model!$R$107 -> 7986505.7 | J27: =$F$27*$E$38*$J$15*1000/C_model!$R$107 -> 0
F29: Inflows (green tonnes) | L29: Inflows (Gg C) | T29: Decay rate
B30: Primary Use | C30: Thin | D30: harvest (unthinned) | E30: harvest (thinned) | F30: Thin1 (yr21) | G30: Thin2 (yr71) | H30: harvest1 (unthinned) (yr50) | I30: harvest2 (unthinned) (yr100) | J30: harvest1 (thinned) (yr50) | K30: harvest2 (thinned) (yr100) | L30: harvest1 (unthinned) (yr50) | M30: harvest2 (unthinned) (yr100) | N30: harvest1 (thinned) (yr50) | O30: harvest2 (thinned) (yr100) | P30: Thin1 (yr21) | Q30: Thin2 (yr71) | S30: Half life (yrs) | T30: (k) (units per year) | U30: Fraction lost/yr (ln2/half life)
B31: Particle board (chip+OSB) | C31: =material_flow!Q12 -> 0.22321429 | D31: =material_flow!AE60 -> 0 | E31: =material_flow!AF60 -> 0.14158728 | F31: =C31*$H$10 -> 0 | G31: =C31*$H$11 -> 0 | H31: =D31*$H$12 -> 0 | I31: =D31*$H$13 -> 0 | J31: =E31*$H$14 -> 1351876.1 | K31: =E31*$H$15 -> 0 | L31: =D31*$J$12/1000 -> 0 | M31: =D31*$J$13/1000 -> 0 | N31: =E31*$J$14/1000 -> 351.69902 | O31: =E31*$J$15/1000 -> 0 | P31: =C31*$J$10/1000 -> 0 | Q31: =C31*$J$11/1000 -> 0 | S31: 30 | T31: =(LN(2))/S31 -> 0.023104906 | U31: 0.0231
B32: Fibre board | C32: =material_flow!Q13 -> 0.074404762 | D32: =material_flow!AE61 -> 0 | E32: =material_flow!AF61 -> 0.051952902 | F32: =C32*$H$10 -> 0 | G32: =C32*$H$11 -> 0 | H32: =D32*$H$12 -> 0 | I32: =D32*$H$13 -> 0 | J32: =E32*$H$14 -> 496046.6 | K32: =E32*$H$15 -> 0 | L32: =D32*$J$12/1000 -> 0 | M32: =D32*$J$13/1000 -> 0 | N32: =E32*$J$14/1000 -> 129.04962 | O32: =E32*$J$15/1000 -> 0 | P32: =C32*$J$10/1000 -> 0 | Q32: =C32*$J$11/1000 -> 0 | S32: 20 | T32: =(LN(2))/S32 -> 0.034657359 | U32: 0.0347
B33: Biomass | C33: =material_flow!Q15 -> 0.36904762 | D33: =material_flow!AE62 -> 0 | E33: =material_flow!AF62 -> 0.05855625 | F33: =C33*$H$10 -> 0 | G33: =C33*$H$11 -> 0 | H33: =D33*$H$12 -> 0 | I33: =D33*$H$13 -> 0 | J33: =E33*$H$14 -> 559095.41 | K33: =E33*$H$15 -> 0 | L33: =D33*$J$12/1000 -> 0 | M33: =D33*$J$13/1000 -> 0 | N33: =E33*$J$14/1000 -> 145.45217 | O33: =E33*$J$15/1000 -> 0 | P33: =C33*$J$10/1000 -> 0 | Q33: =C33*$J$11/1000 -> 0 | S33: n/a | T33: n/a | U33: n/a
B34: Pulp (paper) | C34: =material_flow!Q16 -> 0 | D34: =material_flow!AE64 -> 0 | E34: =material_flow!AF64 -> 0.05 | F34: =C34*$H$10 -> 0 | G34: =C34*$H$11 -> 0 | H34: =D34*$H$12 -> 0 | I34: =D34*$H$13 -> 0 | J34: =E34*$H$14 -> 477400.29 | K34: =E34*$H$15 -> 0 | L34: =D34*$J$12/1000 -> 0 | M34: =D34*$J$13/1000 -> 0 | N34: =E34*$J$14/1000 -> 124.19867 | O34: =E34*$J$15/1000 -> 0 | P34: =C34*$J$10/1000 -> 0 | Q34: =C34*$J$11/1000 -> 0 | S34: 2 | T34: =(LN(2))/S34 -> 0.34657359 | U34: 0.3466
B35: Fence poles | C35: =material_flow!Q17 -> 0.29761905 | D35: =material_flow!AE65 -> 0 | E35: =material_flow!AF65 -> 0.049107143 | F35: =C35*$H$10 -> 0 | G35: =C35*$H$11 -> 0 | H35: =D35*$H$12 -> 0 | I35: =D35*$H$13 -> 0 | J35: =E35*$H$14 -> 468875.28 | K35: =E35*$H$15 -> 0 | L35: =D35*$J$12/1000 -> 0 | M35: =D35*$J$13/1000 -> 0 | N35: =E35*$J$14/1000 -> 121.98083 | O35: =E35*$J$15/1000 -> 0 | P35: =C35*$J$10/1000 -> 0 | Q35: =C35*$J$11/1000 -> 0 | S35: 18 | T35: =(LN(2))/S35 -> 0.038508177 | U35: 0.0385
B36: Pallets and packaging | C36: =material_flow!Q18 -> 0 | D36: =material_flow!AE66 -> 0 | E36: =material_flow!AF66 -> 0.1550558 | F36: =C36*$H$10 -> 0 | G36: =C36*$H$11 -> 0 | H36: =D36*$H$12 -> 0 | I36: =D36*$H$13 -> 0 | J36: =E36*$H$14 -> 1480473.7 | K36: =E36*$H$15 -> 0 | L36: =D36*$J$12/1000 -> 0 | M36: =D36*$J$13/1000 -> 0 | N36: =E36*$J$14/1000 -> 385.15449 | O36: =E36*$J$15/1000 -> 0 | P36: =C36*$J$10/1000 -> 0 | Q36: =C36*$J$11/1000 -> 0 | S36: 3 | T36: =(LN(2))/S36 -> 0.23104906 | U36: 0.231
B37: Fencing | C37: =material_flow!Q19 -> 0 | D37: =material_flow!AE67 -> 0 | E37: =material_flow!AF67 -> 0.12620536 | F37: =C37*$H$10 -> 0 | G37: =C37*$H$11 -> 0 | H37: =D37*$H$12 -> 0 | I37: =D37*$H$13 -> 0 | J37: =E37*$H$14 -> 1205009.5 | K37: =E37*$H$15 -> 0 | L37: =D37*$J$12/1000 -> 0 | M37: =D37*$J$13/1000 -> 0 | N37: =E37*$J$14/1000 -> 313.49075 | O37: =E37*$J$15/1000 -> 0 | P37: =C37*$J$10/1000 -> 0 | Q37: =C37*$J$11/1000 -> 0 | S37: 18 | T37: =(LN(2))/S37 -> 0.038508177 | U37: 0.0385
B38: Carcassing | C38: =material_flow!Q20 -> 0 | D38: =material_flow!AE68 -> 0 | E38: =material_flow!AF68 -> 0.084587054 | F38: =C38*$H$10 -> 0 | G38: =C38*$H$11 -> 0 | H38: =D38*$H$12 -> 0 | I38: =D38*$H$13 -> 0 | J38: =E38*$H$14 -> 807637.67 | K38: =E38*$H$15 -> 0 | L38: =(1-$C$26)*D38*$J$12/1000 -> 0 | M38: =(1-$C$26)*D38*$J$13/1000 -> 0 | N38: =(1-$C$26)*E38*$J$14/1000 -> 190.15135 | O38: =(1-$C$26)*E38*$J$15/1000 -> 0 | P38: =C38*$J$10/1000 -> 0 | Q38: =C38*$J$11/1000 -> 0 | R38: 50 | S38: 90 | T38: =(LN(2))/S38 -> 0.0077016353 | U38: =LN(2)/S38 -> 0.0077016353
B39: Mulch | C39: =material_flow!Q21 -> 0.035714286 | D39: =material_flow!AE69 -> 0 | E39: =material_flow!AF69 -> 0.123825 | F39: =C39*$H$10 -> 0 | G39: =C39*$H$11 -> 0 | H39: =D39*$H$12 -> 0 | I39: =D39*$H$13 -> 0 | J39: =E39*$H$14 -> 1182281.8 | K39: =E39*$H$15 -> 0 | L39: =D39*$J$12/1000 -> 0 | M39: =D39*$J$13/1000 -> 0 | N39: =E39*$J$14/1000 -> 307.578 | O39: =E39*$J$15/1000 -> 0 | P39: =C39*$J$10/1000 -> 0 | Q39: =C39*$J$11/1000 -> 0 | S39: n/a | T39: n/a | U39: n/a
C40: =SUM(C31:C39) -> 1 | D40: =SUM(D31:D39) -> 0 | E40: =SUM(E31:E39) -> 0.84087679 | K40: total (wood products, not including mulch or biomass) | L40: =L31+L32+L35+L36+L37+L38 -> 0 | M40: =M31+M32+M35+M36+M37+M38 -> 0 | N40: =N31+N32+N35+N36+N37+N38 -> 1491.5261 | O40: =O31+O32+O35+O36+O37+O38 -> 0 | P40: =P31+P32+P35+P36+P37+P38 -> 0 | Q40: =Q31+Q32+Q35+Q36+Q37+Q38 -> 0
K41: total (paper products) | L41: =L34 -> 0 | M41: =M34 -> 0 | N41: =N34 -> 124.19867 | O41: =O34 -> 0 | P41: =P34 -> 0 | Q41: =Q34 -> 0
B42: Inflow in all non harvest/thin years: | C42: 0 | O42: =N41+O41+N40+O40+P40+Q40 -> 1615.7247
B44: Decay rate, k= | C44: =T31 -> 0.023104906 | D44: =T32 -> 0.034657359 | E44: =T33 -> n/a | F44: =T34 -> 0.34657359 | G44: =T35 -> 0.038508177 | H44: =T36 -> 0.23104906 | I44: =T37 -> 0.038508177 | J44: =T38 -> 0.0077016353 | K44: =T39 -> n/a
B45: Unthinned | M45: Thinned
B46: yr | C46: Particle board (chip+OSB) | D46: Fibre board | E46: Biomass | F46: Pulp (paper) | G46: Fence poles | H46: Pallets and packaging | I46: Fencing | J46: Carcassing | K46: Mulch | M46: Particle board | N46: Fibre board | O46: Biomass | P46: Pulp (paper) | Q46: Fence poles | R46: Pallets and packaging | S46: Fencing | T46: Carcassing | U46: Mulch | V46: Total
B47: 0 | C47: 0 | D47: 0 | E47: 0 | F47: 0 | G47: 0 | H47: 0 | I47: 0 | J47: 0 | K47: 0 | M47: 0 | N47: 0 | O47: 0 | P47: 0 | Q47: 0 | R47: 0 | S47: 0 | T47: 0 | U47: 0 | V47: =SUM(M47:U47) -> 0
B48: 1 | C48: =(1*10^(-$C$44))*C47+((1-(1*10^(-$C$44)))/$C$44)*$C$42 -> 0 | D48: =(1*10^(-$D$44))*D47+((1-(1*10^(-$D$44)))/$D$44)*$C$42 -> 0 | E48: 0 | F48: =(1*10^(-$F$44))*F47+((1-(1*10^(-$F$44)))/$F$44)*$C$42 -> 0 | G48: =(1*10^(-$F$44))*G47+((1-(1*10^(-$F$44)))/$F$44)*$C$42 -> 0 | H48: =(1*10^(-$H$44))*H47+((1-(1*10^(-$H$44)))/$H$44)*$C$42 -> 0 | I48: =(1*10^(-$I$44))*I47+((1-(1*10^(-$I$44)))/$I$44)*$C$42 -> 0 | J48: =(1*10^(-$J$44))*J47+((1-(1*10^(-$J$44)))/$J$44)*$C$42 -> 0 | K48: 0 | M48: =(EXP(-$C$44))*M47+((1-(EXP(-$C$44)))/$C$44)*$C$42 -> 0 | N48: =(EXP(-$D$44))*N47+((1-(EXP(-$D$44)))/$D$44)*$C$42 -> 0 | O48: 0 | P48: =(EXP(-$F$44))*P47+((1-(EXP(-$F$44)))/$F$44)*$C$42 -> 0 | Q48: =(EXP(-$F$44))*Q47+((1-(EXP(-$F$44)))/$F$44)*$C$42 -> 0 | R48: =(EXP(-$H$44))*R47+((1-(EXP(-$H$44)))/$H$44)*$C$42 -> 0 | S48: =(EXP(-$I$44))*S47+((1-(EXP(-$I$44)))/$I$44)*$C$42 -> 0 | T48: =(EXP(-$J$44))*T47+((1-(EXP(-$J$44)))/$J$44)*$C$42 -> 0 | U48: 0 | V48: =SUM(M48:U48) -> 0
B49: 2 | C49: =(1*10^(-$C$44))*C48+((1-(1*10^(-$C$44)))/$C$44)*$C$42 -> 0 | D49: =(1*10^(-$D$44))*D48+((1-(1*10^(-$D$44)))/$D$44)*$C$42 -> 0 | E49: 0 | F49: =(1*10^(-$F$44))*F48+((1-(1*10^(-$F$44)))/$F$44)*$C$42 -> 0 | G49: =(1*10^(-$F$44))*G48+((1-(1*10^(-$F$44)))/$F$44)*$C$42 -> 0 | H49: =(1*10^(-$H$44))*H48+((1-(1*10^(-$H$44)))/$H$44)*$C$42 -> 0 | I49: =(1*10^(-$I$44))*I48+((1-(1*10^(-$I$44)))/$I$44)*$C$42 -> 0 | J49: =(1*10^(-$J$44))*J48+((1-(1*10^(-$J$44)))/$J$44)*$C$42 -> 0 | K49: 0 | M49: =(EXP(-$C$44))*M48+((1-(EXP(-$C$44)))/$C$44)*$C$42 -> 0 | N49: =(EXP(-$D$44))*N48+((1-(EXP(-$D$44)))/$D$44)*$C$42 -> 0 | O49: 0 | P49: =(EXP(-$F$44))*P48+((1-(EXP(-$F$44)))/$F$44)*$C$42 -> 0 | Q49: =(EXP(-$F$44))*Q48+((1-(EXP(-$F$44)))/$F$44)*$C$42 -> 0 | R49: =(EXP(-$H$44))*R48+((1-(EXP(-$H$44)))/$H$44)*$C$42 -> 0 | S49: =(EXP(-$I$44))*S48+((1-(EXP(-$I$44)))/$I$44)*$C$42 -> 0 | T49: =(EXP(-$J$44))*T48+((1-(EXP(-$J$44)))/$J$44)*$C$42 -> 0 | U49: 0 | V49: =SUM(M49:U49) -> 0
B50: 3 | C50: =(1*10^(-$C$44))*C49+((1-(1*10^(-$C$44)))/$C$44)*$C$42 -> 0 | D50: =(1*10^(-$D$44))*D49+((1-(1*10^(-$D$44)))/$D$44)*$C$42 -> 0 | E50: 0 | F50: =(1*10^(-$F$44))*F49+((1-(1*10^(-$F$44)))/$F$44)*$C$42 -> 0 | G50: =(1*10^(-$F$44))*G49+((1-(1*10^(-$F$44)))/$F$44)*$C$42 -> 0 | H50: =(1*10^(-$H$44))*H49+((1-(1*10^(-$H$44)))/$H$44)*$C$42 -> 0 | I50: =(1*10^(-$I$44))*I49+((1-(1*10^(-$I$44)))/$I$44)*$C$42 -> 0 | J50: =(1*10^(-$J$44))*J49+((1-(1*10^(-$J$44)))/$J$44)*$C$42 -> 0 | K50: 0 | M50: =(EXP(-$C$44))*M49+((1-(EXP(-$C$44)))/$C$44)*$C$42 -> 0 | N50: =(EXP(-$D$44))*N49+((1-(EXP(-$D$44)))/$D$44)*$C$42 -> 0 | O50: 0 | P50: =(EXP(-$F$44))*P49+((1-(EXP(-$F$44)))/$F$44)*$C$42 -> 0 | Q50: =(EXP(-$F$44))*Q49+((1-(EXP(-$F$44)))/$F$44)*$C$42 -> 0 | R50: =(EXP(-$H$44))*R49+((1-(EXP(-$H$44)))/$H$44)*$C$42 -> 0 | S50: =(EXP(-$I$44))*S49+((1-(EXP(-$I$44)))/$I$44)*$C$42 -> 0 | T50: =(EXP(-$J$44))*T49+((1-(EXP(-$J$44)))/$J$44)*$C$42 -> 0 | U50: 0 | V50: =SUM(M50:U50) -> 0
B51: 4 | C51: =(1*10^(-$C$44))*C50+((1-(1*10^(-$C$44)))/$C$44)*$C$42 -> 0 | D51: =(1*10^(-$D$44))*D50+((1-(1*10^(-$D$44)))/$D$44)*$C$42 -> 0 | E51: 0 | F51: =(1*10^(-$F$44))*F50+((1-(1*10^(-$F$44)))/$F$44)*$C$42 -> 0 | G51: =(1*10^(-$F$44))*G50+((1-(1*10^(-$F$44)))/$F$44)*$C$42 -> 0 | H51: =(1*10^(-$H$44))*H50+((1-(1*10^(-$H$44)))/$H$44)*$C$42 -> 0 | I51: =(1*10^(-$I$44))*I50+((1-(1*10^(-$I$44)))/$I$44)*$C$42 -> 0 | J51: =(1*10^(-$J$44))*J50+((1-(1*10^(-$J$44)))/$J$44)*$C$42 -> 0 | K51: 0 | M51: =(EXP(-$C$44))*M50+((1-(EXP(-$C$44)))/$C$44)*$C$42 -> 0 | N51: =(EXP(-$D$44))*N50+((1-(EXP(-$D$44)))/$D$44)*$C$42 -> 0 | O51: 0 | P51: =(EXP(-$F$44))*P50+((1-(EXP(-$F$44)))/$F$44)*$C$42 -> 0 | Q51: =(EXP(-$F$44))*Q50+((1-(EXP(-$F$44)))/$F$44)*$C$42 -> 0 | R51: =(EXP(-$H$44))*R50+((1-(EXP(-$H$44)))/$H$44)*$C$42 -> 0 | S51: =(EXP(-$I$44))*S50+((1-(EXP(-$I$44)))/$I$44)*$C$42 -> 0 | T51: =(EXP(-$J$44))*T50+((1-(EXP(-$J$44)))/$J$44)*$C$42 -> 0 | U51: 0 | V51: =SUM(M51:U51) -> 0
...

Sheet fossilfuel_substitution
A2: Incineration avoided emissions calcs (assume MSW incineration with electricity and heat used within the process, no export)
B4: Conversion factor for kg waste (wood, assumed 20% dry) to electric energy | C4: =material_flow!D53 -> 0.386142 | D4: kWh/kg
B5: Conversion factor for kg waste (wood, assumed 20% dry) to heat energy | C5: =material_flow!B54 -> 2.85 | D5: MJ/kg
C8: Mass woodwaste (assume 20% moisture) | E8: MJ heat produced | F8: kWhr electricity produced
B9: incineration (thin1&2 and harvest1) (primary waste) (unthinned) | C9: =(HWP!D162/C_model!$R$107)/(1-20%) -> 0 | D9: kg | E9: =C9*$C$4 -> 0 | F9: =C9*$C$5 -> 0
B10: incineration (thin1&2 and harvest1) (primary waste) (thinned) | C10: =(HWP!N162/C_model!$R$107)/(1-20%) -> 5.788481e+08 | D10: kg | E10: =C10*$C$4 -> 2.2351756e+08 | F10: =C10*$C$5 -> 1.6497171e+09
B11: incineration (thin1&2 and harvest1) (secondary waste) (unthinned) | C11: =(HWP!D300/C_model!$R$107)/(1-20%) -> 0 | D11: kg | E11: =C11*$C$4 -> 0 | F11: =C11*$C$5 -> 0
B12: incineration (thin1&2 and harvest1) (secondary waste) (thinned) | C12: =(HWP!K300/C_model!$R$107)/(1-20%) -> 1.9660048e+08 | D12: kg | E12: =C12*$C$4 -> 75915703 | F12: =C12*$C$5 -> 5.6031137e+08
A16: Electricity avoided emissions calcs
B18: Biomass conversion to electricity (UK) | C18: 0.386
B19: Lower heating value wood (dry mass) | C19: 19 | D19: MJ/kg
C20: 5.3 | D20: kWh/kg
B21: Lower heating value wood (10% MC) | C21: 17 | D21: MJ/kg
C22: 4.8 | D22: kWh/kg
B23: Electrical output (per kg dry mass) | C23: =C18*C19 -> 7.334 | D23: kWh/kg

Sheet concrete_substitution
A1: Calculation of construction product substitution effect (timber frame wall (i.e. carcassing) replacing masonry wall(s):
P2: Facts | Q2: Sources
B3: Substitution assumption | P3: 70% of CO2 emissions in the sector come from the chemical process of calcining calcium carbonate13 (process emissions) rather than energy use. Can't be reduced without CCU/S | Q3: https://assets.publishing.service.gov.uk/government/uploads/system/uploads/attachment_data/file/651222/cement-decarbonisation-action-plan.pdf
A4: Particle board (chip and OSB) | B4: No substitution | P4: Plans to improve process efficiencies and switch to biomass/waste sources for heat generation. Reducing emissions by around 70%. | Q4: https://assets.publishing.service.gov.uk/government/uploads/system/uploads/attachment_data/file/651222/cement-decarbonisation-action-plan.pdf
