Workbook

Sheet Description
A2: Calculation of annual and cumulative GWP impact of 4 wood use scenarios, with decarbonisation factors applied.
A3: Calculation of afforestation GWP at 30,000 ha/yr planting rate of mixed conifer:broadleaf forest
A5: Assumptions
A6: cascading, circular and cascading&circular scenarios implemented after 10 years.

Sheet Year 2035 impact
A1: Results summary
B4: Scope 1,2,3&4 (tCO2e / yr) (2020) | J4: Scope 1,2,3&4 (tCO2e / yr) (2035) - with decarbonisation factors applied
B5: BAU | C5: cascading | D5: circular | E5: cascading&circular | F5: UK (decarbonisation) | J5: BAU | K5: cascading | L5: circular | M5: cascading&circular
A6: Forestry Operations | B6: 87903.249 | C6: 87903.249 | D6: 87903.249 | E6: 87903.249 | F6: =(1-$G$4)*B6 -> 87903.249 | I6: Forestry Operations | J6: =B6*'Cum. impacts (Scopes1-4)'!$O$6+B7*(1-'Cum. impacts (Scopes1-4)'!$O$7) -> 139591.53 | K6: =C6*'Cum. impacts (Scopes1-4)'!$O$6+C7*(1-'Cum. impacts (Scopes1-4)'!$O$7) -> 139591.53 | L6: =D6*'Cum. impacts (Scopes1-4)'!$O$6+D7*(1-'Cum. impacts (Scopes1-4)'!$O$7) -> 139591.53 | M6: =E6*'Cum. impacts (Scopes1-4)'!$O$6+E7*(1-'Cum. impacts (Scopes1-4)'!$O$7) -> 139591.53
A7: Timber transport | B7: 165049.94 | C7: 165049.94 | D7: 165049.94 | E7: 165049.94 | F7: =(1-$G$4)*B7 -> 165049.94 | I7: Sawmills | J7: =B8*(1-'Cum. impacts (Scopes1-4)'!$O$8) -> 180545.95 | K7: =C8*(1-'Cum. impacts (Scopes1-4)'!$O$8) -> 240714.08 | L7: =D8*(1-'Cum. impacts (Scopes1-4)'!$O$8) -> 208209.52 | M7: =E8*(1-'Cum. impacts (Scopes1-4)'!$O$8) -> 240714.08
A8: Sawmills | B8: 475120.91 | C8: 633458.11 | D8: 547919.8 | E8: 633458.11 | F8: =(1-$G$4)*B8 -> 475120.91 | I8: Wood Panel Production | J8: =B9*(1-'Cum. impacts (Scopes1-4)'!$O$9) -> 713433.75 | K8: =C9*(1-'Cum. impacts (Scopes1-4)'!$O$9) -> 394623.51 | L8: =D9*(1-'Cum. impacts (Scopes1-4)'!$O$9) -> 624586.92 | M8: =E9*(1-'Cum. impacts (Scopes1-4)'!$O$9) -> 475621.84
A9: Wood Panel Production | B9: 1783584.4 | C9: 986558.79 | D9: 1561467.3 | E9: 1189054.6 | F9: =(1-$G$4)*B9 -> 1783584.4 | G9: =D9/B9 -> 0.87546591 | I9: Wood Fuel Production | J9: =B10*(1-'Cum. impacts (Scopes1-4)'!$O$10) -> 97943.634 | K9: =C10*(1-'Cum. impacts (Scopes1-4)'!$O$10) -> 91614.17 | L9: =D10*(1-'Cum. impacts (Scopes1-4)'!$O$10) -> 85813.974 | M9: =E10*(1-'Cum. impacts (Scopes1-4)'!$O$10) -> 80755.503
A10: Wood Fuel Production | B10: 257746.41 | C10: 241089.92 | D10: 225826.25 | E10: 212514.48 | F10: =(1-$G$4)*B10 -> 257746.41 | I10: Avoided emissions | J10: =B11*'Cum. impacts (Scopes1-4)'!$O$12 -> -2842871.1 | K10: =C11*'Cum. impacts (Scopes1-4)'!$O$12 -> -2842871.1 | L10: =D11*'Cum. impacts (Scopes1-4)'!$O$12 -> -2675602 | M10: =E11*'Cum. impacts (Scopes1-4)'!$O$12 -> -2675602
A11: Avoided emissions | B11: -7010055 | C11: =B11 -> -7010055 | D11: =B11+G11 -> -6597596.9 | E11: =B11+G11 -> -6597596.9 | F11: =(1-$G$4)*B11 -> -7010055 | G11: 412458.14 | I11: Change in HWP C storage | J11: =B12 -> 0 | K11: =C12 -> -195198.43 | L11: =D12 -> -421611.18 | M11: =E12 -> -508971.45
A12: Change in HWP C storage | C12: -195198.43 | D12: -421611.18 | E12: -508971.45 | F12: =(1-$G$4)*B12 -> 0 | I12: Change in imports emissions | J12: =B13*'Cum. impacts (Scopes1-4)'!$O$12 -> 0 | K12: =C13*'Cum. impacts (Scopes1-4)'!$O$12 -> 317986.91 | L12: =D13*'Cum. impacts (Scopes1-4)'!$O$12 -> -45234.657 | M12: =E13*'Cum. impacts (Scopes1-4)'!$O$12 -> 106695.1
A13: Change in imports emissions | C13: 784103.7 | D13: -111541.26 | E13: 263092.67 | F13: =(1-$G$4)*B13 -> 0 | I13: C sequestration gain (reduced harvest) | J13: =B14 -> 0 | K13: =C14 -> 0 | L13: =D14 -> -1415163.1 | M13: =E14 -> -1415163.1
A14: C sequestration gain (reduced harvest) | D14: -1415163.1 | E14: -1415163.1 | I14: Net | J14: =SUM(J6:J13) -> -1711356.2 | K14: =SUM(K6:K13) -> -1853539.3 | L14: =SUM(L6:L13) -> -3499409 | M14: =SUM(M6:M13) -> -3556358.5
A15: Net (Scopes 1-4) | B15: =SUM(B6:B14) -> -4240650.1 | C15: =SUM(C6:C14) -> -4307089.7 | D15: =SUM(D6:D14) -> -5957745.8 | E15: =SUM(E6:E14) -> -5970658.3 | F15: =SUM(F6:F13) -> -4240650.1
C16: =C15-$B$15 -> -66439.6 | D16: =D15-$B$15 -> -1717095.7 | E16: =E15-$B$15 -> -1730008.2 | F16: =F15-$B$15 -> 0
A17: Net - change from baseline | C17: =($B$15-C15)/$B$15 -> -0.015667315 | D17: =($B$15-D15)/$B$15 -> -0.40491332 | E17: =($B$15-E15)/$B$15 -> -0.40795825 | F17: =($B$15-F15)/$B$15 -> 0
A18: Net (without avoided emissions) | B18: =SUM(B6:B10)+B12+B13+B14 -> 2769404.9 | C18: =SUM(C6:C10)+C12+C13+C14 -> 2702965.3 | D18: =SUM(D6:D10)+D12+D13+D14 -> 639851.01 | E18: =SUM(E6:E10)+E12+E13+E14 -> 626938.52 | F18: =SUM(F6:F10)+F12+F13 -> 2769404.9
A19: Net (without avoided emissions or HWP C storage or C seq gain) | B19: =SUM(B6:B10)+B13 -> 2769404.9 | C19: =SUM(C6:C10)+C13 -> 2898163.7 | D19: =SUM(D6:D10)+D13 -> 2476625.3 | E19: =SUM(E6:E10)+E13 -> 2551073.1 | F19: =SUM(F6:F10)+F13 -> 2769404.9
A20: Net (without HWP C storage or C seq gain, but incl avoided emissions) | B20: =B15-B12-B14 -> -4240650.1 | C20: =C15-C12-C14 -> -4111891.3 | D20: =D15-D12-D14 -> -4120971.6 | E20: =E15-E12-E14 -> -4046523.8 | F20: =F15-F12 -> -4240650.1
A21: Net (UK & import emissions only) | B21: =SUM(B6:B10)+B13 -> 2769404.9 | C21: =SUM(C6:C10)+C13 -> 2898163.7 | D21: =SUM(D6:D10)+D13 -> 2476625.3 | E21: =SUM(E6:E10)+E13 -> 2551073.1 | F21: =(1-$G$4)*B21 -> 2769404.9
A22: Net (UK & import emissions only) - change from baseline | C22: =($B$21-C21)/$B$21 -> -0.046493321 | D22: =($B$21-D21)/$B$21 -> 0.10571932 | E22: =($B$21-E21)/$B$21 -> 0.078837085 | F22: =($B$21-F21)/$B$21 -> 0
A23: Net (UK emissions only) | B23: =SUM(B6:B10) -> 2769404.9 | C23: =SUM(C6:C10) -> 2114060 | D23: =SUM(D6:D10) -> 2588166.5 | E23: =SUM(E6:E10) -> 2287980.4 | F23: =(1-G4)*B23 -> 2769404.9
A24: Net (UK emissions only) - change from baseline | C24: =($B$23-C23)/$B$21 -> 0.23663744 | D24: =($B$23-D23)/$B$21 -> 0.065443058 | E24: =($B$23-E23)/$B$21 -> 0.1738368 | F24: =($B$23-F23)/$B$21 -> 0

Sheet Cum. impacts (Scopes1-4)
A1: 30 and 50 year cumulative emissions impact (not including avoided emissions) | E1: TO DO: Start the circ&hier scenario in yr 7/8 rather than 10 - this page and the next
A3: Year | B3: No decarbonisation factors applied | F3: Decarbonisation factors applied to processing emissions and avoided emissions. Not applied to HWP C storage or C seq gains
B4: BAU | C4: cascading | D4: circular | E4: cascading&circular | F4: BAU | G4: cascading | H4: circular | I4: cascading&circular | N4: Decarbonisation factors
A5: 2020 | B5: 0 | C5: =B5 -> 0 | D5: =B5 -> 0 | E5: =B5 -> 0 | F5: 0 | G5: 0 | H5: 0 | I5: 0 | N5: 2020-2029 | O5: 2030-2039 | P5: 2040-2049 | Q5: 2050-2059 | R5: 2060-2069 | S5: Contribution of total value chain emissions in 2022
A6: 2021 | B6: =B5 -> 0 | C6: =C5 -> 0 | D6: =D5 -> 0 | E6: =E5 -> 0 | F6: 0 | G6: 0 | H6: 0 | I6: 0 | M6: Mobile Plant | N6: 0.13 | O6: 0.33 | P6: 0.67 | Q6: 1 | R6: 1 | S6: 0.035560363
A7: 2022 | B7: =B6 -> 0 | C7: =C6 -> 0 | D7: =D6 -> 0 | E7: =E6 -> 0 | F7: 0 | G7: 0 | H7: 0 | I7: 0 | M7: Timber transport | N7: 0.13 | O7: 0.33 | P7: 0.67 | Q7: 1 | R7: 1 | S7: 0.0027544379
A8: 2023 | B8: ='Year 2035 impact'!B15 -> -4240650.1 | C8: ='Year 2035 impact'!B15 -> -4240650.1 | D8: ='Year 2035 impact'!B15 -> -4240650.1 | E8: ='Year 2035 impact'!B15 -> -4240650.1 | F8: ='Year 2035 impact'!$B$19*$N$12+'Year 2035 impact'!$B$11*$N$17+'Year 2035 impact'!$B$12+'Year 2035 impact'!$B$14 -> -2588951 | G8: ='Year 2035 impact'!$B$19*$N$12+'Year 2035 impact'!$B$11*$N$17+'Year 2035 impact'!$B$12+'Year 2035 impact'!$B$14 -> -2588951 | H8: ='Year 2035 impact'!$B$19*$N$12+'Year 2035 impact'!$B$11*$N$17+'Year 2035 impact'!$B$12+'Year 2035 impact'!$B$14 -> -2588951 | I8: ='Year 2035 impact'!$B$19*$N$12+'Year 2035 impact'!$B$11*$N$17+'Year 2035 impact'!$B$12+'Year 2035 impact'!$B$14 -> -2588951 | M8: Sawmills | N8: 0.39 | O8: 0.62 | P8: 0.82 | Q8: 0.92 | R8: 1 | S8: 0.19768632
A9: 2024 | B9: =B8 -> -4240650.1 | C9: =C8 -> -4240650.1 | D9: =D8 -> -4240650.1 | E9: =E8 -> -4240650.1 | F9: ='Year 2035 impact'!$B$19*$N$12+'Year 2035 impact'!$B$11*$N$17+'Year 2035 impact'!$B$12+'Year 2035 impact'!$B$14 -> -2588951 | G9: ='Year 2035 impact'!$B$19*$N$12+'Year 2035 impact'!$B$11*$N$17+'Year 2035 impact'!$B$12+'Year 2035 impact'!$B$14 -> -2588951 | H9: ='Year 2035 impact'!$B$19*$N$12+'Year 2035 impact'!$B$11*$N$17+'Year 2035 impact'!$B$12+'Year 2035 impact'!$B$14 -> -2588951 | I9: ='Year 2035 impact'!$B$19*$N$12+'Year 2035 impact'!$B$11*$N$17+'Year 2035 impact'!$B$12+'Year 2035 impact'!$B$14 -> -2588951 | M9: Wood panels | N9: 0.25 | O9: 0.6 | P9: 0.7 | Q9: 0.79 | R9: 1 | S9: 0.72153088
A10: 2025 | B10: =B9 -> -4240650.1 | C10: =C9 -> -4240650.1 | D10: =D9 -> -4240650.1 | E10: =E9 -> -4240650.1 | F10: ='Year 2035 impact'!$B$19*$N$12+'Year 2035 impact'!$B$11*$N$17+'Year 2035 impact'!$B$12+'Year 2035 impact'!$B$14 -> -2588951 | G10: ='Year 2035 impact'!$B$19*$N$12+'Year 2035 impact'!$B$11*$N$17+'Year 2035 impact'!$B$12+'Year 2035 impact'!$B$14 -> -2588951 | H10: ='Year 2035 impact'!$B$19*$N$12+'Year 2035 impact'!$B$11*$N$17+'Year 2035 impact'!$B$12+'Year 2035 impact'!$B$14 -> -2588951 | I10: ='Year 2035 impact'!$B$19*$N$12+'Year 2035 impact'!$B$11*$N$17+'Year 2035 impact'!$B$12+'Year 2035 impact'!$B$14 -> -2588951 | M10: Wood fuel | N10: 0.39 | O10: 0.62 | P10: 0.82 | Q10: 0.92 | R10: 1 | S10: 0.042468002
A11: 2026 | B11: =B10 -> -4240650.1 | C11: =C10 -> -4240650.1 | D11: =D10 -> -4240650.1 | E11: =E10 -> -4240650.1 | F11: ='Year 2035 impact'!$B$19*$N$12+'Year 2035 impact'!$B$11*$N$17+'Year 2035 impact'!$B$12+'Year 2035 impact'!$B$14 -> -2588951 | G11: ='Year 2035 impact'!$B$19*$N$12+'Year 2035 impact'!$B$11*$N$17+'Year 2035 impact'!$B$12+'Year 2035 impact'!$B$14 -> -2588951 | H11: ='Year 2035 impact'!$B$19*$N$12+'Year 2035 impact'!$B$11*$N$17+'Year 2035 impact'!$B$12+'Year 2035 impact'!$B$14 -> -2588951 | I11: ='Year 2035 impact'!$B$19*$N$12+'Year 2035 impact'!$B$11*$N$17+'Year 2035 impact'!$B$12+'Year 2035 impact'!$B$14 -> -2588951 | M11: Absolute contribution to sector decarbonisation | N11: =$S6*N6+$S7*N7+$S8*N8+$S9*N9+$S10*N10 -> 0.27902383 | O11: =$S6*O6+$S7*O7+$S8*O8+$S9*O9+$S10*O10 -> 0.59445809 | P11: =$S6*P6+$S7*P7+$S8*P8+$S9*P9+$S10*P10 -> 0.72766907 | Q11: =$S6*Q6+$S7*Q7+$S8*Q8+$S9*Q9+$S10*Q10 -> 0.82926617 | R11: =$S6*R6+$S7*R7+$S8*R8+$S9*R9+$S10*R10 -> 1
A12: 2027 | B12: =B11 -> -4240650.1 | C12: =C11 -> -4240650.1 | D12: =D11 -> -4240650.1 | E12: =E11 -> -4240650.1 | F12: ='Year 2035 impact'!$B$19*$N$12+'Year 2035 impact'!$B$11*$N$17+'Year 2035 impact'!$B$12+'Year 2035 impact'!$B$14 -> -2588951 | G12: ='Year 2035 impact'!$B$19*$N$12+'Year 2035 impact'!$B$11*$N$17+'Year 2035 impact'!$B$12+'Year 2035 impact'!$B$14 -> -2588951 | H12: ='Year 2035 impact'!$B$19*$N$12+'Year 2035 impact'!$B$11*$N$17+'Year 2035 impact'!$B$12+'Year 2035 impact'!$B$14 -> -2588951 | I12: ='Year 2035 impact'!$B$19*$N$12+'Year 2035 impact'!$B$11*$N$17+'Year 2035 impact'!$B$12+'Year 2035 impact'!$B$14 -> -2588951 | M12: Remaining emissions | N12: =1-N11 -> 0.72097617 | O12: =1-O11 -> 0.40554191 | P12: =1-P11 -> 0.27233093 | Q12: =1-Q11 -> 0.17073383 | R12: =1-R11 -> 0
A13: 2028 | B13: =B12 -> -4240650.1 | C13: =C12 -> -4240650.1 | D13: =D12 -> -4240650.1 | E13: =E12 -> -4240650.1 | F13: ='Year 2035 impact'!$B$19*$N$12+'Year 2035 impact'!$B$11*$N$17+'Year 2035 impact'!$B$12+'Year 2035 impact'!$B$14 -> -2588951 | G13: ='Year 2035 impact'!$B$19*$N$12+'Year 2035 impact'!$B$11*$N$17+'Year 2035 impact'!$B$12+'Year 2035 impact'!$B$14 -> -2588951 | H13: ='Year 2035 impact'!$B$19*$N$12+'Year 2035 impact'!$B$11*$N$17+'Year 2035 impact'!$B$12+'Year 2035 impact'!$B$14 -> -2588951 | I13: ='Year 2035 impact'!$B$19*$N$12+'Year 2035 impact'!$B$11*$N$17+'Year 2035 impact'!$B$12+'Year 2035 impact'!$B$14 -> -2588951 | S13: Contribution of total avoided emissions in 2022
A14: 2029 | B14: =B13 -> -4240650.1 | C14: =C13 -> -4240650.1 | D14: =D13 -> -4240650.1 | E14: =E13 -> -4240650.1 | F14: ='Year 2035 impact'!$B$19*$N$12+'Year 2035 impact'!$B$11*$N$17+'Year 2035 impact'!$B$12+'Year 2035 impact'!$B$14 -> -2588951 | G14: ='Year 2035 impact'!$B$19*$N$12+'Year 2035 impact'!$B$11*$N$17+'Year 2035 impact'!$B$12+'Year 2035 impact'!$B$14 -> -2588951 | H14: ='Year 2035 impact'!$B$19*$N$12+'Year 2035 impact'!$B$11*$N$17+'Year 2035 impact'!$B$12+'Year 2035 impact'!$B$14 -> -2588951 | I14: ='Year 2035 impact'!$B$19*$N$12+'Year 2035 impact'!$B$11*$N$17+'Year 2035 impact'!$B$12+'Year 2035 impact'!$B$14 -> -2588951 | M14: Electricity | N14: 0.5 | O14: 0.77 | P14: 0.95 | Q14: 1 | R14: 1 | S14: 0.65744494
A15: 2030 | B15: =B14 -> -4240650.1 | C15: =C14 -> -4240650.1 | D15: =D14 -> -4240650.1 | E15: =E14 -> -4240650.1 | F15: ='Year 2035 impact'!$B$19*$O$12+'Year 2035 impact'!$B$11*$O$17+'Year 2035 impact'!$B$12+'Year 2035 impact'!$B$14 -> -2098093.9 | G15: ='Year 2035 impact'!$B$19*$O$12+'Year 2035 impact'!$B$11*$O$17+'Year 2035 impact'!$B$12+'Year 2035 impact'!$B$14 -> -2098093.9 | H15: ='Year 2035 impact'!$B$19*$O$12+'Year 2035 impact'!$B$11*$O$17+'Year 2035 impact'!$B$12+'Year 2035 impact'!$B$14 -> -2098093.9 | I15: ='Year 2035 impact'!$B$19*$O$12+'Year 2035 impact'!$B$11*$O$17+'Year 2035 impact'!$B$12+'Year 2035 impact'!$B$14 -> -2098093.9 | M15: Concrete | N15: 0.05 | O15: 0.1 | P15: 0.2 | Q15: 0.3 | R15: 0.5 | S15: 0.34255506
A16: 2031 | B16: =B15 -> -4240650.1 | C16: =C15 -> -4240650.1 | D16: =D15 -> -4240650.1 | E16: =E15 -> -4240650.1 | F16: ='Year 2035 impact'!$B$19*$O$12+'Year 2035 impact'!$B$11*$O$17+'Year 2035 impact'!$B$12+'Year 2035 impact'!$B$14 -> -2098093.9 | G16: ='Year 2035 impact'!$B$19*$O$12+'Year 2035 impact'!$B$11*$O$17+'Year 2035 impact'!$B$12+'Year 2035 impact'!$B$14 -> -2098093.9 | H16: ='Year 2035 impact'!$B$19*$O$12+'Year 2035 impact'!$B$11*$O$17+'Year 2035 impact'!$B$12+'Year 2035 impact'!$B$14 -> -2098093.9 | I16: ='Year 2035 impact'!$B$19*$O$12+'Year 2035 impact'!$B$11*$O$17+'Year 2035 impact'!$B$12+'Year 2035 impact'!$B$14 -> -2098093.9 | M16: Absolute contribution to avoided emissions reduction | N16: =$S14*N14+$S15*N15 -> 0.34585022 | O16: =$S14*O14+$S15*O15 -> 0.54048811 | P16: =$S14*P14+$S15*P15 -> 0.69308371 | Q16: =$S14*Q14+$S15*Q15 -> 0.76021146 | R16: =$S14*R14+$S15*R15 -> 0.82872247
A17: 2032 | B17: =B16 -> -4240650.1 | C17: =C16 -> -4240650.1 | D17: =D16 -> -4240650.1 | E17: =E16 -> -4240650.1 | F17: ='Year 2035 impact'!$B$19*$O$12+'Year 2035 impact'!$B$11*$O$17+'Year 2035 impact'!$B$12+'Year 2035 impact'!$B$14 -> -2098093.9 | G17: ='Year 2035 impact'!$B$19*$O$12+'Year 2035 impact'!$B$11*$O$17+'Year 2035 impact'!$B$12+'Year 2035 impact'!$B$14 -> -2098093.9 | H17: ='Year 2035 impact'!$B$19*$O$12+'Year 2035 impact'!$B$11*$O$17+'Year 2035 impact'!$B$12+'Year 2035 impact'!$B$14 -> -2098093.9 | I17: ='Year 2035 impact'!$B$19*$O$12+'Year 2035 impact'!$B$11*$O$17+'Year 2035 impact'!$B$12+'Year 2035 impact'!$B$14 -> -2098093.9 | M17: Remaining avoided emissions | N17: =1-N16 -> 0.65414978 | O17: =1-O16 -> 0.45951189 | P17: =1-P16 -> 0.30691629 | Q17: =1-Q16 -> 0.23978854 | R17: =1-R16 -> 0.17127753
A18: 2033 | B18: =B17 -> -4240650.1 | C18: ='Year 2035 impact'!C15 -> -4307089.7 | D18: ='Year 2035 impact'!D15 -> -5957745.8 | E18: ='Year 2035 impact'!E15 -> -5970658.3 | F18: ='Year 2035 impact'!$B$19*$O$12+'Year 2035 impact'!$B$11*$O$17+'Year 2035 impact'!$B$12+'Year 2035 impact'!$B$14 -> -2098093.9 | G18: ='Year 2035 impact'!$C$19*$O$12+'Year 2035 impact'!$C$11*$O$17+'Year 2035 impact'!$C$12+'Year 2035 impact'!$C$14 -> -2241075.2 | H18: ='Year 2035 impact'!$D$19*$O$12+'Year 2035 impact'!$D$11*$O$17+'Year 2035 impact'!$D$12+'Year 2035 impact'!$D$14 -> -3864073.1 | I18: ='Year 2035 impact'!$E$19*$O$12+'Year 2035 impact'!$E$11*$O$17+'Year 2035 impact'!$E$12+'Year 2035 impact'!$E$14 -> -3921241.7
A19: 2034 | B19: =B18 -> -4240650.1 | C19: =C18 -> -4307089.7 | D19: =D18 -> -5957745.8 | E19: =E18 -> -5970658.3 | F19: ='Year 2035 impact'!$B$19*$O$12+'Year 2035 impact'!$B$11*$O$17+'Year 2035 impact'!$B$12+'Year 2035 impact'!$B$14 -> -2098093.9 | G19: ='Year 2035 impact'!$C$19*$O$12+'Year 2035 impact'!$C$11*$O$17+'Year 2035 impact'!$C$12+'Year 2035 impact'!$C$14 -> -2241075.2 | H19: ='Year 2035 impact'!$D$19*$O$12+'Year 2035 impact'!$D$11*$O$17+'Year 2035 impact'!$D$12+'Year 2035 impact'!$D$14 -> -3864073.1 | I19: ='Year 2035 impact'!$E$19*$O$12+'Year 2035 impact'!$E$11*$O$17+'Year 2035 impact'!$E$12+'Year 2035 impact'!$E$14 -> -3921241.7
A20: 2035 | B20: =B19 -> -4240650.1 | C20: =C19 -> -4307089.7 | D20: =D19 -> -5957745.8 | E20: =E19 -> -5970658.3 | F20: ='Year 2035 impact'!$B$19*$O$12+'Year 2035 impact'!$B$11*$O$17+'Year 2035 impact'!$B$12+'Year 2035 impact'!$B$14 -> -2098093.9 | G20: ='Year 2035 impact'!$C$19*$O$12+'Year 2035 impact'!$C$11*$O$17+'Year 2035 impact'!$C$12+'Year 2035 impact'!$C$14 -> -2241075.2 | H20: ='Year 2035 impact'!$D$19*$O$12+'Year 2035 impact'!$D$11*$O$17+'Year 2035 impact'!$D$12+'Year 2035 impact'!$D$14 -> -3864073.1 | I20: ='Year 2035 impact'!$E$19*$O$12+'Year 2035 impact'!$E$11*$O$17+'Year 2035 impact'!$E$12+'Year 2035 impact'!$E$14 -> -3921241.7
A21: 2036 | B21: =B20 -> -4240650.1 | C21: =C20 -> -4307089.7 | D21: =D20 -> -5957745.8 | E21: =E20 -> -5970658.3 | F21: ='Year 2035 impact'!$B$19*$O$12+'Year 2035 impact'!$B$11*$O$17+'Year 2035 impact'!$B$12+'Year 2035 impact'!$B$14 -> -2098093.9 | G21: ='Year 2035 impact'!$C$19*$O$12+'Year 2035 impact'!$C$11*$O$17+'Year 2035 impact'!$C$12+'Year 2035 impact'!$C$14 -> -2241075.2 | H21: ='Year 2035 impact'!$D$19*$O$12+'Year 2035 impact'!$D$11*$O$17+'Year 2035 impact'!$D$12+'Year 2035 impact'!$D$14 -> -3864073.1 | I21: ='Year 2035 impact'!$E$19*$O$12+'Year 2035 impact'!$E$11*$O$17+'Year 2035 impact'!$E$12+'Year 2035 impact'!$E$14 -> -3921241.7
A22: 2037 | B22: =B21 -> -4240650.1 | C22: =C21 -> -4307089.7 | D22: =D21 -> -5957745.8 | E22: =E21 -> -5970658.3 | F22: ='Year 2035 impact'!$B$19*$O$12+'Year 2035 impact'!$B$11*$O$17+'Year 2035 impact'!$B$12+'Year 2035 impact'!$B$14 -> -2098093.9 | G22: ='Year 2035 impact'!$C$19*$O$12+'Year 2035 impact'!$C$11*$O$17+'Year 2035 impact'!$C$12+'Year 2035 impact'!$C$14 -> -2241075.2 | H22: ='Year 2035 impact'!$D$19*$O$12+'Year 2035 impact'!$D$11*$O$17+'Year 2035 impact'!$D$12+'Year 2035 impact'!$D$14 -> -3864073.1 | I22: ='Year 2035 impact'!$E$19*$O$12+'Year 2035 impact'!$E$11*$O$17+'Year 2035 impact'!$E$12+'Year 2035 impact'!$E$14 -> -3921241.7
A23: 2038 | B23: =B22 -> -4240650.1 | C23: =C22 -> -4307089.7 | D23: =D22 -> -5957745.8 | E23: =E22 -> -5970658.3 | F23: ='Year 2035 impact'!$B$19*$O$12+'Year 2035 impact'!$B$11*$O$17+'Year 2035 impact'!$B$12+'Year 2035 impact'!$B$14 -> -2098093.9 | G23: ='Year 2035 impact'!$C$19*$O$12+'Year 2035 impact'!$C$11*$O$17+'Year 2035 impact'!$C$12+'Year 2035 impact'!$C$14 -> -2241075.2 | H23: ='Year 2035 impact'!$D$19*$O$12+'Year 2035 impact'!$D$11*$O$17+'Year 2035 impact'!$D$12+'Year 2035 impact'!$D$14 -> -3864073.1 | I23: ='Year 2035 impact'!$E$19*$O$12+'Year 2035 impact'!$E$11*$O$17+'Year 2035 impact'!$E$12+'Year 2035 impact'!$E$14 -> -3921241.7
A24: 2039 | B24: =B23 -> -4240650.1 | C24: =C23 -> -4307089.7 | D24: =D23 -> -5957745.8 | E24: =E23 -> -5970658.3 | F24: ='Year 2035 impact'!$B$19*$O$12+'Year 2035 impact'!$B$11*$O$17+'Year 2035 impact'!$B$12+'Year 2035 impact'!$B$14 -> -2098093.9 | G24: ='Year 2035 impact'!$C$19*$O$12+'Year 2035 impact'!$C$11*$O$17+'Year 2035 impact'!$C$12+'Year 2035 impact'!$C$14 -> -2241075.2 | H24: ='Year 2035 impact'!$D$19*$O$12+'Year 2035 impact'!$D$11*$O$17+'Year 2035 impact'!$D$12+'Year 2035 impact'!$D$14 -> -3864073.1 | I24: ='Year 2035 impact'!$E$19*$O$12+'Year 2035 impact'!$E$11*$O$17+'Year 2035 impact'!$E$12+'Year 2035 impact'!$E$14 -> -3921241.7
A25: 2040 | B25: =B24 -> -4240650.1 | C25: =C24 -> -4307089.7 | D25: =D24 -> -5957745.8 | E25: =E24 -> -5970658.3 | F25: ='Year 2035 impact'!$B$19*$P$12+'Year 2035 impact'!$B$11*$P$17+'Year 2035 impact'!$B$12+'Year 2035 impact'!$B$14 -> -1397305.5 | G25: ='Year 2035 impact'!$C$19*$P$12+'Year 2035 impact'!$C$11*$P$17+'Year 2035 impact'!$C$12+'Year 2035 impact'!$C$14 -> -1557438.9 | H25: ='Year 2035 impact'!$D$19*$P$12+'Year 2035 impact'!$D$11*$P$17+'Year 2035 impact'!$D$12+'Year 2035 impact'!$D$14 -> -3187222.6 | I25: ='Year 2035 impact'!$E$19*$P$12+'Year 2035 impact'!$E$11*$P$17+'Year 2035 impact'!$E$12+'Year 2035 impact'!$E$14 -> -3254308.4
A26: 2041 | B26: =B25 -> -4240650.1 | C26: =C25 -> -4307089.7 | D26: =D25 -> -5957745.8 | E26: =E25 -> -5970658.3 | F26: ='Year 2035 impact'!$B$19*$P$12+'Year 2035 impact'!$B$11*$P$17+'Year 2035 impact'!$B$12+'Year 2035 impact'!$B$14 -> -1397305.5 | G26: ='Year 2035 impact'!$C$19*$P$12+'Year 2035 impact'!$C$11*$P$17+'Year 2035 impact'!$C$12+'Year 2035 impact'!$C$14 -> -1557438.9 | H26: ='Year 2035 impact'!$D$19*$P$12+'Year 2035 impact'!$D$11*$P$17+'Year 2035 impact'!$D$12+'Year 2035 impact'!$D$14 -> -3187222.6 | I26: ='Year 2035 impact'!$E$19*$P$12+'Year 2035 impact'!$E$11*$P$17+'Year 2035 impact'!$E$12+'Year 2035 impact'!$E$14 -> -3254308.4
A27: 2042 | B27: =B26 -> -4240650.1 | C27: =C26 -> -4307089.7 | D27: =D26 -> -5957745.8 | E27: =E26 -> -5970658.3 | F27: ='Year 2035 impact'!$B$19*$P$12+'Year 2035 impact'!$B$11*$P$17+'Year 2035 impact'!$B$12+'Year 2035 impact'!$B$14 -> -1397305.5 | G27: ='Year 2035 impact'!$C$19*$P$12+'Year 2035 impact'!$C$11*$P$17+'Year 2035 impact'!$C$12+'Year 2035 impact'!$C$14 -> -1557438.9 | H27: ='Year 2035 impact'!$D$19*$P$12+'Year 2035 impact'!$D$11*$P$17+'Year 2035 impact'!$D$12+'Year 2035 impact'!$D$14 -> -3187222.6 | I27: ='Year 2035 impact'!$E$19*$P$12+'Year 2035 impact'!$E$11*$P$17+'Year 2035 impact'!$E$12+'Year 2035 impact'!$E$14 -> -3254308.4
A28: 2043 | B28: =B27 -> -4240650.1 | C28: =C27 -> -4307089.7 | D28: =D27 -> -5957745.8 | E28: =E27 -> -5970658.3 | F28: ='Year 2035 impact'!$B$19*$P$12+'Year 2035 impact'!$B$11*$P$17+'Year 2035 impact'!$B$12+'Year 2035 impact'!$B$14 -> -1397305.5 | G28: ='Year 2035 impact'!$C$19*$P$12+'Year 2035 impact'!$C$11*$P$17+'Year 2035 impact'!$C$12+'Year 2035 impact'!$C$14 -> -1557438.9 | H28: ='Year 2035 impact'!$D$19*$P$12+'Year 2035 impact'!$D$11*$P$17+'Year 2035 impact'!$D$12+'Year 2035 impact'!$D$14 -> -3187222.6 | I28: ='Year 2035 impact'!$E$19*$P$12+'Year 2035 impact'!$E$11*$P$17+'Year 2035 impact'!$E$12+'Year 2035 impact'!$E$14 -> -3254308.4
A29: 2044 | B29: =B28 -> -4240650.1 | C29: =C28 -> -4307089.7 | D29: =D28 -> -5957745.8 | E29: =E28 -> -5970658.3 | F29: ='Year 2035 impact'!$B$19*$P$12+'Year 2035 impact'!$B$11*$P$17+'Year 2035 impact'!$B$12+'Year 2035 impact'!$B$14 -> -1397305.5 | G29: ='Year 2035 impact'!$C$19*$P$12+'Year 2035 impact'!$C$11*$P$17+'Year 2035 impact'!$C$12+'Year 2035 impact'!$C$14 -> -1557438.9 | H29: ='Year 2035 impact'!$D$19*$P$12+'Year 2035 impact'!$D$11*$P$17+'Year 2035 impact'!$D$12+'Year 2035 impact'!$D$14 -> -3187222.6 | I29: ='Year 2035 impact'!$E$19*$P$12+'Year 2035 impact'!$E$11*$P$17+'Year 2035 impact'!$E$12+'Year 2035 impact'!$E$14 -> -3254308.4
A30: 2045 | B30: =B29 -> -4240650.1 | C30: =C29 -> -4307089.7 | D30: =D29 -> -5957745.8 | E30: =E29 -> -5970658.3 | F30: ='Year 2035 impact'!$B$19*$P$12+'Year 2035 impact'!$B$11*$P$17+'Year 2035 impact'!$B$12+'Year 2035 impact'!$B$14 -> -1397305.5 | G30: ='Year 2035 impact'!$C$19*$P$12+'Year 2035 impact'!$C$11*$P$17+'Year 2035 impact'!$C$12+'Year 2035 impact'!$C$14 -> -1557438.9 | H30: ='Year 2035 impact'!$D$19*$P$12+'Year 2035 impact'!$D$11*$P$17+'Year 2035 impact'!$D$12+'Year 2035 impact'!$D$14 -> -3187222.6 | I30: ='Year 2035 impact'!$E$19*$P$12+'Year 2035 impact'!$E$11*$P$17+'Year 2035 impact'!$E$12+'Year 2035 impact'!$E$14 -> -3254308.4
A31: 2046 | B31: =B30 -> -4240650.1 | C31: =C30 -> -4307089.7 | D31: =D30 -> -5957745.8 | E31: =E30 -> -5970658.3 | F31: ='Year 2035 impact'!$B$19*$P$12+'Year 2035 impact'!$B$11*$P$17+'Year 2035 impact'!$B$12+'Year 2035 impact'!$B$14 -> -1397305.5 | G31: ='Year 2035 impact'!$C$19*$P$12+'Year 2035 impact'!$C$11*$P$17+'Year 2035 impact'!$C$12+'Year 2035 impact'!$C$14 -> -1557438.9 | H31: ='Year 2035 impact'!$D$19*$P$12+'Year 2035 impact'!$D$11*$P$17+'Year 2035 impact'!$D$12+'Year 2035 impact'!$D$14 -> -3187222.6 | I31: ='Year 2035 impact'!$E$19*$P$12+'Year 2035 impact'!$E$11*$P$17+'Year 2035 impact'!$E$12+'Year 2035 impact'!$E$14 -> -3254308.4
A32: 2047 | B32: =B31 -> -4240650.1 | C32: =C31 -> -4307089.7 | D32: =D31 -> -5957745.8 | E32: =E31 -> -5970658.3 | F32: ='Year 2035 impact'!$B$19*$P$12+'Year 2035 impact'!$B$11*$P$17+'Year 2035 impact'!$B$12+'Year 2035 impact'!$B$14 -> -1397305.5 | G32: ='Year 2035 impact'!$C$19*$P$12+'Year 2035 impact'!$C$11*$P$17+'Year 2035 impact'!$C$12+'Year 2035 impact'!$C$14 -> -1557438.9 | H32: ='Year 2035 impact'!$D$19*$P$12+'Year 2035 impact'!$D$11*$P$17+'Year 2035 impact'!$D$12+'Year 2035 impact'!$D$14 -> -3187222.6 | I32: ='Year 2035 impact'!$E$19*$P$12+'Year 2035 impact'!$E$11*$P$17+'Year 2035 impact'!$E$12+'Year 2035 impact'!$E$14 -> -3254308.4
A33: 2048 | B33: =B32 -> -4240650.1 | C33: =C32 -> -4307089.7 | D33: =D32 -> -5957745.8 | E33: =E32 -> -5970658.3 | F33: ='Year 2035 impact'!$B$19*$P$12+'Year 2035 impact'!$B$11*$P$17+'Year 2035 impact'!$B$12+'Year 2035 impact'!$B$14 -> -1397305.5 | G33: ='Year 2035 impact'!$C$19*$P$12+'Year 2035 impact'!$C$11*$P$17+'Year 2035 impact'!$C$12+'Year 2035 impact'!$C$14 -> -1557438.9 | H33: ='Year 2035 impact'!$D$19*$P$12+'Year 2035 impact'!$D$11*$P$17+'Year 2035 impact'!$D$12+'Year 2035 impact'!$D$14 -> -3187222.6 | I33: ='Year 2035 impact'!$E$19*$P$12+'Year 2035 impact'!$E$11*$P$17+'Year 2035 impact'!$E$12+'Year 2035 impact'!$E$14 -> -3254308.4
A34: 2049 | B34: =B33 -> -4240650.1 | C34: =C33 -> -4307089.7 | D34: =D33 -> -5957745.8 | E34: =E33 -> -5970658.3 | F34: ='Year 2035 impact'!$B$19*$P$12+'Year 2035 impact'!$B$11*$P$17+'Year 2035 impact'!$B$12+'Year 2035 impact'!$B$14 -> -1397305.5 | G34: ='Year 2035 impact'!$C$19*$P$12+'Year 2035 impact'!$C$11*$P$17+'Year 2035 impact'!$C$12+'Year 2035 impact'!$C$14 -> -1557438.9 | H34: ='Year 2035 impact'!$D$19*$P$12+'Year 2035 impact'!$D$11*$P$17+'Year 2035 impact'!$D$12+'Year 2035 impact'!$D$14 -> -3187222.6 | I34: ='Year 2035 impact'!$E$19*$P$12+'Year 2035 impact'!$E$11*$P$17+'Year 2035 impact'!$E$12+'Year 2035 impact'!$E$14 -> -3254308.4
A35: 2050 | B35: =B34 -> -4240650.1 | C35: =C34 -> -4307089.7 | D35: =D34 -> -5957745.8 | E35: =E34 -> -5970658.3 | F35: ='Year 2035 impact'!$B$19*$Q$12+'Year 2035 impact'!$B$11*$Q$17+'Year 2035 impact'!$B$12+'Year 2035 impact'!$B$14 -> -1208099.8 | G35: ='Year 2035 impact'!$C$19*$Q$12+'Year 2035 impact'!$C$11*$Q$17+'Year 2035 impact'!$C$12+'Year 2035 impact'!$C$14 -> -1381314.7 | H35: ='Year 2035 impact'!$D$19*$Q$12+'Year 2035 impact'!$D$11*$Q$17+'Year 2035 impact'!$D$12+'Year 2035 impact'!$D$14 -> -2995958.7 | I35: ='Year 2035 impact'!$E$19*$Q$12+'Year 2035 impact'!$E$11*$Q$17+'Year 2035 impact'!$E$12+'Year 2035 impact'!$E$14 -> -3070608.2 | J35: =AVERAGE(I16:I35) -> -3362928.6
A36: 2051 | B36: =B35 -> -4240650.1 | C36: =C35 -> -4307089.7 | D36: =D35 -> -5957745.8 | E36: =E35 -> -5970658.3 | F36: ='Year 2035 impact'!$B$19*$Q$12+'Year 2035 impact'!$B$11*$Q$17+'Year 2035 impact'!$B$12+'Year 2035 impact'!$B$14 -> -1208099.8 | G36: ='Year 2035 impact'!$C$19*$Q$12+'Year 2035 impact'!$C$11*$Q$17+'Year 2035 impact'!$C$12+'Year 2035 impact'!$C$14 -> -1381314.7 | H36: ='Year 2035 impact'!$D$19*$Q$12+'Year 2035 impact'!$D$11*$Q$17+'Year 2035 impact'!$D$12+'Year 2035 impact'!$D$14 -> -2995958.7 | I36: ='Year 2035 impact'!$E$19*$Q$12+'Year 2035 impact'!$E$11*$Q$17+'Year 2035 impact'!$E$12+'Year 2035 impact'!$E$14 -> -3070608.2
A37: 2052 | B37: =B36 -> -4240650.1 | C37: =C36 -> -4307089.7 | D37: =D36 -> -5957745.8 | E37: =E36 -> -5970658.3 | F37: ='Year 2035 impact'!$B$19*$Q$12+'Year 2035 impact'!$B$11*$Q$17+'Year 2035 impact'!$B$12+'Year 2035 impact'!$B$14 -> -1208099.8 | G37: ='Year 2035 impact'!$C$19*$Q$12+'Year 2035 impact'!$C$11*$Q$17+'Year 2035 impact'!$C$12+'Year 2035 impact'!$C$14 -> -1381314.7 | H37: ='Year 2035 impact'!$D$19*$Q$12+'Year 2035 impact'!$D$11*$Q$17+'Year 2035 impact'!$D$12+'Year 2035 impact'!$D$14 -> -2995958.7 | I37: ='Year 2035 impact'!$E$19*$Q$12+'Year 2035 impact'!$E$11*$Q$17+'Year 2035 impact'!$E$12+'Year 2035 impact'!$E$14 -> -3070608.2
A38: 2053 | B38: =B37 -> -4240650.1 | C38: =C37 -> -4307089.7 | D38: =D37 -> -5957745.8 | E38: =E37 -> -5970658.3 | F38: ='Year 2035 impact'!$B$19*$Q$12+'Year 2035 impact'!$B$11*$Q$17+'Year 2035 impact'!$B$12+'Year 2035 impact'!$B$14 -> -1208099.8 | G38: ='Year 2035 impact'!$C$19*$Q$12+'Year 2035 impact'!$C$11*$Q$17+'Year 2035 impact'!$C$12+'Year 2035 impact'!$C$14 -> -1381314.7 | H38: ='Year 2035 impact'!$D$19*$Q$12+'Year 2035 impact'!$D$11*$Q$17+'Year 2035 impact'!$D$12+'Year 2035 impact'!$D$14 -> -2995958.7 | I38: ='Year 2035 impact'!$E$19*$Q$12+'Year 2035 impact'!$E$11*$Q$17+'Year 2035 impact'!$E$12+'Year 2035 impact'!$E$14 -> -3070608.2
A39: 2054 | B39: =B38 -> -4240650.1 | C39: =C38 -> -4307089.7 | D39: =D38 -> -5957745.8 | E39: =E38 -> -5970658.3 | F39: ='Year 2035 impact'!$B$19*$Q$12+'Year 2035 impact'!$B$11*$Q$17+'Year 2035 impact'!$B$12+'Year 2035 impact'!$B$14 -> -1208099.8 | G39: ='Year 2035 impact'!$C$19*$Q$12+'Year 2035 impact'!$C$11*$Q$17+'Year 2035 impact'!$C$12+'Year 2035 impact'!$C$14 -> -1381314.7 | H39: ='Year 2035 impact'!$D$19*$Q$12+'Year 2035 impact'!$D$11*$Q$17+'Year 2035 impact'!$D$12+'Year 2035 impact'!$D$14 -> -2995958.7 | I39: ='Year 2035 impact'!$E$19*$Q$12+'Year 2035 impact'!$E$11*$Q$17+'Year 2035 impact'!$E$12+'Year 2035 impact'!$E$14 -> -3070608.2
A40: 2055 | B40: =B39 -> -4240650.1 | C40: =C39 -> -4307089.7 | D40: =D39 -> -5957745.8 | E40: =E39 -> -5970658.3 | F40: ='Year 2035 impact'!$B$19*$Q$12+'Year 2035 impact'!$B$11*$Q$17+'Year 2035 impact'!$B$12+'Year 2035 impact'!$B$14 -> -1208099.8 | G40: ='Year 2035 impact'!$C$19*$Q$12+'Year 2035 impact'!$C$11*$Q$17+'Year 2035 impact'!$C$12+'Year 2035 impact'!$C$14 -> -1381314.7 | H40: ='Year 2035 impact'!$D$19*$Q$12+'Year 2035 impact'!$D$11*$Q$17+'Year 2035 impact'!$D$12+'Year 2035 impact'!$D$14 -> -2995958.7 | I40: ='Year 2035 impact'!$E$19*$Q$12+'Year 2035 impact'!$E$11*$Q$17+'Year 2035 impact'!$E$12+'Year 2035 impact'!$E$14 -> -3070608.2
A41: 2056 | B41: =B40 -> -4240650.1 | C41: =C40 -> -4307089.7 | D41: =D40 -> -5957745.8 | E41: =E40 -> -5970658.3 | F41: ='Year 2035 impact'!$B$19*$Q$12+'Year 2035 impact'!$B$11*$Q$17+'Year 2035 impact'!$B$12+'Year 2035 impact'!$B$14 -> -1208099.8 | G41: ='Year 2035 impact'!$C$19*$Q$12+'Year 2035 impact'!$C$11*$Q$17+'Year 2035 impact'!$C$12+'Year 2035 impact'!$C$14 -> -1381314.7 | H41: ='Year 2035 impact'!$D$19*$Q$12+'Year 2035 impact'!$D$11*$Q$17+'Year 2035 impact'!$D$12+'Year 2035 impact'!$D$14 -> -2995958.7 | I41: ='Year 2035 impact'!$E$19*$Q$12+'Year 2035 impact'!$E$11*$Q$17+'Year 2035 impact'!$E$12+'Year 2035 impact'!$E$14 -> -3070608.2
...

Sheet Cum. impacts (Scopes1-3)
A1: 30 and 50 year cumulative emissions impact (not including avoided emissions)
A3: Year | B3: No decarbonisation factors applied | F3: Decarbonisation factors applied to processing emissions and avoided emissions. Not applied to HWP C storage or C seq gains
B4: BAU | C4: cascading | D4: circular | E4: cascading&circular | F4: BAU | G4: cascading | H4: circular | I4: cascading&circular | N4: Decarbonisation factors
A5: 2020 | B5: 0 | C5: =B5 -> 0 | D5: =B5 -> 0 | E5: =B5 -> 0 | F5: 0 | G5: 0 | H5: 0 | I5: 0 | N5: 2020-2029 | O5: 2030-2039 | P5: 2040-2049 | Q5: 2050-2059 | R5: 2060-2069 | S5: Contribution of total value chain emissions in 2022
A6: 2021 | B6: =B5 -> 0 | C6: =C5 -> 0 | D6: =D5 -> 0 | E6: =E5 -> 0 | F6: 0 | G6: 0 | H6: 0 | I6: 0 | M6: Mobile Plant | N6: 0.13 | O6: 0.33 | P6: 0.67 | Q6: 1 | R6: 1 | S6: 0.035560363 | U6: =S6*$F$115 -> 3295875
A7: 2022 | B7: =B6 -> 0 | C7: =C6 -> 0 | D7: =D6 -> 0 | E7: =E6 -> 0 | F7: 0 | G7: 0 | H7: 0 | I7: 0 | M7: Timber transport | N7: 0.13 | O7: 0.33 | P7: 0.67 | Q7: 1 | R7: 1 | S7: 0.0027544379
A8: 2023 | B8: ='Year 2035 impact'!B18 -> 2769404.9 | C8: ='Year 2035 impact'!B18 -> 2769404.9 | D8: ='Year 2035 impact'!B18 -> 2769404.9 | E8: ='Year 2035 impact'!B18 -> 2769404.9 | F8: ='Year 2035 impact'!$B$19*$N$12+'Year 2035 impact'!$B$12 -> 1996674.9 | G8: ='Year 2035 impact'!$B$19*$N$12+'Year 2035 impact'!$B$12 -> 1996674.9 | H8: ='Year 2035 impact'!$B$19*$N$12+'Year 2035 impact'!$B$12 -> 1996674.9 | I8: ='Year 2035 impact'!$B$19*$N$12+'Year 2035 impact'!$B$12 -> 1996674.9 | M8: Sawmills | N8: 0.39 | O8: 0.62 | P8: 0.82 | Q8: 0.92 | R8: 1 | S8: 0.19768632
A9: 2024 | B9: =B8 -> 2769404.9 | C9: =C8 -> 2769404.9 | D9: =D8 -> 2769404.9 | E9: =E8 -> 2769404.9 | F9: ='Year 2035 impact'!$B$19*$N$12+'Year 2035 impact'!$B$12 -> 1996674.9 | G9: ='Year 2035 impact'!$B$19*$N$12+'Year 2035 impact'!$B$12 -> 1996674.9 | H9: ='Year 2035 impact'!$B$19*$N$12+'Year 2035 impact'!$B$12 -> 1996674.9 | I9: ='Year 2035 impact'!$B$19*$N$12+'Year 2035 impact'!$B$12 -> 1996674.9 | M9: Wood panels | N9: 0.25 | O9: 0.6 | P9: 0.7 | Q9: 0.79 | R9: 1 | S9: 0.72153088
A10: 2025 | B10: =B9 -> 2769404.9 | C10: =C9 -> 2769404.9 | D10: =D9 -> 2769404.9 | E10: =E9 -> 2769404.9 | F10: ='Year 2035 impact'!$B$19*$N$12+'Year 2035 impact'!$B$12 -> 1996674.9 | G10: ='Year 2035 impact'!$B$19*$N$12+'Year 2035 impact'!$B$12 -> 1996674.9 | H10: ='Year 2035 impact'!$B$19*$N$12+'Year 2035 impact'!$B$12 -> 1996674.9 | I10: ='Year 2035 impact'!$B$19*$N$12+'Year 2035 impact'!$B$12 -> 1996674.9 | M10: Wood fuel | N10: 0.39 | O10: 0.62 | P10: 0.82 | Q10: 0.92 | R10: 1 | S10: 0.042468002
A11: 2026 | B11: =B10 -> 2769404.9 | C11: =C10 -> 2769404.9 | D11: =D10 -> 2769404.9 | E11: =E10 -> 2769404.9 | F11: ='Year 2035 impact'!$B$19*$N$12+'Year 2035 impact'!$B$12 -> 1996674.9 | G11: ='Year 2035 impact'!$B$19*$N$12+'Year 2035 impact'!$B$12 -> 1996674.9 | H11: ='Year 2035 impact'!$B$19*$N$12+'Year 2035 impact'!$B$12 -> 1996674.9 | I11: ='Year 2035 impact'!$B$19*$N$12+'Year 2035 impact'!$B$12 -> 1996674.9 | M11: Absolute contribution to sector decarbonisation | N11: =$S6*N6+$S7*N7+$S8*N8+$S9*N9+$S10*N10 -> 0.27902383 | O11: =$S6*O6+$S7*O7+$S8*O8+$S9*O9+$S10*O10 -> 0.59445809 | P11: =$S6*P6+$S7*P7+$S8*P8+$S9*P9+$S10*P10 -> 0.72766907 | Q11: =$S6*Q6+$S7*Q7+$S8*Q8+$S9*Q9+$S10*Q10 -> 0.82926617 | R11: =$S6*R6+$S7*R7+$S8*R8+$S9*R9+$S10*R10 -> 1
A12: 2027 | B12: =B11 -> 2769404.9 | C12: =C11 -> 2769404.9 | D12: =D11 -> 2769404.9 | E12: =E11 -> 2769404.9 | F12: ='Year 2035 impact'!$B$19*$N$12+'Year 2035 impact'!$B$12 -> 1996674.9 | G12: ='Year 2035 impact'!$B$19*$N$12+'Year 2035 impact'!$B$12 -> 1996674.9 | H12: ='Year 2035 impact'!$B$19*$N$12+'Year 2035 impact'!$B$12 -> 1996674.9 | I12: ='Year 2035 impact'!$B$19*$N$12+'Year 2035 impact'!$B$12 -> 1996674.9 | M12: Remaining emissions | N12: =1-N11 -> 0.72097617 | O12: =1-O11 -> 0.40554191 | P12: =1-P11 -> 0.27233093 | Q12: =1-Q11 -> 0.17073383 | R12: =1-R11 -> 0
A13: 2028 | B13: =B12 -> 2769404.9 | C13: ='Year 2035 impact'!C18 -> 2702965.3 | D13: ='Year 2035 impact'!D18 -> 639851.01 | E13: ='Year 2035 impact'!E18 -> 626938.52 | F13: ='Year 2035 impact'!$B$19*$N$12+'Year 2035 impact'!$B$12 -> 1996674.9 | G13: ='Year 2035 impact'!$B$19*$N$12+'Year 2035 impact'!$B$12 -> 1996674.9 | H13: ='Year 2035 impact'!$B$19*$N$12+'Year 2035 impact'!$B$12 -> 1996674.9 | I13: ='Year 2035 impact'!$B$19*$N$12+'Year 2035 impact'!$B$12 -> 1996674.9
A14: 2029 | B14: =B13 -> 2769404.9 | C14: =C13 -> 2702965.3 | D14: =D13 -> 639851.01 | E14: =E13 -> 626938.52 | F14: ='Year 2035 impact'!$B$19*$N$12+'Year 2035 impact'!$B$12 -> 1996674.9 | G14: ='Year 2035 impact'!$B$19*$N$12+'Year 2035 impact'!$B$12 -> 1996674.9 | H14: ='Year 2035 impact'!$B$19*$N$12+'Year 2035 impact'!$B$12 -> 1996674.9 | I14: ='Year 2035 impact'!$B$19*$N$12+'Year 2035 impact'!$B$12 -> 1996674.9
A15: 2030 | B15: =B14 -> 2769404.9 | C15: =C14 -> 2702965.3 | D15: =D14 -> 639851.01 | E15: =E14 -> 626938.52 | F15: ='Year 2035 impact'!$B$19*$O$12+'Year 2035 impact'!$B$12 -> 1123109.7 | G15: ='Year 2035 impact'!$B$19*$O$12+'Year 2035 impact'!$B$12 -> 1123109.7 | H15: ='Year 2035 impact'!$B$19*$O$12+'Year 2035 impact'!$B$12 -> 1123109.7 | I15: ='Year 2035 impact'!$B$19*$O$12+'Year 2035 impact'!$B$12 -> 1123109.7
A16: 2031 | B16: =B15 -> 2769404.9 | C16: =C15 -> 2702965.3 | D16: =D15 -> 639851.01 | E16: =E15 -> 626938.52 | F16: ='Year 2035 impact'!$B$19*$O$12+'Year 2035 impact'!$B$12 -> 1123109.7 | G16: ='Year 2035 impact'!$B$19*$O$12+'Year 2035 impact'!$B$12 -> 1123109.7 | H16: ='Year 2035 impact'!$B$19*$O$12+'Year 2035 impact'!$B$12 -> 1123109.7 | I16: ='Year 2035 impact'!$B$19*$O$12+'Year 2035 impact'!$B$12 -> 1123109.7
A17: 2032 | B17: =B16 -> 2769404.9 | C17: =C16 -> 2702965.3 | D17: =D16 -> 639851.01 | E17: =E16 -> 626938.52 | F17: ='Year 2035 impact'!$B$19*$O$12+'Year 2035 impact'!$B$12 -> 1123109.7 | G17: ='Year 2035 impact'!$B$19*$O$12+'Year 2035 impact'!$B$12 -> 1123109.7 | H17: ='Year 2035 impact'!$B$19*$O$12+'Year 2035 impact'!$B$12 -> 1123109.7 | I17: ='Year 2035 impact'!$B$19*$O$12+'Year 2035 impact'!$B$12 -> 1123109.7
A18: 2033 | B18: =B17 -> 2769404.9 | C18: =C17 -> 2702965.3 | D18: =D17 -> 639851.01 | E18: =E17 -> 626938.52 | F18: ='Year 2035 impact'!$B$19*$O$12+'Year 2035 impact'!$B$12 -> 1123109.7 | G18: ='Year 2035 impact'!$C$19*$O$12+'Year 2035 impact'!$C$12 -> 980128.41 | H18: ='Year 2035 impact'!$D$19*$O$12+'Year 2035 impact'!$D$12 -> 582764.17 | I18: ='Year 2035 impact'!$E$19*$O$12+'Year 2035 impact'!$E$12 -> 525595.59
A19: 2034 | B19: =B18 -> 2769404.9 | C19: =C18 -> 2702965.3 | D19: =D18 -> 639851.01 | E19: =E18 -> 626938.52 | F19: ='Year 2035 impact'!$B$19*$O$12+'Year 2035 impact'!$B$12 -> 1123109.7 | G19: ='Year 2035 impact'!$C$19*$O$12+'Year 2035 impact'!$C$12 -> 980128.41 | H19: ='Year 2035 impact'!$D$19*$O$12+'Year 2035 impact'!$D$12 -> 582764.17 | I19: ='Year 2035 impact'!$E$19*$O$12+'Year 2035 impact'!$E$12 -> 525595.59
A20: 2035 | B20: =B19 -> 2769404.9 | C20: =C19 -> 2702965.3 | D20: =D19 -> 639851.01 | E20: =E19 -> 626938.52 | F20: ='Year 2035 impact'!$B$19*$O$12+'Year 2035 impact'!$B$12 -> 1123109.7 | G20: ='Year 2035 impact'!$C$19*$O$12+'Year 2035 impact'!$C$12 -> 980128.41 | H20: ='Year 2035 impact'!$D$19*$O$12+'Year 2035 impact'!$D$12 -> 582764.17 | I20: ='Year 2035 impact'!$E$19*$O$12+'Year 2035 impact'!$E$12 -> 525595.59
A21: 2036 | B21: =B20 -> 2769404.9 | C21: =C20 -> 2702965.3 | D21: =D20 -> 639851.01 | E21: =E20 -> 626938.52 | F21: ='Year 2035 impact'!$B$19*$O$12+'Year 2035 impact'!$B$12 -> 1123109.7 | G21: ='Year 2035 impact'!$C$19*$O$12+'Year 2035 impact'!$C$12 -> 980128.41 | H21: ='Year 2035 impact'!$D$19*$O$12+'Year 2035 impact'!$D$12 -> 582764.17 | I21: ='Year 2035 impact'!$E$19*$O$12+'Year 2035 impact'!$E$12 -> 525595.59
A22: 2037 | B22: =B21 -> 2769404.9 | C22: =C21 -> 2702965.3 | D22: =D21 -> 639851.01 | E22: =E21 -> 626938.52 | F22: ='Year 2035 impact'!$B$19*$O$12+'Year 2035 impact'!$B$12 -> 1123109.7 | G22: ='Year 2035 impact'!$C$19*$O$12+'Year 2035 impact'!$C$12 -> 980128.41 | H22: ='Year 2035 impact'!$D$19*$O$12+'Year 2035 impact'!$D$12 -> 582764.17 | I22: ='Year 2035 impact'!$E$19*$O$12+'Year 2035 impact'!$E$12 -> 525595.59
A23: 2038 | B23: =B22 -> 2769404.9 | C23: =C22 -> 2702965.3 | D23: =D22 -> 639851.01 | E23: =E22 -> 626938.52 | F23: ='Year 2035 impact'!$B$19*$O$12+'Year 2035 impact'!$B$12 -> 1123109.7 | G23: ='Year 2035 impact'!$C$19*$O$12+'Year 2035 impact'!$C$12 -> 980128.41 | H23: ='Year 2035 impact'!$D$19*$O$12+'Year 2035 impact'!$D$12 -> 582764.17 | I23: ='Year 2035 impact'!$E$19*$O$12+'Year 2035 impact'!$E$12 -> 525595.59
A24: 2039 | B24: =B23 -> 2769404.9 | C24: =C23 -> 2702965.3 | D24: =D23 -> 639851.01 | E24: =E23 -> 626938.52 | F24: ='Year 2035 impact'!$B$19*$O$12+'Year 2035 impact'!$B$12 -> 1123109.7 | G24: ='Year 2035 impact'!$C$19*$O$12+'Year 2035 impact'!$C$12 -> 980128.41 | H24: ='Year 2035 impact'!$D$19*$O$12+'Year 2035 impact'!$D$12 -> 582764.17 | I24: ='Year 2035 impact'!$E$19*$O$12+'Year 2035 impact'!$E$12 -> 525595.59
A25: 2040 | B25: =B24 -> 2769404.9 | C25: =C24 -> 2702965.3 | D25: =D24 -> 639851.01 | E25: =E24 -> 626938.52 | F25: ='Year 2035 impact'!$B$19*$P$12+'Year 2035 impact'!$B$12 -> 754194.59 | G25: ='Year 2035 impact'!$C$19*$P$12+'Year 2035 impact'!$C$12 -> 594061.17 | H25: ='Year 2035 impact'!$D$19*$P$12+'Year 2035 impact'!$D$12 -> 252850.48 | I25: ='Year 2035 impact'!$E$19*$P$12+'Year 2035 impact'!$E$12 -> 185764.64
A26: 2041 | B26: =B25 -> 2769404.9 | C26: =C25 -> 2702965.3 | D26: =D25 -> 639851.01 | E26: =E25 -> 626938.52 | F26: ='Year 2035 impact'!$B$19*$P$12+'Year 2035 impact'!$B$12 -> 754194.59 | G26: ='Year 2035 impact'!$C$19*$P$12+'Year 2035 impact'!$C$12 -> 594061.17 | H26: ='Year 2035 impact'!$D$19*$P$12+'Year 2035 impact'!$D$12 -> 252850.48 | I26: ='Year 2035 impact'!$E$19*$P$12+'Year 2035 impact'!$E$12 -> 185764.64
A27: 2042 | B27: =B26 -> 2769404.9 | C27: =C26 -> 2702965.3 | D27: =D26 -> 639851.01 | E27: =E26 -> 626938.52 | F27: ='Year 2035 impact'!$B$19*$P$12+'Year 2035 impact'!$B$12 -> 754194.59 | G27: ='Year 2035 impact'!$C$19*$P$12+'Year 2035 impact'!$C$12 -> 594061.17 | H27: ='Year 2035 impact'!$D$19*$P$12+'Year 2035 impact'!$D$12 -> 252850.48 | I27: ='Year 2035 impact'!$E$19*$P$12+'Year 2035 impact'!$E$12 -> 185764.64
A28: 2043 | B28: =B27 -> 2769404.9 | C28: =C27 -> 2702965.3 | D28: =D27 -> 639851.01 | E28: =E27 -> 626938.52 | F28: ='Year 2035 impact'!$B$19*$P$12+'Year 2035 impact'!$B$12 -> 754194.59 | G28: ='Year 2035 impact'!$C$19*$P$12+'Year 2035 impact'!$C$12 -> 594061.17 | H28: ='Year 2035 impact'!$D$19*$P$12+'Year 2035 impact'!$D$12 -> 252850.48 | I28: ='Year 2035 impact'!$E$19*$P$12+'Year 2035 impact'!$E$12 -> 185764.64
A29: 2044 | B29: =B28 -> 2769404.9 | C29: =C28 -> 2702965.3 | D29: =D28 -> 639851.01 | E29: =E28 -> 626938.52 | F29: ='Year 2035 impact'!$B$19*$P$12+'Year 2035 impact'!$B$12 -> 754194.59 | G29: ='Year 2035 impact'!$C$19*$P$12+'Year 2035 impact'!$C$12 -> 594061.17 | H29: ='Year 2035 impact'!$D$19*$P$12+'Year 2035 impact'!$D$12 -> 252850.48 | I29: ='Year 2035 impact'!$E$19*$P$12+'Year 2035 impact'!$E$12 -> 185764.64
A30: 2045 | B30: =B29 -> 2769404.9 | C30: =C29 -> 2702965.3 | D30: =D29 -> 639851.01 | E30: =E29 -> 626938.52 | F30: ='Year 2035 impact'!$B$19*$P$12+'Year 2035 impact'!$B$12 -> 754194.59 | G30: ='Year 2035 impact'!$C$19*$P$12+'Year 2035 impact'!$C$12 -> 594061.17 | H30: ='Year 2035 impact'!$D$19*$P$12+'Year 2035 impact'!$D$12 -> 252850.48 | I30: ='Year 2035 impact'!$E$19*$P$12+'Year 2035 impact'!$E$12 -> 185764.64
A31: 2046 | B31: =B30 -> 2769404.9 | C31: =C30 -> 2702965.3 | D31: =D30 -> 639851.01 | E31: =E30 -> 626938.52 | F31: ='Year 2035 impact'!$B$19*$P$12+'Year 2035 impact'!$B$12 -> 754194.59 | G31: ='Year 2035 impact'!$C$19*$P$12+'Year 2035 impact'!$C$12 -> 594061.17 | H31: ='Year 2035 impact'!$D$19*$P$12+'Year 2035 impact'!$D$12 -> 252850.48 | I31: ='Year 2035 impact'!$E$19*$P$12+'Year 2035 impact'!$E$12 -> 185764.64
A32: 2047 | B32: =B31 -> 2769404.9 | C32: =C31 -> 2702965.3 | D32: =D31 -> 639851.01 | E32: =E31 -> 626938.52 | F32: ='Year 2035 impact'!$B$19*$P$12+'Year 2035 impact'!$B$12 -> 754194.59 | G32: ='Year 2035 impact'!$C$19*$P$12+'Year 2035 impact'!$C$12 -> 594061.17 | H32: ='Year 2035 impact'!$D$19*$P$12+'Year 2035 impact'!$D$12 -> 252850.48 | I32: ='Year 2035 impact'!$E$19*$P$12+'Year 2035 impact'!$E$12 -> 185764.64
A33: 2048 | B33: =B32 -> 2769404.9 | C33: =C32 -> 2702965.3 | D33: =D32 -> 639851.01 | E33: =E32 -> 626938.52 | F33: ='Year 2035 impact'!$B$19*$P$12+'Year 2035 impact'!$B$12 -> 754194.59 | G33: ='Year 2035 impact'!$C$19*$P$12+'Year 2035 impact'!$C$12 -> 594061.17 | H33: ='Year 2035 impact'!$D$19*$P$12+'Year 2035 impact'!$D$12 -> 252850.48 | I33: ='Year 2035 impact'!$E$19*$P$12+'Year 2035 impact'!$E$12 -> 185764.64
A34: 2049 | B34: =B33 -> 2769404.9 | C34: =C33 -> 2702965.3 | D34: =D33 -> 639851.01 | E34: =E33 -> 626938.52 | F34: ='Year 2035 impact'!$B$19*$P$12+'Year 2035 impact'!$B$12 -> 754194.59 | G34: ='Year 2035 impact'!$C$19*$P$12+'Year 2035 impact'!$C$12 -> 594061.17 | H34: ='Year 2035 impact'!$D$19*$P$12+'Year 2035 impact'!$D$12 -> 252850.48 | I34: ='Year 2035 impact'!$E$19*$P$12+'Year 2035 impact'!$E$12 -> 185764.64
A35: 2050 | B35: =B34 -> 2769404.9 | C35: =C34 -> 2702965.3 | D35: =D34 -> 639851.01 | E35: =E34 -> 626938.52 | F35: ='Year 2035 impact'!$B$19*$Q$12+'Year 2035 impact'!$B$12 -> 472831.1 | G35: ='Year 2035 impact'!$C$19*$Q$12+'Year 2035 impact'!$C$12 -> 299616.16 | H35: ='Year 2035 impact'!$D$19*$Q$12+'Year 2035 impact'!$D$12 -> 1232.5413 | I35: ='Year 2035 impact'!$E$19*$Q$12+'Year 2035 impact'!$E$12 -> -73416.975
A36: 2051 | B36: =B35 -> 2769404.9 | C36: =C35 -> 2702965.3 | D36: =D35 -> 639851.01 | E36: =E35 -> 626938.52 | F36: ='Year 2035 impact'!$B$19*$Q$12+'Year 2035 impact'!$B$12 -> 472831.1 | G36: ='Year 2035 impact'!$C$19*$Q$12+'Year 2035 impact'!$C$12 -> 299616.16 | H36: ='Year 2035 impact'!$D$19*$Q$12+'Year 2035 impact'!$D$12 -> 1232.5413 | I36: ='Year 2035 impact'!$E$19*$Q$12+'Year 2035 impact'!$E$12 -> -73416.975
A37: 2052 | B37: =B36 -> 2769404.9 | C37: =C36 -> 2702965.3 | D37: =D36 -> 639851.01 | E37: =E36 -> 626938.52 | F37: ='Year 2035 impact'!$B$19*$Q$12+'Year 2035 impact'!$B$12 -> 472831.1 | G37: ='Year 2035 impact'!$C$19*$Q$12+'Year 2035 impact'!$C$12 -> 299616.16 | H37: ='Year 2035 impact'!$D$19*$Q$12+'Year 2035 impact'!$D$12 -> 1232.5413 | I37: ='Year 2035 impact'!$E$19*$Q$12+'Year 2035 impact'!$E$12 -> -73416.975
A38: 2053 | B38: =B37 -> 2769404.9 | C38: =C37 -> 2702965.3 | D38: =D37 -> 639851.01 | E38: =E37 -> 626938.52 | F38: ='Year 2035 impact'!$B$19*$Q$12+'Year 2035 impact'!$B$12 -> 472831.1 | G38: ='Year 2035 impact'!$C$19*$Q$12+'Year 2035 impact'!$C$12 -> 299616.16 | H38: ='Year 2035 impact'!$D$19*$Q$12+'Year 2035 impact'!$D$12 -> 1232.5413 | I38: ='Year 2035 impact'!$E$19*$Q$12+'Year 2035 impact'!$E$12 -> -73416.975
A39: 2054 | B39: =B38 -> 2769404.9 | C39: =C38 -> 2702965.3 | D39: =D38 -> 639851.01 | E39: =E38 -> 626938.52 | F39: ='Year 2035 impact'!$B$19*$Q$12+'Year 2035 impact'!$B$12 -> 472831.1 | G39: ='Year 2035 impact'!$C$19*$Q$12+'Year 2035 impact'!$C$12 -> 299616.16 | H39: ='Year 2035 impact'!$D$19*$Q$12+'Year 2035 impact'!$D$12 -> 1232.5413 | I39: ='Year 2035 impact'!$E$19*$Q$12+'Year 2035 impact'!$E$12 -> -73416.975
A40: 2055 | B40: =B39 -> 2769404.9 | C40: =C39 -> 2702965.3 | D40: =D39 -> 639851.01 | E40: =E39 -> 626938.52 | F40: ='Year 2035 impact'!$B$19*$Q$12+'Year 2035 impact'!$B$12 -> 472831.1 | G40: ='Year 2035 impact'!$C$19*$Q$12+'Year 2035 impact'!$C$12 -> 299616.16 | H40: ='Year 2035 impact'!$D$19*$Q$12+'Year 2035 impact'!$D$12 -> 1232.5413 | I40: ='Year 2035 impact'!$E$19*$Q$12+'Year 2035 impact'!$E$12 -> -73416.975
A41: 2056 | B41: =B40 -> 2769404.9 | C41: =C40 -> 2702965.3 | D41: =D40 -> 639851.01 | E41: =E40 -> 626938.52 | F41: ='Year 2035 impact'!$B$19*$Q$12+'Year 2035 impact'!$B$12 -> 472831.1 | G41: ='Year 2035 impact'!$C$19*$Q$12+'Year 2035 impact'!$C$12 -> 299616.16 | H41: ='Year 2035 impact'!$D$19*$Q$12+'Year 2035 impact'!$D$12 -> 1232.5413 | I41: ='Year 2035 impact'!$E$19*$Q$12+'Year 2035 impact'!$E$12 -> -73416.975
...

Sheet Afforestation
B1: Data pasted from CBM-CFS3 model output for mixed conifer: broadlead afforestation scenario, scaled to planting rate of 30,000 ha/yr from 2022 to 2050
B3: 50C:50BL net ecosystem C | AH3: annual flux 1ha/yr planting
B4: 81 | C4: annual flux | AH4: =SUM(C4:AG4) -> 0
B5: 80.842938 | C5: =B5-B4 -> -0.15706205 | AH5: =SUM(C5:AG5) -> -0.15706205
B6: 80.94241 | C6: =B6-B5 -> 0.099471942 | D6: -0.15706205 | AH6: =SUM(C6:AG6) -> -0.057590112
B7: 81.339349 | C7: =B7-B6 -> 0.39693921 | D7: 0.099471942 | E7: -0.15706205 | AH7: =SUM(C7:AG7) -> 0.3393491
B8: 82.061726 | C8: =B8-B7 -> 0.72237734 | D8: 0.39693921 | E8: 0.099471942 | F8: -0.15706205 | AH8: =SUM(C8:AG8) -> 1.0617264
B9: 83.129701 | C9: =B9-B8 -> 1.0679742 | D9: 0.72237734 | E9: 0.39693921 | F9: 0.099471942 | G9: -0.15706205 | AH9: =SUM(C9:AG9) -> 2.1297007
B10: 84.557311 | C10: =B10-B9 -> 1.4276102 | D10: 1.0679742 | E10: 0.72237734 | F10: 0.39693921 | G10: 0.099471942 | H10: -0.15706205 | AH10: =SUM(C10:AG10) -> 3.5573109
B11: 86.353375 | C11: =B11-B10 -> 1.796064 | D11: 1.4276102 | E11: 1.0679742 | F11: 0.72237734 | G11: 0.39693921 | H11: 0.099471942 | I11: -0.15706205 | AH11: =SUM(C11:AG11) -> 5.3533749
B12: 88.522116 | C12: =B12-B11 -> 2.168741 | D12: 1.796064 | E12: 1.4276102 | F12: 1.0679742 | G12: 0.72237734 | H12: 0.39693921 | I12: 0.099471942 | J12: -0.15706205 | AH12: =SUM(C12:AG12) -> 7.5221158
B13: 91.063651 | C13: =B13-B12 -> 2.541535 | D13: 2.168741 | E13: 1.796064 | F13: 1.4276102 | G13: 1.0679742 | H13: 0.72237734 | I13: 0.39693921 | J13: 0.099471942 | K13: -0.15706205 | AH13: =SUM(C13:AG13) -> 10.063651
B14: 93.974465 | C14: =B14-B13 -> 2.9108137 | D14: 2.541535 | E14: 2.168741 | F14: 1.796064 | G14: 1.4276102 | H14: 1.0679742 | I14: 0.72237734 | J14: 0.39693921 | K14: 0.099471942 | L14: -0.15706205 | AH14: =SUM(C14:AG14) -> 12.974465
B15: 97.247829 | C15: =B15-B14 -> 3.2733645 | D15: 2.9108137 | E15: 2.541535 | F15: 2.168741 | G15: 1.796064 | H15: 1.4276102 | I15: 1.0679742 | J15: 0.72237734 | K15: 0.39693921 | L15: 0.099471942 | M15: -0.15706205 | AH15: =SUM(C15:AG15) -> 16.247829
B16: 100.87426 | C16: =B16-B15 -> 3.6264291 | D16: 3.2733645 | E16: 2.9108137 | F16: 2.541535 | G16: 2.168741 | H16: 1.796064 | I16: 1.4276102 | J16: 1.0679742 | K16: 0.72237734 | L16: 0.39693921 | M16: 0.099471942 | N16: -0.15706205 | AH16: =SUM(C16:AG16) -> 19.874258
B17: 104.84189 | C17: =B17-B16 -> 3.967635 | D17: 3.6264291 | E17: 3.2733645 | F17: 2.9108137 | G17: 2.541535 | H17: 2.168741 | I17: 1.796064 | J17: 1.4276102 | K17: 1.0679742 | L17: 0.72237734 | M17: 0.39693921 | N17: 0.099471942 | O17: -0.15706205 | AH17: =SUM(C17:AG17) -> 23.841893
B18: 109.13688 | C18: =B18-B17 -> 4.2949887 | D18: 3.967635 | E18: 3.6264291 | F18: 3.2733645 | G18: 2.9108137 | H18: 2.541535 | I18: 2.168741 | J18: 1.796064 | K18: 1.4276102 | L18: 1.0679742 | M18: 0.72237734 | N18: 0.39693921 | O18: 0.099471942 | P18: -0.15706205 | AH18: =SUM(C18:AG18) -> 28.136882
B19: 113.74372 | C19: =B19-B18 -> 4.6068428 | D19: 4.2949887 | E19: 3.967635 | F19: 3.6264291 | G19: 3.2733645 | H19: 2.9108137 | I19: 2.541535 | J19: 2.168741 | K19: 1.796064 | L19: 1.4276102 | M19: 1.0679742 | N19: 0.72237734 | O19: 0.39693921 | P19: 0.099471942 | Q19: -0.15706205 | AH19: =SUM(C19:AG19) -> 32.743725
B20: 118.64553 | C20: =B20-B19 -> 4.9018013 | D20: 4.6068428 | E20: 4.2949887 | F20: 3.967635 | G20: 3.6264291 | H20: 3.2733645 | I20: 2.9108137 | J20: 2.541535 | K20: 2.168741 | L20: 1.796064 | M20: 1.4276102 | N20: 1.0679742 | O20: 0.72237734 | P20: 0.39693921 | Q20: 0.099471942 | R20: -0.15706205 | AH20: =SUM(C20:AG20) -> 37.645526
B21: 123.82426 | C21: =B21-B20 -> 5.1787372 | D21: 4.9018013 | E21: 4.6068428 | F21: 4.2949887 | G21: 3.967635 | H21: 3.6264291 | I21: 3.2733645 | J21: 2.9108137 | K21: 2.541535 | L21: 2.168741 | M21: 1.796064 | N21: 1.4276102 | O21: 1.0679742 | P21: 0.72237734 | Q21: 0.39693921 | R21: 0.099471942 | S21: -0.15706205 | AH21: =SUM(C21:AG21) -> 42.824263
B22: 129.26099 | C22: =B22-B21 -> 5.4367231 | D22: 5.1787372 | E22: 4.9018013 | F22: 4.6068428 | G22: 4.2949887 | H22: 3.967635 | I22: 3.6264291 | J22: 3.2733645 | K22: 2.9108137 | L22: 2.541535 | M22: 2.168741 | N22: 1.796064 | O22: 1.4276102 | P22: 1.0679742 | Q22: 0.72237734 | R22: 0.39693921 | S22: 0.099471942 | T22: -0.15706205 | AH22: =SUM(C22:AG22) -> 48.260986
B23: 134.93596 | C23: =B23-B22 -> 5.6749688 | D23: 5.4367231 | E23: 5.1787372 | F23: 4.9018013 | G23: 4.6068428 | H23: 4.2949887 | I23: 3.967635 | J23: 3.6264291 | K23: 3.2733645 | L23: 2.9108137 | M23: 2.541535 | N23: 2.168741 | O23: 1.796064 | P23: 1.4276102 | Q23: 1.0679742 | R23: 0.72237734 | S23: 0.39693921 | T23: 0.099471942 | U23: -0.15706205 | AH23: =SUM(C23:AG23) -> 53.935955
B24: 138.96137 | C24: =B24-B23 -> 4.0254103 | D24: 5.6749688 | E24: 5.4367231 | F24: 5.1787372 | G24: 4.9018013 | H24: 4.6068428 | I24: 4.2949887 | J24: 3.967635 | K24: 3.6264291 | L24: 3.2733645 | M24: 2.9108137 | N24: 2.541535 | O24: 2.168741 | P24: 1.796064 | Q24: 1.4276102 | R24: 1.0679742 | S24: 0.72237734 | T24: 0.39693921 | U24: 0.099471942 | V24: -0.15706205 | AH24: =SUM(C24:AG24) -> 57.961365
B25: 143.70191 | C25: =B25-B24 -> 4.7405425 | D25: 4.0254103 | E25: 5.6749688 | F25: 5.4367231 | G25: 5.1787372 | H25: 4.9018013 | I25: 4.6068428 | J25: 4.2949887 | K25: 3.967635 | L25: 3.6264291 | M25: 3.2733645 | N25: 2.9108137 | O25: 2.541535 | P25: 2.168741 | Q25: 1.796064 | R25: 1.4276102 | S25: 1.0679742 | T25: 0.72237734 | U25: 0.39693921 | V25: 0.099471942 | W25: -0.15706205 | AH25: =SUM(C25:AG25) -> 62.701908
B26: 148.5057 | C26: =B26-B25 -> 4.8037939 | D26: 4.7405425 | E26: 4.0254103 | F26: 5.6749688 | G26: 5.4367231 | H26: 5.1787372 | I26: 4.9018013 | J26: 4.6068428 | K26: 4.2949887 | L26: 3.967635 | M26: 3.6264291 | N26: 3.2733645 | O26: 2.9108137 | P26: 2.541535 | Q26: 2.168741 | R26: 1.796064 | S26: 1.4276102 | T26: 1.0679742 | U26: 0.72237734 | V26: 0.39693921 | W26: 0.099471942 | X26: -0.15706205 | AH26: =SUM(C26:AG26) -> 67.505702
B27: 153.35187 | C27: =B27-B26 -> 4.8461657 | D27: 4.8037939 | E27: 4.7405425 | F27: 4.0254103 | G27: 5.6749688 | H27: 5.4367231 | I27: 5.1787372 | J27: 4.9018013 | K27: 4.6068428 | L27: 4.2949887 | M27: 3.967635 | N27: 3.6264291 | O27: 3.2733645 | P27: 2.9108137 | Q27: 2.541535 | R27: 2.168741 | S27: 1.796064 | T27: 1.4276102 | U27: 1.0679742 | V27: 0.72237734 | W27: 0.39693921 | X27: 0.099471942 | Y27: -0.15706205 | AH27: =SUM(C27:AG27) -> 72.351867
B28: 159.692 | C28: =B28-B27 -> 6.340131 | D28: 4.8461657 | E28: 4.8037939 | F28: 4.7405425 | G28: 4.0254103 | H28: 5.6749688 | I28: 5.4367231 | J28: 5.1787372 | K28: 4.9018013 | L28: 4.6068428 | M28: 4.2949887 | N28: 3.967635 | O28: 3.6264291 | P28: 3.2733645 | Q28: 2.9108137 | R28: 2.541535 | S28: 2.168741 | T28: 1.796064 | U28: 1.4276102 | V28: 1.0679742 | W28: 0.72237734 | X28: 0.39693921 | Y28: 0.099471942 | Z28: -0.15706205 | AH28: =SUM(C28:AG28) -> 78.691998
B29: 165.83217 | C29: =B29-B28 -> 6.1401676 | D29: 6.340131 | E29: 4.8461657 | F29: 4.8037939 | G29: 4.7405425 | H29: 4.0254103 | I29: 5.6749688 | J29: 5.4367231 | K29: 5.1787372 | L29: 4.9018013 | M29: 4.6068428 | N29: 4.2949887 | O29: 3.967635 | P29: 3.6264291 | Q29: 3.2733645 | R29: 2.9108137 | S29: 2.541535 | T29: 2.168741 | U29: 1.796064 | V29: 1.4276102 | W29: 1.0679742 | X29: 0.72237734 | Y29: 0.39693921 | Z29: 0.099471942 | AA29: -0.15706205 | AH29: =SUM(C29:AG29) -> 84.832166
B30: 175.45461 | C30: =B30-B29 -> 9.6224437 | D30: 6.1401676 | E30: 6.340131 | F30: 4.8461657 | G30: 4.8037939 | H30: 4.7405425 | I30: 4.0254103 | J30: 5.6749688 | K30: 5.4367231 | L30: 5.1787372 | M30: 4.9018013 | N30: 4.6068428 | O30: 4.2949887 | P30: 3.967635 | Q30: 3.6264291 | R30: 3.2733645 | S30: 2.9108137 | T30: 2.541535 | U30: 2.168741 | V30: 1.796064 | W30: 1.4276102 | X30: 1.0679742 | Y30: 0.72237734 | Z30: 0.39693921 | AA30: 0.099471942 | AB30: -0.15706205 | AH30: =SUM(C30:AG30) -> 94.45461
B31: 184.9671 | C31: =B31-B30 -> 9.5124917 | D31: 9.6224437 | E31: 6.1401676 | F31: 6.340131 | G31: 4.8461657 | H31: 4.8037939 | I31: 4.7405425 | J31: 4.0254103 | K31: 5.6749688 | L31: 5.4367231 | M31: 5.1787372 | N31: 4.9018013 | O31: 4.6068428 | P31: 4.2949887 | Q31: 3.967635 | R31: 3.6264291 | S31: 3.2733645 | T31: 2.9108137 | U31: 2.541535 | V31: 2.168741 | W31: 1.796064 | X31: 1.4276102 | Y31: 1.0679742 | Z31: 0.72237734 | AA31: 0.39693921 | AB31: 0.099471942 | AC31: -0.15706205 | AH31: =SUM(C31:AG31) -> 103.9671
B32: 194.39024 | C32: =B32-B31 -> 9.4231382 | D32: 9.5124917 | E32: 9.6224437 | F32: 6.1401676 | G32: 6.340131 | H32: 4.8461657 | I32: 4.8037939 | J32: 4.7405425 | K32: 4.0254103 | L32: 5.6749688 | M32: 5.4367231 | N32: 5.1787372 | O32: 4.9018013 | P32: 4.6068428 | Q32: 4.2949887 | R32: 3.967635 | S32: 3.6264291 | T32: 3.2733645 | U32: 2.9108137 | V32: 2.541535 | W32: 2.168741 | X32: 1.796064 | Y32: 1.4276102 | Z32: 1.0679742 | AA32: 0.72237734 | AB32: 0.39693921 | AC32: 0.099471942 | AD32: -0.15706205 | AH32: =SUM(C32:AG32) -> 113.39024
B33: 203.73944 | C33: =B33-B32 -> 9.3492052 | D33: 9.4231382 | E33: 9.5124917 | F33: 9.6224437 | G33: 6.1401676 | H33: 6.340131 | I33: 4.8461657 | J33: 4.8037939 | K33: 4.7405425 | L33: 4.0254103 | M33: 5.6749688 | N33: 5.4367231 | O33: 5.1787372 | P33: 4.9018013 | Q33: 4.6068428 | R33: 4.2949887 | S33: 3.967635 | T33: 3.6264291 | U33: 3.2733645 | V33: 2.9108137 | W33: 2.541535 | X33: 2.168741 | Y33: 1.796064 | Z33: 1.4276102 | AA33: 1.0679742 | AB33: 0.72237734 | AC33: 0.39693921 | AD33: 0.099471942 | AE33: -0.15706205 | AH33: =SUM(C33:AG33) -> 122.73944
B34: 213.02668 | C34: =B34-B33 -> 9.2872399 | D34: 9.3492052 | E34: 9.4231382 | F34: 9.5124917 | G34: 9.6224437 | H34: 6.1401676 | I34: 6.340131 | J34: 4.8461657 | K34: 4.8037939 | L34: 4.7405425 | M34: 4.0254103 | N34: 5.6749688 | O34: 5.4367231 | P34: 5.1787372 | Q34: 4.9018013 | R34: 4.6068428 | S34: 4.2949887 | T34: 3.967635 | U34: 3.6264291 | V34: 3.2733645 | W34: 2.9108137 | X34: 2.541535 | Y34: 2.168741 | Z34: 1.796064 | AA34: 1.4276102 | AB34: 1.0679742 | AC34: 0.72237734 | AD34: 0.39693921 | AE34: 0.099471942 | AF34: -0.15706205 | AH34: =SUM(C34:AG34) -> 132.02668
B35: 219.10545 | C35: =B35-B34 -> 6.0787611 | D35: 9.2872399 | E35: 9.3492052 | F35: 9.4231382 | G35: 9.5124917 | H35: 9.6224437 | I35: 6.1401676 | J35: 6.340131 | K35: 4.8461657 | L35: 4.8037939 | M35: 4.7405425 | N35: 4.0254103 | O35: 5.6749688 | P35: 5.4367231 | Q35: 5.1787372 | R35: 4.9018013 | S35: 4.6068428 | T35: 4.2949887 | U35: 3.967635 | V35: 3.6264291 | W35: 3.2733645 | X35: 2.9108137 | Y35: 2.541535 | Z35: 2.168741 | AA35: 1.796064 | AB35: 1.4276102 | AC35: 1.0679742 | AD35: 0.72237734 | AE35: 0.39693921 | AF35: 0.099471942 | AG35: -0.15706205 | AH35: =SUM(C35:AG35) -> 138.10545
AG36: 2050 cumulative impact 1ha/yr planting (tC) | AH36: =SUM(AH5:AH35) -> 1475.0269
B37: 50C:50BL net ecosystem C | C37: 50C:50BL net ecosystem C (corrected) | AG37: 2050 cumulative impact 30kha/yr planting tonnes CO2e | AH37: =AH36*30000*44/12 -> 1.6225296e+08
B38: 81 | AI38: GWP, scaled to 30kha/yr planting rate tonnes CO2e
A39: 2020 | B39: 80.842938 | C39: =B39-$B$38 -> -0.15706205 | AI39: 30000
A40: 2021 | B40: 80.94241 | C40: =B40-$B$38 -> -0.057590112 | D40: -0.15706205 | AH40: =SUM(C40:AG40) -> -0.21465217 | AI40: =-AH40*$AI$39*44/12 -> 23611.738
A41: 2022 | B41: 81.339349 | C41: =B41-$B$38 -> 0.3393491 | D41: -0.057590112 | E41: -0.15706205 | AH41: =SUM(C41:AG41) -> 0.12469693 | AI41: =-AH41*$AI$39*44/12 -> -13716.663
...
