Workbook
Name adm_AgeDist: 'Estimating Admissions by Age'!$E$38:$E$54
Name adm_AgeDist2: 'Estimating Admissions by Age'!$H$49:$H$55
Name adm_AgeDist3: 'Estimating Admissions by Age'!$I$49:$I$55
Name CC_Beds_Daily: 'Principle parameters'!$D$18
Name deathsInsideCapacity: 'Deaths - outside capacity'!$P$14
Name deathsOutsideCapacity: 'Deaths - outside capacity'!$P$15
Name Scenario: 'Sensitivity Analysis'!$O$4
Name Sens_CC_Cap: 'Sensitivity Analysis'!$N$9
Name Sens_CCU_HR_CCU: 'Sensitivity Analysis'!$N$12
Name Sens_CCU_HR_Ward: 'Sensitivity Analysis'!$N$13
Name Sens_Ward_Cap: 'Sensitivity Analysis'!$N$10
Name Sens_Ward_HR: 'Sensitivity Analysis'!$N$11
Name Ward_Beds_Daily: 'Principle parameters'!$D$19

Sheet Description
B1: Model of within capacity and outside capacity deaths from COVID-19 in England | N1: 31st December 2020
C3: This model estimates the number of deaths that can be expected from forward projections of demand for hospital admission for COVID-19 taking into account any step-change that may occur in mortality rates when hospital or Intensive Care Unit (ICU) bed capacity is breached. The model was designed and built by members of the Institute and Faculty of Actuaries in response to a request for help from the Department of Health and Social Care in the UK for assistance in updating the document ''Direct and Indirect Impacts of COVID-19 on Excess Deaths and Morbidity: Executive Summary. London; 2020. ". Whilst some parameters are estimated, it may be that other users may have access to observed data that can be substituted where we have made estimates.
C10: Sheets | E10: Purpose
C11: Principle parameters | E11: This sheet derives or displays the principle underlying parameters - the availability of ward and ICU beds, and the mortality scalars that apply when ward or ICU care is not available.
C12: Assumptions and limitations | E12: This sheet lists assumptions applied in the modelling and lists recognised limitations.
C13: Estimating Admissions by Age | E13: Estimating the age distribution of admissions to hospital.
C14: New patients in hospital | E14: Split new patients by those who do or do not require ICU. Uses publicy available admissions data.
C15: Splitting Admissions CCU Ward | E15: Split Ward demand by those within and beyond capacity.
C16: Ward Demand | E16: Calculates the demand for ward care.
C17: CCU Demand | E17: Calculates the demand for ICU care.
C18: Excess Mortality Model | E18: Derivation of mortality scalars.
C19: Ward Mortality - Treated | E19: Treated mortality rates by age, within Ward (6a) and ICU (6b). Mortality scalars from 5 used to determine mortality rates when capacity exceeded.
C20: CCU Mortality - Treated | E20: Simple check that the normal (in capacity) mortality rates gives an answer similar to the deaths in the scenarios
C21: Mortality Rates | E21: Calculate mortality allowing for capacity being exceeded.
... C33: Rahul Sarkar | E33: Consultant Physician in Respiratory Medicine 7 Critical Care at Medway NHS Foundation Trust
C36: Acknowledgements
C37: The authors acknowledge assistance and advice from the following people:
C38: Institute and Faculty of Actuaries
C39: Josephine Robertson (Health & Care Actuary, Optum)
C40: Dan Ryan (Chief Science Officer at COIOS Research)
C41: Scott Reid (Global Protection Pricing & Product Development Actuary, Zurich)
C42: James Robinson (UK & Ireland Business Strategy and Analytics, Aon Benfield)
C44: Nottingham Universities Hospital Trust
C45: Joe West (Professor of Epidemiology; Honorary Consultant Gastroenterologist, Faculty of Medicine & Health Sciences Nottingham University)
C46: Richard Hubbard (GSK/British Lung Foundation Professor of Respiratory Epidemiology, Faculty of Medicine & Health Sciences)
C47: Tim Card (Clinical Associate Professor, Nottingham Biomedical Research Centre)
C48: Colin Crooks (Clinical Associate Professor, Nottingham Biomedical Research Centre)
... C60: Dr Louisa Rutherford, Senior Clinical Researcher at Crystallise Ltd

Sheet Assumptions and limitations
B1: This sheet is a compilation of assumtions made in the model and recognised limitations
B4: Assumptions
B5: There is no change in the expected mortality as demand grows until the bed capacity is breached.
B6: Only bed capacity affects excess mortality rates and not other resource constraints such as staffing or equipment.
B7: Surge capacity will be applied before the use of field hospitals or the commandeering of private facilities.
B8: All of the surge capacity, field hospital and private facility beds will be utilised for COVID-19 rather than any other demand.
B9: The age distribution of admissions remains constant over time.
B10: There is perfect redistribution of bed capacity and resources across the country immediately according to demand.
B11: Weekly bed availability remains constant.
B12: The mortality (including by age) is the same for the old COVID strain and novel mutations.
B17: Limitations
B18: Mortality rates are affected by constraints other than just bed availability including staffing and equipment.
... B22: The estimate of bed availability is determined using the mean length of stay on the ward or in ICU. The distribution of of ICU occupants by length of stay will change over time which may result in a slow consumption of capacity that is not captured in this model.

Sheet Principle parameters
B1: The principle underlying parameters of the model with their sources.
D4: Key assumptions and parameter inputs into model
D5: Value | E5: Parameter | F5: Data scource | G5: Logic
D6: 2 | E6: Within-hospital ICU surge multiplier | F6: 9,11 | G6: Report from one specialist unit in London that achieved 236% increase. Assume 200% typical. However, the NHS England guidance 2013 suggests 100%.
D7: 120828 | E7: Ward beds total | F7: 3 | G7: Based on data from 2020/21 Q2
D8: 817 | E8: Total ICU beds available for COVID patients (no surge) | F8: 2 | G8: Spare capacity in Results section para1.
D9: 9769 | E9: Total Ward Beds available for COVID patients ( no surge) | F9: 2 | G9: Spare capacity in Results section para1.
D10: =D8*D6 -> 1634 | E10: Total ICU beds available per week for COVID patients (with surge) | F10: 2,9,11 | G10: Assumption that, at equilibrium, the proportion of ICU beds that is available remains constant as this will relate to turnover.
D11: 62267 | E11: Total Ward Beds available for COVID patients (with surge) | F11: 2 | G11: Page 5 para 2.
D12: =2627-D8 -> 1810 | E12: Nightingale capacity, cancelled electives and private medical facilities - ICU beds | F12: 2 | G12: Page 5 -"We estimate that these interventions would allow for up to 2627 and 62, 267 COVID-19 patients to be accommodated in CC and G&A on any day, respectively". Minus pre-pandemic daily capacity.
D13: =D11-D9 -> 52498 | E13: Nightingale capacity, cancelled electives and private medical facilities - ward beds | F13: 2
D14: Y | E14: Include within hospital surge capacity. | F14: N/A
D15: Y | E15: Include additional field hospital and private facilty capacity with routine care cancellation (Y/N) | F15: N/A | G15: Nightingale facilities are currently largely on standby, but could be reactivated.
D16: 7 | E16: Mean length of stay on ICU | F16: 13 | G16: The number of beds available each week would be the number of beds * 7 days / mean duration of stay.
D17: 5 | E17: Mean length of stay in hospital ward. | F17: 13 | G17: The number of beds available each week would be the number of beds * 7 days / mean duration of stay.
B18: Sensitivity adjustment | C18: =Sens_CC_Cap -> 0 | D18: =(IF(D14="Y",D10,D8)+IF(D15="Y",D12,0)*7/D16)+'Sensitivity Analysis'!N9*(IF(D14="Y",D10,D8)+IF(D15="Y",D12,0)*7/D16) -> 3444 | E18: ICU beds available each week for scenario | F18: N/A | G18: Field hospitals, private facilities and cancellation of elective admissions will only happen after surge in ICU beds.
C19: =Sens_Ward_Cap -> 0 | D19: =(IF(D15="Y",D11,D9)*7/D17)+'Sensitivity Analysis'!N10*(IF(D15="Y",D11,D9)*7/D17) -> 87173.8 | E19: Ward beds avaialable each week for scenario | F19: N/A | G19: With our without the capacity from field hospitals, private facilities and cancellation of elective admissions.
D20: =H31 -> 9.0229097 | E20: Mortality scalar if needs ICU but no beds are available | F20: 8 | G20: see "5 Excess Mortaltiy Model" sheet
D21: =H30 -> 1.9857754 | E21: Mortality scalar if needs ICU but only ward beds are available
D22: =H28 -> 3.6930496 | E22: Mortality scalar if needs ward but no beds are available
D24: Multipliers of mortality rates (scalars) under different scenarios of exceeding capacity - results of sheet "6. Excess Mortality Model"
D25: Table 0.2 - Summary of mortality scalars - see Excess Mortality Model
D26: Care required | E26: Ward Beds Available | F26: ICU Beds Available | G26: Care provided | H26: Scalar | I26: Sensitivity adjustment
D27: Ward | E27: Yes | F27: n/a | G27: Ward | H27: 1
D28: Ward | E28: No | F28: n/a | G28: None | H28: =1+('Excess Mortality Model'!X44-1)*(1+I28) -> 3.6930496 | I28: =Sens_Ward_HR -> 0
D29: ICU | E29: Yes | F29: Yes | G29: ICU | H29: 1
D30: ICU | E30: Yes | F30: No | G30: Ward | H30: =1+('Excess Mortality Model'!W40-1)*(1+I30) -> 1.9857754 | I30: =Sens_CCU_HR_CCU -> 0
D31: ICU | E31: No | F31: No | G31: None | H31: =1+('Excess Mortality Model'!X40-1)*(1+I31) -> 9.0229097 | I31: =Sens_CCU_HR_Ward -> 0
D33: Sources
D34: 1 | E34: https://www.england.nhs.uk/statistics/statistical-work-areas/critical-care-capacity/critical-care-bed-capacity-and-urgent-operations-cancelled-2019-20-data/
D35: 2 | E35: McCabe R, Schmit N, Christen P, D’Aeth JC, Løchen A, Rizmie D, et al. Adapting hospital capacity to meet changing demands during the COVID-19 pandemic. BMC Med [Internet]. 2020 Dec 16;18(1):329. Supplement 2
D36: 3 | E36: https://www.england.nhs.uk/statistics/statistical-work-areas/bed-availability-and-occupancy/bed-data-overnight/
D37: 4 | E37: https://www.england.nhs.uk/statistics/statistical-work-areas/critical-care-capacity/critical-care-bed-capacity-and-urgent-operations-cancelled-2019-20-data/
D38: 5 | E38: https://www.england.nhs.uk/statistics/statistical-work-areas/bed-availability-and-occupancy/bed-data-overnight/
D39: 6 | E39: ICNARC COVID-19 report, 18th December (https://www.icnarc.org/Our-Audit/Audits/Cmp/Reports)
D40: 7 | E40: ISARIC April 2020 (https://www.medrxiv.org/content/10.1101/2020.04.23.20076042v1.full.pdf)
D41: 8 | E41: Sivaloganathan AA, Nasim-Mohi M, Brown MM, Abdul N, Jackson A, Fletcher S V., et al. Noninvasive ventilation for COVID-19-associated acute hypoxaemic respiratory failure: experience from a single centre. Br J Anaesth. 2020;125(4):e368–71.
D42: 9 | E42: McCabe R, Schmit N, Christen P, D’Aeth JC, Løchen A, Rizmie D, et al. Adapting hospital capacity to meet changing demands during the COVID-19 pandemic. BMC Med [Internet]. 2020 Dec 16;18(1):329. Available from: https://bmcmedicine.biomedcentral.com/articles/10.1186/s12916-020-01781-w
D43: 10 | E43: Hick JL, Einav S, Hanfling D, Kissoon N, Dichter JR, Devereaux A V., et al. Surge capacity principles: Care of the critically ill and injured during pandemics and disasters: CHEST consensus statement. Chest. 2014;146:e1S-e16S.
D44: 11 | E44: NHS England. Management of surge and escalation in critical care services : standard operating procedure for adult critical care [Internet]. 2013 [cited 2020 Feb 15]. Available from: https://www.england.nhs.uk/commissioning/wp-content/uploads/sites/12/2013/11/sop-burns.pdf
D45: 12 | E45: Docherty AB, Harrison EM, Green CA, Hardwick HE, Pius R, Norman L, et al. Features of 20 133 UK patients in hospital with covid-19 using the ISARIC WHO Clinical Characterisation Protocol: Prospective observational cohort study. BMJ. 2020;369(March):1–12.
D46: 13 | E46: Rees EM, Nightingale ES, Jafari Y, Waterlow NR, Clifford S, Carl CA, et al. COVID-19 length of hospital stay: A systematic review and data synthesis. BMC Med. 2020;18(1).
D51: Input data
D52: Data sources are shown in column F.
D54: Output
D55: Estimates of the weekly number of ICU and ward beds available for COVID-19 patients.
D56: Display of mortality rhazard ratios calculated elsewhere.

Sheet Estimating Admissions by Age
B1: This sheet estimates the age distribution of admissions using age-binned admission rates that are interpolated to single year of age.
B3: This sheet shows how we estimated the real shape of admission by age. | M3: Table 1.1 - Estimation of age distribution by single year of age.
B4: First we fit an exponential curve to the rate data for the age ranges 18 to 85+, with the x-axis taken as the | M4: Age | N4: Admission rate per 100K | O4: Population England | P4: Population adjusted rate | Q4: % of bin | R4: Admissions | S4: Age distribution | T4: Check
B5: estimated midpoint of those intervals. The equation is then applied to each age to etimate the rate per 100K for that age (col N). | M5: 0 | N5: =$E$14 -> 33.9 | O5: 618858 | P5: =N5*O5/100000 -> 209.79286 | Q5: =P5/SUM($P$5:$P$10) -> 0.15507276 | R5: =Q5*$D$14 -> 212.75982 | S5: =R5/SUM($R$5:$R$90) -> 0.0010310329 | T5: =SUM(R23:R69) -> 68137
B6: Where the observed data is available it can be put into 5-year age bins and applied directly in column Range E44:E60. | M6: 1 | N6: =$E$14 -> 33.9 | O6: 644056 | P6: =N6*O6/100000 -> 218.33498 | Q6: =P6/SUM($P$5:$P$10) -> 0.16138684 | R6: =Q6*$D$14 -> 221.42275 | S6: =R6/SUM($R$5:$R$90) -> 0.0010730134 | T6: =$D$16 -> 68137
B7: This data was not available to us, so we estimated it by interpolating binned data. | M7: 2 | N7: =$E$14 -> 33.9 | O7: 665596 | P7: =N7*O7/100000 -> 225.63704 | Q7: =P7/SUM($P$5:$P$10) -> 0.16678431 | R7: =Q7*$D$14 -> 228.82808 | S7: =R7/SUM($R$5:$R$90) -> 0.0011088996 | T7: =T5/T6 -> 1
B8: We took admissions by age data from https://coronavirus.data.gov.uk/details/healthcare?areaType=nation&areaName=England | M8: 3 | N8: =$E$14 -> 33.9 | O8: 686135 | P8: =N8*O8/100000 -> 232.59976 | Q8: =P8/SUM($P$5:$P$10) -> 0.17193095 | R8: =Q8*$D$14 -> 235.88927 | S8: =R8/SUM($R$5:$R$90) -> 0.001143118
B9: We estimate admissions by individual age and regroup into bands that match with the deaths data | M9: 4 | N9: =$E$14 -> 33.9 | O9: 684992 | P9: =N9*O9/100000 -> 232.21229 | Q9: =P9/SUM($P$5:$P$10) -> 0.17164454 | R9: =Q9*$D$14 -> 235.49631 | S9: =R9/SUM($R$5:$R$90) -> 0.0011412138
M10: 5 | N10: =$E$14 -> 33.9 | O10: 691122 | P10: =N10*O10/100000 -> 234.29036 | Q10: =P10/SUM($P$5:$P$10) -> 0.17318059 | R10: =Q10*$D$14 -> 237.60377 | S10: =R10/SUM($R$5:$R$90) -> 0.0011514265
C11: NHS England Admissions Age Distribution | M11: 6 | N11: =$E$15 -> 17.9 | O11: 706742 | P11: =N11*O11/100000 -> 126.50682 | Q11: =P11/SUM($P$11:$P$22) -> 0.087981925 | R11: =Q11*$D$15 -> 124.49442 | S11: =R11/SUM($R$5:$R$90) -> 0.00060329927
C12: As of 22/12/20 | M12: 7 | N12: =$E$15 -> 17.9 | O12: 727938 | P12: =N12*O12/100000 -> 130.3009 | Q12: =P12/SUM($P$11:$P$22) -> 0.090620604 | R12: =Q12*$D$15 -> 128.22815 | S12: =R12/SUM($R$5:$R$90) -> 0.0006213929
C13: Age Band | D13: Number | E13: Rate | F13: Check | M13: 8 | N13: =$E$15 -> 17.9 | O13: 712204 | P13: =N13*O13/100000 -> 127.48452 | Q13: =P13/SUM($P$11:$P$22) -> 0.088661887 | R13: =Q13*$D$15 -> 125.45657 | S13: =R13/SUM($R$5:$R$90) -> 0.00060796182
C14: 0 - 5 | D14: 1372 | E14: 33.9 | F14: =SUM(R5:R10) -> 1372 | M14: 9 | N14: =$E$15 -> 17.9 | O14: 700200 | P14: =N14*O14/100000 -> 125.3358 | Q14: =P14/SUM($P$11:$P$22) -> 0.087167515 | R14: =Q14*$D$15 -> 123.34203 | S14: =R14/SUM($R$5:$R$90) -> 0.00059771479
C15: 6 -17 | D15: 1415 | E15: 17.9 | F15: =SUM(R11:R22) -> 1415 | H15: Age | I15: Rate | M15: 10 | N15: =$E$15 -> 17.9 | O15: 689733 | P15: =N15*O15/100000 -> 123.46221 | Q15: =P15/SUM($P$11:$P$22) -> 0.085864484 | R15: =Q15*$D$15 -> 121.49824 | S15: =R15/SUM($R$5:$R$90) -> 0.0005887798
C16: 18 - 64 | D16: 68137 | E16: 201.3 | F16: =SUM(R23:R69) -> 68137 | H16: =AVERAGE(18,64) -> 41 | I16: =E16 -> 201.3 | M16: 11 | N16: =$E$15 -> 17.9 | O16: 695753 | P16: =N16*O16/100000 -> 124.53979 | Q16: =P16/SUM($P$11:$P$22) -> 0.086613911 | R16: =Q16*$D$15 -> 122.55868 | S16: =R16/SUM($R$5:$R$90) -> 0.00059391868
C17: 65 - 84 | D17: 89461 | E17: 1015 | F17: =SUM(R70:R89) -> 89461 | H17: =AVERAGE(65,84) -> 74.5 | I17: =E17 -> 1015 | M17: 12 | N17: =$E$15 -> 17.9 | O17: 673789 | P17: =N17*O17/100000 -> 120.60823 | Q17: =P17/SUM($P$11:$P$22) -> 0.083879624 | R17: =Q17*$D$15 -> 118.68967 | S17: =R17/SUM($R$5:$R$90) -> 0.00057516946
C18: 85+ | D18: 45971 | E18: 3367.9 | F18: =R90 -> 45971 | H18: 88 | I18: =E18 -> 3367.9 | M18: 13 | N18: =$E$15 -> 17.9 | O18: 660928 | P18: =N18*O18/100000 -> 118.30611 | Q18: =P18/SUM($P$11:$P$22) -> 0.082278565 | R18: =Q18*$D$15 -> 116.42417 | S18: =R18/SUM($R$5:$R$90) -> 0.00056419086
C19: Total | D19: =SUM(D14:D18) -> 206356 | M19: 14 | N19: =$E$15 -> 17.9 | O19: 634043 | P19: =N19*O19/100000 -> 113.4937 | Q19: =P19/SUM($P$11:$P$22) -> 0.078931666 | R19: =Q19*$D$15 -> 111.68831 | S19: =R19/SUM($R$5:$R$90) -> 0.0005412409
C20: % 18+ | D20: =SUM(D16:D18)/D19 -> 0.98649421 | M20: 15 | N20: =$E$15 -> 17.9 | O20: 624590 | P20: =N20*O20/100000 -> 111.80161 | Q20: =P20/SUM($P$11:$P$22) -> 0.077754868 | R20: =Q20*$D$15 -> 110.02314 | S20: =R20/SUM($R$5:$R$90) -> 0.0005331715
M21: 16 | N21: =$E$15 -> 17.9 | O21: 607496 | P21: =N21*O21/100000 -> 108.74178 | Q21: =P21/SUM($P$11:$P$22) -> 0.075626845 | R21: =Q21*$D$15 -> 107.01199 | S21: =R21/SUM($R$5:$R$90) -> 0.00051857947
D22: Check | E22: Error | M22: 17 | N22: =$E$15 -> 17.9 | O22: 599393 | P22: =N22*O22/100000 -> 107.29135 | Q22: =P22/SUM($P$11:$P$22) -> 0.074618107 | R22: =Q22*$D$15 -> 105.58462 | S22: =R22/SUM($R$5:$R$90) -> 0.00051166247
D23: =SUM(R5:R90) -> 206356 | E23: =(D19-D23)/D19 -> -2.8207399e-16 | M23: 18 | N23: =16.312 * EXP(0.0573 * M23) -> 45.754998 | O23: 618873 | P23: =N23*O23/100000 -> 283.16533 | Q23: =P23/SUM($P$23:$P$69) -> 0.003740121 | R23: =Q23*$D$16 -> 254.84063 | S23: =R23/SUM($R$5:$R$90) -> 0.0012349562
M24: 19 | N24: =16.312 * EXP(0.0573 * M24) -> 48.453328 | O24: 639880 | P24: =N24*O24/100000 -> 310.04316 | Q24: =P24/SUM($P$23:$P$69) -> 0.0040951303 | R24: =Q24*$D$16 -> 279.0299 | S24: =R24/SUM($R$5:$R$90) -> 0.0013521773
M25: 20 | N25: =16.312 * EXP(0.0573 * M25) -> 51.310789 | O25: 668129 | P25: =N25*O25/100000 -> 342.82226 | Q25: =P25/SUM($P$23:$P$69) -> 0.0045280852 | R25: =Q25*$D$16 -> 308.53014 | S25: =R25/SUM($R$5:$R$90) -> 0.0014951353
M26: 21 | N26: =16.312 * EXP(0.0573 * M26) -> 54.336763 | O26: 679576 | P26: =N26*O26/100000 -> 369.2596 | Q26: =P26/SUM($P$23:$P$69) -> 0.0048772765 | R26: =Q26*$D$16 -> 332.32299 | S26: =R26/SUM($R$5:$R$90) -> 0.0016104353
M27: 22 | N27: =16.312 * EXP(0.0573 * M27) -> 57.54119 | O27: 706968 | P27: =N27*O27/100000 -> 406.7978 | Q27: =P27/SUM($P$23:$P$69) -> 0.0053730907 | R27: =Q27*$D$16 -> 366.10628 | S27: =R27/SUM($R$5:$R$90) -> 0.0017741489
M28: 23 | N28: =16.312 * EXP(0.0573 * M28) -> 60.934592 | O28: 715442 | P28: =N28*O28/100000 -> 435.95167 | Q28: =P28/SUM($P$23:$P$69) -> 0.0057581625 | R28: =Q28*$D$16 -> 392.34392 | S28: =R28/SUM($R$5:$R$90) -> 0.0019012964
M29: 24 | N29: =16.312 * EXP(0.0573 * M29) -> 64.528116 | O29: 717748 | P29: =N29*O29/100000 -> 463.14926 | Q29: =P29/SUM($P$23:$P$69) -> 0.0061173954 | R29: =Q29*$D$16 -> 416.82097 | S29: =R29/SUM($R$5:$R$90) -> 0.002019912
M30: 25 | N30: =16.312 * EXP(0.0573 * M30) -> 68.333562 | O30: 740656 | P30: =N30*O30/100000 -> 506.11663 | Q30: =P30/SUM($P$23:$P$69) -> 0.0066849195 | R30: =Q30*$D$16 -> 455.49036 | S30: =R30/SUM($R$5:$R$90) -> 0.0022073037
M31: 26 | N31: =16.312 * EXP(0.0573 * M31) -> 72.363428 | O31: 742735 | P31: =N31*O31/100000 -> 537.46851 | Q31: =P31/SUM($P$23:$P$69) -> 0.0070990233 | R31: =Q31*$D$16 -> 483.70615 | S31: =R31/SUM($R$5:$R$90) -> 0.0023440372
M32: 27 | N32: =16.312 * EXP(0.0573 * M32) -> 76.630949 | O32: 765411 | P32: =N32*O32/100000 -> 586.54172 | Q32: =P32/SUM($P$23:$P$69) -> 0.0077471949 | R32: =Q32*$D$16 -> 527.87062 | S32: =R32/SUM($R$5:$R$90) -> 0.002558058
M33: 28 | N33: =16.312 * EXP(0.0573 * M33) -> 81.150141 | O33: 782363 | P33: =N33*O33/100000 -> 634.88868 | Q33: =P33/SUM($P$23:$P$69) -> 0.0083857741 | R33: =Q33*$D$16 -> 571.38149 | S33: =R33/SUM($R$5:$R$90) -> 0.0027689115
M34: 29 | N34: =16.312 * EXP(0.0573 * M34) -> 85.935845 | O34: 770244 | P34: =N34*O34/100000 -> 661.91569 | Q34: =P34/SUM($P$23:$P$69) -> 0.0087427539 | R34: =Q34*$D$16 -> 595.70502 | S34: =R34/SUM($R$5:$R$90) -> 0.0028867832
M35: 30 | N35: =16.312 * EXP(0.0573 * M35) -> 91.003779 | O35: 762666 | P35: =N35*O35/100000 -> 694.05488 | Q35: =P35/SUM($P$23:$P$69) -> 0.0091672567 | R35: =Q35*$D$16 -> 624.62937 | S35: =R35/SUM($R$5:$R$90) -> 0.0030269504
D36: Results | M36: 31 | N36: =16.312 * EXP(0.0573 * M36) -> 96.370586 | O36: 771667 | P36: =N36*O36/100000 -> 743.66001 | Q36: =P36/SUM($P$23:$P$69) -> 0.0098224541 | R36: =Q36*$D$16 -> 669.27255 | S36: =R36/SUM($R$5:$R$90) -> 0.003243291
D37: Age | E37: Distribution | G37: Regrouped into required Age bands for ward mortality calculation | M37: 32 | N37: =16.312 * EXP(0.0573 * M37) -> 102.05389 | O37: 752937 | P37: =N37*O37/100000 -> 768.40152 | Q37: =P37/SUM($P$23:$P$69) -> 0.010149246 | R37: =Q37*$D$16 -> 691.53919 | S37: =R37/SUM($R$5:$R$90) -> 0.003351195
D38: 0-4 | E38: =SUM(R5:R9)/SUM($R$5:$R$90) -> 0.0054972777 | G38: 0 - 19 | H38: =D14+D15+SUM(R23:R24) -> 3320.8705 | I38: =H38/H$43 -> 0.01609292 | J38: % 20+ | M38: 33 | N38: =16.312 * EXP(0.0573 * M38) -> 108.07236 | O38: 760681 | P38: =N38*O38/100000 -> 822.08593 | Q38: =P38/SUM($P$23:$P$69) -> 0.010858324 | R38: =Q38*$D$16 -> 739.85362 | S38: =R38/SUM($R$5:$R$90) -> 0.0035853264
D39: 5-9 | E39: =SUM(R10:R14)/SUM($R$5:$R$90) -> 0.0035817953 | G39: 20 - 39 | H39: =SUM(R25:R44) -> 12541.699 | I39: =H39/H$43 -> 0.060777 | J39: =SUM(I39:I42) -> 0.98390708 | M39: 34 | N39: =16.312 * EXP(0.0573 * M39) -> 114.44576 | O39: 760003 | P39: =N39*O39/100000 -> 869.79124 | Q39: =P39/SUM($P$23:$P$69) -> 0.011488428 | R39: =Q39*$D$16 -> 782.78702 | S39: =R39/SUM($R$5:$R$90) -> 0.0037933814
D40: 10-14 | E40: =SUM(R15:R19)/SUM($R$5:$R$90) -> 0.0028632997 | G40: 40 - 59 | H40: =SUM(R45:R64) -> 39130.608 | I40: =H40/H$43 -> 0.18962671 | M40: 35 | N40: =16.312 * EXP(0.0573 * M40) -> 121.19503 | O40: 741443 | P40: =N40*O40/100000 -> 898.59204 | Q40: =P40/SUM($P$23:$P$69) -> 0.011868836 | R40: =Q40*$D$16 -> 808.7069 | S40: =R40/SUM($R$5:$R$90) -> 0.0039189891
D41: 15-19 | E41: =SUM(R20:R24)/SUM($R$5:$R$90) -> 0.0041505469 | G41: 60 - 79 | H41: =SUM(R65:R84) -> 82630.605 | I41: =H41/H$43 -> 0.40042744 | M41: 36 | N41: =16.312 * EXP(0.0573 * M41) -> 128.34232 | O41: 746952 | P41: =N41*O41/100000 -> 958.65549 | Q41: =P41/SUM($P$23:$P$69) -> 0.01266217 | R41: =Q41*$D$16 -> 862.76228 | S41: =R41/SUM($R$5:$R$90) -> 0.0041809411
D42: 20-24 | E42: =SUM(R25:R29)/SUM($R$5:$R$90) -> 0.008800928 | G42: 80+ | H42: =SUM(D18,R85:R89) -> 68732.218 | I42: =H42/H$43 -> 0.33307594 | M42: 37 | N42: =16.312 * EXP(0.0573 * M42) -> 135.91111 | O42: 745065 | P42: =N42*O42/100000 -> 1012.6261 | Q42: =P42/SUM($P$23:$P$69) -> 0.013375028 | R42: =Q42*$D$16 -> 911.33425 | S42: =R42/SUM($R$5:$R$90) -> 0.0044163206
D43: 25-29 | E43: =SUM(R30:R34)/SUM($R$5:$R$90) -> 0.012765094 | G43: Check | H43: =SUM(H38:H42) -> 206356 | I43: =IF(D19=H43,"OK","Something's wrong") -> OK | M43: 38 | N43: =16.312 * EXP(0.0573 * M43) -> 143.92625 | O43: 749311 | P43: =N43*O43/100000 -> 1078.4552 | Q43: =P43/SUM($P$23:$P$69) -> 0.014244516 | R43: =Q43*$D$16 -> 970.5786 | S43: =R43/SUM($R$5:$R$90) -> 0.0047034184
D44: 30-34 | E44: =SUM(R35:R39)/SUM($R$5:$R$90) -> 0.017000144 | M44: 39 | N44: =16.312 * EXP(0.0573 * M44) -> 152.41408 | O44: 750871 | P44: =N44*O44/100000 -> 1144.4331 | Q44: =P44/SUM($P$23:$P$69) -> 0.015115969 | R44: =Q44*$D$16 -> 1029.9568 | S44: =R44/SUM($R$5:$R$90) -> 0.0049911648
D45: 35-39 | E45: =SUM(R40:R44)/SUM($R$5:$R$90) -> 0.022210834 | M45: 40 | N45: =16.312 * EXP(0.0573 * M45) -> 161.40247 | O45: 721254 | P45: =N45*O45/100000 -> 1164.1217 | Q45: =P45/SUM($P$23:$P$69) -> 0.015376021 | R45: =Q45*$D$16 -> 1047.676 | S45: =R45/SUM($R$5:$R$90) -> 0.0050770318
D46: 40-44 | E46: =SUM(R45:R49)/SUM($R$5:$R$90) -> 0.027010475 | M46: 41 | N46: =16.312 * EXP(0.0573 * M46) -> 170.92093 | O46: 672514 | P46: =N46*O46/100000 -> 1149.4672 | Q46: =P46/SUM($P$23:$P$69) -> 0.01518246 | R46: =Q46*$D$16 -> 1034.4873 | S46: =R46/SUM($R$5:$R$90) -> 0.0050131195
D47: 45-49 | E47: =SUM(R50:R54)/SUM($R$5:$R$90) -> 0.039298343 | M47: 42 | N47: =16.312 * EXP(0.0573 * M47) -> 181.00072 | O47: 661799 | P47: =N47*O47/100000 -> 1197.861 | Q47: =P47/SUM($P$23:$P$69) -> 0.015821658 | R47: =Q47*$D$16 -> 1078.0403 | S47: =R47/SUM($R$5:$R$90) -> 0.0052241773
D48: 50-54 | E48: =SUM(R55:R59)/SUM($R$5:$R$90) -> 0.054908516 | G48: Regrouped for calculating ICU admissions | M48: 43 | N48: =16.312 * EXP(0.0573 * M48) -> 191.67496 | O48: 673246 | P48: =N48*O48/100000 -> 1290.444 | Q48: =P48/SUM($P$23:$P$69) -> 0.017044519 | R48: =Q48*$D$16 -> 1161.3624 | S48: =R48/SUM($R$5:$R$90) -> 0.0056279555
D49: 55-59 | E49: =SUM(R60:R64)/SUM($R$5:$R$90) -> 0.068409371 | G49: 16-29 | H49: =SUM(R21:R34) -> 5196.7451 | I49: =H49/SUM(adm_AgeDist2) -> 0.025501543 | M49: 44 | N49: =16.312 * EXP(0.0573 * M49) -> 202.9787 | O49: 685484 | P49: =N49*O49/100000 -> 1391.3865 | Q49: =P49/SUM($P$23:$P$69) -> 0.018377793 | R49: =Q49*$D$16 -> 1252.2077 | S49: =R49/SUM($R$5:$R$90) -> 0.0060681914
D50: 60-64 | E50: =SUM(R65:R69)/SUM($R$5:$R$90) -> 0.077200675 | G50: 30-39 | H50: =SUM(R35:R44) -> 8091.4206 | I50: =H50/SUM(adm_AgeDist2) -> 0.039706336 | M50: 45 | N50: =16.312 * EXP(0.0573 * M50) -> 214.94905 | O50: 696569 | P50: =N50*O50/100000 -> 1497.2685 | Q50: =P50/SUM($P$23:$P$69) -> 0.01977631 | R50: =Q50*$D$16 -> 1347.4984 | S50: =R50/SUM($R$5:$R$90) -> 0.0065299696
D51: 65-69 | E51: =SUM(R70:R74)/SUM($R$5:$R$90) -> 0.091411955 | G51: 40-49 | H51: =SUM(R45:R54) -> 13683.223 | I51: =H51/SUM(adm_AgeDist2) -> 0.067146508 | M51: 46 | N51: =16.312 * EXP(0.0573 * M51) -> 227.62534 | O51: 725600 | P51: =N51*O51/100000 -> 1651.6495 | Q51: =P51/SUM($P$23:$P$69) -> 0.021815414 | R51: =Q51*$D$16 -> 1486.4369 | S51: =R51/SUM($R$5:$R$90) -> 0.0072032646
D52: 70-74 | E52: =SUM(R75:R79)/SUM($R$5:$R$90) -> 0.12034448 | G52: 50-59 | H52: =SUM(R55:R64) -> 25447.386 | I52: =H52/SUM(adm_AgeDist2) -> 0.12487578 | M52: 47 | N52: =16.312 * EXP(0.0573 * M52) -> 241.04919 | O52: 755206 | P52: =N52*O52/100000 -> 1820.418 | Q52: =P52/SUM($P$23:$P$69) -> 0.024044552 | R52: =Q52*$D$16 -> 1638.3236 | S52: =R52/SUM($R$5:$R$90) -> 0.007939307
D53: 75-79 | E53: =SUM(R80:R84)/SUM($R$5:$R$90) -> 0.11147033 | G53: 60-69 | H53: =SUM(R65:R74) -> 34794.228 | I53: =H53/SUM(adm_AgeDist2) -> 0.17074274 | M53: 48 | N53: =16.312 * EXP(0.0573 * M53) -> 255.2647 | O53: 778729 | P53: =N53*O53/100000 -> 1987.8202 | Q53: =P53/SUM($P$23:$P$69) -> 0.026255644 | R53: =Q53*$D$16 -> 1788.9808 | S53: =R53/SUM($R$5:$R$90) -> 0.008669391
D54: 80+ | E54: =SUM(R85:R89)/SUM($R$5:$R$90)+S90 -> 0.33307594 | G54: 70-79 | H54: =SUM(R75:R84) -> 47836.377 | I54: =H54/SUM(adm_AgeDist2) -> 0.23474336 | M54: 49 | N54: =16.312 * EXP(0.0573 * M54) -> 270.31854 | O54: 759708 | P54: =N54*O54/100000 -> 2053.6316 | Q54: =P54/SUM($P$23:$P$69) -> 0.027124898 | R54: =Q54*$D$16 -> 1848.2091 | S54: =R54/SUM($R$5:$R$90) -> 0.008956411
D55: Total | E55: =SUM(E38:E54) -> 1 | G55: 80+ | H55: =SUM(R85:R90) -> 68732.218 | I55: =H55/SUM(adm_AgeDist2) -> 0.33728373 | M55: 50 | N55: =16.312 * EXP(0.0573 * M55) -> 286.26016 | O55: 776578 | P55: =N55*O55/100000 -> 2223.0334 | Q55: =P55/SUM($P$23:$P$69) -> 0.029362401 | R55: =Q55*$D$16 -> 2000.6659 | S55: =R55/SUM($R$5:$R$90) -> 0.0096952156
M56: 51 | N56: =16.312 * EXP(0.0573 * M56) -> 303.14191 | O56: 775173 | P56: =N56*O56/100000 -> 2349.8742 | Q56: =P56/SUM($P$23:$P$69) -> 0.031037747 | R56: =Q56*$D$16 -> 2114.819 | S56: =R56/SUM($R$5:$R$90) -> 0.010248401
M57: 52 | N57: =16.312 * EXP(0.0573 * M57) -> 321.01923 | O57: 785471 | P57: =N57*O57/100000 -> 2521.513 | Q57: =P57/SUM($P$23:$P$69) -> 0.033304796 | R57: =Q57*$D$16 -> 2269.2889 | S57: =R57/SUM($R$5:$R$90) -> 0.010996961
M58: 53 | N58: =16.312 * EXP(0.0573 * M58) -> 339.95084 | O58: 784074 | P58: =N58*O58/100000 -> 2665.4662 | Q58: =P58/SUM($P$23:$P$69) -> 0.035206168 | R58: =Q58*$D$16 -> 2398.8427 | S58: =R58/SUM($R$5:$R$90) -> 0.011624778
M59: 54 | N59: =16.312 * EXP(0.0573 * M59) -> 359.99892 | O59: 786165 | P59: =N59*O59/100000 -> 2830.1855 | Q59: =P59/SUM($P$23:$P$69) -> 0.037381823 | R59: =Q59*$D$16 -> 2547.0853 | S59: =R59/SUM($R$5:$R$90) -> 0.012343161
M60: 55 | N60: =16.312 * EXP(0.0573 * M60) -> 381.2293 | O60: 777616 | P60: =N60*O60/100000 -> 2964.5 | Q60: =P60/SUM($P$23:$P$69) -> 0.039155884 | R60: =Q60*$D$16 -> 2667.9645 | S60: =R60/SUM($R$5:$R$90) -> 0.012928941
M61: 56 | N61: =16.312 * EXP(0.0573 * M61) -> 403.71171 | O61: 758665 | P61: =N61*O61/100000 -> 3062.8194 | Q61: =P61/SUM($P$23:$P$69) -> 0.040454513 | R61: =Q61*$D$16 -> 2756.4491 | S61: =R61/SUM($R$5:$R$90) -> 0.013357737
M62: 57 | N62: =16.312 * EXP(0.0573 * M62) -> 427.51998 | O62: 740085 | P62: =N62*O62/100000 -> 3164.0113 | Q62: =P62/SUM($P$23:$P$69) -> 0.04179108 | R62: =Q62*$D$16 -> 2847.5188 | S62: =R62/SUM($R$5:$R$90) -> 0.01379906
M63: 58 | N63: =16.312 * EXP(0.0573 * M63) -> 452.73231 | O63: 712624 | P63: =N63*O63/100000 -> 3226.2791 | Q63: =P63/SUM($P$23:$P$69) -> 0.04261353 | R63: =Q63*$D$16 -> 2903.5581 | S63: =R63/SUM($R$5:$R$90) -> 0.014070626
M64: 59 | N64: =16.312 * EXP(0.0573 * M64) -> 479.4315 | O64: 681661 | P64: =N64*O64/100000 -> 3268.0976 | Q64: =P64/SUM($P$23:$P$69) -> 0.043165879 | R64: =Q64*$D$16 -> 2941.1935 | S64: =R64/SUM($R$5:$R$90) -> 0.014253007
M65: 60 | N65: =16.312 * EXP(0.0573 * M65) -> 507.70524 | O65: 664457 | P65: =N65*O65/100000 -> 3373.483 | Q65: =P65/SUM($P$23:$P$69) -> 0.044557837 | R65: =Q65*$D$16 -> 3036.0373 | S65: =R65/SUM($R$5:$R$90) -> 0.01471262
M66: 61 | N66: =16.312 * EXP(0.0573 * M66) -> 537.64637 | O66: 649021 | P66: =N66*O66/100000 -> 3489.4378 | Q66: =P66/SUM($P$23:$P$69) -> 0.046089399 | R66: =Q66*$D$16 -> 3140.3934 | S66: =R66/SUM($R$5:$R$90) -> 0.015218328
M67: 62 | N67: =16.312 * EXP(0.0573 * M67) -> 569.35323 | O67: 622905 | P67: =N67*O67/100000 -> 3546.5297 | Q67: =P67/SUM($P$23:$P$69) -> 0.046843483 | R67: =Q67*$D$16 -> 3191.7744 | S67: =R67/SUM($R$5:$R$90) -> 0.015467321
... M69: 64 | N69: =16.312 * EXP(0.0573 * M69) -> 638.48682 | O69: 576200 | P69: =N69*O69/100000 -> 3678.9611 | Q69: =P69/SUM($P$23:$P$69) -> 0.048592671 | R69: =Q69*$D$16 -> 3310.9588 | S69: =R69/SUM($R$5:$R$90) -> 0.016044887
M70: 65 | N70: =16.312 * EXP(0.0573 * M70) -> 676.14059 | O70: 575744 | P70: =N70*O70/100000 -> 3892.8389 | Q70: =P70/SUM($P$70:$P$89) -> 0.038620795 | R70: =Q70*$D$17 -> 3455.0549 | S70: =R70/SUM($R$5:$R$90) -> 0.016743177
M71: 66 | N71: =16.312 * EXP(0.0573 * M71) -> 716.01494 | O71: 566050 | P71: =N71*O71/100000 -> 4053.0026 | Q71: =P71/SUM($P$70:$P$89) -> 0.040209776 | R71: =Q71*$D$17 -> 3597.2068 | S71: =R71/SUM($R$5:$R$90) -> 0.017432044
M72: 67 | N72: =16.312 * EXP(0.0573 * M72) -> 758.24082 | O72: 547827 | P72: =N72*O72/100000 -> 4153.8479 | Q72: =P72/SUM($P$70:$P$89) -> 0.041210261 | R72: =Q72*$D$17 -> 3686.7112 | S72: =R72/SUM($R$5:$R$90) -> 0.017865781
M73: 68 | N73: =16.312 * EXP(0.0573 * M73) -> 802.9569 | O73: 549233 | P73: =N73*O73/100000 -> 4410.1042 | Q73: =P73/SUM($P$70:$P$89) -> 0.043752577 | R73: =Q73*$D$17 -> 3914.1493 | S73: =R73/SUM($R$5:$R$90) -> 0.018967945
M74: 69 | N74: =16.312 * EXP(0.0573 * M74) -> 850.31004 | O74: 557886 | P74: =N74*O74/100000 -> 4743.7607 | Q74: =P74/SUM($P$70:$P$89) -> 0.047062777 | R74: =Q74*$D$17 -> 4210.2831 | S74: =R74/SUM($R$5:$R$90) -> 0.020403008
M75: 70 | N75: =16.312 * EXP(0.0573 * M75) -> 900.45576 | O75: 569617 | P75: =N75*O75/100000 -> 5129.1491 | Q75: =P75/SUM($P$70:$P$89) -> 0.050886209 | R75: =Q75*$D$17 -> 4552.3312 | S75: =R75/SUM($R$5:$R$90) -> 0.022060571
M76: 71 | N76: =16.312 * EXP(0.0573 * M76) -> 953.55875 | O76: 598038 | P76: =N76*O76/100000 -> 5702.6436 | Q76: =P76/SUM($P$70:$P$89) -> 0.05657584 | R76: =Q76*$D$17 -> 5061.3312 | S76: =R76/SUM($R$5:$R$90) -> 0.024527182
M77: 72 | N77: =16.312 * EXP(0.0573 * M77) -> 1009.7934 | O77: 645078 | P77: =N77*O77/100000 -> 6513.9551 | Q77: =P77/SUM($P$70:$P$89) -> 0.064624848 | R77: =Q77*$D$17 -> 5781.4036 | S77: =R77/SUM($R$5:$R$90) -> 0.028016649
M78: 73 | N78: =16.312 * EXP(0.0573 * M78) -> 1069.3444 | O78: 493261 | P78: =N78*O78/100000 -> 5274.6589 | Q78: =P78/SUM($P$70:$P$89) -> 0.05232981 | R78: =Q78*$D$17 -> 4681.4771 | S78: =R78/SUM($R$5:$R$90) -> 0.022686412
M79: 74 | N79: =16.312 * EXP(0.0573 * M79) -> 1132.4073 | O79: 473332 | P79: =N79*O79/100000 -> 5360.0463 | Q79: =P79/SUM($P$70:$P$89) -> 0.053176937 | R79: =Q79*$D$17 -> 4757.262 | S79: =R79/SUM($R$5:$R$90) -> 0.023053664
M80: 75 | N80: =16.312 * EXP(0.0573 * M80) -> 1199.1893 | O80: 466239 | P80: =N80*O80/100000 -> 5591.0883 | Q80: =P80/SUM($P$70:$P$89) -> 0.055469101 | R80: =Q80*$D$17 -> 4962.3212 | S80: =R80/SUM($R$5:$R$90) -> 0.02404738
M81: 76 | N81: =16.312 * EXP(0.0573 * M81) -> 1269.9096 | O81: 427207 | P81: =N81*O81/100000 -> 5425.1429 | Q81: =P81/SUM($P$70:$P$89) -> 0.05382276 | R81: =Q81*$D$17 -> 4815.0379 | S81: =R81/SUM($R$5:$R$90) -> 0.023333646
... M89: 84 | N89: =16.312 * EXP(0.0573 * M89) -> 2008.4148 | O89: 242740 | P89: =N89*O89/100000 -> 4875.2261 | Q89: =P89/SUM($P$70:$P$89) -> 0.048367043 | R89: =Q89*$D$17 -> 4326.9641 | S89: =R89/SUM($R$5:$R$90) -> 0.020968443
M90: 88 | N90: =16.312 * EXP(0.0573 * M90) -> 2525.7695 | O90: 1397051 | P90: =N90*O90/100000 -> 35286.288 | Q90: =P90/P90 -> 1 | R90: =Q90*$D$18 -> 45971 | S90: =R90/SUM($R$5:$R$90) -> 0.2227752
C94: Input data
C95: Binned admission data from the Coronavirus data dashboard at Gov.Uk here: https://coronavirus.data.gov.uk/details/healthcare?areaType=nation&areaName=England
C96: Mid-year population of England by single year of age. Source ONS. Table SAPE22DT2. https://www.ons.gov.uk/peoplepopulationandcommunity/populationandmigration/populationestimates/datasets/lowersuperoutputareamidyearpopulationestimates
C98: Output
C99: Distribution of admissions by 5-year age bins.

Sheet Scenarios
B1: This sheets calculates the scenario projections of admission demand on a weekly basis in a 'middling', 'pessimistic' and 'optimistic' scenario.
B2: This sheet projects three scenarios forward from observed data up to the 9th December.
B4: Scenarios
C5: Optimistic | D5: Middling | E5: Pessimistic | F5: Historical | G5: Multiplier values projected | X5: 44104 | Y5: 2833
B6: 44104 | C6: 2927 | D6: 2927 | E6: 2927 | F6: 2833 | G6: Optimistic | H6: Middling | I6: Pessimistic | X6: 44111 | Y6: 4242
B7: 44111 | C7: 4119 | D7: 4119 | E7: 4119 | F7: 4242 | G7: =C7/C6 -> 1.4072429 | H7: =D7/D6 -> 1.4072429 | I7: =E7/E6 -> 1.4072429 | X7: 44118 | Y7: 5843
B8: 44118 | C8: 5571 | D8: 5571 | E8: 5571 | F8: 5843 | G8: =C8/C7 -> 1.3525127 | H8: =D8/D7 -> 1.3525127 | I8: =E8/E7 -> 1.3525127 | X8: 44125 | Y8: 7600
B9: 44125 | C9: 7626 | D9: 7626 | E9: 7626 | F9: 7600 | G9: =C9/C8 -> 1.3688745 | H9: =D9/D8 -> 1.3688745 | I9: =E9/E8 -> 1.3688745 | X9: 44132 | Y9: 9743
B10: 44132 | C10: 8790 | D10: 8790 | E10: 8790 | F10: 9743 | G10: =C10/C9 -> 1.1526357 | H10: =D10/D9 -> 1.1526357 | I10: =E10/E9 -> 1.1526357 | X10: 44139 | Y10: 10660
B11: 44139 | C11: 9860 | D11: 9860 | E11: 9860 | F11: 10660 | G11: =C11/C10 -> 1.1217292 | H11: =D11/D10 -> 1.1217292 | I11: =E11/E10 -> 1.1217292 | M11: Linear projection of current increase in R | X11: 44146 | Y11: 11820
B12: 44146 | C12: 10716 | D12: 10716 | E12: 10716 | F12: 11820 | G12: =C12/C11 -> 1.0868154 | H12: =D12/D11 -> 1.0868154 | I12: =E12/E11 -> 1.0868154 | M12: {=LINEST(G14:G16,B14:B16)} -> 0.022803246 | N12: -1006.0911 | X12: 44153 | Y12: 12109
B13: 44153 | C13: 9621 | D13: 9621 | E13: 9621 | F13: 12109 | G13: =C13/C12 -> 0.89781635 | H13: =D13/D12 -> 0.89781635 | I13: =E13/E12 -> 0.89781635 | X13: 44160 | Y13: 10873
B14: 44160 | C14: 8435 | D14: 8435 | E14: 8435 | F14: 10873 | G14: =C14/C13 -> 0.87672799 | H14: =D14/D13 -> 0.87672799 | I14: =E14/E13 -> 0.87672799 | X14: 44167 | Y14: 9685
B15: 44167 | C15: 9338 | D15: 9338 | E15: 9338 | F15: 9685 | G15: =C15/C14 -> 1.1070539 | H15: =D15/D14 -> 1.1070539 | I15: =E15/E14 -> 1.1070539 | X15: 44174 | Y15: 10981
B16: 44174 | C16: 11168 | D16: 11168 | E16: 11168 | F16: 10981 | G16: =C16/C15 -> 1.1959734 | H16: =D16/D15 -> 1.1959734 | I16: =E16/E15 -> 1.1959734
B17: 44181 | C17: 11244 | D17: 11244 | E17: 11244 | F17: 12979 | G17: =$N$12+$M$12*$B17 -> 1.3791639 | H17: =$N$12+$M$12*$B17 -> 1.3791639 | I17: =$N$12+$M$12*$B17 -> 1.3791639
B18: 44188 | C18: =C17*G17 -> 15507.319 | D18: =D17*H17 -> 15507.319 | E18: =E17*I17 -> 15507.319 | F18: 15393 | G18: 1.2 | H18: =$N$12+$M$12*$B18 -> 1.5387866 | I18: =$N$12+$M$12*$B18 -> 1.5387866
B19: 44195 | C19: =C18*G18 -> 18608.783 | D19: =D18*H18 -> 23862.455 | E19: =E18*I18 -> 23862.455 | F19: 19322 | G19: 1 | H19: =$N$12+$M$12*$B19 -> 1.6984094 | I19: =$N$12+$M$12*$B19 -> 1.6984094
B20: 44202 | C20: =C19*G19 -> 18608.783 | D20: =D19*H19 -> 40528.217 | E20: =E19*I19 -> 40528.217 | F20: 25818 | G20: 0.8 | H20: =G18 -> 1.2 | I20: =$N$12+$M$12*$B20 -> 1.8580321
B21: 44209 | C21: =C20*G20 -> 14887.026 | D21: =D20*H20 -> 48633.861 | E21: =E20*I20 -> 75302.728 | F21: 29447 | G21: 0.8 | H21: =G19 -> 1 | I21: =H19 -> 1.6984094
B22: 44216 | C22: =C21*G21 -> 11909.621 | D22: =D21*H21 -> 48633.861 | E22: =E21*I21 -> 127894.86 | F22: 27734 | G22: 0.8 | H22: =G20 -> 0.8 | I22: =H20 -> 1.2
B23: 44223 | C23: =C22*G22 -> 9527.6968 | D23: =D22*H22 -> 38907.089 | E23: =E22*I22 -> 153473.83 | F23: 22365 | G23: 0.8 | H23: =G21 -> 0.8 | I23: =H21 -> 1
B24: 44230 | C24: =C23*G23 -> 7622.1574 | D24: =D23*H23 -> 31125.671 | E24: =E23*I23 -> 153473.83 | F24: 18010 | G24: 0.8 | H24: =G22 -> 0.8 | I24: =H22 -> 0.8
B25: 44237 | C25: =C24*G24 -> 6097.7259 | D25: =D24*H24 -> 24900.537 | E25: =E24*I24 -> 122779.06 | F25: =F24*H25 -> 14408 | G25: 0.8 | H25: =G23 -> 0.8 | I25: =H23 -> 0.8
B26: 44244 | C26: =C25*G25 -> 4878.1808 | D26: =D25*H25 -> 19920.429 | E26: =E25*I25 -> 98223.251 | F26: =F25*H26 -> 11526.4 | G26: 0.8 | H26: =G24 -> 0.8 | I26: =H24 -> 0.8
B27: 44251 | C27: =C26*G26 -> 3902.5446 | D27: =D26*H26 -> 15936.343 | E27: =E26*I26 -> 78578.601 | F27: =F26*H27 -> 9221.12 | G27: 0.7 | H27: =G25 -> 0.8 | I27: =H25 -> 0.8
B28: 44258 | C28: =C27*G27 -> 2731.7812 | D28: =D27*H27 -> 12749.075 | E28: =E27*I27 -> 62862.881 | F28: =F27*H28 -> 7376.896 | G28: 0.7 | H28: =G26 -> 0.8 | I28: =H26 -> 0.8
B29: 44265 | C29: =C28*G28 -> 1912.2469 | D29: =D28*H28 -> 10199.26 | E29: =E28*I28 -> 50290.305 | F29: =F28*H29 -> 5163.8272 | G29: 0.7 | H29: =G27 -> 0.7 | I29: =H27 -> 0.8
B30: 44272 | C30: =C29*G29 -> 1338.5728 | D30: =D29*H29 -> 7139.4819 | E30: =E29*I29 -> 40232.244 | F30: =F29*H30 -> 3614.679 | G30: 0.7 | H30: =G28 -> 0.7 | I30: =H28 -> 0.8
B31: 44279 | C31: =C30*G30 -> 937.00096 | D31: =D30*H30 -> 4997.6373 | E31: =E30*I30 -> 32185.795 | F31: =F30*H31 -> 2530.2753 | G31: 0.7 | H31: =G29 -> 0.7 | I31: =H29 -> 0.7
B32: 44286 | C32: =C31*G31 -> 655.90067 | D32: =D31*H31 -> 3498.3461 | E32: =E31*I31 -> 22530.056 | F32: =F31*H32 -> 1771.1927 | G32: 0.7 | H32: =G30 -> 0.7 | I32: =H30 -> 0.7
B33: 44293 | C33: =C32*G32 -> 459.13047 | D33: =D32*H32 -> 2448.8423 | E33: =E32*I32 -> 15771.04 | F33: =F32*H33 -> 1239.8349 | G33: 0.7 | H33: =G31 -> 0.7 | I33: =H31 -> 0.7
B34: 44300 | C34: =C33*G33 -> 321.39133 | D34: =D33*H33 -> 1714.1896 | E34: =E33*I33 -> 11039.728 | F34: =F33*H34 -> 867.88444 | G34: 0.7 | H34: =G32 -> 0.7 | I34: =H32 -> 0.7
B35: 44307 | C35: =C34*G34 -> 224.97393 | D35: =D34*H34 -> 1199.9327 | E35: =E34*I34 -> 7727.8094 | F35: =F34*H35 -> 607.51911 | G35: 0.7 | H35: =G33 -> 0.7 | I35: =H33 -> 0.7
B36: 44314 | C36: =C35*G35 -> 157.48175 | D36: =D35*H35 -> 839.9529 | E36: =E35*I35 -> 5409.4666 | F36: =F35*H36 -> 425.26337 | G36: 0.7 | H36: =G34 -> 0.7 | I36: =H34 -> 0.7
C40: Input data
C41: Data on admissions from the GOV.UK Coronavirus dashboard. https://coronavirus.data.gov.uk/details/healthcare?areaType=nation&areaName=England
C44: Assumptions
C49: Output
C50: Three scenarios projecting admission rates in columns G, H and I.

Sheet Sensitivity Analysis
B1: Sensitivity analysis of Exceeding Capacity model
B3: Scenario | C3: Ward availability | D3: ICU availability | E3: No ward HR | F3: No ICU HR | G3: No ICU or Ward HR | H3: Unlimited capacity deaths | I3: Excess deaths due to capacity breach | J3: Total deaths | K3: % increase in deaths | M3: Unlimited capacity deaths | N3: Outside capacity deaths | O3: Scenario | Q3: Adjustment choices
B4: Middling | C4: -0.2 | D4: 0% | E4: 0% | F4: 0% | G4: 0% | H4: 91096.104 | I4: 154.44259 | J4: =I4+H4 -> 91250.546 | K4: =J4/H4-1 -> 0.0016953808 | M4: ='Deaths - In capacity'!F38 -> 63293.267 | N4: ='Deaths - outside capacity'!M42 -> 0 | O4: Historical | Q4: -0.2
B5: Middling | C5: 0% | D5: 0% | E5: 0% | F5: 0% | G5: 0% | H5: 91096.104 | I5: 154.44259 | J5: =I5+H5 -> 91250.546 | K5: =J5/H5-1 -> 0.0016953808 | Q5: 0
B6: Middling | C6: 0.2 | D6: 0% | E6: 0% | F6: 0% | G6: 0% | H6: 91096.104 | I6: 154.44259 | J6: =I6+H6 -> 91250.546 | K6: =J6/H6-1 -> 0.0016953808 | Q6: 0.2
B7: Middling | C7: 0% | D7: -0.2 | E7: 0% | F7: 0% | G7: 0% | H7: 91096.104 | I7: 597.21254 | J7: =I7+H7 -> 91693.316 | K7: =J7/H7-1 -> 0.0065558516
B8: Middling | C8: 0% | D8: 0.2 | E8: 0% | F8: 0% | G8: 0% | H8: 91096.104 | I8: 0 | J8: =I8+H8 -> 91096.104 | K8: =J8/H8-1 -> 0 | N8: Adjustment
B9: Middling | C9: 0% | D9: 0% | E9: -0.2 | F9: 0% | G9: 0% | H9: 91096.104 | I9: 154.44259 | J9: =I9+H9 -> 91250.546 | K9: =J9/H9-1 -> 0.0016953808 | M9: ICU capacity | N9: 0
B10: Middling | C10: 0% | D10: 0% | E10: 0.2 | F10: 0% | G10: 0% | H10: 91096.104 | I10: 154.44259 | J10: =I10+H10 -> 91250.546 | K10: =J10/H10-1 -> 0.0016953808 | M10: Ward capacity | N10: 0
B11: Middling | C11: 0% | D11: 0% | E11: 0% | F11: -0.2 | G11: 0% | H11: 91096.104 | I11: 130.04378 | J11: =I11+H11 -> 91226.147 | K11: =J11/H11-1 -> 0.0014275449 | M11: No ward HR | N11: 0 | T11: =R17 & CHAR(10) & "Scenario: " & R16 -> No ICU or Ward HR Scenario: Historical
B12: Middling | C12: 0% | D12: 0% | E12: 0% | F12: 0.2 | G12: 0% | H12: 91096.104 | I12: 176.38481 | J12: =I12+H12 -> 91272.488 | K12: =J12/H12-1 -> 0.0019362497 | M12: No ICU HR | N12: 0
B13: Middling | C13: 0% | D13: 0% | E13: 0% | F13: 0% | G13: -0.2 | H13: 91096.104 | I13: 154.44259 | J13: =I13+H13 -> 91250.546 | K13: =J13/H13-1 -> 0.0016953808 | M13: No ICU or Ward HR | N13: 0
B14: Middling | C14: 0% | D14: 0% | E14: 0% | F14: 0% | G14: 0.2 | H14: 91096.104 | I14: 154.44259 | J14: =I14+H14 -> 91250.546 | K14: =J14/H14-1 -> 0.0016953808
B15: Optimistic | C15: 0% | D15: 0% | E15: 0% | F15: 0% | G15: 0% | H15: 42925.146 | I15: 0 | J15: =I15+H15 -> 42925.146 | K15: =J15/H15-1 -> 0
B16: Pessimistic | C16: -0.2 | D16: 0% | E16: 0% | F16: 0% | G16: 0% | H16: 253755.58 | I16: 103844.69 | J16: =I16+H16 -> 357600.28 | K16: =J16/H16-1 -> 0.40923116 | Q16: Scenario | R16: =Scenario -> Historical
B17: Pessimistic | C17: 0% | D17: 0% | E17: 0% | F17: 0% | G17: 0% | H17: 253755.58 | I17: 73782.746 | J17: =I17+H17 -> 327538.33 | K17: =J17/H17-1 -> 0.29076304 | Q17: Variable | R17: No ICU or Ward HR
B18: Pessimistic | C18: 0.2 | D18: 0% | E18: 0% | F18: 0% | G18: 0% | H18: 253755.58 | I18: 49219.003 | J18: =I18+H18 -> 302974.59 | K18: =J18/H18-1 -> 0.19396225 | Q18: -0.2 | R18: =IFERROR(OFFSET($I$3,MATCH($R$16,$B$4:$B$26,0)+MATCH($Q18,OFFSET($B$3,MATCH($R$16,$B$4:$B$26,0),MATCH($R$17,$C$3:$G$3,0),COUNTIF(B4:B26,$R$16)),0)-1,0),0) -> 0
B19: Pessimistic | C19: 0% | D19: -0.2 | E19: 0% | F19: 0% | G19: 0% | H19: 253755.58 | I19: 76454.139 | J19: =I19+H19 -> 330209.72 | K19: =J19/H19-1 -> 0.30129047 | Q19: 0% | R19: =IF(Scenario="Optimistic",I15,IF(Scenario="Middling",I5,I17)) -> 73782.746
B20: Pessimistic | C20: 0% | D20: 0.2 | E20: 0% | F20: 0% | G20: 0% | H20: 253755.58 | I20: 71325.256 | J20: =I20+H20 -> 325080.84 | K20: =J20/H20-1 -> 0.28107857 | Q20: 0.2 | R20: =IFERROR(OFFSET($I$3, MATCH($R$16, $B$4:$B$26, 0)+MATCH($Q20, OFFSET($B$3, MATCH($R$16, $B$4:$B$26, 0), MATCH($R$17, $C$3:$G$3, 0), COUNTIF(B4:B26, $R$16)), 0)-1, 0), 0) -> 0
B21: Pessimistic | C21: 0% | D21: 0% | E21: -0.2 | F21: 0% | G21: 0% | H21: 253755.58 | I21: 65911.822 | J21: =I21+H21 -> 319667.41 | K21: =J21/H21-1 -> 0.25974531
B22: Pessimistic | C22: 0% | D22: 0% | E22: 0.2 | F22: 0% | G22: 0% | H22: 253755.58 | I22: 80661.956 | J22: =I22+H22 -> 334417.54 | K22: =J22/H22-1 -> 0.31787263
B23: Pessimistic | C23: 0% | D23: 0% | E23: 0% | F23: -0.2 | G23: 0% | H23: 253755.58 | I23: 73543.679 | J23: =I23+H23 -> 327299.26 | K23: =J23/H23-1 -> 0.28982093
B24: Pessimistic | C24: 0% | D24: 0% | E24: 0% | F24: 0.2 | G24: 0% | H24: 253755.58 | I24: 73997.744 | J24: =I24+H24 -> 327753.33 | K24: =J24/H24-1 -> 0.29161031
B25: Pessimistic | C25: 0% | D25: 0% | E25: 0% | F25: 0% | G25: -0.2 | H25: 253755.58 | I25: 73014.635 | J25: =I25+H25 -> 326770.22 | K25: =J25/H25-1 -> 0.28773607
B26: Pessimistic | C26: 0% | D26: 0% | E26: 0% | F26: 0% | G26: 0.2 | H26: 253755.58 | I26: 74268.812 | J26: =I26+H26 -> 328024.4 | K26: =J26/H26-1 -> 0.29267853
B27: Historical | C27: 0% | D27: 0% | E27: 0% | F27: 0% | G27: 0% | H27: 63293.267 | I27: 0 | J27: =I27+H27 -> 63293.267 | K27: =J27/H27-1 -> 0

Sheet New patients in hospital
B1: Calculating the estimated number of hospitalised patients in each age group of each week
A3: Table 2.1 - Estimated hospitalised patients per week and age group.
A4: Week commencing | B4: Region | C4: Value | D4: 0-4 | E4: 5-9 | F4: 10-14 | G4: 15-19 | H4: 20-24 | I4: 25-29 | J4: 30-34 | K4: 35-39 | L4: 40-44 | M4: 45-49 | N4: 50-54 | O4: 55-59 | P4: 60-64 | Q4: 65-69 | R4: 70-74 | S4: 75-79 | T4: 80+
A5: 44104 | B5: England | C5: {=IF(Scenario="Optimistic",Scenarios!$C$6:$C$36,IF(Scenario="Middling",Scenarios!$D$6:$D$36,IF(Scenario="Pessimistic",Scenarios!$E$6:$E$36,Scenarios!$F$6:$F$36)))} -> 2833 | D5: =$C5*D$38 -> 15.573788 | E5: =$C5*E$38 -> 10.147226 | F5: =$C5*F$38 -> 8.1117281 | G5: =$C5*G$38 -> 11.758499 | H5: =$C5*H$38 -> 24.933029 | I5: =$C5*I$38 -> 36.16351 | J5: =$C5*J$38 -> 48.161408 | K5: =$C5*K$38 -> 62.923292 | ... T5: =$C5*T$38 -> 943.60413
A6: 44111 | B6: England | C6: 4242 | D6: =$C6*D$38 -> 23.319452 | E6: =$C6*E$38 -> 15.193976 | F6: =$C6*F$38 -> 12.146117 | G6: =$C6*G$38 -> 17.60662 | H6: =$C6*H$38 -> 37.333537 | I6: =$C6*I$38 -> 54.149527 | J6: =$C6*J$38 -> 72.114612 | K6: =$C6*K$38 -> 94.218357 | ... T6: =$C6*T$38 -> 1412.9081 | V6: Column C holds the scenario weekly hospitalisation numbers. Using the age-distribution and the COVID admissions in the scenario we have calculated the number of admissions to hospital in each age group.
A7: 44118 | B7: England | C7: 5843 | D7: =$C7*D$38 -> 32.120593 | E7: =$C7*E$38 -> 20.92843 | F7: =$C7*F$38 -> 16.73026 | G7: =$C7*G$38 -> 24.251646 | H7: =$C7*H$38 -> 51.423822 | I7: =$C7*I$38 -> 74.586442 | J7: =$C7*J$38 -> 99.331842 | K7: =$C7*K$38 -> 129.7779 | ... T7: =$C7*T$38 -> 1946.1627
A8: 44125 | B8: England | C8: 7600 | D8: =$C8*D$38 -> 41.77931 | E8: =$C8*E$38 -> 27.221644 | F8: =$C8*F$38 -> 21.761078 | G8: =$C8*G$38 -> 31.544157 | H8: =$C8*H$38 -> 66.887053 | I8: =$C8*I$38 -> 97.014711 | J8: =$C8*J$38 -> 129.2011 | K8: =$C8*K$38 -> 168.80234 | ... T8: =$C8*T$38 -> 2531.3771
A9: 44132 | B9: England | C9: 9743 | D9: =$C9*D$38 -> 53.559976 | E9: =$C9*E$38 -> 34.897432 | F9: =$C9*F$38 -> 27.897129 | G9: =$C9*G$38 -> 40.438779 | H9: =$C9*H$38 -> 85.747441 | I9: =$C9*I$38 -> 124.37031 | J9: =$C9*J$38 -> 165.6324 | K9: =$C9*K$38 -> 216.40015 | ... T9: =$C9*T$38 -> 3245.1589
A10: 44139 | B10: England | C10: 10660 | D10: =$C10*D$38 -> 58.60098 | E10: =$C10*E$38 -> 38.181938 | F10: =$C10*F$38 -> 30.522775 | G10: =$C10*G$38 -> 44.24483 | H10: =$C10*H$38 -> 93.817892 | I10: =$C10*I$38 -> 136.0759 | J10: =$C10*J$38 -> 181.22154 | K10: =$C10*K$38 -> 236.76749 | ... T10: =$C10*T$38 -> 3550.5895
A11: 44146 | B11: England | C11: 11820 | D11: =$C11*D$38 -> 64.977822 | E11: =$C11*E$38 -> 42.33682 | F11: =$C11*F$38 -> 33.844203 | G11: =$C11*G$38 -> 49.059465 | H11: =$C11*H$38 -> 104.02697 | I11: =$C11*I$38 -> 150.88341 | J11: =$C11*J$38 -> 200.9417 | K11: =$C11*K$38 -> 262.53206 | ... T11: =$C11*T$38 -> 3936.9576
A12: 44153 | B12: England | C12: 12109 | D12: =$C12*D$38 -> 66.566535 | E12: =$C12*E$38 -> 43.371959 | F12: =$C12*F$38 -> 34.671696 | G12: =$C12*G$38 -> 50.258973 | H12: =$C12*H$38 -> 106.57044 | I12: =$C12*I$38 -> 154.57252 | J12: =$C12*J$38 -> 205.85475 | K12: =$C12*K$38 -> 268.95099 | ... T12: =$C12*T$38 -> 4033.2165
A13: 44160 | B13: England | C13: 10873 | D13: =$C13*D$38 -> 59.7719 | E13: =$C13*E$38 -> 38.94486 | F13: =$C13*F$38 -> 31.132658 | G13: =$C13*G$38 -> 45.128897 | H13: =$C13*H$38 -> 95.69249 | I13: =$C13*I$38 -> 138.79486 | J13: =$C13*J$38 -> 184.84257 | K13: =$C13*K$38 -> 241.4984 | ... T13: =$C13*T$38 -> 3621.5347
A14: 44167 | B14: England | C14: 9685 | D14: =$C14*D$38 -> 53.241134 | E14: =$C14*E$38 -> 34.689688 | F14: =$C14*F$38 -> 27.731058 | G14: =$C14*G$38 -> 40.198047 | H14: =$C14*H$38 -> 85.236988 | I14: =$C14*I$38 -> 123.62993 | J14: =$C14*J$38 -> 164.6464 | K14: =$C14*K$38 -> 215.11193 | ... T14: =$C14*T$38 -> 3225.8404
A15: 44174 | B15: England | C15: 10981 | D15: =$C15*D$38 -> 60.365606 | E15: =$C15*E$38 -> 39.331694 | F15: =$C15*F$38 -> 31.441894 | G15: =$C15*G$38 -> 45.577156 | H15: =$C15*H$38 -> 96.64299 | I15: =$C15*I$38 -> 140.17349 | J15: =$C15*J$38 -> 186.67858 | K15: =$C15*K$38 -> 243.89717 | ... T15: =$C15*T$38 -> 3657.5069
A16: 44181 | B16: England | C16: 12979 | D16: =$C16*D$38 -> 71.349167 | E16: =$C16*E$38 -> 46.488121 | F16: =$C16*F$38 -> 37.162767 | G16: =$C16*G$38 -> 53.869949 | H16: =$C16*H$38 -> 114.22724 | I16: =$C16*I$38 -> 165.67815 | J16: =$C16*J$38 -> 220.64487 | K16: =$C16*K$38 -> 288.27441 | ... T16: =$C16*T$38 -> 4322.9926
A17: 44188 | B17: England | C17: 15393 | D17: =$C17*D$38 -> 84.619595 | E17: =$C17*E$38 -> 55.134575 | F17: =$C17*F$38 -> 44.074772 | G17: =$C17*G$38 -> 63.889369 | H17: =$C17*H$38 -> 135.47268 | I17: =$C17*I$38 -> 196.49308 | J17: =$C17*J$38 -> 261.68322 | K17: =$C17*K$38 -> 341.89137 | ... T17: =$C17*T$38 -> 5127.0379
A18: 44195 | B18: England | C18: 19322 | D18: =$C18*D$38 -> 106.2184 | E18: =$C18*E$38 -> 69.207449 | F18: =$C18*F$38 -> 55.324677 | G18: =$C18*G$38 -> 80.196868 | H18: =$C18*H$38 -> 170.05153 | I18: =$C18*I$38 -> 246.64714 | J18: =$C18*J$38 -> 328.47679 | K18: =$C18*K$38 -> 429.15773 | ... T18: =$C18*T$38 -> 6435.6932
... A35: 44314 | B35: England | C35: 425.26337 | D35: =$C35*D$38 -> 2.3377908 | E35: =$C35*E$38 -> 1.5232064 | F35: =$C35*F$38 -> 1.2176565 | G35: =$C35*G$38 -> 1.7650756 | H35: =$C35*H$38 -> 3.7427123 | I35: =$C35*I$38 -> 5.4285268 | J35: =$C35*J$38 -> 7.2295387 | K35: =$C35*K$38 -> 9.4454542 | ... T35: =$C35*T$38 -> 141.645
C37: Region | D37: 0-4 | E37: 5-9 | F37: 10-14 | G37: 15-19 | H37: 20-24 | I37: 25-29 | J37: 30-34 | K37: 35-39 | L37: 40-44 | M37: 45-49 | N37: 50-54 | O37: 55-59 | P37: 60-64 | Q37: 65-69 | R37: 70-74 | S37: 75-79 | T37: 80+
C38: UK | D38: {=TRANSPOSE(adm_AgeDist)} -> 0.0054972777 | E38: 0.0035817953 | F38: 0.0028632997 | G38: 0.0041505469 | H38: 0.008800928 | I38: 0.012765094 | J38: 0.017000144 | K38: 0.022210834 | L38: 0.027010475 | M38: 0.039298343 | N38: 0.054908516 | O38: 0.068409371 | P38: 0.077200675 | Q38: 0.091411955 | R38: 0.12034448 | S38: 0.11147033 | T38: 0.33307594
C40: Input data
C41: C4:C34. Observed number of admissions up to the 9th December 2020, then one three hypothetical projections for the number of admissions to the week beginning the 28th April 2021 from sheet "12 Scenarios".
C42: D37:T37. Estimated distribution of admissions by 5-year age bands. See sheet "1 Estimating Admissions by Age" range E44:E61.
C44: Output
C45: Counts of expected admissions by 5-year age bins for each calendar week between the week beginning 30th September 20 and 28th April 21

Sheet Hospital beds occupied non-ICU
A1: Week commencing | B1: Region | C1: Value | D1: 0-4 | E1: 5-9 | F1: 10-14 | G1: 15-19 | H1: 20-24 | I1: 25-29 | J1: 30-34 | K1: 35-39 | L1: 40-44 | M1: 45-49 | N1: 50-54 | O1: 55-59 | P1: 60-64 | Q1: 65-69 | R1: 70-74 | S1: 75-79 | T1: 80+
A2: 44104 | B2: UK | C2: 5076 | D2: =$C2*D$35 -> 4.5684 | E2: =$C2*E$35 -> 6.5988 | F2: =$C2*F$35 -> 11.6748 | G2: =$C2*G$35 -> 23.8572 | H2: =$C2*H$35 -> 47.2068 | I2: =$C2*I$35 -> 101.0124 | J2: =$C2*J$35 -> 156.3408 | K2: =$C2*K$35 -> 251.7696 | ... T2: =$C2*T$35 -> 476.6364
A3: 44111 | B3: UK | C3: 6649 | D3: =$C3*D$35 -> 5.9841 | E3: =$C3*E$35 -> 8.6437 | F3: =$C3*F$35 -> 15.2927 | G3: =$C3*G$35 -> 31.2503 | H3: =$C3*H$35 -> 61.8357 | I3: =$C3*I$35 -> 132.3151 | J3: =$C3*J$35 -> 204.7892 | K3: =$C3*K$35 -> 329.7904 | ... T3: =$C3*T$35 -> 624.3411
A4: 44118 | B4: UK | C4: 8544 | D4: =$C4*D$35 -> 7.6896 | E4: =$C4*E$35 -> 11.1072 | F4: =$C4*F$35 -> 19.6512 | G4: =$C4*G$35 -> 40.1568 | H4: =$C4*H$35 -> 79.4592 | I4: =$C4*I$35 -> 170.0256 | J4: =$C4*J$35 -> 263.1552 | K4: =$C4*K$35 -> 423.7824 | ... T4: =$C4*T$35 -> 802.2816
A5: 44125 | B5: UK | C5: 10681 | D5: =$C5*D$35 -> 9.6129 | E5: =$C5*E$35 -> 13.8853 | F5: =$C5*F$35 -> 24.5663 | G5: =$C5*G$35 -> 50.2007 | H5: =$C5*H$35 -> 99.3333 | I5: =$C5*I$35 -> 212.5519 | J5: =$C5*J$35 -> 328.9748 | K5: =$C5*K$35 -> 529.7776 | ... T5: =$C5*T$35 -> 1002.9459
A6: 44132 | B6: UK | C6: 12940 | D6: =$C6*D$35 -> 11.646 | E6: =$C6*E$35 -> 16.822 | F6: =$C6*F$35 -> 29.762 | G6: =$C6*G$35 -> 60.818 | H6: =$C6*H$35 -> 120.342 | I6: =$C6*I$35 -> 257.506 | J6: =$C6*J$35 -> 398.552 | K6: =$C6*K$35 -> 641.824 | ... T6: =$C6*T$35 -> 1215.066
A7: 44139 | B7: UK | C7: 15186 | D7: =$C7*D$35 -> 13.6674 | E7: =$C7*E$35 -> 19.7418 | F7: =$C7*F$35 -> 34.9278 | G7: =$C7*G$35 -> 71.3742 | H7: =$C7*H$35 -> 141.2298 | I7: =$C7*I$35 -> 302.2014 | J7: =$C7*J$35 -> 467.7288 | K7: =$C7*K$35 -> 753.2256 | ... T7: =$C7*T$35 -> 1425.9654
A8: 44146 | B8: UK | C8: 17282 | D8: =$C8*D$35 -> 15.5538 | E8: =$C8*E$35 -> 22.4666 | F8: =$C8*F$35 -> 39.7486 | G8: =$C8*G$35 -> 81.2254 | H8: =$C8*H$35 -> 160.7226 | I8: =$C8*I$35 -> 343.9118 | J8: =$C8*J$35 -> 532.2856 | K8: =$C8*K$35 -> 857.1872 | ... T8: =$C8*T$35 -> 1622.7798
A9: 44153 | B9: UK | C9: 19147 | D9: =$C9*D$35 -> 17.2323 | E9: =$C9*E$35 -> 24.8911 | F9: =$C9*F$35 -> 44.0381 | G9: =$C9*G$35 -> 89.9909 | H9: =$C9*H$35 -> 178.0671 | I9: =$C9*I$35 -> 381.0253 | J9: =$C9*J$35 -> 589.7276 | K9: =$C9*K$35 -> 949.6912 | ... T9: =$C9*T$35 -> 1797.9033
A10: 44160 | B10: UK | C10: 20714 | D10: =$C10*D$35 -> 18.6426 | E10: =$C10*E$35 -> 26.9282 | F10: =$C10*F$35 -> 47.6422 | G10: =$C10*G$35 -> 97.3558 | H10: =$C10*H$35 -> 192.6402 | I10: =$C10*I$35 -> 412.2086 | J10: =$C10*J$35 -> 637.9912 | K10: =$C10*K$35 -> 1027.4144 | ... T10: =$C10*T$35 -> 1945.0446
A11: 44167 | B11: UK | C11: 21960 | D11: =$C11*D$35 -> 19.764 | E11: =$C11*E$35 -> 28.548 | F11: =$C11*F$35 -> 50.508 | G11: =$C11*G$35 -> 103.212 | H11: =$C11*H$35 -> 204.228 | I11: =$C11*I$35 -> 437.004 | J11: =$C11*J$35 -> 676.368 | K11: =$C11*K$35 -> 1089.216 | ... T11: =$C11*T$35 -> 2062.044
A12: 44174 | B12: UK | C12: 22914 | D12: =$C12*D$35 -> 20.6226 | E12: =$C12*E$35 -> 29.7882 | F12: =$C12*F$35 -> 52.7022 | G12: =$C12*G$35 -> 107.6958 | H12: =$C12*H$35 -> 213.1002 | I12: =$C12*I$35 -> 455.9886 | J12: =$C12*J$35 -> 705.7512 | K12: =$C12*K$35 -> 1136.5344 | ... T12: =$C12*T$35 -> 2151.6246
A13: 44181 | B13: UK | C13: 23582 | D13: =$C13*D$35 -> 21.2238 | E13: =$C13*E$35 -> 30.6566 | F13: =$C13*F$35 -> 54.2386 | G13: =$C13*G$35 -> 110.8354 | H13: =$C13*H$35 -> 219.3126 | I13: =$C13*I$35 -> 469.2818 | J13: =$C13*J$35 -> 726.3256 | K13: =$C13*K$35 -> 1169.6672 | ... T13: =$C13*T$35 -> 2214.3498
... A32: 44314 | B32: UK | C32: 10570 | D32: =$C32*D$35 -> 9.513 | E32: =$C32*E$35 -> 13.741 | F32: =$C32*F$35 -> 24.311 | G32: =$C32*G$35 -> 49.679 | H32: =$C32*H$35 -> 98.301 | I32: =$C32*I$35 -> 210.343 | J32: =$C32*J$35 -> 325.556 | K32: =$C32*K$35 -> 524.272 | ... T32: =$C32*T$35 -> 992.523
C34: Region | D34: 0-4 | E34: 5-9 | F34: 10-14 | G34: 15-19 | H34: 20-24 | I34: 25-29 | J34: 30-34 | K34: 35-39 | L34: 40-44 | M34: 45-49 | N34: 50-54 | O34: 55-59 | P34: 60-64 | Q34: 65-69 | R34: 70-74 | S34: 75-79 | T34: 80+
C35: UK | D35: 0.0009 | E35: 0.0013 | F35: 0.0023 | G35: 0.0047 | H35: 0.0093 | I35: 0.0199 | J35: 0.0308 | K35: 0.0496 | L35: 0.0612 | M35: 0.0874 | N35: 0.1126 | O35: 0.1218 | P35: 0.1293 | Q35: 0.1126 | R35: 0.0926 | S35: 0.0697 | T35: 0.0939

Sheet ICU beds occupied
A1: Week commencing | B1: Region | C1: Value | D1: 0-4 | E1: 5-9 | F1: 10-14 | G1: 15-19 | H1: 20-24 | I1: 25-29 | J1: 30-34 | K1: 35-39 | L1: 40-44 | M1: 45-49 | N1: 50-54 | O1: 55-59 | P1: 60-64 | Q1: 65-69 | R1: 70-74 | S1: 75-79 | T1: 80+
A2: 44104 | B2: UK | C2: 1066 | D2: =$C2*D$35 -> 0.3198 | E2: =$C2*E$35 -> 0.4264 | F2: =$C2*F$35 -> 0.7462 | G2: =$C2*G$35 -> 1.599 | H2: =$C2*H$35 -> 3.4112 | I2: =$C2*I$35 -> 9.594 | J2: =$C2*J$35 -> 18.8682 | K2: =$C2*K$35 -> 42.4268 | ... T2: =$C2*T$35 -> 8.1016
A3: 44111 | B3: UK | C3: 1397 | D3: =$C3*D$35 -> 0.4191 | E3: =$C3*E$35 -> 0.5588 | F3: =$C3*F$35 -> 0.9779 | G3: =$C3*G$35 -> 2.0955 | H3: =$C3*H$35 -> 4.4704 | I3: =$C3*I$35 -> 12.573 | J3: =$C3*J$35 -> 24.7269 | K3: =$C3*K$35 -> 55.6006 | ... T3: =$C3*T$35 -> 10.6172
A4: 44118 | B4: UK | C4: 1803 | D4: =$C4*D$35 -> 0.5409 | E4: =$C4*E$35 -> 0.7212 | F4: =$C4*F$35 -> 1.2621 | G4: =$C4*G$35 -> 2.7045 | H4: =$C4*H$35 -> 5.7696 | I4: =$C4*I$35 -> 16.227 | J4: =$C4*J$35 -> 31.9131 | K4: =$C4*K$35 -> 71.7594 | ... T4: =$C4*T$35 -> 13.7028
A5: 44125 | B5: UK | C5: 2268 | D5: =$C5*D$35 -> 0.6804 | E5: =$C5*E$35 -> 0.9072 | F5: =$C5*F$35 -> 1.5876 | G5: =$C5*G$35 -> 3.402 | H5: =$C5*H$35 -> 7.2576 | I5: =$C5*I$35 -> 20.412 | J5: =$C5*J$35 -> 40.1436 | K5: =$C5*K$35 -> 90.2664 | ... T5: =$C5*T$35 -> 17.2368
A6: 44132 | B6: UK | C6: 2770 | D6: =$C6*D$35 -> 0.831 | E6: =$C6*E$35 -> 1.108 | F6: =$C6*F$35 -> 1.939 | G6: =$C6*G$35 -> 4.155 | H6: =$C6*H$35 -> 8.864 | I6: =$C6*I$35 -> 24.93 | J6: =$C6*J$35 -> 49.029 | K6: =$C6*K$35 -> 110.246 | ... T6: =$C6*T$35 -> 21.052
A7: 44139 | B7: UK | C7: 3276 | D7: =$C7*D$35 -> 0.9828 | E7: =$C7*E$35 -> 1.3104 | F7: =$C7*F$35 -> 2.2932 | G7: =$C7*G$35 -> 4.914 | H7: =$C7*H$35 -> 10.4832 | I7: =$C7*I$35 -> 29.484 | J7: =$C7*J$35 -> 57.9852 | K7: =$C7*K$35 -> 130.3848 | ... T7: =$C7*T$35 -> 24.8976
A8: 44146 | B8: UK | C8: 3761 | D8: =$C8*D$35 -> 1.1283 | E8: =$C8*E$35 -> 1.5044 | F8: =$C8*F$35 -> 2.6327 | G8: =$C8*G$35 -> 5.6415 | H8: =$C8*H$35 -> 12.0352 | I8: =$C8*I$35 -> 33.849 | J8: =$C8*J$35 -> 66.5697 | K8: =$C8*K$35 -> 149.6878 | ... T8: =$C8*T$35 -> 28.5836
A9: 44153 | B9: UK | C9: 4200 | D9: =$C9*D$35 -> 1.26 | E9: =$C9*E$35 -> 1.68 | F9: =$C9*F$35 -> 2.94 | G9: =$C9*G$35 -> 6.3 | H9: =$C9*H$35 -> 13.44 | I9: =$C9*I$35 -> 37.8 | J9: =$C9*J$35 -> 74.34 | K9: =$C9*K$35 -> 167.16 | ... T9: =$C9*T$35 -> 31.92
A10: 44160 | B10: UK | C10: 4581 | D10: =$C10*D$35 -> 1.3743 | E10: =$C10*E$35 -> 1.8324 | F10: =$C10*F$35 -> 3.2067 | G10: =$C10*G$35 -> 6.8715 | H10: =$C10*H$35 -> 14.6592 | I10: =$C10*I$35 -> 41.229 | J10: =$C10*J$35 -> 81.0837 | K10: =$C10*K$35 -> 182.3238 | ... T10: =$C10*T$35 -> 34.8156
A11: 44167 | B11: UK | C11: 4893 | D11: =$C11*D$35 -> 1.4679 | E11: =$C11*E$35 -> 1.9572 | F11: =$C11*F$35 -> 3.4251 | G11: =$C11*G$35 -> 7.3395 | H11: =$C11*H$35 -> 15.6576 | I11: =$C11*I$35 -> 44.037 | J11: =$C11*J$35 -> 86.6061 | K11: =$C11*K$35 -> 194.7414 | ... T11: =$C11*T$35 -> 37.1868
A12: 44174 | B12: UK | C12: 5142 | D12: =$C12*D$35 -> 1.5426 | E12: =$C12*E$35 -> 2.0568 | F12: =$C12*F$35 -> 3.5994 | G12: =$C12*G$35 -> 7.713 | H12: =$C12*H$35 -> 16.4544 | I12: =$C12*I$35 -> 46.278 | J12: =$C12*J$35 -> 91.0134 | K12: =$C12*K$35 -> 204.6516 | ... T12: =$C12*T$35 -> 39.0792
A13: 44181 | B13: UK | C13: 5333 | D13: =$C13*D$35 -> 1.5999 | E13: =$C13*E$35 -> 2.1332 | F13: =$C13*F$35 -> 3.7331 | G13: =$C13*G$35 -> 7.9995 | H13: =$C13*H$35 -> 17.0656 | I13: =$C13*I$35 -> 47.997 | J13: =$C13*J$35 -> 94.3941 | K13: =$C13*K$35 -> 212.2534 | ... T13: =$C13*T$35 -> 40.5308
... A32: 44314 | B32: UK | C32: 2572 | D32: =$C32*D$35 -> 0.7716 | E32: =$C32*E$35 -> 1.0288 | F32: =$C32*F$35 -> 1.8004 | G32: =$C32*G$35 -> 3.858 | H32: =$C32*H$35 -> 8.2304 | I32: =$C32*I$35 -> 23.148 | J32: =$C32*J$35 -> 45.5244 | K32: =$C32*K$35 -> 102.3656 | ... T32: =$C32*T$35 -> 19.5472
C34: Region | D34: 0-4 | E34: 5-9 | F34: 10-14 | G34: 15-19 | H34: 20-24 | I34: 25-29 | J34: 30-34 | K34: 35-39 | L34: 40-44 | M34: 45-49 | N34: 50-54 | O34: 55-59 | P34: 60-64 | Q34: 65-69 | R34: 70-74 | S34: 75-79 | T34: 80+
C35: UK | D35: 0.0003 | E35: 0.0004 | F35: 0.0007 | G35: 0.0015 | H35: 0.0032 | I35: 0.009 | J35: 0.0177 | K35: 0.0398 | L35: 0.0661 | M35: 0.1143 | N35: 0.1638 | O35: 0.182 | P35: 0.1806 | Q35: 0.1258 | R35: 0.0639 | S35: 0.0233 | T35: 0.0076

Sheet Splitting Admissions CCU Ward
B1: Calculating the proportion of admissions that will require ICU care by age.
B2: In this sheet we use ICNARC and UK government data to estimate the total proportion of hospital admissions that require ICU or ward, by age group.
B4: ICNARC - 18th Decemberr
B5: https://www.icnarc.org/Our-Audit/Audits/Cmp/Reports
B6: Table 2.1 - ICNARC data on total hospital admissions | P6: Input data
B7: Total admissions | P7: Number of admissions up to the 31st of August from the ICNARC COVID Report of the 18th December.
B8: to 31/08 | C8: 10935 | P8: Number of admissions from 1st September to 5th November from the ICNARC COVID Report of the 18th December.
B9: 01/09 to 18/12 | C9: 7677 | P9: Age distribution of ICU admissions from the ICNARC COVID Report of the 18th December.
B10: Total ICU | C10: =C8+C9 -> 18612 | P10: The total number of ICU admissions for COVID-19 from the same report.
B11: Table 2.2 Estimating admissions per age group.
C13: Female | E13: Male
B14: Age at admission to critical care | C14: % admitted from 1 Sep | D14: ICU | E14: % admitted from 1 Sep | F14: ICU | G14: Total | I14: 2.1 - Here we use ICNARC data on the age and sex breakdown of all ICU admissions for COVID, as well as the total ICU admissions, to caculate the total number of ICU admissions for each age and sex group. | P14: Output
B15: 16-29 | C15: 0.013 | D15: =C15*$C$10 -> 241.956 | E15: 0.014 | F15: =E15*$C$10 -> 260.568 | G15: =D15+F15 -> 502.524 | P15: Percentage of admissions admitted to ICU or ward by age. Range: B73:C89.
B16: 30-39 | C16: 0.023 | D16: =C16*$C$10 -> 428.076 | E16: 0.028 | F16: =E16*$C$10 -> 521.136 | G16: =D16+F16 -> 949.212
B17: 40-49 | C17: 0.042 | D17: =C17*$C$10 -> 781.704 | E17: 0.075 | F17: =E17*$C$10 -> 1395.9 | G17: =D17+F17 -> 2177.604
B18: 50-59 | C18: 0.071 | D18: =C18*$C$10 -> 1321.452 | E18: 0.156 | F18: =E18*$C$10 -> 2903.472 | G18: =D18+F18 -> 4224.924
B19: 60-69 | C19: 0.087 | D19: =C19*$C$10 -> 1619.244 | E19: 0.2 | F19: =E19*$C$10 -> 3722.4 | G19: =D19+F19 -> 5341.644
B20: 70-79 | C20: 0.066 | D20: =C20*$C$10 -> 1228.392 | E20: 0.171 | F20: =E20*$C$10 -> 3182.652 | G20: =D20+F20 -> 4411.044
B21: 80+ | C21: 0.016 | D21: =C21*$C$10 -> 297.792 | E21: 0.039 | F21: =E21*$C$10 -> 725.868 | G21: =D21+F21 -> 1023.66
B22: Total | D22: =SUM(D15:D21) -> 5918.616 | F22: =SUM(F15:F21) -> 12711.996 | G22: =SUM(G15:G21) -> 18630.612
B23: Aim | G23: =C10 -> 18612
B28: General Hospital Admissions
B29: Cumulative, to 18th December
B30: Table 2.4 - GOV data for total admissions by UK country.
B31: Area | C31: Hospital admissions | D31: Source | I31: 2.3 - Here we use the hospital admissions age breakdown (column N, from sheet "1 New patients in hopsital") and the total hospital admissions for UK minus scotland (B46) to estimate the total hosptial admissions for each age group (C49:C55). Again, the numbers are not exactly equal as the rounded percentages do not sum to exactly 100%.
B32: England | C32: 212526 | D32: https://coronavirus.data.gov.uk/details/healthcare?areaType=nation&areaName=England
B33: Wales | C33: 22583 | D33: https://coronavirus.data.gov.uk/details/healthcare?areaType=nation&areaName=Wales
B34: Total | C34: =SUM(C32:C33) -> 235109 | D34: For England & Wales
B37: Table 2.5 - Estimate for total admissions by age group for England and Wales
C38: From sheet 1
B39: 16-29 | C39: {=adm_AgeDist3} -> 0.025501543 | D39: =C39*$C$34 -> 5995.6422
B40: 30-39 | C40: 0.039706336 | D40: =C40*$C$34 -> 9335.317
B41: 40-49 | C41: 0.067146508 | D41: =C41*$C$34 -> 15786.748
B42: 50-59 | C42: 0.12487578 | D42: =C42*$C$34 -> 29359.42
B43: 60-69 | C43: 0.17074274 | D43: =C43*$C$34 -> 40143.154
B44: 70-79 | C44: 0.23474336 | D44: =C44*$C$34 -> 55190.277
B45: 80+ | C45: 0.33728373 | D45: =C45*$C$34 -> 79298.442
B46: Total | C46: =SUM(C39:C45) -> 1 | D46: =SUM(D39:D45) -> 235109
B47: Aim | C47: 1 | D47: =C34 -> 235109
B50: Table 2.6 - Estimate of ICU admission as a percentage of all admissions, by age group.
B51: ICU proportion by age | I51: 2.4 - Here we use the estimates of ICU admissions (C47:C53) and total hospital admissions (B26:B32) to estimate the proportion of hospital admissions that are ICU admissions (B60:B66), by age.
B52: 16-29 | C52: =G15/D39 -> 0.083814875
B53: 30-39 | C53: =G16/D40 -> 0.10167968
B54: 40-49 | C54: =G17/D41 -> 0.13793873
B55: 50-59 | C55: =G18/D42 -> 0.14390352
B56: 60-69 | C56: =G19/D43 -> 0.13306488
B57: 70-79 | C57: =G20/D44 -> 0.079924296
B58: 80+ | C58: =G21/D45 -> 0.012908955
B59: All ages | C59: =G22/D46 -> 0.079242445
B61: Table 2.7 - Estimates of ICU and Ward admission as a percentage of all admissions, by age group.
B62: Age | C62: ICU | D62: Non_ICU
B63: 0-4 | C63: 0 | D63: =1-C63 -> 1
B64: 5-9 | C64: 0 | D64: =1-C64 -> 1 | I64: 2.5 - Here we use the estimates of the proportion of hospital admissions that are ICU admissions (B60:B66), and break it down further into 5-year age bands, that match those used in the rest of the model (B71:B87). Non ICU admissions are taken as whatever admissions are not ICU (C71:C87).
B65: 10-14 | C65: 0 | D65: =1-C65 -> 1
B66: 15-19 | C66: =C52 -> 0.083814875 | D66: =1-C66 -> 0.91618512
B67: 20-24 | C67: =C52 -> 0.083814875 | D67: =1-C67 -> 0.91618512
B68: 25-29 | C68: =C52 -> 0.083814875 | D68: =1-C68 -> 0.91618512
B69: 30-34 | C69: =C53 -> 0.10167968 | D69: =1-C69 -> 0.89832032
B70: 35-39 | C70: =C53 -> 0.10167968 | D70: =1-C70 -> 0.89832032
B71: 40-44 | C71: =C54 -> 0.13793873 | D71: =1-C71 -> 0.86206127
B72: 45-49 | C72: =C54 -> 0.13793873 | D72: =1-C72 -> 0.86206127
B73: 50-54 | C73: =C55 -> 0.14390352 | D73: =1-C73 -> 0.85609648
B74: 55-59 | C74: =C55 -> 0.14390352 | D74: =1-C74 -> 0.85609648
B75: 60-64 | C75: =C56 -> 0.13306488 | D75: =1-C75 -> 0.86693512
B76: 65-69 | C76: =C56 -> 0.13306488 | D76: =1-C76 -> 0.86693512
B77: 70-74 | C77: =C57 -> 0.079924296 | D77: =1-C77 -> 0.9200757
B78: 75-79 | C78: =C57 -> 0.079924296 | D78: =1-C78 -> 0.9200757
B79: 80+ | C79: =C58 -> 0.012908955 | D79: =1-C79 -> 0.98709105

Sheet Ward Demand
B1: Calculation of the age distribution of ward demand.
A2: In this sheet we use the estimates of total admissions from sheet 1 and the proportion requiring Ward care from sheet 2 to estimate the number of patients requiring Ward care.
A3: This is then combined with an estimate of maximum Ward capacity to estimate the number of patients that require Ward care who are able to be admitted to Ward.
A5: Table 3.1 - Estimated total ward demand by week and age group.
A6: Week commencing | B6: Region | C6: Value | D6: 0-4 | E6: 5-9 | F6: 10-14 | G6: 15-19 | H6: 20-24 | I6: 25-29 | J6: 30-34 | K6: 35-39 | L6: 40-44 | M6: 45-49 | N6: 50-54 | O6: 55-59 | P6: 60-64 | Q6: 65-69 | R6: 70-74 | S6: 75-79 | T6: 80+
A7: 44104 | B7: England | C7: =SUM(D7:T7) -> 2611.1802 | D7: ='New patients in hospital'!D5*VLOOKUP(D$6,'Splitting Admissions CCU Ward'!$B$62:$D$79,3,FALSE) -> 15.573788 | E7: ='New patients in hospital'!E5*VLOOKUP(E$6,'Splitting Admissions CCU Ward'!$B$62:$D$79,3,FALSE) -> 10.147226 | F7: ='New patients in hospital'!F5*VLOOKUP(F$6,'Splitting Admissions CCU Ward'!$B$62:$D$79,3,FALSE) -> 8.1117281 | G7: ='New patients in hospital'!G5*VLOOKUP(G$6,'Splitting Admissions CCU Ward'!$B$62:$D$79,3,FALSE) -> 10.772962 | H7: ='New patients in hospital'!H5*VLOOKUP(H$6,'Splitting Admissions CCU Ward'!$B$62:$D$79,3,FALSE) -> 22.84327 | I7: ='New patients in hospital'!I5*VLOOKUP(I$6,'Splitting Admissions CCU Ward'!$B$62:$D$79,3,FALSE) -> 33.13247 | J7: ='New patients in hospital'!J5*VLOOKUP(J$6,'Splitting Admissions CCU Ward'!$B$62:$D$79,3,FALSE) -> 43.264372 | K7: ='New patients in hospital'!K5*VLOOKUP(K$6,'Splitting Admissions CCU Ward'!$B$62:$D$79,3,FALSE) -> 56.525272 | ... T7: ='New patients in hospital'!T5*VLOOKUP(T$6,'Splitting Admissions CCU Ward'!$B$62:$D$79,3,FALSE) -> 931.42319
A8: 44111 | B8: England | C8: =SUM(D8:T8) -> 3909.8576 | D8: ='New patients in hospital'!D6*VLOOKUP(D$6,'Splitting Admissions CCU Ward'!$B$62:$D$79,3,FALSE) -> 23.319452 | E8: ='New patients in hospital'!E6*VLOOKUP(E$6,'Splitting Admissions CCU Ward'!$B$62:$D$79,3,FALSE) -> 15.193976 | F8: ='New patients in hospital'!F6*VLOOKUP(F$6,'Splitting Admissions CCU Ward'!$B$62:$D$79,3,FALSE) -> 12.146117 | G8: ='New patients in hospital'!G6*VLOOKUP(G$6,'Splitting Admissions CCU Ward'!$B$62:$D$79,3,FALSE) -> 16.130923 | H8: ='New patients in hospital'!H6*VLOOKUP(H$6,'Splitting Admissions CCU Ward'!$B$62:$D$79,3,FALSE) -> 34.204431 | I8: ='New patients in hospital'!I6*VLOOKUP(I$6,'Splitting Admissions CCU Ward'!$B$62:$D$79,3,FALSE) -> 49.610991 | J8: ='New patients in hospital'!J6*VLOOKUP(J$6,'Splitting Admissions CCU Ward'!$B$62:$D$79,3,FALSE) -> 64.782021 | K8: ='New patients in hospital'!K6*VLOOKUP(K$6,'Splitting Admissions CCU Ward'!$B$62:$D$79,3,FALSE) -> 84.638265 | ... T8: ='New patients in hospital'!T6*VLOOKUP(T$6,'Splitting Admissions CCU Ward'!$B$62:$D$79,3,FALSE) -> 1394.669 | V8: Here we use our estimates of total number of hospitalisations per week from sheet "1 New patients in hospital", and our estimates of the proportion of those that will be admitted to the ward (i.e. non ICU) from sheet "2 Splitting admissions ICU Ward", to estimate the total number of patients in each age group that should be admitted to the ward each week.
A9: 44118 | B9: England | C9: =SUM(D9:T9) -> 5385.5016 | D9: ='New patients in hospital'!D7*VLOOKUP(D$6,'Splitting Admissions CCU Ward'!$B$62:$D$79,3,FALSE) -> 32.120593 | E9: ='New patients in hospital'!E7*VLOOKUP(E$6,'Splitting Admissions CCU Ward'!$B$62:$D$79,3,FALSE) -> 20.92843 | F9: ='New patients in hospital'!F7*VLOOKUP(F$6,'Splitting Admissions CCU Ward'!$B$62:$D$79,3,FALSE) -> 16.73026 | G9: ='New patients in hospital'!G7*VLOOKUP(G$6,'Splitting Admissions CCU Ward'!$B$62:$D$79,3,FALSE) -> 22.218997 | H9: ='New patients in hospital'!H7*VLOOKUP(H$6,'Splitting Admissions CCU Ward'!$B$62:$D$79,3,FALSE) -> 47.113741 | I9: ='New patients in hospital'!I7*VLOOKUP(I$6,'Splitting Admissions CCU Ward'!$B$62:$D$79,3,FALSE) -> 68.334988 | J9: ='New patients in hospital'!J7*VLOOKUP(J$6,'Splitting Admissions CCU Ward'!$B$62:$D$79,3,FALSE) -> 89.231813 | K9: ='New patients in hospital'!K7*VLOOKUP(K$6,'Splitting Admissions CCU Ward'!$B$62:$D$79,3,FALSE) -> 116.58213 | ... T9: ='New patients in hospital'!T7*VLOOKUP(T$6,'Splitting Admissions CCU Ward'!$B$62:$D$79,3,FALSE) -> 1921.0398
A10: 44125 | B10: England | C10: =SUM(D10:T10) -> 7004.9311 | D10: ='New patients in hospital'!D8*VLOOKUP(D$6,'Splitting Admissions CCU Ward'!$B$62:$D$79,3,FALSE) -> 41.77931 | E10: ='New patients in hospital'!E8*VLOOKUP(E$6,'Splitting Admissions CCU Ward'!$B$62:$D$79,3,FALSE) -> 27.221644 | F10: ='New patients in hospital'!F8*VLOOKUP(F$6,'Splitting Admissions CCU Ward'!$B$62:$D$79,3,FALSE) -> 21.761078 | G10: ='New patients in hospital'!G8*VLOOKUP(G$6,'Splitting Admissions CCU Ward'!$B$62:$D$79,3,FALSE) -> 28.900287 | H10: ='New patients in hospital'!H8*VLOOKUP(H$6,'Splitting Admissions CCU Ward'!$B$62:$D$79,3,FALSE) -> 61.280923 | I10: ='New patients in hospital'!I8*VLOOKUP(I$6,'Splitting Admissions CCU Ward'!$B$62:$D$79,3,FALSE) -> 88.883435 | J10: ='New patients in hospital'!J8*VLOOKUP(J$6,'Splitting Admissions CCU Ward'!$B$62:$D$79,3,FALSE) -> 116.06397 | K10: ='New patients in hospital'!K8*VLOOKUP(K$6,'Splitting Admissions CCU Ward'!$B$62:$D$79,3,FALSE) -> 151.63857 | ... T10: ='New patients in hospital'!T8*VLOOKUP(T$6,'Splitting Admissions CCU Ward'!$B$62:$D$79,3,FALSE) -> 2498.6997
A11: 44132 | B11: England | C11: =SUM(D11:T11) -> 8980.1373 | D11: ='New patients in hospital'!D9*VLOOKUP(D$6,'Splitting Admissions CCU Ward'!$B$62:$D$79,3,FALSE) -> 53.559976 | E11: ='New patients in hospital'!E9*VLOOKUP(E$6,'Splitting Admissions CCU Ward'!$B$62:$D$79,3,FALSE) -> 34.897432 | F11: ='New patients in hospital'!F9*VLOOKUP(F$6,'Splitting Admissions CCU Ward'!$B$62:$D$79,3,FALSE) -> 27.897129 | G11: ='New patients in hospital'!G9*VLOOKUP(G$6,'Splitting Admissions CCU Ward'!$B$62:$D$79,3,FALSE) -> 37.049408 | H11: ='New patients in hospital'!H9*VLOOKUP(H$6,'Splitting Admissions CCU Ward'!$B$62:$D$79,3,FALSE) -> 78.56053 | I11: ='New patients in hospital'!I9*VLOOKUP(I$6,'Splitting Admissions CCU Ward'!$B$62:$D$79,3,FALSE) -> 113.94622 | J11: ='New patients in hospital'!J9*VLOOKUP(J$6,'Splitting Admissions CCU Ward'!$B$62:$D$79,3,FALSE) -> 148.79096 | K11: ='New patients in hospital'!K9*VLOOKUP(K$6,'Splitting Admissions CCU Ward'!$B$62:$D$79,3,FALSE) -> 194.39666 | ... T11: ='New patients in hospital'!T9*VLOOKUP(T$6,'Splitting Admissions CCU Ward'!$B$62:$D$79,3,FALSE) -> 3203.2672
A12: 44139 | B12: England | C12: =SUM(D12:T12) -> 9825.3376 | D12: ='New patients in hospital'!D10*VLOOKUP(D$6,'Splitting Admissions CCU Ward'!$B$62:$D$79,3,FALSE) -> 58.60098 | E12: ='New patients in hospital'!E10*VLOOKUP(E$6,'Splitting Admissions CCU Ward'!$B$62:$D$79,3,FALSE) -> 38.181938 | F12: ='New patients in hospital'!F10*VLOOKUP(F$6,'Splitting Admissions CCU Ward'!$B$62:$D$79,3,FALSE) -> 30.522775 | G12: ='New patients in hospital'!G10*VLOOKUP(G$6,'Splitting Admissions CCU Ward'!$B$62:$D$79,3,FALSE) -> 40.536456 | H12: ='New patients in hospital'!H10*VLOOKUP(H$6,'Splitting Admissions CCU Ward'!$B$62:$D$79,3,FALSE) -> 85.954558 | I12: ='New patients in hospital'!I10*VLOOKUP(I$6,'Splitting Admissions CCU Ward'!$B$62:$D$79,3,FALSE) -> 124.67071 | J12: ='New patients in hospital'!J10*VLOOKUP(J$6,'Splitting Admissions CCU Ward'!$B$62:$D$79,3,FALSE) -> 162.79499 | K12: ='New patients in hospital'!K10*VLOOKUP(K$6,'Splitting Admissions CCU Ward'!$B$62:$D$79,3,FALSE) -> 212.69305 | ... T12: ='New patients in hospital'!T10*VLOOKUP(T$6,'Splitting Admissions CCU Ward'!$B$62:$D$79,3,FALSE) -> 3504.7551
A13: 44146 | B13: England | C13: =SUM(D13:T13) -> 10894.511 | D13: ='New patients in hospital'!D11*VLOOKUP(D$6,'Splitting Admissions CCU Ward'!$B$62:$D$79,3,FALSE) -> 64.977822 | E13: ='New patients in hospital'!E11*VLOOKUP(E$6,'Splitting Admissions CCU Ward'!$B$62:$D$79,3,FALSE) -> 42.33682 | F13: ='New patients in hospital'!F11*VLOOKUP(F$6,'Splitting Admissions CCU Ward'!$B$62:$D$79,3,FALSE) -> 33.844203 | G13: ='New patients in hospital'!G11*VLOOKUP(G$6,'Splitting Admissions CCU Ward'!$B$62:$D$79,3,FALSE) -> 44.947552 | H13: ='New patients in hospital'!H11*VLOOKUP(H$6,'Splitting Admissions CCU Ward'!$B$62:$D$79,3,FALSE) -> 95.307962 | I13: ='New patients in hospital'!I11*VLOOKUP(I$6,'Splitting Admissions CCU Ward'!$B$62:$D$79,3,FALSE) -> 138.23713 | J13: ='New patients in hospital'!J11*VLOOKUP(J$6,'Splitting Admissions CCU Ward'!$B$62:$D$79,3,FALSE) -> 180.51002 | K13: ='New patients in hospital'!K11*VLOOKUP(K$6,'Splitting Admissions CCU Ward'!$B$62:$D$79,3,FALSE) -> 235.83788 | ... T13: ='New patients in hospital'!T11*VLOOKUP(T$6,'Splitting Admissions CCU Ward'!$B$62:$D$79,3,FALSE) -> 3886.1356
A14: 44153 | B14: England | C14: =SUM(D14:T14) -> 11160.883 | D14: ='New patients in hospital'!D12*VLOOKUP(D$6,'Splitting Admissions CCU Ward'!$B$62:$D$79,3,FALSE) -> 66.566535 | E14: ='New patients in hospital'!E12*VLOOKUP(E$6,'Splitting Admissions CCU Ward'!$B$62:$D$79,3,FALSE) -> 43.371959 | F14: ='New patients in hospital'!F12*VLOOKUP(F$6,'Splitting Admissions CCU Ward'!$B$62:$D$79,3,FALSE) -> 34.671696 | G14: ='New patients in hospital'!G12*VLOOKUP(G$6,'Splitting Admissions CCU Ward'!$B$62:$D$79,3,FALSE) -> 46.046523 | H14: ='New patients in hospital'!H12*VLOOKUP(H$6,'Splitting Admissions CCU Ward'!$B$62:$D$79,3,FALSE) -> 97.638249 | I14: ='New patients in hospital'!I12*VLOOKUP(I$6,'Splitting Admissions CCU Ward'!$B$62:$D$79,3,FALSE) -> 141.61704 | J14: ='New patients in hospital'!J12*VLOOKUP(J$6,'Splitting Admissions CCU Ward'!$B$62:$D$79,3,FALSE) -> 184.9235 | K14: ='New patients in hospital'!K12*VLOOKUP(K$6,'Splitting Admissions CCU Ward'!$B$62:$D$79,3,FALSE) -> 241.60414 | ... T14: ='New patients in hospital'!T12*VLOOKUP(T$6,'Splitting Admissions CCU Ward'!$B$62:$D$79,3,FALSE) -> 3981.1519
A15: 44160 | B15: England | C15: =SUM(D15:T15) -> 10021.66 | D15: ='New patients in hospital'!D13*VLOOKUP(D$6,'Splitting Admissions CCU Ward'!$B$62:$D$79,3,FALSE) -> 59.7719 | E15: ='New patients in hospital'!E13*VLOOKUP(E$6,'Splitting Admissions CCU Ward'!$B$62:$D$79,3,FALSE) -> 38.94486 | F15: ='New patients in hospital'!F13*VLOOKUP(F$6,'Splitting Admissions CCU Ward'!$B$62:$D$79,3,FALSE) -> 31.132658 | G15: ='New patients in hospital'!G13*VLOOKUP(G$6,'Splitting Admissions CCU Ward'!$B$62:$D$79,3,FALSE) -> 41.346424 | H15: ='New patients in hospital'!H13*VLOOKUP(H$6,'Splitting Admissions CCU Ward'!$B$62:$D$79,3,FALSE) -> 87.672036 | I15: ='New patients in hospital'!I13*VLOOKUP(I$6,'Splitting Admissions CCU Ward'!$B$62:$D$79,3,FALSE) -> 127.16179 | J15: ='New patients in hospital'!J13*VLOOKUP(J$6,'Splitting Admissions CCU Ward'!$B$62:$D$79,3,FALSE) -> 166.04784 | K15: ='New patients in hospital'!K13*VLOOKUP(K$6,'Splitting Admissions CCU Ward'!$B$62:$D$79,3,FALSE) -> 216.94292 | ... T15: ='New patients in hospital'!T13*VLOOKUP(T$6,'Splitting Admissions CCU Ward'!$B$62:$D$79,3,FALSE) -> 3574.7844
A16: 44167 | B16: England | C16: =SUM(D16:T16) -> 8926.6786 | D16: ='New patients in hospital'!D14*VLOOKUP(D$6,'Splitting Admissions CCU Ward'!$B$62:$D$79,3,FALSE) -> 53.241134 | E16: ='New patients in hospital'!E14*VLOOKUP(E$6,'Splitting Admissions CCU Ward'!$B$62:$D$79,3,FALSE) -> 34.689688 | F16: ='New patients in hospital'!F14*VLOOKUP(F$6,'Splitting Admissions CCU Ward'!$B$62:$D$79,3,FALSE) -> 27.731058 | G16: ='New patients in hospital'!G14*VLOOKUP(G$6,'Splitting Admissions CCU Ward'!$B$62:$D$79,3,FALSE) -> 36.828853 | H16: ='New patients in hospital'!H14*VLOOKUP(H$6,'Splitting Admissions CCU Ward'!$B$62:$D$79,3,FALSE) -> 78.09286 | I16: ='New patients in hospital'!I14*VLOOKUP(I$6,'Splitting Admissions CCU Ward'!$B$62:$D$79,3,FALSE) -> 113.2679 | J16: ='New patients in hospital'!J14*VLOOKUP(J$6,'Splitting Admissions CCU Ward'!$B$62:$D$79,3,FALSE) -> 147.9052 | K16: ='New patients in hospital'!K14*VLOOKUP(K$6,'Splitting Admissions CCU Ward'!$B$62:$D$79,3,FALSE) -> 193.23942 | ... T16: ='New patients in hospital'!T14*VLOOKUP(T$6,'Splitting Admissions CCU Ward'!$B$62:$D$79,3,FALSE) -> 3184.1982
A17: 44174 | B17: England | C17: =SUM(D17:T17) -> 10121.204 | D17: ='New patients in hospital'!D15*VLOOKUP(D$6,'Splitting Admissions CCU Ward'!$B$62:$D$79,3,FALSE) -> 60.365606 | E17: ='New patients in hospital'!E15*VLOOKUP(E$6,'Splitting Admissions CCU Ward'!$B$62:$D$79,3,FALSE) -> 39.331694 | F17: ='New patients in hospital'!F15*VLOOKUP(F$6,'Splitting Admissions CCU Ward'!$B$62:$D$79,3,FALSE) -> 31.441894 | G17: ='New patients in hospital'!G15*VLOOKUP(G$6,'Splitting Admissions CCU Ward'!$B$62:$D$79,3,FALSE) -> 41.757112 | H17: ='New patients in hospital'!H15*VLOOKUP(H$6,'Splitting Admissions CCU Ward'!$B$62:$D$79,3,FALSE) -> 88.54287 | I17: ='New patients in hospital'!I15*VLOOKUP(I$6,'Splitting Admissions CCU Ward'!$B$62:$D$79,3,FALSE) -> 128.42487 | J17: ='New patients in hospital'!J15*VLOOKUP(J$6,'Splitting Admissions CCU Ward'!$B$62:$D$79,3,FALSE) -> 167.69717 | K17: ='New patients in hospital'!K15*VLOOKUP(K$6,'Splitting Admissions CCU Ward'!$B$62:$D$79,3,FALSE) -> 219.09778 | ... T17: ='New patients in hospital'!T15*VLOOKUP(T$6,'Splitting Admissions CCU Ward'!$B$62:$D$79,3,FALSE) -> 3610.2923
A18: 44181 | B18: England | C18: =SUM(D18:T18) -> 11962.763 | D18: ='New patients in hospital'!D16*VLOOKUP(D$6,'Splitting Admissions CCU Ward'!$B$62:$D$79,3,FALSE) -> 71.349167 | E18: ='New patients in hospital'!E16*VLOOKUP(E$6,'Splitting Admissions CCU Ward'!$B$62:$D$79,3,FALSE) -> 46.488121 | F18: ='New patients in hospital'!F16*VLOOKUP(F$6,'Splitting Admissions CCU Ward'!$B$62:$D$79,3,FALSE) -> 37.162767 | G18: ='New patients in hospital'!G16*VLOOKUP(G$6,'Splitting Admissions CCU Ward'!$B$62:$D$79,3,FALSE) -> 49.354846 | H18: ='New patients in hospital'!H16*VLOOKUP(H$6,'Splitting Admissions CCU Ward'!$B$62:$D$79,3,FALSE) -> 104.6533 | I18: ='New patients in hospital'!I16*VLOOKUP(I$6,'Splitting Admissions CCU Ward'!$B$62:$D$79,3,FALSE) -> 151.79186 | J18: ='New patients in hospital'!J16*VLOOKUP(J$6,'Splitting Admissions CCU Ward'!$B$62:$D$79,3,FALSE) -> 198.20977 | K18: ='New patients in hospital'!K16*VLOOKUP(K$6,'Splitting Admissions CCU Ward'!$B$62:$D$79,3,FALSE) -> 258.96276 | ... T18: ='New patients in hospital'!T16*VLOOKUP(T$6,'Splitting Admissions CCU Ward'!$B$62:$D$79,3,FALSE) -> 4267.1873
A19: 44188 | B19: England | C19: =SUM(D19:T19) -> 14187.751 | D19: ='New patients in hospital'!D17*VLOOKUP(D$6,'Splitting Admissions CCU Ward'!$B$62:$D$79,3,FALSE) -> 84.619595 | E19: ='New patients in hospital'!E17*VLOOKUP(E$6,'Splitting Admissions CCU Ward'!$B$62:$D$79,3,FALSE) -> 55.134575 | F19: ='New patients in hospital'!F17*VLOOKUP(F$6,'Splitting Admissions CCU Ward'!$B$62:$D$79,3,FALSE) -> 44.074772 | G19: ='New patients in hospital'!G17*VLOOKUP(G$6,'Splitting Admissions CCU Ward'!$B$62:$D$79,3,FALSE) -> 58.53449 | H19: ='New patients in hospital'!H17*VLOOKUP(H$6,'Splitting Admissions CCU Ward'!$B$62:$D$79,3,FALSE) -> 124.11806 | I19: ='New patients in hospital'!I17*VLOOKUP(I$6,'Splitting Admissions CCU Ward'!$B$62:$D$79,3,FALSE) -> 180.02404 | J19: ='New patients in hospital'!J17*VLOOKUP(J$6,'Splitting Admissions CCU Ward'!$B$62:$D$79,3,FALSE) -> 235.07535 | K19: ='New patients in hospital'!K17*VLOOKUP(K$6,'Splitting Admissions CCU Ward'!$B$62:$D$79,3,FALSE) -> 307.12796 | ... T19: ='New patients in hospital'!T17*VLOOKUP(T$6,'Splitting Admissions CCU Ward'!$B$62:$D$79,3,FALSE) -> 5060.8532
A20: 44195 | B20: England | C20: =SUM(D20:T20) -> 17809.116 | D20: ='New patients in hospital'!D18*VLOOKUP(D$6,'Splitting Admissions CCU Ward'!$B$62:$D$79,3,FALSE) -> 106.2184 | E20: ='New patients in hospital'!E18*VLOOKUP(E$6,'Splitting Admissions CCU Ward'!$B$62:$D$79,3,FALSE) -> 69.207449 | F20: ='New patients in hospital'!F18*VLOOKUP(F$6,'Splitting Admissions CCU Ward'!$B$62:$D$79,3,FALSE) -> 55.324677 | G20: ='New patients in hospital'!G18*VLOOKUP(G$6,'Splitting Admissions CCU Ward'!$B$62:$D$79,3,FALSE) -> 73.475178 | H20: ='New patients in hospital'!H18*VLOOKUP(H$6,'Splitting Admissions CCU Ward'!$B$62:$D$79,3,FALSE) -> 155.79868 | I20: ='New patients in hospital'!I18*VLOOKUP(I$6,'Splitting Admissions CCU Ward'!$B$62:$D$79,3,FALSE) -> 225.97444 | J20: ='New patients in hospital'!J18*VLOOKUP(J$6,'Splitting Admissions CCU Ward'!$B$62:$D$79,3,FALSE) -> 295.07737 | K20: ='New patients in hospital'!K18*VLOOKUP(K$6,'Splitting Admissions CCU Ward'!$B$62:$D$79,3,FALSE) -> 385.52111 | ... T20: ='New patients in hospital'!T18*VLOOKUP(T$6,'Splitting Admissions CCU Ward'!$B$62:$D$79,3,FALSE) -> 6352.6152
... A37: 44314 | B37: England | C37: =SUM(D37:T37) -> 391.96587 | D37: ='New patients in hospital'!D35*VLOOKUP(D$6,'Splitting Admissions CCU Ward'!$B$62:$D$79,3,FALSE) -> 2.3377908 | E37: ='New patients in hospital'!E35*VLOOKUP(E$6,'Splitting Admissions CCU Ward'!$B$62:$D$79,3,FALSE) -> 1.5232064 | F37: ='New patients in hospital'!F35*VLOOKUP(F$6,'Splitting Admissions CCU Ward'!$B$62:$D$79,3,FALSE) -> 1.2176565 | G37: ='New patients in hospital'!G35*VLOOKUP(G$6,'Splitting Admissions CCU Ward'!$B$62:$D$79,3,FALSE) -> 1.617136 | H37: ='New patients in hospital'!H35*VLOOKUP(H$6,'Splitting Admissions CCU Ward'!$B$62:$D$79,3,FALSE) -> 3.4290174 | I37: ='New patients in hospital'!I35*VLOOKUP(I$6,'Splitting Admissions CCU Ward'!$B$62:$D$79,3,FALSE) -> 4.9735355 | J37: ='New patients in hospital'!J35*VLOOKUP(J$6,'Splitting Admissions CCU Ward'!$B$62:$D$79,3,FALSE) -> 6.4944415 | K37: ='New patients in hospital'!K35*VLOOKUP(K$6,'Splitting Admissions CCU Ward'!$B$62:$D$79,3,FALSE) -> 8.4850434 | ... T37: ='New patients in hospital'!T35*VLOOKUP(T$6,'Splitting Admissions CCU Ward'!$B$62:$D$79,3,FALSE) -> 139.81651
A39: Demand within Capacity | C39: =Ward_Beds_Daily -> 87173.8
A40: Table 3.2 - Estimated Ward demand that gets Ward admission by week and age group.
A41: Week commencing | B41: Region | C41: Value | D41: 0-4 | E41: 5-9 | F41: 10-14 | G41: 15-19 | H41: 20-24 | I41: 25-29 | J41: 30-34 | K41: 35-39 | L41: 40-44 | M41: 45-49 | N41: 50-54 | O41: 55-59 | P41: 60-64 | Q41: 65-69 | R41: 70-74 | S41: 75-79 | T41: 80+
A42: 44104 | B42: England | C42: =MIN(C7,$C$39) -> 2611.1802 | D42: =$C42/$C7*D7 -> 15.573788 | E42: =$C42/$C7*E7 -> 10.147226 | F42: =$C42/$C7*F7 -> 8.1117281 | G42: =$C42/$C7*G7 -> 10.772962 | H42: =$C42/$C7*H7 -> 22.84327 | I42: =$C42/$C7*I7 -> 33.13247 | J42: =$C42/$C7*J7 -> 43.264372 | K42: =$C42/$C7*K7 -> 56.525272 | ... T42: =$C42/$C7*T7 -> 931.42319
A43: 44111 | B43: England | C43: =MIN(C8,$C$39) -> 3909.8576 | D43: =$C43/$C8*D8 -> 23.319452 | E43: =$C43/$C8*E8 -> 15.193976 | F43: =$C43/$C8*F8 -> 12.146117 | G43: =$C43/$C8*G8 -> 16.130923 | H43: =$C43/$C8*H8 -> 34.204431 | I43: =$C43/$C8*I8 -> 49.610991 | J43: =$C43/$C8*J8 -> 64.782021 | K43: =$C43/$C8*K8 -> 84.638265 | ... T43: =$C43/$C8*T8 -> 1394.669
A44: 44118 | B44: England | C44: =MIN(C9,$C$39) -> 5385.5016 | D44: =$C44/$C9*D9 -> 32.120593 | E44: =$C44/$C9*E9 -> 20.92843 | F44: =$C44/$C9*F9 -> 16.73026 | G44: =$C44/$C9*G9 -> 22.218997 | H44: =$C44/$C9*H9 -> 47.113741 | I44: =$C44/$C9*I9 -> 68.334988 | J44: =$C44/$C9*J9 -> 89.231813 | K44: =$C44/$C9*K9 -> 116.58213 | ... T44: =$C44/$C9*T9 -> 1921.0398
A45: 44125 | B45: England | C45: =MIN(C10,$C$39) -> 7004.9311 | D45: =$C45/$C10*D10 -> 41.77931 | E45: =$C45/$C10*E10 -> 27.221644 | F45: =$C45/$C10*F10 -> 21.761078 | G45: =$C45/$C10*G10 -> 28.900287 | H45: =$C45/$C10*H10 -> 61.280923 | I45: =$C45/$C10*I10 -> 88.883435 | J45: =$C45/$C10*J10 -> 116.06397 | K45: =$C45/$C10*K10 -> 151.63857 | ... T45: =$C45/$C10*T10 -> 2498.6997
A46: 44132 | B46: England | C46: =MIN(C11,$C$39) -> 8980.1373 | D46: =$C46/$C11*D11 -> 53.559976 | E46: =$C46/$C11*E11 -> 34.897432 | F46: =$C46/$C11*F11 -> 27.897129 | G46: =$C46/$C11*G11 -> 37.049408 | H46: =$C46/$C11*H11 -> 78.56053 | I46: =$C46/$C11*I11 -> 113.94622 | J46: =$C46/$C11*J11 -> 148.79096 | K46: =$C46/$C11*K11 -> 194.39666 | ... T46: =$C46/$C11*T11 -> 3203.2672 | V46: Here we are estimating how many of the patients that should be addmitted to the ward will actually be so. Column C contains the ward beds available for the ward patients, which is capped at the overall ward capacity (cell C37). The number of wards patients actually admitted is calculated as the actual capacity divided by the number of patients, multiplied by the number of patients . For example, if the demand is 13,449 while the capacity limit is 12,000, only 12,000/13449=89% of the patients can be admitted. Importantly, we assume no age-preference as to which patients get admitted.
A47: 44139 | B47: England | C47: =MIN(C12,$C$39) -> 9825.3376 | D47: =$C47/$C12*D12 -> 58.60098 | E47: =$C47/$C12*E12 -> 38.181938 | F47: =$C47/$C12*F12 -> 30.522775 | G47: =$C47/$C12*G12 -> 40.536456 | H47: =$C47/$C12*H12 -> 85.954558 | I47: =$C47/$C12*I12 -> 124.67071 | J47: =$C47/$C12*J12 -> 162.79499 | K47: =$C47/$C12*K12 -> 212.69305 | ... T47: =$C47/$C12*T12 -> 3504.7551
A48: 44146 | B48: England | C48: =MIN(C13,$C$39) -> 10894.511 | D48: =$C48/$C13*D13 -> 64.977822 | E48: =$C48/$C13*E13 -> 42.33682 | F48: =$C48/$C13*F13 -> 33.844203 | G48: =$C48/$C13*G13 -> 44.947552 | H48: =$C48/$C13*H13 -> 95.307962 | I48: =$C48/$C13*I13 -> 138.23713 | J48: =$C48/$C13*J13 -> 180.51002 | K48: =$C48/$C13*K13 -> 235.83788 | ... T48: =$C48/$C13*T13 -> 3886.1356
A49: 44153 | B49: England | C49: =MIN(C14,$C$39) -> 11160.883 | D49: =$C49/$C14*D14 -> 66.566535 | E49: =$C49/$C14*E14 -> 43.371959 | F49: =$C49/$C14*F14 -> 34.671696 | G49: =$C49/$C14*G14 -> 46.046523 | H49: =$C49/$C14*H14 -> 97.638249 | I49: =$C49/$C14*I14 -> 141.61704 | J49: =$C49/$C14*J14 -> 184.9235 | K49: =$C49/$C14*K14 -> 241.60414 | ... T49: =$C49/$C14*T14 -> 3981.1519
A50: 44160 | B50: England | C50: =MIN(C15,$C$39) -> 10021.66 | D50: =$C50/$C15*D15 -> 59.7719 | E50: =$C50/$C15*E15 -> 38.94486 | F50: =$C50/$C15*F15 -> 31.132658 | G50: =$C50/$C15*G15 -> 41.346424 | H50: =$C50/$C15*H15 -> 87.672036 | I50: =$C50/$C15*I15 -> 127.16179 | J50: =$C50/$C15*J15 -> 166.04784 | K50: =$C50/$C15*K15 -> 216.94292 | ... T50: =$C50/$C15*T15 -> 3574.7844
A51: 44167 | B51: England | C51: =MIN(C16,$C$39) -> 8926.6786 | D51: =$C51/$C16*D16 -> 53.241134 | E51: =$C51/$C16*E16 -> 34.689688 | F51: =$C51/$C16*F16 -> 27.731058 | G51: =$C51/$C16*G16 -> 36.828853 | H51: =$C51/$C16*H16 -> 78.09286 | I51: =$C51/$C16*I16 -> 113.2679 | J51: =$C51/$C16*J16 -> 147.9052 | K51: =$C51/$C16*K16 -> 193.23942 | ... T51: =$C51/$C16*T16 -> 3184.1982
A52: 44174 | B52: England | C52: =MIN(C17,$C$39) -> 10121.204 | D52: =$C52/$C17*D17 -> 60.365606 | E52: =$C52/$C17*E17 -> 39.331694 | F52: =$C52/$C17*F17 -> 31.441894 | G52: =$C52/$C17*G17 -> 41.757112 | H52: =$C52/$C17*H17 -> 88.54287 | I52: =$C52/$C17*I17 -> 128.42487 | J52: =$C52/$C17*J17 -> 167.69717 | K52: =$C52/$C17*K17 -> 219.09778 | ... T52: =$C52/$C17*T17 -> 3610.2923
A53: 44181 | B53: England | C53: =MIN(C18,$C$39) -> 11962.763 | D53: =$C53/$C18*D18 -> 71.349167 | E53: =$C53/$C18*E18 -> 46.488121 | F53: =$C53/$C18*F18 -> 37.162767 | G53: =$C53/$C18*G18 -> 49.354846 | H53: =$C53/$C18*H18 -> 104.6533 | I53: =$C53/$C18*I18 -> 151.79186 | J53: =$C53/$C18*J18 -> 198.20977 | K53: =$C53/$C18*K18 -> 258.96276 | ... T53: =$C53/$C18*T18 -> 4267.1873
A54: 44188 | B54: England | C54: =MIN(C19,$C$39) -> 14187.751 | D54: =$C54/$C19*D19 -> 84.619595 | E54: =$C54/$C19*E19 -> 55.134575 | F54: =$C54/$C19*F19 -> 44.074772 | G54: =$C54/$C19*G19 -> 58.53449 | H54: =$C54/$C19*H19 -> 124.11806 | I54: =$C54/$C19*I19 -> 180.02404 | J54: =$C54/$C19*J19 -> 235.07535 | K54: =$C54/$C19*K19 -> 307.12796 | ... T54: =$C54/$C19*T19 -> 5060.8532
A55: 44195 | B55: England | C55: =MIN(C20,$C$39) -> 17809.116 | D55: =$C55/$C20*D20 -> 106.2184 | E55: =$C55/$C20*E20 -> 69.207449 | F55: =$C55/$C20*F20 -> 55.324677 | G55: =$C55/$C20*G20 -> 73.475178 | H55: =$C55/$C20*H20 -> 155.79868 | I55: =$C55/$C20*I20 -> 225.97444 | J55: =$C55/$C20*J20 -> 295.07737 | K55: =$C55/$C20*K20 -> 385.52111 | ... T55: =$C55/$C20*T20 -> 6352.6152
A56: 44202 | B56: England | C56: =MIN(C21,$C$39) -> 23796.488 | D56: =$C56/$C21*D21 -> 141.92871 | E56: =$C56/$C21*E21 -> 92.474791 | F56: =$C56/$C21*F21 -> 73.924672 | G56: =$C56/$C21*G21 -> 98.177318 | H56: =$C56/$C21*H21 -> 208.17775 | I56: =$C56/$C21*I21 -> 301.94638 | J56: =$C56/$C21*J21 -> 394.28152 | K56: =$C56/$C21*K21 -> 515.13219 | ... T56: =$C56/$C21*T21 -> 8488.3459
A57: 44209 | B57: England | C57: =MIN(C22,$C$39) -> 27141.343 | D57: =$C57/$C22*D22 -> 161.87834 | E57: =$C57/$C22*E22 -> 105.47313 | F57: =$C57/$C22*F22 -> 84.315586 | G57: =$C57/$C22*G22 -> 111.97721 | H57: =$C57/$C22*H22 -> 237.43939 | I57: =$C57/$C22*I22 -> 344.38823 | J57: =$C57/$C22*J22 -> 449.70207 | K57: =$C57/$C22*K22 -> 587.5396 | ... T57: =$C57/$C22*T22 -> 9681.475
A58: 44216 | B58: England | C58: =MIN(C23,$C$39) -> 25562.468 | D58: =$C58/$C23*D23 -> 152.4615 | E58: =$C58/$C23*E23 -> 99.337511 | F58: =$C58/$C23*F23 -> 79.410754 | G58: =$C58/$C23*G23 -> 105.46323 | H58: =$C58/$C23*H23 -> 223.62699 | I58: =$C58/$C23*I23 -> 324.35437 | J58: =$C58/$C23*J23 -> 423.54186 | K58: =$C58/$C23*K23 -> 553.36107 | ... T58: =$C58/$C23*T23 -> 9118.2812
... A72: 44314 | B72: England | C72: =MIN(C37,$C$39) -> 391.96587 | D72: =$C72/$C37*D37 -> 2.3377908 | E72: =$C72/$C37*E37 -> 1.5232064 | F72: =$C72/$C37*F37 -> 1.2176565 | G72: =$C72/$C37*G37 -> 1.617136 | H72: =$C72/$C37*H37 -> 3.4290174 | I72: =$C72/$C37*I37 -> 4.9735355 | J72: =$C72/$C37*J37 -> 6.4944415 | K72: =$C72/$C37*K37 -> 8.4850434 | ... T72: =$C72/$C37*T37 -> 139.81651
A74: Demand beyond Capacity
A75: Table 3.3 - Estimated Ward demand that gets no admission by week and age group.
A76: Week commencing | B76: Region | C76: Value | D76: 0-4 | E76: 5-9 | F76: 10-14 | G76: 15-19 | H76: 20-24 | I76: 25-29 | J76: 30-34 | K76: 35-39 | L76: 40-44 | M76: 45-49 | N76: 50-54 | O76: 55-59 | P76: 60-64 | Q76: 65-69 | R76: 70-74 | S76: 75-79 | T76: 80+
A77: 44104 | B77: England | C77: =C7-C42 -> 0 | D77: =$C77/$C7*D7 -> 0 | E77: =$C77/$C7*E7 -> 0 | F77: =$C77/$C7*F7 -> 0 | G77: =$C77/$C7*G7 -> 0 | H77: =$C77/$C7*H7 -> 0 | I77: =$C77/$C7*I7 -> 0 | J77: =$C77/$C7*J7 -> 0 | K77: =$C77/$C7*K7 -> 0 | ... T77: =$C77/$C7*T7 -> 0
A78: 44111 | B78: England | C78: =C8-C43 -> 0 | D78: =$C78/$C8*D8 -> 0 | E78: =$C78/$C8*E8 -> 0 | F78: =$C78/$C8*F8 -> 0 | G78: =$C78/$C8*G8 -> 0 | H78: =$C78/$C8*H8 -> 0 | I78: =$C78/$C8*I8 -> 0 | J78: =$C78/$C8*J8 -> 0 | K78: =$C78/$C8*K8 -> 0 | ... T78: =$C78/$C8*T8 -> 0
A79: 44118 | B79: England | C79: =C9-C44 -> 0 | D79: =$C79/$C9*D9 -> 0 | E79: =$C79/$C9*E9 -> 0 | F79: =$C79/$C9*F9 -> 0 | G79: =$C79/$C9*G9 -> 0 | H79: =$C79/$C9*H9 -> 0 | I79: =$C79/$C9*I9 -> 0 | J79: =$C79/$C9*J9 -> 0 | K79: =$C79/$C9*K9 -> 0 | ... T79: =$C79/$C9*T9 -> 0
A80: 44125 | B80: England | C80: =C10-C45 -> 0 | D80: =$C80/$C10*D10 -> 0 | E80: =$C80/$C10*E10 -> 0 | F80: =$C80/$C10*F10 -> 0 | G80: =$C80/$C10*G10 -> 0 | H80: =$C80/$C10*H10 -> 0 | I80: =$C80/$C10*I10 -> 0 | J80: =$C80/$C10*J10 -> 0 | K80: =$C80/$C10*K10 -> 0 | ... T80: =$C80/$C10*T10 -> 0
A81: 44132 | B81: England | C81: =C11-C46 -> 0 | D81: =$C81/$C11*D11 -> 0 | E81: =$C81/$C11*E11 -> 0 | F81: =$C81/$C11*F11 -> 0 | G81: =$C81/$C11*G11 -> 0 | H81: =$C81/$C11*H11 -> 0 | I81: =$C81/$C11*I11 -> 0 | J81: =$C81/$C11*J11 -> 0 | K81: =$C81/$C11*K11 -> 0 | ... T81: =$C81/$C11*T11 -> 0
A82: 44139 | B82: England | C82: =C12-C47 -> 0 | D82: =$C82/$C12*D12 -> 0 | E82: =$C82/$C12*E12 -> 0 | F82: =$C82/$C12*F12 -> 0 | G82: =$C82/$C12*G12 -> 0 | H82: =$C82/$C12*H12 -> 0 | I82: =$C82/$C12*I12 -> 0 | J82: =$C82/$C12*J12 -> 0 | K82: =$C82/$C12*K12 -> 0 | ... T82: =$C82/$C12*T12 -> 0 | V82: Here we calculate the number of ward patients that are not admitted because of lack of capacity. This is done the same way as in the table above, only using the excess to capactiy (column C) rather than the capacity. The numbers in this table and the table above will therefore sum to the table at the top.
A83: 44146 | B83: England | C83: =C13-C48 -> 0 | D83: =$C83/$C13*D13 -> 0 | E83: =$C83/$C13*E13 -> 0 | F83: =$C83/$C13*F13 -> 0 | G83: =$C83/$C13*G13 -> 0 | H83: =$C83/$C13*H13 -> 0 | I83: =$C83/$C13*I13 -> 0 | J83: =$C83/$C13*J13 -> 0 | K83: =$C83/$C13*K13 -> 0 | ... T83: =$C83/$C13*T13 -> 0
A84: 44153 | B84: England | C84: =C14-C49 -> 0 | D84: =$C84/$C14*D14 -> 0 | E84: =$C84/$C14*E14 -> 0 | F84: =$C84/$C14*F14 -> 0 | G84: =$C84/$C14*G14 -> 0 | H84: =$C84/$C14*H14 -> 0 | I84: =$C84/$C14*I14 -> 0 | J84: =$C84/$C14*J14 -> 0 | K84: =$C84/$C14*K14 -> 0 | ... T84: =$C84/$C14*T14 -> 0
A85: 44160 | B85: England | C85: =C15-C50 -> 0 | D85: =$C85/$C15*D15 -> 0 | E85: =$C85/$C15*E15 -> 0 | F85: =$C85/$C15*F15 -> 0 | G85: =$C85/$C15*G15 -> 0 | H85: =$C85/$C15*H15 -> 0 | I85: =$C85/$C15*I15 -> 0 | J85: =$C85/$C15*J15 -> 0 | K85: =$C85/$C15*K15 -> 0 | ... T85: =$C85/$C15*T15 -> 0
A86: 44167 | B86: England | C86: =C16-C51 -> 0 | D86: =$C86/$C16*D16 -> 0 | E86: =$C86/$C16*E16 -> 0 | F86: =$C86/$C16*F16 -> 0 | G86: =$C86/$C16*G16 -> 0 | H86: =$C86/$C16*H16 -> 0 | I86: =$C86/$C16*I16 -> 0 | J86: =$C86/$C16*J16 -> 0 | K86: =$C86/$C16*K16 -> 0 | ... T86: =$C86/$C16*T16 -> 0
A87: 44174 | B87: England | C87: =C17-C52 -> 0 | D87: =$C87/$C17*D17 -> 0 | E87: =$C87/$C17*E17 -> 0 | F87: =$C87/$C17*F17 -> 0 | G87: =$C87/$C17*G17 -> 0 | H87: =$C87/$C17*H17 -> 0 | I87: =$C87/$C17*I17 -> 0 | J87: =$C87/$C17*J17 -> 0 | K87: =$C87/$C17*K17 -> 0 | ... T87: =$C87/$C17*T17 -> 0
A88: 44181 | B88: England | C88: =C18-C53 -> 0 | D88: =$C88/$C18*D18 -> 0 | E88: =$C88/$C18*E18 -> 0 | F88: =$C88/$C18*F18 -> 0 | G88: =$C88/$C18*G18 -> 0 | H88: =$C88/$C18*H18 -> 0 | I88: =$C88/$C18*I18 -> 0 | J88: =$C88/$C18*J18 -> 0 | K88: =$C88/$C18*K18 -> 0 | ... T88: =$C88/$C18*T18 -> 0
A89: 44188 | B89: England | C89: =C19-C54 -> 0 | D89: =$C89/$C19*D19 -> 0 | E89: =$C89/$C19*E19 -> 0 | F89: =$C89/$C19*F19 -> 0 | G89: =$C89/$C19*G19 -> 0 | H89: =$C89/$C19*H19 -> 0 | I89: =$C89/$C19*I19 -> 0 | J89: =$C89/$C19*J19 -> 0 | K89: =$C89/$C19*K19 -> 0 | ... T89: =$C89/$C19*T19 -> 0
A90: 44195 | B90: England | C90: =C20-C55 -> 0 | D90: =$C90/$C20*D20 -> 0 | E90: =$C90/$C20*E20 -> 0 | F90: =$C90/$C20*F20 -> 0 | G90: =$C90/$C20*G20 -> 0 | H90: =$C90/$C20*H20 -> 0 | I90: =$C90/$C20*I20 -> 0 | J90: =$C90/$C20*J20 -> 0 | K90: =$C90/$C20*K20 -> 0 | ... T90: =$C90/$C20*T20 -> 0
A91: 44202 | B91: England | C91: =C21-C56 -> 0 | D91: =$C91/$C21*D21 -> 0 | E91: =$C91/$C21*E21 -> 0 | F91: =$C91/$C21*F21 -> 0 | G91: =$C91/$C21*G21 -> 0 | H91: =$C91/$C21*H21 -> 0 | I91: =$C91/$C21*I21 -> 0 | J91: =$C91/$C21*J21 -> 0 | K91: =$C91/$C21*K21 -> 0 | ... T91: =$C91/$C21*T21 -> 0
A92: 44209 | B92: England | C92: =C22-C57 -> 0 | D92: =$C92/$C22*D22 -> 0 | E92: =$C92/$C22*E22 -> 0 | F92: =$C92/$C22*F22 -> 0 | G92: =$C92/$C22*G22 -> 0 | H92: =$C92/$C22*H22 -> 0 | I92: =$C92/$C22*I22 -> 0 | J92: =$C92/$C22*J22 -> 0 | K92: =$C92/$C22*K22 -> 0 | ... T92: =$C92/$C22*T22 -> 0
A93: 44216 | B93: England | C93: =C23-C58 -> 0 | D93: =$C93/$C23*D23 -> 0 | E93: =$C93/$C23*E23 -> 0 | F93: =$C93/$C23*F23 -> 0 | G93: =$C93/$C23*G23 -> 0 | H93: =$C93/$C23*H23 -> 0 | I93: =$C93/$C23*I23 -> 0 | J93: =$C93/$C23*J23 -> 0 | K93: =$C93/$C23*K23 -> 0 | ... T93: =$C93/$C23*T23 -> 0
A94: 44223 | B94: England | C94: =C24-C59 -> 0 | D94: =$C94/$C24*D24 -> 0 | E94: =$C94/$C24*E24 -> 0 | F94: =$C94/$C24*F24 -> 0 | G94: =$C94/$C24*G24 -> 0 | H94: =$C94/$C24*H24 -> 0 | I94: =$C94/$C24*I24 -> 0 | J94: =$C94/$C24*J24 -> 0 | K94: =$C94/$C24*K24 -> 0 | ... T94: =$C94/$C24*T24 -> 0
... A107: 44314 | B107: England | C107: =C37-C72 -> 0 | D107: =$C107/$C37*D37 -> 0 | E107: =$C107/$C37*E37 -> 0 | F107: =$C107/$C37*F37 -> 0 | G107: =$C107/$C37*G37 -> 0 | H107: =$C107/$C37*H37 -> 0 | I107: =$C107/$C37*I37 -> 0 | J107: =$C107/$C37*J37 -> 0 | K107: =$C107/$C37*K37 -> 0 | ... T107: =$C107/$C37*T37 -> 0
B110: Input data
B114: Output

Sheet CCU Demand
B1: Calculating the age distribution of demand for ICU.
A2: In this sheet we use the estimates of total admissions from sheet 1 and the proportion requiring ICU care from sheet 2 to estimate the number of patients requiring ICU care.
A3: This is then combined with an estimate of maximum ICU capacity to estimate the number of patients that require ICU care who are able to be admitted to ICU,
A4: Any available Ward capacity is assumed to be filled with any patients that require ICU that are unable to be admitted to ICU
A6: Table 4.1 - Estimated total ICU demand by week and age group.
A7: Week commencing | B7: Region | C7: Value | D7: 0-4 | E7: 5-9 | F7: 10-14 | G7: 15-19 | H7: 20-24 | I7: 25-29 | J7: 30-34 | K7: 35-39 | L7: 40-44 | M7: 45-49 | N7: 50-54 | O7: 55-59 | P7: 60-64 | Q7: 65-69 | R7: 70-74 | S7: 75-79 | T7: 80+
A8: 44104 | B8: England | C8: =SUM(D8:T8) -> 221.81976 | D8: ='New patients in hospital'!D5*VLOOKUP(D$7,'Splitting Admissions CCU Ward'!$B$62:$D$79,2,FALSE) -> 0 | E8: ='New patients in hospital'!E5*VLOOKUP(E$7,'Splitting Admissions CCU Ward'!$B$62:$D$79,2,FALSE) -> 0 | F8: ='New patients in hospital'!F5*VLOOKUP(F$7,'Splitting Admissions CCU Ward'!$B$62:$D$79,2,FALSE) -> 0 | G8: ='New patients in hospital'!G5*VLOOKUP(G$7,'Splitting Admissions CCU Ward'!$B$62:$D$79,2,FALSE) -> 0.98553717 | H8: ='New patients in hospital'!H5*VLOOKUP(H$7,'Splitting Admissions CCU Ward'!$B$62:$D$79,2,FALSE) -> 2.0897587 | I8: ='New patients in hospital'!I5*VLOOKUP(I$7,'Splitting Admissions CCU Ward'!$B$62:$D$79,2,FALSE) -> 3.0310401 | J8: ='New patients in hospital'!J5*VLOOKUP(J$7,'Splitting Admissions CCU Ward'!$B$62:$D$79,2,FALSE) -> 4.8970364 | K8: ='New patients in hospital'!K5*VLOOKUP(K$7,'Splitting Admissions CCU Ward'!$B$62:$D$79,2,FALSE) -> 6.3980199 | ... T8: ='New patients in hospital'!T5*VLOOKUP(T$7,'Splitting Admissions CCU Ward'!$B$62:$D$79,2,FALSE) -> 12.180943
A9: 44111 | B9: England | C9: =SUM(D9:T9) -> 332.14241 | D9: ='New patients in hospital'!D6*VLOOKUP(D$7,'Splitting Admissions CCU Ward'!$B$62:$D$79,2,FALSE) -> 0 | E9: ='New patients in hospital'!E6*VLOOKUP(E$7,'Splitting Admissions CCU Ward'!$B$62:$D$79,2,FALSE) -> 0 | F9: ='New patients in hospital'!F6*VLOOKUP(F$7,'Splitting Admissions CCU Ward'!$B$62:$D$79,2,FALSE) -> 0 | G9: ='New patients in hospital'!G6*VLOOKUP(G$7,'Splitting Admissions CCU Ward'!$B$62:$D$79,2,FALSE) -> 1.4756967 | H9: ='New patients in hospital'!H6*VLOOKUP(H$7,'Splitting Admissions CCU Ward'!$B$62:$D$79,2,FALSE) -> 3.1291057 | I9: ='New patients in hospital'!I6*VLOOKUP(I$7,'Splitting Admissions CCU Ward'!$B$62:$D$79,2,FALSE) -> 4.5385358 | J9: ='New patients in hospital'!J6*VLOOKUP(J$7,'Splitting Admissions CCU Ward'!$B$62:$D$79,2,FALSE) -> 7.3325903 | K9: ='New patients in hospital'!K6*VLOOKUP(K$7,'Splitting Admissions CCU Ward'!$B$62:$D$79,2,FALSE) -> 9.580092 | ... T9: ='New patients in hospital'!T6*VLOOKUP(T$7,'Splitting Admissions CCU Ward'!$B$62:$D$79,2,FALSE) -> 18.239167
A10: 44118 | B10: England | C10: =SUM(D10:T10) -> 457.49837 | D10: ='New patients in hospital'!D7*VLOOKUP(D$7,'Splitting Admissions CCU Ward'!$B$62:$D$79,2,FALSE) -> 0 | E10: ='New patients in hospital'!E7*VLOOKUP(E$7,'Splitting Admissions CCU Ward'!$B$62:$D$79,2,FALSE) -> 0 | F10: ='New patients in hospital'!F7*VLOOKUP(F$7,'Splitting Admissions CCU Ward'!$B$62:$D$79,2,FALSE) -> 0 | G10: ='New patients in hospital'!G7*VLOOKUP(G$7,'Splitting Admissions CCU Ward'!$B$62:$D$79,2,FALSE) -> 2.0326487 | H10: ='New patients in hospital'!H7*VLOOKUP(H$7,'Splitting Admissions CCU Ward'!$B$62:$D$79,2,FALSE) -> 4.3100812 | I10: ='New patients in hospital'!I7*VLOOKUP(I$7,'Splitting Admissions CCU Ward'!$B$62:$D$79,2,FALSE) -> 6.2514533 | J10: ='New patients in hospital'!J7*VLOOKUP(J$7,'Splitting Admissions CCU Ward'!$B$62:$D$79,2,FALSE) -> 10.100029 | K10: ='New patients in hospital'!K7*VLOOKUP(K$7,'Splitting Admissions CCU Ward'!$B$62:$D$79,2,FALSE) -> 13.195775 | ... T10: ='New patients in hospital'!T7*VLOOKUP(T$7,'Splitting Admissions CCU Ward'!$B$62:$D$79,2,FALSE) -> 25.122926
A11: 44125 | B11: England | C11: =SUM(D11:T11) -> 595.0689 | D11: ='New patients in hospital'!D8*VLOOKUP(D$7,'Splitting Admissions CCU Ward'!$B$62:$D$79,2,FALSE) -> 0 | E11: ='New patients in hospital'!E8*VLOOKUP(E$7,'Splitting Admissions CCU Ward'!$B$62:$D$79,2,FALSE) -> 0 | F11: ='New patients in hospital'!F8*VLOOKUP(F$7,'Splitting Admissions CCU Ward'!$B$62:$D$79,2,FALSE) -> 0 | G11: ='New patients in hospital'!G8*VLOOKUP(G$7,'Splitting Admissions CCU Ward'!$B$62:$D$79,2,FALSE) -> 2.6438696 | H11: ='New patients in hospital'!H8*VLOOKUP(H$7,'Splitting Admissions CCU Ward'!$B$62:$D$79,2,FALSE) -> 5.60613 | I11: ='New patients in hospital'!I8*VLOOKUP(I$7,'Splitting Admissions CCU Ward'!$B$62:$D$79,2,FALSE) -> 8.1312759 | J11: ='New patients in hospital'!J8*VLOOKUP(J$7,'Splitting Admissions CCU Ward'!$B$62:$D$79,2,FALSE) -> 13.137125 | K11: ='New patients in hospital'!K8*VLOOKUP(K$7,'Splitting Admissions CCU Ward'!$B$62:$D$79,2,FALSE) -> 17.163767 | ... T11: ='New patients in hospital'!T8*VLOOKUP(T$7,'Splitting Admissions CCU Ward'!$B$62:$D$79,2,FALSE) -> 32.677433
A12: 44132 | B12: England | C12: =SUM(D12:T12) -> 762.86268 | D12: ='New patients in hospital'!D9*VLOOKUP(D$7,'Splitting Admissions CCU Ward'!$B$62:$D$79,2,FALSE) -> 0 | E12: ='New patients in hospital'!E9*VLOOKUP(E$7,'Splitting Admissions CCU Ward'!$B$62:$D$79,2,FALSE) -> 0 | F12: ='New patients in hospital'!F9*VLOOKUP(F$7,'Splitting Admissions CCU Ward'!$B$62:$D$79,2,FALSE) -> 0 | G12: ='New patients in hospital'!G9*VLOOKUP(G$7,'Splitting Admissions CCU Ward'!$B$62:$D$79,2,FALSE) -> 3.3893712 | H12: ='New patients in hospital'!H9*VLOOKUP(H$7,'Splitting Admissions CCU Ward'!$B$62:$D$79,2,FALSE) -> 7.1869111 | I12: ='New patients in hospital'!I9*VLOOKUP(I$7,'Splitting Admissions CCU Ward'!$B$62:$D$79,2,FALSE) -> 10.424082 | J12: ='New patients in hospital'!J9*VLOOKUP(J$7,'Splitting Admissions CCU Ward'!$B$62:$D$79,2,FALSE) -> 16.841449 | K12: ='New patients in hospital'!K9*VLOOKUP(K$7,'Splitting Admissions CCU Ward'!$B$62:$D$79,2,FALSE) -> 22.003497 | ... T12: ='New patients in hospital'!T9*VLOOKUP(T$7,'Splitting Admissions CCU Ward'!$B$62:$D$79,2,FALSE) -> 41.891609 | V12: Here we use our estimates of total number of hospitalisations per week from sheet "1 New patients in hospital", and our estimates of the proportion of those that will be admitted to the ICU from sheet "2 Splitting admissions ICU Ward", to estimate the total number of patients in each age group that should be admitted to the ICU each week (demand).
A13: 44139 | B13: England | C13: =SUM(D13:T13) -> 834.66244 | D13: ='New patients in hospital'!D10*VLOOKUP(D$7,'Splitting Admissions CCU Ward'!$B$62:$D$79,2,FALSE) -> 0 | E13: ='New patients in hospital'!E10*VLOOKUP(E$7,'Splitting Admissions CCU Ward'!$B$62:$D$79,2,FALSE) -> 0 | F13: ='New patients in hospital'!F10*VLOOKUP(F$7,'Splitting Admissions CCU Ward'!$B$62:$D$79,2,FALSE) -> 0 | G13: ='New patients in hospital'!G10*VLOOKUP(G$7,'Splitting Admissions CCU Ward'!$B$62:$D$79,2,FALSE) -> 3.7083749 | H13: ='New patients in hospital'!H10*VLOOKUP(H$7,'Splitting Admissions CCU Ward'!$B$62:$D$79,2,FALSE) -> 7.8633349 | I13: ='New patients in hospital'!I10*VLOOKUP(I$7,'Splitting Admissions CCU Ward'!$B$62:$D$79,2,FALSE) -> 11.405184 | J13: ='New patients in hospital'!J10*VLOOKUP(J$7,'Splitting Admissions CCU Ward'!$B$62:$D$79,2,FALSE) -> 18.426547 | K13: ='New patients in hospital'!K10*VLOOKUP(K$7,'Splitting Admissions CCU Ward'!$B$62:$D$79,2,FALSE) -> 24.074441 | ... T13: ='New patients in hospital'!T10*VLOOKUP(T$7,'Splitting Admissions CCU Ward'!$B$62:$D$79,2,FALSE) -> 45.834399
A14: 44146 | B14: England | C14: =SUM(D14:T14) -> 925.48874 | D14: ='New patients in hospital'!D11*VLOOKUP(D$7,'Splitting Admissions CCU Ward'!$B$62:$D$79,2,FALSE) -> 0 | E14: ='New patients in hospital'!E11*VLOOKUP(E$7,'Splitting Admissions CCU Ward'!$B$62:$D$79,2,FALSE) -> 0 | F14: ='New patients in hospital'!F11*VLOOKUP(F$7,'Splitting Admissions CCU Ward'!$B$62:$D$79,2,FALSE) -> 0 | G14: ='New patients in hospital'!G11*VLOOKUP(G$7,'Splitting Admissions CCU Ward'!$B$62:$D$79,2,FALSE) -> 4.1119129 | H14: ='New patients in hospital'!H11*VLOOKUP(H$7,'Splitting Admissions CCU Ward'!$B$62:$D$79,2,FALSE) -> 8.7190074 | I14: ='New patients in hospital'!I11*VLOOKUP(I$7,'Splitting Admissions CCU Ward'!$B$62:$D$79,2,FALSE) -> 12.646274 | J14: ='New patients in hospital'!J11*VLOOKUP(J$7,'Splitting Admissions CCU Ward'!$B$62:$D$79,2,FALSE) -> 20.431687 | K14: ='New patients in hospital'!K11*VLOOKUP(K$7,'Splitting Admissions CCU Ward'!$B$62:$D$79,2,FALSE) -> 26.694174 | ... T14: ='New patients in hospital'!T11*VLOOKUP(T$7,'Splitting Admissions CCU Ward'!$B$62:$D$79,2,FALSE) -> 50.822007
A15: 44153 | B15: England | C15: =SUM(D15:T15) -> 948.11702 | D15: ='New patients in hospital'!D12*VLOOKUP(D$7,'Splitting Admissions CCU Ward'!$B$62:$D$79,2,FALSE) -> 0 | E15: ='New patients in hospital'!E12*VLOOKUP(E$7,'Splitting Admissions CCU Ward'!$B$62:$D$79,2,FALSE) -> 0 | F15: ='New patients in hospital'!F12*VLOOKUP(F$7,'Splitting Admissions CCU Ward'!$B$62:$D$79,2,FALSE) -> 0 | G15: ='New patients in hospital'!G12*VLOOKUP(G$7,'Splitting Admissions CCU Ward'!$B$62:$D$79,2,FALSE) -> 4.2124495 | H15: ='New patients in hospital'!H12*VLOOKUP(H$7,'Splitting Admissions CCU Ward'!$B$62:$D$79,2,FALSE) -> 8.9321879 | I15: ='New patients in hospital'!I12*VLOOKUP(I$7,'Splitting Admissions CCU Ward'!$B$62:$D$79,2,FALSE) -> 12.955476 | J15: ='New patients in hospital'!J12*VLOOKUP(J$7,'Splitting Admissions CCU Ward'!$B$62:$D$79,2,FALSE) -> 20.931244 | K15: ='New patients in hospital'!K12*VLOOKUP(K$7,'Splitting Admissions CCU Ward'!$B$62:$D$79,2,FALSE) -> 27.346849 | ... T15: ='New patients in hospital'!T12*VLOOKUP(T$7,'Splitting Admissions CCU Ward'!$B$62:$D$79,2,FALSE) -> 52.06461
A16: 44160 | B16: England | C16: =SUM(D16:T16) -> 851.34003 | D16: ='New patients in hospital'!D13*VLOOKUP(D$7,'Splitting Admissions CCU Ward'!$B$62:$D$79,2,FALSE) -> 0 | E16: ='New patients in hospital'!E13*VLOOKUP(E$7,'Splitting Admissions CCU Ward'!$B$62:$D$79,2,FALSE) -> 0 | F16: ='New patients in hospital'!F13*VLOOKUP(F$7,'Splitting Admissions CCU Ward'!$B$62:$D$79,2,FALSE) -> 0 | G16: ='New patients in hospital'!G13*VLOOKUP(G$7,'Splitting Admissions CCU Ward'!$B$62:$D$79,2,FALSE) -> 3.7824729 | H16: ='New patients in hospital'!H13*VLOOKUP(H$7,'Splitting Admissions CCU Ward'!$B$62:$D$79,2,FALSE) -> 8.0204541 | I16: ='New patients in hospital'!I13*VLOOKUP(I$7,'Splitting Admissions CCU Ward'!$B$62:$D$79,2,FALSE) -> 11.633074 | J16: ='New patients in hospital'!J13*VLOOKUP(J$7,'Splitting Admissions CCU Ward'!$B$62:$D$79,2,FALSE) -> 18.794732 | K16: ='New patients in hospital'!K13*VLOOKUP(K$7,'Splitting Admissions CCU Ward'!$B$62:$D$79,2,FALSE) -> 24.555479 | ... T16: ='New patients in hospital'!T13*VLOOKUP(T$7,'Splitting Admissions CCU Ward'!$B$62:$D$79,2,FALSE) -> 46.750227
A17: 44167 | B17: England | C17: =SUM(D17:T17) -> 758.32136 | D17: ='New patients in hospital'!D14*VLOOKUP(D$7,'Splitting Admissions CCU Ward'!$B$62:$D$79,2,FALSE) -> 0 | E17: ='New patients in hospital'!E14*VLOOKUP(E$7,'Splitting Admissions CCU Ward'!$B$62:$D$79,2,FALSE) -> 0 | F17: ='New patients in hospital'!F14*VLOOKUP(F$7,'Splitting Admissions CCU Ward'!$B$62:$D$79,2,FALSE) -> 0 | G17: ='New patients in hospital'!G14*VLOOKUP(G$7,'Splitting Admissions CCU Ward'!$B$62:$D$79,2,FALSE) -> 3.3691943 | H17: ='New patients in hospital'!H14*VLOOKUP(H$7,'Splitting Admissions CCU Ward'!$B$62:$D$79,2,FALSE) -> 7.1441275 | I17: ='New patients in hospital'!I14*VLOOKUP(I$7,'Splitting Admissions CCU Ward'!$B$62:$D$79,2,FALSE) -> 10.362027 | J17: ='New patients in hospital'!J14*VLOOKUP(J$7,'Splitting Admissions CCU Ward'!$B$62:$D$79,2,FALSE) -> 16.741192 | K17: ='New patients in hospital'!K14*VLOOKUP(K$7,'Splitting Admissions CCU Ward'!$B$62:$D$79,2,FALSE) -> 21.872511 | ... T17: ='New patients in hospital'!T14*VLOOKUP(T$7,'Splitting Admissions CCU Ward'!$B$62:$D$79,2,FALSE) -> 41.642229
A18: 44174 | B18: England | C18: =SUM(D18:T18) -> 859.79627 | D18: ='New patients in hospital'!D15*VLOOKUP(D$7,'Splitting Admissions CCU Ward'!$B$62:$D$79,2,FALSE) -> 0 | E18: ='New patients in hospital'!E15*VLOOKUP(E$7,'Splitting Admissions CCU Ward'!$B$62:$D$79,2,FALSE) -> 0 | F18: ='New patients in hospital'!F15*VLOOKUP(F$7,'Splitting Admissions CCU Ward'!$B$62:$D$79,2,FALSE) -> 0 | G18: ='New patients in hospital'!G15*VLOOKUP(G$7,'Splitting Admissions CCU Ward'!$B$62:$D$79,2,FALSE) -> 3.8200436 | H18: ='New patients in hospital'!H15*VLOOKUP(H$7,'Splitting Admissions CCU Ward'!$B$62:$D$79,2,FALSE) -> 8.1001202 | I18: ='New patients in hospital'!I15*VLOOKUP(I$7,'Splitting Admissions CCU Ward'!$B$62:$D$79,2,FALSE) -> 11.748624 | J18: ='New patients in hospital'!J15*VLOOKUP(J$7,'Splitting Admissions CCU Ward'!$B$62:$D$79,2,FALSE) -> 18.981418 | K18: ='New patients in hospital'!K15*VLOOKUP(K$7,'Splitting Admissions CCU Ward'!$B$62:$D$79,2,FALSE) -> 24.799385 | ... T18: ='New patients in hospital'!T15*VLOOKUP(T$7,'Splitting Admissions CCU Ward'!$B$62:$D$79,2,FALSE) -> 47.214591
A19: 44181 | B19: England | C19: =SUM(D19:T19) -> 1016.2368 | D19: ='New patients in hospital'!D16*VLOOKUP(D$7,'Splitting Admissions CCU Ward'!$B$62:$D$79,2,FALSE) -> 0 | E19: ='New patients in hospital'!E16*VLOOKUP(E$7,'Splitting Admissions CCU Ward'!$B$62:$D$79,2,FALSE) -> 0 | F19: ='New patients in hospital'!F16*VLOOKUP(F$7,'Splitting Admissions CCU Ward'!$B$62:$D$79,2,FALSE) -> 0 | G19: ='New patients in hospital'!G16*VLOOKUP(G$7,'Splitting Admissions CCU Ward'!$B$62:$D$79,2,FALSE) -> 4.515103 | H19: ='New patients in hospital'!H16*VLOOKUP(H$7,'Splitting Admissions CCU Ward'!$B$62:$D$79,2,FALSE) -> 9.5739422 | I19: ='New patients in hospital'!I16*VLOOKUP(I$7,'Splitting Admissions CCU Ward'!$B$62:$D$79,2,FALSE) -> 13.886293 | J19: ='New patients in hospital'!J16*VLOOKUP(J$7,'Splitting Admissions CCU Ward'!$B$62:$D$79,2,FALSE) -> 22.435099 | K19: ='New patients in hospital'!K16*VLOOKUP(K$7,'Splitting Admissions CCU Ward'!$B$62:$D$79,2,FALSE) -> 29.311649 | ... T19: ='New patients in hospital'!T16*VLOOKUP(T$7,'Splitting Admissions CCU Ward'!$B$62:$D$79,2,FALSE) -> 55.805316
A20: 44188 | B20: England | C20: =SUM(D20:T20) -> 1205.2494 | D20: ='New patients in hospital'!D17*VLOOKUP(D$7,'Splitting Admissions CCU Ward'!$B$62:$D$79,2,FALSE) -> 0 | E20: ='New patients in hospital'!E17*VLOOKUP(E$7,'Splitting Admissions CCU Ward'!$B$62:$D$79,2,FALSE) -> 0 | F20: ='New patients in hospital'!F17*VLOOKUP(F$7,'Splitting Admissions CCU Ward'!$B$62:$D$79,2,FALSE) -> 0 | G20: ='New patients in hospital'!G17*VLOOKUP(G$7,'Splitting Admissions CCU Ward'!$B$62:$D$79,2,FALSE) -> 5.3548795 | H20: ='New patients in hospital'!H17*VLOOKUP(H$7,'Splitting Admissions CCU Ward'!$B$62:$D$79,2,FALSE) -> 11.354626 | I20: ='New patients in hospital'!I17*VLOOKUP(I$7,'Splitting Admissions CCU Ward'!$B$62:$D$79,2,FALSE) -> 16.469043 | J20: ='New patients in hospital'!J17*VLOOKUP(J$7,'Splitting Admissions CCU Ward'!$B$62:$D$79,2,FALSE) -> 26.607865 | K20: ='New patients in hospital'!K17*VLOOKUP(K$7,'Splitting Admissions CCU Ward'!$B$62:$D$79,2,FALSE) -> 34.763403 | ... T20: ='New patients in hospital'!T17*VLOOKUP(T$7,'Splitting Admissions CCU Ward'!$B$62:$D$79,2,FALSE) -> 66.184701
A21: 44195 | B21: England | C21: =SUM(D21:T21) -> 1512.8844 | D21: ='New patients in hospital'!D18*VLOOKUP(D$7,'Splitting Admissions CCU Ward'!$B$62:$D$79,2,FALSE) -> 0 | E21: ='New patients in hospital'!E18*VLOOKUP(E$7,'Splitting Admissions CCU Ward'!$B$62:$D$79,2,FALSE) -> 0 | F21: ='New patients in hospital'!F18*VLOOKUP(F$7,'Splitting Admissions CCU Ward'!$B$62:$D$79,2,FALSE) -> 0 | G21: ='New patients in hospital'!G18*VLOOKUP(G$7,'Splitting Admissions CCU Ward'!$B$62:$D$79,2,FALSE) -> 6.7216905 | H21: ='New patients in hospital'!H18*VLOOKUP(H$7,'Splitting Admissions CCU Ward'!$B$62:$D$79,2,FALSE) -> 14.252848 | I21: ='New patients in hospital'!I18*VLOOKUP(I$7,'Splitting Admissions CCU Ward'!$B$62:$D$79,2,FALSE) -> 20.672699 | J21: ='New patients in hospital'!J18*VLOOKUP(J$7,'Splitting Admissions CCU Ward'!$B$62:$D$79,2,FALSE) -> 33.399413 | K21: ='New patients in hospital'!K18*VLOOKUP(K$7,'Splitting Admissions CCU Ward'!$B$62:$D$79,2,FALSE) -> 43.636619 | ... T21: ='New patients in hospital'!T18*VLOOKUP(T$7,'Splitting Admissions CCU Ward'!$B$62:$D$79,2,FALSE) -> 83.078073
A22: 44202 | B22: England | C22: =SUM(D22:T22) -> 2021.5117 | D22: ='New patients in hospital'!D19*VLOOKUP(D$7,'Splitting Admissions CCU Ward'!$B$62:$D$79,2,FALSE) -> 0 | E22: ='New patients in hospital'!E19*VLOOKUP(E$7,'Splitting Admissions CCU Ward'!$B$62:$D$79,2,FALSE) -> 0 | F22: ='New patients in hospital'!F19*VLOOKUP(F$7,'Splitting Admissions CCU Ward'!$B$62:$D$79,2,FALSE) -> 0 | G22: ='New patients in hospital'!G19*VLOOKUP(G$7,'Splitting Admissions CCU Ward'!$B$62:$D$79,2,FALSE) -> 8.9815032 | H22: ='New patients in hospital'!H19*VLOOKUP(H$7,'Splitting Admissions CCU Ward'!$B$62:$D$79,2,FALSE) -> 19.044614 | I22: ='New patients in hospital'!I19*VLOOKUP(I$7,'Splitting Admissions CCU Ward'!$B$62:$D$79,2,FALSE) -> 27.6228 | J22: ='New patients in hospital'!J19*VLOOKUP(J$7,'Splitting Admissions CCU Ward'!$B$62:$D$79,2,FALSE) -> 44.628198 | K22: ='New patients in hospital'!K19*VLOOKUP(K$7,'Splitting Admissions CCU Ward'!$B$62:$D$79,2,FALSE) -> 58.307123 | ... T22: ='New patients in hospital'!T19*VLOOKUP(T$7,'Splitting Admissions CCU Ward'!$B$62:$D$79,2,FALSE) -> 111.00868
A23: 44209 | B23: England | C23: =SUM(D23:T23) -> 2305.6571 | D23: ='New patients in hospital'!D20*VLOOKUP(D$7,'Splitting Admissions CCU Ward'!$B$62:$D$79,2,FALSE) -> 0 | E23: ='New patients in hospital'!E20*VLOOKUP(E$7,'Splitting Admissions CCU Ward'!$B$62:$D$79,2,FALSE) -> 0 | F23: ='New patients in hospital'!F20*VLOOKUP(F$7,'Splitting Admissions CCU Ward'!$B$62:$D$79,2,FALSE) -> 0 | G23: ='New patients in hospital'!G20*VLOOKUP(G$7,'Splitting Admissions CCU Ward'!$B$62:$D$79,2,FALSE) -> 10.243951 | H23: ='New patients in hospital'!H20*VLOOKUP(H$7,'Splitting Admissions CCU Ward'!$B$62:$D$79,2,FALSE) -> 21.721541 | I23: ='New patients in hospital'!I20*VLOOKUP(I$7,'Splitting Admissions CCU Ward'!$B$62:$D$79,2,FALSE) -> 31.505484 | J23: ='New patients in hospital'!J20*VLOOKUP(J$7,'Splitting Admissions CCU Ward'!$B$62:$D$79,2,FALSE) -> 50.901175 | K23: ='New patients in hospital'!K20*VLOOKUP(K$7,'Splitting Admissions CCU Ward'!$B$62:$D$79,2,FALSE) -> 66.502821 | ... T23: ='New patients in hospital'!T20*VLOOKUP(T$7,'Splitting Admissions CCU Ward'!$B$62:$D$79,2,FALSE) -> 126.61215
A24: 44216 | B24: England | C24: =SUM(D24:T24) -> 2171.5317 | D24: ='New patients in hospital'!D21*VLOOKUP(D$7,'Splitting Admissions CCU Ward'!$B$62:$D$79,2,FALSE) -> 0 | E24: ='New patients in hospital'!E21*VLOOKUP(E$7,'Splitting Admissions CCU Ward'!$B$62:$D$79,2,FALSE) -> 0 | F24: ='New patients in hospital'!F21*VLOOKUP(F$7,'Splitting Admissions CCU Ward'!$B$62:$D$79,2,FALSE) -> 0 | G24: ='New patients in hospital'!G21*VLOOKUP(G$7,'Splitting Admissions CCU Ward'!$B$62:$D$79,2,FALSE) -> 9.6480366 | H24: ='New patients in hospital'!H21*VLOOKUP(H$7,'Splitting Admissions CCU Ward'!$B$62:$D$79,2,FALSE) -> 20.457948 | I24: ='New patients in hospital'!I21*VLOOKUP(I$7,'Splitting Admissions CCU Ward'!$B$62:$D$79,2,FALSE) -> 29.672737 | J24: ='New patients in hospital'!J21*VLOOKUP(J$7,'Splitting Admissions CCU Ward'!$B$62:$D$79,2,FALSE) -> 47.940136 | K24: ='New patients in hospital'!K21*VLOOKUP(K$7,'Splitting Admissions CCU Ward'!$B$62:$D$79,2,FALSE) -> 62.634199 | ... T24: ='New patients in hospital'!T21*VLOOKUP(T$7,'Splitting Admissions CCU Ward'!$B$62:$D$79,2,FALSE) -> 119.24683
... A38: 44314 | B38: England | C38: =SUM(D38:T38) -> 33.297501 | D38: ='New patients in hospital'!D35*VLOOKUP(D$7,'Splitting Admissions CCU Ward'!$B$62:$D$79,2,FALSE) -> 0 | E38: ='New patients in hospital'!E35*VLOOKUP(E$7,'Splitting Admissions CCU Ward'!$B$62:$D$79,2,FALSE) -> 0 | F38: ='New patients in hospital'!F35*VLOOKUP(F$7,'Splitting Admissions CCU Ward'!$B$62:$D$79,2,FALSE) -> 0 | G38: ='New patients in hospital'!G35*VLOOKUP(G$7,'Splitting Admissions CCU Ward'!$B$62:$D$79,2,FALSE) -> 0.14793959 | H38: ='New patients in hospital'!H35*VLOOKUP(H$7,'Splitting Admissions CCU Ward'!$B$62:$D$79,2,FALSE) -> 0.31369497 | I38: ='New patients in hospital'!I35*VLOOKUP(I$7,'Splitting Admissions CCU Ward'!$B$62:$D$79,2,FALSE) -> 0.45499129 | J38: ='New patients in hospital'!J35*VLOOKUP(J$7,'Splitting Admissions CCU Ward'!$B$62:$D$79,2,FALSE) -> 0.73509714 | K38: ='New patients in hospital'!K35*VLOOKUP(K$7,'Splitting Admissions CCU Ward'!$B$62:$D$79,2,FALSE) -> 0.96041071 | ... T38: ='New patients in hospital'!T35*VLOOKUP(T$7,'Splitting Admissions CCU Ward'!$B$62:$D$79,2,FALSE) -> 1.8284889
A40: Demand within CCU Capacity | C40: =CC_Beds_Daily -> 3444
A41: Table 4.2 - Estimated ICU demand that gets ICU admission by week and age group.
A42: Week commencing | B42: Region | C42: Value | D42: 0-4 | E42: 5-9 | F42: 10-14 | G42: 15-19 | H42: 20-24 | I42: 25-29 | J42: 30-34 | K42: 35-39 | L42: 40-44 | M42: 45-49 | N42: 50-54 | O42: 55-59 | P42: 60-64 | Q42: 65-69 | R42: 70-74 | S42: 75-79 | T42: 80+
A43: 44104 | B43: England | C43: =MIN(C8,$C$40) -> 221.81976 | D43: =$C43/$C8*D8 -> 0 | E43: =$C43/$C8*E8 -> 0 | F43: =$C43/$C8*F8 -> 0 | G43: =$C43/$C8*G8 -> 0.98553717 | H43: =$C43/$C8*H8 -> 2.0897587 | I43: =$C43/$C8*I8 -> 3.0310401 | J43: =$C43/$C8*J8 -> 4.8970364 | K43: =$C43/$C8*K8 -> 6.3980199 | ... T43: =$C43/$C8*T8 -> 12.180943
A44: 44111 | B44: England | C44: =MIN(C9,$C$40) -> 332.14241 | D44: =$C44/$C9*D9 -> 0 | E44: =$C44/$C9*E9 -> 0 | F44: =$C44/$C9*F9 -> 0 | G44: =$C44/$C9*G9 -> 1.4756967 | H44: =$C44/$C9*H9 -> 3.1291057 | I44: =$C44/$C9*I9 -> 4.5385358 | J44: =$C44/$C9*J9 -> 7.3325903 | K44: =$C44/$C9*K9 -> 9.580092 | ... T44: =$C44/$C9*T9 -> 18.239167
A45: 44118 | B45: England | C45: =MIN(C10,$C$40) -> 457.49837 | D45: =$C45/$C10*D10 -> 0 | E45: =$C45/$C10*E10 -> 0 | F45: =$C45/$C10*F10 -> 0 | G45: =$C45/$C10*G10 -> 2.0326487 | H45: =$C45/$C10*H10 -> 4.3100812 | I45: =$C45/$C10*I10 -> 6.2514533 | J45: =$C45/$C10*J10 -> 10.100029 | K45: =$C45/$C10*K10 -> 13.195775 | ... T45: =$C45/$C10*T10 -> 25.122926
A46: 44125 | B46: England | C46: =MIN(C11,$C$40) -> 595.0689 | D46: =$C46/$C11*D11 -> 0 | E46: =$C46/$C11*E11 -> 0 | F46: =$C46/$C11*F11 -> 0 | G46: =$C46/$C11*G11 -> 2.6438696 | H46: =$C46/$C11*H11 -> 5.60613 | I46: =$C46/$C11*I11 -> 8.1312759 | J46: =$C46/$C11*J11 -> 13.137125 | K46: =$C46/$C11*K11 -> 17.163767 | ... T46: =$C46/$C11*T11 -> 32.677433 | V46: Here we estimate the numbers of patients that will actually be admitted to ICU based on the ICU capacity (cell C38). This is done the same way as for ward beds on the "3 Ward Demand" sheet.
A47: 44132 | B47: England | C47: =MIN(C12,$C$40) -> 762.86268 | D47: =$C47/$C12*D12 -> 0 | E47: =$C47/$C12*E12 -> 0 | F47: =$C47/$C12*F12 -> 0 | G47: =$C47/$C12*G12 -> 3.3893712 | H47: =$C47/$C12*H12 -> 7.1869111 | I47: =$C47/$C12*I12 -> 10.424082 | J47: =$C47/$C12*J12 -> 16.841449 | K47: =$C47/$C12*K12 -> 22.003497 | ... T47: =$C47/$C12*T12 -> 41.891609
A48: 44139 | B48: England | C48: =MIN(C13,$C$40) -> 834.66244 | D48: =$C48/$C13*D13 -> 0 | E48: =$C48/$C13*E13 -> 0 | F48: =$C48/$C13*F13 -> 0 | G48: =$C48/$C13*G13 -> 3.7083749 | H48: =$C48/$C13*H13 -> 7.8633349 | I48: =$C48/$C13*I13 -> 11.405184 | J48: =$C48/$C13*J13 -> 18.426547 | K48: =$C48/$C13*K13 -> 24.074441 | ... T48: =$C48/$C13*T13 -> 45.834399
A49: 44146 | B49: England | C49: =MIN(C14,$C$40) -> 925.48874 | D49: =$C49/$C14*D14 -> 0 | E49: =$C49/$C14*E14 -> 0 | F49: =$C49/$C14*F14 -> 0 | G49: =$C49/$C14*G14 -> 4.1119129 | H49: =$C49/$C14*H14 -> 8.7190074 | I49: =$C49/$C14*I14 -> 12.646274 | J49: =$C49/$C14*J14 -> 20.431687 | K49: =$C49/$C14*K14 -> 26.694174 | ... T49: =$C49/$C14*T14 -> 50.822007
A50: 44153 | B50: England | C50: =MIN(C15,$C$40) -> 948.11702 | D50: =$C50/$C15*D15 -> 0 | E50: =$C50/$C15*E15 -> 0 | F50: =$C50/$C15*F15 -> 0 | G50: =$C50/$C15*G15 -> 4.2124495 | H50: =$C50/$C15*H15 -> 8.9321879 | I50: =$C50/$C15*I15 -> 12.955476 | J50: =$C50/$C15*J15 -> 20.931244 | K50: =$C50/$C15*K15 -> 27.346849 | ... T50: =$C50/$C15*T15 -> 52.06461
A51: 44160 | B51: England | C51: =MIN(C16,$C$40) -> 851.34003 | D51: =$C51/$C16*D16 -> 0 | E51: =$C51/$C16*E16 -> 0 | F51: =$C51/$C16*F16 -> 0 | G51: =$C51/$C16*G16 -> 3.7824729 | H51: =$C51/$C16*H16 -> 8.0204541 | I51: =$C51/$C16*I16 -> 11.633074 | J51: =$C51/$C16*J16 -> 18.794732 | K51: =$C51/$C16*K16 -> 24.555479 | ... T51: =$C51/$C16*T16 -> 46.750227
A52: 44167 | B52: England | C52: =MIN(C17,$C$40) -> 758.32136 | D52: =$C52/$C17*D17 -> 0 | E52: =$C52/$C17*E17 -> 0 | F52: =$C52/$C17*F17 -> 0 | G52: =$C52/$C17*G17 -> 3.3691943 | H52: =$C52/$C17*H17 -> 7.1441275 | I52: =$C52/$C17*I17 -> 10.362027 | J52: =$C52/$C17*J17 -> 16.741192 | K52: =$C52/$C17*K17 -> 21.872511 | ... T52: =$C52/$C17*T17 -> 41.642229
A53: 44174 | B53: England | C53: =MIN(C18,$C$40) -> 859.79627 | D53: =$C53/$C18*D18 -> 0 | E53: =$C53/$C18*E18 -> 0 | F53: =$C53/$C18*F18 -> 0 | G53: =$C53/$C18*G18 -> 3.8200436 | H53: =$C53/$C18*H18 -> 8.1001202 | I53: =$C53/$C18*I18 -> 11.748624 | J53: =$C53/$C18*J18 -> 18.981418 | K53: =$C53/$C18*K18 -> 24.799385 | ... T53: =$C53/$C18*T18 -> 47.214591
A54: 44181 | B54: England | C54: =MIN(C19,$C$40) -> 1016.2368 | D54: =$C54/$C19*D19 -> 0 | E54: =$C54/$C19*E19 -> 0 | F54: =$C54/$C19*F19 -> 0 | G54: =$C54/$C19*G19 -> 4.515103 | H54: =$C54/$C19*H19 -> 9.5739422 | I54: =$C54/$C19*I19 -> 13.886293 | J54: =$C54/$C19*J19 -> 22.435099 | K54: =$C54/$C19*K19 -> 29.311649 | ... T54: =$C54/$C19*T19 -> 55.805316
A55: 44188 | B55: England | C55: =MIN(C20,$C$40) -> 1205.2494 | D55: =$C55/$C20*D20 -> 0 | E55: =$C55/$C20*E20 -> 0 | F55: =$C55/$C20*F20 -> 0 | G55: =$C55/$C20*G20 -> 5.3548795 | H55: =$C55/$C20*H20 -> 11.354626 | I55: =$C55/$C20*I20 -> 16.469043 | J55: =$C55/$C20*J20 -> 26.607865 | K55: =$C55/$C20*K20 -> 34.763403 | ... T55: =$C55/$C20*T20 -> 66.184701
A56: 44195 | B56: England | C56: =MIN(C21,$C$40) -> 1512.8844 | D56: =$C56/$C21*D21 -> 0 | E56: =$C56/$C21*E21 -> 0 | F56: =$C56/$C21*F21 -> 0 | G56: =$C56/$C21*G21 -> 6.7216905 | H56: =$C56/$C21*H21 -> 14.252848 | I56: =$C56/$C21*I21 -> 20.672699 | J56: =$C56/$C21*J21 -> 33.399413 | K56: =$C56/$C21*K21 -> 43.636619 | ... T56: =$C56/$C21*T21 -> 83.078073
A57: 44202 | B57: England | C57: =MIN(C22,$C$40) -> 2021.5117 | D57: =$C57/$C22*D22 -> 0 | E57: =$C57/$C22*E22 -> 0 | F57: =$C57/$C22*F22 -> 0 | G57: =$C57/$C22*G22 -> 8.9815032 | H57: =$C57/$C22*H22 -> 19.044614 | I57: =$C57/$C22*I22 -> 27.6228 | J57: =$C57/$C22*J22 -> 44.628198 | K57: =$C57/$C22*K22 -> 58.307123 | ... T57: =$C57/$C22*T22 -> 111.00868
A58: 44209 | B58: England | C58: =MIN(C23,$C$40) -> 2305.6571 | D58: =$C58/$C23*D23 -> 0 | E58: =$C58/$C23*E23 -> 0 | F58: =$C58/$C23*F23 -> 0 | G58: =$C58/$C23*G23 -> 10.243951 | H58: =$C58/$C23*H23 -> 21.721541 | I58: =$C58/$C23*I23 -> 31.505484 | J58: =$C58/$C23*J23 -> 50.901175 | K58: =$C58/$C23*K23 -> 66.502821 | ... T58: =$C58/$C23*T23 -> 126.61215
... A73: 44314 | B73: England | C73: =MIN(C38,$C$40) -> 33.297501 | D73: =$C73/$C38*D38 -> 0 | E73: =$C73/$C38*E38 -> 0 | F73: =$C73/$C38*F38 -> 0 | G73: =$C73/$C38*G38 -> 0.14793959 | H73: =$C73/$C38*H38 -> 0.31369497 | I73: =$C73/$C38*I38 -> 0.45499129 | J73: =$C73/$C38*J38 -> 0.73509714 | K73: =$C73/$C38*K38 -> 0.96041071 | ... T73: =$C73/$C38*T38 -> 1.8284889
A75: Demand outside of ICU capacity but within Ward Capacity
A76: Table 4.3 - Estimated CIU demand that gets Ward admission by week and age group.
A77: Week commencing | B77: Region | C77: Value | D77: 0-4 | E77: 5-9 | F77: 10-14 | G77: 15-19 | H77: 20-24 | I77: 25-29 | J77: 30-34 | K77: 35-39 | L77: 40-44 | M77: 45-49 | N77: 50-54 | O77: 55-59 | P77: 60-64 | Q77: 65-69 | R77: 70-74 | S77: 75-79 | T77: 80+ | V77: Ward Beds Available
A78: 44104 | B78: England | C78: =MIN(C8-C43,V78) -> 0 | D78: =$C78/$C8*D8 -> 0 | E78: =$C78/$C8*E8 -> 0 | F78: =$C78/$C8*F8 -> 0 | G78: =$C78/$C8*G8 -> 0 | H78: =$C78/$C8*H8 -> 0 | I78: =$C78/$C8*I8 -> 0 | J78: =$C78/$C8*J8 -> 0 | K78: =$C78/$C8*K8 -> 0 | ... T78: =$C78/$C8*T8 -> 0 | V78: =MAX(0,'Ward Demand'!$C$39-'Ward Demand'!C7) -> 84562.62
A79: 44111 | B79: England | C79: =MIN(C9-C44,V79) -> 0 | D79: =$C79/$C9*D9 -> 0 | E79: =$C79/$C9*E9 -> 0 | F79: =$C79/$C9*F9 -> 0 | G79: =$C79/$C9*G9 -> 0 | H79: =$C79/$C9*H9 -> 0 | I79: =$C79/$C9*I9 -> 0 | J79: =$C79/$C9*J9 -> 0 | K79: =$C79/$C9*K9 -> 0 | ... T79: =$C79/$C9*T9 -> 0 | V79: =MAX(0,'Ward Demand'!$C$39-'Ward Demand'!C8) -> 83263.942
A80: 44118 | B80: England | C80: =MIN(C10-C45,V80) -> 0 | D80: =$C80/$C10*D10 -> 0 | E80: =$C80/$C10*E10 -> 0 | F80: =$C80/$C10*F10 -> 0 | G80: =$C80/$C10*G10 -> 0 | H80: =$C80/$C10*H10 -> 0 | I80: =$C80/$C10*I10 -> 0 | J80: =$C80/$C10*J10 -> 0 | K80: =$C80/$C10*K10 -> 0 | ... T80: =$C80/$C10*T10 -> 0 | V80: =MAX(0,'Ward Demand'!$C$39-'Ward Demand'!C9) -> 81788.298
A81: 44125 | B81: England | C81: =MIN(C11-C46,V81) -> 0 | D81: =$C81/$C11*D11 -> 0 | E81: =$C81/$C11*E11 -> 0 | F81: =$C81/$C11*F11 -> 0 | G81: =$C81/$C11*G11 -> 0 | H81: =$C81/$C11*H11 -> 0 | I81: =$C81/$C11*I11 -> 0 | J81: =$C81/$C11*J11 -> 0 | K81: =$C81/$C11*K11 -> 0 | ... T81: =$C81/$C11*T11 -> 0 | V81: =MAX(0,'Ward Demand'!$C$39-'Ward Demand'!C10) -> 80168.869
A82: 44132 | B82: England | C82: =MIN(C12-C47,V82) -> 0 | D82: =$C82/$C12*D12 -> 0 | E82: =$C82/$C12*E12 -> 0 | F82: =$C82/$C12*F12 -> 0 | G82: =$C82/$C12*G12 -> 0 | H82: =$C82/$C12*H12 -> 0 | I82: =$C82/$C12*I12 -> 0 | J82: =$C82/$C12*J12 -> 0 | K82: =$C82/$C12*K12 -> 0 | ... T82: =$C82/$C12*T12 -> 0 | V82: =MAX(0,'Ward Demand'!$C$39-'Ward Demand'!C11) -> 78193.663
A83: 44139 | B83: England | C83: =MIN(C13-C48,V83) -> 0 | D83: =$C83/$C13*D13 -> 0 | E83: =$C83/$C13*E13 -> 0 | F83: =$C83/$C13*F13 -> 0 | G83: =$C83/$C13*G13 -> 0 | H83: =$C83/$C13*H13 -> 0 | I83: =$C83/$C13*I13 -> 0 | J83: =$C83/$C13*J13 -> 0 | K83: =$C83/$C13*K13 -> 0 | ... T83: =$C83/$C13*T13 -> 0 | V83: =MAX(0,'Ward Demand'!$C$39-'Ward Demand'!C12) -> 77348.462
A84: 44146 | B84: England | C84: =MIN(C14-C49,V84) -> 0 | D84: =$C84/$C14*D14 -> 0 | E84: =$C84/$C14*E14 -> 0 | F84: =$C84/$C14*F14 -> 0 | G84: =$C84/$C14*G14 -> 0 | H84: =$C84/$C14*H14 -> 0 | I84: =$C84/$C14*I14 -> 0 | J84: =$C84/$C14*J14 -> 0 | K84: =$C84/$C14*K14 -> 0 | ... T84: =$C84/$C14*T14 -> 0 | V84: =MAX(0,'Ward Demand'!$C$39-'Ward Demand'!C13) -> 76279.289 | X84: Here we estimate the number of ICU patients that will not be admitted to ICU due to lack of capacity, but that would instead be admitted to a ward bed. The total ward beds available (column V) is calculated as the total ward beds minus the ward demand (sheet "3 ward demand"). This capacity is then split between the age groups according to the proportion of all patients that age group represents. e.g. if 15-19 year olds represent 10% of the ICU patients they will get 10% of the excess capacity ward beds.
A85: 44153 | B85: England | C85: =MIN(C15-C50,V85) -> 0 | D85: =$C85/$C15*D15 -> 0 | E85: =$C85/$C15*E15 -> 0 | F85: =$C85/$C15*F15 -> 0 | G85: =$C85/$C15*G15 -> 0 | H85: =$C85/$C15*H15 -> 0 | I85: =$C85/$C15*I15 -> 0 | J85: =$C85/$C15*J15 -> 0 | K85: =$C85/$C15*K15 -> 0 | ... T85: =$C85/$C15*T15 -> 0 | V85: =MAX(0,'Ward Demand'!$C$39-'Ward Demand'!C14) -> 76012.917
A86: 44160 | B86: England | C86: =MIN(C16-C51,V86) -> 0 | D86: =$C86/$C16*D16 -> 0 | E86: =$C86/$C16*E16 -> 0 | F86: =$C86/$C16*F16 -> 0 | G86: =$C86/$C16*G16 -> 0 | H86: =$C86/$C16*H16 -> 0 | I86: =$C86/$C16*I16 -> 0 | J86: =$C86/$C16*J16 -> 0 | K86: =$C86/$C16*K16 -> 0 | ... T86: =$C86/$C16*T16 -> 0 | V86: =MAX(0,'Ward Demand'!$C$39-'Ward Demand'!C15) -> 77152.14
A87: 44167 | B87: England | C87: =MIN(C17-C52,V87) -> 0 | D87: =$C87/$C17*D17 -> 0 | E87: =$C87/$C17*E17 -> 0 | F87: =$C87/$C17*F17 -> 0 | G87: =$C87/$C17*G17 -> 0 | H87: =$C87/$C17*H17 -> 0 | I87: =$C87/$C17*I17 -> 0 | J87: =$C87/$C17*J17 -> 0 | K87: =$C87/$C17*K17 -> 0 | ... T87: =$C87/$C17*T17 -> 0 | V87: =MAX(0,'Ward Demand'!$C$39-'Ward Demand'!C16) -> 78247.121
A88: 44174 | B88: England | C88: =MIN(C18-C53,V88) -> 0 | D88: =$C88/$C18*D18 -> 0 | E88: =$C88/$C18*E18 -> 0 | F88: =$C88/$C18*F18 -> 0 | G88: =$C88/$C18*G18 -> 0 | H88: =$C88/$C18*H18 -> 0 | I88: =$C88/$C18*I18 -> 0 | J88: =$C88/$C18*J18 -> 0 | K88: =$C88/$C18*K18 -> 0 | ... T88: =$C88/$C18*T18 -> 0 | V88: =MAX(0,'Ward Demand'!$C$39-'Ward Demand'!C17) -> 77052.596
A89: 44181 | B89: England | C89: =MIN(C19-C54,V89) -> 0 | D89: =$C89/$C19*D19 -> 0 | E89: =$C89/$C19*E19 -> 0 | F89: =$C89/$C19*F19 -> 0 | G89: =$C89/$C19*G19 -> 0 | H89: =$C89/$C19*H19 -> 0 | I89: =$C89/$C19*I19 -> 0 | J89: =$C89/$C19*J19 -> 0 | K89: =$C89/$C19*K19 -> 0 | ... T89: =$C89/$C19*T19 -> 0 | V89: =MAX(0,'Ward Demand'!$C$39-'Ward Demand'!C18) -> 75211.037
A90: 44188 | B90: England | C90: =MIN(C20-C55,V90) -> 0 | D90: =$C90/$C20*D20 -> 0 | E90: =$C90/$C20*E20 -> 0 | F90: =$C90/$C20*F20 -> 0 | G90: =$C90/$C20*G20 -> 0 | H90: =$C90/$C20*H20 -> 0 | I90: =$C90/$C20*I20 -> 0 | J90: =$C90/$C20*J20 -> 0 | K90: =$C90/$C20*K20 -> 0 | ... T90: =$C90/$C20*T20 -> 0 | V90: =MAX(0,'Ward Demand'!$C$39-'Ward Demand'!C19) -> 72986.049
A91: 44195 | B91: England | C91: =MIN(C21-C56,V91) -> 0 | D91: =$C91/$C21*D21 -> 0 | E91: =$C91/$C21*E21 -> 0 | F91: =$C91/$C21*F21 -> 0 | G91: =$C91/$C21*G21 -> 0 | H91: =$C91/$C21*H21 -> 0 | I91: =$C91/$C21*I21 -> 0 | J91: =$C91/$C21*J21 -> 0 | K91: =$C91/$C21*K21 -> 0 | ... T91: =$C91/$C21*T21 -> 0 | V91: =MAX(0,'Ward Demand'!$C$39-'Ward Demand'!C20) -> 69364.684
A92: 44202 | B92: England | C92: =MIN(C22-C57,V92) -> 0 | D92: =$C92/$C22*D22 -> 0 | E92: =$C92/$C22*E22 -> 0 | F92: =$C92/$C22*F22 -> 0 | G92: =$C92/$C22*G22 -> 0 | H92: =$C92/$C22*H22 -> 0 | I92: =$C92/$C22*I22 -> 0 | J92: =$C92/$C22*J22 -> 0 | K92: =$C92/$C22*K22 -> 0 | ... T92: =$C92/$C22*T22 -> 0 | V92: =MAX(0,'Ward Demand'!$C$39-'Ward Demand'!C21) -> 63377.312
A93: 44209 | B93: England | C93: =MIN(C23-C58,V93) -> 0 | D93: =$C93/$C23*D23 -> 0 | E93: =$C93/$C23*E23 -> 0 | F93: =$C93/$C23*F23 -> 0 | G93: =$C93/$C23*G23 -> 0 | H93: =$C93/$C23*H23 -> 0 | I93: =$C93/$C23*I23 -> 0 | J93: =$C93/$C23*J23 -> 0 | K93: =$C93/$C23*K23 -> 0 | ... T93: =$C93/$C23*T23 -> 0 | V93: =MAX(0,'Ward Demand'!$C$39-'Ward Demand'!C22) -> 60032.457
A94: 44216 | B94: England | C94: =MIN(C24-C59,V94) -> 0 | D94: =$C94/$C24*D24 -> 0 | E94: =$C94/$C24*E24 -> 0 | F94: =$C94/$C24*F24 -> 0 | G94: =$C94/$C24*G24 -> 0 | H94: =$C94/$C24*H24 -> 0 | I94: =$C94/$C24*I24 -> 0 | J94: =$C94/$C24*J24 -> 0 | K94: =$C94/$C24*K24 -> 0 | ... T94: =$C94/$C24*T24 -> 0 | V94: =MAX(0,'Ward Demand'!$C$39-'Ward Demand'!C23) -> 61611.332
A95: 44223 | B95: England | C95: =MIN(C25-C60,V95) -> 0 | D95: =$C95/$C25*D25 -> 0 | E95: =$C95/$C25*E25 -> 0 | F95: =$C95/$C25*F25 -> 0 | G95: =$C95/$C25*G25 -> 0 | H95: =$C95/$C25*H25 -> 0 | I95: =$C95/$C25*I25 -> 0 | J95: =$C95/$C25*J25 -> 0 | K95: =$C95/$C25*K25 -> 0 | ... T95: =$C95/$C25*T25 -> 0 | V95: =MAX(0,'Ward Demand'!$C$39-'Ward Demand'!C24) -> 66559.947
A96: 44230 | B96: England | C96: =MIN(C26-C61,V96) -> 0 | D96: =$C96/$C26*D26 -> 0 | E96: =$C96/$C26*E26 -> 0 | F96: =$C96/$C26*F26 -> 0 | G96: =$C96/$C26*G26 -> 0 | H96: =$C96/$C26*H26 -> 0 | I96: =$C96/$C26*I26 -> 0 | J96: =$C96/$C26*J26 -> 0 | K96: =$C96/$C26*K26 -> 0 | ... T96: =$C96/$C26*T26 -> 0 | V96: =MAX(0,'Ward Demand'!$C$39-'Ward Demand'!C25) -> 70573.957
... A108: 44314 | B108: England | C108: =MIN(C38-C73,V108) -> 0 | D108: =$C108/$C38*D38 -> 0 | E108: =$C108/$C38*E38 -> 0 | F108: =$C108/$C38*F38 -> 0 | G108: =$C108/$C38*G38 -> 0 | H108: =$C108/$C38*H38 -> 0 | I108: =$C108/$C38*I38 -> 0 | J108: =$C108/$C38*J38 -> 0 | K108: =$C108/$C38*K38 -> 0 | ... T108: =$C108/$C38*T38 -> 0 | V108: =MAX(0,'Ward Demand'!$C$39-'Ward Demand'!C37) -> 86781.834
A110: Demand beyond any Capacity
A111: Table 4.4 - Estimated CCU demand that gets no admission by week and age group.
A112: Week commencing | B112: Region | C112: Value | D112: 0-4 | E112: 5-9 | F112: 10-14 | G112: 15-19 | H112: 20-24 | I112: 25-29 | J112: 30-34 | K112: 35-39 | L112: 40-44 | M112: 45-49 | N112: 50-54 | O112: 55-59 | P112: 60-64 | Q112: 65-69 | R112: 70-74 | S112: 75-79 | T112: 80+
A113: 44104 | B113: UK | C113: =C8-C43-C78 -> 0 | D113: =$C113/$C8*D8 -> 0 | E113: =$C113/$C8*E8 -> 0 | F113: =$C113/$C8*F8 -> 0 | G113: =$C113/$C8*G8 -> 0 | H113: =$C113/$C8*H8 -> 0 | I113: =$C113/$C8*I8 -> 0 | J113: =$C113/$C8*J8 -> 0 | K113: =$C113/$C8*K8 -> 0 | ... T113: =$C113/$C8*T8 -> 0
A114: 44111 | B114: UK | C114: =C9-C44-C79 -> 0 | D114: =$C114/$C9*D9 -> 0 | E114: =$C114/$C9*E9 -> 0 | F114: =$C114/$C9*F9 -> 0 | G114: =$C114/$C9*G9 -> 0 | H114: =$C114/$C9*H9 -> 0 | I114: =$C114/$C9*I9 -> 0 | J114: =$C114/$C9*J9 -> 0 | K114: =$C114/$C9*K9 -> 0 | ... T114: =$C114/$C9*T9 -> 0
A115: 44118 | B115: UK | C115: =C10-C45-C80 -> 0 | D115: =$C115/$C10*D10 -> 0 | E115: =$C115/$C10*E10 -> 0 | F115: =$C115/$C10*F10 -> 0 | G115: =$C115/$C10*G10 -> 0 | H115: =$C115/$C10*H10 -> 0 | I115: =$C115/$C10*I10 -> 0 | J115: =$C115/$C10*J10 -> 0 | K115: =$C115/$C10*K10 -> 0 | ... T115: =$C115/$C10*T10 -> 0
A116: 44125 | B116: UK | C116: =C11-C46-C81 -> 0 | D116: =$C116/$C11*D11 -> 0 | E116: =$C116/$C11*E11 -> 0 | F116: =$C116/$C11*F11 -> 0 | G116: =$C116/$C11*G11 -> 0 | H116: =$C116/$C11*H11 -> 0 | I116: =$C116/$C11*I11 -> 0 | J116: =$C116/$C11*J11 -> 0 | K116: =$C116/$C11*K11 -> 0 | ... T116: =$C116/$C11*T11 -> 0
A117: 44132 | B117: UK | C117: =C12-C47-C82 -> 0 | D117: =$C117/$C12*D12 -> 0 | E117: =$C117/$C12*E12 -> 0 | F117: =$C117/$C12*F12 -> 0 | G117: =$C117/$C12*G12 -> 0 | H117: =$C117/$C12*H12 -> 0 | I117: =$C117/$C12*I12 -> 0 | J117: =$C117/$C12*J12 -> 0 | K117: =$C117/$C12*K12 -> 0 | ... T117: =$C117/$C12*T12 -> 0 | V117: Here we estimate the number of ICU patients in each age group that are outside the capacity of both ICU and ward beds. First the total number of ICU patients outside all capacity is calculated (column C) by taking the total number of ICU patients (table 1) and then subtracting those admitted to ICU (table 2) and those admitted to the excess ward capacity (table 3). Then the number for each age group is calculated by multiplying the total number outside the capacity by the proportion of all ICU patients in each age group.
A118: 44139 | B118: UK | C118: =C13-C48-C83 -> 0 | D118: =$C118/$C13*D13 -> 0 | E118: =$C118/$C13*E13 -> 0 | F118: =$C118/$C13*F13 -> 0 | G118: =$C118/$C13*G13 -> 0 | H118: =$C118/$C13*H13 -> 0 | I118: =$C118/$C13*I13 -> 0 | J118: =$C118/$C13*J13 -> 0 | K118: =$C118/$C13*K13 -> 0 | ... T118: =$C118/$C13*T13 -> 0
A119: 44146 | B119: UK | C119: =C14-C49-C84 -> 0 | D119: =$C119/$C14*D14 -> 0 | E119: =$C119/$C14*E14 -> 0 | F119: =$C119/$C14*F14 -> 0 | G119: =$C119/$C14*G14 -> 0 | H119: =$C119/$C14*H14 -> 0 | I119: =$C119/$C14*I14 -> 0 | J119: =$C119/$C14*J14 -> 0 | K119: =$C119/$C14*K14 -> 0 | ... T119: =$C119/$C14*T14 -> 0
A120: 44153 | B120: UK | C120: =C15-C50-C85 -> 0 | D120: =$C120/$C15*D15 -> 0 | E120: =$C120/$C15*E15 -> 0 | F120: =$C120/$C15*F15 -> 0 | G120: =$C120/$C15*G15 -> 0 | H120: =$C120/$C15*H15 -> 0 | I120: =$C120/$C15*I15 -> 0 | J120: =$C120/$C15*J15 -> 0 | K120: =$C120/$C15*K15 -> 0 | ... T120: =$C120/$C15*T15 -> 0
A121: 44160 | B121: UK | C121: =C16-C51-C86 -> 0 | D121: =$C121/$C16*D16 -> 0 | E121: =$C121/$C16*E16 -> 0 | F121: =$C121/$C16*F16 -> 0 | G121: =$C121/$C16*G16 -> 0 | H121: =$C121/$C16*H16 -> 0 | I121: =$C121/$C16*I16 -> 0 | J121: =$C121/$C16*J16 -> 0 | K121: =$C121/$C16*K16 -> 0 | ... T121: =$C121/$C16*T16 -> 0
A122: 44167 | B122: UK | C122: =C17-C52-C87 -> 0 | D122: =$C122/$C17*D17 -> 0 | E122: =$C122/$C17*E17 -> 0 | F122: =$C122/$C17*F17 -> 0 | G122: =$C122/$C17*G17 -> 0 | H122: =$C122/$C17*H17 -> 0 | I122: =$C122/$C17*I17 -> 0 | J122: =$C122/$C17*J17 -> 0 | K122: =$C122/$C17*K17 -> 0 | ... T122: =$C122/$C17*T17 -> 0
A123: 44174 | B123: UK | C123: =C18-C53-C88 -> 0 | D123: =$C123/$C18*D18 -> 0 | E123: =$C123/$C18*E18 -> 0 | F123: =$C123/$C18*F18 -> 0 | G123: =$C123/$C18*G18 -> 0 | H123: =$C123/$C18*H18 -> 0 | I123: =$C123/$C18*I18 -> 0 | J123: =$C123/$C18*J18 -> 0 | K123: =$C123/$C18*K18 -> 0 | ... T123: =$C123/$C18*T18 -> 0
A124: 44181 | B124: UK | C124: =C19-C54-C89 -> 0 | D124: =$C124/$C19*D19 -> 0 | E124: =$C124/$C19*E19 -> 0 | F124: =$C124/$C19*F19 -> 0 | G124: =$C124/$C19*G19 -> 0 | H124: =$C124/$C19*H19 -> 0 | I124: =$C124/$C19*I19 -> 0 | J124: =$C124/$C19*J19 -> 0 | K124: =$C124/$C19*K19 -> 0 | ... T124: =$C124/$C19*T19 -> 0
A125: 44188 | B125: UK | C125: =C20-C55-C90 -> 0 | D125: =$C125/$C20*D20 -> 0 | E125: =$C125/$C20*E20 -> 0 | F125: =$C125/$C20*F20 -> 0 | G125: =$C125/$C20*G20 -> 0 | H125: =$C125/$C20*H20 -> 0 | I125: =$C125/$C20*I20 -> 0 | J125: =$C125/$C20*J20 -> 0 | K125: =$C125/$C20*K20 -> 0 | ... T125: =$C125/$C20*T20 -> 0
A126: 44195 | B126: UK | C126: =C21-C56-C91 -> 0 | D126: =$C126/$C21*D21 -> 0 | E126: =$C126/$C21*E21 -> 0 | F126: =$C126/$C21*F21 -> 0 | G126: =$C126/$C21*G21 -> 0 | H126: =$C126/$C21*H21 -> 0 | I126: =$C126/$C21*I21 -> 0 | J126: =$C126/$C21*J21 -> 0 | K126: =$C126/$C21*K21 -> 0 | ... T126: =$C126/$C21*T21 -> 0
A127: 44202 | B127: UK | C127: =C22-C57-C92 -> 0 | D127: =$C127/$C22*D22 -> 0 | E127: =$C127/$C22*E22 -> 0 | F127: =$C127/$C22*F22 -> 0 | G127: =$C127/$C22*G22 -> 0 | H127: =$C127/$C22*H22 -> 0 | I127: =$C127/$C22*I22 -> 0 | J127: =$C127/$C22*J22 -> 0 | K127: =$C127/$C22*K22 -> 0 | ... T127: =$C127/$C22*T22 -> 0
A128: 44209 | B128: UK | C128: =C23-C58-C93 -> 0 | D128: =$C128/$C23*D23 -> 0 | E128: =$C128/$C23*E23 -> 0 | F128: =$C128/$C23*F23 -> 0 | G128: =$C128/$C23*G23 -> 0 | H128: =$C128/$C23*H23 -> 0 | I128: =$C128/$C23*I23 -> 0 | J128: =$C128/$C23*J23 -> 0 | K128: =$C128/$C23*K23 -> 0 | ... T128: =$C128/$C23*T23 -> 0
A129: 44216 | B129: UK | C129: =C24-C59-C94 -> 0 | D129: =$C129/$C24*D24 -> 0 | E129: =$C129/$C24*E24 -> 0 | F129: =$C129/$C24*F24 -> 0 | G129: =$C129/$C24*G24 -> 0 | H129: =$C129/$C24*H24 -> 0 | I129: =$C129/$C24*I24 -> 0 | J129: =$C129/$C24*J24 -> 0 | K129: =$C129/$C24*K24 -> 0 | ... T129: =$C129/$C24*T24 -> 0
... A143: 44314 | B143: UK | C143: =C38-C73-C108 -> 0 | D143: =$C143/$C38*D38 -> 0 | E143: =$C143/$C38*E38 -> 0 | F143: =$C143/$C38*F38 -> 0 | G143: =$C143/$C38*G38 -> 0 | H143: =$C143/$C38*H38 -> 0 | I143: =$C143/$C38*I38 -> 0 | J143: =$C143/$C38*J38 -> 0 | K143: =$C143/$C38*K38 -> 0 | ... T143: =$C143/$C38*T38 -> 0
B146: Input data
B150: Output

Sheet Excess Mortality Model
B1: Estimating the hazard ratios for mortality rates when capacity limits are breached.
A2: This sheet is used to estimate mortality hazard ratios to be applied to patients that require ICU admission but get Ward or no admission, or require Ward admission and get no admission.
B4: This model is intended to help estimate the hazard ratio to be applied to overall COVID mortality should hospital ward and/or ICU capacity be exceeded.
B5: The approach taken is to generate a flow of people through the process of catching COVID, being admitted or not, and with various in-hospital care being provided, then the mortality rate estimated with and without this particular service (e.g. CPAP or mechanical ventilation).
B6: Yellow cells are cells that the user can enter data in to explore a scenario.
B7: Light blue cells have calculated results and should not be tampered with.
B8: The green cells indicate that have a reasonable evidence based support.
B9: Orange cells have weak support in that there is a substantive element of judgement used. These cells merit revision if better alternatives arise.
B10: The red cells are poorly parameterised in that there is no data or evidence to work from at all, and are entirely based on judgement or guesswork. | S10: =0.25*0.169 -> 0.04225
B11: Cells are mutually exclusice in a category. For example, someone in the ICU NIV group will exclude those who have NIV then convert to IMV.
B12: Parameter cells will contain a comment describing the source or the rationale for an assumption.
B14: Flow of patients through test and treatment alternatives and resulting mortality and hazard ratio estimates.
B15: Population | C15: Number | E15: Proportion | F15: # | S15: Mort with ICU | T15: Mort no ICU | U15: Mort no hospital | V15: Deaths With ICU | W15: Deaths No ICU | X15: Deaths no hospital
B16: UK | C16: 66000000 | D16: Susceptible | E16: =1-E18-E17 -> 0.35 | F16: =E16*C16 -> 23100000 | S16: 0 | T16: 0 | U16: 0 | V16: =S16*$F16 -> 0 | W16: =T16*$F16 -> 0 | X16: =U16*$F16 -> 0
D17: Immune | E17: 0.15 | F17: =E17*C16 -> 9900000 | S17: 0 | T17: 0 | U17: 0 | V17: =S17*$F17 -> 0 | W17: =T17*$F17 -> 0 | X17: =U17*$F17 -> 0
D18: Infected (time interval…) | E18: 0.5 | F18: =E18*C16 -> 33000000 | H18: % of infected | I18: #
G19: Unknown infections | H19: =1-H22 -> 0.75 | I19: =H19*F18 -> 24750000 | J19: Category | K19: % of unknowns | L19: # | S19: Mort with ICU | T19: Mort no ICU | U19: Mort no hospital | V19: # With ICU | W19: # No ICU | X19: # no hospital
J20: Asymptomatic | K20: =1-K21 -> 0.5 | L20: =K20*I19 -> 12375000 | S20: 0 | T20: 0 | U20: 0 | V20: =S20*$L20 -> 0 | W20: =T20*$L20 -> 0 | X20: =U20*$L20 -> 0
J21: Unrecognised symptomatic | K21: 0.5 | L21: =K21*I19 -> 12375000 | S21: 0.01 | T21: 0.01 | U21: 0.01 | V21: =S21*$L21 -> 123750 | W21: =T21*$L21 -> 123750 | X21: =U21*$L21 -> 123750
G22: Known cases (test +ve or clinically diagnosed) | H22: 0.25 | I22: =H22*F18 -> 8250000 | J22: No-hospital | K22: % of cases | L22: # | M22: Group | Q22: % of group | S22: Mort with ICU | T22: Mort no ICU | U22: Mort no hospital | V22: # With ICU | W22: # No ICU | X22: # no hospital
K23: =1-K25 -> 0.831 | L23: =K23*I22 -> 6855750 | M23: Asymptomatic | N23: 0.5 | O23: =N23*L23 -> 3427875 | S23: 0 | T23: 0 | U23: 0 | V23: =S23*$O23 -> 0 | W23: =T23*$O23 -> 0 | X23: =U23*$O23 -> 0
M24: Symptomatic | N24: 0.5 | O24: =N24*L23 -> 3427875 | S24: 0.02 | T24: 0.02 | U24: 0.02 | V24: =S24*$O24 -> 68557.5 | W24: =T24*$O24 -> 68557.5 | X24: =U24*$O24 -> 68557.5
J25: Hospitalised | K25: 0.169 | L25: =K25*I22 -> 1394250 | M25: Group | N25: % of hospitalised | O25: # | P25: Group | Q25: % of group | R25: # | S25: Mort with ICU | T25: Mort no ICU | U25: Mort no hospital | V25: # With ICU | W25: # No ICU | X25: # no hospital
M26: WARD | N26: =1-N29 -> 0.918 | O26: =N26*L25 -> 1279921.5 | P26: General ward care | Q26: 0.6 | R26: =Q26*O26 -> 767952.9 | S26: 0.01 | T26: 0.01 | U26: 0.03 | V26: =S26*$R26 -> 7679.529 | W26: =T26*$R26 -> 7679.529 | X26: =U26*$R26 -> 23038.587
P27: Ward care O2>35% | Q27: 0.17 | R27: =Q27*O26 -> 217586.66 | S27: 0.01 | T27: =S30 -> 0.01 | U27: 0.5 | V27: =S27*$R27 -> 2175.8666 | W27: =T27*$R27 -> 2175.8666 | X27: =U27*$R27 -> 108793.33
P28: Ward care O2>35% (Ceiling) | Q28: 0.23 | R28: =Q28*O26 -> 294381.95 | S28: 0.4 | T28: 0.4 | U28: 0.95 | V28: =S28*$R28 -> 117752.78 | W28: =T28*$R28 -> 117752.78 | X28: =U28*$R28 -> 279662.85
M29: ICU | N29: 0.082 | O29: =N29*L25 -> 114328.5 | P29: Supportive/HFO | Q29: 0.48 | R29: =Q29*O29 -> 54877.68 | S29: 0.01 | T29: 0.02 | U29: 0.75 | V29: =S29*$R29 -> 548.7768 | W29: =T29*$R29 -> 1097.5536 | X29: =U29*$R29 -> 41158.26
P30: NIV/CPAP | Q30: =(1-$Q$29)*L39 -> 0.15650485 | R30: =Q30*O29 -> 17892.965 | S30: 0.01 | T30: 0.02 | U30: 0.95 | V30: =S30*$R30 -> 178.92965 | W30: =T30*$R30 -> 357.8593 | X30: =U30*$R30 -> 16998.317
P31: NIV/CPAP (Ceiling) | Q31: =(1-$Q$29)*O39 -> 0.12116505 | R31: =Q31*O29 -> 13852.618 | S31: 0.83 | T31: 0.9 | U31: 1 | V31: =S31*$R31 -> 11497.673 | W31: =T31*$R31 -> 12467.356 | X31: =U31*$R31 -> 13852.618
P32: IMV+/-ECMO | Q32: =(1-$Q$29)*(M39+N39) -> 0.2423301 | R32: =Q32*O29 -> 27705.237 | S32: 0.4 | T32: 1 | U32: 1 | V32: =S32*$R32 -> 11082.095 | W32: =T32*$R32 -> 27705.237 | X32: =U32*$R32 -> 27705.237
P33: Overall ICU mortality | Q33: {=SUMPRODUCT(Q29:Q32*S29:S32)/SUM(Q29:Q32)} -> 0.20386408
T34: Overall COVID mortality | V34: HR sub-capacity | W34: No ICU availability | X34: No hospital capacity
U35: Mortality rate | V35: =SUM(V26:V32)/$L25 -> 0.10824145 | W35: =SUM(W26:W32)/$L25 -> 0.12138152 | X35: =SUM(X26:X32)/$L25 -> 0.36665533
U36: HR | V36: =(-LN(1-V35))/(-LN(1-$V35)) -> 1 | W36: =(-LN(1-W35))/(-LN(1-$V35)) -> 1.1295797 | X36: =(-LN(1-X35))/(-LN(1-$V35)) -> 3.9869153
L37: NIV | M37: NIV+IMV | N37: IMV | O37: NIV ceiling
K38: Number | L38: 31 | M38: 27 | N38: 21 | O38: 24 | T38: ICU COVID mortality | V38: HR sub-capacity | W38: No ICU availability | X38: No hospital capacity
K39: Proportion | L39: =L38/SUM($L$38:$O$38) -> 0.30097087 | M39: =M38/SUM($L$38:$O$38) -> 0.26213592 | N39: =N38/SUM($L$38:$O$38) -> 0.2038835 | O39: =O38/SUM($L$38:$O$38) -> 0.23300971 | U39: Mortality rate | V39: =SUM(V29:V32)/$O$29 -> 0.20386408 | W39: =SUM(W29:W32)/$O$29 -> 0.36410874 | X39: =SUM(X29:X32)/$O$29 -> 0.87217476
U40: HR | V40: =(-LN(1-V39))/(-LN(1-$V39)) -> 1 | W40: =(-LN(1-W39))/(-LN(1-$V39)) -> 1.9857754 | X40: =(-LN(1-X39))/(-LN(1-$V39)) -> 9.0229097
K42: Sivaloganathan, Arjjana A., Myra Nasim-Mohi, Michael M. Brown, Nabil Abdul, Alexander Jackson, Sophie V. Fletcher, Sanjay Gupta, Michael P. W. Grocott, Ahilanandan Dushianthan, Sanjay Gupta, Julian Nixon, Michael P. W. Grocott, Denny ZH. Levett, Michael Stewart, Ahilanadan Dushianthan, David Sparkes, Robert Chambers, Kathleen Nolan, Suzie Tanser, Jonathan Fennell, Michael Celinski, Dominic Richardson, Rebecca Cusack, Benjamin Skinner, Timothy Nicholson-Robert, Mai Wakatsuki, Ben Thomas, Francois Wessels, Mark Jones, Paul Elkington, Tom Wilkinson, Mark Allenby, Thomas Daniels, Paddy Dennison, Anastasios Lekkas, Arjjana Sivaloganathan, David Land, Sophie Fletcher, Wilkinson, Anna Freeman, Hannah Burke, Ahilanadan Dushianthan, Michael Celinski, Saul Faust, Gareth Thomas, and Christopher Kipps. 2020. “Noninvasive Ventilation for COVID-19-Associated Acute Hypoxaemic Respiratory Failure: Experience from a Single Centre.” British Journal of Anaesthesia 125(4):e368–71. | T42: Ward COVID mortality | V42: HR sub-capacity | W42: No ICU availability | X42: No hospital capacity
U43: Mortality rate | V43: =SUM(V26:V28)/$O$26 -> 0.0997 | W43: =SUM(W26:W28)/$O$26 -> 0.0997 | X43: =SUM(X26:X28)/$O$26 -> 0.3215
U44: HR | V44: =(-LN(1-V43))/(-LN(1-$V43)) -> 1 | W44: =(-LN(1-W43))/(-LN(1-$V43)) -> 1 | X44: =(-LN(1-X43))/(-LN(1-$V43)) -> 3.6930496
D58: Input data / parameters
D59: The proportion of admitted patients needing ICU care is taken from the sheet "1 Estimating Admissions by Age".
D62: Assumptions
D63: If there is no ward capacity available, then there is no ICU capacity.
D64: COVID-19 patients in the "Ward care O2>35% (Ceiling)" and "NIV/CPAP (Ceiling)" can have no further escalation in care.
D65: The parameters and mortality risks are not age dependent.
D67: Output
D71: Weaknesses

Sheet Ward Mortality - Treated
B1: Estimating the age distribution of the mortality of ward patients.
A2: This sheet uses government data to estimate mortality rates for Ward patients of different ages through fitting an exponential function
B4: https://www.england.nhs.uk/statistics/statistical-work-areas/covid-19-daily-deaths/
B5: 44143 | N5: This is Ward mortality when treatment is available
B6: Table 6a.2 - total deaths by age group. | N6: Table 6a.4 - Ward mortaltiy rate by age group, estimated through fitting an exponential function.
B7: Age group (years) | D7: Total | O7: 5-year age bands | P7: Use formula from chart
B8: Total | D8: 34496 | F8: Table 6a.3 - | N8: MID OF AGE BAND | O8: AGE BAND | P8: ESTIMATED MORTALITY RATE
D9: 0 | F9: ICU deaths | H9: Overall Death Rate | K9: Ward death rate | N9: 2 | O9: 0-4 | P9: =0.0054 * EXP(0.0491 * N9) -> 0.0059571904
B10: 0 - 19 | D10: 22 | F10: 0 | H10: =MIN(D10/E22,100%) -> 0.009393412 | K10: =MIN((D10-F10)/E22,100%) -> 0.009393412 | N10: 7 | O10: 5-9 | P10: =0.0054 * EXP(0.0491 * N10) -> 0.0076148398 | V10: WARD DEATH
B11: 20 - 39 | D11: 235 | F11: ='CCU Mortality - Treated'!C19 -> 140.97886 | H11: =MIN(D11/E23,100%) -> 0.026568323 | K11: =MIN((D11-F11)/E23,100%) -> 0.010629719 | N11: 12 | O11: 10-14 | P11: =0.0054 * EXP(0.0491 * N11) -> 0.0097337473 | U11: AGE | V11: RATE
B12: 40 - 59 | D12: 2574 | F12: ='CCU Mortality - Treated'!C20+'CCU Mortality - Treated'!C21 -> 1408.4659 | H12: =MIN(D12/E24,100%) -> 0.093270558 | K12: =MIN((D12-F12)/E24,100%) -> 0.042233884 | N12: 17 | O12: 15-19 | P12: =0.0054 * EXP(0.0491 * N12) -> 0.012442263 | T12: 40-59 | U12: 50 | V12: =K12 -> 0.042233884
B13: 60 - 79 | D13: 13166 | F13: ='CCU Mortality - Treated'!C22+'CCU Mortality - Treated'!C23 -> 3319.5568 | H13: =MIN(D13/E25,100%) -> 0.22592566 | K13: =MIN((D13-F13)/E25,100%) -> 0.1689628 | N13: 22 | O13: 20-24 | P13: =0.0054 * EXP(0.0491 * N13) -> 0.01590445 | T13: 60-79 | U13: 70 | V13: =K13 -> 0.1689628
B14: 80+ | D14: 18499 | F14: ='CCU Mortality - Treated'!C24 -> 335.88554 | H14: =MIN(D14/E26,100%) -> 0.38162826 | K14: =MIN((D14-F14)/E26,100%) -> 0.37469905 | N14: 27 | O14: 25-29 | P14: =0.0054 * EXP(0.0491 * N14) -> 0.020330027 | T14: 80+ | U14: 82 | V14: =K14 -> 0.37469905
B15: TBC | D15: 0 | N15: 32 | O15: 30-34 | P15: =0.0054 * EXP(0.0491 * N15) -> 0.025987066
N16: 37 | O16: 35-39 | P16: =0.0054 * EXP(0.0491 * N16) -> 0.033218234
B17: Total admissions in england one week prior | N17: 42 | O17: 40-44 | P17: =0.0054 * EXP(0.0491 * N17) -> 0.04246155
N18: 47 | O18: 45-49 | P18: =0.0054 * EXP(0.0491 * N18) -> 0.054276913
B19: 145534 | C19: 44136 | D19: https://coronavirus.data.gov.uk/details/healthcare?areaType=nation&areaName=England | N19: 52 | O19: 50-54 | P19: =0.0054 * EXP(0.0491 * N19) -> 0.069380022
B20: Table 6a.1 - Estimates for total admissions by age group. | N20: 57 | O20: 55-59 | P20: =0.0054 * EXP(0.0491 * N20) -> 0.088685726
D21: Scenario | E21: Admissions | N21: 62 | O21: 60-64 | P21: =0.0054 * EXP(0.0491 * N21) -> 0.11336344
B22: 0 - 19 | D22: =SUM('New patients in hospital'!D38:G38) -> 0.01609292 | E22: =$D22*$B$19 -> 2342.067 | N22: 67 | O22: 65-69 | P22: =0.0054 * EXP(0.0491 * N22) -> 0.14490798
B23: 20 - 39 | D23: =SUM('New patients in hospital'!H38:K38) -> 0.060777 | E23: =$D23*$B$19 -> 8845.1199 | N23: 72 | O23: 70-74 | P23: =0.0054 * EXP(0.0491 * N23) -> 0.18523012
B24: 40 - 59 | D24: =SUM('New patients in hospital'!L38:O38) -> 0.18962671 | E24: =$D24*$B$19 -> 27597.133 | N24: 77 | O24: 75-79 | P24: =0.0054 * EXP(0.0491 * N24) -> 0.23677231
B25: 60 - 79 | D25: =SUM('New patients in hospital'!P38:S38) -> 0.40042744 | E25: =$D25*$B$19 -> 58275.807 | N25: 82 | O25: 80+ | P25: =0.0054 * EXP(0.0491 * N25) -> 0.30265664
B26: 80+ | D26: =SUM('New patients in hospital'!T38) -> 0.33307594 | E26: =$D26*$B$19 -> 48473.873
B34: Here the total ward admissions (B18) and estimates for the breakdown by age (D21:D25 or E21:E25) are used to estimate total ward admissions by age (F21:F25).
B35: Total deaths by age are given in D9:D13. By taking away the ICU deaths (F9:F13) we get the ward deaths. By dividing this by the estimate of ward admissions by age (F21:F25), we get an estimate of ward death rate by age (K9:K13)
B36: Ward mortality rates are shown in U11:V13 for 50 years, 70 years, and 82 years. By fitting an exponential curve we use that curve to estimate the mortality rate for the 5-year age bands (column P)
B37: Ultimately it is hoped and expected that DHSC may have more granular hospital death data than is in the public domain, removing the need for some of the approximations on this sheet.
B40: Input data
B44: Assumptions
B49: Output

Sheet CCU Mortality - Treated
B1: Estimating the age distribution of mortality in ICU patients.
A2: This sheet uses ICNARC data to estimate mortality rates for ICU patients of different ages through fitting an exponential function
A4: ICNARC data for ICU mortality by age group.
A5: Subgroup | B5: Category | C5: N (up to 31 Aug) | D5: 28-day in-hospital mortality (up to 31 Aug) | E5: N (from 1 Sep) | F5: 28-day in-hospital mortality (from 1 Sep) | H5: https://www.icnarc.org/Our-Audit/Audits/Cmp/Reports
A6: Age | B6: 16-39 | C6: 887 | D6: 14.214319 | E6: 223 | F6: 6.6806488 | H6: ICNARC - 6 November
A7: Age | B7: 40-49 | C7: 1471 | D7: 20.268482 | E7: 319 | F7: 17.295897
A8: Age | B8: 50-59 | C8: 3026 | D8: 31.008486 | E8: 648 | F8: 18.028675
A9: Age | B9: 60-69 | C9: 3213 | D9: 44.267601 | E9: 780 | F9: 37.971451
A10: Age | B10: 70-79 | C10: 1967 | D10: 62.430096 | E10: 671 | F10: 55.597832
A11: Age | B11: 80+ | C11: 335 | D11: 71.641792 | E11: 166 | F11: 57.762371
A12: Sex | B12: Female | C12: 3266 | D12: 35.150032 | E12: 845 | F12: 27.224195
A13: Sex | B13: Male | C13: 7638 | D13: 40.656105 | E13: 1965 | F13: 36.430733
A16: Combine mortality - pre 31 Aug may be overstated as treatment has improved. Post 1 Sep may be understated as bias early on (mortality rate is increasing weekly)
A17: Weighted mean for ICU mortality rate based on ICNARC data.
A18: Age | B18: Mortality | C18: Deaths | K18: Age | L18: mortality
A19: 16-39 | B19: =(C6*D6+E6*F6)/(C6+E6) * (1/100) -> 0.12700798 | C19: =C6*D6/100 + E6*F6/100 -> 140.97886 | J19: =A19 -> 16-39 | K19: 28 | L19: =B19 -> 0.12700798
A20: 40-49 | B20: =(C7*D7+E7*F7)/(C7+E7) * (1/100) -> 0.19738731 | C20: =C7*D7/100 + E7*F7/100 -> 353.32328 | J20: =A20 -> 40-49 | K20: 45 | L20: =B20 -> 0.19738731
A21: 50-59 | B21: =(C8*D8+E8*F8)/(C8+E8) * (1/100) -> 0.28719178 | C21: =C8*D8/100 + E8*F8/100 -> 1055.1426 | J21: =A21 -> 50-59 | K21: 55 | L21: =B21 -> 0.28719178
A22: 60-69 | B22: =(C9*D9+E9*F9)/(C9+E9) * (1/100) -> 0.43037699 | C22: =C9*D9/100 + E9*F9/100 -> 1718.4953 | J22: =A22 -> 60-69 | K22: 65 | L22: =B22 -> 0.43037699
A23: 70-79 | B23: =(C10*D10+E10*F10)/(C10+E10) * (1/100) -> 0.60692245 | C23: =C10*D10/100 + E10*F10/100 -> 1601.0614 | J23: =A23 -> 70-79 | K23: 75 | L23: =B23 -> 0.60692245
A24: 80+ | B24: =(C11*D11+E11*F11)/(C11+E11) * (1/100) -> 0.67043022 | C24: =C11*D11/100 + E11*F11/100 -> 335.88554 | J24: =A24 -> 80+ | K24: 82 | L24: =B24 -> 0.67043022
A26: Estimated ICU mortality by age group by fitting an exponential function.
A27: 5-year age bands
A28: mid-age | B28: age group | C28: ICU mortality when treatment is available
A29: 2 | B29: 0-4 | C29: =0.0463 * EXP(0.0339 * A29) -> 0.049548003
A30: 7 | B30: 5-9 | C30: =0.0463 * EXP(0.0339 * A30) -> 0.058700131
A31: 12 | B31: 10-14 | C31: =0.0463 * EXP(0.0339 * A31) -> 0.06954277
A32: 17 | B32: 15-19 | C32: =0.0463 * EXP(0.0339 * A32) -> 0.082388178
A33: 22 | B33: 20-24 | C33: =0.0463 * EXP(0.0339 * A33) -> 0.097606292
A34: 27 | B34: 25-29 | C34: =0.0463 * EXP(0.0339 * A34) -> 0.11563538
A35: 32 | B35: 30-34 | C35: =0.0463 * EXP(0.0339 * A35) -> 0.13699466
A36: 37 | B36: 35-39 | C36: =0.0463 * EXP(0.0339 * A36) -> 0.16229927
A37: 42 | B37: 40-44 | C37: =0.0463 * EXP(0.0339 * A37) -> 0.19227795
A38: 47 | B38: 45-49 | C38: =0.0463 * EXP(0.0339 * A38) -> 0.22779406
A39: 52 | B39: 50-54 | C39: =0.0463 * EXP(0.0339 * A39) -> 0.26987043
A40: 57 | B40: 55-59 | C40: =0.0463 * EXP(0.0339 * A40) -> 0.31971883
... A44: 77 | B44: 75-79 | C44: =0.0463 * EXP(0.0339 * A44) -> 0.62982497
A45: 82 | B45: 80+ | C45: 0.67
A47: ICNARC data for ICU mortality is shown in A3:F11.
A48: This data is combined to estimate the weighted mean for ICU mortality (C17:C22)
A49: By taking the mid age value for each age bin and the mortality estimates (C17:C22), we fit an exponential curve to the values, shown in the graph.
A50: This fitted exponential curve is then used to estimate ICU mortality rates for all age bins (C27:C43).
C54: Input data
C58: Output

Sheet Mortality Rates
B1: Estimating the mortality rates of those within and outside capacity limits
A2: This sheet combines the estimated mortality rates for Ward and ICU patients of different age groups with assumptions about additional
A3: mortality if they do not get the required admission to estimate mortality rates for all five admission combinations.
B5: Estimated mortality rates by age group for all combinations of ICU and Ward demand and ICU, Ward and No admittance.
C6: Mortality Rates for those who need ICU | F6: Mortality Rates for those who need Ward
B7: Age | C7: In ICU | D7: In Ward | E7: Untreated | F7: In Ward | G7: Untreated
B8: 0-4 | C8: ='CCU Mortality - Treated'!C29 -> 0.049548003 | D8: =1-(1-C8)^I$19 -> 0.095987763 | E8: =1-(1-C8)^I$18 -> 0.36778314 | F8: ='Ward Mortality - Treated'!P9 -> 0.0059571904 | G8: =1-(1-F8)^I$20 -> 0.021824318
B9: 5-9 | C9: ='CCU Mortality - Treated'!C30 -> 0.058700131 | D9: =1-(1-C9)^I$19 -> 0.11319179 | E9: =1-(1-C9)^I$18 -> 0.42063788 | F9: ='Ward Mortality - Treated'!P10 -> 0.0076148398 | G9: =1-(1-F9)^I$20 -> 0.027834868
B10: 10-14 | C10: ='CCU Mortality - Treated'!C31 -> 0.06954277 | D10: =1-(1-C10)^I$19 -> 0.13336124 | E10: =1-(1-C10)^I$18 -> 0.47814413 | F10: ='Ward Mortality - Treated'!P11 -> 0.0097337473 | G10: =1-(1-F10)^I$20 -> 0.035478645
B11: 15-19 | C11: ='CCU Mortality - Treated'!C32 -> 0.082388178 | D11: =1-(1-C11)^I$19 -> 0.1569581 | E11: =1-(1-C11)^I$18 -> 0.53966338 | F11: ='Ward Mortality - Treated'!P12 -> 0.012442263 | G11: =1-(1-F11)^I$20 -> 0.045185451
B12: 20-24 | C12: ='CCU Mortality - Treated'!C33 -> 0.097606292 | D12: =1-(1-C12)^I$19 -> 0.18449507 | E12: =1-(1-C12)^I$18 -> 0.60413905 | F12: ='Ward Mortality - Treated'!P13 -> 0.01590445 | G12: =1-(1-F12)^I$20 -> 0.057489309
B13: 25-29 | C13: ='CCU Mortality - Treated'!C34 -> 0.11563538 | D13: =1-(1-C13)^I$19 -> 0.21653091 | E13: =1-(1-C13)^I$18 -> 0.6700413 | F13: ='Ward Mortality - Treated'!P14 -> 0.020330027 | G13: =1-(1-F13)^I$20 -> 0.073047995
B14: 30-34 | C14: ='CCU Mortality - Treated'!C35 -> 0.13699466 | D14: =1-(1-C14)^I$19 -> 0.25365926 | E14: =1-(1-C14)^I$18 -> 0.73536004 | F14: ='Ward Mortality - Treated'!P15 -> 0.025987066 | G14: =1-(1-F14)^I$20 -> 0.092662296
B15: 35-39 | C15: ='CCU Mortality - Treated'!C36 -> 0.16229927 | D15: =1-(1-C15)^I$19 -> 0.2964875 | E15: =1-(1-C15)^I$18 -> 0.79768036 | F15: ='Ward Mortality - Treated'!P16 -> 0.033218234 | G15: =1-(1-F15)^I$20 -> 0.11729164
B16: 40-44 | C16: ='CCU Mortality - Treated'!C37 -> 0.19227795 | D16: =1-(1-C16)^I$19 -> 0.34560037 | E16: =1-(1-C16)^I$18 -> 0.85437603 | F16: ='Ward Mortality - Treated'!P17 -> 0.04246155 | G16: =1-(1-F16)^I$20 -> 0.14806003
B17: 45-49 | C17: ='CCU Mortality - Treated'!C38 -> 0.22779406 | D17: =1-(1-C17)^I$19 -> 0.40150127 | E17: =1-(1-C17)^I$18 -> 0.90294314 | F17: ='Ward Mortality - Treated'!P18 -> 0.054276913 | G17: =1-(1-F17)^I$20 -> 0.1862421 | I17: Table 6.2 - Estimates for mortality scalars for patients that do not get the CCU or Ward bed of their demand.
B18: 50-54 | C18: ='CCU Mortality - Treated'!C39 -> 0.26987043 | D18: =1-(1-C18)^I$19 -> 0.46452037 | E18: =1-(1-C18)^I$18 -> 0.94145768 | F18: ='Ward Mortality - Treated'!P19 -> 0.069380022 | G18: =1-(1-F18)^I$20 -> 0.23321286 | I18: ='Principle parameters'!D20 -> 9.0229097 | J18: Mortality scalar if needs ICU but no beds are available
B19: 55-59 | C19: ='CCU Mortality - Treated'!C40 -> 0.31971883 | D19: =1-(1-C19)^I$19 -> 0.53467452 | E19: =1-(1-C19)^I$18 -> 0.96907121 | F19: ='Ward Mortality - Treated'!P20 -> 0.088685726 | G19: =1-(1-F19)^I$20 -> 0.29033635 | I19: ='Principle parameters'!D21 -> 1.9857754 | J19: Mortality scalar if needs ICU but only ward beds are available
B20: 60-64 | C20: ='CCU Mortality - Treated'!C41 -> 0.37877485 | D20: =1-(1-C20)^I$19 -> 0.61145707 | E20: =1-(1-C20)^I$18 -> 0.98636972 | F20: ='Ward Mortality - Treated'!P21 -> 0.11336344 | G20: =1-(1-F20)^I$20 -> 0.35875789 | I20: ='Principle parameters'!D22 -> 3.6930496 | J20: Mortality scalar if needs ward but no beds are available
B21: 65-69 | C21: ='CCU Mortality - Treated'!C42 -> 0.44873924 | D21: =1-(1-C21)^I$19 -> 0.69352627 | E21: =1-(1-C21)^I$18 -> 0.99536245 | F21: ='Ward Mortality - Treated'!P22 -> 0.14490798 | G21: =1-(1-F21)^I$20 -> 0.43905525
B22: 70-74 | C22: ='CCU Mortality - Treated'!C43 -> 0.53162692 | D22: =1-(1-C22)^I$19 -> 0.77824697 | E22: =1-(1-C22)^I$18 -> 0.99893394 | F22: ='Ward Mortality - Treated'!P23 -> 0.18523012 | G22: =1-(1-F22)^I$20 -> 0.53070307
B23: 75-79 | C23: ='CCU Mortality - Treated'!C44 -> 0.62982497 | D23: =1-(1-C23)^I$19 -> 0.86101963 | E23: =1-(1-C23)^I$18 -> 0.99987242 | F23: ='Ward Mortality - Treated'!P24 -> 0.23677231 | G23: =1-(1-F23)^I$20 -> 0.63133166
B24: 80+ | C24: ='CCU Mortality - Treated'!C45 -> 0.67 | D24: =1-(1-C24)^I$19 -> 0.889369 | E24: =1-(1-C24)^I$18 -> 0.99995475 | F24: ='Ward Mortality - Treated'!P25 -> 0.30265664 | G24: =1-(1-F24)^I$20 -> 0.73585597
A28: Here the estimates for ICU and ward mortality are collected from sheet "6a Ward Mortality - Treated" into column I3:I19, and sheet "6b ICU Mortality -Treated" into column C6:C22.
A29: These are then used, along with the excess mortality scalars from sheet "5 Excess Mortality Model" (also in the "Descriptions" sheet), to estimate the mortality rates for Ward patients that do not get access to
A30: the ward (column G) and CCU patients that don't get access to ICU or the Ward (column E), or that get Ward access (column D).
A31: For Untreated Ward patients (column G). The mortality is calculated as 1-((survival rate)^mortality scalar). For example, if the mortality rate is 65.7% (0.657), then the survival rate
A32: is 0.343. If the mortality scalar is 3.7, then the untreated mortality rate is 1-(0.343^3.7)=0.981 (98.1%).
A33: The same approach is used for the ICU patients, with different mortality scalars (I2:I25).
C36: Input data
C40: Assumptions
C45: Output

Sheet Deaths - In capacity
B1: Calculating the deaths occuring within capacity.
A2: This sheet calculates the total number of deaths each week if there are no Ward or CCU capacity limits
A4: Predicted deaths per week on ICU and Ward if there are no capacity limits.
A5: Week commencing | B5: Region | D5: ICU | E5: Ward | F5: Total
A6: 44104 | B6: England | D6: =0.15*$F6 -> 44.7 | E6: =$F6-$D6 -> 253.3 | F6: 298
A7: 44111 | B7: England | D7: =0.15*$F7 -> 66.6 | E7: =$F7-$D7 -> 377.4 | F7: 444
A8: 44118 | B8: England | D8: =0.15*$F8 -> 109.65 | E8: =$F8-$D8 -> 621.35 | F8: 731 | H8: Total deaths up to the 9th December are the observed figures. Deaths in ICU calculated as 15% of the toal as there are time delays in collecting data.
A9: 44125 | B9: England | D9: =0.15*$F9 -> 161.1 | E9: =$F9-$D9 -> 912.9 | F9: 1074 | H9: In column E the estimated ICU mortality from sheet "6 Mortality Rates" is multiplied by the estimated number of patients admitted to ICU from sheet "4 - ICU demand".
A10: 44132 | B10: England | D10: =0.15*$F10 -> 218.55 | E10: =$F10-$D10 -> 1238.45 | F10: 1457 | H10: In column F the estimated Ward mortality from sheet "6 Mortality Rates" is multiplied by the estimated number of patients admitted to Ward from sheet "3 - Ward demand".
A11: 44139 | B11: England | D11: =0.15*$F11 -> 267.6 | E11: =$F11-$D11 -> 1516.4 | F11: 1784
A12: 44146 | B12: England | D12: =0.15*$F12 -> 284.55 | E12: =$F12-$D12 -> 1612.45 | F12: 1897
A13: 44153 | B13: England | D13: =0.15*$F13 -> 315.45 | E13: =$F13-$D13 -> 1787.55 | F13: 2103
A14: 44160 | B14: England | D14: =0.15*$F14 -> 304.65 | E14: =$F14-$D14 -> 1726.35 | F14: 2031 | J14: Input data
A15: 44167 | B15: England | D15: =0.15*$F15 -> 283.35 | E15: =$F15-$D15 -> 1605.65 | F15: 1889
A16: 44174 | B16: England | D16: =0.15*$F16 -> 294 | E16: =$F16-$D16 -> 1666 | F16: 1960
A17: 44181 | B17: England | D17: {=SUMPRODUCT('CCU Demand'!$D19:$T19,TRANSPOSE('Mortality Rates'!$C$8:$C$24))} -> 402.52479 | E17: {=SUMPRODUCT('Ward Demand'!$D18:$T18,TRANSPOSE('Mortality Rates'!$F$8:$F$24))} -> 2287.0842 | F17: =D17+E17 -> 2689.609
A18: 44188 | B18: England | D18: {=SUMPRODUCT('CCU Demand'!$D20:$T20,TRANSPOSE('Mortality Rates'!$C$8:$C$24))} -> 477.39148 | E18: {=SUMPRODUCT('Ward Demand'!$D19:$T19,TRANSPOSE('Mortality Rates'!$F$8:$F$24))} -> 2712.4653 | F18: =D18+E18 -> 3189.8568 | J18: Assumptions
A19: 44195 | B19: England | D19: {=SUMPRODUCT('CCU Demand'!$D21:$T21,TRANSPOSE('Mortality Rates'!$C$8:$C$24))} -> 599.24369 | E19: {=SUMPRODUCT('Ward Demand'!$D20:$T20,TRANSPOSE('Mortality Rates'!$F$8:$F$24))} -> 3404.8109 | F19: =D19+E19 -> 4004.0546 | J19: ICU deaths are 15% of the total up to the 30th September.
A20: 44202 | B20: England | D20: {=SUMPRODUCT('CCU Demand'!$D22:$T22,TRANSPOSE('Mortality Rates'!$C$8:$C$24))} -> 800.70767 | E20: {=SUMPRODUCT('Ward Demand'!$D21:$T21,TRANSPOSE('Mortality Rates'!$F$8:$F$24))} -> 4549.4984 | F20: =D20+E20 -> 5350.2061
A21: 44209 | B21: England | D21: {=SUMPRODUCT('CCU Demand'!$D23:$T23,TRANSPOSE('Mortality Rates'!$C$8:$C$24))} -> 913.25582 | E21: {=SUMPRODUCT('Ward Demand'!$D22:$T22,TRANSPOSE('Mortality Rates'!$F$8:$F$24))} -> 5188.9798 | F21: =D21+E21 -> 6102.2356
A22: 44216 | B22: England | D22: {=SUMPRODUCT('CCU Demand'!$D24:$T24,TRANSPOSE('Mortality Rates'!$C$8:$C$24))} -> 860.12962 | E22: {=SUMPRODUCT('Ward Demand'!$D23:$T23,TRANSPOSE('Mortality Rates'!$F$8:$F$24))} -> 4887.1248 | F22: =D22+E22 -> 5747.2544
A23: 44223 | B23: England | D23: {=SUMPRODUCT('CCU Demand'!$D25:$T25,TRANSPOSE('Mortality Rates'!$C$8:$C$24))} -> 693.61791 | E23: {=SUMPRODUCT('Ward Demand'!$D24:$T24,TRANSPOSE('Mortality Rates'!$F$8:$F$24))} -> 3941.0307 | F23: =D23+E23 -> 4634.6486 | J23: Output
A24: 44230 | B24: England | D24: {=SUMPRODUCT('CCU Demand'!$D26:$T26,TRANSPOSE('Mortality Rates'!$C$8:$C$24))} -> 558.55392 | E24: {=SUMPRODUCT('Ward Demand'!$D25:$T25,TRANSPOSE('Mortality Rates'!$F$8:$F$24))} -> 3173.6179 | F24: =D24+E24 -> 3732.1718
A25: 44237 | B25: England | D25: {=SUMPRODUCT('CCU Demand'!$D27:$T27,TRANSPOSE('Mortality Rates'!$C$8:$C$24))} -> 446.84314 | E25: {=SUMPRODUCT('Ward Demand'!$D26:$T26,TRANSPOSE('Mortality Rates'!$F$8:$F$24))} -> 2538.8943 | F25: =D25+E25 -> 2985.7374
A26: 44244 | B26: England | D26: {=SUMPRODUCT('CCU Demand'!$D28:$T28,TRANSPOSE('Mortality Rates'!$C$8:$C$24))} -> 357.47451 | E26: {=SUMPRODUCT('Ward Demand'!$D27:$T27,TRANSPOSE('Mortality Rates'!$F$8:$F$24))} -> 2031.1154 | F26: =D26+E26 -> 2388.5899
A27: 44251 | B27: England | D27: {=SUMPRODUCT('CCU Demand'!$D29:$T29,TRANSPOSE('Mortality Rates'!$C$8:$C$24))} -> 285.97961 | E27: {=SUMPRODUCT('Ward Demand'!$D28:$T28,TRANSPOSE('Mortality Rates'!$F$8:$F$24))} -> 1624.8923 | F27: =D27+E27 -> 1910.872
A28: 44258 | B28: England | D28: {=SUMPRODUCT('CCU Demand'!$D30:$T30,TRANSPOSE('Mortality Rates'!$C$8:$C$24))} -> 228.78369 | E28: {=SUMPRODUCT('Ward Demand'!$D29:$T29,TRANSPOSE('Mortality Rates'!$F$8:$F$24))} -> 1299.9139 | F28: =D28+E28 -> 1528.6976
A29: 44265 | B29: England | D29: {=SUMPRODUCT('CCU Demand'!$D31:$T31,TRANSPOSE('Mortality Rates'!$C$8:$C$24))} -> 160.14858 | E29: {=SUMPRODUCT('Ward Demand'!$D30:$T30,TRANSPOSE('Mortality Rates'!$F$8:$F$24))} -> 909.93971 | F29: =D29+E29 -> 1070.0883
A30: 44272 | B30: England | D30: {=SUMPRODUCT('CCU Demand'!$D32:$T32,TRANSPOSE('Mortality Rates'!$C$8:$C$24))} -> 112.10401 | E30: {=SUMPRODUCT('Ward Demand'!$D31:$T31,TRANSPOSE('Mortality Rates'!$F$8:$F$24))} -> 636.9578 | F30: =D30+E30 -> 749.06181
A31: 44279 | B31: England | D31: {=SUMPRODUCT('CCU Demand'!$D33:$T33,TRANSPOSE('Mortality Rates'!$C$8:$C$24))} -> 78.472805 | E31: {=SUMPRODUCT('Ward Demand'!$D32:$T32,TRANSPOSE('Mortality Rates'!$F$8:$F$24))} -> 445.87046 | F31: =D31+E31 -> 524.34327
A32: 44286 | B32: England | D32: {=SUMPRODUCT('CCU Demand'!$D34:$T34,TRANSPOSE('Mortality Rates'!$C$8:$C$24))} -> 54.930963 | E32: {=SUMPRODUCT('Ward Demand'!$D33:$T33,TRANSPOSE('Mortality Rates'!$F$8:$F$24))} -> 312.10932 | F32: =D32+E32 -> 367.04029
A33: 44293 | B33: England | D33: {=SUMPRODUCT('CCU Demand'!$D35:$T35,TRANSPOSE('Mortality Rates'!$C$8:$C$24))} -> 38.451674 | E33: {=SUMPRODUCT('Ward Demand'!$D34:$T34,TRANSPOSE('Mortality Rates'!$F$8:$F$24))} -> 218.47653 | F33: =D33+E33 -> 256.9282
A34: 44300 | B34: England | D34: {=SUMPRODUCT('CCU Demand'!$D36:$T36,TRANSPOSE('Mortality Rates'!$C$8:$C$24))} -> 26.916172 | E34: {=SUMPRODUCT('Ward Demand'!$D35:$T35,TRANSPOSE('Mortality Rates'!$F$8:$F$24))} -> 152.93357 | F34: =D34+E34 -> 179.84974
A35: 44307 | B35: England | D35: {=SUMPRODUCT('CCU Demand'!$D37:$T37,TRANSPOSE('Mortality Rates'!$C$8:$C$24))} -> 18.84132 | E35: {=SUMPRODUCT('Ward Demand'!$D36:$T36,TRANSPOSE('Mortality Rates'!$F$8:$F$24))} -> 107.0535 | F35: =D35+E35 -> 125.89482
A36: 44314 | B36: England | D36: {=SUMPRODUCT('CCU Demand'!$D38:$T38,TRANSPOSE('Mortality Rates'!$C$8:$C$24))} -> 13.188924 | E36: {=SUMPRODUCT('Ward Demand'!$D37:$T37,TRANSPOSE('Mortality Rates'!$F$8:$F$24))} -> 74.937448 | F36: =D36+E36 -> 88.126373
D38: =SUM(D6:D36) -> 9477.7603 | E38: =SUM(E6:E36) -> 53815.506 | F38: =SUM(F6:F36) -> 63293.267

Sheet Deaths - outside capacity
B1: This sheet estimates the number of deaths that occur as a direct result of lack of capacity.
A2: Observed data is used up to the 9th December with an assumption that no deaths occurred outside of capacity in that time.
A3: The estimated number of patients requiring Ward and ICU admission and their estimated admission outcome are multiplied by the mortality estimate
A4: For each requirement-outcome combination and then summed to give Total Deaths.
A5: Total Deaths minus those within capacity gives the number outside capacity - the estimated number of deaths specifically due to ICU and Ward capacity limits
A6: Predicted deaths under the current scenario for all combinations of Care Required and Care Received, for Total Deaths within and outside capacity.
S7: Excess deaths breakdown
D8: Care Required | E8: ICU | F8: ICU | G8: ICU | H8: Ward | I8: Ward | K8: Total Deaths (with ICU and Ward capacity limits) | L8: Deaths if there are no ICU and Ward capacity limits. | M8: Excess deaths specifically due to ICU and Ward capacity limits | S8: ICU Only | T8: Ward Only
A9: Week commencing | B9: Region | D9: Care Received | E9: ICU | F9: Ward | G9: None | H9: Ward | I9: None
A10: 44104 | B10: England | E10: ='Deaths - In capacity'!D6 -> 44.7 | F10: 0 | G10: 0 | H10: ='Deaths - In capacity'!E6 -> 253.3 | I10: {=SUMPRODUCT('Ward Demand'!$D77:$T77,TRANSPOSE('Mortality Rates'!$G$8:$G$24))} -> 0 | K10: =SUM('Deaths - In capacity'!F6) -> 298 | L10: =SUM('Deaths - In capacity'!F6) -> 298 | M10: =K10-L10 -> 0 | R10: =A10 -> 44104 | S10: =SUM(E10:G10)-'Deaths - In capacity'!D6 -> 0 | T10: =SUM(H10:I10)-'Deaths - In capacity'!E6 -> 0
A11: 44111 | B11: England | E11: ='Deaths - In capacity'!D7 -> 66.6 | F11: 0 | G11: {=SUMPRODUCT('CCU Demand'!$D114:$T114,TRANSPOSE('Mortality Rates'!$E$8:$E$24))} -> 0 | H11: ='Deaths - In capacity'!E7 -> 377.4 | I11: {=SUMPRODUCT('Ward Demand'!$D78:$T78,TRANSPOSE('Mortality Rates'!$G$8:$G$24))} -> 0 | K11: =SUM('Deaths - In capacity'!F7) -> 444 | L11: =SUM('Deaths - In capacity'!F7) -> 444 | M11: =K11-L11 -> 0 | R11: =A11 -> 44111 | S11: =SUM(E11:G11)-'Deaths - In capacity'!D7 -> 0 | T11: =SUM(H11:I11)-'Deaths - In capacity'!E7 -> 0
A12: 44118 | B12: England | E12: ='Deaths - In capacity'!D8 -> 109.65 | F12: 0 | G12: 0 | H12: ='Deaths - In capacity'!E8 -> 621.35 | I12: {=SUMPRODUCT('Ward Demand'!$D79:$T79,TRANSPOSE('Mortality Rates'!$G$8:$G$24))} -> 0 | K12: =SUM('Deaths - In capacity'!F8) -> 731 | L12: =SUM('Deaths - In capacity'!F8) -> 731 | M12: =K12-L12 -> 0 | R12: =A12 -> 44118 | S12: =SUM(E12:G12)-'Deaths - In capacity'!D8 -> 0 | T12: =SUM(H12:I12)-'Deaths - In capacity'!E8 -> 0
A13: 44125 | B13: England | E13: ='Deaths - In capacity'!D9 -> 161.1 | F13: 0 | G13: {=SUMPRODUCT('CCU Demand'!$D116:$T116,TRANSPOSE('Mortality Rates'!$E$8:$E$24))} -> 0 | H13: ='Deaths - In capacity'!E9 -> 912.9 | I13: {=SUMPRODUCT('Ward Demand'!$D80:$T80,TRANSPOSE('Mortality Rates'!$G$8:$G$24))} -> 0 | K13: =SUM('Deaths - In capacity'!F9) -> 1074 | L13: =SUM('Deaths - In capacity'!F9) -> 1074 | M13: =K13-L13 -> 0 | O13: Total Deaths | P13: =K42 -> 63293.267 | R13: =A13 -> 44125 | S13: =SUM(E13:G13)-'Deaths - In capacity'!D9 -> 0 | T13: =SUM(H13:I13)-'Deaths - In capacity'!E9 -> 0
A14: 44132 | B14: England | E14: ='Deaths - In capacity'!D10 -> 218.55 | F14: 0 | G14: 0 | H14: ='Deaths - In capacity'!E10 -> 1238.45 | I14: {=SUMPRODUCT('Ward Demand'!$D81:$T81,TRANSPOSE('Mortality Rates'!$G$8:$G$24))} -> 0 | K14: =SUM('Deaths - In capacity'!F10) -> 1457 | L14: =SUM('Deaths - In capacity'!F10) -> 1457 | M14: =K14-L14 -> 0 | O14: Within capacity | P14: =L42 -> 63293.267 | R14: =A14 -> 44132 | S14: =SUM(E14:G14)-'Deaths - In capacity'!D10 -> 0 | T14: =SUM(H14:I14)-'Deaths - In capacity'!E10 -> 0
A15: 44139 | B15: England | E15: ='Deaths - In capacity'!D11 -> 267.6 | F15: 0 | G15: {=SUMPRODUCT('CCU Demand'!$D118:$T118,TRANSPOSE('Mortality Rates'!$E$8:$E$24))} -> 0 | H15: ='Deaths - In capacity'!E11 -> 1516.4 | I15: {=SUMPRODUCT('Ward Demand'!$D82:$T82,TRANSPOSE('Mortality Rates'!$G$8:$G$24))} -> 0 | K15: =SUM('Deaths - In capacity'!F11) -> 1784 | L15: =SUM('Deaths - In capacity'!F11) -> 1784 | M15: =K15-L15 -> 0 | O15: Outside capacity | P15: =M42 -> 0 | R15: =A15 -> 44139 | S15: =SUM(E15:G15)-'Deaths - In capacity'!D11 -> 0 | T15: =SUM(H15:I15)-'Deaths - In capacity'!E11 -> 0
A16: 44146 | B16: England | E16: ='Deaths - In capacity'!D12 -> 284.55 | F16: 0 | G16: 0 | H16: ='Deaths - In capacity'!E12 -> 1612.45 | I16: {=SUMPRODUCT('Ward Demand'!$D83:$T83,TRANSPOSE('Mortality Rates'!$G$8:$G$24))} -> 0 | K16: =SUM('Deaths - In capacity'!F12) -> 1897 | L16: =SUM('Deaths - In capacity'!F12) -> 1897 | M16: =K16-L16 -> 0 | R16: =A16 -> 44146 | S16: =SUM(E16:G16)-'Deaths - In capacity'!D12 -> 0 | T16: =SUM(H16:I16)-'Deaths - In capacity'!E12 -> 0
A17: 44153 | B17: England | E17: ='Deaths - In capacity'!D13 -> 315.45 | F17: 0 | G17: {=SUMPRODUCT('CCU Demand'!$D120:$T120,TRANSPOSE('Mortality Rates'!$E$8:$E$24))} -> 0 | H17: ='Deaths - In capacity'!E13 -> 1787.55 | I17: {=SUMPRODUCT('Ward Demand'!$D84:$T84,TRANSPOSE('Mortality Rates'!$G$8:$G$24))} -> 0 | K17: =SUM('Deaths - In capacity'!F13) -> 2103 | L17: =SUM('Deaths - In capacity'!F13) -> 2103 | M17: =K17-L17 -> 0 | O17: Outside capacity deaths arising from: | R17: =A17 -> 44153 | S17: =SUM(E17:G17)-'Deaths - In capacity'!D13 -> 0 | T17: =SUM(H17:I17)-'Deaths - In capacity'!E13 -> 0
A18: 44160 | B18: England | E18: ='Deaths - In capacity'!D14 -> 304.65 | F18: 0 | G18: 0 | H18: ='Deaths - In capacity'!E14 -> 1726.35 | I18: {=SUMPRODUCT('Ward Demand'!$D85:$T85,TRANSPOSE('Mortality Rates'!$G$8:$G$24))} -> 0 | K18: =SUM('Deaths - In capacity'!F14) -> 2031 | L18: =SUM('Deaths - In capacity'!F14) -> 2031 | M18: =K18-L18 -> 0 | O18: ICU | P18: =S42 -> 0 | R18: =A18 -> 44160 | S18: =SUM(E18:G18)-'Deaths - In capacity'!D14 -> 0 | T18: =SUM(H18:I18)-'Deaths - In capacity'!E14 -> 0
A19: 44167 | B19: England | E19: ='Deaths - In capacity'!D15 -> 283.35 | F19: 0 | G19: {=SUMPRODUCT('CCU Demand'!$D122:$T122,TRANSPOSE('Mortality Rates'!$E$8:$E$24))} -> 0 | H19: ='Deaths - In capacity'!E15 -> 1605.65 | I19: {=SUMPRODUCT('Ward Demand'!$D86:$T86,TRANSPOSE('Mortality Rates'!$G$8:$G$24))} -> 0 | K19: =SUM('Deaths - In capacity'!F15) -> 1889 | L19: =SUM('Deaths - In capacity'!F15) -> 1889 | M19: =K19-L19 -> 0 | O19: Ward | P19: =T42 -> 0 | R19: =A19 -> 44167 | S19: =SUM(E19:G19)-'Deaths - In capacity'!D15 -> 0 | T19: =SUM(H19:I19)-'Deaths - In capacity'!E15 -> 0
A20: 44174 | B20: England | E20: ='Deaths - In capacity'!D16 -> 294 | F20: 0 | G20: 0 | H20: ='Deaths - In capacity'!E16 -> 1666 | I20: {=SUMPRODUCT('Ward Demand'!$D87:$T87,TRANSPOSE('Mortality Rates'!$G$8:$G$24))} -> 0 | K20: =SUM('Deaths - In capacity'!F16) -> 1960 | L20: =SUM('Deaths - In capacity'!F16) -> 1960 | M20: =K20-L20 -> 0 | O20: Checksum | P20: =SUM(P18:P19) -> 0 | R20: =A20 -> 44174 | S20: =SUM(E20:G20)-'Deaths - In capacity'!D16 -> 0 | T20: =SUM(H20:I20)-'Deaths - In capacity'!E16 -> 0
A21: 44181 | B21: England | E21: {=SUMPRODUCT('CCU Demand'!$D54:$T54,TRANSPOSE('Mortality Rates'!$C$8:$C$24))} -> 402.52479 | F21: {=SUMPRODUCT('CCU Demand'!$D89:$T89,TRANSPOSE('Mortality Rates'!$D$8:$D$24))} -> 0 | G21: {=SUMPRODUCT('CCU Demand'!$D124:$T124,TRANSPOSE('Mortality Rates'!$E$8:$E$24))} -> 0 | H21: {=SUMPRODUCT('Ward Demand'!$D53:$T53,TRANSPOSE('Mortality Rates'!$F$8:$F$24))} -> 2287.0842 | I21: {=SUMPRODUCT('Ward Demand'!$D88:$T88,TRANSPOSE('Mortality Rates'!$G$8:$G$24))} -> 0 | K21: =SUM(E21:I21) -> 2689.609 | L21: =SUM('Deaths - In capacity'!F17) -> 2689.609 | M21: =K21-L21 -> 0 | R21: =A21 -> 44181 | S21: =SUM(E21:G21)-'Deaths - In capacity'!D17 -> 0 | T21: =SUM(H21:I21)-'Deaths - In capacity'!E17 -> 0
A22: 44188 | B22: England | E22: {=SUMPRODUCT('CCU Demand'!$D55:$T55,TRANSPOSE('Mortality Rates'!$C$8:$C$24))} -> 477.39148 | F22: {=SUMPRODUCT('CCU Demand'!$D90:$T90,TRANSPOSE('Mortality Rates'!$D$8:$D$24))} -> 0 | G22: {=SUMPRODUCT('CCU Demand'!$D125:$T125,TRANSPOSE('Mortality Rates'!$E$8:$E$24))} -> 0 | H22: {=SUMPRODUCT('Ward Demand'!$D54:$T54,TRANSPOSE('Mortality Rates'!$F$8:$F$24))} -> 2712.4653 | I22: {=SUMPRODUCT('Ward Demand'!$D89:$T89,TRANSPOSE('Mortality Rates'!$G$8:$G$24))} -> 0 | K22: =SUM(E22:I22) -> 3189.8568 | L22: =SUM('Deaths - In capacity'!F18) -> 3189.8568 | M22: =K22-L22 -> 0 | R22: =A22 -> 44188 | S22: =SUM(E22:G22)-'Deaths - In capacity'!D18 -> 0 | T22: =SUM(H22:I22)-'Deaths - In capacity'!E18 -> 0
A23: 44195 | B23: England | E23: {=SUMPRODUCT('CCU Demand'!$D56:$T56,TRANSPOSE('Mortality Rates'!$C$8:$C$24))} -> 599.24369 | F23: {=SUMPRODUCT('CCU Demand'!$D91:$T91,TRANSPOSE('Mortality Rates'!$D$8:$D$24))} -> 0 | G23: {=SUMPRODUCT('CCU Demand'!$D126:$T126,TRANSPOSE('Mortality Rates'!$E$8:$E$24))} -> 0 | H23: {=SUMPRODUCT('Ward Demand'!$D55:$T55,TRANSPOSE('Mortality Rates'!$F$8:$F$24))} -> 3404.8109 | I23: {=SUMPRODUCT('Ward Demand'!$D90:$T90,TRANSPOSE('Mortality Rates'!$G$8:$G$24))} -> 0 | K23: =SUM(E23:I23) -> 4004.0546 | L23: =SUM('Deaths - In capacity'!F19) -> 4004.0546 | M23: =K23-L23 -> 0 | R23: =A23 -> 44195 | S23: =SUM(E23:G23)-'Deaths - In capacity'!D19 -> 0 | T23: =SUM(H23:I23)-'Deaths - In capacity'!E19 -> 0
A24: 44202 | B24: England | E24: {=SUMPRODUCT('CCU Demand'!$D57:$T57,TRANSPOSE('Mortality Rates'!$C$8:$C$24))} -> 800.70767 | F24: {=SUMPRODUCT('CCU Demand'!$D92:$T92,TRANSPOSE('Mortality Rates'!$D$8:$D$24))} -> 0 | G24: {=SUMPRODUCT('CCU Demand'!$D127:$T127,TRANSPOSE('Mortality Rates'!$E$8:$E$24))} -> 0 | H24: {=SUMPRODUCT('Ward Demand'!$D56:$T56,TRANSPOSE('Mortality Rates'!$F$8:$F$24))} -> 4549.4984 | I24: {=SUMPRODUCT('Ward Demand'!$D91:$T91,TRANSPOSE('Mortality Rates'!$G$8:$G$24))} -> 0 | K24: =SUM(E24:I24) -> 5350.2061 | L24: =SUM('Deaths - In capacity'!F20) -> 5350.2061 | M24: =K24-L24 -> 0 | R24: =A24 -> 44202 | S24: =SUM(E24:G24)-'Deaths - In capacity'!D20 -> 0 | T24: =SUM(H24:I24)-'Deaths - In capacity'!E20 -> 0
A25: 44209 | B25: England | E25: {=SUMPRODUCT('CCU Demand'!$D58:$T58,TRANSPOSE('Mortality Rates'!$C$8:$C$24))} -> 913.25582 | F25: {=SUMPRODUCT('CCU Demand'!$D93:$T93,TRANSPOSE('Mortality Rates'!$D$8:$D$24))} -> 0 | G25: {=SUMPRODUCT('CCU Demand'!$D128:$T128,TRANSPOSE('Mortality Rates'!$E$8:$E$24))} -> 0 | H25: {=SUMPRODUCT('Ward Demand'!$D57:$T57,TRANSPOSE('Mortality Rates'!$F$8:$F$24))} -> 5188.9798 | I25: {=SUMPRODUCT('Ward Demand'!$D92:$T92,TRANSPOSE('Mortality Rates'!$G$8:$G$24))} -> 0 | K25: =SUM(E25:I25) -> 6102.2356 | L25: =SUM('Deaths - In capacity'!F21) -> 6102.2356 | M25: =K25-L25 -> 0 | R25: =A25 -> 44209 | S25: =SUM(E25:G25)-'Deaths - In capacity'!D21 -> 0 | T25: =SUM(H25:I25)-'Deaths - In capacity'!E21 -> 0
A26: 44216 | B26: England | E26: {=SUMPRODUCT('CCU Demand'!$D59:$T59,TRANSPOSE('Mortality Rates'!$C$8:$C$24))} -> 860.12962 | F26: {=SUMPRODUCT('CCU Demand'!$D94:$T94,TRANSPOSE('Mortality Rates'!$D$8:$D$24))} -> 0 | G26: {=SUMPRODUCT('CCU Demand'!$D129:$T129,TRANSPOSE('Mortality Rates'!$E$8:$E$24))} -> 0 | H26: {=SUMPRODUCT('Ward Demand'!$D58:$T58,TRANSPOSE('Mortality Rates'!$F$8:$F$24))} -> 4887.1248 | I26: {=SUMPRODUCT('Ward Demand'!$D93:$T93,TRANSPOSE('Mortality Rates'!$G$8:$G$24))} -> 0 | K26: =SUM(E26:I26) -> 5747.2544 | L26: =SUM('Deaths - In capacity'!F22) -> 5747.2544 | M26: =K26-L26 -> 0 | R26: =A26 -> 44216 | S26: =SUM(E26:G26)-'Deaths - In capacity'!D22 -> 0 | T26: =SUM(H26:I26)-'Deaths - In capacity'!E22 -> 0
A27: 44223 | B27: England | E27: {=SUMPRODUCT('CCU Demand'!$D60:$T60,TRANSPOSE('Mortality Rates'!$C$8:$C$24))} -> 693.61791 | F27: {=SUMPRODUCT('CCU Demand'!$D95:$T95,TRANSPOSE('Mortality Rates'!$D$8:$D$24))} -> 0 | G27: {=SUMPRODUCT('CCU Demand'!$D130:$T130,TRANSPOSE('Mortality Rates'!$E$8:$E$24))} -> 0 | H27: {=SUMPRODUCT('Ward Demand'!$D59:$T59,TRANSPOSE('Mortality Rates'!$F$8:$F$24))} -> 3941.0307 | I27: {=SUMPRODUCT('Ward Demand'!$D94:$T94,TRANSPOSE('Mortality Rates'!$G$8:$G$24))} -> 0 | K27: =SUM(E27:I27) -> 4634.6486 | L27: =SUM('Deaths - In capacity'!F23) -> 4634.6486 | M27: =K27-L27 -> 0 | R27: =A27 -> 44223 | S27: =SUM(E27:G27)-'Deaths - In capacity'!D23 -> 0 | T27: =SUM(H27:I27)-'Deaths - In capacity'!E23 -> 0
A28: 44230 | B28: England | E28: {=SUMPRODUCT('CCU Demand'!$D61:$T61,TRANSPOSE('Mortality Rates'!$C$8:$C$24))} -> 558.55392 | F28: {=SUMPRODUCT('CCU Demand'!$D96:$T96,TRANSPOSE('Mortality Rates'!$D$8:$D$24))} -> 0 | G28: {=SUMPRODUCT('CCU Demand'!$D131:$T131,TRANSPOSE('Mortality Rates'!$E$8:$E$24))} -> 0 | H28: {=SUMPRODUCT('Ward Demand'!$D60:$T60,TRANSPOSE('Mortality Rates'!$F$8:$F$24))} -> 3173.6179 | I28: {=SUMPRODUCT('Ward Demand'!$D95:$T95,TRANSPOSE('Mortality Rates'!$G$8:$G$24))} -> 0 | K28: =SUM(E28:I28) -> 3732.1718 | L28: =SUM('Deaths - In capacity'!F24) -> 3732.1718 | M28: =K28-L28 -> 0 | R28: =A28 -> 44230 | S28: =SUM(E28:G28)-'Deaths - In capacity'!D24 -> 0 | T28: =SUM(H28:I28)-'Deaths - In capacity'!E24 -> 0
A29: 44237 | B29: England | E29: {=SUMPRODUCT('CCU Demand'!$D62:$T62,TRANSPOSE('Mortality Rates'!$C$8:$C$24))} -> 446.84314 | F29: {=SUMPRODUCT('CCU Demand'!$D97:$T97,TRANSPOSE('Mortality Rates'!$D$8:$D$24))} -> 0 | G29: {=SUMPRODUCT('CCU Demand'!$D132:$T132,TRANSPOSE('Mortality Rates'!$E$8:$E$24))} -> 0 | H29: {=SUMPRODUCT('Ward Demand'!$D61:$T61,TRANSPOSE('Mortality Rates'!$F$8:$F$24))} -> 2538.8943 | I29: {=SUMPRODUCT('Ward Demand'!$D96:$T96,TRANSPOSE('Mortality Rates'!$G$8:$G$24))} -> 0 | K29: =SUM(E29:I29) -> 2985.7374 | L29: =SUM('Deaths - In capacity'!F25) -> 2985.7374 | M29: =K29-L29 -> 0 | R29: =A29 -> 44237 | S29: =SUM(E29:G29)-'Deaths - In capacity'!D25 -> 0 | T29: =SUM(H29:I29)-'Deaths - In capacity'!E25 -> 0
A30: 44244 | B30: England | E30: {=SUMPRODUCT('CCU Demand'!$D63:$T63,TRANSPOSE('Mortality Rates'!$C$8:$C$24))} -> 357.47451 | F30: {=SUMPRODUCT('CCU Demand'!$D98:$T98,TRANSPOSE('Mortality Rates'!$D$8:$D$24))} -> 0 | G30: {=SUMPRODUCT('CCU Demand'!$D133:$T133,TRANSPOSE('Mortality Rates'!$E$8:$E$24))} -> 0 | H30: {=SUMPRODUCT('Ward Demand'!$D62:$T62,TRANSPOSE('Mortality Rates'!$F$8:$F$24))} -> 2031.1154 | I30: {=SUMPRODUCT('Ward Demand'!$D97:$T97,TRANSPOSE('Mortality Rates'!$G$8:$G$24))} -> 0 | K30: =SUM(E30:I30) -> 2388.5899 | L30: =SUM('Deaths - In capacity'!F26) -> 2388.5899 | M30: =K30-L30 -> 0 | R30: =A30 -> 44244 | S30: =SUM(E30:G30)-'Deaths - In capacity'!D26 -> 0 | T30: =SUM(H30:I30)-'Deaths - In capacity'!E26 -> 0
A31: 44251 | B31: England | E31: {=SUMPRODUCT('CCU Demand'!$D64:$T64,TRANSPOSE('Mortality Rates'!$C$8:$C$24))} -> 285.97961 | F31: {=SUMPRODUCT('CCU Demand'!$D99:$T99,TRANSPOSE('Mortality Rates'!$D$8:$D$24))} -> 0 | G31: {=SUMPRODUCT('CCU Demand'!$D134:$T134,TRANSPOSE('Mortality Rates'!$E$8:$E$24))} -> 0 | H31: {=SUMPRODUCT('Ward Demand'!$D63:$T63,TRANSPOSE('Mortality Rates'!$F$8:$F$24))} -> 1624.8923 | I31: {=SUMPRODUCT('Ward Demand'!$D98:$T98,TRANSPOSE('Mortality Rates'!$G$8:$G$24))} -> 0 | K31: =SUM(E31:I31) -> 1910.872 | L31: =SUM('Deaths - In capacity'!F27) -> 1910.872 | M31: =K31-L31 -> 0 | R31: =A31 -> 44251 | S31: =SUM(E31:G31)-'Deaths - In capacity'!D27 -> 0 | T31: =SUM(H31:I31)-'Deaths - In capacity'!E27 -> 0
A32: 44258 | B32: England | E32: {=SUMPRODUCT('CCU Demand'!$D65:$T65,TRANSPOSE('Mortality Rates'!$C$8:$C$24))} -> 228.78369 | F32: {=SUMPRODUCT('CCU Demand'!$D100:$T100,TRANSPOSE('Mortality Rates'!$D$8:$D$24))} -> 0 | G32: {=SUMPRODUCT('CCU Demand'!$D135:$T135,TRANSPOSE('Mortality Rates'!$E$8:$E$24))} -> 0 | H32: {=SUMPRODUCT('Ward Demand'!$D64:$T64,TRANSPOSE('Mortality Rates'!$F$8:$F$24))} -> 1299.9139 | I32: {=SUMPRODUCT('Ward Demand'!$D99:$T99,TRANSPOSE('Mortality Rates'!$G$8:$G$24))} -> 0 | K32: =SUM(E32:I32) -> 1528.6976 | L32: =SUM('Deaths - In capacity'!F28) -> 1528.6976 | M32: =K32-L32 -> 0 | R32: =A32 -> 44258 | S32: =SUM(E32:G32)-'Deaths - In capacity'!D28 -> 0 | T32: =SUM(H32:I32)-'Deaths - In capacity'!E28 -> 0
... A40: 44314 | B40: England | E40: {=SUMPRODUCT('CCU Demand'!$D73:$T73,TRANSPOSE('Mortality Rates'!$C$8:$C$24))} -> 13.188924 | F40: {=SUMPRODUCT('CCU Demand'!$D108:$T108,TRANSPOSE('Mortality Rates'!$D$8:$D$24))} -> 0 | G40: {=SUMPRODUCT('CCU Demand'!$D143:$T143,TRANSPOSE('Mortality Rates'!$E$8:$E$24))} -> 0 | H40: {=SUMPRODUCT('Ward Demand'!$D72:$T72,TRANSPOSE('Mortality Rates'!$F$8:$F$24))} -> 74.937448 | I40: {=SUMPRODUCT('Ward Demand'!$D107:$T107,TRANSPOSE('Mortality Rates'!$G$8:$G$24))} -> 0 | K40: =SUM(E40:I40) -> 88.126373 | L40: =SUM('Deaths - In capacity'!F36) -> 88.126373 | M40: =K40-L40 -> 0 | R40: =A40 -> 44314 | S40: =SUM(E40:G40)-'Deaths - In capacity'!D36 -> 0 | T40: =SUM(H40:I40)-'Deaths - In capacity'!E36 -> 0
D42: totals | E42: =SUM(E10:E40) -> 9477.7603 | F42: =SUM(F10:F40) -> 0 | G42: =SUM(G10:G40) -> 0 | H42: =SUM(H10:H40) -> 53815.506 | I42: =SUM(I10:I40) -> 0 | K42: =SUM(K10:K40) -> 63293.267 | L42: =SUM(L10:L40) -> 63293.267 | M42: =SUM(M10:M40) -> 0 | S42: =SUM(S10:S40) -> 0 | T42: =SUM(T10:T40) -> 0
A45: Here the final output of the model is calculated.
A46: The deaths for the individual scenarios are calculated are calculated using their appropriate counts and mortality rates.
A47: For example for "Care Required = ICU Care Received = Ward" (column F), we use the patient counts by age from sheet "4 - ICU demand" table3, and the mortality rates from sheet "6 Mortality Rates", column D.
A48: Total Deaths (column K) is calculated as the sum of deaths in columns E,F,G,H,I. These columns represent the five scenarios of care required and care received (e.g. ICU required and ICU received or ICU required and None received).
A49: Within capacity deaths (column L) are imported from sheet "7 Deaths - Within capacity (check)" column G. This represents the deaths that would occur if there were no limits to ICU or Ward capacity.
A50: Outside capacity deaths (column M) are calculated as total deaths (column K) minus Within capacity deaths (column L).
A51: Outside capacity therefore refers to the excess deaths that occur specifically due to exceeding the limits of the ICU and Ward capacity.
A52: The totals across all weeks are given in row 40.
B55: Input data
B59: Assumptions
B64: Output
