Workbook
Name adm_AgeDist: 'Estimating Admissions by Age'!$E$38:$E$54
Name adm_AgeDist2: 'Estimating Admissions by Age'!$H$49:$H$55
Name adm_AgeDist3: 'Estimating Admissions by Age'!$I$49:$I$55
Name CC_Beds_Daily: 'Principle parameters'!$D$18
Name deathsInsideCapacity: 'Deaths - outside capacity'!$P$14
Name deathsOutsideCapacity: 'Deaths - outside capacity'!$P$15
Name Scenario: 'Sensitivity Analysis'!$O$4
Name Sens_CC_Cap: 'Sensitivity Analysis'!$N$9
Name Sens_CCU_HR_CCU: 'Sensitivity Analysis'!$N$12
Name Sens_CCU_HR_Ward: 'Sensitivity Analysis'!$N$13
Name Sens_Ward_Cap: 'Sensitivity Analysis'!$N$10
Name Sens_Ward_HR: 'Sensitivity Analysis'!$N$11
Name Ward_Beds_Daily: 'Principle parameters'!$D$19

Sheet Description
B1: Model of within capacity and outside capacity deaths from COVID-19 in England | N1: 31st December 2020
C3: This model estimates the number of deaths that can be expected from forward projections of demand for hospital admission for COVID-19 taking into account any step-change that may occur in mortality rates when hospital or Intensive Care Unit (ICU) bed capacity is breached. The model was designed and built by members of the Institute and Faculty of Actuaries in response to a request for help from the Department of Health and Social Care in the UK for assistance in updating the document ''Direct and Indirect Impacts of COVID-19 on Excess Deaths and Morbidity: Executive Summary. London; 2020. ". Whilst some parameters are estimated, it may be that other users may have access to observed data that can be substituted where we have made estimates.
C10: Sheets | E10: Purpose
C11: Principle parameters | E11: This sheet derives or displays the principle underlying parameters - the availability of ward and ICU beds, and the mortality scalars that apply when ward or ICU care is not available.
C12: Assumptions and limitations | E12: This sheet lists assumptions applied in the modelling and lists recognised limitations.
C13: Estimating Admissions by Age | E13: Estimating the age distribution of admissions to hospital.
C14: New patients in hospital | E14: Split new patients by those who do or do not require ICU. Uses publicy available admissions data.
C15: Splitting Admissions CCU Ward | E15: Split Ward demand by those within and beyond capacity.
C16: Ward Demand | E16: Calculates the demand for ward care.
C17: CCU Demand | E17: Calculates the demand for ICU care.
C18: Excess Mortality Model | E18: Derivation of mortality scalars.
C19: Ward Mortality - Treated | E19: Treated mortality rates by age, within Ward (6a) and ICU (6b). Mortality scalars from 5 used to determine mortality rates when capacity exceeded.
C20: CCU Mortality - Treated | E20: Simple check that the normal (in capacity) mortality rates gives an answer similar to the deaths in the scenarios
C21: Mortality Rates | E21: Calculate mortality allowing for capacity being exceeded.
... C33: Rahul Sarkar | E33: Consultant Physician in Respiratory Medicine 7 Critical Care at Medway NHS Foundation Trust
C36: Acknowledgements
C37: The authors acknowledge assistance and advice from the following people:
C38: Institute and Faculty of Actuaries
C39: Josephine Robertson (Health & Care Actuary, Optum)
C40: Dan Ryan (Chief Science Officer at COIOS Research)
C41: Scott Reid (Global Protection Pricing & Product Development Actuary, Zurich)
C42: James Robinson (UK & Ireland Business Strategy and Analytics, Aon Benfield)
C44: Nottingham Universities Hospital Trust
C45: Joe West (Professor of Epidemiology; Honorary Consultant Gastroenterologist, Faculty of Medicine & Health Sciences Nottingham University)
C46: Richard Hubbard (GSK/British Lung Foundation Professor of Respiratory Epidemiology, Faculty of Medicine & Health Sciences)
C47: Tim Card (Clinical Associate Professor, Nottingham Biomedical Research Centre)
C48: Colin Crooks (Clinical Associate Professor, Nottingham Biomedical Research Centre)
... C60: Dr Louisa Rutherford, Senior Clinical Researcher at Crystallise Ltd

Sheet Assumptions and limitations
B1: This sheet is a compilation of assumtions made in the model and recognised limitations
B4: Assumptions
B5: There is no change in the expected mortality as demand grows until the bed capacity is breached.
B6: Only bed capacity affects excess mortality rates and not other resource constraints such as staffing or equipment.
B7: Surge capacity will be applied before the use of field hospitals or the commandeering of private facilities.
B8: All of the surge capacity, field hospital and private facility beds will be utilised for COVID-19 rather than any other demand.
B9: The age distribution of admissions remains constant over time.
B10: There is perfect redistribution of bed capacity and resources across the country immediately according to demand.
B11: Weekly bed availability remains constant.
B12: The mortality (including by age) is the same for the old COVID strain and novel mutations.
B17: Limitations
B18: Mortality rates are affected by constraints other than just bed availability including staffing and equipment.
... B22: The estimate of bed availability is determined using the mean length of stay on the ward or in ICU. The distribution of of ICU occupants by length of stay will change over time which may result in a slow consumption of capacity that is not captured in this model.

Sheet Principle parameters
B1: The principle underlying parameters of the model with their sources.
D4: Key assumptions and parameter inputs into model
D5: Value | E5: Parameter | F5: Data scource | G5: Logic
D6: 2 | E6: Within-hospital ICU surge multiplier | F6: 9,11 | G6: Report from one specialist unit in London that achieved 236% increase. Assume 200% typical. However, the NHS England guidance 2013 suggests 100%.
D7: 120828 | E7: Ward beds total | F7: 3 | G7: Based on data from 2020/21 Q2
D8: 817 | E8: Total ICU beds available for COVID patients (no surge) | F8: 2 | G8: Spare capacity in Results section para1.
D9: 9769 | E9: Total Ward Beds available for COVID patients ( no surge) | F9: 2 | G9: Spare capacity in Results section para1.
D10: =D8*D6 -> 1634 | E10: Total ICU beds available per week for COVID patients (with surge) | F10: 2,9,11 | G10: Assumption that, at equilibrium, the proportion of ICU beds that is available remains constant as this will relate to turnover.
D11: 62267 | E11: Total Ward Beds available for COVID patients (with surge) | F11: 2 | G11: Page 5 para 2.
D12: =2627-D8 -> 1810 | E12: Nightingale capacity, cancelled electives and private medical facilities - ICU beds | F12: 2 | G12: Page 5 -"We estimate that these interventions would allow for up to 2627 and 62, 267 COVID-19 patients to be accommodated in CC and G&A on any day, respectively". Minus pre-pandemic daily capacity.
D13: =D11-D9 -> 52498 | E13: Nightingale capacity, cancelled electives and private medical facilities - ward beds | F13: 2
D14: Y | E14: Include within hospital surge capacity. | F14: N/A
D15: Y | E15: Include additional field hospital and private facilty capacity with routine care cancellation (Y/N) | F15: N/A | G15: Nightingale facilities are currently largely on standby, but could be reactivated.
D16: 7 | E16: Mean length of stay on ICU | F16: 13 | G16: The number of beds available each week would be the number of beds * 7 days / mean duration of stay.
D17: 5 | E17: Mean length of stay in hospital ward. | F17: 13 | G17: The number of beds available each week would be the number of beds * 7 days / mean duration of stay.
B18: Sensitivity adjustment | C18: =Sens_CC_Cap -> 0 | D18: =(IF(D14="Y",D10,D8)+IF(D15="Y",D12,0)*7/D16)+'Sensitivity Analysis'!N9*(IF(D14="Y",D10,D8)+IF(D15="Y",D12,0)*7/D16) -> 3444 | E18: ICU beds available each week for scenario | F18: N/A | G18: Field hospitals, private facilities and cancellation of elective admissions will only happen after surge in ICU beds.
C19: =Sens_Ward_Cap -> 0 | D19: =(IF(D15="Y",D11,D9)*7/D17)+'Sensitivity Analysis'!N10*(IF(D15="Y",D11,D9)*7/D17) -> 87173.8 | E19: Ward beds avaialable each week for scenario | F19: N/A | G19: With our without the capacity from field hospitals, private facilities and cancellation of elective admissions.
D20: =H31 -> 9.0229097 | E20: Mortality scalar if needs ICU but no beds are available | F20: 8 | G20: see "5 Excess Mortaltiy Model" sheet
D21: =H30 -> 1.9857754 | E21: Mortality scalar if needs ICU but only ward beds are available
D22: =H28 -> 3.6930496 | E22: Mortality scalar if needs ward but no beds are available
D24: Multipliers of mortality rates (scalars) under different scenarios of exceeding capacity - results of sheet "6. Excess Mortality Model"
D25: Table 0.2 - Summary of mortality scalars - see Excess Mortality Model
D26: Care required | E26: Ward Beds Available | F26: ICU Beds Available | G26: Care provided | H26: Scalar | I26: Sensitivity adjustment
D27: Ward | E27: Yes | F27: n/a | G27: Ward | H27: 1
D28: Ward | E28: No | F28: n/a | G28: None | H28: =1+('Excess Mortality Model'!X44-1)*(1+I28) -> 3.6930496 | I28: =Sens_Ward_HR -> 0
D29: ICU | E29: Yes | F29: Yes | G29: ICU | H29: 1
D30: ICU | E30: Yes | F30: No | G30: Ward | H30: =1+('Excess Mortality Model'!W40-1)*(1+I30) -> 1.9857754 | I30: =Sens_CCU_HR_CCU -> 0
D31: ICU | E31: No | F31: No | G31: None | H31: =1+('Excess Mortality Model'!X40-1)*(1+I31) -> 9.0229097 | I31: =Sens_CCU_HR_Ward -> 0
D33: Sources
D34: 1 | E34: https://www.england.nhs.uk/statistics/statistical-work-areas/critical-care-capacity/critical-care-bed-capacity-and-urgent-operations-cancelled-2019-20-data/
D35: 2 | E35: McCabe R, Schmit N, Christen P, D’Aeth JC, Løchen A, Rizmie D, et al. Adapting hospital capacity to meet changing demands during the COVID-19 pandemic. BMC Med [Internet]. 2020 Dec 16;18(1):329. Supplement 2
D36: 3 | E36: https://www.england.nhs.uk/statistics/statistical-work-areas/bed-availability-and-occupancy/bed-data-overnight/
D37: 4 | E37: https://www.england.nhs.uk/statistics/statistical-work-areas/critical-care-capacity/critical-care-bed-capacity-and-urgent-operations-cancelled-2019-20-data/
D38: 5 | E38: https://www.england.nhs.uk/statistics/statistical-work-areas/bed-availability-and-occupancy/bed-data-overnight/
D39: 6 | E39: ICNARC COVID-19 report, 18th December (https://www.icnarc.org/Our-Audit/Audits/Cmp/Reports)
D40: 7 | E40: ISARIC April 2020 (https://www.medrxiv.org/content/10.1101/2020.04.23.20076042v1.full.pdf)
D41: 8 | E41: Sivaloganathan AA, Nasim-Mohi M, Brown MM, Abdul N, Jackson A, Fletcher S V., et al. Noninvasive ventilation for COVID-19-associated acute hypoxaemic respiratory failure: experience from a single centre. Br J Anaesth. 2020;125(4):e368–71.
D42: 9 | E42: McCabe R, Schmit N, Christen P, D’Aeth JC, Løchen A, Rizmie D, et al. Adapting hospital capacity to meet changing demands during the COVID-19 pandemic. BMC Med [Internet]. 2020 Dec 16;18(1):329. Available from: https://bmcmedicine.biomedcentral.com/articles/10.1186/s12916-020-01781-w
D43: 10 | E43: Hick JL, Einav S, Hanfling D, Kissoon N, Dichter JR, Devereaux A V., et al. Surge capacity principles: Care of the critically ill and injured during pandemics and disasters: CHEST consensus statement. Chest. 2014;146:e1S-e16S.
D44: 11 | E44: NHS England. Management of surge and escalation in critical care services : standard operating procedure for adult critical care [Internet]. 2013 [cited 2020 Feb 15]. Available from: https://www.england.nhs.uk/commissioning/wp-content/uploads/sites/12/2013/11/sop-burns.pdf
...

Sheet Estimating Admissions by Age
B1: This sheet estimates the age distribution of admissions using age-binned admission rates that are interpolated to single year of age.
B3: This sheet shows how we estimated the real shape of admission by age. | M3: Table 1.1 - Estimation of age distribution by single year of age.
B4: First we fit an exponential curve to the rate data for the age ranges 18 to 85+, with the x-axis taken as the | M4: Age | N4: Admission rate per 100K | O4: Population England | P4: Population adjusted rate | Q4: % of bin | R4: Admissions | S4: Age distribution | T4: Check
B5: estimated midpoint of those intervals. The equation is then applied to each age to etimate the rate per 100K for that age (col N). | M5: 0 | N5: =$E$14 -> 33.9 | O5: 618858 | P5: =N5*O5/100000 -> 209.79286 | Q5: =P5/SUM($P$5:$P$10) -> 0.15507276 | R5: =Q5*$D$14 -> 212.75982 | S5: =R5/SUM($R$5:$R$90) -> 0.0010310329 | T5: =SUM(R23:R69) -> 68137
B6: Where the observed data is available it can be put into 5-year age bins and applied directly in column Range E44:E60. | M6: 1 | N6: =$E$14 -> 33.9 | O6: 644056 | P6: =N6*O6/100000 -> 218.33498 | Q6: =P6/SUM($P$5:$P$10) -> 0.16138684 | R6: =Q6*$D$14 -> 221.42275 | S6: =R6/SUM($R$5:$R$90) -> 0.0010730134 | T6: =$D$16 -> 68137
B7: This data was not available to us, so we estimated it by interpolating binned data. | M7: 2 | N7: =$E$14 -> 33.9 | O7: 665596 | P7: =N7*O7/100000 -> 225.63704 | Q7: =P7/SUM($P$5:$P$10) -> 0.16678431 | R7: =Q7*$D$14 -> 228.82808 | S7: =R7/SUM($R$5:$R$90) -> 0.0011088996 | T7: =T5/T6 -> 1
B8: We took admissions by age data from https://coronavirus.data.gov.uk/details/healthcare?areaType=nation&areaName=England | M8: 3 | N8: =$E$14 -> 33.9 | O8: 686135 | P8: =N8*O8/100000 -> 232.59976 | Q8: =P8/SUM($P$5:$P$10) -> 0.17193095 | R8: =Q8*$D$14 -> 235.88927 | S8: =R8/SUM($R$5:$R$90) -> 0.001143118
B9: We estimate admissions by individual age and regroup into bands that match with the deaths data | M9: 4 | N9: =$E$14 -> 33.9 | O9: 684992 | P9: =N9*O9/100000 -> 232.21229 | Q9: =P9/SUM($P$5:$P$10) -> 0.17164454 | R9: =Q9*$D$14 -> 235.49631 | S9: =R9/SUM($R$5:$R$90) -> 0.0011412138
M10: 5 | N10: =$E$14 -> 33.9 | O10: 691122 | P10: =N10*O10/100000 -> 234.29036 | Q10: =P10/SUM($P$5:$P$10) -> 0.17318059 | R10: =Q10*$D$14 -> 237.60377 | S10: =R10/SUM($R$5:$R$90) -> 0.0011514265
C11: NHS England Admissions Age Distribution | M11: 6 | N11: =$E$15 -> 17.9 | O11: 706742 | P11: =N11*O11/100000 -> 126.50682 | Q11: =P11/SUM($P$11:$P$22) -> 0.087981925 | R11: =Q11*$D$15 -> 124.49442 | S11: =R11/SUM($R$5:$R$90) -> 0.00060329927
C12: As of 22/12/20 | M12: 7 | N12: =$E$15 -> 17.9 | O12: 727938 | P12: =N12*O12/100000 -> 130.3009 | Q12: =P12/SUM($P$11:$P$22) -> 0.090620604 | R12: =Q12*$D$15 -> 128.22815 | S12: =R12/SUM($R$5:$R$90) -> 0.0006213929
C13: Age Band | D13: Number | E13: Rate | F13: Check | M13: 8 | N13: =$E$15 -> 17.9 | O13: 712204 | P13: =N13*O13/100000 -> 127.48452 | Q13: =P13/SUM($P$11:$P$22) -> 0.088661887 | R13: =Q13*$D$15 -> 125.45657 | S13: =R13/SUM($R$5:$R$90) -> 0.00060796182
C14: 0 - 5 | D14: 1372 | E14: 33.9 | F14: =SUM(R5:R10) -> 1372 | M14: 9 | N14: =$E$15 -> 17.9 | O14: 700200 | P14: =N14*O14/100000 -> 125.3358 | Q14: =P14/SUM($P$11:$P$22) -> 0.087167515 | R14: =Q14*$D$15 -> 123.34203 | S14: =R14/SUM($R$5:$R$90) -> 0.00059771479
C15: 6 -17 | D15: 1415 | E15: 17.9 | F15: =SUM(R11:R22) -> 1415 | H15: Age | I15: Rate | M15: 10 | N15: =$E$15 -> 17.9 | O15: 689733 | P15: =N15*O15/100000 -> 123.46221 | Q15: =P15/SUM($P$11:$P$22) -> 0.085864484 | R15: =Q15*$D$15 -> 121.49824 | S15: =R15/SUM($R$5:$R$90) -> 0.0005887798
C16: 18 - 64 | D16: 68137 | E16: 201.3 | F16: =SUM(R23:R69) -> 68137 | H16: =AVERAGE(18,64) -> 41 | I16: =E16 -> 201.3 | M16: 11 | N16: =$E$15 -> 17.9 | O16: 695753 | P16: =N16*O16/100000 -> 124.53979 | Q16: =P16/SUM($P$11:$P$22) -> 0.086613911 | R16: =Q16*$D$15 -> 122.55868 | S16: =R16/SUM($R$5:$R$90) -> 0.00059391868
C17: 65 - 84 | D17: 89461 | E17: 1015 | F17: =SUM(R70:R89) -> 89461 | H17: =AVERAGE(65,84) -> 74.5 | I17: =E17 -> 1015 | M17: 12 | N17: =$E$15 -> 17.9 | O17: 673789 | P17: =N17*O17/100000 -> 120.60823 | Q17: =P17/SUM($P$11:$P$22) -> 0.083879624 | R17: =Q17*$D$15 -> 118.68967 | S17: =R17/SUM($R$5:$R$90) -> 0.00057516946
C18: 85+ | D18: 45971 | E18: 3367.9 | F18: =R90 -> 45971 | H18: 88 | I18: =E18 -> 3367.9 | M18: 13 | N18: =$E$15 -> 17.9 | O18: 660928 | P18: =N18*O18/100000 -> 118.30611 | Q18: =P18/SUM($P$11:$P$22) -> 0.082278565 | R18: =Q18*$D$15 -> 116.42417 | S18: =R18/SUM($R$5:$R$90) -> 0.00056419086
C19: Total | D19: =SUM(D14:D18) -> 206356 | M19: 14 | N19: =$E$15 -> 17.9 | O19: 634043 | P19: =N19*O19/100000 -> 113.4937 | Q19: =P19/SUM($P$11:$P$22) -> 0.078931666 | R19: =Q19*$D$15 -> 111.68831 | S19: =R19/SUM($R$5:$R$90) -> 0.0005412409
C20: % 18+ | D20: =SUM(D16:D18)/D19 -> 0.98649421 | M20: 15 | N20: =$E$15 -> 17.9 | O20: 624590 | P20: =N20*O20/100000 -> 111.80161 | Q20: =P20/SUM($P$11:$P$22) -> 0.077754868 | R20: =Q20*$D$15 -> 110.02314 | S20: =R20/SUM($R$5:$R$90) -> 0.0005331715
M21: 16 | N21: =$E$15 -> 17.9 | O21: 607496 | P21: =N21*O21/100000 -> 108.74178 | Q21: =P21/SUM($P$11:$P$22) -> 0.075626845 | R21: =Q21*$D$15 -> 107.01199 | S21: =R21/SUM($R$5:$R$90) -> 0.00051857947
D22: Check | E22: Error | M22: 17 | N22: =$E$15 -> 17.9 | O22: 599393 | P22: =N22*O22/100000 -> 107.29135 | Q22: =P22/SUM($P$11:$P$22) -> 0.074618107 | R22: =Q22*$D$15 -> 105.58462 | S22: =R22/SUM($R$5:$R$90) -> 0.00051166247
D23: =SUM(R5:R90) -> 206356 | E23: =(D19-D23)/D19 -> -2.8207399e-16 | M23: 18 | N23: =16.312 * EXP(0.0573 * M23) -> 45.754998 | O23: 618873 | P23: =N23*O23/100000 -> 283.16533 | Q23: =P23/SUM($P$23:$P$69) -> 0.003740121 | R23: =Q23*$D$16 -> 254.84063 | S23: =R23/SUM($R$5:$R$90) -> 0.0012349562
M24: 19 | N24: =16.312 * EXP(0.0573 * M24) -> 48.453328 | O24: 639880 | P24: =N24*O24/100000 -> 310.04316 | Q24: =P24/SUM($P$23:$P$69) -> 0.0040951303 | R24: =Q24*$D$16 -> 279.0299 | S24: =R24/SUM($R$5:$R$90) -> 0.0013521773
M25: 20 | N25: =16.312 * EXP(0.0573 * M25) -> 51.310789 | O25: 668129 | P25: =N25*O25/100000 -> 342.82226 | Q25: =P25/SUM($P$23:$P$69) -> 0.0045280852 | R25: =Q25*$D$16 -> 308.53014 | S25: =R25/SUM($R$5:$R$90) -> 0.0014951353
M26: 21 | N26: =16.312 * EXP(0.0573 * M26) -> 54.336763 | O26: 679576 | P26: =N26*O26/100000 -> 369.2596 | Q26: =P26/SUM($P$23:$P$69) -> 0.0048772765 | R26: =Q26*$D$16 -> 332.32299 | S26: =R26/SUM($R$5:$R$90) -> 0.0016104353
M27: 22 | N27: =16.312 * EXP(0.0573 * M27) -> 57.54119 | O27: 706968 | P27: =N27*O27/100000 -> 406.7978 | Q27: =P27/SUM($P$23:$P$69) -> 0.0053730907 | R27: =Q27*$D$16 -> 366.10628 | S27: =R27/SUM($R$5:$R$90) -> 0.0017741489
M28: 23 | N28: =16.312 * EXP(0.0573 * M28) -> 60.934592 | O28: 715442 | P28: =N28*O28/100000 -> 435.95167 | Q28: =P28/SUM($P$23:$P$69) -> 0.0057581625 | R28: =Q28*$D$16 -> 392.34392 | S28: =R28/SUM($R$5:$R$90) -> 0.0019012964
M29: 24 | N29: =16.312 * EXP(0.0573 * M29) -> 64.528116 | O29: 717748 | P29: =N29*O29/100000 -> 463.14926 | Q29: =P29/SUM($P$23:$P$69) -> 0.0061173954 | R29: =Q29*$D$16 -> 416.82097 | S29: =R29/SUM($R$5:$R$90) -> 0.002019912
M30: 25 | N30: =16.312 * EXP(0.0573 * M30) -> 68.333562 | O30: 740656 | P30: =N30*O30/100000 -> 506.11663 | Q30: =P30/SUM($P$23:$P$69) -> 0.0066849195 | R30: =Q30*$D$16 -> 455.49036 | S30: =R30/SUM($R$5:$R$90) -> 0.0022073037
M31: 26 | N31: =16.312 * EXP(0.0573 * M31) -> 72.363428 | O31: 742735 | P31: =N31*O31/100000 -> 537.46851 | Q31: =P31/SUM($P$23:$P$69) -> 0.0070990233 | R31: =Q31*$D$16 -> 483.70615 | S31: =R31/SUM($R$5:$R$90) -> 0.0023440372
M32: 27 | N32: =16.312 * EXP(0.0573 * M32) -> 76.630949 | O32: 765411 | P32: =N32*O32/100000 -> 586.54172 | Q32: =P32/SUM($P$23:$P$69) -> 0.0077471949 | R32: =Q32*$D$16 -> 527.87062 | S32: =R32/SUM($R$5:$R$90) -> 0.002558058
M33: 28 | N33: =16.312 * EXP(0.0573 * M33) -> 81.150141 | O33: 782363 | P33: =N33*O33/100000 -> 634.88868 | Q33: =P33/SUM($P$23:$P$69) -> 0.0083857741 | R33: =Q33*$D$16 -> 571.38149 | S33: =R33/SUM($R$5:$R$90) -> 0.0027689115
M34: 29 | N34: =16.312 * EXP(0.0573 * M34) -> 85.935845 | O34: 770244 | P34: =N34*O34/100000 -> 661.91569 | Q34: =P34/SUM($P$23:$P$69) -> 0.0087427539 | R34: =Q34*$D$16 -> 595.70502 | S34: =R34/SUM($R$5:$R$90) -> 0.0028867832
M35: 30 | N35: =16.312 * EXP(0.0573 * M35) -> 91.003779 | O35: 762666 | P35: =N35*O35/100000 -> 694.05488 | Q35: =P35/SUM($P$23:$P$69) -> 0.0091672567 | R35: =Q35*$D$16 -> 624.62937 | S35: =R35/SUM($R$5:$R$90) -> 0.0030269504
D36: Results | M36: 31 | N36: =16.312 * EXP(0.0573 * M36) -> 96.370586 | O36: 771667 | P36: =N36*O36/100000 -> 743.66001 | Q36: =P36/SUM($P$23:$P$69) -> 0.0098224541 | R36: =Q36*$D$16 -> 669.27255 | S36: =R36/SUM($R$5:$R$90) -> 0.003243291
D37: Age | E37: Distribution | G37: Regrouped into required Age bands for ward mortality calculation | M37: 32 | N37: =16.312 * EXP(0.0573 * M37) -> 102.05389 | O37: 752937 | P37: =N37*O37/100000 -> 768.40152 | Q37: =P37/SUM($P$23:$P$69) -> 0.010149246 | R37: =Q37*$D$16 -> 691.53919 | S37: =R37/SUM($R$5:$R$90) -> 0.003351195
D38: 0-4 | E38: =SUM(R5:R9)/SUM($R$5:$R$90) -> 0.0054972777 | G38: 0 - 19 | H38: =D14+D15+SUM(R23:R24) -> 3320.8705 | I38: =H38/H$43 -> 0.01609292 | J38: % 20+ | M38: 33 | N38: =16.312 * EXP(0.0573 * M38) -> 108.07236 | O38: 760681 | P38: =N38*O38/100000 -> 822.08593 | Q38: =P38/SUM($P$23:$P$69) -> 0.010858324 | R38: =Q38*$D$16 -> 739.85362 | S38: =R38/SUM($R$5:$R$90) -> 0.0035853264
D39: 5-9 | E39: =SUM(R10:R14)/SUM($R$5:$R$90) -> 0.0035817953 | G39: 20 - 39 | H39: =SUM(R25:R44) -> 12541.699 | I39: =H39/H$43 -> 0.060777 | J39: =SUM(I39:I42) -> 0.98390708 | M39: 34 | N39: =16.312 * EXP(0.0573 * M39) -> 114.44576 | O39: 760003 | P39: =N39*O39/100000 -> 869.79124 | Q39: =P39/SUM($P$23:$P$69) -> 0.011488428 | R39: =Q39*$D$16 -> 782.78702 | S39: =R39/SUM($R$5:$R$90) -> 0.0037933814
D40: 10-14 | E40: =SUM(R15:R19)/SUM($R$5:$R$90) -> 0.0028632997 | G40: 40 - 59 | H40: =SUM(R45:R64) -> 39130.608 | I40: =H40/H$43 -> 0.18962671 | M40: 35 | N40: =16.312 * EXP(0.0573 * M40) -> 121.19503 | O40: 741443 | P40: =N40*O40/100000 -> 898.59204 | Q40: =P40/SUM($P$23:$P$69) -> 0.011868836 | R40: =Q40*$D$16 -> 808.7069 | S40: =R40/SUM($R$5:$R$90) -> 0.0039189891
D41: 15-19 | E41: =SUM(R20:R24)/SUM($R$5:$R$90) -> 0.0041505469 | G41: 60 - 79 | H41: =SUM(R65:R84) -> 82630.605 | I41: =H41/H$43 -> 0.40042744 | M41: 36 | N41: =16.312 * EXP(0.0573 * M41) -> 128.34232 | O41: 746952 | P41: =N41*O41/100000 -> 958.65549 | Q41: =P41/SUM($P$23:$P$69) -> 0.01266217 | R41: =Q41*$D$16 -> 862.76228 | S41: =R41/SUM($R$5:$R$90) -> 0.0041809411
...

Sheet Scenarios
B1: This sheets calculates the scenario projections of admission demand on a weekly basis in a 'middling', 'pessimistic' and 'optimistic' scenario.
B2: This sheet projects three scenarios forward from observed data up to the 9th December.
B4: Scenarios
C5: Optimistic | D5: Middling | E5: Pessimistic | F5: Historical | G5: Multiplier values projected | X5: 44104 | Y5: 2833
B6: 44104 | C6: 2927 | D6: 2927 | E6: 2927 | F6: 2833 | G6: Optimistic | H6: Middling | I6: Pessimistic | X6: 44111 | Y6: 4242
B7: 44111 | C7: 4119 | D7: 4119 | E7: 4119 | F7: 4242 | G7: =C7/C6 -> 1.4072429 | H7: =D7/D6 -> 1.4072429 | I7: =E7/E6 -> 1.4072429 | X7: 44118 | Y7: 5843
B8: 44118 | C8: 5571 | D8: 5571 | E8: 5571 | F8: 5843 | G8: =C8/C7 -> 1.3525127 | H8: =D8/D7 -> 1.3525127 | I8: =E8/E7 -> 1.3525127 | X8: 44125 | Y8: 7600
B9: 44125 | C9: 7626 | D9: 7626 | E9: 7626 | F9: 7600 | G9: =C9/C8 -> 1.3688745 | H9: =D9/D8 -> 1.3688745 | I9: =E9/E8 -> 1.3688745 | X9: 44132 | Y9: 9743
B10: 44132 | C10: 8790 | D10: 8790 | E10: 8790 | F10: 9743 | G10: =C10/C9 -> 1.1526357 | H10: =D10/D9 -> 1.1526357 | I10: =E10/E9 -> 1.1526357 | X10: 44139 | Y10: 10660
B11: 44139 | C11: 9860 | D11: 9860 | E11: 9860 | F11: 10660 | G11: =C11/C10 -> 1.1217292 | H11: =D11/D10 -> 1.1217292 | I11: =E11/E10 -> 1.1217292 | M11: Linear projection of current increase in R | X11: 44146 | Y11: 11820
B12: 44146 | C12: 10716 | D12: 10716 | E12: 10716 | F12: 11820 | G12: =C12/C11 -> 1.0868154 | H12: =D12/D11 -> 1.0868154 | I12: =E12/E11 -> 1.0868154 | M12: {=LINEST(G14:G16,B14:B16)} -> 0.022803246 | N12: -1006.0911 | X12: 44153 | Y12: 12109
B13: 44153 | C13: 9621 | D13: 9621 | E13: 9621 | F13: 12109 | G13: =C13/C12 -> 0.89781635 | H13: =D13/D12 -> 0.89781635 | I13: =E13/E12 -> 0.89781635 | X13: 44160 | Y13: 10873
B14: 44160 | C14: 8435 | D14: 8435 | E14: 8435 | F14: 10873 | G14: =C14/C13 -> 0.87672799 | H14: =D14/D13 -> 0.87672799 | I14: =E14/E13 -> 0.87672799 | X14: 44167 | Y14: 9685
B15: 44167 | C15: 9338 | D15: 9338 | E15: 9338 | F15: 9685 | G15: =C15/C14 -> 1.1070539 | H15: =D15/D14 -> 1.1070539 | I15: =E15/E14 -> 1.1070539 | X15: 44174 | Y15: 10981
B16: 44174 | C16: 11168 | D16: 11168 | E16: 11168 | F16: 10981 | G16: =C16/C15 -> 1.1959734 | H16: =D16/D15 -> 1.1959734 | I16: =E16/E15 -> 1.1959734
B17: 44181 | C17: 11244 | D17: 11244 | E17: 11244 | F17: 12979 | G17: =$N$12+$M$12*$B17 -> 1.3791639 | H17: =$N$12+$M$12*$B17 -> 1.3791639 | I17: =$N$12+$M$12*$B17 -> 1.3791639
B18: 44188 | C18: =C17*G17 -> 15507.319 | D18: =D17*H17 -> 15507.319 | E18: =E17*I17 -> 15507.319 | F18: 15393 | G18: 1.2 | H18: =$N$12+$M$12*$B18 -> 1.5387866 | I18: =$N$12+$M$12*$B18 -> 1.5387866
B19: 44195 | C19: =C18*G18 -> 18608.783 | D19: =D18*H18 -> 23862.455 | E19: =E18*I18 -> 23862.455 | F19: 19322 | G19: 1 | H19: =$N$12+$M$12*$B19 -> 1.6984094 | I19: =$N$12+$M$12*$B19 -> 1.6984094
B20: 44202 | C20: =C19*G19 -> 18608.783 | D20: =D19*H19 -> 40528.217 | E20: =E19*I19 -> 40528.217 | F20: 25818 | G20: 0.8 | H20: =G18 -> 1.2 | I20: =$N$12+$M$12*$B20 -> 1.8580321
B21: 44209 | C21: =C20*G20 -> 14887.026 | D21: =D20*H20 -> 48633.861 | E21: =E20*I20 -> 75302.728 | F21: 29447 | G21: 0.8 | H21: =G19 -> 1 | I21: =H19 -> 1.6984094
B22: 44216 | C22: =C21*G21 -> 11909.621 | D22: =D21*H21 -> 48633.861 | E22: =E21*I21 -> 127894.86 | F22: 27734 | G22: 0.8 | H22: =G20 -> 0.8 | I22: =H20 -> 1.2
B23: 44223 | C23: =C22*G22 -> 9527.6968 | D23: =D22*H22 -> 38907.089 | E23: =E22*I22 -> 153473.83 | F23: 22365 | G23: 0.8 | H23: =G21 -> 0.8 | I23: =H21 -> 1
B24: 44230 | C24: =C23*G23 -> 7622.1574 | D24: =D23*H23 -> 31125.671 | E24: =E23*I23 -> 153473.83 | F24: 18010 | G24: 0.8 | H24: =G22 -> 0.8 | I24: =H22 -> 0.8
B25: 44237 | C25: =C24*G24 -> 6097.7259 | D25: =D24*H24 -> 24900.537 | E25: =E24*I24 -> 122779.06 | F25: =F24*H25 -> 14408 | G25: 0.8 | H25: =G23 -> 0.8 | I25: =H23 -> 0.8
B26: 44244 | C26: =C25*G25 -> 4878.1808 | D26: =D25*H25 -> 19920.429 | E26: =E25*I25 -> 98223.251 | F26: =F25*H26 -> 11526.4 | G26: 0.8 | H26: =G24 -> 0.8 | I26: =H24 -> 0.8
B27: 44251 | C27: =C26*G26 -> 3902.5446 | D27: =D26*H26 -> 15936.343 | E27: =E26*I26 -> 78578.601 | F27: =F26*H27 -> 9221.12 | G27: 0.7 | H27: =G25 -> 0.8 | I27: =H25 -> 0.8
B28: 44258 | C28: =C27*G27 -> 2731.7812 | D28: =D27*H27 -> 12749.075 | E28: =E27*I27 -> 62862.881 | F28: =F27*H28 -> 7376.896 | G28: 0.7 | H28: =G26 -> 0.8 | I28: =H26 -> 0.8
B29: 44265 | C29: =C28*G28 -> 1912.2469 | D29: =D28*H28 -> 10199.26 | E29: =E28*I28 -> 50290.305 | F29: =F28*H29 -> 5163.8272 | G29: 0.7 | H29: =G27 -> 0.7 | I29: =H27 -> 0.8
B30: 44272 | C30: =C29*G29 -> 1338.5728 | D30: =D29*H29 -> 7139.4819 | E30: =E29*I29 -> 40232.244 | F30: =F29*H30 -> 3614.679 | G30: 0.7 | H30: =G28 -> 0.7 | I30: =H28 -> 0.8
B31: 44279 | C31: =C30*G30 -> 937.00096 | D31: =D30*H30 -> 4997.6373 | E31: =E30*I30 -> 32185.795 | F31: =F30*H31 -> 2530.2753 | G31: 0.7 | H31: =G29 -> 0.7 | I31: =H29 -> 0.7
B32: 44286 | C32: =C31*G31 -> 655.90067 | D32: =D31*H31 -> 3498.3461 | E32: =E31*I31 -> 22530.056 | F32: =F31*H32 -> 1771.1927 | G32: 0.7 | H32: =G30 -> 0.7 | I32: =H30 -> 0.7
B33: 44293 | C33: =C32*G32 -> 459.13047 | D33: =D32*H32 -> 2448.8423 | E33: =E32*I32 -> 15771.04 | F33: =F32*H33 -> 1239.8349 | G33: 0.7 | H33: =G31 -> 0.7 | I33: =H31 -> 0.7
B34: 44300 | C34: =C33*G33 -> 321.39133 | D34: =D33*H33 -> 1714.1896 | E34: =E33*I33 -> 11039.728 | F34: =F33*H34 -> 867.88444 | G34: 0.7 | H34: =G32 -> 0.7 | I34: =H32 -> 0.7
B35: 44307 | C35: =C34*G34 -> 224.97393 | D35: =D34*H34 -> 1199.9327 | E35: =E34*I34 -> 7727.8094 | F35: =F34*H35 -> 607.51911 | G35: 0.7 | H35: =G33 -> 0.7 | I35: =H33 -> 0.7
B36: 44314 | C36: =C35*G35 -> 157.48175 | D36: =D35*H35 -> 839.9529 | E36: =E35*I35 -> 5409.4666 | F36: =F35*H36 -> 425.26337 | G36: 0.7 | H36: =G34 -> 0.7 | I36: =H34 -> 0.7
C40: Input data
C41: Data on admissions from the GOV.UK Coronavirus dashboard. https://coronavirus.data.gov.uk/details/healthcare?areaType=nation&areaName=England
C44: Assumptions
C49: Output
C50: Three scenarios projecting admission rates in columns G, H and I.

Sheet Sensitivity Analysis
B1: Sensitivity analysis of Exceeding Capacity model
B3: Scenario | C3: Ward availability | D3: ICU availability | E3: No ward HR | F3: No ICU HR | G3: No ICU or Ward HR | H3: Unlimited capacity deaths | I3: Excess deaths due to capacity breach | J3: Total deaths | K3: % increase in deaths | M3: Unlimited capacity deaths | N3: Outside capacity deaths | O3: Scenario | Q3: Adjustment choices
B4: Middling | C4: -0.2 | D4: 0% | E4: 0% | F4: 0% | G4: 0% | H4: 91096.104 | I4: 154.44259 | J4: =I4+H4 -> 91250.546 | K4: =J4/H4-1 -> 0.0016953808 | M4: ='Deaths - In capacity'!F38 -> 63293.267 | N4: ='Deaths - outside capacity'!M42 -> 0 | O4: Historical | Q4: -0.2
B5: Middling | C5: 0% | D5: 0% | E5: 0% | F5: 0% | G5: 0% | H5: 91096.104 | I5: 154.44259 | J5: =I5+H5 -> 91250.546 | K5: =J5/H5-1 -> 0.0016953808 | Q5: 0
B6: Middling | C6: 0.2 | D6: 0% | E6: 0% | F6: 0% | G6: 0% | H6: 91096.104 | I6: 154.44259 | J6: =I6+H6 -> 91250.546 | K6: =J6/H6-1 -> 0.0016953808 | Q6: 0.2
B7: Middling | C7: 0% | D7: -0.2 | E7: 0% | F7: 0% | G7: 0% | H7: 91096.104 | I7: 597.21254 | J7: =I7+H7 -> 91693.316 | K7: =J7/H7-1 -> 0.0065558516
B8: Middling | C8: 0% | D8: 0.2 | E8: 0% | F8: 0% | G8: 0% | H8: 91096.104 | I8: 0 | J8: =I8+H8 -> 91096.104 | K8: =J8/H8-1 -> 0 | N8: Adjustment
B9: Middling | C9: 0% | D9: 0% | E9: -0.2 | F9: 0% | G9: 0% | H9: 91096.104 | I9: 154.44259 | J9: =I9+H9 -> 91250.546 | K9: =J9/H9-1 -> 0.0016953808 | M9: ICU capacity | N9: 0
B10: Middling | C10: 0% | D10: 0% | E10: 0.2 | F10: 0% | G10: 0% | H10: 91096.104 | I10: 154.44259 | J10: =I10+H10 -> 91250.546 | K10: =J10/H10-1 -> 0.0016953808 | M10: Ward capacity | N10: 0
B11: Middling | C11: 0% | D11: 0% | E11: 0% | F11: -0.2 | G11: 0% | H11: 91096.104 | I11: 130.04378 | J11: =I11+H11 -> 91226.147 | K11: =J11/H11-1 -> 0.0014275449 | M11: No ward HR | N11: 0 | T11: =R17 & CHAR(10) & "Scenario: " & R16 -> No ICU or Ward HR Scenario: Historical
B12: Middling | C12: 0% | D12: 0% | E12: 0% | F12: 0.2 | G12: 0% | H12: 91096.104 | I12: 176.38481 | J12: =I12+H12 -> 91272.488 | K12: =J12/H12-1 -> 0.0019362497 | M12: No ICU HR | N12: 0
B13: Middling | C13: 0% | D13: 0% | E13: 0% | F13: 0% | G13: -0.2 | H13: 91096.104 | I13: 154.44259 | J13: =I13+H13 -> 91250.546 | K13: =J13/H13-1 -> 0.0016953808 | M13: No ICU or Ward HR | N13: 0
B14: Middling | C14: 0% | D14: 0% | E14: 0% | F14: 0% | G14: 0.2 | H14: 91096.104 | I14: 154.44259 | J14: =I14+H14 -> 91250.546 | K14: =J14/H14-1 -> 0.0016953808
B15: Optimistic | C15: 0% | D15: 0% | E15: 0% | F15: 0% | G15: 0% | H15: 42925.146 | I15: 0 | J15: =I15+H15 -> 42925.146 | K15: =J15/H15-1 -> 0
B16: Pessimistic | C16: -0.2 | D16: 0% | E16: 0% | F16: 0% | G16: 0% | H16: 253755.58 | I16: 103844.69 | J16: =I16+H16 -> 357600.28 | K16: =J16/H16-1 -> 0.40923116 | Q16: Scenario | R16: =Scenario -> Historical
B17: Pessimistic | C17: 0% | D17: 0% | E17: 0% | F17: 0% | G17: 0% | H17: 253755.58 | I17: 73782.746 | J17: =I17+H17 -> 327538.33 | K17: =J17/H17-1 -> 0.29076304 | Q17: Variable | R17: No ICU or Ward HR
B18: Pessimistic | C18: 0.2 | D18: 0% | E18: 0% | F18: 0% | G18: 0% | H18: 253755.58 | I18: 49219.003 | J18: =I18+H18 -> 302974.59 | K18: =J18/H18-1 -> 0.19396225 | Q18: -0.2 | R18: =IFERROR(OFFSET($I$3,MATCH($R$16,$B$4:$B$26,0)+MATCH($Q18,OFFSET($B$3,MATCH($R$16,$B$4:$B$26,0),MATCH($R$17,$C$3:$G$3,0),COUNTIF(B4:B26,$R$16)),0)-1,0),0) -> 0
B19: Pessimistic | C19: 0% | D19: -0.2 | E19: 0% | F19: 0% | G19: 0% | H19: 253755.58 | I19: 76454.139 | J19: =I19+H19 -> 330209.72 | K19: =J19/H19-1 -> 0.30129047 | Q19: 0% | R19: =IF(Scenario="Optimistic",I15,IF(Scenario="Middling",I5,I17)) -> 73782.746
B20: Pessimistic | C20: 0% | D20: 0.2 | E20: 0% | F20: 0% | G20: 0% | H20: 253755.58 | I20: 71325.256 | J20: =I20+H20 -> 325080.84 | K20: =J20/H20-1 -> 0.28107857 | Q20: 0.2 | R20: =IFERROR(OFFSET($I$3, MATCH($R$16, $B$4:$B$26, 0)+MATCH($Q20, OFFSET($B$3, MATCH($R$16, $B$4:$B$26, 0), MATCH($R$17, $C$3:$G$3, 0), COUNTIF(B4:B26, $R$16)), 0)-1, 0), 0) -> 0
B21: Pessimistic | C21: 0% | D21: 0% | E21: -0.2 | F21: 0% | G21: 0% | H21: 253755.58 | I21: 65911.822 | J21: =I21+H21 -> 319667.41 | K21: =J21/H21-1 -> 0.25974531
B22: Pessimistic | C22: 0% | D22: 0% | E22: 0.2 | F22: 0% | G22: 0% | H22: 253755.58 | I22: 80661.956 | J22: =I22+H22 -> 334417.54 | K22: =J22/H22-1 -> 0.31787263
B23: Pessimistic | C23: 0% | D23: 0% | E23: 0% | F23: -0.2 | G23: 0% | H23: 253755.58 | I23: 73543.679 | J23: =I23+H23 -> 327299.26 | K23: =J23/H23-1 -> 0.28982093
B24: Pessimistic | C24: 0% | D24: 0% | E24: 0% | F24: 0.2 | G24: 0% | H24: 253755.58 | I24: 73997.744 | J24: =I24+H24 -> 327753.33 | K24: =J24/H24-1 -> 0.29161031
B25: Pessimistic | C25: 0% | D25: 0% | E25: 0% | F25: 0% | G25: -0.2 | H25: 253755.58 | I25: 73014.635 | J25: =I25+H25 -> 326770.22 | K25: =J25/H25-1 -> 0.28773607
B26: Pessimistic | C26: 0% | D26: 0% | E26: 0% | F26: 0% | G26: 0.2 | H26: 253755.58 | I26: 74268.812 | J26: =I26+H26 -> 328024.4 | K26: =J26/H26-1 -> 0.29267853
B27: Historical | C27: 0% | D27: 0% | E27: 0% | F27: 0% | G27: 0% | H27: 63293.267 | I27: 0 | J27: =I27+H27 -> 63293.267 | K27: =J27/H27-1 -> 0

Sheet New patients in hospital
B1: Calculating the estimated number of hospitalised patients in each age group of each week
A3: Table 2.1 - Estimated hospitalised patients per week and age group.
A4: Week commencing | B4: Region | C4: Value | D4: 0-4 | E4: 5-9 | F4: 10-14 | G4: 15-19 | H4: 20-24 | I4: 25-29 | J4: 30-34 | K4: 35-39 | L4: 40-44 | M4: 45-49 | N4: 50-54 | O4: 55-59 | P4: 60-64 | Q4: 65-69 | R4: 70-74 | S4: 75-79 | T4: 80+
A5: 44104 | B5: England | C5: {=IF(Scenario="Optimistic",Scenarios!$C$6:$C$36,IF(Scenario="Middling",Scenarios!$D$6:$D$36,IF(Scenario="Pessimistic",Scenarios!$E$6:$E$36,Scenarios!$F$6:$F$36)))} -> 2833 | D5: =$C5*D$38 -> 15.573788 | E5: =$C5*E$38 -> 10.147226 | F5: =$C5*F$38 -> 8.1117281 | G5: =$C5*G$38 -> 11.758499 | H5: =$C5*H$38 -> 24.933029 | I5: =$C5*I$38 -> 36.16351 | J5: =$C5*J$38 -> 48.161408 | K5: =$C5*K$38 -> 62.923292 | ... T5: =$C5*T$38 -> 943.60413
A6: 44111 | B6: England | C6: 4242 | D6: =$C6*D$38 -> 23.319452 | E6: =$C6*E$38 -> 15.193976 | F6: =$C6*F$38 -> 12.146117 | G6: =$C6*G$38 -> 17.60662 | H6: =$C6*H$38 -> 37.333537 | I6: =$C6*I$38 -> 54.149527 | J6: =$C6*J$38 -> 72.114612 | K6: =$C6*K$38 -> 94.218357 | ... T6: =$C6*T$38 -> 1412.9081 | V6: Column C holds the scenario weekly hospitalisation numbers. Using the age-distribution and the COVID admissions in the scenario we have calculated the number of admissions to hospital in each age group.
A7: 44118 | B7: England | C7: 5843 | D7: =$C7*D$38 -> 32.120593 | E7: =$C7*E$38 -> 20.92843 | F7: =$C7*F$38 -> 16.73026 | G7: =$C7*G$38 -> 24.251646 | H7: =$C7*H$38 -> 51.423822 | I7: =$C7*I$38 -> 74.586442 | J7: =$C7*J$38 -> 99.331842 | K7: =$C7*K$38 -> 129.7779 | ... T7: =$C7*T$38 -> 1946.1627
A8: 44125 | B8: England | C8: 7600 | D8: =$C8*D$38 -> 41.77931 | E8: =$C8*E$38 -> 27.221644 | F8: =$C8*F$38 -> 21.761078 | G8: =$C8*G$38 -> 31.544157 | H8: =$C8*H$38 -> 66.887053 | I8: =$C8*I$38 -> 97.014711 | J8: =$C8*J$38 -> 129.2011 | K8: =$C8*K$38 -> 168.80234 | ... T8: =$C8*T$38 -> 2531.3771
A9: 44132 | B9: England | C9: 9743 | D9: =$C9*D$38 -> 53.559976 | E9: =$C9*E$38 -> 34.897432 | F9: =$C9*F$38 -> 27.897129 | G9: =$C9*G$38 -> 40.438779 | H9: =$C9*H$38 -> 85.747441 | I9: =$C9*I$38 -> 124.37031 | J9: =$C9*J$38 -> 165.6324 | K9: =$C9*K$38 -> 216.40015 | ... T9: =$C9*T$38 -> 3245.1589
A10: 44139 | B10: England | C10: 10660 | D10: =$C10*D$38 -> 58.60098 | E10: =$C10*E$38 -> 38.181938 | F10: =$C10*F$38 -> 30.522775 | G10: =$C10*G$38 -> 44.24483 | H10: =$C10*H$38 -> 93.817892 | I10: =$C10*I$38 -> 136.0759 | J10: =$C10*J$38 -> 181.22154 | K10: =$C10*K$38 -> 236.76749 | ... T10: =$C10*T$38 -> 3550.5895
A11: 44146 | B11: England | C11: 11820 | D11: =$C11*D$38 -> 64.977822 | E11: =$C11*E$38 -> 42.33682 | F11: =$C11*F$38 -> 33.844203 | G11: =$C11*G$38 -> 49.059465 | H11: =$C11*H$38 -> 104.02697 | I11: =$C11*I$38 -> 150.88341 | J11: =$C11*J$38 -> 200.9417 | K11: =$C11*K$38 -> 262.53206 | ... T11: =$C11*T$38 -> 3936.9576
A12: 44153 | B12: England | C12: 12109 | D12: =$C12*D$38 -> 66.566535 | E12: =$C12*E$38 -> 43.371959 | F12: =$C12*F$38 -> 34.671696 | G12: =$C12*G$38 -> 50.258973 | H12: =$C12*H$38 -> 106.57044 | I12: =$C12*I$38 -> 154.57252 | J12: =$C12*J$38 -> 205.85475 | K12: =$C12*K$38 -> 268.95099 | ... T12: =$C12*T$38 -> 4033.2165
A13: 44160 | B13: England | C13: 10873 | D13: =$C13*D$38 -> 59.7719 | E13: =$C13*E$38 -> 38.94486 | F13: =$C13*F$38 -> 31.132658 | G13: =$C13*G$38 -> 45.128897 | H13: =$C13*H$38 -> 95.69249 | I13: =$C13*I$38 -> 138.79486 | J13: =$C13*J$38 -> 184.84257 | K13: =$C13*K$38 -> 241.4984 | ... T13: =$C13*T$38 -> 3621.5347
A14: 44167 | B14: England | C14: 9685 | D14: =$C14*D$38 -> 53.241134 | E14: =$C14*E$38 -> 34.689688 | F14: =$C14*F$38 -> 27.731058 | G14: =$C14*G$38 -> 40.198047 | H14: =$C14*H$38 -> 85.236988 | I14: =$C14*I$38 -> 123.62993 | J14: =$C14*J$38 -> 164.6464 | K14: =$C14*K$38 -> 215.11193 | ... T14: =$C14*T$38 -> 3225.8404
A15: 44174 | B15: England | C15: 10981 | D15: =$C15*D$38 -> 60.365606 | E15: =$C15*E$38 -> 39.331694 | F15: =$C15*F$38 -> 31.441894 | G15: =$C15*G$38 -> 45.577156 | H15: =$C15*H$38 -> 96.64299 | I15: =$C15*I$38 -> 140.17349 | J15: =$C15*J$38 -> 186.67858 | K15: =$C15*K$38 -> 243.89717 | ... T15: =$C15*T$38 -> 3657.5069
A16: 44181 | B16: England | C16: 12979 | D16: =$C16*D$38 -> 71.349167 | E16: =$C16*E$38 -> 46.488121 | F16: =$C16*F$38 -> 37.162767 | G16: =$C16*G$38 -> 53.869949 | H16: =$C16*H$38 -> 114.22724 | I16: =$C16*I$38 -> 165.67815 | J16: =$C16*J$38 -> 220.64487 | K16: =$C16*K$38 -> 288.27441 | ... T16: =$C16*T$38 -> 4322.9926
A17: 44188 | B17: England | C17: 15393 | D17: =$C17*D$38 -> 84.619595 | E17: =$C17*E$38 -> 55.134575 | F17: =$C17*F$38 -> 44.074772 | G17: =$C17*G$38 -> 63.889369 | H17: =$C17*H$38 -> 135.47268 | I17: =$C17*I$38 -> 196.49308 | J17: =$C17*J$38 -> 261.68322 | K17: =$C17*K$38 -> 341.89137 | ... T17: =$C17*T$38 -> 5127.0379
A18: 44195 | B18: England | C18: 19322 | D18: =$C18*D$38 -> 106.2184 | E18: =$C18*E$38 -> 69.207449 | F18: =$C18*F$38 -> 55.324677 | G18: =$C18*G$38 -> 80.196868 | H18: =$C18*H$38 -> 170.05153 | I18: =$C18*I$38 -> 246.64714 | J18: =$C18*J$38 -> 328.47679 | K18: =$C18*K$38 -> 429.15773 | ... T18: =$C18*T$38 -> 6435.6932
... A35: 44314 | B35: England | C35: 425.26337 | D35: =$C35*D$38 -> 2.3377908 | E35: =$C35*E$38 -> 1.5232064 | F35: =$C35*F$38 -> 1.2176565 | G35: =$C35*G$38 -> 1.7650756 | H35: =$C35*H$38 -> 3.7427123 | I35: =$C35*I$38 -> 5.4285268 | J35: =$C35*J$38 -> 7.2295387 | K35: =$C35*K$38 -> 9.4454542 | ... T35: =$C35*T$38 -> 141.645
C37: Region | D37: 0-4 | E37: 5-9 | F37: 10-14 | G37: 15-19 | H37: 20-24 | I37: 25-29 | J37: 30-34 | K37: 35-39 | L37: 40-44 | M37: 45-49 | N37: 50-54 | O37: 55-59 | P37: 60-64 | Q37: 65-69 | R37: 70-74 | S37: 75-79 | T37: 80+
C38: UK | D38: {=TRANSPOSE(adm_AgeDist)} -> 0.0054972777 | E38: 0.0035817953 | F38: 0.0028632997 | G38: 0.0041505469 | H38: 0.008800928 | I38: 0.012765094 | J38: 0.017000144 | K38: 0.022210834 | L38: 0.027010475 | M38: 0.039298343 | N38: 0.054908516 | O38: 0.068409371 | P38: 0.077200675 | Q38: 0.091411955 | R38: 0.12034448 | S38: 0.11147033 | T38: 0.33307594
C40: Input data
C41: C4:C34. Observed number of admissions up to the 9th December 2020, then one three hypothetical projections for the number of admissions to the week beginning the 28th April 2021 from sheet "12 Scenarios".
C42: D37:T37. Estimated distribution of admissions by 5-year age bands. See sheet "1 Estimating Admissions by Age" range E44:E61.
C44: Output
C45: Counts of expected admissions by 5-year age bins for each calendar week between the week beginning 30th September 20 and 28th April 21

Sheet Hospital beds occupied non-ICU
A1: Week commencing | B1: Region | C1: Value | D1: 0-4 | E1: 5-9 | F1: 10-14 | G1: 15-19 | H1: 20-24 | I1: 25-29 | J1: 30-34 | K1: 35-39 | L1: 40-44 | M1: 45-49 | N1: 50-54 | O1: 55-59 | P1: 60-64 | Q1: 65-69 | R1: 70-74 | S1: 75-79 | T1: 80+
A2: 44104 | B2: UK | C2: 5076 | D2: =$C2*D$35 -> 4.5684 | E2: =$C2*E$35 -> 6.5988 | F2: =$C2*F$35 -> 11.6748 | G2: =$C2*G$35 -> 23.8572 | H2: =$C2*H$35 -> 47.2068 | I2: =$C2*I$35 -> 101.0124 | J2: =$C2*J$35 -> 156.3408 | K2: =$C2*K$35 -> 251.7696 | ... T2: =$C2*T$35 -> 476.6364
A3: 44111 | B3: UK | C3: 6649 | D3: =$C3*D$35 -> 5.9841 | E3: =$C3*E$35 -> 8.6437 | F3: =$C3*F$35 -> 15.2927 | G3: =$C3*G$35 -> 31.2503 | H3: =$C3*H$35 -> 61.8357 | I3: =$C3*I$35 -> 132.3151 | J3: =$C3*J$35 -> 204.7892 | K3: =$C3*K$35 -> 329.7904 | ... T3: =$C3*T$35 -> 624.3411
A4: 44118 | B4: UK | C4: 8544 | D4: =$C4*D$35 -> 7.6896 | E4: =$C4*E$35 -> 11.1072 | F4: =$C4*F$35 -> 19.6512 | G4: =$C4*G$35 -> 40.1568 | H4: =$C4*H$35 -> 79.4592 | I4: =$C4*I$35 -> 170.0256 | J4: =$C4*J$35 -> 263.1552 | K4: =$C4*K$35 -> 423.7824 | ... T4: =$C4*T$35 -> 802.2816
A5: 44125 | B5: UK | C5: 10681 | D5: =$C5*D$35 -> 9.6129 | E5: =$C5*E$35 -> 13.8853 | F5: =$C5*F$35 -> 24.5663 | G5: =$C5*G$35 -> 50.2007 | H5: =$C5*H$35 -> 99.3333 | I5: =$C5*I$35 -> 212.5519 | J5: =$C5*J$35 -> 328.9748 | K5: =$C5*K$35 -> 529.7776 | ... T5: =$C5*T$35 -> 1002.9459
A6: 44132 | B6: UK | C6: 12940 | D6: =$C6*D$35 -> 11.646 | E6: =$C6*E$35 -> 16.822 | F6: =$C6*F$35 -> 29.762 | G6: =$C6*G$35 -> 60.818 | H6: =$C6*H$35 -> 120.342 | I6: =$C6*I$35 -> 257.506 | J6: =$C6*J$35 -> 398.552 | K6: =$C6*K$35 -> 641.824 | ... T6: =$C6*T$35 -> 1215.066
A7: 44139 | B7: UK | C7: 15186 | D7: =$C7*D$35 -> 13.6674 | E7: =$C7*E$35 -> 19.7418 | F7: =$C7*F$35 -> 34.9278 | G7: =$C7*G$35 -> 71.3742 | H7: =$C7*H$35 -> 141.2298 | I7: =$C7*I$35 -> 302.2014 | J7: =$C7*J$35 -> 467.7288 | K7: =$C7*K$35 -> 753.2256 | ... T7: =$C7*T$35 -> 1425.9654
A8: 44146 | B8: UK | C8: 17282 | D8: =$C8*D$35 -> 15.5538 | E8: =$C8*E$35 -> 22.4666 | F8: =$C8*F$35 -> 39.7486 | G8: =$C8*G$35 -> 81.2254 | H8: =$C8*H$35 -> 160.7226 | I8: =$C8*I$35 -> 343.9118 | J8: =$C8*J$35 -> 532.2856 | K8: =$C8*K$35 -> 857.1872 | ... T8: =$C8*T$35 -> 1622.7798
A9: 44153 | B9: UK | C9: 19147 | D9: =$C9*D$35 -> 17.2323 | E9: =$C9*E$35 -> 24.8911 | F9: =$C9*F$35 -> 44.0381 | G9: =$C9*G$35 -> 89.9909 | H9: =$C9*H$35 -> 178.0671 | I9: =$C9*I$35 -> 381.0253 | J9: =$C9*J$35 -> 589.7276 | K9: =$C9*K$35 -> 949.6912 | ... T9: =$C9*T$35 -> 1797.9033
A10: 44160 | B10: UK | C10: 20714 | D10: =$C10*D$35 -> 18.6426 | E10: =$C10*E$35 -> 26.9282 | F10: =$C10*F$35 -> 47.6422 | G10: =$C10*G$35 -> 97.3558 | H10: =$C10*H$35 -> 192.6402 | I10: =$C10*I$35 -> 412.2086 | J10: =$C10*J$35 -> 637.9912 | K10: =$C10*K$35 -> 1027.4144 | ... T10: =$C10*T$35 -> 1945.0446
A11: 44167 | B11: UK | C11: 21960 | D11: =$C11*D$35 -> 19.764 | E11: =$C11*E$35 -> 28.548 | F11: =$C11*F$35 -> 50.508 | G11: =$C11*G$35 -> 103.212 | H11: =$C11*H$35 -> 204.228 | I11: =$C11*I$35 -> 437.004 | J11: =$C11*J$35 -> 676.368 | K11: =$C11*K$35 -> 1089.216 | ... T11: =$C11*T$35 -> 2062.044
A12: 44174 | B12: UK | C12: 22914 | D12: =$C12*D$35 -> 20.6226 | E12: =$C12*E$35 -> 29.7882 | F12: =$C12*F$35 -> 52.7022 | G12: =$C12*G$35 -> 107.6958 | H12: =$C12*H$35 -> 213.1002 | I12: =$C12*I$35 -> 455.9886 | J12: =$C12*J$35 -> 705.7512 | K12: =$C12*K$35 -> 1136.5344 | ... T12: =$C12*T$35 -> 2151.6246
A13: 44181 | B13: UK | C13: 23582 | D13: =$C13*D$35 -> 21.2238 | E13: =$C13*E$35 -> 30.6566 | F13: =$C13*F$35 -> 54.2386 | G13: =$C13*G$35 -> 110.8354 | H13: =$C13*H$35 -> 219.3126 | I13: =$C13*I$35 -> 469.2818 | J13: =$C13*J$35 -> 726.3256 | K13: =$C13*K$35 -> 1169.6672 | ... T13: =$C13*T$35 -> 2214.3498
... A32: 44314 | B32: UK | C32: 10570 | D32: =$C32*D$35 -> 9.513 | E32: =$C32*E$35 -> 13.741 | F32: =$C32*F$35 -> 24.311 | G32: =$C32*G$35 -> 49.679 | H32: =$C32*H$35 -> 98.301 | I32: =$C32*I$35 -> 210.343 | J32: =$C32*J$35 -> 325.556 | K32: =$C32*K$35 -> 524.272 | ... T32: =$C32*T$35 -> 992.523
C34: Region | D34: 0-4 | E34: 5-9 | F34: 10-14 | G34: 15-19 | H34: 20-24 | I34: 25-29 | J34: 30-34 | K34: 35-39 | L34: 40-44 | M34: 45-49 | N34: 50-54 | O34: 55-59 | P34: 60-64 | Q34: 65-69 | R34: 70-74 | S34: 75-79 | T34: 80+
C35: UK | D35: 0.0009 | E35: 0.0013 | F35: 0.0023 | G35: 0.0047 | H35: 0.0093 | I35: 0.0199 | J35: 0.0308 | K35: 0.0496 | L35: 0.0612 | M35: 0.0874 | N35: 0.1126 | O35: 0.1218 | P35: 0.1293 | Q35: 0.1126 | R35: 0.0926 | S35: 0.0697 | T35: 0.0939

Sheet ICU beds occupied
A1: Week commencing | B1: Region | C1: Value | D1: 0-4 | E1: 5-9 | F1: 10-14 | G1: 15-19 | H1: 20-24 | I1: 25-29 | J1: 30-34 | K1: 35-39 | L1: 40-44 | M1: 45-49 | N1: 50-54 | O1: 55-59 | P1: 60-64 | Q1: 65-69 | R1: 70-74 | S1: 75-79 | T1: 80+
A2: 44104 | B2: UK | C2: 1066 | D2: =$C2*D$35 -> 0.3198 | E2: =$C2*E$35 -> 0.4264 | F2: =$C2*F$35 -> 0.7462 | G2: =$C2*G$35 -> 1.599 | H2: =$C2*H$35 -> 3.4112 | I2: =$C2*I$35 -> 9.594 | J2: =$C2*J$35 -> 18.8682 | K2: =$C2*K$35 -> 42.4268 | ... T2: =$C2*T$35 -> 8.1016
A3: 44111 | B3: UK | C3: 1397 | D3: =$C3*D$35 -> 0.4191 | E3: =$C3*E$35 -> 0.5588 | F3: =$C3*F$35 -> 0.9779 | G3: =$C3*G$35 -> 2.0955 | H3: =$C3*H$35 -> 4.4704 | I3: =$C3*I$35 -> 12.573 | J3: =$C3*J$35 -> 24.7269 | K3: =$C3*K$35 -> 55.6006 | ... T3: =$C3*T$35 -> 10.6172
A4: 44118 | B4: UK | C4: 1803 | D4: =$C4*D$35 -> 0.5409 | E4: =$C4*E$35 -> 0.7212 | F4: =$C4*F$35 -> 1.2621 | G4: =$C4*G$35 -> 2.7045 | H4: =$C4*H$35 -> 5.7696 | I4: =$C4*I$35 -> 16.227 | J4: =$C4*J$35 -> 31.9131 | K4: =$C4*K$35 -> 71.7594 | ... T4: =$C4*T$35 -> 13.7028
A5: 44125 | B5: UK | C5: 2268 | D5: =$C5*D$35 -> 0.6804 | E5: =$C5*E$35 -> 0.9072 | F5: =$C5*F$35 -> 1.5876 | G5: =$C5*G$35 -> 3.402 | H5: =$C5*H$35 -> 7.2576 | I5: =$C5*I$35 -> 20.412 | J5: =$C5*J$35 -> 40.1436 | K5: =$C5*K$35 -> 90.2664 | ... T5: =$C5*T$35 -> 17.2368
A6: 44132 | B6: UK | C6: 2770 | D6: =$C6*D$35 -> 0.831 | E6: =$C6*E$35 -> 1.108 | F6: =$C6*F$35 -> 1.939 | G6: =$C6*G$35 -> 4.155 | H6: =$C6*H$35 -> 8.864 | I6: =$C6*I$35 -> 24.93 | J6: =$C6*J$35 -> 49.029 | K6: =$C6*K$35 -> 110.246 | ... T6: =$C6*T$35 -> 21.052
A7: 44139 | B7: UK | C7: 3276 | D7: =$C7*D$35 -> 0.9828 | E7: =$C7*E$35 -> 1.3104 | F7: =$C7*F$35 -> 2.2932 | G7: =$C7*G$35 -> 4.914 | H7: =$C7*H$35 -> 10.4832 | I7: =$C7*I$35 -> 29.484 | J7: =$C7*J$35 -> 57.9852 | K7: =$C7*K$35 -> 130.3848 | ... T7: =$C7*T$35 -> 24.8976
A8: 44146 | B8: UK | C8: 3761 | D8: =$C8*D$35 -> 1.1283 | E8: =$C8*E$35 -> 1.5044 | F8: =$C8*F$35 -> 2.6327 | G8: =$C8*G$35 -> 5.6415 | H8: =$C8*H$35 -> 12.0352 | I8: =$C8*I$35 -> 33.849 | J8: =$C8*J$35 -> 66.5697 | K8: =$C8*K$35 -> 149.6878 | ... T8: =$C8*T$35 -> 28.5836
A9: 44153 | B9: UK | C9: 4200 | D9: =$C9*D$35 -> 1.26 | E9: =$C9*E$35 -> 1.68 | F9: =$C9*F$35 -> 2.94 | G9: =$C9*G$35 -> 6.3 | H9: =$C9*H$35 -> 13.44 | I9: =$C9*I$35 -> 37.8 | J9: =$C9*J$35 -> 74.34 | K9: =$C9*K$35 -> 167.16 | ... T9: =$C9*T$35 -> 31.92
A10: 44160 | B10: UK | C10: 4581 | D10: =$C10*D$35 -> 1.3743 | E10: =$C10*E$35 -> 1.8324 | F10: =$C10*F$35 -> 3.2067 | G10: =$C10*G$35 -> 6.8715 | H10: =$C10*H$35 -> 14.6592 | I10: =$C10*I$35 -> 41.229 | J10: =$C10*J$35 -> 81.0837 | K10: =$C10*K$35 -> 182.3238 | ... T10: =$C10*T$35 -> 34.8156
A11: 44167 | B11: UK | C11: 4893 | D11: =$C11*D$35 -> 1.4679 | E11: =$C11*E$35 -> 1.9572 | F11: =$C11*F$35 -> 3.4251 | G11: =$C11*G$35 -> 7.3395 | H11: =$C11*H$35 -> 15.6576 | I11: =$C11*I$35 -> 44.037 | J11: =$C11*J$35 -> 86.6061 | K11: =$C11*K$35 -> 194.7414 | ... T11: =$C11*T$35 -> 37.1868
A12: 44174 | B12: UK | C12: 5142 | D12: =$C12*D$35 -> 1.5426 | E12: =$C12*E$35 -> 2.0568 | F12: =$C12*F$35 -> 3.5994 | G12: =$C12*G$35 -> 7.713 | H12: =$C12*H$35 -> 16.4544 | I12: =$C12*I$35 -> 46.278 | J12: =$C12*J$35 -> 91.0134 | K12: =$C12*K$35 -> 204.6516 | ... T12: =$C12*T$35 -> 39.0792
A13: 44181 | B13: UK | C13: 5333 | D13: =$C13*D$35 -> 1.5999 | E13: =$C13*E$35 -> 2.1332 | F13: =$C13*F$35 -> 3.7331 | G13: =$C13*G$35 -> 7.9995 | H13: =$C13*H$35 -> 17.0656 | I13: =$C13*I$35 -> 47.997 | J13: =$C13*J$35 -> 94.3941 | K13: =$C13*K$35 -> 212.2534 | ... T13: =$C13*T$35 -> 40.5308
... A32: 44314 | B32: UK | C32: 2572 | D32: =$C32*D$35 -> 0.7716 | E32: =$C32*E$35 -> 1.0288 | F32: =$C32*F$35 -> 1.8004 | G32: =$C32*G$35 -> 3.858 | H32: =$C32*H$35 -> 8.2304 | I32: =$C32*I$35 -> 23.148 | J32: =$C32*J$35 -> 45.5244 | K32: =$C32*K$35 -> 102.3656 | ... T32: =$C32*T$35 -> 19.5472
C34: Region | D34: 0-4 | E34: 5-9 | F34: 10-14 | G34: 15-19 | H34: 20-24 | I34: 25-29 | J34: 30-34 | K34: 35-39 | L34: 40-44 | M34: 45-49 | N34: 50-54 | O34: 55-59 | P34: 60-64 | Q34: 65-69 | R34: 70-74 | S34: 75-79 | T34: 80+
C35: UK | D35: 0.0003 | E35: 0.0004 | F35: 0.0007 | G35: 0.0015 | H35: 0.0032 | I35: 0.009 | J35: 0.0177 | K35: 0.0398 | L35: 0.0661 | M35: 0.1143 | N35: 0.1638 | O35: 0.182 | P35: 0.1806 | Q35: 0.1258 | R35: 0.0639 | S35: 0.0233 | T35: 0.0076

Sheet Splitting Admissions CCU Ward
B1: Calculating the proportion of admissions that will require ICU care by age.
B2: In this sheet we use ICNARC and UK government data to estimate the total proportion of hospital admissions that require ICU or ward, by age group.
B4: ICNARC - 18th Decemberr
B5: https://www.icnarc.org/Our-Audit/Audits/Cmp/Reports
B6: Table 2.1 - ICNARC data on total hospital admissions | P6: Input data
B7: Total admissions | P7: Number of admissions up to the 31st of August from the ICNARC COVID Report of the 18th December.
B8: to 31/08 | C8: 10935 | P8: Number of admissions from 1st September to 5th November from the ICNARC COVID Report of the 18th December.
B9: 01/09 to 18/12 | C9: 7677 | P9: Age distribution of ICU admissions from the ICNARC COVID Report of the 18th December.
B10: Total ICU | C10: =C8+C9 -> 18612 | P10: The total number of ICU admissions for COVID-19 from the same report.
B11: Table 2.2 Estimating admissions per age group.
C13: Female | E13: Male
B14: Age at admission to critical care | C14: % admitted from 1 Sep | D14: ICU | E14: % admitted from 1 Sep | F14: ICU | G14: Total | I14: 2.1 - Here we use ICNARC data on the age and sex breakdown of all ICU admissions for COVID, as well as the total ICU admissions, to caculate the total number of ICU admissions for each age and sex group. | P14: Output
B15: 16-29 | C15: 0.013 | D15: =C15*$C$10 -> 241.956 | E15: 0.014 | F15: =E15*$C$10 -> 260.568 | G15: =D15+F15 -> 502.524 | P15: Percentage of admissions admitted to ICU or ward by age. Range: B73:C89.
B16: 30-39 | C16: 0.023 | D16: =C16*$C$10 -> 428.076 | E16: 0.028 | F16: =E16*$C$10 -> 521.136 | G16: =D16+F16 -> 949.212
B17: 40-49 | C17: 0.042 | D17: =C17*$C$10 -> 781.704 | E17: 0.075 | F17: =E17*$C$10 -> 1395.9 | G17: =D17+F17 -> 2177.604
B18: 50-59 | C18: 0.071 | D18: =C18*$C$10 -> 1321.452 | E18: 0.156 | F18: =E18*$C$10 -> 2903.472 | G18: =D18+F18 -> 4224.924
B19: 60-69 | C19: 0.087 | D19: =C19*$C$10 -> 1619.244 | E19: 0.2 | F19: =E19*$C$10 -> 3722.4 | G19: =D19+F19 -> 5341.644
B20: 70-79 | C20: 0.066 | D20: =C20*$C$10 -> 1228.392 | E20: 0.171 | F20: =E20*$C$10 -> 3182.652 | G20: =D20+F20 -> 4411.044
B21: 80+ | C21: 0.016 | D21: =C21*$C$10 -> 297.792 | E21: 0.039 | F21: =E21*$C$10 -> 725.868 | G21: =D21+F21 -> 1023.66
B22: Total | D22: =SUM(D15:D21) -> 5918.616 | F22: =SUM(F15:F21) -> 12711.996 | G22: =SUM(G15:G21) -> 18630.612
B23: Aim | G23: =C10 -> 18612
B28: General Hospital Admissions
B29: Cumulative, to 18th December
B30: Table 2.4 - GOV data for total admissions by UK country.
B31: Area | C31: Hospital admissions | D31: Source | I31: 2.3 - Here we use the hospital admissions age breakdown (column N, from sheet "1 New patients in hopsital") and the total hospital admissions for UK minus scotland (B46) to estimate the total hosptial admissions for each age group (C49:C55). Again, the numbers are not exactly equal as the rounded percentages do not sum to exactly 100%.
B32: England | C32: 212526 | D32: https://coronavirus.data.gov.uk/details/healthcare?areaType=nation&areaName=England
B33: Wales | C33: 22583 | D33: https://coronavirus.data.gov.uk/details/healthcare?areaType=nation&areaName=Wales
B34: Total | C34: =SUM(C32:C33) -> 235109 | D34: For England & Wales
B37: Table 2.5 - Estimate for total admissions by age group for England and Wales
C38: From sheet 1
B39: 16-29 | C39: {=adm_AgeDist3} -> 0.025501543 | D39: =C39*$C$34 -> 5995.6422
B40: 30-39 | C40: 0.039706336 | D40: =C40*$C$34 -> 9335.317
B41: 40-49 | C41: 0.067146508 | D41: =C41*$C$34 -> 15786.748
B42: 50-59 | C42: 0.12487578 | D42: =C42*$C$34 -> 29359.42
B43: 60-69 | C43: 0.17074274 | D43: =C43*$C$34 -> 40143.154
B44: 70-79 | C44: 0.23474336 | D44: =C44*$C$34 -> 55190.277
B45: 80+ | C45: 0.33728373 | D45: =C45*$C$34 -> 79298.442
B46: Total | C46: =SUM(C39:C45) -> 1 | D46: =SUM(D39:D45) -> 235109
B47: Aim | C47: 1 | D47: =C34 -> 235109
B50: Table 2.6 - Estimate of ICU admission as a percentage of all admissions, by age group.
...

Sheet Ward Demand
B1: Calculation of the age distribution of ward demand.
A2: In this sheet we use the estimates of total admissions from sheet 1 and the proportion requiring Ward care from sheet 2 to estimate the number of patients requiring Ward care.
A3: This is then combined with an estimate of maximum Ward capacity to estimate the number of patients that require Ward care who are able to be admitted to Ward.
A5: Table 3.1 - Estimated total ward demand by week and age group.
A6: Week commencing | B6: Region | C6: Value | D6: 0-4 | E6: 5-9 | F6: 10-14 | G6: 15-19 | H6: 20-24 | I6: 25-29 | J6: 30-34 | K6: 35-39 | L6: 40-44 | M6: 45-49 | N6: 50-54 | O6: 55-59 | P6: 60-64 | Q6: 65-69 | R6: 70-74 | S6: 75-79 | T6: 80+
A7: 44104 | B7: England | C7: =SUM(D7:T7) -> 2611.1802 | D7: ='New patients in hospital'!D5*VLOOKUP(D$6,'Splitting Admissions CCU Ward'!$B$62:$D$79,3,FALSE) -> 15.573788 | E7: ='New patients in hospital'!E5*VLOOKUP(E$6,'Splitting Admissions CCU Ward'!$B$62:$D$79,3,FALSE) -> 10.147226 | F7: ='New patients in hospital'!F5*VLOOKUP(F$6,'Splitting Admissions CCU Ward'!$B$62:$D$79,3,FALSE) -> 8.1117281 | G7: ='New patients in hospital'!G5*VLOOKUP(G$6,'Splitting Admissions CCU Ward'!$B$62:$D$79,3,FALSE) -> 10.772962 | H7: ='New patients in hospital'!H5*VLOOKUP(H$6,'Splitting Admissions CCU Ward'!$B$62:$D$79,3,FALSE) -> 22.84327 | I7: ='New patients in hospital'!I5*VLOOKUP(I$6,'Splitting Admissions CCU Ward'!$B$62:$D$79,3,FALSE) -> 33.13247 | J7: ='New patients in hospital'!J5*VLOOKUP(J$6,'Splitting Admissions CCU Ward'!$B$62:$D$79,3,FALSE) -> 43.264372 | K7: ='New patients in hospital'!K5*VLOOKUP(K$6,'Splitting Admissions CCU Ward'!$B$62:$D$79,3,FALSE) -> 56.525272 | ... T7: ='New patients in hospital'!T5*VLOOKUP(T$6,'Splitting Admissions CCU Ward'!$B$62:$D$79,3,FALSE) -> 931.42319
A8: 44111 | B8: England | C8: =SUM(D8:T8) -> 3909.8576 | D8: ='New patients in hospital'!D6*VLOOKUP(D$6,'Splitting Admissions CCU Ward'!$B$62:$D$79,3,FALSE) -> 23.319452 | E8: ='New patients in hospital'!E6*VLOOKUP(E$6,'Splitting Admissions CCU Ward'!$B$62:$D$79,3,FALSE) -> 15.193976 | F8: ='New patients in hospital'!F6*VLOOKUP(F$6,'Splitting Admissions CCU Ward'!$B$62:$D$79,3,FALSE) -> 12.146117 | G8: ='New patients in hospital'!G6*VLOOKUP(G$6,'Splitting Admissions CCU Ward'!$B$62:$D$79,3,FALSE) -> 16.130923 | H8: ='New patients in hospital'!H6*VLOOKUP(H$6,'Splitting Admissions CCU Ward'!$B$62:$D$79,3,FALSE) -> 34.204431 | I8: ='New patients in hospital'!I6*VLOOKUP(I$6,'Splitting Admissions CCU Ward'!$B$62:$D$79,3,FALSE) -> 49.610991 | J8: ='New patients in hospital'!J6*VLOOKUP(J$6,'Splitting Admissions CCU Ward'!$B$62:$D$79,3,FALSE) -> 64.782021 | K8: ='New patients in hospital'!K6*VLOOKUP(K$6,'Splitting Admissions CCU Ward'!$B$62:$D$79,3,FALSE) -> 84.638265 | ... T8: ='New patients in hospital'!T6*VLOOKUP(T$6,'Splitting Admissions CCU Ward'!$B$62:$D$79,3,FALSE) -> 1394.669 | V8: Here we use our estimates of total number of hospitalisations per week from sheet "1 New patients in hospital", and our estimates of the proportion of those that will be admitted to the ward (i.e. non ICU) from sheet "2 Splitting admissions ICU Ward", to estimate the total number of patients in each age group that should be admitted to the ward each week.
A9: 44118 | B9: England | C9: =SUM(D9:T9) -> 5385.5016 | D9: ='New patients in hospital'!D7*VLOOKUP(D$6,'Splitting Admissions CCU Ward'!$B$62:$D$79,3,FALSE) -> 32.120593 | E9: ='New patients in hospital'!E7*VLOOKUP(E$6,'Splitting Admissions CCU Ward'!$B$62:$D$79,3,FALSE) -> 20.92843 | F9: ='New patients in hospital'!F7*VLOOKUP(F$6,'Splitting Admissions CCU Ward'!$B$62:$D$79,3,FALSE) -> 16.73026 | G9: ='New patients in hospital'!G7*VLOOKUP(G$6,'Splitting Admissions CCU Ward'!$B$62:$D$79,3,FALSE) -> 22.218997 | H9: ='New patients in hospital'!H7*VLOOKUP(H$6,'Splitting Admissions CCU Ward'!$B$62:$D$79,3,FALSE) -> 47.113741 | I9: ='New patients in hospital'!I7*VLOOKUP(I$6,'Splitting Admissions CCU Ward'!$B$62:$D$79,3,FALSE) -> 68.334988 | J9: ='New patients in hospital'!J7*VLOOKUP(J$6,'Splitting Admissions CCU Ward'!$B$62:$D$79,3,FALSE) -> 89.231813 | K9: ='New patients in hospital'!K7*VLOOKUP(K$6,'Splitting Admissions CCU Ward'!$B$62:$D$79,3,FALSE) -> 116.58213 | ... T9: ='New patients in hospital'!T7*VLOOKUP(T$6,'Splitting Admissions CCU Ward'!$B$62:$D$79,3,FALSE) -> 1921.0398
A10: 44125 | B10: England | C10: =SUM(D10:T10) -> 7004.9311 | D10: ='New patients in hospital'!D8*VLOOKUP(D$6,'Splitting Admissions CCU Ward'!$B$62:$D$79,3,FALSE) -> 41.77931 | E10: ='New patients in hospital'!E8*VLOOKUP(E$6,'Splitting Admissions CCU Ward'!$B$62:$D$79,3,FALSE) -> 27.221644 | F10: ='New patients in hospital'!F8*VLOOKUP(F$6,'Splitting Admissions CCU Ward'!$B$62:$D$79,3,FALSE) -> 21.761078 | G10: ='New patients in hospital'!G8*VLOOKUP(G$6,'Splitting Admissions CCU Ward'!$B$62:$D$79,3,FALSE) -> 28.900287 | H10: ='New patients in hospital'!H8*VLOOKUP(H$6,'Splitting Admissions CCU Ward'!$B$62:$D$79,3,FALSE) -> 61.280923 | I10: ='New patients in hospital'!I8*VLOOKUP(I$6,'Splitting Admissions CCU Ward'!$B$62:$D$79,3,FALSE) -> 88.883435 | J10: ='New patients in hospital'!J8*VLOOKUP(J$6,'Splitting Admissions CCU Ward'!$B$62:$D$79,3,FALSE) -> 116.06397 | K10: ='New patients in hospital'!K8*VLOOKUP(K$6,'Splitting Admissions CCU Ward'!$B$62:$D$79,3,FALSE) -> 151.63857 | ... T10: ='New patients in hospital'!T8*VLOOKUP(T$6,'Splitting Admissions CCU Ward'!$B$62:$D$79,3,FALSE) -> 2498.6997
A11: 44132 | B11: England | C11: =SUM(D11:T11) -> 8980.1373 | D11: ='New patients in hospital'!D9*VLOOKUP(D$6,'Splitting Admissions CCU Ward'!$B$62:$D$79,3,FALSE) -> 53.559976 | E11: ='New patients in hospital'!E9*VLOOKUP(E$6,'Splitting Admissions CCU Ward'!$B$62:$D$79,3,FALSE) -> 34.897432 | F11: ='New patients in hospital'!F9*VLOOKUP(F$6,'Splitting Admissions CCU Ward'!$B$62:$D$79,3,FALSE) -> 27.897129 | G11: ='New patients in hospital'!G9*VLOOKUP(G$6,'Splitting Admissions CCU Ward'!$B$62:$D$79,3,FALSE) -> 37.049408 | H11: ='New patients in hospital'!H9*VLOOKUP(H$6,'Splitting Admissions CCU Ward'!$B$62:$D$79,3,FALSE) -> 78.56053 | I11: ='New patients in hospital'!I9*VLOOKUP(I$6,'Splitting Admissions CCU Ward'!$B$62:$D$79,3,FALSE) -> 113.94622 | J11: ='New patients in hospital'!J9*VLOOKUP(J$6,'Splitting Admissions CCU Ward'!$B$62:$D$79,3,FALSE) -> 148.79096 | K11: ='New patients in hospital'!K9*VLOOKUP(K$6,'Splitting Admissions CCU Ward'!$B$62:$D$79,3,FALSE) -> 194.39666 | ... T11: ='New patients in hospital'!T9*VLOOKUP(T$6,'Splitting Admissions CCU Ward'!$B$62:$D$79,3,FALSE) -> 3203.2672
