Workbook

Sheet SI Table 1 Cause of Death Distr
A1: icd_class | B1: icd10 | C1: text | D1: nevent_ppp | E1: nevent_ukbb_first | F1: ndeath_primary_events | G1: ndeath_events | H1: icd_category | I1: phecode | J1: death_fraction | K1: lethality (death_frac_diagnosis)
A2: C | B2: C34 | C2: Malignant neoplasm of bronchus and lung | D2: 592 | E2: 5070 | F2: 3243 | G2: 3488 | H2: neoplasms | I2: 165.1 | J2: 0.085565025 | K2: 0.10998644
A3: I | B3: I25 | C3: Chronic ischaemic heart disease | D3: 5786 | E3: 49234 | F3: 2392 | G3: 5454 | H3: circulatory system | I3: 411.8 | J3: 0.063111791 | K3: 0.035115506
A4: I | B4: I21 | C4: Acute myocardial infarction | D4: 2677 | E4: 22486 | F4: 1623 | G4: 1924 | H4: circulatory system | I4: 411.2 | J4: 0.042822089 | K4: 0.012387648
A5: C | B5: C50 | C5: Malignant neoplasm of breast | D5: 1927 | E5: 18890 | F5: 1473 | G5: 1653 | H5: neoplasms | I5: 174.11 | J5: 0.03886441 | K5: 0.052123735
A6: C | B6: C25 | C6: Malignant neoplasm of pancreas | D6: 159 | E6: 1557 | F6: 1401 | G6: 1456 | H6: neoplasms | I6: 157 | J6: 0.036964724 | K6: 0.045911771
A7: U | B7: U07 | C7: Coronavirus infection emergency | D7: 134 | E7: 1057 | F7: 1158 | G7: 1306 | H7: infectious diseases | J7: 0.030553284 | K7: 0.68881857
A8: C | B8: C61 | C8: Malignant neoplasm of prostate | D8: 1494 | E8: 13809 | F8: 1101 | G8: 1402 | H8: neoplasms | I8: 185 | J8: 0.029049365 | K8: 0.044208999
A9: C | B9: C18 | C9: Malignant neoplasm of colon | D9: 648 | E9: 6195 | F9: 1022 | G9: 1085 | H9: neoplasms | I9: 153.2 | J9: 0.026964988 | K9: 0.034213099
A10: J | B10: J44 | C10: Other chronic obstructive pulmonary disease | D10: 2727 | E10: 21850 | F10: 992 | G10: 2593 | H10: respiratory | I10: 496.21 | J10: 0.026173452 | K10: 0.036101133
A11: C | B11: C15 | C11: Malignant neoplasm of oesophagus | D11: 178 | E11: 1547 | F11: 902 | G11: 961 | H11: neoplasms | I11: 150 | J11: 0.023798844 | K11: 0.03030303
A12: C | B12: C80 | C12: Malignant neoplasm, without specification of site | D12: 291 | E12: 2670 | F12: 860 | G12: 1572 | H12: neoplasms | I12: 195.1 | J12: 0.022690694 | K12: 0.049569577
A13: C | B13: C71 | C13: Malignant neoplasm of brain | D13: 114 | E13: 1045 | F13: 842 | G13: 874 | H13: neoplasms | I13: 191.11 | J13: 0.022215773 | K13: 0.027559676
A14: C | B14: C56 | C14: Malignant neoplasm of ovary | D14: 213 | E14: 2012 | F14: 668 | G14: 694 | H14: neoplasms | I14: 184.11 | J14: 0.017624865 | K14: 0.02188377
A15: C | B15: C22 | C15: Malignant neoplasm of liver and intrahepatic bile ducts | D15: 108 | E15: 954 | F15: 648 | G15: 698 | H15: neoplasms | I15: 155 | J15: 0.017097174 | K15: 0.022009901
A16: J | B16: J84 | C16: Other interstitial pulmonary diseases | D16: 724 | E16: 3696 | F16: 626 | G16: 1003 | H16: respiratory | J16: 0.016516715 | K16: 0.013964303
A17: G | B17: G30 | C17: Alzheimer disease | D17: 544 | E17: 2802 | F17: 585 | G17: 860 | H17: neurological | I17: 290.11 | J17: 0.015434949 | K17: 0.033249565
A18: J | B18: J18 | C18: Pneumonia, organism unspecified | D18: 4294 | E18: 33914 | F18: 553 | G18: 4694 | H18: respiratory | I18: 480 | J18: 0.014590644 | K18: 0.065352379
A19: F | B19: F03 | C19: Unspecified dementia | D19: 645 | E19: 3535 | F19: 546 | G19: 1064 | H19: mental disorders | I19: 290.1 | J19: 0.014405952 | K19: 0.018214812
A20: C | B20: C64 | C20: Malignant neoplasm of kidney, except renal pelvis | D20: 249 | E20: 2219 | F20: 513 | G20: 597 | H20: neoplasms | I20: 189.11 | J20: 0.013535263 | K20: 0.018825088
A21: I | B21: I64 | C21: Stroke, not specified as haemorrhage or infarction | D21: 1143 | E21: 9439 | F21: 480 | G21: 1134 | H21: circulatory system | I21: 433.21 | J21: 0.012664573 | K21: 0.0073012439
A22: C | B22: C16 | C22: Malignant neoplasm of stomach | D22: 141 | E22: 1250 | F22: 460 | G22: 488 | H22: neoplasms | I22: 151 | J22: 0.012136883 | K22: 0.015388011
A23: G | B23: G20 | C23: Parkinson disease | D23: 870 | E23: 3602 | F23: 435 | G23: 836 | H23: neurological | I23: 332 | J23: 0.01147727 | K23: 0.03232167
A24: C | B24: C67 | C24: Malignant neoplasm of bladder | D24: 438 | E24: 4005 | F24: 429 | G24: 531 | H24: neoplasms | I24: 189.21 | J24: 0.011318963 | K24: 0.016743922
A25: C | B25: C92 | C25: Myeloid leukaemia | D25: 105 | E25: 935 | F25: 419 | G25: 482 | H25: neoplasms | I25: 204.2 | J25: 0.011055117 | K25: 0.015198814
A26: C | B26: C19 | C26: Malignant neoplasm of rectosigmoid junction | D26: 143 | E26: 1514 | F26: 415 | G26: 446 | H26: neoplasms | I26: 153.3 | J26: 0.010949579 | K26: 0.014063633
A27: I | B27: I61 | C27: Intracerebral haemorrhage | D27: 244 | E27: 2089 | F27: 408 | G27: 574 | H27: circulatory system | I27: 430.2 | J27: 0.010764887 | K27: 0.0036956914
A28: G | B28: G12 | C28: Spinal muscular atrophy and related syndromes | D28: 361 | E28: 693 | F28: 404 | G28: 431 | H28: neurological | J28: 0.010659349 | K28: 0.016663445
A29: C | B29: C90 | C29: Multiple myeloma and malignant plasma cell neoplasms | D29: 177 | E29: 1312 | F29: 404 | G29: 494 | H29: neoplasms | J29: 0.010659349 | K29: 0.015577208
A30: C | B30: C45 | C30: Mesothelioma | D30: 54 | E30: 469 | F30: 388 | G30: 398 | H30: neoplasms | I30: 195.1 | J30: 0.010237197 | K30: 0.012550058
A31: C | B31: C20 | C31: Malignant neoplasm of rectum | D31: 303 | E31: 2947 | F31: 369 | G31: 414 | H31: neoplasms | I31: 153.3 | J31: 0.0097358909 | K31: 0.013054583
A32: C | B32: C43 | C32: Malignant melanoma of skin | D32: 567 | E32: 5160 | F32: 362 | G32: 395 | H32: neoplasms | I32: 172.11 | J32: 0.0095511992 | K32: 0.01245546
A33: I | B33: I71 | C33: Aortic aneurysm and dissection | D33: 529 | E33: 4286 | F33: 355 | G33: 436 | H33: circulatory system | J33: 0.0093665075 | K33: 0.0028071802
A34: C | B34: C85 | C34: Other and unspecified types of non-Hodgkin lymphoma | D34: 257 | E34: 2293 | F34: 345 | G34: 446 | H34: neoplasms | I34: 202.2 | J34: 0.0091026622 | K34: 0.014063633
A35: K | B35: K70 | C35: Alcoholic liver disease | D35: 235 | E35: 2114 | F35: 317 | G35: 432 | H35: digestive | I35: 317.11 | J35: 0.0083638954 | K35: 0.0058683692
A36: C | B36: C26 | C36: Malignant neoplasm of other and ill-defined digestive organs | D36: 29 | E36: 348 | F36: 296 | G36: 332 | H36: neoplasms | J36: 0.0078098203 | K36: 0.010468893
A37: I | B37: I60 | C37: Subarachnoid haemorrhage | D37: 211 | E37: 1883 | F37: 251 | G37: 279 | H37: circulatory system | I37: 430.1 | J37: 0.0066225166 | K37: 0.0017963378
A38: F | B38: F01 | C38: Vascular dementia | D38: 227 | E38: 1530 | F38: 244 | G38: 461 | H38: mental disorders | I38: 290.16 | J38: 0.0064378249 | K38: 0.0078919437
A39: C | B39: C54 | C39: Malignant neoplasm of corpus uteri | D39: 280 | E39: 2563 | F39: 230 | G39: 253 | H39: neoplasms | I39: 182 | J39: 0.0060684415 | K39: 0.0079778009
A40: G | B40: G31 | C40: Other degenerative diseases of nervous system, not elsewhere classified | D40: 461 | E40: 2553 | F40: 221 | G40: 351 | H40: neurological | J40: 0.0058309807 | K40: 0.013570462
...

Sheet SI Table2  Univarate Associatio
A1: Biomarker | B1: CoxPH effect size | C1: std error | D1: -log(p) | E1: Cindex | F1: Gene | G1: Set
A2: OID20251 | B2: 0.45576543 | C2: 0.010360219 | D2: 292.14612 | E2: 0.78168348 | F2: =VLOOKUP(A2,'SI Table 10 Olink Assays'!A199:D3140,2) -> GDF15 | G2: Plasma Proteome
A3: OID21451 | B3: 0.41296983 | C3: 0.010733073 | D3: 292.14612 | E3: 0.77619956 | F3: =VLOOKUP(A3,'SI Table 10 Olink Assays'!A1376:D4317,2) -> EDA2R | G3: Plasma Proteome
A4: OID21505 | B4: 0.40206724 | C4: 0.010559032 | D4: 292.14612 | E4: 0.77638525 | F4: =VLOOKUP(A4,'SI Table 10 Olink Assays'!A1430:D4371,2) -> WFDC2 | G4: Plasma Proteome
A5: OID20764 | B5: 0.44547924 | C5: 0.012664816 | D5: 270.3099 | E5: 0.77575063 | F5: =VLOOKUP(A5,'SI Table 10 Olink Assays'!A705:D3646,2) -> PLAUR | G5: Plasma Proteome
A6: OID21158 | B6: 0.32332347 | C6: 0.0099097781 | D6: 232.76577 | E6: 0.77055926 | F6: =VLOOKUP(A6,'SI Table 10 Olink Assays'!A1090:D4031,2) -> IGFBP4 | G6: Plasma Proteome
A7: OID21357 | B7: 0.38182312 | C7: 0.011748209 | D7: 230.97973 | E7: 0.77401176 | F7: =VLOOKUP(A7,'SI Table 10 Olink Assays'!A1284:D4225,2) -> AREG | G7: Plasma Proteome
A8: OID21155 | B8: 0.30108963 | C8: 0.0095404823 | D8: 217.87209 | E8: 0.76971733 | F8: =VLOOKUP(A8,'SI Table 10 Olink Assays'!A1087:D4028,2) -> TNFRSF1A | G8: Plasma Proteome
A9: OID20254 | B9: 0.43438984 | C9: 0.013767227 | D9: 217.78011 | E9: 0.76934949 | F9: =VLOOKUP(A9,'SI Table 10 Olink Assays'!A202:D3143,2) -> LTBP2 | G9: Plasma Proteome
A10: OID20967 | B10: 0.29521358 | C10: 0.0094608902 | D10: 213.02095 | E10: 0.76918275 | F10: =VLOOKUP(A10,'SI Table 10 Olink Assays'!A902:D3843,2) -> TNFRSF10A | G10: Plasma Proteome
A11: OID20871 | B11: 0.36499227 | C11: 0.01203774 | D11: 201.21301 | E11: 0.77117869 | F11: =VLOOKUP(A11,'SI Table 10 Olink Assays'!A810:D3751,2) -> NEFL | G11: Plasma Proteome
A12: OID20981 | B12: 0.1876525 | C12: 0.0062452052 | D12: 197.62758 | E12: 0.76705369 | F12: =VLOOKUP(A12,'SI Table 10 Olink Assays'!A916:D3857,2) -> TNFRSF10B | G12: Plasma Proteome
A13: OID20292 | B13: 0.33055896 | C13: 0.011083812 | D13: 194.71386 | E13: 0.76957541 | F13: =VLOOKUP(A13,'SI Table 10 Olink Assays'!A240:D3181,2) -> COL6A3 | G13: Plasma Proteome
A14: OID21463 | B14: 0.36226069 | C14: 0.012312341 | D14: 189.54889 | E14: 0.76920241 | F14: =VLOOKUP(A14,'SI Table 10 Olink Assays'!A1388:D4329,2) -> ANGPT2 | G14: Plasma Proteome
A15: OID20935 | B15: 0.26967263 | C15: 0.0092456058 | D15: 186.30193 | E15: 0.76644247 | F15: =VLOOKUP(A15,'SI Table 10 Olink Assays'!A871:D3812,2) -> EFNA4 | G15: Plasma Proteome
A16: OID20943 | B16: 0.26778111 | C16: 0.0091881626 | D16: 186.00385 | E16: 0.76634537 | F16: =VLOOKUP(A16,'SI Table 10 Olink Assays'!A879:D3820,2) -> SCARB2 | G16: Plasma Proteome
A17: OID20371 | B17: 0.26557102 | C17: 0.0092443975 | D17: 180.76532 | E17: 0.76571869 | F17: =VLOOKUP(A17,'SI Table 10 Olink Assays'!A319:D3260,2) -> TFF3 | G17: Plasma Proteome
A18: OID20236 | B18: 0.26504469 | C18: 0.0092653723 | D18: 179.2466 | E18: 0.76591359 | F18: =VLOOKUP(A18,'SI Table 10 Olink Assays'!A184:D3125,2) -> IGFBP7 | G18: Plasma Proteome
A19: Cystatin_C | B19: 0.13414231 | C19: 0.0047000128 | D19: 178.43774 | E19: 0.76300316 | F19: Cystatin_C | G19: ClinChem
A20: OID20617 | B20: 0.27330799 | C20: 0.0095880528 | D20: 177.99395 | E20: 0.76800452 | F20: =VLOOKUP(A20,'SI Table 10 Olink Assays'!A560:D3501,2) -> CKAP4 | G20: Plasma Proteome
A21: OID21145 | B21: 0.22687092 | C21: 0.0079729194 | D21: 177.37639 | E21: 0.76630349 | F21: =VLOOKUP(A21,'SI Table 10 Olink Assays'!A1077:D4018,2) -> TNFRSF1B | G21: Plasma Proteome
A22: OID21109 | B22: 0.26874025 | C22: 0.0095294882 | D22: 174.2442 | E22: 0.76481334 | F22: =VLOOKUP(A22,'SI Table 10 Olink Assays'!A1041:D3982,2) -> SPINT1 | G22: Plasma Proteome
A23: OID20759 | B23: 0.30314246 | C23: 0.010795592 | D23: 172.76717 | E23: 0.76705481 | F23: =VLOOKUP(A23,'SI Table 10 Olink Assays'!A700:D3641,2) -> SPON1 | G23: Plasma Proteome
A24: OID20999 | B24: 0.26270917 | C24: 0.0093627844 | D24: 172.50677 | E24: 0.76338283 | F24: =VLOOKUP(A24,'SI Table 10 Olink Assays'!A932:D3873,2) -> ACVRL1 | G24: Plasma Proteome
A25: OID20782 | B25: 0.33915359 | C25: 0.012108011 | D25: 171.91925 | E25: 0.76851897 | F25: =VLOOKUP(A25,'SI Table 10 Olink Assays'!A723:D3664,2) -> FSTL3 | G25: Plasma Proteome
A26: OID20673 | B26: 0.2962194 | C26: 0.010584434 | D26: 171.62274 | E26: 0.76611724 | F26: =VLOOKUP(A26,'SI Table 10 Olink Assays'!A614:D3555,2) -> PGF | G26: Plasma Proteome
A27: OID21482 | B27: 0.31051413 | C27: 0.0111197 | D27: 170.87344 | E27: 0.76658366 | F27: =VLOOKUP(A27,'SI Table 10 Olink Assays'!A1407:D4348,2) -> TNFRSF12A | G27: Plasma Proteome
A28: OID20418 | B28: 0.3131492 | C28: 0.011263669 | D28: 169.38334 | E28: 0.766934 | F28: =VLOOKUP(A28,'SI Table 10 Olink Assays'!A365:D3306,2) -> TIMP1 | G28: Plasma Proteome
A29: OID21342 | B29: 0.27970681 | C29: 0.010120964 | D29: 167.39055 | E29: 0.76736388 | F29: =VLOOKUP(A29,'SI Table 10 Olink Assays'!A1269:D4210,2) -> EPHA2 | G29: Plasma Proteome
A30: OID20221 | B30: 0.35216571 | C30: 0.012783602 | D30: 166.33293 | E30: 0.76623871 | F30: =VLOOKUP(A30,'SI Table 10 Olink Assays'!A169:D3110,2) -> SPON2 | G30: Plasma Proteome
A31: OID21097 | B31: 0.29414766 | C31: 0.010927903 | D31: 158.85865 | E31: 0.76597527 | F31: =VLOOKUP(A31,'SI Table 10 Olink Assays'!A1029:D3970,2) -> SPINK1 | G31: Plasma Proteome
A32: OID21422 | B32: 0.35239461 | C32: 0.013135146 | D32: 157.82152 | E32: 0.76826148 | F32: =VLOOKUP(A32,'SI Table 10 Olink Assays'!A1349:D4290,2) -> HAVCR1 | G32: Plasma Proteome
A33: OID20656 | B33: 0.35217765 | C33: 0.013162996 | D33: 156.96809 | E33: 0.767311 | F33: =VLOOKUP(A33,'SI Table 10 Olink Assays'!A598:D3539,2) -> HGF | G33: Plasma Proteome
A34: OID20205 | B34: 0.25279148 | C34: 0.009491806 | D34: 155.54563 | E34: 0.7626767 | F34: =VLOOKUP(A34,'SI Table 10 Olink Assays'!A153:D3094,2) -> NPDC1 | G34: Plasma Proteome
A35: OID21104 | B35: 0.29448608 | C35: 0.011062442 | D35: 155.40375 | E35: 0.76581386 | F35: =VLOOKUP(A35,'SI Table 10 Olink Assays'!A1036:D3977,2) -> THBS2 | G35: Plasma Proteome
A36: OID21467 | B36: 0.4187125 | C36: 0.015759791 | D36: 154.80295 | E36: 0.76896299 | F36: =VLOOKUP(A36,'SI Table 10 Olink Assays'!A1392:D4333,2) -> ADM | G36: Plasma Proteome
A37: OID21125 | B37: 0.26242321 | C37: 0.0099159757 | D37: 153.60687 | E37: 0.76477772 | F37: =VLOOKUP(A37,'SI Table 10 Olink Assays'!A1057:D3998,2) -> EFNA1 | G37: Plasma Proteome
A38: OID20222 | B38: 0.30264857 | C38: 0.011562872 | D38: 150.28135 | E38: 0.76517409 | F38: =VLOOKUP(A38,'SI Table 10 Olink Assays'!A170:D3111,2) -> NECTIN2 | G38: Plasma Proteome
A39: OID21418 | B39: 0.31776386 | C39: 0.012182267 | D39: 149.25813 | E39: 0.76637228 | F39: =VLOOKUP(A39,'SI Table 10 Olink Assays'!A1345:D4286,2) -> CD300E | G39: Plasma Proteome
A40: OID20125 | B40: 0.31701443 | C40: 0.012175073 | D40: 148.73513 | E40: 0.76358219 | F40: =VLOOKUP(A40,'SI Table 10 Olink Assays'!A74:D3015,2) -> NTproBNP | G40: Plasma Proteome
...

Sheet SI Table 3 Protein Atlas Enrich
A1: Protein Altas | B1: Gene Set | C1: # Mortality Protein | D1: # Not In Mortality | E1: Tissue Set Size | F1: Expected Mortality Assocations | G1: Enrichment OR | H1: p-value hypergeom
A2: Tissue Expression | B2: Non-specific - Mitochondria | C2: 20 | D2: 49 | E2: =sum(C2:D2) -> 69 | F2: =960/1500*E2 -> 44.16 | G2: =C2/F2 -> 0.45289855 | H2: =HYPGEOMDIST(C2,E2,766,1459) -> 2.950045e-05
A3: Single Cell Expression | B3: Myeloid cells - Hemostasis | C3: 1 | D3: 14 | E3: =sum(C3:D3) -> 15 | F3: =960/1500*E3 -> 9.6 | G3: =C3/F3 -> 0.10416667 | H3: =HYPGEOMDIST(C3,E3,766,1459) -> 0.00022065429
A4: Single Cell Expression | B4: Macrophages - Innate immune response | C4: 43 | D4: 15 | E4: =sum(C4:D4) -> 58 | F4: =960/1500*E4 -> 37.12 | G4: =C4/F4 -> 1.1584052 | H4: =HYPGEOMDIST(C4,E4,766,1459) -> 0.00031755225
A5: Single Cell Expression | B5: Spermatids - Spermatogenesis | C5: 10 | D5: 28 | E5: =sum(C5:D5) -> 38 | F5: =960/1500*E5 -> 24.32 | G5: =C5/F5 -> 0.41118421 | H5: =HYPGEOMDIST(C5,E5,766,1459) -> 0.00058708987
A6: Tissue Expression | B6: Intestine & Liver - Lipid metabolism | C6: 2 | D6: 14 | E6: =sum(C6:D6) -> 16 | F6: =960/1500*E6 -> 10.24 | G6: =C6/F6 -> 0.1953125 | H6: =HYPGEOMDIST(C6,E6,766,1459) -> 0.00093518301
A7: Tissue Expression | B7: Brain & Bone marrow - Chromatin organization | C7: 0 | D7: 9 | E7: =sum(C7:D7) -> 9 | F7: =960/1500*E7 -> 5.76 | G7: =C7/F7 -> 0 | H7: =HYPGEOMDIST(C7,E7,766,1459) -> 0.0011972498
A8: Tissue Expression | B8: Non-specific - Translation | C8: 3 | D8: 15 | E8: =sum(C8:D8) -> 18 | F8: =960/1500*E8 -> 11.52 | G8: =C8/F8 -> 0.26041667 | H8: =HYPGEOMDIST(C8,E8,766,1459) -> 0.0015853935
A9: Single Cell Expression | B9: Proximal tubular cells - Tubular reabsorption | C9: 15 | D9: 31 | E9: =sum(C9:D9) -> 46 | F9: =960/1500*E9 -> 29.44 | G9: =C9/F9 -> 0.50951087 | H9: =HYPGEOMDIST(C9,E9,766,1459) -> 0.0027817138
A10: Tissue Expression | B10: Macrophages - Immune response | C10: 36 | D10: 15 | E10: =sum(C10:D10) -> 51 | F10: =960/1500*E10 -> 32.64 | G10: =C10/F10 -> 1.1029412 | H10: =HYPGEOMDIST(C10,E10,766,1459) -> 0.0034269045
A11: Single Cell Expression | B11: Fibroblasts - ECM organization | C11: 59 | D11: 32 | E11: =sum(C11:D11) -> 91 | F11: =960/1500*E11 -> 58.24 | G11: =C11/F11 -> 1.0130495 | H11: =HYPGEOMDIST(C11,E11,766,1459) -> 0.0044284545
A12: Tissue Expression | B12: Lung - Lung function | C12: 15 | D12: 3 | E12: =sum(C12:D12) -> 18 | F12: =960/1500*E12 -> 11.52 | G12: =C12/F12 -> 1.3020833 | H12: =HYPGEOMDIST(C12,E12,766,1459) -> 0.0053488379
A13: Tissue Expression | B13: Adipose tissue - ECM organization | C13: 44 | D13: 22 | E13: =sum(C13:D13) -> 66 | F13: =960/1500*E13 -> 42.24 | G13: =C13/F13 -> 1.0416667 | H13: =HYPGEOMDIST(C13,E13,766,1459) -> 0.0061693533
... A63: Tissue Expression | B63: T-cells - Adaptive immune response | C63: 13 | D63: 16 | E63: =sum(C63:D63) -> 29 | F63: =960/1500*E63 -> 18.56 | G63: =C63/F63 -> 0.70043103 | H63: =HYPGEOMDIST(C63,E63,766,1459) -> 0.10523325
A64: Single Cell Expression | B64: Spermatocytes & Spermatogonia - Spermatogenesis | D64: 3 | E64: =sum(C64:D64) -> 3 | F64: =960/1500*E64 -> 1.92 | G64: =C64/F64 -> 0 | H64: =HYPGEOMDIST(C64,E64,766,1459) -> 0.10691657
A65: Tissue Expression | B65: Retina - Phototransduction | C65: 0 | D65: 3 | E65: =sum(C65:D65) -> 3 | F65: =960/1500*E65 -> 1.92 | G65: =C65/F65 -> 0 | H65: =HYPGEOMDIST(C65,E65,766,1459) -> 0.10691657
A66: Single Cell Expression | B66: NK-cells & T-cells - Immune response | C66: 30 | D66: 27 | E66: =sum(C66:D66) -> 57 | F66: =960/1500*E66 -> 36.48 | G66: =C66/F66 -> 0.82236842 | H66: =HYPGEOMDIST(C66,E66,766,1459) -> 0.10746188
A67: Tissue Expression | B67: Liver - Metabolism | C67: 28 | D67: 24 | E67: =sum(C67:D67) -> 52 | F67: =960/1500*E67 -> 33.28 | G67: =C67/F67 -> 0.84134615 | H67: =HYPGEOMDIST(C67,E67,766,1459) -> 0.11027672
A68: Tissue Expression | B68: Parathyroid gland - membrane proteins | C68: 11 | D68: 14 | E68: =sum(C68:D68) -> 25 | F68: =960/1500*E68 -> 16 | G68: =C68/F68 -> 0.6875 | H68: =HYPGEOMDIST(C68,E68,766,1459) -> 0.11105955
A69: Tissue Expression | B69: Skin - Epidermis development | C69: 10 | D69: 13 | E69: =sum(C69:D69) -> 23 | F69: =960/1500*E69 -> 14.72 | G69: =C69/F69 -> 0.67934783 | H69: =HYPGEOMDIST(C69,E69,766,1459) -> 0.11426178
A70: Single Cell Expression | B70: Syncytiotrophoblasts - Pregnancy hormone signaling | C70: 11 | D70: 6 | E70: =sum(C70:D70) -> 17 | F70: =960/1500*E70 -> 10.88 | G70: =C70/F70 -> 1.0110294 | H70: =HYPGEOMDIST(C70,E70,766,1459) -> 0.1186972
A71: Tissue Expression | B71: Squamous epithelial cells - Epithelial cell function | C71: 12 | D71: 7 | E71: =sum(C71:D71) -> 19 | F71: =960/1500*E71 -> 12.16 | G71: =C71/F71 -> 0.98684211 | H71: =HYPGEOMDIST(C71,E71,766,1459) -> 0.12063178
A72: Tissue Expression | B72: Intestine & Kidney - Transmembrane transport | C72: 14 | D72: 9 | E72: =sum(C72:D72) -> 23 | F72: =960/1500*E72 -> 14.72 | G72: =C72/F72 -> 0.95108696 | H72: =HYPGEOMDIST(C72,E72,766,1459) -> 0.12189889
A73: Tissue Expression | B73: Brain & Skin - Unknown function | C73: 7 | D73: 10 | E73: =sum(C73:D73) -> 17 | F73: =960/1500*E73 -> 10.88 | G73: =C73/F73 -> 0.64338235 | H73: =HYPGEOMDIST(C73,E73,766,1459) -> 0.12509328
A74: Single Cell Expression | B74: Enterocytes - Digestion | C74: 18 | D74: 18 | E74: =sum(C74:D74) -> 36 | F74: =960/1500*E74 -> 23.04 | G74: =C74/F74 -> 0.78125 | H74: =HYPGEOMDIST(C74,E74,766,1459) -> 0.12768313
A75: Single Cell Expression | B75: Non-specific - Transcription | C75: 6 | D75: 9 | E75: =sum(C75:D75) -> 15 | F75: =960/1500*E75 -> 9.6 | G75: =C75/F75 -> 0.625 | H75: =HYPGEOMDIST(C75,E75,766,1459) -> 0.12904077
A76: Single Cell Expression | B76: Smooth muscle cells - ECM organization | C76: 20 | D76: 18 | E76: =sum(C76:D76) -> 38 | F76: =960/1500*E76 -> 24.32 | G76: =C76/F76 -> 0.82236842 | H76: =HYPGEOMDIST(C76,E76,766,1459) -> 0.13045267
... A135: Tissue Expression | B135: Adrenal gland - Steroid metabolism | C135: 1 | D135: 2 | E135: =sum(C135:D135) -> 3 | F135: =960/1500*E135 -> 1.92 | G135: =C135/F135 -> 0.52083333 | H135: =HYPGEOMDIST(C135,E135,766,1459) -> 0.35556335
A136: Single Cell Expression | B136: Spermatogonia & Spermatocytes - Spermatogenesis | D136: 1 | E136: =sum(C136:D136) -> 1 | F136: =960/1500*E136 -> 0.64 | G136: =C136/F136 -> 0 | H136: =HYPGEOMDIST(C136,E136,766,1459) -> 0.47498286
A137: Tissue Expression | B137: Ciliated cells - Cilium organization | C137: 0 | D137: 1 | E137: =sum(C137:D137) -> 1 | F137: =960/1500*E137 -> 0.64 | G137: =C137/F137 -> 0 | H137: =HYPGEOMDIST(C137,E137,766,1459) -> 0.47498286
A138: Tissue Expression | B138: Retina & Lymphoid tissues - Unknown function | C138: 1 | D138: 1 | E138: =sum(C138:D138) -> 2 | F138: =960/1500*E138 -> 1.28 | G138: =C138/F138 -> 0.78125 | H138: =HYPGEOMDIST(C138,E138,766,1459) -> 0.49909036
A139: Tissue Expression | B139: Epididymis - Antimicrobial activity | C139: 1 | D139: 0 | E139: =sum(C139:D139) -> 1 | F139: =960/1500*E139 -> 0.64 | G139: =C139/F139 -> 1.5625 | H139: =HYPGEOMDIST(C139,E139,766,1459) -> 0.52501714

Sheet SI Table 4 DAVID Enrichment Ana
A1: Enrichment Analysis of Mortality Associated Proteins
A2: Category | B2: Term | C2: Count | D2: % | E2: PValue | F2: Genes | G2: List Total | H2: Pop Hits | I2: Pop Total | J2: Fold Enrichment | K2: Bonferroni | L2: Benjamini | M2: FDR | N2: log10(FDR)
A3: UP_KW_PTM | B3: KW-1015~Disulfide bond | C3: 623 | D3: 68.612335 | E3: 1.7760119e-30 | F3: P32942, P26022, Q06141, P08833, O14793, P20718, P52798, P21802, P16581, B1AKI9, O14786, Q9Y275, P05451, Q92854, Q96FE7, P28799, Q496F6, O95445, P27487, Q9UKU9, Q9Y279, P16109, P15018, Q08431, Q9HBG7, P16234, Q9BYF1, P15144, P21810, O60575, P15260, P38484, Q9Y286, Q9ULX7, O14798, P28325, P27695, Q92956, P06756, P04216, Q9BQ51, P17405, Q8NBP7, P37023, P14384, P16562, O60542, O00292, Q92832, P24071, P54760, P07858, Q13822, P26010, P48023, Q07325, O00175, P08709, P18510, Q9NQ79, P19957, Q5KU26, P18627, P20827, Q9UKX5, P31949, Q92823, P04233, Q6UXD5, Q12860, P09603, P07306, Q12866, O00220, Q8IYS5, O00585, Q96NZ8, O00584, Q8IX05, P18564, O00468, Q9BZM5, P15291, Q9Y4X3, P41217, Q969P0, O14625, P42785, Q8N149, P08648, Q9UM47, P51671, Q9NZC2, P80098, P29460, Q96NY8, P32970, P10721, Q9P0K1, P16278, P43628, Q9Y240, Q92520, P07204, Q9UKR0, P31997, Q12884, Q6UXB2, Q6UXB4, Q10589, Q2VWP7, O00241, Q07654, Q9NQ25, Q9NS68, P15151, P06681, Q92752, P05231, O14763, Q6NW40, Q92876, P51693, P09958, O95388, Q13740, O00253, Q9NQ30, Q8IWL1, Q03167, Q8IWL2, P19883, P48061, P30530, P53634, Q9P0M4, P0CG37, O76096, P15289, Q9NQ38, Q9HCK4, Q8NBS9, P18428, P37173, O14773, P05362, Q86VB7, Q8N474, P04275, P29317, P04155, O43155, P01241, O00548, Q9UHF1, O43278, P80188, P15529, P58499, Q9HCB6, P14555, P50895, O00300, P16860, Q99523, Q8WWY7, Q96PQ0, P17948, Q8NBJ7, P01236, P25445, P07911, P01591, Q6ISS4, Q86SR1, P23280, P49771, P35247, P14207, P13598, P13236, P14210, O14836, Q6UWW8, Q9NS15, P36222, Q9P0G3, P01589, P01588, Q6DN72, P23276, Q8WU39, Q01638, Q16363, O43291, Q9Y6Y9, Q6GTX8, P49763, P15509, Q9UMR7, Q9UP79, Q6YHK3, Q9Y5W5, Q6BAA4, P51888, P13688, P35475, P14778, P13686, P12111, P14780, O76061, Q15165, P48304, P01138, P01258, P01137, P48307, P01135, Q99988, Q15166, P01375, P24592, Q86T13, Q9Y336, P02462, P01130, O00339, A6NI73, P04626, P80075, P15514, O75077, P14543, P17931, P35590, Q99731, P58294, P17813, P57087, P17936, Q01973, P28827, P40933, Q8WX77, O00626, Q9Y624, P06734, P56159, P07949, P59665, O76036, P15328, O00622, Q8NC01, Q16270, O14904, P42701, P42702, P15692, P24158, Q8N423, P01034, P01033, P07711, A1L4H1, O43240, Q9GZV9, O75054, Q7Z5L0, Q12918, Q9UHC6, Q6PCB0, P35052, Q96P31, Q9UBX7, Q16288, Q9H7M9, Q7Z6M3, Q9UQV4, O43570, Q9BQR3, Q9UHD0, Q12805, P80162, O43699, Q08345, Q5VY43, Q07011, Q8NFT8, Q8WTU2, P22079, Q9H4F8, P01178, P24394, Q86VZ4, P52823, P51858, Q08334, O60911, Q9H2A7, Q99650, P24387, P06731, P25116, Q99538, Q16627, Q13478, Q9BZZ2, Q9BY76, P13747, Q96LA5, P20160, Q6UWN8, P13987, Q04760, P30086, P13501, O43557, Q03431, P13500, P11684, P45452, Q13361, P20273, Q5T2D2, O94907, Q9C0C4, Q9HAV5, Q14210, P21246, Q13241, P03950, Q8IU54, P47992, Q8IU57, P48960, P03956, O75015, P12544, Q86SJ2, Q96GW7, Q8TE57, Q96F46, Q9H156, Q8TE58, P08174, Q9UBT3, P46531, Q7Z7D3, P00533, Q8NCC3, P78380, Q16881, Q16769, P15907, P13725, Q14108, P13726, Q6UWL6, P18065, Q9Y6Q6, Q969Z4, Q01469, Q03405, Q01344, P20138, P02749, Q03403, Q13261, Q16651, Q8NHL6, P02745, P25942, P21583, Q16653, Q9BZW8, P09238, P21589, Q14112, Q96SM3, Q96I82, P22692, Q76LX8, Q14118, P10586, P13611, P35625, O75594, Q9NRJ3, Q9HD89, P43121, Q16663, O94813, Q7KYR7, Q6ZMJ2, P00797, P43489, Q14242, Q13275, P55103, P15848, O75462, Q96AP7, Q5ZPR3, Q16552, Q96JA1, Q16674, Q16790, Q99969, Q99727, P02760, Q96D42, Q96DU3, Q9BXY4, Q6EIG7, Q2MKA7, P35443, P35442, Q96PL1, Q13291, Q02763, Q9GZM7, Q9UBP4, Q15116, P35318, Q9BWV1, P12318, O75326, P20062, Q9BYZ8, Q96LC7, Q9UMF0, O43854, Q9Y5K2, O43736, P11464, Q8WVQ1, Q6UX15, Q9H6B4, Q9NY25, Q9UEW3, P08069, P01215, Q14393, P26951, P02786, P48745, Q15485, P55259, P23582, O94856, P39905, P10147, Q9Y6N7, O43508, P39900, Q9Y5L3, P10145, Q9NZ53, Q02747, Q6UX27, P28907, P28908, Q9UBR2, Q02742, P02778, Q14162, P22004, P26842, P78423, P29017, Q3KPI0, O15123, Q6UXH1, Q15818, Q96GP6, Q9P0V8, Q96H15, O43715, P55789, Q06418, Q07507, Q8TDL5, Q6ZMC9, Q92692, P39060, P98160, P07237, P07478, O95841, Q12794, O15496, P78410, Q9H5V8, Q15828, Q96RD9, Q8IUN9, Q9H3R2, Q08708, P01903, P05060, Q9UHX3, P08571, O95727, P05187, P05067, P78324, Q8WXI7, P78325, Q8WXI8, O95971, O75888, O15263, Q14508, P16284, Q9NZQ7, P20774, P21741, P78556, P11717, O15031, Q14512, P06127, P07339, Q13421, P78552, P78310, O94779, Q14515, P10747, P19440, P19320, Q13308, Q9Y2B0, O43827, Q6UXG3, Q9UNE0, P21757, P19438, P41222, P04070, Q9BUD6, Q07954, P05164, P07585, O15389, P40259, O95633, O95994, P08118, Q8TDQ0, Q8TDQ1, Q16820, O95998, O14594, Q14767, P36941, O43915, P35613, P30048, P00749, P01833, P22894, O60242, P43234, Q9BSG5, Q9NZK5, O75509, Q8NHJ6, Q8IWV2, Q13444, P35968, Q49AH0, Q96PD2, P19021, O43927, O60259, Q9UJ71, Q9HB29, Q86SF2, P09466, O95407, P08254, O15444, P22304, P22301, P29279, Q9NPY3, Q13219, Q9NP84, Q01151, Q9H3U7, P12830, P40189, Q9Y5C1, O60462, P01732, P01730, P41159, P20333, Q14435, P55774, O15232, P55773, Q16853, O15354, P12724, P41271, Q6UXK5, Q92583, O15467, Q9BXN2, P24821, Q9UGT4, P08473, P00995, P00750, P09326, Q13231, Q9BZR6 | G3: 870 | H3: 827 | I3: 1378 | J3: 1.193198 | K3: 5.3280356e-29 | L3: 5.5056367e-29 | M3: 5.1504344e-29 | N3: =-LOG10(M3) -> 28.288156
A4: UP_KW_PTM | B4: KW-0325~Glycoprotein | C4: 606 | D4: 66.740088 | E4: 6.4752229e-25 | F4: P32942, P26022, O14793, P20718, P52798, P21802, Q8IZP9, P16581, B1AKI9, O14786, Q9Y275, P05451, O14788, Q92854, Q96FE7, P28799, P08962, Q496F6, O95445, P27487, Q9UKU9, P16109, P15018, Q08431, Q9HBG7, P16234, Q9BYF1, P15144, P21810, Q96KN2, P15260, P38484, Q9Y286, Q9ULX7, O14798, Q92956, P06756, P04216, Q9BYE9, Q9BQ51, P17405, Q8NBP7, P37023, P14384, O00292, Q92832, P24071, P54760, P07858, Q13822, P26010, P48023, O00175, P08709, P18510, Q9NQ79, Q5KU26, P18627, P20827, Q9UKX5, Q9H3G5, Q92823, P04233, Q92820, Q6UXD5, Q12860, P09603, P07306, Q12866, Q12864, O00220, Q8IYS5, Q96NZ8, O00584, Q8IX05, P18564, Q8IUK5, O00468, Q9BZM5, P15291, Q8N386, P41217, Q969P0, P42785, Q8N149, P08648, Q9UM47, P51671, Q9NZC2, P80098, P29460, Q96NY8, P32970, P10721, Q9P0K1, P16278, P43628, Q9Y240, P07204, Q9UKR0, P31997, Q12884, Q9UHL4, O95498, Q6UXB4, Q10589, Q2VWP7, O00241, P21709, Q9NQ25, Q9NS68, P15151, P55808, P06681, Q92752, P05231, O14763, Q6NW40, Q92876, Q8WXD2, P30533, P51693, P09958, O95388, Q13740, Q14956, Q9NQ30, Q8IWL1, Q03167, Q8IWL2, P19883, P30530, P53634, P0CG37, O76096, P15289, Q9HCK4, P18428, P37173, O14773, P05362, Q86VB7, Q8N474, P05121, P04275, P29317, Q86WD7, O43155, O00548, O43278, P80188, P15529, P58499, Q9HCB6, P50895, O00300, O95274, P16860, Q99523, Q96PQ0, P17948, Q8NBJ7, P01236, Q9H4D0, Q6UWV6, P25445, P07911, P01591, Q86SR1, P23280, P14209, P49771, P35247, P14207, P13598, P14210, O14836, Q04900, Q6UWW8, Q9NS15, P36222, Q13093, Q8NBI3, P01589, Q8TCZ2, P01588, Q6DN72, Q6UX82, P23276, Q01638, Q16363, O43291, Q15155, Q9Y6Y9, Q8N6Q3, Q6GTX8, P49763, P15509, Q8N608, Q9UMR7, Q9UP79, Q6YHK3, Q9Y5W5, Q6BAA4, P51888, P13688, P35475, P14778, P13686, P12111, P14780, O76061, Q15165, P48304, Q15043, P01138, P01137, P48307, P01135, Q99988, Q9H8J5, Q15166, P01375, P24592, Q86T13, Q9Y336, P02462, P01130, O00339, A6NI73, P04626, O00451, P15514, Q9BU40, O75077, P14543, P35590, P17813, P57087, P17936, Q01973, P28827, P40933, Q8WX77, Q9Y624, P06734, P56159, P07949, P36269, O76036, P15328, Q8NC01, Q16270, O14904, P42701, P42702, P15692, Q92932, P24158, Q8N423, P01034, P01033, P07711, A1L4H1, O43240, Q9GZV9, O75054, Q12918, Q9UHC6, Q6PCB0, P35052, O14917, Q96P31, Q9UBX7, Q16288, P05783, Q9H7M9, Q7Z6M3, Q9UQV4, O43570, Q9BQR3, Q9UHD0, Q9HBB8, Q9UKJ1, Q9UKJ0, Q12805, O43699, Q08345, P12034, Q5VY43, Q07011, Q8NFT8, Q9NRM6, P22079, Q9H4F8, P24394, Q9Y653, Q86VZ4, P52823, Q08334, O60911, Q06033, Q9H2A7, P18827, Q99650, P24387, P06731, P25116, Q99538, Q16627, Q13478, Q9BZZ2, Q9BY76, P13747, Q96LA5, P20160, P13987, P13501, O43557, Q03431, P13500, P07196, P45452, Q13361, P20273, Q5T2D2, O94907, Q9C0C4, Q9HAV5, Q7Z5A7, Q14210, Q13241, Q8IU54, Q8IU57, P48960, P03956, O75015, P12544, Q86SJ2, Q96GW7, Q9Y4L1, Q8TE57, Q96F46, Q9H156, Q8TE58, P08174, P46531, P22223, P55285, Q7Z7D3, P00533, Q8NCC3, P78380, Q16769, P15907, O43895, P13725, Q14108, P13726, Q6UWL6, P18065, P10451, Q9Y6Q6, Q969Z4, Q03405, Q01344, P20138, P02749, Q13261, Q16651, Q8NHL6, P02745, P25942, P21583, Q16653, Q9BZW8, P21589, Q13145, Q14112, P55291, Q96SM3, Q96I82, Q9HAT2, P22692, Q76LX8, Q14118, P10586, P13611, O75594, Q9NRJ3, P43121, O94813, Q7KYR7, Q6ZMJ2, P00797, P43489, Q14242, Q13275, Q14126, P55103, P15848, O75462, Q96AP7, Q5ZPR3, Q16552, Q96JA1, Q16790, P02760, Q96D42, Q96DU3, Q9BXY4, P78333, Q6EIG7, Q2MKA7, P35443, Q86U17, P35442, Q13291, Q02763, P33151, Q9GZM7, Q9UBP4, Q15116, Q9BWV1, P12318, O75326, Q9BYZ8, Q96LC7, Q9UMF0, O43854, P13521, Q9Y5K2, O43736, P11464, Q8WVQ1, Q6UX15, Q9H6B4, Q9NY25, Q9UEW3, P08069, P01215, Q14393, P26951, P02786, P48745, Q15485, P55259, Q08174, O94856, P39905, O15197, Q9Y6N7, O43508, P39900, Q9Y5L3, Q9NZV1, O43505, Q9NZ53, Q6UX27, P28907, P28908, Q9UBR2, Q02742, Q9UJA9, P28906, Q14162, P22004, P26842, P78423, P29017, Q3KPI0, O15123, Q6UXH1, Q15818, Q96GP6, Q9P0V8, Q96H15, Q06418, Q8TDL5, Q6ZMC9, Q92692, P39060, P98160, O95841, Q12794, O15496, P78410, Q8NBZ7, Q9H5V8, Q15828, Q96RD9, Q8IUN9, Q9H3R2, Q96J42, Q08708, P01903, P05060, Q9UHX3, P08571, O95727, P05187, P05067, P78324, Q8WXI7, P78325, Q8WXI8, O95971, O75888, Q14508, P31431, P16284, Q8TAD2, Q9NZQ7, P20774, P11717, O15031, Q14512, P06127, P07339, Q13421, P78552, P78310, O94779, Q14515, P10747, P19440, P19320, Q13308, O43827, Q6UXG3, Q9UNE0, P21757, P19438, P41222, P08670, P04070, Q9BUD6, Q07954, P05164, P07585, O15389, P40259, Q9BXJ1, O95633, Q8TDQ0, Q8TDQ1, Q16820, O95998, O14594, Q14767, P36941, O43915, P35613, P00749, O60243, P01833, P22894, O60242, P43234, O75629, Q9NZK5, O75509, Q8IWV2, Q13444, P35968, Q96PD2, Q6WN34, P19021, P19022, O60259, Q9UJ71, Q9HB29, Q02487, P23515, P09466, O95407, P22304, Q6ZMH5, P22301, P29279, Q9NPY3, Q15517, Q13219, Q01151, Q9H3U7, P12830, P40189, Q9Y5C1, O60462, P01732, P01730, P20333, Q14435, Q16853, O15354, P12724, Q6UXK5, Q9BXN2, P24821, Q9UGT4, P08473, P00750, P09326, Q13231, Q9BZR6, P08236 | G4: 870 | H4: 816 | I4: 1378 | J4: 1.1762847 | K4: 1.9425669e-23 | L4: 1.0036595e-23 | M4: 9.3890732e-24 | N4: =-LOG10(M4) -> 23.027377
A5: UP_SEQ_FEATURE | B5: CARBOHYD:N-linked (GlcNAc...) asparagine | C5: 565 | D5: 62.22467 | E5: 7.2861059e-25 | F5: P32942, P26022, O14793, P20718, P52798, P21802, Q8IZP9, P16581, B1AKI9, O14786, Q9Y275, O14788, Q92854, P28799, P08962, Q496F6, O95445, P27487, Q9UKU9, P16109, P15018, Q08431, Q9HBG7, P16234, Q9BYF1, P15144, P21810, Q96KN2, P15260, P38484, Q9Y286, Q9ULX7, Q92956, P06756, P04216, Q9BYE9, Q9BQ51, P17405, Q8NBP7, P37023, P14384, O00292, Q92832, P24071, P54760, P07858, Q13822, P26010, P48023, O00175, P08709, P18510, Q5KU26, P18627, P20827, Q9UKX5, Q9H3G5, Q92823, P04233, Q92820, Q6UXD5, Q12860, P09603, P07306, Q12866, Q12864, O00220, Q8IYS5, Q96NZ8, O00584, Q8IX05, P18564, Q8IUK5, O00468, Q9BZM5, P15291, Q8N386, P41217, Q969P0, P42785, Q8N149, P08648, Q9UM47, Q9NZC2, P80098, P29460, Q96NY8, P32970, P10721, Q9P0K1, P16278, P43628, P07204, Q9UKR0, P31997, Q12884, Q9UHL4, O95498, Q6UXB4, Q10589, Q2VWP7, O00241, P21709, Q9NQ25, Q9NS68, P15151, P06681, Q92752, P05231, Q6NW40, Q92876, P30533, P51693, P09958, O95388, Q13740, Q14956, Q8IWL1, Q03167, Q8IWL2, P19883, P30530, P53634, P0CG37, O76096, P15289, Q9HCK4, P18428, P37173, O14773, P05362, Q86VB7, Q8N474, P05121, P04275, P29317, Q86WD7, O43155, O00548, O43278, P80188, P15529, P58499, Q9HCB6, P50895, O00300, O95274, Q99523, Q96PQ0, P17948, Q8NBJ7, Q9H4D0, Q6UWV6, P25445, P07911, Q86SR1, P23280, P49771, P35247, P14207, P13598, O14836, Q04900, Q6UWW8, Q9NS15, P36222, Q13093, Q8NBI3, P01589, P01588, Q6DN72, Q6UX82, P23276, Q01638, Q16363, O43291, Q15155, Q9Y6Y9, Q8N6Q3, Q6GTX8, P49763, P15509, Q8N608, Q9UMR7, Q9UP79, Q6YHK3, Q9Y5W5, Q6BAA4, P51888, P13688, P35475, P14778, P13686, P12111, P14780, O76061, Q15165, Q15043, P01138, P01137, P48307, P01135, Q99988, Q9H8J5, Q15166, Q86T13, Q9Y336, P02462, P01130, O00339, A6NI73, P04626, O00451, P15514, Q9BU40, O75077, P35590, P17813, P57087, Q01973, P28827, P40933, Q8WX77, Q9Y624, P06734, P56159, P07949, P36269, O76036, P15328, Q8NC01, Q16270, O14904, P42701, P42702, P15692, Q92932, P24158, Q8N423, P01033, P07711, A1L4H1, O43240, O75054, Q12918, Q9UHC6, Q6PCB0, P35052, O14917, Q96P31, Q9UBX7, Q16288, Q9H7M9, Q7Z6M3, Q9UQV4, O43570, Q9BQR3, Q9UHD0, Q9HBB8, Q9UKJ1, Q9UKJ0, Q12805, O43699, Q08345, P12034, Q5VY43, Q07011, Q8NFT8, Q9NRM6, P22079, Q9H4F8, P24394, Q9Y653, Q86VZ4, P52823, Q08334, O60911, Q06033, Q9H2A7, P18827, Q99650, P24387, P06731, P25116, Q99538, Q13478, Q9BZZ2, Q9BY76, P13747, Q96LA5, P20160, P13987, O43557, Q03431, P13500, P45452, Q13361, P20273, Q5T2D2, O94907, Q9C0C4, Q9HAV5, Q7Z5A7, Q13241, Q8IU54, Q8IU57, P48960, P03956, O75015, P12544, Q86SJ2, Q96GW7, Q9Y4L1, Q8TE57, Q96F46, Q9H156, Q8TE58, P08174, P46531, P22223, P55285, Q7Z7D3, P00533, Q8NCC3, P78380, Q16769, P15907, O43895, P13725, Q14108, P13726, Q6UWL6, Q9Y6Q6, Q969Z4, Q03405, Q01344, P20138, P02749, Q13261, Q16651, Q8NHL6, P02745, P25942, P21583, Q16653, Q9BZW8, P21589, Q13145, Q14112, P55291, Q96SM3, Q96I82, Q9HAT2, P22692, Q76LX8, Q14118, P10586, P13611, O75594, Q9NRJ3, P43121, O94813, Q7KYR7, Q6ZMJ2, P00797, P43489, Q14242, Q13275, Q14126, P55103, P15848, O75462, Q96AP7, Q5ZPR3, Q16552, Q96JA1, Q16790, Q96D42, Q96DU3, Q9BXY4, P78333, Q6EIG7, Q2MKA7, P35443, Q86U17, P35442, Q13291, Q02763, P33151, Q9GZM7, Q9UBP4, Q15116, Q9BWV1, P12318, O75326, Q9BYZ8, Q96LC7, Q9UMF0, O43854, Q9Y5K2, O43736, P11464, Q8WVQ1, Q6UX15, Q9H6B4, Q9NY25, Q9UEW3, P08069, P01215, Q14393, P26951, P02786, P48745, Q15485, P55259, Q08174, O94856, P39905, O15197, Q9Y6N7, O43508, P39900, Q9Y5L3, Q9NZV1, O43505, Q9NZ53, Q6UX27, P28907, P28908, Q9UBR2, Q02742, Q9UJA9, P28906, Q14162, P22004, P26842, P78423, P29017, Q3KPI0, O15123, Q6UXH1, Q15818, Q96GP6, Q9P0V8, Q96H15, Q06418, Q8TDL5, Q6ZMC9, Q92692, P39060, P98160, O95841, Q12794, O15496, P78410, Q8NBZ7, Q9H5V8, Q15828, Q96RD9, Q8IUN9, Q9H3R2, Q96J42, Q08708, P01903, Q9UHX3, P08571, O95727, P05187, P05067, P78324, Q8WXI7, P78325, Q8WXI8, O95971, O75888, Q14508, P16284, Q8TAD2, Q9NZQ7, P20774, P11717, O15031, P06127, P07339, Q13421, P78552, P78310, O94779, Q14515, P10747, P19440, P19320, Q13308, O43827, Q6UXG3, Q9UNE0, P21757, P19438, P04070, Q07954, P05164, P07585, O15389, P40259, Q9BXJ1, O95633, Q8TDQ0, Q8TDQ1, Q16820, O95998, O14594, Q14767, P36941, O43915, P35613, P00749, O60243, P01833, P22894, O60242, P43234, O75629, Q9NZK5, O75509, Q8IWV2, Q13444, P35968, Q96PD2, Q6WN34, P19021, P19022, O60259, Q9UJ71, Q9HB29, Q02487, P23515, O95407, P22304, Q6ZMH5, P22301, P29279, Q9NPY3, Q15517, Q13219, Q01151, Q9H3U7, P12830, P40189, Q9Y5C1, O60462, P01730, P20333, Q14435, Q16853, O15354, P12724, Q6UXK5, Q9BXN2, P24821, Q9UGT4, P08473, P00750, P09326, Q9BZR6, P08236 | G5: 889 | H5: 753 | I5: 1419 | J5: 1.1976615 | K5: 2.7053311e-21 | L5: 2.7053311e-21 | M5: 2.7031453e-21 | N5: =-LOG10(M5) -> 20.568131
A6: UP_KW_DOMAIN | B6: KW-0732~Signal | C6: 653 | D6: 71.9163 | E6: 2.0999193e-20 | F6: P32942, P26022, Q06141, P08833, O14793, P20718, P52798, P21802, Q8IZP9, P16581, B1AKI9, O14786, P05451, Q92854, Q96FE7, P28799, Q496F6, O95445, Q9UKU9, Q9Y279, P16109, P15018, Q08431, Q9HBG7, P16234, Q9BYF1, P21810, O60575, Q96KN2, P15260, P38484, Q9Y286, Q9ULX7, O14798, P28325, Q92956, P06756, P04216, Q9BYE9, Q9BQ51, P17405, Q8NBP7, P37023, P14384, P16562, O60542, O00292, Q92832, P24071, P54760, P07858, Q13822, P26010, Q07325, Q9NQX5, O00175, P08709, P18510, Q9NQ79, P19957, P18627, P20827, Q9UKX5, Q9H3G5, Q92823, Q92820, Q6UXD5, Q12860, P09603, Q12866, Q12864, O00220, Q8IYS5, O00585, Q96NZ8, O00584, Q8IX05, P18564, Q8IUK5, O00468, Q9BZM5, Q8N386, Q9Y4X3, P41217, Q969P0, O14625, P42785, Q8N149, P08648, Q9UM47, P51671, Q9NZC2, P80098, P29460, Q96NY8, P10721, Q9P0K1, P16278, P43628, Q9Y240, Q92520, P07204, Q9UKR0, P31997, Q9UHL4, Q6UXB2, O95498, Q2VWP7, O00241, P21709, Q07654, Q9NQ25, Q9NS68, P15151, P55808, P06681, Q92752, P05231, O14763, Q6NW40, Q92876, Q8WXD2, P30533, P51693, P09958, O95388, Q13740, Q14956, O00253, Q9NQ30, Q8IWL1, Q03167, Q8IWL2, P19883, P48061, P30530, P53634, Q9P0M4, P0CG37, O76096, P15289, Q9NQ38, Q9HCK4, Q8NBS9, P18428, P37173, O14773, P05362, Q86VB7, Q8N474, P05121, P04275, P29317, Q86WD7, P04155, O43155, P01241, P24001, O00548, Q9UHF1, O43278, P80188, P15529, P58499, Q9HCB6, P14555, P50895, O00300, O95274, O76076, P16860, Q99523, Q8WWY7, Q96PQ0, P17948, Q8NBJ7, P01236, Q9H4D0, Q6UWV6, P25445, P07911, P01591, Q6ISS4, P23280, P14209, P49771, P35247, P14207, P13598, P13236, P14210, Q04900, Q6UWW8, Q9NS15, P36222, Q9P0G3, Q13093, Q8NBI3, P01589, Q8TCZ2, P01588, Q6DN72, Q6UX82, Q8WU39, Q01638, Q16363, O43291, Q15155, Q9Y6Y9, Q8N6Q3, Q6GTX8, P49763, P15509, Q9UP79, Q6YHK3, Q9Y5W5, Q6BAA4, P51888, P13688, P35475, P14778, P13686, P12111, P14780, O76061, Q15165, P48304, Q15043, P01138, P01258, P01137, P48307, P01135, Q99988, Q9H8J5, Q15166, P24592, Q86T13, Q9Y336, P02462, P01130, O00339, A6NI73, P04626, O00451, P80075, P15514, Q9BU40, O75077, P14543, P35590, Q99731, P58294, P17813, P57087, P17936, Q01973, P28827, P40933, Q8WX77, O00626, Q9Y624, P56159, P07949, P59665, O76036, P15328, O00622, Q16270, O14904, P42701, P42702, P15692, Q92932, P24158, Q8N423, P01034, P01033, P07711, A1L4H1, O43240, Q9GZV9, O75054, Q7Z5L0, Q9UHC6, Q6PCB0, P35052, Q99674, O14917, Q96P31, Q9UBX7, Q16288, Q9H7M9, Q7Z6M3, Q9UQV4, O43570, Q9BQR3, Q9UHD0, Q9HBB8, Q9UKJ1, Q9UKJ0, Q12805, P80162, O43699, Q08345, P12034, Q5VY43, Q07011, Q8NFT8, Q9NRM6, Q8WTU2, P22079, Q9H4F8, P01178, P01298, P24394, Q9Y653, Q86VZ4, P52823, Q08334, O60911, Q06033, Q9H2A7, P18827, Q99650, P06850, P24387, P06731, P25116, Q99538, Q16627, Q13478, Q9BZZ2, Q9BY76, P13747, Q96LA5, P20160, Q6UWN8, P13987, P13501, Q03431, P13500, P11684, P45452, Q13361, P20273, Q5T2D2, O94907, Q9C0C4, Q7Z5A7, Q14210, P21246, P03950, Q8IU54, P47992, Q8IU57, P48960, P03956, O75015, P12544, Q86SJ2, Q96GW7, Q9Y4L1, Q8TE57, Q96F46, Q9H156, Q8TE58, P08174, Q9UBT3, P46531, P22223, P55285, Q7Z7D3, P00533, Q8NCC3, Q16769, O43895, P13725, Q14108, P13726, Q6UWL6, P18065, P10451, P12872, Q9Y6Q6, Q969Z4, Q03405, Q01344, P20138, P02749, Q03403, Q13261, Q16651, Q8NHL6, P02745, P25942, P21583, Q16653, Q9BZW8, P09238, P21589, Q13145, Q14112, P55291, Q96SM3, P09237, Q96I82, Q9HAT2, Q76M96, P22692, Q76LX8, Q14118, P10586, P13611, P35625, O75594, Q9NRJ3, Q9HD89, P43121, Q16663, O94813, Q7KYR7, P00797, P43489, Q14242, Q13275, P80303, Q14126, P55103, P15848, O75462, Q96AP7, Q5ZPR3, Q16552, Q96JA1, Q16674, Q16790, Q99969, Q99727, P02760, Q96D42, Q96DU3, Q9BXY4, P78333, Q2MKA7, P35443, Q86U17, P35442, Q8NI22, Q96PL1, Q13291, Q02763, P33151, Q9GZM7, Q9UBP4, Q15116, P35318, Q9BWV1, P12318, O75326, P20062, Q9BYZ8, Q96LC7, Q9UMF0, O43854, P13521, Q9Y5K2, P11464, Q6UX15, Q9H6B4, P08069, P01215, Q14393, P26951, P48745, Q15485, P55259, P23582, Q08174, O94856, P39905, O15197, P10147, Q9Y6N7, P39900, Q9NZV1, P10145, Q9NZ53, Q02747, Q6UX27, P28908, Q9UBR2, Q9UJA9, P28906, P02778, Q14162, P22004, P26842, P78423, P29017, Q3KPI0, O15123, O75787, Q6UXH1, Q15818, Q96GP6, Q9P0V8, Q96H15, Q06418, Q07507, Q8TDL5, Q6ZMC9, Q92692, P39060, P98160, Q9NSA1, P07237, P07478, O95841, Q12794, O15496, P78410, Q8NBZ7, Q9H5V8, Q15828, Q96RD9, Q9H3R2, Q96J42, Q08708, P01903, P05060, Q9UHX3, P08571, Q2TAL6, O95727, P05187, P05067, P78324, Q8WXI7, P78325, O95971, O15263, Q14508, P31431, P16284, Q8TAD2, Q9NZQ7, P20774, P21741, P78556, P11717, O15031, Q14512, P06127, P07339, Q13421, P78552, P78310, O94779, Q14515, P10747, P19320, Q13308, Q9Y2B0, O43827, Q6UXG3, Q9UNE0, P19438, P41222, P04070, Q9BUD6, Q07954, P05164, P07585, O15389, P40259, Q9BXJ1, O95633, O95994, P08118, Q8TDQ0, Q8TDQ1, Q16820, O95998, O14594, Q14767, P36941, O43915, P35613, P00749, P01833, P22894, O60242, P43234, Q9BSG5, O75629, Q9NZK5, O75509, Q8NHJ6, Q8IWV2, Q13444, P35968, Q49AH0, Q96PD2, Q6WN34, P19021, P19022, O43927, O60259, Q9HB29, Q02487, P23515, P09466, O95407, P08254, O15444, P22304, Q6ZMH5, P22301, P29279, Q9NPY3, Q15517, Q13219, Q9NP84, Q01151, Q9H3U7, P12830, P40189, Q9Y5C1, O60462, P01732, P01730, P41159, P20333, P55774, O15232, P55773, O15354, P12724, P41271, Q6UXK5, Q92583, O15467, P24821, Q9UGT4, P00995, P00750, P09326, Q13231, Q9BZR6, P08236 | G6: 815 | H6: 873 | I6: 1220 | J6: 1.1196987 | K6: 5.4597901e-19 | L6: 5.4597901e-19 | M6: 5.4597901e-19 | N6: =-LOG10(M6) -> 18.262824
A7: UP_SEQ_FEATURE | B7: TRANSMEM:Helical | C7: 362 | D7: 39.867841 | E7: 1.2144069e-12 | F7: Q13478, P32942, Q06141, Q9BZZ2, Q9Y2W6, P13747, Q96LA5, Q03431, P21802, Q8IZP9, P16581, P45452, O14786, P20273, Q5T2D2, Q9Y275, Q9C0C4, O14788, Q9HAV5, Q7Z5A7, Q13241, Q92854, Q96FE7, P08962, P27487, Q496F6, Q9UNK0, Q8IU57, Q9Y279, O75015, P16109, Q86SJ2, Q9H156, Q96F46, Q9HBG7, P16234, Q9BYF1, P15144, P15260, P38484, P30519, P46531, P22223, P55285, Q7Z7D3, Q9Y286, P00533, Q9ULX7, O14798, Q9UKV5, P78380, Q92956, P06756, Q14108, P13726, Q9BYE9, Q6UWL6, Q9BQ51, Q12846, P17405, Q9Y6Q6, Q969Z4, P37023, P14384, P20138, Q01344, Q13261, Q16651, Q8NHL6, P25942, Q9BZW8, P21583, Q16653, P21589, Q13145, P55291, O95466, Q76M96, P24071, P54760, Q13822, P26010, Q14118, P48023, P10586, Q9NQX5, P18627, Q9UKX5, P43121, Q7KYR7, Q92823, P43489, P04233, Q14242, Q6UXD5, Q14126, P09603, P07306, Q12866, Q12864, O00220, Q8IX05, P18564, Q8IUK5, O00468, Q96AP7, Q5ZPR3, P15291, Q96JA1, Q8N386, P41217, Q16790, Q969P0, Q8N149, P08648, Q9UM47, Q96D42, Q96DU3, Q9NZC2, Q96NY8, P32970, P10721, Q9P0K1, P43628, Q02763, Q13291, P33151, P07204, Q15116, Q9BWV1, Q6UXB4, P12318, P50591, Q10589, Q96LC7, Q2VWP7, O00241, Q9UMF0, P21709, P53985, Q9NQ25, Q9NS68, Q8WVQ1, Q6UX15, Q9H6B4, Q9NY25, P15151, P55808, Q9UEW3, P08069, O14763, P02786, P26951, O14523, P55259, P51693, P09958, Q08174, Q13740, O94856, Q14956, O15197, Q03167, Q9Y6N7, P30530, Q9Y5L3, Q9NZV1, Q9HCK4, Q9NZ53, Q6UX27, P28907, P37173, P28908, Q02742, Q9UJA9, P28906, P05362, Q14162, Q86VB7, P29317, P26842, O43155, P78423, O95831, P29017, O00548, Q3KPI0, O43278, P15529, O75787, Q9P0V8, Q96GP6, Q96H15, P50895, Q06418, Q99523, Q96PQ0, Q6ZMC9, O14828, Q92692, P17948, Q9H4D0, Q6UWV6, P25445, Q07065, P07911, P14209, P78410, P49771, Q14739, Q9H5V8, P13598, Q96RD9, Q8IUN9, Q9H3R2, Q96J42, O14836, Q04900, Q08708, P01903, Q9UHX3, Q8TCZ2, O95727, P01589, P05187, Q6DN72, P23276, P05067, Q01638, Q15155, O43291, P78324, Q8WXI7, P78325, Q6GTX8, Q8WXI8, O75888, P15509, Q9UMR7, Q8N608, P13688, P14778, P31431, P35237, P16284, Q15165, Q15043, P07332, Q9NZQ7, P01135, Q9H8J5, P01375, Q9Y336, P11717, Q86T13, O15031, P06127, P01130, P78552, A6NI73, P78310, P04626, P10747, P19440, P19320, Q13308, O95183, P15514, O75077, Q6UXG3, Q9UNE0, Q9Y3D6, P21757, P35590, P19438, P17813, P57087, Q07954, Q01973, P28827, O15389, P40259, Q9Y624, Q8TDQ0, P06734, Q8TDQ1, Q16820, P07949, O14594, P36941, O76036, P15328, P35613, Q8NC01, P42701, P42702, P01833, O60242, O60240, Q92932, Q8N423, O75509, Q8NHJ6, Q13444, P35968, Q96PD2, P19021, P19022, O75054, Q9UHC6, O43927, Q9HB29, O14917, Q02487, Q96P31, Q07812, Q86SF2, Q16288, Q9H7M9, Q6ZMH5, Q9HCU5, Q7Z6M3, Q9UQV4, Q13576, O43570, Q9NPY3, Q9HBB8, Q13219, Q9NP84, Q9UKJ1, Q9UKJ0, Q01151, P12830, O43699, Q08345, Q5VY43, Q07011, Q8NFT8, P40189, Q9NRM6, O60462, P01732, P01730, P20333, P24394, Q14435, Q9Y653, Q86VZ4, P18031, O43464, P41271, Q6UXK5, Q08334, Q9H2A7, P18827, Q99650, Q9BXN2, Q9UGT4, P08473, P09326, P25116, Q6P1M0 | G7: 889 | H7: 481 | I7: 1419 | J7: 1.2012797 | K7: 4.5089259e-09 | L7: 2.1967924e-09 | M7: 2.1950175e-09 | N7: =-LOG10(M7) -> 8.658562
A8: UP_SEQ_FEATURE | B8: TOPO_DOM:Extracellular | C8: 317 | D8: 34.911894 | E8: 1.7749467e-12 | F8: Q13478, P32942, Q9BZZ2, P13747, Q96LA5, O43557, Q03431, P21802, Q8IZP9, P16581, Q9NWQ8, O14786, P20273, Q5T2D2, Q9Y275, Q9C0C4, O14788, Q9HAV5, Q13241, Q92854, Q96FE7, P08962, P27487, Q496F6, Q8IU57, P48960, Q9Y279, P16109, Q86SJ2, Q9H156, Q96F46, Q9HBG7, P16234, Q9BYF1, P15144, P15260, P38484, P46531, P22223, P55285, Q7Z7D3, Q9Y286, P00533, Q9ULX7, P78380, Q92956, P06756, P13726, Q9BYE9, Q6UWL6, Q9BQ51, Q12846, Q9Y6Q6, Q969Z4, P37023, P20138, Q01344, Q13261, Q8NHL6, P25942, Q9BZW8, P21583, Q16653, Q13145, P55291, P24071, P54760, P26010, Q14118, P48023, P10586, Q5KU26, P18627, Q9UKX5, P43121, Q7KYR7, Q6ZMJ2, Q92823, P43489, P04233, Q14242, Q6UXD5, Q14126, P07306, Q12866, Q12864, O00220, Q8IX05, P18564, Q8IUK5, Q96AP7, Q5ZPR3, Q96JA1, Q8N386, P41217, Q16790, Q969P0, Q8N149, P08648, Q9UM47, Q96D42, Q96DU3, Q9NZC2, Q6EIG7, Q96NY8, P32970, P10721, Q9P0K1, P43628, Q02763, Q13291, P33151, P07204, Q12884, Q15116, Q9BWV1, Q6UXB4, P12318, P50591, Q10589, Q96LC7, Q2VWP7, O00241, Q9UMF0, P21709, P53985, Q9NQ25, Q9NS68, Q6UX15, Q9H6B4, Q9NY25, P15151, P55808, Q9UEW3, P08069, O14763, P02786, P26951, P51693, Q08174, Q13740, O94856, Q14956, O15197, Q03167, Q9Y6N7, O43508, P30530, Q9Y5L3, Q9NZV1, Q9HCK4, Q9NZ53, Q6UX27, P28907, P37173, P28908, P28906, P05362, Q14162, Q86VB7, P29317, P26842, O43155, P78423, P29017, O00548, Q3KPI0, P15529, O75787, Q9P0V8, Q96GP6, Q96H15, P50895, Q06418, Q99523, Q96PQ0, Q6ZMC9, Q92692, P17948, Q9H4D0, Q6UWV6, P25445, Q07065, P14209, P78410, P49771, Q9H5V8, P13598, Q96RD9, Q8IUN9, Q9H3R2, Q96J42, O14836, Q04900, Q08708, P01903, Q9UHX3, Q8TCZ2, O95727, P01589, Q6DN72, P23276, P05067, Q01638, Q15155, O43291, P78324, Q8WXI7, P78325, Q6GTX8, Q8WXI8, P15509, Q9UMR7, Q8N608, P13688, P14778, P31431, P16284, Q15043, Q9NZQ7, P01135, Q9H8J5, P01375, Q9Y336, Q86T13, O15031, P06127, P01130, P78552, A6NI73, P78310, P04626, P10747, P19440, P19320, Q13308, O75077, Q6UXG3, Q9UNE0, P21757, P35590, P19438, P17813, P57087, Q07954, Q01973, P28827, O15389, P40259, Q9Y624, Q8TDQ0, P06734, Q8TDQ1, Q16820, P07949, P36941, P36269, O76036, P35613, Q8NC01, P42701, P42702, P01833, O60242, Q92932, Q8N423, O75509, Q8NHJ6, Q13444, P35968, Q96PD2, P19022, Q12918, O75054, Q9UHC6, Q9HB29, O14917, Q02487, Q9UJ71, Q96P31, Q16288, Q9H7M9, Q6ZMH5, Q7Z6M3, O43570, Q9NPY3, Q9HBB8, Q9NP84, Q9UKJ1, Q9UKJ0, Q01151, P12830, O43699, Q08345, Q5VY43, Q07011, Q8NFT8, P40189, Q9NRM6, O60462, P01732, P01730, P20333, P24394, Q16853, O15354, Q9Y653, Q86VZ4, Q6UXK5, Q08334, Q9H2A7, P18827, Q99650, Q9BXN2, Q9UGT4, P08473, P25116 | G8: 889 | H8: 414 | I8: 1419 | J8: 1.2221923 | K8: 6.590254e-09 | L8: 2.1967924e-09 | M8: 2.1950175e-09 | N8: =-LOG10(M8) -> 8.658562
A9: GOTERM_CC_DIRECT | B9: GO:0016021~integral component of membrane | C9: 342 | D9: 37.665198 | E9: 2.1099224e-11 | F9: Q13478, P32942, Q06141, Q9BZZ2, Q9Y2W6, P13747, Q96LA5, O43557, Q03431, P21802, Q8IZP9, P16581, Q9NWQ8, P45452, O14786, P20273, Q5T2D2, Q9Y275, Q9C0C4, O14788, Q9HAV5, Q7Z5A7, Q13241, Q96FE7, P08962, P27487, Q496F6, Q9UNK0, Q8IU57, P48960, Q9Y279, O75015, P16109, Q86SJ2, Q9H156, Q9HBG7, Q9BYF1, P15144, P15260, P38484, P30519, P46531, P22223, P55285, Q7Z7D3, P00533, Q9ULX7, O14798, Q9UKV5, P78380, Q92956, P15907, Q14108, P13726, Q6UWL6, Q9BQ51, Q12846, P17405, Q9Y6Q6, Q969Z4, P37023, Q03405, P14384, P20138, Q01344, Q13261, Q16651, Q8NHL6, P25942, Q9BZW8, P21583, Q16653, P21589, Q13145, P55291, O95466, Q76M96, P24071, Q13822, Q14118, P48023, P10586, Q9NQX5, Q5KU26, P18627, Q9UKX5, P43121, Q92823, P04233, Q14242, Q6UXD5, Q14126, P09603, P07306, Q12866, Q12864, O00220, Q8IYS5, Q8IX05, Q8IUK5, O00468, Q96AP7, Q5ZPR3, P15291, Q96JA1, Q8N386, P41217, Q16790, Q969P0, P08648, Q9UM47, Q96D42, Q96DU3, Q9NZC2, P78333, Q6EIG7, Q96NY8, P32970, P10721, Q9P0K1, P43628, Q13291, P33151, Q7L5N7, Q12884, Q15116, Q6UXB4, P12318, P50591, Q10589, Q96LC7, Q2VWP7, O00241, Q9UMF0, P53985, Q9NQ25, Q9NS68, O43736, Q8WVQ1, Q6UX15, Q9H6B4, Q9NY25, P15151, P55808, Q9UEW3, P08069, O14763, P02786, P26951, O14523, P55259, P51693, P09958, Q08174, Q13740, O94856, Q14956, O15197, Q03167, P30530, Q9Y5L3, Q9NZV1, O43505, P15289, Q9HCK4, Q6UX27, P28907, P37173, P28908, Q02742, Q9UJA9, P28906, P05362, Q14162, Q86VB7, P78423, O95831, O00548, Q3KPI0, O43278, P15529, O75787, Q9P0V8, Q96GP6, Q96H15, P50895, O95274, Q06418, Q99523, Q96PQ0, Q6ZMC9, O14828, Q92692, P25445, Q07065, P07911, Q86SR1, P14209, P78410, P49771, Q8NBZ7, Q14739, Q9H5V8, P13598, Q8IUN9, Q9H3R2, Q96J42, Q04900, P01903, Q9UHX3, Q8TCZ2, O95727, P01589, P05187, P23276, P05067, Q01638, Q15155, O43291, Q8WXI7, P78325, Q6GTX8, Q8WXI8, O75888, Q9UMR7, Q8N608, P13688, P14778, P13686, P31431, P35237, Q15165, Q15043, P07332, Q9NZQ7, P01135, Q9H8J5, P01375, Q9Y336, P11717, Q86T13, P06127, P01130, P78552, A6NI73, P04626, P10747, P19440, P19320, P15514, O75077, Q6UXG3, Q9UNE0, P21757, P35590, P19438, P17813, P57087, Q07954, Q01973, P28827, O15389, P40259, Q9Y624, Q8TDQ0, P06734, Q8TDQ1, Q16820, P07949, O14594, P36941, P36269, O76036, P15328, P35613, Q8NC01, P42702, O60243, O60242, O60240, Q92932, Q8N423, O75509, Q8NHJ6, Q13444, Q6P4E1, Q96PD2, P19021, P19022, Q12918, O75054, Q9UHC6, O43927, O14917, Q02487, Q9UJ71, Q96P31, Q07812, Q86SF2, Q16288, P30838, Q9H7M9, Q6ZMH5, Q9HCU5, Q9UQV4, O43570, Q9NPY3, Q9HBB8, Q13219, Q9NP84, Q9UKJ1, Q01151, P12830, O43699, Q5VY43, Q07011, Q8NFT8, P40189, Q9NRM6, O60462, P01732, P01730, P20333, P24394, Q14435, Q16853, Q9Y653, Q86VZ4, P18031, O43464, Q6UXK5, Q08334, Q9H2A7, P18827, Q99650, Q9BXN2, P49788, Q9UGT4, P08473, P09326, P25116, Q6P1M0 | G9: 908 | H9: 458 | I9: 1459 | J9: 1.1998586 | K9: 1.1921067e-08 | L9: 5.9605307e-09 | M9: 5.9077826e-09 | N9: =-LOG10(M9) -> 8.2285755
A10: UP_SEQ_FEATURE | B10: TOPO_DOM:Cytoplasmic | C10: 343 | D10: 37.77533 | E10: 9.9284971e-12 | F10: Q13478, P32942, Q9BZZ2, P13747, Q96LA5, O43557, Q03431, P21802, Q8IZP9, P16581, Q9NWQ8, O14786, P20273, Q5T2D2, Q9Y275, Q9C0C4, O14788, Q9HAV5, Q13241, Q92854, Q96FE7, P08962, P27487, Q496F6, Q9UNK0, Q8IU57, P48960, Q9Y279, P16109, Q86SJ2, Q9H156, Q96F46, Q9HBG7, P16234, Q9BYF1, P15144, P15260, P38484, P30519, P46531, P22223, P55285, Q7Z7D3, Q9Y286, P00533, Q9ULX7, P78380, Q92956, P06756, P15907, Q14108, P13726, Q9BYE9, Q6UWL6, Q9BQ51, Q12846, Q9Y6Q6, Q969Z4, P37023, P20138, Q01344, Q13261, Q8NHL6, P25942, Q9BZW8, P21583, Q16653, Q13145, P55291, P24071, P54760, P26010, Q14118, P48023, P10586, Q5KU26, P18627, Q9UKX5, P43121, Q7KYR7, Q6ZMJ2, Q92823, P43489, P04233, Q14242, Q6UXD5, Q14126, P09603, P07306, Q12866, Q12864, O00220, Q8IX05, P18564, Q8IUK5, Q96AP7, Q5ZPR3, P15291, Q96JA1, Q8N386, P41217, Q16790, Q969P0, Q8N149, P08648, Q9UM47, Q96D42, Q96DU3, Q9NZC2, Q6EIG7, Q96NY8, P32970, P10721, Q9P0K1, P43628, Q02763, Q13291, P33151, Q7L5N7, P07204, Q12884, Q15116, Q9BWV1, Q6UXB4, P12318, P50591, Q10589, Q96LC7, Q2VWP7, O00241, Q9UMF0, P21709, P53985, Q9NQ25, Q9NS68, Q8WVQ1, Q6UX15, Q9H6B4, Q9NY25, P15151, P55808, Q9UEW3, P08069, O14763, P02786, P26951, O14523, P51693, P09958, Q08174, Q13740, O94856, Q14956, O15197, Q03167, Q9Y6N7, O43508, P30530, Q9Y5L3, Q9NZV1, O43505, Q9HCK4, Q9NZ53, Q6UX27, P28907, P37173, P28908, Q02742, P28906, P05362, Q14162, Q86VB7, P29317, P26842, O43155, P78423, P29017, O00548, Q3KPI0, P15529, O75787, Q9P0V8, Q96GP6, Q96H15, P50895, Q06418, Q99523, Q96PQ0, Q6ZMC9, O14828, Q92692, P17948, Q9H4D0, Q6UWV6, P25445, Q07065, Q86SR1, P14209, P78410, P49771, Q8NBZ7, Q9H5V8, P13598, Q96RD9, Q8IUN9, Q9H3R2, Q96J42, O14836, Q04900, Q08708, P01903, Q9UHX3, Q8TCZ2, O95727, P01589, Q6DN72, P23276, P05067, Q01638, Q15155, O43291, P78324, Q8WXI7, P78325, Q6GTX8, Q8WXI8, P15509, Q9UMR7, Q8N608, P13688, P14778, P31431, P16284, Q15043, Q9NZQ7, P01135, Q9H8J5, P01375, Q9Y336, P11717, Q86T13, O15031, P06127, P01130, P78552, A6NI73, P78310, P04626, P10747, P19440, P19320, Q13308, O95183, O75077, Q6UXG3, Q9UNE0, Q9Y3D6, P21757, P35590, P19438, P17813, P57087, Q07954, Q01973, P28827, O15389, P40259, Q9Y624, Q8TDQ0, P06734, Q8TDQ1, Q16820, P07949, P36941, P36269, O76036, P35613, Q8NC01, P42701, P42702, O60243, P01833, O60242, Q92932, Q8N423, O75509, Q8NHJ6, Q13444, P35968, Q6P4E1, Q96PD2, P19021, P19022, Q12918, O75054, Q9UHC6, Q9HB29, O14917, Q02487, Q9UJ71, Q96P31, Q86SF2, Q16288, Q9H7M9, Q6ZMH5, Q9HCU5, Q7Z6M3, Q9UQV4, O43570, Q9NPY3, Q9HBB8, Q9NP84, Q9UKJ1, Q9UKJ0, Q01151, P12830, O43699, Q08345, Q5VY43, Q07011, Q8NFT8, P40189, Q9NRM6, O60462, P01732, P01730, P20333, P24394, Q14435, Q16853, O15354, Q9Y653, Q86VZ4, Q6UXK5, Q08334, Q9H2A7, P18827, Q99650, Q9BXN2, P49788, Q9UGT4, P08473, P25116 | G10: 889 | H10: 456 | I10: 1419 | J10: 1.200632 | K10: 3.6864529e-08 | L10: 9.2161274e-09 | M10: 9.2086811e-09 | N10: =-LOG10(M10) -> 8.0358026
A11: GOTERM_CC_DIRECT | B11: GO:0005887~integral component of plasma membrane | C11: 176 | D11: 19.38326 | E11: 1.3419847e-08 | F11: O43155, P32942, P29017, O00548, Q96LA5, P15529, Q03431, P50895, P21802, Q8IZP9, Q06418, Q96PQ0, P16581, P17948, O14786, P20273, Q9C0C4, O14788, Q9HAV5, Q92854, Q6UWV6, Q13241, P08962, Q9UNK0, Q8IU57, P48960, P14209, O75015, P16109, P13598, Q96RD9, Q96F46, O14836, P16234, Q04900, Q08708, P01903, Q9UHX3, P15260, P38484, Q6DN72, Q9Y286, P00533, P05067, P78380, P78324, P78325, P06756, P04216, P15509, Q9UMR7, P13726, Q6BAA4, Q6UWL6, P13688, P14778, P31431, P37023, Q03405, P20138, P16284, P25942, Q15043, P01375, Q9Y336, P11717, O15031, P06127, P01130, P24071, P54760, P78310, P04626, P48023, P10747, P10586, P19320, Q13308, O95183, O75077, P21757, P35590, P19438, P57087, Q07954, Q01973, P28827, Q7KYR7, Q6ZMJ2, Q92823, P40259, P43489, Q9BXJ1, Q14242, Q13275, P06734, P07306, Q16820, Q12866, P07949, O76036, P35613, Q8NC01, P42702, O60243, P01833, O60242, P41217, Q92932, Q8N149, Q8N423, O75509, P35968, Q9NZC2, Q96PD2, P19022, P32970, P10721, Q9HB29, O14917, Q02763, Q96P31, P43628, Q16288, P07204, Q6ZMH5, Q7Z6M3, Q9BWV1, Q6UXB4, O75326, P12318, Q9HBB8, Q9UKJ0, P50591, Q01151, O00241, Q9UMF0, P21709, O43699, Q08345, Q07011, P53985, Q9NRM6, Q9NY25, P55808, Q9UEW3, O60462, P08069, P01732, P02786, P01730, P24394, Q08174, Q13740, O15354, O94856, Q14956, O15197, Q9Y653, Q03167, Q9Y6N7, Q08334, O43508, P30530, Q9NZ53, P37173, P18827, P28906, P05362, P08473, Q86VB7, P29317, P06731, P25116, Q9BZR6, P26842 | G11: 908 | H11: 223 | I11: 1459 | J11: 1.2681693 | K11: 7.582185e-06 | L11: 1.8955534e-06 | M11: 1.8787786e-06 | N11: =-LOG10(M11) -> 5.7261244
A12: INTERPRO | B12: IPR013783:Immunoglobulin-like fold | C12: 181 | D12: 19.933921 | E12: 1.4324455e-08 | F12: O43155, P32942, Q13478, P29017, Q9BZZ2, Q3KPI0, O43278, P13747, Q96LA5, Q9P0V8, Q96H15, P50895, P21802, Q06418, Q96PQ0, Q6ZMC9, Q92692, P17948, P20273, Q5T2D2, Q9C0C4, P98160, Q92854, Q496F6, Q6ISS4, Q8IU57, P78410, Q9Y279, O75015, Q86SJ2, P13598, Q96GW7, Q96RD9, Q9HBG7, P16234, Q08708, P01903, P15260, P38484, O95727, Q7Z7D3, Q6DN72, Q9Y286, Q01638, Q15155, P78324, Q6GTX8, O95971, P04216, P15509, Q6YHK3, P13726, Q6BAA4, Q6UWL6, Q9BQ51, P13688, P35475, Q12968, P14778, P12111, P20138, Q01344, P16284, Q8NHL6, Q9BZW8, Q9NZQ7, Q16653, Q9Y336, Q96I82, O15031, P78552, P24071, A6NI73, P54760, O94779, P78310, Q14118, P10747, P10586, P19320, Q13308, P13611, Q6UXG3, P35590, P18627, P57087, Q01973, P43121, P28827, Q7KYR7, O15389, Q92823, P40259, Q8WX77, Q13275, Q8TDQ0, Q9Y624, Q12860, Q8TDQ1, Q12866, O95998, O14594, Q8IYS5, O76036, Q96NZ8, O75462, P35613, Q96AP7, Q16270, P42701, P42702, Q5ZPR3, P01833, Q96JA1, P41217, Q969P0, Q8N149, Q8N423, Q8NHJ6, Q8IWV2, Q96D42, Q96DU3, Q9Y478, P35968, Q9NZC2, P29460, Q96NY8, P10721, O75054, Q6PCB0, Q9HB29, Q02763, Q13291, Q96P31, P43628, Q16288, Q9H7M9, P31997, Q7Z6M3, Q15116, Q9BWV1, O75326, P12318, Q9UKJ1, Q9UKJ0, Q96LC7, Q2VWP7, Q01151, O00241, Q9UMF0, P21709, O43699, Q9NQ25, P11464, P40189, Q9H6B4, P15151, P08069, Q92752, P01732, P01730, P26951, P24394, Q13740, O94856, Q14956, O15197, Q86VZ4, Q6UXK5, Q9Y6N7, Q08334, P30530, Q9HCK4, Q6UX27, Q99650, P24821, P05362, P29317, P09326, P06731, P08236 | G12: 892 | H12: 230 | I12: 1430 | J12: 1.2616007 | K12: 1.6644878e-05 | L12: 1.6645017e-05 | M12: 1.6602043e-05 | N12: =-LOG10(M12) -> 4.7798385
