Workbook

Sheet Notes
A1: 1. The objective is to verify whether the CPQDA meets expectations through a series of typical test cases. 2. The "Test Cases" sheet serves as the input for verification, containing product schedules and product combinations. 3. The "Test Results (Data)" sheet displays the verification output in a data format. 4. The "Test Results (Curves)" sheet presents the output in a more intuitive, graphical form. 5. To enhance clarity, intermediate calculation results are hidden.

Sheet Test cases
A1: Product combination | F1: Total purchased original amount | H1: Schedules of products
H2: Product No. | I2: Schedule | J2: Threshold 1 | K2: Discount at threshold 1 (Percentage by default) | L2: Threshold 2 | M2: Discount at threshold 2 (Percentage by default) | N2: Threshold 3 | O2: Discount at threshold 3 (Percentage by default) | P2: Discount exponent factor of discount interval 1 | Q2: Discount exponent factor of discount interval 2 | R2: Minimum discount exponent
H3: 1 | J3: 100 | K3: 0.1 | L3: 200 | M3: 0.15 | N3: N/A | O3: N/A | P3: =(LN(L3)-LN(J3))/(LN(L3*(1-M3))-LN(J3*(1-K3))) -> 1.0898733 | Q3: N/A | R3: =P3 -> 1.0898733
H4: 2 | J4: 99 | K4: 0.05 | L4: 199 | M4: 0.1 | N4: N/A | O4: N/A | P4: =(LN(L4)-LN(J4))/(LN(L4*(1-M4))-LN(J4*(1-K4))) -> 1.08394 | Q4: N/A | R4: =P4 -> 1.08394
H5: 3 | J5: 88 | K5: 0.04 | L5: 188 | M5: 0.08 | N5: 288 | O5: 0.17 | P5: =(LN(L5)-LN(J5))/(LN(L5*(1-M5))-LN(J5*(1-K5))) -> 1.0593955 | Q5: =(LN(N5)-LN(L5))/(LN(N5*(1-O5))-LN(L5*(1-M5))) -> 1.3181624 | R5: =MIN(P5,Q5) -> 1.0593955
A7: Case No. | B7: Random number | C7: Purchased amount of Product 1 | D7: Purchased amount of Product 2 | E7: Purchased amount of Product 3
A8: 1 | B8: =RANDBETWEEN(1,3) -> 1 | C8: 1 | D8: 1 | E8: 1 | F8: =C8+D8+E8 -> 3
A9: =A8+1 -> 2 | B9: =RANDBETWEEN(1,3) -> 3 | C9: =IF(B9=1,C8+1,C8) -> 1 | D9: =IF(B9=2,D8+1,D8) -> 1 | E9: =IF(B9=3,E8+1,E8) -> 2 | F9: =C9+D9+E9 -> 4
A10: =A9+1 -> 3 | B10: =RANDBETWEEN(1,3) -> 1 | C10: =IF(B10=1,C9+1,C9) -> 2 | D10: =IF(B10=2,D9+1,D9) -> 1 | E10: =IF(B10=3,E9+1,E9) -> 2 | F10: =C10+D10+E10 -> 5
A11: =A10+1 -> 4 | B11: =RANDBETWEEN(1,3) -> 3 | C11: =IF(B11=1,C10+1,C10) -> 2 | D11: =IF(B11=2,D10+1,D10) -> 1 | E11: =IF(B11=3,E10+1,E10) -> 3 | F11: =C11+D11+E11 -> 6
A12: =A11+1 -> 5 | B12: =RANDBETWEEN(1,3) -> 3 | C12: =IF(B12=1,C11+1,C11) -> 2 | D12: =IF(B12=2,D11+1,D11) -> 1 | E12: =IF(B12=3,E11+1,E11) -> 4 | F12: =C12+D12+E12 -> 7
A13: =A12+1 -> 6 | B13: =RANDBETWEEN(1,3) -> 1 | C13: =IF(B13=1,C12+1,C12) -> 3 | D13: =IF(B13=2,D12+1,D12) -> 1 | E13: =IF(B13=3,E12+1,E12) -> 4 | F13: =C13+D13+E13 -> 8
A14: =A13+1 -> 7 | B14: =RANDBETWEEN(1,3) -> 2 | C14: =IF(B14=1,C13+1,C13) -> 3 | D14: =IF(B14=2,D13+1,D13) -> 2 | E14: =IF(B14=3,E13+1,E13) -> 4 | F14: =C14+D14+E14 -> 9
A15: =A14+1 -> 8 | B15: =RANDBETWEEN(1,3) -> 1 | C15: =IF(B15=1,C14+1,C14) -> 4 | D15: =IF(B15=2,D14+1,D14) -> 2 | E15: =IF(B15=3,E14+1,E14) -> 4 | F15: =C15+D15+E15 -> 10
A16: =A15+1 -> 9 | B16: =RANDBETWEEN(1,3) -> 2 | C16: =IF(B16=1,C15+1,C15) -> 4 | D16: =IF(B16=2,D15+1,D15) -> 3 | E16: =IF(B16=3,E15+1,E15) -> 4 | F16: =C16+D16+E16 -> 11
A17: =A16+1 -> 10 | B17: =RANDBETWEEN(1,3) -> 1 | C17: =IF(B17=1,C16+1,C16) -> 5 | D17: =IF(B17=2,D16+1,D16) -> 3 | E17: =IF(B17=3,E16+1,E16) -> 4 | F17: =C17+D17+E17 -> 12
A18: =A17+1 -> 11 | B18: =RANDBETWEEN(1,3) -> 2 | C18: =IF(B18=1,C17+1,C17) -> 5 | D18: =IF(B18=2,D17+1,D17) -> 4 | E18: =IF(B18=3,E17+1,E17) -> 4 | F18: =C18+D18+E18 -> 13
A19: =A18+1 -> 12 | B19: =RANDBETWEEN(1,3) -> 3 | C19: =IF(B19=1,C18+1,C18) -> 5 | D19: =IF(B19=2,D18+1,D18) -> 4 | E19: =IF(B19=3,E18+1,E18) -> 5 | F19: =C19+D19+E19 -> 14
A20: =A19+1 -> 13 | B20: =RANDBETWEEN(1,3) -> 1 | C20: =IF(B20=1,C19+1,C19) -> 6 | D20: =IF(B20=2,D19+1,D19) -> 4 | E20: =IF(B20=3,E19+1,E19) -> 5 | F20: =C20+D20+E20 -> 15
... A1007: =A1006+1 -> 1000 | B1007: =RANDBETWEEN(1,3) -> 3 | C1007: =IF(B1007=1,C1006+1,C1006) -> 353 | D1007: =IF(B1007=2,D1006+1,D1006) -> 321 | E1007: =IF(B1007=3,E1006+1,E1006) -> 328 | F1007: =C1007+D1007+E1007 -> 1002

Sheet Test Results (Data)
A1: Test results presented in data
A2: Case No. | B2: BC discount | E2: BC discounted total price (i.e., BC price of c1&2&3) | F2: Should-be discount | I2: Discrete mode discount | L2: Should-be discount subject to original price constraints | O2: Should-be discounted total price | P2: Discrete discounted total price | Q2: Should-be discounted total price subject to original price constraints | R2: BC price of p1 | S2: BC price of p2 | T2: BC price of p3 | U2: BC price of c1&2 | V2: BC discount price of p1 in c1&2 | W2: BC discount price of p2 in c1&2 | X2: BC discount price of p1 in c1&2&3 | Y2: BC discount price of p2 in c1&2&3 | Z2: BC discount price of p3 in c1&2&3 | AA2: Total quantity measured at the amount of each product
B3: BC discount on Product 1 | C3: BC discount on Product 2 | D3: BC discount on Product 3 | F3: Should be discount on Product 1 | G3: Should be discount on Product 2 | H3: Should be discount on Product 3 | I3: Discrete discount on Product 1 | J3: Discrete discount on Product 2 | K3: Discrete discount on Product 3 | L3: Discount on Product 1 | M3: Discount on Product 2 | N3: Discount on Product 3 | AA3: At the amount of Product 1 | AB3: At the amount of Product 2 | AC3: At the amount of Product 3
A4: ='Test cases'!A8 -> 1 | B4: =1-X4/'Test cases'!C8 -> -0.21890818 | C4: =1-Y4/'Test cases'!D8 -> -0.25941417 | D4: =1-Z4/'Test cases'!E8 -> -0.15722154 | E4: =(U4^'Test cases'!$R$5+T4^'Test cases'!$R$5)^(1/'Test cases'!$R$5) -> 3.6355439 | F4: =IF(B4>'Test cases'!$M$3,'Test cases'!$M$3,B4) -> -0.21890818 | G4: =IF(C4>'Test cases'!$M$4,'Test cases'!$M$4,C4) -> -0.25941417 | H4: =IF(D4>'Test cases'!$O$5,'Test cases'!$O$5,D4) -> -0.15722154 | I4: =IF(AA4>='Test cases'!$L$3, 'Test cases'!$L$3*'Test cases'!$M$3/AA4,0)+IF(AND(AA4>='Test cases'!$J$3,AA4<'Test cases'!$L$3), 'Test cases'!$J$3*'Test cases'!$K$3/ AA4,0) -> 0 | J4: =IF(AB4>='Test cases'!$L$4,'Test cases'!$M$4,0)+IF(AND(AB4>='Test cases'!$J$4,AB4<'Test cases'!$L$4),'Test cases'!$K$4,0) -> 0 | K4: =IF(AC4>='Test cases'!$N$5,'Test cases'!$O$5,0)+IF(AND(AC4>='Test cases'!$L$5,AC4<'Test cases'!$N$5),'Test cases'!$M$5,0)+IF(AND(AC4<'Test cases'!$L$5,AC4>='Test cases'!$J$5),'Test cases'!$K$5,0) -> 0 | L4: =IF(F4<0,0,F4) -> 0 | M4: =IF(G4<0,0,G4) -> 0 | N4: =IF(H4<0,0,H4) -> 0 | O4: ='Test cases'!C8*(1-F4)+'Test cases'!D8*(1-G4)+'Test cases'!E8*(1-H4) -> 3.6355439 | P4: =(1-I4)*'Test cases'!C8+(1-J4)*'Test cases'!D8+(1-K4)*'Test cases'!E8 -> 3 | Q4: =(1-L4)*'Test cases'!C8+(1-M4)*'Test cases'!D8+(1-N4)*'Test cases'!E8 -> 3 | R4: =('Test cases'!C8/'Test cases'!$J$3)^(1/'Test cases'!$R$3)*('Test cases'!$J$3*(1-'Test cases'!$K$3)) -> 1.3157302 | S4: =('Test cases'!D8/'Test cases'!$J$4)^(1/'Test cases'!$R$4)*('Test cases'!$J$4*(1-'Test cases'!$K$4)) -> 1.3560164 | T4: =IF('Test cases'!E8<='Test cases'!$L$5,('Test cases'!E8/'Test cases'!$J$5)^(1/'Test cases'!$P$5)*('Test cases'!$J$5*(1-'Test cases'!$K$5)),0)+IF('Test cases'!E8>'Test cases'!$L$5,('Test cases'!E8/'Test cases'!$L$5)^(1/'Test cases'!$Q$5)*('Test cases'!$L$5*(1-'Test cases'!$M$5)),0) -> 1.2339275 | U4: =(R4^'Test cases'!$R$4+S4^'Test cases'!$R$4)^(1/'Test cases'!$R$4) -> 2.5321402 | V4: =R4^'Test cases'!$R$4/U4^('Test cases'!$R$4-1) -> 1.2453773 | W4: =S4^'Test cases'!$R$4/U4^('Test cases'!$R$4-1) -> 1.2867629 | X4: =V4*(U4/E4)^('Test cases'!$R$5-1) -> 1.2189082 | Y4: =W4*(U4/E4)^('Test cases'!$R$5-1) -> 1.2594142 | Z4: =T4^'Test cases'!$R$5/E4^('Test cases'!$R$5-1) -> 1.1572215 | AA4: =EXP((LN(1-B4)*(LN('Test cases'!$L$3)-LN('Test cases'!$J$3))+LN(1-'Test cases'!$M$3)*LN('Test cases'!$J$3)-LN(1-'Test cases'!$K$3)*LN('Test cases'!$L$3))/(LN(1-'Test cases'!$M$3)-LN(1-'Test cases'!$K$3))) -> 2.5267276 | AB4: =EXP((LN(1-C4)*(LN('Test cases'!$L$4)-LN('Test cases'!$J$4))+LN(1-'Test cases'!$M$4)*LN('Test cases'!$J$4)-LN(1-'Test cases'!$K$4)*LN('Test cases'!$L$4))/(LN(1-'Test cases'!$M$4)-LN(1-'Test cases'!$K$4))) -> 2.596985 | AC4: =IF(D4<='Test cases'!$M$5,EXP((LN(1-D4)*(LN('Test cases'!$L$5)-LN('Test cases'!$J$5))+LN(1-'Test cases'!$M$5)*LN('Test cases'!$J$5)-LN(1-'Test cases'!$K$5)*LN('Test cases'!$L$5))/(LN(1-'Test cases'!$M$5)-LN(1-'Test cases'!$K$5))),EXP((LN(1-D4)*(LN('Test cases'!$N$5)-LN('Test cases'!$L$5))+LN(1-'Test cases'!$O$5)*LN('Test cases'!$L$5)-LN(1-'Test cases'!$M$5)*LN('Test cases'!$N$5))/(LN(1-'Test cases'!$O$5)-LN(1-'Test cases'!$M$5)))) -> 3.1416144
A5: ='Test cases'!A9 -> 2 | B5: =1-X5/'Test cases'!C9 -> -0.20016841 | C5: =1-Y5/'Test cases'!D9 -> -0.24005165 | D5: =1-Z5/'Test cases'!E9 -> -0.13943015 | E5: =(U5^'Test cases'!$R$5+T5^'Test cases'!$R$5)^(1/'Test cases'!$R$5) -> 4.7190804 | F5: =IF(B5>'Test cases'!$M$3,'Test cases'!$M$3,B5) -> -0.20016841 | G5: =IF(C5>'Test cases'!$M$4,'Test cases'!$M$4,C5) -> -0.24005165 | H5: =IF(D5>'Test cases'!$O$5,'Test cases'!$O$5,D5) -> -0.13943015 | I5: =IF(AA5>='Test cases'!$L$3, 'Test cases'!$L$3*'Test cases'!$M$3/AA5,0)+IF(AND(AA5>='Test cases'!$J$3,AA5<'Test cases'!$L$3), 'Test cases'!$J$3*'Test cases'!$K$3/ AA5,0) -> 0 | J5: =IF(AB5>='Test cases'!$L$4,'Test cases'!$M$4,0)+IF(AND(AB5>='Test cases'!$J$4,AB5<'Test cases'!$L$4),'Test cases'!$K$4,0) -> 0 | K5: =IF(AC5>='Test cases'!$N$5,'Test cases'!$O$5,0)+IF(AND(AC5>='Test cases'!$L$5,AC5<'Test cases'!$N$5),'Test cases'!$M$5,0)+IF(AND(AC5<'Test cases'!$L$5,AC5>='Test cases'!$J$5),'Test cases'!$K$5,0) -> 0 | L5: =IF(F5<0,0,F5) -> 0 | M5: =IF(G5<0,0,G5) -> 0 | N5: =IF(H5<0,0,H5) -> 0 | O5: ='Test cases'!C9*(1-F5)+'Test cases'!D9*(1-G5)+'Test cases'!E9*(1-H5) -> 4.7190804 | P5: =(1-I5)*'Test cases'!C9+(1-J5)*'Test cases'!D9+(1-K5)*'Test cases'!E9 -> 4 | Q5: =(1-L5)*'Test cases'!C9+(1-M5)*'Test cases'!D9+(1-N5)*'Test cases'!E9 -> 4 | R5: =('Test cases'!C9/'Test cases'!$J$3)^(1/'Test cases'!$R$3)*('Test cases'!$J$3*(1-'Test cases'!$K$3)) -> 1.3157302 | S5: =('Test cases'!D9/'Test cases'!$J$4)^(1/'Test cases'!$R$4)*('Test cases'!$J$4*(1-'Test cases'!$K$4)) -> 1.3560164 | T5: =IF('Test cases'!E9<='Test cases'!$L$5,('Test cases'!E9/'Test cases'!$J$5)^(1/'Test cases'!$P$5)*('Test cases'!$J$5*(1-'Test cases'!$K$5)),0)+IF('Test cases'!E9>'Test cases'!$L$5,('Test cases'!E9/'Test cases'!$L$5)^(1/'Test cases'!$Q$5)*('Test cases'!$L$5*(1-'Test cases'!$M$5)),0) -> 2.3737897 | U5: =(R5^'Test cases'!$R$4+S5^'Test cases'!$R$4)^(1/'Test cases'!$R$4) -> 2.5321402 | V5: =R5^'Test cases'!$R$4/U5^('Test cases'!$R$4-1) -> 1.2453773 | W5: =S5^'Test cases'!$R$4/U5^('Test cases'!$R$4-1) -> 1.2867629 | X5: =V5*(U5/E5)^('Test cases'!$R$5-1) -> 1.2001684 | Y5: =W5*(U5/E5)^('Test cases'!$R$5-1) -> 1.2400516 | Z5: =T5^'Test cases'!$R$5/E5^('Test cases'!$R$5-1) -> 2.2788603 | AA5: =EXP((LN(1-B5)*(LN('Test cases'!$L$3)-LN('Test cases'!$J$3))+LN(1-'Test cases'!$M$3)*LN('Test cases'!$J$3)-LN(1-'Test cases'!$K$3)*LN('Test cases'!$L$3))/(LN(1-'Test cases'!$M$3)-LN(1-'Test cases'!$K$3))) -> 3.0489977 | AB5: =EXP((LN(1-C5)*(LN('Test cases'!$L$4)-LN('Test cases'!$J$4))+LN(1-'Test cases'!$M$4)*LN('Test cases'!$J$4)-LN(1-'Test cases'!$K$4)*LN('Test cases'!$L$4))/(LN(1-'Test cases'!$M$4)-LN(1-'Test cases'!$K$4))) -> 3.1721983 | AC5: =IF(D5<='Test cases'!$M$5,EXP((LN(1-D5)*(LN('Test cases'!$L$5)-LN('Test cases'!$J$5))+LN(1-'Test cases'!$M$5)*LN('Test cases'!$J$5)-LN(1-'Test cases'!$K$5)*LN('Test cases'!$L$5))/(LN(1-'Test cases'!$M$5)-LN(1-'Test cases'!$K$5))),EXP((LN(1-D5)*(LN('Test cases'!$N$5)-LN('Test cases'!$L$5))+LN(1-'Test cases'!$O$5)*LN('Test cases'!$L$5)-LN(1-'Test cases'!$M$5)*LN('Test cases'!$N$5))/(LN(1-'Test cases'!$O$5)-LN(1-'Test cases'!$M$5)))) -> 4.1416144
A6: ='Test cases'!A10 -> 3 | B6: =1-X6/'Test cases'!C10 -> -0.17043813 | C6: =1-Y6/'Test cases'!D10 -> -0.21390549 | D6: =1-Z6/'Test cases'!E10 -> -0.12549091 | E6: =(U6^'Test cases'!$R$5+T6^'Test cases'!$R$5)^(1/'Test cases'!$R$5) -> 5.8057636 | F6: =IF(B6>'Test cases'!$M$3,'Test cases'!$M$3,B6) -> -0.17043813 | G6: =IF(C6>'Test cases'!$M$4,'Test cases'!$M$4,C6) -> -0.21390549 | H6: =IF(D6>'Test cases'!$O$5,'Test cases'!$O$5,D6) -> -0.12549091 | I6: =IF(AA6>='Test cases'!$L$3, 'Test cases'!$L$3*'Test cases'!$M$3/AA6,0)+IF(AND(AA6>='Test cases'!$J$3,AA6<'Test cases'!$L$3), 'Test cases'!$J$3*'Test cases'!$K$3/ AA6,0) -> 0 | J6: =IF(AB6>='Test cases'!$L$4,'Test cases'!$M$4,0)+IF(AND(AB6>='Test cases'!$J$4,AB6<'Test cases'!$L$4),'Test cases'!$K$4,0) -> 0 | K6: =IF(AC6>='Test cases'!$N$5,'Test cases'!$O$5,0)+IF(AND(AC6>='Test cases'!$L$5,AC6<'Test cases'!$N$5),'Test cases'!$M$5,0)+IF(AND(AC6<'Test cases'!$L$5,AC6>='Test cases'!$J$5),'Test cases'!$K$5,0) -> 0 | L6: =IF(F6<0,0,F6) -> 0 | M6: =IF(G6<0,0,G6) -> 0 | N6: =IF(H6<0,0,H6) -> 0 | O6: ='Test cases'!C10*(1-F6)+'Test cases'!D10*(1-G6)+'Test cases'!E10*(1-H6) -> 5.8057636 | P6: =(1-I6)*'Test cases'!C10+(1-J6)*'Test cases'!D10+(1-K6)*'Test cases'!E10 -> 5 | Q6: =(1-L6)*'Test cases'!C10+(1-M6)*'Test cases'!D10+(1-N6)*'Test cases'!E10 -> 5 | R6: =('Test cases'!C10/'Test cases'!$J$3)^(1/'Test cases'!$R$3)*('Test cases'!$J$3*(1-'Test cases'!$K$3)) -> 2.4852681 | S6: =('Test cases'!D10/'Test cases'!$J$4)^(1/'Test cases'!$R$4)*('Test cases'!$J$4*(1-'Test cases'!$K$4)) -> 1.3560164 | T6: =IF('Test cases'!E10<='Test cases'!$L$5,('Test cases'!E10/'Test cases'!$J$5)^(1/'Test cases'!$P$5)*('Test cases'!$J$5*(1-'Test cases'!$K$5)),0)+IF('Test cases'!E10>'Test cases'!$L$5,('Test cases'!E10/'Test cases'!$L$5)^(1/'Test cases'!$Q$5)*('Test cases'!$L$5*(1-'Test cases'!$M$5)),0) -> 2.3737897 | U6: =(R6^'Test cases'!$R$4+S6^'Test cases'!$R$4)^(1/'Test cases'!$R$4) -> 3.6539071 | V6: =R6^'Test cases'!$R$4/U6^('Test cases'!$R$4-1) -> 2.4061517 | W6: =S6^'Test cases'!$R$4/U6^('Test cases'!$R$4-1) -> 1.2477553 | X6: =V6*(U6/E6)^('Test cases'!$R$5-1) -> 2.3408763 | Y6: =W6*(U6/E6)^('Test cases'!$R$5-1) -> 1.2139055 | Z6: =T6^'Test cases'!$R$5/E6^('Test cases'!$R$5-1) -> 2.2509818 | AA6: =EXP((LN(1-B6)*(LN('Test cases'!$L$3)-LN('Test cases'!$J$3))+LN(1-'Test cases'!$M$3)*LN('Test cases'!$J$3)-LN(1-'Test cases'!$K$3)*LN('Test cases'!$L$3))/(LN(1-'Test cases'!$M$3)-LN(1-'Test cases'!$K$3))) -> 4.1329758 | AB6: =EXP((LN(1-C6)*(LN('Test cases'!$L$4)-LN('Test cases'!$J$4))+LN(1-'Test cases'!$M$4)*LN('Test cases'!$J$4)-LN(1-'Test cases'!$K$4)*LN('Test cases'!$L$4))/(LN(1-'Test cases'!$M$4)-LN(1-'Test cases'!$K$4))) -> 4.1770666 | AC6: =IF(D6<='Test cases'!$M$5,EXP((LN(1-D6)*(LN('Test cases'!$L$5)-LN('Test cases'!$J$5))+LN(1-'Test cases'!$M$5)*LN('Test cases'!$J$5)-LN(1-'Test cases'!$K$5)*LN('Test cases'!$L$5))/(LN(1-'Test cases'!$M$5)-LN(1-'Test cases'!$K$5))),EXP((LN(1-D6)*(LN('Test cases'!$N$5)-LN('Test cases'!$L$5))+LN(1-'Test cases'!$O$5)*LN('Test cases'!$L$5)-LN(1-'Test cases'!$M$5)*LN('Test cases'!$N$5))/(LN(1-'Test cases'!$O$5)-LN(1-'Test cases'!$M$5)))) -> 5.1584278
A7: ='Test cases'!A11 -> 4 | B7: =1-X7/'Test cases'!C11 -> -0.1588683 | C7: =1-Y7/'Test cases'!D11 -> -0.20190597 | D7: =1-Z7/'Test cases'!E11 -> -0.11436538 | E7: =(U7^'Test cases'!$R$5+T7^'Test cases'!$R$5)^(1/'Test cases'!$R$5) -> 6.8627387 | F7: =IF(B7>'Test cases'!$M$3,'Test cases'!$M$3,B7) -> -0.1588683 | G7: =IF(C7>'Test cases'!$M$4,'Test cases'!$M$4,C7) -> -0.20190597 | H7: =IF(D7>'Test cases'!$O$5,'Test cases'!$O$5,D7) -> -0.11436538 | I7: =IF(AA7>='Test cases'!$L$3, 'Test cases'!$L$3*'Test cases'!$M$3/AA7,0)+IF(AND(AA7>='Test cases'!$J$3,AA7<'Test cases'!$L$3), 'Test cases'!$J$3*'Test cases'!$K$3/ AA7,0) -> 0 | J7: =IF(AB7>='Test cases'!$L$4,'Test cases'!$M$4,0)+IF(AND(AB7>='Test cases'!$J$4,AB7<'Test cases'!$L$4),'Test cases'!$K$4,0) -> 0 | K7: =IF(AC7>='Test cases'!$N$5,'Test cases'!$O$5,0)+IF(AND(AC7>='Test cases'!$L$5,AC7<'Test cases'!$N$5),'Test cases'!$M$5,0)+IF(AND(AC7<'Test cases'!$L$5,AC7>='Test cases'!$J$5),'Test cases'!$K$5,0) -> 0 | L7: =IF(F7<0,0,F7) -> 0 | M7: =IF(G7<0,0,G7) -> 0 | N7: =IF(H7<0,0,H7) -> 0 | O7: ='Test cases'!C11*(1-F7)+'Test cases'!D11*(1-G7)+'Test cases'!E11*(1-H7) -> 6.8627387 | P7: =(1-I7)*'Test cases'!C11+(1-J7)*'Test cases'!D11+(1-K7)*'Test cases'!E11 -> 6 | Q7: =(1-L7)*'Test cases'!C11+(1-M7)*'Test cases'!D11+(1-N7)*'Test cases'!E11 -> 6 | R7: =('Test cases'!C11/'Test cases'!$J$3)^(1/'Test cases'!$R$3)*('Test cases'!$J$3*(1-'Test cases'!$K$3)) -> 2.4852681 | S7: =('Test cases'!D11/'Test cases'!$J$4)^(1/'Test cases'!$R$4)*('Test cases'!$J$4*(1-'Test cases'!$K$4)) -> 1.3560164 | T7: =IF('Test cases'!E11<='Test cases'!$L$5,('Test cases'!E11/'Test cases'!$J$5)^(1/'Test cases'!$P$5)*('Test cases'!$J$5*(1-'Test cases'!$K$5)),0)+IF('Test cases'!E11>'Test cases'!$L$5,('Test cases'!E11/'Test cases'!$L$5)^(1/'Test cases'!$Q$5)*('Test cases'!$L$5*(1-'Test cases'!$M$5)),0) -> 3.480654 | U7: =(R7^'Test cases'!$R$4+S7^'Test cases'!$R$4)^(1/'Test cases'!$R$4) -> 3.6539071 | V7: =R7^'Test cases'!$R$4/U7^('Test cases'!$R$4-1) -> 2.4061517 | W7: =S7^'Test cases'!$R$4/U7^('Test cases'!$R$4-1) -> 1.2477553 | X7: =V7*(U7/E7)^('Test cases'!$R$5-1) -> 2.3177366 | Y7: =W7*(U7/E7)^('Test cases'!$R$5-1) -> 1.201906 | Z7: =T7^'Test cases'!$R$5/E7^('Test cases'!$R$5-1) -> 3.3430961 | AA7: =EXP((LN(1-B7)*(LN('Test cases'!$L$3)-LN('Test cases'!$J$3))+LN(1-'Test cases'!$M$3)*LN('Test cases'!$J$3)-LN(1-'Test cases'!$K$3)*LN('Test cases'!$L$3))/(LN(1-'Test cases'!$M$3)-LN(1-'Test cases'!$K$3))) -> 4.6621085 | AB7: =EXP((LN(1-C7)*(LN('Test cases'!$L$4)-LN('Test cases'!$J$4))+LN(1-'Test cases'!$M$4)*LN('Test cases'!$J$4)-LN(1-'Test cases'!$K$4)*LN('Test cases'!$L$4))/(LN(1-'Test cases'!$M$4)-LN(1-'Test cases'!$K$4))) -> 4.7488034 | AC7: =IF(D7<='Test cases'!$M$5,EXP((LN(1-D7)*(LN('Test cases'!$L$5)-LN('Test cases'!$J$5))+LN(1-'Test cases'!$M$5)*LN('Test cases'!$J$5)-LN(1-'Test cases'!$K$5)*LN('Test cases'!$L$5))/(LN(1-'Test cases'!$M$5)-LN(1-'Test cases'!$K$5))),EXP((LN(1-D7)*(LN('Test cases'!$N$5)-LN('Test cases'!$L$5))+LN(1-'Test cases'!$O$5)*LN('Test cases'!$L$5)-LN(1-'Test cases'!$M$5)*LN('Test cases'!$N$5))/(LN(1-'Test cases'!$O$5)-LN(1-'Test cases'!$M$5)))) -> 6.1584278
A8: ='Test cases'!A12 -> 5 | B8: =1-X8/'Test cases'!C12 -> -0.14913308 | C8: =1-Y8/'Test cases'!D12 -> -0.19180921 | D8: =1-Z8/'Test cases'!E12 -> -0.10500401 | E8: =(U8^'Test cases'!$R$5+T8^'Test cases'!$R$5)^(1/'Test cases'!$R$5) -> 7.9100914 | F8: =IF(B8>'Test cases'!$M$3,'Test cases'!$M$3,B8) -> -0.14913308 | G8: =IF(C8>'Test cases'!$M$4,'Test cases'!$M$4,C8) -> -0.19180921 | H8: =IF(D8>'Test cases'!$O$5,'Test cases'!$O$5,D8) -> -0.10500401 | I8: =IF(AA8>='Test cases'!$L$3, 'Test cases'!$L$3*'Test cases'!$M$3/AA8,0)+IF(AND(AA8>='Test cases'!$J$3,AA8<'Test cases'!$L$3), 'Test cases'!$J$3*'Test cases'!$K$3/ AA8,0) -> 0 | J8: =IF(AB8>='Test cases'!$L$4,'Test cases'!$M$4,0)+IF(AND(AB8>='Test cases'!$J$4,AB8<'Test cases'!$L$4),'Test cases'!$K$4,0) -> 0 | K8: =IF(AC8>='Test cases'!$N$5,'Test cases'!$O$5,0)+IF(AND(AC8>='Test cases'!$L$5,AC8<'Test cases'!$N$5),'Test cases'!$M$5,0)+IF(AND(AC8<'Test cases'!$L$5,AC8>='Test cases'!$J$5),'Test cases'!$K$5,0) -> 0 | L8: =IF(F8<0,0,F8) -> 0 | M8: =IF(G8<0,0,G8) -> 0 | N8: =IF(H8<0,0,H8) -> 0 | O8: ='Test cases'!C12*(1-F8)+'Test cases'!D12*(1-G8)+'Test cases'!E12*(1-H8) -> 7.9100914 | P8: =(1-I8)*'Test cases'!C12+(1-J8)*'Test cases'!D12+(1-K8)*'Test cases'!E12 -> 7 | Q8: =(1-L8)*'Test cases'!C12+(1-M8)*'Test cases'!D12+(1-N8)*'Test cases'!E12 -> 7 | R8: =('Test cases'!C12/'Test cases'!$J$3)^(1/'Test cases'!$R$3)*('Test cases'!$J$3*(1-'Test cases'!$K$3)) -> 2.4852681 | S8: =('Test cases'!D12/'Test cases'!$J$4)^(1/'Test cases'!$R$4)*('Test cases'!$J$4*(1-'Test cases'!$K$4)) -> 1.3560164 | T8: =IF('Test cases'!E12<='Test cases'!$L$5,('Test cases'!E12/'Test cases'!$J$5)^(1/'Test cases'!$P$5)*('Test cases'!$J$5*(1-'Test cases'!$K$5)),0)+IF('Test cases'!E12>'Test cases'!$L$5,('Test cases'!E12/'Test cases'!$L$5)^(1/'Test cases'!$Q$5)*('Test cases'!$L$5*(1-'Test cases'!$M$5)),0) -> 4.5666195 | U8: =(R8^'Test cases'!$R$4+S8^'Test cases'!$R$4)^(1/'Test cases'!$R$4) -> 3.6539071 | V8: =R8^'Test cases'!$R$4/U8^('Test cases'!$R$4-1) -> 2.4061517 | W8: =S8^'Test cases'!$R$4/U8^('Test cases'!$R$4-1) -> 1.2477553 | X8: =V8*(U8/E8)^('Test cases'!$R$5-1) -> 2.2982662 | Y8: =W8*(U8/E8)^('Test cases'!$R$5-1) -> 1.1918092 | Z8: =T8^'Test cases'!$R$5/E8^('Test cases'!$R$5-1) -> 4.420016 | AA8: =EXP((LN(1-B8)*(LN('Test cases'!$L$3)-LN('Test cases'!$J$3))+LN(1-'Test cases'!$M$3)*LN('Test cases'!$J$3)-LN(1-'Test cases'!$K$3)*LN('Test cases'!$L$3))/(LN(1-'Test cases'!$M$3)-LN(1-'Test cases'!$K$3))) -> 5.1643056 | AB8: =EXP((LN(1-C8)*(LN('Test cases'!$L$4)-LN('Test cases'!$J$4))+LN(1-'Test cases'!$M$4)*LN('Test cases'!$J$4)-LN(1-'Test cases'!$K$4)*LN('Test cases'!$L$4))/(LN(1-'Test cases'!$M$4)-LN(1-'Test cases'!$K$4))) -> 5.2953577 | AC8: =IF(D8<='Test cases'!$M$5,EXP((LN(1-D8)*(LN('Test cases'!$L$5)-LN('Test cases'!$J$5))+LN(1-'Test cases'!$M$5)*LN('Test cases'!$J$5)-LN(1-'Test cases'!$K$5)*LN('Test cases'!$L$5))/(LN(1-'Test cases'!$M$5)-LN(1-'Test cases'!$K$5))),EXP((LN(1-D8)*(LN('Test cases'!$N$5)-LN('Test cases'!$L$5))+LN(1-'Test cases'!$O$5)*LN('Test cases'!$L$5)-LN(1-'Test cases'!$M$5)*LN('Test cases'!$N$5))/(LN(1-'Test cases'!$O$5)-LN(1-'Test cases'!$M$5)))) -> 7.1584278
A9: ='Test cases'!A13 -> 6 | B9: =1-X9/'Test cases'!C13 -> -0.13090517 | C9: =1-Y9/'Test cases'!D13 -> -0.17549626 | D9: =1-Z9/'Test cases'!E13 -> -0.096885286 | E9: =(U9^'Test cases'!$R$5+T9^'Test cases'!$R$5)^(1/'Test cases'!$R$5) -> 8.9557529 | F9: =IF(B9>'Test cases'!$M$3,'Test cases'!$M$3,B9) -> -0.13090517 | G9: =IF(C9>'Test cases'!$M$4,'Test cases'!$M$4,C9) -> -0.17549626 | H9: =IF(D9>'Test cases'!$O$5,'Test cases'!$O$5,D9) -> -0.096885286 | I9: =IF(AA9>='Test cases'!$L$3, 'Test cases'!$L$3*'Test cases'!$M$3/AA9,0)+IF(AND(AA9>='Test cases'!$J$3,AA9<'Test cases'!$L$3), 'Test cases'!$J$3*'Test cases'!$K$3/ AA9,0) -> 0 | J9: =IF(AB9>='Test cases'!$L$4,'Test cases'!$M$4,0)+IF(AND(AB9>='Test cases'!$J$4,AB9<'Test cases'!$L$4),'Test cases'!$K$4,0) -> 0 | K9: =IF(AC9>='Test cases'!$N$5,'Test cases'!$O$5,0)+IF(AND(AC9>='Test cases'!$L$5,AC9<'Test cases'!$N$5),'Test cases'!$M$5,0)+IF(AND(AC9<'Test cases'!$L$5,AC9>='Test cases'!$J$5),'Test cases'!$K$5,0) -> 0 | L9: =IF(F9<0,0,F9) -> 0 | M9: =IF(G9<0,0,G9) -> 0 | N9: =IF(H9<0,0,H9) -> 0 | O9: ='Test cases'!C13*(1-F9)+'Test cases'!D13*(1-G9)+'Test cases'!E13*(1-H9) -> 8.9557529 | P9: =(1-I9)*'Test cases'!C13+(1-J9)*'Test cases'!D13+(1-K9)*'Test cases'!E13 -> 8 | Q9: =(1-L9)*'Test cases'!C13+(1-M9)*'Test cases'!D13+(1-N9)*'Test cases'!E13 -> 8 | R9: =('Test cases'!C13/'Test cases'!$J$3)^(1/'Test cases'!$R$3)*('Test cases'!$J$3*(1-'Test cases'!$K$3)) -> 3.6053185 | S9: =('Test cases'!D13/'Test cases'!$J$4)^(1/'Test cases'!$R$4)*('Test cases'!$J$4*(1-'Test cases'!$K$4)) -> 1.3560164 | T9: =IF('Test cases'!E13<='Test cases'!$L$5,('Test cases'!E13/'Test cases'!$J$5)^(1/'Test cases'!$P$5)*('Test cases'!$J$5*(1-'Test cases'!$K$5)),0)+IF('Test cases'!E13>'Test cases'!$L$5,('Test cases'!E13/'Test cases'!$L$5)^(1/'Test cases'!$Q$5)*('Test cases'!$L$5*(1-'Test cases'!$M$5)),0) -> 4.5666195 | U9: =(R9^'Test cases'!$R$4+S9^'Test cases'!$R$4)^(1/'Test cases'!$R$4) -> 4.7439195 | V9: =R9^'Test cases'!$R$4/U9^('Test cases'!$R$4-1) -> 3.5232099 | W9: =S9^'Test cases'!$R$4/U9^('Test cases'!$R$4-1) -> 1.2207095 | X9: =V9*(U9/E9)^('Test cases'!$R$5-1) -> 3.3927155 | Y9: =W9*(U9/E9)^('Test cases'!$R$5-1) -> 1.1754963 | Z9: =T9^'Test cases'!$R$5/E9^('Test cases'!$R$5-1) -> 4.3875411 | AA9: =EXP((LN(1-B9)*(LN('Test cases'!$L$3)-LN('Test cases'!$J$3))+LN(1-'Test cases'!$M$3)*LN('Test cases'!$J$3)-LN(1-'Test cases'!$K$3)*LN('Test cases'!$L$3))/(LN(1-'Test cases'!$M$3)-LN(1-'Test cases'!$K$3))) -> 6.2693415 | AB9: =EXP((LN(1-C9)*(LN('Test cases'!$L$4)-LN('Test cases'!$J$4))+LN(1-'Test cases'!$M$4)*LN('Test cases'!$J$4)-LN(1-'Test cases'!$K$4)*LN('Test cases'!$L$4))/(LN(1-'Test cases'!$M$4)-LN(1-'Test cases'!$K$4))) -> 6.3268498 | AC9: =IF(D9<='Test cases'!$M$5,EXP((LN(1-D9)*(LN('Test cases'!$L$5)-LN('Test cases'!$J$5))+LN(1-'Test cases'!$M$5)*LN('Test cases'!$J$5)-LN(1-'Test cases'!$K$5)*LN('Test cases'!$L$5))/(LN(1-'Test cases'!$M$5)-LN(1-'Test cases'!$K$5))),EXP((LN(1-D9)*(LN('Test cases'!$N$5)-LN('Test cases'!$L$5))+LN(1-'Test cases'!$O$5)*LN('Test cases'!$L$5)-LN(1-'Test cases'!$M$5)*LN('Test cases'!$N$5))/(LN(1-'Test cases'!$O$5)-LN(1-'Test cases'!$M$5)))) -> 8.1647124
A10: ='Test cases'!A14 -> 7 | B10: =1-X10/'Test cases'!C14 -> -0.11748817 | C10: =1-Y10/'Test cases'!D14 -> -0.16155024 | D10: =1-Z10/'Test cases'!E14 -> -0.089506402 | E10: =(U10^'Test cases'!$R$5+T10^'Test cases'!$R$5)^(1/'Test cases'!$R$5) -> 10.033591 | F10: =IF(B10>'Test cases'!$M$3,'Test cases'!$M$3,B10) -> -0.11748817 | G10: =IF(C10>'Test cases'!$M$4,'Test cases'!$M$4,C10) -> -0.16155024 | H10: =IF(D10>'Test cases'!$O$5,'Test cases'!$O$5,D10) -> -0.089506402 | I10: =IF(AA10>='Test cases'!$L$3, 'Test cases'!$L$3*'Test cases'!$M$3/AA10,0)+IF(AND(AA10>='Test cases'!$J$3,AA10<'Test cases'!$L$3), 'Test cases'!$J$3*'Test cases'!$K$3/ AA10,0) -> 0 | J10: =IF(AB10>='Test cases'!$L$4,'Test cases'!$M$4,0)+IF(AND(AB10>='Test cases'!$J$4,AB10<'Test cases'!$L$4),'Test cases'!$K$4,0) -> 0 | K10: =IF(AC10>='Test cases'!$N$5,'Test cases'!$O$5,0)+IF(AND(AC10>='Test cases'!$L$5,AC10<'Test cases'!$N$5),'Test cases'!$M$5,0)+IF(AND(AC10<'Test cases'!$L$5,AC10>='Test cases'!$J$5),'Test cases'!$K$5,0) -> 0 | L10: =IF(F10<0,0,F10) -> 0 | M10: =IF(G10<0,0,G10) -> 0 | N10: =IF(H10<0,0,H10) -> 0 | O10: ='Test cases'!C14*(1-F10)+'Test cases'!D14*(1-G10)+'Test cases'!E14*(1-H10) -> 10.033591 | P10: =(1-I10)*'Test cases'!C14+(1-J10)*'Test cases'!D14+(1-K10)*'Test cases'!E14 -> 9 | Q10: =(1-L10)*'Test cases'!C14+(1-M10)*'Test cases'!D14+(1-N10)*'Test cases'!E14 -> 9 | R10: =('Test cases'!C14/'Test cases'!$J$3)^(1/'Test cases'!$R$3)*('Test cases'!$J$3*(1-'Test cases'!$K$3)) -> 3.6053185 | S10: =('Test cases'!D14/'Test cases'!$J$4)^(1/'Test cases'!$R$4)*('Test cases'!$J$4*(1-'Test cases'!$K$4)) -> 2.5702969 | T10: =IF('Test cases'!E14<='Test cases'!$L$5,('Test cases'!E14/'Test cases'!$J$5)^(1/'Test cases'!$P$5)*('Test cases'!$J$5*(1-'Test cases'!$K$5)),0)+IF('Test cases'!E14>'Test cases'!$L$5,('Test cases'!E14/'Test cases'!$L$5)^(1/'Test cases'!$Q$5)*('Test cases'!$L$5*(1-'Test cases'!$M$5)),0) -> 4.5666195 | U10: =(R10^'Test cases'!$R$4+S10^'Test cases'!$R$4)^(1/'Test cases'!$R$4) -> 5.8597941 | V10: =R10^'Test cases'!$R$4/U10^('Test cases'!$R$4-1) -> 3.4612857 | W10: =S10^'Test cases'!$R$4/U10^('Test cases'!$R$4-1) -> 2.3985084 | X10: =V10*(U10/E10)^('Test cases'!$R$5-1) -> 3.3524645 | Y10: =W10*(U10/E10)^('Test cases'!$R$5-1) -> 2.3231005 | Z10: =T10^'Test cases'!$R$5/E10^('Test cases'!$R$5-1) -> 4.3580256 | AA10: =EXP((LN(1-B10)*(LN('Test cases'!$L$3)-LN('Test cases'!$J$3))+LN(1-'Test cases'!$M$3)*LN('Test cases'!$J$3)-LN(1-'Test cases'!$K$3)*LN('Test cases'!$L$3))/(LN(1-'Test cases'!$M$3)-LN(1-'Test cases'!$K$3))) -> 7.2456619 | AB10: =EXP((LN(1-C10)*(LN('Test cases'!$L$4)-LN('Test cases'!$J$4))+LN(1-'Test cases'!$M$4)*LN('Test cases'!$J$4)-LN(1-'Test cases'!$K$4)*LN('Test cases'!$L$4))/(LN(1-'Test cases'!$M$4)-LN(1-'Test cases'!$K$4))) -> 7.3810866 | AC10: =IF(D10<='Test cases'!$M$5,EXP((LN(1-D10)*(LN('Test cases'!$L$5)-LN('Test cases'!$J$5))+LN(1-'Test cases'!$M$5)*LN('Test cases'!$J$5)-LN(1-'Test cases'!$K$5)*LN('Test cases'!$L$5))/(LN(1-'Test cases'!$M$5)-LN(1-'Test cases'!$K$5))),EXP((LN(1-D10)*(LN('Test cases'!$N$5)-LN('Test cases'!$L$5))+LN(1-'Test cases'!$O$5)*LN('Test cases'!$L$5)-LN(1-'Test cases'!$M$5)*LN('Test cases'!$N$5))/(LN(1-'Test cases'!$O$5)-LN(1-'Test cases'!$M$5)))) -> 9.2092993
A11: ='Test cases'!A15 -> 8 | B11: =1-X11/'Test cases'!C15 -> -0.1048656 | C11: =1-Y11/'Test cases'!D15 -> -0.15023 | D11: =1-Z11/'Test cases'!E15 -> -0.083262782 | E11: =(U11^'Test cases'!$R$5+T11^'Test cases'!$R$5)^(1/'Test cases'!$R$5) -> 11.052974 | F11: =IF(B11>'Test cases'!$M$3,'Test cases'!$M$3,B11) -> -0.1048656 | G11: =IF(C11>'Test cases'!$M$4,'Test cases'!$M$4,C11) -> -0.15023 | H11: =IF(D11>'Test cases'!$O$5,'Test cases'!$O$5,D11) -> -0.083262782 | I11: =IF(AA11>='Test cases'!$L$3, 'Test cases'!$L$3*'Test cases'!$M$3/AA11,0)+IF(AND(AA11>='Test cases'!$J$3,AA11<'Test cases'!$L$3), 'Test cases'!$J$3*'Test cases'!$K$3/ AA11,0) -> 0 | J11: =IF(AB11>='Test cases'!$L$4,'Test cases'!$M$4,0)+IF(AND(AB11>='Test cases'!$J$4,AB11<'Test cases'!$L$4),'Test cases'!$K$4,0) -> 0 | K11: =IF(AC11>='Test cases'!$N$5,'Test cases'!$O$5,0)+IF(AND(AC11>='Test cases'!$L$5,AC11<'Test cases'!$N$5),'Test cases'!$M$5,0)+IF(AND(AC11<'Test cases'!$L$5,AC11>='Test cases'!$J$5),'Test cases'!$K$5,0) -> 0 | L11: =IF(F11<0,0,F11) -> 0 | M11: =IF(G11<0,0,G11) -> 0 | N11: =IF(H11<0,0,H11) -> 0 | O11: ='Test cases'!C15*(1-F11)+'Test cases'!D15*(1-G11)+'Test cases'!E15*(1-H11) -> 11.052974 | P11: =(1-I11)*'Test cases'!C15+(1-J11)*'Test cases'!D15+(1-K11)*'Test cases'!E15 -> 10 | Q11: =(1-L11)*'Test cases'!C15+(1-M11)*'Test cases'!D15+(1-N11)*'Test cases'!E15 -> 10 | R11: =('Test cases'!C15/'Test cases'!$J$3)^(1/'Test cases'!$R$3)*('Test cases'!$J$3*(1-'Test cases'!$K$3)) -> 4.6943953 | S11: =('Test cases'!D15/'Test cases'!$J$4)^(1/'Test cases'!$R$4)*('Test cases'!$J$4*(1-'Test cases'!$K$4)) -> 2.5702969 | T11: =IF('Test cases'!E15<='Test cases'!$L$5,('Test cases'!E15/'Test cases'!$J$5)^(1/'Test cases'!$P$5)*('Test cases'!$J$5*(1-'Test cases'!$K$5)),0)+IF('Test cases'!E15>'Test cases'!$L$5,('Test cases'!E15/'Test cases'!$L$5)^(1/'Test cases'!$Q$5)*('Test cases'!$L$5*(1-'Test cases'!$M$5)),0) -> 4.5666195 | U11: =(R11^'Test cases'!$R$4+S11^'Test cases'!$R$4)^(1/'Test cases'!$R$4) -> 6.9100446 | V11: =R11^'Test cases'!$R$4/U11^('Test cases'!$R$4-1) -> 4.5444992 | W11: =S11^'Test cases'!$R$4/U11^('Test cases'!$R$4-1) -> 2.3655453 | X11: =V11*(U11/E11)^('Test cases'!$R$5-1) -> 4.4194624 | Y11: =W11*(U11/E11)^('Test cases'!$R$5-1) -> 2.30046 | Z11: =T11^'Test cases'!$R$5/E11^('Test cases'!$R$5-1) -> 4.3330511 | AA11: =EXP((LN(1-B11)*(LN('Test cases'!$L$3)-LN('Test cases'!$J$3))+LN(1-'Test cases'!$M$3)*LN('Test cases'!$J$3)-LN(1-'Test cases'!$K$3)*LN('Test cases'!$L$3))/(LN(1-'Test cases'!$M$3)-LN(1-'Test cases'!$K$3))) -> 8.315824 | AB11: =EXP((LN(1-C11)*(LN('Test cases'!$L$4)-LN('Test cases'!$J$4))+LN(1-'Test cases'!$M$4)*LN('Test cases'!$J$4)-LN(1-'Test cases'!$K$4)*LN('Test cases'!$L$4))/(LN(1-'Test cases'!$M$4)-LN(1-'Test cases'!$K$4))) -> 8.3761499 | AC11: =IF(D11<='Test cases'!$M$5,EXP((LN(1-D11)*(LN('Test cases'!$L$5)-LN('Test cases'!$J$5))+LN(1-'Test cases'!$M$5)*LN('Test cases'!$J$5)-LN(1-'Test cases'!$K$5)*LN('Test cases'!$L$5))/(LN(1-'Test cases'!$M$5)-LN(1-'Test cases'!$K$5))),EXP((LN(1-D11)*(LN('Test cases'!$N$5)-LN('Test cases'!$L$5))+LN(1-'Test cases'!$O$5)*LN('Test cases'!$L$5)-LN(1-'Test cases'!$M$5)*LN('Test cases'!$N$5))/(LN(1-'Test cases'!$O$5)-LN(1-'Test cases'!$M$5)))) -> 10.203409
A12: ='Test cases'!A16 -> 9 | B12: =1-X12/'Test cases'!C16 -> -0.094967658 | C12: =1-Y12/'Test cases'!D16 -> -0.13992566 | D12: =1-Z12/'Test cases'!E16 -> -0.077406143 | E12: =(U12^'Test cases'!$R$5+T12^'Test cases'!$R$5)^(1/'Test cases'!$R$5) -> 12.109272 | F12: =IF(B12>'Test cases'!$M$3,'Test cases'!$M$3,B12) -> -0.094967658 | G12: =IF(C12>'Test cases'!$M$4,'Test cases'!$M$4,C12) -> -0.13992566 | H12: =IF(D12>'Test cases'!$O$5,'Test cases'!$O$5,D12) -> -0.077406143 | I12: =IF(AA12>='Test cases'!$L$3, 'Test cases'!$L$3*'Test cases'!$M$3/AA12,0)+IF(AND(AA12>='Test cases'!$J$3,AA12<'Test cases'!$L$3), 'Test cases'!$J$3*'Test cases'!$K$3/ AA12,0) -> 0 | J12: =IF(AB12>='Test cases'!$L$4,'Test cases'!$M$4,0)+IF(AND(AB12>='Test cases'!$J$4,AB12<'Test cases'!$L$4),'Test cases'!$K$4,0) -> 0 | K12: =IF(AC12>='Test cases'!$N$5,'Test cases'!$O$5,0)+IF(AND(AC12>='Test cases'!$L$5,AC12<'Test cases'!$N$5),'Test cases'!$M$5,0)+IF(AND(AC12<'Test cases'!$L$5,AC12>='Test cases'!$J$5),'Test cases'!$K$5,0) -> 0 | L12: =IF(F12<0,0,F12) -> 0 | M12: =IF(G12<0,0,G12) -> 0 | N12: =IF(H12<0,0,H12) -> 0 | O12: ='Test cases'!C16*(1-F12)+'Test cases'!D16*(1-G12)+'Test cases'!E16*(1-H12) -> 12.109272 | P12: =(1-I12)*'Test cases'!C16+(1-J12)*'Test cases'!D16+(1-K12)*'Test cases'!E16 -> 11 | Q12: =(1-L12)*'Test cases'!C16+(1-M12)*'Test cases'!D16+(1-N12)*'Test cases'!E16 -> 11 | R12: =('Test cases'!C16/'Test cases'!$J$3)^(1/'Test cases'!$R$3)*('Test cases'!$J$3*(1-'Test cases'!$K$3)) -> 4.6943953 | S12: =('Test cases'!D16/'Test cases'!$J$4)^(1/'Test cases'!$R$4)*('Test cases'!$J$4*(1-'Test cases'!$K$4)) -> 3.7362686 | T12: =IF('Test cases'!E16<='Test cases'!$L$5,('Test cases'!E16/'Test cases'!$J$5)^(1/'Test cases'!$P$5)*('Test cases'!$J$5*(1-'Test cases'!$K$5)),0)+IF('Test cases'!E16>'Test cases'!$L$5,('Test cases'!E16/'Test cases'!$L$5)^(1/'Test cases'!$Q$5)*('Test cases'!$L$5*(1-'Test cases'!$M$5)),0) -> 4.5666195 | U12: =(R12^'Test cases'!$R$4+S12^'Test cases'!$R$4)^(1/'Test cases'!$R$4) -> 7.9944006 | V12: =R12^'Test cases'!$R$4/U12^('Test cases'!$R$4-1) -> 4.4892336 | W12: =S12^'Test cases'!$R$4/U12^('Test cases'!$R$4-1) -> 3.505167 | X12: =V12*(U12/E12)^('Test cases'!$R$5-1) -> 4.3798706 | Y12: =W12*(U12/E12)^('Test cases'!$R$5-1) -> 3.419777 | Z12: =T12^'Test cases'!$R$5/E12^('Test cases'!$R$5-1) -> 4.3096246 | AA12: =EXP((LN(1-B12)*(LN('Test cases'!$L$3)-LN('Test cases'!$J$3))+LN(1-'Test cases'!$M$3)*LN('Test cases'!$J$3)-LN(1-'Test cases'!$K$3)*LN('Test cases'!$L$3))/(LN(1-'Test cases'!$M$3)-LN(1-'Test cases'!$K$3))) -> 9.2746744 | AB12: =EXP((LN(1-C12)*(LN('Test cases'!$L$4)-LN('Test cases'!$J$4))+LN(1-'Test cases'!$M$4)*LN('Test cases'!$J$4)-LN(1-'Test cases'!$K$4)*LN('Test cases'!$L$4))/(LN(1-'Test cases'!$M$4)-LN(1-'Test cases'!$K$4))) -> 9.4083096 | AC12: =IF(D12<='Test cases'!$M$5,EXP((LN(1-D12)*(LN('Test cases'!$L$5)-LN('Test cases'!$J$5))+LN(1-'Test cases'!$M$5)*LN('Test cases'!$J$5)-LN(1-'Test cases'!$K$5)*LN('Test cases'!$L$5))/(LN(1-'Test cases'!$M$5)-LN(1-'Test cases'!$K$5))),EXP((LN(1-D12)*(LN('Test cases'!$N$5)-LN('Test cases'!$L$5))+LN(1-'Test cases'!$O$5)*LN('Test cases'!$L$5)-LN(1-'Test cases'!$M$5)*LN('Test cases'!$N$5))/(LN(1-'Test cases'!$O$5)-LN(1-'Test cases'!$M$5)))) -> 11.239283
A13: ='Test cases'!A17 -> 10 | B13: =1-X13/'Test cases'!C17 -> -0.0852808 | C13: =1-Y13/'Test cases'!D17 -> -0.13121445 | D13: =1-Z13/'Test cases'!E17 -> -0.072339691 | E13: =(U13^'Test cases'!$R$5+T13^'Test cases'!$R$5)^(1/'Test cases'!$R$5) -> 13.109406 | F13: =IF(B13>'Test cases'!$M$3,'Test cases'!$M$3,B13) -> -0.0852808 | G13: =IF(C13>'Test cases'!$M$4,'Test cases'!$M$4,C13) -> -0.13121445 | H13: =IF(D13>'Test cases'!$O$5,'Test cases'!$O$5,D13) -> -0.072339691 | I13: =IF(AA13>='Test cases'!$L$3, 'Test cases'!$L$3*'Test cases'!$M$3/AA13,0)+IF(AND(AA13>='Test cases'!$J$3,AA13<'Test cases'!$L$3), 'Test cases'!$J$3*'Test cases'!$K$3/ AA13,0) -> 0 | J13: =IF(AB13>='Test cases'!$L$4,'Test cases'!$M$4,0)+IF(AND(AB13>='Test cases'!$J$4,AB13<'Test cases'!$L$4),'Test cases'!$K$4,0) -> 0 | K13: =IF(AC13>='Test cases'!$N$5,'Test cases'!$O$5,0)+IF(AND(AC13>='Test cases'!$L$5,AC13<'Test cases'!$N$5),'Test cases'!$M$5,0)+IF(AND(AC13<'Test cases'!$L$5,AC13>='Test cases'!$J$5),'Test cases'!$K$5,0) -> 0 | L13: =IF(F13<0,0,F13) -> 0 | M13: =IF(G13<0,0,G13) -> 0 | N13: =IF(H13<0,0,H13) -> 0 | O13: ='Test cases'!C17*(1-F13)+'Test cases'!D17*(1-G13)+'Test cases'!E17*(1-H13) -> 13.109406 | P13: =(1-I13)*'Test cases'!C17+(1-J13)*'Test cases'!D17+(1-K13)*'Test cases'!E17 -> 12 | Q13: =(1-L13)*'Test cases'!C17+(1-M13)*'Test cases'!D17+(1-N13)*'Test cases'!E17 -> 12 | R13: =('Test cases'!C17/'Test cases'!$J$3)^(1/'Test cases'!$R$3)*('Test cases'!$J$3*(1-'Test cases'!$K$3)) -> 5.7610051 | S13: =('Test cases'!D17/'Test cases'!$J$4)^(1/'Test cases'!$R$4)*('Test cases'!$J$4*(1-'Test cases'!$K$4)) -> 3.7362686 | T13: =IF('Test cases'!E17<='Test cases'!$L$5,('Test cases'!E17/'Test cases'!$J$5)^(1/'Test cases'!$P$5)*('Test cases'!$J$5*(1-'Test cases'!$K$5)),0)+IF('Test cases'!E17>'Test cases'!$L$5,('Test cases'!E17/'Test cases'!$L$5)^(1/'Test cases'!$Q$5)*('Test cases'!$L$5*(1-'Test cases'!$M$5)),0) -> 4.5666195 | U13: =(R13^'Test cases'!$R$4+S13^'Test cases'!$R$4)^(1/'Test cases'!$R$4) -> 9.0182126 | V13: =R13^'Test cases'!$R$4/U13^('Test cases'!$R$4-1) -> 5.5483222 | W13: =S13^'Test cases'!$R$4/U13^('Test cases'!$R$4-1) -> 3.4698903 | X13: =V13*(U13/E13)^('Test cases'!$R$5-1) -> 5.426404 | Y13: =W13*(U13/E13)^('Test cases'!$R$5-1) -> 3.3936433 | Z13: =T13^'Test cases'!$R$5/E13^('Test cases'!$R$5-1) -> 4.2893588 | AA13: =EXP((LN(1-B13)*(LN('Test cases'!$L$3)-LN('Test cases'!$J$3))+LN(1-'Test cases'!$M$3)*LN('Test cases'!$J$3)-LN(1-'Test cases'!$K$3)*LN('Test cases'!$L$3))/(LN(1-'Test cases'!$M$3)-LN(1-'Test cases'!$K$3))) -> 10.329944 | AB13: =EXP((LN(1-C13)*(LN('Test cases'!$L$4)-LN('Test cases'!$J$4))+LN(1-'Test cases'!$M$4)*LN('Test cases'!$J$4)-LN(1-'Test cases'!$K$4)*LN('Test cases'!$L$4))/(LN(1-'Test cases'!$M$4)-LN(1-'Test cases'!$K$4))) -> 10.388033 | AC13: =IF(D13<='Test cases'!$M$5,EXP((LN(1-D13)*(LN('Test cases'!$L$5)-LN('Test cases'!$J$5))+LN(1-'Test cases'!$M$5)*LN('Test cases'!$J$5)-LN(1-'Test cases'!$K$5)*LN('Test cases'!$L$5))/(LN(1-'Test cases'!$M$5)-LN(1-'Test cases'!$K$5))),EXP((LN(1-D13)*(LN('Test cases'!$N$5)-LN('Test cases'!$L$5))+LN(1-'Test cases'!$O$5)*LN('Test cases'!$L$5)-LN(1-'Test cases'!$M$5)*LN('Test cases'!$N$5))/(LN(1-'Test cases'!$O$5)-LN(1-'Test cases'!$M$5)))) -> 12.22505
A14: ='Test cases'!A18 -> 11 | B14: =1-X14/'Test cases'!C18 -> -0.077423824 | C14: =1-Y14/'Test cases'!D18 -> -0.12302493 | D14: =1-Z14/'Test cases'!E18 -> -0.067489298 | E14: =(U14^'Test cases'!$R$5+T14^'Test cases'!$R$5)^(1/'Test cases'!$R$5) -> 14.149176 | F14: =IF(B14>'Test cases'!$M$3,'Test cases'!$M$3,B14) -> -0.077423824 | G14: =IF(C14>'Test cases'!$M$4,'Test cases'!$M$4,C14) -> -0.12302493 | H14: =IF(D14>'Test cases'!$O$5,'Test cases'!$O$5,D14) -> -0.067489298 | I14: =IF(AA14>='Test cases'!$L$3, 'Test cases'!$L$3*'Test cases'!$M$3/AA14,0)+IF(AND(AA14>='Test cases'!$J$3,AA14<'Test cases'!$L$3), 'Test cases'!$J$3*'Test cases'!$K$3/ AA14,0) -> 0 | J14: =IF(AB14>='Test cases'!$L$4,'Test cases'!$M$4,0)+IF(AND(AB14>='Test cases'!$J$4,AB14<'Test cases'!$L$4),'Test cases'!$K$4,0) -> 0 | K14: =IF(AC14>='Test cases'!$N$5,'Test cases'!$O$5,0)+IF(AND(AC14>='Test cases'!$L$5,AC14<'Test cases'!$N$5),'Test cases'!$M$5,0)+IF(AND(AC14<'Test cases'!$L$5,AC14>='Test cases'!$J$5),'Test cases'!$K$5,0) -> 0 | L14: =IF(F14<0,0,F14) -> 0 | M14: =IF(G14<0,0,G14) -> 0 | N14: =IF(H14<0,0,H14) -> 0 | O14: ='Test cases'!C18*(1-F14)+'Test cases'!D18*(1-G14)+'Test cases'!E18*(1-H14) -> 14.149176 | P14: =(1-I14)*'Test cases'!C18+(1-J14)*'Test cases'!D18+(1-K14)*'Test cases'!E18 -> 13 | Q14: =(1-L14)*'Test cases'!C18+(1-M14)*'Test cases'!D18+(1-N14)*'Test cases'!E18 -> 13 | R14: =('Test cases'!C18/'Test cases'!$J$3)^(1/'Test cases'!$R$3)*('Test cases'!$J$3*(1-'Test cases'!$K$3)) -> 5.7610051 | S14: =('Test cases'!D18/'Test cases'!$J$4)^(1/'Test cases'!$R$4)*('Test cases'!$J$4*(1-'Test cases'!$K$4)) -> 4.8719365 | T14: =IF('Test cases'!E18<='Test cases'!$L$5,('Test cases'!E18/'Test cases'!$J$5)^(1/'Test cases'!$P$5)*('Test cases'!$J$5*(1-'Test cases'!$K$5)),0)+IF('Test cases'!E18>'Test cases'!$L$5,('Test cases'!E18/'Test cases'!$L$5)^(1/'Test cases'!$Q$5)*('Test cases'!$L$5*(1-'Test cases'!$M$5)),0) -> 4.5666195 | U14: =(R14^'Test cases'!$R$4+S14^'Test cases'!$R$4)^(1/'Test cases'!$R$4) -> 10.080204 | V14: =R14^'Test cases'!$R$4/U14^('Test cases'!$R$4-1) -> 5.4967157 | W14: =S14^'Test cases'!$R$4/U14^('Test cases'!$R$4-1) -> 4.5834879 | X14: =V14*(U14/E14)^('Test cases'!$R$5-1) -> 5.3871191 | Y14: =W14*(U14/E14)^('Test cases'!$R$5-1) -> 4.4920997 | Z14: =T14^'Test cases'!$R$5/E14^('Test cases'!$R$5-1) -> 4.2699572 | AA14: =EXP((LN(1-B14)*(LN('Test cases'!$L$3)-LN('Test cases'!$J$3))+LN(1-'Test cases'!$M$3)*LN('Test cases'!$J$3)-LN(1-'Test cases'!$K$3)*LN('Test cases'!$L$3))/(LN(1-'Test cases'!$M$3)-LN(1-'Test cases'!$K$3))) -> 11.281441 | AB14: =EXP((LN(1-C14)*(LN('Test cases'!$L$4)-LN('Test cases'!$J$4))+LN(1-'Test cases'!$M$4)*LN('Test cases'!$J$4)-LN(1-'Test cases'!$K$4)*LN('Test cases'!$L$4))/(LN(1-'Test cases'!$M$4)-LN(1-'Test cases'!$K$4))) -> 11.409897 | AC14: =IF(D14<='Test cases'!$M$5,EXP((LN(1-D14)*(LN('Test cases'!$L$5)-LN('Test cases'!$J$5))+LN(1-'Test cases'!$M$5)*LN('Test cases'!$J$5)-LN(1-'Test cases'!$K$5)*LN('Test cases'!$L$5))/(LN(1-'Test cases'!$M$5)-LN(1-'Test cases'!$K$5))),EXP((LN(1-D14)*(LN('Test cases'!$N$5)-LN('Test cases'!$L$5))+LN(1-'Test cases'!$O$5)*LN('Test cases'!$L$5)-LN(1-'Test cases'!$M$5)*LN('Test cases'!$N$5))/(LN(1-'Test cases'!$O$5)-LN(1-'Test cases'!$M$5)))) -> 13.25463
A15: ='Test cases'!A19 -> 12 | B15: =1-X15/'Test cases'!C19 -> -0.073039127 | C15: =1-Y15/'Test cases'!D19 -> -0.11845465 | D15: =1-Z15/'Test cases'!E19 -> -0.06314503 | E15: =(U15^'Test cases'!$R$5+T15^'Test cases'!$R$5)^(1/'Test cases'!$R$5) -> 15.154739 | F15: =IF(B15>'Test cases'!$M$3,'Test cases'!$M$3,B15) -> -0.073039127 | G15: =IF(C15>'Test cases'!$M$4,'Test cases'!$M$4,C15) -> -0.11845465 | H15: =IF(D15>'Test cases'!$O$5,'Test cases'!$O$5,D15) -> -0.06314503 | I15: =IF(AA15>='Test cases'!$L$3, 'Test cases'!$L$3*'Test cases'!$M$3/AA15,0)+IF(AND(AA15>='Test cases'!$J$3,AA15<'Test cases'!$L$3), 'Test cases'!$J$3*'Test cases'!$K$3/ AA15,0) -> 0 | J15: =IF(AB15>='Test cases'!$L$4,'Test cases'!$M$4,0)+IF(AND(AB15>='Test cases'!$J$4,AB15<'Test cases'!$L$4),'Test cases'!$K$4,0) -> 0 | K15: =IF(AC15>='Test cases'!$N$5,'Test cases'!$O$5,0)+IF(AND(AC15>='Test cases'!$L$5,AC15<'Test cases'!$N$5),'Test cases'!$M$5,0)+IF(AND(AC15<'Test cases'!$L$5,AC15>='Test cases'!$J$5),'Test cases'!$K$5,0) -> 0 | L15: =IF(F15<0,0,F15) -> 0 | M15: =IF(G15<0,0,G15) -> 0 | N15: =IF(H15<0,0,H15) -> 0 | O15: ='Test cases'!C19*(1-F15)+'Test cases'!D19*(1-G15)+'Test cases'!E19*(1-H15) -> 15.154739 | P15: =(1-I15)*'Test cases'!C19+(1-J15)*'Test cases'!D19+(1-K15)*'Test cases'!E19 -> 14 | Q15: =(1-L15)*'Test cases'!C19+(1-M15)*'Test cases'!D19+(1-N15)*'Test cases'!E19 -> 14 | R15: =('Test cases'!C19/'Test cases'!$J$3)^(1/'Test cases'!$R$3)*('Test cases'!$J$3*(1-'Test cases'!$K$3)) -> 5.7610051 | S15: =('Test cases'!D19/'Test cases'!$J$4)^(1/'Test cases'!$R$4)*('Test cases'!$J$4*(1-'Test cases'!$K$4)) -> 4.8719365 | T15: =IF('Test cases'!E19<='Test cases'!$L$5,('Test cases'!E19/'Test cases'!$J$5)^(1/'Test cases'!$P$5)*('Test cases'!$J$5*(1-'Test cases'!$K$5)),0)+IF('Test cases'!E19>'Test cases'!$L$5,('Test cases'!E19/'Test cases'!$L$5)^(1/'Test cases'!$Q$5)*('Test cases'!$L$5*(1-'Test cases'!$M$5)),0) -> 5.637305 | U15: =(R15^'Test cases'!$R$4+S15^'Test cases'!$R$4)^(1/'Test cases'!$R$4) -> 10.080204 | V15: =R15^'Test cases'!$R$4/U15^('Test cases'!$R$4-1) -> 5.4967157 | W15: =S15^'Test cases'!$R$4/U15^('Test cases'!$R$4-1) -> 4.5834879 | X15: =V15*(U15/E15)^('Test cases'!$R$5-1) -> 5.3651956 | Y15: =W15*(U15/E15)^('Test cases'!$R$5-1) -> 4.4738186 | Z15: =T15^'Test cases'!$R$5/E15^('Test cases'!$R$5-1) -> 5.3157252 | AA15: =EXP((LN(1-B15)*(LN('Test cases'!$L$3)-LN('Test cases'!$J$3))+LN(1-'Test cases'!$M$3)*LN('Test cases'!$J$3)-LN(1-'Test cases'!$K$3)*LN('Test cases'!$L$3))/(LN(1-'Test cases'!$M$3)-LN(1-'Test cases'!$K$3))) -> 11.853355 | AB15: =EXP((LN(1-C15)*(LN('Test cases'!$L$4)-LN('Test cases'!$J$4))+LN(1-'Test cases'!$M$4)*LN('Test cases'!$J$4)-LN(1-'Test cases'!$K$4)*LN('Test cases'!$L$4))/(LN(1-'Test cases'!$M$4)-LN(1-'Test cases'!$K$4))) -> 12.026835 | AC15: =IF(D15<='Test cases'!$M$5,EXP((LN(1-D15)*(LN('Test cases'!$L$5)-LN('Test cases'!$J$5))+LN(1-'Test cases'!$M$5)*LN('Test cases'!$J$5)-LN(1-'Test cases'!$K$5)*LN('Test cases'!$L$5))/(LN(1-'Test cases'!$M$5)-LN(1-'Test cases'!$K$5))),EXP((LN(1-D15)*(LN('Test cases'!$N$5)-LN('Test cases'!$L$5))+LN(1-'Test cases'!$O$5)*LN('Test cases'!$L$5)-LN(1-'Test cases'!$M$5)*LN('Test cases'!$N$5))/(LN(1-'Test cases'!$O$5)-LN(1-'Test cases'!$M$5)))) -> 14.25463
... A1003: ='Test cases'!A1007 -> 1000 | B1003: =1-X1003/'Test cases'!C1007 -> 0.24691734 | C1003: =1-Y1003/'Test cases'!D1007 -> 0.19663947 | D1003: =1-Z1003/'Test cases'!E1007 -> 0.24530052 | E1003: =(U1003^'Test cases'!$R$5+T1003^'Test cases'!$R$5)^(1/'Test cases'!$R$5) -> 771.25834 | F1003: =IF(B1003>'Test cases'!$M$3,'Test cases'!$M$3,B1003) -> 0.15 | G1003: =IF(C1003>'Test cases'!$M$4,'Test cases'!$M$4,C1003) -> 0.1 | H1003: =IF(D1003>'Test cases'!$O$5,'Test cases'!$O$5,D1003) -> 0.17 | I1003: =IF(AA1003>='Test cases'!$L$3, 'Test cases'!$L$3*'Test cases'!$M$3/AA1003,0)+IF(AND(AA1003>='Test cases'!$J$3,AA1003<'Test cases'!$L$3), 'Test cases'!$J$3*'Test cases'!$K$3/ AA1003,0) -> 0.034554979 | J1003: =IF(AB1003>='Test cases'!$L$4,'Test cases'!$M$4,0)+IF(AND(AB1003>='Test cases'!$J$4,AB1003<'Test cases'!$L$4),'Test cases'!$K$4,0) -> 0.1 | K1003: =IF(AC1003>='Test cases'!$N$5,'Test cases'!$O$5,0)+IF(AND(AC1003>='Test cases'!$L$5,AC1003<'Test cases'!$N$5),'Test cases'!$M$5,0)+IF(AND(AC1003<'Test cases'!$L$5,AC1003>='Test cases'!$J$5),'Test cases'!$K$5,0) -> 0.17 | L1003: =IF(F1003<0,0,F1003) -> 0.15 | M1003: =IF(G1003<0,0,G1003) -> 0.1 | N1003: =IF(H1003<0,0,H1003) -> 0.17 | O1003: ='Test cases'!C1007*(1-F1003)+'Test cases'!D1007*(1-G1003)+'Test cases'!E1007*(1-H1003) -> 861.19 | P1003: =(1-I1003)*'Test cases'!C1007+(1-J1003)*'Test cases'!D1007+(1-K1003)*'Test cases'!E1007 -> 901.94209 | Q1003: =(1-L1003)*'Test cases'!C1007+(1-M1003)*'Test cases'!D1007+(1-N1003)*'Test cases'!E1007 -> 861.19 | R1003: =('Test cases'!C1007/'Test cases'!$J$3)^(1/'Test cases'!$R$3)*('Test cases'!$J$3*(1-'Test cases'!$K$3)) -> 286.3166 | S1003: =('Test cases'!D1007/'Test cases'!$J$4)^(1/'Test cases'!$R$4)*('Test cases'!$J$4*(1-'Test cases'!$K$4)) -> 278.3986 | T1003: =IF('Test cases'!E1007<='Test cases'!$L$5,('Test cases'!E1007/'Test cases'!$J$5)^(1/'Test cases'!$P$5)*('Test cases'!$J$5*(1-'Test cases'!$K$5)),0)+IF('Test cases'!E1007>'Test cases'!$L$5,('Test cases'!E1007/'Test cases'!$L$5)^(1/'Test cases'!$Q$5)*('Test cases'!$L$5*(1-'Test cases'!$M$5)),0) -> 263.82694 | U1003: =(R1003^'Test cases'!$R$4+S1003^'Test cases'!$R$4)^(1/'Test cases'!$R$4) -> 535.20652 | V1003: =R1003^'Test cases'!$R$4/U1003^('Test cases'!$R$4-1) -> 271.67029 | W1003: =S1003^'Test cases'!$R$4/U1003^('Test cases'!$R$4-1) -> 263.53622 | X1003: =V1003*(U1003/E1003)^('Test cases'!$R$5-1) -> 265.83818 | Y1003: =W1003*(U1003/E1003)^('Test cases'!$R$5-1) -> 257.87873 | Z1003: =T1003^'Test cases'!$R$5/E1003^('Test cases'!$R$5-1) -> 247.54143 | AA1003: =EXP((LN(1-B1003)*(LN('Test cases'!$L$3)-LN('Test cases'!$J$3))+LN(1-'Test cases'!$M$3)*LN('Test cases'!$J$3)-LN(1-'Test cases'!$K$3)*LN('Test cases'!$L$3))/(LN(1-'Test cases'!$M$3)-LN(1-'Test cases'!$K$3))) -> 868.18168 | AB1003: =EXP((LN(1-C1003)*(LN('Test cases'!$L$4)-LN('Test cases'!$J$4))+LN(1-'Test cases'!$M$4)*LN('Test cases'!$J$4)-LN(1-'Test cases'!$K$4)*LN('Test cases'!$L$4))/(LN(1-'Test cases'!$M$4)-LN(1-'Test cases'!$K$4))) -> 862.76217 | AC1003: =IF(D1003<='Test cases'!$M$5,EXP((LN(1-D1003)*(LN('Test cases'!$L$5)-LN('Test cases'!$J$5))+LN(1-'Test cases'!$M$5)*LN('Test cases'!$J$5)-LN(1-'Test cases'!$K$5)*LN('Test cases'!$L$5))/(LN(1-'Test cases'!$M$5)-LN(1-'Test cases'!$K$5))),EXP((LN(1-D1003)*(LN('Test cases'!$N$5)-LN('Test cases'!$L$5))+LN(1-'Test cases'!$O$5)*LN('Test cases'!$L$5)-LN(1-'Test cases'!$M$5)*LN('Test cases'!$N$5))/(LN(1-'Test cases'!$O$5)-LN(1-'Test cases'!$M$5)))) -> 427.0878

Sheet Test Results (Curves)
A1: Test results presented in curves
