Workbook

Sheet Strategies
A1: Quantity discount strategies of products
A2: Product No. | B2: Strategy | C2: Threshold 1 | D2: Discount at threshold 1 | E2: Threshold 2 | F2: Discount at threshold 2 | G2: Threshold 3 | H2: Discount at threshold 3 | I2: Discount exponent factor of discount interval 1 | J2: Discount exponent factor of discount interval 2 | K2: Minimum discount exponent
A3: 1 | B3: 10% off over $100 and 15% off over $200. | C3: 100 | D3: 0.1 | E3: 200 | F3: 0.15 | G3: N/A | H3: N/A | I3: =(LN(E3)-LN(C3))/(LN(E3*(1-F3))-LN(C3*(1-D3))) -> 1.0898733 | J3: N/A | K3: =I3 -> 1.0898733
A4: 2 | B4: 5% off over $99 and 10% off over $199. | C4: 99 | D4: 0.05 | E4: 199 | F4: 0.1 | G4: N/A | H4: N/A | I4: =(LN(E4)-LN(C4))/(LN(E4*(1-F4))-LN(C4*(1-D4))) -> 1.08394 | J4: N/A | K4: =I4 -> 1.08394
A5: 3 | B5: 4% off over $88, 8% off over $188,and 15% off over $288. | C5: 88 | D5: 0.04 | E5: 188 | F5: 0.08 | G5: 288 | H5: 0.15 | I5: =(LN(E5)-LN(C5))/(LN(E5*(1-F5))-LN(C5*(1-D5))) -> 1.0593955 | J5: =(LN(G5)-LN(E5))/(LN(G5*(1-H5))-LN(E5*(1-F5))) -> 1.2278112 | K5: =MIN(I5,J5) -> 1.0593955

Sheet Cases
A1: Test Cases
A2: Case No. | B2: Purchased amount of product 1 | C2: Purchased amount of product 2 | D2: Purchased amount of product 3 | E2: Total purchased original amount | F2: Total purchased amount measured at the amount of product 1 | G2: Total purchased amount measured at the amount of product 2 | H2: Total purchased amount measured at the amount of product 3 | I2: Product discounts for a continuous multi-product quantity discount (i.e., product discounts in continuous mode) | L2: Product discounts for a discrete multi-product quantity discount (i.e., product discounts in discrete mode) | O2: Total discount price in continuous mode | P2: Total discount price in discrete mode | Q2: b-should-be price of p1 | R2: b-should-be price of p2 | S2: b-should-be price of p3 | T2: b-should-be price of c1&2 | U2: b-should-be discount price of the p1 in c1&2 | V2: b-should-be discount price of the p2 in c1&2 | W2: b-should-be price of c1&2&3 | X2: b-should-be discount price of p1 in c1&2&3 | Y2: b-should-be discount price of p2 in c1&2&3 | Z2: b-should-be discount price of p3 in c1&2&3 | AA2: b-should-be discount on P1 | AB2: b-should-be discount on P2 | AC2: b-should-be discount on P3
I3: Discount on product 1 | J3: Discount on product 2 | K3: Discount on product 3 | L3: Discount on product 1 | M3: Discount on product 2 | N3: Discount on product 3
A4: 1 | B4: 30 | C4: 20 | D4: 30 | E4: =B4+C4+D4 -> 80 | F4: =EXP((LN(1-AA4)*(LN(Strategies!$E$3)-LN(Strategies!$C$3))+LN(1-Strategies!$F$3)*LN(Strategies!$C$3)-LN(1-Strategies!$D$3)*LN(Strategies!$E$3))/(LN(1-Strategies!$F$3)-LN(1-Strategies!$D$3))) -> 68.354009 | G4: =EXP((LN(1-AB4)*(LN(Strategies!$E$4)-LN(Strategies!$C$4))+LN(1-Strategies!$F$4)*LN(Strategies!$C$4)-LN(1-Strategies!$D$4)*LN(Strategies!$E$4))/(LN(1-Strategies!$F$4)-LN(1-Strategies!$D$4))) -> 68.504701 | H4: =IF(AC4<=Strategies!$F$5,EXP((LN(1-AC4)*(LN(Strategies!$E$5)-LN(Strategies!$C$5))+LN(1-Strategies!$F$5)*LN(Strategies!$C$5)-LN(1-Strategies!$D$5)*LN(Strategies!$E$5))/(LN(1-Strategies!$F$5)-LN(1-Strategies!$D$5))),EXP((LN(1-AC4)*(LN(Strategies!$G$5)-LN(Strategies!$E$5))+LN(1-Strategies!$H$5)*LN(Strategies!$E$5)-LN(1-Strategies!$F$5)*LN(Strategies!$G$5))/(LN(1-Strategies!$H$5)-LN(1-Strategies!$F$5)))) -> 79.090875 | I4: =IF(AA4>Strategies!$F$3,Strategies!$F$3,AA4) -> 0.071315434 | J4: =IF(AB4>Strategies!$F$4,Strategies!$F$4,AB4) -> 0.022521176 | K4: =IF(AC4>Strategies!$H$5,Strategies!$H$5,AC4) -> 0.034237758 | L4: =IF(F4>=Strategies!$E$3,Strategies!$F$3,0)+IF(AND(F4>=Strategies!$C$3,F4<Strategies!$E$3),Strategies!$D$3,0) -> 0 | M4: =IF(G4>=Strategies!$E$4,Strategies!$F$4,0)+IF(AND(G4>=Strategies!$C$4,G4<Strategies!$E$4),Strategies!$D$4,0) -> 0 | N4: =IF(H4>=Strategies!$G$5,Strategies!$H$5,0)+IF(AND(H4>=Strategies!$E$5,H4<Strategies!$G$5),Strategies!$F$5,0)+IF(AND(H4<Strategies!$E$5,H4>=Strategies!$C$5),Strategies!$D$5,0) -> 0 | O4: =B4*(1-I4)+C4*(1-J4)+D4*(1-K4) -> 76.382981 | P4: =(1-L4)*B4+(1-M4)*C4+(1-N4)*D4 -> 80 | Q4: =(B4/Strategies!$C$3)^(1/Strategies!$K$3)*(Strategies!$C$3*(1-Strategies!$D$3)) -> 29.818204 | R4: =(C4/Strategies!$C$4)^(1/Strategies!$K$4)*(Strategies!$C$4*(1-Strategies!$D$4)) -> 21.505206 | S4: =IF(D4<=Strategies!$E$5,(D4/Strategies!$C$5)^(1/Strategies!$I$5)*(Strategies!$C$5*(1-Strategies!$D$5)),0)+IF(D4>Strategies!$E$5,(D4/Strategies!$E$5)^(1/Strategies!$J$5)*(Strategies!$E$5*(1-Strategies!$F$5)),0) -> 30.591118 | T4: =(Q4^Strategies!$K$4+R4^Strategies!$K$4)^(1/Strategies!$K$4) -> 48.694913 | U4: =Q4^Strategies!$K$4/T4^(Strategies!$K$4-1) -> 28.615549 | V4: =R4^Strategies!$K$4/T4^(Strategies!$K$4-1) -> 20.079364 | W4: =(T4^Strategies!$K$5+S4^Strategies!$K$5)^(1/Strategies!$K$5) -> 76.382981 | X4: =U4*(T4/W4)^(Strategies!$K$5-1) -> 27.860537 | Y4: =V4*(T4/W4)^(Strategies!$K$5-1) -> 19.549576 | Z4: =S4^Strategies!$K$5/W4^(Strategies!$K$5-1) -> 28.972867 | AA4: =1-X4/B4 -> 0.071315434 | AB4: =1-Y4/C4 -> 0.022521176 | AC4: =1-Z4/D4 -> 0.034237758
A5: =A4+1 -> 2 | B5: =B4+RANDBETWEEN(0,1) -> 30 | C5: =IF(B5>B4,C4,0)+IF(B5=B4,C4+RANDBETWEEN(0,1),0) -> 20 | D5: =IF(AND(B5=B4,C5=C4),D4+1,D4) -> 31 | E5: =B5+C5+D5 -> 81 | F5: =EXP((LN(1-AA5)*(LN(Strategies!$E$3)-LN(Strategies!$C$3))+LN(1-Strategies!$F$3)*LN(Strategies!$C$3)-LN(1-Strategies!$D$3)*LN(Strategies!$E$3))/(LN(1-Strategies!$F$3)-LN(1-Strategies!$D$3))) -> 68.940422 | G5: =EXP((LN(1-AB5)*(LN(Strategies!$E$4)-LN(Strategies!$C$4))+LN(1-Strategies!$F$4)*LN(Strategies!$C$4)-LN(1-Strategies!$D$4)*LN(Strategies!$E$4))/(LN(1-Strategies!$F$4)-LN(1-Strategies!$D$4))) -> 69.130698 | H5: =IF(AC5<=Strategies!$F$5,EXP((LN(1-AC5)*(LN(Strategies!$E$5)-LN(Strategies!$C$5))+LN(1-Strategies!$F$5)*LN(Strategies!$C$5)-LN(1-Strategies!$D$5)*LN(Strategies!$E$5))/(LN(1-Strategies!$F$5)-LN(1-Strategies!$D$5))),EXP((LN(1-AC5)*(LN(Strategies!$G$5)-LN(Strategies!$E$5))+LN(1-Strategies!$H$5)*LN(Strategies!$E$5)-LN(1-Strategies!$F$5)*LN(Strategies!$G$5))/(LN(1-Strategies!$H$5)-LN(1-Strategies!$F$5)))) -> 80.090875 | I5: =IF(AA5>Strategies!$F$3,Strategies!$F$3,AA5) -> 0.071969398 | J5: =IF(AB5>Strategies!$F$4,Strategies!$F$4,AB5) -> 0.0232095 | K5: =IF(AC5>Strategies!$H$5,Strategies!$H$5,AC5) -> 0.034917831 | L5: =IF(F5>=Strategies!$E$3,Strategies!$F$3,0)+IF(AND(F5>=Strategies!$C$3,F5<Strategies!$E$3),Strategies!$D$3,0) -> 0 | M5: =IF(G5>=Strategies!$E$4,Strategies!$F$4,0)+IF(AND(G5>=Strategies!$C$4,G5<Strategies!$E$4),Strategies!$D$4,0) -> 0 | N5: =IF(H5>=Strategies!$G$5,Strategies!$H$5,0)+IF(AND(H5>=Strategies!$E$5,H5<Strategies!$G$5),Strategies!$F$5,0)+IF(AND(H5<Strategies!$E$5,H5>=Strategies!$C$5),Strategies!$D$5,0) -> 0 | O5: =B5*(1-I5)+C5*(1-J5)+D5*(1-K5) -> 77.294275 | P5: =(1-L5)*B5+(1-M5)*C5+(1-N5)*D5 -> 81 | Q5: =(B5/Strategies!$C$3)^(1/Strategies!$K$3)*(Strategies!$C$3*(1-Strategies!$D$3)) -> 29.818204 | R5: =(C5/Strategies!$C$4)^(1/Strategies!$K$4)*(Strategies!$C$4*(1-Strategies!$D$4)) -> 21.505206 | S5: =IF(D5<=Strategies!$E$5,(D5/Strategies!$C$5)^(1/Strategies!$I$5)*(Strategies!$C$5*(1-Strategies!$D$5)),0)+IF(D5>Strategies!$E$5,(D5/Strategies!$E$5)^(1/Strategies!$J$5)*(Strategies!$E$5*(1-Strategies!$F$5)),0) -> 31.552762 | T5: =(Q5^Strategies!$K$4+R5^Strategies!$K$4)^(1/Strategies!$K$4) -> 48.694913 | U5: =Q5^Strategies!$K$4/T5^(Strategies!$K$4-1) -> 28.615549 | V5: =R5^Strategies!$K$4/T5^(Strategies!$K$4-1) -> 20.079364 | W5: =(T5^Strategies!$K$5+S5^Strategies!$K$5)^(1/Strategies!$K$5) -> 77.294275 | X5: =U5*(T5/W5)^(Strategies!$K$5-1) -> 27.840918 | Y5: =V5*(T5/W5)^(Strategies!$K$5-1) -> 19.53581 | Z5: =S5^Strategies!$K$5/W5^(Strategies!$K$5-1) -> 29.917547 | AA5: =1-X5/B5 -> 0.071969398 | AB5: =1-Y5/C5 -> 0.0232095 | AC5: =1-Z5/D5 -> 0.034917831
A6: =A5+1 -> 3 | B6: =B5+RANDBETWEEN(0,1) -> 31 | C6: =IF(B6>B5,C5,0)+IF(B6=B5,C5+RANDBETWEEN(0,1),0) -> 20 | D6: =IF(AND(B6=B5,C6=C5),D5+1,D5) -> 31 | E6: =B6+C6+D6 -> 82 | F6: =EXP((LN(1-AA6)*(LN(Strategies!$E$3)-LN(Strategies!$C$3))+LN(1-Strategies!$F$3)*LN(Strategies!$C$3)-LN(1-Strategies!$D$3)*LN(Strategies!$E$3))/(LN(1-Strategies!$F$3)-LN(1-Strategies!$D$3))) -> 70.006743 | G6: =EXP((LN(1-AB6)*(LN(Strategies!$E$4)-LN(Strategies!$C$4))+LN(1-Strategies!$F$4)*LN(Strategies!$C$4)-LN(1-Strategies!$D$4)*LN(Strategies!$E$4))/(LN(1-Strategies!$F$4)-LN(1-Strategies!$D$4))) -> 70.108083 | H6: =IF(AC6<=Strategies!$F$5,EXP((LN(1-AC6)*(LN(Strategies!$E$5)-LN(Strategies!$C$5))+LN(1-Strategies!$F$5)*LN(Strategies!$C$5)-LN(1-Strategies!$D$5)*LN(Strategies!$E$5))/(LN(1-Strategies!$F$5)-LN(1-Strategies!$D$5))),EXP((LN(1-AC6)*(LN(Strategies!$G$5)-LN(Strategies!$E$5))+LN(1-Strategies!$H$5)*LN(Strategies!$E$5)-LN(1-Strategies!$F$5)*LN(Strategies!$G$5))/(LN(1-Strategies!$H$5)-LN(1-Strategies!$F$5)))) -> 81.025303 | I6: =IF(AA6>Strategies!$F$3,Strategies!$F$3,AA6) -> 0.073143265 | J6: =IF(AB6>Strategies!$F$4,Strategies!$F$4,AB6) -> 0.024270881 | K6: =IF(AC6>Strategies!$H$5,Strategies!$H$5,AC6) -> 0.035545254 | L6: =IF(F6>=Strategies!$E$3,Strategies!$F$3,0)+IF(AND(F6>=Strategies!$C$3,F6<Strategies!$E$3),Strategies!$D$3,0) -> 0 | M6: =IF(G6>=Strategies!$E$4,Strategies!$F$4,0)+IF(AND(G6>=Strategies!$C$4,G6<Strategies!$E$4),Strategies!$D$4,0) -> 0 | N6: =IF(H6>=Strategies!$G$5,Strategies!$H$5,0)+IF(AND(H6>=Strategies!$E$5,H6<Strategies!$G$5),Strategies!$F$5,0)+IF(AND(H6<Strategies!$E$5,H6>=Strategies!$C$5),Strategies!$D$5,0) -> 0 | O6: =B6*(1-I6)+C6*(1-J6)+D6*(1-K6) -> 78.145238 | P6: =(1-L6)*B6+(1-M6)*C6+(1-N6)*D6 -> 82 | Q6: =(B6/Strategies!$C$3)^(1/Strategies!$K$3)*(Strategies!$C$3*(1-Strategies!$D$3)) -> 30.728943 | R6: =(C6/Strategies!$C$4)^(1/Strategies!$K$4)*(Strategies!$C$4*(1-Strategies!$D$4)) -> 21.505206 | S6: =IF(D6<=Strategies!$E$5,(D6/Strategies!$C$5)^(1/Strategies!$I$5)*(Strategies!$C$5*(1-Strategies!$D$5)),0)+IF(D6>Strategies!$E$5,(D6/Strategies!$E$5)^(1/Strategies!$J$5)*(Strategies!$E$5*(1-Strategies!$F$5)),0) -> 31.552762 | T6: =(Q6^Strategies!$K$4+R6^Strategies!$K$4)^(1/Strategies!$K$4) -> 49.569374 | U6: =Q6^Strategies!$K$4/T6^(Strategies!$K$4-1) -> 29.519987 | V6: =R6^Strategies!$K$4/T6^(Strategies!$K$4-1) -> 20.049388 | W6: =(T6^Strategies!$K$5+S6^Strategies!$K$5)^(1/Strategies!$K$5) -> 78.145238 | X6: =U6*(T6/W6)^(Strategies!$K$5-1) -> 28.732559 | Y6: =V6*(T6/W6)^(Strategies!$K$5-1) -> 19.514582 | Z6: =S6^Strategies!$K$5/W6^(Strategies!$K$5-1) -> 29.898097 | AA6: =1-X6/B6 -> 0.073143265 | AB6: =1-Y6/C6 -> 0.024270881 | AC6: =1-Z6/D6 -> 0.035545254
A7: =A6+1 -> 4 | B7: =B6+RANDBETWEEN(0,1) -> 31 | C7: =IF(B7>B6,C6,0)+IF(B7=B6,C6+RANDBETWEEN(0,1),0) -> 21 | D7: =IF(AND(B7=B6,C7=C6),D6+1,D6) -> 31 | E7: =B7+C7+D7 -> 83 | F7: =EXP((LN(1-AA7)*(LN(Strategies!$E$3)-LN(Strategies!$C$3))+LN(1-Strategies!$F$3)*LN(Strategies!$C$3)-LN(1-Strategies!$D$3)*LN(Strategies!$E$3))/(LN(1-Strategies!$F$3)-LN(1-Strategies!$D$3))) -> 70.975473 | G7: =EXP((LN(1-AB7)*(LN(Strategies!$E$4)-LN(Strategies!$C$4))+LN(1-Strategies!$F$4)*LN(Strategies!$C$4)-LN(1-Strategies!$D$4)*LN(Strategies!$E$4))/(LN(1-Strategies!$F$4)-LN(1-Strategies!$D$4))) -> 71.141596 | H7: =IF(AC7<=Strategies!$F$5,EXP((LN(1-AC7)*(LN(Strategies!$E$5)-LN(Strategies!$C$5))+LN(1-Strategies!$F$5)*LN(Strategies!$C$5)-LN(1-Strategies!$D$5)*LN(Strategies!$E$5))/(LN(1-Strategies!$F$5)-LN(1-Strategies!$D$5))),EXP((LN(1-AC7)*(LN(Strategies!$G$5)-LN(Strategies!$E$5))+LN(1-Strategies!$H$5)*LN(Strategies!$E$5)-LN(1-Strategies!$F$5)*LN(Strategies!$G$5))/(LN(1-Strategies!$H$5)-LN(1-Strategies!$F$5)))) -> 82.01386 | I7: =IF(AA7>Strategies!$F$3,Strategies!$F$3,AA7) -> 0.07419304 | J7: =IF(AB7>Strategies!$F$4,Strategies!$F$4,AB7) -> 0.02537601 | K7: =IF(AC7>Strategies!$H$5,Strategies!$H$5,AC7) -> 0.036200757 | L7: =IF(F7>=Strategies!$E$3,Strategies!$F$3,0)+IF(AND(F7>=Strategies!$C$3,F7<Strategies!$E$3),Strategies!$D$3,0) -> 0 | M7: =IF(G7>=Strategies!$E$4,Strategies!$F$4,0)+IF(AND(G7>=Strategies!$C$4,G7<Strategies!$E$4),Strategies!$D$4,0) -> 0 | N7: =IF(H7>=Strategies!$G$5,Strategies!$H$5,0)+IF(AND(H7>=Strategies!$E$5,H7<Strategies!$G$5),Strategies!$F$5,0)+IF(AND(H7<Strategies!$E$5,H7>=Strategies!$C$5),Strategies!$D$5,0) -> 0 | O7: =B7*(1-I7)+C7*(1-J7)+D7*(1-K7) -> 79.044896 | P7: =(1-L7)*B7+(1-M7)*C7+(1-N7)*D7 -> 83 | Q7: =(B7/Strategies!$C$3)^(1/Strategies!$K$3)*(Strategies!$C$3*(1-Strategies!$D$3)) -> 30.728943 | R7: =(C7/Strategies!$C$4)^(1/Strategies!$K$4)*(Strategies!$C$4*(1-Strategies!$D$4)) -> 22.495312 | S7: =IF(D7<=Strategies!$E$5,(D7/Strategies!$C$5)^(1/Strategies!$I$5)*(Strategies!$C$5*(1-Strategies!$D$5)),0)+IF(D7>Strategies!$E$5,(D7/Strategies!$E$5)^(1/Strategies!$J$5)*(Strategies!$E$5*(1-Strategies!$F$5)),0) -> 31.552762 | T7: =(Q7^Strategies!$K$4+R7^Strategies!$K$4)^(1/Strategies!$K$4) -> 50.493494 | U7: =Q7^Strategies!$K$4/T7^(Strategies!$K$4-1) -> 29.474252 | V7: =R7^Strategies!$K$4/T7^(Strategies!$K$4-1) -> 21.019242 | W7: =(T7^Strategies!$K$5+S7^Strategies!$K$5)^(1/Strategies!$K$5) -> 79.044896 | X7: =U7*(T7/W7)^(Strategies!$K$5-1) -> 28.700016 | Y7: =V7*(T7/W7)^(Strategies!$K$5-1) -> 20.467104 | Z7: =S7^Strategies!$K$5/W7^(Strategies!$K$5-1) -> 29.877777 | AA7: =1-X7/B7 -> 0.07419304 | AB7: =1-Y7/C7 -> 0.02537601 | AC7: =1-Z7/D7 -> 0.036200757
A8: =A7+1 -> 5 | B8: =B7+RANDBETWEEN(0,1) -> 32 | C8: =IF(B8>B7,C7,0)+IF(B8=B7,C7+RANDBETWEEN(0,1),0) -> 21 | D8: =IF(AND(B8=B7,C8=C7),D7+1,D7) -> 31 | E8: =B8+C8+D8 -> 84 | F8: =EXP((LN(1-AA8)*(LN(Strategies!$E$3)-LN(Strategies!$C$3))+LN(1-Strategies!$F$3)*LN(Strategies!$C$3)-LN(1-Strategies!$D$3)*LN(Strategies!$E$3))/(LN(1-Strategies!$F$3)-LN(1-Strategies!$D$3))) -> 72.03984 | G8: =EXP((LN(1-AB8)*(LN(Strategies!$E$4)-LN(Strategies!$C$4))+LN(1-Strategies!$F$4)*LN(Strategies!$C$4)-LN(1-Strategies!$D$4)*LN(Strategies!$E$4))/(LN(1-Strategies!$F$4)-LN(1-Strategies!$D$4))) -> 72.117056 | H8: =IF(AC8<=Strategies!$F$5,EXP((LN(1-AC8)*(LN(Strategies!$E$5)-LN(Strategies!$C$5))+LN(1-Strategies!$F$5)*LN(Strategies!$C$5)-LN(1-Strategies!$D$5)*LN(Strategies!$E$5))/(LN(1-Strategies!$F$5)-LN(1-Strategies!$D$5))),EXP((LN(1-AC8)*(LN(Strategies!$G$5)-LN(Strategies!$E$5))+LN(1-Strategies!$H$5)*LN(Strategies!$E$5)-LN(1-Strategies!$F$5)*LN(Strategies!$G$5))/(LN(1-Strategies!$H$5)-LN(1-Strategies!$F$5)))) -> 82.947301 | I8: =IF(AA8>Strategies!$F$3,Strategies!$F$3,AA8) -> 0.07532872 | J8: =IF(AB8>Strategies!$F$4,Strategies!$F$4,AB8) -> 0.02640331 | K8: =IF(AC8>Strategies!$H$5,Strategies!$H$5,AC8) -> 0.036812099 | L8: =IF(F8>=Strategies!$E$3,Strategies!$F$3,0)+IF(AND(F8>=Strategies!$C$3,F8<Strategies!$E$3),Strategies!$D$3,0) -> 0 | M8: =IF(G8>=Strategies!$E$4,Strategies!$F$4,0)+IF(AND(G8>=Strategies!$C$4,G8<Strategies!$E$4),Strategies!$D$4,0) -> 0 | N8: =IF(H8>=Strategies!$G$5,Strategies!$H$5,0)+IF(AND(H8>=Strategies!$E$5,H8<Strategies!$G$5),Strategies!$F$5,0)+IF(AND(H8<Strategies!$E$5,H8>=Strategies!$C$5),Strategies!$D$5,0) -> 0 | O8: =B8*(1-I8)+C8*(1-J8)+D8*(1-K8) -> 79.893836 | P8: =(1-L8)*B8+(1-M8)*C8+(1-N8)*D8 -> 84 | Q8: =(B8/Strategies!$C$3)^(1/Strategies!$K$3)*(Strategies!$C$3*(1-Strategies!$D$3)) -> 31.637262 | R8: =(C8/Strategies!$C$4)^(1/Strategies!$K$4)*(Strategies!$C$4*(1-Strategies!$D$4)) -> 22.495312 | S8: =IF(D8<=Strategies!$E$5,(D8/Strategies!$C$5)^(1/Strategies!$I$5)*(Strategies!$C$5*(1-Strategies!$D$5)),0)+IF(D8>Strategies!$E$5,(D8/Strategies!$E$5)^(1/Strategies!$J$5)*(Strategies!$E$5*(1-Strategies!$F$5)),0) -> 31.552762 | T8: =(Q8^Strategies!$K$4+R8^Strategies!$K$4)^(1/Strategies!$K$4) -> 51.365168 | U8: =Q8^Strategies!$K$4/T8^(Strategies!$K$4-1) -> 30.376103 | V8: =R8^Strategies!$K$4/T8^(Strategies!$K$4-1) -> 20.989065 | W8: =(T8^Strategies!$K$5+S8^Strategies!$K$5)^(1/Strategies!$K$5) -> 79.893836 | X8: =U8*(T8/W8)^(Strategies!$K$5-1) -> 29.589481 | Y8: =V8*(T8/W8)^(Strategies!$K$5-1) -> 20.44553 | Z8: =S8^Strategies!$K$5/W8^(Strategies!$K$5-1) -> 29.858825 | AA8: =1-X8/B8 -> 0.07532872 | AB8: =1-Y8/C8 -> 0.02640331 | AC8: =1-Z8/D8 -> 0.036812099
A9: =A8+1 -> 6 | B9: =B8+RANDBETWEEN(0,1) -> 32 | C9: =IF(B9>B8,C8,0)+IF(B9=B8,C8+RANDBETWEEN(0,1),0) -> 21 | D9: =IF(AND(B9=B8,C9=C8),D8+1,D8) -> 32 | E9: =B9+C9+D9 -> 85 | F9: =EXP((LN(1-AA9)*(LN(Strategies!$E$3)-LN(Strategies!$C$3))+LN(1-Strategies!$F$3)*LN(Strategies!$C$3)-LN(1-Strategies!$D$3)*LN(Strategies!$E$3))/(LN(1-Strategies!$F$3)-LN(1-Strategies!$D$3))) -> 72.629196 | G9: =EXP((LN(1-AB9)*(LN(Strategies!$E$4)-LN(Strategies!$C$4))+LN(1-Strategies!$F$4)*LN(Strategies!$C$4)-LN(1-Strategies!$D$4)*LN(Strategies!$E$4))/(LN(1-Strategies!$F$4)-LN(1-Strategies!$D$4))) -> 72.745474 | H9: =IF(AC9<=Strategies!$F$5,EXP((LN(1-AC9)*(LN(Strategies!$E$5)-LN(Strategies!$C$5))+LN(1-Strategies!$F$5)*LN(Strategies!$C$5)-LN(1-Strategies!$D$5)*LN(Strategies!$E$5))/(LN(1-Strategies!$F$5)-LN(1-Strategies!$D$5))),EXP((LN(1-AC9)*(LN(Strategies!$G$5)-LN(Strategies!$E$5))+LN(1-Strategies!$H$5)*LN(Strategies!$E$5)-LN(1-Strategies!$F$5)*LN(Strategies!$G$5))/(LN(1-Strategies!$H$5)-LN(1-Strategies!$F$5)))) -> 83.947301 | I9: =IF(AA9>Strategies!$F$3,Strategies!$F$3,AA9) -> 0.075949775 | J9: =IF(AB9>Strategies!$F$4,Strategies!$F$4,AB9) -> 0.027057226 | K9: =IF(AC9>Strategies!$H$5,Strategies!$H$5,AC9) -> 0.037459024 | L9: =IF(F9>=Strategies!$E$3,Strategies!$F$3,0)+IF(AND(F9>=Strategies!$C$3,F9<Strategies!$E$3),Strategies!$D$3,0) -> 0 | M9: =IF(G9>=Strategies!$E$4,Strategies!$F$4,0)+IF(AND(G9>=Strategies!$C$4,G9<Strategies!$E$4),Strategies!$D$4,0) -> 0 | N9: =IF(H9>=Strategies!$G$5,Strategies!$H$5,0)+IF(AND(H9>=Strategies!$E$5,H9<Strategies!$G$5),Strategies!$F$5,0)+IF(AND(H9<Strategies!$E$5,H9>=Strategies!$C$5),Strategies!$D$5,0) -> 0 | O9: =B9*(1-I9)+C9*(1-J9)+D9*(1-K9) -> 80.802717 | P9: =(1-L9)*B9+(1-M9)*C9+(1-N9)*D9 -> 85 | Q9: =(B9/Strategies!$C$3)^(1/Strategies!$K$3)*(Strategies!$C$3*(1-Strategies!$D$3)) -> 31.637262 | R9: =(C9/Strategies!$C$4)^(1/Strategies!$K$4)*(Strategies!$C$4*(1-Strategies!$D$4)) -> 22.495312 | S9: =IF(D9<=Strategies!$E$5,(D9/Strategies!$C$5)^(1/Strategies!$I$5)*(Strategies!$C$5*(1-Strategies!$D$5)),0)+IF(D9>Strategies!$E$5,(D9/Strategies!$E$5)^(1/Strategies!$J$5)*(Strategies!$E$5*(1-Strategies!$F$5)),0) -> 32.512669 | T9: =(Q9^Strategies!$K$4+R9^Strategies!$K$4)^(1/Strategies!$K$4) -> 51.365168 | U9: =Q9^Strategies!$K$4/T9^(Strategies!$K$4-1) -> 30.376103 | V9: =R9^Strategies!$K$4/T9^(Strategies!$K$4-1) -> 20.989065 | W9: =(T9^Strategies!$K$5+S9^Strategies!$K$5)^(1/Strategies!$K$5) -> 80.802717 | X9: =U9*(T9/W9)^(Strategies!$K$5-1) -> 29.569607 | Y9: =V9*(T9/W9)^(Strategies!$K$5-1) -> 20.431798 | Z9: =S9^Strategies!$K$5/W9^(Strategies!$K$5-1) -> 30.801311 | AA9: =1-X9/B9 -> 0.075949775 | AB9: =1-Y9/C9 -> 0.027057226 | AC9: =1-Z9/D9 -> 0.037459024
A10: =A9+1 -> 7 | B10: =B9+RANDBETWEEN(0,1) -> 32 | C10: =IF(B10>B9,C9,0)+IF(B10=B9,C9+RANDBETWEEN(0,1),0) -> 22 | D10: =IF(AND(B10=B9,C10=C9),D9+1,D9) -> 32 | E10: =B10+C10+D10 -> 86 | F10: =EXP((LN(1-AA10)*(LN(Strategies!$E$3)-LN(Strategies!$C$3))+LN(1-Strategies!$F$3)*LN(Strategies!$C$3)-LN(1-Strategies!$D$3)*LN(Strategies!$E$3))/(LN(1-Strategies!$F$3)-LN(1-Strategies!$D$3))) -> 73.597538 | G10: =EXP((LN(1-AB10)*(LN(Strategies!$E$4)-LN(Strategies!$C$4))+LN(1-Strategies!$F$4)*LN(Strategies!$C$4)-LN(1-Strategies!$D$4)*LN(Strategies!$E$4))/(LN(1-Strategies!$F$4)-LN(1-Strategies!$D$4))) -> 73.778716 | H10: =IF(AC10<=Strategies!$F$5,EXP((LN(1-AC10)*(LN(Strategies!$E$5)-LN(Strategies!$C$5))+LN(1-Strategies!$F$5)*LN(Strategies!$C$5)-LN(1-Strategies!$D$5)*LN(Strategies!$E$5))/(LN(1-Strategies!$F$5)-LN(1-Strategies!$D$5))),EXP((LN(1-AC10)*(LN(Strategies!$G$5)-LN(Strategies!$E$5))+LN(1-Strategies!$H$5)*LN(Strategies!$E$5)-LN(1-Strategies!$F$5)*LN(Strategies!$G$5))/(LN(1-Strategies!$H$5)-LN(1-Strategies!$F$5)))) -> 84.935003 | I10: =IF(AA10>Strategies!$F$3,Strategies!$F$3,AA10) -> 0.076958451 | J10: =IF(AB10>Strategies!$F$4,Strategies!$F$4,AB10) -> 0.028119272 | K10: =IF(AC10>Strategies!$H$5,Strategies!$H$5,AC10) -> 0.038090053 | L10: =IF(F10>=Strategies!$E$3,Strategies!$F$3,0)+IF(AND(F10>=Strategies!$C$3,F10<Strategies!$E$3),Strategies!$D$3,0) -> 0 | M10: =IF(G10>=Strategies!$E$4,Strategies!$F$4,0)+IF(AND(G10>=Strategies!$C$4,G10<Strategies!$E$4),Strategies!$D$4,0) -> 0 | N10: =IF(H10>=Strategies!$G$5,Strategies!$H$5,0)+IF(AND(H10>=Strategies!$E$5,H10<Strategies!$G$5),Strategies!$F$5,0)+IF(AND(H10<Strategies!$E$5,H10>=Strategies!$C$5),Strategies!$D$5,0) -> 0 | O10: =B10*(1-I10)+C10*(1-J10)+D10*(1-K10) -> 81.699824 | P10: =(1-L10)*B10+(1-M10)*C10+(1-N10)*D10 -> 86 | Q10: =(B10/Strategies!$C$3)^(1/Strategies!$K$3)*(Strategies!$C$3*(1-Strategies!$D$3)) -> 31.637262 | R10: =(C10/Strategies!$C$4)^(1/Strategies!$K$4)*(Strategies!$C$4*(1-Strategies!$D$4)) -> 23.481771 | S10: =IF(D10<=Strategies!$E$5,(D10/Strategies!$C$5)^(1/Strategies!$I$5)*(Strategies!$C$5*(1-Strategies!$D$5)),0)+IF(D10>Strategies!$E$5,(D10/Strategies!$E$5)^(1/Strategies!$J$5)*(Strategies!$E$5*(1-Strategies!$F$5)),0) -> 32.512669 | T10: =(Q10^Strategies!$K$4+R10^Strategies!$K$4)^(1/Strategies!$K$4) -> 52.286558 | U10: =Q10^Strategies!$K$4/T10^(Strategies!$K$4-1) -> 30.330805 | V10: =R10^Strategies!$K$4/T10^(Strategies!$K$4-1) -> 21.955754 | W10: =(T10^Strategies!$K$5+S10^Strategies!$K$5)^(1/Strategies!$K$5) -> 81.699824 | X10: =U10*(T10/W10)^(Strategies!$K$5-1) -> 29.53733 | Y10: =V10*(T10/W10)^(Strategies!$K$5-1) -> 21.381376 | Z10: =S10^Strategies!$K$5/W10^(Strategies!$K$5-1) -> 30.781118 | AA10: =1-X10/B10 -> 0.076958451 | AB10: =1-Y10/C10 -> 0.028119272 | AC10: =1-Z10/D10 -> 0.038090053
A11: =A10+1 -> 8 | B11: =B10+RANDBETWEEN(0,1) -> 33 | C11: =IF(B11>B10,C10,0)+IF(B11=B10,C10+RANDBETWEEN(0,1),0) -> 22 | D11: =IF(AND(B11=B10,C11=C10),D10+1,D10) -> 32 | E11: =B11+C11+D11 -> 87 | F11: =EXP((LN(1-AA11)*(LN(Strategies!$E$3)-LN(Strategies!$C$3))+LN(1-Strategies!$F$3)*LN(Strategies!$C$3)-LN(1-Strategies!$D$3)*LN(Strategies!$E$3))/(LN(1-Strategies!$F$3)-LN(1-Strategies!$D$3))) -> 74.662134 | G11: =EXP((LN(1-AB11)*(LN(Strategies!$E$4)-LN(Strategies!$C$4))+LN(1-Strategies!$F$4)*LN(Strategies!$C$4)-LN(1-Strategies!$D$4)*LN(Strategies!$E$4))/(LN(1-Strategies!$F$4)-LN(1-Strategies!$D$4))) -> 74.753791 | H11: =IF(AC11<=Strategies!$F$5,EXP((LN(1-AC11)*(LN(Strategies!$E$5)-LN(Strategies!$C$5))+LN(1-Strategies!$F$5)*LN(Strategies!$C$5)-LN(1-Strategies!$D$5)*LN(Strategies!$E$5))/(LN(1-Strategies!$F$5)-LN(1-Strategies!$D$5))),EXP((LN(1-AC11)*(LN(Strategies!$G$5)-LN(Strategies!$E$5))+LN(1-Strategies!$H$5)*LN(Strategies!$E$5)-LN(1-Strategies!$F$5)*LN(Strategies!$G$5))/(LN(1-Strategies!$H$5)-LN(1-Strategies!$F$5)))) -> 85.867493 | I11: =IF(AA11>Strategies!$F$3,Strategies!$F$3,AA11) -> 0.078050943 | J11: =IF(AB11>Strategies!$F$4,Strategies!$F$4,AB11) -> 0.029106935 | K11: =IF(AC11>Strategies!$H$5,Strategies!$H$5,AC11) -> 0.038678736 | L11: =IF(F11>=Strategies!$E$3,Strategies!$F$3,0)+IF(AND(F11>=Strategies!$C$3,F11<Strategies!$E$3),Strategies!$D$3,0) -> 0 | M11: =IF(G11>=Strategies!$E$4,Strategies!$F$4,0)+IF(AND(G11>=Strategies!$C$4,G11<Strategies!$E$4),Strategies!$D$4,0) -> 0 | N11: =IF(H11>=Strategies!$G$5,Strategies!$H$5,0)+IF(AND(H11>=Strategies!$E$5,H11<Strategies!$G$5),Strategies!$F$5,0)+IF(AND(H11<Strategies!$E$5,H11>=Strategies!$C$5),Strategies!$D$5,0) -> 0 | O11: =B11*(1-I11)+C11*(1-J11)+D11*(1-K11) -> 82.546247 | P11: =(1-L11)*B11+(1-M11)*C11+(1-N11)*D11 -> 87 | Q11: =(B11/Strategies!$C$3)^(1/Strategies!$K$3)*(Strategies!$C$3*(1-Strategies!$D$3)) -> 32.543243 | R11: =(C11/Strategies!$C$4)^(1/Strategies!$K$4)*(Strategies!$C$4*(1-Strategies!$D$4)) -> 23.481771 | S11: =IF(D11<=Strategies!$E$5,(D11/Strategies!$C$5)^(1/Strategies!$I$5)*(Strategies!$C$5*(1-Strategies!$D$5)),0)+IF(D11>Strategies!$E$5,(D11/Strategies!$E$5)^(1/Strategies!$J$5)*(Strategies!$E$5*(1-Strategies!$F$5)),0) -> 32.512669 | T11: =(Q11^Strategies!$K$4+R11^Strategies!$K$4)^(1/Strategies!$K$4) -> 53.155559 | U11: =Q11^Strategies!$K$4/T11^(Strategies!$K$4-1) -> 31.230162 | V11: =R11^Strategies!$K$4/T11^(Strategies!$K$4-1) -> 21.925397 | W11: =(T11^Strategies!$K$5+S11^Strategies!$K$5)^(1/Strategies!$K$5) -> 82.546247 | X11: =U11*(T11/W11)^(Strategies!$K$5-1) -> 30.424319 | Y11: =V11*(T11/W11)^(Strategies!$K$5-1) -> 21.359647 | Z11: =S11^Strategies!$K$5/W11^(Strategies!$K$5-1) -> 30.76228 | AA11: =1-X11/B11 -> 0.078050943 | AB11: =1-Y11/C11 -> 0.029106935 | AC11: =1-Z11/D11 -> 0.038678736
A12: =A11+1 -> 9 | B12: =B11+RANDBETWEEN(0,1) -> 34 | C12: =IF(B12>B11,C11,0)+IF(B12=B11,C11+RANDBETWEEN(0,1),0) -> 22 | D12: =IF(AND(B12=B11,C12=C11),D11+1,D11) -> 32 | E12: =B12+C12+D12 -> 88 | F12: =EXP((LN(1-AA12)*(LN(Strategies!$E$3)-LN(Strategies!$C$3))+LN(1-Strategies!$F$3)*LN(Strategies!$C$3)-LN(1-Strategies!$D$3)*LN(Strategies!$E$3))/(LN(1-Strategies!$F$3)-LN(1-Strategies!$D$3))) -> 75.724569 | G12: =EXP((LN(1-AB12)*(LN(Strategies!$E$4)-LN(Strategies!$C$4))+LN(1-Strategies!$F$4)*LN(Strategies!$C$4)-LN(1-Strategies!$D$4)*LN(Strategies!$E$4))/(LN(1-Strategies!$F$4)-LN(1-Strategies!$D$4))) -> 75.727945 | H12: =IF(AC12<=Strategies!$F$5,EXP((LN(1-AC12)*(LN(Strategies!$E$5)-LN(Strategies!$C$5))+LN(1-Strategies!$F$5)*LN(Strategies!$C$5)-LN(1-Strategies!$D$5)*LN(Strategies!$E$5))/(LN(1-Strategies!$F$5)-LN(1-Strategies!$D$5))),EXP((LN(1-AC12)*(LN(Strategies!$G$5)-LN(Strategies!$E$5))+LN(1-Strategies!$H$5)*LN(Strategies!$E$5)-LN(1-Strategies!$F$5)*LN(Strategies!$G$5))/(LN(1-Strategies!$H$5)-LN(1-Strategies!$F$5)))) -> 86.799455 | I12: =IF(AA12>Strategies!$F$3,Strategies!$F$3,AA12) -> 0.079124533 | J12: =IF(AB12>Strategies!$F$4,Strategies!$F$4,AB12) -> 0.0300799 | K12: =IF(AC12>Strategies!$H$5,Strategies!$H$5,AC12) -> 0.039260379 | L12: =IF(F12>=Strategies!$E$3,Strategies!$F$3,0)+IF(AND(F12>=Strategies!$C$3,F12<Strategies!$E$3),Strategies!$D$3,0) -> 0 | M12: =IF(G12>=Strategies!$E$4,Strategies!$F$4,0)+IF(AND(G12>=Strategies!$C$4,G12<Strategies!$E$4),Strategies!$D$4,0) -> 0 | N12: =IF(H12>=Strategies!$G$5,Strategies!$H$5,0)+IF(AND(H12>=Strategies!$E$5,H12<Strategies!$G$5),Strategies!$F$5,0)+IF(AND(H12<Strategies!$E$5,H12>=Strategies!$C$5),Strategies!$D$5,0) -> 0 | O12: =B12*(1-I12)+C12*(1-J12)+D12*(1-K12) -> 83.391676 | P12: =(1-L12)*B12+(1-M12)*C12+(1-N12)*D12 -> 88 | Q12: =(B12/Strategies!$C$3)^(1/Strategies!$K$3)*(Strategies!$C$3*(1-Strategies!$D$3)) -> 33.446963 | R12: =(C12/Strategies!$C$4)^(1/Strategies!$K$4)*(Strategies!$C$4*(1-Strategies!$D$4)) -> 23.481771 | S12: =IF(D12<=Strategies!$E$5,(D12/Strategies!$C$5)^(1/Strategies!$I$5)*(Strategies!$C$5*(1-Strategies!$D$5)),0)+IF(D12>Strategies!$E$5,(D12/Strategies!$E$5)^(1/Strategies!$J$5)*(Strategies!$E$5*(1-Strategies!$F$5)),0) -> 32.512669 | T12: =(Q12^Strategies!$K$4+R12^Strategies!$K$4)^(1/Strategies!$K$4) -> 54.023226 | U12: =Q12^Strategies!$K$4/T12^(Strategies!$K$4-1) -> 32.127608 | V12: =R12^Strategies!$K$4/T12^(Strategies!$K$4-1) -> 21.895618 | W12: =(T12^Strategies!$K$5+S12^Strategies!$K$5)^(1/Strategies!$K$5) -> 83.391676 | X12: =U12*(T12/W12)^(Strategies!$K$5-1) -> 31.309766 | Y12: =V12*(T12/W12)^(Strategies!$K$5-1) -> 21.338242 | Z12: =S12^Strategies!$K$5/W12^(Strategies!$K$5-1) -> 30.743668 | AA12: =1-X12/B12 -> 0.079124533 | AB12: =1-Y12/C12 -> 0.0300799 | AC12: =1-Z12/D12 -> 0.039260379
A13: =A12+1 -> 10 | B13: =B12+RANDBETWEEN(0,1) -> 35 | C13: =IF(B13>B12,C12,0)+IF(B13=B12,C12+RANDBETWEEN(0,1),0) -> 22 | D13: =IF(AND(B13=B12,C13=C12),D12+1,D12) -> 32 | E13: =B13+C13+D13 -> 89 | F13: =EXP((LN(1-AA13)*(LN(Strategies!$E$3)-LN(Strategies!$C$3))+LN(1-Strategies!$F$3)*LN(Strategies!$C$3)-LN(1-Strategies!$D$3)*LN(Strategies!$E$3))/(LN(1-Strategies!$F$3)-LN(1-Strategies!$D$3))) -> 76.784966 | G13: =EXP((LN(1-AB13)*(LN(Strategies!$E$4)-LN(Strategies!$C$4))+LN(1-Strategies!$F$4)*LN(Strategies!$C$4)-LN(1-Strategies!$D$4)*LN(Strategies!$E$4))/(LN(1-Strategies!$F$4)-LN(1-Strategies!$D$4))) -> 76.701213 | H13: =IF(AC13<=Strategies!$F$5,EXP((LN(1-AC13)*(LN(Strategies!$E$5)-LN(Strategies!$C$5))+LN(1-Strategies!$F$5)*LN(Strategies!$C$5)-LN(1-Strategies!$D$5)*LN(Strategies!$E$5))/(LN(1-Strategies!$F$5)-LN(1-Strategies!$D$5))),EXP((LN(1-AC13)*(LN(Strategies!$G$5)-LN(Strategies!$E$5))+LN(1-Strategies!$H$5)*LN(Strategies!$E$5)-LN(1-Strategies!$F$5)*LN(Strategies!$G$5))/(LN(1-Strategies!$H$5)-LN(1-Strategies!$F$5)))) -> 87.730902 | I13: =IF(AA13>Strategies!$F$3,Strategies!$F$3,AA13) -> 0.080179929 | J13: =IF(AB13>Strategies!$F$4,Strategies!$F$4,AB13) -> 0.031038605 | K13: =IF(AC13>Strategies!$H$5,Strategies!$H$5,AC13) -> 0.039835147 | L13: =IF(F13>=Strategies!$E$3,Strategies!$F$3,0)+IF(AND(F13>=Strategies!$C$3,F13<Strategies!$E$3),Strategies!$D$3,0) -> 0 | M13: =IF(G13>=Strategies!$E$4,Strategies!$F$4,0)+IF(AND(G13>=Strategies!$C$4,G13<Strategies!$E$4),Strategies!$D$4,0) -> 0 | N13: =IF(H13>=Strategies!$G$5,Strategies!$H$5,0)+IF(AND(H13>=Strategies!$E$5,H13<Strategies!$G$5),Strategies!$F$5,0)+IF(AND(H13<Strategies!$E$5,H13>=Strategies!$C$5),Strategies!$D$5,0) -> 0 | O13: =B13*(1-I13)+C13*(1-J13)+D13*(1-K13) -> 84.236128 | P13: =(1-L13)*B13+(1-M13)*C13+(1-N13)*D13 -> 89 | Q13: =(B13/Strategies!$C$3)^(1/Strategies!$K$3)*(Strategies!$C$3*(1-Strategies!$D$3)) -> 34.348493 | R13: =(C13/Strategies!$C$4)^(1/Strategies!$K$4)*(Strategies!$C$4*(1-Strategies!$D$4)) -> 23.481771 | S13: =IF(D13<=Strategies!$E$5,(D13/Strategies!$C$5)^(1/Strategies!$I$5)*(Strategies!$C$5*(1-Strategies!$D$5)),0)+IF(D13>Strategies!$E$5,(D13/Strategies!$E$5)^(1/Strategies!$J$5)*(Strategies!$E$5*(1-Strategies!$F$5)),0) -> 32.512669 | T13: =(Q13^Strategies!$K$4+R13^Strategies!$K$4)^(1/Strategies!$K$4) -> 54.889585 | U13: =Q13^Strategies!$K$4/T13^(Strategies!$K$4-1) -> 33.023188 | V13: =R13^Strategies!$K$4/T13^(Strategies!$K$4-1) -> 21.866397 | W13: =(T13^Strategies!$K$5+S13^Strategies!$K$5)^(1/Strategies!$K$5) -> 84.236128 | X13: =U13*(T13/W13)^(Strategies!$K$5-1) -> 32.193702 | Y13: =V13*(T13/W13)^(Strategies!$K$5-1) -> 21.317151 | Z13: =S13^Strategies!$K$5/W13^(Strategies!$K$5-1) -> 30.725275 | AA13: =1-X13/B13 -> 0.080179929 | AB13: =1-Y13/C13 -> 0.031038605 | AC13: =1-Z13/D13 -> 0.039835147
A14: =A13+1 -> 11 | B14: =B13+RANDBETWEEN(0,1) -> 36 | C14: =IF(B14>B13,C13,0)+IF(B14=B13,C13+RANDBETWEEN(0,1),0) -> 22 | D14: =IF(AND(B14=B13,C14=C13),D13+1,D13) -> 32 | E14: =B14+C14+D14 -> 90 | F14: =EXP((LN(1-AA14)*(LN(Strategies!$E$3)-LN(Strategies!$C$3))+LN(1-Strategies!$F$3)*LN(Strategies!$C$3)-LN(1-Strategies!$D$3)*LN(Strategies!$E$3))/(LN(1-Strategies!$F$3)-LN(1-Strategies!$D$3))) -> 77.843441 | G14: =EXP((LN(1-AB14)*(LN(Strategies!$E$4)-LN(Strategies!$C$4))+LN(1-Strategies!$F$4)*LN(Strategies!$C$4)-LN(1-Strategies!$D$4)*LN(Strategies!$E$4))/(LN(1-Strategies!$F$4)-LN(1-Strategies!$D$4))) -> 77.673629 | H14: =IF(AC14<=Strategies!$F$5,EXP((LN(1-AC14)*(LN(Strategies!$E$5)-LN(Strategies!$C$5))+LN(1-Strategies!$F$5)*LN(Strategies!$C$5)-LN(1-Strategies!$D$5)*LN(Strategies!$E$5))/(LN(1-Strategies!$F$5)-LN(1-Strategies!$D$5))),EXP((LN(1-AC14)*(LN(Strategies!$G$5)-LN(Strategies!$E$5))+LN(1-Strategies!$H$5)*LN(Strategies!$E$5)-LN(1-Strategies!$F$5)*LN(Strategies!$G$5))/(LN(1-Strategies!$H$5)-LN(1-Strategies!$F$5)))) -> 88.661843 | I14: =IF(AA14>Strategies!$F$3,Strategies!$F$3,AA14) -> 0.081217793 | J14: =IF(AB14>Strategies!$F$4,Strategies!$F$4,AB14) -> 0.031983469 | K14: =IF(AC14>Strategies!$H$5,Strategies!$H$5,AC14) -> 0.040403199 | L14: =IF(F14>=Strategies!$E$3,Strategies!$F$3,0)+IF(AND(F14>=Strategies!$C$3,F14<Strategies!$E$3),Strategies!$D$3,0) -> 0 | M14: =IF(G14>=Strategies!$E$4,Strategies!$F$4,0)+IF(AND(G14>=Strategies!$C$4,G14<Strategies!$E$4),Strategies!$D$4,0) -> 0 | N14: =IF(H14>=Strategies!$G$5,Strategies!$H$5,0)+IF(AND(H14>=Strategies!$E$5,H14<Strategies!$G$5),Strategies!$F$5,0)+IF(AND(H14<Strategies!$E$5,H14>=Strategies!$C$5),Strategies!$D$5,0) -> 0.04 | O14: =B14*(1-I14)+C14*(1-J14)+D14*(1-K14) -> 85.079621 | P14: =(1-L14)*B14+(1-M14)*C14+(1-N14)*D14 -> 88.72 | Q14: =(B14/Strategies!$C$3)^(1/Strategies!$K$3)*(Strategies!$C$3*(1-Strategies!$D$3)) -> 35.247901 | R14: =(C14/Strategies!$C$4)^(1/Strategies!$K$4)*(Strategies!$C$4*(1-Strategies!$D$4)) -> 23.481771 | S14: =IF(D14<=Strategies!$E$5,(D14/Strategies!$C$5)^(1/Strategies!$I$5)*(Strategies!$C$5*(1-Strategies!$D$5)),0)+IF(D14>Strategies!$E$5,(D14/Strategies!$E$5)^(1/Strategies!$J$5)*(Strategies!$E$5*(1-Strategies!$F$5)),0) -> 32.512669 | T14: =(Q14^Strategies!$K$4+R14^Strategies!$K$4)^(1/Strategies!$K$4) -> 55.754664 | U14: =Q14^Strategies!$K$4/T14^(Strategies!$K$4-1) -> 33.91695 | V14: =R14^Strategies!$K$4/T14^(Strategies!$K$4-1) -> 21.837714 | W14: =(T14^Strategies!$K$5+S14^Strategies!$K$5)^(1/Strategies!$K$5) -> 85.079621 | X14: =U14*(T14/W14)^(Strategies!$K$5-1) -> 33.076159 | Y14: =V14*(T14/W14)^(Strategies!$K$5-1) -> 21.296364 | Z14: =S14^Strategies!$K$5/W14^(Strategies!$K$5-1) -> 30.707098 | AA14: =1-X14/B14 -> 0.081217793 | AB14: =1-Y14/C14 -> 0.031983469 | AC14: =1-Z14/D14 -> 0.040403199
A15: =A14+1 -> 12 | B15: =B14+RANDBETWEEN(0,1) -> 36 | C15: =IF(B15>B14,C14,0)+IF(B15=B14,C14+RANDBETWEEN(0,1),0) -> 23 | D15: =IF(AND(B15=B14,C15=C14),D14+1,D14) -> 32 | E15: =B15+C15+D15 -> 91 | F15: =EXP((LN(1-AA15)*(LN(Strategies!$E$3)-LN(Strategies!$C$3))+LN(1-Strategies!$F$3)*LN(Strategies!$C$3)-LN(1-Strategies!$D$3)*LN(Strategies!$E$3))/(LN(1-Strategies!$F$3)-LN(1-Strategies!$D$3))) -> 78.811794 | G15: =EXP((LN(1-AB15)*(LN(Strategies!$E$4)-LN(Strategies!$C$4))+LN(1-Strategies!$F$4)*LN(Strategies!$C$4)-LN(1-Strategies!$D$4)*LN(Strategies!$E$4))/(LN(1-Strategies!$F$4)-LN(1-Strategies!$D$4))) -> 78.702949 | H15: =IF(AC15<=Strategies!$F$5,EXP((LN(1-AC15)*(LN(Strategies!$E$5)-LN(Strategies!$C$5))+LN(1-Strategies!$F$5)*LN(Strategies!$C$5)-LN(1-Strategies!$D$5)*LN(Strategies!$E$5))/(LN(1-Strategies!$F$5)-LN(1-Strategies!$D$5))),EXP((LN(1-AC15)*(LN(Strategies!$G$5)-LN(Strategies!$E$5))+LN(1-Strategies!$H$5)*LN(Strategies!$E$5)-LN(1-Strategies!$F$5)*LN(Strategies!$G$5))/(LN(1-Strategies!$H$5)-LN(1-Strategies!$F$5)))) -> 89.647577 | I15: =IF(AA15>Strategies!$F$3,Strategies!$F$3,AA15) -> 0.082153996 | J15: =IF(AB15>Strategies!$F$4,Strategies!$F$4,AB15) -> 0.03296984 | K15: =IF(AC15>Strategies!$H$5,Strategies!$H$5,AC15) -> 0.040997861 | L15: =IF(F15>=Strategies!$E$3,Strategies!$F$3,0)+IF(AND(F15>=Strategies!$C$3,F15<Strategies!$E$3),Strategies!$D$3,0) -> 0 | M15: =IF(G15>=Strategies!$E$4,Strategies!$F$4,0)+IF(AND(G15>=Strategies!$C$4,G15<Strategies!$E$4),Strategies!$D$4,0) -> 0 | N15: =IF(H15>=Strategies!$G$5,Strategies!$H$5,0)+IF(AND(H15>=Strategies!$E$5,H15<Strategies!$G$5),Strategies!$F$5,0)+IF(AND(H15<Strategies!$E$5,H15>=Strategies!$C$5),Strategies!$D$5,0) -> 0.04 | O15: =B15*(1-I15)+C15*(1-J15)+D15*(1-K15) -> 85.972218 | P15: =(1-L15)*B15+(1-M15)*C15+(1-N15)*D15 -> 89.72 | Q15: =(B15/Strategies!$C$3)^(1/Strategies!$K$3)*(Strategies!$C$3*(1-Strategies!$D$3)) -> 35.247901 | R15: =(C15/Strategies!$C$4)^(1/Strategies!$K$4)*(Strategies!$C$4*(1-Strategies!$D$4)) -> 24.464764 | S15: =IF(D15<=Strategies!$E$5,(D15/Strategies!$C$5)^(1/Strategies!$I$5)*(Strategies!$C$5*(1-Strategies!$D$5)),0)+IF(D15>Strategies!$E$5,(D15/Strategies!$E$5)^(1/Strategies!$J$5)*(Strategies!$E$5*(1-Strategies!$F$5)),0) -> 32.512669 | T15: =(Q15^Strategies!$K$4+R15^Strategies!$K$4)^(1/Strategies!$K$4) -> 56.669792 | U15: =Q15^Strategies!$K$4/T15^(Strategies!$K$4-1) -> 33.870632 | V15: =R15^Strategies!$K$4/T15^(Strategies!$K$4-1) -> 22.799159 | W15: =(T15^Strategies!$K$5+S15^Strategies!$K$5)^(1/Strategies!$K$5) -> 85.972218 | X15: =U15*(T15/W15)^(Strategies!$K$5-1) -> 33.042456 | Y15: =V15*(T15/W15)^(Strategies!$K$5-1) -> 22.241694 | Z15: =S15^Strategies!$K$5/W15^(Strategies!$K$5-1) -> 30.688068 | AA15: =1-X15/B15 -> 0.082153996 | AB15: =1-Y15/C15 -> 0.03296984 | AC15: =1-Z15/D15 -> 0.040997861
A16: =A15+1 -> 13 | B16: =B15+RANDBETWEEN(0,1) -> 37 | C16: =IF(B16>B15,C15,0)+IF(B16=B15,C15+RANDBETWEEN(0,1),0) -> 23 | D16: =IF(AND(B16=B15,C16=C15),D15+1,D15) -> 32 | E16: =B16+C16+D16 -> 92 | F16: =EXP((LN(1-AA16)*(LN(Strategies!$E$3)-LN(Strategies!$C$3))+LN(1-Strategies!$F$3)*LN(Strategies!$C$3)-LN(1-Strategies!$D$3)*LN(Strategies!$E$3))/(LN(1-Strategies!$F$3)-LN(1-Strategies!$D$3))) -> 79.868831 | G16: =EXP((LN(1-AB16)*(LN(Strategies!$E$4)-LN(Strategies!$C$4))+LN(1-Strategies!$F$4)*LN(Strategies!$C$4)-LN(1-Strategies!$D$4)*LN(Strategies!$E$4))/(LN(1-Strategies!$F$4)-LN(1-Strategies!$D$4))) -> 79.673862 | H16: =IF(AC16<=Strategies!$F$5,EXP((LN(1-AC16)*(LN(Strategies!$E$5)-LN(Strategies!$C$5))+LN(1-Strategies!$F$5)*LN(Strategies!$C$5)-LN(1-Strategies!$D$5)*LN(Strategies!$E$5))/(LN(1-Strategies!$F$5)-LN(1-Strategies!$D$5))),EXP((LN(1-AC16)*(LN(Strategies!$G$5)-LN(Strategies!$E$5))+LN(1-Strategies!$H$5)*LN(Strategies!$E$5)-LN(1-Strategies!$F$5)*LN(Strategies!$G$5))/(LN(1-Strategies!$H$5)-LN(1-Strategies!$F$5)))) -> 90.577655 | I16: =IF(AA16>Strategies!$F$3,Strategies!$F$3,AA16) -> 0.08316183 | J16: =IF(AB16>Strategies!$F$4,Strategies!$F$4,AB16) -> 0.033887583 | K16: =IF(AC16>Strategies!$H$5,Strategies!$H$5,AC16) -> 0.041552649 | L16: =IF(F16>=Strategies!$E$3,Strategies!$F$3,0)+IF(AND(F16>=Strategies!$C$3,F16<Strategies!$E$3),Strategies!$D$3,0) -> 0 | M16: =IF(G16>=Strategies!$E$4,Strategies!$F$4,0)+IF(AND(G16>=Strategies!$C$4,G16<Strategies!$E$4),Strategies!$D$4,0) -> 0 | N16: =IF(H16>=Strategies!$G$5,Strategies!$H$5,0)+IF(AND(H16>=Strategies!$E$5,H16<Strategies!$G$5),Strategies!$F$5,0)+IF(AND(H16<Strategies!$E$5,H16>=Strategies!$C$5),Strategies!$D$5,0) -> 0.04 | O16: =B16*(1-I16)+C16*(1-J16)+D16*(1-K16) -> 86.813913 | P16: =(1-L16)*B16+(1-M16)*C16+(1-N16)*D16 -> 90.72 | Q16: =(B16/Strategies!$C$3)^(1/Strategies!$K$3)*(Strategies!$C$3*(1-Strategies!$D$3)) -> 36.145252 | R16: =(C16/Strategies!$C$4)^(1/Strategies!$K$4)*(Strategies!$C$4*(1-Strategies!$D$4)) -> 24.464764 | S16: =IF(D16<=Strategies!$E$5,(D16/Strategies!$C$5)^(1/Strategies!$I$5)*(Strategies!$C$5*(1-Strategies!$D$5)),0)+IF(D16>Strategies!$E$5,(D16/Strategies!$E$5)^(1/Strategies!$J$5)*(Strategies!$E$5*(1-Strategies!$F$5)),0) -> 32.512669 | T16: =(Q16^Strategies!$K$4+R16^Strategies!$K$4)^(1/Strategies!$K$4) -> 57.532445 | U16: =Q16^Strategies!$K$4/T16^(Strategies!$K$4-1) -> 34.76218 | V16: =R16^Strategies!$K$4/T16^(Strategies!$K$4-1) -> 22.770265 | W16: =(T16^Strategies!$K$5+S16^Strategies!$K$5)^(1/Strategies!$K$5) -> 86.813913 | X16: =U16*(T16/W16)^(Strategies!$K$5-1) -> 33.923012 | Y16: =V16*(T16/W16)^(Strategies!$K$5-1) -> 22.220586 | Z16: =S16^Strategies!$K$5/W16^(Strategies!$K$5-1) -> 30.670315 | AA16: =1-X16/B16 -> 0.08316183 | AB16: =1-Y16/C16 -> 0.033887583 | AC16: =1-Z16/D16 -> 0.041552649
... A763: =A762+1 -> 760 | B763: =B762+RANDBETWEEN(0,1) -> 426 | C763: =IF(B763>B762,C762,0)+IF(B763=B762,C762+RANDBETWEEN(0,1),0) -> 198 | D763: =IF(AND(B763=B762,C763=C762),D762+1,D762) -> 215 | E763: =B763+C763+D763 -> 839 | F763: =EXP((LN(1-AA763)*(LN(Strategies!$E$3)-LN(Strategies!$C$3))+LN(1-Strategies!$F$3)*LN(Strategies!$C$3)-LN(1-Strategies!$D$3)*LN(Strategies!$E$3))/(LN(1-Strategies!$F$3)-LN(1-Strategies!$D$3))) -> 770.35073 | G763: =EXP((LN(1-AB763)*(LN(Strategies!$E$4)-LN(Strategies!$C$4))+LN(1-Strategies!$F$4)*LN(Strategies!$C$4)-LN(1-Strategies!$D$4)*LN(Strategies!$E$4))/(LN(1-Strategies!$F$4)-LN(1-Strategies!$D$4))) -> 749.65681 | H763: =IF(AC763<=Strategies!$F$5,EXP((LN(1-AC763)*(LN(Strategies!$E$5)-LN(Strategies!$C$5))+LN(1-Strategies!$F$5)*LN(Strategies!$C$5)-LN(1-Strategies!$D$5)*LN(Strategies!$E$5))/(LN(1-Strategies!$F$5)-LN(1-Strategies!$D$5))),EXP((LN(1-AC763)*(LN(Strategies!$G$5)-LN(Strategies!$E$5))+LN(1-Strategies!$H$5)*LN(Strategies!$E$5)-LN(1-Strategies!$F$5)*LN(Strategies!$G$5))/(LN(1-Strategies!$H$5)-LN(1-Strategies!$F$5)))) -> 319.35933 | I763: =IF(AA763>Strategies!$F$3,Strategies!$F$3,AA763) -> 0.15 | J763: =IF(AB763>Strategies!$F$4,Strategies!$F$4,AB763) -> 0.1 | K763: =IF(AC763>Strategies!$H$5,Strategies!$H$5,AC763) -> 0.15 | L763: =IF(F763>=Strategies!$E$3,Strategies!$F$3,0)+IF(AND(F763>=Strategies!$C$3,F763<Strategies!$E$3),Strategies!$D$3,0) -> 0.15 | M763: =IF(G763>=Strategies!$E$4,Strategies!$F$4,0)+IF(AND(G763>=Strategies!$C$4,G763<Strategies!$E$4),Strategies!$D$4,0) -> 0.1 | N763: =IF(H763>=Strategies!$G$5,Strategies!$H$5,0)+IF(AND(H763>=Strategies!$E$5,H763<Strategies!$G$5),Strategies!$F$5,0)+IF(AND(H763<Strategies!$E$5,H763>=Strategies!$C$5),Strategies!$D$5,0) -> 0.15 | O763: =B763*(1-I763)+C763*(1-J763)+D763*(1-K763) -> 723.05 | P763: =(1-L763)*B763+(1-M763)*C763+(1-N763)*D763 -> 723.05 | Q763: =(B763/Strategies!$C$3)^(1/Strategies!$K$3)*(Strategies!$C$3*(1-Strategies!$D$3)) -> 340.212 | R763: =(C763/Strategies!$C$4)^(1/Strategies!$K$4)*(Strategies!$C$4*(1-Strategies!$D$4)) -> 178.26953 | S763: =IF(D763<=Strategies!$E$5,(D763/Strategies!$C$5)^(1/Strategies!$I$5)*(Strategies!$C$5*(1-Strategies!$D$5)),0)+IF(D763>Strategies!$E$5,(D763/Strategies!$E$5)^(1/Strategies!$J$5)*(Strategies!$E$5*(1-Strategies!$F$5)),0) -> 192.93577 | T763: =(Q763^Strategies!$K$4+R763^Strategies!$K$4)^(1/Strategies!$K$4) -> 493.42612 | U763: =Q763^Strategies!$K$4/T763^(Strategies!$K$4-1) -> 329.75823 | V763: =R763^Strategies!$K$4/T763^(Strategies!$K$4-1) -> 163.66789 | W763: =(T763^Strategies!$K$5+S763^Strategies!$K$5)^(1/Strategies!$K$5) -> 664.07628 | X763: =U763*(T763/W763)^(Strategies!$K$5-1) -> 323.99168 | Y763: =V763*(T763/W763)^(Strategies!$K$5-1) -> 160.8058 | Z763: =S763^Strategies!$K$5/W763^(Strategies!$K$5-1) -> 179.27879 | AA763: =1-X763/B763 -> 0.23945615 | AB763: =1-Y763/C763 -> 0.18784948 | AC763: =1-Z763/D763 -> 0.16614515

Sheet Curves
A1: For a continuous mode: 1. More purchasing will result in a larger total discount price; 2. More purchasing will result in a higher percentage discount on the purchased product that doesn’t reach its maximum percentage discount; 3. A purchased product will be fixed at its maximum percentage discount once the maximum percentage discount of the product is reached. The following curves in continuous mode reflect the above.
