Workbook

Sheet F2
A1: name | B1: HSW | C1: SA(mm2) | D1: SP(mm) | E1: SL(mm) | F1: SW(mm) | G1: SLWR | H1: ST(mm) | I1: SC-R | J1: SC-G | K1: SC-B | L1: FC( %) | M1: TC (%) | N1: StC(%) | O1: PC(%) | P1: LC (%)
A2: TCX7 | B2: 258.72391 | C2: 566.7163 | D2: 92.374351 | E2: 31.827532 | F2: 22.594058 | G2: 1.4106631 | H2: 10.3 | I2: 128.2 | J2: 105.9 | K2: 84.1 | L2: 10.59 | M2: 0.65 | N2: 35.22 | O2: 31.81 | P2: 1.07
A3: WY7 | B3: 151.13548 | C3: 328.50484 | D3: 69.769675 | E3: 24.165772 | F3: 17.142544 | G3: 1.4115441 | H3: 9.8 | I3: 67.833333 | J3: 57.333333 | K3: 62.333333 | L3: 3.89 | M3: 0.51 | N3: 31.4 | O3: 30.73 | P3: 1.41
A4: F2-1 | B4: 179.46415 | C4: 351.32 | D4: 73.46026 | E4: 26.261381 | F4: 16.595219 | G4: 1.5844669 | H4: 10 | I4: 143 | J4: 110 | K4: 86.571429 | L4: 9.9 | M4: 0.52 | N4: 36.49 | O4: 28.9 | P4: 1.06
A5: F2-2 | B5: 194.68 | C5: 396.36833 | D5: 80.345259 | E5: 26.581031 | F5: 18.61381 | G5: 1.4279666 | H5: 11.1 | I5: 65.5 | J5: 61 | K5: 68.333333 | L5: 1.65 | M5: 0.56 | N5: 30.11 | O5: 32.34 | P5: 1.56
A6: F2-3 | B6: 127.165 | C6: 298.07775 | D6: 66.440105 | E6: 22.878956 | F6: 16.80118 | G6: 1.3626707 | H6: 7.8 | I6: 82.166667 | J6: 70 | K6: 77 | L6: 10.76 | M6: 0.64 | N6: 35.76 | O6: 30.92 | P6: 1.05
A7: F2-4 | B7: 135.23913 | C7: 273.59696 | D7: 63.246794 | E7: 21.698539 | F7: 15.856823 | G7: 1.3704424 | H7: 8.5 | I7: 79 | J7: 61.888889 | K7: 64.111111 | L7: 7.54 | M7: 0.55 | N7: 33.21 | O7: 33.06 | P7: 1.08
A8: F2-5 | B8: 186.79118 | C8: 383.79206 | D8: 75.31553 | E8: 25.404404 | F8: 19.139897 | G8: 1.3285164 | H8: 10.3 | I8: 93.875 | J8: 68.5 | K8: 58.125 | L8: 7.65 | M8: 0.5 | N8: 28.09 | O8: 34.43 | P8: 1.22
A9: F2-6 | B9: 165.63158 | C9: 332.43544 | D9: 70.214557 | E9: 24.126384 | F9: 17.312088 | G9: 1.3977546 | H9: 9 | I9: 157.57143 | J9: 130.42857 | K9: 94.857143 | L9: 5.63 | M9: 0.6 | N9: 33.06 | O9: 30.86 | P9: 1.28
A10: F2-7 | B10: 131.21667 | C10: 374.01556 | D10: 74.072125 | E10: 24.402011 | F10: 18.785472 | G10: 1.3003179 | H10: 7.9 | I10: 71.625 | J10: 65.125 | K10: 71.125 | L10: 9.72 | M10: 0.6 | N10: 33.8 | O10: 33.03 | P10: 0.8
A11: F2-8 | B11: 178.38333 | C11: 390.84767 | D11: 77.915343 | E11: 25.67535 | F11: 19.050399 | G11: 1.3487647 | H11: 9.6 | I11: 85.666667 | J11: 66.333333 | K11: 60.833333 | L11: 2.61 | M11: 0.42 | N11: 31.64 | O11: 32.2 | P11: 1.13
A12: F2-9 | B12: 178.95294 | C12: 405.30941 | D12: 78.283623 | E12: 26.14314 | F12: 19.443311 | G12: 1.3459179 | H12: 9.8 | I12: 73.833333 | J12: 61.833333 | K12: 66.666667 | L12: 5.42 | M12: 0.56 | N12: 32.49 | O12: 32.62 | P12: 1.49
A13: F2-10 | B13: 266.54286 | C13: 527.81 | D13: 91.826365 | E13: 30.42836 | F13: 21.597025 | G13: 1.4112822 | H13: 11.1 | I13: 91.666667 | J13: 73.666667 | K13: 68.666667 | L13: 6.2 | M13: 0.54 | N13: 29.17 | O13: 34.93 | P13: 1.23
... A124: F2-121 | B124: 211.102 | C124: 480.5536 | D124: 84.469336 | E124: 28.713911 | F124: 21.007978 | G124: 1.3697246 | H124: 8.8 | I124: 66.75 | J124: 57.75 | K124: 60.625 | L124: 8.9 | M124: 0.48 | N124: 33 | O124: 28.27 | P124: 1.44
A125: Min | B125: =MIN(B4:B124) -> 118.525 | C125: =MIN(C4:C124) -> 119.97667 | D125: =MIN(D4:D124) -> 29.401121 | E125: =MIN(E4:E124) -> 9.9069389 | F125: =MIN(F4:F124) -> 6.7119566 | G125: =MIN(G4:G124) -> 1.2318355 | H125: =MIN(H4:H124) -> 7 | I125: =MIN(I4:I124) -> 44.125 | ... P125: =MIN(P4:P124) -> 0.66
A126: Max | B126: =MAX(B4:B124) -> 278.16364 | C126: =MAX(C4:C124) -> 582.82 | D126: =MAX(D4:D124) -> 99.087183 | E126: =MAX(E4:E124) -> 32.299309 | F126: =MAX(F4:F124) -> 23.15607 | G126: =MAX(G4:G124) -> 1.6055965 | H126: =MAX(H4:H124) -> 11.7 | I126: =MAX(I4:I124) -> 161.375 | ... P126: =MAX(P4:P124) -> 1.59
A127: Mean | B127: =AVERAGE(B4:B124) -> 188.6862 | C127: =AVERAGE(C4:C124) -> 397.98516 | D127: =AVERAGE(D4:D124) -> 77.423895 | E127: =AVERAGE(E4:E124) -> 26.438108 | F127: =AVERAGE(F4:F124) -> 18.597486 | G127: =AVERAGE(G4:G124) -> 1.4282582 | H127: =AVERAGE(H4:H124) -> 9.1090909 | I127: =AVERAGE(I4:I124) -> 86.27016 | ... P127: =AVERAGE(P4:P124) -> 1.1633884
A128: SD | B128: =STDEV(B4:B124) -> 38.863144 | C128: =STDEV(C4:C124) -> 83.209738 | D128: =STDEV(D4:D124) -> 9.6792725 | E128: =STDEV(E4:E124) -> 3.0614024 | F128: =STDEV(F4:F124) -> 2.2673588 | G128: =STDEV(G4:G124) -> 0.070345709 | H128: =STDEV(H4:H124) -> 1.1210858 | I128: =STDEV(I4:I124) -> 31.600521 | ... P128: =STDEV(P4:P124) -> 0.19992729
A129: VH | B129: =_xlfn.VAR.P(B4:B124) -> 1497.8617 | C129: =_xlfn.VAR.P(C4:C124) -> 6866.6385 | D129: =_xlfn.VAR.P(D4:D124) -> 92.914032 | E129: =_xlfn.VAR.P(E4:E124) -> 9.2947287 | F129: =_xlfn.VAR.P(F4:F124) -> 5.0984292 | G129: =_xlfn.VAR.P(G4:G124) -> 0.0049076219 | H129: =_xlfn.VAR.P(H4:H124) -> 1.2464463 | I129: =_xlfn.VAR.P(I4:I124) -> 990.34008 | ... P129: =_xlfn.VAR.P(P4:P124) -> 0.039640585
A130: CV（％） | B130: =B128/B127*100 -> 20.596707 | C130: =C128/C127*100 -> 20.907749 | D130: =D128/D127*100 -> 12.50166 | E130: =E128/E127*100 -> 11.579507 | F130: =F128/F127*100 -> 12.191749 | G130: =G128/G127*100 -> 4.9252794 | H130: =H128/H127*100 -> 12.307329 | I130: =I128/I127*100 -> 36.629723 | ... P130: =P128/P127*100 -> 17.184913
A131: Kurtosis | B131: =KURT(B4:B124) -> -0.80001866 | C131: =KURT(C4:C124) -> -0.060883648 | D131: =KURT(D4:D124) -> 3.8505188 | E131: =KURT(E4:E124) -> 5.7856274 | F131: =KURT(F4:F124) -> 4.8677626 | G131: =KURT(G4:G124) -> -0.10621849 | H131: =KURT(H4:H124) -> -0.78113496 | I131: =KURT(I4:I124) -> -0.61858984 | ... P131: =KURT(P4:P124) -> -0.43352481
A132: Skewness | B132: =SKEW(B4:B124) -> 0.15804801 | C132: =SKEW(C4:C124) -> -0.057365789 | D132: =SKEW(D4:D124) -> -0.79388629 | E132: =SKEW(E4:E124) -> -1.140997 | F132: =SKEW(F4:F124) -> -1.1308827 | G132: =SKEW(G4:G124) -> -0.14987162 | H132: =SKEW(H4:H124) -> 0.11940553 | I132: =SKEW(I4:I124) -> 0.90786532 | ... P132: =SKEW(P4:P124) -> 0.021304539

Sheet F3-JH
A1: name | B1: HSW | C1: SA(mm2) | D1: SP(mm) | E1: SL(mm) | F1: SW(mm) | G1: SLWR | H1: ST(mm) | I1: SC-R | J1: SC-G | K1: SC-B | L1: FC( %) | M1: TC (%) | N1: StC(%) | O1: PC(%) | P1: LC (%)
A2: TCX7 | B2: 229.27049 | C2: 492.71902 | D2: 86.665177 | E2: 30.118875 | F2: 20.544988 | G2: 1.4683696 | H2: 9.9 | I2: 135.16667 | J2: 116.5 | K2: 88.5 | L2: 11.14 | M2: 0.65 | N2: 36.14 | O2: 30.97 | P2: 0.9
A3: WY7 | B3: 118.85926 | C3: 261.63278 | D3: 62.298821 | E3: 21.525652 | F3: 15.117578 | G3: 1.425843 | H3: 8.1 | I3: 62 | J3: 57.333333 | K3: 63.5 | L3: 5.14 | M3: 0.54 | N3: 33.37 | O3: 30.68 | P3: 1.22
A4: F2:3-1 | B4: 147.43816 | C4: 284.28908 | D4: 65.529219 | E4: 23.154168 | F4: 15.268326 | G4: 1.5198937 | H4: 9 | I4: 141 | J4: 111.25 | K4: 91 | L4: 8.27 | M4: 0.59 | N4: 35.57 | O4: 30.03 | P4: 0.95
A5: F2:3-2 | B5: 152.57882 | C5: 308.69082 | D5: 68.170328 | E5: 23.581044 | F5: 16.049472 | G5: 1.4722759 | H5: 9.9 | I5: 68.2 | J5: 65.2 | K5: 72.4 | L5: 0.13 | M5: 0.55 | N5: 32.29 | O5: 30.16 | P5: 1.49
A6: F2:3-3 | B6: 112.4 | C6: 256.74067 | D6: 62.008572 | E6: 21.383683 | F6: 15.304618 | G6: 1.4023337 | H6: 7.15 | I6: 75.25 | J6: 69.75 | K6: 77.75 | L6: 7.285 | M6: 0.515 | N6: 35 | O6: 29.99 | P6: 0.935
A7: F2:3-4 | B7: 120.55517 | C7: 246.91379 | D7: 60.560016 | E7: 21.072572 | F7: 14.665716 | G7: 1.4386829 | H7: 8.1 | I7: 59.75 | J7: 59.5 | K7: 66.5 | L7: 6.6 | M7: 0.48 | N7: 33.1 | O7: 31.42 | P7: 0.95
A8: F2:3-5 | B8: 127.67 | C8: 292.62925 | D8: 65.858696 | E8: 22.392411 | F8: 16.381344 | G8: 1.3699809 | H8: 8.15 | I8: 109.375 | J8: 90 | K8: 80.875 | L8: 6.615 | M8: 0.545 | N8: 31.955 | O8: 32.545 | P8: 0.97
A9: F2:3-6 | B9: 133.44151 | C9: 297.20415 | D9: 66.699407 | E9: 23.170745 | F9: 15.957903 | G9: 1.4533495 | H9: 7.9 | I9: 136.6 | J9: 111.2 | K9: 88.4 | L9: 10.11 | M9: 0.73 | N9: 34.98 | O9: 30.59 | P9: 1.06
A10: F2:3-7 | B10: 139.87778 | C10: 389.50048 | D10: 76.284348 | E10: 26.362762 | F10: 18.271028 | G10: 1.4773099 | H10: 7.7 | I10: 77.25 | J10: 73.75 | K10: 79.5 | L10: 5.26 | M10: 0.49 | N10: 32.48 | O10: 32.94 | P10: 1.01
A11: F2:3-8 | B11: 169.17361 | C11: 335.09111 | D11: 70.907318 | E11: 24.749381 | F11: 16.954114 | G11: 1.463174 | H11: 8.1 | I11: 76 | J11: 64 | K11: 68.4 | L11: 5.885 | M11: 0.48 | N11: 32.08 | O11: 32.685 | P11: 0.96
A12: F2:3-9 | B12: 161.18205 | C12: 342.03744 | D12: 70.530341 | E12: 24.200132 | F12: 17.425311 | G12: 1.4284753 | H12: 9.5 | I12: 44.833333 | J12: 39.5 | K12: 48.5 | L12: 4.86 | M12: 0.56 | N12: 32.59 | O12: 32.03 | P12: 1.33
A13: F2:3-10 | B13: 168.01212 | C13: 368.67379 | D13: 74.544899 | E13: 26.07168 | F13: 17.777182 | G13: 1.4683085 | H13: 9 | I13: 83 | J13: 75.75 | K13: 81.25 | L13: 2.53 | M13: 0.55 | N13: 34.61 | O13: 31.65 | P13: 1.19
... A62: F2:3-59 | B62: 178.14286 | C62: 372.63095 | D62: 74.957438 | E62: 26.116585 | F62: 17.690849 | G62: 1.4767406 | H62: 10.1 | I62: 108.6 | J62: 89.8 | K62: 80.5 | L62: 6.55 | M62: 0.71 | N62: 34.85 | O62: 30.32 | P62: 1.22
A63: F2:3-60 | B63: 99.931429 | C63: 234.89186 | D63: 58.647205 | E63: 20.322971 | F63: 14.628344 | G63: 1.3907252 | H63: 7.85 | I63: 107.5 | J63: 97.125 | K63: 91
A64: F2:3-61 | B64: 200.05962 | C64: 429.95865 | D64: 80.882294 | E64: 27.968731 | F64: 19.166926 | G64: 1.4626441 | H64: 9.4 | I64: 155.16667 | J64: 139.5 | K64: 103.5 | L64: 10.1 | M64: 0.55 | N64: 32.8 | O64: 33.14 | P64: 0.93
A65: F2:3-62 | B65: 137.97534 | C65: 293.59 | D65: 66.235095 | E65: 23.079461 | F65: 15.737459 | G65: 1.4682923 | H65: 8.2 | I65: 102.16667 | J65: 100.66667 | K65: 100 | L65: 7.16 | M65: 0.64 | N65: 34.48 | O65: 29.97 | P65: 1.31
A66: F2:3-63 | B66: 184.41389 | C66: 363.25042 | D66: 74.287198 | E66: 26.447876 | F66: 17.202356 | G66: 1.5384936 | H66: 9.3 | I66: 73 | J66: 69.5 | K66: 79.25 | L66: 5.35 | M66: 0.61 | N66: 34.48 | O66: 30.16 | P66: 1.16
A67: F2:3-64 | B67: 187.13188 | C67: 403.33203 | D67: 78.152323 | E67: 27.4207 | F67: 18.347528 | G67: 1.4963892 | H67: 9.5 | I67: 65.5 | J67: 66.333333 | K67: 74.5 | L67: 6.47 | M67: 0.58 | N67: 31.51 | O67: 30.63 | P67: 1.26
A68: F2:3-65 | B68: 164.82 | C68: 336.83354 | D68: 71.020257 | E68: 24.128438 | F68: 17.613654 | G68: 1.3741967 | H68: 9.35 | I68: 111.5 | J68: 95.625 | K68: 91.125 | L68: 3.99 | M68: 0.47 | N68: 36.135 | O68: 28.555 | P68: 1.37
A69: F2:3-66 | B69: 125.20411 | C69: 271.68233 | D69: 63.643287 | E69: 22.151355 | F69: 15.303932 | G69: 1.4485064 | H69: 8.8 | I69: 138.25 | J69: 114.5 | K69: 92 | L69: 6.98 | M69: 0.54 | N69: 34.52 | O69: 29.75 | P69: 1.16
A70: F2:3-67 | B70: 123.18889 | C70: 272.25889 | D70: 63.775222 | E70: 22.15317 | F70: 15.500092 | G70: 1.4315978 | H70: 8.4 | I70: 59.333333 | J70: 56.666667 | K70: 65.166667 | L70: 6.87 | M70: 0.7 | N70: 35.88 | O70: 30.3 | P70: 1.11
A71: F2:3-68 | B71: 133.45735 | C71: 269.10324 | D71: 63.112958 | E71: 21.494303 | F71: 15.471076 | G71: 1.3918009 | H71: 9 | I71: 139.75 | J71: 115.5 | K71: 92 | L71: 4.83 | M71: 0.55 | N71: 34.07 | O71: 28.78 | P71: 1.27
A72: F2:3-69 | B72: 88.775785 | C72: 215.05848 | D72: 56.864238 | E72: 19.980395 | F72: 13.823168 | G72: 1.4486956 | H72: 6.1 | I72: 152.5 | J72: 146.75 | K72: 111.75 | L72: 8.32 | M72: 0.52 | N72: 36.55 | O72: 29.04
A73: F2:3-70 | B73: 147.12692 | C73: 308.86385 | D73: 68.182621 | E73: 24.074821 | F73: 16.056875 | G73: 1.5011354 | H73: 7.65 | I73: 113.25 | J73: 94 | K73: 87.5 | L73: 7.325 | M73: 0.505 | N73: 34.49 | O73: 29.885 | P73: 1.01
A74: F2:3-71 | B74: 165.16812 | C74: 343.91899 | D74: 71.719407 | E74: 25.023425 | F74: 17.093414 | G74: 1.4666681 | H74: 9.5 | I74: 70.5 | J74: 69.75 | K74: 79.5 | L74: 7.37 | M74: 0.62 | N74: 31.62 | O74: 31.61 | P74: 0.925
A75: F2:3-72 | B75: 143.02879 | C75: 278.05379 | D75: 64.503388 | E75: 22.566291 | F75: 15.231234 | G75: 1.4840887 | H75: 8.5 | I75: 140.5 | J75: 113.75 | K75: 92 | L75: 4.45 | M75: 0.53 | N75: 35.74 | O75: 27.9 | P75: 1.2
A76: F2:3-73 | B76: 146.725 | C76: 324.58382 | D76: 70.756484 | E76: 24.957297 | F76: 15.958608 | G76: 1.5685399 | H76: 9 | I76: 126.75 | J76: 103 | K76: 86.75 | L76: 5.09 | M76: 0.57 | N76: 33.87 | O76: 31.43 | P76: 1.34
A77: F2:3-74 | B77: 116.13467 | C77: 277.60053 | D77: 64.522359 | E77: 22.558837 | F77: 15.432267 | G77: 1.4655617 | H77: 8.1 | I77: 152 | J77: 127.8 | K77: 98.6 | L77: 8.81 | M77: 0.6 | N77: 34.89 | O77: 31.6 | P77: 1.22
A78: F2:3-75 | B78: 164.56269 | C78: 352.29657 | D78: 73.352778 | E78: 25.799068 | F78: 17.13756 | G78: 1.5059031 | H78: 9.6 | I78: 138.5 | J78: 112.75 | K78: 89.5 | L78: 1.14 | M78: 0.46 | N78: 34.11 | O78: 30.51 | P78: 0.9
A79: F2:3-76 | B79: 168.12558 | C79: 348.03314 | D79: 72.183939 | E79: 25.304643 | F79: 17.023978 | G79: 1.4863109 | H79: 8.25 | I79: 100.7 | J79: 91.2 | K79: 84.2 | L79: 6.87 | M79: 0.565 | N79: 31.18 | O79: 32.44 | P79: 1.17
A80: F2:3-77 | B80: 117.95392 | C80: 284.27725 | D80: 64.949938 | E80: 22.35865 | F80: 15.876063 | G80: 1.4121853 | H80: 7.65 | I80: 111.4 | J80: 90.5 | K80: 80.5 | L80: 6.96 | M80: 0.47 | N80: 35.485 | O80: 28.69 | P80: 1.355
A81: F2:3-78 | B81: 164.334 | C81: 365.0658 | D81: 73.992722 | E81: 25.443527 | F81: 17.676079 | G81: 1.4409135 | H81: 8.75 | I81: 104 | J81: 89.2 | K81: 80.6 | L81: 8.14 | M81: 0.605 | N81: 32.535 | O81: 31.87 | P81: 1.09
A82: F2:3-79 | B82: 126.7383 | C82: 270.99809 | D82: 63.670745 | E82: 22.383358 | F82: 14.933451 | G82: 1.5016097 | H82: 8.4 | I82: 108.4 | J82: 90.6 | K82: 82.1 | L82: 4.415 | M82: 0.555 | N82: 34.32 | O82: 30.295 | P82: 1.06
A83: F2:3-80 | B83: 160.46066 | C83: 320.97754 | D83: 69.989836 | E83: 24.991842 | F83: 15.836095 | G83: 1.5810111 | H83: 9.45 | I83: 108.7 | J83: 91.4 | K83: 83.2 | L83: 3.18 | M83: 0.595 | N83: 33.1 | O83: 31.895 | P83: 1.155
A84: F2:3-81 | B84: 131.73974 | C84: 265.39833 | D84: 62.706898 | E84: 21.643984 | F84: 15.26221 | G84: 1.4189699 | H84: 8.8 | I84: 150 | J84: 126 | K84: 95 | L84: 4.43 | M84: 0.58 | N84: 33.76 | O84: 29.3 | P84: 1.24
... A124: F2:3-121 | B124: 161.27237 | C124: 370.60461 | D124: 73.975398 | E124: 25.39963 | F124: 18.183144 | G124: 1.3978927 | H124: 9.5 | I124: 63.75 | J124: 63 | K124: 72.5 | L124: 7.89 | M124: 0.55 | N124: 34.55 | O124: 28.09 | P124: 1.21
A125: Min | B125: =MIN(B4:B124) -> 88.775785 | C125: =MIN(C4:C124) -> 215.05848 | D125: =MIN(D4:D124) -> 56.864238 | E125: =MIN(E4:E124) -> 19.980395 | F125: =MIN(F4:F124) -> 13.823168 | G125: =MIN(G4:G124) -> 1.3458326 | H125: =MIN(H4:H124) -> 6.1 | I125: =MIN(I4:I124) -> 44.833333 | ... P125: =MIN(P4:P124) -> 0.74
A126: Max | B126: =MAX(B4:B124) -> 228.06364 | C126: =MAX(C4:C124) -> 448.42625 | D126: =MAX(D4:D124) -> 82.797385 | E126: =MAX(E4:E124) -> 28.915493 | F126: =MAX(F4:F124) -> 20.010952 | G126: =MAX(G4:G124) -> 1.5810111 | H126: =MAX(H4:H124) -> 10.5 | I126: =MAX(I4:I124) -> 166.16667 | ... P126: =MAX(P4:P124) -> 1.58
A127: Mean | B127: =AVERAGE(B4:B124) -> 154.94082 | C127: =AVERAGE(C4:C124) -> 330.22405 | D127: =AVERAGE(D4:D124) -> 70.265045 | E127: =AVERAGE(E4:E124) -> 24.419743 | F127: =AVERAGE(F4:F124) -> 16.752148 | G127: =AVERAGE(G4:G124) -> 1.4615797 | H127: =AVERAGE(H4:H124) -> 8.803719 | I127: =AVERAGE(I4:I124) -> 100.82314 | ... P127: =AVERAGE(P4:P124) -> 1.1402661
A128: SD | B128: =STDEV(B4:B124) -> 24.27522 | C128: =STDEV(C4:C124) -> 50.168931 | D128: =STDEV(D4:D124) -> 5.5341953 | E128: =STDEV(E4:E124) -> 1.8965457 | F128: =STDEV(F4:F124) -> 1.2947771 | G128: =STDEV(G4:G124) -> 0.046215021 | H128: =STDEV(H4:H124) -> 0.75757742 | I128: =STDEV(I4:I124) -> 31.296228 | ... P128: =STDEV(P4:P124) -> 0.15705145
A129: VH | B129: =_xlfn.VAR.P(B4:B124) -> 584.41617 | C129: =_xlfn.VAR.P(C4:C124) -> 2496.1207 | D129: =_xlfn.VAR.P(D4:D124) -> 30.374199 | E129: =_xlfn.VAR.P(E4:E124) -> 3.5671592 | F129: =_xlfn.VAR.P(F4:F124) -> 1.6625927 | G129: =_xlfn.VAR.P(G4:G124) -> 0.0021181767 | H129: =_xlfn.VAR.P(H4:H124) -> 0.56918038 | I129: =_xlfn.VAR.P(I4:I124) -> 971.35925 | ... P129: =_xlfn.VAR.P(P4:P124) -> 0.024457889
A130: CV（％） | B130: =B128/B127*100 -> 15.667414 | C130: =C128/C127*100 -> 15.192392 | D130: =D128/D127*100 -> 7.8761712 | E130: =E128/E127*100 -> 7.7664442 | F130: =F128/F127*100 -> 7.729021 | G130: =G128/G127*100 -> 3.1619912 | H130: =H128/H127*100 -> 8.6051977 | I130: =I128/I127*100 -> 31.04072 | ... P130: =P128/P127*100 -> 13.773228
A131: Kurtosis | B131: =KURT(B4:B124) -> 0.33890413 | C131: =KURT(C4:C124) -> -0.592531 | D131: =KURT(D4:D124) -> -0.64510016 | E131: =KURT(E4:E124) -> -0.69550883 | F131: =KURT(F4:F124) -> -0.43150528 | G131: =KURT(G4:G124) -> -0.1192944 | H131: =KURT(H4:H124) -> 0.48161575 | I131: =KURT(I4:I124) -> -1.1456516 | ... P131: =KURT(P4:P124) -> 0.22347162
A132: Skewness | B132: =SKEW(B4:B124) -> 0.23623223 | C132: =SKEW(C4:C124) -> 0.32247528 | D132: =SKEW(D4:D124) -> 0.18158342 | E132: =SKEW(E4:E124) -> 0.098962594 | F132: =SKEW(F4:F124) -> 0.41223246 | G132: =SKEW(G4:G124) -> -0.010264765 | H132: =SKEW(H4:H124) -> -0.38961249 | I132: =SKEW(I4:I124) -> 0.20327183 | ... P132: =SKEW(P4:P124) -> -0.07856795

Sheet F3-XY
A1: name | B1: HSW | C1: SA(mm2) | D1: SP(mm) | E1: SL(mm) | F1: SW(mm) | G1: SLWR | H1: ST(mm) | I1: SC-R | J1: SC-G | K1: SC-B | L1: FC( %) | M1: TC (%) | N1: StC(%) | O1: PC(%) | P1: LC (%)
A2: TCX7 | B2: 248.62105 | C2: 521.04079 | D2: 88.407321 | E2: 29.884459 | F2: 21.707142 | G2: 1.3769647 | H2: 9.7 | I2: 146.5 | J2: 135.66667 | K2: 101.5 | L2: 11.13 | M2: 0.662 | N2: 36.494 | O2: 31.412 | P2: 1.054
A3: WY7 | B3: 129.14419 | C3: 280.47256 | D3: 64.313867 | E3: 21.99442 | F3: 15.744289 | G3: 1.4650277 | H3: 9.2 | I3: 62.833333 | J3: 56 | K3: 60 | L3: 7.9675 | M3: 0.53 | N3: 33.205 | O3: 31.3025 | P3: 1.2575
A4: F2:3-1 | B4: 158.09474 | C4: 320.52542 | D4: 69.405152 | E4: 24.213926 | F4: 16.303304 | G4: 1.487758 | H4: 8.9 | I4: 159.5 | J4: 142.83333 | K4: 103.16667 | L4: 10.996667 | M4: 0.58666667 | N4: 36.083333 | O4: 29.9 | P4: 1.0633333
A5: F2:3-2 | B5: 132.02857 | C5: 271.85571 | D5: 60.020965 | E5: 20.462557 | F5: 14.108499 | G5: 1.5170992 | H5: 7.9 | I5: 58.166667 | J5: 55 | K5: 64.333333 | L5: 7.95 | M5: 0.51 | N5: 29.38 | O5: 31.81 | P5: 1.38
A6: F2:3-3 | B6: 116.16423 | C6: 257.61935 | D6: 61.520927 | E6: 21.255598 | F6: 15.439207 | G6: 1.3798067 | H6: 7 | I6: 72 | J6: 62.166667 | K6: 77.333333 | L6: 10.746667 | M6: 0.55 | N6: 37.546667 | O6: 28.953333 | P6: 0.89666667
A7: F2:3-4 | B7: 121.49823 | C7: 250.23727 | D7: 60.646554 | E7: 20.892926 | F7: 14.971906 | G7: 1.3984932 | H7: 7.2 | I7: 70.416667 | J7: 59.5 | K7: 72.583333 | L7: 10.176667 | M7: 0.57 | N7: 35.126667 | O7: 31.576667 | P7: 0.85
A8: F2:3-5 | B8: 135.18576 | C8: 282.51628 | D8: 62.637215 | E8: 21.21529 | F8: 15.647489 | G8: 1.4027409 | H8: 7.5 | I8: 86.666667 | J8: 71.916667 | K8: 82.333333 | L8: 11.463333 | M8: 0.6 | N8: 32.24 | O8: 32.616667 | P8: 0.73
A9: F2:3-6 | B9: 130.44226 | C9: 286.12663 | D9: 63.919216 | E9: 21.667091 | F9: 15.813007 | G9: 1.4408398 | H9: 9 | I9: 154 | J9: 146.83333 | K9: 104 | L9: 11.893333 | M9: 0.79666667 | N9: 34.57 | O9: 32.943333 | P9: 1.0766667
A10: F2:3-7 | B10: 144.95238 | C10: 419.86095 | D10: 80.250573 | E10: 26.542323 | F10: 19.952042 | G10: 1.3347798 | H10: 7.2 | I10: 66.666667 | J10: 60.166667 | K10: 71.333333 | L10: 11.52 | M10: 0.63 | N10: 35.47 | O10: 32.93 | P10: 0.68
A11: F2:3-8 | B11: 167.67391 | C11: 351.20739 | D11: 72.420856 | E11: 25.07189 | F11: 17.418039 | G11: 1.4429251 | H11: 8 | I11: 71.166667 | J11: 58.666667 | K11: 73.833333 | L11: 9.81 | M11: 0.55 | N11: 33.63 | O11: 31.71 | P11: 1.07
A12: F2:3-9 | B12: 182.79339 | C12: 399.4837 | D12: 77.775107 | E12: 26.409075 | F12: 18.968119 | G12: 1.3952123 | H12: 8.4 | I12: 73.166667 | J12: 64.166667 | K12: 75.833333 | L12: 6.19 | M12: 0.525 | N12: 34.625 | O12: 30.66 | P12: 1.09
A13: F2:3-10 | B13: 220.55189 | C13: 442.35973 | D13: 81.502405 | E13: 27.783829 | F13: 20.067288 | G13: 1.386772 | H13: 9 | I13: 105.08333 | J13: 90.083333 | K13: 92.583333 | L13: 6.405 | M13: 0.545 | N13: 33.255 | O13: 33.235 | P13: 1.01
... A124: F2:3-121 | B124: 205.57145 | C124: 430.8167 | D124: 79.7199 | E124: 26.758056 | F124: 19.808421 | G124: 1.3519621 | H124: 10.5 | I124: 51.6 | J124: 39.4 | K124: 49.8 | L124: 9.9466667 | M124: 0.56 | N124: 35.543333 | O124: 29.503333 | P124: 1.0433333
A125: Min | B125: =MIN(B4:B124) -> 94.783333 | C125: =MIN(C4:C124) -> 227.7125 | D125: =MIN(D4:D124) -> 59.593223 | E125: =MIN(E4:E124) -> 20.462557 | F125: =MIN(F4:F124) -> 14.108499 | G125: =MIN(G4:G124) -> 1.2709856 | H125: =MIN(H4:H124) -> 6.9 | I125: =MIN(I4:I124) -> 39.4 | ... P125: =MIN(P4:P124) -> 0.68
A126: Max | B126: =MAX(B4:B124) -> 235.27092 | C126: =MAX(C4:C124) -> 502.08857 | D126: =MAX(D4:D124) -> 87.364885 | E126: =MAX(E4:E124) -> 29.571562 | F126: =MAX(F4:F124) -> 21.749448 | G126: =MAX(G4:G124) -> 1.5854126 | H126: =MAX(H4:H124) -> 10.8 | I126: =MAX(I4:I124) -> 173.4 | ... P126: =MAX(P4:P124) -> 1.46
A127: Mean | B127: =AVERAGE(B4:B124) -> 166.98068 | C127: =AVERAGE(C4:C124) -> 352.53935 | D127: =AVERAGE(D4:D124) -> 72.436383 | E127: =AVERAGE(E4:E124) -> 24.794143 | F127: =AVERAGE(F4:F124) -> 17.52592 | G127: =AVERAGE(G4:G124) -> 1.4226546 | H127: =AVERAGE(H4:H124) -> 8.8719008 | I127: =AVERAGE(I4:I124) -> 95.376309 | ... P127: =AVERAGE(P4:P124) -> 1.0734986
A128: SD | B128: =STDEV(B4:B124) -> 30.115593 | C128: =STDEV(C4:C124) -> 60.945574 | D128: =STDEV(D4:D124) -> 6.5821314 | E128: =STDEV(E4:E124) -> 2.2027579 | F128: =STDEV(F4:F124) -> 1.627019 | G128: =STDEV(G4:G124) -> 0.058906098 | H128: =STDEV(H4:H124) -> 0.80311613 | I128: =STDEV(I4:I124) -> 38.471523 | ... P128: =STDEV(P4:P124) -> 0.14385876
A129: VH | B129: =_xlfn.VAR.P(B4:B124) -> 899.45351 | C129: =_xlfn.VAR.P(C4:C124) -> 3683.6658 | D129: =_xlfn.VAR.P(D4:D124) -> 42.9664 | E129: =_xlfn.VAR.P(E4:E124) -> 4.812042 | F129: =_xlfn.VAR.P(F4:F124) -> 2.6253134 | G129: =_xlfn.VAR.P(G4:G124) -> 0.0034412513 | H129: =_xlfn.VAR.P(H4:H124) -> 0.63966498 | I129: =_xlfn.VAR.P(I4:I124) -> 1467.8262 | ... P129: =_xlfn.VAR.P(P4:P124) -> 0.020524307
A130: CV（％） | B130: =B128/B127*100 -> 18.035376 | C130: =C128/C127*100 -> 17.287595 | D130: =D128/D127*100 -> 9.0867753 | E130: =E128/E127*100 -> 8.8841866 | F130: =F128/F127*100 -> 9.2835013 | G130: =G128/G127*100 -> 4.1405761 | H130: =H128/H127*100 -> 9.052357 | I130: =I128/I127*100 -> 40.336561 | ... P130: =P128/P127*100 -> 13.400926
A131: Kurtosis | B131: =KURT(B4:B124) -> -0.45501882 | C131: =KURT(C4:C124) -> -0.58789093 | D131: =KURT(D4:D124) -> -0.72659941 | E131: =KURT(E4:E124) -> -0.61593928 | F131: =KURT(F4:F124) -> -0.48000804 | G131: =KURT(G4:G124) -> -0.15862299 | H131: =KURT(H4:H124) -> 0.056043433 | I131: =KURT(I4:I124) -> -1.3024626 | ... P131: =KURT(P4:P124) -> 0.26641079
A132: Skewness | B132: =SKEW(B4:B124) -> -0.010579901 | C132: =SKEW(C4:C124) -> 0.23905045 | D132: =SKEW(D4:D124) -> 0.10781708 | E132: =SKEW(E4:E124) -> -0.006353001 | F132: =SKEW(F4:F124) -> 0.22890714 | G132: =SKEW(G4:G124) -> -0.20861315 | H132: =SKEW(H4:H124) -> -0.28843087 | I132: =SKEW(I4:I124) -> 0.51212611 | ... P132: =SKEW(P4:P124) -> 0.098165543

Sheet Everage
A1: name | B1: HSW | C1: SA(mm2) | D1: SP(mm) | E1: SL(mm) | F1: SW(mm) | G1: SLWR | H1: ST(mm) | I1: SC-R | J1: SC-G | K1: SC-B | L1: FC( %) | M1: TC (%) | N1: StC(%) | O1: PC(%) | P1: LC (%)
A2: TCX7 | B2: =AVERAGE('F2'!B2,'F3-XY'!B2,'F3-XY'!B2) -> 251.98867 | C2: =AVERAGE('F2'!C2,'F3-JH'!C2,'F3-XY'!C2) -> 526.82537 | D2: =AVERAGE('F2'!D2,'F3-JH'!D2,'F3-XY'!D2) -> 89.148949 | E2: =AVERAGE('F2'!E2,'F3-JH'!E2,'F3-XY'!E2) -> 30.610289 | F2: =AVERAGE('F2'!F2,'F3-JH'!F2,'F3-XY'!F2) -> 21.615396 | G2: =AVERAGE('F2'!G2,'F3-JH'!G2,'F3-XY'!G2) -> 1.4186658 | H2: =AVERAGE('F2'!H2,'F3-JH'!H2,'F3-XY'!H2) -> 9.9666667 | I2: =AVERAGE('F2'!I2,'F3-JH'!I2,'F3-XY'!I2) -> 136.62222 | J2: =AVERAGE('F2'!J2,'F3-JH'!J2,'F3-XY'!J2) -> 119.35556 | ... P2: =AVERAGE('F2'!P2,'F3-JH'!P2,'F3-XY'!P2) -> 1.008
A3: WY7 | B3: =AVERAGE('F2'!B3,'F3-XY'!B3,'F3-XY'!B3) -> 136.47462 | C3: =AVERAGE('F2'!C3,'F3-JH'!C3,'F3-XY'!C3) -> 290.20339 | D3: =AVERAGE('F2'!D3,'F3-JH'!D3,'F3-XY'!D3) -> 65.460788 | E3: =AVERAGE('F2'!E3,'F3-JH'!E3,'F3-XY'!E3) -> 22.561948 | F3: =AVERAGE('F2'!F3,'F3-JH'!F3,'F3-XY'!F3) -> 16.00147 | G3: =AVERAGE('F2'!G3,'F3-JH'!G3,'F3-XY'!G3) -> 1.4341383 | H3: =AVERAGE('F2'!H3,'F3-JH'!H3,'F3-XY'!H3) -> 9.0333333 | I3: =AVERAGE('F2'!I3,'F3-JH'!I3,'F3-XY'!I3) -> 64.222222 | J3: =AVERAGE('F2'!J3,'F3-JH'!J3,'F3-XY'!J3) -> 56.888889 | ... P3: =AVERAGE('F2'!P3,'F3-JH'!P3,'F3-XY'!P3) -> 1.2958333
A4: 1 | B4: =AVERAGE('F2'!B4,'F3-XY'!B4,'F3-XY'!B4) -> 165.21788 | C4: =AVERAGE('F2'!C4,'F3-JH'!C4,'F3-XY'!C4) -> 318.7115 | D4: =AVERAGE('F2'!D4,'F3-JH'!D4,'F3-XY'!D4) -> 69.464877 | E4: =AVERAGE('F2'!E4,'F3-JH'!E4,'F3-XY'!E4) -> 24.543158 | F4: =AVERAGE('F2'!F4,'F3-JH'!F4,'F3-XY'!F4) -> 16.055616 | G4: =AVERAGE('F2'!G4,'F3-JH'!G4,'F3-XY'!G4) -> 1.5307062 | H4: =AVERAGE('F2'!H4,'F3-JH'!H4,'F3-XY'!H4) -> 9.3 | I4: =AVERAGE('F2'!I4,'F3-JH'!I4,'F3-XY'!I4) -> 147.83333 | J4: =AVERAGE('F2'!J4,'F3-JH'!J4,'F3-XY'!J4) -> 121.36111 | ... P4: =AVERAGE('F2'!P4,'F3-JH'!P4,'F3-XY'!P4) -> 1.0244444
A5: 2 | B5: =AVERAGE('F2'!B5,'F3-XY'!B5,'F3-XY'!B5) -> 152.91238 | C5: =AVERAGE('F2'!C5,'F3-JH'!C5,'F3-XY'!C5) -> 325.63829 | D5: =AVERAGE('F2'!D5,'F3-JH'!D5,'F3-XY'!D5) -> 69.512184 | E5: =AVERAGE('F2'!E5,'F3-JH'!E5,'F3-XY'!E5) -> 23.541544 | F5: =AVERAGE('F2'!F5,'F3-JH'!F5,'F3-XY'!F5) -> 16.25726 | G5: =AVERAGE('F2'!G5,'F3-JH'!G5,'F3-XY'!G5) -> 1.4724472 | H5: =AVERAGE('F2'!H5,'F3-JH'!H5,'F3-XY'!H5) -> 9.6333333 | I5: =AVERAGE('F2'!I5,'F3-JH'!I5,'F3-XY'!I5) -> 63.955556 | J5: =AVERAGE('F2'!J5,'F3-JH'!J5,'F3-XY'!J5) -> 60.4 | ... P5: =AVERAGE('F2'!P5,'F3-JH'!P5,'F3-XY'!P5) -> 1.4766667
A6: 3 | B6: =AVERAGE('F2'!B6,'F3-XY'!B6,'F3-XY'!B6) -> 119.83115 | C6: =AVERAGE('F2'!C6,'F3-JH'!C6,'F3-XY'!C6) -> 270.81259 | D6: =AVERAGE('F2'!D6,'F3-JH'!D6,'F3-XY'!D6) -> 63.323201 | E6: =AVERAGE('F2'!E6,'F3-JH'!E6,'F3-XY'!E6) -> 21.839413 | F6: =AVERAGE('F2'!F6,'F3-JH'!F6,'F3-XY'!F6) -> 15.848335 | G6: =AVERAGE('F2'!G6,'F3-JH'!G6,'F3-XY'!G6) -> 1.3816037 | H6: =AVERAGE('F2'!H6,'F3-JH'!H6,'F3-XY'!H6) -> 7.3166667 | I6: =AVERAGE('F2'!I6,'F3-JH'!I6,'F3-XY'!I6) -> 76.472222 | J6: =AVERAGE('F2'!J6,'F3-JH'!J6,'F3-XY'!J6) -> 67.305556 | ... P6: =AVERAGE('F2'!P6,'F3-JH'!P6,'F3-XY'!P6) -> 0.96055556
A7: 4 | B7: =AVERAGE('F2'!B7,'F3-XY'!B7,'F3-XY'!B7) -> 126.07853 | C7: =AVERAGE('F2'!C7,'F3-JH'!C7,'F3-XY'!C7) -> 256.91601 | D7: =AVERAGE('F2'!D7,'F3-JH'!D7,'F3-XY'!D7) -> 61.484455 | E7: =AVERAGE('F2'!E7,'F3-JH'!E7,'F3-XY'!E7) -> 21.221345 | F7: =AVERAGE('F2'!F7,'F3-JH'!F7,'F3-XY'!F7) -> 15.164815 | G7: =AVERAGE('F2'!G7,'F3-JH'!G7,'F3-XY'!G7) -> 1.4025395 | H7: =AVERAGE('F2'!H7,'F3-JH'!H7,'F3-XY'!H7) -> 7.9333333 | I7: =AVERAGE('F2'!I7,'F3-JH'!I7,'F3-XY'!I7) -> 69.722222 | J7: =AVERAGE('F2'!J7,'F3-JH'!J7,'F3-XY'!J7) -> 60.296296 | ... P7: =AVERAGE('F2'!P7,'F3-JH'!P7,'F3-XY'!P7) -> 0.96
A8: 5 | B8: =AVERAGE('F2'!B8,'F3-XY'!B8,'F3-XY'!B8) -> 152.38757 | C8: =AVERAGE('F2'!C8,'F3-JH'!C8,'F3-XY'!C8) -> 319.64586 | D8: =AVERAGE('F2'!D8,'F3-JH'!D8,'F3-XY'!D8) -> 67.937147 | E8: =AVERAGE('F2'!E8,'F3-JH'!E8,'F3-XY'!E8) -> 23.004035 | F8: =AVERAGE('F2'!F8,'F3-JH'!F8,'F3-XY'!F8) -> 17.056243 | G8: =AVERAGE('F2'!G8,'F3-JH'!G8,'F3-XY'!G8) -> 1.3670794 | H8: =AVERAGE('F2'!H8,'F3-JH'!H8,'F3-XY'!H8) -> 8.65 | I8: =AVERAGE('F2'!I8,'F3-JH'!I8,'F3-XY'!I8) -> 96.638889 | J8: =AVERAGE('F2'!J8,'F3-JH'!J8,'F3-XY'!J8) -> 76.805556 | ... P8: =AVERAGE('F2'!P8,'F3-JH'!P8,'F3-XY'!P8) -> 0.97333333
A9: 6 | B9: =AVERAGE('F2'!B9,'F3-XY'!B9,'F3-XY'!B9) -> 142.17204 | C9: =AVERAGE('F2'!C9,'F3-JH'!C9,'F3-XY'!C9) -> 305.25541 | D9: =AVERAGE('F2'!D9,'F3-JH'!D9,'F3-XY'!D9) -> 66.944393 | E9: =AVERAGE('F2'!E9,'F3-JH'!E9,'F3-XY'!E9) -> 22.988074 | F9: =AVERAGE('F2'!F9,'F3-JH'!F9,'F3-XY'!F9) -> 16.360999 | G9: =AVERAGE('F2'!G9,'F3-JH'!G9,'F3-XY'!G9) -> 1.4306479 | H9: =AVERAGE('F2'!H9,'F3-JH'!H9,'F3-XY'!H9) -> 8.6333333 | I9: =AVERAGE('F2'!I9,'F3-JH'!I9,'F3-XY'!I9) -> 149.39048 | J9: =AVERAGE('F2'!J9,'F3-JH'!J9,'F3-XY'!J9) -> 129.4873 | ... P9: =AVERAGE('F2'!P9,'F3-JH'!P9,'F3-XY'!P9) -> 1.1388889
A10: 7 | B10: =AVERAGE('F2'!B10,'F3-XY'!B10,'F3-XY'!B10) -> 140.37381 | C10: =AVERAGE('F2'!C10,'F3-JH'!C10,'F3-XY'!C10) -> 394.45899 | D10: =AVERAGE('F2'!D10,'F3-JH'!D10,'F3-XY'!D10) -> 76.869015 | E10: =AVERAGE('F2'!E10,'F3-JH'!E10,'F3-XY'!E10) -> 25.769032 | F10: =AVERAGE('F2'!F10,'F3-JH'!F10,'F3-XY'!F10) -> 19.002847 | G10: =AVERAGE('F2'!G10,'F3-JH'!G10,'F3-XY'!G10) -> 1.3708025 | H10: =AVERAGE('F2'!H10,'F3-JH'!H10,'F3-XY'!H10) -> 7.6 | I10: =AVERAGE('F2'!I10,'F3-JH'!I10,'F3-XY'!I10) -> 71.847222 | J10: =AVERAGE('F2'!J10,'F3-JH'!J10,'F3-XY'!J10) -> 66.347222 | ... P10: =AVERAGE('F2'!P10,'F3-JH'!P10,'F3-XY'!P10) -> 0.83
A11: 8 | B11: =AVERAGE('F2'!B11,'F3-XY'!B11,'F3-XY'!B11) -> 171.24372 | C11: =AVERAGE('F2'!C11,'F3-JH'!C11,'F3-XY'!C11) -> 359.04872 | D11: =AVERAGE('F2'!D11,'F3-JH'!D11,'F3-XY'!D11) -> 73.747839 | E11: =AVERAGE('F2'!E11,'F3-JH'!E11,'F3-XY'!E11) -> 25.16554 | F11: =AVERAGE('F2'!F11,'F3-JH'!F11,'F3-XY'!F11) -> 17.807517 | G11: =AVERAGE('F2'!G11,'F3-JH'!G11,'F3-XY'!G11) -> 1.4182879 | H11: =AVERAGE('F2'!H11,'F3-JH'!H11,'F3-XY'!H11) -> 8.5666667 | I11: =AVERAGE('F2'!I11,'F3-JH'!I11,'F3-XY'!I11) -> 77.611111 | J11: =AVERAGE('F2'!J11,'F3-JH'!J11,'F3-XY'!J11) -> 63 | ... P11: =AVERAGE('F2'!P11,'F3-JH'!P11,'F3-XY'!P11) -> 1.0533333
A12: 9 | B12: =AVERAGE('F2'!B12,'F3-XY'!B12,'F3-XY'!B12) -> 181.51324 | C12: =AVERAGE('F2'!C12,'F3-JH'!C12,'F3-XY'!C12) -> 382.27685 | D12: =AVERAGE('F2'!D12,'F3-JH'!D12,'F3-XY'!D12) -> 75.52969 | E12: =AVERAGE('F2'!E12,'F3-JH'!E12,'F3-XY'!E12) -> 25.584116 | F12: =AVERAGE('F2'!F12,'F3-JH'!F12,'F3-XY'!F12) -> 18.612247 | G12: =AVERAGE('F2'!G12,'F3-JH'!G12,'F3-XY'!G12) -> 1.3898685 | H12: =AVERAGE('F2'!H12,'F3-JH'!H12,'F3-XY'!H12) -> 9.2333333 | I12: =AVERAGE('F2'!I12,'F3-JH'!I12,'F3-XY'!I12) -> 63.944444 | J12: =AVERAGE('F2'!J12,'F3-JH'!J12,'F3-XY'!J12) -> 55.166667 | ... P12: =AVERAGE('F2'!P12,'F3-JH'!P12,'F3-XY'!P12) -> 1.3033333
A13: 10 | B13: =AVERAGE('F2'!B13,'F3-XY'!B13,'F3-XY'!B13) -> 235.88222 | C13: =AVERAGE('F2'!C13,'F3-JH'!C13,'F3-XY'!C13) -> 446.28117 | D13: =AVERAGE('F2'!D13,'F3-JH'!D13,'F3-XY'!D13) -> 82.624556 | E13: =AVERAGE('F2'!E13,'F3-JH'!E13,'F3-XY'!E13) -> 28.094623 | F13: =AVERAGE('F2'!F13,'F3-JH'!F13,'F3-XY'!F13) -> 19.813831 | G13: =AVERAGE('F2'!G13,'F3-JH'!G13,'F3-XY'!G13) -> 1.4221209 | H13: =AVERAGE('F2'!H13,'F3-JH'!H13,'F3-XY'!H13) -> 9.7 | I13: =AVERAGE('F2'!I13,'F3-JH'!I13,'F3-XY'!I13) -> 93.25 | J13: =AVERAGE('F2'!J13,'F3-JH'!J13,'F3-XY'!J13) -> 79.833333 | ... P13: =AVERAGE('F2'!P13,'F3-JH'!P13,'F3-XY'!P13) -> 1.1433333
A14: 11 | B14: =AVERAGE('F2'!B14,'F3-XY'!B14,'F3-XY'!B14) -> 207.34881 | C14: =AVERAGE('F2'!C14,'F3-JH'!C14,'F3-XY'!C14) -> 416.98602 | D14: =AVERAGE('F2'!D14,'F3-JH'!D14,'F3-XY'!D14) -> 79.4248 | E14: =AVERAGE('F2'!E14,'F3-JH'!E14,'F3-XY'!E14) -> 27.282547 | F14: =AVERAGE('F2'!F14,'F3-JH'!F14,'F3-XY'!F14) -> 18.904992 | G14: =AVERAGE('F2'!G14,'F3-JH'!G14,'F3-XY'!G14) -> 1.4480091 | H14: =AVERAGE('F2'!H14,'F3-JH'!H14,'F3-XY'!H14) -> 10.166667 | I14: =AVERAGE('F2'!I14,'F3-JH'!I14,'F3-XY'!I14) -> 134.7 | J14: =AVERAGE('F2'!J14,'F3-JH'!J14,'F3-XY'!J14) -> 111.47778 | ... P14: =AVERAGE('F2'!P14,'F3-JH'!P14,'F3-XY'!P14) -> 1.0633333
A15: 12 | B15: =AVERAGE('F2'!B15,'F3-XY'!B15,'F3-XY'!B15) -> 168.09804 | C15: =AVERAGE('F2'!C15,'F3-JH'!C15,'F3-XY'!C15) -> 327.52173 | D15: =AVERAGE('F2'!D15,'F3-JH'!D15,'F3-XY'!D15) -> 70.117191 | E15: =AVERAGE('F2'!E15,'F3-JH'!E15,'F3-XY'!E15) -> 24.600483 | F15: =AVERAGE('F2'!F15,'F3-JH'!F15,'F3-XY'!F15) -> 16.501084 | G15: =AVERAGE('F2'!G15,'F3-JH'!G15,'F3-XY'!G15) -> 1.4922624 | H15: =AVERAGE('F2'!H15,'F3-JH'!H15,'F3-XY'!H15) -> 8.5166667 | I15: =AVERAGE('F2'!I15,'F3-JH'!I15,'F3-XY'!I15) -> 99.214286 | J15: =AVERAGE('F2'!J15,'F3-JH'!J15,'F3-XY'!J15) -> 86.335317 | ... P15: =AVERAGE('F2'!P15,'F3-JH'!P15,'F3-XY'!P15) -> 1.2144444
... A124: 121 | B124: =AVERAGE('F2'!B124,'F3-XY'!B124,'F3-XY'!B124) -> 207.41497 | C124: =AVERAGE('F2'!C124,'F3-JH'!C124,'F3-XY'!C124) -> 427.32497 | D124: =AVERAGE('F2'!D124,'F3-JH'!D124,'F3-XY'!D124) -> 79.388212 | E124: =AVERAGE('F2'!E124,'F3-JH'!E124,'F3-XY'!E124) -> 26.957199 | F124: =AVERAGE('F2'!F124,'F3-JH'!F124,'F3-XY'!F124) -> 19.666514 | G124: =AVERAGE('F2'!G124,'F3-JH'!G124,'F3-XY'!G124) -> 1.3731931 | H124: =AVERAGE('F2'!H124,'F3-JH'!H124,'F3-XY'!H124) -> 9.6 | I124: =AVERAGE('F2'!I124,'F3-JH'!I124,'F3-XY'!I124) -> 60.7 | J124: =AVERAGE('F2'!J124,'F3-JH'!J124,'F3-XY'!J124) -> 53.383333 | ... P124: =AVERAGE('F2'!P124,'F3-JH'!P124,'F3-XY'!P124) -> 1.2311111
A125: Min | B125: =MIN(B4:B124) -> 116.23079 | C125: =MIN(C4:C124) -> 245.00158 | D125: =MIN(D4:D124) -> 55.935933 | E125: =MIN(E4:E124) -> 19.17556 | F125: =MIN(F4:F124) -> 13.563725 | G125: =MIN(G4:G124) -> 1.2986613 | H125: =MIN(H4:H124) -> 6.6666667 | I125: =MIN(I4:I124) -> 53.341667 | ... P125: =MIN(P4:P124) -> 0.83
A126: Max | B126: =MAX(B4:B124) -> 235.88222 | C126: =MAX(C4:C124) -> 484.25196 | D126: =MAX(D4:D124) -> 87.594267 | E126: =MAX(E4:E124) -> 29.604292 | F126: =MAX(F4:F124) -> 20.884143 | G126: =MAX(G4:G124) -> 1.5307062 | H126: =MAX(H4:H124) -> 10.916667 | I126: =MAX(I4:I124) -> 158.93056 | ... P126: =MAX(P4:P124) -> 1.4766667
A127: Mean | B127: =AVERAGE(B4:B124) -> 174.21585 | C127: =AVERAGE(C4:C124) -> 360.24952 | D127: =AVERAGE(D4:D124) -> 73.375108 | E127: =AVERAGE(E4:E124) -> 25.217331 | F127: =AVERAGE(F4:F124) -> 17.625185 | G127: =AVERAGE(G4:G124) -> 1.4374975 | H127: =AVERAGE(H4:H124) -> 8.9282369 | I127: =AVERAGE(I4:I124) -> 94.156536 | ... P127: =AVERAGE(P4:P124) -> 1.1246556
A128: SD | B128: =STDEV(B4:B124) -> 30.27991 | C128: =STDEV(C4:C124) -> 59.282631 | D128: =STDEV(D4:D124) -> 6.5275227 | E128: =STDEV(E4:E124) -> 2.1338667 | F128: =STDEV(F4:F124) -> 1.5460919 | G128: =STDEV(G4:G124) -> 0.049789386 | H128: =STDEV(H4:H124) -> 0.70612021 | I128: =STDEV(I4:I124) -> 31.800811 | ... P128: =STDEV(P4:P124) -> 0.12971987
A129: VH | B129: =_xlfn.VAR.P(B4:B124) -> 909.2955 | C129: =_xlfn.VAR.P(C4:C124) -> 3485.3855 | D129: =_xlfn.VAR.P(D4:D124) -> 42.256416 | E129: =_xlfn.VAR.P(E4:E124) -> 4.5157556 | F129: =_xlfn.VAR.P(F4:F124) -> 2.3706449 | G129: =_xlfn.VAR.P(G4:G124) -> 0.0024584955 | H129: =_xlfn.VAR.P(H4:H124) -> 0.49448505 | I129: =_xlfn.VAR.P(I4:I124) -> 1002.9338 | ... P129: =_xlfn.VAR.P(P4:P124) -> 0.016688176
A130: CV（％） | B130: =(B128/B127)*100 -> 17.380686 | C130: =(C128/C127)*100 -> 16.455992 | D130: =(D128/D127)*100 -> 8.8960997 | E130: =(E128/E127)*100 -> 8.4619053 | F130: =(F128/F127)*100 -> 8.7720609 | G130: =(G128/G127)*100 -> 3.4636155 | H130: =(H128/H127)*100 -> 7.9088427 | I130: =(I128/I127)*100 -> 33.774406 | ... P130: =(P128/P127)*100 -> 11.534185
A131: Kurtosis | B131: =KURT(B4:B124) -> -0.71691038 | C131: =KURT(C4:C124) -> -0.84746891 | D131: =KURT(D4:D124) -> -0.59108902 | E131: =KURT(E4:E124) -> -0.4565016 | F131: =KURT(F4:F124) -> -0.65107125 | G131: =KURT(G4:G124) -> -0.34685627 | H131: =KURT(H4:H124) -> 0.28423991 | I131: =KURT(I4:I124) -> -1.12373 | ... P131: =KURT(P4:P124) -> -0.23125913
A132: Skewness | B132: =SKEW(B4:B124) -> 0.17285687 | C132: =SKEW(C4:C124) -> 0.23745907 | D132: =SKEW(D4:D124) -> 0.076919502 | E132: =SKEW(E4:E124) -> 0.00083801604 | F132: =SKEW(F4:F124) -> 0.091726239 | G132: =SKEW(G4:G124) -> -0.32564479 | H132: =SKEW(H4:H124) -> -0.026428788 | I132: =SKEW(I4:I124) -> 0.63856077 | ... P132: =SKEW(P4:P124) -> 0.06832368
