Workbook

Sheet Generación elec carb (%)
B5: 2012 | C5: 2013 | D5: 2014 | E5: 2015 | F5: 2016 | G5: 2017 | H5: 2018 | I5: 2019 | J5: 2020 | K5: 2021
A6: Alemania | B6: 46.016469 | C6: 47.241229 | D6: 45.810193 | E6: 44.262809 | F6: 40.357808 | G6: 37.000899 | H6: 35.710697 | I6: 28.318716 | J6: 23.391801
A7: Austria | B7: 9.0874691 | C7: 9.4562355 | D7: 7.9703324 | E7: 8.2266082 | F7: 2.9909911 | G7: 2.465016 | H7: 2.631426 | I7: 2.0202681 | J7: 0.77087092
A8: Bélgica | B8: 6.6955808 | C8: 6.2789056 | D8: 6.1564711 | E8: 6.1080117 | F8: 0.4577872 | G8: 0.10561736 | H8: 0.12246864 | I8: 0.10074675 | J8: 0.091685529
A9: Bulgaria | B9: 49.112261 | C9: 45.025424 | D9: 45.400303 | E9: 46.206557 | F9: 42.799309 | G9: 45.885585 | H9: 39.857553 | I9: 38.856502 | J9: 33.170413
A10: Chipre | B10: 0 | C10: 0 | D10: 0 | E10: 0 | F10: 0 | G10: 0 | H10: 0 | I10: 0 | J10: 0
A11: Croacia | B11: 21.127159 | C11: 17.358572 | D11: 17.624293 | E11: 20.555259 | F11: 20.249907 | G11: 11.408186 | H11: 10.656044 | I11: 12.84766 | J11: 9.0801103
A12: Dinamarca | B12: 34.327872 | C12: 41.136344 | D12: 34.37733 | E12: 24.544858 | F12: 29.02979 | G12: 20.003711 | H12: 21.634443 | I12: 11.214924 | J12: 10.655542 | P12: Max | Q12: min | R12: Media | S12: SD
A13: Eslovaquia | B13: 13.788478 | C13: 12.365855 | D13: 12.361868 | E13: 12.511265 | F13: 10.39207 | G13: 10.843636 | H13: 11.212065 | I13: 8.2285835 | J13: 6.4775923 | P13: =MAX(B6:J32) -> 85.206862 | Q13: =MIN(B6:J32) -> 0 | R13: =AVERAGE(B6:J32) -> 17.529147 | S13: =STDEV(B6:J32) -> 19.323726
A14: Eslovenia | B14: 33.091073 | C14: 30.843191 | D14: 21.901765 | E14: 29.594385 | F14: 30.360199 | G14: 29.548331 | H14: 28.310703 | I14: 27.845338 | J14: 25.38015
A15: España | B15: 19.048316 | C15: 14.68564 | D15: 16.473964 | E15: 18.962389 | F15: 13.264946 | G15: 16.372014 | H15: 13.610319 | I15: 4.7082214 | J15: 2.0979207 | K15: 1.918
A16: Estonia | B16: 4.2282945 | C16: 2.2372881 | D16: 4.153945 | E16: 5.3278295 | F16: 0 | G16: 0.13373393 | H16: 0 | I16: 0 | J16: 0
A17: Finlandia | B17: 10.783826 | C17: 15.717754 | D17: 12.359386 | E17: 8.3035701 | F17: 10.182334 | G17: 8.7256855 | H17: 8.2749699 | I17: 6.3740322 | J17: 3.5548741
A18: Francia | B18: 3.7011244 | C18: 4.2902382 | D18: 2.157029 | E18: 2.1604489 | F18: 1.8147195 | G18: 2.2831266 | H18: 1.4298191 | I18: 0.6377274 | J18: 0.58101467
A19: Grecia | B19: 51.20699 | C19: 46.233848 | D19: 51.141172 | E19: 42.659488 | F19: 34.687208 | G19: 33.953913 | H19: 32.264845 | I19: 24.932257 | J19: 13.688585
A20: Hungría | B20: 18.744045 | C20: 21.07348 | D20: 20.801579 | E20: 19.47136 | F20: 17.6976 | G20: 15.021472 | H20: 14.623528 | I20: 11.808075 | J20: 10.667778
A21: Irlanda | B21: 18.51074 | C21: 16.746823 | D21: 15.332455 | E21: 17.345813 | F21: 15.389165 | G21: 11.803914 | H21: 6.909938 | I21: 1.6405165 | J21: 2.0724065
A22: Italia | B22: 18.200593 | C22: 16.843169 | D22: 16.728272 | E22: 16.120073 | F22: 12.319382 | G22: 11.053811 | H22: 9.8475114 | I22: 6.4253914 | J22: 4.7778839
A23: Letonia | B23: 0.032430679 | C23: 0.016105653 | D23: 0 | E23: 0 | F23: 0 | G23: 0.00274857 | H23: 0.0051004666 | I23: 0.001102761 | J23: 0
A24: Lituania | B24: 0 | C24: 0 | D24: 0 | E24: 0 | F24: 0 | G24: 0 | H24: 0 | I24: 0 | J24: 0
A25: Luxemburgo | B25: 0 | C25: 0 | D25: 0 | E25: 0 | F25: 0 | G25: 0 | H25: 0 | I25: 0 | J25: 0
A26: Malta | B26: 0 | C26: 0 | D26: 0 | E26: 0 | F26: 0 | G26: 0 | H26: 0 | I26: 0 | J26: 0
A27: Países Bajos | B27: 26.440977 | C27: 27.069081 | D27: 31.348508 | E27: 38.653584 | F27: 32.266422 | G27: 27.046524 | H27: 24.168658 | I27: 14.663799 | J27: 6.1811892
... A33: Unión Europea | B33: 26.585306 | C33: 26.311928 | D33: 25.595343 | E33: 25.643973 | F33: 22.555047 | G33: 21.622444 | H33: 20.269315 | I33: 15.537006 | J33: 12.634023
C36: Generación eléctrica del carbón . Obtenido de: https://databank.bancomundial.org/source/world-development-indicators/preview/ddperror.aspx. A partir de 2016 se han obtenido de Eurostat
C42: A partir de 2016 se ha obtenido de Eurostat
C46: Para el año 2021 se ha ido tirando de fuentes del país como son el INE en España.

Sheet Generación elec petró (%) 
B5: 2012 | C5: 2013 | D5: 2014 | E5: 2015 | F5: 2016 | G5: 2017 | H5: 2018 | I5: 2019 | J5: 2020 | K5: 2021
A6: Alemania | B6: 1.2228283 | C6: 1.1372236 | D6: 0.90989777 | E6: 0.96869262 | F6: 0.90138013 | G6: 0.85441902 | H6: 0.81170635 | I6: 0.78886081 | J6: 0.85573352
A7: Austria | B7: 1.0813564 | C7: 1.0766847 | D7: 0.97864191 | E7: 1.3940385 | F7: 1.4643041 | G7: 1.1955044 | H7: 1.0437631 | I7: 0.93314293 | J7: 1.0005548
A8: Bélgica | B8: 0.40798324 | C8: 0.19108125 | D8: 0.30348801 | E8: 0.30051188 | F8: 0.22237057 | G8: 0.20449565 | H8: 0.21569503 | I8: 0.076069697 | J8: 0.1348846
A9: Bulgaria | B9: 0.47231585 | C9: 0.52473937 | D9: 0.44963454 | E9: 0.37339461 | F9: 0.70285996 | G9: 0.87012415 | H9: 0.70940118 | I9: 0.82282723 | J9: 0.73372756
A10: Chipre | B10: 94.551622 | C10: 92.377622 | D10: 92.712644 | E10: 91.219943 | F10: 91.311607 | G10: 91.303372 | H10: 90.565701 | I10: 89.988274 | J10: 87.695935
A11: Croacia | B11: 5.4941943 | C11: 1.6491002 | D11: 0.96010717 | E11: 1.9665421 | F11: 0.53822942 | G11: 1.754913 | H11: 0.50250519 | I11: 0.299366 | J11: 0.25625126
A12: Dinamarca | B12: 1.3126608 | C12: 1.0102755 | D12: 0.98185434 | E12: 1.0812865 | F12: 1.0607594 | G12: 0.89857513 | H12: 0.86843757 | I12: 0.81904723 | J12: 0.91510382 | P12: Max | Q12: min | R12: Media | S12: SD
A13: Eslovaquia | B13: 1.7862186 | C13: 1.5045241 | D13: 1.1124208 | E13: 1.4418744 | F13: 1.7450063 | G13: 1.59156 | H13: 1.7091789 | I13: 1.6090983 | J13: 1.4163224 | P13: =MAX(B6:J32) -> 98.866609 | Q13: =MIN(B6:J32) -> 0 | R13: =AVERAGE(B6:J32) -> 6.9056262 | S13: =STDEV(B6:J32) -> 21.304998
A14: Eslovenia | B14: 0.057885259 | C14: 0.044278575 | D14: 0.24471246 | E14: 0.11473308 | F14: 0.06665912 | G14: 0.088183276 | H14: 0.11314432 | I14: 0.06527506 | J14: 0.061178435
A15: España | B15: 5.2122528 | C15: 4.8901206 | D15: 5.1358616 | E15: 6.2064422 | F15: 6.1606233 | G15: 5.7198832 | H15: 5.2843365 | I15: 4.7170088 | J15: 4.0666684
A16: Estonia | B16: 0.48466617 | C16: 0.99435028 | D16: 0.34549253 | E16: 1.2287607 | F16: 2.0953294 | G16: 0.91182223 | H16: 0.6712945 | I16: 0.36768254 | J16: 0.36266778
A17: Finlandia | B17: 0.44311258 | C17: 0.32838879 | D17: 0.34657973 | E17: 0.30905142 | F17: 0.29200842 | G17: 0.2741209 | H17: 0.37866811 | I17: 0.44745443 | J17: 0.29248043
A18: Francia | B18: 1.1094266 | C18: 0.4480312 | D18: 0.37605508 | E18: 0.38261277 | F18: 1.2166547 | G18: 1.2435453 | H18: 0.9838829 | I18: 1.0369821 | J18: 1.055891
A19: Grecia | B19: 10.004772 | C19: 9.479287 | D19: 11.012455 | E19: 10.927791 | F19: 10.222651 | G19: 9.969495 | H19: 10.413473 | I19: 11.453101 | J19: 9.7977148
A20: Hungría | B20: 0.53414176 | C20: 0.25747673 | D20: 0.25857376 | E20: 0.25377365 | F20: 0.19796676 | G20: 0.26193159 | H20: 0.28501629 | I20: 0.20772382 | J20: 0.12935867
A21: Irlanda | B21: 0.86953318 | C21: 0.73900293 | D21: 1.0035648 | E21: 1.4484501 | F21: 0.95967124 | G21: 0.45948816 | H21: 0.44774319 | I21: 0.90518427 | J21: 1.2181857
A22: Italia | B22: 6.3538941 | C22: 5.3773936 | D22: 5.0924794 | E22: 4.7534824 | F22: 4.1971079 | G22: 3.9051165 | H22: 3.8148924 | I22: 3.4628262 | J22: 3.5865003
A23: Letonia | B23: 0.01621534 | C23: 0.032211306 | D23: 0 | E23: 0.018073378 | F23: 0 | G23: 0.0063203831 | H23: 0.0046989721 | I23: 0.004721681 | J23: 0.0018515782
A24: Lituania | B24: 5.299183 | C24: 4.888467 | D24: 4.3149946 | E24: 6.4584312 | F24: 5.5305305 | G24: 3.5327407 | H24: 4.0068305 | I24: 1.8060076 | J24: 2.3216404
A25: Luxemburgo | B25: 0.036271309 | C25: 0 | D25: 0 | E25: 0 | F25: 0.014470463 | G25: 0.013019313 | H25: 0.010183262 | I25: 0.013623821 | J25: 0.00044764741
... A33: Unión Europea | B33: 2.4611281 | C33: 2.0554128 | D33: 1.9875746 | E33: 2.0558263 | F33: 2.1211422 | G33: 1.9859763 | H33: 1.8562192 | I33: 1.7903166 | J33: 1.7276937
C36: Generación eléctrica del petróleo . Obtenido de: https://databank.bancomundial.org/source/world-development-indicators/preview/ddperror.aspx
E43: A partir de 2016 se ha obtenido de Eurostat

Sheet Generación elec nuc (%)
B5: 2012 | C5: 2013 | D5: 2014 | E5: 2015 | F5: 2016 | G5: 2017 | H5: 2018 | I5: 2019 | J5: 2020 | K5: 2021
A6: Alemania | B6: 15.946309 | C6: 15.371004 | D6: 15.617152 | E6: 14.319926 | F6: 13.049505 | G6: 11.70574 | H6: 11.896209 | I6: 12.399617 | J6: 11.273549
A7: Austria | B7: 0 | C7: 0 | D7: 0 | E7: 0 | F7: 0 | G7: 0 | H7: 0 | I7: 0 | J7: 0
A8: Bélgica | B8: 49.368422 | C8: 51.901076 | D8: 47.135744 | E8: 37.532352 | F8: 51.153459 | G8: 49.063619 | H8: 38.359645 | I8: 46.697137 | J8: 38.738205
A9: Bulgaria | B9: 33.888662 | C9: 32.903016 | D9: 33.812091 | E9: 31.265 | F9: 34.868927 | G9: 34.106876 | H9: 34.444394 | I9: 37.395522 | J9: 40.818397
A10: Chipre | B10: 0 | C10: 0 | D10: 0 | E10: 0 | F10: 0 | G10: 0 | H10: 0 | I10: 0 | J10: 0
A11: Croacia | B11: 0 | C11: 0 | D11: 0 | E11: 0 | F11: 0 | G11: 0 | H11: 0 | I11: 0 | J11: 0
A12: Dinamarca | B12: 0 | C12: 0 | D12: 0 | E12: 0 | F12: 0 | G12: 0 | H12: 0 | I12: 0 | J12: 0 | P12: Max | Q12: min | R12: Media | S12: SD
A13: Eslovaquia | B13: 54.698531 | C13: 55.130813 | D13: 57.090762 | E13: 56.871433 | F13: 54.852603 | G13: 54.674981 | H13: 55.270899 | I13: 53.807965 | J13: 53.611969 | P13: =MAX(B6:J32) -> 78.235588 | Q13: =MIN(B6:J32) -> 0 | R13: =AVERAGE(B6:J32) -> 16.928833 | S13: =STDEV(B6:J32) -> 21.588454
A14: Eslovenia | B14: 35.554412 | C14: 33.525207 | D14: 37.114724 | E14: 38.118378 | F14: 34.632443 | G14: 38.498012 | H14: 35.379813 | I14: 36.157855 | J14: 36.954672
A15: España | B15: 20.912289 | C15: 20.15527 | D15: 20.842047 | E15: 20.618664 | F15: 21.347191 | G15: 21.05647 | H15: 20.325997 | I15: 21.364026 | J15: 22.148982 | K15: 20.793
A16: Estonia | B16: 0 | C16: 0 | D16: 0 | E16: 0 | F16: 0 | G16: 0 | H16: 0 | I16: 0 | J16: 0
A17: Finlandia | B17: 32.646888 | C17: 33.127973 | D17: 34.628602 | E17: 33.897984 | F17: 33.877357 | G17: 33.485954 | H17: 32.569744 | I17: 34.90437 | J17: 33.891352
A18: Francia | B18: 75.96278 | C18: 74.704486 | D18: 78.235588 | E18: 77.627801 | F18: 71.553423 | G18: 70.980545 | H18: 71.055101 | I18: 69.958561 | J18: 66.609972
A19: Grecia | B19: 0 | C19: 0 | D19: 0 | E19: 0 | F19: 0 | G19: 0 | H19: 0 | I19: 0 | J19: 0
A20: Hungría | B20: 45.598383 | C20: 50.736119 | D20: 53.242379 | E20: 52.18509 | F20: 50.446959 | G20: 49.029939 | H20: 49.276497 | I20: 47.653599 | J20: 46.152298
A21: Irlanda | B21: 0 | C21: 0 | D21: 0 | E21: 0 | F21: 0 | G21: 0 | H21: 0 | I21: 0 | J21: 0
A22: Italia | B22: 0 | C22: 0 | D22: 0 | E22: 0 | F22: 0 | G22: 0 | H22: 0 | I22: 0 | J22: 0
A23: Letonia | B23: 0 | C23: 0 | D23: 0 | E23: 0 | F23: 0 | G23: 0 | H23: 0 | I23: 0 | J23: 0
A24: Lituania | B24: 0 | C24: 0 | D24: 0 | E24: 0 | F24: 0 | G24: 0 | H24: 0 | I24: 0 | J24: 0
A25: Luxemburgo | B25: 0 | C25: 0 | D25: 0 | E25: 0 | F25: 0 | G25: 0 | H25: 0 | I25: 0 | J25: 0
A26: Malta | B26: 0 | C26: 0 | D26: 0 | E26: 0 | F26: 0 | G26: 0 | H26: 0 | I26: 0 | J26: 0
A27: Países Bajos | B27: 3.7900056 | C27: 2.8416686 | D27: 3.9557911 | E27: 3.5086763 | F27: 3.4791785 | G27: 2.9420286 | H27: 3.092392 | I27: 3.2363456 | J27: 3.3219407
... A33: Unión Europea | B33: 27.951157 | C33: 27.970177 | D33: 28.772381 | E33: 26.480265 | F33: 26.281857 | G33: 25.702422 | H33: 25.934313 | I33: 26.369761 | J33: 24.574989
C36: Generación eléctrica nuc . Obtenido de: https://databank.bancomundial.org/source/world-development-indicators/preview/ddperror.aspx
C44: A partir de 2016 se ha obtenido de Eurostat

Sheet Índice de prod ind (%)
B5: 2012 | C5: 2013 | D5: 2014 | E5: 2015 | F5: 2016 | G5: 2017 | H5: 2018 | I5: 2019 | J5: 2020 | K5: 2021
A6: Alemania | B6: -0.3583 | C6: 0.1583 | D6: 1.375 | E6: 0.83333333 | F6: 0.83333333 | G6: 3.15 | H6: 1.0416667 | I6: -3.275 | J6: -9.5166667 | K6: 5.6666667
A7: Austria | B7: 0.2083 | C7: 0.525 | D7: 1.008 | E7: 2.1583333 | F7: 2.1333333 | G7: 5.825 | H7: 4.9083333 | I7: 0.075 | J7: -5.875 | K7: 11.783333
A8: Bélgica | B8: -2 | C8: 0.925 | D8: 1.05 | E8: -1.15 | F8: 4.575 | G8: 2.9083333 | H8: 1.175 | I8: 4.8333333 | J8: -3.6916667 | K8: 17.25
A9: Bulgaria | B9: -0.2583 | C9: 0.0583 | D9: 1.933 | E9: 2.775 | F9: 2.5166667 | G9: 4.0583333 | H9: 0.33333333 | I9: 0.60833333 | J9: -6.2583333 | K9: 9.4666667
A10: Chipre | B10: -9.425 | C10: -13.375 | D10: -0.833 | E10: 5.3333333 | F10: 9.075 | G10: 8.65 | H10: 7.325 | I10: 4.5 | J10: -7.2833333 | K10: 8.1666667
A11: Croacia | B11: -5.3583 | C11: -1.59167 | D11: 1.175 | E11: 2.4583333 | F11: 5.0916667 | G11: 2.05 | H11: -0.96666667 | I11: 0.54166667 | J11: -3.4 | K11: 6.8583333
A12: Dinamarca | B12: 0.25 | C12: 0.4 | D12: 0.842 | E12: 0.066666667 | F12: 3.8416667 | G12: 2.3916667 | H12: 2.3666667 | I12: 2.8583333 | J12: -5.8916667 | K12: 8.4583333 | P12: Max | Q12: min | R12: Media | S12: SD
A13: Eslovaquia | B13: 8 | C13: 3.925 | D13: 3.683 | E13: 6.8 | F13: 4.7833333 | G13: 3.3333333 | H13: 4.325 | I13: 0.61666667 | J13: -8.575 | K13: 13.116667 | P13: =MAX(B6:J32) -> 36.725 | Q13: =MIN(B6:J32) -> -13.375 | R13: =AVERAGE(B6:J32) -> 1.1523295 | S13: =STDEV(B6:J32) -> 4.9796516
A14: Eslovenia | B14: -0.667 | C14: -0.8417 | D14: 1.675 | E14: 4.9083333 | F14: 7.7583333 | G14: 7.9916667 | H14: 5.4833333 | I14: 2.75 | J14: -6.2666667 | K14: 10.483333
A15: España | B15: -6.5667 | C15: -1.5417 | D15: 1.25 | E15: 3.2416667 | F15: 1.9083333 | G15: 3.1083333 | H15: 0.425 | I15: 0.56666667 | J15: -9.45 | K15: 8.775
A16: Estonia | B16: 1.533 | C16: 4.2167 | D16: 4.4 | E16: -0.16666667 | F16: 3 | G16: 4.3666667 | H16: 4.85 | I16: 7.225 | J16: -2.6083333 | K16: 6.9666667
A17: Finlandia | B17: -1.583 | C17: -3.2583 | D17: -1.908 | E17: -0.98333333 | F17: 4.2083333 | G17: 3.4166667 | H17: 3.3416667 | I17: 1.6916667 | J17: -3.225 | K17: 4.025
A18: Francia | B18: -2.2083 | C18: -0.583 | D18: -0.8167 | E18: 1.4583333 | F18: 0.475 | G18: 2.3583333 | H18: 0.74166667 | I18: 0.50833333 | J18: -10.858333 | K18: 7.3083333
A19: Grecia | B19: -1.992 | C19: -3.4583 | D19: -1.408 | E19: 1.125 | F19: 2.6583333 | G19: 4.2083333 | H19: 1.7583333 | I19: -0.675 | J19: -2.0583333 | K19: 10.366667
A20: Hungría | B20: -1.233 | C20: 1.408 | D20: 7.275 | E20: 6.9916667 | F20: 0.84166667 | G20: 5.3 | H20: 3.9166667 | I20: 5.5666667 | J20: -6.9166667 | K20: 12.341667
A21: Irlanda | B21: -1.367 | C21: -2.1083 | D21: 21.117 | E21: 36.725 | F21: 5.15 | G21: -2.6083333 | H21: -4.5333333 | I21: 6.45 | J21: 17.058333 | K21: 21.783333
A22: Italia | B22: -3.067 | C22: -0.6167 | D22: 1.083 | E22: 1.0916667 | F22: 2.0666667 | G22: 3.7 | H22: 0.85833333 | I22: -1.15 | J22: -11.016667 | K22: 15.016667
A23: Letonia | B23: 6.5167 | C23: -0.6917 | D23: -0.933 | E23: 3.3333333 | F23: 4.5833333 | G23: 8.8666667 | H23: 2.225 | I23: 0.75 | J23: -1.85 | K23: 6.65
A24: Lituania | B24: 3.708 | C24: 3.667 | D24: 0.458 | E24: 4.1833333 | F24: 2.7416667 | G24: 6.825 | H24: 6.025 | I24: 3.0666667 | J24: -1.7583333 | K24: 19.991667
A25: Luxemburgo | B25: -5.075 | C25: -2.783 | D25: 4.417 | E25: 1.1666667 | F25: -0.36666667 | G25: 3.85 | H25: -1.1 | I25: -3.125 | J25: -10.6 | K25: 9.35
... A32: Suecia | B32: -1.075 | C32: -4.6083 | D32: -1.692 | E32: 2.75 | F32: 1.6416667 | G32: 4.8166667 | H32: 2.6 | I32: 2.4833333 | J32: -4.975 | K32: 7.4583333
A33: Unión Europea | B33: =AVERAGE(B7:B32) -> -0.74876538 | C33: =AVERAGE(C7:C32) -> -0.53234615 | D33: =AVERAGE(D7:D32) -> 1.9926269 | E33: 3.5339506 | F33: 2.808642 | G33: 4.6160494 | H33: 2.3203704 | I33: 1.3324074 | J33: -4.9691358 | K33: 9.791358
C36: Índice de producción industrial (%). Obtenido de:
C40: https://datosmacro.expansion.com/negocios/produccion-industrial
C42: https://www.ine.es/consul/serie.do?d=true&s=IPI11422&c=2&
AP43: Método 1 | AQ43: Método 2
AO44: Malta | AP44: 1 | AQ44: -0.065740741
AO45: Dinamarca | AP45: 1 | AQ45: 0.7917037
AO46: Alemania | AP46: 1 | AQ46: -0.63981481
AO47: Italia | AP47: 1 | AQ47: -0.78341111
AO48: Austria | AP48: 1 | AQ48: 1.2184778
AO49: Países Bajos | AP49: 1 | AQ49: -0.8416663
AO50: Suecia | AP50: 1 | AQ50: 2.859263
AO51: Francia | AP51: 1 | AQ51: -0.99162963
AO52: Luxemburgo | AP52: 1 | AQ52: -1.5128889
AO53: Irlanda | AP53: 0.96320935 | AQ53: 8.4314852
AO54: Bélgica | AP54: 0.91484539 | AQ54: 0.95833333
AO55: Letonia | AP55: 0.88679974 | AQ55: 2.5333704
... AO70: Bulgaria | AP70: 0.1425887 | AQ70: 0.6407037

Sheet Volumen de vehículos
B5: 2012 | C5: 2013 | D5: 2014 | E5: 2015 | F5: 2016 | G5: 2017 | H5: 2018 | I5: 2019 | J5: 2020 | K5: 2021
A6: Alemania | B6: 47829105 | C6: 48374369 | D6: 48911873 | E6: 49570249 | F6: 50374203 | G6: 51253775 | H6: 52086030 | I6: 52866601 | J6: 53651934
A7: Austria | B7: 5537000 | C7: 5625000 | D7: 5677982 | E7: 5745912 | F7: 5838027 | G7: 5939176 | H7: 6048241 | I7: 6135464 | J7: 6214321
A8: Bélgica | B8: 6297500 | C8: 6358800 | D8: 6435004 | E8: 6522942 | F8: 6640318 | G8: 6747483 | H8: 6850490 | I8: 6920517 | J8: 6946638
A9: Bulgaria | B9: 3230000 | C9: 3355200 | D9: 3484569 | E9: 3667787 | F9: 3661320 | G9: 3249375 | H9: 3267952 | I9: 3339725 | J9: 3385940
A10: Chipre | B10: 596900 | C10: 590800 | D10: 588521 | E10: 597209 | F10: 620551 | G10: 640661 | H10: 668268 | I10: 693821 | J10: 700852
A11: Croacia | B11: 1598600 | C11: 1602300 | D11: 1631499 | E11: 1662700 | F11: 1727173 | G11: 1782667 | H11: 1867242 | I11: 1939105 | J11: 1969094
A12: Dinamarca | B12: 2711904 | C12: 2737119 | D12: 2784230 | E12: 2842550 | F12: 2919455 | G12: 2982964 | H12: 3041221 | I12: 3088844 | J12: 3155764 | P12: Max | Q12: min | R12: Media | S12: SD
A13: Eslovaquia | B13: 2143000 | C13: 2206000 | D13: 2279761 | E13: 2376227 | F13: 2470833 | G13: 2581475 | H13: 2689506 | I13: 2764453 | J13: 2811152 | P13: =MAX(B6:J32) -> 53651934 | Q13: =MIN(B6:J32) -> 297002 | R13: =AVERAGE(B6:J32) -> 9976265.2 | S13: =STDEV(B6:J32) -> 14293764
A14: Eslovenia | B14: 1166222 | C14: 1164947 | D14: 1172662 | E14: 1187775 | F14: 1212192 | G14: 1241253 | H14: 1274596 | I14: 1303784 | J14: 1311605
A15: España | B15: 27943287 | C15: 27617785 | D15: 27590727 | E15: 27883710 | F15: 28451448 | G15: 29142244 | H15: 29820646 | I15: 30339742 | J15: 30530791 | P15: 53651934
A16: Estonia | B16: 695510 | C16: 726000 | D16: 754190 | E16: 783136 | F16: 816206 | G16: 845688 | H16: 873049 | I16: 931262 | J16: 949276 | K16: 971371
A17: Finlandia | B17: 3661700 | C17: 3753000 | D17: 3825990 | E17: 3896289 | F17: 4027610 | G17: 4128428 | H17: 4225907 | I17: 4331429 | J17: 4414336
A18: Francia | B18: 40083520 | C18: 40171217 | D18: 40930069 | E18: 40756389 | F18: 44244877 | G18: 44909535 | H18: 45124808 | I18: 45143795 | J18: 44914291
A19: Grecia | B19: 6513803 | C19: 6467193 | D19: 6455865 | E19: 6449430 | F19: 6512139 | G19: 6599269 | H19: 6646453 | I19: 6785832 | J19: 5518715
A20: Hungría | B20: 3470330 | C20: 3533421 | D20: 3616462 | E20: 3723513 | F20: 3860650 | G20: 4044298 | H20: 4241778 | I20: 4439455 | J20: 4561943
A21: Irlanda | B21: 2315684 | C21: 2371119 | D21: 2408043 | E21: 2465446 | F21: 2509446 | G21: 2569581 | H21: 2609283 | I21: 2695429 | J21: 2751668
A22: Italia | B22: 41978900 | C22: 41809100 | D22: 41926136 | E22: 42222284 | F22: 42842641 | G22: 43578092 | H22: 44149138 | I22: 44745355 | J22: 44980390
A23: Letonia | B23: 704800 | C23: 724800 | D23: 751044 | E23: 775050 | F23: 757896 | G23: 786393 | H23: 806801 | I23: 828216 | J23: 841958
A24: Lituania | B24: 1920247 | C24: 1979928 | D24: 1323280 | E24: 1364766 | F24: 1425807 | G24: 1490354 | H24: 1574435 | I24: 1653453 | J24: 1727868
A25: Luxemburgo | B25: 397661 | C25: 405492 | D25: 415686 | E25: 425335 | F25: 437020 | G25: 451542 | H25: 465547 | I25: 479052 | J25: 488011
A26: Malta | B26: 297002 | C26: 304641 | D26: 315405 | E26: 324722 | F26: 333523 | G26: 344092 | H26: 354673 | I26: 363815 | J26: 366545
A27: Países Bajos | B27: 8959028 | C27: 8955904 | D27: 8998668 | E27: 9133683 | F27: 9281741 | G27: 9465535 | H27: 9657214 | I27: 9830842 | J27: 9965178
A28: Polonia | B28: 22172000 | C28: 22896800 | D28: 23613694 | E28: 24433311 | F28: 25512108 | G28: 26450712 | H28: 27513544 | I28: 28583593 | J28: 29466430
... A33: Unión Europea | B33: 252156949 | C33: 254157211 | D33: 257078296 | E33: 260844158 | F33: 269347371 | G33: 275256993 | H33: 280907323 | I33: 286171306 | J33: 288312840
C36: Volumen de vehículos. Obtenido de:
C40: https://appsso.eurostat.ec.europa.eu/nui/submitViewTableAction.do
C42: Tiene en cuenta todos los vehículos ecepto trailers y motocicletas

Sheet PIB (€)
B5: 2012 | C5: 2013 | D5: 2014 | E5: 2015 | F5: 2016 | G5: 2017 | H5: 2018 | I5: 2019 | J5: 2020 | K5: 2021
A6: Alemania | B6: 2746560 | C6: 2815953 | D6: 2931950 | E6: 3023401 | F6: 3129298 | G6: 3271075 | H6: 3370253 | I6: 3479367 | J6: 3398257 | K6: 3592516 | L6: =AVERAGE(B6:J6) -> 3129568.2 | M6: Alemania
A7: Austria | B7: 318732.5 | C7: 323802.4 | D7: 333420.8 | E7: 344280.3 | F7: 357486.1 | G7: 369542.1 | H7: 385394.5 | I7: 397331.7 | J7: 378639.6 | K7: 402420.9 | L7: =AVERAGE(B7:J7) -> 356514.44 | M7: Francia
A8: Bélgica | B8: 386174 | C8: 392880 | D8: 403003 | E8: 416701 | F8: 430084 | G8: 445050 | H8: 460091 | I8: 478238 | J8: 456731 | K8: 506205 | L8: =AVERAGE(B8:J8) -> 429883.56 | M8: Italia
A9: Bulgaria | B9: 42170.7 | C9: 42016.4 | D9: 42884.5 | E9: 45744.7 | F9: 48695.2 | G9: 52426.1 | H9: 56101 | I9: 61548.1 | J9: 61308.8 | K9: 67710.6 | L9: =AVERAGE(B9:J9) -> 50321.722 | M9: España
A10: Chipre | B10: 19440.6 | C10: 17994.9 | D10: 17430.1 | E10: 17883.7 | F10: 18929.2 | G10: 20245.4 | H10: 21612.7 | I10: 23009.9 | J10: 21617.9 | K10: 23436.6 | L10: =AVERAGE(B10:J10) -> 19796.044 | M10: Países Bajos
A11: Croacia | B11: 44475 | C11: 44336.8 | D11: 43908.2 | E11: 45150.4 | F11: 47220.5 | G11: 49851.6 | H11: 52654.5 | I11: 55570 | J11: 50440.5 | K11: 57166 | L11: =AVERAGE(B11:J11) -> 48178.611 | M11: Suecia
A12: Dinamarca | B12: 254578.6 | C12: 258741.7 | D12: 265755.3 | E12: 273019.1 | F12: 283108.5 | G12: 294805.7 | H12: 302328.7 | I12: 309526.8 | J12: 311759.2 | K12: 336717.3 | L12: =AVERAGE(B12:J12) -> 283735.96 | M12: Polonia | P12: Max | Q12: min | R12: Media | S12: SD
A13: Eslovaquia | B13: 73360.8 | C13: 74217.3 | D13: 76092.6 | E13: 79888.2 | F13: 81014.3 | G13: 84442.8 | H13: 89430 | I13: 94048.1 | J13: 92079.2 | K13: 97122.6 | L13: =AVERAGE(B13:J13) -> 82730.367 | M13: Bélgica | P13: =MAX(B6:J32) -> 3479367 | Q13: =MIN(B6:J32) -> 7364.5 | R13: =AVERAGE(B6:J32) -> 467277.33 | S13: =STDEV(B6:J32) -> 740413.96
A14: Eslovenia | B14: 36337.3 | C14: 36552.9 | D14: 37642 | E14: 38702.2 | F14: 40369.1 | G14: 43118.7 | H14: 46063.6 | I14: 48582.2 | J14: 46692.5 | K14: 51743.3 | L14: =AVERAGE(B14:J14) -> 41562.278 | M14: Austria
A15: España | B15: 1031099 | C15: 1020348 | D15: 1032158 | E15: 1077590 | F15: 1113840 | G15: 1161867 | H15: 1203259 | I15: 1244375 | J15: 1121948 | K15: 1205063 | L15: =AVERAGE(B15:J15) -> 1111831.6 | M15: Dinamarca
A16: Estonia | B16: 17915.2 | C16: 18910.8 | D16: 20036.2 | E16: 20622.1 | F16: 21739 | G16: 23799.2 | H16: 25771.5 | I16: 27693.5 | J16: 26818 | K16: 30590.7 | L16: =AVERAGE(B16:J16) -> 22589.5 | M16: Irlanda
A17: Finlandia | B17: 201037 | C17: 204321 | D17: 206897 | E17: 211385 | F17: 217518 | G17: 226301 | H17: 233462 | I17: 239858 | J17: 237987 | K17: 251427 | L17: =AVERAGE(B17:J17) -> 219862.89 | M17: Finlandia
A18: Francia | B18: 2088622.1 | C18: 2119411.5 | D18: 2151990.9 | E18: 2199615.4 | F18: 2232834.9 | G18: 2299498.8 | H18: 2364539.5 | I18: 2440059 | J18: 2309702.8 | K18: 2498823.7 | L18: =AVERAGE(B18:J18) -> 2245141.7 | M18: Rep Checa
A19: Grecia | B19: 188450.6 | C19: 180070.2 | D19: 177595.5 | E19: 176113 | F19: 174662.3 | G19: 176859.3 | H19: 179251.4 | I19: 182616.9 | J19: 165857.8 | K19: 182316.8 | L19: =AVERAGE(B19:J19) -> 177941.89 | M19: Portugal
A20: Hungría | B20: 100331.6 | C20: 102279.6 | D20: 106316.5 | E20: 112789.9 | F20: 116287.5 | G20: 127033.2 | H20: 136077 | I20: 146140 | J20: 137520.7 | K20: 154138.3 | L20: =AVERAGE(B20:J20) -> 120530.67 | M20: Rumanía
A21: Irlanda | B21: 175446.8 | C21: 178853.5 | D21: 194517.4 | E21: 263244.5 | F21: 269598.1 | G21: 297676.3 | H21: 326581.6 | I21: 355770.2 | J21: 373819.1 | K21: 425925.6 | L21: =AVERAGE(B21:J21) -> 270611.94 | M21: Grecia
A22: Italia | B22: 1624364.4 | C22: 1612464.5 | D22: 1628366.3 | E22: 1654334.7 | F22: 1696595.2 | G22: 1738539.3 | H22: 1771333.4 | I22: 1796523.7 | J22: 1655663.9 | K22: 1773764.4 | L22: =AVERAGE(B22:J22) -> 1686465 | M22: Hungría
A23: Letonia | B23: 22035.7 | C23: 22785 | D23: 23678.5 | E23: 24580.6 | F23: 25333.9 | G23: 26913.4 | H23: 29123.9 | I23: 30605.9 | J23: 29442.3 | K23: 32717.9 | L23: =AVERAGE(B23:J23) -> 26055.467 | M23: Eslovaquia
A24: Lituania | B24: 33360.6 | C24: 35071.3 | D24: 36587.6 | E24: 37361.4 | F24: 38857.7 | G24: 42246.2 | H24: 45509.4 | I24: 48856.4 | J24: 49503.6 | K24: 55375.1 | L24: =AVERAGE(B24:J24) -> 40817.133 | M24: Luxemburgo
A25: Luxemburgo | B25: 46467.9 | C25: 49040.1 | D25: 51728.2 | E25: 54096.5 | F25: 56139.2 | G25: 58104.5 | H25: 60318.9 | I25: 62658.8 | J25: 64166.4 | K25: 73215.9 | L25: =AVERAGE(B25:J25) -> 55857.833 | M25: Bulgaria
... A32: Suecia | B32: 430664.2 | C32: 442435.2 | D32: 439708.8 | E32: 455438.3 | F32: 465438.4 | G32: 479839.5 | H32: 470998 | I32: 477152.7 | J32: 480242.6 | K32: 536527.3 | L32: =AVERAGE(B32:J32) -> 460213.08 | M32: Malta
A33: Unión Europea | B33: 11393332 | C33: 11527427 | D33: 11792590 | E33: 12208314 | F33: 12542062 | G33: 13082959 | H33: 13536870 | I33: 14023994 | J33: 13398794 | K33: 14457398
C34: =(C33-B33)/B33 -> 0.011769603 | D34: =(D33-C33)/C33 -> 0.023002757 | E34: =(E33-D33)/D33 -> 0.035253003 | F34: =(F33-E33)/E33 -> 0.027337772 | G34: =(G33-F33)/F33 -> 0.043126665 | H34: =(H33-G33)/G33 -> 0.034694849 | I34: =(I33-H33)/H33 -> 0.035984972 | J34: =(J33-I33)/I33 -> -0.044580765
C36: PIB en millones de €. Obtenido de: https://appsso.eurostat.ec.europa.eu/nui/submitViewTableAction.do
B43: =D8-C8 -> 10123
F46: Media | G46: PIB medio | I46: Alemania | J46: 3129568.2
E47: Malta | F47: 1 | G47: 10733.967 | H47: =AVERAGE(B6:J6) -> 3129568.2 | I47: Francia | J47: 2245141.7
E48: Austria | F48: 1 | G48: 356514.44 | H48: =AVERAGE(B7:J7) -> 356514.44 | I48: Italia | J48: 1686465
E49: Dinamarca | F49: 1 | G49: 283735.96 | H49: =AVERAGE(B8:J8) -> 429883.56 | I49: España | J49: 1111831.6
E50: Alemania | F50: 1 | G50: 3129568.2 | H50: =AVERAGE(B9:J9) -> 50321.722 | I50: Países Bajos | J50: 722807.44
E51: Italia | F51: 1 | G51: 1686465 | H51: =AVERAGE(B10:J10) -> 19796.044 | I51: Suecia | J51: 460213.08
E52: Países Bajos | F52: 1 | G52: 722807.44 | H52: =AVERAGE(B11:J11) -> 48178.611 | I52: Polonia | J52: 452215.59
E53: Suecia | F53: 1 | G53: 460213.08 | H53: =AVERAGE(B12:J12) -> 283735.96 | I53: Bélgica | J53: 429883.56
E54: Francia | F54: 1 | G54: 2245141.7 | H54: =AVERAGE(B13:J13) -> 82730.367 | I54: Austria | J54: 356514.44
E55: Luxemburgo | F55: 1 | G55: 55857.833 | H55: =AVERAGE(B14:J14) -> 41562.278 | I55: Dinamarca | J55: 283735.96
E56: Irlanda | F56: 0.96309137 | G56: 270611.94 | H56: =AVERAGE(B15:J15) -> 1111831.6 | I56: Irlanda | J56: 270611.94
E57: Letonia | F57: 0.88416897 | G57: 26055.467 | H57: =AVERAGE(B16:J16) -> 22589.5 | I57: Finlandia | J57: 219862.89
E58: Bélgica | F58: 0.87567095 | G58: 429883.56 | H58: =AVERAGE(B17:J17) -> 219862.89 | I58: Portugal | J58: 188182.01
... E72: R Checa | F72: 0.17142374 | G72: 186024.66 | H72: =AVERAGE(B31:J31) -> 176314.52 | I72: Malta | J72: 10733.967
...

Sheet Renta per cápita (€)
B5: 2012 | C5: 2013 | D5: 2014 | E5: 2015 | F5: 2016 | G5: 2017 | H5: 2018 | I5: 2019 | J5: 2020 | K5: 2021
A6: Alemania | B6: 34130 | C6: 34860 | D6: 36150 | E6: 37050 | F6: 38070 | G6: 39530 | H6: 40590 | I6: 41800 | J6: 40950 | K6: 43290 | L6: =AVERAGE(B6:J6) -> 38125.556 | M6: Luxemburgo
A7: Austria | B7: 37820 | C7: 38210 | D7: 38990 | E7: 39890 | F7: 40920 | G7: 42000 | H7: 43610 | I7: 44780 | J7: 42540 | K7: 44970 | L7: =AVERAGE(B7:J7) -> 40973.333 | M7: Irlanda
A8: Bélgica | B8: 34770 | C8: 35210 | D8: 35950 | E8: 36960 | F8: 37960 | G8: 39130 | H8: 40260 | I8: 41630 | J8: 39560 | K8: 43680 | L8: =AVERAGE(B8:J8) -> 37936.667 | M8: Dinamarca
A9: Bulgaria | B9: 5780 | C9: 5790 | D9: 5960 | E9: 6380 | F9: 6840 | G9: 7420 | H9: 8000 | I9: 8820 | J9: 8840 | K9: 9850 | L9: =AVERAGE(B9:J9) -> 7092.2222 | M9: Suecia
A10: Chipre | B10: 22500 | C10: 20880 | D10: 20450 | E10: 21100 | F10: 22230 | G10: 23550 | H10: 24840 | I10: 26090 | J10: 24240 | K10: 26030 | L10: =AVERAGE(B10:J10) -> 22875.556 | M10: Países Bajos
A11: Croacia | B11: 10420 | C11: 10420 | D11: 10370 | E11: 10740 | F11: 11320 | G11: 12080 | H11: 12880 | I11: 13660 | J11: 12400 | K11: 14710 | L11: =AVERAGE(B11:J11) -> 11587.778 | M11: Austria
A12: Dinamarca | B12: 45530 | C12: 46100 | D12: 47090 | E12: 48050 | F12: 49420 | G12: 51140 | H12: 52180 | I12: 53210 | J12: 53480 | K12: 57520 | L12: =AVERAGE(B12:J12) -> 49577.778 | M12: Finlandia | P12: Max | Q12: min | R12: Media | S12: SD
A13: Eslovaquia | B13: 13570 | C13: 13710 | D13: 14040 | E13: 14730 | F13: 14920 | G13: 15530 | H13: 16420 | I13: 17250 | J13: 16860 | K13: 17820 | L13: =AVERAGE(B13:J13) -> 15225.556 | M13: Alemania | P13: =MAX(B6:J32) -> 101760 | Q13: =MIN(B6:J32) -> 5780 | R13: =AVERAGE(B6:J32) -> 28247.942 | S13: =STDEV(B6:J32) -> 19255.104
A14: Eslovenia | B14: 17630 | C14: 17700 | D14: 18250 | E14: 18830 | F14: 19590 | G14: 20820 | H14: 22140 | I14: 23170 | J14: 22310 | K14: 24680 | L14: =AVERAGE(B14:J14) -> 20048.889 | M14: Bélgica
A15: España | B15: 22050 | C15: 21900 | D15: 22220 | E15: 23220 | F15: 23980 | G15: 24970 | H15: 25750 | I15: 26420 | J15: 23690 | K15: 25460 | L15: =AVERAGE(B15:J15) -> 23800 | M15: Francia
A16: Estonia | B16: 13520 | C16: 14320 | D16: 15240 | E16: 15710 | F16: 16530 | G16: 18120 | H16: 19570 | I16: 20930 | J16: 20190 | K16: 23060 | L16: =AVERAGE(B16:J16) -> 17125.556 | M16: Italia
A17: Finlandia | B17: 37130 | C17: 37570 | D17: 37880 | E17: 38570 | F17: 39580 | G17: 41080 | H17: 42320 | I17: 43440 | J17: 43030 | K17: 45370 | L17: =AVERAGE(B17:J17) -> 40066.667 | M17: España
A18: Francia | B18: 31820 | C18: 32080 | D18: 32420 | E18: 33020 | F18: 33430 | G18: 34230 | H18: 35040 | I18: 35970 | J18: 33980 | K18: 36660 | L18: =AVERAGE(B18:J18) -> 33554.444 | M18: Malta
A19: Grecia | B19: 17060 | C19: 16400 | D19: 16270 | E19: 16300 | F19: 16190 | G19: 16450 | H19: 16730 | I19: 17090 | J19: 15440 | K19: 17140 | L19: =AVERAGE(B19:J19) -> 16436.667 | M19: Chipre
A20: Hungría | B20: 10110 | C20: 10340 | D20: 10770 | E20: 11460 | F20: 11850 | G20: 12980 | H20: 13920 | I20: 14950 | J20: 14100 | K20: 15870 | L20: =AVERAGE(B20:J20) -> 12275.556 | M20: Eslovenia
A21: Irlanda | B21: 38200 | C21: 38840 | D21: 41930 | E21: 56000 | F21: 56900 | G21: 62000 | H21: 67200 | I21: 72400 | J21: 74860 | K21: 84940 | L21: =AVERAGE(B21:J21) -> 56481.111 | M21: Portugal
A22: Italia | B22: 26990 | C22: 26740 | D22: 26980 | E22: 27480 | F22: 28210 | G22: 28940 | H22: 29580 | I22: 30080 | J22: 27880 | K22: 30040 | L22: =AVERAGE(B22:J22) -> 28097.778 | M22: Rep Checa
A23: Letonia | B23: 10870 | C23: 11320 | D23: 11850 | E23: 12430 | F23: 12950 | G23: 13900 | H23: 15130 | I23: 16020 | J23: 15500 | K23: 17450 | L23: =AVERAGE(B23:J23) -> 13330 | M23: Estonia
A24: Lituania | B24: 11180 | C24: 11850 | D24: 12480 | E24: 12860 | F24: 13560 | G24: 14950 | H24: 16250 | I24: 17490 | J24: 17710 | K24: 19760 | L24: =AVERAGE(B24:J24) -> 14258.889 | M24: Grecia
A25: Luxemburgo | B25: 87540 | C25: 90030 | D25: 92760 | E25: 95090 | F25: 96230 | G25: 97440 | H25: 99150 | I25: 100890 | J25: 101760 | K25: 114370 | L25: =AVERAGE(B25:J25) -> 95654.444 | M25: Eslovaquia
... A32: Suecia | B32: 45170 | C32: 46020 | D32: 45260 | E32: 46480 | F32: 46990 | G32: 47730 | H32: 46260 | I32: 46390 | J32: 46420 | K32: 51630 | L32: =AVERAGE(B32:J32) -> 46302.222 | M32: Bulgaria
A33: Unión Europea | B33: 25760 | C33: 26020 | D33: 26590 | E33: 27500 | F33: 28200 | G33: 29330 | H33: 30290 | I33: 31300 | J33: 29920 | K33: 32320
C34: =(C33-B33)/B33 -> 0.010093168 | D34: =(D33-C33)/C33 -> 0.021906226 | E34: =(E33-D33)/D33 -> 0.034223392 | F34: =(F33-E33)/E33 -> 0.025454545 | G34: =(G33-F33)/F33 -> 0.040070922 | H34: =(H33-G33)/G33 -> 0.032730992 | I34: =(I33-H33)/H33 -> 0.033344338 | J34: =(J33-I33)/I33 -> -0.044089457
C36: PIB per cápita en millones de €. Obtenido de: https://appsso.eurostat.ec.europa.eu/nui/show.do
D45: Media | E45: Renta per cápita media
C46: Malta | D46: 1 | E46: 23025.556 | F46: =AVERAGE(B6:J6) -> 38125.556
C47: Austria | D47: 1 | E47: 40973.333 | F47: =AVERAGE(B7:J7) -> 40973.333
C48: Denmark | D48: 1 | E48: 49577.778 | F48: =AVERAGE(B8:J8) -> 37936.667
C49: Germany | D49: 1 | E49: 38125.556 | F49: =AVERAGE(B9:J9) -> 7092.2222
C50: Italy | D50: 1 | E50: 28097.778 | F50: =AVERAGE(B10:J10) -> 22875.556
C51: Netherlands | D51: 1 | E51: 42330 | F51: =AVERAGE(B11:J11) -> 11587.778
C52: Sweden | D52: 1 | E52: 46302.222 | F52: =AVERAGE(B12:J12) -> 49577.778
C53: France | D53: 1 | E53: 33554.444 | F53: =AVERAGE(B13:J13) -> 15225.556
C54: Luxembourg | D54: 1 | E54: 95654.444 | F54: =AVERAGE(B14:J14) -> 20048.889
C55: Ireland | D55: 0.96309137 | E55: 56481.111 | F55: =AVERAGE(B15:J15) -> 23800
C56: Latvia | D56: 0.88416897 | E56: 13330 | F56: =AVERAGE(B16:J16) -> 17125.556
C57: Belgium | D57: 0.87567095 | E57: 37936.667 | F57: =AVERAGE(B17:J17) -> 40066.667
... C72: Bulgaria | D72: 0.14226959 | E72: 7092.2222 | F72: =AVERAGE(B32:J32) -> 46302.222

Sheet Emisiones CO2
B5: 2012 | C5: 2013 | D5: 2014 | E5: 2015 | F5: 2016 | G5: 2017 | H5: 2018 | I5: 2019 | J5: 2020 | K5: 2021
A6: Alemania | B6: 801378.36 | C6: 823068.61 | D6: 785991.74 | E6: 789787.8 | F6: 793555.58 | G6: 786132.99 | H6: 760155.22 | I6: 715712.05 | J6: =I6+K6 -> 648738.56 | K6: -66973.489
A7: Austria | B7: 65093.294 | C7: 65710.844 | D7: 62131.843 | E7: 64096.232 | F7: 64600.91 | G7: 66398.396 | H7: 64222.09 | I7: 66383.481 | J7: 60328.67 | K7: -5981.345
A8: Bélgica | B8: 109616.34 | C8: 114257.88 | D8: 111492.38 | E8: 114429.85 | F8: 112317.6 | G8: 111926.67 | H8: 113022.21 | I8: 110543.39 | J8: 101942.27 | K8: -8056.748
A9: Bulgaria | B9: 45786.723 | C9: 40649.572 | D9: 43273.575 | E9: 45838.708 | F9: 42237.751 | G9: 44685.825 | H9: 42529.699 | I9: 40999.089 | J9: 36197.902 | K9: -4175.82
A10: Chipre | B10: 6525.1375 | C10: 5570.5806 | D10: 5708.5174 | E10: 5792.5117 | F10: 6170.3061 | G10: 6323.7731 | H10: 6296.2168 | I10: 6272.0263 | J10: 5768.1992 | K10: -505.399
A11: Croacia | B11: 17949.816 | C11: 17444.821 | D11: 16582.134 | E11: 16975.399 | F11: 17363.393 | G11: 17673.447 | H11: 16598.197 | I11: 16794.517 | J11: 15793.146 | K11: -258.298
A12: Dinamarca | B12: 37546.975 | C12: 39117.305 | D12: 34586.727 | E12: 31919.739 | F12: 32987.082 | G12: 31226.595 | H12: 31214.365 | I12: 27566.967 | J12: 24656.505 | K12: -3361.958 | P12: Max | Q12: min | R12: Media | S12: SD
A13: Eslovaquia | B13: 34220.632 | C13: 34162.432 | D13: 31446.586 | E13: 31892.208 | F13: 32357.808 | G13: 34701.812 | H13: 34679.228 | I13: 31643.816 | J13: 29966.172 | K13: -2100.212 | P13: =MAX(B6:J32) -> 823068.61 | Q13: =MIN(B6:J32) -> 1345.6386 | R13: =AVERAGE(B6:J32) -> 112505.1 | S13: =STDEV(B6:J32) -> 165624.91
A14: Eslovenia | B14: 14969.924 | C14: 14284.867 | D14: 12813.404 | E14: 12864.104 | F14: 13646.879 | G14: 13771.571 | H14: 13742.918 | I14: 13268.399 | J14: 12019.412 | K14: -1007.59
A15: España | B15: 283265.64 | C15: 252957.01 | D15: 244628.57 | E15: 261986.18 | F15: 256444.5 | G15: 278527.81 | H15: 272495.67 | I15: 250622.59 | J15: 213602.99 | K15: -41986.64
A16: Estonia | B16: 29429.265 | C16: 28511.218 | D16: 24171.245 | E16: 18391.556 | F16: 23088.094 | G16: 14990.758 | H16: 12523.292 | I16: 8957.9977 | J16: 6691.2104 | K16: -3107.956
A17: Finlandia | B17: 45941.116 | C17: 45868.853 | D17: 45471.822 | E17: 40332.216 | F17: 43240.421 | G17: 41127.688 | H17: 41099.907 | I17: 37323.35 | J17: 35690.17 | K17: -4612.072
A18: Francia | B18: 377730.19 | C18: 376482.21 | D18: 346234.22 | E18: 352074.16 | F18: 351015.25 | G18: 356329.63 | H18: 340521.73 | I18: 336302.77 | J18: 294868.53 | K18: -38967.752
A19: Grecia | B19: 79040.077 | C19: 67764.856 | D19: 66155.416 | E19: 63624.199 | F19: 61006.97 | G19: 63097.293 | H19: 60087.985 | I19: 56334.944 | J19: 47320.605 | K19: -11829.823
A20: Hungría | B20: 48444.498 | C20: 44843.988 | D20: 45089.208 | E20: 48264.967 | F20: 48610.339 | G20: 51673.596 | H20: 52041.75 | I20: 51590.196 | J20: 50077.054 | K20: -989.619
A21: Irlanda | B21: 33652.497 | C21: 33080.204 | D21: 31862.432 | E21: 33719.833 | F21: 35891.835 | G21: 33521.093 | H21: 33084.673 | I21: 31718.894 | J21: 30383.084 | K21: -2349.321
A22: Italia | B22: 378729.66 | C22: 353727.97 | D22: 330688.45 | E22: 344460.75 | F22: 339405.77 | G22: 342285.65 | H22: 330889 | I22: 323242.57 | J22: 290939.79 | K22: -34755.817
A23: Letonia | B23: 7094.3079 | C23: 7061.9822 | D23: 6843.2435 | E23: 6999.1557 | F23: 6970.0027 | G23: 6859.3208 | H23: 7340.7486 | I23: 7011.3364 | J23: 6428.9958 | K23: -655.373
A24: Lituania | B24: 14608.8 | C24: 13453.617 | D24: 13138.517 | E24: 13239.417 | F24: 13375.767 | G24: 13749.274 | H24: 13960.264 | I24: 13932.061 | J24: 13863.537 | K24: -251.807
A25: Luxemburgo | B25: 10237.726 | C25: 9701.7934 | D25: 9185.2685 | E25: 8693.7715 | F25: 8395.5021 | G25: 8517.133 | H25: 8840.8753 | I25: 9002.2718 | J25: 7283.343 | K25: -1489.036
... A32: Suecia | B32: 48710.415 | C32: 46689.359 | D32: 45207.076 | E32: 36644.261 | F32: 40725.968 | G32: 39969.765 | H32: 43356.945 | I32: 39470.979 | J32: 33482.222 | K32: -9283.058
A33: Unión Europea | B33: 3223410.9 | C33: 3156043.7 | D33: 3004240.4 | E33: 3053303 | F33: 3065174.7 | G33: 3115566.3 | H33: 3041958.5 | I33: 2901636.7 | J33: 2627111.7 | K33: =AVERAGE(B33:J33) -> 3020938.4
C34: =(C33-B33)/B33 -> -0.020899333 | D34: =(D33-C33)/C33 -> -0.048099259 | E34: =(E33-D33)/D33 -> 0.016331131 | F34: =(F33-E33)/E33 -> 0.0038881517 | G34: =(G33-F33)/F33 -> 0.016440029 | H34: =(H33-G33)/G33 -> -0.023625815 | I34: =(I33-H33)/H33 -> -0.046128784 | J34: =(J33-I33)/I33 -> -0.09461038
C36: Emisiones CO2
B42: 2942.9265 | C42: 2851.1218 | D42: 2417.1245 | E42: 1839.1556 | F42: 2308.8094 | G42: 1499.0758 | H42: 1252.3292 | I42: 895.79977 | J42: 669.12104
B43: =B42*10 -> 29429.265 | C43: =C42*10 -> 28511.218 | D43: =D42*10 -> 24171.245 | E43: =E42*10 -> 18391.556 | F43: =F42*10 -> 23088.094 | G43: =G42*10 -> 14990.758 | H43: =H42*10 -> 12523.292 | I43: =I42*10 -> 8957.9977 | J43: =J42*10 -> 6691.2104
C52: Media
B53: Malta | C53: 1 | D53: 1874.646 | E53: =AVERAGE(B6:J6) -> 767168.99
B54: Austria | C54: 1 | D54: 64329.529 | E54: =AVERAGE(B7:J7) -> 64329.529
B55: Dinamarca | C55: 1 | D55: 32313.584 | E55: =AVERAGE(B8:J8) -> 111060.96
B56: Alemania | C56: 1 | D56: 767168.99 | E56: =AVERAGE(B9:J9) -> 42466.538
B57: Italia | C57: 1 | D57: 337152.18 | E57: =AVERAGE(B10:J10) -> 6047.4743
B58: Países Bajos | C58: 1 | D58: 190359.15 | E58: =AVERAGE(B11:J11) -> 17019.43
B59: Suecia | C59: 1 | D59: 41584.11 | E59: =AVERAGE(B12:J12) -> 32313.584
B60: Francia | C60: 1 | D60: 347950.97 | E60: =AVERAGE(B13:J13) -> 32785.633
B61: Luxemburgo | C61: 1 | D61: 8873.0761 | E61: =AVERAGE(B14:J14) -> 13486.831
B62: Irlanda | C62: 0.96309137 | D62: 32990.505 | E62: =AVERAGE(B15:J15) -> 257170.11
B63: Letonia | C63: 0.88416897 | D63: 6956.566 | E63: =AVERAGE(B16:J16) -> 18528.293
B64: Bélgica | C64: 0.87567095 | D64: 111060.96 | E64: =AVERAGE(B17:J17) -> 41788.394
...

Sheet Emisiones CH4
B5: 2012 | C5: 2013 | D5: 2014 | E5: 2015 | F5: 2016 | G5: 2017 | H5: 2018 | I5: 2019 | J5: 2020
A6: Alemania | B6: 55560.001 | C6: 55310.001 | D6: 53570 | E6: 52720.001 | F6: 51820 | G6: 51410 | H6: 49849.998 | I6: 48709.999 | J6: 47685.623
A7: Austria | B7: 7770 | C7: 7630.0001 | D7: 7440.0001 | E7: 7389.9999 | F7: 7309.9999 | G7: 7270 | H7: 7040 | I7: 6920.0001 | J7: 6837.0779
A8: Bélgica | B8: 8829.9999 | C8: 8609.9997 | D8: 8540 | E8: 8529.9997 | F8: 8449.9998 | G8: 8170.0001 | H8: 8189.9996 | I8: 8079.9999 | J8: 8071.8302
A9: Bulgaria | B9: 7780.0002 | C9: 7520 | D9: 7500 | E9: 7420.0001 | F9: 7130.0001 | G9: 7099.9999 | H9: 6960 | I9: 6840.0002 | J9: 6840.0002
A10: Chipre | B10: 690 | C10: 690 | D10: 699.99999 | E10: 709.99998 | F10: 730.00002 | G10: 740.00001 | H10: 740.00001 | I10: 740.00001 | J10: 725.05834
A11: Croacia | B11: 3750 | C11: 3650.0001 | D11: 3640.0001 | E11: 3740 | F11: 3750 | G11: 3770 | H11: 3670.0001 | I11: 3680.0001 | J11: 3603.4786
A12: Dinamarca | B12: 8560.0004 | C12: 8350.0004 | D12: 8199.9998 | E12: 8199.9998 | F12: 8149.9996 | G12: 8079.9999 | H12: 7949.9998 | I12: 7780.0002 | J12: 7752.0803 | O12: Max | P12: min | Q12: Media | R12: SD
A13: Eslovaquia | B13: 4150.0001 | C13: 4320.0002 | D13: 4079.9999 | E13: 4190.0001 | F13: 4270 | G13: 4260.0002 | H13: 4250 | I13: 4409.9998 | J13: 4363.8982 | O13: =MAX(B6:J32) -> 64940.002 | P13: =MIN(B6:J32) -> 190 | Q13: =AVERAGE(B6:J32) -> 13939.393 | R13: =STDEV(B6:J32) -> 16469.272
A14: Eslovenia | B14: 1860 | C14: 1820.0001 | D14: 1740 | E14: 1780 | F14: 1809.9999 | G14: 1790 | H14: 1740 | I14: 1730 | J14: 1716.0692
A15: España | B15: 37730 | C15: 37180 | D15: 37000 | E15: 38580.002 | F15: 38700.001 | G15: 39080.002 | H15: 39099.998 | I15: 39279.999 | J15: 39318.571
A16: Estonia | B16: 1230 | C16: 1200 | D16: 1190.0001 | E16: 1179.9999 | F16: 1100 | G16: 1110 | H16: 1110 | I16: 1110 | J16: 1119.5086
A17: Finlandia | B17: 5469.9998 | C17: 5340.0002 | D17: 5210 | E17: 5130.0001 | F17: 5020 | G17: 4900.0001 | H17: 4750 | I17: 4639.9999 | J17: 4550.9331
A18: Francia | B18: 64940.002 | C18: 64849.998 | D18: 63689.999 | E18: 63110.001 | F18: 62200.001 | G18: 61299.999 | H18: 60560.001 | I18: 59660 | J18: 59365.5
A19: Grecia | B19: 10590 | C19: 10210 | D19: 10090 | E19: 9930.0003 | F19: 9600.0004 | G19: 9659.9998 | H19: 9369.9999 | I19: 9340.0002 | J19: 9104.1122
A20: Hungría | B20: 7659.9998 | C20: 7480 | D20: 7309.9999 | E20: 7239.9998 | F20: 7230 | G20: 7159.9998 | H20: 7059.9999 | I20: 7000 | J20: 6961.3891
A21: Irlanda | B21: 14870 | C21: 15270 | D21: 15620 | E21: 15900 | F21: 16530.001 | G21: 16799.999 | H21: 15430 | I21: 15460 | J21: 15639.154
A22: Italia | B22: 47270 | C22: 45130.001 | D22: 44070 | E22: 44849.998 | F22: 44720.001 | G22: 44849.998 | H22: 44580.002 | I22: 44349.998 | J22: 42993.353
A23: Letonia | B23: 2059.9999 | C23: 2069.9999 | D23: 2119.9999 | E23: 2040 | F23: 2050 | G23: 2050 | H23: 2000 | I23: 1980 | J23: 1941.0201
A24: Lituania | B24: 3690.0001 | C24: 3579.9999 | D24: 3480 | E24: 3450 | F24: 3349.9999 | G24: 3270 | H24: 3119.9999 | I24: 3030 | J24: 2923.7149
A25: Luxemburgo | B25: 550.00001 | C25: 560 | D25: 560 | E25: 560 | F25: 560 | G25: 569.99999 | H25: 560 | I25: 560 | J25: 561.64843
... A32: Suecia | B32: 5699.9998 | C32: 5530.0002 | D32: 5389.9999 | E32: 5210 | F32: 5150.0001 | G32: 5119.9999 | H32: 4880.0001 | I32: 4770 | J32: 3905.137
A33: Unión Europea | B33: 391830.01 | C33: 386390 | D33: 380510 | E33: 381120 | F33: 377540 | G33: 376050 | H33: 368740 | I33: 365380 | J33: =SUM(J6:J32) -> 359712.43
C34: =(C33-B33)/B33 -> -0.013883579 | D34: =(D33-C33)/C33 -> -0.015217794 | E34: =(E33-D33)/D33 -> 0.0016031167 | F34: =(F33-E33)/E33 -> -0.0093933596 | G34: =(G33-F33)/F33 -> -0.003946613 | H34: =(H33-G33)/G33 -> -0.019438904 | I34: =(I33-H33)/H33 -> -0.009112119 | J34: =(J33-I33)/I33 -> -0.015511441
C36: Emisiones CH4
B42: 2942.9265 | C42: 2851.1218 | D42: 2417.1245 | E42: 1839.1556 | F42: 2308.8094 | G42: 1499.0758 | H42: 1252.3292 | I42: 895.79977 | J42: 669.12104
B43: =B42*10 -> 29429.265 | C43: =C42*10 -> 28511.218 | D43: =D42*10 -> 24171.245 | E43: =E42*10 -> 18391.556 | F43: =F42*10 -> 23088.094 | G43: =G42*10 -> 14990.758 | H43: =H42*10 -> 12523.292 | I43: =I42*10 -> 8957.9977 | J43: =J42*10 -> 6691.2104
B47: 0.15871229 | C47: 0.16637909 | D47: 1 | E47: 0.16812404 | F47: 0.1725323 | G47: 0.15111747 | H47: 0.1544704 | I47: 0.16254415 | J47: 0.16506552
AK55: LITUANIA DECAE PIB A LA VEZ QUE LAS EMISIONES DE METANO VAN SUBIENDO A LO LARGO DEL PERIODO
E68: Media | F68: Emisiones metano | G68: Media | H68: Francia | I68: 61661.301
D69: Malta | E69: 1 | F69: 210.58133 | G69: =AVERAGE(B6:J6) -> 51848.403 | H69: Alemania | I69: 51996.149
D70: Austria | E70: 1 | F70: 7289.6753 | G70: =AVERAGE(B7:J7) -> 7289.6753 | H70: Italia | I70: 44733.341
D71: Dinamarca | E71: 1 | F71: 8113.5645 | G71: =AVERAGE(B8:J8) -> 8385.7588 | H71: España | I71: 38447.778
D72: Alemania | E72: 1 | F72: 51848.403 | G72: =AVERAGE(B9:J9) -> 7232.2223 | H72: Polonia | I72: 31593.978
D73: Italia | E73: 1 | F73: 44757.039 | G73: =AVERAGE(B10:J10) -> 718.33982 | H73: Rumanía | I73: 17740.819
D74: Países Bajos | E74: 1 | F74: 16619.355 | G74: =AVERAGE(B11:J11) -> 3694.831 | H74: Países Bajos | I74: 16810.845
D75: Suecia | E75: 1 | F75: 5072.793 | G75: =AVERAGE(B12:J12) -> 8113.5645 | H75: Irlanda | I75: 15643.369
D76: Francia | E76: 1 | F76: 62186.167 | G76: =AVERAGE(B13:J13) -> 4254.8776 | H76: Rep Checa | I76: 12587.629
D77: Luxemburgo | E77: 1 | F77: 560.18316 | G77: =AVERAGE(B14:J14) -> 1776.2299 | H77: Portugal | I77: 11196.308
D78: Irlanda | E78: 0.96309137 | F78: 15724.35 | G78: =AVERAGE('[1]ESPAÑA CROACIA'!I24:Q24) -> 38447.778 | H78: Grecia | I78: 9830.5779
...

Sheet Hoja1
B3: Carbón | C3: Petróleo | D3: Nuclear | E3: IPI | F3: Vehículos | G3: PIB | H3: Renta per | I3: Emisiones | J3: Emisiones | M3: 2020
A4: Alemania | B4: =HLOOKUP($M$3,'Generación elec carb (%)'!$B$5:$J$32,2,FALSE) -> 23.391801 | C4: =HLOOKUP($M$3,'Generación elec petró (%) '!$B$5:$J$332,2,FALSE) -> 0.85573352 | D4: =HLOOKUP($M$3,'Generación elec nuc (%)'!$B$5:$J$32,2,FALSE) -> 11.273549 | E4: =HLOOKUP($M$3,'Índice de prod ind (%)'!$B$5:$K$32,2,FALSE) -> -9.5166667 | F4: =HLOOKUP($M$3,'Volumen de vehículos'!$B$5:$J$32,2,FALSE) -> 53651934 | G4: =HLOOKUP($M$3,'PIB (€)'!$B$5:$J$32,2,FALSE) -> 3398257 | H4: =HLOOKUP($M$3,'Renta per cápita (€)'!$B$5:$J$32,2,FALSE) -> 40950 | I4: =HLOOKUP($M$3,'Emisiones CO2'!$B$5:$J$32,2,FALSE) -> 648738.56 | J4: =HLOOKUP($M$3,'Emisiones CH4'!$B$5:$J$32,2,FALSE) -> 47685.623
A5: Austria | B5: =HLOOKUP($M$3,'Generación elec carb (%)'!$B$5:$J$32,3,FALSE) -> 0.77087092 | C5: =HLOOKUP($M$3,'Generación elec petró (%) '!$B$5:$J$332,3,FALSE) -> 1.0005548 | D5: =HLOOKUP($M$3,'Generación elec nuc (%)'!$B$5:$J$32,3,FALSE) -> 0 | E5: =HLOOKUP($M$3,'Índice de prod ind (%)'!$B$5:$K$32,3,FALSE) -> -5.875 | F5: =HLOOKUP($M$3,'Volumen de vehículos'!$B$5:$J$32,3,FALSE) -> 6214321 | G5: =HLOOKUP($M$3,'PIB (€)'!$B$5:$J$32,3,FALSE) -> 378639.6 | H5: =HLOOKUP($M$3,'Renta per cápita (€)'!$B$5:$J$32,3,FALSE) -> 42540 | I5: =HLOOKUP($M$3,'Emisiones CO2'!$B$5:$J$32,3,FALSE) -> 60328.67 | J5: =HLOOKUP($M$3,'Emisiones CH4'!$B$5:$J$32,3,FALSE) -> 6837.0779
A6: Bélgica | B6: =HLOOKUP($M$3,'Generación elec carb (%)'!$B$5:$J$32,4,FALSE) -> 0.091685529 | C6: =HLOOKUP($M$3,'Generación elec petró (%) '!$B$5:$J$332,4,FALSE) -> 0.1348846 | D6: =HLOOKUP($M$3,'Generación elec nuc (%)'!$B$5:$J$32,4,FALSE) -> 38.738205 | E6: =HLOOKUP($M$3,'Índice de prod ind (%)'!$B$5:$K$32,4,FALSE) -> -3.6916667 | F6: =HLOOKUP($M$3,'Volumen de vehículos'!$B$5:$J$32,4,FALSE) -> 6946638 | G6: =HLOOKUP($M$3,'PIB (€)'!$B$5:$J$32,4,FALSE) -> 456731 | H6: =HLOOKUP($M$3,'Renta per cápita (€)'!$B$5:$J$32,4,FALSE) -> 39560 | I6: =HLOOKUP($M$3,'Emisiones CO2'!$B$5:$J$32,4,FALSE) -> 101942.27 | J6: =HLOOKUP($M$3,'Emisiones CH4'!$B$5:$J$32,4,FALSE) -> 8071.8302
A7: Bulgaria | B7: =HLOOKUP($M$3,'Generación elec carb (%)'!$B$5:$J$32,5,FALSE) -> 33.170413 | C7: =HLOOKUP($M$3,'Generación elec petró (%) '!$B$5:$J$332,5,FALSE) -> 0.73372756 | D7: =HLOOKUP($M$3,'Generación elec nuc (%)'!$B$5:$J$32,5,FALSE) -> 40.818397 | E7: =HLOOKUP($M$3,'Índice de prod ind (%)'!$B$5:$K$32,5,FALSE) -> -6.2583333 | F7: =HLOOKUP($M$3,'Volumen de vehículos'!$B$5:$J$32,5,FALSE) -> 3385940 | G7: =HLOOKUP($M$3,'PIB (€)'!$B$5:$J$32,5,FALSE) -> 61308.8 | H7: =HLOOKUP($M$3,'Renta per cápita (€)'!$B$5:$J$32,5,FALSE) -> 8840 | I7: =HLOOKUP($M$3,'Emisiones CO2'!$B$5:$J$32,5,FALSE) -> 36197.902 | J7: =HLOOKUP($M$3,'Emisiones CH4'!$B$5:$J$32,5,FALSE) -> 6840.0002
A8: Chipre | B8: =HLOOKUP($M$3,'Generación elec carb (%)'!$B$5:$J$32,6,FALSE) -> 0 | C8: =HLOOKUP($M$3,'Generación elec petró (%) '!$B$5:$J$332,6,FALSE) -> 87.695935 | D8: =HLOOKUP($M$3,'Generación elec nuc (%)'!$B$5:$J$32,6,FALSE) -> 0 | E8: =HLOOKUP($M$3,'Índice de prod ind (%)'!$B$5:$K$32,6,FALSE) -> -7.2833333 | F8: =HLOOKUP($M$3,'Volumen de vehículos'!$B$5:$J$32,6,FALSE) -> 700852 | G8: =HLOOKUP($M$3,'PIB (€)'!$B$5:$J$32,6,FALSE) -> 21617.9 | H8: =HLOOKUP($M$3,'Renta per cápita (€)'!$B$5:$J$32,6,FALSE) -> 24240 | I8: =HLOOKUP($M$3,'Emisiones CO2'!$B$5:$J$32,6,FALSE) -> 5768.1992 | J8: =HLOOKUP($M$3,'Emisiones CH4'!$B$5:$J$32,6,FALSE) -> 725.05834
A9: Croacia | B9: =HLOOKUP($M$3,'Generación elec carb (%)'!$B$5:$J$32,7,FALSE) -> 9.0801103 | C9: =HLOOKUP($M$3,'Generación elec petró (%) '!$B$5:$J$332,7,FALSE) -> 0.25625126 | D9: =HLOOKUP($M$3,'Generación elec nuc (%)'!$B$5:$J$32,7,FALSE) -> 0 | E9: =HLOOKUP($M$3,'Índice de prod ind (%)'!$B$5:$K$32,7,FALSE) -> -3.4 | F9: =HLOOKUP($M$3,'Volumen de vehículos'!$B$5:$J$32,7,FALSE) -> 1969094 | G9: =HLOOKUP($M$3,'PIB (€)'!$B$5:$J$32,7,FALSE) -> 50440.5 | H9: =HLOOKUP($M$3,'Renta per cápita (€)'!$B$5:$J$32,7,FALSE) -> 12400 | I9: =HLOOKUP($M$3,'Emisiones CO2'!$B$5:$J$32,7,FALSE) -> 15793.146 | J9: =HLOOKUP($M$3,'Emisiones CH4'!$B$5:$J$32,7,FALSE) -> 3603.4786
A10: Dinamarca | B10: =HLOOKUP($M$3,'Generación elec carb (%)'!$B$5:$J$32,8,FALSE) -> 10.655542 | C10: =HLOOKUP($M$3,'Generación elec petró (%) '!$B$5:$J$332,8,FALSE) -> 0.91510382 | D10: =HLOOKUP($M$3,'Generación elec nuc (%)'!$B$5:$J$32,8,FALSE) -> 0 | E10: =HLOOKUP($M$3,'Índice de prod ind (%)'!$B$5:$K$32,8,FALSE) -> -5.8916667 | F10: =HLOOKUP($M$3,'Volumen de vehículos'!$B$5:$J$32,8,FALSE) -> 3155764 | G10: =HLOOKUP($M$3,'PIB (€)'!$B$5:$J$32,8,FALSE) -> 311759.2 | H10: =HLOOKUP($M$3,'Renta per cápita (€)'!$B$5:$J$32,8,FALSE) -> 53480 | I10: =HLOOKUP($M$3,'Emisiones CO2'!$B$5:$J$32,8,FALSE) -> 24656.505 | J10: =HLOOKUP($M$3,'Emisiones CH4'!$B$5:$J$32,8,FALSE) -> 7752.0803
A11: Eslovaquia | B11: =HLOOKUP($M$3,'Generación elec carb (%)'!$B$5:$J$32,9,FALSE) -> 6.4775923 | C11: =HLOOKUP($M$3,'Generación elec petró (%) '!$B$5:$J$332,9,FALSE) -> 1.4163224 | D11: =HLOOKUP($M$3,'Generación elec nuc (%)'!$B$5:$J$32,9,FALSE) -> 53.611969 | E11: =HLOOKUP($M$3,'Índice de prod ind (%)'!$B$5:$K$32,9,FALSE) -> -8.575 | F11: =HLOOKUP($M$3,'Volumen de vehículos'!$B$5:$J$32,9,FALSE) -> 2811152 | G11: =HLOOKUP($M$3,'PIB (€)'!$B$5:$J$32,9,FALSE) -> 92079.2 | H11: =HLOOKUP($M$3,'Renta per cápita (€)'!$B$5:$J$32,9,FALSE) -> 16860 | I11: =HLOOKUP($M$3,'Emisiones CO2'!$B$5:$J$32,9,FALSE) -> 29966.172 | J11: =HLOOKUP($M$3,'Emisiones CH4'!$B$5:$J$32,9,FALSE) -> 4363.8982
A12: Eslovenia | B12: =HLOOKUP($M$3,'Generación elec carb (%)'!$B$5:$J$32,10,FALSE) -> 25.38015 | C12: =HLOOKUP($M$3,'Generación elec petró (%) '!$B$5:$J$332,10,FALSE) -> 0.061178435 | D12: =HLOOKUP($M$3,'Generación elec nuc (%)'!$B$5:$J$32,10,FALSE) -> 36.954672 | E12: =HLOOKUP($M$3,'Índice de prod ind (%)'!$B$5:$K$32,10,FALSE) -> -6.2666667 | F12: =HLOOKUP($M$3,'Volumen de vehículos'!$B$5:$J$32,10,FALSE) -> 1311605 | G12: =HLOOKUP($M$3,'PIB (€)'!$B$5:$J$32,10,FALSE) -> 46692.5 | H12: =HLOOKUP($M$3,'Renta per cápita (€)'!$B$5:$J$32,10,FALSE) -> 22310 | I12: =HLOOKUP($M$3,'Emisiones CO2'!$B$5:$J$32,10,FALSE) -> 12019.412 | J12: =HLOOKUP($M$3,'Emisiones CH4'!$B$5:$J$32,10,FALSE) -> 1716.0692
A13: España | B13: =HLOOKUP($M$3,'Generación elec carb (%)'!$B$5:$J$32,11,FALSE) -> 2.0979207 | C13: =HLOOKUP($M$3,'Generación elec petró (%) '!$B$5:$J$332,11,FALSE) -> 4.0666684 | D13: =HLOOKUP($M$3,'Generación elec nuc (%)'!$B$5:$J$32,11,FALSE) -> 22.148982 | E13: =HLOOKUP($M$3,'Índice de prod ind (%)'!$B$5:$K$32,11,FALSE) -> -9.45 | F13: =HLOOKUP($M$3,'Volumen de vehículos'!$B$5:$J$32,11,FALSE) -> 30530791 | G13: =HLOOKUP($M$3,'PIB (€)'!$B$5:$J$32,11,FALSE) -> 1121948 | H13: =HLOOKUP($M$3,'Renta per cápita (€)'!$B$5:$J$32,11,FALSE) -> 23690 | I13: =HLOOKUP($M$3,'Emisiones CO2'!$B$5:$J$32,11,FALSE) -> 213602.99 | J13: =HLOOKUP($M$3,'Emisiones CH4'!$B$5:$J$32,11,FALSE) -> 39318.571
A14: Estonia | B14: =HLOOKUP($M$3,'Generación elec carb (%)'!$B$5:$J$32,12,FALSE) -> 0 | C14: =HLOOKUP($M$3,'Generación elec petró (%) '!$B$5:$J$332,12,FALSE) -> 0.36266778 | D14: =HLOOKUP($M$3,'Generación elec nuc (%)'!$B$5:$J$32,12,FALSE) -> 0 | E14: =HLOOKUP($M$3,'Índice de prod ind (%)'!$B$5:$K$32,12,FALSE) -> -2.6083333 | F14: =HLOOKUP($M$3,'Volumen de vehículos'!$B$5:$J$32,12,FALSE) -> 949276 | G14: =HLOOKUP($M$3,'PIB (€)'!$B$5:$J$32,12,FALSE) -> 26818 | H14: =HLOOKUP($M$3,'Renta per cápita (€)'!$B$5:$J$32,12,FALSE) -> 20190 | I14: =HLOOKUP($M$3,'Emisiones CO2'!$B$5:$J$32,12,FALSE) -> 6691.2104 | J14: =HLOOKUP($M$3,'Emisiones CH4'!$B$5:$J$32,12,FALSE) -> 1119.5086
A15: Finlandia | B15: =HLOOKUP($M$3,'Generación elec carb (%)'!$B$5:$J$32,13,FALSE) -> 3.5548741 | C15: =HLOOKUP($M$3,'Generación elec petró (%) '!$B$5:$J$332,13,FALSE) -> 0.29248043 | D15: =HLOOKUP($M$3,'Generación elec nuc (%)'!$B$5:$J$32,13,FALSE) -> 33.891352 | E15: =HLOOKUP($M$3,'Índice de prod ind (%)'!$B$5:$K$32,13,FALSE) -> -3.225 | F15: =HLOOKUP($M$3,'Volumen de vehículos'!$B$5:$J$32,13,FALSE) -> 4414336 | G15: =HLOOKUP($M$3,'PIB (€)'!$B$5:$J$32,13,FALSE) -> 237987 | H15: =HLOOKUP($M$3,'Renta per cápita (€)'!$B$5:$J$32,13,FALSE) -> 43030 | I15: =HLOOKUP($M$3,'Emisiones CO2'!$B$5:$J$32,13,FALSE) -> 35690.17 | J15: =HLOOKUP($M$3,'Emisiones CH4'!$B$5:$J$32,13,FALSE) -> 4550.9331
A16: Francia | B16: =HLOOKUP($M$3,'Generación elec carb (%)'!$B$5:$J$32,14,FALSE) -> 0.58101467 | C16: =HLOOKUP($M$3,'Generación elec petró (%) '!$B$5:$J$332,14,FALSE) -> 1.055891 | D16: =HLOOKUP($M$3,'Generación elec nuc (%)'!$B$5:$J$32,14,FALSE) -> 66.609972 | E16: =HLOOKUP($M$3,'Índice de prod ind (%)'!$B$5:$K$32,14,FALSE) -> -10.858333 | F16: =HLOOKUP($M$3,'Volumen de vehículos'!$B$5:$J$32,14,FALSE) -> 44914291 | G16: =HLOOKUP($M$3,'PIB (€)'!$B$5:$J$32,14,FALSE) -> 2309702.8 | H16: =HLOOKUP($M$3,'Renta per cápita (€)'!$B$5:$J$32,14,FALSE) -> 33980 | I16: =HLOOKUP($M$3,'Emisiones CO2'!$B$5:$J$32,14,FALSE) -> 294868.53 | J16: =HLOOKUP($M$3,'Emisiones CH4'!$B$5:$J$32,14,FALSE) -> 59365.5
A17: Grecia | B17: =HLOOKUP($M$3,'Generación elec carb (%)'!$B$5:$J$32,15,FALSE) -> 13.688585 | C17: =HLOOKUP($M$3,'Generación elec petró (%) '!$B$5:$J$332,15,FALSE) -> 9.7977148 | D17: =HLOOKUP($M$3,'Generación elec nuc (%)'!$B$5:$J$32,15,FALSE) -> 0 | E17: =HLOOKUP($M$3,'Índice de prod ind (%)'!$B$5:$K$32,15,FALSE) -> -2.0583333 | F17: =HLOOKUP($M$3,'Volumen de vehículos'!$B$5:$J$32,15,FALSE) -> 5518715 | G17: =HLOOKUP($M$3,'PIB (€)'!$B$5:$J$32,15,FALSE) -> 165857.8 | H17: =HLOOKUP($M$3,'Renta per cápita (€)'!$B$5:$J$32,15,FALSE) -> 15440 | I17: =HLOOKUP($M$3,'Emisiones CO2'!$B$5:$J$32,15,FALSE) -> 47320.605 | J17: =HLOOKUP($M$3,'Emisiones CH4'!$B$5:$J$32,15,FALSE) -> 9104.1122
A18: Hungría | B18: =HLOOKUP($M$3,'Generación elec carb (%)'!$B$5:$J$32,16,FALSE) -> 10.667778 | C18: =HLOOKUP($M$3,'Generación elec petró (%) '!$B$5:$J$332,16,FALSE) -> 0.12935867 | D18: =HLOOKUP($M$3,'Generación elec nuc (%)'!$B$5:$J$32,16,FALSE) -> 46.152298 | E18: =HLOOKUP($M$3,'Índice de prod ind (%)'!$B$5:$K$32,16,FALSE) -> -6.9166667 | F18: =HLOOKUP($M$3,'Volumen de vehículos'!$B$5:$J$32,16,FALSE) -> 4561943 | G18: =HLOOKUP($M$3,'PIB (€)'!$B$5:$J$32,16,FALSE) -> 137520.7 | H18: =HLOOKUP($M$3,'Renta per cápita (€)'!$B$5:$J$32,16,FALSE) -> 14100 | I18: =HLOOKUP($M$3,'Emisiones CO2'!$B$5:$J$32,16,FALSE) -> 50077.054 | J18: =HLOOKUP($M$3,'Emisiones CH4'!$B$5:$J$32,16,FALSE) -> 6961.3891
A19: Irlanda | B19: =HLOOKUP($M$3,'Generación elec carb (%)'!$B$5:$J$32,17,FALSE) -> 2.0724065 | C19: =HLOOKUP($M$3,'Generación elec petró (%) '!$B$5:$J$332,17,FALSE) -> 1.2181857 | D19: =HLOOKUP($M$3,'Generación elec nuc (%)'!$B$5:$J$32,17,FALSE) -> 0 | E19: =HLOOKUP($M$3,'Índice de prod ind (%)'!$B$5:$K$32,17,FALSE) -> 17.058333 | F19: =HLOOKUP($M$3,'Volumen de vehículos'!$B$5:$J$32,17,FALSE) -> 2751668 | G19: =HLOOKUP($M$3,'PIB (€)'!$B$5:$J$32,17,FALSE) -> 373819.1 | H19: =HLOOKUP($M$3,'Renta per cápita (€)'!$B$5:$J$32,17,FALSE) -> 74860 | I19: =HLOOKUP($M$3,'Emisiones CO2'!$B$5:$J$32,17,FALSE) -> 30383.084 | J19: =HLOOKUP($M$3,'Emisiones CH4'!$B$5:$J$32,17,FALSE) -> 15639.154
A20: Italia | B20: =HLOOKUP($M$3,'Generación elec carb (%)'!$B$5:$J$32,18,FALSE) -> 4.7778839 | C20: =HLOOKUP($M$3,'Generación elec petró (%) '!$B$5:$J$332,18,FALSE) -> 3.5865003 | D20: =HLOOKUP($M$3,'Generación elec nuc (%)'!$B$5:$J$32,18,FALSE) -> 0 | E20: =HLOOKUP($M$3,'Índice de prod ind (%)'!$B$5:$K$32,18,FALSE) -> -11.016667 | F20: =HLOOKUP($M$3,'Volumen de vehículos'!$B$5:$J$32,18,FALSE) -> 44980390 | G20: =HLOOKUP($M$3,'PIB (€)'!$B$5:$J$32,18,FALSE) -> 1655663.9 | H20: =HLOOKUP($M$3,'Renta per cápita (€)'!$B$5:$J$32,18,FALSE) -> 27880 | I20: =HLOOKUP($M$3,'Emisiones CO2'!$B$5:$J$32,18,FALSE) -> 290939.79 | J20: =HLOOKUP($M$3,'Emisiones CH4'!$B$5:$J$32,18,FALSE) -> 42993.353
A21: Letonia | B21: =HLOOKUP($M$3,'Generación elec carb (%)'!$B$5:$J$32,19,FALSE) -> 0 | C21: =HLOOKUP($M$3,'Generación elec petró (%) '!$B$5:$J$332,19,FALSE) -> 0.0018515782 | D21: =HLOOKUP($M$3,'Generación elec nuc (%)'!$B$5:$J$32,19,FALSE) -> 0 | E21: =HLOOKUP($M$3,'Índice de prod ind (%)'!$B$5:$K$32,19,FALSE) -> -1.85 | F21: =HLOOKUP($M$3,'Volumen de vehículos'!$B$5:$J$32,19,FALSE) -> 841958 | G21: =HLOOKUP($M$3,'PIB (€)'!$B$5:$J$32,19,FALSE) -> 29442.3 | H21: =HLOOKUP($M$3,'Renta per cápita (€)'!$B$5:$J$32,19,FALSE) -> 15500 | I21: =HLOOKUP($M$3,'Emisiones CO2'!$B$5:$J$32,19,FALSE) -> 6428.9958 | J21: =HLOOKUP($M$3,'Emisiones CH4'!$B$5:$J$32,19,FALSE) -> 1941.0201
A22: Lituania | B22: =HLOOKUP($M$3,'Generación elec carb (%)'!$B$5:$J$32,20,FALSE) -> 0 | C22: =HLOOKUP($M$3,'Generación elec petró (%) '!$B$5:$J$332,20,FALSE) -> 2.3216404 | D22: =HLOOKUP($M$3,'Generación elec nuc (%)'!$B$5:$J$32,20,FALSE) -> 0 | E22: =HLOOKUP($M$3,'Índice de prod ind (%)'!$B$5:$K$32,20,FALSE) -> -1.7583333 | F22: =HLOOKUP($M$3,'Volumen de vehículos'!$B$5:$J$32,20,FALSE) -> 1727868 | G22: =HLOOKUP($M$3,'PIB (€)'!$B$5:$J$32,20,FALSE) -> 49503.6 | H22: =HLOOKUP($M$3,'Renta per cápita (€)'!$B$5:$J$32,20,FALSE) -> 17710 | I22: =HLOOKUP($M$3,'Emisiones CO2'!$B$5:$J$32,20,FALSE) -> 13863.537 | J22: =HLOOKUP($M$3,'Emisiones CH4'!$B$5:$J$32,20,FALSE) -> 2923.7149
A23: Luxemburgo | B23: =HLOOKUP($M$3,'Generación elec carb (%)'!$B$5:$J$32,21,FALSE) -> 0 | C23: =HLOOKUP($M$3,'Generación elec petró (%) '!$B$5:$J$332,21,FALSE) -> 0.00044764741 | D23: =HLOOKUP($M$3,'Generación elec nuc (%)'!$B$5:$J$32,21,FALSE) -> 0 | E23: =HLOOKUP($M$3,'Índice de prod ind (%)'!$B$5:$K$32,21,FALSE) -> -10.6 | F23: =HLOOKUP($M$3,'Volumen de vehículos'!$B$5:$J$32,21,FALSE) -> 488011 | G23: =HLOOKUP($M$3,'PIB (€)'!$B$5:$J$32,21,FALSE) -> 64166.4 | H23: =HLOOKUP($M$3,'Renta per cápita (€)'!$B$5:$J$32,21,FALSE) -> 101760 | I23: =HLOOKUP($M$3,'Emisiones CO2'!$B$5:$J$32,21,FALSE) -> 7283.343 | J23: =HLOOKUP($M$3,'Emisiones CH4'!$B$5:$J$32,21,FALSE) -> 561.64843
A24: Malta | B24: =HLOOKUP($M$3,'Generación elec carb (%)'!$B$5:$J$32,22,FALSE) -> 0 | C24: =HLOOKUP($M$3,'Generación elec petró (%) '!$B$5:$J$332,22,FALSE) -> 2.7849094 | D24: =HLOOKUP($M$3,'Generación elec nuc (%)'!$B$5:$J$32,22,FALSE) -> 0 | E24: =HLOOKUP($M$3,'Índice de prod ind (%)'!$B$5:$K$32,22,FALSE) -> -0.083333333 | F24: =HLOOKUP($M$3,'Volumen de vehículos'!$B$5:$J$32,22,FALSE) -> 366545 | G24: =HLOOKUP($M$3,'PIB (€)'!$B$5:$J$32,22,FALSE) -> 13065.9 | H24: =HLOOKUP($M$3,'Renta per cápita (€)'!$B$5:$J$32,22,FALSE) -> 25330 | I24: =HLOOKUP($M$3,'Emisiones CO2'!$B$5:$J$32,22,FALSE) -> 1640.1673 | J24: =HLOOKUP($M$3,'Emisiones CH4'!$B$5:$J$32,22,FALSE) -> 215.23197
