Workbook

Sheet Bronchial  cell death
A1: Purpose: measure apoptosis in bronchial epithelial cells | M1: Scoring system
A2: 10 40X fields | M2: 0 | N2: 0 apoptotic bodies per 40X field
M3: 1 | N3: 1-5 apoptotic bodies per 40X field
B4: field | M4: 2 | N4: 6-10 apoptotic bodies per 40X field
A5: Mouse | B5: 1 | C5: 2 | D5: 3 | E5: 4 | F5: 5 | G5: 6 | H5: 7 | I5: 8 | J5: 9 | K5: 10 | L5: Mean | M5: 3 | N5: 11-20 apoptotic bodies per 40X field
A6: M1.2 | B6: 1 | C6: 4 | D6: 4 | E6: 1 | F6: 0 | G6: 1 | H6: 1 | I6: 2 | J6: 1 | K6: 4 | L6: =AVERAGE(B6:K6) -> 1.9 | M6: 4 | N6: >20 apoptotic bodies per 40X field
A7: M2.2 | B7: 4 | C7: 4 | D7: 1 | E7: 2 | F7: 1 | G7: 4 | H7: 0 | I7: 0 | J7: 4 | K7: 4 | L7: =AVERAGE(B7:K7) -> 2.4
A8: M3.2 | B8: 0 | C8: 4 | D8: 1 | E8: 2 | F8: 3 | G8: 4 | H8: 1 | I8: 3 | J8: 1 | K8: 3 | L8: =AVERAGE(B8:K8) -> 2.2
A9: F1.2 | B9: 4 | C9: 2 | D9: 4 | E9: 4 | F9: 3 | G9: 0 | H9: 4 | I9: 3 | J9: 1 | K9: 2 | L9: =AVERAGE(B9:K9) -> 2.7
A10: F2.2 | B10: 3 | C10: 4 | D10: 1 | E10: 2 | F10: 1 | G10: 4 | H10: 3 | I10: 0 | J10: 3 | K10: 1 | L10: =AVERAGE(B10:K10) -> 2.2
A11: F3.2 | B11: 0 | C11: 0 | D11: 0 | E11: 0 | F11: 0 | G11: 4 | H11: 1 | I11: 0 | J11: 0 | K11: 0 | L11: =AVERAGE(B11:K11) -> 0.5
A12: M1.4 | B12: 0 | C12: 0 | D12: 0 | E12: 0 | F12: 1 | G12: 0 | H12: 0 | I12: 0 | J12: 0 | K12: 0 | L12: =AVERAGE(B12:K12) -> 0.1
A13: M2.4 | B13: 0 | C13: 0 | D13: 0 | E13: 1 | F13: 0 | G13: 1 | H13: 1 | I13: 0 | J13: 1 | K13: 0 | L13: =AVERAGE(B13:K13) -> 0.4
A14: M3.4 | B14: 2 | C14: 1 | D14: 0 | E14: 0 | F14: 0 | G14: 0 | H14: 1 | I14: 0 | J14: 0 | K14: 1 | L14: =AVERAGE(B14:K14) -> 0.5
A15: F1.4 | B15: 1 | C15: 1 | D15: 1 | E15: 1 | F15: 0 | G15: 1 | H15: 0 | I15: 0 | J15: 1 | K15: 1 | L15: =AVERAGE(B15:K15) -> 0.7
A16: F2.4 | B16: 1 | C16: 0 | D16: 1 | E16: 1 | F16: 0 | G16: 0 | H16: 0 | I16: 0 | J16: 1 | K16: 0 | L16: =AVERAGE(B16:K16) -> 0.4
A17: F3.4 | B17: 0 | C17: 0 | D17: 0 | E17: 0 | F17: 0 | G17: 0 | H17: 0 | I17: 1 | J17: 0 | K17: 0 | L17: =AVERAGE(B17:K17) -> 0.1
A18: M1.7 | L18: =AVERAGE(B18:K18) -> #DIV/0!
A19: M2.7 | B19: 0 | C19: 0 | D19: 1 | E19: 1 | F19: 0 | G19: 0 | H19: 0 | I19: 0 | J19: 0 | K19: 1 | L19: =AVERAGE(B19:K19) -> 0.3
A20: M3.7 | B20: 1 | C20: 0 | D20: 1 | E20: 1 | F20: 1 | G20: 0 | H20: 0 | I20: 0 | J20: 0 | K20: 1 | L20: =AVERAGE(B20:K20) -> 0.5
A21: F3.7 | B21: 0 | C21: 1 | D21: 0 | E21: 0 | F21: 0 | G21: 0 | H21: 1 | I21: 0 | J21: 1 | K21: 0 | L21: =AVERAGE(B21:K21) -> 0.3
A22: F2.7 | B22: 0 | C22: 1 | D22: 0 | E22: 0 | F22: 0 | G22: 0 | H22: 1 | I22: 0 | J22: 0 | K22: 0 | L22: =AVERAGE(B22:K22) -> 0.2
A23: F1.7 | L23: =AVERAGE(B23:K23) -> #DIV/0!
A24: M1M | B24: 0 | C24: 0 | D24: 0 | E24: 0 | F24: 0 | G24: 0 | H24: 0 | I24: 0 | J24: 0 | K24: 0 | L24: =AVERAGE(B24:K24) -> 0
A25: M2M | B25: 0 | C25: 0 | D25: 0 | E25: 0 | F25: 0 | G25: 1 | H25: 0 | I25: 0 | J25: 0 | K25: 0 | L25: =AVERAGE(B25:K25) -> 0.1
A26: M3M | B26: 0 | C26: 0 | D26: 0 | E26: 0 | F26: 0 | G26: 0 | H26: 0 | I26: 0 | J26: 1 | K26: 0 | L26: =AVERAGE(B26:K26) -> 0.1
A27: F3M | B27: 0 | C27: 0 | D27: 0 | E27: 0 | F27: 0 | G27: 0 | H27: 0 | I27: 0 | J27: 0 | K27: 0 | L27: =AVERAGE(B27:K27) -> 0
A28: F2M | B28: 0 | C28: 0 | D28: 0 | E28: 0 | F28: 0 | G28: 0 | H28: 0 | I28: 0 | J28: 0 | K28: 0 | L28: =AVERAGE(B28:K28) -> 0
A29: F1M | B29: 0 | C29: 0 | D29: 0 | E29: 0 | F29: 0 | G29: 0 | H29: 0 | I29: 1 | J29: 0 | K29: 0 | L29: =AVERAGE(B29:K29) -> 0.1

Sheet peribronchial inflammation
A1: Purpose: quantify peribronchial inflammation | M1: Scoring system
A2: 10 40X fields | M2: 0 | N2: none
M3: 1 | N3: 0-25% circumference with >1 leukocyte cell layer
B4: field | M4: 2 | N4: 26-50% circumference with >1 leukocyte cell layer
A5: Mouse | B5: 1 | C5: 2 | D5: 3 | E5: 4 | F5: 5 | G5: 6 | H5: 7 | I5: 8 | J5: 9 | K5: 10 | L5: Mean | M5: 3 | N5: 50-100% circumference with >1 leukocyte cell layer
A6: ='Bronchial cell death'!A6 -> M1.2 | B6: 0 | C6: 0 | D6: 0 | E6: 0 | F6: 0 | G6: 0 | H6: 0 | I6: 0 | J6: 1 | K6: 1 | L6: =AVERAGE(B6:K6) -> 0.2
A7: ='Bronchial cell death'!A7 -> M2.2 | B7: 0 | C7: 0 | D7: 0 | E7: 0 | F7: 1 | G7: 1 | H7: 0 | I7: 0 | J7: 1 | K7: 0 | L7: =AVERAGE(B7:K7) -> 0.3
A8: ='Bronchial cell death'!A8 -> M3.2 | B8: 0 | C8: 1 | D8: 0 | E8: 0 | F8: 0 | G8: 0 | H8: 1 | I8: 0 | J8: 0 | K8: 0 | L8: =AVERAGE(B8:K8) -> 0.2
A9: ='Bronchial cell death'!A9 -> F1.2 | B9: 1 | C9: 0 | D9: 0 | E9: 0 | F9: 0 | G9: 0 | H9: 0 | I9: 2 | J9: 1 | K9: 1 | L9: =AVERAGE(B9:K9) -> 0.5
A10: ='Bronchial cell death'!A10 -> F2.2 | B10: 0 | C10: 0 | D10: 0 | E10: 0 | F10: 0 | G10: 0 | H10: 1 | I10: 0 | J10: 0 | K10: 0 | L10: =AVERAGE(B10:K10) -> 0.1
A11: ='Bronchial cell death'!A11 -> F3.2 | B11: 0 | C11: 2 | D11: 0 | E11: 0 | F11: 0 | G11: 0 | H11: 0 | I11: 0 | J11: 0 | K11: 0 | L11: =AVERAGE(B11:K11) -> 0.2
A12: ='Bronchial cell death'!A12 -> M1.4 | B12: 0 | C12: 0 | D12: 1 | E12: 1 | F12: 0 | G12: 0 | H12: 0 | I12: 0 | J12: 0 | K12: 1 | L12: =AVERAGE(B12:K12) -> 0.3
A13: ='Bronchial cell death'!A13 -> M2.4 | B13: 0 | C13: 0 | D13: 0 | E13: 0 | F13: 1 | G13: 0 | H13: 0 | I13: 0 | J13: 0 | K13: 0 | L13: =AVERAGE(B13:K13) -> 0.1
A14: ='Bronchial cell death'!A14 -> M3.4 | B14: 0 | C14: 0 | D14: 0 | E14: 0 | F14: 1 | G14: 1 | H14: 0 | I14: 1 | J14: 0 | K14: 0 | L14: =AVERAGE(B14:K14) -> 0.3
A15: ='Bronchial cell death'!A15 -> F1.4 | B15: 1 | C15: 0 | D15: 0 | E15: 1 | F15: 0 | G15: 0 | H15: 0 | I15: 0 | J15: 0 | K15: 1 | L15: =AVERAGE(B15:K15) -> 0.3
A16: ='Bronchial cell death'!A16 -> F2.4 | B16: 0 | C16: 0 | D16: 1 | E16: 1 | F16: 0 | G16: 0 | H16: 1 | I16: 1 | J16: 0 | K16: 0 | L16: =AVERAGE(B16:K16) -> 0.4
A17: ='Bronchial cell death'!A17 -> F3.4 | B17: 0 | C17: 0 | D17: 0 | E17: 0 | F17: 0 | G17: 0 | H17: 0 | I17: 0 | J17: 0 | K17: 0 | L17: =AVERAGE(B17:K17) -> 0
A18: ='Bronchial cell death'!A18 -> M1.7 | L18: =AVERAGE(B18:K18) -> #DIV/0!
A19: ='Bronchial cell death'!A19 -> M2.7 | B19: 0 | C19: 0 | D19: 1 | E19: 2 | F19: 1 | G19: 2 | H19: 1 | I19: 1 | J19: 1 | K19: 2 | L19: =AVERAGE(B19:K19) -> 1.1
A20: ='Bronchial cell death'!A20 -> M3.7 | B20: 0 | C20: 1 | D20: 1 | E20: 0 | F20: 1 | G20: 1 | H20: 2 | I20: 2 | J20: 1 | K20: 1 | L20: =AVERAGE(B20:K20) -> 1
A21: ='Bronchial cell death'!A21 -> F3.7 | B21: 1 | C21: 1 | D21: 1 | E21: 1 | F21: 1 | G21: 1 | H21: 2 | I21: 2 | J21: 1 | K21: 2 | L21: =AVERAGE(B21:K21) -> 1.3
A22: ='Bronchial cell death'!A22 -> F2.7 | B22: 0 | C22: 1 | D22: 1 | E22: 1 | F22: 1 | G22: 1 | H22: 1 | I22: 1 | J22: 0 | K22: 0 | L22: =AVERAGE(B22:K22) -> 0.7
A23: ='Bronchial cell death'!A23 -> F1.7 | L23: =AVERAGE(B23:K23) -> #DIV/0!
A24: ='Bronchial cell death'!A24 -> M1M | B24: 0 | C24: 0 | D24: 0 | E24: 0 | F24: 0 | G24: 0 | H24: 0 | I24: 0 | J24: 0 | K24: 0 | L24: =AVERAGE(B24:K24) -> 0
A25: ='Bronchial cell death'!A25 -> M2M | B25: 0 | C25: 0 | D25: 0 | E25: 0 | F25: 0 | G25: 0 | H25: 0 | I25: 0 | J25: 0 | K25: 0 | L25: =AVERAGE(B25:K25) -> 0
A26: ='Bronchial cell death'!A26 -> M3M | B26: 0 | C26: 0 | D26: 0 | E26: 0 | F26: 1 | G26: 0 | H26: 0 | I26: 0 | J26: 0 | K26: 0 | L26: =AVERAGE(B26:K26) -> 0.1
A27: ='Bronchial cell death'!A27 -> F3M | B27: 0 | C27: 0 | D27: 0 | E27: 0 | F27: 0 | G27: 0 | H27: 0 | I27: 1 | J27: 0 | K27: 0 | L27: =AVERAGE(B27:K27) -> 0.1
A28: ='Bronchial cell death'!A28 -> F2M | B28: 0 | C28: 0 | D28: 0 | E28: 0 | F28: 0 | G28: 0 | H28: 0 | I28: 0 | J28: 0 | K28: 0 | L28: =AVERAGE(B28:K28) -> 0
A29: ='Bronchial cell death'!A29 -> F1M | B29: 0 | C29: 0 | D29: 0 | E29: 1 | F29: 0 | G29: 0 | H29: 0 | I29: 0 | J29: 0 | K29: 0 | L29: =AVERAGE(B29:K29) -> 0.1

Sheet periarterial inflammation
A1: Purpose: quantify periarterial inflammation | M1: Scoring system
A2: 10 40X fields | M2: 0 | N2: none
M3: 1 | N3: 0-25% circumference with >1 leukocyte cell layer
B4: field | M4: 2 | N4: 26-50% circumference with >1 leukocyte cell layer
A5: Mouse | B5: 1 | C5: 2 | D5: 3 | E5: 4 | F5: 5 | G5: 6 | H5: 7 | I5: 8 | J5: 9 | K5: 10 | L5: Mean | M5: 3 | N5: 50-100% circumference with >1 leukocyte cell layer
A6: ='Bronchial cell death'!A6 -> M1.2 | B6: 0 | C6: 0 | D6: 1 | E6: 0 | F6: 0 | G6: 0 | H6: 0 | I6: 0 | J6: 0 | K6: 3 | L6: =AVERAGE(B6:K6) -> 0.4
A7: ='Bronchial cell death'!A7 -> M2.2 | B7: 1 | C7: 0 | D7: 0 | E7: 0 | F7: 0 | G7: 0 | H7: 0 | I7: 1 | J7: 0 | K7: 1 | L7: =AVERAGE(B7:K7) -> 0.3
A8: ='Bronchial cell death'!A8 -> M3.2 | B8: 0 | C8: 1 | D8: 0 | E8: 0 | F8: 0 | G8: 0 | H8: 0 | I8: 0 | J8: 0 | K8: 0 | L8: =AVERAGE(B8:K8) -> 0.1
A9: ='Bronchial cell death'!A9 -> F1.2 | B9: 0 | C9: 1 | D9: 0 | E9: 0 | F9: 0 | G9: 0 | H9: 0 | I9: 0 | J9: 1 | K9: 0 | L9: =AVERAGE(B9:K9) -> 0.2
A10: ='Bronchial cell death'!A10 -> F2.2 | B10: 0 | C10: 0 | D10: 0 | E10: 0 | F10: 0 | G10: 0 | H10: 0 | I10: 0 | J10: 0 | K10: 0 | L10: =AVERAGE(B10:K10) -> 0
A11: ='Bronchial cell death'!A11 -> F3.2 | B11: 0 | C11: 0 | D11: 0 | E11: 0 | F11: 0 | G11: 1 | H11: 0 | I11: 0 | J11: 0 | K11: 0 | L11: =AVERAGE(B11:K11) -> 0.1
A12: ='Bronchial cell death'!A12 -> M1.4 | B12: 0 | C12: 0 | D12: 0 | E12: 0 | F12: 1 | G12: 0 | H12: 0 | I12: 0 | J12: 1 | K12: 0 | L12: =AVERAGE(B12:K12) -> 0.2
A13: ='Bronchial cell death'!A13 -> M2.4 | B13: 0 | C13: 0 | D13: 1 | E13: 1 | F13: 0 | G13: 0 | H13: 0 | I13: 0 | J13: 0 | K13: 0 | L13: =AVERAGE(B13:K13) -> 0.2
A14: ='Bronchial cell death'!A14 -> M3.4 | B14: 2 | C14: 1 | D14: 0 | E14: 0 | F14: 1 | G14: 3 | H14: 2 | I14: 0 | J14: 0 | K14: 0 | L14: =AVERAGE(B14:K14) -> 0.9
A15: ='Bronchial cell death'!A15 -> F1.4 | B15: 0 | C15: 0 | D15: 0 | E15: 1 | F15: 0 | G15: 0 | H15: 0 | I15: 0 | J15: 1 | K15: 0 | L15: =AVERAGE(B15:K15) -> 0.2
A16: ='Bronchial cell death'!A16 -> F2.4 | B16: 0 | C16: 0 | D16: 0 | E16: 1 | F16: 0 | G16: 0 | H16: 0 | I16: 0 | J16: 0 | K16: 1 | L16: =AVERAGE(B16:K16) -> 0.2
A17: ='Bronchial cell death'!A17 -> F3.4 | B17: 0 | C17: 0 | D17: 0 | E17: 0 | F17: 0 | G17: 0 | H17: 0 | I17: 0 | J17: 0 | K17: 0 | L17: =AVERAGE(B17:K17) -> 0
A18: ='Bronchial cell death'!A18 -> M1.7 | L18: =AVERAGE(B18:K18) -> #DIV/0!
A19: ='Bronchial cell death'!A19 -> M2.7 | B19: 2 | C19: 1 | D19: 2 | E19: 2 | F19: 1 | G19: 1 | H19: 1 | I19: 0 | J19: 1 | K19: 1 | L19: =AVERAGE(B19:K19) -> 1.2
A20: ='Bronchial cell death'!A20 -> M3.7 | B20: 3 | C20: 1 | D20: 1 | E20: 1 | F20: 1 | G20: 1 | H20: 3 | I20: 1 | J20: 0 | K20: 0 | L20: =AVERAGE(B20:K20) -> 1.2
A21: ='Bronchial cell death'!A21 -> F3.7 | B21: 2 | C21: 3 | D21: 1 | E21: 2 | F21: 2 | G21: 1 | H21: 0 | I21: 1 | J21: 2 | K21: 3 | L21: =AVERAGE(B21:K21) -> 1.7
A22: ='Bronchial cell death'!A22 -> F2.7 | B22: 0 | C22: 1 | D22: 2 | E22: 1 | F22: 2 | G22: 0 | H22: 1 | I22: 0 | J22: 1 | K22: 0 | L22: =AVERAGE(B22:K22) -> 0.8
A23: ='Bronchial cell death'!A23 -> F1.7 | L23: =AVERAGE(B23:K23) -> #DIV/0!
A24: ='Bronchial cell death'!A24 -> M1M | B24: 0 | C24: 0 | D24: 0 | E24: 0 | F24: 0 | G24: 0 | H24: 0 | I24: 0 | J24: 0 | K24: 0 | L24: =AVERAGE(B24:K24) -> 0
A25: ='Bronchial cell death'!A25 -> M2M | B25: 0 | C25: 0 | D25: 0 | E25: 0 | F25: 0 | G25: 0 | H25: 0 | I25: 0 | J25: 0 | K25: 0 | L25: =AVERAGE(B25:K25) -> 0
A26: ='Bronchial cell death'!A26 -> M3M | B26: 0 | C26: 0 | D26: 1 | E26: 0 | F26: 0 | G26: 0 | H26: 0 | I26: 0 | J26: 0 | K26: 0 | L26: =AVERAGE(B26:K26) -> 0.1
A27: ='Bronchial cell death'!A27 -> F3M | B27: 0 | C27: 0 | D27: 0 | E27: 0 | F27: 0 | G27: 0 | H27: 0 | I27: 0 | J27: 0 | K27: 0 | L27: =AVERAGE(B27:K27) -> 0
A28: ='Bronchial cell death'!A28 -> F2M | B28: 0 | C28: 0 | D28: 0 | E28: 0 | F28: 0 | G28: 0 | H28: 0 | I28: 0 | J28: 0 | K28: 0 | L28: =AVERAGE(B28:K28) -> 0
A29: ='Bronchial cell death'!A29 -> F1M | B29: 0 | C29: 0 | D29: 0 | E29: 1 | F29: 0 | G29: 0 | H29: 0 | I29: 0 | J29: 0 | K29: 0 | L29: =AVERAGE(B29:K29) -> 0.1

Sheet endarteritis
A1: Purpose: quantify endarterial inflammation | M1: Scoring system
A2: 10 40X fields | M2: 0 | N2: none
M3: 1 | N3: 0-25% circumference with ≥1 leukocyte cell layer
B4: field | M4: 2 | N4: 26-50% circumference with ≥1 leukocyte cell layer
A5: Mouse | B5: 1 | C5: 2 | D5: 3 | E5: 4 | F5: 5 | G5: 6 | H5: 7 | I5: 8 | J5: 9 | K5: 10 | L5: Mean | M5: 3 | N5: 50-100% circumference with ≥1 leukocyte cell layer
A6: ='Bronchial cell death'!A6 -> M1.2 | B6: 3 | C6: 3 | D6: 2 | E6: 3 | F6: 1 | G6: 3 | H6: 3 | I6: 3 | J6: 2 | K6: 1 | L6: =AVERAGE(B6:K6) -> 2.4
A7: ='Bronchial cell death'!A7 -> M2.2 | B7: 3 | C7: 0 | D7: 0 | E7: 1 | F7: 0 | G7: 0 | H7: 0 | I7: 3 | J7: 1 | K7: 2 | L7: =AVERAGE(B7:K7) -> 1
A8: ='Bronchial cell death'!A8 -> M3.2 | B8: 0 | C8: 1 | D8: 0 | E8: 0 | F8: 1 | G8: 0 | H8: 0 | I8: 1 | J8: 0 | K8: 1 | L8: =AVERAGE(B8:K8) -> 0.4
A9: ='Bronchial cell death'!A9 -> F1.2 | B9: 3 | C9: 3 | D9: 0 | E9: 0 | F9: 0 | G9: 0 | H9: 0 | I9: 0 | J9: 2 | K9: 3 | L9: =AVERAGE(B9:K9) -> 1.1
A10: ='Bronchial cell death'!A10 -> F2.2 | B10: 3 | C10: 3 | D10: 1 | E10: 1 | F10: 0 | G10: 0 | H10: 3 | I10: 0 | J10: 2 | K10: 1 | L10: =AVERAGE(B10:K10) -> 1.4
A11: ='Bronchial cell death'!A11 -> F3.2 | B11: 0 | C11: 2 | D11: 0 | E11: 0 | F11: 0 | G11: 0 | H11: 0 | I11: 0 | J11: 0 | K11: 0 | L11: =AVERAGE(B11:K11) -> 0.2
A12: ='Bronchial cell death'!A12 -> M1.4 | B12: 3 | C12: 0 | D12: 1 | E12: 3 | F12: 0 | G12: 1 | H12: 0 | I12: 3 | J12: 0 | K12: 0 | L12: =AVERAGE(B12:K12) -> 1.1
A13: ='Bronchial cell death'!A13 -> M2.4 | B13: 1 | C13: 1 | D13: 1 | E13: 1 | F13: 0 | G13: 0 | H13: 0 | I13: 2 | J13: 2 | K13: 1 | L13: =AVERAGE(B13:K13) -> 0.9
A14: ='Bronchial cell death'!A14 -> M3.4 | B14: 0 | C14: 0 | D14: 1 | E14: 1 | F14: 1 | G14: 3 | H14: 1 | I14: 0 | J14: 1 | K14: 1 | L14: =AVERAGE(B14:K14) -> 0.9
A15: ='Bronchial cell death'!A15 -> F1.4 | B15: 0 | C15: 0 | D15: 0 | E15: 1 | F15: 0 | G15: 0 | H15: 1 | I15: 2 | J15: 3 | K15: 0 | L15: =AVERAGE(B15:K15) -> 0.7
A16: ='Bronchial cell death'!A16 -> F2.4 | B16: 1 | C16: 1 | D16: 1 | E16: 1 | F16: 0 | G16: 0 | H16: 0 | I16: 1 | J16: 0 | K16: 2 | L16: =AVERAGE(B16:K16) -> 0.7
A17: ='Bronchial cell death'!A17 -> F3.4 | B17: 1 | C17: 1 | D17: 3 | E17: 2 | F17: 0 | G17: 2 | H17: 0 | I17: 0 | J17: 0 | K17: 0 | L17: =AVERAGE(B17:K17) -> 0.9
A18: ='Bronchial cell death'!A18 -> M1.7 | L18: =AVERAGE(B18:K18) -> #DIV/0!
A19: ='Bronchial cell death'!A19 -> M2.7 | B19: 1 | C19: 0 | D19: 1 | E19: 3 | F19: 2 | G19: 0 | H19: 0 | I19: 0 | J19: 0 | K19: 1 | L19: =AVERAGE(B19:K19) -> 0.8
A20: ='Bronchial cell death'!A20 -> M3.7 | B20: 3 | C20: 2 | D20: 1 | E20: 3 | F20: 3 | G20: 3 | H20: 2 | I20: 0 | J20: 0 | K20: 0 | L20: =AVERAGE(B20:K20) -> 1.7
A21: ='Bronchial cell death'!A21 -> F3.7 | B21: 0 | C21: 1 | D21: 0 | E21: 1 | F21: 0 | G21: 2 | H21: 0 | I21: 0 | J21: 3 | K21: 3 | L21: =AVERAGE(B21:K21) -> 1
A22: ='Bronchial cell death'!A22 -> F2.7 | B22: 0 | C22: 0 | D22: 0 | E22: 0 | F22: 0 | G22: 0 | H22: 1 | I22: 3 | J22: 1 | K22: 1 | L22: =AVERAGE(B22:K22) -> 0.6
A23: ='Bronchial cell death'!A23 -> F1.7 | L23: =AVERAGE(B23:K23) -> #DIV/0!
A24: ='Bronchial cell death'!A24 -> M1M | B24: 0 | C24: 0 | D24: 0 | E24: 0 | F24: 0 | G24: 0 | H24: 0 | I24: 0 | J24: 0 | K24: 0 | L24: =AVERAGE(B24:K24) -> 0
A25: ='Bronchial cell death'!A25 -> M2M | B25: 0 | C25: 0 | D25: 0 | E25: 0 | F25: 0 | G25: 0 | H25: 0 | I25: 0 | J25: 0 | K25: 0 | L25: =AVERAGE(B25:K25) -> 0
A26: ='Bronchial cell death'!A26 -> M3M | B26: 0 | C26: 0 | D26: 1 | E26: 0 | F26: 0 | G26: 0 | H26: 0 | I26: 0 | J26: 0 | K26: 0 | L26: =AVERAGE(B26:K26) -> 0.1
A27: ='Bronchial cell death'!A27 -> F3M | B27: 0 | C27: 1 | D27: 0 | E27: 0 | F27: 0 | G27: 0 | H27: 0 | I27: 1 | J27: 0 | K27: 0 | L27: =AVERAGE(B27:K27) -> 0.2
A28: ='Bronchial cell death'!A28 -> F2M | B28: 0 | C28: 0 | D28: 0 | E28: 0 | F28: 0 | G28: 0 | H28: 0 | I28: 0 | J28: 0 | K28: 0 | L28: =AVERAGE(B28:K28) -> 0
A29: ='Bronchial cell death'!A29 -> F1M | B29: 0 | C29: 0 | D29: 0 | E29: 3 | F29: 0 | G29: 0 | H29: 1 | I29: 0 | J29: 0 | K29: 0 | L29: =AVERAGE(B29:K29) -> 0.4

Sheet venulitis
A1: Purpose: quantify endovenular inflammation | M1: Scoring system
A2: 10 40X fields | M2: 0 | N2: none
M3: 1 | N3: 0-25% circumference with >1 leukocyte cell layer
B4: field | M4: 2 | N4: 26-50% circumference with >1 leukocyte cell layer
A5: Mouse | B5: 1 | C5: 2 | D5: 3 | E5: 4 | F5: 5 | G5: 6 | H5: 7 | I5: 8 | J5: 9 | K5: 10 | L5: Mean | M5: 3 | N5: 50-100% circumference with >1 leukocyte cell layer
A6: ='Bronchial cell death'!A6 -> M1.2 | B6: 1 | C6: 2 | D6: 3 | E6: 3 | F6: 2 | G6: 3 | H6: 1 | I6: 0 | J6: 1 | K6: 0 | L6: =AVERAGE(B6:K6) -> 1.6
A7: ='Bronchial cell death'!A7 -> M2.2 | B7: 2 | C7: 1 | D7: 2 | E7: 2 | F7: 2 | G7: 1 | H7: 0 | I7: 0 | J7: 0 | K7: 3 | L7: =AVERAGE(B7:K7) -> 1.3
A8: ='Bronchial cell death'!A8 -> M3.2 | B8: 2 | C8: 1 | D8: 1 | E8: 1 | F8: 1 | G8: 1 | H8: 1 | I8: 0 | J8: 0 | K8: 2 | L8: =AVERAGE(B8:K8) -> 1
A9: ='Bronchial cell death'!A9 -> F1.2 | B9: 1 | C9: 1 | D9: 0 | E9: 0 | F9: 1 | G9: 2 | H9: 0 | I9: 0 | J9: 1 | K9: 1 | L9: =AVERAGE(B9:K9) -> 0.7
A10: ='Bronchial cell death'!A10 -> F2.2 | B10: 1 | C10: 2 | D10: 1 | E10: 0 | F10: 0 | G10: 1 | H10: 0 | I10: 0 | J10: 0 | K10: 2 | L10: =AVERAGE(B10:K10) -> 0.7
A11: ='Bronchial cell death'!A11 -> F3.2 | B11: 0 | C11: 1 | D11: 0 | E11: 0 | F11: 0 | G11: 0 | H11: 0 | I11: 0 | J11: 0 | K11: 0 | L11: =AVERAGE(B11:K11) -> 0.1
A12: ='Bronchial cell death'!A12 -> M1.4 | B12: 0 | C12: 0 | D12: 1 | E12: 0 | F12: 0 | G12: 0 | H12: 0 | I12: 1 | J12: 1 | K12: 0 | L12: =AVERAGE(B12:K12) -> 0.3
A13: ='Bronchial cell death'!A13 -> M2.4 | B13: 0 | C13: 0 | D13: 0 | E13: 1 | F13: 1 | G13: 0 | H13: 0 | I13: 0 | J13: 0 | K13: 0 | L13: =AVERAGE(B13:K13) -> 0.2
A14: ='Bronchial cell death'!A14 -> M3.4 | B14: 0 | C14: 0 | D14: 0 | E14: 1 | F14: 0 | G14: 0 | H14: 0 | I14: 0 | J14: 0 | K14: 0 | L14: =AVERAGE(B14:K14) -> 0.1
A15: ='Bronchial cell death'!A15 -> F1.4 | B15: 0 | C15: 0 | D15: 0 | E15: 0 | F15: 0 | G15: 1 | H15: 0 | I15: 0 | J15: 0 | K15: 0 | L15: =AVERAGE(B15:K15) -> 0.1
A16: ='Bronchial cell death'!A16 -> F2.4 | B16: 0 | C16: 0 | D16: 0 | E16: 0 | F16: 1 | G16: 0 | H16: 1 | I16: 2 | J16: 0 | K16: 1 | L16: =AVERAGE(B16:K16) -> 0.5
A17: ='Bronchial cell death'!A17 -> F3.4 | B17: 0 | C17: 1 | D17: 0 | E17: 0 | F17: 0 | G17: 0 | H17: 0 | I17: 0 | J17: 0 | K17: 0 | L17: =AVERAGE(B17:K17) -> 0.1
A18: ='Bronchial cell death'!A18 -> M1.7 | L18: =AVERAGE(B18:K18) -> #DIV/0!
A19: ='Bronchial cell death'!A19 -> M2.7 | B19: 1 | C19: 0 | D19: 0 | E19: 0 | F19: 0 | G19: 1 | H19: 1 | I19: 2 | J19: 0 | K19: 1 | L19: =AVERAGE(B19:K19) -> 0.6
A20: ='Bronchial cell death'!A20 -> M3.7 | B20: 0 | C20: 0 | D20: 0 | E20: 0 | F20: 1 | G20: 0 | H20: 1 | I20: 1 | J20: 0 | K20: 1 | L20: =AVERAGE(B20:K20) -> 0.4
A21: ='Bronchial cell death'!A21 -> F3.7 | B21: 0 | C21: 0 | D21: 0 | E21: 1 | F21: 0 | G21: 0 | H21: 1 | I21: 0 | J21: 1 | K21: 0 | L21: =AVERAGE(B21:K21) -> 0.3
A22: ='Bronchial cell death'!A22 -> F2.7 | B22: 0 | C22: 0 | D22: 0 | E22: 0 | F22: 0 | G22: 0 | H22: 0 | I22: 0 | J22: 0 | K22: 0 | L22: =AVERAGE(B22:K22) -> 0
A23: ='Bronchial cell death'!A23 -> F1.7 | L23: =AVERAGE(B23:K23) -> #DIV/0!
A24: ='Bronchial cell death'!A24 -> M1M | B24: 0 | C24: 0 | D24: 0 | E24: 0 | F24: 0 | G24: 0 | H24: 0 | I24: 0 | J24: 0 | K24: 0 | L24: =AVERAGE(B24:K24) -> 0
A25: ='Bronchial cell death'!A25 -> M2M | B25: 0 | C25: 0 | D25: 0 | E25: 0 | F25: 0 | G25: 0 | H25: 0 | I25: 0 | J25: 0 | K25: 0 | L25: =AVERAGE(B25:K25) -> 0
A26: ='Bronchial cell death'!A26 -> M3M | B26: 0 | C26: 0 | D26: 0 | E26: 0 | F26: 0 | G26: 0 | H26: 0 | I26: 0 | J26: 0 | K26: 0 | L26: =AVERAGE(B26:K26) -> 0
A27: ='Bronchial cell death'!A27 -> F3M | B27: 0 | C27: 0 | D27: 0 | E27: 0 | F27: 0 | G27: 0 | H27: 0 | I27: 0 | J27: 0 | K27: 0 | L27: =AVERAGE(B27:K27) -> 0
A28: ='Bronchial cell death'!A28 -> F2M | B28: 0 | C28: 0 | D28: 0 | E28: 0 | F28: 0 | G28: 0 | H28: 0 | I28: 0 | J28: 0 | K28: 0 | L28: =AVERAGE(B28:K28) -> 0
A29: ='Bronchial cell death'!A29 -> F1M | B29: 0 | C29: 0 | D29: 0 | E29: 0 | F29: 0 | G29: 0 | H29: 0 | I29: 0 | J29: 0 | K29: 0 | L29: =AVERAGE(B29:K29) -> 0

Sheet perivenule inflammation
A1: Purpose: quantify perivenular inflammation | M1: Scoring system
A2: 10 40X fields | M2: 0 | N2: none
M3: 1 | N3: 0-25% circumference with >1 leukocyte cell layer
B4: field | M4: 2 | N4: 26-50% circumference with >1 leukocyte cell layer
A5: Mouse | B5: 1 | C5: 2 | D5: 3 | E5: 4 | F5: 5 | G5: 6 | H5: 7 | I5: 8 | J5: 9 | K5: 10 | L5: Mean | M5: 3 | N5: 50-100% circumference with >1 leukocyte cell layer
A6: ='Bronchial cell death'!A6 -> M1.2 | B6: 1 | C6: 1 | D6: 0 | E6: 1 | F6: 2 | G6: 1 | H6: 2 | I6: 0 | J6: 1 | K6: 0 | L6: =AVERAGE(B6:K6) -> 0.9
A7: ='Bronchial cell death'!A7 -> M2.2 | B7: 0 | C7: 0 | D7: 0 | E7: 2 | F7: 0 | G7: 0 | H7: 0 | I7: 1 | J7: 2 | K7: 0 | L7: =AVERAGE(B7:K7) -> 0.5
A8: ='Bronchial cell death'!A8 -> M3.2 | B8: 2 | C8: 3 | D8: 2 | E8: 1 | F8: 1 | G8: 1 | H8: 1 | I8: 0 | J8: 1 | K8: 3 | L8: =AVERAGE(B8:K8) -> 1.5
A9: ='Bronchial cell death'!A9 -> F1.2 | B9: 1 | C9: 1 | D9: 0 | E9: 0 | F9: 1 | G9: 2 | H9: 0 | I9: 0 | J9: 1 | K9: 0 | L9: =AVERAGE(B9:K9) -> 0.6
A10: ='Bronchial cell death'!A10 -> F2.2 | B10: 3 | C10: 3 | D10: 1 | E10: 1 | F10: 0 | G10: 3 | H10: 1 | I10: 0 | J10: 0 | K10: 0 | L10: =AVERAGE(B10:K10) -> 1.2
A11: ='Bronchial cell death'!A11 -> F3.2 | B11: 0 | C11: 2 | D11: 0 | E11: 0 | F11: 0 | G11: 0 | H11: 0 | I11: 0 | J11: 0 | K11: 0 | L11: =AVERAGE(B11:K11) -> 0.2
A12: ='Bronchial cell death'!A12 -> M1.4 | B12: 2 | C12: 0 | D12: 3 | E12: 1 | F12: 2 | G12: 0 | H12: 1 | I12: 3 | J12: 2 | K12: 1 | L12: =AVERAGE(B12:K12) -> 1.5
A13: ='Bronchial cell death'!A13 -> M2.4 | B13: 2 | C13: 1 | D13: 0 | E13: 3 | F13: 1 | G13: 1 | H13: 1 | I13: 1 | J13: 1 | K13: 1 | L13: =AVERAGE(B13:K13) -> 1.2
A14: ='Bronchial cell death'!A14 -> M3.4 | B14: 3 | C14: 2 | D14: 2 | E14: 1 | F14: 2 | G14: 1 | H14: 1 | I14: 1 | J14: 0 | K14: 3 | L14: =AVERAGE(B14:K14) -> 1.6
A15: ='Bronchial cell death'!A15 -> F1.4 | B15: 1 | C15: 1 | D15: 1 | E15: 1 | F15: 3 | G15: 3 | H15: 1 | I15: 2 | J15: 0 | K15: 0 | L15: =AVERAGE(B15:K15) -> 1.3
A16: ='Bronchial cell death'!A16 -> F2.4 | B16: 0 | C16: 1 | D16: 2 | E16: 1 | F16: 1 | G16: 1 | H16: 2 | I16: 3 | J16: 1 | K16: 2 | L16: =AVERAGE(B16:K16) -> 1.4
A17: ='Bronchial cell death'!A17 -> F3.4 | B17: 3 | C17: 3 | D17: 2 | E17: 0 | F17: 0 | G17: 1 | H17: 0 | I17: 0 | J17: 0 | K17: 0 | L17: =AVERAGE(B17:K17) -> 0.9
A18: ='Bronchial cell death'!A18 -> M1.7 | L18: =AVERAGE(B18:K18) -> #DIV/0!
A19: ='Bronchial cell death'!A19 -> M2.7 | B19: 3 | C19: 3 | D19: 3 | E19: 2 | F19: 3 | G19: 3 | H19: 3 | I19: 1 | J19: 1 | K19: 2 | L19: =AVERAGE(B19:K19) -> 2.4
A20: ='Bronchial cell death'!A20 -> M3.7 | B20: 3 | C20: 1 | D20: 0 | E20: 2 | F20: 3 | G20: 2 | H20: 3 | I20: 2 | J20: 1 | K20: 2 | L20: =AVERAGE(B20:K20) -> 1.9
A21: ='Bronchial cell death'!A21 -> F3.7 | B21: 3 | C21: 3 | D21: 2 | E21: 1 | F21: 3 | G21: 2 | H21: 1 | I21: 0 | J21: 1 | K21: 2 | L21: =AVERAGE(B21:K21) -> 1.8
A22: ='Bronchial cell death'!A22 -> F2.7 | B22: 2 | C22: 1 | D22: 0 | E22: 3 | F22: 2 | G22: 2 | H22: 3 | I22: 3 | J22: 2 | K22: 1 | L22: =AVERAGE(B22:K22) -> 1.9
A23: ='Bronchial cell death'!A23 -> F1.7 | L23: =AVERAGE(B23:K23) -> #DIV/0!
A24: ='Bronchial cell death'!A24 -> M1M | B24: 0 | C24: 0 | D24: 0 | E24: 0 | F24: 0 | G24: 0 | H24: 0 | I24: 0 | J24: 0 | K24: 0 | L24: =AVERAGE(B24:K24) -> 0
A25: ='Bronchial cell death'!A25 -> M2M | B25: 0 | C25: 0 | D25: 0 | E25: 0 | F25: 0 | G25: 0 | H25: 0 | I25: 0 | J25: 0 | K25: 0 | L25: =AVERAGE(B25:K25) -> 0
A26: ='Bronchial cell death'!A26 -> M3M | B26: 0 | C26: 0 | D26: 0 | E26: 0 | F26: 0 | G26: 0 | H26: 0 | I26: 1 | J26: 0 | K26: 0 | L26: =AVERAGE(B26:K26) -> 0.1
A27: ='Bronchial cell death'!A27 -> F3M | B27: 0 | C27: 0 | D27: 2 | E27: 0 | F27: 0 | G27: 0 | H27: 0 | I27: 0 | J27: 1 | K27: 0 | L27: =AVERAGE(B27:K27) -> 0.3
A28: ='Bronchial cell death'!A28 -> F2M | B28: 0 | C28: 0 | D28: 0 | E28: 0 | F28: 0 | G28: 0 | H28: 0 | I28: 0 | J28: 0 | K28: 0 | L28: =AVERAGE(B28:K28) -> 0
A29: ='Bronchial cell death'!A29 -> F1M | B29: 0 | C29: 0 | D29: 0 | E29: 3 | F29: 2 | G29: 0 | H29: 0 | I29: 0 | J29: 0 | K29: 0 | L29: =AVERAGE(B29:K29) -> 0.5

Sheet interstitial lymphocytic pneum
A1: Purpose: interstital (alveolar sepate) inflammation | M1: Scoring system
A2: 10 10X fields | M2: state percentage of pulmonary alveolar parenchyma with septae expanded by leukocyte
B4: Pathologist
A5: Mouse | B5: 1 | C5: 2 | D5: 3 | E5: 4 | F5: 5 | G5: 6 | H5: 7 | I5: 8 | J5: 9 | K5: 10 | L5: Mean
A6: ='Bronchial cell death'!A6 -> M1.2 | B6: 0 | C6: 0.01 | D6: 0.07 | E6: 0.1 | F6: 0.05 | G6: 0.05 | H6: 0.04 | I6: 0.02 | J6: 0.05 | K6: 0.02 | L6: =AVERAGE(B6:K6) -> 0.041
A7: ='Bronchial cell death'!A7 -> M2.2 | B7: 0.02 | C7: 0.02 | D7: 0 | E7: 0 | F7: 0 | G7: 0.06 | H7: 0.02 | I7: 0.01 | J7: 0 | K7: 0.02 | L7: =AVERAGE(B7:K7) -> 0.015
A8: ='Bronchial cell death'!A8 -> M3.2 | B8: 0.02 | C8: 0.01 | D8: 0 | E8: 0.01 | F8: 0.02 | G8: 0.02 | H8: 0.02 | I8: 0.03 | J8: 0.01 | K8: 0.01 | L8: =AVERAGE(B8:K8) -> 0.015
A9: ='Bronchial cell death'!A9 -> F1.2 | B9: 0 | C9: 0 | D9: 0.01 | E9: 0.1 | F9: 0.02 | G9: 0.05 | H9: 0.1 | I9: 0.05 | J9: 0 | K9: 0 | L9: =AVERAGE(B9:K9) -> 0.033
A10: ='Bronchial cell death'!A10 -> F2.2 | B10: 0.03 | C10: 0 | D10: 0 | E10: 0.02 | F10: 0.01 | G10: 0.02 | H10: 0.01 | I10: 0.01 | J10: 0 | K10: 0.05 | L10: =AVERAGE(B10:K10) -> 0.015
A11: ='Bronchial cell death'!A11 -> F3.2 | B11: 0.01 | C11: 0 | D11: 0 | E11: 0 | F11: 0 | G11: 0 | H11: 0 | I11: 0 | J11: 0.01 | K11: 0 | L11: =AVERAGE(B11:K11) -> 0.002
A12: ='Bronchial cell death'!A12 -> M1.4 | B12: 0.02 | C12: 0.01 | D12: 0 | E12: 0 | F12: 0.01 | G12: 0.02 | H12: 0.04 | I12: 0.02 | J12: 0.01 | K12: 0 | L12: =AVERAGE(B12:K12) -> 0.013
A13: ='Bronchial cell death'!A13 -> M2.4 | B13: 0.02 | C13: 0 | D13: 0.02 | E13: 0.01 | F13: 0.04 | G13: 0 | H13: 0.01 | I13: 0 | J13: 0.01 | K13: 0.02 | L13: =AVERAGE(B13:K13) -> 0.013
A14: ='Bronchial cell death'!A14 -> M3.4 | B14: 0.05 | C14: 0.02 | D14: 0.03 | E14: 0.03 | F14: 0.02 | G14: 0.01 | H14: 0.01 | I14: 0.02 | J14: 0 | K14: 0.02 | L14: =AVERAGE(B14:K14) -> 0.021
A15: ='Bronchial cell death'!A15 -> F1.4 | B15: 0.02 | C15: 0 | D15: 0 | E15: 0 | F15: 0 | G15: 0.02 | H15: 0.02 | I15: 0.04 | J15: 0.06 | K15: 0.03 | L15: =AVERAGE(B15:K15) -> 0.019
A16: ='Bronchial cell death'!A16 -> F2.4 | B16: 0.05 | C16: 0.02 | D16: 0.04 | E16: 0.03 | F16: 0.02 | G16: 0.07 | H16: 0.02 | I16: 0.03 | J16: 0.01 | K16: 0 | L16: =AVERAGE(B16:K16) -> 0.029
A17: ='Bronchial cell death'!A17 -> F3.4 | B17: 0 | C17: 0 | D17: 0.01 | E17: 0 | F17: 0 | G17: 0.02 | H17: 0 | I17: 0.02 | J17: 0.04 | K17: 0.02 | L17: =AVERAGE(B17:K17) -> 0.011
A18: ='Bronchial cell death'!A18 -> M1.7 | L18: =AVERAGE(B18:K18) -> #DIV/0!
A19: ='Bronchial cell death'!A19 -> M2.7 | B19: 0.07 | C19: 0.03 | D19: 0.02 | E19: 0.4 | F19: 0.7 | G19: 0.4 | H19: 0.3 | I19: 0.2 | J19: 0.1 | K19: 0.25 | L19: =AVERAGE(B19:K19) -> 0.247
A20: ='Bronchial cell death'!A20 -> M3.7 | B20: 0.07 | C20: 0.4 | D20: 0.03 | E20: 0.05 | F20: 0.1 | G20: 0.1 | H20: 0.2 | I20: 0.5 | J20: 0.05 | K20: 0.07 | L20: =AVERAGE(B20:K20) -> 0.157
A21: ='Bronchial cell death'!A21 -> F3.7 | B21: 0.04 | C21: 0.2 | D21: 0.25 | E21: 0.3 | F21: 0.2 | G21: 0.05 | H21: 0.07 | I21: 0.5 | J21: 0.04 | K21: 0.3 | L21: =AVERAGE(B21:K21) -> 0.195
A22: ='Bronchial cell death'!A22 -> F2.7 | B22: 0.01 | C22: 0.03 | D22: 0.02 | E22: 0.02 | F22: 0.1 | G22: 0.02 | H22: 0.02 | I22: 0 | J22: 0.01 | K22: 0.02 | L22: =AVERAGE(B22:K22) -> 0.025
A23: ='Bronchial cell death'!A23 -> F1.7 | L23: =AVERAGE(B23:K23) -> #DIV/0!
A24: ='Bronchial cell death'!A24 -> M1M | B24: 0 | C24: 0 | D24: 0 | E24: 0 | F24: 0.01 | G24: 0 | H24: 0 | I24: 0 | J24: 0 | K24: 0 | L24: =AVERAGE(B24:K24) -> 0.001
A25: ='Bronchial cell death'!A25 -> M2M | B25: 0 | C25: 0 | D25: 0 | E25: 0 | F25: 0 | G25: 0 | H25: 0 | I25: 0 | J25: 0 | K25: 0 | L25: =AVERAGE(B25:K25) -> 0
A26: ='Bronchial cell death'!A26 -> M3M | B26: 0 | C26: 0 | D26: 0 | E26: 0 | F26: 0 | G26: 0 | H26: 0 | I26: 0.05 | J26: 0 | K26: 0 | L26: =AVERAGE(B26:K26) -> 0.005
A27: ='Bronchial cell death'!A27 -> F3M | B27: 0 | C27: 0 | D27: 0.01 | E27: 0 | F27: 0 | G27: 0 | H27: 0 | I27: 0 | J27: 0 | K27: 0 | L27: =AVERAGE(B27:K27) -> 0.001
A28: ='Bronchial cell death'!A28 -> F2M | B28: 0 | C28: 0.02 | D28: 0 | E28: 0.03 | F28: 0 | G28: 0 | H28: 0 | I28: 0 | J28: 0 | K28: 0 | L28: =AVERAGE(B28:K28) -> 0.005
A29: ='Bronchial cell death'!A29 -> F1M | B29: 0 | C29: 0 | D29: 0 | E29: 0.05 | F29: 0.01 | G29: 0.01 | H29: 0 | I29: 0 | J29: 0 | K29: 0 | L29: =AVERAGE(B29:K29) -> 0.007

Sheet pulmonary edema
A1: Purpose: interstital (alveolar sepate) inflammation | M1: Scoring system
A2: 10 10X fields | M2: state percentage of pulmonary alveolarairspaces filled with edema (eosinophilic material)
B4: Pathologist
A5: Mouse | B5: 1 | C5: 2 | D5: 3 | E5: 4 | F5: 5 | G5: 6 | H5: 7 | I5: 8 | J5: 9 | K5: 10 | L5: Mean
A6: ='Bronchial cell death'!A6 -> M1.2 | B6: 0 | C6: 0 | D6: 0 | E6: 0 | F6: 0 | G6: 0 | H6: 0 | I6: 0 | J6: 0 | K6: 0 | L6: =AVERAGE(B6:K6) -> 0
A7: ='Bronchial cell death'!A7 -> M2.2 | B7: 0 | C7: 0 | D7: 0 | E7: 0 | F7: 0 | G7: 0 | H7: 0 | I7: 0 | J7: 0 | K7: 0 | L7: =AVERAGE(B7:K7) -> 0
A8: ='Bronchial cell death'!A8 -> M3.2 | B8: 0 | C8: 0 | D8: 0 | E8: 0 | F8: 0 | G8: 0 | H8: 0 | I8: 0 | J8: 0 | K8: 0 | L8: =AVERAGE(B8:K8) -> 0
A9: ='Bronchial cell death'!A9 -> F1.2 | B9: 0 | C9: 0 | D9: 0 | E9: 0 | F9: 0 | G9: 0 | H9: 0 | I9: 0 | J9: 0 | K9: 0 | L9: =AVERAGE(B9:K9) -> 0
A10: ='Bronchial cell death'!A10 -> F2.2 | B10: 0 | C10: 0 | D10: 0 | E10: 0 | F10: 0 | G10: 0 | H10: 0 | I10: 0 | J10: 0 | K10: 0 | L10: =AVERAGE(B10:K10) -> 0
A11: ='Bronchial cell death'!A11 -> F3.2 | B11: 0 | C11: 0 | D11: 0 | E11: 0 | F11: 0 | G11: 0 | H11: 0 | I11: 0 | J11: 0 | K11: 0 | L11: =AVERAGE(B11:K11) -> 0
A12: ='Bronchial cell death'!A12 -> M1.4 | B12: 0 | C12: 0 | D12: 0 | E12: 0 | F12: 0 | G12: 0 | H12: 0 | I12: 0 | J12: 0 | K12: 0 | L12: =AVERAGE(B12:K12) -> 0
A13: ='Bronchial cell death'!A13 -> M2.4 | B13: 0 | C13: 0 | D13: 0 | E13: 0.05 | F13: 0 | G13: 0 | H13: 0 | I13: 0 | J13: 0 | K13: 0 | L13: =AVERAGE(B13:K13) -> 0.005 | N13: flocculent
A14: ='Bronchial cell death'!A14 -> M3.4 | B14: 0 | C14: 0 | D14: 0 | E14: 0 | F14: 0 | G14: 0 | H14: 0 | I14: 0 | J14: 0 | K14: 0 | L14: =AVERAGE(B14:K14) -> 0
A15: ='Bronchial cell death'!A15 -> F1.4 | B15: 0 | C15: 0.2 | D15: 0.1 | E15: 0 | F15: 0 | G15: 0 | H15: 0 | I15: 0.1 | J15: 0 | K15: 0 | L15: =AVERAGE(B15:K15) -> 0.04 | N15: flocculent
A16: ='Bronchial cell death'!A16 -> F2.4 | B16: 0 | C16: 0 | D16: 0 | E16: 0 | F16: 0.5 | G16: 0 | H16: 0.1 | I16: 0.02 | J16: 0 | K16: 0 | L16: =AVERAGE(B16:K16) -> 0.062 | N16: flocculent (mostly) and inspisated
A17: ='Bronchial cell death'!A17 -> F3.4 | B17: 0 | C17: 0 | D17: 0 | E17: 0 | F17: 0 | G17: 0.6 | H17: 0.1 | I17: 0.5 | J17: 0 | K17: 0 | L17: =AVERAGE(B17:K17) -> 0.12 | N17: flocculent
A18: ='Bronchial cell death'!A18 -> M1.7 | L18: =AVERAGE(B18:K18) -> #DIV/0!
A19: ='Bronchial cell death'!A19 -> M2.7 | B19: 0.25 | C19: 0.05 | D19: 0 | E19: 0 | F19: 0 | G19: 0 | H19: 1 | I19: 0.4 | J19: 0.3 | K19: 0.1 | L19: =AVERAGE(B19:K19) -> 0.21 | N19: inspissated
A20: ='Bronchial cell death'!A20 -> M3.7 | B20: 0.2 | C20: 0 | D20: 0 | E20: 0.25 | F20: 0.6 | G20: 0.7 | H20: 0.6 | I20: 0.05 | J20: 0.4 | K20: 0 | L20: =AVERAGE(B20:K20) -> 0.28 | N20: inspissated
A21: ='Bronchial cell death'!A21 -> F3.7 | B21: 0.2 | C21: 0.1 | D21: 0.2 | E21: 0.4 | F21: 0.9 | G21: 0.05 | H21: 0.7 | I21: 0 | J21: 0 | K21: 0 | L21: =AVERAGE(B21:K21) -> 0.255 | N21: inspissated
A22: ='Bronchial cell death'!A22 -> F2.7 | B22: 0 | C22: 0 | D22: 0.1 | E22: 0.25 | F22: 0 | G22: 0 | H22: 0 | I22: 0 | J22: 0 | K22: 0 | L22: =AVERAGE(B22:K22) -> 0.035 | N22: flocculent (mostly) and inspisated
A23: ='Bronchial cell death'!A23 -> F1.7 | L23: =AVERAGE(B23:K23) -> #DIV/0!
A24: ='Bronchial cell death'!A24 -> M1M | B24: 0 | C24: 0 | D24: 0 | E24: 0 | F24: 0 | G24: 0 | H24: 0 | I24: 0 | J24: 0 | K24: 0 | L24: =AVERAGE(B24:K24) -> 0
A25: ='Bronchial cell death'!A25 -> M2M | B25: 0 | C25: 0 | D25: 0 | E25: 0 | F25: 0 | G25: 0 | H25: 0 | I25: 0 | J25: 0 | K25: 0 | L25: =AVERAGE(B25:K25) -> 0
A26: ='Bronchial cell death'!A26 -> M3M | B26: 0 | C26: 0 | D26: 0 | E26: 0 | F26: 0 | G26: 0 | H26: 0 | I26: 0 | J26: 0 | K26: 0 | L26: =AVERAGE(B26:K26) -> 0
A27: ='Bronchial cell death'!A27 -> F3M | B27: 0 | C27: 0 | D27: 0 | E27: 0 | F27: 0 | G27: 0 | H27: 0 | I27: 0 | J27: 0 | K27: 0 | L27: =AVERAGE(B27:K27) -> 0
A28: ='Bronchial cell death'!A28 -> F2M | B28: 0 | C28: 0 | D28: 0 | E28: 0 | F28: 0 | G28: 0 | H28: 0 | I28: 0 | J28: 0 | K28: 0 | L28: =AVERAGE(B28:K28) -> 0
A29: ='Bronchial cell death'!A29 -> F1M | B29: 0 | C29: 0 | D29: 0 | E29: 0 | F29: 0 | G29: 0 | H29: 0 | I29: 0 | J29: 0 | K29: 0 | L29: =AVERAGE(B29:K29) -> 0
