Workbook

Sheet Sheet1
A1: A list of Supporting Information:
A2: Supplementary Table 3 | B2: 81 SNPs significantly associated with schizophrenia used IVs in forward MR analyses(Outcome: White blood cell count)
A3: Supplementary Table 4 | B3: 95 SNPs significantly associated with schizophrenia used IVs in forward MR analyses(Outcome: Basophil count)
A4: Supplementary Table 5 | B4: 85 SNPs significantly associated with schizophrenia used IVs in forward MR analyses(Outcome: Eosinophil count)
A5: Supplementary Table 6 | B5: 87 SNPs significantly associated with schizophrenia used IVs in forward MR analyses(Outcome: Monocyte count)
A6: Supplementary Table 7 | B6: 76 SNPs significantly associated with schizophrenia used IVs in forward MR analyses(Outcome: Lymphocyte count)
A7: Supplementary Table 8 | B7: 83 SNPs significantly associated with schizophrenia used IVs in forward MR analyses(Outcome: Neutrophil count)
A8: Supplementary Table 9 | B8: 458 SNPs significantly associated with white blood cell count used IVs in reverse MR analyses
A9: Supplementary Table 10 | B9: 206 SNPs significantly associated with basophil count used IVs in reverse MR analyses
A10: Supplementary Table 11 | B10: 408 SNPs significantly associated with eosinophil count used IVs in reverse MR analyses
A11: Supplementary Table 12 | B11: 468 SNPs significantly associated with monocyte countused IVs in reverse MR analyses
A12: Supplementary Table 13 | B12: 473 SNPs significantly associated with lymphocyte countused IVs in reverse MR analyses
A13: Supplementary Table 14 | B13: 390 SNPs significantly associated with neutrophil countused IVs in reverse MR analyses

Sheet Supplementary Table 3
A1: Supplementary Table 3. 81 SNPs significantly associated with schizophrenia used IVs in forward MR analyses(Outcome: White blood cell count)
A2: SNP | B2: Chromosome | C2: Pos | D2: Effect_allele | E2: Non-effect_allele | F2: Beta | G2: Effect_allele_frequency | H2: SE | I2: P_value | J2: r2
A3: rs10503253 | B3: 8 | C3: 4180844 | D3: A | E3: C | F3: 0.070896392 | G3: 0.223 | H3: 0.0127 | I3: 2.694e-08 | J3: 0.014352803
A4: rs10520163 | B4: 4 | C4: 170626552 | D4: T | E4: C | F4: 0.060897526 | G4: 0.493 | H4: 0.0106 | I4: 1.02e-08 | J4: 0.014784165
A5: rs10791097 | B5: 11 | C5: 130718630 | D5: T | E5: G | F5: 0.073900808 | G5: 0.479 | H5: 0.0106 | I5: 2.876e-12 | J5: 0.018026557
A6: rs11027857 | B6: 11 | C6: 24403620 | D6: A | E6: G | F6: 0.062599142 | G6: 0.515 | H6: 0.0106 | I6: 3.21e-09 | J6: 0.015282593
A7: rs1106568 | B7: 4 | C7: 176861301 | D7: A | E7: G | F7: -0.06940367 | G7: 0.747 | H7: 0.0122 | I7: 1.145e-08 | J7: 0.014733448
A8: rs11139497 | B8: 9 | C8: 84739941 | D8: A | E8: T | F8: 0.068004383 | G8: 0.346 | H8: 0.0115 | I8: 3.09e-09 | J8: 0.015298756
A9: rs11191419 | B9: 10 | C9: 104612335 | D9: A | E9: T | F9: -0.097998791 | G9: 0.337 | H9: 0.0114 | I9: 9.235e-18 | J9: 0.022154208
A10: rs11682175 | B10: 2 | C10: 57987593 | D10: T | E10: C | F10: -0.074195668 | G10: 0.52 | H10: 0.0106 | I10: 2.543e-12 | J10: 0.018071099
A11: rs11685299 | B11: 2 | C11: 225403615 | D11: A | E11: C | F11: -0.064805223 | G11: 0.313 | H11: 0.0113 | I11: 1.109e-08 | J11: 0.01474748
A12: rs11693094 | B12: 2 | C12: 185601420 | D12: T | E12: C | F12: -0.073302143 | G12: 0.44 | H12: 0.0107 | I12: 7.131e-12 | J12: 0.017694534
A13: rs117074560 | B13: 6 | C13: 96459651 | D13: T | E13: C | F13: -0.15659533 | G13: 0.0418 | H13: 0.0277 | I13: 1.661e-08 | J13: 0.014569103
A14: rs11740474 | B14: 5 | C14: 153680747 | D14: A | E14: T | F14: -0.061099109 | G14: 0.601 | H14: 0.0111 | I14: 3.936e-08 | J14: 0.014181051
... A83: rs9966779 | B83: 18 | C83: 53620456 | D83: T | E83: C | F83: -0.13290302 | G83: 0.055 | H83: 0.0231 | I83: 8.557e-09 | J83: 0.014860908

Sheet Supplementary Table 4
A1: Supplementary Table 4. 95 SNPs significantly associated with schizophrenia used IVs in forward MR analyses(Outcome: Basophil count)
A2: SNP | B2: Chromosome | C2: Pos | D2: Effect_allele | E2: Non-effect_allele | F2: Beta | G2: Effect_allele_frequency | H2: SE | I2: P_value | J2: r2
A3: rs10503253 | B3: 8 | C3: 4180844 | D3: A | E3: C | F3: 0.070896392 | G3: 0.223 | H3: 0.0127 | I3: 2.69e-08 | J3: 0.014352803
A4: rs10520163 | B4: 4 | C4: 170626552 | D4: T | E4: C | F4: 0.060897526 | G4: 0.493 | H4: 0.0106 | I4: 1.02e-08 | J4: 0.014784165
A5: rs10791097 | B5: 11 | C5: 130718630 | D5: T | E5: G | F5: 0.073900808 | G5: 0.479 | H5: 0.0106 | I5: 2.88e-12 | J5: 0.018026557
A6: rs10803138 | B6: 1 | C6: 243555219 | D6: A | E6: G | F6: -0.070798071 | G6: 0.232 | H6: 0.0126 | I6: 1.79e-08 | J6: 0.014536346
A7: rs11027857 | B7: 11 | C7: 24403620 | D7: A | E7: G | F7: 0.062599142 | G7: 0.515 | H7: 0.0106 | I7: 3.21e-09 | J7: 0.015282593
A8: rs1106568 | B8: 4 | C8: 176861301 | D8: A | E8: G | F8: -0.06940367 | G8: 0.747 | H8: 0.0122 | I8: 1.15e-08 | J8: 0.014733448
A9: rs11139497 | B9: 9 | C9: 84739941 | D9: A | E9: T | F9: 0.068004383 | G9: 0.346 | H9: 0.0115 | I9: 3.09e-09 | J9: 0.015298756
A10: rs11191419 | B10: 10 | C10: 104612335 | D10: A | E10: T | F10: -0.097998791 | G10: 0.337 | H10: 0.0114 | I10: 9.24e-18 | J10: 0.022154208
A11: rs11210892 | B11: 1 | C11: 44100084 | D11: A | E11: G | F11: -0.069500143 | G11: 0.659 | H11: 0.0112 | I11: 4.97e-10 | J11: 0.016055771
A12: rs113397282 | B12: 6 | C12: 32488050 | D12: T | E12: C | F12: 0.13559676 | G12: 0.812 | H12: 0.0171 | I12: 2.26e-15 | J12: 0.020458817
A13: rs11682175 | B13: 2 | C13: 57987593 | D13: T | E13: C | F13: -0.074195668 | G13: 0.52 | H13: 0.0106 | I13: 2.54e-12 | J13: 0.018071099
A14: rs11685299 | B14: 2 | C14: 225403615 | D14: A | E14: C | F14: -0.064805223 | G14: 0.313 | H14: 0.0113 | I14: 1.11e-08 | J14: 0.01474748
... A97: rs9966779 | B97: 18 | C97: 53620456 | D97: T | E97: C | F97: -0.13290302 | G97: 0.055 | H97: 0.0231 | I97: 8.56e-09 | J97: 0.014860908

Sheet Supplementary Table 5
A1: Supplementary Table 5. 85 SNPs significantly associated with schizophrenia used IVs in forward MR analyses(Outcome: Eosinophil count)
A2: SNP | B2: Chromosome | C2: Pos | D2: Effect_allele | E2: Non-effect_allele | F2: Beta | G2: Effect_allele_frequency | H2: SE | I2: P_value | J2: r2
A3: rs17194490 | B3: 3 | C3: 2547786 | D3: T | E3: G | F3: 0.097099487 | G3: 0.169 | H3: 0.0148 | I3: 4.865e-11 | J3: 0.016971901
A4: rs185053056 | B4: 6 | C4: 28744888 | D4: T | E4: C | F4: -0.23549451 | G4: 0.0656 | H4: 0.0296 | I4: 1.604e-15 | J4: 0.020568607
A5: rs7405404 | B5: 16 | C5: 13749859 | D5: T | E5: C | F5: 0.078302733 | G5: 0.238 | H5: 0.0125 | I5: 3.925e-10 | J5: 0.016151092
A6: rs7432375 | B6: 3 | C6: 136288405 | D6: A | E6: G | F6: -0.071399336 | G6: 0.421 | H6: 0.0109 | I6: 5.274e-11 | J6: 0.016940874
A7: rs7893279 | B7: 10 | C7: 18745105 | D7: T | E7: G | F7: 0.11309652 | G7: 0.899 | H7: 0.0171 | I7: 3.562e-11 | J7: 0.017091214
A8: rs7951870 | B8: 11 | C8: 46373311 | D8: T | E8: C | F8: -0.092499134 | G8: 0.827 | H8: 0.0142 | I8: 8.253e-11 | J8: 0.016767766
A9: rs11210892 | B9: 1 | C9: 44100084 | D9: A | E9: G | F9: -0.069500143 | G9: 0.659 | H9: 0.0112 | I9: 4.97e-10 | J9: 0.016055771
A10: rs113397282 | B10: 6 | C10: 32488050 | D10: T | E10: C | F10: 0.13559676 | G10: 0.812 | H10: 0.0171 | I10: 2.261e-15 | J10: 0.020458817
A11: rs4391122 | B11: 5 | C11: 60598543 | D11: A | E11: G | F11: -0.078902525 | G11: 0.505 | H11: 0.0107 | I11: 1.734e-13 | J11: 0.019018092
A12: rs4523957 | B12: 17 | C12: 2208899 | D12: T | E12: G | F12: 0.0683033 | G12: 0.642 | H12: 0.0112 | I12: 1.04e-09 | J12: 0.015754051
A13: rs8044995 | B13: 16 | C13: 68189340 | D13: A | E13: G | F13: 0.077701508 | G13: 0.173 | H13: 0.0141 | I13: 3.268e-08 | J13: 0.014265548
A14: rs832187 | B14: 3 | C14: 63833050 | D14: T | E14: C | F14: -0.060695249 | G14: 0.607 | H14: 0.0109 | I14: 2.584e-08 | J14: 0.01437157
... A87: rs6704768 | B87: 2 | C87: 233592501 | D87: A | E87: G | F87: -0.073797251 | G87: 0.54 | H87: 0.0106 | I87: 3.148e-12 | J87: 0.017993779

Sheet Supplementary Table 6
A1: Supplementary Table 6. 87 SNPs significantly associated with schizophrenia used IVs in forward MR analyses(Outcome: Monocyte count)
A2: SNP | B2: Chromosome | C2: Pos | D2: Effect_allele | E2: Non-effect_allele | F2: Beta | G2: Effect_allele_frequency | H2: SE | I2: P_value | J2: r2
A3: rs10503253 | B3: =VLOOKUP(A3,'Supplementary Table 4'!A:C,2,FALSE) -> 8 | C3: =VLOOKUP(A3,'Supplementary Table 4'!A:C,3,FALSE) -> 4180844 | D3: A | E3: C | F3: 0.070896392 | G3: 0.223 | H3: 0.0127 | I3: 2.694e-08 | J3: 0.014352803
A4: rs10520163 | B4: =VLOOKUP(A4,'Supplementary Table 4'!A:C,2,FALSE) -> 4 | C4: =VLOOKUP(A4,'Supplementary Table 4'!A:C,3,FALSE) -> 170626552 | D4: T | E4: C | F4: 0.060897526 | G4: 0.493 | H4: 0.0106 | I4: 1.02e-08 | J4: 0.014784165
A5: rs10791097 | B5: =VLOOKUP(A5,'Supplementary Table 4'!A:C,2,FALSE) -> 11 | C5: =VLOOKUP(A5,'Supplementary Table 4'!A:C,3,FALSE) -> 130718630 | D5: T | E5: G | F5: 0.073900808 | G5: 0.479 | H5: 0.0106 | I5: 2.876e-12 | J5: 0.018026557
A6: rs10803138 | B6: =VLOOKUP(A6,'Supplementary Table 4'!A:C,2,FALSE) -> 1 | C6: =VLOOKUP(A6,'Supplementary Table 4'!A:C,3,FALSE) -> 243555219 | D6: A | E6: G | F6: -0.070798071 | G6: 0.232 | H6: 0.0126 | I6: 1.788e-08 | J6: 0.014536346
A7: rs11027857 | B7: =VLOOKUP(A7,'Supplementary Table 4'!A:C,2,FALSE) -> 11 | C7: =VLOOKUP(A7,'Supplementary Table 4'!A:C,3,FALSE) -> 24403620 | D7: A | E7: G | F7: 0.062599142 | G7: 0.515 | H7: 0.0106 | I7: 3.21e-09 | J7: 0.015282593
A8: rs1106568 | B8: =VLOOKUP(A8,'Supplementary Table 4'!A:C,2,FALSE) -> 4 | C8: =VLOOKUP(A8,'Supplementary Table 4'!A:C,3,FALSE) -> 176861301 | D8: A | E8: G | F8: -0.06940367 | G8: 0.747 | H8: 0.0122 | I8: 1.145e-08 | J8: 0.014733448
A9: rs11139497 | B9: =VLOOKUP(A9,'Supplementary Table 4'!A:C,2,FALSE) -> 9 | C9: =VLOOKUP(A9,'Supplementary Table 4'!A:C,3,FALSE) -> 84739941 | D9: A | E9: T | F9: 0.068004383 | G9: 0.346 | H9: 0.0115 | I9: 3.09e-09 | J9: 0.015298756
A10: rs11191419 | B10: =VLOOKUP(A10,'Supplementary Table 4'!A:C,2,FALSE) -> 10 | C10: =VLOOKUP(A10,'Supplementary Table 4'!A:C,3,FALSE) -> 104612335 | D10: A | E10: T | F10: -0.097998791 | G10: 0.337 | H10: 0.0114 | I10: 9.235e-18 | J10: 0.022154208
A11: rs11210892 | B11: =VLOOKUP(A11,'Supplementary Table 4'!A:C,2,FALSE) -> 1 | C11: =VLOOKUP(A11,'Supplementary Table 4'!A:C,3,FALSE) -> 44100084 | D11: A | E11: G | F11: -0.069500143 | G11: 0.659 | H11: 0.0112 | I11: 4.97e-10 | J11: 0.016055771
A12: rs113397282 | B12: =VLOOKUP(A12,'Supplementary Table 4'!A:C,2,FALSE) -> 6 | C12: =VLOOKUP(A12,'Supplementary Table 4'!A:C,3,FALSE) -> 32488050 | D12: T | E12: C | F12: 0.13559676 | G12: 0.812 | H12: 0.0171 | I12: 2.261e-15 | J12: 0.020458817
A13: rs11682175 | B13: =VLOOKUP(A13,'Supplementary Table 4'!A:C,2,FALSE) -> 2 | C13: =VLOOKUP(A13,'Supplementary Table 4'!A:C,3,FALSE) -> 57987593 | D13: T | E13: C | F13: -0.074195668 | G13: 0.52 | H13: 0.0106 | I13: 2.543e-12 | J13: 0.018071099
A14: rs11685299 | B14: =VLOOKUP(A14,'Supplementary Table 4'!A:C,2,FALSE) -> 2 | C14: =VLOOKUP(A14,'Supplementary Table 4'!A:C,3,FALSE) -> 225403615 | D14: A | E14: C | F14: -0.064805223 | G14: 0.313 | H14: 0.0113 | I14: 1.109e-08 | J14: 0.01474748
... A82: rs7893279 | B82: =VLOOKUP(A82,'Supplementary Table 4'!A:C,2,FALSE) -> 10 | C82: =VLOOKUP(A82,'Supplementary Table 4'!A:C,3,FALSE) -> 18745105 | D82: T | E82: G | F82: 0.11309652 | G82: 0.899 | H82: 0.0171 | I82: 3.562e-11 | J82: 0.017091214
A83: rs804237415 | B83: 15 | C83: 78908032 | D83: A | E83: G | F83: 0.087497925 | G83: 0.75 | H83: 0.0124 | I83: 1.865e-12 | J83: 0.018182874
A84: rs832187 | B84: 3 | C84: 63833050 | D84: T | E84: C | F84: -0.060695249 | G84: 0.607 | H84: 0.0109 | I84: 2.584e-08 | J84: 0.01437157
A85: rs9398171 | B85: =VLOOKUP(A85,'Supplementary Table 4'!A:C,2,FALSE) -> 6 | C85: =VLOOKUP(A85,'Supplementary Table 4'!A:C,3,FALSE) -> 108983527 | D85: T | E85: C | F85: -0.063696209 | G85: 0.695 | H85: 0.0115 | I85: 3.373e-08 | J85: 0.014251214
A86: rs9461856 | B86: 6 | C86: 33395199 | D86: A | E86: G | F86: 0.073296929 | G86: 0.521 | H86: 0.0106 | I86: 5.36e-12 | J86: 0.017799563
A87: rs9636107 | B87: =VLOOKUP(A87,'Supplementary Table 4'!A:C,2,FALSE) -> 18 | C87: =VLOOKUP(A87,'Supplementary Table 4'!A:C,3,FALSE) -> 53200117 | D87: A | E87: G | F87: -0.07620093 | G87: 0.49 | H87: 0.0107 | I87: 9.091e-13 | J87: 0.018439378
A88: rs9922678 | B88: =VLOOKUP(A88,'Supplementary Table 4'!A:C,2,FALSE) -> 16 | C88: =VLOOKUP(A88,'Supplementary Table 4'!A:C,3,FALSE) -> 9946319 | D88: A | E88: G | F88: 0.067303445 | G88: 0.299 | H88: 0.0116 | I88: 6.721e-09 | J88: 0.014965824
A89: rs9966779 | B89: =VLOOKUP(A89,'Supplementary Table 4'!A:C,2,FALSE) -> 18 | C89: =VLOOKUP(A89,'Supplementary Table 4'!A:C,3,FALSE) -> 53620456 | D89: T | E89: C | F89: -0.13290302 | G89: 0.055 | H89: 0.0231 | I89: 8.557e-09 | J89: 0.014860908

Sheet Supplementary Table 7
A1: Supplementary Table 7. 76 SNPs significantly associated with schizophrenia used IVs in forward MR analyses(Outcome: Lymphocyte count)
A2: SNP | B2: Chromosome | C2: Pos | D2: Effect_allele | E2: Non-effect_allele | F2: Beta | G2: Effect_allele_frequency | H2: SE | I2: P_value | J2: r2
A3: rs10503253 | B3: 8 | C3: 4180844 | D3: A | E3: C | F3: 0.070896392 | G3: 0.223 | H3: 0.0127 | I3: 2.694e-08 | J3: 0.014352803
A4: rs10520163 | B4: 4 | C4: 170626552 | D4: T | E4: C | F4: 0.060897526 | G4: 0.493 | H4: 0.0106 | I4: 1.02e-08 | J4: 0.014784165
A5: rs10791097 | B5: 11 | C5: 130718630 | D5: T | E5: G | F5: 0.073900808 | G5: 0.479 | H5: 0.0106 | I5: 2.876e-12 | J5: 0.018026557
A6: rs11027857 | B6: 11 | C6: 24403620 | D6: A | E6: G | F6: 0.062599142 | G6: 0.515 | H6: 0.0106 | I6: 3.21e-09 | J6: 0.015282593
A7: rs1106568 | B7: 4 | C7: 176861301 | D7: A | E7: G | F7: -0.06940367 | G7: 0.747 | H7: 0.0122 | I7: 1.145e-08 | J7: 0.014733448
A8: rs11139497 | B8: 9 | C8: 84739941 | D8: A | E8: T | F8: 0.068004383 | G8: 0.346 | H8: 0.0115 | I8: 3.09e-09 | J8: 0.015298756
A9: rs11191419 | B9: 10 | C9: 104612335 | D9: A | E9: T | F9: -0.097998791 | G9: 0.337 | H9: 0.0114 | I9: 9.235e-18 | J9: 0.022154208
A10: rs11210892 | B10: 1 | C10: 44100084 | D10: A | E10: G | F10: -0.069500143 | G10: 0.659 | H10: 0.0112 | I10: 4.97e-10 | J10: 0.016055771
A11: rs11682175 | B11: 2 | C11: 57987593 | D11: T | E11: C | F11: -0.074195668 | G11: 0.52 | H11: 0.0106 | I11: 2.543e-12 | J11: 0.018071099
A12: rs11685299 | B12: 2 | C12: 225403615 | D12: A | E12: C | F12: -0.064805223 | G12: 0.313 | H12: 0.0113 | I12: 1.109e-08 | J12: 0.01474748
A13: rs11693094 | B13: 2 | C13: 185601420 | D13: T | E13: C | F13: -0.073302143 | G13: 0.44 | H13: 0.0107 | I13: 7.131e-12 | J13: 0.017694534
A14: rs117074560 | B14: 6 | C14: 96459651 | D14: T | E14: C | F14: -0.15659533 | G14: 0.0418 | H14: 0.0277 | I14: 1.661e-08 | J14: 0.014569103
... A78: rs9966779 | B78: 18 | C78: 53620456 | D78: T | E78: C | F78: -0.13290302 | G78: 0.055 | H78: 0.0231 | I78: 8.557e-09 | J78: 0.014860908

Sheet Supplementary Table 8
A1: Supplementary Table 8. 83 SNPs significantly associated with schizophrenia used IVs in forward MR analyses(Outcome: Neutrophil count)
A2: SNP | B2: Chromosome | C2: Pos | D2: Effect_allele | E2: Non-effect_allele | F2: Beta | G2: Effect_allele_frequency | H2: SE | I2: P_value | J2: r2
A3: rs10503253 | B3: 8 | C3: 4180844 | D3: A | E3: C | F3: 0.070896392 | G3: 0.223 | H3: 0.0127 | I3: 2.694e-08 | J3: 0.014352803
A4: rs10520163 | B4: 4 | C4: 170626552 | D4: T | E4: C | F4: 0.060897526 | G4: 0.493 | H4: 0.0106 | I4: 1.02e-08 | J4: 0.014784165
A5: rs10791097 | B5: 11 | C5: 130718630 | D5: T | E5: G | F5: 0.073900808 | G5: 0.479 | H5: 0.0106 | I5: 2.876e-12 | J5: 0.018026557
A6: rs11027857 | B6: 11 | C6: 24403620 | D6: A | E6: G | F6: 0.062599142 | G6: 0.515 | H6: 0.0106 | I6: 3.21e-09 | J6: 0.015282593
A7: rs1106568 | B7: 4 | C7: 176861301 | D7: A | E7: G | F7: -0.06940367 | G7: 0.747 | H7: 0.0122 | I7: 1.145e-08 | J7: 0.014733448
A8: rs11139497 | B8: 9 | C8: 84739941 | D8: A | E8: T | F8: 0.068004383 | G8: 0.346 | H8: 0.0115 | I8: 3.09e-09 | J8: 0.015298756
A9: rs11191419 | B9: 10 | C9: 104612335 | D9: A | E9: T | F9: -0.097998791 | G9: 0.337 | H9: 0.0114 | I9: 9.235e-18 | J9: 0.022154208
A10: rs11682175 | B10: 2 | C10: 57987593 | D10: T | E10: C | F10: -0.074195668 | G10: 0.52 | H10: 0.0106 | I10: 2.543e-12 | J10: 0.018071099
A11: rs11685299 | B11: 2 | C11: 225403615 | D11: A | E11: C | F11: -0.064805223 | G11: 0.313 | H11: 0.0113 | I11: 1.109e-08 | J11: 0.01474748
A12: rs11693094 | B12: 2 | C12: 185601420 | D12: T | E12: C | F12: -0.073302143 | G12: 0.44 | H12: 0.0107 | I12: 7.131e-12 | J12: 0.017694534
A13: rs117074560 | B13: 6 | C13: 96459651 | D13: T | E13: C | F13: -0.15659533 | G13: 0.0418 | H13: 0.0277 | I13: 1.661e-08 | J13: 0.014569103
A14: rs11740474 | B14: 5 | C14: 153680747 | D14: A | E14: T | F14: -0.061099109 | G14: 0.601 | H14: 0.0111 | I14: 3.936e-08 | J14: 0.014181051
... A85: rs9966779 | B85: 18 | C85: 53620456 | D85: T | E85: C | F85: -0.13290302 | G85: 0.055 | H85: 0.0231 | I85: 8.557e-09 | J85: 0.014860908

Sheet Supplementary Table 9
A1: Supplementary Table 9. 458 SNPs significantly associated with white blood cell count used IVs in reverse MR analyses
A2: SNP | B2: Chromosome | C2: Pos | D2: Effect_allele | E2: Non-effect_allele | F2: Beta | G2: Effect_allele_frequency | H2: SE | I2: P_value | J2: r2
A3: rs10006495 | B3: 4 | C3: 120263315 | D3: G | E3: T | F3: -0.015667 | G3: 0.353947 | H3: 0.001959 | I3: 1.3499e-15 | J3: 0.012506093
A4: rs10049210 | B4: 3 | C4: 156797373 | D4: C | E4: T | F4: 0.014676 | G4: 0.404518 | H4: 0.001887 | I4: 7.68953e-15 | J4: 0.012165926
A5: rs1007938 | B5: 12 | C5: 26802549 | D5: G | E5: A | F5: -0.011156 | G5: 0.40493 | H5: 0.001884 | I5: 3.26002e-09 | J5: 0.0092632458
A6: rs10087240 | B6: 8 | C6: 129012574 | D6: T | E6: C | F6: 0.019951 | G6: 0.457631 | H6: 0.001855 | I6: 6.13056e-27 | J6: 0.016820233
A7: rs10102877 | B7: 8 | C7: 79598362 | D7: A | E7: G | F7: -0.013208 | G7: 0.684662 | H7: 0.001997 | I7: 3.91021e-11 | J7: 0.010342402
A8: rs10138752 | B8: 14 | C8: 69179971 | D8: T | E8: C | F8: -0.040319 | G8: 0.077277 | H8: 0.003453 | I8: 1.85012e-31 | J8: 0.018261977
A9: rs10146962 | B9: 14 | C9: 101170540 | D9: C | E9: T | F9: -0.015367 | G9: 0.338281 | H9: 0.00197 | I9: 6.4506e-15 | J9: 0.012200694
A10: rs10164769 | B10: 2 | C10: 237779229 | D10: T | E10: C | F10: 0.027162 | G10: 0.74307 | H10: 0.002111 | I10: 7.73036e-38 | J10: 0.020123588
A11: rs10203838 | B11: 2 | C11: 213935900 | D11: C | E11: T | F11: 0.012292 | G11: 0.417873 | H11: 0.001866 | I11: 4.66015e-11 | J11: 0.010301658
A12: rs10205474 | B12: 2 | C12: 198140249 | D12: A | E12: C | F12: -0.012945 | G12: 0.201408 | H12: 0.002325 | I12: 2.65003e-08 | J12: 0.0087078884
A13: rs1024091 | B13: 17 | C13: 40771994 | D13: T | E13: C | F13: 0.013797 | G13: 0.557743 | H13: 0.001848 | I13: 8.70964e-14 | J13: 0.011675349
A14: rs10260281 | B14: 7 | C14: 38270550 | D14: C | E14: G | F14: 0.013403 | G14: 0.236987 | H14: 0.002157 | I14: 5.33003e-10 | J14: 0.0097189013
... A460: rs9977672 | B460: 21 | C460: 40463283 | D460: A | E460: G | F460: -0.021872 | G460: 0.259116 | H460: 0.002122 | I460: 7.07946e-25 | J460: 0.016120297

Sheet Supplementary Table 10
A1: Supplementary Table 10. 206 SNPs significantly associated with basophil count used IVs in reverse MR analyses
A2: SNP | B2: Chromosome | C2: Pos | D2: Effect_allele | E2: Non-effect_allele | F2: Beta | G2: Effect_allele_frequency | H2: SE | I2: P_value | J2: r2
A3: rs10086568 | B3: 8 | C3: 6900336 | D3: A | E3: G | F3: -0.0410628 | G3: 0.320646 | H3: 6.8e-67 | I3: 0.00237648 | J3: 0.027037407
A4: rs10214237 | B4: 5 | C4: 35883734 | D4: C | E4: T | F4: -0.0187107 | G4: 0.275368 | H4: 4.1e-14 | I4: 0.00247573 | J4: 0.011829744
A5: rs10283714 | B5: 9 | C5: 95749357 | D5: T | E5: C | F5: 0.0128757 | G5: 0.593404 | H5: 1.1e-08 | I5: 0.00225499 | J5: 0.0089448986
A6: rs10430801 | B6: 10 | C6: 13490742 | D6: A | E6: G | F6: -0.0135386 | G6: 0.298979 | H6: 2.1e-08 | I6: 0.00241545 | J6: 0.0087711851
A7: rs10451478 | B7: 19 | C7: 883883 | D7: C | E7: G | F7: -0.0346588 | G7: 0.032038 | H7: 3.4e-08 | I7: 0.00627927 | J7: 0.0086395975
A8: rs1058900 | B8: 11 | C8: 308290 | D8: C | E8: T | F8: 0.0177117 | G8: 0.568038 | H8: 8.2e-15 | I8: 0.00228097 | J8: 0.012153183
A9: rs10793054 | B9: 11 | C9: 72662812 | D9: A | E9: C | F9: 0.0140333 | G9: 0.334877 | H9: 2e-09 | I9: 0.0023401 | J9: 0.0093882518
A10: rs10798014 | B10: 1 | C10: 185394834 | D10: G | E10: A | F10: -0.0139015 | G10: 0.321137 | H10: 4.7e-09 | I10: 0.00237298 | J10: 0.009168588
A11: rs10823305 | B11: 10 | C11: 70906916 | D11: A | E11: G | F11: 0.0163451 | G11: 0.828423 | H11: 2.3e-08 | I11: 0.00292438 | J11: 0.0087464844
A12: rs1086893 | B12: 1 | C12: 212563114 | D12: C | E12: T | F12: 0.032098 | G12: 0.344271 | H12: 3.2e-43 | I12: 0.00232876 | J12: 0.021571103
A13: rs10893845 | B13: 11 | C13: 128186882 | D13: G | E13: T | F13: -0.0143395 | G13: 0.501626 | H13: 8.5e-11 | I13: 0.00220877 | J13: 0.010160904
A14: rs10915186 | B14: 1 | C14: 29017659 | D14: T | E14: C | F14: 0.0138702 | G14: 0.444723 | H14: 4.2e-10 | I14: 0.00222023 | J14: 0.0097773452
... A208: rs9819371 | B208: 3 | C208: 141206800 | D208: T | E208: C | F208: -0.0326113 | G208: 0.06457 | H208: 3.5e-13 | I208: 0.00448279 | J208: 0.011385009

Sheet Supplementary Table 11
A1: Supplementary Table 11. 408 SNPs significantly associated with eosinophil count used IVs in reverse MR analyses
A2: SNP | B2: Chromosome | C2: Pos | D2: Effect_allele | E2: Non-effect_allele | F2: Beta | G2: Effect_allele_frequency | H2: SE | I2: P_value | J2: r2
A3: rs1004870 | B3: 1 | C3: 42370787 | D3: T | E3: C | F3: 0.026184 | G3: 0.588952 | H3: 0.002014 | I3: 1.26999e-38 | J3: 0.020340866
A4: rs10059018 | B4: 5 | C4: 110501604 | D4: T | E4: G | F4: -0.023358 | G4: 0.200806 | H4: 0.00247 | I4: 3.37987e-21 | J4: 0.014791345
A5: rs10062687 | B5: 5 | C5: 10624866 | D5: G | E5: T | F5: 0.024145 | G5: 0.232866 | H5: 0.002349 | I5: 9.47109e-25 | J5: 0.016076427
A6: rs10100356 | B6: 8 | C6: 130626164 | D6: A | E6: G | F6: -0.013422 | G6: 0.227209 | H6: 0.002387 | I6: 1.90999e-08 | J6: 0.0087968662
A7: rs10165678 | B7: 2 | C7: 30446568 | D7: A | E7: G | F7: -0.014675 | G7: 0.757518 | H7: 0.002302 | I7: 1.89998e-10 | J7: 0.0099695536
A8: rs10174238 | B8: 2 | C8: 191973034 | D8: A | E8: G | F8: 0.013265 | G8: 0.765591 | H8: 0.002402 | I8: 3.40997e-08 | J8: 0.0086387921
A9: rs10195713 | B9: 2 | C9: 158520905 | D9: T | E9: C | F9: 0.02494 | G9: 0.864395 | H9: 0.002947 | I9: 2.73968e-17 | J9: 0.013237253
A10: rs10208293 | B10: 2 | C10: 102966310 | D10: A | E10: G | F10: -0.078905 | G10: 0.286689 | H10: 0.002186 | I10: 1e-200 | J10: 0.047265303
A11: rs10243429 | B11: 7 | C11: 101788854 | D11: C | E11: T | F11: 0.016938 | G11: 0.29026 | H11: 0.002182 | I11: 8.82064e-15 | J11: 0.012138701
A12: rs1036332 | B12: 1 | C12: 199012478 | D12: C | E12: A | F12: -0.032696 | G12: 0.737405 | H12: 0.002257 | I12: 1.6099e-47 | J12: 0.022661181
A13: rs1037674 | B13: 7 | C13: 50217850 | D13: T | E13: G | F13: 0.013204 | G13: 0.292292 | H13: 0.002188 | I13: 1.63001e-09 | J13: 0.0094401216
A14: rs10472984 | B14: 5 | C14: 35843832 | D14: G | E14: C | F14: -0.034985 | G14: 0.339875 | H14: 0.00209 | I14: 7.62079e-63 | J14: 0.026182957
... A410: rs9979383 | B410: 21 | C410: 36715761 | D410: T | E410: C | F410: 0.028371 | G410: 0.629829 | H410: 0.002067 | I410: 8.00018e-43 | J410: 0.021467405

Sheet Supplementary Table 12
A1: Supplementary Table 12. 468 SNPs significantly associated with monocyte countused IVs in reverse MR analyses
A2: SNP | B2: Chromosome | C2: Pos | D2: Effect_allele | E2: Non-effect_allele | F2: Beta | G2: Effect_allele_frequency | H2: SE | I2: P_value | J2: r2
A3: rs1002774 | B3: 15 | C3: 42261781 | D3: A | E3: G | F3: -0.053992 | G3: 0.111651 | H3: 0.002985 | I3: 4.48023e-73 | J3: 0.02829211
A4: rs10094039 | B4: 8 | C4: 130589676 | D4: G | E4: A | F4: -0.091286 | G4: 0.616642 | H4: 0.001924 | I4: 1e-200 | J4: 0.047265303
A5: rs10099546 | B5: 8 | C5: 144638734 | D5: G | E5: A | F5: -0.020315 | G5: 0.143315 | H5: 0.002802 | I5: 4.33012e-13 | J5: 0.011339949
A6: rs10123018 | B6: 9 | C6: 113850365 | D6: A | E6: G | F6: 0.075498 | G6: 0.582145 | H6: 0.001889 | I6: 1e-200 | J6: 0.047265303
A7: rs1016680 | B7: 17 | C7: 35874385 | D7: C | E7: A | F7: -0.02553 | G7: 0.63682 | H7: 0.001951 | I7: 4.31023e-39 | J7: 0.020469769
A8: rs10197805 | B8: 2 | C8: 225750753 | D8: C | E8: T | F8: -0.041572 | G8: 0.15658 | H8: 0.002564 | I8: 4.70002e-59 | J8: 0.025357283
A9: rs10238435 | B9: 7 | C9: 28724491 | D9: T | E9: C | F9: -0.023569 | G9: 0.239724 | H9: 0.002276 | I9: 4.22961e-25 | J9: 0.01619765
A10: rs1031091 | B10: 2 | C10: 24680948 | D10: G | E10: A | F10: -0.010933 | G10: 0.336191 | H10: 0.001989 | I10: 3.92998e-08 | J10: 0.0085996659
A11: rs10403909 | B11: 19 | C11: 1008358 | D11: G | E11: A | F11: 0.018742 | G11: 0.724302 | H11: 0.002204 | I11: 1.94984e-17 | J11: 0.013299199
A12: rs10409752 | B12: 19 | C12: 6297374 | D12: G | E12: T | F12: 0.013022 | G12: 0.794453 | H12: 0.002383 | I12: 4.74002e-08 | J12: 0.0085477447
A13: rs10420703 | B13: 19 | C13: 33758488 | D13: C | E13: T | F13: 0.018408 | G13: 0.808132 | H13: 0.00249 | I13: 1.49005e-13 | J13: 0.011564099
A14: rs10437954 | B14: 12 | C14: 58003922 | D14: A | E14: G | F14: -0.01788 | G14: 0.905195 | H14: 0.003268 | I14: 4.58997e-08 | J14: 0.0085566779
... A470: rs9992013 | B470: 4 | C470: 2259463 | D470: G | E470: C | F470: 0.022401 | G470: 0.136509 | H470: 0.002796 | I470: 1.18005e-15 | J470: 0.012532011

Sheet Supplementary Table 13
A1: Supplementary Table 13. 473 SNPs significantly associated with lymphocyte countused IVs in reverse MR analyses
A2: SNP | B2: Chromosome | C2: Pos | D2: Effect_allele | E2: Non-effect_allele | F2: Beta | G2: Effect_allele_frequency | H2: SE | I2: P_value | J2: r2
A3: rs1000329 | B3: 19 | C3: 16449517 | D3: T | E3: C | F3: -0.082387 | G3: 0.676463 | H3: 0.002111 | I3: 1e-200 | J3: 0.047265303
A4: rs1002607 | B4: 9 | C4: 113858933 | D4: C | E4: T | F4: -0.012987 | G4: 0.592852 | H4: 0.001934 | I4: 1.93019e-11 | J4: 0.010504809
A5: rs10027415 | B5: 4 | C5: 80898027 | D5: T | E5: C | F5: -0.016333 | G5: 0.529463 | H5: 0.001366 | I5: 6.32995e-33 | J5: 0.018705954
A6: rs10076701 | B6: 5 | C6: 131596419 | D6: C | E6: T | F6: -0.022827 | G6: 0.55724 | H6: 0.001907 | I6: 5.5195e-33 | J6: 0.018723757
A7: rs10107362 | B7: 8 | C7: 130986984 | D7: G | E7: C | F7: 0.012837 | G7: 0.360574 | H7: 0.001975 | I7: 8.35988e-11 | J7: 0.010164822
A8: rs10109370 | B8: 8 | C8: 72909349 | D8: A | E8: C | F8: -0.018902 | G8: 0.238495 | H8: 0.002227 | I8: 2.25996e-17 | J8: 0.013272349
A9: rs10138752 | B9: 14 | C9: 69179971 | D9: T | E9: C | F9: -0.029776 | G9: 0.077325 | H9: 0.003547 | I9: 4.8899e-17 | J9: 0.013131077
A10: rs10145277 | B10: 14 | C10: 99793449 | D10: A | E10: T | F10: -0.014861 | G10: 0.624665 | H10: 0.001956 | I10: 3.19007e-14 | J10: 0.011880736
A11: rs10174056 | B11: 2 | C11: 162972370 | D11: A | E11: T | F11: 0.013981 | G11: 0.384429 | H11: 0.001942 | I11: 6.3797e-13 | J11: 0.011257456
A12: rs1017875 | B12: 11 | C12: 47999218 | D12: T | E12: C | F12: -0.036085 | G12: 0.201673 | H12: 0.002353 | I12: 5.00956e-53 | J12: 0.023985983
A13: rs10179705 | B13: 2 | C13: 188315234 | D13: A | E13: G | F13: -0.021301 | G13: 0.294374 | H13: 0.002079 | I13: 1.29003e-24 | J13: 0.016029721
A14: rs10191329 | B14: 2 | C14: 71676999 | D14: A | E14: C | F14: -0.014199 | G14: 0.175233 | H14: 0.0025 | I14: 1.38998e-08 | J14: 0.0088824122
... A475: rs9939124 | B475: 16 | C475: 75185764 | D475: T | E475: C | F475: -0.016734 | G475: 0.306976 | H475: 0.002051 | I475: 3.59998e-16 | J475: 0.012758615

Sheet Supplementary Table 14
A1: Supplementary Table 14. 390 SNPs significantly associated with neutrophil countused IVs in reverse MR analyses
A2: SNP | B2: Chromosome | C2: Pos | D2: Effect_allele | E2: Non-effect_allele | F2: Beta | G2: Effect_allele_frequency | H2: SE | I2: P_value | J2: r2
A3: rs10012827 | B3: 4 | C3: 41543318 | D3: T | E3: C | F3: 0.016277 | G3: 0.124277 | H3: 0.002957 | I3: 3.80996e-08 | J3: 0.0086082303
A4: rs10049210 | B4: 3 | C4: 156797373 | D4: C | E4: T | F4: 0.015339 | G4: 0.403384 | H4: 0.001971 | I4: 7.5405e-15 | J4: 0.012169804
A5: rs10252457 | B5: 7 | C5: 47337530 | D5: G | E5: A | F5: -0.013839 | G5: 0.425632 | H5: 0.001962 | I5: 1.82012e-12 | J5: 0.011031309
A6: rs1042725 | B6: 12 | C6: 66358347 | D6: T | E6: C | F6: 0.012765 | G6: 0.494436 | H6: 0.001924 | I6: 3.32966e-11 | J6: 0.01037959
A7: rs10447304 | B7: 5 | C7: 179172098 | D7: A | E7: G | F7: -0.016591 | G7: 0.505743 | H7: 0.001919 | I7: 5.57956e-18 | J7: 0.013524717
A8: rs1047891 | B8: 2 | C8: 211540507 | D8: A | E8: C | F8: -0.019307 | G8: 0.315122 | H8: 0.002064 | I8: 8.79023e-21 | J8: 0.014633973
A9: rs10498635 | B9: 14 | C9: 93103309 | D9: T | E9: C | F9: -0.030199 | G9: 0.183683 | H9: 0.002491 | I9: 8.72971e-34 | J9: 0.018961779
A10: rs10509912 | B10: 10 | C10: 112029405 | D10: A | E10: T | F10: -0.021052 | G10: 0.134894 | H10: 0.00281 | I10: 7.0194e-14 | J10: 0.011719762
A11: rs10750623 | B11: 11 | C11: 101782811 | D11: A | E11: G | F11: -0.010965 | G11: 0.457717 | H11: 0.001926 | I11: 1.28e-08 | J11: 0.0089044731
A12: rs10760690 | B12: 9 | C12: 102281113 | D12: T | E12: G | F12: 0.011474 | G12: 0.374011 | H12: 0.002038 | I12: 1.84999e-08 | J12: 0.0088054932
A13: rs10811668 | B13: 9 | C13: 22164991 | D13: A | E13: C | F13: -0.013505 | G13: 0.208459 | H13: 0.002386 | I13: 1.55998e-08 | J13: 0.0088514443
A14: rs10833024 | B14: 11 | C14: 3010390 | D14: T | E14: C | F14: 0.01633 | G14: 0.310102 | H14: 0.002081 | I14: 4.51024e-15 | J14: 0.01227121
... A392: rs9988894 | B392: 11 | C392: 12876944 | D392: G | E392: C | F392: 0.014978 | G392: 0.323507 | H392: 0.002075 | I392: 5.5195e-13 | J392: 0.011288355
