Workbook

Sheet Survivalexp RAW Oct_Nov 2017
A1: Survival experiment | L1: Averages/Stdev Technical replicates
A2: Subject: | C2: Anaerobic survival after aerobic inoculation of recombinant strains | L2: Averages/stdev Biological replicates
C3: DeBont+Gluconic Acid - Kanamycin
A4: Inoculation date | C4: 43030
A5: Inoculation OD600 | C5: 0.1 | D5: BW25113 2213F -
A6: Inoculated | D6: Blank | E6: 2213F - | G6: 2213F A | I6: 2213F APR
E7: p+0 | F7: p+3 | G7: p+0 | H7: p+3 | I7: p+0 | K7: p+3
A8: T1 | B8: 43038
A9: Sample | B9: Dilution: | D9: 10^0 | I9: AVERAGE | J9: STDEV | K9: 10^-1 | P9: AVERAGE | Q9: STDEV | R9: 10^-2 | W9: AVERAGE | X9: STDEV | Y9: 10^-3 | AD9: AVERAGE | AE9: STDEV | AF9: 10^-4 | AK9: AVERAGE | AL9: STDEV | AM9: 10^-5 | AR9: AVERAGE | AS9: STDEV | AT9: 10^-6 | AY9: AVERAGE | AZ9: STDEV | BA9: 10^-7 | BF9: AVERAGE | BG9: STDEV
A10: Blank | B10: 1 | D10: 0 | E10: 0 | F10: 0 | G10: 0 | H10: 0 | I10: =AVERAGE(D10:H10) -> 0 | J10: =STDEV(D10:H10) -> 0 | K10: 0 | L10: 0 | M10: 0 | N10: 0 | O10: 0 | P10: =AVERAGE(K10:O10) -> 0 | Q10: =STDEV(K10:O10) -> 0 | R10: 0 | S10: 0 | T10: 0 | U10: 0 | V10: 0 | W10: =AVERAGE(R10:V10) -> 0 | X10: =STDEV(R10:V10) -> 0 | Y10: 0 | Z10: 0 | AA10: 0 | AB10: 0 | AC10: 0 | AD10: =AVERAGE(Y10:AC10) -> 0 | AE10: =STDEV(Y10:AC10) -> 0 | AF10: 0 | AG10: 0 | AH10: 0 | AI10: 0 | AJ10: 0 | AK10: =AVERAGE(AF10:AJ10) -> 0 | AL10: =STDEV(AF10:AJ10) -> 0 | AM10: 0 | AN10: 0 | AO10: 0 | AP10: 0 | AQ10: 0 | AR10: =AVERAGE(AM10:AQ10) -> 0 | AS10: =STDEV(AM10:AQ10) -> 0 | AT10: 0 | AU10: 0 | AV10: 0 | AW10: 0 | AX10: 0 | AY10: =AVERAGE(AT10:AX10) -> 0 | AZ10: =STDEV(AT10:AX10) -> 0 | BA10: 0 | BB10: 0 | BC10: 0 | BD10: 0 | BE10: 0 | BF10: =AVERAGE(BA10:BE10) -> 0 | BG10: =STDEV(BA10:BE10) -> 0
I11: =AVERAGE(I10:I10) -> 0 | P11: =AVERAGE(P10:P10) -> 0 | W11: =AVERAGE(W10:W10) -> 0 | AD11: =AVERAGE(AD10:AD10) -> 0 | AK11: =AVERAGE(AK10:AK10) -> 0 | AR11: =AVERAGE(AR10:AR10) -> 0 | AY11: =AVERAGE(AY10:AY10) -> 0 | BF11: =AVERAGE(BF10:BF10) -> 0
I12: =SUM(J10:J10) -> 0 | P12: =SUM(Q10:Q10) -> 0 | W12: =SUM(X10:X10) -> 0 | AD12: =SUM(AE10:AE10) -> 0 | AK12: =SUM(AL10:AL10) -> 0 | AR12: =SUM(AS10:AS10) -> 0 | AY12: =SUM(AZ10:AZ10) -> 0 | BF12: =SUM(BG10:BG10) -> 0
A13: BW25113 - | B13: 1 | D13: NA | E13: NA | F13: NA | G13: NA | H13: NA | I13: =AVERAGE(D13:H13) -> #DIV/0! | J13: =STDEV(D13:H13) -> #DIV/0! | K13: NA | L13: NA | M13: NA | N13: NA | O13: NA | P13: =AVERAGE(K13:O13) -> #DIV/0! | Q13: =STDEV(K13:O13) -> #DIV/0! | R13: NA | S13: NA | T13: NA | U13: NA | V13: NA | W13: =AVERAGE(R13:V13) -> #DIV/0! | X13: =STDEV(R13:V13) -> #DIV/0! | Y13: NA | Z13: NA | AA13: NA | AB13: NA | AC13: NA | AD13: =AVERAGE(Y13:AC13) -> #DIV/0! | AE13: =STDEV(Y13:AC13) -> #DIV/0! | AF13: NA | AG13: NA | AH13: NA | AI13: NA | AJ13: NA | AK13: =AVERAGE(AF13:AJ13) -> #DIV/0! | AL13: =STDEV(AF13:AJ13) -> #DIV/0! | AM13: 18 | AN13: 23 | AO13: 19 | AP13: 14 | AQ13: 23 | AR13: =AVERAGE(AM13:AQ13) -> 19.4 | AS13: =STDEV(AM13:AQ13) -> 3.7815341 | AT13: 3 | AU13: 4 | AV13: 6 | AW13: 0 | AX13: 2 | AY13: =AVERAGE(AT13:AX13) -> 3 | AZ13: =STDEV(AT13:AX13) -> 2.236068 | BA13: 1 | BB13: 2 | BC13: 0 | BD13: 1 | BE13: 0 | BF13: =AVERAGE(BA13:BE13) -> 0.8 | BG13: =STDEV(BA13:BE13) -> 0.83666003
B14: 2 | D14: NA | E14: NA | F14: NA | G14: NA | H14: NA | I14: =AVERAGE(D14:H14) -> #DIV/0! | J14: =STDEV(D14:H14) -> #DIV/0! | K14: NA | L14: NA | M14: NA | N14: NA | O14: NA | P14: =AVERAGE(K14:O14) -> #DIV/0! | Q14: =STDEV(K14:O14) -> #DIV/0! | R14: NA | S14: NA | T14: NA | U14: NA | V14: NA | W14: =AVERAGE(R14:V14) -> #DIV/0! | X14: =STDEV(R14:V14) -> #DIV/0! | Y14: NA | Z14: NA | AA14: NA | AB14: NA | AC14: NA | AD14: =AVERAGE(Y14:AC14) -> #DIV/0! | AE14: =STDEV(Y14:AC14) -> #DIV/0! | AF14: NA | AG14: NA | AH14: NA | AI14: NA | AJ14: NA | AK14: =AVERAGE(AF14:AJ14) -> #DIV/0! | AL14: =STDEV(AF14:AJ14) -> #DIV/0! | AM14: 23 | AN14: 28 | AO14: 32 | AP14: 27 | AQ14: 24 | AR14: =AVERAGE(AM14:AQ14) -> 26.8 | AS14: =STDEV(AM14:AQ14) -> 3.5637059 | AT14: 2 | AU14: 5 | AV14: 5 | AW14: 4 | AX14: 3 | AY14: =AVERAGE(AT14:AX14) -> 3.8 | AZ14: =STDEV(AT14:AX14) -> 1.3038405 | BA14: 0 | BB14: 0 | BC14: 0 | BD14: 0 | BE14: 1 | BF14: =AVERAGE(BA14:BE14) -> 0.2 | BG14: =STDEV(BA14:BE14) -> 0.4472136
B15: 3 | D15: NA | E15: NA | F15: NA | G15: NA | H15: NA | I15: =AVERAGE(D15:H15) -> #DIV/0! | J15: =STDEV(D15:H15) -> #DIV/0! | K15: NA | L15: NA | M15: NA | N15: NA | O15: NA | P15: =AVERAGE(K15:O15) -> #DIV/0! | Q15: =STDEV(K15:O15) -> #DIV/0! | R15: NA | S15: NA | T15: NA | U15: NA | V15: NA | W15: =AVERAGE(R15:V15) -> #DIV/0! | X15: =STDEV(R15:V15) -> #DIV/0! | Y15: NA | Z15: NA | AA15: NA | AB15: NA | AC15: NA | AD15: =AVERAGE(Y15:AC15) -> #DIV/0! | AE15: =STDEV(Y15:AC15) -> #DIV/0! | AF15: NA | AG15: NA | AH15: NA | AI15: NA | AJ15: NA | AK15: =AVERAGE(AF15:AJ15) -> #DIV/0! | AL15: =STDEV(AF15:AJ15) -> #DIV/0! | AM15: 52 | AN15: 39 | AO15: 42 | AP15: 44 | AQ15: 37 | AR15: =AVERAGE(AM15:AQ15) -> 42.8 | AS15: =STDEV(AM15:AQ15) -> 5.8051701 | AT15: 6 | AU15: 2 | AV15: 5 | AW15: 9 | AX15: 4 | AY15: =AVERAGE(AT15:AX15) -> 5.2 | AZ15: =STDEV(AT15:AX15) -> 2.5884358 | BA15: 0 | BB15: 0 | BC15: 0 | BD15: 1 | BE15: 0 | BF15: =AVERAGE(BA15:BE15) -> 0.2 | BG15: =STDEV(BA15:BE15) -> 0.4472136
A16: average | I16: =AVERAGE(I13:I15) -> #DIV/0! | P16: =AVERAGE(P13:P15) -> #DIV/0! | W16: =AVERAGE(W13:W15) -> #DIV/0! | AD16: =AVERAGE(AD13:AD15) -> #DIV/0! | AK16: =AVERAGE(AK13:AK15) -> #DIV/0! | AR16: =AVERAGE(AR13:AR15) -> 29.666667 | AY16: =AVERAGE(AY13:AY15) -> 4 | BF16: =AVERAGE(BF13:BF15) -> 0.4
A17: stdev | I17: =SUM(J13:J15) -> #DIV/0! | P17: =SUM(Q13:Q15) -> #DIV/0! | W17: =SUM(X13:X15) -> #DIV/0! | AD17: =SUM(AE13:AE15) -> #DIV/0! | AK17: =SUM(AL13:AL15) -> #DIV/0! | AR17: =SUM(AS13:AS15) -> 13.15041 | AY17: =SUM(AZ13:AZ15) -> 6.1283443 | BF17: =SUM(BG13:BG15) -> 1.7310872
A18: 2213F - | B18: 1 | D18: NA | E18: NA | F18: NA | G18: NA | H18: NA | I18: =AVERAGE(D18:H18) -> #DIV/0! | J18: =STDEV(D18:H18) -> #DIV/0! | K18: NA | L18: NA | M18: NA | N18: NA | O18: NA | P18: =AVERAGE(K18:O18) -> #DIV/0! | Q18: =STDEV(K18:O18) -> #DIV/0! | R18: NA | S18: NA | T18: NA | U18: NA | V18: NA | W18: =AVERAGE(R18:V18) -> #DIV/0! | X18: =STDEV(R18:V18) -> #DIV/0! | Y18: NA | Z18: NA | AA18: NA | AB18: NA | AC18: NA | AD18: =AVERAGE(Y18:AC18) -> #DIV/0! | AE18: =STDEV(Y18:AC18) -> #DIV/0! | AF18: 37 | AG18: 38 | AH18: 31 | AI18: 49 | AJ18: 33 | AK18: =AVERAGE(AF18:AJ18) -> 37.6 | AL18: =STDEV(AF18:AJ18) -> 6.9856997 | AM18: 4 | AN18: 5 | AO18: 3 | AP18: 8 | AQ18: 4 | AR18: =AVERAGE(AM18:AQ18) -> 4.8 | AS18: =STDEV(AM18:AQ18) -> 1.9235384 | AT18: 1 | AU18: 1 | AV18: 0 | AW18: 0 | AX18: 0 | AY18: =AVERAGE(AT18:AX18) -> 0.4 | AZ18: =STDEV(AT18:AX18) -> 0.54772256 | BA18: 0 | BB18: 0 | BC18: 0 | BD18: 0 | BE18: 0 | BF18: =AVERAGE(BA18:BE18) -> 0 | BG18: =STDEV(BA18:BE18) -> 0
A19: p+0 | B19: 2 | D19: NA | E19: NA | F19: NA | G19: NA | H19: NA | I19: =AVERAGE(D19:H19) -> #DIV/0! | J19: =STDEV(D19:H19) -> #DIV/0! | K19: NA | L19: NA | M19: NA | N19: NA | O19: NA | P19: =AVERAGE(K19:O19) -> #DIV/0! | Q19: =STDEV(K19:O19) -> #DIV/0! | R19: NA | S19: NA | T19: NA | U19: NA | V19: NA | W19: =AVERAGE(R19:V19) -> #DIV/0! | X19: =STDEV(R19:V19) -> #DIV/0! | Y19: NA | Z19: NA | AA19: NA | AB19: NA | AC19: NA | AD19: =AVERAGE(Y19:AC19) -> #DIV/0! | AE19: =STDEV(Y19:AC19) -> #DIV/0! | AF19: 32 | AG19: 33 | AH19: 42 | AI19: 20 | AJ19: 38 | AK19: =AVERAGE(AF19:AJ19) -> 33 | AL19: =STDEV(AF19:AJ19) -> 8.3066239 | AM19: 5 | AN19: 0 | AO19: 4 | AP19: 2 | AQ19: 5 | AR19: =AVERAGE(AM19:AQ19) -> 3.2 | AS19: =STDEV(AM19:AQ19) -> 2.1679483 | AT19: 0 | AU19: 3 | AV19: 1 | AW19: 0 | AX19: 1 | AY19: =AVERAGE(AT19:AX19) -> 1 | AZ19: =STDEV(AT19:AX19) -> 1.2247449 | BA19: 0 | BB19: 0 | BC19: 0 | BD19: 0 | BE19: 0 | BF19: =AVERAGE(BA19:BE19) -> 0 | BG19: =STDEV(BA19:BE19) -> 0
B20: 3 | D20: NA | E20: NA | F20: NA | G20: NA | H20: NA | I20: =AVERAGE(D20:H20) -> #DIV/0! | J20: =STDEV(D20:H20) -> #DIV/0! | K20: NA | L20: NA | M20: NA | N20: NA | O20: NA | P20: =AVERAGE(K20:O20) -> #DIV/0! | Q20: =STDEV(K20:O20) -> #DIV/0! | R20: NA | S20: NA | T20: NA | U20: NA | V20: NA | W20: =AVERAGE(R20:V20) -> #DIV/0! | X20: =STDEV(R20:V20) -> #DIV/0! | Y20: NA | Z20: NA | AA20: NA | AB20: NA | AC20: NA | AD20: =AVERAGE(Y20:AC20) -> #DIV/0! | AE20: =STDEV(Y20:AC20) -> #DIV/0! | AF20: 46 | AG20: 48 | AH20: 57 | AI20: 57 | AJ20: 54 | AK20: =AVERAGE(AF20:AJ20) -> 52.4 | AL20: =STDEV(AF20:AJ20) -> 5.1283526 | AM20: 4 | AN20: 8 | AO20: 5 | AP20: 9 | AQ20: 4 | AR20: =AVERAGE(AM20:AQ20) -> 6 | AS20: =STDEV(AM20:AQ20) -> 2.3452079 | AT20: 1 | AU20: 1 | AV20: 0 | AW20: 0 | AX20: 0 | AY20: =AVERAGE(AT20:AX20) -> 0.4 | AZ20: =STDEV(AT20:AX20) -> 0.54772256 | BA20: 0 | BB20: 0 | BC20: 0 | BD20: 0 | BE20: 0 | BF20: =AVERAGE(BA20:BE20) -> 0 | BG20: =STDEV(BA20:BE20) -> 0
A21: average | I21: =AVERAGE(I18:I19) -> #DIV/0! | P21: =AVERAGE(P18:P19) -> #DIV/0! | W21: =AVERAGE(W18:W19) -> #DIV/0! | AD21: =AVERAGE(AD18:AD19) -> #DIV/0! | AK21: =AVERAGE(AK18:AK19) -> 35.3 | AR21: =AVERAGE(AR18:AR19) -> 4 | AY21: =AVERAGE(AY18:AY19) -> 0.7 | BF21: =AVERAGE(BF18:BF19) -> 0
A22: stdev | I22: =SUM(J18:J19) -> #DIV/0! | P22: =SUM(Q18:Q19) -> #DIV/0! | W22: =SUM(X18:X19) -> #DIV/0! | AD22: =SUM(AE18:AE19) -> #DIV/0! | AK22: =SUM(AL18:AL19) -> 15.292324 | AR22: =SUM(AS18:AS19) -> 4.0914867 | AY22: =SUM(AZ18:AZ19) -> 1.7724674 | BF22: =SUM(BG18:BG19) -> 0
A23: p+3 | B23: 1 | D23: NA | E23: NA | F23: NA | G23: NA | H23: NA | I23: =AVERAGE(D23:H23) -> #DIV/0! | J23: =STDEV(D23:H23) -> #DIV/0! | K23: NA | L23: NA | M23: NA | N23: NA | O23: NA | P23: =AVERAGE(K23:O23) -> #DIV/0! | Q23: =STDEV(K23:O23) -> #DIV/0! | R23: NA | S23: NA | T23: NA | U23: NA | V23: NA | W23: =AVERAGE(R23:V23) -> #DIV/0! | X23: =STDEV(R23:V23) -> #DIV/0! | Y23: NA | Z23: NA | AA23: NA | AB23: NA | AC23: NA | AD23: =AVERAGE(Y23:AC23) -> #DIV/0! | AE23: =STDEV(Y23:AC23) -> #DIV/0! | AF23: 49 | AG23: 46 | AH23: 59 | AI23: 62 | AJ23: 45 | AK23: =AVERAGE(AF23:AJ23) -> 52.2 | AL23: =STDEV(AF23:AJ23) -> 7.7910205 | AM23: 8 | AN23: 9 | AO23: 14 | AP23: 11 | AQ23: 14 | AR23: =AVERAGE(AM23:AQ23) -> 11.2 | AS23: =STDEV(AM23:AQ23) -> 2.7748874 | AT23: 0 | AU23: 0 | AV23: 1 | AW23: 0 | AX23: 0 | AY23: =AVERAGE(AT23:AX23) -> 0.2 | AZ23: =STDEV(AT23:AX23) -> 0.4472136 | BA23: 0 | BB23: 0 | BC23: 0 | BD23: 0 | BE23: 1 | BF23: =AVERAGE(BA23:BE23) -> 0.2 | BG23: =STDEV(BA23:BE23) -> 0.4472136
B24: 2 | D24: NA | E24: NA | F24: NA | G24: NA | H24: NA | I24: =AVERAGE(D24:H24) -> #DIV/0! | J24: =STDEV(D24:H24) -> #DIV/0! | K24: NA | L24: NA | M24: NA | N24: NA | O24: NA | P24: =AVERAGE(K24:O24) -> #DIV/0! | Q24: =STDEV(K24:O24) -> #DIV/0! | R24: NA | S24: NA | T24: NA | U24: NA | V24: NA | W24: =AVERAGE(R24:V24) -> #DIV/0! | X24: =STDEV(R24:V24) -> #DIV/0! | Y24: NA | Z24: NA | AA24: NA | AB24: NA | AC24: NA | AD24: =AVERAGE(Y24:AC24) -> #DIV/0! | AE24: =STDEV(Y24:AC24) -> #DIV/0! | AF24: 67 | AG24: 55 | AH24: 69 | AI24: 73 | AJ24: 78 | AK24: =AVERAGE(AF24:AJ24) -> 68.4 | AL24: =STDEV(AF24:AJ24) -> 8.5906926 | AM24: 5 | AN24: 8 | AO24: 13 | AP24: 8 | AQ24: 4 | AR24: =AVERAGE(AM24:AQ24) -> 7.6 | AS24: =STDEV(AM24:AQ24) -> 3.5071356 | AT24: 2 | AU24: 0 | AV24: 0 | AW24: 3 | AX24: 0 | AY24: =AVERAGE(AT24:AX24) -> 1 | AZ24: =STDEV(AT24:AX24) -> 1.4142136 | BA24: 0 | BB24: 1 | BC24: 0 | BD24: 1 | BE24: 0 | BF24: =AVERAGE(BA24:BE24) -> 0.4 | BG24: =STDEV(BA24:BE24) -> 0.54772256
B25: 3 | D25: NA | E25: NA | F25: NA | G25: NA | H25: NA | I25: =AVERAGE(D25:H25) -> #DIV/0! | J25: =STDEV(D25:H25) -> #DIV/0! | K25: NA | L25: NA | M25: NA | N25: NA | O25: NA | P25: =AVERAGE(K25:O25) -> #DIV/0! | Q25: =STDEV(K25:O25) -> #DIV/0! | R25: NA | S25: NA | T25: NA | U25: NA | V25: NA | W25: =AVERAGE(R25:V25) -> #DIV/0! | X25: =STDEV(R25:V25) -> #DIV/0! | Y25: NA | Z25: NA | AA25: NA | AB25: NA | AC25: NA | AD25: =AVERAGE(Y25:AC25) -> #DIV/0! | AE25: =STDEV(Y25:AC25) -> #DIV/0! | AF25: 40 | AG25: 44 | AH25: 50 | AI25: 46 | AJ25: 53 | AK25: =AVERAGE(AF25:AJ25) -> 46.6 | AL25: =STDEV(AF25:AJ25) -> 5.07937 | AM25: 8 | AN25: 9 | AO25: NA | AP25: 7 | AQ25: 2 | AR25: =AVERAGE(AM25:AQ25) -> 6.5 | AS25: =STDEV(AM25:AQ25) -> 3.1091264 | AT25: 0 | AU25: 1 | AV25: 0 | AW25: 2 | AX25: 0 | AY25: =AVERAGE(AT25:AX25) -> 0.6 | AZ25: =STDEV(AT25:AX25) -> 0.89442719 | BA25: 0 | BB25: 0 | BC25: 0 | BD25: 0 | BE25: 0 | BF25: =AVERAGE(BA25:BE25) -> 0 | BG25: =STDEV(BA25:BE25) -> 0
A26: average | I26: =AVERAGE(I23:I25) -> #DIV/0! | P26: =AVERAGE(P23:P25) -> #DIV/0! | W26: =AVERAGE(W23:W25) -> #DIV/0! | AD26: =AVERAGE(AD23:AD25) -> #DIV/0! | AK26: =AVERAGE(AK23:AK25) -> 55.733333 | AR26: =AVERAGE(AR23:AR25) -> 8.4333333 | AY26: =AVERAGE(AY23:AY25) -> 0.6 | BF26: =AVERAGE(BF23:BF25) -> 0.2
A27: stdev | I27: =SUM(J23:J25) -> #DIV/0! | P27: =SUM(Q23:Q25) -> #DIV/0! | W27: =SUM(X23:X25) -> #DIV/0! | AD27: =SUM(AE23:AE25) -> #DIV/0! | AK27: =SUM(AL23:AL25) -> 21.461083 | AR27: =SUM(AS23:AS25) -> 9.3911493 | AY27: =SUM(AZ23:AZ25) -> 2.7558543 | BF27: =SUM(BG23:BG25) -> 0.99493615
A28: 2213F A | B28: 1 | D28: NA | E28: NA | F28: NA | G28: NA | H28: NA | I28: =AVERAGE(D28:H28) -> #DIV/0! | J28: =STDEV(D28:H28) -> #DIV/0! | K28: NA | L28: NA | M28: NA | N28: NA | O28: NA | P28: =AVERAGE(K28:O28) -> #DIV/0! | Q28: =STDEV(K28:O28) -> #DIV/0! | R28: NA | S28: NA | T28: NA | U28: NA | V28: NA | W28: =AVERAGE(R28:V28) -> #DIV/0! | X28: =STDEV(R28:V28) -> #DIV/0! | Y28: NA | Z28: NA | AA28: NA | AB28: NA | AC28: NA | AD28: =AVERAGE(Y28:AC28) -> #DIV/0! | AE28: =STDEV(Y28:AC28) -> #DIV/0! | AF28: 50 | AG28: 58 | AH28: 46 | AI28: 43 | AJ28: 47 | AK28: =AVERAGE(AF28:AJ28) -> 48.8 | AL28: =STDEV(AF28:AJ28) -> 5.7183914 | AM28: 5 | AN28: 9 | AO28: 6 | AP28: 5 | AQ28: 1 | AR28: =AVERAGE(AM28:AQ28) -> 5.2 | AS28: =STDEV(AM28:AQ28) -> 2.8635642 | AT28: 1 | AU28: 1 | AV28: 1 | AW28: 1 | AX28: 2 | AY28: =AVERAGE(AT28:AX28) -> 1.2 | AZ28: =STDEV(AT28:AX28) -> 0.4472136 | BA28: 0 | BB28: 0 | BC28: 1 | BD28: 0 | BE28: 1 | BF28: =AVERAGE(BA28:BE28) -> 0.4 | BG28: =STDEV(BA28:BE28) -> 0.54772256
A29: p+0 | B29: 2 | D29: NA | E29: NA | F29: NA | G29: NA | H29: NA | I29: =AVERAGE(D29:H29) -> #DIV/0! | J29: =STDEV(D29:H29) -> #DIV/0! | K29: NA | L29: NA | M29: NA | N29: NA | O29: NA | P29: =AVERAGE(K29:O29) -> #DIV/0! | Q29: =STDEV(K29:O29) -> #DIV/0! | R29: NA | S29: NA | T29: NA | U29: NA | V29: NA | W29: =AVERAGE(R29:V29) -> #DIV/0! | X29: =STDEV(R29:V29) -> #DIV/0! | Y29: NA | Z29: NA | AA29: NA | AB29: NA | AC29: NA | AD29: =AVERAGE(Y29:AC29) -> #DIV/0! | AE29: =STDEV(Y29:AC29) -> #DIV/0! | AF29: 46 | AG29: 63 | AH29: 60 | AI29: 52 | AJ29: 58 | AK29: =AVERAGE(AF29:AJ29) -> 55.8 | AL29: =STDEV(AF29:AJ29) -> 6.7970582 | AM29: 4 | AN29: 6 | AO29: 9 | AP29: 5 | AQ29: 5 | AR29: =AVERAGE(AM29:AQ29) -> 5.8 | AS29: =STDEV(AM29:AQ29) -> 1.9235384 | AT29: 1 | AU29: 1 | AV29: 0 | AW29: 0 | AX29: 0 | AY29: =AVERAGE(AT29:AX29) -> 0.4 | AZ29: =STDEV(AT29:AX29) -> 0.54772256 | BA29: 0 | BB29: 0 | BC29: 0 | BD29: 1 | BE29: 0 | BF29: =AVERAGE(BA29:BE29) -> 0.2 | BG29: =STDEV(BA29:BE29) -> 0.4472136
B30: 3 | D30: NA | E30: NA | F30: NA | G30: NA | H30: NA | I30: =AVERAGE(D30:H30) -> #DIV/0! | J30: =STDEV(D30:H30) -> #DIV/0! | K30: NA | L30: NA | M30: NA | N30: NA | O30: NA | P30: =AVERAGE(K30:O30) -> #DIV/0! | Q30: =STDEV(K30:O30) -> #DIV/0! | R30: NA | S30: NA | T30: NA | U30: NA | V30: NA | W30: =AVERAGE(R30:V30) -> #DIV/0! | X30: =STDEV(R30:V30) -> #DIV/0! | Y30: NA | Z30: NA | AA30: NA | AB30: NA | AC30: NA | AD30: =AVERAGE(Y30:AC30) -> #DIV/0! | AE30: =STDEV(Y30:AC30) -> #DIV/0! | AF30: 33 | AG30: 37 | AH30: 43 | AI30: 46 | AJ30: 38 | AK30: =AVERAGE(AF30:AJ30) -> 39.4 | AL30: =STDEV(AF30:AJ30) -> 5.1283526 | AM30: 3 | AN30: 6 | AO30: 3 | AP30: 7 | AQ30: 2 | AR30: =AVERAGE(AM30:AQ30) -> 4.2 | AS30: =STDEV(AM30:AQ30) -> 2.1679483 | AT30: 0 | AU30: 1 | AV30: 0 | AW30: 0 | AX30: 0 | AY30: =AVERAGE(AT30:AX30) -> 0.2 | AZ30: =STDEV(AT30:AX30) -> 0.4472136 | BA30: 0 | BB30: 0 | BC30: 0 | BD30: 0 | BE30: 0 | BF30: =AVERAGE(BA30:BE30) -> 0 | BG30: =STDEV(BA30:BE30) -> 0
A31: average | I31: =AVERAGE(I29:I30) -> #DIV/0! | P31: =AVERAGE(P29:P30) -> #DIV/0! | W31: =AVERAGE(W29:W30) -> #DIV/0! | AD31: =AVERAGE(AD29:AD30) -> #DIV/0! | AK31: =AVERAGE(AK29:AK30) -> 47.6 | AR31: =AVERAGE(AR29:AR30) -> 5 | AY31: =AVERAGE(AY29:AY30) -> 0.3 | BF31: =AVERAGE(BF29:BF30) -> 0.1
A32: stdev | I32: =SUM(J29:J30) -> #DIV/0! | P32: =SUM(Q29:Q30) -> #DIV/0! | W32: =SUM(X29:X30) -> #DIV/0! | AD32: =SUM(AE29:AE30) -> #DIV/0! | AK32: =SUM(AL29:AL30) -> 11.925411 | AR32: =SUM(AS29:AS30) -> 4.0914867 | AY32: =SUM(AZ29:AZ30) -> 0.99493615 | BF32: =SUM(BG29:BG30) -> 0.4472136
A33: p+3 | B33: 1 | D33: NA | E33: NA | F33: NA | G33: NA | H33: NA | I33: =AVERAGE(D33:H33) -> #DIV/0! | J33: =STDEV(D33:H33) -> #DIV/0! | K33: NA | L33: NA | M33: NA | N33: NA | O33: NA | P33: =AVERAGE(K33:O33) -> #DIV/0! | Q33: =STDEV(K33:O33) -> #DIV/0! | R33: NA | S33: NA | T33: NA | U33: NA | V33: NA | W33: =AVERAGE(R33:V33) -> #DIV/0! | X33: =STDEV(R33:V33) -> #DIV/0! | Y33: NA | Z33: NA | AA33: NA | AB33: NA | AC33: NA | AD33: =AVERAGE(Y33:AC33) -> #DIV/0! | AE33: =STDEV(Y33:AC33) -> #DIV/0! | AF33: 36 | AG33: 18 | AH33: 22 | AI33: 35 | AJ33: 29 | AK33: =AVERAGE(AF33:AJ33) -> 28 | AL33: =STDEV(AF33:AJ33) -> 7.9056942 | AM33: 4 | AN33: 11 | AO33: 4 | AP33: 5 | AQ33: 4 | AR33: =AVERAGE(AM33:AQ33) -> 5.6 | AS33: =STDEV(AM33:AQ33) -> 3.0495901 | AT33: 0 | AU33: 2 | AV33: 2 | AW33: 0 | AX33: 0 | AY33: =AVERAGE(AT33:AX33) -> 0.8 | AZ33: =STDEV(AT33:AX33) -> 1.0954451 | BA33: 0 | BB33: 0 | BC33: 0 | BD33: 1 | BE33: 0 | BF33: =AVERAGE(BA33:BE33) -> 0.2 | BG33: =STDEV(BA33:BE33) -> 0.4472136
B34: 2 | D34: NA | E34: NA | F34: NA | G34: NA | H34: NA | I34: =AVERAGE(D34:H34) -> #DIV/0! | J34: =STDEV(D34:H34) -> #DIV/0! | K34: NA | L34: NA | M34: NA | N34: NA | O34: NA | P34: =AVERAGE(K34:O34) -> #DIV/0! | Q34: =STDEV(K34:O34) -> #DIV/0! | R34: NA | S34: NA | T34: NA | U34: NA | V34: NA | W34: =AVERAGE(R34:V34) -> #DIV/0! | X34: =STDEV(R34:V34) -> #DIV/0! | Y34: NA | Z34: NA | AA34: NA | AB34: NA | AC34: NA | AD34: =AVERAGE(Y34:AC34) -> #DIV/0! | AE34: =STDEV(Y34:AC34) -> #DIV/0! | AF34: 37 | AG34: 34 | AH34: 27 | AI34: 38 | AJ34: 41 | AK34: =AVERAGE(AF34:AJ34) -> 35.4 | AL34: =STDEV(AF34:AJ34) -> 5.3197744 | AM34: 3 | AN34: 6 | AO34: 2 | AP34: 5 | AQ34: 6 | AR34: =AVERAGE(AM34:AQ34) -> 4.4 | AS34: =STDEV(AM34:AQ34) -> 1.8165902 | AT34: 0 | AU34: 3 | AV34: 0 | AW34: 2 | AX34: 0 | AY34: =AVERAGE(AT34:AX34) -> 1 | AZ34: =STDEV(AT34:AX34) -> 1.4142136 | BA34: 0 | BB34: 0 | BC34: 0 | BD34: 2 | BE34: 1 | BF34: =AVERAGE(BA34:BE34) -> 0.6 | BG34: =STDEV(BA34:BE34) -> 0.89442719
B35: 3 | D35: NA | E35: NA | F35: NA | G35: NA | H35: NA | I35: =AVERAGE(D35:H35) -> #DIV/0! | J35: =STDEV(D35:H35) -> #DIV/0! | K35: NA | L35: NA | M35: NA | N35: NA | O35: NA | P35: =AVERAGE(K35:O35) -> #DIV/0! | Q35: =STDEV(K35:O35) -> #DIV/0! | R35: NA | S35: NA | T35: NA | U35: NA | V35: NA | W35: =AVERAGE(R35:V35) -> #DIV/0! | X35: =STDEV(R35:V35) -> #DIV/0! | Y35: NA | Z35: NA | AA35: NA | AB35: NA | AC35: NA | AD35: =AVERAGE(Y35:AC35) -> #DIV/0! | AE35: =STDEV(Y35:AC35) -> #DIV/0! | AF35: 36 | AG35: 38 | AH35: 43 | AI35: 38 | AJ35: 44 | AK35: =AVERAGE(AF35:AJ35) -> 39.8 | AL35: =STDEV(AF35:AJ35) -> 3.4928498 | AM35: 2 | AN35: 4 | AO35: 2 | AP35: 3 | AQ35: 5 | AR35: =AVERAGE(AM35:AQ35) -> 3.2 | AS35: =STDEV(AM35:AQ35) -> 1.3038405 | AT35: 0 | AU35: 1 | AV35: 1 | AW35: 1 | AX35: 0 | AY35: =AVERAGE(AT35:AX35) -> 0.6 | AZ35: =STDEV(AT35:AX35) -> 0.54772256 | BA35: 0 | BB35: 0 | BC35: 0 | BD35: 1 | BE35: 2 | BF35: =AVERAGE(BA35:BE35) -> 0.6 | BG35: =STDEV(BA35:BE35) -> 0.89442719
A36: average | I36: =AVERAGE(I33:I34) -> #DIV/0! | P36: =AVERAGE(P33:P34) -> #DIV/0! | W36: =AVERAGE(W33:W34) -> #DIV/0! | AD36: =AVERAGE(AD33:AD34) -> #DIV/0! | AK36: =AVERAGE(AK33:AK34) -> 31.7 | AR36: =AVERAGE(AR33:AR34) -> 5 | AY36: =AVERAGE(AY33:AY34) -> 0.9 | BF36: =AVERAGE(BF33:BF34) -> 0.4
A37: stdev | I37: =SUM(J33:J34) -> #DIV/0! | P37: =SUM(Q33:Q34) -> #DIV/0! | W37: =SUM(X33:X34) -> #DIV/0! | AD37: =SUM(AE33:AE34) -> #DIV/0! | AK37: =SUM(AL33:AL34) -> 13.225469 | AR37: =SUM(AS33:AS34) -> 4.8661803 | AY37: =SUM(AZ33:AZ34) -> 2.5096587 | BF37: =SUM(BG33:BG34) -> 1.3416408
A38: 2213F APR | B38: 1 | D38: NA | E38: NA | F38: NA | G38: NA | H38: NA | I38: =AVERAGE(D38:H38) -> #DIV/0! | J38: =STDEV(D38:H38) -> #DIV/0! | K38: NA | L38: NA | M38: NA | N38: NA | O38: NA | P38: =AVERAGE(K38:O38) -> #DIV/0! | Q38: =STDEV(K38:O38) -> #DIV/0! | R38: NA | S38: NA | T38: NA | U38: NA | V38: NA | W38: =AVERAGE(R38:V38) -> #DIV/0! | X38: =STDEV(R38:V38) -> #DIV/0! | Y38: NA | Z38: NA | AA38: NA | AB38: NA | AC38: NA | AD38: =AVERAGE(Y38:AC38) -> #DIV/0! | AE38: =STDEV(Y38:AC38) -> #DIV/0! | AF38: 40 | AG38: 43 | AH38: 41 | AI38: 44 | AJ38: 37 | AK38: =AVERAGE(AF38:AJ38) -> 41 | AL38: =STDEV(AF38:AJ38) -> 2.7386128 | AM38: 6 | AN38: 8 | AO38: 5 | AP38: 8 | AQ38: 8 | AR38: =AVERAGE(AM38:AQ38) -> 7 | AS38: =STDEV(AM38:AQ38) -> 1.4142136 | AT38: 0 | AU38: 0 | AV38: 1 | AW38: 1 | AX38: 0 | AY38: =AVERAGE(AT38:AX38) -> 0.4 | AZ38: =STDEV(AT38:AX38) -> 0.54772256 | BA38: 0 | BB38: 0 | BC38: 0 | BD38: 0 | BE38: 1 | BF38: =AVERAGE(BA38:BE38) -> 0.2 | BG38: =STDEV(BA38:BE38) -> 0.4472136
A39: p+0 | B39: 2 | D39: NA | E39: NA | F39: NA | G39: NA | H39: NA | I39: =AVERAGE(D39:H39) -> #DIV/0! | J39: =STDEV(D39:H39) -> #DIV/0! | K39: NA | L39: NA | M39: NA | N39: NA | O39: NA | P39: =AVERAGE(K39:O39) -> #DIV/0! | Q39: =STDEV(K39:O39) -> #DIV/0! | R39: NA | S39: NA | T39: NA | U39: NA | V39: NA | W39: =AVERAGE(R39:V39) -> #DIV/0! | X39: =STDEV(R39:V39) -> #DIV/0! | Y39: NA | Z39: NA | AA39: NA | AB39: NA | AC39: NA | AD39: =AVERAGE(Y39:AC39) -> #DIV/0! | AE39: =STDEV(Y39:AC39) -> #DIV/0! | AF39: 51 | AG39: 37 | AH39: 43 | AI39: 42 | AJ39: 47 | AK39: =AVERAGE(AF39:AJ39) -> 44 | AL39: =STDEV(AF39:AJ39) -> 5.2915026 | AM39: 4 | AN39: 4 | AO39: 4 | AP39: 7 | AQ39: 5 | AR39: =AVERAGE(AM39:AQ39) -> 4.8 | AS39: =STDEV(AM39:AQ39) -> 1.3038405 | AT39: 2 | AU39: 2 | AV39: 2 | AW39: 0 | AX39: 0 | AY39: =AVERAGE(AT39:AX39) -> 1.2 | AZ39: =STDEV(AT39:AX39) -> 1.0954451 | BA39: 1 | BB39: 1 | BC39: 0 | BD39: 0 | BE39: 0 | BF39: =AVERAGE(BA39:BE39) -> 0.4 | BG39: =STDEV(BA39:BE39) -> 0.54772256
B40: 3 | D40: NA | E40: NA | F40: NA | G40: NA | H40: NA | I40: =AVERAGE(D40:H40) -> #DIV/0! | J40: =STDEV(D40:H40) -> #DIV/0! | K40: NA | L40: NA | M40: NA | N40: NA | O40: NA | P40: =AVERAGE(K40:O40) -> #DIV/0! | Q40: =STDEV(K40:O40) -> #DIV/0! | R40: NA | S40: NA | T40: NA | U40: NA | V40: NA | W40: =AVERAGE(R40:V40) -> #DIV/0! | X40: =STDEV(R40:V40) -> #DIV/0! | Y40: NA | Z40: NA | AA40: NA | AB40: NA | AC40: NA | AD40: =AVERAGE(Y40:AC40) -> #DIV/0! | AE40: =STDEV(Y40:AC40) -> #DIV/0! | AF40: 53 | AG40: 62 | AH40: 50 | AI40: 59 | AJ40: 48 | AK40: =AVERAGE(AF40:AJ40) -> 54.4 | AL40: =STDEV(AF40:AJ40) -> 5.9413803 | AM40: 6 | AN40: 3 | AO40: 7 | AP40: 2 | AQ40: 5 | AR40: =AVERAGE(AM40:AQ40) -> 4.6 | AS40: =STDEV(AM40:AQ40) -> 2.0736441 | AT40: 1 | AU40: 0 | AV40: 0 | AW40: 0 | AX40: 0 | AY40: =AVERAGE(AT40:AX40) -> 0.2 | AZ40: =STDEV(AT40:AX40) -> 0.4472136 | BA40: 0 | BB40: 0 | BC40: 0 | BD40: 0 | BE40: 0 | BF40: =AVERAGE(BA40:BE40) -> 0 | BG40: =STDEV(BA40:BE40) -> 0
...

Sheet Survivalexp results
A1: Survival experiment
A2: Subject: | C2: Anaerobic survival after aerobic inoculation of recombinant strains
C3: DeBont+Gluconic Acid - Kanamycin only in 2213-/A/APR
A4: Inoculation date | C4: 43030
A5: Inoculated | C5: Blank | D5: BW25113 2213F - | E5: 2213F - | G5: 2213F A | I5: 2213F APR
D6: dilution
D7: T1 | N7: T3 | X7: T5 | AH7: T10 | AR7: T12 | BB7: T15 | BL7: T17 | BV7: T31
C8: Sample | D8: =10^0 -> 1 | E8: =10^-1 -> 0.1 | F8: =10^-2 -> 0.01 | G8: =10^-3 -> 0.001 | H8: =10^-4 -> 0.0001 | I8: =10^-5 -> 1e-05 | J8: =10^-6 -> 1e-06 | K8: =10^-7 -> 1e-07 | L8: Average nr of bacteria | M8: stdev | N8: =10^0 -> 1 | O8: =10^-1 -> 0.1 | P8: =10^-2 -> 0.01 | Q8: =10^-3 -> 0.001 | R8: =10^-4 -> 0.0001 | S8: =10^-5 -> 1e-05 | T8: =10^-6 -> 1e-06 | U8: =10^-7 -> 1e-07 | V8: Average nr of bacteria | W8: stdev | X8: =10^0 -> 1 | Y8: =10^-1 -> 0.1 | Z8: =10^-2 -> 0.01 | AA8: =10^-3 -> 0.001 | AB8: =10^-4 -> 0.0001 | AC8: =10^-5 -> 1e-05 | AD8: =10^-6 -> 1e-06 | AE8: =10^-7 -> 1e-07 | AF8: Average nr of bacteria | AG8: stdev | AH8: =10^0 -> 1 | AI8: =10^-1 -> 0.1 | AJ8: =10^-2 -> 0.01 | AK8: =10^-3 -> 0.001 | AL8: =10^-4 -> 0.0001 | AM8: =10^-5 -> 1e-05 | AN8: =10^-6 -> 1e-06 | AO8: =10^-7 -> 1e-07 | AP8: Average nr of bacteria | AQ8: stdev | AR8: =10^0 -> 1 | AS8: =10^-1 -> 0.1 | AT8: =10^-2 -> 0.01 | AU8: =10^-3 -> 0.001 | AV8: =10^-4 -> 0.0001 | AW8: =10^-5 -> 1e-05 | AX8: =10^-6 -> 1e-06 | AY8: =10^-7 -> 1e-07 | AZ8: Average nr of bacteria | BA8: stdev | BB8: =10^0 -> 1 | BC8: =10^-1 -> 0.1 | BD8: =10^-2 -> 0.01 | BE8: =10^-3 -> 0.001 | BF8: =10^-4 -> 0.0001 | BG8: =10^-5 -> 1e-05 | BH8: =10^-6 -> 1e-06 | BI8: =10^-7 -> 1e-07 | BJ8: Average nr of bacteria | BK8: stdev | BL8: =10^0 -> 1 | BM8: =10^-1 -> 0.1 | BN8: =10^-2 -> 0.01 | BO8: =10^-3 -> 0.001 | BP8: =10^-4 -> 0.0001 | BQ8: =10^-5 -> 1e-05 | BR8: =10^-6 -> 1e-06 | BS8: =10^-7 -> 1e-07 | BT8: Average nr of bacteria | BU8: stdev | BV8: =10^0 -> 1 | BW8: =10^-1 -> 0.1 | BX8: =10^-2 -> 0.01 | BY8: =10^-3 -> 0.001 | BZ8: =10^-4 -> 0.0001 | CA8: =10^-5 -> 1e-05 | CB8: =10^-6 -> 1e-06 | CC8: =10^-7 -> 1e-07 | CD8: Average nr of bacteria | CE8: stdev
C9: Blank | D9: ='Survivalexp RAW Oct_Nov 2017'!I11 -> 0 | E9: ='Survivalexp RAW Oct_Nov 2017'!P11 -> 0 | F9: ='Survivalexp RAW Oct_Nov 2017'!W11 -> 0 | G9: ='Survivalexp RAW Oct_Nov 2017'!AD11 -> 0 | H9: ='Survivalexp RAW Oct_Nov 2017'!AK11 -> 0 | I9: ='Survivalexp RAW Oct_Nov 2017'!AR11 -> 0 | J9: ='Survivalexp RAW Oct_Nov 2017'!AY11 -> 0 | K9: ='Survivalexp RAW Oct_Nov 2017'!BF11 -> 0 | N9: ='Survivalexp RAW Oct_Nov 2017'!I53 -> 0 | O9: ='Survivalexp RAW Oct_Nov 2017'!P53 -> 0 | P9: ='Survivalexp RAW Oct_Nov 2017'!W53 -> 0 | Q9: ='Survivalexp RAW Oct_Nov 2017'!AD53 -> 0 | R9: ='Survivalexp RAW Oct_Nov 2017'!AK53 -> 0 | S9: ='Survivalexp RAW Oct_Nov 2017'!AR53 -> 0 | T9: ='Survivalexp RAW Oct_Nov 2017'!AY53 -> 0 | U9: ='Survivalexp RAW Oct_Nov 2017'!BF53 -> 0 | X9: ='Survivalexp RAW Oct_Nov 2017'!I95 -> 0 | Y9: ='Survivalexp RAW Oct_Nov 2017'!P95 -> 0 | Z9: ='Survivalexp RAW Oct_Nov 2017'!W95 -> 0 | AA9: ='Survivalexp RAW Oct_Nov 2017'!AD95 -> 0 | AB9: ='Survivalexp RAW Oct_Nov 2017'!AK95 -> 0 | AC9: ='Survivalexp RAW Oct_Nov 2017'!AR95 -> 0 | AD9: ='Survivalexp RAW Oct_Nov 2017'!AY95 -> 0 | AE9: ='Survivalexp RAW Oct_Nov 2017'!BF95 -> 0 | AH9: ='Survivalexp RAW Oct_Nov 2017'!I138 -> 0 | AI9: ='Survivalexp RAW Oct_Nov 2017'!P138 -> 0 | AJ9: ='Survivalexp RAW Oct_Nov 2017'!W138 -> 0 | AK9: ='Survivalexp RAW Oct_Nov 2017'!AD138 -> 0 | AL9: ='Survivalexp RAW Oct_Nov 2017'!AK138 -> 0 | AM9: ='Survivalexp RAW Oct_Nov 2017'!AR138 -> 0 | AN9: ='Survivalexp RAW Oct_Nov 2017'!AY138 -> 0 | AO9: ='Survivalexp RAW Oct_Nov 2017'!BF138 -> 0 | AR9: ='Survivalexp RAW Oct_Nov 2017'!I180 -> 0 | AS9: ='Survivalexp RAW Oct_Nov 2017'!P180 -> 0 | AT9: ='Survivalexp RAW Oct_Nov 2017'!W180 -> 0 | AU9: ='Survivalexp RAW Oct_Nov 2017'!AD180 -> 0 | AV9: ='Survivalexp RAW Oct_Nov 2017'!AK180 -> 0 | AW9: ='Survivalexp RAW Oct_Nov 2017'!AR180 -> 0 | AX9: ='Survivalexp RAW Oct_Nov 2017'!AY180 -> 0 | AY9: ='Survivalexp RAW Oct_Nov 2017'!BF180 -> 0 | BB9: ='Survivalexp RAW Oct_Nov 2017'!I222 -> 0 | BC9: ='Survivalexp RAW Oct_Nov 2017'!P222 -> 0 | BD9: ='Survivalexp RAW Oct_Nov 2017'!W222 -> 0 | BE9: ='Survivalexp RAW Oct_Nov 2017'!AD222 -> 0 | BF9: ='Survivalexp RAW Oct_Nov 2017'!AK222 -> 0 | BG9: ='Survivalexp RAW Oct_Nov 2017'!AR222 -> 0 | BH9: ='Survivalexp RAW Oct_Nov 2017'!AY222 -> 0 | BI9: ='Survivalexp RAW Oct_Nov 2017'!BF222 -> 0 | BL9: ='Survivalexp RAW Oct_Nov 2017'!I264 -> 0 | BM9: ='Survivalexp RAW Oct_Nov 2017'!P264 -> 0 | BN9: ='Survivalexp RAW Oct_Nov 2017'!W264 -> 0 | BO9: ='Survivalexp RAW Oct_Nov 2017'!AD264 -> 0 | BP9: ='Survivalexp RAW Oct_Nov 2017'!AK264 -> 0 | BQ9: ='Survivalexp RAW Oct_Nov 2017'!AR264 -> 0 | BR9: ='Survivalexp RAW Oct_Nov 2017'!AY264 -> 0 | BS9: ='Survivalexp RAW Oct_Nov 2017'!BF264 -> 0 | BV9: ='Survivalexp RAW Oct_Nov 2017'!I306 -> 0 | BW9: ='Survivalexp RAW Oct_Nov 2017'!P306 -> 0 | BX9: ='Survivalexp RAW Oct_Nov 2017'!W306 -> 0 | BY9: ='Survivalexp RAW Oct_Nov 2017'!AD306 -> 0 | BZ9: ='Survivalexp RAW Oct_Nov 2017'!AK306 -> 0 | CA9: ='Survivalexp RAW Oct_Nov 2017'!AR306 -> 0 | CB9: ='Survivalexp RAW Oct_Nov 2017'!AY306 -> 0 | CC9: ='Survivalexp RAW Oct_Nov 2017'!BF306 -> 0
C10: stdev | D10: ='Survivalexp RAW Oct_Nov 2017'!I12 -> 0 | E10: ='Survivalexp RAW Oct_Nov 2017'!P12 -> 0 | F10: ='Survivalexp RAW Oct_Nov 2017'!W12 -> 0 | G10: ='Survivalexp RAW Oct_Nov 2017'!AD12 -> 0 | H10: ='Survivalexp RAW Oct_Nov 2017'!AK12 -> 0 | I10: ='Survivalexp RAW Oct_Nov 2017'!AR12 -> 0 | J10: ='Survivalexp RAW Oct_Nov 2017'!AY12 -> 0 | K10: ='Survivalexp RAW Oct_Nov 2017'!BF12 -> 0 | N10: ='Survivalexp RAW Oct_Nov 2017'!I54 -> 0 | O10: ='Survivalexp RAW Oct_Nov 2017'!P54 -> 0 | P10: ='Survivalexp RAW Oct_Nov 2017'!W54 -> 0 | Q10: ='Survivalexp RAW Oct_Nov 2017'!AD54 -> 0 | R10: ='Survivalexp RAW Oct_Nov 2017'!AK54 -> 0 | S10: ='Survivalexp RAW Oct_Nov 2017'!AR54 -> 0 | T10: ='Survivalexp RAW Oct_Nov 2017'!AY54 -> 0 | U10: ='Survivalexp RAW Oct_Nov 2017'!BF54 -> 0 | X10: ='Survivalexp RAW Oct_Nov 2017'!I96 -> 0 | Y10: ='Survivalexp RAW Oct_Nov 2017'!P96 -> 0 | Z10: ='Survivalexp RAW Oct_Nov 2017'!W96 -> 0 | AA10: ='Survivalexp RAW Oct_Nov 2017'!AD96 -> 0 | AB10: ='Survivalexp RAW Oct_Nov 2017'!AK96 -> 0 | AC10: ='Survivalexp RAW Oct_Nov 2017'!AR96 -> 0 | AD10: ='Survivalexp RAW Oct_Nov 2017'!AY96 -> 0 | AE10: ='Survivalexp RAW Oct_Nov 2017'!BF96 -> 0 | AH10: ='Survivalexp RAW Oct_Nov 2017'!I139 -> 0 | AI10: ='Survivalexp RAW Oct_Nov 2017'!P139 -> 0 | AJ10: ='Survivalexp RAW Oct_Nov 2017'!W139 -> 0 | AK10: ='Survivalexp RAW Oct_Nov 2017'!AD139 -> 0 | AL10: ='Survivalexp RAW Oct_Nov 2017'!AK139 -> 0 | AM10: ='Survivalexp RAW Oct_Nov 2017'!AR139 -> 0 | AN10: ='Survivalexp RAW Oct_Nov 2017'!AY139 -> 0 | AO10: ='Survivalexp RAW Oct_Nov 2017'!BF139 -> 0 | AR10: ='Survivalexp RAW Oct_Nov 2017'!I181 -> 0 | AS10: ='Survivalexp RAW Oct_Nov 2017'!P181 -> 0 | AT10: ='Survivalexp RAW Oct_Nov 2017'!W181 -> 0 | AU10: ='Survivalexp RAW Oct_Nov 2017'!AD181 -> 0 | AV10: ='Survivalexp RAW Oct_Nov 2017'!AK181 -> 0 | AW10: ='Survivalexp RAW Oct_Nov 2017'!AR181 -> 0 | AX10: ='Survivalexp RAW Oct_Nov 2017'!AY181 -> 0 | AY10: ='Survivalexp RAW Oct_Nov 2017'!BF181 -> 0 | BB10: ='Survivalexp RAW Oct_Nov 2017'!I223 -> 0 | BC10: ='Survivalexp RAW Oct_Nov 2017'!P223 -> 0 | BD10: ='Survivalexp RAW Oct_Nov 2017'!W223 -> 0 | BE10: ='Survivalexp RAW Oct_Nov 2017'!AD223 -> 0 | BF10: ='Survivalexp RAW Oct_Nov 2017'!AK223 -> 0 | BG10: ='Survivalexp RAW Oct_Nov 2017'!AR223 -> 0 | BH10: ='Survivalexp RAW Oct_Nov 2017'!AY223 -> 0 | BI10: ='Survivalexp RAW Oct_Nov 2017'!BF223 -> 0 | BL10: ='Survivalexp RAW Oct_Nov 2017'!I265 -> 0 | BM10: ='Survivalexp RAW Oct_Nov 2017'!P265 -> 0 | BN10: ='Survivalexp RAW Oct_Nov 2017'!W265 -> 0 | BO10: ='Survivalexp RAW Oct_Nov 2017'!AD265 -> 0 | BP10: ='Survivalexp RAW Oct_Nov 2017'!AK265 -> 0 | BQ10: ='Survivalexp RAW Oct_Nov 2017'!AR265 -> 0 | BR10: ='Survivalexp RAW Oct_Nov 2017'!AY265 -> 0 | BS10: ='Survivalexp RAW Oct_Nov 2017'!BF265 -> 0 | BV10: ='Survivalexp RAW Oct_Nov 2017'!I307 -> 0 | BW10: ='Survivalexp RAW Oct_Nov 2017'!P307 -> 0 | BX10: ='Survivalexp RAW Oct_Nov 2017'!W307 -> 0 | BY10: ='Survivalexp RAW Oct_Nov 2017'!AD307 -> 0 | BZ10: ='Survivalexp RAW Oct_Nov 2017'!AK307 -> 0 | CA10: ='Survivalexp RAW Oct_Nov 2017'!AR307 -> 0 | CB10: ='Survivalexp RAW Oct_Nov 2017'!AY307 -> 0 | CC10: ='Survivalexp RAW Oct_Nov 2017'!BF307 -> 0
B11: est. nr of bacteria | D11: =D9/$D$8 -> 0 | E11: =E9/$E$8 -> 0 | F11: =F9/$F$8 -> 0 | G11: =G9/$G$8 -> 0 | H11: =H9/$H$8 -> 0 | I11: =I9/$I$8 -> 0 | J11: =J9/$J$8 -> 0 | K11: =K9/$K$8 -> 0 | L11: =G11 -> 0 | M11: =G12 -> 0 | N11: =N9/$D$8 -> 0 | O11: =O9/$E$8 -> 0 | P11: =P9/$F$8 -> 0 | Q11: =Q9/$G$8 -> 0 | R11: =R9/$H$8 -> 0 | S11: =S9/$I$8 -> 0 | T11: =T9/$J$8 -> 0 | U11: =U9/$K$8 -> 0 | V11: =P11 -> 0 | W11: =P12 -> 0 | X11: =X9/$D$8 -> 0 | Y11: =Y9/$E$8 -> 0 | Z11: =Z9/$F$8 -> 0 | AA11: =AA9/$G$8 -> 0 | AB11: =AB9/$H$8 -> 0 | AC11: =AC9/$I$8 -> 0 | AD11: =AD9/$J$8 -> 0 | AE11: =AE9/$K$8 -> 0 | AF11: =AE11 -> 0 | AG11: =AE12 -> 0 | AH11: =AH9/$D$8 -> 0 | AI11: =AI9/$E$8 -> 0 | AJ11: =AJ9/$F$8 -> 0 | AK11: =AK9/$G$8 -> 0 | AL11: =AL9/$H$8 -> 0 | AM11: =AM9/$I$8 -> 0 | AN11: =AN9/$J$8 -> 0 | AO11: =AO9/$K$8 -> 0 | AP11: =AL11 -> 0 | AQ11: =AL12 -> 0 | AR11: =AR9/$D$8 -> 0 | AS11: =AS9/$E$8 -> 0 | AT11: =AT9/$F$8 -> 0 | AU11: =AU9/$G$8 -> 0 | AV11: =AV9/$H$8 -> 0 | AW11: =AW9/$I$8 -> 0 | AX11: =AX9/$J$8 -> 0 | AY11: =AY9/$K$8 -> 0 | AZ11: =AV11 -> 0 | BA11: =AV12 -> 0 | BB11: =BB9/$D$8 -> 0 | BC11: =BC9/$E$8 -> 0 | BD11: =BD9/$F$8 -> 0 | BE11: =BE9/$G$8 -> 0 | BF11: =BF9/$H$8 -> 0 | BG11: =BG9/$I$8 -> 0 | BH11: =BH9/$J$8 -> 0 | BI11: =BI9/$K$8 -> 0 | BJ11: =BF11 -> 0 | BK11: =BF12 -> 0 | BL11: =BL9/$D$8 -> 0 | BM11: =BM9/$E$8 -> 0 | BN11: =BN9/$F$8 -> 0 | BO11: =BO9/$G$8 -> 0 | BP11: =BP9/$H$8 -> 0 | BQ11: =BQ9/$I$8 -> 0 | BR11: =BR9/$J$8 -> 0 | BS11: =BS9/$K$8 -> 0 | BT11: =BP11 -> 0 | BU11: =BP12 -> 0 | BV11: =BV9/$D$8 -> 0 | BW11: =BW9/$E$8 -> 0 | BX11: =BX9/$F$8 -> 0 | BY11: =BY9/$G$8 -> 0 | BZ11: =BZ9/$H$8 -> 0 | CA11: =CA9/$I$8 -> 0 | CB11: =CB9/$J$8 -> 0 | CC11: =CC9/$K$8 -> 0 | CD11: =BZ11 -> 0 | CE11: =BZ12 -> 0
C12: stdev | D12: =D10/$D$8 -> 0 | E12: =E10/$E$8 -> 0 | F12: =F10/$F$8 -> 0 | G12: =G10/$G$8 -> 0 | H12: =H10/$H$8 -> 0 | I12: =I10/$I$8 -> 0 | J12: =J10/$J$8 -> 0 | K12: =K10/$K$8 -> 0 | N12: =N10/$D$8 -> 0 | O12: =O10/$E$8 -> 0 | P12: =P10/$F$8 -> 0 | Q12: =Q10/$G$8 -> 0 | R12: =R10/$H$8 -> 0 | S12: =S10/$I$8 -> 0 | T12: =T10/$J$8 -> 0 | U12: =U10/$K$8 -> 0 | X12: =X10/$D$8 -> 0 | Y12: =Y10/$E$8 -> 0 | Z12: =Z10/$F$8 -> 0 | AA12: =AA10/$G$8 -> 0 | AB12: =AB10/$H$8 -> 0 | AC12: =AC10/$I$8 -> 0 | AD12: =AD10/$J$8 -> 0 | AE12: =AE10/$K$8 -> 0 | AH12: =AH10/$D$8 -> 0 | AI12: =AI10/$E$8 -> 0 | AJ12: =AJ10/$F$8 -> 0 | AK12: =AK10/$G$8 -> 0 | AL12: =AL10/$H$8 -> 0 | AM12: =AM10/$I$8 -> 0 | AN12: =AN10/$J$8 -> 0 | AO12: =AO10/$K$8 -> 0 | AR12: =AR10/$D$8 -> 0 | AS12: =AS10/$E$8 -> 0 | AT12: =AT10/$F$8 -> 0 | AU12: =AU10/$G$8 -> 0 | AV12: =AV10/$H$8 -> 0 | AW12: =AW10/$I$8 -> 0 | AX12: =AX10/$J$8 -> 0 | AY12: =AY10/$K$8 -> 0 | BB12: =BB10/$D$8 -> 0 | BC12: =BC10/$E$8 -> 0 | BD12: =BD10/$F$8 -> 0 | BE12: =BE10/$G$8 -> 0 | BF12: =BF10/$H$8 -> 0 | BG12: =BG10/$I$8 -> 0 | BH12: =BH10/$J$8 -> 0 | BI12: =BI10/$K$8 -> 0 | BL12: =BL10/$D$8 -> 0 | BM12: =BM10/$E$8 -> 0 | BN12: =BN10/$F$8 -> 0 | BO12: =BO10/$G$8 -> 0 | BP12: =BP10/$H$8 -> 0 | BQ12: =BQ10/$I$8 -> 0 | BR12: =BR10/$J$8 -> 0 | BS12: =BS10/$K$8 -> 0 | BV12: =BV10/$D$8 -> 0 | BW12: =BW10/$E$8 -> 0 | BX12: =BX10/$F$8 -> 0 | BY12: =BY10/$G$8 -> 0 | BZ12: =BZ10/$H$8 -> 0 | CA12: =CA10/$I$8 -> 0 | CB12: =CB10/$J$8 -> 0 | CC12: =CC10/$K$8 -> 0
C13: BW25113 - | D13: ='Survivalexp RAW Oct_Nov 2017'!I16 -> #DIV/0! | E13: ='Survivalexp RAW Oct_Nov 2017'!P16 -> #DIV/0! | F13: ='Survivalexp RAW Oct_Nov 2017'!W16 -> #DIV/0! | G13: ='Survivalexp RAW Oct_Nov 2017'!AD16 -> #DIV/0! | H13: ='Survivalexp RAW Oct_Nov 2017'!AK16 -> #DIV/0! | I13: ='Survivalexp RAW Oct_Nov 2017'!AR16 -> 29.666667 | J13: ='Survivalexp RAW Oct_Nov 2017'!AY16 -> 4 | K13: ='Survivalexp RAW Oct_Nov 2017'!BF16 -> 0.4 | N13: ='Survivalexp RAW Oct_Nov 2017'!I58 -> #DIV/0! | O13: ='Survivalexp RAW Oct_Nov 2017'!P58 -> #DIV/0! | P13: ='Survivalexp RAW Oct_Nov 2017'!W58 -> #DIV/0! | Q13: ='Survivalexp RAW Oct_Nov 2017'!AD58 -> #DIV/0! | R13: ='Survivalexp RAW Oct_Nov 2017'!AK58 -> #DIV/0! | S13: ='Survivalexp RAW Oct_Nov 2017'!AR58 -> 32.8 | T13: ='Survivalexp RAW Oct_Nov 2017'!AY58 -> 9.7333333 | U13: ='Survivalexp RAW Oct_Nov 2017'!BF58 -> 8.3333333 | X13: ='Survivalexp RAW Oct_Nov 2017'!I100 -> #DIV/0! | Y13: ='Survivalexp RAW Oct_Nov 2017'!P100 -> #DIV/0! | Z13: ='Survivalexp RAW Oct_Nov 2017'!W100 -> #DIV/0! | AA13: ='Survivalexp RAW Oct_Nov 2017'!AD100 -> #DIV/0! | AB13: ='Survivalexp RAW Oct_Nov 2017'!AK100 -> 85.4 | AC13: ='Survivalexp RAW Oct_Nov 2017'!AR100 -> 16.666667 | AD13: ='Survivalexp RAW Oct_Nov 2017'!AY100 -> 2.6 | AE13: ='Survivalexp RAW Oct_Nov 2017'!BF100 -> 0.13333333 | AH13: ='Survivalexp RAW Oct_Nov 2017'!I143 -> #DIV/0! | AI13: ='Survivalexp RAW Oct_Nov 2017'!P143 -> #DIV/0! | AJ13: ='Survivalexp RAW Oct_Nov 2017'!W143 -> 33.933333 | AK13: ='Survivalexp RAW Oct_Nov 2017'!AD143 -> 8.6 | AL13: ='Survivalexp RAW Oct_Nov 2017'!AK143 -> 0.73333333 | AM13: ='Survivalexp RAW Oct_Nov 2017'!AR143 -> 0 | AN13: ='Survivalexp RAW Oct_Nov 2017'!AY143 -> 0 | AO13: ='Survivalexp RAW Oct_Nov 2017'!BF143 -> 0 | AR13: ='Survivalexp RAW Oct_Nov 2017'!I185 -> #DIV/0! | AS13: ='Survivalexp RAW Oct_Nov 2017'!P185 -> 34.266667 | AT13: ='Survivalexp RAW Oct_Nov 2017'!W185 -> 13.666667 | AU13: ='Survivalexp RAW Oct_Nov 2017'!AD185 -> 2.6666667 | AV13: ='Survivalexp RAW Oct_Nov 2017'!AK185 -> 0.4 | AW13: ='Survivalexp RAW Oct_Nov 2017'!AR185 -> 0 | AX13: ='Survivalexp RAW Oct_Nov 2017'!AY185 -> 0 | AY13: ='Survivalexp RAW Oct_Nov 2017'!BF185 -> 0 | BB13: ='Survivalexp RAW Oct_Nov 2017'!I227 -> 27.933333 | BC13: ='Survivalexp RAW Oct_Nov 2017'!P227 -> 7.7333333 | BD13: ='Survivalexp RAW Oct_Nov 2017'!W227 -> 0.93333333 | BE13: ='Survivalexp RAW Oct_Nov 2017'!AD227 -> 0.066666667 | BF13: ='Survivalexp RAW Oct_Nov 2017'!AK227 -> 0.066666667 | BG13: ='Survivalexp RAW Oct_Nov 2017'!AR227 -> 0 | BH13: ='Survivalexp RAW Oct_Nov 2017'!AY227 -> 0 | BI13: ='Survivalexp RAW Oct_Nov 2017'!BF227 -> 0 | BL13: ='Survivalexp RAW Oct_Nov 2017'!I269 -> 13.066667 | BM13: ='Survivalexp RAW Oct_Nov 2017'!P269 -> 3.6 | BN13: ='Survivalexp RAW Oct_Nov 2017'!W269 -> 0.53333333 | BO13: ='Survivalexp RAW Oct_Nov 2017'!AD269 -> 0 | BP13: ='Survivalexp RAW Oct_Nov 2017'!AK269 -> 0.066666667 | BQ13: ='Survivalexp RAW Oct_Nov 2017'!AR269 -> 0 | BR13: ='Survivalexp RAW Oct_Nov 2017'!AY269 -> 0 | BS13: ='Survivalexp RAW Oct_Nov 2017'!BF269 -> 0 | BV13: ='Survivalexp RAW Oct_Nov 2017'!I311 -> 0 | BW13: ='Survivalexp RAW Oct_Nov 2017'!P311 -> 0 | BX13: ='Survivalexp RAW Oct_Nov 2017'!W311 -> 0 | BY13: ='Survivalexp RAW Oct_Nov 2017'!AD311 -> 0 | BZ13: ='Survivalexp RAW Oct_Nov 2017'!AK311 -> 0 | CA13: ='Survivalexp RAW Oct_Nov 2017'!AR311 -> 0 | CB13: ='Survivalexp RAW Oct_Nov 2017'!AY311 -> 0 | CC13: ='Survivalexp RAW Oct_Nov 2017'!BF311 -> 0
C14: stdev | D14: ='Survivalexp RAW Oct_Nov 2017'!I17 -> #DIV/0! | E14: ='Survivalexp RAW Oct_Nov 2017'!P17 -> #DIV/0! | F14: ='Survivalexp RAW Oct_Nov 2017'!W17 -> #DIV/0! | G14: ='Survivalexp RAW Oct_Nov 2017'!AD17 -> #DIV/0! | H14: ='Survivalexp RAW Oct_Nov 2017'!AK17 -> #DIV/0! | I14: ='Survivalexp RAW Oct_Nov 2017'!AR17 -> 13.15041 | J14: ='Survivalexp RAW Oct_Nov 2017'!AY17 -> 6.1283443 | K14: ='Survivalexp RAW Oct_Nov 2017'!BF17 -> 1.7310872 | N14: ='Survivalexp RAW Oct_Nov 2017'!I59 -> #DIV/0! | O14: ='Survivalexp RAW Oct_Nov 2017'!P59 -> #DIV/0! | P14: ='Survivalexp RAW Oct_Nov 2017'!W59 -> #DIV/0! | Q14: ='Survivalexp RAW Oct_Nov 2017'!AD59 -> #DIV/0! | R14: ='Survivalexp RAW Oct_Nov 2017'!AK59 -> #DIV/0! | S14: ='Survivalexp RAW Oct_Nov 2017'!AR59 -> 10.303067 | T14: ='Survivalexp RAW Oct_Nov 2017'!AY59 -> 10.165115 | U14: ='Survivalexp RAW Oct_Nov 2017'!BF59 -> 9.1625529 | X14: ='Survivalexp RAW Oct_Nov 2017'!I101 -> #DIV/0! | Y14: ='Survivalexp RAW Oct_Nov 2017'!P101 -> #DIV/0! | Z14: ='Survivalexp RAW Oct_Nov 2017'!W101 -> #DIV/0! | AA14: ='Survivalexp RAW Oct_Nov 2017'!AD101 -> #DIV/0! | AB14: ='Survivalexp RAW Oct_Nov 2017'!AK101 -> 24.20543 | AC14: ='Survivalexp RAW Oct_Nov 2017'!AR101 -> 8.8152012 | AD14: ='Survivalexp RAW Oct_Nov 2017'!AY101 -> 3.4661971 | AE14: ='Survivalexp RAW Oct_Nov 2017'!BF101 -> 0.54772256 | AH14: ='Survivalexp RAW Oct_Nov 2017'!I144 -> #DIV/0! | AI14: ='Survivalexp RAW Oct_Nov 2017'!P144 -> #DIV/0! | AJ14: ='Survivalexp RAW Oct_Nov 2017'!W144 -> 10.695279 | AK14: ='Survivalexp RAW Oct_Nov 2017'!AD144 -> 3.1144823 | AL14: ='Survivalexp RAW Oct_Nov 2017'!AK144 -> 2.2803509 | AM14: ='Survivalexp RAW Oct_Nov 2017'!AR144 -> 0 | AN14: ='Survivalexp RAW Oct_Nov 2017'!AY144 -> 0 | AO14: ='Survivalexp RAW Oct_Nov 2017'!BF144 -> 0 | AR14: ='Survivalexp RAW Oct_Nov 2017'!I186 -> #DIV/0! | AS14: ='Survivalexp RAW Oct_Nov 2017'!P186 -> 15.254508 | AT14: ='Survivalexp RAW Oct_Nov 2017'!W186 -> 2 | AU14: ='Survivalexp RAW Oct_Nov 2017'!AD186 -> 1.5811388 | AV14: ='Survivalexp RAW Oct_Nov 2017'!AK186 -> 1.7888544 | AW14: ='Survivalexp RAW Oct_Nov 2017'!AR186 -> 0 | AX14: ='Survivalexp RAW Oct_Nov 2017'!AY186 -> 0 | AY14: ='Survivalexp RAW Oct_Nov 2017'!BF186 -> 0 | BB14: ='Survivalexp RAW Oct_Nov 2017'!I228 -> 6.5345237 | BC14: ='Survivalexp RAW Oct_Nov 2017'!P228 -> 2.0493902 | BD14: ='Survivalexp RAW Oct_Nov 2017'!W228 -> 2.1679483 | BE14: ='Survivalexp RAW Oct_Nov 2017'!AD228 -> 0.4472136 | BF14: ='Survivalexp RAW Oct_Nov 2017'!AK228 -> 0.4472136 | BG14: ='Survivalexp RAW Oct_Nov 2017'!AR228 -> 0 | BH14: ='Survivalexp RAW Oct_Nov 2017'!AY228 -> 0 | BI14: ='Survivalexp RAW Oct_Nov 2017'!BF228 -> 0 | BL14: ='Survivalexp RAW Oct_Nov 2017'!I270 -> 6.3796552 | BM14: ='Survivalexp RAW Oct_Nov 2017'!P270 -> 1.6431677 | BN14: ='Survivalexp RAW Oct_Nov 2017'!W270 -> 0.89442719 | BO14: ='Survivalexp RAW Oct_Nov 2017'!AD270 -> 0 | BP14: ='Survivalexp RAW Oct_Nov 2017'!AK270 -> 0.4472136 | BQ14: ='Survivalexp RAW Oct_Nov 2017'!AR270 -> 0 | BR14: ='Survivalexp RAW Oct_Nov 2017'!AY270 -> 0 | BS14: ='Survivalexp RAW Oct_Nov 2017'!BF270 -> 0 | BV14: ='Survivalexp RAW Oct_Nov 2017'!I312 -> 0 | BW14: ='Survivalexp RAW Oct_Nov 2017'!P312 -> 0 | BX14: ='Survivalexp RAW Oct_Nov 2017'!W312 -> 0 | BY14: ='Survivalexp RAW Oct_Nov 2017'!AD312 -> 0 | BZ14: ='Survivalexp RAW Oct_Nov 2017'!AK312 -> 0 | CA14: ='Survivalexp RAW Oct_Nov 2017'!AR312 -> 0 | CB14: ='Survivalexp RAW Oct_Nov 2017'!AY312 -> 0 | CC14: ='Survivalexp RAW Oct_Nov 2017'!BF312 -> 0
B15: est. nr of bacteria | D15: =D13/$D$8 -> #DIV/0! | E15: =E13/$E$8 -> #DIV/0! | F15: =F13/$F$8 -> #DIV/0! | G15: =G13/$G$8 -> #DIV/0! | H15: =H13/$H$8 -> #DIV/0! | I15: =I13/$I$8 -> 2966666.7 | J15: =J13/$J$8 -> 4000000 | K15: =K13/$K$8 -> 4000000 | L15: =I15 -> 2966666.7 | M15: =I16 -> 1315041 | N15: =N13/$D$8 -> #DIV/0! | O15: =O13/$E$8 -> #DIV/0! | P15: =P13/$F$8 -> #DIV/0! | Q15: =Q13/$G$8 -> #DIV/0! | R15: =R13/$H$8 -> #DIV/0! | S15: =S13/$I$8 -> 3280000 | T15: =T13/$J$8 -> 9733333.3 | U15: =U13/$K$8 -> 83333333 | V15: =S15 -> 3280000 | W15: =S16 -> 1030306.7 | X15: =X13/$D$8 -> #DIV/0! | Y15: =Y13/$E$8 -> #DIV/0! | Z15: =Z13/$F$8 -> #DIV/0! | AA15: =AA13/$G$8 -> #DIV/0! | AB15: =AB13/$H$8 -> 854000 | AC15: =AC13/$I$8 -> 1666666.7 | AD15: =AD13/$J$8 -> 2600000 | AE15: =AE13/$K$8 -> 1333333.3 | AF15: =AB15 -> 854000 | AG15: =AB16 -> 242054.3 | AH15: =AH13/$D$8 -> #DIV/0! | AI15: =AI13/$E$8 -> #DIV/0! | AJ15: =AJ13/$F$8 -> 3393.3333 | AK15: =AK13/$G$8 -> 8600 | AL15: =AL13/$H$8 -> 7333.3333 | AM15: =AM13/$I$8 -> 0 | AN15: =AN13/$J$8 -> 0 | AO15: =AO13/$K$8 -> 0 | AP15: =AK15 -> 8600 | AQ15: =AK16 -> 3114.4823 | AR15: =AR13/$D$8 -> #DIV/0! | AS15: =AS13/$E$8 -> 342.66667 | AT15: =AT13/$F$8 -> 1366.6667 | AU15: =AU13/$G$8 -> 2666.6667 | AV15: =AV13/$H$8 -> 4000 | AW15: =AW13/$I$8 -> 0 | AX15: =AX13/$J$8 -> 0 | AY15: =AY13/$K$8 -> 0 | AZ15: =AU15 -> 2666.6667 | BA15: =AU16 -> 1581.1388 | BB15: =BB13/$D$8 -> 27.933333 | BC15: =BC13/$E$8 -> 77.333333 | BD15: =BD13/$F$8 -> 93.333333 | BE15: =BE13/$G$8 -> 66.666667 | BF15: =BF13/$H$8 -> 666.66667 | BG15: =BG13/$I$8 -> 0 | BH15: =BH13/$J$8 -> 0 | BI15: =BI13/$K$8 -> 0 | BJ15: =BE15 -> 66.666667 | BK15: =BE16 -> 447.2136 | BL15: =BL13/$D$8 -> 13.066667 | BM15: =BM13/$E$8 -> 36 | BN15: =BN13/$F$8 -> 53.333333 | BO15: =BO13/$G$8 -> 0 | BP15: =BP13/$H$8 -> 666.66667 | BQ15: =BQ13/$I$8 -> 0 | BR15: =BR13/$J$8 -> 0 | BS15: =BS13/$K$8 -> 0 | BT15: =BN15 -> 53.333333 | BU15: =BN16 -> 89.442719 | BV15: =BV13/$D$8 -> 0 | BW15: =BW13/$E$8 -> 0 | BX15: =BX13/$F$8 -> 0 | BY15: =BY13/$G$8 -> 0 | BZ15: =BZ13/$H$8 -> 0 | CA15: =CA13/$I$8 -> 0 | CB15: =CB13/$J$8 -> 0 | CC15: =CC13/$K$8 -> 0 | CD15: =BX15 -> 0 | CE15: =BX16 -> 0
C16: stdev | D16: =D14/$D$8 -> #DIV/0! | E16: =E14/$E$8 -> #DIV/0! | F16: =F14/$F$8 -> #DIV/0! | G16: =G14/$G$8 -> #DIV/0! | H16: =H14/$H$8 -> #DIV/0! | I16: =I14/$I$8 -> 1315041 | J16: =J14/$J$8 -> 6128344.3 | K16: =K14/$K$8 -> 17310872 | N16: =N14/$D$8 -> #DIV/0! | O16: =O14/$E$8 -> #DIV/0! | P16: =P14/$F$8 -> #DIV/0! | Q16: =Q14/$G$8 -> #DIV/0! | R16: =R14/$H$8 -> #DIV/0! | S16: =S14/$I$8 -> 1030306.7 | T16: =T14/$J$8 -> 10165115 | U16: =U14/$K$8 -> 91625529 | X16: =X14/$D$8 -> #DIV/0! | Y16: =Y14/$E$8 -> #DIV/0! | Z16: =Z14/$F$8 -> #DIV/0! | AA16: =AA14/$G$8 -> #DIV/0! | AB16: =AB14/$H$8 -> 242054.3 | AC16: =AC14/$I$8 -> 881520.12 | AD16: =AD14/$J$8 -> 3466197.1 | AE16: =AE14/$K$8 -> 5477225.6 | AH16: =AH14/$D$8 -> #DIV/0! | AI16: =AI14/$E$8 -> #DIV/0! | AJ16: =AJ14/$F$8 -> 1069.5279 | AK16: =AK14/$G$8 -> 3114.4823 | AL16: =AL14/$H$8 -> 22803.509 | AM16: =AM14/$I$8 -> 0 | AN16: =AN14/$J$8 -> 0 | AO16: =AO14/$K$8 -> 0 | AR16: =AR14/$D$8 -> #DIV/0! | AS16: =AS14/$E$8 -> 152.54508 | AT16: =AT14/$F$8 -> 200 | AU16: =AU14/$G$8 -> 1581.1388 | AV16: =AV14/$H$8 -> 17888.544 | AW16: =AW14/$I$8 -> 0 | AX16: =AX14/$J$8 -> 0 | AY16: =AY14/$K$8 -> 0 | BB16: =BB14/$D$8 -> 6.5345237 | BC16: =BC14/$E$8 -> 20.493902 | BD16: =BD14/$F$8 -> 216.79483 | BE16: =BE14/$G$8 -> 447.2136 | BF16: =BF14/$H$8 -> 4472.136 | BG16: =BG14/$I$8 -> 0 | BH16: =BH14/$J$8 -> 0 | BI16: =BI14/$K$8 -> 0 | BL16: =BL14/$D$8 -> 6.3796552 | BM16: =BM14/$E$8 -> 16.431677 | BN16: =BN14/$F$8 -> 89.442719 | BO16: =BO14/$G$8 -> 0 | BP16: =BP14/$H$8 -> 4472.136 | BQ16: =BQ14/$I$8 -> 0 | BR16: =BR14/$J$8 -> 0 | BS16: =BS14/$K$8 -> 0 | BV16: =BV14/$D$8 -> 0 | BW16: =BW14/$E$8 -> 0 | BX16: =BX14/$F$8 -> 0 | BY16: =BY14/$G$8 -> 0 | BZ16: =BZ14/$H$8 -> 0 | CA16: =CA14/$I$8 -> 0 | CB16: =CB14/$J$8 -> 0 | CC16: =CC14/$K$8 -> 0
B17: 2213F - | C17: p+0 | D17: ='Survivalexp RAW Oct_Nov 2017'!I21 -> #DIV/0! | E17: ='Survivalexp RAW Oct_Nov 2017'!P21 -> #DIV/0! | F17: ='Survivalexp RAW Oct_Nov 2017'!W21 -> #DIV/0! | G17: ='Survivalexp RAW Oct_Nov 2017'!AD21 -> #DIV/0! | H17: ='Survivalexp RAW Oct_Nov 2017'!AK21 -> 35.3 | I17: ='Survivalexp RAW Oct_Nov 2017'!AR21 -> 4 | J17: ='Survivalexp RAW Oct_Nov 2017'!AY21 -> 0.7 | K17: ='Survivalexp RAW Oct_Nov 2017'!BF21 -> 0 | N17: ='Survivalexp RAW Oct_Nov 2017'!I63 -> #DIV/0! | O17: ='Survivalexp RAW Oct_Nov 2017'!P63 -> #DIV/0! | P17: ='Survivalexp RAW Oct_Nov 2017'!W63 -> #DIV/0! | Q17: ='Survivalexp RAW Oct_Nov 2017'!AD63 -> 140.2 | R17: ='Survivalexp RAW Oct_Nov 2017'!AK63 -> 27.5 | S17: ='Survivalexp RAW Oct_Nov 2017'!AR63 -> 5.1 | T17: ='Survivalexp RAW Oct_Nov 2017'!AY63 -> 5.6 | U17: ='Survivalexp RAW Oct_Nov 2017'!BF63 -> 5.4 | X17: ='Survivalexp RAW Oct_Nov 2017'!I105 -> #DIV/0! | Y17: ='Survivalexp RAW Oct_Nov 2017'!P105 -> #DIV/0! | Z17: ='Survivalexp RAW Oct_Nov 2017'!W105 -> #DIV/0! | AA17: ='Survivalexp RAW Oct_Nov 2017'!AD105 -> 65.6 | AB17: ='Survivalexp RAW Oct_Nov 2017'!AK105 -> 6.1 | AC17: ='Survivalexp RAW Oct_Nov 2017'!AR105 -> 2 | AD17: ='Survivalexp RAW Oct_Nov 2017'!AY105 -> 0 | AE17: ='Survivalexp RAW Oct_Nov 2017'!BF105 -> 0 | AH17: ='Survivalexp RAW Oct_Nov 2017'!I148 -> #DIV/0! | AI17: ='Survivalexp RAW Oct_Nov 2017'!P148 -> #DIV/0! | AJ17: ='Survivalexp RAW Oct_Nov 2017'!W148 -> #DIV/0! | AK17: ='Survivalexp RAW Oct_Nov 2017'!AD148 -> 18.3 | AL17: ='Survivalexp RAW Oct_Nov 2017'!AK148 -> 1.9 | AM17: ='Survivalexp RAW Oct_Nov 2017'!AR148 -> 0 | AN17: ='Survivalexp RAW Oct_Nov 2017'!AY148 -> 0 | AO17: ='Survivalexp RAW Oct_Nov 2017'!BF148 -> 0 | AR17: ='Survivalexp RAW Oct_Nov 2017'!I190 -> #DIV/0! | AS17: ='Survivalexp RAW Oct_Nov 2017'!P190 -> #DIV/0! | AT17: ='Survivalexp RAW Oct_Nov 2017'!W190 -> 84.8 | AU17: ='Survivalexp RAW Oct_Nov 2017'!AD190 -> 9.2 | AV17: ='Survivalexp RAW Oct_Nov 2017'!AK190 -> 0.6 | AW17: ='Survivalexp RAW Oct_Nov 2017'!AR190 -> 0.1 | AX17: ='Survivalexp RAW Oct_Nov 2017'!AY190 -> 0.1 | AY17: ='Survivalexp RAW Oct_Nov 2017'!BF190 -> 0 | BB17: ='Survivalexp RAW Oct_Nov 2017'!I232 -> #DIV/0! | BC17: ='Survivalexp RAW Oct_Nov 2017'!P232 -> #DIV/0! | BD17: ='Survivalexp RAW Oct_Nov 2017'!W232 -> 49.4 | BE17: ='Survivalexp RAW Oct_Nov 2017'!AD232 -> 2.6 | BF17: ='Survivalexp RAW Oct_Nov 2017'!AK232 -> 0.4 | BG17: ='Survivalexp RAW Oct_Nov 2017'!AR232 -> 0 | BH17: ='Survivalexp RAW Oct_Nov 2017'!AY232 -> 0 | BI17: ='Survivalexp RAW Oct_Nov 2017'!BF232 -> 0 | BL17: ='Survivalexp RAW Oct_Nov 2017'!I274 -> #DIV/0! | BM17: ='Survivalexp RAW Oct_Nov 2017'!P274 -> #DIV/0! | BN17: ='Survivalexp RAW Oct_Nov 2017'!W274 -> 28.6 | BO17: ='Survivalexp RAW Oct_Nov 2017'!AD274 -> 1.8 | BP17: ='Survivalexp RAW Oct_Nov 2017'!AK274 -> 0.2 | BQ17: ='Survivalexp RAW Oct_Nov 2017'!AR274 -> 0 | BR17: ='Survivalexp RAW Oct_Nov 2017'!AY274 -> 0 | BS17: ='Survivalexp RAW Oct_Nov 2017'!BF274 -> 0 | BV17: ='Survivalexp RAW Oct_Nov 2017'!I316 -> 122.4 | BW17: ='Survivalexp RAW Oct_Nov 2017'!P316 -> 16.7 | BX17: ='Survivalexp RAW Oct_Nov 2017'!W316 -> 2 | BY17: ='Survivalexp RAW Oct_Nov 2017'!AD316 -> 0.1 | BZ17: ='Survivalexp RAW Oct_Nov 2017'!AK316 -> 0 | CA17: ='Survivalexp RAW Oct_Nov 2017'!AR316 -> 0 | CB17: ='Survivalexp RAW Oct_Nov 2017'!AY316 -> 0 | CC17: ='Survivalexp RAW Oct_Nov 2017'!BF316 -> 0
C18: stdev | D18: ='Survivalexp RAW Oct_Nov 2017'!I22 -> #DIV/0! | E18: ='Survivalexp RAW Oct_Nov 2017'!P22 -> #DIV/0! | F18: ='Survivalexp RAW Oct_Nov 2017'!W22 -> #DIV/0! | G18: ='Survivalexp RAW Oct_Nov 2017'!AD22 -> #DIV/0! | H18: ='Survivalexp RAW Oct_Nov 2017'!AK22 -> 15.292324 | I18: ='Survivalexp RAW Oct_Nov 2017'!AR22 -> 4.0914867 | J18: ='Survivalexp RAW Oct_Nov 2017'!AY22 -> 1.7724674 | K18: ='Survivalexp RAW Oct_Nov 2017'!BF22 -> 0 | N18: ='Survivalexp RAW Oct_Nov 2017'!I64 -> #DIV/0! | O18: ='Survivalexp RAW Oct_Nov 2017'!P64 -> #DIV/0! | P18: ='Survivalexp RAW Oct_Nov 2017'!W64 -> #DIV/0! | Q18: ='Survivalexp RAW Oct_Nov 2017'!AD64 -> 14.942038 | R18: ='Survivalexp RAW Oct_Nov 2017'!AK64 -> 7.545258 | S18: ='Survivalexp RAW Oct_Nov 2017'!AR64 -> 3.6741299 | T18: ='Survivalexp RAW Oct_Nov 2017'!AY64 -> 3.5902192 | U18: ='Survivalexp RAW Oct_Nov 2017'!BF64 -> 3.7074653 | X18: ='Survivalexp RAW Oct_Nov 2017'!I106 -> #DIV/0! | Y18: ='Survivalexp RAW Oct_Nov 2017'!P106 -> #DIV/0! | Z18: ='Survivalexp RAW Oct_Nov 2017'!W106 -> #DIV/0! | AA18: ='Survivalexp RAW Oct_Nov 2017'!AD106 -> 14.647292 | AB18: ='Survivalexp RAW Oct_Nov 2017'!AK106 -> 5.9729367 | AC18: ='Survivalexp RAW Oct_Nov 2017'!AR106 -> 5.6281901 | AD18: ='Survivalexp RAW Oct_Nov 2017'!AY106 -> 0 | AE18: ='Survivalexp RAW Oct_Nov 2017'!BF106 -> 0 | AH18: ='Survivalexp RAW Oct_Nov 2017'!I149 -> #DIV/0! | AI18: ='Survivalexp RAW Oct_Nov 2017'!P149 -> #DIV/0! | AJ18: ='Survivalexp RAW Oct_Nov 2017'!W149 -> #DIV/0! | AK18: ='Survivalexp RAW Oct_Nov 2017'!AD149 -> 8.6876383 | AL18: ='Survivalexp RAW Oct_Nov 2017'!AK149 -> 2.1982677 | AM18: ='Survivalexp RAW Oct_Nov 2017'!AR149 -> 0 | AN18: ='Survivalexp RAW Oct_Nov 2017'!AY149 -> 0 | AO18: ='Survivalexp RAW Oct_Nov 2017'!BF149 -> 0 | AR18: ='Survivalexp RAW Oct_Nov 2017'!I191 -> #DIV/0! | AS18: ='Survivalexp RAW Oct_Nov 2017'!P191 -> #DIV/0! | AT18: ='Survivalexp RAW Oct_Nov 2017'!W191 -> 16.661328 | AU18: ='Survivalexp RAW Oct_Nov 2017'!AD191 -> 4.6342859 | AV18: ='Survivalexp RAW Oct_Nov 2017'!AK191 -> 1.6431677 | AW18: ='Survivalexp RAW Oct_Nov 2017'!AR191 -> 0.4472136 | AX18: ='Survivalexp RAW Oct_Nov 2017'!AY191 -> 0.4472136 | AY18: ='Survivalexp RAW Oct_Nov 2017'!BF191 -> 0 | BB18: ='Survivalexp RAW Oct_Nov 2017'!I233 -> #DIV/0! | BC18: ='Survivalexp RAW Oct_Nov 2017'!P233 -> #DIV/0! | BD18: ='Survivalexp RAW Oct_Nov 2017'!W233 -> 14.327282 | BE18: ='Survivalexp RAW Oct_Nov 2017'!AD233 -> 3.1565598 | BF18: ='Survivalexp RAW Oct_Nov 2017'!AK233 -> 1.3416408 | BG18: ='Survivalexp RAW Oct_Nov 2017'!AR233 -> 0 | BH18: ='Survivalexp RAW Oct_Nov 2017'!AY233 -> 0 | BI18: ='Survivalexp RAW Oct_Nov 2017'!BF233 -> 0 | BL18: ='Survivalexp RAW Oct_Nov 2017'!I275 -> #DIV/0! | BM18: ='Survivalexp RAW Oct_Nov 2017'!P275 -> #DIV/0! | BN18: ='Survivalexp RAW Oct_Nov 2017'!W275 -> 9.2115706 | BO18: ='Survivalexp RAW Oct_Nov 2017'!AD275 -> 1.851563 | BP18: ='Survivalexp RAW Oct_Nov 2017'!AK275 -> 0.89442719 | BQ18: ='Survivalexp RAW Oct_Nov 2017'!AR275 -> 0 | BR18: ='Survivalexp RAW Oct_Nov 2017'!AY275 -> 0 | BS18: ='Survivalexp RAW Oct_Nov 2017'!BF275 -> 0 | BV18: ='Survivalexp RAW Oct_Nov 2017'!I317 -> 21.857143 | BW18: ='Survivalexp RAW Oct_Nov 2017'!P317 -> 6.6643902 | BX18: ='Survivalexp RAW Oct_Nov 2017'!W317 -> 2.0642976 | BY18: ='Survivalexp RAW Oct_Nov 2017'!AD317 -> 0.4472136 | BZ18: ='Survivalexp RAW Oct_Nov 2017'!AK317 -> 0 | CA18: ='Survivalexp RAW Oct_Nov 2017'!AR317 -> 0 | CB18: ='Survivalexp RAW Oct_Nov 2017'!AY317 -> 0 | CC18: ='Survivalexp RAW Oct_Nov 2017'!BF317 -> 0
B19: est. nr of bacteria | D19: =D17/$D$8 -> #DIV/0! | E19: =E17/$E$8 -> #DIV/0! | F19: =F17/$F$8 -> #DIV/0! | G19: =G17/$G$8 -> #DIV/0! | H19: =H17/$H$8 -> 353000 | I19: =I17/$I$8 -> 400000 | J19: =J17/$J$8 -> 700000 | K19: =K17/$K$8 -> 0 | L19: =H19 -> 353000 | M19: =H20 -> 152923.24 | N19: =N17/$D$8 -> #DIV/0! | O19: =O17/$E$8 -> #DIV/0! | P19: =P17/$F$8 -> #DIV/0! | Q19: =Q17/$G$8 -> 140200 | R19: =R17/$H$8 -> 275000 | S19: =S17/$I$8 -> 510000 | T19: =T17/$J$8 -> 5600000 | U19: =U17/$K$8 -> 54000000 | V19: =AVERAGE(Q19) -> 140200 | W19: =Q20 -> 14942.038 | X19: =X17/$D$8 -> #DIV/0! | Y19: =Y17/$E$8 -> #DIV/0! | Z19: =Z17/$F$8 -> #DIV/0! | AA19: =AA17/$G$8 -> 65600 | AB19: =AB17/$H$8 -> 61000 | AC19: =AC17/$I$8 -> 200000 | AD19: =AD17/$J$8 -> 0 | AE19: =AE17/$K$8 -> 0 | AF19: =AA19 -> 65600 | AG19: =AA20 -> 14647.292 | AH19: =AH17/$D$8 -> #DIV/0! | AI19: =AI17/$E$8 -> #DIV/0! | AJ19: =AJ17/$F$8 -> #DIV/0! | AK19: =AK17/$G$8 -> 18300 | AL19: =AL17/$H$8 -> 19000 | AM19: =AM17/$I$8 -> 0 | AN19: =AN17/$J$8 -> 0 | AO19: =AO17/$K$8 -> 0 | AP19: =AK19 -> 18300 | AQ19: =AK20 -> 8687.6383 | AR19: =AR17/$D$8 -> #DIV/0! | AS19: =AS17/$E$8 -> #DIV/0! | AT19: =AT17/$F$8 -> 8480 | AU19: =AU17/$G$8 -> 9200 | AV19: =AV17/$H$8 -> 6000 | AW19: =AW17/$I$8 -> 10000 | AX19: =AX17/$J$8 -> 100000 | AY19: =AY17/$K$8 -> 0 | AZ19: =AU19 -> 9200 | BA19: =AU20 -> 4634.2859 | BB19: =BB17/$D$8 -> #DIV/0! | BC19: =BC17/$E$8 -> #DIV/0! | BD19: =BD17/$F$8 -> 4940 | BE19: =BE17/$G$8 -> 2600 | BF19: =BF17/$H$8 -> 4000 | BG19: =BG17/$I$8 -> 0 | BH19: =BH17/$J$8 -> 0 | BI19: =BI17/$K$8 -> 0 | BJ19: =BE19 -> 2600 | BK19: =BE20 -> 3156.5598 | BL19: =BL17/$D$8 -> #DIV/0! | BM19: =BM17/$E$8 -> #DIV/0! | BN19: =BN17/$F$8 -> 2860 | BO19: =BO17/$G$8 -> 1800 | BP19: =BP17/$H$8 -> 2000 | BQ19: =BQ17/$I$8 -> 0 | BR19: =BR17/$J$8 -> 0 | BS19: =BS17/$K$8 -> 0 | BT19: =BO19 -> 1800 | BU19: =BO20 -> 1851.563 | BV19: =BV17/$D$8 -> 122.4 | BW19: =BW17/$E$8 -> 167 | BX19: =BX17/$F$8 -> 200 | BY19: =BY17/$G$8 -> 100 | BZ19: =BZ17/$H$8 -> 0 | CA19: =CA17/$I$8 -> 0 | CB19: =CB17/$J$8 -> 0 | CC19: =CC17/$K$8 -> 0 | CD19: =BW19 -> 167 | CE19: =BW20 -> 66.643902
C20: stdev | D20: =D18/$D$8 -> #DIV/0! | E20: =E18/$E$8 -> #DIV/0! | F20: =F18/$F$8 -> #DIV/0! | G20: =G18/$G$8 -> #DIV/0! | H20: =H18/$H$8 -> 152923.24 | I20: =I18/$I$8 -> 409148.67 | J20: =J18/$J$8 -> 1772467.4 | K20: =K18/$K$8 -> 0 | N20: =N18/$D$8 -> #DIV/0! | O20: =O18/$E$8 -> #DIV/0! | P20: =P18/$F$8 -> #DIV/0! | Q20: =Q18/$G$8 -> 14942.038 | R20: =R18/$H$8 -> 75452.58 | S20: =S18/$I$8 -> 367412.99 | T20: =T18/$J$8 -> 3590219.2 | U20: =U18/$K$8 -> 37074653 | X20: =X18/$D$8 -> #DIV/0! | Y20: =Y18/$E$8 -> #DIV/0! | Z20: =Z18/$F$8 -> #DIV/0! | AA20: =AA18/$G$8 -> 14647.292 | AB20: =AB18/$H$8 -> 59729.367 | AC20: =AC18/$I$8 -> 562819.01 | AD20: =AD18/$J$8 -> 0 | AE20: =AE18/$K$8 -> 0 | AH20: =AH18/$D$8 -> #DIV/0! | AI20: =AI18/$E$8 -> #DIV/0! | AJ20: =AJ18/$F$8 -> #DIV/0! | AK20: =AK18/$G$8 -> 8687.6383 | AL20: =AL18/$H$8 -> 21982.677 | AM20: =AM18/$I$8 -> 0 | AN20: =AN18/$J$8 -> 0 | AO20: =AO18/$K$8 -> 0 | AR20: =AR18/$D$8 -> #DIV/0! | AS20: =AS18/$E$8 -> #DIV/0! | AT20: =AT18/$F$8 -> 1666.1328 | AU20: =AU18/$G$8 -> 4634.2859 | AV20: =AV18/$H$8 -> 16431.677 | AW20: =AW18/$I$8 -> 44721.36 | AX20: =AX18/$J$8 -> 447213.6 | AY20: =AY18/$K$8 -> 0 | BB20: =BB18/$D$8 -> #DIV/0! | BC20: =BC18/$E$8 -> #DIV/0! | BD20: =BD18/$F$8 -> 1432.7282 | BE20: =BE18/$G$8 -> 3156.5598 | BF20: =BF18/$H$8 -> 13416.408 | BG20: =BG18/$I$8 -> 0 | BH20: =BH18/$J$8 -> 0 | BI20: =BI18/$K$8 -> 0 | BL20: =BL18/$D$8 -> #DIV/0! | BM20: =BM18/$E$8 -> #DIV/0! | BN20: =BN18/$F$8 -> 921.15706 | BO20: =BO18/$G$8 -> 1851.563 | BP20: =BP18/$H$8 -> 8944.2719 | BQ20: =BQ18/$I$8 -> 0 | BR20: =BR18/$J$8 -> 0 | BS20: =BS18/$K$8 -> 0 | BV20: =BV18/$D$8 -> 21.857143 | BW20: =BW18/$E$8 -> 66.643902 | BX20: =BX18/$F$8 -> 206.42976 | BY20: =BY18/$G$8 -> 447.2136 | BZ20: =BZ18/$H$8 -> 0 | CA20: =CA18/$I$8 -> 0 | CB20: =CB18/$J$8 -> 0 | CC20: =CC18/$K$8 -> 0
