Workbook

Sheet Survivalexp RAW Oct_Nov 2017
A1: Survival experiment | L1: Averages/Stdev Technical replicates
A2: Subject: | C2: Anaerobic survival after aerobic inoculation of recombinant strains | L2: Averages/stdev Biological replicates
C3: DeBont+Gluconic Acid - Kanamycin
A4: Inoculation date | C4: 43030
A5: Inoculation OD600 | C5: 0.1 | D5: BW25113 2213F -
A6: Inoculated | D6: Blank | E6: 2213F - | G6: 2213F A | I6: 2213F APR
E7: p+0 | F7: p+3 | G7: p+0 | H7: p+3 | I7: p+0 | K7: p+3
A8: T1 | B8: 43038
A9: Sample | B9: Dilution: | D9: 10^0 | I9: AVERAGE | J9: STDEV | K9: 10^-1 | P9: AVERAGE | Q9: STDEV | R9: 10^-2 | W9: AVERAGE | X9: STDEV | Y9: 10^-3 | AD9: AVERAGE | AE9: STDEV | AF9: 10^-4 | AK9: AVERAGE | AL9: STDEV | AM9: 10^-5 | AR9: AVERAGE | AS9: STDEV | AT9: 10^-6 | AY9: AVERAGE | AZ9: STDEV | BA9: 10^-7 | BF9: AVERAGE | BG9: STDEV
A10: Blank | B10: 1 | D10: 0 | E10: 0 | F10: 0 | G10: 0 | H10: 0 | I10: =AVERAGE(D10:H10) -> 0 | J10: =STDEV(D10:H10) -> 0 | K10: 0 | L10: 0 | M10: 0 | N10: 0 | O10: 0 | P10: =AVERAGE(K10:O10) -> 0 | Q10: =STDEV(K10:O10) -> 0 | R10: 0 | S10: 0 | T10: 0 | U10: 0 | V10: 0 | W10: =AVERAGE(R10:V10) -> 0 | X10: =STDEV(R10:V10) -> 0 | Y10: 0 | Z10: 0 | AA10: 0 | AB10: 0 | AC10: 0 | AD10: =AVERAGE(Y10:AC10) -> 0 | AE10: =STDEV(Y10:AC10) -> 0 | AF10: 0 | AG10: 0 | AH10: 0 | AI10: 0 | AJ10: 0 | AK10: =AVERAGE(AF10:AJ10) -> 0 | AL10: =STDEV(AF10:AJ10) -> 0 | AM10: 0 | AN10: 0 | AO10: 0 | AP10: 0 | AQ10: 0 | AR10: =AVERAGE(AM10:AQ10) -> 0 | AS10: =STDEV(AM10:AQ10) -> 0 | AT10: 0 | AU10: 0 | AV10: 0 | AW10: 0 | AX10: 0 | AY10: =AVERAGE(AT10:AX10) -> 0 | AZ10: =STDEV(AT10:AX10) -> 0 | BA10: 0 | BB10: 0 | BC10: 0 | BD10: 0 | BE10: 0 | BF10: =AVERAGE(BA10:BE10) -> 0 | BG10: =STDEV(BA10:BE10) -> 0
I11: =AVERAGE(I10:I10) -> 0 | P11: =AVERAGE(P10:P10) -> 0 | W11: =AVERAGE(W10:W10) -> 0 | AD11: =AVERAGE(AD10:AD10) -> 0 | AK11: =AVERAGE(AK10:AK10) -> 0 | AR11: =AVERAGE(AR10:AR10) -> 0 | AY11: =AVERAGE(AY10:AY10) -> 0 | BF11: =AVERAGE(BF10:BF10) -> 0
I12: =SUM(J10:J10) -> 0 | P12: =SUM(Q10:Q10) -> 0 | W12: =SUM(X10:X10) -> 0 | AD12: =SUM(AE10:AE10) -> 0 | AK12: =SUM(AL10:AL10) -> 0 | AR12: =SUM(AS10:AS10) -> 0 | AY12: =SUM(AZ10:AZ10) -> 0 | BF12: =SUM(BG10:BG10) -> 0
A13: BW25113 - | B13: 1 | D13: NA | E13: NA | F13: NA | G13: NA | H13: NA | I13: =AVERAGE(D13:H13) -> #DIV/0! | J13: =STDEV(D13:H13) -> #DIV/0! | K13: NA | L13: NA | M13: NA | N13: NA | O13: NA | P13: =AVERAGE(K13:O13) -> #DIV/0! | Q13: =STDEV(K13:O13) -> #DIV/0! | R13: NA | S13: NA | T13: NA | U13: NA | V13: NA | W13: =AVERAGE(R13:V13) -> #DIV/0! | X13: =STDEV(R13:V13) -> #DIV/0! | Y13: NA | Z13: NA | AA13: NA | AB13: NA | AC13: NA | AD13: =AVERAGE(Y13:AC13) -> #DIV/0! | AE13: =STDEV(Y13:AC13) -> #DIV/0! | AF13: NA | AG13: NA | AH13: NA | AI13: NA | AJ13: NA | AK13: =AVERAGE(AF13:AJ13) -> #DIV/0! | AL13: =STDEV(AF13:AJ13) -> #DIV/0! | AM13: 18 | AN13: 23 | AO13: 19 | AP13: 14 | AQ13: 23 | AR13: =AVERAGE(AM13:AQ13) -> 19.4 | AS13: =STDEV(AM13:AQ13) -> 3.7815341 | AT13: 3 | AU13: 4 | AV13: 6 | AW13: 0 | AX13: 2 | AY13: =AVERAGE(AT13:AX13) -> 3 | AZ13: =STDEV(AT13:AX13) -> 2.236068 | BA13: 1 | BB13: 2 | BC13: 0 | BD13: 1 | BE13: 0 | BF13: =AVERAGE(BA13:BE13) -> 0.8 | BG13: =STDEV(BA13:BE13) -> 0.83666003
B14: 2 | D14: NA | E14: NA | F14: NA | G14: NA | H14: NA | I14: =AVERAGE(D14:H14) -> #DIV/0! | J14: =STDEV(D14:H14) -> #DIV/0! | K14: NA | L14: NA | M14: NA | N14: NA | O14: NA | P14: =AVERAGE(K14:O14) -> #DIV/0! | Q14: =STDEV(K14:O14) -> #DIV/0! | R14: NA | S14: NA | T14: NA | U14: NA | V14: NA | W14: =AVERAGE(R14:V14) -> #DIV/0! | X14: =STDEV(R14:V14) -> #DIV/0! | Y14: NA | Z14: NA | AA14: NA | AB14: NA | AC14: NA | AD14: =AVERAGE(Y14:AC14) -> #DIV/0! | AE14: =STDEV(Y14:AC14) -> #DIV/0! | AF14: NA | AG14: NA | AH14: NA | AI14: NA | AJ14: NA | AK14: =AVERAGE(AF14:AJ14) -> #DIV/0! | AL14: =STDEV(AF14:AJ14) -> #DIV/0! | AM14: 23 | AN14: 28 | AO14: 32 | AP14: 27 | AQ14: 24 | AR14: =AVERAGE(AM14:AQ14) -> 26.8 | AS14: =STDEV(AM14:AQ14) -> 3.5637059 | AT14: 2 | AU14: 5 | AV14: 5 | AW14: 4 | AX14: 3 | AY14: =AVERAGE(AT14:AX14) -> 3.8 | AZ14: =STDEV(AT14:AX14) -> 1.3038405 | BA14: 0 | BB14: 0 | BC14: 0 | BD14: 0 | BE14: 1 | BF14: =AVERAGE(BA14:BE14) -> 0.2 | BG14: =STDEV(BA14:BE14) -> 0.4472136
B15: 3 | D15: NA | E15: NA | F15: NA | G15: NA | H15: NA | I15: =AVERAGE(D15:H15) -> #DIV/0! | J15: =STDEV(D15:H15) -> #DIV/0! | K15: NA | L15: NA | M15: NA | N15: NA | O15: NA | P15: =AVERAGE(K15:O15) -> #DIV/0! | Q15: =STDEV(K15:O15) -> #DIV/0! | R15: NA | S15: NA | T15: NA | U15: NA | V15: NA | W15: =AVERAGE(R15:V15) -> #DIV/0! | X15: =STDEV(R15:V15) -> #DIV/0! | Y15: NA | Z15: NA | AA15: NA | AB15: NA | AC15: NA | AD15: =AVERAGE(Y15:AC15) -> #DIV/0! | AE15: =STDEV(Y15:AC15) -> #DIV/0! | AF15: NA | AG15: NA | AH15: NA | AI15: NA | AJ15: NA | AK15: =AVERAGE(AF15:AJ15) -> #DIV/0! | AL15: =STDEV(AF15:AJ15) -> #DIV/0! | AM15: 52 | AN15: 39 | AO15: 42 | AP15: 44 | AQ15: 37 | AR15: =AVERAGE(AM15:AQ15) -> 42.8 | AS15: =STDEV(AM15:AQ15) -> 5.8051701 | AT15: 6 | AU15: 2 | AV15: 5 | AW15: 9 | AX15: 4 | AY15: =AVERAGE(AT15:AX15) -> 5.2 | AZ15: =STDEV(AT15:AX15) -> 2.5884358 | BA15: 0 | BB15: 0 | BC15: 0 | BD15: 1 | BE15: 0 | BF15: =AVERAGE(BA15:BE15) -> 0.2 | BG15: =STDEV(BA15:BE15) -> 0.4472136
A16: average | I16: =AVERAGE(I13:I15) -> #DIV/0! | P16: =AVERAGE(P13:P15) -> #DIV/0! | W16: =AVERAGE(W13:W15) -> #DIV/0! | AD16: =AVERAGE(AD13:AD15) -> #DIV/0! | AK16: =AVERAGE(AK13:AK15) -> #DIV/0! | AR16: =AVERAGE(AR13:AR15) -> 29.666667 | AY16: =AVERAGE(AY13:AY15) -> 4 | BF16: =AVERAGE(BF13:BF15) -> 0.4
A17: stdev | I17: =SUM(J13:J15) -> #DIV/0! | P17: =SUM(Q13:Q15) -> #DIV/0! | W17: =SUM(X13:X15) -> #DIV/0! | AD17: =SUM(AE13:AE15) -> #DIV/0! | AK17: =SUM(AL13:AL15) -> #DIV/0! | AR17: =SUM(AS13:AS15) -> 13.15041 | AY17: =SUM(AZ13:AZ15) -> 6.1283443 | BF17: =SUM(BG13:BG15) -> 1.7310872
A18: 2213F - | B18: 1 | D18: NA | E18: NA | F18: NA | G18: NA | H18: NA | I18: =AVERAGE(D18:H18) -> #DIV/0! | J18: =STDEV(D18:H18) -> #DIV/0! | K18: NA | L18: NA | M18: NA | N18: NA | O18: NA | P18: =AVERAGE(K18:O18) -> #DIV/0! | Q18: =STDEV(K18:O18) -> #DIV/0! | R18: NA | S18: NA | T18: NA | U18: NA | V18: NA | W18: =AVERAGE(R18:V18) -> #DIV/0! | X18: =STDEV(R18:V18) -> #DIV/0! | Y18: NA | Z18: NA | AA18: NA | AB18: NA | AC18: NA | AD18: =AVERAGE(Y18:AC18) -> #DIV/0! | AE18: =STDEV(Y18:AC18) -> #DIV/0! | AF18: 37 | AG18: 38 | AH18: 31 | AI18: 49 | AJ18: 33 | AK18: =AVERAGE(AF18:AJ18) -> 37.6 | AL18: =STDEV(AF18:AJ18) -> 6.9856997 | AM18: 4 | AN18: 5 | AO18: 3 | AP18: 8 | AQ18: 4 | AR18: =AVERAGE(AM18:AQ18) -> 4.8 | AS18: =STDEV(AM18:AQ18) -> 1.9235384 | AT18: 1 | AU18: 1 | AV18: 0 | AW18: 0 | AX18: 0 | AY18: =AVERAGE(AT18:AX18) -> 0.4 | AZ18: =STDEV(AT18:AX18) -> 0.54772256 | BA18: 0 | BB18: 0 | BC18: 0 | BD18: 0 | BE18: 0 | BF18: =AVERAGE(BA18:BE18) -> 0 | BG18: =STDEV(BA18:BE18) -> 0
A19: p+0 | B19: 2 | D19: NA | E19: NA | F19: NA | G19: NA | H19: NA | I19: =AVERAGE(D19:H19) -> #DIV/0! | J19: =STDEV(D19:H19) -> #DIV/0! | K19: NA | L19: NA | M19: NA | N19: NA | O19: NA | P19: =AVERAGE(K19:O19) -> #DIV/0! | Q19: =STDEV(K19:O19) -> #DIV/0! | R19: NA | S19: NA | T19: NA | U19: NA | V19: NA | W19: =AVERAGE(R19:V19) -> #DIV/0! | X19: =STDEV(R19:V19) -> #DIV/0! | Y19: NA | Z19: NA | AA19: NA | AB19: NA | AC19: NA | AD19: =AVERAGE(Y19:AC19) -> #DIV/0! | AE19: =STDEV(Y19:AC19) -> #DIV/0! | AF19: 32 | AG19: 33 | AH19: 42 | AI19: 20 | AJ19: 38 | AK19: =AVERAGE(AF19:AJ19) -> 33 | AL19: =STDEV(AF19:AJ19) -> 8.3066239 | AM19: 5 | AN19: 0 | AO19: 4 | AP19: 2 | AQ19: 5 | AR19: =AVERAGE(AM19:AQ19) -> 3.2 | AS19: =STDEV(AM19:AQ19) -> 2.1679483 | AT19: 0 | AU19: 3 | AV19: 1 | AW19: 0 | AX19: 1 | AY19: =AVERAGE(AT19:AX19) -> 1 | AZ19: =STDEV(AT19:AX19) -> 1.2247449 | BA19: 0 | BB19: 0 | BC19: 0 | BD19: 0 | BE19: 0 | BF19: =AVERAGE(BA19:BE19) -> 0 | BG19: =STDEV(BA19:BE19) -> 0
B20: 3 | D20: NA | E20: NA | F20: NA | G20: NA | H20: NA | I20: =AVERAGE(D20:H20) -> #DIV/0! | J20: =STDEV(D20:H20) -> #DIV/0! | K20: NA | L20: NA | M20: NA | N20: NA | O20: NA | P20: =AVERAGE(K20:O20) -> #DIV/0! | Q20: =STDEV(K20:O20) -> #DIV/0! | R20: NA | S20: NA | T20: NA | U20: NA | V20: NA | W20: =AVERAGE(R20:V20) -> #DIV/0! | X20: =STDEV(R20:V20) -> #DIV/0! | Y20: NA | Z20: NA | AA20: NA | AB20: NA | AC20: NA | AD20: =AVERAGE(Y20:AC20) -> #DIV/0! | AE20: =STDEV(Y20:AC20) -> #DIV/0! | AF20: 46 | AG20: 48 | AH20: 57 | AI20: 57 | AJ20: 54 | AK20: =AVERAGE(AF20:AJ20) -> 52.4 | AL20: =STDEV(AF20:AJ20) -> 5.1283526 | AM20: 4 | AN20: 8 | AO20: 5 | AP20: 9 | AQ20: 4 | AR20: =AVERAGE(AM20:AQ20) -> 6 | AS20: =STDEV(AM20:AQ20) -> 2.3452079 | AT20: 1 | AU20: 1 | AV20: 0 | AW20: 0 | AX20: 0 | AY20: =AVERAGE(AT20:AX20) -> 0.4 | AZ20: =STDEV(AT20:AX20) -> 0.54772256 | BA20: 0 | BB20: 0 | BC20: 0 | BD20: 0 | BE20: 0 | BF20: =AVERAGE(BA20:BE20) -> 0 | BG20: =STDEV(BA20:BE20) -> 0
A21: average | I21: =AVERAGE(I18:I19) -> #DIV/0! | P21: =AVERAGE(P18:P19) -> #DIV/0! | W21: =AVERAGE(W18:W19) -> #DIV/0! | AD21: =AVERAGE(AD18:AD19) -> #DIV/0! | AK21: =AVERAGE(AK18:AK19) -> 35.3 | AR21: =AVERAGE(AR18:AR19) -> 4 | AY21: =AVERAGE(AY18:AY19) -> 0.7 | BF21: =AVERAGE(BF18:BF19) -> 0
A22: stdev | I22: =SUM(J18:J19) -> #DIV/0! | P22: =SUM(Q18:Q19) -> #DIV/0! | W22: =SUM(X18:X19) -> #DIV/0! | AD22: =SUM(AE18:AE19) -> #DIV/0! | AK22: =SUM(AL18:AL19) -> 15.292324 | AR22: =SUM(AS18:AS19) -> 4.0914867 | AY22: =SUM(AZ18:AZ19) -> 1.7724674 | BF22: =SUM(BG18:BG19) -> 0
A23: p+3 | B23: 1 | D23: NA | E23: NA | F23: NA | G23: NA | H23: NA | I23: =AVERAGE(D23:H23) -> #DIV/0! | J23: =STDEV(D23:H23) -> #DIV/0! | K23: NA | L23: NA | M23: NA | N23: NA | O23: NA | P23: =AVERAGE(K23:O23) -> #DIV/0! | Q23: =STDEV(K23:O23) -> #DIV/0! | R23: NA | S23: NA | T23: NA | U23: NA | V23: NA | W23: =AVERAGE(R23:V23) -> #DIV/0! | X23: =STDEV(R23:V23) -> #DIV/0! | Y23: NA | Z23: NA | AA23: NA | AB23: NA | AC23: NA | AD23: =AVERAGE(Y23:AC23) -> #DIV/0! | AE23: =STDEV(Y23:AC23) -> #DIV/0! | AF23: 49 | AG23: 46 | AH23: 59 | AI23: 62 | AJ23: 45 | AK23: =AVERAGE(AF23:AJ23) -> 52.2 | AL23: =STDEV(AF23:AJ23) -> 7.7910205 | AM23: 8 | AN23: 9 | AO23: 14 | AP23: 11 | AQ23: 14 | AR23: =AVERAGE(AM23:AQ23) -> 11.2 | AS23: =STDEV(AM23:AQ23) -> 2.7748874 | AT23: 0 | AU23: 0 | AV23: 1 | AW23: 0 | AX23: 0 | AY23: =AVERAGE(AT23:AX23) -> 0.2 | AZ23: =STDEV(AT23:AX23) -> 0.4472136 | BA23: 0 | BB23: 0 | BC23: 0 | BD23: 0 | BE23: 1 | BF23: =AVERAGE(BA23:BE23) -> 0.2 | BG23: =STDEV(BA23:BE23) -> 0.4472136
B24: 2 | D24: NA | E24: NA | F24: NA | G24: NA | H24: NA | I24: =AVERAGE(D24:H24) -> #DIV/0! | J24: =STDEV(D24:H24) -> #DIV/0! | K24: NA | L24: NA | M24: NA | N24: NA | O24: NA | P24: =AVERAGE(K24:O24) -> #DIV/0! | Q24: =STDEV(K24:O24) -> #DIV/0! | R24: NA | S24: NA | T24: NA | U24: NA | V24: NA | W24: =AVERAGE(R24:V24) -> #DIV/0! | X24: =STDEV(R24:V24) -> #DIV/0! | Y24: NA | Z24: NA | AA24: NA | AB24: NA | AC24: NA | AD24: =AVERAGE(Y24:AC24) -> #DIV/0! | AE24: =STDEV(Y24:AC24) -> #DIV/0! | AF24: 67 | AG24: 55 | AH24: 69 | AI24: 73 | AJ24: 78 | AK24: =AVERAGE(AF24:AJ24) -> 68.4 | AL24: =STDEV(AF24:AJ24) -> 8.5906926 | AM24: 5 | AN24: 8 | AO24: 13 | AP24: 8 | AQ24: 4 | AR24: =AVERAGE(AM24:AQ24) -> 7.6 | AS24: =STDEV(AM24:AQ24) -> 3.5071356 | AT24: 2 | AU24: 0 | AV24: 0 | AW24: 3 | AX24: 0 | AY24: =AVERAGE(AT24:AX24) -> 1 | AZ24: =STDEV(AT24:AX24) -> 1.4142136 | BA24: 0 | BB24: 1 | BC24: 0 | BD24: 1 | BE24: 0 | BF24: =AVERAGE(BA24:BE24) -> 0.4 | BG24: =STDEV(BA24:BE24) -> 0.54772256
B25: 3 | D25: NA | E25: NA | F25: NA | G25: NA | H25: NA | I25: =AVERAGE(D25:H25) -> #DIV/0! | J25: =STDEV(D25:H25) -> #DIV/0! | K25: NA | L25: NA | M25: NA | N25: NA | O25: NA | P25: =AVERAGE(K25:O25) -> #DIV/0! | Q25: =STDEV(K25:O25) -> #DIV/0! | R25: NA | S25: NA | T25: NA | U25: NA | V25: NA | W25: =AVERAGE(R25:V25) -> #DIV/0! | X25: =STDEV(R25:V25) -> #DIV/0! | Y25: NA | Z25: NA | AA25: NA | AB25: NA | AC25: NA | AD25: =AVERAGE(Y25:AC25) -> #DIV/0! | AE25: =STDEV(Y25:AC25) -> #DIV/0! | AF25: 40 | AG25: 44 | AH25: 50 | AI25: 46 | AJ25: 53 | AK25: =AVERAGE(AF25:AJ25) -> 46.6 | AL25: =STDEV(AF25:AJ25) -> 5.07937 | AM25: 8 | AN25: 9 | AO25: NA | AP25: 7 | AQ25: 2 | AR25: =AVERAGE(AM25:AQ25) -> 6.5 | AS25: =STDEV(AM25:AQ25) -> 3.1091264 | AT25: 0 | AU25: 1 | AV25: 0 | AW25: 2 | AX25: 0 | AY25: =AVERAGE(AT25:AX25) -> 0.6 | AZ25: =STDEV(AT25:AX25) -> 0.89442719 | BA25: 0 | BB25: 0 | BC25: 0 | BD25: 0 | BE25: 0 | BF25: =AVERAGE(BA25:BE25) -> 0 | BG25: =STDEV(BA25:BE25) -> 0
A26: average | I26: =AVERAGE(I23:I25) -> #DIV/0! | P26: =AVERAGE(P23:P25) -> #DIV/0! | W26: =AVERAGE(W23:W25) -> #DIV/0! | AD26: =AVERAGE(AD23:AD25) -> #DIV/0! | AK26: =AVERAGE(AK23:AK25) -> 55.733333 | AR26: =AVERAGE(AR23:AR25) -> 8.4333333 | AY26: =AVERAGE(AY23:AY25) -> 0.6 | BF26: =AVERAGE(BF23:BF25) -> 0.2
A27: stdev | I27: =SUM(J23:J25) -> #DIV/0! | P27: =SUM(Q23:Q25) -> #DIV/0! | W27: =SUM(X23:X25) -> #DIV/0! | AD27: =SUM(AE23:AE25) -> #DIV/0! | AK27: =SUM(AL23:AL25) -> 21.461083 | AR27: =SUM(AS23:AS25) -> 9.3911493 | AY27: =SUM(AZ23:AZ25) -> 2.7558543 | BF27: =SUM(BG23:BG25) -> 0.99493615
A28: 2213F A | B28: 1 | D28: NA | E28: NA | F28: NA | G28: NA | H28: NA | I28: =AVERAGE(D28:H28) -> #DIV/0! | J28: =STDEV(D28:H28) -> #DIV/0! | K28: NA | L28: NA | M28: NA | N28: NA | O28: NA | P28: =AVERAGE(K28:O28) -> #DIV/0! | Q28: =STDEV(K28:O28) -> #DIV/0! | R28: NA | S28: NA | T28: NA | U28: NA | V28: NA | W28: =AVERAGE(R28:V28) -> #DIV/0! | X28: =STDEV(R28:V28) -> #DIV/0! | Y28: NA | Z28: NA | AA28: NA | AB28: NA | AC28: NA | AD28: =AVERAGE(Y28:AC28) -> #DIV/0! | AE28: =STDEV(Y28:AC28) -> #DIV/0! | AF28: 50 | AG28: 58 | AH28: 46 | AI28: 43 | AJ28: 47 | AK28: =AVERAGE(AF28:AJ28) -> 48.8 | AL28: =STDEV(AF28:AJ28) -> 5.7183914 | AM28: 5 | AN28: 9 | AO28: 6 | AP28: 5 | AQ28: 1 | AR28: =AVERAGE(AM28:AQ28) -> 5.2 | AS28: =STDEV(AM28:AQ28) -> 2.8635642 | AT28: 1 | AU28: 1 | AV28: 1 | AW28: 1 | AX28: 2 | AY28: =AVERAGE(AT28:AX28) -> 1.2 | AZ28: =STDEV(AT28:AX28) -> 0.4472136 | BA28: 0 | BB28: 0 | BC28: 1 | BD28: 0 | BE28: 1 | BF28: =AVERAGE(BA28:BE28) -> 0.4 | BG28: =STDEV(BA28:BE28) -> 0.54772256
A29: p+0 | B29: 2 | D29: NA | E29: NA | F29: NA | G29: NA | H29: NA | I29: =AVERAGE(D29:H29) -> #DIV/0! | J29: =STDEV(D29:H29) -> #DIV/0! | K29: NA | L29: NA | M29: NA | N29: NA | O29: NA | P29: =AVERAGE(K29:O29) -> #DIV/0! | Q29: =STDEV(K29:O29) -> #DIV/0! | R29: NA | S29: NA | T29: NA | U29: NA | V29: NA | W29: =AVERAGE(R29:V29) -> #DIV/0! | X29: =STDEV(R29:V29) -> #DIV/0! | Y29: NA | Z29: NA | AA29: NA | AB29: NA | AC29: NA | AD29: =AVERAGE(Y29:AC29) -> #DIV/0! | AE29: =STDEV(Y29:AC29) -> #DIV/0! | AF29: 46 | AG29: 63 | AH29: 60 | AI29: 52 | AJ29: 58 | AK29: =AVERAGE(AF29:AJ29) -> 55.8 | AL29: =STDEV(AF29:AJ29) -> 6.7970582 | AM29: 4 | AN29: 6 | AO29: 9 | AP29: 5 | AQ29: 5 | AR29: =AVERAGE(AM29:AQ29) -> 5.8 | AS29: =STDEV(AM29:AQ29) -> 1.9235384 | AT29: 1 | AU29: 1 | AV29: 0 | AW29: 0 | AX29: 0 | AY29: =AVERAGE(AT29:AX29) -> 0.4 | AZ29: =STDEV(AT29:AX29) -> 0.54772256 | BA29: 0 | BB29: 0 | BC29: 0 | BD29: 1 | BE29: 0 | BF29: =AVERAGE(BA29:BE29) -> 0.2 | BG29: =STDEV(BA29:BE29) -> 0.4472136
B30: 3 | D30: NA | E30: NA | F30: NA | G30: NA | H30: NA | I30: =AVERAGE(D30:H30) -> #DIV/0! | J30: =STDEV(D30:H30) -> #DIV/0! | K30: NA | L30: NA | M30: NA | N30: NA | O30: NA | P30: =AVERAGE(K30:O30) -> #DIV/0! | Q30: =STDEV(K30:O30) -> #DIV/0! | R30: NA | S30: NA | T30: NA | U30: NA | V30: NA | W30: =AVERAGE(R30:V30) -> #DIV/0! | X30: =STDEV(R30:V30) -> #DIV/0! | Y30: NA | Z30: NA | AA30: NA | AB30: NA | AC30: NA | AD30: =AVERAGE(Y30:AC30) -> #DIV/0! | AE30: =STDEV(Y30:AC30) -> #DIV/0! | AF30: 33 | AG30: 37 | AH30: 43 | AI30: 46 | AJ30: 38 | AK30: =AVERAGE(AF30:AJ30) -> 39.4 | AL30: =STDEV(AF30:AJ30) -> 5.1283526 | AM30: 3 | AN30: 6 | AO30: 3 | AP30: 7 | AQ30: 2 | AR30: =AVERAGE(AM30:AQ30) -> 4.2 | AS30: =STDEV(AM30:AQ30) -> 2.1679483 | AT30: 0 | AU30: 1 | AV30: 0 | AW30: 0 | AX30: 0 | AY30: =AVERAGE(AT30:AX30) -> 0.2 | AZ30: =STDEV(AT30:AX30) -> 0.4472136 | BA30: 0 | BB30: 0 | BC30: 0 | BD30: 0 | BE30: 0 | BF30: =AVERAGE(BA30:BE30) -> 0 | BG30: =STDEV(BA30:BE30) -> 0
A31: average | I31: =AVERAGE(I29:I30) -> #DIV/0! | P31: =AVERAGE(P29:P30) -> #DIV/0! | W31: =AVERAGE(W29:W30) -> #DIV/0! | AD31: =AVERAGE(AD29:AD30) -> #DIV/0! | AK31: =AVERAGE(AK29:AK30) -> 47.6 | AR31: =AVERAGE(AR29:AR30) -> 5 | AY31: =AVERAGE(AY29:AY30) -> 0.3 | BF31: =AVERAGE(BF29:BF30) -> 0.1
A32: stdev | I32: =SUM(J29:J30) -> #DIV/0! | P32: =SUM(Q29:Q30) -> #DIV/0! | W32: =SUM(X29:X30) -> #DIV/0! | AD32: =SUM(AE29:AE30) -> #DIV/0! | AK32: =SUM(AL29:AL30) -> 11.925411 | AR32: =SUM(AS29:AS30) -> 4.0914867 | AY32: =SUM(AZ29:AZ30) -> 0.99493615 | BF32: =SUM(BG29:BG30) -> 0.4472136
A33: p+3 | B33: 1 | D33: NA | E33: NA | F33: NA | G33: NA | H33: NA | I33: =AVERAGE(D33:H33) -> #DIV/0! | J33: =STDEV(D33:H33) -> #DIV/0! | K33: NA | L33: NA | M33: NA | N33: NA | O33: NA | P33: =AVERAGE(K33:O33) -> #DIV/0! | Q33: =STDEV(K33:O33) -> #DIV/0! | R33: NA | S33: NA | T33: NA | U33: NA | V33: NA | W33: =AVERAGE(R33:V33) -> #DIV/0! | X33: =STDEV(R33:V33) -> #DIV/0! | Y33: NA | Z33: NA | AA33: NA | AB33: NA | AC33: NA | AD33: =AVERAGE(Y33:AC33) -> #DIV/0! | AE33: =STDEV(Y33:AC33) -> #DIV/0! | AF33: 36 | AG33: 18 | AH33: 22 | AI33: 35 | AJ33: 29 | AK33: =AVERAGE(AF33:AJ33) -> 28 | AL33: =STDEV(AF33:AJ33) -> 7.9056942 | AM33: 4 | AN33: 11 | AO33: 4 | AP33: 5 | AQ33: 4 | AR33: =AVERAGE(AM33:AQ33) -> 5.6 | AS33: =STDEV(AM33:AQ33) -> 3.0495901 | AT33: 0 | AU33: 2 | AV33: 2 | AW33: 0 | AX33: 0 | AY33: =AVERAGE(AT33:AX33) -> 0.8 | AZ33: =STDEV(AT33:AX33) -> 1.0954451 | BA33: 0 | BB33: 0 | BC33: 0 | BD33: 1 | BE33: 0 | BF33: =AVERAGE(BA33:BE33) -> 0.2 | BG33: =STDEV(BA33:BE33) -> 0.4472136
B34: 2 | D34: NA | E34: NA | F34: NA | G34: NA | H34: NA | I34: =AVERAGE(D34:H34) -> #DIV/0! | J34: =STDEV(D34:H34) -> #DIV/0! | K34: NA | L34: NA | M34: NA | N34: NA | O34: NA | P34: =AVERAGE(K34:O34) -> #DIV/0! | Q34: =STDEV(K34:O34) -> #DIV/0! | R34: NA | S34: NA | T34: NA | U34: NA | V34: NA | W34: =AVERAGE(R34:V34) -> #DIV/0! | X34: =STDEV(R34:V34) -> #DIV/0! | Y34: NA | Z34: NA | AA34: NA | AB34: NA | AC34: NA | AD34: =AVERAGE(Y34:AC34) -> #DIV/0! | AE34: =STDEV(Y34:AC34) -> #DIV/0! | AF34: 37 | AG34: 34 | AH34: 27 | AI34: 38 | AJ34: 41 | AK34: =AVERAGE(AF34:AJ34) -> 35.4 | AL34: =STDEV(AF34:AJ34) -> 5.3197744 | AM34: 3 | AN34: 6 | AO34: 2 | AP34: 5 | AQ34: 6 | AR34: =AVERAGE(AM34:AQ34) -> 4.4 | AS34: =STDEV(AM34:AQ34) -> 1.8165902 | AT34: 0 | AU34: 3 | AV34: 0 | AW34: 2 | AX34: 0 | AY34: =AVERAGE(AT34:AX34) -> 1 | AZ34: =STDEV(AT34:AX34) -> 1.4142136 | BA34: 0 | BB34: 0 | BC34: 0 | BD34: 2 | BE34: 1 | BF34: =AVERAGE(BA34:BE34) -> 0.6 | BG34: =STDEV(BA34:BE34) -> 0.89442719
B35: 3 | D35: NA | E35: NA | F35: NA | G35: NA | H35: NA | I35: =AVERAGE(D35:H35) -> #DIV/0! | J35: =STDEV(D35:H35) -> #DIV/0! | K35: NA | L35: NA | M35: NA | N35: NA | O35: NA | P35: =AVERAGE(K35:O35) -> #DIV/0! | Q35: =STDEV(K35:O35) -> #DIV/0! | R35: NA | S35: NA | T35: NA | U35: NA | V35: NA | W35: =AVERAGE(R35:V35) -> #DIV/0! | X35: =STDEV(R35:V35) -> #DIV/0! | Y35: NA | Z35: NA | AA35: NA | AB35: NA | AC35: NA | AD35: =AVERAGE(Y35:AC35) -> #DIV/0! | AE35: =STDEV(Y35:AC35) -> #DIV/0! | AF35: 36 | AG35: 38 | AH35: 43 | AI35: 38 | AJ35: 44 | AK35: =AVERAGE(AF35:AJ35) -> 39.8 | AL35: =STDEV(AF35:AJ35) -> 3.4928498 | AM35: 2 | AN35: 4 | AO35: 2 | AP35: 3 | AQ35: 5 | AR35: =AVERAGE(AM35:AQ35) -> 3.2 | AS35: =STDEV(AM35:AQ35) -> 1.3038405 | AT35: 0 | AU35: 1 | AV35: 1 | AW35: 1 | AX35: 0 | AY35: =AVERAGE(AT35:AX35) -> 0.6 | AZ35: =STDEV(AT35:AX35) -> 0.54772256 | BA35: 0 | BB35: 0 | BC35: 0 | BD35: 1 | BE35: 2 | BF35: =AVERAGE(BA35:BE35) -> 0.6 | BG35: =STDEV(BA35:BE35) -> 0.89442719
A36: average | I36: =AVERAGE(I33:I34) -> #DIV/0! | P36: =AVERAGE(P33:P34) -> #DIV/0! | W36: =AVERAGE(W33:W34) -> #DIV/0! | AD36: =AVERAGE(AD33:AD34) -> #DIV/0! | AK36: =AVERAGE(AK33:AK34) -> 31.7 | AR36: =AVERAGE(AR33:AR34) -> 5 | AY36: =AVERAGE(AY33:AY34) -> 0.9 | BF36: =AVERAGE(BF33:BF34) -> 0.4
A37: stdev | I37: =SUM(J33:J34) -> #DIV/0! | P37: =SUM(Q33:Q34) -> #DIV/0! | W37: =SUM(X33:X34) -> #DIV/0! | AD37: =SUM(AE33:AE34) -> #DIV/0! | AK37: =SUM(AL33:AL34) -> 13.225469 | AR37: =SUM(AS33:AS34) -> 4.8661803 | AY37: =SUM(AZ33:AZ34) -> 2.5096587 | BF37: =SUM(BG33:BG34) -> 1.3416408
A38: 2213F APR | B38: 1 | D38: NA | E38: NA | F38: NA | G38: NA | H38: NA | I38: =AVERAGE(D38:H38) -> #DIV/0! | J38: =STDEV(D38:H38) -> #DIV/0! | K38: NA | L38: NA | M38: NA | N38: NA | O38: NA | P38: =AVERAGE(K38:O38) -> #DIV/0! | Q38: =STDEV(K38:O38) -> #DIV/0! | R38: NA | S38: NA | T38: NA | U38: NA | V38: NA | W38: =AVERAGE(R38:V38) -> #DIV/0! | X38: =STDEV(R38:V38) -> #DIV/0! | Y38: NA | Z38: NA | AA38: NA | AB38: NA | AC38: NA | AD38: =AVERAGE(Y38:AC38) -> #DIV/0! | AE38: =STDEV(Y38:AC38) -> #DIV/0! | AF38: 40 | AG38: 43 | AH38: 41 | AI38: 44 | AJ38: 37 | AK38: =AVERAGE(AF38:AJ38) -> 41 | AL38: =STDEV(AF38:AJ38) -> 2.7386128 | AM38: 6 | AN38: 8 | AO38: 5 | AP38: 8 | AQ38: 8 | AR38: =AVERAGE(AM38:AQ38) -> 7 | AS38: =STDEV(AM38:AQ38) -> 1.4142136 | AT38: 0 | AU38: 0 | AV38: 1 | AW38: 1 | AX38: 0 | AY38: =AVERAGE(AT38:AX38) -> 0.4 | AZ38: =STDEV(AT38:AX38) -> 0.54772256 | BA38: 0 | BB38: 0 | BC38: 0 | BD38: 0 | BE38: 1 | BF38: =AVERAGE(BA38:BE38) -> 0.2 | BG38: =STDEV(BA38:BE38) -> 0.4472136
A39: p+0 | B39: 2 | D39: NA | E39: NA | F39: NA | G39: NA | H39: NA | I39: =AVERAGE(D39:H39) -> #DIV/0! | J39: =STDEV(D39:H39) -> #DIV/0! | K39: NA | L39: NA | M39: NA | N39: NA | O39: NA | P39: =AVERAGE(K39:O39) -> #DIV/0! | Q39: =STDEV(K39:O39) -> #DIV/0! | R39: NA | S39: NA | T39: NA | U39: NA | V39: NA | W39: =AVERAGE(R39:V39) -> #DIV/0! | X39: =STDEV(R39:V39) -> #DIV/0! | Y39: NA | Z39: NA | AA39: NA | AB39: NA | AC39: NA | AD39: =AVERAGE(Y39:AC39) -> #DIV/0! | AE39: =STDEV(Y39:AC39) -> #DIV/0! | AF39: 51 | AG39: 37 | AH39: 43 | AI39: 42 | AJ39: 47 | AK39: =AVERAGE(AF39:AJ39) -> 44 | AL39: =STDEV(AF39:AJ39) -> 5.2915026 | AM39: 4 | AN39: 4 | AO39: 4 | AP39: 7 | AQ39: 5 | AR39: =AVERAGE(AM39:AQ39) -> 4.8 | AS39: =STDEV(AM39:AQ39) -> 1.3038405 | AT39: 2 | AU39: 2 | AV39: 2 | AW39: 0 | AX39: 0 | AY39: =AVERAGE(AT39:AX39) -> 1.2 | AZ39: =STDEV(AT39:AX39) -> 1.0954451 | BA39: 1 | BB39: 1 | BC39: 0 | BD39: 0 | BE39: 0 | BF39: =AVERAGE(BA39:BE39) -> 0.4 | BG39: =STDEV(BA39:BE39) -> 0.54772256
B40: 3 | D40: NA | E40: NA | F40: NA | G40: NA | H40: NA | I40: =AVERAGE(D40:H40) -> #DIV/0! | J40: =STDEV(D40:H40) -> #DIV/0! | K40: NA | L40: NA | M40: NA | N40: NA | O40: NA | P40: =AVERAGE(K40:O40) -> #DIV/0! | Q40: =STDEV(K40:O40) -> #DIV/0! | R40: NA | S40: NA | T40: NA | U40: NA | V40: NA | W40: =AVERAGE(R40:V40) -> #DIV/0! | X40: =STDEV(R40:V40) -> #DIV/0! | Y40: NA | Z40: NA | AA40: NA | AB40: NA | AC40: NA | AD40: =AVERAGE(Y40:AC40) -> #DIV/0! | AE40: =STDEV(Y40:AC40) -> #DIV/0! | AF40: 53 | AG40: 62 | AH40: 50 | AI40: 59 | AJ40: 48 | AK40: =AVERAGE(AF40:AJ40) -> 54.4 | AL40: =STDEV(AF40:AJ40) -> 5.9413803 | AM40: 6 | AN40: 3 | AO40: 7 | AP40: 2 | AQ40: 5 | AR40: =AVERAGE(AM40:AQ40) -> 4.6 | AS40: =STDEV(AM40:AQ40) -> 2.0736441 | AT40: 1 | AU40: 0 | AV40: 0 | AW40: 0 | AX40: 0 | AY40: =AVERAGE(AT40:AX40) -> 0.2 | AZ40: =STDEV(AT40:AX40) -> 0.4472136 | BA40: 0 | BB40: 0 | BC40: 0 | BD40: 0 | BE40: 0 | BF40: =AVERAGE(BA40:BE40) -> 0 | BG40: =STDEV(BA40:BE40) -> 0
A41: average | I41: =AVERAGE(I39:I40) -> #DIV/0! | P41: =AVERAGE(P39:P40) -> #DIV/0! | W41: =AVERAGE(W39:W40) -> #DIV/0! | AD41: =AVERAGE(AD39:AD40) -> #DIV/0! | AK41: =AVERAGE(AK39:AK40) -> 49.2 | AR41: =AVERAGE(AR39:AR40) -> 4.7 | AY41: =AVERAGE(AY39:AY40) -> 0.7 | BF41: =AVERAGE(BF39:BF40) -> 0.2
A42: stdev | I42: =SUM(J39:J40) -> #DIV/0! | P42: =SUM(Q39:Q40) -> #DIV/0! | W42: =SUM(X39:X40) -> #DIV/0! | AD42: =SUM(AE39:AE40) -> #DIV/0! | AK42: =SUM(AL39:AL40) -> 11.232883 | AR42: =SUM(AS39:AS40) -> 3.3774846 | AY42: =SUM(AZ39:AZ40) -> 1.5426587 | BF42: =SUM(BG39:BG40) -> 0.54772256
A43: p+3 | B43: 1 | D43: NA | E43: NA | F43: NA | G43: NA | H43: NA | I43: =AVERAGE(D43:H43) -> #DIV/0! | J43: =STDEV(D43:H43) -> #DIV/0! | K43: NA | L43: NA | M43: NA | N43: NA | O43: NA | P43: =AVERAGE(K43:O43) -> #DIV/0! | Q43: =STDEV(K43:O43) -> #DIV/0! | R43: NA | S43: NA | T43: NA | U43: NA | V43: NA | W43: =AVERAGE(R43:V43) -> #DIV/0! | X43: =STDEV(R43:V43) -> #DIV/0! | Y43: NA | Z43: NA | AA43: NA | AB43: NA | AC43: NA | AD43: =AVERAGE(Y43:AC43) -> #DIV/0! | AE43: =STDEV(Y43:AC43) -> #DIV/0! | AF43: 43 | AG43: 45 | AH43: 52 | AI43: 45 | AJ43: 43 | AK43: =AVERAGE(AF43:AJ43) -> 45.6 | AL43: =STDEV(AF43:AJ43) -> 3.7148351 | AM43: 2 | AN43: 1 | AO43: NA | AP43: 8 | AQ43: 3 | AR43: =AVERAGE(AM43:AQ43) -> 3.5 | AS43: =STDEV(AM43:AQ43) -> 3.1091264 | AT43: 0 | AU43: 0 | AV43: 0 | AW43: 0 | AX43: 0 | AY43: =AVERAGE(AT43:AX43) -> 0 | AZ43: =STDEV(AT43:AX43) -> 0 | BA43: 0 | BB43: 0 | BC43: 0 | BD43: 0 | BE43: 0 | BF43: =AVERAGE(BA43:BE43) -> 0 | BG43: =STDEV(BA43:BE43) -> 0
B44: 2 | D44: NA | E44: NA | F44: NA | G44: NA | H44: NA | I44: =AVERAGE(D44:H44) -> #DIV/0! | J44: =STDEV(D44:H44) -> #DIV/0! | K44: NA | L44: NA | M44: NA | N44: NA | O44: NA | P44: =AVERAGE(K44:O44) -> #DIV/0! | Q44: =STDEV(K44:O44) -> #DIV/0! | R44: NA | S44: NA | T44: NA | U44: NA | V44: NA | W44: =AVERAGE(R44:V44) -> #DIV/0! | X44: =STDEV(R44:V44) -> #DIV/0! | Y44: NA | Z44: NA | AA44: NA | AB44: NA | AC44: NA | AD44: =AVERAGE(Y44:AC44) -> #DIV/0! | AE44: =STDEV(Y44:AC44) -> #DIV/0! | AF44: 55 | AG44: 69 | AH44: 52 | AI44: 65 | AJ44: 57 | AK44: =AVERAGE(AF44:AJ44) -> 59.6 | AL44: =STDEV(AF44:AJ44) -> 7.1274119 | AM44: 7 | AN44: 7 | AO44: 5 | AP44: 8 | AQ44: 10 | AR44: =AVERAGE(AM44:AQ44) -> 7.4 | AS44: =STDEV(AM44:AQ44) -> 1.8165902 | AT44: 3 | AU44: 3 | AV44: 0 | AW44: 0 | AX44: 2 | AY44: =AVERAGE(AT44:AX44) -> 1.6 | AZ44: =STDEV(AT44:AX44) -> 1.5165751 | BA44: 0 | BB44: 0 | BC44: 0 | BD44: 0 | BE44: 0 | BF44: =AVERAGE(BA44:BE44) -> 0 | BG44: =STDEV(BA44:BE44) -> 0
B45: 3 | D45: NA | E45: NA | F45: NA | G45: NA | H45: NA | I45: =AVERAGE(D45:H45) -> #DIV/0! | J45: =STDEV(D45:H45) -> #DIV/0! | K45: NA | L45: NA | M45: NA | N45: NA | O45: NA | P45: =AVERAGE(K45:O45) -> #DIV/0! | Q45: =STDEV(K45:O45) -> #DIV/0! | R45: NA | S45: NA | T45: NA | U45: NA | V45: NA | W45: =AVERAGE(R45:V45) -> #DIV/0! | X45: =STDEV(R45:V45) -> #DIV/0! | Y45: NA | Z45: NA | AA45: NA | AB45: NA | AC45: NA | AD45: =AVERAGE(Y45:AC45) -> #DIV/0! | AE45: =STDEV(Y45:AC45) -> #DIV/0! | AF45: 56 | AG45: 43 | AH45: 62 | AI45: 53 | AJ45: 55 | AK45: =AVERAGE(AF45:AJ45) -> 53.8 | AL45: =STDEV(AF45:AJ45) -> 6.9065187 | AM45: 5 | AN45: 10 | AO45: 7 | AP45: 10 | AQ45: 12 | AR45: =AVERAGE(AM45:AQ45) -> 8.8 | AS45: =STDEV(AM45:AQ45) -> 2.7748874 | AT45: 0 | AU45: 1 | AV45: 0 | AW45: 1 | AX45: 1 | AY45: =AVERAGE(AT45:AX45) -> 0.6 | AZ45: =STDEV(AT45:AX45) -> 0.54772256 | BA45: 0 | BB45: 0 | BC45: 0 | BD45: 0 | BE45: 0 | BF45: =AVERAGE(BA45:BE45) -> 0 | BG45: =STDEV(BA45:BE45) -> 0
A46: average | I46: =AVERAGE(I43:I45) -> #DIV/0! | P46: =AVERAGE(P43:P45) -> #DIV/0! | W46: =AVERAGE(W43:W45) -> #DIV/0! | AD46: =AVERAGE(AD43:AD45) -> #DIV/0! | AK46: =AVERAGE(AK43:AK45) -> 53 | AR46: =AVERAGE(AR43:AR45) -> 6.5666667 | AY46: =AVERAGE(AY43:AY45) -> 0.73333333 | BF46: =AVERAGE(BF43:BF45) -> 0
A47: stdev | I47: =SUM(J43:J45) -> #DIV/0! | P47: =SUM(Q43:Q45) -> #DIV/0! | W47: =SUM(X43:X45) -> #DIV/0! | AD47: =SUM(AE43:AE45) -> #DIV/0! | AK47: =SUM(AL43:AL45) -> 17.748766 | AR47: =SUM(AS43:AS45) -> 7.7006039 | AY47: =SUM(AZ43:AZ45) -> 2.0642976 | BF47: =SUM(BG43:BG45) -> 0
A50: T3 | B50: 43040
A51: Sample | B51: Dilution: | D51: 1 | I51: AVERAGE | K51: =10^-1 -> 0.1 | P51: AVERAGE | R51: =10^-2 -> 0.01 | W51: AVERAGE | Y51: =10^-3 -> 0.001 | AD51: AVERAGE | AF51: 10^-4 | AK51: AVERAGE | AM51: 10^-5 | AR51: AVERAGE | AT51: 10^-6 | AY51: AVERAGE | BA51: 10^-7 | BF51: AVERAGE
A52: Blank | B52: 1 | D52: 0 | E52: 0 | F52: 0 | G52: 0 | H52: 0 | I52: =AVERAGE(D52:H52) -> 0 | J52: =STDEV(D52:H52) -> 0 | K52: 0 | L52: 0 | M52: 0 | N52: 0 | O52: 0 | P52: =AVERAGE(K52:O52) -> 0 | Q52: =STDEV(K52:O52) -> 0 | R52: 0 | S52: 0 | T52: 0 | U52: 0 | V52: 0 | W52: =AVERAGE(R52:V52) -> 0 | X52: =STDEV(R52:V52) -> 0 | Y52: 0 | Z52: 0 | AA52: 0 | AB52: 0 | AC52: 0 | AD52: =AVERAGE(Y52:AC52) -> 0 | AE52: =STDEV(Y52:AC52) -> 0 | AF52: 0 | AG52: 0 | AH52: 0 | AI52: 0 | AJ52: 0 | AK52: =AVERAGE(AF52:AJ52) -> 0 | AL52: =STDEV(AF52:AJ52) -> 0 | AM52: 0 | AN52: 0 | AO52: 0 | AP52: 0 | AQ52: 0 | AR52: =AVERAGE(AM52:AQ52) -> 0 | AS52: =STDEV(AM52:AQ52) -> 0 | AT52: 0 | AU52: 0 | AV52: 0 | AW52: 0 | AX52: 0 | AY52: =AVERAGE(AT52:AX52) -> 0 | AZ52: =STDEV(AT52:AX52) -> 0 | BA52: 0 | BB52: 0 | BC52: 0 | BD52: 0 | BE52: 0 | BF52: =AVERAGE(BA52:BE52) -> 0 | BG52: =STDEV(BA52:BE52) -> 0
I53: =AVERAGE(I52:I52) -> 0 | P53: =AVERAGE(P52:P52) -> 0 | W53: =AVERAGE(W52:W52) -> 0 | AD53: =AVERAGE(AD52:AD52) -> 0 | AK53: =AVERAGE(AK52:AK52) -> 0 | AR53: =AVERAGE(AR52:AR52) -> 0 | AY53: =AVERAGE(AY52:AY52) -> 0 | BF53: =AVERAGE(BF52:BF52) -> 0
I54: =SUM(J52:J52) -> 0 | P54: =SUM(Q52:Q52) -> 0 | W54: =SUM(X52:X52) -> 0 | AD54: =SUM(AE52:AE52) -> 0 | AK54: =SUM(AL52:AL52) -> 0 | AR54: =SUM(AS52:AS52) -> 0 | AY54: =SUM(AZ52:AZ52) -> 0 | BF54: =SUM(BG52:BG52) -> 0
A55: BW25113 - | B55: 1 | D55: NA | E55: NA | F55: NA | G55: NA | H55: NA | I55: =AVERAGE(D55:H55) -> #DIV/0! | J55: =STDEV(D55:H55) -> #DIV/0! | K55: NA | L55: NA | M55: NA | N55: NA | O55: NA | P55: =AVERAGE(K55:O55) -> #DIV/0! | Q55: =STDEV(K55:O55) -> #DIV/0! | R55: NA | S55: NA | T55: NA | U55: NA | V55: NA | W55: =AVERAGE(R55:V55) -> #DIV/0! | X55: =STDEV(R55:V55) -> #DIV/0! | Y55: NA | Z55: NA | AA55: NA | AB55: NA | AC55: NA | AD55: =AVERAGE(Y55:AC55) -> #DIV/0! | AE55: =STDEV(Y55:AC55) -> #DIV/0! | AF55: NA | AG55: NA | AH55: NA | AI55: NA | AJ55: NA | AK55: =AVERAGE(AF55:AJ55) -> #DIV/0! | AL55: =STDEV(AF55:AJ55) -> #DIV/0! | AM55: 23 | AN55: 18 | AO55: 19 | AP55: 21 | AQ55: 22 | AR55: =AVERAGE(AM55:AQ55) -> 20.6 | AS55: =STDEV(AM55:AQ55) -> 2.0736441 | AT55: 11 | AU55: 4 | AV55: 8 | AW55: 2 | AX55: 4 | AY55: =AVERAGE(AT55:AX55) -> 5.8 | AZ55: =STDEV(AT55:AX55) -> 3.6331804 | BA55: 13 | BB55: 10 | BC55: 4 | BD55: 7 | BE55: 4 | BF55: =AVERAGE(BA55:BE55) -> 7.6 | BG55: =STDEV(BA55:BE55) -> 3.9115214
B56: 2 | D56: NA | E56: NA | F56: NA | G56: NA | H56: NA | I56: =AVERAGE(D56:H56) -> #DIV/0! | J56: =STDEV(D56:H56) -> #DIV/0! | K56: NA | L56: NA | M56: NA | N56: NA | O56: NA | P56: =AVERAGE(K56:O56) -> #DIV/0! | Q56: =STDEV(K56:O56) -> #DIV/0! | R56: NA | S56: NA | T56: NA | U56: NA | V56: NA | W56: =AVERAGE(R56:V56) -> #DIV/0! | X56: =STDEV(R56:V56) -> #DIV/0! | Y56: NA | Z56: NA | AA56: NA | AB56: NA | AC56: NA | AD56: =AVERAGE(Y56:AC56) -> #DIV/0! | AE56: =STDEV(Y56:AC56) -> #DIV/0! | AF56: NA | AG56: NA | AH56: NA | AI56: NA | AJ56: NA | AK56: =AVERAGE(AF56:AJ56) -> #DIV/0! | AL56: =STDEV(AF56:AJ56) -> #DIV/0! | AM56: 33 | AN56: 26 | AO56: 30 | AP56: 35 | AQ56: 33 | AR56: =AVERAGE(AM56:AQ56) -> 31.4 | AS56: =STDEV(AM56:AQ56) -> 3.5071356 | AT56: 15 | AU56: 6 | AV56: 6 | AW56: 14 | AX56: 14 | AY56: =AVERAGE(AT56:AX56) -> 11 | AZ56: =STDEV(AT56:AX56) -> 4.5825757 | BA56: 6 | BB56: 7 | BC56: 13 | BD56: 11 | BE56: 9 | BF56: =AVERAGE(BA56:BE56) -> 9.2 | BG56: =STDEV(BA56:BE56) -> 2.8635642
B57: 3 | D57: NA | E57: NA | F57: NA | G57: NA | H57: NA | I57: =AVERAGE(D57:H57) -> #DIV/0! | J57: =STDEV(D57:H57) -> #DIV/0! | K57: NA | L57: NA | M57: NA | N57: NA | O57: NA | P57: =AVERAGE(K57:O57) -> #DIV/0! | Q57: =STDEV(K57:O57) -> #DIV/0! | R57: NA | S57: NA | T57: NA | U57: NA | V57: NA | W57: =AVERAGE(R57:V57) -> #DIV/0! | X57: =STDEV(R57:V57) -> #DIV/0! | Y57: NA | Z57: NA | AA57: NA | AB57: NA | AC57: NA | AD57: =AVERAGE(Y57:AC57) -> #DIV/0! | AE57: =STDEV(Y57:AC57) -> #DIV/0! | AF57: NA | AG57: NA | AH57: NA | AI57: NA | AJ57: NA | AK57: =AVERAGE(AF57:AJ57) -> #DIV/0! | AL57: =STDEV(AF57:AJ57) -> #DIV/0! | AM57: 46 | AN57: 42 | AO57: 42 | AP57: 53 | AQ57: 49 | AR57: =AVERAGE(AM57:AQ57) -> 46.4 | AS57: =STDEV(AM57:AQ57) -> 4.7222876 | AT57: 13 | AU57: 13 | AV57: 9 | AW57: 14 | AX57: 13 | AY57: =AVERAGE(AT57:AX57) -> 12.4 | AZ57: =STDEV(AT57:AX57) -> 1.9493589 | BA57: 7 | BB57: 8 | BC57: 10 | BD57: 5 | BE57: 11 | BF57: =AVERAGE(BA57:BE57) -> 8.2 | BG57: =STDEV(BA57:BE57) -> 2.3874673
A58: average | I58: =AVERAGE(I55:I57) -> #DIV/0! | P58: =AVERAGE(P55:P57) -> #DIV/0! | W58: =AVERAGE(W55:W57) -> #DIV/0! | AD58: =AVERAGE(AD55:AD57) -> #DIV/0! | AK58: =AVERAGE(AK55:AK57) -> #DIV/0! | AR58: =AVERAGE(AR55:AR57) -> 32.8 | AY58: =AVERAGE(AY55:AY57) -> 9.7333333 | BF58: =AVERAGE(BF55:BF57) -> 8.3333333
A59: stdev | I59: =SUM(J55:J57) -> #DIV/0! | P59: =SUM(Q55:Q57) -> #DIV/0! | W59: =SUM(X55:X57) -> #DIV/0! | AD59: =SUM(AE55:AE57) -> #DIV/0! | AK59: =SUM(AL55:AL57) -> #DIV/0! | AR59: =SUM(AS55:AS57) -> 10.303067 | AY59: =SUM(AZ55:AZ57) -> 10.165115 | BF59: =SUM(BG55:BG57) -> 9.1625529
A60: 2213F - | B60: 1 | D60: NA | E60: NA | F60: NA | G60: NA | H60: NA | I60: =AVERAGE(D60:H60) -> #DIV/0! | J60: =STDEV(D60:H60) -> #DIV/0! | K60: NA | L60: NA | M60: NA | N60: NA | O60: NA | P60: =AVERAGE(K60:O60) -> #DIV/0! | Q60: =STDEV(K60:O60) -> #DIV/0! | R60: NA | S60: NA | T60: NA | U60: NA | V60: NA | W60: =AVERAGE(R60:V60) -> #DIV/0! | X60: =STDEV(R60:V60) -> #DIV/0! | Y60: 119 | Z60: 114 | AA60: 116 | AB60: 126 | AC60: 116 | AD60: =AVERAGE(Y65:AC65) -> 132 | AE60: =STDEV(Y65:AC65) -> 4.4158804 | AF60: 18 | AG60: 18 | AH60: 27 | AI60: 18 | AJ60: 22 | AK60: =AVERAGE(AF65:AJ65) -> 27.4 | AL60: =STDEV(AF65:AJ65) -> 4.3358967 | AM60: 3 | AN60: 7 | AO60: 5 | AP60: 4 | AQ60: 5 | AR60: =AVERAGE(AM60:AQ60) -> 4.8 | AS60: =STDEV(AM60:AQ60) -> 1.4832397 | AT60: 6 | AU60: 6 | AV60: 9 | AW60: 7 | AX60: 5 | AY60: =AVERAGE(AT60:AX60) -> 6.6 | AZ60: =STDEV(AT60:AX60) -> 1.5165751 | BA60: 4 | BB60: 4 | BC60: 3 | BD60: 4 | BE60: 7 | BF60: =AVERAGE(BA60:BE60) -> 4.4 | BG60: =STDEV(BA60:BE60) -> 1.5165751
A61: p+0 | B61: 2 | D61: NA | E61: NA | F61: NA | G61: NA | H61: NA | I61: =AVERAGE(D61:H61) -> #DIV/0! | J61: =STDEV(D61:H61) -> #DIV/0! | K61: NA | L61: NA | M61: NA | N61: NA | O61: NA | P61: =AVERAGE(K61:O61) -> #DIV/0! | Q61: =STDEV(K61:O61) -> #DIV/0! | R61: NA | S61: NA | T61: NA | U61: NA | V61: NA | W61: =AVERAGE(R61:V61) -> #DIV/0! | X61: =STDEV(R61:V61) -> #DIV/0! | Y61: 94 | Z61: 99 | AA61: 75 | AB61: 81 | AC61: 96 | AD61: =AVERAGE(Y66:AC66) -> 148.4 | AE61: =STDEV(Y66:AC66) -> 10.526158 | AF61: 11 | AG61: 18 | AH61: 9 | AI61: 8 | AJ61: 10 | AK61: =AVERAGE(AF66:AJ66) -> 27.6 | AL61: =STDEV(AF66:AJ66) -> 3.2093613 | AM61: 2 | AN61: 5 | AO61: 6 | AP61: 6 | AQ61: 8 | AR61: =AVERAGE(AM61:AQ61) -> 5.4 | AS61: =STDEV(AM61:AQ61) -> 2.1908902 | AT61: 5 | AU61: 6 | AV61: 3 | AW61: 7 | AX61: 2 | AY61: =AVERAGE(AT61:AX61) -> 4.6 | AZ61: =STDEV(AT61:AX61) -> 2.0736441 | BA61: 6 | BB61: 4 | BC61: 10 | BD61: 6 | BE61: 6 | BF61: =AVERAGE(BA61:BE61) -> 6.4 | BG61: =STDEV(BA61:BE61) -> 2.1908902
B62: 3 | D62: NA | E62: NA | F62: NA | G62: NA | H62: NA | I62: =AVERAGE(D62:H62) -> #DIV/0! | J62: =STDEV(D62:H62) -> #DIV/0! | K62: NA | L62: NA | M62: NA | N62: NA | O62: NA | P62: =AVERAGE(K62:O62) -> #DIV/0! | Q62: =STDEV(K62:O62) -> #DIV/0! | R62: NA | S62: NA | T62: NA | U62: NA | V62: NA | W62: =AVERAGE(R62:V62) -> #DIV/0! | X62: =STDEV(R62:V62) -> #DIV/0! | Y62: 113 | Z62: 125 | AA62: 113 | AB62: 124 | AC62: 120 | AD62: =AVERAGE(Y67:AC67) -> 137.2 | AE62: =STDEV(Y67:AC67) -> 7.4966659 | AF62: 11 | AG62: 26 | AH62: 20 | AI62: 14 | AJ62: 13 | AK62: =AVERAGE(AF67:AJ67) -> 26 | AL62: =STDEV(AF67:AJ67) -> 5.4313902 | AM62: 3 | AN62: 2 | AO62: 5 | AP62: 2 | AQ62: 6 | AR62: =AVERAGE(AM62:AQ62) -> 3.6 | AS62: =STDEV(AM62:AQ62) -> 1.8165902 | AT62: 3 | AU62: 3 | AV62: 1 | AW62: 3 | AX62: 2 | AY62: =AVERAGE(AT62:AX62) -> 2.4 | AZ62: =STDEV(AT62:AX62) -> 0.89442719 | BA62: 0 | BB62: 2 | BC62: 4 | BD62: 3 | BE62: 2 | BF62: =AVERAGE(BA62:BE62) -> 2.2 | BG62: =STDEV(BA62:BE62) -> 1.4832397
A63: average | I63: =AVERAGE(I60:I61) -> #DIV/0! | P63: =AVERAGE(P60:P61) -> #DIV/0! | W63: =AVERAGE(W60:W61) -> #DIV/0! | AD63: =AVERAGE(AD60:AD61) -> 140.2 | AK63: =AVERAGE(AK60:AK61) -> 27.5 | AR63: =AVERAGE(AR60:AR61) -> 5.1 | AY63: =AVERAGE(AY60:AY61) -> 5.6 | BF63: =AVERAGE(BF60:BF61) -> 5.4
A64: stdev | I64: =SUM(J60:J61) -> #DIV/0! | P64: =SUM(Q60:Q61) -> #DIV/0! | W64: =SUM(X60:X61) -> #DIV/0! | AD64: =SUM(AE60:AE61) -> 14.942038 | AK64: =SUM(AL60:AL61) -> 7.545258 | AR64: =SUM(AS60:AS61) -> 3.6741299 | AY64: =SUM(AZ60:AZ61) -> 3.5902192 | BF64: =SUM(BG60:BG61) -> 3.7074653
A65: p+3 | B65: 1 | D65: NA | E65: NA | F65: NA | G65: NA | H65: NA | I65: =AVERAGE(D65:H65) -> #DIV/0! | J65: =STDEV(D65:H65) -> #DIV/0! | K65: NA | L65: NA | M65: NA | N65: NA | O65: NA | P65: =AVERAGE(K65:O65) -> #DIV/0! | Q65: =STDEV(K65:O65) -> #DIV/0! | R65: NA | S65: NA | T65: NA | U65: NA | V65: NA | W65: =AVERAGE(R65:V65) -> #DIV/0! | X65: =STDEV(R65:V65) -> #DIV/0! | Y65: 126 | Z65: 136 | AA65: 129 | AB65: 133 | AC65: 136 | AD65: =AVERAGE(Y65:AC65) -> 132 | AE65: =STDEV(Y65:AC65) -> 4.4158804 | AF65: 24 | AG65: 22 | AH65: 28 | AI65: 31 | AJ65: 32 | AK65: =AVERAGE(AF65:AJ65) -> 27.4 | AL65: =STDEV(AF65:AJ65) -> 4.3358967 | AM65: 5 | AN65: 4 | AO65: 4 | AP65: 6 | AQ65: 8 | AR65: =AVERAGE(AM65:AQ65) -> 5.4 | AS65: =STDEV(AM65:AQ65) -> 1.6733201 | AT65: 2 | AU65: 6 | AV65: 2 | AW65: 1 | AX65: 1 | AY65: =AVERAGE(AT65:AX65) -> 2.4 | AZ65: =STDEV(AT65:AX65) -> 2.0736441 | BA65: 3 | BB65: 5 | BC65: 6 | BD65: 3 | BE65: 8 | BF65: =AVERAGE(BA65:BE65) -> 5 | BG65: =STDEV(BA65:BE65) -> 2.1213203
B66: 2 | D66: NA | E66: NA | F66: NA | G66: NA | H66: NA | I66: =AVERAGE(D66:H66) -> #DIV/0! | J66: =STDEV(D66:H66) -> #DIV/0! | K66: NA | L66: NA | M66: NA | N66: NA | O66: NA | P66: =AVERAGE(K66:O66) -> #DIV/0! | Q66: =STDEV(K66:O66) -> #DIV/0! | R66: NA | S66: NA | T66: NA | U66: NA | V66: NA | W66: =AVERAGE(R66:V66) -> #DIV/0! | X66: =STDEV(R66:V66) -> #DIV/0! | Y66: 138 | Z66: 144 | AA66: 148 | AB66: 146 | AC66: 166 | AD66: =AVERAGE(Y66:AC66) -> 148.4 | AE66: =STDEV(Y66:AC66) -> 10.526158 | AF66: 25 | AG66: 29 | AH66: 32 | AI66: 24 | AJ66: 28 | AK66: =AVERAGE(AF66:AJ66) -> 27.6 | AL66: =STDEV(AF66:AJ66) -> 3.2093613 | AM66: 8 | AN66: 14 | AO66: 13 | AP66: 20 | AQ66: 10 | AR66: =AVERAGE(AM66:AQ66) -> 13 | AS66: =STDEV(AM66:AQ66) -> 4.5825757 | AT66: 31 | AU66: 27 | AV66: 28 | AW66: 27 | AX66: 22 | AY66: =AVERAGE(AT66:AX66) -> 27 | AZ66: =STDEV(AT66:AX66) -> 3.2403703 | BA66: 10 | BB66: 14 | BC66: 12 | BD66: 7 | BE66: 14 | BF66: =AVERAGE(BA66:BE66) -> 11.4 | BG66: =STDEV(BA66:BE66) -> 2.9664794
B67: 3 | D67: NA | E67: NA | F67: NA | G67: NA | H67: NA | I67: =AVERAGE(D67:H67) -> #DIV/0! | J67: =STDEV(D67:H67) -> #DIV/0! | K67: NA | L67: NA | M67: NA | N67: NA | O67: NA | P67: =AVERAGE(K67:O67) -> #DIV/0! | Q67: =STDEV(K67:O67) -> #DIV/0! | R67: NA | S67: NA | T67: NA | U67: NA | V67: NA | W67: =AVERAGE(R67:V67) -> #DIV/0! | X67: =STDEV(R67:V67) -> #DIV/0! | Y67: 134 | Z67: 133 | AA67: 143 | AB67: 147 | AC67: 129 | AD67: =AVERAGE(Y67:AC67) -> 137.2 | AE67: =STDEV(Y67:AC67) -> 7.4966659 | AF67: 22 | AG67: 27 | AH67: 22 | AI67: 24 | AJ67: 35 | AK67: =AVERAGE(AF67:AJ67) -> 26 | AL67: =STDEV(AF67:AJ67) -> 5.4313902 | AM67: 6 | AN67: 8 | AO67: 4 | AP67: 6 | AQ67: 8 | AR67: =AVERAGE(AM67:AQ67) -> 6.4 | AS67: =STDEV(AM67:AQ67) -> 1.6733201 | AT67: 3 | AU67: 2 | AV67: 8 | AW67: 6 | AX67: 5 | AY67: =AVERAGE(AT67:AX67) -> 4.8 | AZ67: =STDEV(AT67:AX67) -> 2.3874673 | BA67: 2 | BB67: 1 | BC67: 2 | BD67: 2 | BE67: 1 | BF67: =AVERAGE(BA67:BE67) -> 1.6 | BG67: =STDEV(BA67:BE67) -> 0.54772256
A68: average | I68: =AVERAGE(I65:I67) -> #DIV/0! | P68: =AVERAGE(P65:P67) -> #DIV/0! | W68: =AVERAGE(W65:W67) -> #DIV/0! | AD68: =AVERAGE(AD65:AD67) -> 139.2 | AK68: =AVERAGE(AK65:AK67) -> 27 | AR68: =AVERAGE(AR65:AR67) -> 8.2666667 | AY68: =AVERAGE(AY65:AY67) -> 11.4 | BF68: =AVERAGE(BF65:BF67) -> 6
A69: stdev | I69: =SUM(J65:J67) -> #DIV/0! | P69: =SUM(Q65:Q67) -> #DIV/0! | W69: =SUM(X65:X67) -> #DIV/0! | AD69: =SUM(AE65:AE67) -> 22.438704 | AK69: =SUM(AL65:AL67) -> 12.976648 | AR69: =SUM(AS65:AS67) -> 7.9292158 | AY69: =SUM(AZ65:AZ67) -> 7.7014818 | BF69: =SUM(BG65:BG67) -> 5.6355223
A70: 2213F A | B70: 1 | D70: NA | E70: NA | F70: NA | G70: NA | H70: NA | I70: =AVERAGE(D70:H70) -> #DIV/0! | J70: =STDEV(D70:H70) -> #DIV/0! | K70: NA | L70: NA | M70: NA | N70: NA | O70: NA | P70: =AVERAGE(K70:O70) -> #DIV/0! | Q70: =STDEV(K70:O70) -> #DIV/0! | R70: NA | S70: NA | T70: NA | U70: NA | V70: NA | W70: =AVERAGE(R70:V70) -> #DIV/0! | X70: =STDEV(R70:V70) -> #DIV/0! | Y70: NA | Z70: NA | AA70: NA | AB70: NA | AC70: NA | AD70: =AVERAGE(Y70:AC70) -> #DIV/0! | AE70: =STDEV(Y70:AC70) -> #DIV/0! | AF70: 26 | AG70: 36 | AH70: 27 | AI70: 34 | AJ70: 23 | AK70: =AVERAGE(AF70:AJ70) -> 29.2 | AL70: =STDEV(AF70:AJ70) -> 5.5407581 | AM70: 8 | AN70: 9 | AO70: 6 | AP70: 3 | AQ70: 7 | AR70: =AVERAGE(AM70:AQ70) -> 6.6 | AS70: =STDEV(AM70:AQ70) -> 2.3021729 | AT70: 3 | AU70: 7 | AV70: 2 | AW70: 1 | AX70: 3 | AY70: =AVERAGE(AT70:AX70) -> 3.2 | AZ70: =STDEV(AT70:AX70) -> 2.2803509 | BA70: 1 | BB70: 0 | BC70: 3 | BD70: 3 | BE70: 2 | BF70: =AVERAGE(BA70:BE70) -> 1.8 | BG70: =STDEV(BA70:BE70) -> 1.3038405
A71: p+0 | B71: 2 | D71: NA | E71: NA | F71: NA | G71: NA | H71: NA | I71: =AVERAGE(D71:H71) -> #DIV/0! | J71: =STDEV(D71:H71) -> #DIV/0! | K71: NA | L71: NA | M71: NA | N71: NA | O71: NA | P71: =AVERAGE(K71:O71) -> #DIV/0! | Q71: =STDEV(K71:O71) -> #DIV/0! | R71: NA | S71: NA | T71: NA | U71: NA | V71: NA | W71: =AVERAGE(R71:V71) -> #DIV/0! | X71: =STDEV(R71:V71) -> #DIV/0! | Y71: 109 | Z71: 133 | AA71: 133 | AB71: 108 | AC71: 111 | AD71: =AVERAGE(Y71:AC71) -> 118.8 | AE71: =STDEV(Y71:AC71) -> 13.00769 | AF71: 13 | AG71: 13 | AH71: 6 | AI71: 12 | AJ71: 15 | AK71: =AVERAGE(AF71:AJ71) -> 11.8 | AL71: =STDEV(AF71:AJ71) -> 3.4205263 | AM71: 1 | AN71: 3 | AO71: 3 | AP71: 1 | AQ71: 4 | AR71: =AVERAGE(AM71:AQ71) -> 2.4 | AS71: =STDEV(AM71:AQ71) -> 1.3416408 | AT71: 1 | AU71: 1 | AV71: 1 | AW71: 4 | AX71: 2 | AY71: =AVERAGE(AT71:AX71) -> 1.8 | AZ71: =STDEV(AT71:AX71) -> 1.3038405 | BA71: 4 | BB71: 1 | BC71: 6 | BD71: 1 | BE71: 4 | BF71: =AVERAGE(BA71:BE71) -> 3.2 | BG71: =STDEV(BA71:BE71) -> 2.1679483
B72: 3 | D72: NA | E72: NA | F72: NA | G72: NA | H72: NA | I72: =AVERAGE(D72:H72) -> #DIV/0! | J72: =STDEV(D72:H72) -> #DIV/0! | K72: NA | L72: NA | M72: NA | N72: NA | O72: NA | P72: =AVERAGE(K72:O72) -> #DIV/0! | Q72: =STDEV(K72:O72) -> #DIV/0! | R72: NA | S72: NA | T72: NA | U72: NA | V72: NA | W72: =AVERAGE(R72:V72) -> #DIV/0! | X72: =STDEV(R72:V72) -> #DIV/0! | Y72: 131 | Z72: 133 | AA72: 133 | AB72: 124 | AC72: 119 | AD72: =AVERAGE(Y72:AC72) -> 128 | AE72: =STDEV(Y72:AC72) -> 6.244998 | AF72: 17 | AG72: 9 | AH72: 15 | AI72: 15 | AJ72: 16 | AK72: =AVERAGE(AF72:AJ72) -> 14.4 | AL72: =STDEV(AF72:AJ72) -> 3.1304952 | AM72: 4 | AN72: 3 | AO72: 5 | AP72: 6 | AQ72: 4 | AR72: =AVERAGE(AM72:AQ72) -> 4.4 | AS72: =STDEV(AM72:AQ72) -> 1.1401754 | AT72: 4 | AU72: 6 | AV72: 3 | AW72: 7 | AX72: 4 | AY72: =AVERAGE(AT72:AX72) -> 4.8 | AZ72: =STDEV(AT72:AX72) -> 1.6431677 | BA72: 3 | BB72: 3 | BC72: 3 | BD72: 5 | BE72: 4 | BF72: =AVERAGE(BA72:BE72) -> 3.6 | BG72: =STDEV(BA72:BE72) -> 0.89442719
A73: average | I73: =AVERAGE(I71:I72) -> #DIV/0! | P73: =AVERAGE(P71:P72) -> #DIV/0! | W73: =AVERAGE(W71:W72) -> #DIV/0! | AD73: =AVERAGE(AD71:AD72) -> 123.4 | AK73: =AVERAGE(AK71:AK72) -> 13.1 | AR73: =AVERAGE(AR71:AR72) -> 3.4 | AY73: =AVERAGE(AY71:AY72) -> 3.3 | BF73: =AVERAGE(BF71:BF72) -> 3.4
A74: stdev | I74: =SUM(J71:J72) -> #DIV/0! | P74: =SUM(Q71:Q72) -> #DIV/0! | W74: =SUM(X71:X72) -> #DIV/0! | AD74: =SUM(AE71:AE72) -> 19.252688 | AK74: =SUM(AL71:AL72) -> 6.5510214 | AR74: =SUM(AS71:AS72) -> 2.4818162 | AY74: =SUM(AZ71:AZ72) -> 2.9470082 | BF74: =SUM(BG71:BG72) -> 3.0623755
A75: p+3 | B75: 1 | D75: NA | E75: NA | F75: NA | G75: NA | H75: NA | I75: =AVERAGE(D75:H75) -> #DIV/0! | J75: =STDEV(D75:H75) -> #DIV/0! | K75: NA | L75: NA | M75: NA | N75: NA | O75: NA | P75: =AVERAGE(K75:O75) -> #DIV/0! | Q75: =STDEV(K75:O75) -> #DIV/0! | R75: NA | S75: NA | T75: NA | U75: NA | V75: NA | W75: =AVERAGE(R75:V75) -> #DIV/0! | X75: =STDEV(R75:V75) -> #DIV/0! | Y75: 117 | Z75: 126 | AA75: 125 | AB75: 127 | AC75: 108 | AD75: =AVERAGE(Y75:AC75) -> 120.6 | AE75: =STDEV(Y75:AC75) -> 8.0808415 | AF75: 18 | AG75: 17 | AH75: 23 | AI75: 22 | AJ75: 19 | AK75: =AVERAGE(AF75:AJ75) -> 19.8 | AL75: =STDEV(AF75:AJ75) -> 2.5884358 | AM75: 8 | AN75: 5 | AO75: 3 | AP75: 7 | AQ75: 4 | AR75: =AVERAGE(AM75:AQ75) -> 5.4 | AS75: =STDEV(AM75:AQ75) -> 2.0736441 | AT75: 3 | AU75: 2 | AV75: 5 | AW75: 4 | AX75: 2 | AY75: =AVERAGE(AT75:AX75) -> 3.2 | AZ75: =STDEV(AT75:AX75) -> 1.3038405 | BA75: 4 | BB75: 2 | BC75: 2 | BD75: 2 | BE75: 3 | BF75: =AVERAGE(BA75:BE75) -> 2.6 | BG75: =STDEV(BA75:BE75) -> 0.89442719
B76: 2 | D76: NA | E76: NA | F76: NA | G76: NA | H76: NA | I76: =AVERAGE(D76:H76) -> #DIV/0! | J76: =STDEV(D76:H76) -> #DIV/0! | K76: NA | L76: NA | M76: NA | N76: NA | O76: NA | P76: =AVERAGE(K76:O76) -> #DIV/0! | Q76: =STDEV(K76:O76) -> #DIV/0! | R76: NA | S76: NA | T76: NA | U76: NA | V76: NA | W76: =AVERAGE(R76:V76) -> #DIV/0! | X76: =STDEV(R76:V76) -> #DIV/0! | Y76: 148 | Z76: 123 | AA76: 140 | AB76: 132 | AC76: 131 | AD76: =AVERAGE(Y76:AC76) -> 134.8 | AE76: =STDEV(Y76:AC76) -> 9.5236548 | AF76: 13 | AG76: 11 | AH76: 17 | AI76: 13 | AJ76: 17 | AK76: =AVERAGE(AF76:AJ76) -> 14.2 | AL76: =STDEV(AF76:AJ76) -> 2.6832816 | AM76: 3 | AN76: 5 | AO76: 5 | AP76: 4 | AQ76: 9 | AR76: =AVERAGE(AM76:AQ76) -> 5.2 | AS76: =STDEV(AM76:AQ76) -> 2.2803509 | AT76: 0 | AU76: 4 | AV76: 3 | AW76: 5 | AX76: 3 | AY76: =AVERAGE(AT76:AX76) -> 3 | AZ76: =STDEV(AT76:AX76) -> 1.8708287 | BA76: 4 | BB76: 2 | BC76: 4 | BD76: 3 | BE76: 6 | BF76: =AVERAGE(BA76:BE76) -> 3.8 | BG76: =STDEV(BA76:BE76) -> 1.4832397
B77: 3 | D77: NA | E77: NA | F77: NA | G77: NA | H77: NA | I77: =AVERAGE(D77:H77) -> #DIV/0! | J77: =STDEV(D77:H77) -> #DIV/0! | K77: NA | L77: NA | M77: NA | N77: NA | O77: NA | P77: =AVERAGE(K77:O77) -> #DIV/0! | Q77: =STDEV(K77:O77) -> #DIV/0! | R77: NA | S77: NA | T77: NA | U77: NA | V77: NA | W77: =AVERAGE(R77:V77) -> #DIV/0! | X77: =STDEV(R77:V77) -> #DIV/0! | Y77: 34 | Z77: 37 | AA77: 38 | AB77: 34 | AC77: 32 | AD77: =AVERAGE(Y77:AC77) -> 35 | AE77: =STDEV(Y77:AC77) -> 2.4494897 | AF77: 43 | AG77: 30 | AH77: 37 | AI77: 36 | AJ77: 39 | AK77: =AVERAGE(AF77:AJ77) -> 37 | AL77: =STDEV(AF77:AJ77) -> 4.7434165 | AM77: 4 | AN77: 4 | AO77: 4 | AP77: 11 | AQ77: 6 | AR77: =AVERAGE(AM77:AQ77) -> 5.8 | AS77: =STDEV(AM77:AQ77) -> 3.0331502 | AT77: 4 | AU77: 4 | AV77: 4 | AW77: 5 | AX77: 11 | AY77: =AVERAGE(AT77:AX77) -> 5.6 | AZ77: =STDEV(AT77:AX77) -> 3.0495901 | BA77: 7 | BB77: 1 | BC77: 3 | BD77: 6 | BE77: 3 | BF77: =AVERAGE(BA77:BE77) -> 4 | BG77: =STDEV(BA77:BE77) -> 2.4494897
A78: average | I78: =AVERAGE(I75:I76) -> #DIV/0! | P78: =AVERAGE(P75:P76) -> #DIV/0! | W78: =AVERAGE(W75:W76) -> #DIV/0! | AD78: =AVERAGE(AD75:AD76) -> 127.7 | AK78: =AVERAGE(AK75:AK76) -> 17 | AR78: =AVERAGE(AR75:AR76) -> 5.3 | AY78: =AVERAGE(AY75:AY76) -> 3.1 | BF78: =AVERAGE(BF75:BF76) -> 3.2
A79: stdev | I79: =SUM(J75:J76) -> #DIV/0! | P79: =SUM(Q75:Q76) -> #DIV/0! | W79: =SUM(X75:X76) -> #DIV/0! | AD79: =SUM(AE75:AE76) -> 17.604496 | AK79: =SUM(AL75:AL76) -> 5.2717174 | AR79: =SUM(AS75:AS76) -> 4.353995 | AY79: =SUM(AZ75:AZ76) -> 3.1746692 | BF79: =SUM(BG75:BG76) -> 2.3776669
A80: 2213F APR | B80: 1 | D80: NA | E80: NA | F80: NA | G80: NA | H80: NA | I80: =AVERAGE(D80:H80) -> #DIV/0! | J80: =STDEV(D80:H80) -> #DIV/0! | K80: NA | L80: NA | M80: NA | N80: NA | O80: NA | P80: =AVERAGE(K80:O80) -> #DIV/0! | Q80: =STDEV(K80:O80) -> #DIV/0! | R80: NA | S80: NA | T80: NA | U80: NA | V80: NA | W80: =AVERAGE(R80:V80) -> #DIV/0! | X80: =STDEV(R80:V80) -> #DIV/0! | Y80: NA | Z80: NA | AA80: NA | AB80: NA | AC80: NA | AD80: =AVERAGE(Y80:AC80) -> #DIV/0! | AE80: =STDEV(Y80:AC80) -> #DIV/0! | AF80: 31 | AG80: 36 | AH80: 30 | AI80: 28 | AJ80: 36 | AK80: =AVERAGE(AF80:AJ80) -> 32.2 | AL80: =STDEV(AF80:AJ80) -> 3.6331804 | AM80: 7 | AN80: 6 | AO80: 6 | AP80: 4 | AQ80: 9 | AR80: =AVERAGE(AM80:AQ80) -> 6.4 | AS80: =STDEV(AM80:AQ80) -> 1.8165902 | AT80: 8 | AU80: 5 | AV80: 5 | AW80: 3 | AX80: 1 | AY80: =AVERAGE(AT80:AX80) -> 4.4 | AZ80: =STDEV(AT80:AX80) -> 2.607681 | BA80: 3 | BB80: 4 | BC80: 3 | BD80: 4 | BE80: 5 | BF80: =AVERAGE(BA80:BE80) -> 3.8 | BG80: =STDEV(BA80:BE80) -> 0.83666003
A81: p+0 | B81: 2 | D81: NA | E81: NA | F81: NA | G81: NA | H81: NA | I81: =AVERAGE(D81:H81) -> #DIV/0! | J81: =STDEV(D81:H81) -> #DIV/0! | K81: NA | L81: NA | M81: NA | N81: NA | O81: NA | P81: =AVERAGE(K81:O81) -> #DIV/0! | Q81: =STDEV(K81:O81) -> #DIV/0! | R81: NA | S81: NA | T81: NA | U81: NA | V81: NA | W81: =AVERAGE(R81:V81) -> #DIV/0! | X81: =STDEV(R81:V81) -> #DIV/0! | Y81: NA | Z81: NA | AA81: NA | AB81: NA | AC81: NA | AD81: =AVERAGE(Y81:AC81) -> #DIV/0! | AE81: =STDEV(Y81:AC81) -> #DIV/0! | AF81: 30 | AG81: 25 | AH81: 17 | AI81: 24 | AJ81: 25 | AK81: =AVERAGE(AF81:AJ81) -> 24.2 | AL81: =STDEV(AF81:AJ81) -> 4.6583259 | AM81: 7 | AN81: 6 | AO81: 4 | AP81: 5 | AQ81: 6 | AR81: =AVERAGE(AM81:AQ81) -> 5.6 | AS81: =STDEV(AM81:AQ81) -> 1.1401754 | AT81: 2 | AU81: 3 | AV81: 5 | AW81: 4 | AX81: 2 | AY81: =AVERAGE(AT81:AX81) -> 3.2 | AZ81: =STDEV(AT81:AX81) -> 1.3038405 | BA81: 1 | BB81: 0 | BC81: 0 | BD81: 0 | BE81: 2 | BF81: =AVERAGE(BA81:BE81) -> 0.6 | BG81: =STDEV(BA81:BE81) -> 0.89442719
B82: 3 | D82: NA | E82: NA | F82: NA | G82: NA | H82: NA | I82: =AVERAGE(D82:H82) -> #DIV/0! | J82: =STDEV(D82:H82) -> #DIV/0! | K82: NA | L82: NA | M82: NA | N82: NA | O82: NA | P82: =AVERAGE(K82:O82) -> #DIV/0! | Q82: =STDEV(K82:O82) -> #DIV/0! | R82: NA | S82: NA | T82: NA | U82: NA | V82: NA | W82: =AVERAGE(R82:V82) -> #DIV/0! | X82: =STDEV(R82:V82) -> #DIV/0! | Y82: NA | Z82: NA | AA82: NA | AB82: NA | AC82: NA | AD82: =AVERAGE(Y82:AC82) -> #DIV/0! | AE82: =STDEV(Y82:AC82) -> #DIV/0! | AF82: 26 | AG82: 23 | AH82: 27 | AI82: 24 | AJ82: 32 | AK82: =AVERAGE(AF82:AJ82) -> 26.4 | AL82: =STDEV(AF82:AJ82) -> 3.5071356 | AM82: 3 | AN82: 5 | AO82: 10 | AP82: 9 | AQ82: 7 | AR82: =AVERAGE(AM82:AQ82) -> 6.8 | AS82: =STDEV(AM82:AQ82) -> 2.8635642 | AT82: 3 | AU82: 2 | AV82: 7 | AW82: 3 | AX82: 2 | AY82: =AVERAGE(AT82:AX82) -> 3.4 | AZ82: =STDEV(AT82:AX82) -> 2.0736441 | BA82: 3 | BB82: 3 | BC82: 2 | BD82: 3 | BE82: 4 | BF82: =AVERAGE(BA82:BE82) -> 3 | BG82: =STDEV(BA82:BE82) -> 0.70710678
A83: average | I83: =AVERAGE(I81:I82) -> #DIV/0! | P83: =AVERAGE(P81:P82) -> #DIV/0! | W83: =AVERAGE(W81:W82) -> #DIV/0! | AD83: =AVERAGE(AD81:AD82) -> #DIV/0! | AK83: =AVERAGE(AK81:AK82) -> 25.3 | AR83: =AVERAGE(AR81:AR82) -> 6.2 | AY83: =AVERAGE(AY81:AY82) -> 3.3 | BF83: =AVERAGE(BF81:BF82) -> 1.8
A84: stdev | I84: =SUM(J81:J82) -> #DIV/0! | P84: =SUM(Q81:Q82) -> #DIV/0! | W84: =SUM(X81:X82) -> #DIV/0! | AD84: =SUM(AE81:AE82) -> #DIV/0! | AK84: =SUM(AL81:AL82) -> 8.1654615 | AR84: =SUM(AS81:AS82) -> 4.0037396 | AY84: =SUM(AZ81:AZ82) -> 3.3774846 | BF84: =SUM(BG81:BG82) -> 1.601534
A85: p+3 | B85: 1 | D85: NA | E85: NA | F85: NA | G85: NA | H85: NA | I85: =AVERAGE(D85:H85) -> #DIV/0! | J85: =STDEV(D85:H85) -> #DIV/0! | K85: NA | L85: NA | M85: NA | N85: NA | O85: NA | P85: =AVERAGE(K85:O85) -> #DIV/0! | Q85: =STDEV(K85:O85) -> #DIV/0! | R85: NA | S85: NA | T85: NA | U85: NA | V85: NA | W85: =AVERAGE(R85:V85) -> #DIV/0! | X85: =STDEV(R85:V85) -> #DIV/0! | Y85: NA | Z85: NA | AA85: NA | AB85: NA | AC85: NA | AD85: =AVERAGE(Y85:AC85) -> #DIV/0! | AE85: =STDEV(Y85:AC85) -> #DIV/0! | AF85: 58 | AG85: 56 | AH85: 53 | AI85: 41 | AJ85: 58 | AK85: =AVERAGE(AF85:AJ85) -> 53.2 | AL85: =STDEV(AF85:AJ85) -> 7.1203932 | AM85: 11 | AN85: 14 | AO85: 11 | AP85: 9 | AQ85: 7 | AR85: =AVERAGE(AM85:AQ85) -> 10.4 | AS85: =STDEV(AM85:AQ85) -> 2.607681 | AT85: 1 | AU85: 4 | AV85: 4 | AW85: 7 | AX85: 2 | AY85: =AVERAGE(AT85:AX85) -> 3.6 | AZ85: =STDEV(AT85:AX85) -> 2.3021729 | BA85: 2 | BB85: 4 | BC85: 0 | BD85: 4 | BE85: 2 | BF85: =AVERAGE(BA85:BE85) -> 2.4 | BG85: =STDEV(BA85:BE85) -> 1.6733201
B86: 2 | D86: NA | E86: NA | F86: NA | G86: NA | H86: NA | I86: =AVERAGE(D86:H86) -> #DIV/0! | J86: =STDEV(D86:H86) -> #DIV/0! | K86: NA | L86: NA | M86: NA | N86: NA | O86: NA | P86: =AVERAGE(K86:O86) -> #DIV/0! | Q86: =STDEV(K86:O86) -> #DIV/0! | R86: NA | S86: NA | T86: NA | U86: NA | V86: NA | W86: =AVERAGE(R86:V86) -> #DIV/0! | X86: =STDEV(R86:V86) -> #DIV/0! | Y86: NA | Z86: NA | AA86: NA | AB86: NA | AC86: NA | AD86: =AVERAGE(Y86:AC86) -> #DIV/0! | AE86: =STDEV(Y86:AC86) -> #DIV/0! | AF86: 45 | AG86: 50 | AH86: 60 | AI86: 47 | AJ86: 52 | AK86: =AVERAGE(AF86:AJ86) -> 50.8 | AL86: =STDEV(AF86:AJ86) -> 5.8051701 | AM86: 11 | AN86: 7 | AO86: 6 | AP86: 14 | AQ86: 9 | AR86: =AVERAGE(AM86:AQ86) -> 9.4 | AS86: =STDEV(AM86:AQ86) -> 3.2093613 | AT86: 0 | AU86: 7 | AV86: 7 | AW86: 4 | AX86: 2 | AY86: =AVERAGE(AT86:AX86) -> 4 | AZ86: =STDEV(AT86:AX86) -> 3.082207 | BA86: 5 | BB86: 3 | BC86: 1 | BD86: 5 | BE86: 2 | BF86: =AVERAGE(BA86:BE86) -> 3.2 | BG86: =STDEV(BA86:BE86) -> 1.7888544
B87: 3 | D87: NA | E87: NA | F87: NA | G87: NA | H87: NA | I87: =AVERAGE(D87:H87) -> #DIV/0! | J87: =STDEV(D87:H87) -> #DIV/0! | K87: NA | L87: NA | M87: NA | N87: NA | O87: NA | P87: =AVERAGE(K87:O87) -> #DIV/0! | Q87: =STDEV(K87:O87) -> #DIV/0! | R87: NA | S87: NA | T87: NA | U87: NA | V87: NA | W87: =AVERAGE(R87:V87) -> #DIV/0! | X87: =STDEV(R87:V87) -> #DIV/0! | Y87: NA | Z87: NA | AA87: NA | AB87: NA | AC87: NA | AD87: =AVERAGE(Y87:AC87) -> #DIV/0! | AE87: =STDEV(Y87:AC87) -> #DIV/0! | AF87: 36 | AG87: 29 | AH87: 33 | AI87: 42 | AJ87: 37 | AK87: =AVERAGE(AF87:AJ87) -> 35.4 | AL87: =STDEV(AF87:AJ87) -> 4.8270074 | AM87: 9 | AN87: 11 | AO87: 12 | AP87: 6 | AQ87: 6 | AR87: =AVERAGE(AM87:AQ87) -> 8.8 | AS87: =STDEV(AM87:AQ87) -> 2.7748874 | AT87: 2 | AU87: 1 | AV87: 1 | AW87: 2 | AX87: 1 | AY87: =AVERAGE(AT87:AX87) -> 1.4 | AZ87: =STDEV(AT87:AX87) -> 0.54772256 | BA87: 1 | BB87: 2 | BC87: 1 | BD87: 3 | BE87: 2 | BF87: =AVERAGE(BA87:BE87) -> 1.8 | BG87: =STDEV(BA87:BE87) -> 0.83666003
A88: average | I88: =AVERAGE(I85:I87) -> #DIV/0! | P88: =AVERAGE(P85:P87) -> #DIV/0! | W88: =AVERAGE(W85:W87) -> #DIV/0! | AD88: =AVERAGE(AD85:AD87) -> #DIV/0! | AK88: =AVERAGE(AK85:AK87) -> 46.466667 | AR88: =AVERAGE(AR85:AR87) -> 9.5333333 | AY88: =AVERAGE(AY85:AY87) -> 3 | BF88: =AVERAGE(BF85:BF87) -> 2.4666667
A89: stdev | I89: =SUM(J85:J87) -> #DIV/0! | P89: =SUM(Q85:Q87) -> #DIV/0! | W89: =SUM(X85:X87) -> #DIV/0! | AD89: =SUM(AE85:AE87) -> #DIV/0! | AK89: =SUM(AL85:AL87) -> 17.752571 | AR89: =SUM(AS85:AS87) -> 8.5919297 | AY89: =SUM(AZ85:AZ87) -> 5.9321024 | BF89: =SUM(BG85:BG87) -> 4.2988345
A92: T5 | B92: 43042
A93: Sample | B93: Dilution: | D93: 1 | I93: AVERAGE | K93: =10^-1 -> 0.1 | P93: AVERAGE | R93: =10^-2 -> 0.01 | W93: AVERAGE | Y93: =10^-3 -> 0.001 | AD93: AVERAGE | AF93: =10^-4 -> 0.0001 | AK93: AVERAGE | AM93: =10^-5 -> 1e-05 | AR93: AVERAGE | AT93: =10^-5 -> 1e-05 | AY93: AVERAGE | BA93: =10^-5 -> 1e-05 | BF93: AVERAGE
A94: Blank | B94: 1 | D94: 0 | E94: 0 | F94: 0 | G94: 0 | H94: 0 | I94: =AVERAGE(D94:H94) -> 0 | J94: =STDEV(D94:H94) -> 0 | K94: 0 | L94: 0 | M94: 0 | N94: 0 | O94: 0 | P94: =AVERAGE(K94:O94) -> 0 | Q94: =STDEV(K94:O94) -> 0 | R94: 0 | S94: 0 | T94: 0 | U94: 0 | V94: 0 | W94: =AVERAGE(R94:V94) -> 0 | X94: =STDEV(R94:V94) -> 0 | Y94: 0 | Z94: 0 | AA94: 0 | AB94: 0 | AC94: 0 | AD94: =AVERAGE(Y94:AC94) -> 0 | AE94: =STDEV(Y94:AC94) -> 0 | AF94: 0 | AG94: 0 | AH94: 0 | AI94: 0 | AJ94: 0 | AK94: =AVERAGE(AF94:AJ94) -> 0 | AL94: =STDEV(AF94:AJ94) -> 0 | AM94: 0 | AN94: 0 | AO94: 0 | AP94: 0 | AQ94: 0 | AR94: =AVERAGE(AM94:AQ94) -> 0 | AS94: =STDEV(AM94:AQ94) -> 0 | AT94: 0 | AU94: 0 | AV94: 0 | AW94: 0 | AX94: 0 | AY94: =AVERAGE(AT94:AX94) -> 0 | AZ94: =STDEV(AT94:AX94) -> 0 | BA94: 0 | BB94: 0 | BC94: 0 | BD94: 0 | BE94: 0 | BF94: =AVERAGE(BA94:BE94) -> 0 | BG94: =STDEV(BA94:BE94) -> 0
I95: =AVERAGE(I94:I94) -> 0 | P95: =AVERAGE(P94:P94) -> 0 | W95: =AVERAGE(W94:W94) -> 0 | AD95: =AVERAGE(AD94:AD94) -> 0 | AK95: =AVERAGE(AK94:AK94) -> 0 | AR95: =AVERAGE(AR94:AR94) -> 0 | AY95: =AVERAGE(AY94:AY94) -> 0 | BF95: =AVERAGE(BF94:BF94) -> 0
I96: =SUM(J94:J94) -> 0 | P96: =SUM(Q94:Q94) -> 0 | W96: =SUM(X94:X94) -> 0 | AD96: =SUM(AE94:AE94) -> 0 | AK96: =SUM(AL94:AL94) -> 0 | AR96: =SUM(AS94:AS94) -> 0 | AY96: =SUM(AZ94:AZ94) -> 0 | BF96: =SUM(BG94:BG94) -> 0
A97: BW25113 - | B97: 1 | D97: NA | E97: NA | F97: NA | G97: NA | H97: NA | I97: =AVERAGE(D97:H97) -> #DIV/0! | J97: =STDEV(D97:H97) -> #DIV/0! | K97: NA | L97: NA | M97: NA | N97: NA | O97: NA | P97: =AVERAGE(K97:O97) -> #DIV/0! | Q97: =STDEV(K97:O97) -> #DIV/0! | R97: NA | S97: NA | T97: NA | U97: NA | V97: NA | W97: =AVERAGE(R97:V97) -> #DIV/0! | X97: =STDEV(R97:V97) -> #DIV/0! | Y97: NA | Z97: NA | AA97: NA | AB97: NA | AC97: NA | AD97: =AVERAGE(Y97:AC97) -> #DIV/0! | AE97: =STDEV(Y97:AC97) -> #DIV/0! | AF97: 80 | AG97: 97 | AH97: 72 | AI97: 87 | AJ97: 69 | AK97: =AVERAGE(AF97:AJ97) -> 81 | AL97: =STDEV(AF97:AJ97) -> 11.379807 | AM97: 9 | AN97: 10 | AO97: 12 | AP97: 10 | AQ97: 12 | AR97: =AVERAGE(AM97:AQ97) -> 10.6 | AS97: =STDEV(AM97:AQ97) -> 1.3416408 | AT97: 2 | AU97: 1 | AV97: 2 | AW97: 2 | AX97: 2 | AY97: =AVERAGE(AT97:AX97) -> 1.8 | AZ97: =STDEV(AT97:AX97) -> 0.4472136 | BA97: 0 | BB97: 0 | BC97: 0 | BD97: 1 | BE97: 1 | BF97: =AVERAGE(BA97:BE97) -> 0.4 | BG97: =STDEV(BA97:BE97) -> 0.54772256
B98: 2 | D98: NA | E98: NA | F98: NA | G98: NA | H98: NA | I98: =AVERAGE(D98:H98) -> #DIV/0! | J98: =STDEV(D98:H98) -> #DIV/0! | K98: NA | L98: NA | M98: NA | N98: NA | O98: NA | P98: =AVERAGE(K98:O98) -> #DIV/0! | Q98: =STDEV(K98:O98) -> #DIV/0! | R98: NA | S98: NA | T98: NA | U98: NA | V98: NA | W98: =AVERAGE(R98:V98) -> #DIV/0! | X98: =STDEV(R98:V98) -> #DIV/0! | Y98: NA | Z98: NA | AA98: NA | AB98: NA | AC98: NA | AD98: =AVERAGE(Y98:AC98) -> #DIV/0! | AE98: =STDEV(Y98:AC98) -> #DIV/0! | AF98: 87 | AG98: 92 | AH98: 88 | AI98: 86 | AJ98: 91 | AK98: =AVERAGE(AF98:AJ98) -> 88.8 | AL98: =STDEV(AF98:AJ98) -> 2.5884358 | AM98: 11 | AN98: 19 | AO98: 16 | AP98: 24 | AQ98: 22 | AR98: =AVERAGE(AM98:AQ98) -> 18.4 | AS98: =STDEV(AM98:AQ98) -> 5.1283526 | AT98: 4 | AU98: 5 | AV98: 2 | AW98: 3 | AX98: 0 | AY98: =AVERAGE(AT98:AX98) -> 2.8 | AZ98: =STDEV(AT98:AX98) -> 1.9235384 | BA98: 0 | BB98: 0 | BC98: 0 | BD98: 0 | BE98: 0 | BF98: =AVERAGE(BA98:BE98) -> 0 | BG98: =STDEV(BA98:BE98) -> 0
B99: 3 | D99: NA | E99: NA | F99: NA | G99: NA | H99: NA | I99: =AVERAGE(D99:H99) -> #DIV/0! | J99: =STDEV(D99:H99) -> #DIV/0! | K99: NA | L99: NA | M99: NA | N99: NA | O99: NA | P99: =AVERAGE(K99:O99) -> #DIV/0! | Q99: =STDEV(K99:O99) -> #DIV/0! | R99: NA | S99: NA | T99: NA | U99: NA | V99: NA | W99: =AVERAGE(R99:V99) -> #DIV/0! | X99: =STDEV(R99:V99) -> #DIV/0! | Y99: NA | Z99: NA | AA99: NA | AB99: NA | AC99: NA | AD99: =AVERAGE(Y99:AC99) -> #DIV/0! | AE99: =STDEV(Y99:AC99) -> #DIV/0! | AF99: 89 | AG99: 93 | AH99: 97 | AI99: 82 | AJ99: 71 | AK99: =AVERAGE(AF99:AJ99) -> 86.4 | AL99: =STDEV(AF99:AJ99) -> 10.237187 | AM99: 17 | AN99: 23 | AO99: 22 | AP99: 21 | AQ99: 22 | AR99: =AVERAGE(AM99:AQ99) -> 21 | AS99: =STDEV(AM99:AQ99) -> 2.3452079 | AT99: 2 | AU99: 3 | AV99: 3 | AW99: 5 | AX99: 3 | AY99: =AVERAGE(AT99:AX99) -> 3.2 | AZ99: =STDEV(AT99:AX99) -> 1.0954451 | BA99: 0 | BB99: 0 | BC99: 0 | BD99: 0 | BE99: 0 | BF99: =AVERAGE(BA99:BE99) -> 0 | BG99: =STDEV(BA99:BE99) -> 0
A100: average | I100: =AVERAGE(I97:I99) -> #DIV/0! | P100: =AVERAGE(P97:P99) -> #DIV/0! | W100: =AVERAGE(W97:W99) -> #DIV/0! | AD100: =AVERAGE(AD97:AD99) -> #DIV/0! | AK100: =AVERAGE(AK97:AK99) -> 85.4 | AR100: =AVERAGE(AR97:AR99) -> 16.666667 | AY100: =AVERAGE(AY97:AY99) -> 2.6 | BF100: =AVERAGE(BF97:BF99) -> 0.13333333
A101: stdev | I101: =SUM(J97:J99) -> #DIV/0! | P101: =SUM(Q97:Q99) -> #DIV/0! | W101: =SUM(X97:X99) -> #DIV/0! | AD101: =SUM(AE97:AE99) -> #DIV/0! | AK101: =SUM(AL97:AL99) -> 24.20543 | AR101: =SUM(AS97:AS99) -> 8.8152012 | AY101: =SUM(AZ97:AZ99) -> 3.4661971 | BF101: =SUM(BG97:BG99) -> 0.54772256
A102: 2213F - | B102: 1 | D102: NA | E102: NA | F102: NA | G102: NA | H102: NA | I102: =AVERAGE(D102:H102) -> #DIV/0! | J102: =STDEV(D102:H102) -> #DIV/0! | K102: NA | L102: NA | M102: NA | N102: NA | O102: NA | P102: =AVERAGE(K102:O102) -> #DIV/0! | Q102: =STDEV(K102:O102) -> #DIV/0! | R102: NA | S102: NA | T102: NA | U102: NA | V102: NA | W102: =AVERAGE(R102:V102) -> #DIV/0! | X102: =STDEV(R102:V102) -> #DIV/0! | Y102: 73 | Z102: 85 | AA102: 78 | AB102: 91 | AC102: 85 | AD102: =AVERAGE(Y102:AC102) -> 82.4 | AE102: =STDEV(Y102:AC102) -> 6.9856997 | AF102: 9 | AG102: 10 | AH102: 6 | AI102: 11 | AJ102: 3 | AK102: =AVERAGE(AF102:AJ102) -> 7.8 | AL102: =STDEV(AF102:AJ102) -> 3.2710854 | AM102: 0 | AN102: 3 | AO102: 0 | AP102: 0 | AQ102: 1 | AR102: =AVERAGE(AM102:AQ102) -> 0.8 | AS102: =STDEV(AM102:AQ102) -> 1.3038405 | AT102: 0 | AU102: 0 | AV102: 0 | AW102: 0 | AX102: 0 | AY102: =AVERAGE(AT102:AX102) -> 0 | AZ102: =STDEV(AT102:AX102) -> 0 | BA102: 0 | BB102: 0 | BC102: 0 | BD102: 0 | BE102: 0 | BF102: =AVERAGE(BA102:BE102) -> 0 | BG102: =STDEV(BA102:BE102) -> 0
A103: p+0 | B103: 2 | D103: NA | E103: NA | F103: NA | G103: NA | H103: NA | I103: =AVERAGE(D103:H103) -> #DIV/0! | J103: =STDEV(D103:H103) -> #DIV/0! | K103: NA | L103: NA | M103: NA | N103: NA | O103: NA | P103: =AVERAGE(K103:O103) -> #DIV/0! | Q103: =STDEV(K103:O103) -> #DIV/0! | R103: NA | S103: NA | T103: NA | U103: NA | V103: NA | W103: =AVERAGE(R103:V103) -> #DIV/0! | X103: =STDEV(R103:V103) -> #DIV/0! | Y103: 56 | Z103: 39 | AA103: 50 | AB103: 56 | AC103: 43 | AD103: =AVERAGE(Y103:AC103) -> 48.8 | AE103: =STDEV(Y103:AC103) -> 7.6615925 | AF103: 4 | AG103: 6 | AH103: 8 | AI103: 1 | AJ103: 3 | AK103: =AVERAGE(AF103:AJ103) -> 4.4 | AL103: =STDEV(AF103:AJ103) -> 2.7018512 | AM103: 5 | AN103: 10 | AO103: 0 | AP103: 0 | AQ103: 1 | AR103: =AVERAGE(AM103:AQ103) -> 3.2 | AS103: =STDEV(AM103:AQ103) -> 4.3243497 | AT103: 0 | AU103: 0 | AV103: 0 | AW103: 0 | AX103: 0 | AY103: =AVERAGE(AT103:AX103) -> 0 | AZ103: =STDEV(AT103:AX103) -> 0 | BA103: 0 | BB103: 0 | BC103: 0 | BD103: 0 | BE103: 0 | BF103: =AVERAGE(BA103:BE103) -> 0 | BG103: =STDEV(BA103:BE103) -> 0
B104: 3 | D104: NA | E104: NA | F104: NA | G104: NA | H104: NA | I104: =AVERAGE(D104:H104) -> #DIV/0! | J104: =STDEV(D104:H104) -> #DIV/0! | K104: NA | L104: NA | M104: NA | N104: NA | O104: NA | P104: =AVERAGE(K104:O104) -> #DIV/0! | Q104: =STDEV(K104:O104) -> #DIV/0! | R104: NA | S104: NA | T104: NA | U104: NA | V104: NA | W104: =AVERAGE(R104:V104) -> #DIV/0! | X104: =STDEV(R104:V104) -> #DIV/0! | Y104: 100 | Z104: 100 | AA104: 90 | AB104: 101 | AC104: 71 | AD104: =AVERAGE(Y104:AC104) -> 92.4 | AE104: =STDEV(Y104:AC104) -> 12.778889 | AF104: 12 | AG104: 5 | AH104: 8 | AI104: 7 | AJ104: 5 | AK104: =AVERAGE(AF104:AJ104) -> 7.4 | AL104: =STDEV(AF104:AJ104) -> 2.8809721 | AM104: 1 | AN104: 0 | AO104: 1 | AP104: 1 | AQ104: 1 | AR104: =AVERAGE(AM104:AQ104) -> 0.8 | AS104: =STDEV(AM104:AQ104) -> 0.4472136 | AT104: 1 | AU104: 0 | AV104: 0 | AW104: 0 | AX104: 1 | AY104: =AVERAGE(AT104:AX104) -> 0.4 | AZ104: =STDEV(AT104:AX104) -> 0.54772256 | BA104: 0 | BB104: 0 | BC104: 0 | BD104: 0 | BE104: 0 | BF104: =AVERAGE(BA104:BE104) -> 0 | BG104: =STDEV(BA104:BE104) -> 0
...

Sheet Survivalexp results
A1: Survival experiment
A2: Subject: | C2: Anaerobic survival after aerobic inoculation of recombinant strains
C3: DeBont+Gluconic Acid - Kanamycin only in 2213-/A/APR
A4: Inoculation date | C4: 43030
A5: Inoculated | C5: Blank | D5: BW25113 2213F - | E5: 2213F - | G5: 2213F A | I5: 2213F APR
D6: dilution
D7: T1 | N7: T3 | X7: T5 | AH7: T10 | AR7: T12 | BB7: T15 | BL7: T17 | BV7: T31
C8: Sample | D8: =10^0 -> 1 | E8: =10^-1 -> 0.1 | F8: =10^-2 -> 0.01 | G8: =10^-3 -> 0.001 | H8: =10^-4 -> 0.0001 | I8: =10^-5 -> 1e-05 | J8: =10^-6 -> 1e-06 | K8: =10^-7 -> 1e-07 | L8: Average nr of bacteria | M8: stdev | N8: =10^0 -> 1 | O8: =10^-1 -> 0.1 | P8: =10^-2 -> 0.01 | Q8: =10^-3 -> 0.001 | R8: =10^-4 -> 0.0001 | S8: =10^-5 -> 1e-05 | T8: =10^-6 -> 1e-06 | U8: =10^-7 -> 1e-07 | V8: Average nr of bacteria | W8: stdev | X8: =10^0 -> 1 | Y8: =10^-1 -> 0.1 | Z8: =10^-2 -> 0.01 | AA8: =10^-3 -> 0.001 | AB8: =10^-4 -> 0.0001 | AC8: =10^-5 -> 1e-05 | AD8: =10^-6 -> 1e-06 | AE8: =10^-7 -> 1e-07 | AF8: Average nr of bacteria | AG8: stdev | AH8: =10^0 -> 1 | AI8: =10^-1 -> 0.1 | AJ8: =10^-2 -> 0.01 | AK8: =10^-3 -> 0.001 | AL8: =10^-4 -> 0.0001 | AM8: =10^-5 -> 1e-05 | AN8: =10^-6 -> 1e-06 | AO8: =10^-7 -> 1e-07 | AP8: Average nr of bacteria | AQ8: stdev | AR8: =10^0 -> 1 | AS8: =10^-1 -> 0.1 | AT8: =10^-2 -> 0.01 | AU8: =10^-3 -> 0.001 | AV8: =10^-4 -> 0.0001 | AW8: =10^-5 -> 1e-05 | AX8: =10^-6 -> 1e-06 | AY8: =10^-7 -> 1e-07 | AZ8: Average nr of bacteria | BA8: stdev | BB8: =10^0 -> 1 | BC8: =10^-1 -> 0.1 | BD8: =10^-2 -> 0.01 | BE8: =10^-3 -> 0.001 | BF8: =10^-4 -> 0.0001 | BG8: =10^-5 -> 1e-05 | BH8: =10^-6 -> 1e-06 | BI8: =10^-7 -> 1e-07 | BJ8: Average nr of bacteria | BK8: stdev | BL8: =10^0 -> 1 | BM8: =10^-1 -> 0.1 | BN8: =10^-2 -> 0.01 | BO8: =10^-3 -> 0.001 | BP8: =10^-4 -> 0.0001 | BQ8: =10^-5 -> 1e-05 | BR8: =10^-6 -> 1e-06 | BS8: =10^-7 -> 1e-07 | BT8: Average nr of bacteria | BU8: stdev | BV8: =10^0 -> 1 | BW8: =10^-1 -> 0.1 | BX8: =10^-2 -> 0.01 | BY8: =10^-3 -> 0.001 | BZ8: =10^-4 -> 0.0001 | CA8: =10^-5 -> 1e-05 | CB8: =10^-6 -> 1e-06 | CC8: =10^-7 -> 1e-07 | CD8: Average nr of bacteria | CE8: stdev
C9: Blank | D9: ='Survivalexp RAW Oct_Nov 2017'!I11 -> 0 | E9: ='Survivalexp RAW Oct_Nov 2017'!P11 -> 0 | F9: ='Survivalexp RAW Oct_Nov 2017'!W11 -> 0 | G9: ='Survivalexp RAW Oct_Nov 2017'!AD11 -> 0 | H9: ='Survivalexp RAW Oct_Nov 2017'!AK11 -> 0 | I9: ='Survivalexp RAW Oct_Nov 2017'!AR11 -> 0 | J9: ='Survivalexp RAW Oct_Nov 2017'!AY11 -> 0 | K9: ='Survivalexp RAW Oct_Nov 2017'!BF11 -> 0 | N9: ='Survivalexp RAW Oct_Nov 2017'!I53 -> 0 | O9: ='Survivalexp RAW Oct_Nov 2017'!P53 -> 0 | P9: ='Survivalexp RAW Oct_Nov 2017'!W53 -> 0 | Q9: ='Survivalexp RAW Oct_Nov 2017'!AD53 -> 0 | R9: ='Survivalexp RAW Oct_Nov 2017'!AK53 -> 0 | S9: ='Survivalexp RAW Oct_Nov 2017'!AR53 -> 0 | T9: ='Survivalexp RAW Oct_Nov 2017'!AY53 -> 0 | U9: ='Survivalexp RAW Oct_Nov 2017'!BF53 -> 0 | X9: ='Survivalexp RAW Oct_Nov 2017'!I95 -> 0 | Y9: ='Survivalexp RAW Oct_Nov 2017'!P95 -> 0 | Z9: ='Survivalexp RAW Oct_Nov 2017'!W95 -> 0 | AA9: ='Survivalexp RAW Oct_Nov 2017'!AD95 -> 0 | AB9: ='Survivalexp RAW Oct_Nov 2017'!AK95 -> 0 | AC9: ='Survivalexp RAW Oct_Nov 2017'!AR95 -> 0 | AD9: ='Survivalexp RAW Oct_Nov 2017'!AY95 -> 0 | AE9: ='Survivalexp RAW Oct_Nov 2017'!BF95 -> 0 | AH9: ='Survivalexp RAW Oct_Nov 2017'!I138 -> 0 | AI9: ='Survivalexp RAW Oct_Nov 2017'!P138 -> 0 | AJ9: ='Survivalexp RAW Oct_Nov 2017'!W138 -> 0 | AK9: ='Survivalexp RAW Oct_Nov 2017'!AD138 -> 0 | AL9: ='Survivalexp RAW Oct_Nov 2017'!AK138 -> 0 | AM9: ='Survivalexp RAW Oct_Nov 2017'!AR138 -> 0 | AN9: ='Survivalexp RAW Oct_Nov 2017'!AY138 -> 0 | AO9: ='Survivalexp RAW Oct_Nov 2017'!BF138 -> 0 | AR9: ='Survivalexp RAW Oct_Nov 2017'!I180 -> 0 | AS9: ='Survivalexp RAW Oct_Nov 2017'!P180 -> 0 | AT9: ='Survivalexp RAW Oct_Nov 2017'!W180 -> 0 | AU9: ='Survivalexp RAW Oct_Nov 2017'!AD180 -> 0 | AV9: ='Survivalexp RAW Oct_Nov 2017'!AK180 -> 0 | AW9: ='Survivalexp RAW Oct_Nov 2017'!AR180 -> 0 | AX9: ='Survivalexp RAW Oct_Nov 2017'!AY180 -> 0 | AY9: ='Survivalexp RAW Oct_Nov 2017'!BF180 -> 0 | BB9: ='Survivalexp RAW Oct_Nov 2017'!I222 -> 0 | BC9: ='Survivalexp RAW Oct_Nov 2017'!P222 -> 0 | BD9: ='Survivalexp RAW Oct_Nov 2017'!W222 -> 0 | BE9: ='Survivalexp RAW Oct_Nov 2017'!AD222 -> 0 | BF9: ='Survivalexp RAW Oct_Nov 2017'!AK222 -> 0 | BG9: ='Survivalexp RAW Oct_Nov 2017'!AR222 -> 0 | BH9: ='Survivalexp RAW Oct_Nov 2017'!AY222 -> 0 | BI9: ='Survivalexp RAW Oct_Nov 2017'!BF222 -> 0 | BL9: ='Survivalexp RAW Oct_Nov 2017'!I264 -> 0 | BM9: ='Survivalexp RAW Oct_Nov 2017'!P264 -> 0 | BN9: ='Survivalexp RAW Oct_Nov 2017'!W264 -> 0 | BO9: ='Survivalexp RAW Oct_Nov 2017'!AD264 -> 0 | BP9: ='Survivalexp RAW Oct_Nov 2017'!AK264 -> 0 | BQ9: ='Survivalexp RAW Oct_Nov 2017'!AR264 -> 0 | BR9: ='Survivalexp RAW Oct_Nov 2017'!AY264 -> 0 | BS9: ='Survivalexp RAW Oct_Nov 2017'!BF264 -> 0 | BV9: ='Survivalexp RAW Oct_Nov 2017'!I306 -> 0 | BW9: ='Survivalexp RAW Oct_Nov 2017'!P306 -> 0 | BX9: ='Survivalexp RAW Oct_Nov 2017'!W306 -> 0 | BY9: ='Survivalexp RAW Oct_Nov 2017'!AD306 -> 0 | BZ9: ='Survivalexp RAW Oct_Nov 2017'!AK306 -> 0 | CA9: ='Survivalexp RAW Oct_Nov 2017'!AR306 -> 0 | CB9: ='Survivalexp RAW Oct_Nov 2017'!AY306 -> 0 | CC9: ='Survivalexp RAW Oct_Nov 2017'!BF306 -> 0
C10: stdev | D10: ='Survivalexp RAW Oct_Nov 2017'!I12 -> 0 | E10: ='Survivalexp RAW Oct_Nov 2017'!P12 -> 0 | F10: ='Survivalexp RAW Oct_Nov 2017'!W12 -> 0 | G10: ='Survivalexp RAW Oct_Nov 2017'!AD12 -> 0 | H10: ='Survivalexp RAW Oct_Nov 2017'!AK12 -> 0 | I10: ='Survivalexp RAW Oct_Nov 2017'!AR12 -> 0 | J10: ='Survivalexp RAW Oct_Nov 2017'!AY12 -> 0 | K10: ='Survivalexp RAW Oct_Nov 2017'!BF12 -> 0 | N10: ='Survivalexp RAW Oct_Nov 2017'!I54 -> 0 | O10: ='Survivalexp RAW Oct_Nov 2017'!P54 -> 0 | P10: ='Survivalexp RAW Oct_Nov 2017'!W54 -> 0 | Q10: ='Survivalexp RAW Oct_Nov 2017'!AD54 -> 0 | R10: ='Survivalexp RAW Oct_Nov 2017'!AK54 -> 0 | S10: ='Survivalexp RAW Oct_Nov 2017'!AR54 -> 0 | T10: ='Survivalexp RAW Oct_Nov 2017'!AY54 -> 0 | U10: ='Survivalexp RAW Oct_Nov 2017'!BF54 -> 0 | X10: ='Survivalexp RAW Oct_Nov 2017'!I96 -> 0 | Y10: ='Survivalexp RAW Oct_Nov 2017'!P96 -> 0 | Z10: ='Survivalexp RAW Oct_Nov 2017'!W96 -> 0 | AA10: ='Survivalexp RAW Oct_Nov 2017'!AD96 -> 0 | AB10: ='Survivalexp RAW Oct_Nov 2017'!AK96 -> 0 | AC10: ='Survivalexp RAW Oct_Nov 2017'!AR96 -> 0 | AD10: ='Survivalexp RAW Oct_Nov 2017'!AY96 -> 0 | AE10: ='Survivalexp RAW Oct_Nov 2017'!BF96 -> 0 | AH10: ='Survivalexp RAW Oct_Nov 2017'!I139 -> 0 | AI10: ='Survivalexp RAW Oct_Nov 2017'!P139 -> 0 | AJ10: ='Survivalexp RAW Oct_Nov 2017'!W139 -> 0 | AK10: ='Survivalexp RAW Oct_Nov 2017'!AD139 -> 0 | AL10: ='Survivalexp RAW Oct_Nov 2017'!AK139 -> 0 | AM10: ='Survivalexp RAW Oct_Nov 2017'!AR139 -> 0 | AN10: ='Survivalexp RAW Oct_Nov 2017'!AY139 -> 0 | AO10: ='Survivalexp RAW Oct_Nov 2017'!BF139 -> 0 | AR10: ='Survivalexp RAW Oct_Nov 2017'!I181 -> 0 | AS10: ='Survivalexp RAW Oct_Nov 2017'!P181 -> 0 | AT10: ='Survivalexp RAW Oct_Nov 2017'!W181 -> 0 | AU10: ='Survivalexp RAW Oct_Nov 2017'!AD181 -> 0 | AV10: ='Survivalexp RAW Oct_Nov 2017'!AK181 -> 0 | AW10: ='Survivalexp RAW Oct_Nov 2017'!AR181 -> 0 | AX10: ='Survivalexp RAW Oct_Nov 2017'!AY181 -> 0 | AY10: ='Survivalexp RAW Oct_Nov 2017'!BF181 -> 0 | BB10: ='Survivalexp RAW Oct_Nov 2017'!I223 -> 0 | BC10: ='Survivalexp RAW Oct_Nov 2017'!P223 -> 0 | BD10: ='Survivalexp RAW Oct_Nov 2017'!W223 -> 0 | BE10: ='Survivalexp RAW Oct_Nov 2017'!AD223 -> 0 | BF10: ='Survivalexp RAW Oct_Nov 2017'!AK223 -> 0 | BG10: ='Survivalexp RAW Oct_Nov 2017'!AR223 -> 0 | BH10: ='Survivalexp RAW Oct_Nov 2017'!AY223 -> 0 | BI10: ='Survivalexp RAW Oct_Nov 2017'!BF223 -> 0 | BL10: ='Survivalexp RAW Oct_Nov 2017'!I265 -> 0 | BM10: ='Survivalexp RAW Oct_Nov 2017'!P265 -> 0 | BN10: ='Survivalexp RAW Oct_Nov 2017'!W265 -> 0 | BO10: ='Survivalexp RAW Oct_Nov 2017'!AD265 -> 0 | BP10: ='Survivalexp RAW Oct_Nov 2017'!AK265 -> 0 | BQ10: ='Survivalexp RAW Oct_Nov 2017'!AR265 -> 0 | BR10: ='Survivalexp RAW Oct_Nov 2017'!AY265 -> 0 | BS10: ='Survivalexp RAW Oct_Nov 2017'!BF265 -> 0 | BV10: ='Survivalexp RAW Oct_Nov 2017'!I307 -> 0 | BW10: ='Survivalexp RAW Oct_Nov 2017'!P307 -> 0 | BX10: ='Survivalexp RAW Oct_Nov 2017'!W307 -> 0 | BY10: ='Survivalexp RAW Oct_Nov 2017'!AD307 -> 0 | BZ10: ='Survivalexp RAW Oct_Nov 2017'!AK307 -> 0 | CA10: ='Survivalexp RAW Oct_Nov 2017'!AR307 -> 0 | CB10: ='Survivalexp RAW Oct_Nov 2017'!AY307 -> 0 | CC10: ='Survivalexp RAW Oct_Nov 2017'!BF307 -> 0
B11: est. nr of bacteria | D11: =D9/$D$8 -> 0 | E11: =E9/$E$8 -> 0 | F11: =F9/$F$8 -> 0 | G11: =G9/$G$8 -> 0 | H11: =H9/$H$8 -> 0 | I11: =I9/$I$8 -> 0 | J11: =J9/$J$8 -> 0 | K11: =K9/$K$8 -> 0 | L11: =G11 -> 0 | M11: =G12 -> 0 | N11: =N9/$D$8 -> 0 | O11: =O9/$E$8 -> 0 | P11: =P9/$F$8 -> 0 | Q11: =Q9/$G$8 -> 0 | R11: =R9/$H$8 -> 0 | S11: =S9/$I$8 -> 0 | T11: =T9/$J$8 -> 0 | U11: =U9/$K$8 -> 0 | V11: =P11 -> 0 | W11: =P12 -> 0 | X11: =X9/$D$8 -> 0 | Y11: =Y9/$E$8 -> 0 | Z11: =Z9/$F$8 -> 0 | AA11: =AA9/$G$8 -> 0 | AB11: =AB9/$H$8 -> 0 | AC11: =AC9/$I$8 -> 0 | AD11: =AD9/$J$8 -> 0 | AE11: =AE9/$K$8 -> 0 | AF11: =AE11 -> 0 | AG11: =AE12 -> 0 | AH11: =AH9/$D$8 -> 0 | AI11: =AI9/$E$8 -> 0 | AJ11: =AJ9/$F$8 -> 0 | AK11: =AK9/$G$8 -> 0 | AL11: =AL9/$H$8 -> 0 | AM11: =AM9/$I$8 -> 0 | AN11: =AN9/$J$8 -> 0 | AO11: =AO9/$K$8 -> 0 | AP11: =AL11 -> 0 | AQ11: =AL12 -> 0 | AR11: =AR9/$D$8 -> 0 | AS11: =AS9/$E$8 -> 0 | AT11: =AT9/$F$8 -> 0 | AU11: =AU9/$G$8 -> 0 | AV11: =AV9/$H$8 -> 0 | AW11: =AW9/$I$8 -> 0 | AX11: =AX9/$J$8 -> 0 | AY11: =AY9/$K$8 -> 0 | AZ11: =AV11 -> 0 | BA11: =AV12 -> 0 | BB11: =BB9/$D$8 -> 0 | BC11: =BC9/$E$8 -> 0 | BD11: =BD9/$F$8 -> 0 | BE11: =BE9/$G$8 -> 0 | BF11: =BF9/$H$8 -> 0 | BG11: =BG9/$I$8 -> 0 | BH11: =BH9/$J$8 -> 0 | BI11: =BI9/$K$8 -> 0 | BJ11: =BF11 -> 0 | BK11: =BF12 -> 0 | BL11: =BL9/$D$8 -> 0 | BM11: =BM9/$E$8 -> 0 | BN11: =BN9/$F$8 -> 0 | BO11: =BO9/$G$8 -> 0 | BP11: =BP9/$H$8 -> 0 | BQ11: =BQ9/$I$8 -> 0 | BR11: =BR9/$J$8 -> 0 | BS11: =BS9/$K$8 -> 0 | BT11: =BP11 -> 0 | BU11: =BP12 -> 0 | BV11: =BV9/$D$8 -> 0 | BW11: =BW9/$E$8 -> 0 | BX11: =BX9/$F$8 -> 0 | BY11: =BY9/$G$8 -> 0 | BZ11: =BZ9/$H$8 -> 0 | CA11: =CA9/$I$8 -> 0 | CB11: =CB9/$J$8 -> 0 | CC11: =CC9/$K$8 -> 0 | CD11: =BZ11 -> 0 | CE11: =BZ12 -> 0
C12: stdev | D12: =D10/$D$8 -> 0 | E12: =E10/$E$8 -> 0 | F12: =F10/$F$8 -> 0 | G12: =G10/$G$8 -> 0 | H12: =H10/$H$8 -> 0 | I12: =I10/$I$8 -> 0 | J12: =J10/$J$8 -> 0 | K12: =K10/$K$8 -> 0 | N12: =N10/$D$8 -> 0 | O12: =O10/$E$8 -> 0 | P12: =P10/$F$8 -> 0 | Q12: =Q10/$G$8 -> 0 | R12: =R10/$H$8 -> 0 | S12: =S10/$I$8 -> 0 | T12: =T10/$J$8 -> 0 | U12: =U10/$K$8 -> 0 | X12: =X10/$D$8 -> 0 | Y12: =Y10/$E$8 -> 0 | Z12: =Z10/$F$8 -> 0 | AA12: =AA10/$G$8 -> 0 | AB12: =AB10/$H$8 -> 0 | AC12: =AC10/$I$8 -> 0 | AD12: =AD10/$J$8 -> 0 | AE12: =AE10/$K$8 -> 0 | AH12: =AH10/$D$8 -> 0 | AI12: =AI10/$E$8 -> 0 | AJ12: =AJ10/$F$8 -> 0 | AK12: =AK10/$G$8 -> 0 | AL12: =AL10/$H$8 -> 0 | AM12: =AM10/$I$8 -> 0 | AN12: =AN10/$J$8 -> 0 | AO12: =AO10/$K$8 -> 0 | AR12: =AR10/$D$8 -> 0 | AS12: =AS10/$E$8 -> 0 | AT12: =AT10/$F$8 -> 0 | AU12: =AU10/$G$8 -> 0 | AV12: =AV10/$H$8 -> 0 | AW12: =AW10/$I$8 -> 0 | AX12: =AX10/$J$8 -> 0 | AY12: =AY10/$K$8 -> 0 | BB12: =BB10/$D$8 -> 0 | BC12: =BC10/$E$8 -> 0 | BD12: =BD10/$F$8 -> 0 | BE12: =BE10/$G$8 -> 0 | BF12: =BF10/$H$8 -> 0 | BG12: =BG10/$I$8 -> 0 | BH12: =BH10/$J$8 -> 0 | BI12: =BI10/$K$8 -> 0 | BL12: =BL10/$D$8 -> 0 | BM12: =BM10/$E$8 -> 0 | BN12: =BN10/$F$8 -> 0 | BO12: =BO10/$G$8 -> 0 | BP12: =BP10/$H$8 -> 0 | BQ12: =BQ10/$I$8 -> 0 | BR12: =BR10/$J$8 -> 0 | BS12: =BS10/$K$8 -> 0 | BV12: =BV10/$D$8 -> 0 | BW12: =BW10/$E$8 -> 0 | BX12: =BX10/$F$8 -> 0 | BY12: =BY10/$G$8 -> 0 | BZ12: =BZ10/$H$8 -> 0 | CA12: =CA10/$I$8 -> 0 | CB12: =CB10/$J$8 -> 0 | CC12: =CC10/$K$8 -> 0
C13: BW25113 - | D13: ='Survivalexp RAW Oct_Nov 2017'!I16 -> #DIV/0! | E13: ='Survivalexp RAW Oct_Nov 2017'!P16 -> #DIV/0! | F13: ='Survivalexp RAW Oct_Nov 2017'!W16 -> #DIV/0! | G13: ='Survivalexp RAW Oct_Nov 2017'!AD16 -> #DIV/0! | H13: ='Survivalexp RAW Oct_Nov 2017'!AK16 -> #DIV/0! | I13: ='Survivalexp RAW Oct_Nov 2017'!AR16 -> 29.666667 | J13: ='Survivalexp RAW Oct_Nov 2017'!AY16 -> 4 | K13: ='Survivalexp RAW Oct_Nov 2017'!BF16 -> 0.4 | N13: ='Survivalexp RAW Oct_Nov 2017'!I58 -> #DIV/0! | O13: ='Survivalexp RAW Oct_Nov 2017'!P58 -> #DIV/0! | P13: ='Survivalexp RAW Oct_Nov 2017'!W58 -> #DIV/0! | Q13: ='Survivalexp RAW Oct_Nov 2017'!AD58 -> #DIV/0! | R13: ='Survivalexp RAW Oct_Nov 2017'!AK58 -> #DIV/0! | S13: ='Survivalexp RAW Oct_Nov 2017'!AR58 -> 32.8 | T13: ='Survivalexp RAW Oct_Nov 2017'!AY58 -> 9.7333333 | U13: ='Survivalexp RAW Oct_Nov 2017'!BF58 -> 8.3333333 | X13: ='Survivalexp RAW Oct_Nov 2017'!I100 -> #DIV/0! | Y13: ='Survivalexp RAW Oct_Nov 2017'!P100 -> #DIV/0! | Z13: ='Survivalexp RAW Oct_Nov 2017'!W100 -> #DIV/0! | AA13: ='Survivalexp RAW Oct_Nov 2017'!AD100 -> #DIV/0! | AB13: ='Survivalexp RAW Oct_Nov 2017'!AK100 -> 85.4 | AC13: ='Survivalexp RAW Oct_Nov 2017'!AR100 -> 16.666667 | AD13: ='Survivalexp RAW Oct_Nov 2017'!AY100 -> 2.6 | AE13: ='Survivalexp RAW Oct_Nov 2017'!BF100 -> 0.13333333 | AH13: ='Survivalexp RAW Oct_Nov 2017'!I143 -> #DIV/0! | AI13: ='Survivalexp RAW Oct_Nov 2017'!P143 -> #DIV/0! | AJ13: ='Survivalexp RAW Oct_Nov 2017'!W143 -> 33.933333 | AK13: ='Survivalexp RAW Oct_Nov 2017'!AD143 -> 8.6 | AL13: ='Survivalexp RAW Oct_Nov 2017'!AK143 -> 0.73333333 | AM13: ='Survivalexp RAW Oct_Nov 2017'!AR143 -> 0 | AN13: ='Survivalexp RAW Oct_Nov 2017'!AY143 -> 0 | AO13: ='Survivalexp RAW Oct_Nov 2017'!BF143 -> 0 | AR13: ='Survivalexp RAW Oct_Nov 2017'!I185 -> #DIV/0! | AS13: ='Survivalexp RAW Oct_Nov 2017'!P185 -> 34.266667 | AT13: ='Survivalexp RAW Oct_Nov 2017'!W185 -> 13.666667 | AU13: ='Survivalexp RAW Oct_Nov 2017'!AD185 -> 2.6666667 | AV13: ='Survivalexp RAW Oct_Nov 2017'!AK185 -> 0.4 | AW13: ='Survivalexp RAW Oct_Nov 2017'!AR185 -> 0 | AX13: ='Survivalexp RAW Oct_Nov 2017'!AY185 -> 0 | AY13: ='Survivalexp RAW Oct_Nov 2017'!BF185 -> 0 | BB13: ='Survivalexp RAW Oct_Nov 2017'!I227 -> 27.933333 | BC13: ='Survivalexp RAW Oct_Nov 2017'!P227 -> 7.7333333 | BD13: ='Survivalexp RAW Oct_Nov 2017'!W227 -> 0.93333333 | BE13: ='Survivalexp RAW Oct_Nov 2017'!AD227 -> 0.066666667 | BF13: ='Survivalexp RAW Oct_Nov 2017'!AK227 -> 0.066666667 | BG13: ='Survivalexp RAW Oct_Nov 2017'!AR227 -> 0 | BH13: ='Survivalexp RAW Oct_Nov 2017'!AY227 -> 0 | BI13: ='Survivalexp RAW Oct_Nov 2017'!BF227 -> 0 | BL13: ='Survivalexp RAW Oct_Nov 2017'!I269 -> 13.066667 | BM13: ='Survivalexp RAW Oct_Nov 2017'!P269 -> 3.6 | BN13: ='Survivalexp RAW Oct_Nov 2017'!W269 -> 0.53333333 | BO13: ='Survivalexp RAW Oct_Nov 2017'!AD269 -> 0 | BP13: ='Survivalexp RAW Oct_Nov 2017'!AK269 -> 0.066666667 | BQ13: ='Survivalexp RAW Oct_Nov 2017'!AR269 -> 0 | BR13: ='Survivalexp RAW Oct_Nov 2017'!AY269 -> 0 | BS13: ='Survivalexp RAW Oct_Nov 2017'!BF269 -> 0 | BV13: ='Survivalexp RAW Oct_Nov 2017'!I311 -> 0 | BW13: ='Survivalexp RAW Oct_Nov 2017'!P311 -> 0 | BX13: ='Survivalexp RAW Oct_Nov 2017'!W311 -> 0 | BY13: ='Survivalexp RAW Oct_Nov 2017'!AD311 -> 0 | BZ13: ='Survivalexp RAW Oct_Nov 2017'!AK311 -> 0 | CA13: ='Survivalexp RAW Oct_Nov 2017'!AR311 -> 0 | CB13: ='Survivalexp RAW Oct_Nov 2017'!AY311 -> 0 | CC13: ='Survivalexp RAW Oct_Nov 2017'!BF311 -> 0
C14: stdev | D14: ='Survivalexp RAW Oct_Nov 2017'!I17 -> #DIV/0! | E14: ='Survivalexp RAW Oct_Nov 2017'!P17 -> #DIV/0! | F14: ='Survivalexp RAW Oct_Nov 2017'!W17 -> #DIV/0! | G14: ='Survivalexp RAW Oct_Nov 2017'!AD17 -> #DIV/0! | H14: ='Survivalexp RAW Oct_Nov 2017'!AK17 -> #DIV/0! | I14: ='Survivalexp RAW Oct_Nov 2017'!AR17 -> 13.15041 | J14: ='Survivalexp RAW Oct_Nov 2017'!AY17 -> 6.1283443 | K14: ='Survivalexp RAW Oct_Nov 2017'!BF17 -> 1.7310872 | N14: ='Survivalexp RAW Oct_Nov 2017'!I59 -> #DIV/0! | O14: ='Survivalexp RAW Oct_Nov 2017'!P59 -> #DIV/0! | P14: ='Survivalexp RAW Oct_Nov 2017'!W59 -> #DIV/0! | Q14: ='Survivalexp RAW Oct_Nov 2017'!AD59 -> #DIV/0! | R14: ='Survivalexp RAW Oct_Nov 2017'!AK59 -> #DIV/0! | S14: ='Survivalexp RAW Oct_Nov 2017'!AR59 -> 10.303067 | T14: ='Survivalexp RAW Oct_Nov 2017'!AY59 -> 10.165115 | U14: ='Survivalexp RAW Oct_Nov 2017'!BF59 -> 9.1625529 | X14: ='Survivalexp RAW Oct_Nov 2017'!I101 -> #DIV/0! | Y14: ='Survivalexp RAW Oct_Nov 2017'!P101 -> #DIV/0! | Z14: ='Survivalexp RAW Oct_Nov 2017'!W101 -> #DIV/0! | AA14: ='Survivalexp RAW Oct_Nov 2017'!AD101 -> #DIV/0! | AB14: ='Survivalexp RAW Oct_Nov 2017'!AK101 -> 24.20543 | AC14: ='Survivalexp RAW Oct_Nov 2017'!AR101 -> 8.8152012 | AD14: ='Survivalexp RAW Oct_Nov 2017'!AY101 -> 3.4661971 | AE14: ='Survivalexp RAW Oct_Nov 2017'!BF101 -> 0.54772256 | AH14: ='Survivalexp RAW Oct_Nov 2017'!I144 -> #DIV/0! | AI14: ='Survivalexp RAW Oct_Nov 2017'!P144 -> #DIV/0! | AJ14: ='Survivalexp RAW Oct_Nov 2017'!W144 -> 10.695279 | AK14: ='Survivalexp RAW Oct_Nov 2017'!AD144 -> 3.1144823 | AL14: ='Survivalexp RAW Oct_Nov 2017'!AK144 -> 2.2803509 | AM14: ='Survivalexp RAW Oct_Nov 2017'!AR144 -> 0 | AN14: ='Survivalexp RAW Oct_Nov 2017'!AY144 -> 0 | AO14: ='Survivalexp RAW Oct_Nov 2017'!BF144 -> 0 | AR14: ='Survivalexp RAW Oct_Nov 2017'!I186 -> #DIV/0! | AS14: ='Survivalexp RAW Oct_Nov 2017'!P186 -> 15.254508 | AT14: ='Survivalexp RAW Oct_Nov 2017'!W186 -> 2 | AU14: ='Survivalexp RAW Oct_Nov 2017'!AD186 -> 1.5811388 | AV14: ='Survivalexp RAW Oct_Nov 2017'!AK186 -> 1.7888544 | AW14: ='Survivalexp RAW Oct_Nov 2017'!AR186 -> 0 | AX14: ='Survivalexp RAW Oct_Nov 2017'!AY186 -> 0 | AY14: ='Survivalexp RAW Oct_Nov 2017'!BF186 -> 0 | BB14: ='Survivalexp RAW Oct_Nov 2017'!I228 -> 6.5345237 | BC14: ='Survivalexp RAW Oct_Nov 2017'!P228 -> 2.0493902 | BD14: ='Survivalexp RAW Oct_Nov 2017'!W228 -> 2.1679483 | BE14: ='Survivalexp RAW Oct_Nov 2017'!AD228 -> 0.4472136 | BF14: ='Survivalexp RAW Oct_Nov 2017'!AK228 -> 0.4472136 | BG14: ='Survivalexp RAW Oct_Nov 2017'!AR228 -> 0 | BH14: ='Survivalexp RAW Oct_Nov 2017'!AY228 -> 0 | BI14: ='Survivalexp RAW Oct_Nov 2017'!BF228 -> 0 | BL14: ='Survivalexp RAW Oct_Nov 2017'!I270 -> 6.3796552 | BM14: ='Survivalexp RAW Oct_Nov 2017'!P270 -> 1.6431677 | BN14: ='Survivalexp RAW Oct_Nov 2017'!W270 -> 0.89442719 | BO14: ='Survivalexp RAW Oct_Nov 2017'!AD270 -> 0 | BP14: ='Survivalexp RAW Oct_Nov 2017'!AK270 -> 0.4472136 | BQ14: ='Survivalexp RAW Oct_Nov 2017'!AR270 -> 0 | BR14: ='Survivalexp RAW Oct_Nov 2017'!AY270 -> 0 | BS14: ='Survivalexp RAW Oct_Nov 2017'!BF270 -> 0 | BV14: ='Survivalexp RAW Oct_Nov 2017'!I312 -> 0 | BW14: ='Survivalexp RAW Oct_Nov 2017'!P312 -> 0 | BX14: ='Survivalexp RAW Oct_Nov 2017'!W312 -> 0 | BY14: ='Survivalexp RAW Oct_Nov 2017'!AD312 -> 0 | BZ14: ='Survivalexp RAW Oct_Nov 2017'!AK312 -> 0 | CA14: ='Survivalexp RAW Oct_Nov 2017'!AR312 -> 0 | CB14: ='Survivalexp RAW Oct_Nov 2017'!AY312 -> 0 | CC14: ='Survivalexp RAW Oct_Nov 2017'!BF312 -> 0
B15: est. nr of bacteria | D15: =D13/$D$8 -> #DIV/0! | E15: =E13/$E$8 -> #DIV/0! | F15: =F13/$F$8 -> #DIV/0! | G15: =G13/$G$8 -> #DIV/0! | H15: =H13/$H$8 -> #DIV/0! | I15: =I13/$I$8 -> 2966666.7 | J15: =J13/$J$8 -> 4000000 | K15: =K13/$K$8 -> 4000000 | L15: =I15 -> 2966666.7 | M15: =I16 -> 1315041 | N15: =N13/$D$8 -> #DIV/0! | O15: =O13/$E$8 -> #DIV/0! | P15: =P13/$F$8 -> #DIV/0! | Q15: =Q13/$G$8 -> #DIV/0! | R15: =R13/$H$8 -> #DIV/0! | S15: =S13/$I$8 -> 3280000 | T15: =T13/$J$8 -> 9733333.3 | U15: =U13/$K$8 -> 83333333 | V15: =S15 -> 3280000 | W15: =S16 -> 1030306.7 | X15: =X13/$D$8 -> #DIV/0! | Y15: =Y13/$E$8 -> #DIV/0! | Z15: =Z13/$F$8 -> #DIV/0! | AA15: =AA13/$G$8 -> #DIV/0! | AB15: =AB13/$H$8 -> 854000 | AC15: =AC13/$I$8 -> 1666666.7 | AD15: =AD13/$J$8 -> 2600000 | AE15: =AE13/$K$8 -> 1333333.3 | AF15: =AB15 -> 854000 | AG15: =AB16 -> 242054.3 | AH15: =AH13/$D$8 -> #DIV/0! | AI15: =AI13/$E$8 -> #DIV/0! | AJ15: =AJ13/$F$8 -> 3393.3333 | AK15: =AK13/$G$8 -> 8600 | AL15: =AL13/$H$8 -> 7333.3333 | AM15: =AM13/$I$8 -> 0 | AN15: =AN13/$J$8 -> 0 | AO15: =AO13/$K$8 -> 0 | AP15: =AK15 -> 8600 | AQ15: =AK16 -> 3114.4823 | AR15: =AR13/$D$8 -> #DIV/0! | AS15: =AS13/$E$8 -> 342.66667 | AT15: =AT13/$F$8 -> 1366.6667 | AU15: =AU13/$G$8 -> 2666.6667 | AV15: =AV13/$H$8 -> 4000 | AW15: =AW13/$I$8 -> 0 | AX15: =AX13/$J$8 -> 0 | AY15: =AY13/$K$8 -> 0 | AZ15: =AU15 -> 2666.6667 | BA15: =AU16 -> 1581.1388 | BB15: =BB13/$D$8 -> 27.933333 | BC15: =BC13/$E$8 -> 77.333333 | BD15: =BD13/$F$8 -> 93.333333 | BE15: =BE13/$G$8 -> 66.666667 | BF15: =BF13/$H$8 -> 666.66667 | BG15: =BG13/$I$8 -> 0 | BH15: =BH13/$J$8 -> 0 | BI15: =BI13/$K$8 -> 0 | BJ15: =BE15 -> 66.666667 | BK15: =BE16 -> 447.2136 | BL15: =BL13/$D$8 -> 13.066667 | BM15: =BM13/$E$8 -> 36 | BN15: =BN13/$F$8 -> 53.333333 | BO15: =BO13/$G$8 -> 0 | BP15: =BP13/$H$8 -> 666.66667 | BQ15: =BQ13/$I$8 -> 0 | BR15: =BR13/$J$8 -> 0 | BS15: =BS13/$K$8 -> 0 | BT15: =BN15 -> 53.333333 | BU15: =BN16 -> 89.442719 | BV15: =BV13/$D$8 -> 0 | BW15: =BW13/$E$8 -> 0 | BX15: =BX13/$F$8 -> 0 | BY15: =BY13/$G$8 -> 0 | BZ15: =BZ13/$H$8 -> 0 | CA15: =CA13/$I$8 -> 0 | CB15: =CB13/$J$8 -> 0 | CC15: =CC13/$K$8 -> 0 | CD15: =BX15 -> 0 | CE15: =BX16 -> 0
C16: stdev | D16: =D14/$D$8 -> #DIV/0! | E16: =E14/$E$8 -> #DIV/0! | F16: =F14/$F$8 -> #DIV/0! | G16: =G14/$G$8 -> #DIV/0! | H16: =H14/$H$8 -> #DIV/0! | I16: =I14/$I$8 -> 1315041 | J16: =J14/$J$8 -> 6128344.3 | K16: =K14/$K$8 -> 17310872 | N16: =N14/$D$8 -> #DIV/0! | O16: =O14/$E$8 -> #DIV/0! | P16: =P14/$F$8 -> #DIV/0! | Q16: =Q14/$G$8 -> #DIV/0! | R16: =R14/$H$8 -> #DIV/0! | S16: =S14/$I$8 -> 1030306.7 | T16: =T14/$J$8 -> 10165115 | U16: =U14/$K$8 -> 91625529 | X16: =X14/$D$8 -> #DIV/0! | Y16: =Y14/$E$8 -> #DIV/0! | Z16: =Z14/$F$8 -> #DIV/0! | AA16: =AA14/$G$8 -> #DIV/0! | AB16: =AB14/$H$8 -> 242054.3 | AC16: =AC14/$I$8 -> 881520.12 | AD16: =AD14/$J$8 -> 3466197.1 | AE16: =AE14/$K$8 -> 5477225.6 | AH16: =AH14/$D$8 -> #DIV/0! | AI16: =AI14/$E$8 -> #DIV/0! | AJ16: =AJ14/$F$8 -> 1069.5279 | AK16: =AK14/$G$8 -> 3114.4823 | AL16: =AL14/$H$8 -> 22803.509 | AM16: =AM14/$I$8 -> 0 | AN16: =AN14/$J$8 -> 0 | AO16: =AO14/$K$8 -> 0 | AR16: =AR14/$D$8 -> #DIV/0! | AS16: =AS14/$E$8 -> 152.54508 | AT16: =AT14/$F$8 -> 200 | AU16: =AU14/$G$8 -> 1581.1388 | AV16: =AV14/$H$8 -> 17888.544 | AW16: =AW14/$I$8 -> 0 | AX16: =AX14/$J$8 -> 0 | AY16: =AY14/$K$8 -> 0 | BB16: =BB14/$D$8 -> 6.5345237 | BC16: =BC14/$E$8 -> 20.493902 | BD16: =BD14/$F$8 -> 216.79483 | BE16: =BE14/$G$8 -> 447.2136 | BF16: =BF14/$H$8 -> 4472.136 | BG16: =BG14/$I$8 -> 0 | BH16: =BH14/$J$8 -> 0 | BI16: =BI14/$K$8 -> 0 | BL16: =BL14/$D$8 -> 6.3796552 | BM16: =BM14/$E$8 -> 16.431677 | BN16: =BN14/$F$8 -> 89.442719 | BO16: =BO14/$G$8 -> 0 | BP16: =BP14/$H$8 -> 4472.136 | BQ16: =BQ14/$I$8 -> 0 | BR16: =BR14/$J$8 -> 0 | BS16: =BS14/$K$8 -> 0 | BV16: =BV14/$D$8 -> 0 | BW16: =BW14/$E$8 -> 0 | BX16: =BX14/$F$8 -> 0 | BY16: =BY14/$G$8 -> 0 | BZ16: =BZ14/$H$8 -> 0 | CA16: =CA14/$I$8 -> 0 | CB16: =CB14/$J$8 -> 0 | CC16: =CC14/$K$8 -> 0
B17: 2213F - | C17: p+0 | D17: ='Survivalexp RAW Oct_Nov 2017'!I21 -> #DIV/0! | E17: ='Survivalexp RAW Oct_Nov 2017'!P21 -> #DIV/0! | F17: ='Survivalexp RAW Oct_Nov 2017'!W21 -> #DIV/0! | G17: ='Survivalexp RAW Oct_Nov 2017'!AD21 -> #DIV/0! | H17: ='Survivalexp RAW Oct_Nov 2017'!AK21 -> 35.3 | I17: ='Survivalexp RAW Oct_Nov 2017'!AR21 -> 4 | J17: ='Survivalexp RAW Oct_Nov 2017'!AY21 -> 0.7 | K17: ='Survivalexp RAW Oct_Nov 2017'!BF21 -> 0 | N17: ='Survivalexp RAW Oct_Nov 2017'!I63 -> #DIV/0! | O17: ='Survivalexp RAW Oct_Nov 2017'!P63 -> #DIV/0! | P17: ='Survivalexp RAW Oct_Nov 2017'!W63 -> #DIV/0! | Q17: ='Survivalexp RAW Oct_Nov 2017'!AD63 -> 140.2 | R17: ='Survivalexp RAW Oct_Nov 2017'!AK63 -> 27.5 | S17: ='Survivalexp RAW Oct_Nov 2017'!AR63 -> 5.1 | T17: ='Survivalexp RAW Oct_Nov 2017'!AY63 -> 5.6 | U17: ='Survivalexp RAW Oct_Nov 2017'!BF63 -> 5.4 | X17: ='Survivalexp RAW Oct_Nov 2017'!I105 -> #DIV/0! | Y17: ='Survivalexp RAW Oct_Nov 2017'!P105 -> #DIV/0! | Z17: ='Survivalexp RAW Oct_Nov 2017'!W105 -> #DIV/0! | AA17: ='Survivalexp RAW Oct_Nov 2017'!AD105 -> 65.6 | AB17: ='Survivalexp RAW Oct_Nov 2017'!AK105 -> 6.1 | AC17: ='Survivalexp RAW Oct_Nov 2017'!AR105 -> 2 | AD17: ='Survivalexp RAW Oct_Nov 2017'!AY105 -> 0 | AE17: ='Survivalexp RAW Oct_Nov 2017'!BF105 -> 0 | AH17: ='Survivalexp RAW Oct_Nov 2017'!I148 -> #DIV/0! | AI17: ='Survivalexp RAW Oct_Nov 2017'!P148 -> #DIV/0! | AJ17: ='Survivalexp RAW Oct_Nov 2017'!W148 -> #DIV/0! | AK17: ='Survivalexp RAW Oct_Nov 2017'!AD148 -> 18.3 | AL17: ='Survivalexp RAW Oct_Nov 2017'!AK148 -> 1.9 | AM17: ='Survivalexp RAW Oct_Nov 2017'!AR148 -> 0 | AN17: ='Survivalexp RAW Oct_Nov 2017'!AY148 -> 0 | AO17: ='Survivalexp RAW Oct_Nov 2017'!BF148 -> 0 | AR17: ='Survivalexp RAW Oct_Nov 2017'!I190 -> #DIV/0! | AS17: ='Survivalexp RAW Oct_Nov 2017'!P190 -> #DIV/0! | AT17: ='Survivalexp RAW Oct_Nov 2017'!W190 -> 84.8 | AU17: ='Survivalexp RAW Oct_Nov 2017'!AD190 -> 9.2 | AV17: ='Survivalexp RAW Oct_Nov 2017'!AK190 -> 0.6 | AW17: ='Survivalexp RAW Oct_Nov 2017'!AR190 -> 0.1 | AX17: ='Survivalexp RAW Oct_Nov 2017'!AY190 -> 0.1 | AY17: ='Survivalexp RAW Oct_Nov 2017'!BF190 -> 0 | BB17: ='Survivalexp RAW Oct_Nov 2017'!I232 -> #DIV/0! | BC17: ='Survivalexp RAW Oct_Nov 2017'!P232 -> #DIV/0! | BD17: ='Survivalexp RAW Oct_Nov 2017'!W232 -> 49.4 | BE17: ='Survivalexp RAW Oct_Nov 2017'!AD232 -> 2.6 | BF17: ='Survivalexp RAW Oct_Nov 2017'!AK232 -> 0.4 | BG17: ='Survivalexp RAW Oct_Nov 2017'!AR232 -> 0 | BH17: ='Survivalexp RAW Oct_Nov 2017'!AY232 -> 0 | BI17: ='Survivalexp RAW Oct_Nov 2017'!BF232 -> 0 | BL17: ='Survivalexp RAW Oct_Nov 2017'!I274 -> #DIV/0! | BM17: ='Survivalexp RAW Oct_Nov 2017'!P274 -> #DIV/0! | BN17: ='Survivalexp RAW Oct_Nov 2017'!W274 -> 28.6 | BO17: ='Survivalexp RAW Oct_Nov 2017'!AD274 -> 1.8 | BP17: ='Survivalexp RAW Oct_Nov 2017'!AK274 -> 0.2 | BQ17: ='Survivalexp RAW Oct_Nov 2017'!AR274 -> 0 | BR17: ='Survivalexp RAW Oct_Nov 2017'!AY274 -> 0 | BS17: ='Survivalexp RAW Oct_Nov 2017'!BF274 -> 0 | BV17: ='Survivalexp RAW Oct_Nov 2017'!I316 -> 122.4 | BW17: ='Survivalexp RAW Oct_Nov 2017'!P316 -> 16.7 | BX17: ='Survivalexp RAW Oct_Nov 2017'!W316 -> 2 | BY17: ='Survivalexp RAW Oct_Nov 2017'!AD316 -> 0.1 | BZ17: ='Survivalexp RAW Oct_Nov 2017'!AK316 -> 0 | CA17: ='Survivalexp RAW Oct_Nov 2017'!AR316 -> 0 | CB17: ='Survivalexp RAW Oct_Nov 2017'!AY316 -> 0 | CC17: ='Survivalexp RAW Oct_Nov 2017'!BF316 -> 0
C18: stdev | D18: ='Survivalexp RAW Oct_Nov 2017'!I22 -> #DIV/0! | E18: ='Survivalexp RAW Oct_Nov 2017'!P22 -> #DIV/0! | F18: ='Survivalexp RAW Oct_Nov 2017'!W22 -> #DIV/0! | G18: ='Survivalexp RAW Oct_Nov 2017'!AD22 -> #DIV/0! | H18: ='Survivalexp RAW Oct_Nov 2017'!AK22 -> 15.292324 | I18: ='Survivalexp RAW Oct_Nov 2017'!AR22 -> 4.0914867 | J18: ='Survivalexp RAW Oct_Nov 2017'!AY22 -> 1.7724674 | K18: ='Survivalexp RAW Oct_Nov 2017'!BF22 -> 0 | N18: ='Survivalexp RAW Oct_Nov 2017'!I64 -> #DIV/0! | O18: ='Survivalexp RAW Oct_Nov 2017'!P64 -> #DIV/0! | P18: ='Survivalexp RAW Oct_Nov 2017'!W64 -> #DIV/0! | Q18: ='Survivalexp RAW Oct_Nov 2017'!AD64 -> 14.942038 | R18: ='Survivalexp RAW Oct_Nov 2017'!AK64 -> 7.545258 | S18: ='Survivalexp RAW Oct_Nov 2017'!AR64 -> 3.6741299 | T18: ='Survivalexp RAW Oct_Nov 2017'!AY64 -> 3.5902192 | U18: ='Survivalexp RAW Oct_Nov 2017'!BF64 -> 3.7074653 | X18: ='Survivalexp RAW Oct_Nov 2017'!I106 -> #DIV/0! | Y18: ='Survivalexp RAW Oct_Nov 2017'!P106 -> #DIV/0! | Z18: ='Survivalexp RAW Oct_Nov 2017'!W106 -> #DIV/0! | AA18: ='Survivalexp RAW Oct_Nov 2017'!AD106 -> 14.647292 | AB18: ='Survivalexp RAW Oct_Nov 2017'!AK106 -> 5.9729367 | AC18: ='Survivalexp RAW Oct_Nov 2017'!AR106 -> 5.6281901 | AD18: ='Survivalexp RAW Oct_Nov 2017'!AY106 -> 0 | AE18: ='Survivalexp RAW Oct_Nov 2017'!BF106 -> 0 | AH18: ='Survivalexp RAW Oct_Nov 2017'!I149 -> #DIV/0! | AI18: ='Survivalexp RAW Oct_Nov 2017'!P149 -> #DIV/0! | AJ18: ='Survivalexp RAW Oct_Nov 2017'!W149 -> #DIV/0! | AK18: ='Survivalexp RAW Oct_Nov 2017'!AD149 -> 8.6876383 | AL18: ='Survivalexp RAW Oct_Nov 2017'!AK149 -> 2.1982677 | AM18: ='Survivalexp RAW Oct_Nov 2017'!AR149 -> 0 | AN18: ='Survivalexp RAW Oct_Nov 2017'!AY149 -> 0 | AO18: ='Survivalexp RAW Oct_Nov 2017'!BF149 -> 0 | AR18: ='Survivalexp RAW Oct_Nov 2017'!I191 -> #DIV/0! | AS18: ='Survivalexp RAW Oct_Nov 2017'!P191 -> #DIV/0! | AT18: ='Survivalexp RAW Oct_Nov 2017'!W191 -> 16.661328 | AU18: ='Survivalexp RAW Oct_Nov 2017'!AD191 -> 4.6342859 | AV18: ='Survivalexp RAW Oct_Nov 2017'!AK191 -> 1.6431677 | AW18: ='Survivalexp RAW Oct_Nov 2017'!AR191 -> 0.4472136 | AX18: ='Survivalexp RAW Oct_Nov 2017'!AY191 -> 0.4472136 | AY18: ='Survivalexp RAW Oct_Nov 2017'!BF191 -> 0 | BB18: ='Survivalexp RAW Oct_Nov 2017'!I233 -> #DIV/0! | BC18: ='Survivalexp RAW Oct_Nov 2017'!P233 -> #DIV/0! | BD18: ='Survivalexp RAW Oct_Nov 2017'!W233 -> 14.327282 | BE18: ='Survivalexp RAW Oct_Nov 2017'!AD233 -> 3.1565598 | BF18: ='Survivalexp RAW Oct_Nov 2017'!AK233 -> 1.3416408 | BG18: ='Survivalexp RAW Oct_Nov 2017'!AR233 -> 0 | BH18: ='Survivalexp RAW Oct_Nov 2017'!AY233 -> 0 | BI18: ='Survivalexp RAW Oct_Nov 2017'!BF233 -> 0 | BL18: ='Survivalexp RAW Oct_Nov 2017'!I275 -> #DIV/0! | BM18: ='Survivalexp RAW Oct_Nov 2017'!P275 -> #DIV/0! | BN18: ='Survivalexp RAW Oct_Nov 2017'!W275 -> 9.2115706 | BO18: ='Survivalexp RAW Oct_Nov 2017'!AD275 -> 1.851563 | BP18: ='Survivalexp RAW Oct_Nov 2017'!AK275 -> 0.89442719 | BQ18: ='Survivalexp RAW Oct_Nov 2017'!AR275 -> 0 | BR18: ='Survivalexp RAW Oct_Nov 2017'!AY275 -> 0 | BS18: ='Survivalexp RAW Oct_Nov 2017'!BF275 -> 0 | BV18: ='Survivalexp RAW Oct_Nov 2017'!I317 -> 21.857143 | BW18: ='Survivalexp RAW Oct_Nov 2017'!P317 -> 6.6643902 | BX18: ='Survivalexp RAW Oct_Nov 2017'!W317 -> 2.0642976 | BY18: ='Survivalexp RAW Oct_Nov 2017'!AD317 -> 0.4472136 | BZ18: ='Survivalexp RAW Oct_Nov 2017'!AK317 -> 0 | CA18: ='Survivalexp RAW Oct_Nov 2017'!AR317 -> 0 | CB18: ='Survivalexp RAW Oct_Nov 2017'!AY317 -> 0 | CC18: ='Survivalexp RAW Oct_Nov 2017'!BF317 -> 0
B19: est. nr of bacteria | D19: =D17/$D$8 -> #DIV/0! | E19: =E17/$E$8 -> #DIV/0! | F19: =F17/$F$8 -> #DIV/0! | G19: =G17/$G$8 -> #DIV/0! | H19: =H17/$H$8 -> 353000 | I19: =I17/$I$8 -> 400000 | J19: =J17/$J$8 -> 700000 | K19: =K17/$K$8 -> 0 | L19: =H19 -> 353000 | M19: =H20 -> 152923.24 | N19: =N17/$D$8 -> #DIV/0! | O19: =O17/$E$8 -> #DIV/0! | P19: =P17/$F$8 -> #DIV/0! | Q19: =Q17/$G$8 -> 140200 | R19: =R17/$H$8 -> 275000 | S19: =S17/$I$8 -> 510000 | T19: =T17/$J$8 -> 5600000 | U19: =U17/$K$8 -> 54000000 | V19: =AVERAGE(Q19) -> 140200 | W19: =Q20 -> 14942.038 | X19: =X17/$D$8 -> #DIV/0! | Y19: =Y17/$E$8 -> #DIV/0! | Z19: =Z17/$F$8 -> #DIV/0! | AA19: =AA17/$G$8 -> 65600 | AB19: =AB17/$H$8 -> 61000 | AC19: =AC17/$I$8 -> 200000 | AD19: =AD17/$J$8 -> 0 | AE19: =AE17/$K$8 -> 0 | AF19: =AA19 -> 65600 | AG19: =AA20 -> 14647.292 | AH19: =AH17/$D$8 -> #DIV/0! | AI19: =AI17/$E$8 -> #DIV/0! | AJ19: =AJ17/$F$8 -> #DIV/0! | AK19: =AK17/$G$8 -> 18300 | AL19: =AL17/$H$8 -> 19000 | AM19: =AM17/$I$8 -> 0 | AN19: =AN17/$J$8 -> 0 | AO19: =AO17/$K$8 -> 0 | AP19: =AK19 -> 18300 | AQ19: =AK20 -> 8687.6383 | AR19: =AR17/$D$8 -> #DIV/0! | AS19: =AS17/$E$8 -> #DIV/0! | AT19: =AT17/$F$8 -> 8480 | AU19: =AU17/$G$8 -> 9200 | AV19: =AV17/$H$8 -> 6000 | AW19: =AW17/$I$8 -> 10000 | AX19: =AX17/$J$8 -> 100000 | AY19: =AY17/$K$8 -> 0 | AZ19: =AU19 -> 9200 | BA19: =AU20 -> 4634.2859 | BB19: =BB17/$D$8 -> #DIV/0! | BC19: =BC17/$E$8 -> #DIV/0! | BD19: =BD17/$F$8 -> 4940 | BE19: =BE17/$G$8 -> 2600 | BF19: =BF17/$H$8 -> 4000 | BG19: =BG17/$I$8 -> 0 | BH19: =BH17/$J$8 -> 0 | BI19: =BI17/$K$8 -> 0 | BJ19: =BE19 -> 2600 | BK19: =BE20 -> 3156.5598 | BL19: =BL17/$D$8 -> #DIV/0! | BM19: =BM17/$E$8 -> #DIV/0! | BN19: =BN17/$F$8 -> 2860 | BO19: =BO17/$G$8 -> 1800 | BP19: =BP17/$H$8 -> 2000 | BQ19: =BQ17/$I$8 -> 0 | BR19: =BR17/$J$8 -> 0 | BS19: =BS17/$K$8 -> 0 | BT19: =BO19 -> 1800 | BU19: =BO20 -> 1851.563 | BV19: =BV17/$D$8 -> 122.4 | BW19: =BW17/$E$8 -> 167 | BX19: =BX17/$F$8 -> 200 | BY19: =BY17/$G$8 -> 100 | BZ19: =BZ17/$H$8 -> 0 | CA19: =CA17/$I$8 -> 0 | CB19: =CB17/$J$8 -> 0 | CC19: =CC17/$K$8 -> 0 | CD19: =BW19 -> 167 | CE19: =BW20 -> 66.643902
C20: stdev | D20: =D18/$D$8 -> #DIV/0! | E20: =E18/$E$8 -> #DIV/0! | F20: =F18/$F$8 -> #DIV/0! | G20: =G18/$G$8 -> #DIV/0! | H20: =H18/$H$8 -> 152923.24 | I20: =I18/$I$8 -> 409148.67 | J20: =J18/$J$8 -> 1772467.4 | K20: =K18/$K$8 -> 0 | N20: =N18/$D$8 -> #DIV/0! | O20: =O18/$E$8 -> #DIV/0! | P20: =P18/$F$8 -> #DIV/0! | Q20: =Q18/$G$8 -> 14942.038 | R20: =R18/$H$8 -> 75452.58 | S20: =S18/$I$8 -> 367412.99 | T20: =T18/$J$8 -> 3590219.2 | U20: =U18/$K$8 -> 37074653 | X20: =X18/$D$8 -> #DIV/0! | Y20: =Y18/$E$8 -> #DIV/0! | Z20: =Z18/$F$8 -> #DIV/0! | AA20: =AA18/$G$8 -> 14647.292 | AB20: =AB18/$H$8 -> 59729.367 | AC20: =AC18/$I$8 -> 562819.01 | AD20: =AD18/$J$8 -> 0 | AE20: =AE18/$K$8 -> 0 | AH20: =AH18/$D$8 -> #DIV/0! | AI20: =AI18/$E$8 -> #DIV/0! | AJ20: =AJ18/$F$8 -> #DIV/0! | AK20: =AK18/$G$8 -> 8687.6383 | AL20: =AL18/$H$8 -> 21982.677 | AM20: =AM18/$I$8 -> 0 | AN20: =AN18/$J$8 -> 0 | AO20: =AO18/$K$8 -> 0 | AR20: =AR18/$D$8 -> #DIV/0! | AS20: =AS18/$E$8 -> #DIV/0! | AT20: =AT18/$F$8 -> 1666.1328 | AU20: =AU18/$G$8 -> 4634.2859 | AV20: =AV18/$H$8 -> 16431.677 | AW20: =AW18/$I$8 -> 44721.36 | AX20: =AX18/$J$8 -> 447213.6 | AY20: =AY18/$K$8 -> 0 | BB20: =BB18/$D$8 -> #DIV/0! | BC20: =BC18/$E$8 -> #DIV/0! | BD20: =BD18/$F$8 -> 1432.7282 | BE20: =BE18/$G$8 -> 3156.5598 | BF20: =BF18/$H$8 -> 13416.408 | BG20: =BG18/$I$8 -> 0 | BH20: =BH18/$J$8 -> 0 | BI20: =BI18/$K$8 -> 0 | BL20: =BL18/$D$8 -> #DIV/0! | BM20: =BM18/$E$8 -> #DIV/0! | BN20: =BN18/$F$8 -> 921.15706 | BO20: =BO18/$G$8 -> 1851.563 | BP20: =BP18/$H$8 -> 8944.2719 | BQ20: =BQ18/$I$8 -> 0 | BR20: =BR18/$J$8 -> 0 | BS20: =BS18/$K$8 -> 0 | BV20: =BV18/$D$8 -> 21.857143 | BW20: =BW18/$E$8 -> 66.643902 | BX20: =BX18/$F$8 -> 206.42976 | BY20: =BY18/$G$8 -> 447.2136 | BZ20: =BZ18/$H$8 -> 0 | CA20: =CA18/$I$8 -> 0 | CB20: =CB18/$J$8 -> 0 | CC20: =CC18/$K$8 -> 0
C21: p+3 | D21: ='Survivalexp RAW Oct_Nov 2017'!I26 -> #DIV/0! | E21: ='Survivalexp RAW Oct_Nov 2017'!P26 -> #DIV/0! | F21: ='Survivalexp RAW Oct_Nov 2017'!W26 -> #DIV/0! | G21: ='Survivalexp RAW Oct_Nov 2017'!AD26 -> #DIV/0! | H21: ='Survivalexp RAW Oct_Nov 2017'!AK26 -> 55.733333 | I21: ='Survivalexp RAW Oct_Nov 2017'!AR26 -> 8.4333333 | J21: ='Survivalexp RAW Oct_Nov 2017'!AY26 -> 0.6 | K21: ='Survivalexp RAW Oct_Nov 2017'!BF26 -> 0.2 | N21: ='Survivalexp RAW Oct_Nov 2017'!I68 -> #DIV/0! | O21: ='Survivalexp RAW Oct_Nov 2017'!P68 -> #DIV/0! | P21: ='Survivalexp RAW Oct_Nov 2017'!W68 -> #DIV/0! | Q21: ='Survivalexp RAW Oct_Nov 2017'!AD68 -> 139.2 | R21: ='Survivalexp RAW Oct_Nov 2017'!AK68 -> 27 | S21: ='Survivalexp RAW Oct_Nov 2017'!AR68 -> 8.2666667 | T21: ='Survivalexp RAW Oct_Nov 2017'!AY68 -> 11.4 | U21: ='Survivalexp RAW Oct_Nov 2017'!BF68 -> 6 | X21: ='Survivalexp RAW Oct_Nov 2017'!I110 -> #DIV/0! | Y21: ='Survivalexp RAW Oct_Nov 2017'!P110 -> #DIV/0! | Z21: ='Survivalexp RAW Oct_Nov 2017'!W110 -> #DIV/0! | AA21: ='Survivalexp RAW Oct_Nov 2017'!AD110 -> 104.48333 | AB21: ='Survivalexp RAW Oct_Nov 2017'!AK110 -> 17.888889 | AC21: ='Survivalexp RAW Oct_Nov 2017'!AR110 -> 1 | AD21: ='Survivalexp RAW Oct_Nov 2017'!AY110 -> 0.066666667 | AE21: ='Survivalexp RAW Oct_Nov 2017'!BF110 -> 0 | AH21: ='Survivalexp RAW Oct_Nov 2017'!I153 -> #DIV/0! | AI21: ='Survivalexp RAW Oct_Nov 2017'!P153 -> #DIV/0! | AJ21: ='Survivalexp RAW Oct_Nov 2017'!W153 -> #DIV/0! | AK21: ='Survivalexp RAW Oct_Nov 2017'!AD153 -> 106.13333 | AL21: ='Survivalexp RAW Oct_Nov 2017'!AK153 -> 17.533333 | AM21: ='Survivalexp RAW Oct_Nov 2017'!AR153 -> 2.2 | AN21: ='Survivalexp RAW Oct_Nov 2017'!AY153 -> 0.26666667 | AO21: ='Survivalexp RAW Oct_Nov 2017'!BF153 -> 0 | AR21: ='Survivalexp RAW Oct_Nov 2017'!I195 -> #DIV/0! | AS21: ='Survivalexp RAW Oct_Nov 2017'!P195 -> #DIV/0! | AT21: ='Survivalexp RAW Oct_Nov 2017'!W195 -> #DIV/0! | AU21: ='Survivalexp RAW Oct_Nov 2017'!AD195 -> 73.4 | AV21: ='Survivalexp RAW Oct_Nov 2017'!AK195 -> 10.7 | AW21: ='Survivalexp RAW Oct_Nov 2017'!AR195 -> 1.7 | AX21: ='Survivalexp RAW Oct_Nov 2017'!AY195 -> 0.2 | AY21: ='Survivalexp RAW Oct_Nov 2017'!BF195 -> 0 | BB21: ='Survivalexp RAW Oct_Nov 2017'!I237 -> #DIV/0! | BC21: ='Survivalexp RAW Oct_Nov 2017'!P237 -> #DIV/0! | BD21: ='Survivalexp RAW Oct_Nov 2017'!W237 -> #DIV/0! | BE21: ='Survivalexp RAW Oct_Nov 2017'!AD237 -> 53.6 | BF21: ='Survivalexp RAW Oct_Nov 2017'!AK237 -> 6.6666667 | BG21: ='Survivalexp RAW Oct_Nov 2017'!AR237 -> 0.46666667 | BH21: ='Survivalexp RAW Oct_Nov 2017'!AY237 -> 0.066666667 | BI21: ='Survivalexp RAW Oct_Nov 2017'!BF237 -> 0 | BL21: ='Survivalexp RAW Oct_Nov 2017'!I279 -> #DIV/0! | BM21: ='Survivalexp RAW Oct_Nov 2017'!P279 -> #DIV/0! | BN21: ='Survivalexp RAW Oct_Nov 2017'!W279 -> #DIV/0! | BO21: ='Survivalexp RAW Oct_Nov 2017'!AD279 -> 45.266667 | BP21: ='Survivalexp RAW Oct_Nov 2017'!AK279 -> 4.7333333 | BQ21: ='Survivalexp RAW Oct_Nov 2017'!AR279 -> 0.6 | BR21: ='Survivalexp RAW Oct_Nov 2017'!AY279 -> 0 | BS21: ='Survivalexp RAW Oct_Nov 2017'!BF279 -> 0 | BV21: ='Survivalexp RAW Oct_Nov 2017'!I321 -> #DIV/0! | BW21: ='Survivalexp RAW Oct_Nov 2017'!P321 -> #DIV/0! | BX21: ='Survivalexp RAW Oct_Nov 2017'!W321 -> 16.4 | BY21: ='Survivalexp RAW Oct_Nov 2017'!AD321 -> 2.4 | BZ21: ='Survivalexp RAW Oct_Nov 2017'!AK321 -> 0 | CA21: ='Survivalexp RAW Oct_Nov 2017'!AR321 -> 0 | CB21: ='Survivalexp RAW Oct_Nov 2017'!AY321 -> 0 | CC21: ='Survivalexp RAW Oct_Nov 2017'!BF321 -> 0
C22: stdev | D22: ='Survivalexp RAW Oct_Nov 2017'!I27 -> #DIV/0! | E22: ='Survivalexp RAW Oct_Nov 2017'!P27 -> #DIV/0! | F22: ='Survivalexp RAW Oct_Nov 2017'!W27 -> #DIV/0! | G22: ='Survivalexp RAW Oct_Nov 2017'!AD27 -> #DIV/0! | H22: ='Survivalexp RAW Oct_Nov 2017'!AK27 -> 21.461083 | I22: ='Survivalexp RAW Oct_Nov 2017'!AR27 -> 9.3911493 | J22: ='Survivalexp RAW Oct_Nov 2017'!AY27 -> 2.7558543 | K22: ='Survivalexp RAW Oct_Nov 2017'!BF27 -> 0.99493615 | N22: ='Survivalexp RAW Oct_Nov 2017'!I69 -> #DIV/0! | O22: ='Survivalexp RAW Oct_Nov 2017'!P69 -> #DIV/0! | P22: ='Survivalexp RAW Oct_Nov 2017'!W69 -> #DIV/0! | Q22: ='Survivalexp RAW Oct_Nov 2017'!AD69 -> 22.438704 | R22: ='Survivalexp RAW Oct_Nov 2017'!AK69 -> 12.976648 | S22: ='Survivalexp RAW Oct_Nov 2017'!AR69 -> 7.9292158 | T22: ='Survivalexp RAW Oct_Nov 2017'!AY69 -> 7.7014818 | U22: ='Survivalexp RAW Oct_Nov 2017'!BF69 -> 5.6355223 | X22: ='Survivalexp RAW Oct_Nov 2017'!I111 -> #DIV/0! | Y22: ='Survivalexp RAW Oct_Nov 2017'!P111 -> #DIV/0! | Z22: ='Survivalexp RAW Oct_Nov 2017'!W111 -> #DIV/0! | AA22: ='Survivalexp RAW Oct_Nov 2017'!AD111 -> 33.697049 | AB22: ='Survivalexp RAW Oct_Nov 2017'!AK111 -> 14.220149 | AC22: ='Survivalexp RAW Oct_Nov 2017'!AR111 -> 3.8134992 | AD22: ='Survivalexp RAW Oct_Nov 2017'!AY111 -> 0.4472136 | AE22: ='Survivalexp RAW Oct_Nov 2017'!BF111 -> 0 | AH22: ='Survivalexp RAW Oct_Nov 2017'!I154 -> #DIV/0! | AI22: ='Survivalexp RAW Oct_Nov 2017'!P154 -> #DIV/0! | AJ22: ='Survivalexp RAW Oct_Nov 2017'!W154 -> #DIV/0! | AK22: ='Survivalexp RAW Oct_Nov 2017'!AD154 -> 32.594047 | AL22: ='Survivalexp RAW Oct_Nov 2017'!AK154 -> 8.4149036 | AM22: ='Survivalexp RAW Oct_Nov 2017'!AR154 -> 2.8121339 | AN22: ='Survivalexp RAW Oct_Nov 2017'!AY154 -> 1.0954451 | AO22: ='Survivalexp RAW Oct_Nov 2017'!BF154 -> 0 | AR22: ='Survivalexp RAW Oct_Nov 2017'!I196 -> #DIV/0! | AS22: ='Survivalexp RAW Oct_Nov 2017'!P196 -> #DIV/0! | AT22: ='Survivalexp RAW Oct_Nov 2017'!W196 -> #DIV/0! | AU22: ='Survivalexp RAW Oct_Nov 2017'!AD196 -> 13.633904 | AV22: ='Survivalexp RAW Oct_Nov 2017'!AK196 -> 3.8324258 | AW22: ='Survivalexp RAW Oct_Nov 2017'!AR196 -> 2.607681 | AX22: ='Survivalexp RAW Oct_Nov 2017'!AY196 -> 0.89442719 | AY22: ='Survivalexp RAW Oct_Nov 2017'!BF196 -> 0 | BB22: ='Survivalexp RAW Oct_Nov 2017'!I238 -> #DIV/0! | BC22: ='Survivalexp RAW Oct_Nov 2017'!P238 -> #DIV/0! | BD22: ='Survivalexp RAW Oct_Nov 2017'!W238 -> #DIV/0! | BE22: ='Survivalexp RAW Oct_Nov 2017'!AD238 -> 12.734489 | BF22: ='Survivalexp RAW Oct_Nov 2017'!AK238 -> 7.2496117 | BG22: ='Survivalexp RAW Oct_Nov 2017'!AR238 -> 1.8893633 | BH22: ='Survivalexp RAW Oct_Nov 2017'!AY238 -> 0.4472136 | BI22: ='Survivalexp RAW Oct_Nov 2017'!BF238 -> 0 | BL22: ='Survivalexp RAW Oct_Nov 2017'!I280 -> #DIV/0! | BM22: ='Survivalexp RAW Oct_Nov 2017'!P280 -> #DIV/0! | BN22: ='Survivalexp RAW Oct_Nov 2017'!W280 -> #DIV/0! | BO22: ='Survivalexp RAW Oct_Nov 2017'!AD280 -> 15.426713 | BP22: ='Survivalexp RAW Oct_Nov 2017'!AK280 -> 5.6442081 | BQ22: ='Survivalexp RAW Oct_Nov 2017'!AR280 -> 2.1908902 | BR22: ='Survivalexp RAW Oct_Nov 2017'!AY280 -> 0 | BS22: ='Survivalexp RAW Oct_Nov 2017'!BF280 -> 0 | BV22: ='Survivalexp RAW Oct_Nov 2017'!I322 -> #DIV/0! | BW22: ='Survivalexp RAW Oct_Nov 2017'!P322 -> #DIV/0! | BX22: ='Survivalexp RAW Oct_Nov 2017'!W322 -> 11.765361 | BY22: ='Survivalexp RAW Oct_Nov 2017'!AD322 -> 3.0251491 | BZ22: ='Survivalexp RAW Oct_Nov 2017'!AK322 -> 0 | CA22: ='Survivalexp RAW Oct_Nov 2017'!AR322 -> 0 | CB22: ='Survivalexp RAW Oct_Nov 2017'!AY322 -> 0 | CC22: ='Survivalexp RAW Oct_Nov 2017'!BF322 -> 0
B23: est. nr of bacteria | D23: =D21/$D$8 -> #DIV/0! | E23: =E21/$E$8 -> #DIV/0! | F23: =F21/$F$8 -> #DIV/0! | G23: =G21/$G$8 -> #DIV/0! | H23: =H21/$H$8 -> 557333.33 | I23: =I21/$I$8 -> 843333.33 | J23: =J21/$J$8 -> 600000 | K23: =K21/$K$8 -> 2000000 | L23: =H23 -> 557333.33 | M23: =H24 -> 214610.83 | N23: =N21/$D$8 -> #DIV/0! | O23: =O21/$E$8 -> #DIV/0! | P23: =P21/$F$8 -> #DIV/0! | Q23: =Q21/$G$8 -> 139200 | R23: =R21/$H$8 -> 270000 | S23: =S21/$I$8 -> 826666.67 | T23: =T21/$J$8 -> 11400000 | U23: =U21/$K$8 -> 60000000 | V23: =Q23 -> 139200 | W23: =Q24 -> 22438.704 | X23: =X21/$D$8 -> #DIV/0! | Y23: =Y21/$E$8 -> #DIV/0! | Z23: =Z21/$F$8 -> #DIV/0! | AA23: =AA21/$G$8 -> 104483.33 | AB23: =AB21/$H$8 -> 178888.89 | AC23: =AC21/$I$8 -> 100000 | AD23: =AD21/$J$8 -> 66666.667 | AE23: =AE21/$K$8 -> 0 | AF23: =AA23 -> 104483.33 | AG23: =AA24 -> 33697.049 | AH23: =AH21/$D$8 -> #DIV/0! | AI23: =AI21/$E$8 -> #DIV/0! | AJ23: =AJ21/$F$8 -> #DIV/0! | AK23: =AK21/$G$8 -> 106133.33 | AL23: =AL21/$H$8 -> 175333.33 | AM23: =AM21/$I$8 -> 220000 | AN23: =AN21/$J$8 -> 266666.67 | AO23: =AO21/$K$8 -> 0 | AP23: =AK23 -> 106133.33 | AQ23: =AK24 -> 32594.047 | AR23: =AR21/$D$8 -> #DIV/0! | AS23: =AS21/$E$8 -> #DIV/0! | AT23: =AT21/$F$8 -> #DIV/0! | AU23: =AU21/$G$8 -> 73400 | AV23: =AV21/$H$8 -> 107000 | AW23: =AW21/$I$8 -> 170000 | AX23: =AX21/$J$8 -> 200000 | AY23: =AY21/$K$8 -> 0 | AZ23: =AU23 -> 73400 | BA23: =AU24 -> 13633.904 | BB23: =BB21/$D$8 -> #DIV/0! | BC23: =BC21/$E$8 -> #DIV/0! | BD23: =BD21/$F$8 -> #DIV/0! | BE23: =BE21/$G$8 -> 53600 | BF23: =BF21/$H$8 -> 66666.667 | BG23: =BG21/$I$8 -> 46666.667 | BH23: =BH21/$J$8 -> 66666.667 | BI23: =BI21/$K$8 -> 0 | BJ23: =BE23 -> 53600 | BK23: =BE24 -> 12734.489 | BL23: =BL21/$D$8 -> #DIV/0! | BM23: =BM21/$E$8 -> #DIV/0! | BN23: =BN21/$F$8 -> #DIV/0! | BO23: =BO21/$G$8 -> 45266.667 | BP23: =BP21/$H$8 -> 47333.333 | BQ23: =BQ21/$I$8 -> 60000 | BR23: =BR21/$J$8 -> 0 | BS23: =BS21/$K$8 -> 0 | BT23: =BO23 -> 45266.667 | BU23: =BO24 -> 15426.713 | BV23: =BV21/$D$8 -> #DIV/0! | BW23: =BW21/$E$8 -> #DIV/0! | BX23: =BX21/$F$8 -> 1640 | BY23: =BY21/$G$8 -> 2400 | BZ23: =BZ21/$H$8 -> 0 | CA23: =CA21/$I$8 -> 0 | CB23: =CB21/$J$8 -> 0 | CC23: =CC21/$K$8 -> 0 | CD23: =BX23 -> 1640 | CE23: =BX24 -> 1176.5361
C24: stdev | D24: =D22/$D$8 -> #DIV/0! | E24: =E22/$E$8 -> #DIV/0! | F24: =F22/$F$8 -> #DIV/0! | G24: =G22/$G$8 -> #DIV/0! | H24: =H22/$H$8 -> 214610.83 | I24: =I22/$I$8 -> 939114.93 | J24: =J22/$J$8 -> 2755854.3 | K24: =K22/$K$8 -> 9949361.5 | N24: =N22/$D$8 -> #DIV/0! | O24: =O22/$E$8 -> #DIV/0! | P24: =P22/$F$8 -> #DIV/0! | Q24: =Q22/$G$8 -> 22438.704 | R24: =R22/$H$8 -> 129766.48 | S24: =S22/$I$8 -> 792921.58 | T24: =T22/$J$8 -> 7701481.8 | U24: =U22/$K$8 -> 56355223 | X24: =X22/$D$8 -> #DIV/0! | Y24: =Y22/$E$8 -> #DIV/0! | Z24: =Z22/$F$8 -> #DIV/0! | AA24: =AA22/$G$8 -> 33697.049 | AB24: =AB22/$H$8 -> 142201.49 | AC24: =AC22/$I$8 -> 381349.92 | AD24: =AD22/$J$8 -> 447213.6 | AE24: =AE22/$K$8 -> 0 | AH24: =AH22/$D$8 -> #DIV/0! | AI24: =AI22/$E$8 -> #DIV/0! | AJ24: =AJ22/$F$8 -> #DIV/0! | AK24: =AK22/$G$8 -> 32594.047 | AL24: =AL22/$H$8 -> 84149.036 | AM24: =AM22/$I$8 -> 281213.39 | AN24: =AN22/$J$8 -> 1095445.1 | AO24: =AO22/$K$8 -> 0 | AR24: =AR22/$D$8 -> #DIV/0! | AS24: =AS22/$E$8 -> #DIV/0! | AT24: =AT22/$F$8 -> #DIV/0! | AU24: =AU22/$G$8 -> 13633.904 | AV24: =AV22/$H$8 -> 38324.258 | AW24: =AW22/$I$8 -> 260768.1 | AX24: =AX22/$J$8 -> 894427.19 | AY24: =AY22/$K$8 -> 0 | BB24: =BB22/$D$8 -> #DIV/0! | BC24: =BC22/$E$8 -> #DIV/0! | BD24: =BD22/$F$8 -> #DIV/0! | BE24: =BE22/$G$8 -> 12734.489 | BF24: =BF22/$H$8 -> 72496.117 | BG24: =BG22/$I$8 -> 188936.33 | BH24: =BH22/$J$8 -> 447213.6 | BI24: =BI22/$K$8 -> 0 | BL24: =BL22/$D$8 -> #DIV/0! | BM24: =BM22/$E$8 -> #DIV/0! | BN24: =BN22/$F$8 -> #DIV/0! | BO24: =BO22/$G$8 -> 15426.713 | BP24: =BP22/$H$8 -> 56442.081 | BQ24: =BQ22/$I$8 -> 219089.02 | BR24: =BR22/$J$8 -> 0 | BS24: =BS22/$K$8 -> 0 | BV24: =BV22/$D$8 -> #DIV/0! | BW24: =BW22/$E$8 -> #DIV/0! | BX24: =BX22/$F$8 -> 1176.5361 | BY24: =BY22/$G$8 -> 3025.1491 | BZ24: =BZ22/$H$8 -> 0 | CA24: =CA22/$I$8 -> 0 | CB24: =CB22/$J$8 -> 0 | CC24: =CC22/$K$8 -> 0
B25: 2213F A | C25: p+0 | D25: ='Survivalexp RAW Oct_Nov 2017'!I31 -> #DIV/0! | E25: ='Survivalexp RAW Oct_Nov 2017'!P31 -> #DIV/0! | F25: ='Survivalexp RAW Oct_Nov 2017'!W31 -> #DIV/0! | G25: ='Survivalexp RAW Oct_Nov 2017'!AD31 -> #DIV/0! | H25: ='Survivalexp RAW Oct_Nov 2017'!AK31 -> 47.6 | I25: ='Survivalexp RAW Oct_Nov 2017'!AR31 -> 5 | J25: ='Survivalexp RAW Oct_Nov 2017'!AY31 -> 0.3 | K25: ='Survivalexp RAW Oct_Nov 2017'!BF31 -> 0.1 | N25: ='Survivalexp RAW Oct_Nov 2017'!I73 -> #DIV/0! | O25: ='Survivalexp RAW Oct_Nov 2017'!P73 -> #DIV/0! | P25: ='Survivalexp RAW Oct_Nov 2017'!W73 -> #DIV/0! | Q25: ='Survivalexp RAW Oct_Nov 2017'!AD73 -> 123.4 | R25: ='Survivalexp RAW Oct_Nov 2017'!AK73 -> 13.1 | S25: ='Survivalexp RAW Oct_Nov 2017'!AR73 -> 3.4 | T25: ='Survivalexp RAW Oct_Nov 2017'!AY73 -> 3.3 | U25: ='Survivalexp RAW Oct_Nov 2017'!BF73 -> 3.4 | X25: ='Survivalexp RAW Oct_Nov 2017'!I115 -> #DIV/0! | Y25: ='Survivalexp RAW Oct_Nov 2017'!P115 -> #DIV/0! | Z25: ='Survivalexp RAW Oct_Nov 2017'!W115 -> #DIV/0! | AA25: ='Survivalexp RAW Oct_Nov 2017'!AD115 -> 91.3 | AB25: ='Survivalexp RAW Oct_Nov 2017'!AK115 -> 6.2 | AC25: ='Survivalexp RAW Oct_Nov 2017'!AR115 -> 1.1 | AD25: ='Survivalexp RAW Oct_Nov 2017'!AY115 -> 0 | AE25: ='Survivalexp RAW Oct_Nov 2017'!BF115 -> 0 | AH25: ='Survivalexp RAW Oct_Nov 2017'!I158 -> #DIV/0! | AI25: ='Survivalexp RAW Oct_Nov 2017'!P158 -> #DIV/0! | AJ25: ='Survivalexp RAW Oct_Nov 2017'!W158 -> #DIV/0! | AK25: ='Survivalexp RAW Oct_Nov 2017'!AD158 -> 87.9 | AL25: ='Survivalexp RAW Oct_Nov 2017'!AK158 -> 9.3 | AM25: ='Survivalexp RAW Oct_Nov 2017'!AR158 -> 1.2 | AN25: ='Survivalexp RAW Oct_Nov 2017'!AY158 -> 0.1 | AO25: ='Survivalexp RAW Oct_Nov 2017'!BF158 -> 0 | AR25: ='Survivalexp RAW Oct_Nov 2017'!I200 -> #DIV/0! | AS25: ='Survivalexp RAW Oct_Nov 2017'!P200 -> #DIV/0! | AT25: ='Survivalexp RAW Oct_Nov 2017'!W200 -> #DIV/0! | AU25: ='Survivalexp RAW Oct_Nov 2017'!AD200 -> 59.266667 | AV25: ='Survivalexp RAW Oct_Nov 2017'!AK200 -> 8.7333333 | AW25: ='Survivalexp RAW Oct_Nov 2017'!AR200 -> 0.53333333 | AX25: ='Survivalexp RAW Oct_Nov 2017'!AY200 -> 0.13333333 | AY25: ='Survivalexp RAW Oct_Nov 2017'!BF200 -> 0 | BB25: ='Survivalexp RAW Oct_Nov 2017'!I242 -> #DIV/0! | BC25: ='Survivalexp RAW Oct_Nov 2017'!P242 -> #DIV/0! | BD25: ='Survivalexp RAW Oct_Nov 2017'!W242 -> #DIV/0! | BE25: ='Survivalexp RAW Oct_Nov 2017'!AD242 -> 25 | BF25: ='Survivalexp RAW Oct_Nov 2017'!AK242 -> 2.2 | BG25: ='Survivalexp RAW Oct_Nov 2017'!AR242 -> 0.3 | BH25: ='Survivalexp RAW Oct_Nov 2017'!AY242 -> 0.1 | BI25: ='Survivalexp RAW Oct_Nov 2017'!BF242 -> 0 | BL25: ='Survivalexp RAW Oct_Nov 2017'!I284 -> #DIV/0! | BM25: ='Survivalexp RAW Oct_Nov 2017'!P284 -> #DIV/0! | BN25: ='Survivalexp RAW Oct_Nov 2017'!W284 -> #DIV/0! | BO25: ='Survivalexp RAW Oct_Nov 2017'!AD284 -> 14.4 | BP25: ='Survivalexp RAW Oct_Nov 2017'!AK284 -> 1.5 | BQ25: ='Survivalexp RAW Oct_Nov 2017'!AR284 -> 0.2 | BR25: ='Survivalexp RAW Oct_Nov 2017'!AY284 -> 0.1 | BS25: ='Survivalexp RAW Oct_Nov 2017'!BF284 -> 0 | BV25: ='Survivalexp RAW Oct_Nov 2017'!I326 -> #DIV/0! | BW25: ='Survivalexp RAW Oct_Nov 2017'!P326 -> 26.6 | BX25: ='Survivalexp RAW Oct_Nov 2017'!W326 -> 4.5 | BY25: ='Survivalexp RAW Oct_Nov 2017'!AD326 -> 0.6 | BZ25: ='Survivalexp RAW Oct_Nov 2017'!AK326 -> 0 | CA25: ='Survivalexp RAW Oct_Nov 2017'!AR326 -> 0 | CB25: ='Survivalexp RAW Oct_Nov 2017'!AY326 -> 0 | CC25: ='Survivalexp RAW Oct_Nov 2017'!BF326 -> 0
C26: stdev | D26: ='Survivalexp RAW Oct_Nov 2017'!I32 -> #DIV/0! | E26: ='Survivalexp RAW Oct_Nov 2017'!P32 -> #DIV/0! | F26: ='Survivalexp RAW Oct_Nov 2017'!W32 -> #DIV/0! | G26: ='Survivalexp RAW Oct_Nov 2017'!AD32 -> #DIV/0! | H26: ='Survivalexp RAW Oct_Nov 2017'!AK32 -> 11.925411 | I26: ='Survivalexp RAW Oct_Nov 2017'!AR32 -> 4.0914867 | J26: ='Survivalexp RAW Oct_Nov 2017'!AY32 -> 0.99493615 | K26: ='Survivalexp RAW Oct_Nov 2017'!BF32 -> 0.4472136 | N26: ='Survivalexp RAW Oct_Nov 2017'!I74 -> #DIV/0! | O26: ='Survivalexp RAW Oct_Nov 2017'!P74 -> #DIV/0! | P26: ='Survivalexp RAW Oct_Nov 2017'!W74 -> #DIV/0! | Q26: ='Survivalexp RAW Oct_Nov 2017'!AD74 -> 19.252688 | R26: ='Survivalexp RAW Oct_Nov 2017'!AK74 -> 6.5510214 | S26: ='Survivalexp RAW Oct_Nov 2017'!AR74 -> 2.4818162 | T26: ='Survivalexp RAW Oct_Nov 2017'!AY74 -> 2.9470082 | U26: ='Survivalexp RAW Oct_Nov 2017'!BF74 -> 3.0623755 | X26: ='Survivalexp RAW Oct_Nov 2017'!I116 -> #DIV/0! | Y26: ='Survivalexp RAW Oct_Nov 2017'!P116 -> #DIV/0! | Z26: ='Survivalexp RAW Oct_Nov 2017'!W116 -> #DIV/0! | AA26: ='Survivalexp RAW Oct_Nov 2017'!AD116 -> 15.892901 | AB26: ='Survivalexp RAW Oct_Nov 2017'!AK116 -> 4.4269582 | AC26: ='Survivalexp RAW Oct_Nov 2017'!AR116 -> 1.851563 | AD26: ='Survivalexp RAW Oct_Nov 2017'!AY116 -> 0 | AE26: ='Survivalexp RAW Oct_Nov 2017'!BF116 -> 0 | AH26: ='Survivalexp RAW Oct_Nov 2017'!I159 -> #DIV/0! | AI26: ='Survivalexp RAW Oct_Nov 2017'!P159 -> #DIV/0! | AJ26: ='Survivalexp RAW Oct_Nov 2017'!W159 -> #DIV/0! | AK26: ='Survivalexp RAW Oct_Nov 2017'!AD159 -> 10.127859 | AL26: ='Survivalexp RAW Oct_Nov 2017'!AK159 -> 5.329941 | AM26: ='Survivalexp RAW Oct_Nov 2017'!AR159 -> 2.3532351 | AN26: ='Survivalexp RAW Oct_Nov 2017'!AY159 -> 0.4472136 | AO26: ='Survivalexp RAW Oct_Nov 2017'!BF159 -> 0 | AR26: ='Survivalexp RAW Oct_Nov 2017'!I201 -> #DIV/0! | AS26: ='Survivalexp RAW Oct_Nov 2017'!P201 -> #DIV/0! | AT26: ='Survivalexp RAW Oct_Nov 2017'!W201 -> #DIV/0! | AU26: ='Survivalexp RAW Oct_Nov 2017'!AD201 -> 23.045042 | AV26: ='Survivalexp RAW Oct_Nov 2017'!AK201 -> 6.2371536 | AW26: ='Survivalexp RAW Oct_Nov 2017'!AR201 -> 1.7310872 | AX26: ='Survivalexp RAW Oct_Nov 2017'!AY201 -> 0.54772256 | AY26: ='Survivalexp RAW Oct_Nov 2017'!BF201 -> 0 | BB26: ='Survivalexp RAW Oct_Nov 2017'!I243 -> #DIV/0! | BC26: ='Survivalexp RAW Oct_Nov 2017'!P243 -> #DIV/0! | BD26: ='Survivalexp RAW Oct_Nov 2017'!W243 -> #DIV/0! | BE26: ='Survivalexp RAW Oct_Nov 2017'!AD243 -> 8.4658028 | BF26: ='Survivalexp RAW Oct_Nov 2017'!AK243 -> 2.554389 | BG26: ='Survivalexp RAW Oct_Nov 2017'!AR243 -> 0.89442719 | BH26: ='Survivalexp RAW Oct_Nov 2017'!AY243 -> 0.4472136 | BI26: ='Survivalexp RAW Oct_Nov 2017'!BF243 -> 0 | BL26: ='Survivalexp RAW Oct_Nov 2017'!I285 -> #DIV/0! | BM26: ='Survivalexp RAW Oct_Nov 2017'!P285 -> #DIV/0! | BN26: ='Survivalexp RAW Oct_Nov 2017'!W285 -> #DIV/0! | BO26: ='Survivalexp RAW Oct_Nov 2017'!AD285 -> 3.9883756 | BP26: ='Survivalexp RAW Oct_Nov 2017'!AK285 -> 2.236068 | BQ26: ='Survivalexp RAW Oct_Nov 2017'!AR285 -> 0.54772256 | BR26: ='Survivalexp RAW Oct_Nov 2017'!AY285 -> 0.4472136 | BS26: ='Survivalexp RAW Oct_Nov 2017'!BF285 -> 0 | BV26: ='Survivalexp RAW Oct_Nov 2017'!I327 -> #DIV/0! | BW26: ='Survivalexp RAW Oct_Nov 2017'!P327 -> 6.7009353 | BX26: ='Survivalexp RAW Oct_Nov 2017'!W327 -> 2.4818162 | BY26: ='Survivalexp RAW Oct_Nov 2017'!AD327 -> 1.0954451 | BZ26: ='Survivalexp RAW Oct_Nov 2017'!AK327 -> 0 | CA26: ='Survivalexp RAW Oct_Nov 2017'!AR327 -> 0 | CB26: ='Survivalexp RAW Oct_Nov 2017'!AY327 -> 0 | CC26: ='Survivalexp RAW Oct_Nov 2017'!BF327 -> 0
B27: est. nr of bacteria | D27: =D25/$D$8 -> #DIV/0! | E27: =E25/$E$8 -> #DIV/0! | F27: =F25/$F$8 -> #DIV/0! | G27: =G25/$G$8 -> #DIV/0! | H27: =H25/$H$8 -> 476000 | I27: =I25/$I$8 -> 500000 | J27: =J25/$J$8 -> 300000 | K27: =K25/$K$8 -> 1000000 | L27: =H27 -> 476000 | M27: =H28 -> 119254.11 | N27: =N25/$D$8 -> #DIV/0! | O27: =O25/$E$8 -> #DIV/0! | P27: =P25/$F$8 -> #DIV/0! | Q27: =Q25/$G$8 -> 123400 | R27: =R25/$H$8 -> 131000 | S27: =S25/$I$8 -> 340000 | T27: =T25/$J$8 -> 3300000 | U27: =U25/$K$8 -> 34000000 | V27: =R27 -> 131000 | W27: =R28 -> 65510.214 | X27: =X25/$D$8 -> #DIV/0! | Y27: =Y25/$E$8 -> #DIV/0! | Z27: =Z25/$F$8 -> #DIV/0! | AA27: =AA25/$G$8 -> 91300 | AB27: =AB25/$H$8 -> 62000 | AC27: =AC25/$I$8 -> 110000 | AD27: =AD25/$J$8 -> 0 | AE27: =AE25/$K$8 -> 0 | AF27: =AA27 -> 91300 | AG27: =AA28 -> 15892.901 | AH27: =AH25/$D$8 -> #DIV/0! | AI27: =AI25/$E$8 -> #DIV/0! | AJ27: =AJ25/$F$8 -> #DIV/0! | AK27: =AK25/$G$8 -> 87900 | AL27: =AL25/$H$8 -> 93000 | AM27: =AM25/$I$8 -> 120000 | AN27: =AN25/$J$8 -> 100000 | AO27: =AO25/$K$8 -> 0 | AP27: =AK27 -> 87900 | AQ27: =AK28 -> 10127.859 | AR27: =AR25/$D$8 -> #DIV/0! | AS27: =AS25/$E$8 -> #DIV/0! | AT27: =AT25/$F$8 -> #DIV/0! | AU27: =AU25/$G$8 -> 59266.667 | AV27: =AV25/$H$8 -> 87333.333 | AW27: =AW25/$I$8 -> 53333.333 | AX27: =AX25/$J$8 -> 133333.33 | AY27: =AY25/$K$8 -> 0 | AZ27: =AU27 -> 59266.667 | BA27: =AU28 -> 23045.042 | BB27: =BB25/$D$8 -> #DIV/0! | BC27: =BC25/$E$8 -> #DIV/0! | BD27: =BD25/$F$8 -> #DIV/0! | BE27: =BE25/$G$8 -> 25000 | BF27: =BF25/$H$8 -> 22000 | BG27: =BG25/$I$8 -> 30000 | BH27: =BH25/$J$8 -> 100000 | BI27: =BI25/$K$8 -> 0 | BJ27: =BE27 -> 25000 | BK27: =BE28 -> 8465.8028 | BL27: =BL25/$D$8 -> #DIV/0! | BM27: =BM25/$E$8 -> #DIV/0! | BN27: =BN25/$F$8 -> #DIV/0! | BO27: =BO25/$G$8 -> 14400 | BP27: =BP25/$H$8 -> 15000 | BQ27: =BQ25/$I$8 -> 20000 | BR27: =BR25/$J$8 -> 100000 | BS27: =BS25/$K$8 -> 0 | BT27: =BO27 -> 14400 | BU27: =BO28 -> 3988.3756 | BV27: =BV25/$D$8 -> #DIV/0! | BW27: =BW25/$E$8 -> 266 | BX27: =BX25/$F$8 -> 450 | BY27: =BY25/$G$8 -> 600 | BZ27: =BZ25/$H$8 -> 0 | CA27: =CA25/$I$8 -> 0 | CB27: =CB25/$J$8 -> 0 | CC27: =CC25/$K$8 -> 0 | CD27: =BW27 -> 266 | CE27: =BW28 -> 67.009353
C28: stdev | D28: =D26/$D$8 -> #DIV/0! | E28: =E26/$E$8 -> #DIV/0! | F28: =F26/$F$8 -> #DIV/0! | G28: =G26/$G$8 -> #DIV/0! | H28: =H26/$H$8 -> 119254.11 | I28: =I26/$I$8 -> 409148.67 | J28: =J26/$J$8 -> 994936.15 | K28: =K26/$K$8 -> 4472136 | N28: =N26/$D$8 -> #DIV/0! | O28: =O26/$E$8 -> #DIV/0! | P28: =P26/$F$8 -> #DIV/0! | Q28: =Q26/$G$8 -> 19252.688 | R28: =R26/$H$8 -> 65510.214 | S28: =S26/$I$8 -> 248181.62 | T28: =T26/$J$8 -> 2947008.2 | U28: =U26/$K$8 -> 30623755 | X28: =X26/$D$8 -> #DIV/0! | Y28: =Y26/$E$8 -> #DIV/0! | Z28: =Z26/$F$8 -> #DIV/0! | AA28: =AA26/$G$8 -> 15892.901 | AB28: =AB26/$H$8 -> 44269.582 | AC28: =AC26/$I$8 -> 185156.3 | AD28: =AD26/$J$8 -> 0 | AE28: =AE26/$K$8 -> 0 | AH28: =AH26/$D$8 -> #DIV/0! | AI28: =AI26/$E$8 -> #DIV/0! | AJ28: =AJ26/$F$8 -> #DIV/0! | AK28: =AK26/$G$8 -> 10127.859 | AL28: =AL26/$H$8 -> 53299.41 | AM28: =AM26/$I$8 -> 235323.51 | AN28: =AN26/$J$8 -> 447213.6 | AO28: =AO26/$K$8 -> 0 | AR28: =AR26/$D$8 -> #DIV/0! | AS28: =AS26/$E$8 -> #DIV/0! | AT28: =AT26/$F$8 -> #DIV/0! | AU28: =AU26/$G$8 -> 23045.042 | AV28: =AV26/$H$8 -> 62371.536 | AW28: =AW26/$I$8 -> 173108.72 | AX28: =AX26/$J$8 -> 547722.56 | AY28: =AY26/$K$8 -> 0 | BB28: =BB26/$D$8 -> #DIV/0! | BC28: =BC26/$E$8 -> #DIV/0! | BD28: =BD26/$F$8 -> #DIV/0! | BE28: =BE26/$G$8 -> 8465.8028 | BF28: =BF26/$H$8 -> 25543.89 | BG28: =BG26/$I$8 -> 89442.719 | BH28: =BH26/$J$8 -> 447213.6 | BI28: =BI26/$K$8 -> 0 | BL28: =BL26/$D$8 -> #DIV/0! | BM28: =BM26/$E$8 -> #DIV/0! | BN28: =BN26/$F$8 -> #DIV/0! | BO28: =BO26/$G$8 -> 3988.3756 | BP28: =BP26/$H$8 -> 22360.68 | BQ28: =BQ26/$I$8 -> 54772.256 | BR28: =BR26/$J$8 -> 447213.6 | BS28: =BS26/$K$8 -> 0 | BV28: =BV26/$D$8 -> #DIV/0! | BW28: =BW26/$E$8 -> 67.009353 | BX28: =BX26/$F$8 -> 248.18162 | BY28: =BY26/$G$8 -> 1095.4451 | BZ28: =BZ26/$H$8 -> 0 | CA28: =CA26/$I$8 -> 0 | CB28: =CB26/$J$8 -> 0 | CC28: =CC26/$K$8 -> 0
C29: p+3 | D29: ='Survivalexp RAW Oct_Nov 2017'!I36 -> #DIV/0! | E29: ='Survivalexp RAW Oct_Nov 2017'!P36 -> #DIV/0! | F29: ='Survivalexp RAW Oct_Nov 2017'!W36 -> #DIV/0! | G29: ='Survivalexp RAW Oct_Nov 2017'!AD36 -> #DIV/0! | H29: ='Survivalexp RAW Oct_Nov 2017'!AK36 -> 31.7 | I29: ='Survivalexp RAW Oct_Nov 2017'!AR36 -> 5 | J29: ='Survivalexp RAW Oct_Nov 2017'!AY36 -> 0.9 | K29: ='Survivalexp RAW Oct_Nov 2017'!BF36 -> 0.4 | N29: ='Survivalexp RAW Oct_Nov 2017'!I78 -> #DIV/0! | O29: ='Survivalexp RAW Oct_Nov 2017'!P78 -> #DIV/0! | P29: ='Survivalexp RAW Oct_Nov 2017'!W78 -> #DIV/0! | Q29: ='Survivalexp RAW Oct_Nov 2017'!AD78 -> 127.7 | R29: ='Survivalexp RAW Oct_Nov 2017'!AK78 -> 17 | S29: ='Survivalexp RAW Oct_Nov 2017'!AR78 -> 5.3 | T29: ='Survivalexp RAW Oct_Nov 2017'!AY78 -> 3.1 | U29: ='Survivalexp RAW Oct_Nov 2017'!BF78 -> 3.2 | X29: ='Survivalexp RAW Oct_Nov 2017'!I120 -> #DIV/0! | Y29: ='Survivalexp RAW Oct_Nov 2017'!P120 -> #DIV/0! | Z29: ='Survivalexp RAW Oct_Nov 2017'!W120 -> #DIV/0! | AA29: ='Survivalexp RAW Oct_Nov 2017'!AD120 -> 80.3 | AB29: ='Survivalexp RAW Oct_Nov 2017'!AK120 -> 6.5 | AC29: ='Survivalexp RAW Oct_Nov 2017'!AR120 -> 0.7 | AD29: ='Survivalexp RAW Oct_Nov 2017'!AY120 -> 0.1 | AE29: ='Survivalexp RAW Oct_Nov 2017'!BF120 -> 0.1 | AH29: ='Survivalexp RAW Oct_Nov 2017'!I163 -> #DIV/0! | AI29: ='Survivalexp RAW Oct_Nov 2017'!P163 -> #DIV/0! | AJ29: ='Survivalexp RAW Oct_Nov 2017'!W163 -> #DIV/0! | AK29: ='Survivalexp RAW Oct_Nov 2017'!AD163 -> 33.1 | AL29: ='Survivalexp RAW Oct_Nov 2017'!AK163 -> 1.3 | AM29: ='Survivalexp RAW Oct_Nov 2017'!AR163 -> 0.4 | AN29: ='Survivalexp RAW Oct_Nov 2017'!AY163 -> 0.1 | AO29: ='Survivalexp RAW Oct_Nov 2017'!BF163 -> 0 | AR29: ='Survivalexp RAW Oct_Nov 2017'!I205 -> #DIV/0! | AS29: ='Survivalexp RAW Oct_Nov 2017'!P205 -> #DIV/0! | AT29: ='Survivalexp RAW Oct_Nov 2017'!W205 -> #DIV/0! | AU29: ='Survivalexp RAW Oct_Nov 2017'!AD205 -> 17.9 | AV29: ='Survivalexp RAW Oct_Nov 2017'!AK205 -> 1.3 | AW29: ='Survivalexp RAW Oct_Nov 2017'!AR205 -> 0 | AX29: ='Survivalexp RAW Oct_Nov 2017'!AY205 -> 0.1 | AY29: ='Survivalexp RAW Oct_Nov 2017'!BF205 -> 0 | BB29: ='Survivalexp RAW Oct_Nov 2017'!I247 -> #DIV/0! | BC29: ='Survivalexp RAW Oct_Nov 2017'!P247 -> #DIV/0! | BD29: ='Survivalexp RAW Oct_Nov 2017'!W247 -> 85.5 | BE29: ='Survivalexp RAW Oct_Nov 2017'!AD247 -> 6.9 | BF29: ='Survivalexp RAW Oct_Nov 2017'!AK247 -> 0.8 | BG29: ='Survivalexp RAW Oct_Nov 2017'!AR247 -> 0 | BH29: ='Survivalexp RAW Oct_Nov 2017'!AY247 -> 0 | BI29: ='Survivalexp RAW Oct_Nov 2017'!BF247 -> 0 | BL29: ='Survivalexp RAW Oct_Nov 2017'!I289 -> #DIV/0! | BM29: ='Survivalexp RAW Oct_Nov 2017'!P289 -> #DIV/0! | BN29: ='Survivalexp RAW Oct_Nov 2017'!W289 -> 64.2 | BO29: ='Survivalexp RAW Oct_Nov 2017'!AD289 -> 3.7 | BP29: ='Survivalexp RAW Oct_Nov 2017'!AK289 -> 0.1 | BQ29: ='Survivalexp RAW Oct_Nov 2017'!AR289 -> 0 | BR29: ='Survivalexp RAW Oct_Nov 2017'!AY289 -> 0 | BS29: ='Survivalexp RAW Oct_Nov 2017'!BF289 -> 0 | BV29: ='Survivalexp RAW Oct_Nov 2017'!I331 -> #DIV/0! | BW29: ='Survivalexp RAW Oct_Nov 2017'!P331 -> 38.2 | BX29: ='Survivalexp RAW Oct_Nov 2017'!W331 -> 8.6 | BY29: ='Survivalexp RAW Oct_Nov 2017'!AD331 -> 1.1 | BZ29: ='Survivalexp RAW Oct_Nov 2017'!AK331 -> 0 | CA29: ='Survivalexp RAW Oct_Nov 2017'!AR331 -> 0 | CB29: ='Survivalexp RAW Oct_Nov 2017'!AY331 -> 0 | CC29: ='Survivalexp RAW Oct_Nov 2017'!BF331 -> 0
C30: stdev | D30: ='Survivalexp RAW Oct_Nov 2017'!I37 -> #DIV/0! | E30: ='Survivalexp RAW Oct_Nov 2017'!P37 -> #DIV/0! | F30: ='Survivalexp RAW Oct_Nov 2017'!W37 -> #DIV/0! | G30: ='Survivalexp RAW Oct_Nov 2017'!AD37 -> #DIV/0! | H30: ='Survivalexp RAW Oct_Nov 2017'!AK37 -> 13.225469 | I30: ='Survivalexp RAW Oct_Nov 2017'!AR37 -> 4.8661803 | J30: ='Survivalexp RAW Oct_Nov 2017'!AY37 -> 2.5096587 | K30: ='Survivalexp RAW Oct_Nov 2017'!BF37 -> 1.3416408 | N30: ='Survivalexp RAW Oct_Nov 2017'!I79 -> #DIV/0! | O30: ='Survivalexp RAW Oct_Nov 2017'!P79 -> #DIV/0! | P30: ='Survivalexp RAW Oct_Nov 2017'!W79 -> #DIV/0! | Q30: ='Survivalexp RAW Oct_Nov 2017'!AD79 -> 17.604496 | R30: ='Survivalexp RAW Oct_Nov 2017'!AK79 -> 5.2717174 | S30: ='Survivalexp RAW Oct_Nov 2017'!AR79 -> 4.353995 | T30: ='Survivalexp RAW Oct_Nov 2017'!AY79 -> 3.1746692 | U30: ='Survivalexp RAW Oct_Nov 2017'!BF79 -> 2.3776669 | X30: ='Survivalexp RAW Oct_Nov 2017'!I121 -> #DIV/0! | Y30: ='Survivalexp RAW Oct_Nov 2017'!P121 -> #DIV/0! | Z30: ='Survivalexp RAW Oct_Nov 2017'!W121 -> #DIV/0! | AA30: ='Survivalexp RAW Oct_Nov 2017'!AD121 -> 9.2167286 | AB30: ='Survivalexp RAW Oct_Nov 2017'!AK121 -> 5.3909521 | AC30: ='Survivalexp RAW Oct_Nov 2017'!AR121 -> 1.9898723 | AD30: ='Survivalexp RAW Oct_Nov 2017'!AY121 -> 0.4472136 | AE30: ='Survivalexp RAW Oct_Nov 2017'!BF121 -> 0.4472136 | AH30: ='Survivalexp RAW Oct_Nov 2017'!I164 -> #DIV/0! | AI30: ='Survivalexp RAW Oct_Nov 2017'!P164 -> #DIV/0! | AJ30: ='Survivalexp RAW Oct_Nov 2017'!W164 -> #DIV/0! | AK30: ='Survivalexp RAW Oct_Nov 2017'!AD164 -> 7.6276931 | AL30: ='Survivalexp RAW Oct_Nov 2017'!AK164 -> 2.8165902 | AM30: ='Survivalexp RAW Oct_Nov 2017'!AR164 -> 1.0954451 | AN30: ='Survivalexp RAW Oct_Nov 2017'!AY164 -> 0.4472136 | AO30: ='Survivalexp RAW Oct_Nov 2017'!BF164 -> 0 | AR30: ='Survivalexp RAW Oct_Nov 2017'!I206 -> #DIV/0! | AS30: ='Survivalexp RAW Oct_Nov 2017'!P206 -> #DIV/0! | AT30: ='Survivalexp RAW Oct_Nov 2017'!W206 -> #DIV/0! | AU30: ='Survivalexp RAW Oct_Nov 2017'!AD206 -> 7.5639906 | AV30: ='Survivalexp RAW Oct_Nov 2017'!AK206 -> 1.851563 | AW30: ='Survivalexp RAW Oct_Nov 2017'!AR206 -> 0 | AX30: ='Survivalexp RAW Oct_Nov 2017'!AY206 -> 0.4472136 | AY30: ='Survivalexp RAW Oct_Nov 2017'!BF206 -> 0 | BB30: ='Survivalexp RAW Oct_Nov 2017'!I248 -> #DIV/0! | BC30: ='Survivalexp RAW Oct_Nov 2017'!P248 -> #DIV/0! | BD30: ='Survivalexp RAW Oct_Nov 2017'!W248 -> 18.175425 | BE30: ='Survivalexp RAW Oct_Nov 2017'!AD248 -> 4.1531478 | BF30: ='Survivalexp RAW Oct_Nov 2017'!AK248 -> 3.0623755 | BG30: ='Survivalexp RAW Oct_Nov 2017'!AR248 -> 0 | BH30: ='Survivalexp RAW Oct_Nov 2017'!AY248 -> 0 | BI30: ='Survivalexp RAW Oct_Nov 2017'!BF248 -> 0 | BL30: ='Survivalexp RAW Oct_Nov 2017'!I290 -> #DIV/0! | BM30: ='Survivalexp RAW Oct_Nov 2017'!P290 -> #DIV/0! | BN30: ='Survivalexp RAW Oct_Nov 2017'!W290 -> 12.030813 | BO30: ='Survivalexp RAW Oct_Nov 2017'!AD290 -> 5.0571707 | BP30: ='Survivalexp RAW Oct_Nov 2017'!AK290 -> 0.4472136 | BQ30: ='Survivalexp RAW Oct_Nov 2017'!AR290 -> 0 | BR30: ='Survivalexp RAW Oct_Nov 2017'!AY290 -> 0 | BS30: ='Survivalexp RAW Oct_Nov 2017'!BF290 -> 0 | BV30: ='Survivalexp RAW Oct_Nov 2017'!I332 -> #DIV/0! | BW30: ='Survivalexp RAW Oct_Nov 2017'!P332 -> 9.1770462 | BX30: ='Survivalexp RAW Oct_Nov 2017'!W332 -> 2.3038405 | BY30: ='Survivalexp RAW Oct_Nov 2017'!AD332 -> 2.5687108 | BZ30: ='Survivalexp RAW Oct_Nov 2017'!AK332 -> 0 | CA30: ='Survivalexp RAW Oct_Nov 2017'!AR332 -> 0 | CB30: ='Survivalexp RAW Oct_Nov 2017'!AY332 -> 0 | CC30: ='Survivalexp RAW Oct_Nov 2017'!BF332 -> 0
B31: est. nr of bacteria | D31: =D29/$D$8 -> #DIV/0! | E31: =E29/$E$8 -> #DIV/0! | F31: =F29/$F$8 -> #DIV/0! | G31: =G29/$G$8 -> #DIV/0! | H31: =H29/$H$8 -> 317000 | I31: =I29/$I$8 -> 500000 | J31: =J29/$J$8 -> 900000 | K31: =K29/$K$8 -> 4000000 | L31: =H31 -> 317000 | M31: =H32 -> 132254.69 | N31: =N29/$D$8 -> #DIV/0! | O31: =O29/$E$8 -> #DIV/0! | P31: =P29/$F$8 -> #DIV/0! | Q31: =Q29/$G$8 -> 127700 | R31: =R29/$H$8 -> 170000 | S31: =S29/$I$8 -> 530000 | T31: =T29/$J$8 -> 3100000 | U31: =U29/$K$8 -> 32000000 | V31: =R31 -> 170000 | W31: =R32 -> 52717.174 | X31: =X29/$D$8 -> #DIV/0! | Y31: =Y29/$E$8 -> #DIV/0! | Z31: =Z29/$F$8 -> #DIV/0! | AA31: =AA29/$G$8 -> 80300 | AB31: =AB29/$H$8 -> 65000 | AC31: =AC29/$I$8 -> 70000 | AD31: =AD29/$J$8 -> 100000 | AE31: =AE29/$K$8 -> 1000000 | AF31: =AA31 -> 80300 | AG31: =AA32 -> 9216.7286 | AH31: =AH29/$D$8 -> #DIV/0! | AI31: =AI29/$E$8 -> #DIV/0! | AJ31: =AJ29/$F$8 -> #DIV/0! | AK31: =AK29/$G$8 -> 33100 | AL31: =AL29/$H$8 -> 13000 | AM31: =AM29/$I$8 -> 40000 | AN31: =AN29/$J$8 -> 100000 | AO31: =AO29/$K$8 -> 0 | AP31: =AK31 -> 33100 | AQ31: =AK32 -> 7627.6931 | AR31: =AR29/$D$8 -> #DIV/0! | AS31: =AS29/$E$8 -> #DIV/0! | AT31: =AT29/$F$8 -> #DIV/0! | AU31: =AU29/$G$8 -> 17900 | AV31: =AV29/$H$8 -> 13000 | AW31: =AW29/$I$8 -> 0 | AX31: =AX29/$J$8 -> 100000 | AY31: =AY29/$K$8 -> 0 | AZ31: =AU31 -> 17900 | BA31: =AU32 -> 7563.9906 | BB31: =BB29/$D$8 -> #DIV/0! | BC31: =BC29/$E$8 -> #DIV/0! | BD31: =BD29/$F$8 -> 8550 | BE31: =BE29/$G$8 -> 6900 | BF31: =BF29/$H$8 -> 8000 | BG31: =BG29/$I$8 -> 0 | BH31: =BH29/$J$8 -> 0 | BI31: =BI29/$K$8 -> 0 | BJ31: =BE31 -> 6900 | BK31: =BE32 -> 4153.1478 | BL31: =BL29/$D$8 -> #DIV/0! | BM31: =BM29/$E$8 -> #DIV/0! | BN31: =BN29/$F$8 -> 6420 | BO31: =BO29/$G$8 -> 3700 | BP31: =BP29/$H$8 -> 1000 | BQ31: =BQ29/$I$8 -> 0 | BR31: =BR29/$J$8 -> 0 | BS31: =BS29/$K$8 -> 0 | BT31: =BO31 -> 3700 | BU31: =BO32 -> 5057.1707 | BV31: =BV29/$D$8 -> #DIV/0! | BW31: =BW29/$E$8 -> 382 | BX31: =BX29/$F$8 -> 860 | BY31: =BY29/$G$8 -> 1100 | BZ31: =BZ29/$H$8 -> 0 | CA31: =CA29/$I$8 -> 0 | CB31: =CB29/$J$8 -> 0 | CC31: =CC29/$K$8 -> 0 | CD31: =BW31 -> 382 | CE31: =BW32 -> 91.770462
C32: stdev | D32: =D30/$D$8 -> #DIV/0! | E32: =E30/$E$8 -> #DIV/0! | F32: =F30/$F$8 -> #DIV/0! | G32: =G30/$G$8 -> #DIV/0! | H32: =H30/$H$8 -> 132254.69 | I32: =I30/$I$8 -> 486618.03 | J32: =J30/$J$8 -> 2509658.7 | K32: =K30/$K$8 -> 13416408 | N32: =N30/$D$8 -> #DIV/0! | O32: =O30/$E$8 -> #DIV/0! | P32: =P30/$F$8 -> #DIV/0! | Q32: =Q30/$G$8 -> 17604.496 | R32: =R30/$H$8 -> 52717.174 | S32: =S30/$I$8 -> 435399.5 | T32: =T30/$J$8 -> 3174669.2 | U32: =U30/$K$8 -> 23776669 | X32: =X30/$D$8 -> #DIV/0! | Y32: =Y30/$E$8 -> #DIV/0! | Z32: =Z30/$F$8 -> #DIV/0! | AA32: =AA30/$G$8 -> 9216.7286 | AB32: =AB30/$H$8 -> 53909.521 | AC32: =AC30/$I$8 -> 198987.23 | AD32: =AD30/$J$8 -> 447213.6 | AE32: =AE30/$K$8 -> 4472136 | AH32: =AH30/$D$8 -> #DIV/0! | AI32: =AI30/$E$8 -> #DIV/0! | AJ32: =AJ30/$F$8 -> #DIV/0! | AK32: =AK30/$G$8 -> 7627.6931 | AL32: =AL30/$H$8 -> 28165.902 | AM32: =AM30/$I$8 -> 109544.51 | AN32: =AN30/$J$8 -> 447213.6 | AO32: =AO30/$K$8 -> 0 | AR32: =AR30/$D$8 -> #DIV/0! | AS32: =AS30/$E$8 -> #DIV/0! | AT32: =AT30/$F$8 -> #DIV/0! | AU32: =AU30/$G$8 -> 7563.9906 | AV32: =AV30/$H$8 -> 18515.63 | AW32: =AW30/$I$8 -> 0 | AX32: =AX30/$J$8 -> 447213.6 | AY32: =AY30/$K$8 -> 0 | BB32: =BB30/$D$8 -> #DIV/0! | BC32: =BC30/$E$8 -> #DIV/0! | BD32: =BD30/$F$8 -> 1817.5425 | BE32: =BE30/$G$8 -> 4153.1478 | BF32: =BF30/$H$8 -> 30623.755 | BG32: =BG30/$I$8 -> 0 | BH32: =BH30/$J$8 -> 0 | BI32: =BI30/$K$8 -> 0 | BL32: =BL30/$D$8 -> #DIV/0! | BM32: =BM30/$E$8 -> #DIV/0! | BN32: =BN30/$F$8 -> 1203.0813 | BO32: =BO30/$G$8 -> 5057.1707 | BP32: =BP30/$H$8 -> 4472.136 | BQ32: =BQ30/$I$8 -> 0 | BR32: =BR30/$J$8 -> 0 | BS32: =BS30/$K$8 -> 0 | BV32: =BV30/$D$8 -> #DIV/0! | BW32: =BW30/$E$8 -> 91.770462 | BX32: =BX30/$F$8 -> 230.38405 | BY32: =BY30/$G$8 -> 2568.7108 | BZ32: =BZ30/$H$8 -> 0 | CA32: =CA30/$I$8 -> 0 | CB32: =CB30/$J$8 -> 0 | CC32: =CC30/$K$8 -> 0
B33: 2213F APR | C33: p+0 | D33: ='Survivalexp RAW Oct_Nov 2017'!I41 -> #DIV/0! | E33: ='Survivalexp RAW Oct_Nov 2017'!P41 -> #DIV/0! | F33: ='Survivalexp RAW Oct_Nov 2017'!W41 -> #DIV/0! | G33: ='Survivalexp RAW Oct_Nov 2017'!AD41 -> #DIV/0! | H33: ='Survivalexp RAW Oct_Nov 2017'!AK41 -> 49.2 | I33: ='Survivalexp RAW Oct_Nov 2017'!AR41 -> 4.7 | J33: ='Survivalexp RAW Oct_Nov 2017'!AY41 -> 0.7 | K33: ='Survivalexp RAW Oct_Nov 2017'!BF41 -> 0.2 | N33: ='Survivalexp RAW Oct_Nov 2017'!I83 -> #DIV/0! | O33: ='Survivalexp RAW Oct_Nov 2017'!P83 -> #DIV/0! | P33: ='Survivalexp RAW Oct_Nov 2017'!W83 -> #DIV/0! | Q33: ='Survivalexp RAW Oct_Nov 2017'!AD83 -> #DIV/0! | R33: ='Survivalexp RAW Oct_Nov 2017'!AK83 -> 25.3 | S33: ='Survivalexp RAW Oct_Nov 2017'!AR83 -> 6.2 | T33: ='Survivalexp RAW Oct_Nov 2017'!AY83 -> 3.3 | U33: ='Survivalexp RAW Oct_Nov 2017'!BF83 -> 1.8 | X33: ='Survivalexp RAW Oct_Nov 2017'!I125 -> #DIV/0! | Y33: ='Survivalexp RAW Oct_Nov 2017'!P125 -> #DIV/0! | Z33: ='Survivalexp RAW Oct_Nov 2017'!W125 -> #DIV/0! | AA33: ='Survivalexp RAW Oct_Nov 2017'!AD125 -> #DIV/0! | AB33: ='Survivalexp RAW Oct_Nov 2017'!AK125 -> 14.2 | AC33: ='Survivalexp RAW Oct_Nov 2017'!AR125 -> 1.2 | AD33: ='Survivalexp RAW Oct_Nov 2017'!AY125 -> 0.2 | AE33: ='Survivalexp RAW Oct_Nov 2017'!BF125 -> 0 | AH33: ='Survivalexp RAW Oct_Nov 2017'!I168 -> #DIV/0! | AI33: ='Survivalexp RAW Oct_Nov 2017'!P168 -> #DIV/0! | AJ33: ='Survivalexp RAW Oct_Nov 2017'!W168 -> #DIV/0! | AK33: ='Survivalexp RAW Oct_Nov 2017'!AD168 -> 97.9 | AL33: ='Survivalexp RAW Oct_Nov 2017'!AK168 -> 9.9 | AM33: ='Survivalexp RAW Oct_Nov 2017'!AR168 -> 1.4 | AN33: ='Survivalexp RAW Oct_Nov 2017'!AY168 -> 0.2 | AO33: ='Survivalexp RAW Oct_Nov 2017'!BF168 -> 0 | AR33: ='Survivalexp RAW Oct_Nov 2017'!I210 -> #DIV/0! | AS33: ='Survivalexp RAW Oct_Nov 2017'!P210 -> #DIV/0! | AT33: ='Survivalexp RAW Oct_Nov 2017'!W210 -> #DIV/0! | AU33: ='Survivalexp RAW Oct_Nov 2017'!AD210 -> 46.4 | AV33: ='Survivalexp RAW Oct_Nov 2017'!AK210 -> 3.8 | AW33: ='Survivalexp RAW Oct_Nov 2017'!AR210 -> 0.2 | AX33: ='Survivalexp RAW Oct_Nov 2017'!AY210 -> 0.8 | AY33: ='Survivalexp RAW Oct_Nov 2017'!BF210 -> 0.1 | BB33: ='Survivalexp RAW Oct_Nov 2017'!I252 -> #DIV/0! | BC33: ='Survivalexp RAW Oct_Nov 2017'!P252 -> #DIV/0! | BD33: ='Survivalexp RAW Oct_Nov 2017'!W252 -> #DIV/0! | BE33: ='Survivalexp RAW Oct_Nov 2017'!AD252 -> 23.9 | BF33: ='Survivalexp RAW Oct_Nov 2017'!AK252 -> 1.9 | BG33: ='Survivalexp RAW Oct_Nov 2017'!AR252 -> 0.4 | BH33: ='Survivalexp RAW Oct_Nov 2017'!AY252 -> 0.1 | BI33: ='Survivalexp RAW Oct_Nov 2017'!BF252 -> 0 | BL33: ='Survivalexp RAW Oct_Nov 2017'!I294 -> #DIV/0! | BM33: ='Survivalexp RAW Oct_Nov 2017'!P294 -> #DIV/0! | BN33: ='Survivalexp RAW Oct_Nov 2017'!W294 -> #DIV/0! | BO33: ='Survivalexp RAW Oct_Nov 2017'!AD294 -> 8.3 | BP33: ='Survivalexp RAW Oct_Nov 2017'!AK294 -> 0.1 | BQ33: ='Survivalexp RAW Oct_Nov 2017'!AR294 -> 0.1 | BR33: ='Survivalexp RAW Oct_Nov 2017'!AY294 -> 0 | BS33: ='Survivalexp RAW Oct_Nov 2017'!BF294 -> 0 | BV33: ='Survivalexp RAW Oct_Nov 2017'!I336 -> #DIV/0! | BW33: ='Survivalexp RAW Oct_Nov 2017'!P336 -> 58.1 | BX33: ='Survivalexp RAW Oct_Nov 2017'!W336 -> 11.2 | BY33: ='Survivalexp RAW Oct_Nov 2017'!AD336 -> 1.1 | BZ33: ='Survivalexp RAW Oct_Nov 2017'!AK336 -> 0 | CA33: ='Survivalexp RAW Oct_Nov 2017'!AR336 -> 0 | CB33: ='Survivalexp RAW Oct_Nov 2017'!AY336 -> 0 | CC33: ='Survivalexp RAW Oct_Nov 2017'!BF336 -> 0
C34: stdev | D34: ='Survivalexp RAW Oct_Nov 2017'!I42 -> #DIV/0! | E34: ='Survivalexp RAW Oct_Nov 2017'!P42 -> #DIV/0! | F34: ='Survivalexp RAW Oct_Nov 2017'!W42 -> #DIV/0! | G34: ='Survivalexp RAW Oct_Nov 2017'!AD42 -> #DIV/0! | H34: ='Survivalexp RAW Oct_Nov 2017'!AK42 -> 11.232883 | I34: ='Survivalexp RAW Oct_Nov 2017'!AR42 -> 3.3774846 | J34: ='Survivalexp RAW Oct_Nov 2017'!AY42 -> 1.5426587 | K34: ='Survivalexp RAW Oct_Nov 2017'!BF42 -> 0.54772256 | N34: ='Survivalexp RAW Oct_Nov 2017'!I84 -> #DIV/0! | O34: ='Survivalexp RAW Oct_Nov 2017'!P84 -> #DIV/0! | P34: ='Survivalexp RAW Oct_Nov 2017'!W84 -> #DIV/0! | Q34: ='Survivalexp RAW Oct_Nov 2017'!AD84 -> #DIV/0! | R34: ='Survivalexp RAW Oct_Nov 2017'!AK84 -> 8.1654615 | S34: ='Survivalexp RAW Oct_Nov 2017'!AR84 -> 4.0037396 | T34: ='Survivalexp RAW Oct_Nov 2017'!AY84 -> 3.3774846 | U34: ='Survivalexp RAW Oct_Nov 2017'!BF84 -> 1.601534 | X34: ='Survivalexp RAW Oct_Nov 2017'!I126 -> #DIV/0! | Y34: ='Survivalexp RAW Oct_Nov 2017'!P126 -> #DIV/0! | Z34: ='Survivalexp RAW Oct_Nov 2017'!W126 -> #DIV/0! | AA34: ='Survivalexp RAW Oct_Nov 2017'!AD126 -> #DIV/0! | AB34: ='Survivalexp RAW Oct_Nov 2017'!AK126 -> 6.4218039 | AC34: ='Survivalexp RAW Oct_Nov 2017'!AR126 -> 1.851563 | AD34: ='Survivalexp RAW Oct_Nov 2017'!AY126 -> 0.54772256 | AE34: ='Survivalexp RAW Oct_Nov 2017'!BF126 -> 0 | AH34: ='Survivalexp RAW Oct_Nov 2017'!I169 -> #DIV/0! | AI34: ='Survivalexp RAW Oct_Nov 2017'!P169 -> #DIV/0! | AJ34: ='Survivalexp RAW Oct_Nov 2017'!W169 -> #DIV/0! | AK34: ='Survivalexp RAW Oct_Nov 2017'!AD169 -> 14.10022 | AL34: ='Survivalexp RAW Oct_Nov 2017'!AK169 -> 7.9623226 | AM34: ='Survivalexp RAW Oct_Nov 2017'!AR169 -> 2.1783008 | AN34: ='Survivalexp RAW Oct_Nov 2017'!AY169 -> 0.89442719 | AO34: ='Survivalexp RAW Oct_Nov 2017'!BF169 -> 0 | AR34: ='Survivalexp RAW Oct_Nov 2017'!I211 -> #DIV/0! | AS34: ='Survivalexp RAW Oct_Nov 2017'!P211 -> #DIV/0! | AT34: ='Survivalexp RAW Oct_Nov 2017'!W211 -> #DIV/0! | AU34: ='Survivalexp RAW Oct_Nov 2017'!AD211 -> 11.544838 | AV34: ='Survivalexp RAW Oct_Nov 2017'!AK211 -> 3.0110041 | AW34: ='Survivalexp RAW Oct_Nov 2017'!AR211 -> 0.89442719 | AX34: ='Survivalexp RAW Oct_Nov 2017'!AY211 -> 2.3021729 | AY34: ='Survivalexp RAW Oct_Nov 2017'!BF211 -> 0.4472136 | BB34: ='Survivalexp RAW Oct_Nov 2017'!I253 -> #DIV/0! | BC34: ='Survivalexp RAW Oct_Nov 2017'!P253 -> #DIV/0! | BD34: ='Survivalexp RAW Oct_Nov 2017'!W253 -> #DIV/0! | BE34: ='Survivalexp RAW Oct_Nov 2017'!AD253 -> 11.575174 | BF34: ='Survivalexp RAW Oct_Nov 2017'!AK253 -> 2.9120353 | BG34: ='Survivalexp RAW Oct_Nov 2017'!AR253 -> 1.0954451 | BH34: ='Survivalexp RAW Oct_Nov 2017'!AY253 -> 0.4472136 | BI34: ='Survivalexp RAW Oct_Nov 2017'!BF253 -> 0 | BL34: ='Survivalexp RAW Oct_Nov 2017'!I295 -> #DIV/0! | BM34: ='Survivalexp RAW Oct_Nov 2017'!P295 -> #DIV/0! | BN34: ='Survivalexp RAW Oct_Nov 2017'!W295 -> #DIV/0! | BO34: ='Survivalexp RAW Oct_Nov 2017'!AD295 -> 3.5441487 | BP34: ='Survivalexp RAW Oct_Nov 2017'!AK295 -> 0.4472136 | BQ34: ='Survivalexp RAW Oct_Nov 2017'!AR295 -> 0.4472136 | BR34: ='Survivalexp RAW Oct_Nov 2017'!AY295 -> 0 | BS34: ='Survivalexp RAW Oct_Nov 2017'!BF295 -> 0 | BV34: ='Survivalexp RAW Oct_Nov 2017'!I337 -> #DIV/0! | BW34: ='Survivalexp RAW Oct_Nov 2017'!P337 -> 15.734852 | BX34: ='Survivalexp RAW Oct_Nov 2017'!W337 -> 3.811116 | BY34: ='Survivalexp RAW Oct_Nov 2017'!AD337 -> 2.0954451 | BZ34: ='Survivalexp RAW Oct_Nov 2017'!AK337 -> 0 | CA34: ='Survivalexp RAW Oct_Nov 2017'!AR337 -> 0 | CB34: ='Survivalexp RAW Oct_Nov 2017'!AY337 -> 0 | CC34: ='Survivalexp RAW Oct_Nov 2017'!BF337 -> 0
B35: est. nr of bacteria | D35: =D33/$D$8 -> #DIV/0! | E35: =E33/$E$8 -> #DIV/0! | F35: =F33/$F$8 -> #DIV/0! | G35: =G33/$G$8 -> #DIV/0! | H35: =H33/$H$8 -> 492000 | I35: =I33/$I$8 -> 470000 | J35: =J33/$J$8 -> 700000 | K35: =K33/$K$8 -> 2000000 | L35: =H35 -> 492000 | M35: =H36 -> 112328.83 | N35: =N33/$D$8 -> #DIV/0! | O35: =O33/$E$8 -> #DIV/0! | P35: =P33/$F$8 -> #DIV/0! | Q35: =Q33/$G$8 -> #DIV/0! | R35: =R33/$H$8 -> 253000 | S35: =S33/$I$8 -> 620000 | T35: =T33/$J$8 -> 3300000 | U35: =U33/$K$8 -> 18000000 | V35: =R35 -> 253000 | W35: =R36 -> 81654.615 | X35: =X33/$D$8 -> #DIV/0! | Y35: =Y33/$E$8 -> #DIV/0! | Z35: =Z33/$F$8 -> #DIV/0! | AA35: =AA33/$G$8 -> #DIV/0! | AB35: =AB33/$H$8 -> 142000 | AC35: =AC33/$I$8 -> 120000 | AD35: =AD33/$J$8 -> 200000 | AE35: =AE33/$K$8 -> 0 | AF35: =AB35 -> 142000 | AG35: =AB36 -> 64218.039 | AH35: =AH33/$D$8 -> #DIV/0! | AI35: =AI33/$E$8 -> #DIV/0! | AJ35: =AJ33/$F$8 -> #DIV/0! | AK35: =AK33/$G$8 -> 97900 | AL35: =AL33/$H$8 -> 99000 | AM35: =AM33/$I$8 -> 140000 | AN35: =AN33/$J$8 -> 200000 | AO35: =AO33/$K$8 -> 0 | AP35: =AK35 -> 97900 | AQ35: =AK36 -> 14100.22 | AR35: =AR33/$D$8 -> #DIV/0! | AS35: =AS33/$E$8 -> #DIV/0! | AT35: =AT33/$F$8 -> #DIV/0! | AU35: =AU33/$G$8 -> 46400 | AV35: =AV33/$H$8 -> 38000 | AW35: =AW33/$I$8 -> 20000 | AX35: =AX33/$J$8 -> 800000 | AY35: =AY33/$K$8 -> 1000000 | AZ35: =AU35 -> 46400 | BA35: =AU36 -> 11544.838 | BB35: =BB33/$D$8 -> #DIV/0! | BC35: =BC33/$E$8 -> #DIV/0! | BD35: =BD33/$F$8 -> #DIV/0! | BE35: =BE33/$G$8 -> 23900 | BF35: =BF33/$H$8 -> 19000 | BG35: =BG33/$I$8 -> 40000 | BH35: =BH33/$J$8 -> 100000 | BI35: =BI33/$K$8 -> 0 | BJ35: =BE35 -> 23900 | BK35: =BE36 -> 11575.174 | BL35: =BL33/$D$8 -> #DIV/0! | BM35: =BM33/$E$8 -> #DIV/0! | BN35: =BN33/$F$8 -> #DIV/0! | BO35: =BO33/$G$8 -> 8300 | BP35: =BP33/$H$8 -> 1000 | BQ35: =BQ33/$I$8 -> 10000 | BR35: =BR33/$J$8 -> 0 | BS35: =BS33/$K$8 -> 0 | BT35: =BO35 -> 8300 | BU35: =BO36 -> 3544.1487 | BV35: =BV33/$D$8 -> #DIV/0! | BW35: =BW33/$E$8 -> 581 | BX35: =BX33/$F$8 -> 1120 | BY35: =BY33/$G$8 -> 1100 | BZ35: =BZ33/$H$8 -> 0 | CA35: =CA33/$I$8 -> 0 | CB35: =CB33/$J$8 -> 0 | CC35: =CC33/$K$8 -> 0 | CD35: =BW35 -> 581 | CE35: =BW36 -> 157.34852
C36: stdev | D36: =D34/$D$8 -> #DIV/0! | E36: =E34/$E$8 -> #DIV/0! | F36: =F34/$F$8 -> #DIV/0! | G36: =G34/$G$8 -> #DIV/0! | H36: =H34/$H$8 -> 112328.83 | I36: =I34/$I$8 -> 337748.46 | J36: =J34/$J$8 -> 1542658.7 | K36: =K34/$K$8 -> 5477225.6 | N36: =N34/$D$8 -> #DIV/0! | O36: =O34/$E$8 -> #DIV/0! | P36: =P34/$F$8 -> #DIV/0! | Q36: =Q34/$G$8 -> #DIV/0! | R36: =R34/$H$8 -> 81654.615 | S36: =S34/$I$8 -> 400373.96 | T36: =T34/$J$8 -> 3377484.6 | U36: =U34/$K$8 -> 16015340 | X36: =X34/$D$8 -> #DIV/0! | Y36: =Y34/$E$8 -> #DIV/0! | Z36: =Z34/$F$8 -> #DIV/0! | AA36: =AA34/$G$8 -> #DIV/0! | AB36: =AB34/$H$8 -> 64218.039 | AC36: =AC34/$I$8 -> 185156.3 | AD36: =AD34/$J$8 -> 547722.56 | AE36: =AE34/$K$8 -> 0 | AH36: =AH34/$D$8 -> #DIV/0! | AI36: =AI34/$E$8 -> #DIV/0! | AJ36: =AJ34/$F$8 -> #DIV/0! | AK36: =AK34/$G$8 -> 14100.22 | AL36: =AL34/$H$8 -> 79623.226 | AM36: =AM34/$I$8 -> 217830.08 | AN36: =AN34/$J$8 -> 894427.19 | AO36: =AO34/$K$8 -> 0 | AR36: =AR34/$D$8 -> #DIV/0! | AS36: =AS34/$E$8 -> #DIV/0! | AT36: =AT34/$F$8 -> #DIV/0! | AU36: =AU34/$G$8 -> 11544.838 | AV36: =AV34/$H$8 -> 30110.041 | AW36: =AW34/$I$8 -> 89442.719 | AX36: =AX34/$J$8 -> 2302172.9 | AY36: =AY34/$K$8 -> 4472136 | BB36: =BB34/$D$8 -> #DIV/0! | BC36: =BC34/$E$8 -> #DIV/0! | BD36: =BD34/$F$8 -> #DIV/0! | BE36: =BE34/$G$8 -> 11575.174 | BF36: =BF34/$H$8 -> 29120.353 | BG36: =BG34/$I$8 -> 109544.51 | BH36: =BH34/$J$8 -> 447213.6 | BI36: =BI34/$K$8 -> 0 | BL36: =BL34/$D$8 -> #DIV/0! | BM36: =BM34/$E$8 -> #DIV/0! | BN36: =BN34/$F$8 -> #DIV/0! | BO36: =BO34/$G$8 -> 3544.1487 | BP36: =BP34/$H$8 -> 4472.136 | BQ36: =BQ34/$I$8 -> 44721.36 | BR36: =BR34/$J$8 -> 0 | BS36: =BS34/$K$8 -> 0 | BV36: =BV34/$D$8 -> #DIV/0! | BW36: =BW34/$E$8 -> 157.34852 | BX36: =BX34/$F$8 -> 381.1116 | BY36: =BY34/$G$8 -> 2095.4451 | BZ36: =BZ34/$H$8 -> 0 | CA36: =CA34/$I$8 -> 0 | CB36: =CB34/$J$8 -> 0 | CC36: =CC34/$K$8 -> 0
C37: p+3 | D37: ='Survivalexp RAW Oct_Nov 2017'!I46 -> #DIV/0! | E37: ='Survivalexp RAW Oct_Nov 2017'!P46 -> #DIV/0! | F37: ='Survivalexp RAW Oct_Nov 2017'!W46 -> #DIV/0! | G37: ='Survivalexp RAW Oct_Nov 2017'!AD46 -> #DIV/0! | H37: ='Survivalexp RAW Oct_Nov 2017'!AK46 -> 53 | I37: ='Survivalexp RAW Oct_Nov 2017'!AR46 -> 6.5666667 | J37: ='Survivalexp RAW Oct_Nov 2017'!AY46 -> 0.73333333 | K37: ='Survivalexp RAW Oct_Nov 2017'!BF46 -> 0 | N37: ='Survivalexp RAW Oct_Nov 2017'!I88 -> #DIV/0! | O37: ='Survivalexp RAW Oct_Nov 2017'!P88 -> #DIV/0! | P37: ='Survivalexp RAW Oct_Nov 2017'!W88 -> #DIV/0! | Q37: ='Survivalexp RAW Oct_Nov 2017'!AD88 -> #DIV/0! | R37: ='Survivalexp RAW Oct_Nov 2017'!AK88 -> 46.466667 | S37: ='Survivalexp RAW Oct_Nov 2017'!AR88 -> 9.5333333 | T37: ='Survivalexp RAW Oct_Nov 2017'!AY88 -> 3 | U37: ='Survivalexp RAW Oct_Nov 2017'!BF88 -> 2.4666667 | X37: ='Survivalexp RAW Oct_Nov 2017'!I130 -> #DIV/0! | Y37: ='Survivalexp RAW Oct_Nov 2017'!P130 -> #DIV/0! | Z37: ='Survivalexp RAW Oct_Nov 2017'!W130 -> #DIV/0! | AA37: ='Survivalexp RAW Oct_Nov 2017'!AD130 -> #DIV/0! | AB37: ='Survivalexp RAW Oct_Nov 2017'!AK130 -> 27.133333 | AC37: ='Survivalexp RAW Oct_Nov 2017'!AR130 -> 3.6 | AD37: ='Survivalexp RAW Oct_Nov 2017'!AY130 -> 0.53333333 | AE37: ='Survivalexp RAW Oct_Nov 2017'!BF130 -> 0.13333333 | AH37: ='Survivalexp RAW Oct_Nov 2017'!I173 -> #DIV/0! | AI37: ='Survivalexp RAW Oct_Nov 2017'!P173 -> #DIV/0! | AJ37: ='Survivalexp RAW Oct_Nov 2017'!W173 -> #DIV/0! | AK37: ='Survivalexp RAW Oct_Nov 2017'!AD173 -> 97.666667 | AL37: ='Survivalexp RAW Oct_Nov 2017'!AK173 -> 16.266667 | AM37: ='Survivalexp RAW Oct_Nov 2017'!AR173 -> 2.1333333 | AN37: ='Survivalexp RAW Oct_Nov 2017'!AY173 -> 0.2 | AO37: ='Survivalexp RAW Oct_Nov 2017'!BF173 -> 0 | AR37: ='Survivalexp RAW Oct_Nov 2017'!I215 -> #DIV/0! | AS37: ='Survivalexp RAW Oct_Nov 2017'!P215 -> #DIV/0! | AT37: ='Survivalexp RAW Oct_Nov 2017'!W215 -> #DIV/0! | AU37: ='Survivalexp RAW Oct_Nov 2017'!AD215 -> 41.733333 | AV37: ='Survivalexp RAW Oct_Nov 2017'!AK215 -> 5.4666667 | AW37: ='Survivalexp RAW Oct_Nov 2017'!AR215 -> 1.1333333 | AX37: ='Survivalexp RAW Oct_Nov 2017'!AY215 -> 0.13333333 | AY37: ='Survivalexp RAW Oct_Nov 2017'!BF215 -> 0 | BB37: ='Survivalexp RAW Oct_Nov 2017'!I257 -> #DIV/0! | BC37: ='Survivalexp RAW Oct_Nov 2017'!P257 -> #DIV/0! | BD37: ='Survivalexp RAW Oct_Nov 2017'!W257 -> #DIV/0! | BE37: ='Survivalexp RAW Oct_Nov 2017'!AD257 -> 20 | BF37: ='Survivalexp RAW Oct_Nov 2017'!AK257 -> 1.9333333 | BG37: ='Survivalexp RAW Oct_Nov 2017'!AR257 -> 0 | BH37: ='Survivalexp RAW Oct_Nov 2017'!AY257 -> 0 | BI37: ='Survivalexp RAW Oct_Nov 2017'!BF257 -> 0 | BL37: ='Survivalexp RAW Oct_Nov 2017'!I299 -> #DIV/0! | BM37: ='Survivalexp RAW Oct_Nov 2017'!P299 -> #DIV/0! | BN37: ='Survivalexp RAW Oct_Nov 2017'!W299 -> #DIV/0! | BO37: ='Survivalexp RAW Oct_Nov 2017'!AD299 -> 9.9333333 | BP37: ='Survivalexp RAW Oct_Nov 2017'!AK299 -> 0.66666667 | BQ37: ='Survivalexp RAW Oct_Nov 2017'!AR299 -> 0 | BR37: ='Survivalexp RAW Oct_Nov 2017'!AY299 -> 0.066666667 | BS37: ='Survivalexp RAW Oct_Nov 2017'!BF299 -> 0 | BV37: ='Survivalexp RAW Oct_Nov 2017'!I341 -> #DIV/0! | BW37: ='Survivalexp RAW Oct_Nov 2017'!P341 -> 32.8 | BX37: ='Survivalexp RAW Oct_Nov 2017'!W341 -> 4.4 | BY37: ='Survivalexp RAW Oct_Nov 2017'!AD341 -> 0.4 | BZ37: ='Survivalexp RAW Oct_Nov 2017'!AK341 -> 0 | CA37: ='Survivalexp RAW Oct_Nov 2017'!AR341 -> 0 | CB37: ='Survivalexp RAW Oct_Nov 2017'!AY341 -> 0 | CC37: ='Survivalexp RAW Oct_Nov 2017'!BF341 -> 0
C38: stdev | D38: ='Survivalexp RAW Oct_Nov 2017'!I47 -> #DIV/0! | E38: ='Survivalexp RAW Oct_Nov 2017'!P47 -> #DIV/0! | F38: ='Survivalexp RAW Oct_Nov 2017'!W47 -> #DIV/0! | G38: ='Survivalexp RAW Oct_Nov 2017'!AD47 -> #DIV/0! | H38: ='Survivalexp RAW Oct_Nov 2017'!AK47 -> 17.748766 | I38: ='Survivalexp RAW Oct_Nov 2017'!AR47 -> 7.7006039 | J38: ='Survivalexp RAW Oct_Nov 2017'!AY47 -> 2.0642976 | K38: ='Survivalexp RAW Oct_Nov 2017'!BF47 -> 0 | N38: ='Survivalexp RAW Oct_Nov 2017'!I89 -> #DIV/0! | O38: ='Survivalexp RAW Oct_Nov 2017'!P89 -> #DIV/0! | P38: ='Survivalexp RAW Oct_Nov 2017'!W89 -> #DIV/0! | Q38: ='Survivalexp RAW Oct_Nov 2017'!AD89 -> #DIV/0! | R38: ='Survivalexp RAW Oct_Nov 2017'!AK89 -> 17.752571 | S38: ='Survivalexp RAW Oct_Nov 2017'!AR89 -> 8.5919297 | T38: ='Survivalexp RAW Oct_Nov 2017'!AY89 -> 5.9321024 | U38: ='Survivalexp RAW Oct_Nov 2017'!BF89 -> 4.2988345 | X38: ='Survivalexp RAW Oct_Nov 2017'!I131 -> #DIV/0! | Y38: ='Survivalexp RAW Oct_Nov 2017'!P131 -> #DIV/0! | Z38: ='Survivalexp RAW Oct_Nov 2017'!W131 -> #DIV/0! | AA38: ='Survivalexp RAW Oct_Nov 2017'!AD131 -> #DIV/0! | AB38: ='Survivalexp RAW Oct_Nov 2017'!AK131 -> 12.554664 | AC38: ='Survivalexp RAW Oct_Nov 2017'!AR131 -> 4.973832 | AD38: ='Survivalexp RAW Oct_Nov 2017'!AY131 -> 2.2788098 | AE38: ='Survivalexp RAW Oct_Nov 2017'!BF131 -> 0.89442719 | AH38: ='Survivalexp RAW Oct_Nov 2017'!I174 -> #DIV/0! | AI38: ='Survivalexp RAW Oct_Nov 2017'!P174 -> #DIV/0! | AJ38: ='Survivalexp RAW Oct_Nov 2017'!W174 -> #DIV/0! | AK38: ='Survivalexp RAW Oct_Nov 2017'!AD174 -> 27.678417 | AL38: ='Survivalexp RAW Oct_Nov 2017'!AK174 -> 10.621143 | AM38: ='Survivalexp RAW Oct_Nov 2017'!AR174 -> 3.9158607 | AN38: ='Survivalexp RAW Oct_Nov 2017'!AY174 -> 1.3416408 | AO38: ='Survivalexp RAW Oct_Nov 2017'!BF174 -> 0 | AR38: ='Survivalexp RAW Oct_Nov 2017'!I216 -> #DIV/0! | AS38: ='Survivalexp RAW Oct_Nov 2017'!P216 -> #DIV/0! | AT38: ='Survivalexp RAW Oct_Nov 2017'!W216 -> #DIV/0! | AU38: ='Survivalexp RAW Oct_Nov 2017'!AD216 -> 13.483782 | AV38: ='Survivalexp RAW Oct_Nov 2017'!AK216 -> 7.849893 | AW38: ='Survivalexp RAW Oct_Nov 2017'!AR216 -> 6.2675067 | AX38: ='Survivalexp RAW Oct_Nov 2017'!AY216 -> 0.54772256 | AY38: ='Survivalexp RAW Oct_Nov 2017'!BF216 -> 0 | BB38: ='Survivalexp RAW Oct_Nov 2017'!I258 -> #DIV/0! | BC38: ='Survivalexp RAW Oct_Nov 2017'!P258 -> #DIV/0! | BD38: ='Survivalexp RAW Oct_Nov 2017'!W258 -> #DIV/0! | BE38: ='Survivalexp RAW Oct_Nov 2017'!AD258 -> 8.8870662 | BF38: ='Survivalexp RAW Oct_Nov 2017'!AK258 -> 3.3310657 | BG38: ='Survivalexp RAW Oct_Nov 2017'!AR258 -> 0 | BH38: ='Survivalexp RAW Oct_Nov 2017'!AY258 -> 0 | BI38: ='Survivalexp RAW Oct_Nov 2017'!BF258 -> 0 | BL38: ='Survivalexp RAW Oct_Nov 2017'!I300 -> #DIV/0! | BM38: ='Survivalexp RAW Oct_Nov 2017'!P300 -> #DIV/0! | BN38: ='Survivalexp RAW Oct_Nov 2017'!W300 -> #DIV/0! | BO38: ='Survivalexp RAW Oct_Nov 2017'!AD300 -> 6.6804935 | BP38: ='Survivalexp RAW Oct_Nov 2017'!AK300 -> 2.2210426 | BQ38: ='Survivalexp RAW Oct_Nov 2017'!AR300 -> 0 | BR38: ='Survivalexp RAW Oct_Nov 2017'!AY300 -> 0.4472136 | BS38: ='Survivalexp RAW Oct_Nov 2017'!BF300 -> 0 | BV38: ='Survivalexp RAW Oct_Nov 2017'!I342 -> #DIV/0! | BW38: ='Survivalexp RAW Oct_Nov 2017'!P342 -> 21.409119 | BX38: ='Survivalexp RAW Oct_Nov 2017'!W342 -> 6.274845 | BY38: ='Survivalexp RAW Oct_Nov 2017'!AD342 -> 1.4472136 | BZ38: ='Survivalexp RAW Oct_Nov 2017'!AK342 -> 0 | CA38: ='Survivalexp RAW Oct_Nov 2017'!AR342 -> 0 | CB38: ='Survivalexp RAW Oct_Nov 2017'!AY342 -> 0 | CC38: ='Survivalexp RAW Oct_Nov 2017'!BF342 -> 0
B39: est. nr of bacteria | D39: =D37/$D$8 -> #DIV/0! | E39: =E37/$E$8 -> #DIV/0! | F39: =F37/$F$8 -> #DIV/0! | G39: =G37/$G$8 -> #DIV/0! | H39: =H37/$H$8 -> 530000 | I39: =I37/$I$8 -> 656666.67 | J39: =J37/$J$8 -> 733333.33 | K39: =K37/$K$8 -> 0 | L39: =H39 -> 530000 | M39: =H40 -> 177487.66 | N39: =N37/$D$8 -> #DIV/0! | O39: =O37/$E$8 -> #DIV/0! | P39: =P37/$F$8 -> #DIV/0! | Q39: =Q37/$G$8 -> #DIV/0! | R39: =R37/$H$8 -> 464666.67 | S39: =S37/$I$8 -> 953333.33 | T39: =T37/$J$8 -> 3000000 | U39: =U37/$K$8 -> 24666667 | V39: =R39 -> 464666.67 | W39: =R40 -> 177525.71 | X39: =X37/$D$8 -> #DIV/0! | Y39: =Y37/$E$8 -> #DIV/0! | Z39: =Z37/$F$8 -> #DIV/0! | AA39: =AA37/$G$8 -> #DIV/0! | AB39: =AB37/$H$8 -> 271333.33 | AC39: =AC37/$I$8 -> 360000 | AD39: =AD37/$J$8 -> 533333.33 | AE39: =AE37/$K$8 -> 1333333.3 | AF39: =AB39 -> 271333.33 | AG39: =AB40 -> 125546.64 | AH39: =AH37/$D$8 -> #DIV/0! | AI39: =AI37/$E$8 -> #DIV/0! | AJ39: =AJ37/$F$8 -> #DIV/0! | AK39: =AK37/$G$8 -> 97666.667 | AL39: =AL37/$H$8 -> 162666.67 | AM39: =AM37/$I$8 -> 213333.33 | AN39: =AN37/$J$8 -> 200000 | AO39: =AO37/$K$8 -> 0 | AP39: =AL39 -> 162666.67 | AQ39: =AL40 -> 106211.43 | AR39: =AR37/$D$8 -> #DIV/0! | AS39: =AS37/$E$8 -> #DIV/0! | AT39: =AT37/$F$8 -> #DIV/0! | AU39: =AU37/$G$8 -> 41733.333 | AV39: =AV37/$H$8 -> 54666.667 | AW39: =AW37/$I$8 -> 113333.33 | AX39: =AX37/$J$8 -> 133333.33 | AY39: =AY37/$K$8 -> 0 | AZ39: =AU39 -> 41733.333 | BA39: =AU40 -> 13483.782 | BB39: =BB37/$D$8 -> #DIV/0! | BC39: =BC37/$E$8 -> #DIV/0! | BD39: =BD37/$F$8 -> #DIV/0! | BE39: =BE37/$G$8 -> 20000 | BF39: =BF37/$H$8 -> 19333.333 | BG39: =BG37/$I$8 -> 0 | BH39: =BH37/$J$8 -> 0 | BI39: =BI37/$K$8 -> 0 | BJ39: =BE39 -> 20000 | BK39: =BE40 -> 8887.0662 | BL39: =BL37/$D$8 -> #DIV/0! | BM39: =BM37/$E$8 -> #DIV/0! | BN39: =BN37/$F$8 -> #DIV/0! | BO39: =BO37/$G$8 -> 9933.3333 | BP39: =BP37/$H$8 -> 6666.6667 | BQ39: =BQ37/$I$8 -> 0 | BR39: =BR37/$J$8 -> 66666.667 | BS39: =BS37/$K$8 -> 0 | BT39: =BO39 -> 9933.3333 | BU39: =BO40 -> 6680.4935 | BV39: =BV37/$D$8 -> #DIV/0! | BW39: =BW37/$E$8 -> 328 | BX39: =BX37/$F$8 -> 440 | BY39: =BY37/$G$8 -> 400 | BZ39: =BZ37/$H$8 -> 0 | CA39: =CA37/$I$8 -> 0 | CB39: =CB37/$J$8 -> 0 | CC39: =CC37/$K$8 -> 0 | CD39: =BW39 -> 328 | CE39: =BW40 -> 214.09119
C40: stdev | D40: =D38/$D$8 -> #DIV/0! | E40: =E38/$E$8 -> #DIV/0! | F40: =F38/$F$8 -> #DIV/0! | G40: =G38/$G$8 -> #DIV/0! | H40: =H38/$H$8 -> 177487.66 | I40: =I38/$I$8 -> 770060.39 | J40: =J38/$J$8 -> 2064297.6 | K40: =K38/$K$8 -> 0 | N40: =N38/$D$8 -> #DIV/0! | O40: =O38/$E$8 -> #DIV/0! | P40: =P38/$F$8 -> #DIV/0! | Q40: =Q38/$G$8 -> #DIV/0! | R40: =R38/$H$8 -> 177525.71 | S40: =S38/$I$8 -> 859192.97 | T40: =T38/$J$8 -> 5932102.4 | U40: =U38/$K$8 -> 42988345 | X40: =X38/$D$8 -> #DIV/0! | Y40: =Y38/$E$8 -> #DIV/0! | Z40: =Z38/$F$8 -> #DIV/0! | AA40: =AA38/$G$8 -> #DIV/0! | AB40: =AB38/$H$8 -> 125546.64 | AC40: =AC38/$I$8 -> 497383.2 | AD40: =AD38/$J$8 -> 2278809.8 | AE40: =AE38/$K$8 -> 8944271.9 | AH40: =AH38/$D$8 -> #DIV/0! | AI40: =AI38/$E$8 -> #DIV/0! | AJ40: =AJ38/$F$8 -> #DIV/0! | AK40: =AK38/$G$8 -> 27678.417 | AL40: =AL38/$H$8 -> 106211.43 | AM40: =AM38/$I$8 -> 391586.07 | AN40: =AN38/$J$8 -> 1341640.8 | AO40: =AO38/$K$8 -> 0 | AR40: =AR38/$D$8 -> #DIV/0! | AS40: =AS38/$E$8 -> #DIV/0! | AT40: =AT38/$F$8 -> #DIV/0! | AU40: =AU38/$G$8 -> 13483.782 | AV40: =AV38/$H$8 -> 78498.93 | AW40: =AW38/$I$8 -> 626750.67 | AX40: =AX38/$J$8 -> 547722.56 | AY40: =AY38/$K$8 -> 0 | BB40: =BB38/$D$8 -> #DIV/0! | BC40: =BC38/$E$8 -> #DIV/0! | BD40: =BD38/$F$8 -> #DIV/0! | BE40: =BE38/$G$8 -> 8887.0662 | BF40: =BF38/$H$8 -> 33310.657 | BG40: =BG38/$I$8 -> 0 | BH40: =BH38/$J$8 -> 0 | BI40: =BI38/$K$8 -> 0 | BL40: =BL38/$D$8 -> #DIV/0! | BM40: =BM38/$E$8 -> #DIV/0! | BN40: =BN38/$F$8 -> #DIV/0! | BO40: =BO38/$G$8 -> 6680.4935 | BP40: =BP38/$H$8 -> 22210.426 | BQ40: =BQ38/$I$8 -> 0 | BR40: =BR38/$J$8 -> 447213.6 | BS40: =BS38/$K$8 -> 0 | BV40: =BV38/$D$8 -> #DIV/0! | BW40: =BW38/$E$8 -> 214.09119 | BX40: =BX38/$F$8 -> 627.4845 | BY40: =BY38/$G$8 -> 1447.2136 | BZ40: =BZ38/$H$8 -> 0 | CA40: =CA38/$I$8 -> 0 | CB40: =CB38/$J$8 -> 0 | CC40: =CC38/$K$8 -> 0
E42: 1 | F42: 3 | G42: 5 | H42: 10 | I42: 12 | J42: 15 | K42: 17 | L42: 31 | N42: STDEV | P42: 1 | Q42: 3 | R42: 5 | S42: 10 | T42: 12 | U42: 15 | V42: 17 | W42: 31
C43: Numbers | D43: Blank | E43: =$L$11 -> 0 | F43: =$V$11 -> 0 | G43: =$AF$11 -> 0 | H43: =$AP$11 -> 0 | I43: =$AZ$11 -> 0 | J43: =$AP$11 -> 0 | K43: =$AP$11 -> 0 | L43: =$CD11 -> 0 | N43: Numbers | O43: Blank | P43: =$M$11 -> 0 | Q43: =$W$11 -> 0 | R43: =$AG$11 -> 0 | S43: =$AQ$11 -> 0 | T43: =$BA$11 -> 0 | U43: =$BA$11 -> 0 | V43: =$BA$11 -> 0 | W43: =$CE$11 -> 0
D44: BW25113 - | E44: =$L$15 -> 2966666.7 | F44: =$V$15 -> 3280000 | G44: =$AF$15 -> 854000 | H44: =$AP$15 -> 8600 | I44: =$AZ$15 -> 2666.6667 | J44: =$BJ$15 -> 66.666667 | K44: =$BT$15 -> 53.333333 | L44: =$CD15 -> 0 | O44: BW25113 2213F - | P44: =$M$15 -> 1315041 | Q44: =$W$15 -> 1030306.7 | R44: =$AG$15 -> 242054.3 | S44: =$AQ$15 -> 3114.4823 | T44: =BA15 -> 1581.1388 | U44: =BK15 -> 447.2136 | V44: =BU15 -> 89.442719 | W44: =CE15 -> 0
D45: 2213F - p+0 | E45: =$L$19 -> 353000 | F45: =$V$19 -> 140200 | G45: =$AF$19 -> 65600 | H45: =$AP$19 -> 18300 | I45: =$AZ$19 -> 9200 | J45: =$BJ$19 -> 2600 | K45: =$BT$19 -> 1800 | L45: =$CD19 -> 167 | O45: 2213F - p+0 | P45: =$M$19 -> 152923.24 | Q45: =$W$19 -> 14942.038 | R45: =$AG$19 -> 14647.292 | S45: =$AQ$19 -> 8687.6383 | T45: =BA19 -> 4634.2859 | U45: =BK19 -> 3156.5598 | V45: =BU19 -> 1851.563 | W45: =CE19 -> 66.643902
D46: 2213F - p+3 | E46: =$L$23 -> 557333.33 | F46: =$V$23 -> 139200 | G46: =$AF$23 -> 104483.33 | H46: =$AP$23 -> 106133.33 | I46: =$AZ$23 -> 73400 | J46: =$BJ$23 -> 53600 | K46: =$BT$23 -> 45266.667 | L46: =$CD23 -> 1640 | O46: 2213F - p+3 | P46: =$M$23 -> 214610.83 | Q46: =$W$23 -> 22438.704 | R46: =$AG$23 -> 33697.049 | S46: =$AQ$23 -> 32594.047 | T46: =BA23 -> 13633.904 | U46: =BK23 -> 12734.489 | V46: =BU23 -> 15426.713 | W46: =CE23 -> 1176.5361
D47: 2213F A p+0 | E47: =$L$27 -> 476000 | F47: =$V$27 -> 131000 | G47: =$AF$27 -> 91300 | H47: =$AP$27 -> 87900 | I47: =$AZ$27 -> 59266.667 | J47: =$BJ$27 -> 25000 | K47: =$BT$27 -> 14400 | L47: =$CD27 -> 266 | O47: 2213F A p+0 | P47: =$M$27 -> 119254.11 | Q47: =$W$27 -> 65510.214 | R47: =$AG$27 -> 15892.901 | S47: =$AQ$27 -> 10127.859 | T47: =BA27 -> 23045.042 | U47: =BK27 -> 8465.8028 | V47: =BU27 -> 3988.3756 | W47: =CE27 -> 67.009353
D48: 2213F A p+3 | E48: =$L$31 -> 317000 | F48: =$V$31 -> 170000 | G48: =$AF$31 -> 80300 | H48: =$AP$31 -> 33100 | I48: =$AZ$31 -> 17900 | J48: =$BJ$31 -> 6900 | K48: =$BT$31 -> 3700 | L48: =$CD31 -> 382 | O48: 2213F A p+3 | P48: =$M$31 -> 132254.69 | Q48: =$W$31 -> 52717.174 | R48: =$AG$31 -> 9216.7286 | S48: =$AQ$31 -> 7627.6931 | T48: =BA31 -> 7563.9906 | U48: =BK31 -> 4153.1478 | V48: =BU31 -> 5057.1707 | W48: =CE31 -> 91.770462
D49: 2213F APR p+0 | E49: =$L$35 -> 492000 | F49: =$V$35 -> 253000 | G49: =$AF$35 -> 142000 | H49: =$AP$35 -> 97900 | I49: =$AZ$35 -> 46400 | J49: =$BJ$35 -> 23900 | K49: =$BT$35 -> 8300 | L49: =$CD35 -> 581 | O49: 2213F APR p+0 | P49: =$M$35 -> 112328.83 | Q49: =$W$35 -> 81654.615 | R49: =$AG$35 -> 64218.039 | S49: =$AQ$35 -> 14100.22 | T49: =BA35 -> 11544.838 | U49: =BK35 -> 11575.174 | V49: =BU35 -> 3544.1487 | W49: =CE35 -> 157.34852
D50: 2213F APR p+3 | E50: =$L$39 -> 530000 | F50: =$V$39 -> 464666.67 | G50: =$AF$39 -> 271333.33 | H50: =$AP$39 -> 162666.67 | I50: =$AZ$39 -> 41733.333 | J50: =$BJ$39 -> 20000 | K50: =$BT$39 -> 9933.3333 | L50: =$CD39 -> 328 | O50: 2213F APR p+3 | P50: =$M$39 -> 177487.66 | Q50: =$W$39 -> 177525.71 | R50: =$AG$39 -> 125546.64 | S50: =$AQ$39 -> 106211.43 | T50: =BA39 -> 13483.782 | U50: =BK39 -> 8887.0662 | V50: =BU39 -> 6680.4935 | W50: =CE39 -> 214.09119
E52: 1 | F52: 3 | G52: 5 | H52: 10 | I52: 12 | J52: 15 | K52: 17 | L52: 31 | N52: STDEV | P52: 1 | Q52: 3 | R52: 5 | S52: 10 | T52: 12 | U52: 15 | V52: 17 | W52: 31
C53: Percentages | D53: Blank | E53: 0 | F53: 0 | G53: 0 | H53: 0 | I53: 0 | J53: 0 | K53: 0 | L53: =L43 -> 0 | N53: Percentages | O53: Blank | P53: 0 | Q53: 0 | R53: 0 | S53: 0 | T53: 0 | U53: 0 | V53: 0 | W53: 0
D54: BW25113 - | E54: =E44/$E$44*100 -> 100 | F54: =(F44/$E$44)*100 -> 110.5618 | G54: =G44/$E$44*100 -> 28.786517 | H54: =H44/$E$44*100 -> 0.28988764 | I54: =I44/$E$44*100 -> 0.08988764 | J54: =J44/$E$44*100 -> 0.002247191 | K54: =K44/$E$44*100 -> 0.0017977528 | L54: =L44/$E$44*100 -> 0 | O54: BW25113 2213F - | P54: =P44/$E$44*100 -> 44.327225 | Q54: =Q44/$E$44*100 -> 34.72944 | R54: =R44/$E$44*100 -> 8.1591336 | S54: =S44/$E$44*100 -> 0.10498255 | T54: =T44/$E44*100 -> 0.053296814 | U54: =U44/$E44*100 -> 0.015074616 | V54: =V44/$E44*100 -> 0.0030149231 | W54: =W44/$E44*100 -> 0
D55: 2213F - p+0 | E55: =E45/$E$45*100 -> 100 | F55: =F45/$E$45*100 -> 39.716714 | G55: =G45/$E$45*100 -> 18.583569 | H55: =H45/$E$45*100 -> 5.184136 | I55: =I45/$E$44*100 -> 0.31011236 | J55: =J45/$E$44*100 -> 0.087640449 | K55: =K45/$E$44*100 -> 0.060674157 | L55: =L45/$E$45*100 -> 0.047308782 | O55: 2213F - p+0 | P55: =P45/$E$45*100 -> 43.32103 | Q55: =Q45/$E$45*100 -> 4.232872 | R55: =R45/$E$45*100 -> 4.1493746 | S55: =S45/$E$45*100 -> 2.4610873 | T55: =T45/$E45*100 -> 1.3128289 | U55: =U45/$E45*100 -> 0.89420956 | V55: =V45/$E45*100 -> 0.52452211 | W55: =W45/$E45*100 -> 0.018879292
D56: 2213F - p+3 | E56: =E46/$E$46*100 -> 100 | F56: =F46/$E$46*100 -> 24.976077 | G56: =G46/$E$46*100 -> 18.74701 | H56: =H46/$E$46*100 -> 19.043062 | I56: =I46/$E$44*100 -> 2.4741573 | J56: =J46/$E$44*100 -> 1.8067416 | K56: =K46/$E$44*100 -> 1.5258427 | L56: =L46/$E$46*100 -> 0.29425837 | O56: 2213F - p+3 | P56: =P46/$E$46*100 -> 38.506728 | Q56: =Q46/$E$46*100 -> 4.0260833 | R56: =R46/$E$46*100 -> 6.0461213 | S56: =S46/$E$46*100 -> 5.8482142 | T56: =T46/$E46*100 -> 2.4462746 | U56: =U46/$E46*100 -> 2.2848963 | V56: =V46/$E46*100 -> 2.767951 | W56: =W46/$E46*100 -> 0.21110097
D57: 2213F A p+0 | E57: =E47/$E$47*100 -> 100 | F57: =F47/$E$47*100 -> 27.521008 | G57: =G47/$E$47*100 -> 19.180672 | H57: =H47/$E$47*100 -> 18.466387 | I57: =I47/$E$44*100 -> 1.9977528 | J57: =J47/$E$44*100 -> 0.84269663 | K57: =K47/$E$44*100 -> 0.48539326 | L57: =L47/$E$47*100 -> 0.055882353 | O57: 2213F A p+0 | P57: =P47/$E$47*100 -> 25.053384 | Q57: =Q47/$E$47*100 -> 13.76265 | R57: =R47/$E$47*100 -> 3.3388448 | S57: =S47/$E$47*100 -> 2.1277014 | T57: =T47/$E47*100 -> 4.8413954 | U57: =U47/$E47*100 -> 1.77853 | V57: =V47/$E47*100 -> 0.83789402 | W57: =W47/$E47*100 -> 0.014077595
D58: 2213F A p+3 | E58: =E48/$E$48*100 -> 100 | F58: =F48/$E$48*100 -> 53.62776 | G58: =G48/$E$48*100 -> 25.33123 | H58: =H48/$E$48*100 -> 10.44164 | I58: =I48/$E$44*100 -> 0.60337079 | J58: =J48/$E$44*100 -> 0.23258427 | K58: =K48/$E$44*100 -> 0.1247191 | L58: =L48/$E$48*100 -> 0.12050473 | O58: 2213F A p+3 | P58: =P48/$E$48*100 -> 41.720721 | Q58: =Q48/$E$48*100 -> 16.630023 | R58: =R48/$E$48*100 -> 2.9074854 | S58: =S48/$E$48*100 -> 2.4062123 | T58: =T48/$E48*100 -> 2.3861169 | U58: =U48/$E48*100 -> 1.3101412 | V58: =V48/$E48*100 -> 1.595322 | W58: =W48/$E48*100 -> 0.028949673
D59: 2213F APR p+0 | E59: =E49/$E$49*100 -> 100 | F59: =F49/$E$49*100 -> 51.422764 | G59: =G49/$E$49*100 -> 28.861789 | H59: =H49/$E$49*100 -> 19.898374 | I59: =I49/$E$44*100 -> 1.5640449 | J59: =J49/$E$44*100 -> 0.80561798 | K59: =K49/$E$44*100 -> 0.27977528 | L59: =L49/$E$49*100 -> 0.11808943 | O59: 2213F APR p+0 | P59: =P49/$E$49*100 -> 22.831063 | Q59: =Q49/$E$49*100 -> 16.596466 | R59: =R49/$E$49*100 -> 13.052447 | S59: =S49/$E$49*100 -> 2.8658983 | T59: =T49/$E49*100 -> 2.3465118 | U59: =U49/$E49*100 -> 2.3526777 | V59: =V49/$E49*100 -> 0.72035544 | W59: =W49/$E49*100 -> 0.031981407
D60: 2213F APR p+3 | E60: =E50/$E$50*100 -> 100 | F60: =F50/$E$50*100 -> 87.672956 | G60: =G50/$E$50*100 -> 51.194969 | H60: =H50/$E$50*100 -> 30.691824 | I60: =I50/$E$44*100 -> 1.4067416 | J60: =J50/$E$44*100 -> 0.6741573 | K60: =K50/$E$44*100 -> 0.33483146 | L60: =L50/$E$50*100 -> 0.061886792 | O60: 2213F APR p+3 | P60: =P50/$E$50*100 -> 33.488237 | Q60: =Q50/$E$50*100 -> 33.495416 | R60: =R50/$E$50*100 -> 23.688045 | S60: =S50/$E$50*100 -> 20.039892 | T60: =T50/$E50*100 -> 2.5441097 | U60: =U50/$E50*100 -> 1.676805 | V60: =V50/$E50*100 -> 1.2604705 | W60: =W50/$E50*100 -> 0.040394564
