{"text_format":"3","workbook":"xlsx","n_sheets":2,"sheets":["Survivalexp RAW October 2017","Survivalexp results"],"not_rendered":{"charts":1},"read":"whole","date_system":"1900"}

{"sheet":"Survivalexp RAW October 2017","index":0,"n_rows":250,"n_cols":59,"rows_kept":250}
["Survival experiment",{"$nulls":10},"Averages/Stdev Technical replicates"]
["Subject: ",null,"Anaerobic survival after aerobic inoculation of recombinant strains",{"$nulls":8},"Averages/stdev Biological replicates"]
[null,null,"DeBont+Gluconic Acid - Kanamycin only in 2213-/A/APR"]
["Inoculation date",null,"2017-09-30","Started with high OD600: no oxygen present at time of inoculation"]
["Inoculation OD600",null,15,"DH5α 2213F - inoculated at 1.5 (grew worse o/48h)"]
["Inoculated",null,"Blank ","KT2440 WT","2213F -",null,"2213F A",null,"2213F APR"]
[{"$nulls":4},"p+0","p+3","p+0","p+3","p+0",null,"p+3"]
["T1","01okt17"]
["Sample","Dilution:",null,"10^0",{"$nulls":4},"AVERAGE","STDEV","10^-1",{"$nulls":4},"AVERAGE","STDEV","10^-2",{"$nulls":4},"AVERAGE","STDEV","10^-3",{"$nulls":4},"AVERAGE","STDEV","10^-4",{"$nulls":4},"AVERAGE","STDEV","10^-5",{"$nulls":4},"AVERAGE","STDEV","10^-6",{"$nulls":4},"AVERAGE","STDEV","10^-7",{"$nulls":4},"AVERAGE","STDEV"]
["Blank",1,null,0,0,0,0,0,{"$f":"AVERAGE(D10:H10)","v":0},{"$f":"STDEV(D10:H10)","v":0},0,0,0,0,0,{"$f":"AVERAGE(K10:O10)","v":0},{"$f":"STDEV(K10:O10)","v":0},0,0,0,0,0,{"$f":"AVERAGE(R10:V10)","v":0},{"$f":"STDEV(R10:V10)","v":0},0,0,0,0,0,{"$f":"AVERAGE(Y10:AC10)","v":0},{"$f":"STDEV(Y10:AC10)","v":0},0,0,0,0,0,{"$f":"AVERAGE(AF10:AJ10)","v":0},{"$f":"STDEV(AF10:AJ10)","v":0},0,0,0,0,0,{"$f":"AVERAGE(AM10:AQ10)","v":0},{"$f":"STDEV(AM10:AQ10)","v":0},0,0,0,0,0,{"$f":"AVERAGE(AT10:AX10)","v":0},{"$f":"STDEV(AT10:AX10)","v":0},0,0,0,0,0,{"$f":"AVERAGE(BA10:BE10)","v":0},{"$f":"STDEV(BA10:BE10)","v":0}]
[null,2,null,0,0,0,0,0,{"$f":"AVERAGE(D11:H11)","v":0},{"$f":"STDEV(D11:H11)","v":0},0,0,0,0,0,{"$f":"AVERAGE(K11:O11)","v":0},{"$f":"STDEV(K11:O11)","v":0},0,0,0,0,0,{"$f":"AVERAGE(R11:V11)","v":0},{"$f":"STDEV(R11:V11)","v":0},0,0,0,0,0,{"$f":"AVERAGE(Y11:AC11)","v":0},{"$f":"STDEV(Y11:AC11)","v":0},0,0,0,0,0,{"$f":"AVERAGE(AF11:AJ11)","v":0},{"$f":"STDEV(AF11:AJ11)","v":0},0,0,0,0,0,{"$f":"AVERAGE(AM11:AQ11)","v":0},{"$f":"STDEV(AM11:AQ11)","v":0},0,0,0,0,0,{"$f":"AVERAGE(AT11:AX11)","v":0},{"$f":"STDEV(AT11:AX11)","v":0},0,0,0,0,0,{"$f":"AVERAGE(BA11:BE11)","v":0},{"$f":"STDEV(BA11:BE11)","v":0}]
[null,3,null,0,0,0,0,0,{"$f":"AVERAGE(D12:H12)","v":0},{"$f":"STDEV(D12:H12)","v":0},0,0,0,0,0,{"$f":"AVERAGE(K12:O12)","v":0},{"$f":"STDEV(K12:O12)","v":0},0,0,0,0,0,{"$f":"AVERAGE(R12:V12)","v":0},{"$f":"STDEV(R12:V12)","v":0},0,0,0,0,0,{"$f":"AVERAGE(Y12:AC12)","v":0},{"$f":"STDEV(Y12:AC12)","v":0},0,0,0,0,0,{"$f":"AVERAGE(AF12:AJ12)","v":0},{"$f":"STDEV(AF12:AJ12)","v":0},0,0,0,0,0,{"$f":"AVERAGE(AM12:AQ12)","v":0},{"$f":"STDEV(AM12:AQ12)","v":0},0,0,0,0,0,{"$f":"AVERAGE(AT12:AX12)","v":0},{"$f":"STDEV(AT12:AX12)","v":0},0,0,0,0,0,{"$f":"AVERAGE(BA12:BE12)","v":0},{"$f":"STDEV(BA12:BE12)","v":0}]
[{"$nulls":8},{"$f":"AVERAGE(I10:I12)","v":0},{"$nulls":6},{"$f":"AVERAGE(P10:P12)","v":0},{"$nulls":6},{"$f":"AVERAGE(W10:W12)","v":0},{"$nulls":6},{"$f":"AVERAGE(AD10:AD12)","v":0},{"$nulls":6},{"$f":"AVERAGE(AK10:AK12)","v":0},{"$nulls":6},{"$f":"AVERAGE(AR10:AR12)","v":0},{"$nulls":6},{"$f":"AVERAGE(AY10:AY12)","v":0},{"$nulls":6},{"$f":"AVERAGE(BF10:BF12)","v":0}]
[{"$nulls":8},{"$f":"SUM(J10:J12)","v":0},{"$nulls":6},{"$f":"SUM(Q10:Q12)","v":0},{"$nulls":6},{"$f":"SUM(X10:X12)","v":0},{"$nulls":6},{"$f":"SUM(AE10:AE12)","v":0},{"$nulls":6},{"$f":"SUM(AL10:AL12)","v":0},{"$nulls":6},{"$f":"SUM(AS10:AS12)","v":0},{"$nulls":6},{"$f":"SUM(AZ10:AZ12)","v":0},{"$nulls":6},{"$f":"SUM(BG10:BG12)","v":0}]
["DH5α -",1,null,"NA","NA","NA","NA","NA",{"$f":"AVERAGE(D15:H15)","v":{"$error":"#DIV/0!"}},{"$f":"STDEV(D15:H15)","v":{"$error":"#DIV/0!"}},"NA","NA","NA","NA","NA",{"$f":"AVERAGE(K15:O15)","v":{"$error":"#DIV/0!"}},{"$f":"STDEV(K15:O15)","v":{"$error":"#DIV/0!"}},"NA","NA","NA","NA","NA",{"$f":"AVERAGE(R15:V15)","v":{"$error":"#DIV/0!"}},{"$f":"STDEV(R15:V15)","v":{"$error":"#DIV/0!"}},55,53,56,51,50,{"$f":"AVERAGE(Y15:AC15)","v":53},{"$f":"STDEV(Y15:AC15)","v":{"v":2.5495097567963922,"d":"3"}},0,0,0,0,0,{"$f":"AVERAGE(AF15:AJ15)","v":0},{"$f":"STDEV(AF15:AJ15)","v":0},0,0,0,0,0,{"$f":"AVERAGE(AM15:AQ15)","v":0},{"$f":"STDEV(AM15:AQ15)","v":0},0,0,0,0,0,{"$f":"AVERAGE(AT15:AX15)","v":0},{"$f":"STDEV(AT15:AX15)","v":0},0,0,0,0,0,{"$f":"AVERAGE(BA15:BE15)","v":0},{"$f":"STDEV(BA15:BE15)","v":0}]
[null,2,null,"NA","NA","NA","NA","NA",{"$f":"AVERAGE(D16:H16)","v":{"$error":"#DIV/0!"}},{"$f":"STDEV(D16:H16)","v":{"$error":"#DIV/0!"}},"NA","NA","NA","NA","NA",{"$f":"AVERAGE(K16:O16)","v":{"$error":"#DIV/0!"}},{"$f":"STDEV(K16:O16)","v":{"$error":"#DIV/0!"}},"NA","NA","NA","NA","NA",{"$f":"AVERAGE(R16:V16)","v":{"$error":"#DIV/0!"}},{"$f":"STDEV(R16:V16)","v":{"$error":"#DIV/0!"}},104,100,122,100,86,{"$f":"AVERAGE(Y16:AC16)","v":{"v":102.4,"d":"102"}},{"$f":"STDEV(Y16:AC16)","v":{"v":12.915107432770323,"d":"13"}},14,12,12,8,12,{"$f":"AVERAGE(AF16:AJ16)","v":{"v":11.6,"d":"12"}},{"$f":"STDEV(AF16:AJ16)","v":{"v":2.190890230020667,"d":"2"}},0,0,0,0,0,{"$f":"AVERAGE(AM16:AQ16)","v":0},{"$f":"STDEV(AM16:AQ16)","v":0},0,0,0,0,0,{"$f":"AVERAGE(AT16:AX16)","v":0},{"$f":"STDEV(AT16:AX16)","v":0},0,0,0,0,0,{"$f":"AVERAGE(BA16:BE16)","v":0},{"$f":"STDEV(BA16:BE16)","v":0}]
[null,3,null,"NA","NA","NA","NA","NA",{"$f":"AVERAGE(D17:H17)","v":{"$error":"#DIV/0!"}},{"$f":"STDEV(D17:H17)","v":{"$error":"#DIV/0!"}},"NA","NA","NA","NA","NA",{"$f":"AVERAGE(K17:O17)","v":{"$error":"#DIV/0!"}},{"$f":"STDEV(K17:O17)","v":{"$error":"#DIV/0!"}},"NA","NA","NA","NA","NA",{"$f":"AVERAGE(R17:V17)","v":{"$error":"#DIV/0!"}},{"$f":"STDEV(R17:V17)","v":{"$error":"#DIV/0!"}},58,53,49,51,43,{"$f":"AVERAGE(Y17:AC17)","v":{"v":50.8,"d":"51"}},{"$f":"STDEV(Y17:AC17)","v":{"v":5.495452665613634,"d":"5"}},0,0,0,0,0,{"$f":"AVERAGE(AF17:AJ17)","v":0},{"$f":"STDEV(AF17:AJ17)","v":0},0,0,0,0,0,{"$f":"AVERAGE(AM17:AQ17)","v":0},{"$f":"STDEV(AM17:AQ17)","v":0},0,0,0,0,0,{"$f":"AVERAGE(AT17:AX17)","v":0},{"$f":"STDEV(AT17:AX17)","v":0},0,0,0,0,0,{"$f":"AVERAGE(BA17:BE17)","v":0},{"$f":"STDEV(BA17:BE17)","v":0}]
[{"$nulls":8},{"$f":"AVERAGE(I15:I17)","v":{"$error":"#DIV/0!"}},{"$nulls":6},{"$f":"AVERAGE(P15:P17)","v":{"$error":"#DIV/0!"}},{"$nulls":6},{"$f":"AVERAGE(W15:W17)","v":{"$error":"#DIV/0!"}},{"$nulls":6},{"$f":"AVERAGE(AD15:AD17)","v":{"v":68.73333333333333,"d":"69"}},{"$nulls":6},{"$f":"AVERAGE(AK15:AK17)","v":{"v":3.8666666666666667,"d":"4"}},{"$nulls":6},{"$f":"AVERAGE(AR15:AR17)","v":0},{"$nulls":6},{"$f":"AVERAGE(AY15:AY17)","v":0},{"$nulls":6},{"$f":"AVERAGE(BF15:BF17)","v":0}]
[{"$nulls":8},{"$f":"SUM(J15:J17)","v":{"$error":"#DIV/0!"}},{"$nulls":6},{"$f":"SUM(Q15:Q17)","v":{"$error":"#DIV/0!"}},{"$nulls":6},{"$f":"SUM(X15:X17)","v":{"$error":"#DIV/0!"}},{"$nulls":6},{"$f":"SUM(AE15:AE17)","v":{"v":20.96006985518035,"d":"21"}},{"$nulls":6},{"$f":"SUM(AL15:AL17)","v":{"v":2.190890230020667,"d":"2"}},{"$nulls":6},{"$f":"SUM(AS15:AS17)","v":0},{"$nulls":6},{"$f":"SUM(AZ15:AZ17)","v":0},{"$nulls":6},{"$f":"SUM(BG15:BG17)","v":0}]
["WT",1,null,"NA","NA","NA","NA","NA",{"$f":"AVERAGE(D20:H20)","v":{"$error":"#DIV/0!"}},{"$f":"STDEV(D20:H20)","v":{"$error":"#DIV/0!"}},"NA","NA","NA","NA","NA",{"$f":"AVERAGE(K20:O20)","v":{"$error":"#DIV/0!"}},{"$f":"STDEV(K20:O20)","v":{"$error":"#DIV/0!"}},"NA","NA","NA","NA","NA",{"$f":"AVERAGE(R20:V20)","v":{"$error":"#DIV/0!"}},{"$f":"STDEV(R20:V20)","v":{"$error":"#DIV/0!"}},"NA","NA","NA","NA","NA",{"$f":"AVERAGE(Y20:AC20)","v":{"$error":"#DIV/0!"}},{"$f":"STDEV(Y20:AC20)","v":{"$error":"#DIV/0!"}},"NA","NA","NA","NA","NA",{"$f":"AVERAGE(AF20:AJ20)","v":{"$error":"#DIV/0!"}},{"$f":"STDEV(AF20:AJ20)","v":{"$error":"#DIV/0!"}},4,"NA","NA","NA",5,{"$f":"AVERAGE(AM20:AQ20)","v":{"v":4.5,"d":"5"}},{"$f":"STDEV(AM20:AQ20)","v":{"v":0.7071067811865476,"d":"1"}},1,1,0,0,2,{"$f":"AVERAGE(AT20:AX20)","v":{"v":0.8,"d":"1"}},{"$f":"STDEV(AT20:AX20)","v":{"v":0.8366600265340756,"d":"1"}},0,0,0,0,0,{"$f":"AVERAGE(BA20:BE20)","v":0},{"$f":"STDEV(BA20:BE20)","v":0}]
[null,2,null,"NA","NA","NA","NA","NA",{"$f":"AVERAGE(D21:H21)","v":{"$error":"#DIV/0!"}},{"$f":"STDEV(D21:H21)","v":{"$error":"#DIV/0!"}},"NA","NA","NA","NA","NA",{"$f":"AVERAGE(K21:O21)","v":{"$error":"#DIV/0!"}},{"$f":"STDEV(K21:O21)","v":{"$error":"#DIV/0!"}},"NA","NA","NA","NA","NA",{"$f":"AVERAGE(R21:V21)","v":{"$error":"#DIV/0!"}},{"$f":"STDEV(R21:V21)","v":{"$error":"#DIV/0!"}},"NA","NA","NA","NA","NA",{"$f":"AVERAGE(Y21:AC21)","v":{"$error":"#DIV/0!"}},{"$f":"STDEV(Y21:AC21)","v":{"$error":"#DIV/0!"}},52,31,29,37,42,{"$f":"AVERAGE(AF21:AJ21)","v":{"v":38.2,"d":"38"}},{"$f":"STDEV(AF21:AJ21)","v":{"v":9.257429448826496,"d":"9"}},6,10,6,13,7,{"$f":"AVERAGE(AM21:AQ21)","v":{"v":8.4,"d":"8"}},{"$f":"STDEV(AM21:AQ21)","v":{"v":3.0495901363953806,"d":"3"}},1,0,1,0,2,{"$f":"AVERAGE(AT21:AX21)","v":{"v":0.8,"d":"1"}},{"$f":"STDEV(AT21:AX21)","v":{"v":0.8366600265340756,"d":"1"}},0,0,0,0,1,{"$f":"AVERAGE(BA21:BE21)","v":{"v":0.2,"d":"0"}},{"$f":"STDEV(BA21:BE21)","v":{"v":0.4472135954999579,"d":"0"}}]
[null,3,null,"NA","NA","NA","NA","NA",{"$f":"AVERAGE(D22:H22)","v":{"$error":"#DIV/0!"}},{"$f":"STDEV(D22:H22)","v":{"$error":"#DIV/0!"}},"NA","NA","NA","NA","NA",{"$f":"AVERAGE(K22:O22)","v":{"$error":"#DIV/0!"}},{"$f":"STDEV(K22:O22)","v":{"$error":"#DIV/0!"}},"NA","NA","NA","NA","NA",{"$f":"AVERAGE(R22:V22)","v":{"$error":"#DIV/0!"}},{"$f":"STDEV(R22:V22)","v":{"$error":"#DIV/0!"}},"NA","NA","NA","NA","NA",{"$f":"AVERAGE(Y22:AC22)","v":{"$error":"#DIV/0!"}},{"$f":"STDEV(Y22:AC22)","v":{"$error":"#DIV/0!"}},34,35,32,33,26,{"$f":"AVERAGE(AF22:AJ22)","v":32},{"$f":"STDEV(AF22:AJ22)","v":{"v":3.5355339059327378,"d":"4"}},6,4,7,18,11,{"$f":"AVERAGE(AM22:AQ22)","v":{"v":9.2,"d":"9"}},{"$f":"STDEV(AM22:AQ22)","v":{"v":5.540758070878027,"d":"6"}},1,0,0,0,0,{"$f":"AVERAGE(AT22:AX22)","v":{"v":0.2,"d":"0"}},{"$f":"STDEV(AT22:AX22)","v":{"v":0.4472135954999579,"d":"0"}},0,0,0,0,0,{"$f":"AVERAGE(BA22:BE22)","v":0},{"$f":"STDEV(BA22:BE22)","v":0}]
["average",{"$nulls":7},{"$f":"AVERAGE(I20:I22)","v":{"$error":"#DIV/0!"}},{"$nulls":6},{"$f":"AVERAGE(P20:P22)","v":{"$error":"#DIV/0!"}},{"$nulls":6},{"$f":"AVERAGE(W20:W22)","v":{"$error":"#DIV/0!"}},{"$nulls":6},{"$f":"AVERAGE(AD20:AD22)","v":{"$error":"#DIV/0!"}},{"$nulls":6},{"$f":"AVERAGE(AK20:AK22)","v":{"$error":"#DIV/0!"}},{"$nulls":6},{"$f":"AVERAGE(AR20:AR22)","v":{"v":7.366666666666667,"d":"7"}},{"$nulls":6},{"$f":"AVERAGE(AY20:AY22)","v":{"v":0.6,"d":"1"}},{"$nulls":6},{"$f":"AVERAGE(BF20:BF22)","v":{"v":0.06666666666666667,"d":"0"}}]
["stdev",{"$nulls":7},{"$f":"SUM(J20:J22)","v":{"$error":"#DIV/0!"}},{"$nulls":6},{"$f":"SUM(Q20:Q22)","v":{"$error":"#DIV/0!"}},{"$nulls":6},{"$f":"SUM(X20:X22)","v":{"$error":"#DIV/0!"}},{"$nulls":6},{"$f":"SUM(AE20:AE22)","v":{"$error":"#DIV/0!"}},{"$nulls":6},{"$f":"SUM(AL20:AL22)","v":{"$error":"#DIV/0!"}},{"$nulls":6},{"$f":"SUM(AS20:AS22)","v":{"v":9.297454988459956,"d":"9"}},{"$nulls":6},{"$f":"SUM(AZ20:AZ22)","v":{"v":2.120533648568109,"d":"2"}},{"$nulls":6},{"$f":"SUM(BG20:BG22)","v":{"v":0.4472135954999579,"d":"0"}}]
["2213F - ",1,null,"NA","NA","NA","NA","NA",{"$f":"AVERAGE(D25:H25)","v":{"$error":"#DIV/0!"}},{"$f":"STDEV(D25:H25)","v":{"$error":"#DIV/0!"}},"NA","NA","NA","NA","NA",{"$f":"AVERAGE(K25:O25)","v":{"$error":"#DIV/0!"}},{"$f":"STDEV(K25:O25)","v":{"$error":"#DIV/0!"}},"NA","NA","NA","NA","NA",{"$f":"AVERAGE(R25:V25)","v":{"$error":"#DIV/0!"}},{"$f":"STDEV(R25:V25)","v":{"$error":"#DIV/0!"}},"NA","NA","NA","NA","NA",{"$f":"AVERAGE(Y25:AC25)","v":{"$error":"#DIV/0!"}},{"$f":"STDEV(Y25:AC25)","v":{"$error":"#DIV/0!"}},27,22,19,26,22,{"$f":"AVERAGE(AF25:AJ25)","v":{"v":23.2,"d":"23"}},{"$f":"STDEV(AF25:AJ25)","v":{"v":3.271085446759232,"d":"3"}},3,7,3,2,6,{"$f":"AVERAGE(AM25:AQ25)","v":{"v":4.2,"d":"4"}},{"$f":"STDEV(AM25:AQ25)","v":{"v":2.16794833886788,"d":"2"}},0,2,3,2,1,{"$f":"AVERAGE(AT25:AX25)","v":{"v":1.6,"d":"2"}},{"$f":"STDEV(AT25:AX25)","v":{"v":1.1401754250991378,"d":"1"}},1,0,1,0,0,{"$f":"AVERAGE(BA25:BE25)","v":{"v":0.4,"d":"0"}},{"$f":"STDEV(BA25:BE25)","v":{"v":0.5477225575051661,"d":"1"}}]
["p+0",2,null,"NA","NA","NA","NA","NA",{"$f":"AVERAGE(D26:H26)","v":{"$error":"#DIV/0!"}},{"$f":"STDEV(D26:H26)","v":{"$error":"#DIV/0!"}},"NA","NA","NA","NA","NA",{"$f":"AVERAGE(K26:O26)","v":{"$error":"#DIV/0!"}},{"$f":"STDEV(K26:O26)","v":{"$error":"#DIV/0!"}},"NA","NA","NA","NA","NA",{"$f":"AVERAGE(R26:V26)","v":{"$error":"#DIV/0!"}},{"$f":"STDEV(R26:V26)","v":{"$error":"#DIV/0!"}},"NA","NA","NA","NA","NA",{"$f":"AVERAGE(Y26:AC26)","v":{"$error":"#DIV/0!"}},{"$f":"STDEV(Y26:AC26)","v":{"$error":"#DIV/0!"}},95,115,114,126,113,{"$f":"AVERAGE(AF26:AJ26)","v":{"v":112.6,"d":"113"}},{"$f":"STDEV(AF26:AJ26)","v":{"v":11.148990985734988,"d":"11"}},18,15,21,32,17,{"$f":"AVERAGE(AM26:AQ26)","v":{"v":20.6,"d":"21"}},{"$f":"STDEV(AM26:AQ26)","v":{"v":6.7305274681855325,"d":"7"}},1,8,6,2,0,{"$f":"AVERAGE(AT26:AX26)","v":{"v":3.4,"d":"3"}},{"$f":"STDEV(AT26:AX26)","v":{"v":3.4351128074635335,"d":"3"}},0,0,0,0,0,{"$f":"AVERAGE(BA26:BE26)","v":0},{"$f":"STDEV(BA26:BE26)","v":0}]
[null,3,null,"NA","NA","NA","NA","NA",{"$f":"AVERAGE(D27:H27)","v":{"$error":"#DIV/0!"}},{"$f":"STDEV(D27:H27)","v":{"$error":"#DIV/0!"}},"NA","NA","NA","NA","NA",{"$f":"AVERAGE(K27:O27)","v":{"$error":"#DIV/0!"}},{"$f":"STDEV(K27:O27)","v":{"$error":"#DIV/0!"}},"NA","NA","NA","NA","NA",{"$f":"AVERAGE(R27:V27)","v":{"$error":"#DIV/0!"}},{"$f":"STDEV(R27:V27)","v":{"$error":"#DIV/0!"}},122,114,"NA",137,114,{"$f":"AVERAGE(Y27:AC27)","v":{"v":121.75,"d":"122"}},{"$f":"STDEV(Y27:AC27)","v":{"v":10.843584893075414,"d":"11"}},25,16,8,14,20,{"$f":"AVERAGE(AF27:AJ27)","v":{"v":16.6,"d":"17"}},{"$f":"STDEV(AF27:AJ27)","v":{"v":6.3874877690685254,"d":"6"}},4,0,0,5,3,{"$f":"AVERAGE(AM27:AQ27)","v":{"v":2.4,"d":"2"}},{"$f":"STDEV(AM27:AQ27)","v":{"v":2.3021728866442674,"d":"2"}},0,1,0,1,0,{"$f":"AVERAGE(AT27:AX27)","v":{"v":0.4,"d":"0"}},{"$f":"STDEV(AT27:AX27)","v":{"v":0.5477225575051661,"d":"1"}},1,0,0,0,0,{"$f":"AVERAGE(BA27:BE27)","v":{"v":0.2,"d":"0"}},{"$f":"STDEV(BA27:BE27)","v":{"v":0.4472135954999579,"d":"0"}}]
["average",{"$nulls":7},{"$f":"AVERAGE(I25:I27)","v":{"$error":"#DIV/0!"}},{"$nulls":6},{"$f":"AVERAGE(P25:P27)","v":{"$error":"#DIV/0!"}},{"$nulls":6},{"$f":"AVERAGE(W25:W27)","v":{"$error":"#DIV/0!"}},{"$nulls":6},{"$f":"AVERAGE(AD25:AD27)","v":{"$error":"#DIV/0!"}},{"$nulls":6},{"$f":"AVERAGE(AK25:AK27)","v":{"v":50.79999999999999,"d":"51"}},{"$nulls":6},{"$f":"AVERAGE(AR25:AR27)","v":{"v":9.066666666666666,"d":"9"}},{"$nulls":6},{"$f":"AVERAGE(AY25:AY27)","v":{"v":1.8,"d":"2"}},{"$nulls":6},{"$f":"AVERAGE(BF25:BF27)","v":{"v":0.20000000000000004,"d":"0"}}]
["stdev",{"$nulls":7},{"$f":"SUM(J25:J27)","v":{"$error":"#DIV/0!"}},{"$nulls":6},{"$f":"SUM(Q25:Q27)","v":{"$error":"#DIV/0!"}},{"$nulls":6},{"$f":"SUM(X25:X27)","v":{"$error":"#DIV/0!"}},{"$nulls":6},{"$f":"SUM(AE25:AE27)","v":{"$error":"#DIV/0!"}},{"$nulls":6},{"$f":"SUM(AL25:AL27)","v":{"v":20.807564201562744,"d":"21"}},{"$nulls":6},{"$f":"SUM(AS25:AS27)","v":{"v":11.20064869369768,"d":"11"}},{"$nulls":6},{"$f":"SUM(AZ25:AZ27)","v":{"v":5.123010790067838,"d":"5"}},{"$nulls":6},{"$f":"SUM(BG25:BG27)","v":{"v":0.994936153005124,"d":"1"}}]
["p+3",1,null,"NA","NA","NA","NA","NA",{"$f":"AVERAGE(D30:H30)","v":{"$error":"#DIV/0!"}},{"$f":"STDEV(D30:H30)","v":{"$error":"#DIV/0!"}},"NA","NA","NA","NA","NA",{"$f":"AVERAGE(K30:O30)","v":{"$error":"#DIV/0!"}},{"$f":"STDEV(K30:O30)","v":{"$error":"#DIV/0!"}},"NA","NA","NA","NA","NA",{"$f":"AVERAGE(R30:V30)","v":{"$error":"#DIV/0!"}},{"$f":"STDEV(R30:V30)","v":{"$error":"#DIV/0!"}},"NA","NA","NA","NA","NA",{"$f":"AVERAGE(Y30:AC30)","v":{"$error":"#DIV/0!"}},{"$f":"STDEV(Y30:AC30)","v":{"$error":"#DIV/0!"}},16,23,24,22,23,{"v":21.6,"d":"22"},{"$f":"STDEV(AF30:AJ30)","v":{"v":3.2093613071762355,"d":"3"}},3,5,2,4,4,{"$f":"AVERAGE(AM30:AQ30)","v":{"v":3.6,"d":"4"}},{"$f":"STDEV(AM30:AQ30)","v":{"v":1.1401754250991383,"d":"1"}},0,0,0,0,0,{"$f":"AVERAGE(AT30:AX30)","v":0},{"$f":"STDEV(AT30:AX30)","v":0},0,0,0,0,0,{"$f":"AVERAGE(BA30:BE30)","v":0},{"$f":"STDEV(BA30:BE30)","v":0}]
[null,2,null,"NA","NA","NA","NA","NA",{"$f":"AVERAGE(D31:H31)","v":{"$error":"#DIV/0!"}},{"$f":"STDEV(D31:H31)","v":{"$error":"#DIV/0!"}},"NA","NA","NA","NA","NA",{"$f":"AVERAGE(K31:O31)","v":{"$error":"#DIV/0!"}},{"$f":"STDEV(K31:O31)","v":{"$error":"#DIV/0!"}},"NA","NA","NA","NA","NA",{"$f":"AVERAGE(R31:V31)","v":{"$error":"#DIV/0!"}},{"$f":"STDEV(R31:V31)","v":{"$error":"#DIV/0!"}},75,68,63,88,76,{"$f":"AVERAGE(Y31:AC31)","v":74},{"$f":"STDEV(Y31:AC31)","v":{"v":9.460443964212251,"d":"9"}},7,13,10,11,13,{"$f":"AVERAGE(AF31:AJ31)","v":{"v":10.8,"d":"11"}},{"$f":"STDEV(AF31:AJ31)","v":{"v":2.489979919597744,"d":"2"}},0,0,0,0,1,{"$f":"AVERAGE(AM31:AQ31)","v":{"v":0.2,"d":"0"}},{"$f":"STDEV(AM31:AQ31)","v":{"v":0.4472135954999579,"d":"0"}},0,0,0,0,0,{"$f":"AVERAGE(AT31:AX31)","v":0},{"$f":"STDEV(AT31:AX31)","v":0},0,0,0,0,0,{"$f":"AVERAGE(BA31:BE31)","v":0},{"$f":"STDEV(BA31:BE31)","v":0}]
[null,3,null,"NA","NA","NA","NA","NA",{"$f":"AVERAGE(D32:H32)","v":{"$error":"#DIV/0!"}},{"$f":"STDEV(D32:H32)","v":{"$error":"#DIV/0!"}},"NA","NA","NA","NA","NA",{"$f":"AVERAGE(K32:O32)","v":{"$error":"#DIV/0!"}},{"$f":"STDEV(K32:O32)","v":{"$error":"#DIV/0!"}},"NA","NA","NA","NA","NA",{"$f":"AVERAGE(R32:V32)","v":{"$error":"#DIV/0!"}},{"$f":"STDEV(R32:V32)","v":{"$error":"#DIV/0!"}},62,78,72,86,88,{"$f":"AVERAGE(Y32:AC32)","v":{"v":77.2,"d":"77"}},{"$f":"STDEV(Y32:AC32)","v":{"v":10.639548862616302,"d":"11"}},5,9,6,9,4,{"$f":"AVERAGE(AF32:AJ32)","v":{"v":6.6,"d":"7"}},{"$f":"STDEV(AF32:AJ32)","v":{"v":2.302172886644267,"d":"2"}},0,2,3,0,3,{"$f":"AVERAGE(AM32:AQ32)","v":{"v":1.6,"d":"2"}},{"$f":"STDEV(AM32:AQ32)","v":{"v":1.51657508881031,"d":"2"}},0,0,0,0,0,{"$f":"AVERAGE(AT32:AX32)","v":0},{"$f":"STDEV(AT32:AX32)","v":0},0,0,0,0,0,{"$f":"AVERAGE(BA32:BE32)","v":0},{"$f":"STDEV(BA32:BE32)","v":0}]
["average",{"$nulls":7},{"$f":"AVERAGE(I30:I32)","v":{"$error":"#DIV/0!"}},{"$nulls":6},{"$f":"AVERAGE(P30:P32)","v":{"$error":"#DIV/0!"}},{"$nulls":6},{"$f":"AVERAGE(W30:W32)","v":{"$error":"#DIV/0!"}},{"$nulls":6},{"$f":"AVERAGE(AD30:AD32)","v":{"$error":"#DIV/0!"}},{"$nulls":6},{"$f":"AVERAGE(AK30:AK32)","v":{"v":13.000000000000002,"d":"13"}},{"$nulls":6},{"$f":"AVERAGE(AR30:AR32)","v":{"v":1.8,"d":"2"}},{"$nulls":6},{"$f":"AVERAGE(AY30:AY32)","v":0},{"$nulls":6},{"$f":"AVERAGE(BF30:BF32)","v":0}]
["stdev",{"$nulls":7},{"$f":"SUM(J30:J32)","v":{"$error":"#DIV/0!"}},{"$nulls":6},{"$f":"SUM(Q30:Q32)","v":{"$error":"#DIV/0!"}},{"$nulls":6},{"$f":"SUM(X30:X32)","v":{"$error":"#DIV/0!"}},{"$nulls":6},{"$f":"SUM(AE30:AE32)","v":{"$error":"#DIV/0!"}},{"$nulls":6},{"$f":"SUM(AL30:AL32)","v":{"v":8.001514113418246,"d":"8"}},{"$nulls":6},{"$f":"SUM(AS30:AS32)","v":{"v":3.1039641094094064,"d":"3"}},{"$nulls":6},{"$f":"SUM(AZ30:AZ32)","v":0},{"$nulls":6},{"$f":"SUM(BG30:BG32)","v":0}]
["2213F A",1,null,"NA","NA","NA","NA","NA",{"$f":"AVERAGE(D35:H35)","v":{"$error":"#DIV/0!"}},{"$f":"STDEV(D35:H35)","v":{"$error":"#DIV/0!"}},"NA","NA","NA","NA","NA",{"$f":"AVERAGE(K35:O35)","v":{"$error":"#DIV/0!"}},{"$f":"STDEV(K35:O35)","v":{"$error":"#DIV/0!"}},"NA","NA","NA","NA","NA",{"$f":"AVERAGE(R35:V35)","v":{"$error":"#DIV/0!"}},{"$f":"STDEV(R35:V35)","v":{"$error":"#DIV/0!"}},29,25,30,33,23,{"$f":"AVERAGE(Y35:AC35)","v":28},{"$f":"STDEV(Y35:AC35)","v":4},3,1,6,6,4,{"$f":"AVERAGE(AF35:AJ35)","v":4},{"$f":"STDEV(AF35:AJ35)","v":{"v":2.1213203435596424,"d":"2"}},1,0,0,0,0,{"$f":"AVERAGE(AM35:AQ35)","v":{"v":0.2,"d":"0"}},{"$f":"STDEV(AM35:AQ35)","v":{"v":0.4472135954999579,"d":"0"}},0,0,0,0,0,{"$f":"AVERAGE(AT35:AX35)","v":0},{"$f":"STDEV(AT35:AX35)","v":0},0,0,0,0,0,{"$f":"AVERAGE(BA35:BE35)","v":0},{"$f":"STDEV(BA35:BE35)","v":0}]
["p+0",2,null,"NA","NA","NA","NA","NA",{"$f":"AVERAGE(D36:H36)","v":{"$error":"#DIV/0!"}},{"$f":"STDEV(D36:H36)","v":{"$error":"#DIV/0!"}},"NA","NA","NA","NA","NA",{"$f":"AVERAGE(K36:O36)","v":{"$error":"#DIV/0!"}},{"$f":"STDEV(K36:O36)","v":{"$error":"#DIV/0!"}},"NA","NA","NA","NA","NA",{"$f":"AVERAGE(R36:V36)","v":{"$error":"#DIV/0!"}},{"$f":"STDEV(R36:V36)","v":{"$error":"#DIV/0!"}},45,61,73,64,56,{"$f":"AVERAGE(Y36:AC36)","v":{"v":59.8,"d":"60"}},{"$f":"STDEV(Y36:AC36)","v":{"v":10.329569206893375,"d":"10"}},5,8,11,7,10,{"$f":"AVERAGE(AF36:AJ36)","v":{"v":8.2,"d":"8"}},{"$f":"STDEV(AF36:AJ36)","v":{"v":2.387467277262665,"d":"2"}},1,1,0,4,1,{"$f":"AVERAGE(AM36:AQ36)","v":{"v":1.4,"d":"1"}},{"$f":"STDEV(AM36:AQ36)","v":{"v":1.51657508881031,"d":"2"}},0,0,0,0,0,{"$f":"AVERAGE(AT36:AX36)","v":0},{"$f":"STDEV(AT36:AX36)","v":0},0,0,0,0,0,{"$f":"AVERAGE(BA36:BE36)","v":0},{"$f":"STDEV(BA36:BE36)","v":0}]
[null,3,null,"NA","NA","NA","NA","NA",{"$f":"AVERAGE(D37:H37)","v":{"$error":"#DIV/0!"}},{"$f":"STDEV(D37:H37)","v":{"$error":"#DIV/0!"}},"NA","NA","NA","NA","NA",{"$f":"AVERAGE(K37:O37)","v":{"$error":"#DIV/0!"}},{"$f":"STDEV(K37:O37)","v":{"$error":"#DIV/0!"}},"NA","NA","NA","NA","NA",{"$f":"AVERAGE(R37:V37)","v":{"$error":"#DIV/0!"}},{"$f":"STDEV(R37:V37)","v":{"$error":"#DIV/0!"}},57,60,98,76,51,{"$f":"AVERAGE(Y37:AC37)","v":{"v":68.4,"d":"68"}},{"$f":"STDEV(Y37:AC37)","v":{"v":18.955210365490544,"d":"19"}},11,6,13,15,4,{"$f":"AVERAGE(AF37:AJ37)","v":{"v":9.8,"d":"10"}},{"$f":"STDEV(AF37:AJ37)","v":{"v":4.658325879540847,"d":"5"}},1,12,4,2,7,{"$f":"AVERAGE(AM37:AQ37)","v":{"v":5.2,"d":"5"}},{"$f":"STDEV(AM37:AQ37)","v":{"v":4.43846820423443,"d":"4"}},0,0,0,0,0,{"$f":"AVERAGE(AT37:AX37)","v":0},{"$f":"STDEV(AT37:AX37)","v":0},0,0,0,0,0,{"$f":"AVERAGE(BA37:BE37)","v":0},{"$f":"STDEV(BA37:BE37)","v":0}]
["average",{"$nulls":7},{"$f":"AVERAGE(I35:I37)","v":{"$error":"#DIV/0!"}},{"$nulls":6},{"$f":"AVERAGE(P35:P37)","v":{"$error":"#DIV/0!"}},{"$nulls":6},{"$f":"AVERAGE(W35:W37)","v":{"$error":"#DIV/0!"}},{"$nulls":6},{"$f":"AVERAGE(AD35:AD37)","v":{"v":52.06666666666666,"d":"52"}},{"$nulls":6},{"$f":"AVERAGE(AK35:AK37)","v":{"v":7.333333333333333,"d":"7"}},{"$nulls":6},{"$f":"AVERAGE(AR35:AR37)","v":{"v":2.2666666666666666,"d":"2"}},{"$nulls":6},{"$f":"AVERAGE(AY35:AY37)","v":0},{"$nulls":6},{"$f":"AVERAGE(BF35:BF37)","v":0}]
["stdev",{"$nulls":7},{"$f":"SUM(J35:J37)","v":{"$error":"#DIV/0!"}},{"$nulls":6},{"$f":"SUM(Q35:Q37)","v":{"$error":"#DIV/0!"}},{"$nulls":6},{"$f":"SUM(X35:X37)","v":{"$error":"#DIV/0!"}},{"$nulls":6},{"$f":"SUM(AE35:AE37)","v":{"v":33.28477957238392,"d":"33"}},{"$nulls":6},{"$f":"SUM(AL35:AL37)","v":{"v":9.167113500363154,"d":"9"}},{"$nulls":6},{"$f":"SUM(AS35:AS37)","v":{"v":6.402256888544698,"d":"6"}},{"$nulls":6},{"$f":"SUM(AZ35:AZ37)","v":0},{"$nulls":6},{"$f":"SUM(BG35:BG37)","v":0}]
["p+3",1,null,"NA","NA","NA","NA","NA",{"$f":"AVERAGE(D40:H40)","v":{"$error":"#DIV/0!"}},{"$f":"STDEV(D40:H40)","v":{"$error":"#DIV/0!"}},"NA","NA","NA","NA","NA",{"$f":"AVERAGE(K40:O40)","v":{"$error":"#DIV/0!"}},{"$f":"STDEV(K40:O40)","v":{"$error":"#DIV/0!"}},"NA","NA","NA","NA","NA",{"$f":"AVERAGE(R40:V40)","v":{"$error":"#DIV/0!"}},{"$f":"STDEV(R40:V40)","v":{"$error":"#DIV/0!"}},46,61,57,55,80,{"$f":"AVERAGE(Y40:AC40)","v":{"v":59.8,"d":"60"}},{"$f":"STDEV(Y40:AC40)","v":{"v":12.557866060760475,"d":"13"}},10,8,11,8,9,{"$f":"AVERAGE(AF40:AJ40)","v":{"v":9.2,"d":"9"}},{"$f":"STDEV(AF40:AJ40)","v":{"v":1.3038404810405309,"d":"1"}},0,1,0,0,2,{"$f":"AVERAGE(AM40:AQ40)","v":{"v":0.6,"d":"1"}},{"$f":"STDEV(AM40:AQ40)","v":{"v":0.8944271909999159,"d":"1"}},0,0,0,0,0,{"$f":"AVERAGE(AT40:AX40)","v":0},{"$f":"STDEV(AT40:AX40)","v":0},0,0,0,1,0,{"$f":"AVERAGE(BA40:BE40)","v":{"v":0.2,"d":"0"}},{"$f":"STDEV(BA40:BE40)","v":{"v":0.4472135954999579,"d":"0"}}]
[null,2,null,"NA","NA","NA","NA","NA",{"$f":"AVERAGE(D41:H41)","v":{"$error":"#DIV/0!"}},{"$f":"STDEV(D41:H41)","v":{"$error":"#DIV/0!"}},"NA","NA","NA","NA","NA",{"$f":"AVERAGE(K41:O41)","v":{"$error":"#DIV/0!"}},{"$f":"STDEV(K41:O41)","v":{"$error":"#DIV/0!"}},"NA","NA","NA","NA","NA",{"$f":"AVERAGE(R41:V41)","v":{"$error":"#DIV/0!"}},{"$f":"STDEV(R41:V41)","v":{"$error":"#DIV/0!"}},51,58,51,57,43,{"$f":"AVERAGE(Y41:AC41)","v":52},{"$f":"STDEV(Y41:AC41)","v":6},9,8,5,8,8,{"$f":"AVERAGE(AF41:AJ41)","v":{"v":7.6,"d":"8"}},{"$f":"STDEV(AF41:AJ41)","v":{"v":1.5165750888103091,"d":"2"}},1,1,1,0,3,{"$f":"AVERAGE(AM41:AQ41)","v":{"v":1.2,"d":"1"}},{"$f":"STDEV(AM41:AQ41)","v":{"v":1.0954451150103321,"d":"1"}},0,0,0,0,0,{"$f":"AVERAGE(AT41:AX41)","v":0},{"$f":"STDEV(AT41:AX41)","v":0},0,0,0,2,1,{"$f":"AVERAGE(BA41:BE41)","v":{"v":0.6,"d":"1"}},{"$f":"STDEV(BA41:BE41)","v":{"v":0.8944271909999159,"d":"1"}}]
[null,3,null,"NA","NA","NA","NA","NA",{"$f":"AVERAGE(D42:H42)","v":{"$error":"#DIV/0!"}},{"$f":"STDEV(D42:H42)","v":{"$error":"#DIV/0!"}},"NA","NA","NA","NA","NA",{"$f":"AVERAGE(K42:O42)","v":{"$error":"#DIV/0!"}},{"$f":"STDEV(K42:O42)","v":{"$error":"#DIV/0!"}},"NA","NA","NA","NA","NA",{"$f":"AVERAGE(R42:V42)","v":{"$error":"#DIV/0!"}},{"$f":"STDEV(R42:V42)","v":{"$error":"#DIV/0!"}},37,35,39,36,35,{"$f":"AVERAGE(Y42:AC42)","v":{"v":36.4,"d":"36"}},{"$f":"STDEV(Y42:AC42)","v":{"v":1.6733200530681511,"d":"2"}},3,8,3,6,3,{"$f":"AVERAGE(AF42:AJ42)","v":{"v":4.6,"d":"5"}},{"$f":"STDEV(AF42:AJ42)","v":{"v":2.302172886644268,"d":"2"}},0,1,0,0,0,{"$f":"AVERAGE(AM42:AQ42)","v":{"v":0.2,"d":"0"}},{"$f":"STDEV(AM42:AQ42)","v":{"v":0.4472135954999579,"d":"0"}},0,0,0,0,0,{"$f":"AVERAGE(AT42:AX42)","v":0},{"$f":"STDEV(AT42:AX42)","v":0},0,0,0,1,2,{"$f":"AVERAGE(BA42:BE42)","v":{"v":0.6,"d":"1"}},{"$f":"STDEV(BA42:BE42)","v":{"v":0.8944271909999159,"d":"1"}}]
["average",{"$nulls":7},{"$f":"AVERAGE(I40:I42)","v":{"$error":"#DIV/0!"}},{"$nulls":6},{"$f":"AVERAGE(P40:P42)","v":{"$error":"#DIV/0!"}},{"$nulls":6},{"$f":"AVERAGE(W40:W42)","v":{"$error":"#DIV/0!"}},{"$nulls":6},{"$f":"AVERAGE(AD40:AD42)","v":{"v":49.4,"d":"49"}},{"$nulls":6},{"$f":"AVERAGE(AK40:AK42)","v":{"v":7.133333333333333,"d":"7"}},{"$nulls":6},{"$f":"AVERAGE(AR40:AR42)","v":{"v":0.6666666666666666,"d":"1"}},{"$nulls":6},{"$f":"AVERAGE(AY40:AY42)","v":0},{"$nulls":6},{"$f":"AVERAGE(BF40:BF42)","v":{"v":0.4666666666666666,"d":"0"}}]
["stdev",{"$nulls":7},{"$f":"SUM(J40:J42)","v":{"$error":"#DIV/0!"}},{"$nulls":6},{"$f":"SUM(Q40:Q42)","v":{"$error":"#DIV/0!"}},{"$nulls":6},{"$f":"SUM(X40:X42)","v":{"$error":"#DIV/0!"}},{"$nulls":6},{"$f":"SUM(AE40:AE42)","v":{"v":20.231186113828628,"d":"20"}},{"$nulls":6},{"$f":"SUM(AL40:AL42)","v":{"v":5.122588456495108,"d":"5"}},{"$nulls":6},{"$f":"SUM(AS40:AS42)","v":{"v":2.4370859015102058,"d":"2"}},{"$nulls":6},{"$f":"SUM(AZ40:AZ42)","v":0},{"$nulls":6},{"$f":"SUM(BG40:BG42)","v":{"v":2.23606797749979,"d":"2"}}]
["2213F APR",1,null,"NA","NA","NA","NA","NA",{"$f":"AVERAGE(D45:H45)","v":{"$error":"#DIV/0!"}},{"$f":"STDEV(D45:H45)","v":{"$error":"#DIV/0!"}},"NA","NA","NA","NA","NA",{"$f":"AVERAGE(K45:O45)","v":{"$error":"#DIV/0!"}},{"$f":"STDEV(K45:O45)","v":{"$error":"#DIV/0!"}},"NA","NA","NA","NA","NA",{"$f":"AVERAGE(R45:V45)","v":{"$error":"#DIV/0!"}},{"$f":"STDEV(R45:V45)","v":{"$error":"#DIV/0!"}},"NA","NA","NA","NA","NA",{"$f":"AVERAGE(Y45:AC45)","v":{"$error":"#DIV/0!"}},{"$f":"STDEV(Y45:AC45)","v":{"$error":"#DIV/0!"}},13,"NA","NA",22,22,{"$f":"AVERAGE(AF45:AJ45)","v":19},{"$f":"STDEV(AF45:AJ45)","v":{"v":5.196152422706632,"d":"5"}},3,"NA","NA","NA",3,{"$f":"AVERAGE(AM45:AQ45)","v":3},{"$f":"STDEV(AM45:AQ45)","v":0},0,0,0,0,0,{"$f":"AVERAGE(AT45:AX45)","v":0},{"$f":"STDEV(AT45:AX45)","v":0},0,0,0,0,0,{"$f":"AVERAGE(BA45:BE45)","v":0},{"$f":"STDEV(BA45:BE45)","v":0}]
["p+0",2,null,"NA","NA","NA","NA","NA",{"$f":"AVERAGE(D46:H46)","v":{"$error":"#DIV/0!"}},{"$f":"STDEV(D46:H46)","v":{"$error":"#DIV/0!"}},"NA","NA","NA","NA","NA",{"$f":"AVERAGE(K46:O46)","v":{"$error":"#DIV/0!"}},{"$f":"STDEV(K46:O46)","v":{"$error":"#DIV/0!"}},"NA","NA","NA","NA","NA",{"$f":"AVERAGE(R46:V46)","v":{"$error":"#DIV/0!"}},{"$f":"STDEV(R46:V46)","v":{"$error":"#DIV/0!"}},49,72,125,69,60,{"$f":"AVERAGE(Y46:AC46)","v":75},{"$f":"STDEV(Y46:AC46)","v":{"v":29.351320242878344,"d":"29"}},12,12,15,16,14,{"$f":"AVERAGE(AF46:AJ46)","v":{"v":13.8,"d":"14"}},{"$f":"STDEV(AF46:AJ46)","v":{"v":1.7888543819998286,"d":"2"}},2,0,6,0,1,{"$f":"AVERAGE(AM46:AQ46)","v":{"v":1.8,"d":"2"}},{"$f":"STDEV(AM46:AQ46)","v":{"v":2.4899799195977463,"d":"2"}},0,0,0,0,0,{"$f":"AVERAGE(AT46:AX46)","v":0},{"$f":"STDEV(AT46:AX46)","v":0},0,0,2,0,0,{"$f":"AVERAGE(BA46:BE46)","v":{"v":0.4,"d":"0"}},{"$f":"STDEV(BA46:BE46)","v":{"v":0.8944271909999159,"d":"1"}}]
[null,3,null,"NA","NA","NA","NA","NA",{"$f":"AVERAGE(D47:H47)","v":{"$error":"#DIV/0!"}},{"$f":"STDEV(D47:H47)","v":{"$error":"#DIV/0!"}},"NA","NA","NA","NA","NA",{"$f":"AVERAGE(K47:O47)","v":{"$error":"#DIV/0!"}},{"$f":"STDEV(K47:O47)","v":{"$error":"#DIV/0!"}},"NA","NA","NA","NA","NA",{"$f":"AVERAGE(R47:V47)","v":{"$error":"#DIV/0!"}},{"$f":"STDEV(R47:V47)","v":{"$error":"#DIV/0!"}},69,73,82,75,77,{"$f":"AVERAGE(Y47:AC47)","v":{"v":75.2,"d":"75"}},{"$f":"STDEV(Y47:AC47)","v":{"v":4.8166378315169185,"d":"5"}},11,13,12,15,17,{"$f":"AVERAGE(AF47:AJ47)","v":{"v":13.6,"d":"14"}},{"$f":"STDEV(AF47:AJ47)","v":{"v":2.4083189157584615,"d":"2"}},3,0,0,0,0,{"$f":"AVERAGE(AM47:AQ47)","v":{"v":0.6,"d":"1"}},{"$f":"STDEV(AM47:AQ47)","v":{"v":1.3416407864998738,"d":"1"}},0,0,0,0,0,{"$f":"AVERAGE(AT47:AX47)","v":0},{"$f":"STDEV(AT47:AX47)","v":0},0,0,0,0,0,{"$f":"AVERAGE(BA47:BE47)","v":0},{"$f":"STDEV(BA47:BE47)","v":0}]
["average",{"$nulls":7},{"$f":"AVERAGE(I45:I47)","v":{"$error":"#DIV/0!"}},{"$nulls":6},{"$f":"AVERAGE(P45:P47)","v":{"$error":"#DIV/0!"}},{"$nulls":6},{"$f":"AVERAGE(W45:W47)","v":{"$error":"#DIV/0!"}},{"$nulls":6},{"$f":"AVERAGE(AD45:AD47)","v":{"$error":"#DIV/0!"}},{"$nulls":6},{"$f":"AVERAGE(AK45:AK47)","v":{"v":15.466666666666667,"d":"15"}},{"$nulls":6},{"$f":"AVERAGE(AR45:AR47)","v":{"v":1.7999999999999998,"d":"2"}},{"$nulls":6},{"$f":"AVERAGE(AY45:AY47)","v":0},{"$nulls":6},{"$f":"AVERAGE(BF45:BF47)","v":{"v":0.13333333333333333,"d":"0"}}]
["stdev",{"$nulls":7},{"$f":"SUM(J45:J47)","v":{"$error":"#DIV/0!"}},{"$nulls":6},{"$f":"SUM(Q45:Q47)","v":{"$error":"#DIV/0!"}},{"$nulls":6},{"$f":"SUM(X45:X47)","v":{"$error":"#DIV/0!"}},{"$nulls":6},{"$f":"SUM(AE45:AE47)","v":{"$error":"#DIV/0!"}},{"$nulls":6},{"$f":"SUM(AL45:AL47)","v":{"v":9.393325720464922,"d":"9"}},{"$nulls":6},{"$f":"SUM(AS45:AS47)","v":{"v":3.8316207060976204,"d":"4"}},{"$nulls":6},{"$f":"SUM(AZ45:AZ47)","v":0},{"$nulls":6},{"$f":"SUM(BG45:BG47)","v":{"v":0.8944271909999159,"d":"1"}}]
["p+3",1,null,"NA","NA","NA","NA","NA",{"$f":"AVERAGE(D50:H50)","v":{"$error":"#DIV/0!"}},{"$f":"STDEV(D50:H50)","v":{"$error":"#DIV/0!"}},"NA","NA","NA","NA","NA",{"$f":"AVERAGE(K50:O50)","v":{"$error":"#DIV/0!"}},{"$f":"STDEV(K50:O50)","v":{"$error":"#DIV/0!"}},"NA","NA","NA","NA","NA",{"$f":"AVERAGE(R50:V50)","v":{"$error":"#DIV/0!"}},{"$f":"STDEV(R50:V50)","v":{"$error":"#DIV/0!"}},63,78,71,63,55,{"$f":"AVERAGE(Y50:AC50)","v":66},{"$f":"STDEV(Y50:AC50)","v":{"v":8.774964387392123,"d":"9"}},11,8,6,15,13,{"$f":"AVERAGE(AF50:AJ50)","v":{"v":10.6,"d":"11"}},{"$f":"STDEV(AF50:AJ50)","v":{"v":3.6469165057620954,"d":"4"}},0,1,2,2,0,{"$f":"AVERAGE(AM50:AQ50)","v":1},{"$f":"STDEV(AM50:AQ50)","v":1},0,0,0,0,0,{"$f":"AVERAGE(AT50:AX50)","v":0},{"$f":"STDEV(AT50:AX50)","v":0},0,0,0,0,0,{"$f":"AVERAGE(BA50:BE50)","v":0},{"$f":"STDEV(BA50:BE50)","v":0}]
[null,2,null,"NA","NA","NA","NA","NA",{"$f":"AVERAGE(D51:H51)","v":{"$error":"#DIV/0!"}},{"$f":"STDEV(D51:H51)","v":{"$error":"#DIV/0!"}},"NA","NA","NA","NA","NA",{"$f":"AVERAGE(K51:O51)","v":{"$error":"#DIV/0!"}},{"$f":"STDEV(K51:O51)","v":{"$error":"#DIV/0!"}},"NA","NA","NA","NA","NA",{"$f":"AVERAGE(R51:V51)","v":{"$error":"#DIV/0!"}},{"$f":"STDEV(R51:V51)","v":{"$error":"#DIV/0!"}},21,21,23,19,21,{"$f":"AVERAGE(Y51:AC51)","v":21},{"$f":"STDEV(Y51:AC51)","v":{"v":1.4142135623730951,"d":"1"}},1,2,1,2,2,{"$f":"AVERAGE(AF51:AJ51)","v":{"v":1.6,"d":"2"}},{"$f":"STDEV(AF51:AJ51)","v":{"v":0.547722557505166,"d":"1"}},0,0,0,1,1,{"$f":"AVERAGE(AM51:AQ51)","v":{"v":0.4,"d":"0"}},{"$f":"STDEV(AM51:AQ51)","v":{"v":0.5477225575051661,"d":"1"}},0,0,0,0,0,{"$f":"AVERAGE(AT51:AX51)","v":0},{"$f":"STDEV(AT51:AX51)","v":0},1,0,0,1,3,{"$f":"AVERAGE(BA51:BE51)","v":1},{"$f":"STDEV(BA51:BE51)","v":{"v":1.224744871391589,"d":"1"}}]
[null,3,null,"NA","NA","NA","NA","NA",{"$f":"AVERAGE(D52:H52)","v":{"$error":"#DIV/0!"}},{"$f":"STDEV(D52:H52)","v":{"$error":"#DIV/0!"}},"NA","NA","NA","NA","NA",{"$f":"AVERAGE(K52:O52)","v":{"$error":"#DIV/0!"}},{"$f":"STDEV(K52:O52)","v":{"$error":"#DIV/0!"}},"NA","NA","NA","NA","NA",{"$f":"AVERAGE(R52:V52)","v":{"$error":"#DIV/0!"}},{"$f":"STDEV(R52:V52)","v":{"$error":"#DIV/0!"}},122,111,101,107,96,{"$f":"AVERAGE(Y52:AC52)","v":{"v":107.4,"d":"107"}},{"$f":"STDEV(Y52:AC52)","v":{"v":9.96493853468249,"d":"10"}},17,21,18,21,24,{"$f":"AVERAGE(AF52:AJ52)","v":{"v":20.2,"d":"20"}},{"$f":"STDEV(AF52:AJ52)","v":{"v":2.7748873851023195,"d":"3"}},3,3,2,2,1,{"$f":"AVERAGE(AM52:AQ52)","v":{"v":2.2,"d":"2"}},{"$f":"STDEV(AM52:AQ52)","v":{"v":0.8366600265340757,"d":"1"}},1,0,0,0,1,{"$f":"AVERAGE(AT52:AX52)","v":{"v":0.4,"d":"0"}},{"$f":"STDEV(AT52:AX52)","v":{"v":0.5477225575051661,"d":"1"}},1,1,1,0,0,{"$f":"AVERAGE(BA52:BE52)","v":{"v":0.6,"d":"1"}},{"$f":"STDEV(BA52:BE52)","v":{"v":0.5477225575051661,"d":"1"}}]
["average",{"$nulls":7},{"$f":"AVERAGE(I50:I52)","v":{"$error":"#DIV/0!"}},{"$nulls":6},{"$f":"AVERAGE(P50:P52)","v":{"$error":"#DIV/0!"}},{"$nulls":6},{"$f":"AVERAGE(W50:W52)","v":{"$error":"#DIV/0!"}},{"$nulls":6},{"$f":"AVERAGE(AD50:AD52)","v":{"v":64.8,"d":"65"}},{"$nulls":6},{"$f":"AVERAGE(AK50:AK52)","v":{"v":10.799999999999999,"d":"11"}},{"$nulls":6},{"$f":"AVERAGE(AR50:AR52)","v":{"v":1.2,"d":"1"}},{"$nulls":6},{"$f":"AVERAGE(AY50:AY52)","v":{"v":0.13333333333333333,"d":"0"}},{"$nulls":6},{"$f":"AVERAGE(BF50:BF52)","v":{"v":0.5333333333333333,"d":"1"}}]
["stdev",{"$nulls":7},{"$f":"SUM(J50:J52)","v":{"$error":"#DIV/0!"}},{"$nulls":6},{"$f":"SUM(Q50:Q52)","v":{"$error":"#DIV/0!"}},{"$nulls":6},{"$f":"SUM(X50:X52)","v":{"$error":"#DIV/0!"}},{"$nulls":6},{"$f":"SUM(AE50:AE52)","v":{"v":20.15411648444771,"d":"20"}},{"$nulls":6},{"$f":"SUM(AL50:AL52)","v":{"v":6.969526448369581,"d":"7"}},{"$nulls":6},{"$f":"SUM(AS50:AS52)","v":{"v":2.384382584039242,"d":"2"}},{"$nulls":6},{"$f":"SUM(AZ50:AZ52)","v":{"v":0.5477225575051661,"d":"1"}},{"$nulls":6},{"$f":"SUM(BG50:BG52)","v":{"v":1.772467428896755,"d":"2"}}]
[]
[]
[null,"2017-10-04"]
["Sample","Dilution:",null,1,{"$nulls":4},"AVERAGE",null,{"$f":"10^-1","v":0.1},{"$nulls":4},"AVERAGE",null,{"$f":"10^-2","v":0.01},{"$nulls":4},"AVERAGE",null,{"$f":"10^-3","v":{"v":1E-3,"d":"1.00E-03"}},{"$nulls":4},"AVERAGE",null,"10^-4",{"$nulls":4},"AVERAGE",null,"10^-5",{"$nulls":4},"AVERAGE",null,"10^-6",{"$nulls":4},"AVERAGE",null,"10^-7",{"$nulls":4},"AVERAGE"]
["Blank",1,null,0,0,0,0,0,{"$f":"AVERAGE(D59:H59)","v":0},{"$f":"STDEV(D59:H59)","v":0},0,0,0,0,0,{"$f":"AVERAGE(K59:O59)","v":0},{"$f":"STDEV(K59:O59)","v":0},0,0,0,0,0,{"$f":"AVERAGE(R59:V59)","v":0},{"$f":"STDEV(R59:V59)","v":0},0,0,0,0,0,{"$f":"AVERAGE(Y59:AC59)","v":0},{"$f":"STDEV(Y59:AC59)","v":0},0,0,0,0,0,{"$f":"AVERAGE(AF59:AJ59)","v":0},{"$f":"STDEV(AF59:AJ59)","v":0},0,0,0,0,0,{"$f":"AVERAGE(AM59:AQ59)","v":0},{"$f":"STDEV(AM59:AQ59)","v":0},0,0,0,0,0,{"$f":"AVERAGE(AT59:AX59)","v":0},{"$f":"STDEV(AT59:AX59)","v":0},0,0,0,0,0,{"$f":"AVERAGE(BA59:BE59)","v":0},{"$f":"STDEV(BA59:BE59)","v":0}]
[null,2,null,0,0,0,0,0,{"$f":"AVERAGE(D60:H60)","v":0},{"$f":"STDEV(D60:H60)","v":0},0,0,0,0,0,{"$f":"AVERAGE(K60:O60)","v":0},{"$f":"STDEV(K60:O60)","v":0},0,0,0,0,0,{"$f":"AVERAGE(R60:V60)","v":0},{"$f":"STDEV(R60:V60)","v":0},0,0,0,0,0,{"$f":"AVERAGE(Y60:AC60)","v":0},{"$f":"STDEV(Y60:AC60)","v":0},0,0,0,0,0,{"$f":"AVERAGE(AF60:AJ60)","v":0},{"$f":"STDEV(AF60:AJ60)","v":0},0,0,0,0,0,{"$f":"AVERAGE(AM60:AQ60)","v":0},{"$f":"STDEV(AM60:AQ60)","v":0},0,0,0,0,0,{"$f":"AVERAGE(AT60:AX60)","v":0},{"$f":"STDEV(AT60:AX60)","v":0},0,0,0,0,0,{"$f":"AVERAGE(BA60:BE60)","v":0},{"$f":"STDEV(BA60:BE60)","v":0}]
[null,3,null,0,0,0,0,0,{"$f":"AVERAGE(D61:H61)","v":0},{"$f":"STDEV(D61:H61)","v":0},0,0,0,0,0,{"$f":"AVERAGE(K61:O61)","v":0},{"$f":"STDEV(K61:O61)","v":0},0,0,0,0,0,{"$f":"AVERAGE(R61:V61)","v":0},{"$f":"STDEV(R61:V61)","v":0},0,0,0,0,0,{"$f":"AVERAGE(Y61:AC61)","v":0},{"$f":"STDEV(Y61:AC61)","v":0},0,0,0,0,0,{"$f":"AVERAGE(AF61:AJ61)","v":0},{"$f":"STDEV(AF61:AJ61)","v":0},0,0,0,0,0,{"$f":"AVERAGE(AM61:AQ61)","v":0},{"$f":"STDEV(AM61:AQ61)","v":0},0,0,0,0,0,{"$f":"AVERAGE(AT61:AX61)","v":0},{"$f":"STDEV(AT61:AX61)","v":0},0,0,0,0,0,{"$f":"AVERAGE(BA61:BE61)","v":0},{"$f":"STDEV(BA61:BE61)","v":0}]
[{"$nulls":8},{"$f":"AVERAGE(I59:I61)","v":0},{"$nulls":6},{"$f":"AVERAGE(P59:P61)","v":0},{"$nulls":6},{"$f":"AVERAGE(W59:W61)","v":0},{"$nulls":6},{"$f":"AVERAGE(AD59:AD61)","v":0},{"$nulls":6},{"$f":"AVERAGE(AK59:AK61)","v":0},{"$nulls":6},{"$f":"AVERAGE(AR59:AR61)","v":0},{"$nulls":6},{"$f":"AVERAGE(AY59:AY61)","v":0},{"$nulls":6},{"$f":"AVERAGE(BF59:BF61)","v":0}]
[{"$nulls":8},{"$f":"SUM(J59:J61)","v":0},{"$nulls":6},{"$f":"SUM(Q59:Q61)","v":0},{"$nulls":6},{"$f":"SUM(X59:X61)","v":0},{"$nulls":6},{"$f":"SUM(AE59:AE61)","v":0},{"$nulls":6},{"$f":"SUM(AL59:AL61)","v":0},{"$nulls":6},{"$f":"SUM(AS59:AS61)","v":0},{"$nulls":6},{"$f":"SUM(AZ59:AZ61)","v":0},{"$nulls":6},{"$f":"SUM(BG59:BG61)","v":0}]
["DH5α -",1,null,"NA","NA","NA","NA","NA",{"$f":"AVERAGE(D64:H64)","v":{"$error":"#DIV/0!"}},{"$f":"STDEV(D64:H64)","v":{"$error":"#DIV/0!"}},"NA","NA","NA","NA","NA",{"$f":"AVERAGE(K64:O64)","v":{"$error":"#DIV/0!"}},{"$f":"STDEV(K64:O64)","v":{"$error":"#DIV/0!"}},66,76,83,86,72,{"$f":"AVERAGE(R64:V64)","v":{"v":76.6,"d":"77"}},{"$f":"STDEV(R64:V64)","v":{"v":8.1117199162693,"d":"8"}},0,0,0,0,0,{"$f":"AVERAGE(Y64:AC64)","v":0},{"$f":"STDEV(Y64:AC64)","v":0},0,0,0,0,0,{"$f":"AVERAGE(AF64:AJ64)","v":0},{"$f":"STDEV(AF64:AJ64)","v":0},0,0,0,0,0,{"$f":"AVERAGE(AM64:AQ64)","v":0},{"$f":"STDEV(AM64:AQ64)","v":0},0,0,0,0,0,{"$f":"AVERAGE(AT64:AX64)","v":0},{"$f":"STDEV(AT64:AX64)","v":0},0,0,0,0,0,{"$f":"AVERAGE(BA64:BE64)","v":0},{"$f":"STDEV(BA64:BE64)","v":0}]
[null,2,null,"NA","NA","NA","NA","NA",{"$f":"AVERAGE(D65:H65)","v":{"$error":"#DIV/0!"}},{"$f":"STDEV(D65:H65)","v":{"$error":"#DIV/0!"}},"NA","NA","NA","NA","NA",{"$f":"AVERAGE(K65:O65)","v":{"$error":"#DIV/0!"}},{"$f":"STDEV(K65:O65)","v":{"$error":"#DIV/0!"}},140,95,96,112,111,{"$f":"AVERAGE(R65:V65)","v":{"v":110.8,"d":"111"}},{"$f":"STDEV(R65:V65)","v":{"v":18.185158784019478,"d":"18"}},0,0,0,0,0,{"$f":"AVERAGE(Y65:AC65)","v":0},{"$f":"STDEV(Y65:AC65)","v":0},0,0,0,0,0,{"$f":"AVERAGE(AF65:AJ65)","v":0},{"$f":"STDEV(AF65:AJ65)","v":0},0,0,0,0,0,{"$f":"AVERAGE(AM65:AQ65)","v":0},{"$f":"STDEV(AM65:AQ65)","v":0},0,0,0,0,0,{"$f":"AVERAGE(AT65:AX65)","v":0},{"$f":"STDEV(AT65:AX65)","v":0},0,0,0,0,0,{"$f":"AVERAGE(BA65:BE65)","v":0},{"$f":"STDEV(BA65:BE65)","v":0}]
[null,3,null,"NA","NA","NA","NA","NA",{"$f":"AVERAGE(D66:H66)","v":{"$error":"#DIV/0!"}},{"$f":"STDEV(D66:H66)","v":{"$error":"#DIV/0!"}},"NA","NA","NA","NA","NA",{"$f":"AVERAGE(K66:O66)","v":{"$error":"#DIV/0!"}},{"$f":"STDEV(K66:O66)","v":{"$error":"#DIV/0!"}},32,29,40,42,40,{"$f":"AVERAGE(R66:V66)","v":{"v":36.6,"d":"37"}},{"$f":"STDEV(R66:V66)","v":{"v":5.7271284253105375,"d":"6"}},0,0,0,0,0,{"$f":"AVERAGE(Y66:AC66)","v":0},{"$f":"STDEV(Y66:AC66)","v":0},0,0,0,0,0,{"$f":"AVERAGE(AF66:AJ66)","v":0},{"$f":"STDEV(AF66:AJ66)","v":0},0,0,0,0,0,{"$f":"AVERAGE(AM66:AQ66)","v":0},{"$f":"STDEV(AM66:AQ66)","v":0},0,0,0,0,0,{"$f":"AVERAGE(AT66:AX66)","v":0},{"$f":"STDEV(AT66:AX66)","v":0},0,0,0,0,0,{"$f":"AVERAGE(BA66:BE66)","v":0},{"$f":"STDEV(BA66:BE66)","v":0}]
[{"$nulls":8},{"$f":"AVERAGE(I64:I66)","v":{"$error":"#DIV/0!"}},{"$nulls":6},{"$f":"AVERAGE(P64:P66)","v":{"$error":"#DIV/0!"}},{"$nulls":6},{"$f":"AVERAGE(W64:W66)","v":{"v":74.66666666666666,"d":"75"}},{"$nulls":6},{"$f":"AVERAGE(AD64:AD66)","v":0},{"$nulls":6},{"$f":"AVERAGE(AK64:AK66)","v":0},{"$nulls":6},{"$f":"AVERAGE(AR64:AR66)","v":0},{"$nulls":6},{"$f":"AVERAGE(AY64:AY66)","v":0},{"$nulls":6},{"$f":"AVERAGE(BF64:BF66)","v":0}]
[{"$nulls":8},{"$f":"SUM(J64:J66)","v":{"$error":"#DIV/0!"}},{"$nulls":6},{"$f":"SUM(Q64:Q66)","v":{"$error":"#DIV/0!"}},{"$nulls":6},{"$f":"SUM(X64:X66)","v":{"v":32.02400712559932,"d":"32"}},{"$nulls":6},{"$f":"SUM(AE64:AE66)","v":0},{"$nulls":6},{"$f":"SUM(AL64:AL66)","v":0},{"$nulls":6},{"$f":"SUM(AS64:AS66)","v":0},{"$nulls":6},{"$f":"SUM(AZ64:AZ66)","v":0},{"$nulls":6},{"$f":"SUM(BG64:BG66)","v":0}]
["WT",1,null,"NA","NA","NA","NA","NA",{"$f":"AVERAGE(D69:H69)","v":{"$error":"#DIV/0!"}},{"$f":"STDEV(D69:H69)","v":{"$error":"#DIV/0!"}},"NA","NA","NA","NA","NA",{"$f":"AVERAGE(K69:O69)","v":{"$error":"#DIV/0!"}},{"$f":"STDEV(K69:O69)","v":{"$error":"#DIV/0!"}},68,60,69,79,63,{"$f":"AVERAGE(R69:V69)","v":{"v":67.8,"d":"68"}},{"$f":"STDEV(R69:V69)","v":{"v":7.259476565152614,"d":"7"}},10,12,11,8,14,{"$f":"AVERAGE(Y69:AC69)","v":11},{"$f":"STDEV(Y69:AC69)","v":{"v":2.23606797749979,"d":"2"}},1,1,4,1,1,{"$f":"AVERAGE(AF69:AJ69)","v":{"v":1.6,"d":"2"}},{"$f":"STDEV(AF69:AJ69)","v":{"v":1.3416407864998738,"d":"1"}},0,0,0,0,0,{"$f":"AVERAGE(AM69:AQ69)","v":0},{"$f":"STDEV(AM69:AQ69)","v":0},0,0,0,0,0,{"$f":"AVERAGE(AT69:AX69)","v":0},{"$f":"STDEV(AT69:AX69)","v":0},0,0,0,0,0,{"$f":"AVERAGE(BA69:BE69)","v":0},{"$f":"STDEV(BA69:BE69)","v":0}]
[null,2,null,"NA","NA","NA","NA","NA",{"$f":"AVERAGE(D70:H70)","v":{"$error":"#DIV/0!"}},{"$f":"STDEV(D70:H70)","v":{"$error":"#DIV/0!"}},"NA","NA","NA","NA","NA",{"$f":"AVERAGE(K70:O70)","v":{"$error":"#DIV/0!"}},{"$f":"STDEV(K70:O70)","v":{"$error":"#DIV/0!"}},81,57,68,71,64,{"$f":"AVERAGE(R70:V70)","v":{"v":68.2,"d":"68"}},{"$f":"STDEV(R70:V70)","v":{"v":8.87130204648674,"d":"9"}},14,17,13,9,9,{"$f":"AVERAGE(Y70:AC70)","v":{"v":12.4,"d":"12"}},{"$f":"STDEV(Y70:AC70)","v":{"v":3.4351128074635353,"d":"3"}},2,2,3,2,2,{"$f":"AVERAGE(AF70:AJ70)","v":{"v":2.2,"d":"2"}},{"$f":"STDEV(AF70:AJ70)","v":{"v":0.44721359549995815,"d":"0"}},0,0,0,0,1,{"$f":"AVERAGE(AM70:AQ70)","v":{"v":0.2,"d":"0"}},{"$f":"STDEV(AM70:AQ70)","v":{"v":0.4472135954999579,"d":"0"}},0,0,0,0,0,{"$f":"AVERAGE(AT70:AX70)","v":0},{"$f":"STDEV(AT70:AX70)","v":0},0,0,0,0,0,{"$f":"AVERAGE(BA70:BE70)","v":0},{"$f":"STDEV(BA70:BE70)","v":0}]
[null,3,null,"NA","NA","NA","NA","NA",{"$f":"AVERAGE(D71:H71)","v":{"$error":"#DIV/0!"}},{"$f":"STDEV(D71:H71)","v":{"$error":"#DIV/0!"}},"NA","NA","NA","NA","NA",{"$f":"AVERAGE(K71:O71)","v":{"$error":"#DIV/0!"}},{"$f":"STDEV(K71:O71)","v":{"$error":"#DIV/0!"}},62,74,67,60,63,{"$f":"AVERAGE(R71:V71)","v":{"v":65.2,"d":"65"}},{"$f":"STDEV(R71:V71)","v":{"v":5.540758070878028,"d":"6"}},12,9,7,10,11,{"$f":"AVERAGE(Y71:AC71)","v":{"v":9.8,"d":"10"}},{"$f":"STDEV(Y71:AC71)","v":{"v":1.9235384061671352,"d":"2"}},2,0,1,0,1,{"$f":"AVERAGE(AF71:AJ71)","v":{"v":0.8,"d":"1"}},{"$f":"STDEV(AF71:AJ71)","v":{"v":0.8366600265340756,"d":"1"}},0,0,0,0,0,{"$f":"AVERAGE(AM71:AQ71)","v":0},{"$f":"STDEV(AM71:AQ71)","v":0},0,0,0,0,0,{"$f":"AVERAGE(AT71:AX71)","v":0},{"$f":"STDEV(AT71:AX71)","v":0},0,0,0,0,0,{"$f":"AVERAGE(BA71:BE71)","v":0},{"$f":"STDEV(BA71:BE71)","v":0}]
["average",{"$nulls":7},{"$f":"AVERAGE(I69:I71)","v":{"$error":"#DIV/0!"}},{"$nulls":6},{"$f":"AVERAGE(P69:P71)","v":{"$error":"#DIV/0!"}},{"$nulls":6},{"$f":"AVERAGE(W69:W71)","v":{"v":67.06666666666666,"d":"67"}},{"$nulls":6},{"$f":"AVERAGE(AD69:AD71)","v":{"v":11.066666666666668,"d":"11"}},{"$nulls":6},{"$f":"AVERAGE(AK69:AK71)","v":{"v":1.5333333333333334,"d":"2"}},{"$nulls":6},{"$f":"AVERAGE(AR69:AR71)","v":{"v":0.06666666666666667,"d":"0"}},{"$nulls":6},{"$f":"AVERAGE(AY69:AY71)","v":0},{"$nulls":6},{"$f":"AVERAGE(BF69:BF71)","v":0}]
["stdev",{"$nulls":7},{"$f":"SUM(J69:J71)","v":{"$error":"#DIV/0!"}},{"$nulls":6},{"$f":"SUM(Q69:Q71)","v":{"$error":"#DIV/0!"}},{"$nulls":6},{"$f":"SUM(X69:X71)","v":{"v":21.67153668251738,"d":"22"}},{"$nulls":6},{"$f":"SUM(AE69:AE71)","v":{"v":7.59471919113046,"d":"8"}},{"$nulls":6},{"$f":"SUM(AL69:AL71)","v":{"v":2.6255144085339075,"d":"3"}},{"$nulls":6},{"$f":"SUM(AS69:AS71)","v":{"v":0.4472135954999579,"d":"0"}},{"$nulls":6},{"$f":"SUM(AZ69:AZ71)","v":0},{"$nulls":6},{"$f":"SUM(BG69:BG71)","v":0}]
["2213F - ",1,null,"NA","NA","NA","NA","NA",{"$f":"AVERAGE(D74:H74)","v":{"$error":"#DIV/0!"}},{"$f":"STDEV(D74:H74)","v":{"$error":"#DIV/0!"}},"NA","NA","NA","NA","NA",{"$f":"AVERAGE(K74:O74)","v":{"$error":"#DIV/0!"}},{"$f":"STDEV(K74:O74)","v":{"$error":"#DIV/0!"}},45,47,58,46,52,{"$f":"AVERAGE(R74:V74)","v":{"v":49.6,"d":"50"}},{"$f":"STDEV(R74:V74)","v":{"v":5.412947441089743,"d":"5"}},4,6,7,6,3,{"$f":"AVERAGE(Y74:AC74)","v":{"v":5.2,"d":"5"}},{"$f":"STDEV(Y74:AC74)","v":{"v":1.6431676725154991,"d":"2"}},1,0,2,0,0,{"$f":"AVERAGE(AF74:AJ74)","v":{"v":0.6,"d":"1"}},{"$f":"STDEV(AF74:AJ74)","v":{"v":0.8944271909999159,"d":"1"}},0,0,0,0,0,{"$f":"AVERAGE(AM74:AQ74)","v":0},{"$f":"STDEV(AM74:AQ74)","v":0},0,0,0,0,0,{"$f":"AVERAGE(AT74:AX74)","v":0},{"$f":"STDEV(AT74:AX74)","v":0},0,0,0,0,0,{"$f":"AVERAGE(BA74:BE74)","v":0},{"$f":"STDEV(BA74:BE74)","v":0}]
["p+0",2,null,"NA","NA","NA","NA","NA",{"$f":"AVERAGE(D75:H75)","v":{"$error":"#DIV/0!"}},{"$f":"STDEV(D75:H75)","v":{"$error":"#DIV/0!"}},"NA","NA","NA","NA","NA",{"$f":"AVERAGE(K75:O75)","v":{"$error":"#DIV/0!"}},{"$f":"STDEV(K75:O75)","v":{"$error":"#DIV/0!"}},77,76,80,79,76,{"$f":"AVERAGE(R75:V75)","v":{"v":77.6,"d":"78"}},{"$f":"STDEV(R75:V75)","v":{"v":1.816590212458495,"d":"2"}},8,13,12,6,20,{"$f":"AVERAGE(Y75:AC75)","v":{"v":11.8,"d":"12"}},{"$f":"STDEV(Y75:AC75)","v":{"v":5.4037024344425175,"d":"5"}},2,1,0,1,1,{"$f":"AVERAGE(AF75:AJ75)","v":1},{"$f":"STDEV(AF75:AJ75)","v":{"v":0.7071067811865476,"d":"1"}},0,0,0,0,0,{"$f":"AVERAGE(AM75:AQ75)","v":0},{"$f":"STDEV(AM75:AQ75)","v":0},0,0,0,0,0,{"$f":"AVERAGE(AT75:AX75)","v":0},{"$f":"STDEV(AT75:AX75)","v":0},0,0,0,0,0,{"$f":"AVERAGE(BA75:BE75)","v":0},{"$f":"STDEV(BA75:BE75)","v":0}]
[null,3,null,"NA","NA","NA","NA","NA",{"$f":"AVERAGE(D76:H76)","v":{"$error":"#DIV/0!"}},{"$f":"STDEV(D76:H76)","v":{"$error":"#DIV/0!"}},"NA","NA","NA","NA","NA",{"$f":"AVERAGE(K76:O76)","v":{"$error":"#DIV/0!"}},{"$f":"STDEV(K76:O76)","v":{"$error":"#DIV/0!"}},63,45,54,65,55,{"$f":"AVERAGE(R76:V76)","v":{"v":56.4,"d":"56"}},{"$f":"STDEV(R76:V76)","v":{"v":7.987490219086355,"d":"8"}},6,14,9,12,12,{"$f":"AVERAGE(Y76:AC76)","v":{"v":10.6,"d":"11"}},{"$f":"STDEV(Y76:AC76)","v":{"v":3.1304951684997073,"d":"3"}},4,2,0,1,1,{"$f":"AVERAGE(AF76:AJ76)","v":{"v":1.6,"d":"2"}},{"$f":"STDEV(AF76:AJ76)","v":{"v":1.51657508881031,"d":"2"}},0,0,0,0,0,{"$f":"AVERAGE(AM76:AQ76)","v":0},{"$f":"STDEV(AM76:AQ76)","v":0},0,0,0,0,0,{"$f":"AVERAGE(AT76:AX76)","v":0},{"$f":"STDEV(AT76:AX76)","v":0},0,0,0,0,0,{"$f":"AVERAGE(BA76:BE76)","v":0},{"$f":"STDEV(BA76:BE76)","v":0}]
["average",{"$nulls":7},{"$f":"AVERAGE(I74:I76)","v":{"$error":"#DIV/0!"}},{"$nulls":6},{"$f":"AVERAGE(P74:P76)","v":{"$error":"#DIV/0!"}},{"$nulls":6},{"$f":"AVERAGE(W74:W76)","v":{"v":61.199999999999996,"d":"61"}},{"$nulls":6},{"$f":"AVERAGE(AD74:AD76)","v":{"v":9.200000000000001,"d":"9"}},{"$nulls":6},{"$f":"AVERAGE(AK74:AK76)","v":{"v":1.0666666666666667,"d":"1"}},{"$nulls":6},{"$f":"AVERAGE(AR74:AR76)","v":0},{"$nulls":6},{"$f":"AVERAGE(AY74:AY76)","v":0},{"$nulls":6},{"$f":"AVERAGE(BF74:BF76)","v":0}]
["stdev",{"$nulls":7},{"$f":"SUM(J74:J76)","v":{"$error":"#DIV/0!"}},{"$nulls":6},{"$f":"SUM(Q74:Q76)","v":{"$error":"#DIV/0!"}},{"$nulls":6},{"$f":"SUM(X74:X76)","v":{"v":15.217027872634592,"d":"15"}},{"$nulls":6},{"$f":"SUM(AE74:AE76)","v":{"v":10.177365275457724,"d":"10"}},{"$nulls":6},{"$f":"SUM(AL74:AL76)","v":{"v":3.1181090609967734,"d":"3"}},{"$nulls":6},{"$f":"SUM(AS74:AS76)","v":0},{"$nulls":6},{"$f":"SUM(AZ74:AZ76)","v":0},{"$nulls":6},{"$f":"SUM(BG74:BG76)","v":0}]
["p+3",1,null,"NA","NA","NA","NA","NA",{"$f":"AVERAGE(D79:H79)","v":{"$error":"#DIV/0!"}},{"$f":"STDEV(D79:H79)","v":{"$error":"#DIV/0!"}},155,137,147,153,165,{"$f":"AVERAGE(K79:O79)","v":{"v":151.4,"d":"151"}},{"$f":"STDEV(K79:O79)","v":{"v":10.33440854621105,"d":"10"}},28,35,25,28,27,{"$f":"AVERAGE(R79:V79)","v":{"v":28.6,"d":"29"}},{"$f":"STDEV(R79:V79)","v":{"v":3.7815340802378015,"d":"4"}},1,3,5,3,4,{"$f":"AVERAGE(Y79:AC79)","v":{"v":3.2,"d":"3"}},{"$f":"STDEV(Y79:AC79)","v":{"v":1.4832396974191324,"d":"1"}},1,2,1,0,0,{"$f":"AVERAGE(AF79:AJ79)","v":{"v":0.8,"d":"1"}},{"$f":"STDEV(AF79:AJ79)","v":{"v":0.8366600265340756,"d":"1"}},0,0,0,0,0,{"$f":"AVERAGE(AM79:AQ79)","v":0},{"$f":"STDEV(AM79:AQ79)","v":0},0,0,0,0,0,{"$f":"AVERAGE(AT79:AX79)","v":0},{"$f":"STDEV(AT79:AX79)","v":0},0,0,0,0,0,{"$f":"AVERAGE(BA79:BE79)","v":0},{"$f":"STDEV(BA79:BE79)","v":0}]
[null,2,null,"NA","NA","NA","NA","NA",{"$f":"AVERAGE(D80:H80)","v":{"$error":"#DIV/0!"}},{"$f":"STDEV(D80:H80)","v":{"$error":"#DIV/0!"}},67,69,80,77,71,{"$f":"AVERAGE(K80:O80)","v":{"v":72.8,"d":"73"}},{"$f":"STDEV(K80:O80)","v":{"v":5.495452665613635,"d":"5"}},8,16,10,15,14,{"$f":"AVERAGE(R80:V80)","v":{"v":12.6,"d":"13"}},{"$f":"STDEV(R80:V80)","v":{"v":3.4351128074635353,"d":"3"}},1,4,0,1,1,{"$f":"AVERAGE(Y80:AC80)","v":{"v":1.4,"d":"1"}},{"$f":"STDEV(Y80:AC80)","v":{"v":1.51657508881031,"d":"2"}},0,1,0,0,0,{"$f":"AVERAGE(AF80:AJ80)","v":{"v":0.2,"d":"0"}},{"$f":"STDEV(AF80:AJ80)","v":{"v":0.4472135954999579,"d":"0"}},0,0,0,0,0,{"$f":"AVERAGE(AM80:AQ80)","v":0},{"$f":"STDEV(AM80:AQ80)","v":0},0,0,0,0,0,{"$f":"AVERAGE(AT80:AX80)","v":0},{"$f":"STDEV(AT80:AX80)","v":0},0,0,0,0,0,{"$f":"AVERAGE(BA80:BE80)","v":0},{"$f":"STDEV(BA80:BE80)","v":0}]
[null,3,null,"NA","NA","NA","NA","NA",{"$f":"AVERAGE(D81:H81)","v":{"$error":"#DIV/0!"}},{"$f":"STDEV(D81:H81)","v":{"$error":"#DIV/0!"}},"NA","NA","NA","NA","NA",{"$f":"AVERAGE(K81:O81)","v":{"$error":"#DIV/0!"}},{"$f":"STDEV(K81:O81)","v":{"$error":"#DIV/0!"}},43,52,40,46,43,{"$f":"AVERAGE(R81:V81)","v":{"v":44.8,"d":"45"}},{"$f":"STDEV(R81:V81)","v":{"v":4.54972526643093,"d":"5"}},6,8,5,6,13,{"$f":"AVERAGE(Y81:AC81)","v":{"v":7.6,"d":"8"}},{"$f":"STDEV(Y81:AC81)","v":{"v":3.209361307176242,"d":"3"}},1,2,1,0,2,{"$f":"AVERAGE(AF81:AJ81)","v":{"v":1.2,"d":"1"}},{"$f":"STDEV(AF81:AJ81)","v":{"v":0.8366600265340756,"d":"1"}},0,0,0,0,0,{"$f":"AVERAGE(AM81:AQ81)","v":0},{"$f":"STDEV(AM81:AQ81)","v":0},0,0,0,0,0,{"$f":"AVERAGE(AT81:AX81)","v":0},{"$f":"STDEV(AT81:AX81)","v":0},0,0,0,0,0,{"$f":"AVERAGE(BA81:BE81)","v":0},{"$f":"STDEV(BA81:BE81)","v":0}]
["average",{"$nulls":7},{"$f":"AVERAGE(I79:I81)","v":{"$error":"#DIV/0!"}},{"$nulls":6},{"$f":"AVERAGE(P79:P81)","v":{"$error":"#DIV/0!"}},{"$nulls":6},{"$f":"AVERAGE(W79:W81)","v":{"v":28.666666666666668,"d":"29"}},{"$nulls":6},{"$f":"AVERAGE(AD79:AD81)","v":{"v":4.066666666666666,"d":"4"}},{"$nulls":6},{"$f":"AVERAGE(AK79:AK81)","v":{"v":0.7333333333333334,"d":"1"}},{"$nulls":6},{"$f":"AVERAGE(AR79:AR81)","v":0},{"$nulls":6},{"$f":"AVERAGE(AY79:AY81)","v":0},{"$nulls":6},{"$f":"AVERAGE(BF79:BF81)","v":0}]
["stdev",{"$nulls":7},{"$f":"SUM(J79:J81)","v":{"$error":"#DIV/0!"}},{"$nulls":6},{"$f":"SUM(Q79:Q81)","v":{"$error":"#DIV/0!"}},{"$nulls":6},{"$f":"SUM(X79:X81)","v":{"v":11.766372154132267,"d":"12"}},{"$nulls":6},{"$f":"SUM(AE79:AE81)","v":{"v":6.209176093405684,"d":"6"}},{"$nulls":6},{"$f":"SUM(AL79:AL81)","v":{"v":2.120533648568109,"d":"2"}},{"$nulls":6},{"$f":"SUM(AS79:AS81)","v":0},{"$nulls":6},{"$f":"SUM(AZ79:AZ81)","v":0},{"$nulls":6},{"$f":"SUM(BG79:BG81)","v":0}]
["2213F A",1,null,98,111,98,104,94,{"$f":"AVERAGE(D84:H84)","v":101},{"$f":"STDEV(D84:H84)","v":{"v":6.6332495807108,"d":"7"}},12,12,17,133,15,{"$f":"AVERAGE(K84:O84)","v":{"v":37.8,"d":"38"}},{"$f":"STDEV(K84:O84)","v":{"v":53.26067968022939,"d":"53"}},0,1,2,0,1,{"$f":"AVERAGE(R84:V84)","v":{"v":0.8,"d":"1"}},{"$f":"STDEV(R84:V84)","v":{"v":0.8366600265340756,"d":"1"}},0,0,0,0,0,{"$f":"AVERAGE(Y84:AC84)","v":0},{"$f":"STDEV(Y84:AC84)","v":0},0,0,0,0,0,{"$f":"AVERAGE(AF84:AJ84)","v":0},{"$f":"STDEV(AF84:AJ84)","v":0},0,0,0,0,0,{"$f":"AVERAGE(AM84:AQ84)","v":0},{"$f":"STDEV(AM84:AQ84)","v":0},0,0,0,0,0,{"$f":"AVERAGE(AT84:AX84)","v":0},{"$f":"STDEV(AT84:AX84)","v":0},0,0,0,0,0,{"$f":"AVERAGE(BA84:BE84)","v":0},{"$f":"STDEV(BA84:BE84)","v":0}]
["p+0",2,null,"NA","NA","NA","NA","NA",{"$f":"AVERAGE(D85:H85)","v":{"$error":"#DIV/0!"}},{"$f":"STDEV(D85:H85)","v":{"$error":"#DIV/0!"}},72,79,64,55,60,{"$f":"AVERAGE(K85:O85)","v":66},{"$f":"STDEV(K85:O85)","v":{"v":9.565563234854496,"d":"10"}},5,7,14,8,12,{"$f":"AVERAGE(R85:V85)","v":{"v":9.2,"d":"9"}},{"$f":"STDEV(R85:V85)","v":{"v":3.70135110466435,"d":"4"}},4,0,1,0,1,{"$f":"AVERAGE(Y85:AC85)","v":{"v":1.2,"d":"1"}},{"$f":"STDEV(Y85:AC85)","v":{"v":1.6431676725154984,"d":"2"}},0,0,0,0,0,{"$f":"AVERAGE(AF85:AJ85)","v":0},{"$f":"STDEV(AF85:AJ85)","v":0},0,0,0,0,0,{"$f":"AVERAGE(AM85:AQ85)","v":0},{"$f":"STDEV(AM85:AQ85)","v":0},0,0,0,0,0,{"$f":"AVERAGE(AT85:AX85)","v":0},{"$f":"STDEV(AT85:AX85)","v":0},0,0,0,0,0,{"$f":"AVERAGE(BA85:BE85)","v":0},{"$f":"STDEV(BA85:BE85)","v":0}]
[null,3,null,"NA","NA","NA","NA","NA",{"$f":"AVERAGE(D86:H86)","v":{"$error":"#DIV/0!"}},{"$f":"STDEV(D86:H86)","v":{"$error":"#DIV/0!"}},46,54,45,49,44,{"$f":"AVERAGE(K86:O86)","v":{"v":47.6,"d":"48"}},{"$f":"STDEV(K86:O86)","v":{"v":4.03732584763727,"d":"4"}},5,9,5,5,4,{"$f":"AVERAGE(R86:V86)","v":{"v":5.6,"d":"6"}},{"$f":"STDEV(R86:V86)","v":{"v":1.949358868961792,"d":"2"}},0,0,0,0,0,{"$f":"AVERAGE(Y86:AC86)","v":0},{"$f":"STDEV(Y86:AC86)","v":0},0,0,0,0,0,{"$f":"AVERAGE(AF86:AJ86)","v":0},{"$f":"STDEV(AF86:AJ86)","v":0},0,0,0,0,0,{"$f":"AVERAGE(AM86:AQ86)","v":0},{"$f":"STDEV(AM86:AQ86)","v":0},0,0,0,0,0,{"$f":"AVERAGE(AT86:AX86)","v":0},{"$f":"STDEV(AT86:AX86)","v":0},0,0,0,0,0,{"$f":"AVERAGE(BA86:BE86)","v":0},{"$f":"STDEV(BA86:BE86)","v":0}]
["average",{"$nulls":7},{"$f":"AVERAGE(I84:I86)","v":{"$error":"#DIV/0!"}},{"$nulls":6},{"$f":"AVERAGE(P84:P86)","v":{"v":50.46666666666667,"d":"50"}},{"$nulls":6},{"$f":"AVERAGE(W84:W86)","v":{"v":5.2,"d":"5"}},{"$nulls":6},{"$f":"AVERAGE(AD84:AD86)","v":{"v":0.39999999999999997,"d":"0"}},{"$nulls":6},{"$f":"AVERAGE(AK84:AK86)","v":0},{"$nulls":6},{"$f":"AVERAGE(AR84:AR86)","v":0},{"$nulls":6},{"$f":"AVERAGE(AY84:AY86)","v":0},{"$nulls":6},{"$f":"AVERAGE(BF84:BF86)","v":0}]
["stdev",{"$nulls":7},{"$f":"SUM(J84:J86)","v":{"$error":"#DIV/0!"}},{"$nulls":6},{"$f":"SUM(Q84:Q86)","v":{"v":66.86356876272114,"d":"67"}},{"$nulls":6},{"$f":"SUM(X84:X86)","v":{"v":6.487370000160217,"d":"6"}},{"$nulls":6},{"$f":"SUM(AE84:AE86)","v":{"v":1.6431676725154984,"d":"2"}},{"$nulls":6},{"$f":"SUM(AL84:AL86)","v":0},{"$nulls":6},{"$f":"SUM(AS84:AS86)","v":0},{"$nulls":6},{"$f":"SUM(AZ84:AZ86)","v":0},{"$nulls":6},{"$f":"SUM(BG84:BG86)","v":0}]
["p+3",1,null,"NA","NA","NA","NA","NA",{"$f":"AVERAGE(D89:H89)","v":{"$error":"#DIV/0!"}},{"$f":"STDEV(D89:H89)","v":{"$error":"#DIV/0!"}},93,103,108,105,105,{"$f":"AVERAGE(K89:O89)","v":{"v":102.8,"d":"103"}},{"$f":"STDEV(K89:O89)","v":{"v":5.761944116355173,"d":"6"}},11,22,13,16,7,{"$f":"AVERAGE(R89:V89)","v":{"v":13.8,"d":"14"}},{"$f":"STDEV(R89:V89)","v":{"v":5.630275304103698,"d":"6"}},0,4,3,2,1,{"$f":"AVERAGE(Y89:AC89)","v":2},{"$f":"STDEV(Y89:AC89)","v":{"v":1.5811388300841898,"d":"2"}},0,0,0,0,0,{"$f":"AVERAGE(AF89:AJ89)","v":0},{"$f":"STDEV(AF89:AJ89)","v":0},0,0,0,0,0,{"$f":"AVERAGE(AM89:AQ89)","v":0},{"$f":"STDEV(AM89:AQ89)","v":0},0,0,0,0,0,{"$f":"AVERAGE(AT89:AX89)","v":0},{"$f":"STDEV(AT89:AX89)","v":0},0,0,0,0,0,{"$f":"AVERAGE(BA89:BE89)","v":0},{"$f":"STDEV(BA89:BE89)","v":0}]
[null,2,null,"NA","NA","NA","NA","NA",{"$f":"AVERAGE(D90:H90)","v":{"$error":"#DIV/0!"}},{"$f":"STDEV(D90:H90)","v":{"$error":"#DIV/0!"}},66,55,73,67,70,{"$f":"AVERAGE(K90:O90)","v":{"v":66.2,"d":"66"}},{"$f":"STDEV(K90:O90)","v":{"v":6.833739825307955,"d":"7"}},14,10,8,8,15,{"$f":"AVERAGE(R90:V90)","v":11},{"$f":"STDEV(R90:V90)","v":{"v":3.3166247903554,"d":"3"}},1,1,2,3,1,{"$f":"AVERAGE(Y90:AC90)","v":{"v":1.6,"d":"2"}},{"$f":"STDEV(Y90:AC90)","v":{"v":0.8944271909999157,"d":"1"}},0,0,0,0,0,{"$f":"AVERAGE(AF90:AJ90)","v":0},{"$f":"STDEV(AF90:AJ90)","v":0},0,0,0,0,0,{"$f":"AVERAGE(AM90:AQ90)","v":0},{"$f":"STDEV(AM90:AQ90)","v":0},0,0,0,0,0,{"$f":"AVERAGE(AT90:AX90)","v":0},{"$f":"STDEV(AT90:AX90)","v":0},0,0,0,0,0,{"$f":"AVERAGE(BA90:BE90)","v":0},{"$f":"STDEV(BA90:BE90)","v":0}]
[null,3,null,"NA","NA","NA","NA","NA",{"$f":"AVERAGE(D91:H91)","v":{"$error":"#DIV/0!"}},{"$f":"STDEV(D91:H91)","v":{"$error":"#DIV/0!"}},54,52,52,56,47,{"$f":"AVERAGE(K91:O91)","v":{"v":52.2,"d":"52"}},{"$f":"STDEV(K91:O91)","v":{"v":3.3466401061363023,"d":"3"}},6,6,1,4,6,{"$f":"AVERAGE(R91:V91)","v":{"v":4.6,"d":"5"}},{"$f":"STDEV(R91:V91)","v":{"v":2.1908902300206647,"d":"2"}},1,0,1,2,0,{"$f":"AVERAGE(Y91:AC91)","v":{"v":0.8,"d":"1"}},{"$f":"STDEV(Y91:AC91)","v":{"v":0.8366600265340756,"d":"1"}},0,0,0,0,0,{"$f":"AVERAGE(AF91:AJ91)","v":0},{"$f":"STDEV(AF91:AJ91)","v":0},0,0,0,0,0,{"$f":"AVERAGE(AM91:AQ91)","v":0},{"$f":"STDEV(AM91:AQ91)","v":0},0,0,0,0,0,{"$f":"AVERAGE(AT91:AX91)","v":0},{"$f":"STDEV(AT91:AX91)","v":0},0,0,0,0,0,{"$f":"AVERAGE(BA91:BE91)","v":0},{"$f":"STDEV(BA91:BE91)","v":0}]
["average",{"$nulls":7},{"$f":"AVERAGE(I89:I91)","v":{"$error":"#DIV/0!"}},{"$nulls":6},{"$f":"AVERAGE(P89:P91)","v":{"v":73.73333333333333,"d":"74"}},{"$nulls":6},{"$f":"AVERAGE(W89:W91)","v":{"v":9.799999999999999,"d":"10"}},{"$nulls":6},{"$f":"AVERAGE(AD89:AD91)","v":{"v":1.4666666666666668,"d":"1"}},{"$nulls":6},{"$f":"AVERAGE(AK89:AK91)","v":0},{"$nulls":6},{"$f":"AVERAGE(AR89:AR91)","v":0},{"$nulls":6},{"$f":"AVERAGE(AY89:AY91)","v":0},{"$nulls":6},{"$f":"AVERAGE(BF89:BF91)","v":0}]
["stdev",{"$nulls":7},{"$f":"SUM(J89:J91)","v":{"$error":"#DIV/0!"}},{"$nulls":6},{"$f":"SUM(Q89:Q91)","v":{"v":15.942324047799431,"d":"16"}},{"$nulls":6},{"$f":"SUM(X89:X91)","v":{"v":11.137790324479763,"d":"11"}},{"$nulls":6},{"$f":"SUM(AE89:AE91)","v":{"v":3.3122260476181813,"d":"3"}},{"$nulls":6},{"$f":"SUM(AL89:AL91)","v":0},{"$nulls":6},{"$f":"SUM(AS89:AS91)","v":0},{"$nulls":6},{"$f":"SUM(AZ89:AZ91)","v":0},{"$nulls":6},{"$f":"SUM(BG89:BG91)","v":0}]
["2213F APR",1,null,"NA","NA","NA","NA","NA",{"$f":"AVERAGE(D94:H94)","v":{"$error":"#DIV/0!"}},{"$f":"STDEV(D94:H94)","v":{"$error":"#DIV/0!"}},34,49,33,49,38,{"$f":"AVERAGE(K94:O94)","v":{"v":40.6,"d":"41"}},{"$f":"STDEV(K94:O94)","v":{"v":7.8930349042684576,"d":"8"}},3,15,14,7,9,{"$f":"AVERAGE(R94:V94)","v":{"v":9.6,"d":"10"}},{"$f":"STDEV(R94:V94)","v":{"v":4.979959839195493,"d":"5"}},0,0,2,1,1,{"$f":"AVERAGE(Y94:AC94)","v":{"v":0.8,"d":"1"}},{"$f":"STDEV(Y94:AC94)","v":{"v":0.8366600265340756,"d":"1"}},0,0,0,0,0,{"$f":"AVERAGE(AF94:AJ94)","v":0},{"$f":"STDEV(AF94:AJ94)","v":0},0,0,0,0,0,{"$f":"AVERAGE(AM94:AQ94)","v":0},{"$f":"STDEV(AM94:AQ94)","v":0},0,0,0,0,0,{"$f":"AVERAGE(AT94:AX94)","v":0},{"$f":"STDEV(AT94:AX94)","v":0},0,0,0,0,0,{"$f":"AVERAGE(BA94:BE94)","v":0},{"$f":"STDEV(BA94:BE94)","v":0}]
["p+0",2,null,"NA","NA","NA","NA","NA",{"$f":"AVERAGE(D95:H95)","v":{"$error":"#DIV/0!"}},{"$f":"STDEV(D95:H95)","v":{"$error":"#DIV/0!"}},74,57,63,75,64,{"$f":"AVERAGE(K95:O95)","v":{"v":66.6,"d":"67"}},{"$f":"STDEV(K95:O95)","v":{"v":7.700649323271394,"d":"8"}},5,7,7,8,9,{"$f":"AVERAGE(R95:V95)","v":{"v":7.2,"d":"7"}},{"$f":"STDEV(R95:V95)","v":{"v":1.4832396974191335,"d":"1"}},1,0,1,1,1,{"$f":"AVERAGE(Y95:AC95)","v":{"v":0.8,"d":"1"}},{"$f":"STDEV(Y95:AC95)","v":{"v":0.44721359549995787,"d":"0"}},0,0,0,0,2,{"$f":"AVERAGE(AF95:AJ95)","v":{"v":0.4,"d":"0"}},{"$f":"STDEV(AF95:AJ95)","v":{"v":0.8944271909999159,"d":"1"}},0,0,0,0,0,{"$f":"AVERAGE(AM95:AQ95)","v":0},{"$f":"STDEV(AM95:AQ95)","v":0},0,0,0,0,0,{"$f":"AVERAGE(AT95:AX95)","v":0},{"$f":"STDEV(AT95:AX95)","v":0},0,0,0,0,0,{"$f":"AVERAGE(BA95:BE95)","v":0},{"$f":"STDEV(BA95:BE95)","v":0}]
[null,3,null,"NA","NA","NA","NA","NA",{"$f":"AVERAGE(D96:H96)","v":{"$error":"#DIV/0!"}},{"$f":"STDEV(D96:H96)","v":{"$error":"#DIV/0!"}},40,50,43,44,49,{"$f":"AVERAGE(K96:O96)","v":{"v":45.2,"d":"45"}},{"$f":"STDEV(K96:O96)","v":{"v":4.207136793592526,"d":"4"}},5,8,7,6,6,{"$f":"AVERAGE(R96:V96)","v":{"v":6.4,"d":"6"}},{"$f":"STDEV(R96:V96)","v":{"v":1.1401754250991367,"d":"1"}},0,1,3,1,2,{"$f":"AVERAGE(Y96:AC96)","v":{"v":1.4,"d":"1"}},{"$f":"STDEV(Y96:AC96)","v":{"v":1.1401754250991378,"d":"1"}},0,1,0,0,0,{"$f":"AVERAGE(AF96:AJ96)","v":{"v":0.2,"d":"0"}},{"$f":"STDEV(AF96:AJ96)","v":{"v":0.4472135954999579,"d":"0"}},0,0,0,0,0,{"$f":"AVERAGE(AM96:AQ96)","v":0},{"$f":"STDEV(AM96:AQ96)","v":0},0,0,0,0,0,{"$f":"AVERAGE(AT96:AX96)","v":0},{"$f":"STDEV(AT96:AX96)","v":0},0,0,0,0,0,{"$f":"AVERAGE(BA96:BE96)","v":0},{"$f":"STDEV(BA96:BE96)","v":0}]
["average",{"$nulls":7},{"$f":"AVERAGE(I94:I96)","v":{"$error":"#DIV/0!"}},{"$nulls":6},{"$f":"AVERAGE(P94:P96)","v":{"v":50.79999999999999,"d":"51"}},{"$nulls":6},{"$f":"AVERAGE(W94:W96)","v":{"v":7.733333333333334,"d":"8"}},{"$nulls":6},{"$f":"AVERAGE(AD94:AD96)","v":1},{"$nulls":6},{"$f":"AVERAGE(AK94:AK96)","v":{"v":0.20000000000000004,"d":"0"}},{"$nulls":6},{"$f":"AVERAGE(AR94:AR96)","v":0},{"$nulls":6},{"$f":"AVERAGE(AY94:AY96)","v":0},{"$nulls":6},{"$f":"AVERAGE(BF94:BF96)","v":0}]
["stdev",{"$nulls":7},{"$f":"SUM(J94:J96)","v":{"$error":"#DIV/0!"}},{"$nulls":6},{"$f":"SUM(Q94:Q96)","v":{"v":19.80082102113238,"d":"20"}},{"$nulls":6},{"$f":"SUM(X94:X96)","v":{"v":7.6033749617137625,"d":"8"}},{"$nulls":6},{"$f":"SUM(AE94:AE96)","v":{"v":2.4240490471331713,"d":"2"}},{"$nulls":6},{"$f":"SUM(AL94:AL96)","v":{"v":1.3416407864998738,"d":"1"}},{"$nulls":6},{"$f":"SUM(AS94:AS96)","v":0},{"$nulls":6},{"$f":"SUM(AZ94:AZ96)","v":0},{"$nulls":6},{"$f":"SUM(BG94:BG96)","v":0}]
["p+3",1,null,"NA","NA","NA","NA","NA",{"$f":"AVERAGE(D99:H99)","v":{"$error":"#DIV/0!"}},{"$f":"STDEV(D99:H99)","v":{"$error":"#DIV/0!"}},39,44,57,43,48,{"$f":"AVERAGE(K99:O99)","v":{"v":46.2,"d":"46"}},{"$f":"STDEV(K99:O99)","v":{"v":6.8337398253079416,"d":"7"}},6,6,9,6,10,{"$f":"AVERAGE(R99:V99)","v":{"v":7.4,"d":"7"}},{"$f":"STDEV(R99:V99)","v":{"v":1.949358868961792,"d":"2"}},0,0,0,0,0,{"$f":"AVERAGE(Y99:AC99)","v":0},{"$f":"STDEV(Y99:AC99)","v":0},0,1,0,1,0,{"$f":"AVERAGE(AF99:AJ99)","v":{"v":0.4,"d":"0"}},{"$f":"STDEV(AF99:AJ99)","v":{"v":0.5477225575051661,"d":"1"}},0,0,0,0,0,{"$f":"AVERAGE(AM99:AQ99)","v":0},{"$f":"STDEV(AM99:AQ99)","v":0},0,0,0,0,0,{"$f":"AVERAGE(AT99:AX99)","v":0},{"$f":"STDEV(AT99:AX99)","v":0},0,0,0,0,0,{"$f":"AVERAGE(BA99:BE99)","v":0},{"$f":"STDEV(BA99:BE99)","v":0}]
[null,2,null,60,60,57,54,64,{"$f":"AVERAGE(D100:H100)","v":59},{"$f":"STDEV(D100:H100)","v":{"v":3.7416573867739413,"d":"4"}},4,1,3,8,9,{"$f":"AVERAGE(K100:O100)","v":5},{"$f":"STDEV(K100:O100)","v":{"v":3.391164991562634,"d":"3"}},1,0,0,0,0,{"$f":"AVERAGE(R100:V100)","v":{"v":0.2,"d":"0"}},{"$f":"STDEV(R100:V100)","v":{"v":0.4472135954999579,"d":"0"}},0,0,0,0,0,{"$f":"AVERAGE(Y100:AC100)","v":0},{"$f":"STDEV(Y100:AC100)","v":0},0,0,0,0,0,{"$f":"AVERAGE(AF100:AJ100)","v":0},{"$f":"STDEV(AF100:AJ100)","v":0},1,0,0,0,0,{"$f":"AVERAGE(AM100:AQ100)","v":{"v":0.2,"d":"0"}},{"$f":"STDEV(AM100:AQ100)","v":{"v":0.4472135954999579,"d":"0"}},1,0,0,0,0,{"$f":"AVERAGE(AT100:AX100)","v":{"v":0.2,"d":"0"}},{"$f":"STDEV(AT100:AX100)","v":{"v":0.4472135954999579,"d":"0"}},1,0,0,0,0,{"$f":"AVERAGE(BA100:BE100)","v":{"v":0.2,"d":"0"}},{"$f":"STDEV(BA100:BE100)","v":{"v":0.4472135954999579,"d":"0"}}]
[null,3,null,"NA","NA","NA","NA","NA",{"$f":"AVERAGE(D101:H101)","v":{"$error":"#DIV/0!"}},{"$f":"STDEV(D101:H101)","v":{"$error":"#DIV/0!"}},65,77,77,68,60,{"$f":"AVERAGE(K101:O101)","v":{"v":69.4,"d":"69"}},{"$f":"STDEV(K101:O101)","v":{"v":7.503332592921628,"d":"8"}},10,12,8,5,15,{"$f":"AVERAGE(R101:V101)","v":10},{"$f":"STDEV(R101:V101)","v":{"v":3.8078865529319543,"d":"4"}},3,0,2,3,3,{"$f":"AVERAGE(Y101:AC101)","v":{"v":2.2,"d":"2"}},{"$f":"STDEV(Y101:AC101)","v":{"v":1.3038404810405297,"d":"1"}},0,1,0,0,0,{"$f":"AVERAGE(AF101:AJ101)","v":{"v":0.2,"d":"0"}},{"$f":"STDEV(AF101:AJ101)","v":{"v":0.4472135954999579,"d":"0"}},1,0,0,0,0,{"$f":"AVERAGE(AM101:AQ101)","v":{"v":0.2,"d":"0"}},{"$f":"STDEV(AM101:AQ101)","v":{"v":0.4472135954999579,"d":"0"}},1,0,0,0,0,{"$f":"AVERAGE(AT101:AX101)","v":{"v":0.2,"d":"0"}},{"$f":"STDEV(AT101:AX101)","v":{"v":0.4472135954999579,"d":"0"}},1,0,0,0,0,{"$f":"AVERAGE(BA101:BE101)","v":{"v":0.2,"d":"0"}},{"$f":"STDEV(BA101:BE101)","v":{"v":0.4472135954999579,"d":"0"}}]
["average",{"$nulls":7},{"$f":"AVERAGE(I99:I101)","v":{"$error":"#DIV/0!"}},{"$nulls":6},{"$f":"AVERAGE(P99:P101)","v":{"v":40.2,"d":"40"}},{"$nulls":6},{"$f":"AVERAGE(W99:W101)","v":{"v":5.866666666666667,"d":"6"}},{"$nulls":6},{"$f":"AVERAGE(AD99:AD101)","v":{"v":0.7333333333333334,"d":"1"}},{"$nulls":6},{"$f":"AVERAGE(AK99:AK101)","v":{"v":0.20000000000000004,"d":"0"}},{"$nulls":6},{"$f":"AVERAGE(AR99:AR101)","v":{"v":0.13333333333333333,"d":"0"}},{"$nulls":6},{"$f":"AVERAGE(AY99:AY101)","v":{"v":0.13333333333333333,"d":"0"}},{"$nulls":6},{"$f":"AVERAGE(BF99:BF101)","v":{"v":0.13333333333333333,"d":"0"}}]
["stdev",{"$nulls":7},{"$f":"SUM(J99:J101)","v":{"$error":"#DIV/0!"}},{"$nulls":6},{"$f":"SUM(Q99:Q101)","v":{"v":17.728237409792204,"d":"18"}},{"$nulls":6},{"$f":"SUM(X99:X101)","v":{"v":6.204459017393704,"d":"6"}},{"$nulls":6},{"$f":"SUM(AE99:AE101)","v":{"v":1.3038404810405297,"d":"1"}},{"$nulls":6},{"$f":"SUM(AL99:AL101)","v":{"v":0.994936153005124,"d":"1"}},{"$nulls":6},{"$f":"SUM(AS99:AS101)","v":{"v":0.8944271909999159,"d":"1"}},{"$nulls":6},{"$f":"SUM(AZ99:AZ101)","v":{"v":0.8944271909999159,"d":"1"}},{"$nulls":6},{"$f":"SUM(BG99:BG101)","v":{"v":0.8944271909999159,"d":"1"}}]
[]
[]
["T5","2017-10-06"]
["Sample","Dilution:",null,1,{"$nulls":4},"AVERAGE",null,{"$f":"10^-1","v":0.1},{"$nulls":4},"AVERAGE",null,{"$f":"10^-2","v":0.01},{"$nulls":4},"AVERAGE",null,{"$f":"10^-3","v":{"v":1E-3,"d":"1.00E-03"}},{"$nulls":4},"AVERAGE",null,{"$f":"10^-4","v":{"v":1E-4,"d":"1.00E-04"}},{"$nulls":4},"AVERAGE",null,{"$f":"10^-5","v":{"v":1e-05,"d":"1.00E-05"}},{"$nulls":4},"AVERAGE",null,{"$f":"10^-5","v":{"v":1e-05,"d":"1.00E-05"}},{"$nulls":4},"AVERAGE",null,{"$f":"10^-5","v":{"v":1e-05,"d":"1.00E-05"}},{"$nulls":4},"AVERAGE"]
["Blank",1,null,0,0,0,0,0,{"$f":"AVERAGE(D108:H108)","v":0},{"$f":"STDEV(D108:H108)","v":0},0,0,0,0,0,{"$f":"AVERAGE(K108:O108)","v":0},{"$f":"STDEV(K108:O108)","v":0},0,0,0,0,0,{"$f":"AVERAGE(R108:V108)","v":0},{"$f":"STDEV(R108:V108)","v":0},0,0,0,0,0,{"$f":"AVERAGE(Y108:AC108)","v":0},{"$f":"STDEV(Y108:AC108)","v":0},0,0,0,0,0,{"$f":"AVERAGE(AF108:AJ108)","v":0},{"$f":"STDEV(AF108:AJ108)","v":0},0,0,0,0,0,{"$f":"AVERAGE(AM108:AQ108)","v":0},{"$f":"STDEV(AM108:AQ108)","v":0},0,0,0,0,0,{"$f":"AVERAGE(AT108:AX108)","v":0},{"$f":"STDEV(AT108:AX108)","v":0},0,0,0,0,0,{"$f":"AVERAGE(BA108:BE108)","v":0},{"$f":"STDEV(BA108:BE108)","v":0}]
[null,2,null,0,0,0,0,0,{"$f":"AVERAGE(D109:H109)","v":0},{"$f":"STDEV(D109:H109)","v":0},0,0,0,0,0,{"$f":"AVERAGE(K109:O109)","v":0},{"$f":"STDEV(K109:O109)","v":0},0,0,0,0,0,{"$f":"AVERAGE(R109:V109)","v":0},{"$f":"STDEV(R109:V109)","v":0},0,0,0,0,0,{"$f":"AVERAGE(Y109:AC109)","v":0},{"$f":"STDEV(Y109:AC109)","v":0},0,0,0,0,0,{"$f":"AVERAGE(AF109:AJ109)","v":0},{"$f":"STDEV(AF109:AJ109)","v":0},0,0,0,0,0,{"$f":"AVERAGE(AM109:AQ109)","v":0},{"$f":"STDEV(AM109:AQ109)","v":0},0,0,0,0,0,{"$f":"AVERAGE(AT109:AX109)","v":0},{"$f":"STDEV(AT109:AX109)","v":0},0,0,0,0,0,{"$f":"AVERAGE(BA109:BE109)","v":0},{"$f":"STDEV(BA109:BE109)","v":0}]
[null,3,null,0,0,0,0,0,{"$f":"AVERAGE(D110:H110)","v":0},{"$f":"STDEV(D110:H110)","v":0},0,0,0,0,0,{"$f":"AVERAGE(K110:O110)","v":0},{"$f":"STDEV(K110:O110)","v":0},0,0,0,0,0,{"$f":"AVERAGE(R110:V110)","v":0},{"$f":"STDEV(R110:V110)","v":0},0,0,0,0,0,{"$f":"AVERAGE(Y110:AC110)","v":0},{"$f":"STDEV(Y110:AC110)","v":0},0,0,0,0,0,{"$f":"AVERAGE(AF110:AJ110)","v":0},{"$f":"STDEV(AF110:AJ110)","v":0},0,0,0,0,0,{"$f":"AVERAGE(AM110:AQ110)","v":0},{"$f":"STDEV(AM110:AQ110)","v":0},0,0,0,0,0,{"$f":"AVERAGE(AT110:AX110)","v":0},{"$f":"STDEV(AT110:AX110)","v":0},0,0,0,0,0,{"$f":"AVERAGE(BA110:BE110)","v":0},{"$f":"STDEV(BA110:BE110)","v":0}]
[{"$nulls":8},{"$f":"AVERAGE(I108:I110)","v":0},{"$nulls":6},{"$f":"AVERAGE(P108:P110)","v":0},{"$nulls":6},{"$f":"AVERAGE(W108:W110)","v":0},{"$nulls":6},{"$f":"AVERAGE(AD108:AD110)","v":0},{"$nulls":6},{"$f":"AVERAGE(AK108:AK110)","v":0},{"$nulls":6},{"$f":"AVERAGE(AR108:AR110)","v":0},{"$nulls":6},{"$f":"AVERAGE(AY108:AY110)","v":0},{"$nulls":6},{"$f":"AVERAGE(BF108:BF110)","v":0}]
[{"$nulls":8},{"$f":"SUM(J108:J110)","v":0},{"$nulls":6},{"$f":"SUM(Q108:Q110)","v":0},{"$nulls":6},{"$f":"SUM(X108:X110)","v":0},{"$nulls":6},{"$f":"SUM(AE108:AE110)","v":0},{"$nulls":6},{"$f":"SUM(AL108:AL110)","v":0},{"$nulls":6},{"$f":"SUM(AS108:AS110)","v":0},{"$nulls":6},{"$f":"SUM(AZ108:AZ110)","v":0},{"$nulls":6},{"$f":"SUM(BG108:BG110)","v":0}]
["DH5α -",1,null,73,76,66,61,66,{"$f":"AVERAGE(D113:H113)","v":{"v":68.4,"d":"68"}},{"$f":"STDEV(D113:H113)","v":{"v":6.024948132556827,"d":"6"}},0,0,0,0,0,{"$f":"AVERAGE(K113:O113)","v":0},{"$f":"STDEV(K113:O113)","v":0},0,0,0,0,0,{"$f":"AVERAGE(R113:V113)","v":0},{"$f":"STDEV(R113:V113)","v":0},0,0,0,0,0,{"$f":"AVERAGE(Y113:AC113)","v":0},{"$f":"STDEV(Y113:AC113)","v":0},0,0,0,0,0,{"$f":"AVERAGE(AF113:AJ113)","v":0},{"$f":"STDEV(AF113:AJ113)","v":0},0,0,0,0,0,{"$f":"AVERAGE(AM113:AQ113)","v":0},{"$f":"STDEV(AM113:AQ113)","v":0},0,0,0,0,0,{"$f":"AVERAGE(AT113:AX113)","v":0},{"$f":"STDEV(AT113:AX113)","v":0},0,0,0,0,0,{"$f":"AVERAGE(BA113:BE113)","v":0},{"$f":"STDEV(BA113:BE113)","v":0}]
[null,2,null,108,123,99,94,120,{"$f":"AVERAGE(D114:H114)","v":{"v":108.8,"d":"109"}},{"$f":"STDEV(D114:H114)","v":{"v":12.676750372236597,"d":"13"}},0,0,0,0,0,{"$f":"AVERAGE(K114:O114)","v":0},{"$f":"STDEV(K114:O114)","v":0},0,0,0,0,0,{"$f":"AVERAGE(R114:V114)","v":0},{"$f":"STDEV(R114:V114)","v":0},0,0,0,0,0,{"$f":"AVERAGE(Y114:AC114)","v":0},{"$f":"STDEV(Y114:AC114)","v":0},0,0,0,0,0,{"$f":"AVERAGE(AF114:AJ114)","v":0},{"$f":"STDEV(AF114:AJ114)","v":0},0,0,0,0,0,{"$f":"AVERAGE(AM114:AQ114)","v":0},{"$f":"STDEV(AM114:AQ114)","v":0},0,0,0,0,0,{"$f":"AVERAGE(AT114:AX114)","v":0},{"$f":"STDEV(AT114:AX114)","v":0},0,0,0,0,0,{"$f":"AVERAGE(BA114:BE114)","v":0},{"$f":"STDEV(BA114:BE114)","v":0}]
[null,3,null,94,116,120,105,110,{"$f":"AVERAGE(D115:H115)","v":109},{"$f":"STDEV(D115:H115)","v":{"v":10.14889156509222,"d":"10"}},15,19,19,15,16,{"$f":"AVERAGE(K115:O115)","v":{"v":16.8,"d":"17"}},{"$f":"STDEV(K115:O115)","v":{"v":2.0493901531919168,"d":"2"}},6,7,2,2,4,{"$f":"AVERAGE(R115:V115)","v":{"v":4.2,"d":"4"}},{"$f":"STDEV(R115:V115)","v":{"v":2.2803508501982757,"d":"2"}},0,0,0,0,1,{"$f":"AVERAGE(Y115:AC115)","v":{"v":0.2,"d":"0"}},{"$f":"STDEV(Y115:AC115)","v":{"v":0.4472135954999579,"d":"0"}},0,0,0,0,0,{"$f":"AVERAGE(AF115:AJ115)","v":0},{"$f":"STDEV(AF115:AJ115)","v":0},0,0,0,0,0,{"$f":"AVERAGE(AM115:AQ115)","v":0},{"$f":"STDEV(AM115:AQ115)","v":0},0,0,0,0,0,{"$f":"AVERAGE(AT115:AX115)","v":0},{"$f":"STDEV(AT115:AX115)","v":0},0,0,0,0,0,{"$f":"AVERAGE(BA115:BE115)","v":0},{"$f":"STDEV(BA115:BE115)","v":0}]
[{"$nulls":8},{"$f":"AVERAGE(I113:I115)","v":{"v":95.39999999999999,"d":"95"}},{"$nulls":6},{"$f":"AVERAGE(P113:P115)","v":{"v":5.6000000000000005,"d":"6"}},{"$nulls":6},{"$f":"AVERAGE(W113:W115)","v":{"v":1.4000000000000001,"d":"1"}},{"$nulls":6},{"$f":"AVERAGE(AD113:AD115)","v":{"v":0.06666666666666667,"d":"0"}},{"$nulls":6},{"$f":"AVERAGE(AK113:AK115)","v":0},{"$nulls":6},{"$f":"AVERAGE(AR113:AR115)","v":0},{"$nulls":6},{"$f":"AVERAGE(AY113:AY115)","v":0},{"$nulls":6},{"$f":"AVERAGE(BF113:BF115)","v":0}]
[{"$nulls":8},{"$f":"SUM(J113:J115)","v":{"v":28.85059006988564,"d":"29"}},{"$nulls":6},{"$f":"SUM(Q113:Q115)","v":{"v":2.0493901531919168,"d":"2"}},{"$nulls":6},{"$f":"SUM(X113:X115)","v":{"v":2.2803508501982757,"d":"2"}},{"$nulls":6},{"$f":"SUM(AE113:AE115)","v":{"v":0.4472135954999579,"d":"0"}},{"$nulls":6},{"$f":"SUM(AL113:AL115)","v":0},{"$nulls":6},{"$f":"SUM(AS113:AS115)","v":0},{"$nulls":6},{"$f":"SUM(AZ113:AZ115)","v":0},{"$nulls":6},{"$f":"SUM(BG113:BG115)","v":0}]
["WT",1,null,"NA","NA","NA","NA","NA",{"$f":"AVERAGE(D118:H118)","v":{"$error":"#DIV/0!"}},{"$f":"STDEV(D118:H118)","v":{"$error":"#DIV/0!"}},11,23,26,21,12,{"$f":"AVERAGE(K118:O118)","v":{"v":18.6,"d":"19"}},{"$f":"STDEV(K118:O118)","v":{"v":6.730527468185537,"d":"7"}},0,2,1,2,2,{"$f":"AVERAGE(R118:V118)","v":{"v":1.4,"d":"1"}},{"$f":"STDEV(R118:V118)","v":{"v":0.8944271909999157,"d":"1"}},0,0,0,0,0,{"$f":"AVERAGE(Y118:AC118)","v":0},{"$f":"STDEV(Y118:AC118)","v":0},0,0,0,0,0,{"$f":"AVERAGE(AF118:AJ118)","v":0},{"$f":"STDEV(AF118:AJ118)","v":0},0,0,0,0,0,{"$f":"AVERAGE(AM118:AQ118)","v":0},{"$f":"STDEV(AM118:AQ118)","v":0},0,0,0,0,0,{"$f":"AVERAGE(AT118:AX118)","v":0},{"$f":"STDEV(AT118:AX118)","v":0},0,0,0,0,0,{"$f":"AVERAGE(BA118:BE118)","v":0},{"$f":"STDEV(BA118:BE118)","v":0}]
[null,2,null,102,104,114,108,87,{"$f":"AVERAGE(D119:H119)","v":103},{"$f":"STDEV(D119:H119)","v":{"v":10.04987562112089,"d":"10"}},10,17,15,12,19,{"$f":"AVERAGE(K119:O119)","v":{"v":14.6,"d":"15"}},{"$f":"STDEV(K119:O119)","v":{"v":3.6469165057620954,"d":"4"}},2,0,2,2,2,{"$f":"AVERAGE(R119:V119)","v":{"v":1.6,"d":"2"}},{"$f":"STDEV(R119:V119)","v":{"v":0.8944271909999157,"d":"1"}},1,0,0,0,0,{"$f":"AVERAGE(Y119:AC119)","v":{"v":0.2,"d":"0"}},{"$f":"STDEV(Y119:AC119)","v":{"v":0.4472135954999579,"d":"0"}},0,0,0,0,0,{"$f":"AVERAGE(AF119:AJ119)","v":0},{"$f":"STDEV(AF119:AJ119)","v":0},0,0,0,0,0,{"$f":"AVERAGE(AM119:AQ119)","v":0},{"$f":"STDEV(AM119:AQ119)","v":0},0,0,0,0,0,{"$f":"AVERAGE(AT119:AX119)","v":0},{"$f":"STDEV(AT119:AX119)","v":0},0,0,0,0,0,{"$f":"AVERAGE(BA119:BE119)","v":0},{"$f":"STDEV(BA119:BE119)","v":0}]
[null,3,null,699,68,60,72,70,{"$f":"AVERAGE(D120:H120)","v":{"v":193.8,"d":"194"}},{"$f":"STDEV(D120:H120)","v":{"v":282.45211983626535,"d":"282"}},11,9,9,12,3,{"$f":"AVERAGE(K120:O120)","v":{"v":8.8,"d":"9"}},{"$f":"STDEV(K120:O120)","v":{"v":3.4928498393145966,"d":"3"}},3,1,1,1,0,{"$f":"AVERAGE(R120:V120)","v":{"v":1.2,"d":"1"}},{"$f":"STDEV(R120:V120)","v":{"v":1.0954451150103321,"d":"1"}},1,1,0,0,0,{"$f":"AVERAGE(Y120:AC120)","v":{"v":0.4,"d":"0"}},{"$f":"STDEV(Y120:AC120)","v":{"v":0.5477225575051661,"d":"1"}},0,0,0,0,0,{"$f":"AVERAGE(AF120:AJ120)","v":0},{"$f":"STDEV(AF120:AJ120)","v":0},0,0,0,0,0,{"$f":"AVERAGE(AM120:AQ120)","v":0},{"$f":"STDEV(AM120:AQ120)","v":0},0,0,0,0,0,{"$f":"AVERAGE(AT120:AX120)","v":0},{"$f":"STDEV(AT120:AX120)","v":0},0,0,0,0,0,{"$f":"AVERAGE(BA120:BE120)","v":0},{"$f":"STDEV(BA120:BE120)","v":0}]
["average",{"$nulls":7},{"$f":"AVERAGE(I118:I120)","v":{"$error":"#DIV/0!"}},{"$nulls":6},{"$f":"AVERAGE(P118:P120)","v":14},{"$nulls":6},{"$f":"AVERAGE(W118:W120)","v":{"v":1.4000000000000001,"d":"1"}},{"$nulls":6},{"$f":"AVERAGE(AD118:AD120)","v":{"v":0.20000000000000004,"d":"0"}},{"$nulls":6},{"$f":"AVERAGE(AK118:AK120)","v":0},{"$nulls":6},{"$f":"AVERAGE(AR118:AR120)","v":0},{"$nulls":6},{"$f":"AVERAGE(AY118:AY120)","v":0},{"$nulls":6},{"$f":"AVERAGE(BF118:BF120)","v":0}]
["stdev",{"$nulls":7},{"$f":"SUM(J118:J120)","v":{"$error":"#DIV/0!"}},{"$nulls":6},{"$f":"SUM(Q118:Q120)","v":{"v":13.870293813262228,"d":"14"}},{"$nulls":6},{"$f":"SUM(X118:X120)","v":{"v":2.8842994970101636,"d":"3"}},{"$nulls":6},{"$f":"SUM(AE118:AE120)","v":{"v":0.994936153005124,"d":"1"}},{"$nulls":6},{"$f":"SUM(AL118:AL120)","v":0},{"$nulls":6},{"$f":"SUM(AS118:AS120)","v":0},{"$nulls":6},{"$f":"SUM(AZ118:AZ120)","v":0},{"$nulls":6},{"$f":"SUM(BG118:BG120)","v":0}]
["2213F - ",1,null,"NA","NA","NA","NA","NA",{"$f":"AVERAGE(D123:H123)","v":{"$error":"#DIV/0!"}},{"$f":"STDEV(D123:H123)","v":{"$error":"#DIV/0!"}},35,32,48,31,36,{"$f":"AVERAGE(K123:O123)","v":{"v":36.4,"d":"36"}},{"$f":"STDEV(K123:O123)","v":{"v":6.804410334481597,"d":"7"}},2,0,8,6,7,{"$f":"AVERAGE(R123:V123)","v":{"v":4.6,"d":"5"}},{"$f":"STDEV(R123:V123)","v":{"v":3.4351128074635335,"d":"3"}},1,1,0,0,0,{"$f":"AVERAGE(Y123:AC123)","v":{"v":0.4,"d":"0"}},{"$f":"STDEV(Y123:AC123)","v":{"v":0.5477225575051661,"d":"1"}},0,0,0,0,0,{"$f":"AVERAGE(AF123:AJ123)","v":0},{"$f":"STDEV(AF123:AJ123)","v":0},0,0,0,0,0,{"$f":"AVERAGE(AM123:AQ123)","v":0},{"$f":"STDEV(AM123:AQ123)","v":0},0,0,0,0,0,{"$f":"AVERAGE(AT123:AX123)","v":0},{"$f":"STDEV(AT123:AX123)","v":0},0,0,0,0,0,{"$f":"AVERAGE(BA123:BE123)","v":0},{"$f":"STDEV(BA123:BE123)","v":0}]
["p+0",2,null,0,0,0,0,0,{"$f":"AVERAGE(D124:H124)","v":0},{"$f":"STDEV(D124:H124)","v":0},0,0,0,0,0,{"$f":"AVERAGE(K124:O124)","v":0},{"$f":"STDEV(K124:O124)","v":0},0,0,0,0,0,{"$f":"AVERAGE(R124:V124)","v":0},{"$f":"STDEV(R124:V124)","v":0},0,0,0,0,0,{"$f":"AVERAGE(Y124:AC124)","v":0},{"$f":"STDEV(Y124:AC124)","v":0},0,0,0,0,0,{"$f":"AVERAGE(AF124:AJ124)","v":0},{"$f":"STDEV(AF124:AJ124)","v":0},0,0,0,0,0,{"$f":"AVERAGE(AM124:AQ124)","v":0},{"$f":"STDEV(AM124:AQ124)","v":0},0,0,0,0,0,{"$f":"AVERAGE(AT124:AX124)","v":0},{"$f":"STDEV(AT124:AX124)","v":0},0,0,0,0,0,{"$f":"AVERAGE(BA124:BE124)","v":0},{"$f":"STDEV(BA124:BE124)","v":0}]
[null,3,null,"NA","NA","NA","NA","NA",{"$f":"AVERAGE(D125:H125)","v":{"$error":"#DIV/0!"}},{"$f":"STDEV(D125:H125)","v":{"$error":"#DIV/0!"}},53,51,59,51,56,{"$f":"AVERAGE(K125:O125)","v":54},{"$f":"STDEV(K125:O125)","v":{"v":3.4641016151377544,"d":"3"}},4,6,1,10,10,{"$f":"AVERAGE(R125:V125)","v":{"v":6.2,"d":"6"}},{"$f":"STDEV(R125:V125)","v":{"v":3.898717737923586,"d":"4"}},0,0,0,0,2,{"$f":"AVERAGE(Y125:AC125)","v":{"v":0.4,"d":"0"}},{"$f":"STDEV(Y125:AC125)","v":{"v":0.8944271909999159,"d":"1"}},0,0,0,0,0,{"$f":"AVERAGE(AF125:AJ125)","v":0},{"$f":"STDEV(AF125:AJ125)","v":0},0,0,0,0,0,{"$f":"AVERAGE(AM125:AQ125)","v":0},{"$f":"STDEV(AM125:AQ125)","v":0},0,0,0,0,0,{"$f":"AVERAGE(AT125:AX125)","v":0},{"$f":"STDEV(AT125:AX125)","v":0},0,0,0,0,0,{"$f":"AVERAGE(BA125:BE125)","v":0},{"$f":"STDEV(BA125:BE125)","v":0}]
["average",{"$nulls":7},{"$f":"AVERAGE(I123,I125)","v":{"$error":"#DIV/0!"}},{"$nulls":6},{"$f":"AVERAGE(P123,P125)","v":{"v":45.2,"d":"45"}},{"$nulls":6},{"$f":"AVERAGE(W123,W125)","v":{"v":5.4,"d":"5"}},{"$nulls":6},{"$f":"AVERAGE(AD123,AD125)","v":{"v":0.4,"d":"0"}},{"$nulls":6},{"$f":"AVERAGE(AK123,AK125)","v":0},{"$nulls":6},{"$f":"AVERAGE(AR123,AR125)","v":0},{"$nulls":6},{"$f":"AVERAGE(AY123,AY125)","v":0},{"$nulls":6},{"$f":"AVERAGE(BF123,BF125)","v":0}]
["stdev",{"$nulls":7},{"$f":"SUM(J123,J125)","v":{"$error":"#DIV/0!"}},{"$nulls":6},{"$f":"SUM(Q123,Q125)","v":{"v":10.268511949619352,"d":"10"}},{"$nulls":6},{"$f":"SUM(X123,X125)","v":{"v":7.333830545387119,"d":"7"}},{"$nulls":6},{"$f":"SUM(AE123,AE125)","v":{"v":1.442149748505082,"d":"1"}},{"$nulls":6},{"$f":"SUM(AL123,AL125)","v":0},{"$nulls":6},{"$f":"SUM(AS123,AS125)","v":0},{"$nulls":6},{"$f":"SUM(AZ123,AZ125)","v":0},{"$nulls":6},{"$f":"SUM(BG123,BG125)","v":0}]
["p+3",1,null,67,65,49,45,44,{"$f":"AVERAGE(D128:H128)","v":54},{"$f":"STDEV(D128:H128)","v":{"v":11.135528725660043,"d":"11"}},8,5,4,6,9,{"$f":"AVERAGE(K128:O128)","v":{"v":6.4,"d":"6"}},{"$f":"STDEV(K128:O128)","v":{"v":2.0736441353327715,"d":"2"}},2,1,0,2,1,{"$f":"AVERAGE(R128:V128)","v":{"v":1.2,"d":"1"}},{"$f":"STDEV(R128:V128)","v":{"v":0.8366600265340756,"d":"1"}},0,0,0,0,0,{"$f":"AVERAGE(Y128:AC128)","v":0},{"$f":"STDEV(Y128:AC128)","v":0},0,0,0,0,0,{"$f":"AVERAGE(AF128:AJ128)","v":0},{"$f":"STDEV(AF128:AJ128)","v":0},0,0,0,0,0,{"$f":"AVERAGE(AM128:AQ128)","v":0},{"$f":"STDEV(AM128:AQ128)","v":0},0,0,0,0,0,{"$f":"AVERAGE(AT128:AX128)","v":0},{"$f":"STDEV(AT128:AX128)","v":0},0,0,0,0,0,{"$f":"AVERAGE(BA128:BE128)","v":0},{"$f":"STDEV(BA128:BE128)","v":0}]
[null,2,null,10,25,21,20,16,{"$f":"AVERAGE(D129:H129)","v":{"v":18.4,"d":"18"}},{"$f":"STDEV(D129:H129)","v":{"v":5.68330889535313,"d":"6"}},1,0,1,2,1,{"$f":"AVERAGE(K129:O129)","v":1},{"$f":"STDEV(K129:O129)","v":{"v":0.7071067811865476,"d":"1"}},0,1,0,0,0,{"$f":"AVERAGE(R129:V129)","v":{"v":0.2,"d":"0"}},{"$f":"STDEV(R129:V129)","v":{"v":0.4472135954999579,"d":"0"}},0,0,0,0,0,{"$f":"AVERAGE(Y129:AC129)","v":0},{"$f":"STDEV(Y129:AC129)","v":0},0,0,0,0,0,{"$f":"AVERAGE(AF129:AJ129)","v":0},{"$f":"STDEV(AF129:AJ129)","v":0},0,0,0,0,0,{"$f":"AVERAGE(AM129:AQ129)","v":0},{"$f":"STDEV(AM129:AQ129)","v":0},0,0,0,0,0,{"$f":"AVERAGE(AT129:AX129)","v":0},{"$f":"STDEV(AT129:AX129)","v":0},0,0,0,0,0,{"$f":"AVERAGE(BA129:BE129)","v":0},{"$f":"STDEV(BA129:BE129)","v":0}]
[null,3,null,22,30,26,18,18,{"$f":"AVERAGE(D130:H130)","v":{"v":22.8,"d":"23"}},{"$f":"STDEV(D130:H130)","v":{"v":5.215361924162123,"d":"5"}},4,1,0,2,0,{"$f":"AVERAGE(K130:O130)","v":{"v":1.4,"d":"1"}},{"$f":"STDEV(K130:O130)","v":{"v":1.6733200530681511,"d":"2"}},0,0,0,2,1,{"$f":"AVERAGE(R130:V130)","v":{"v":0.6,"d":"1"}},{"$f":"STDEV(R130:V130)","v":{"v":0.8944271909999159,"d":"1"}},0,0,0,0,0,{"$f":"AVERAGE(Y130:AC130)","v":0},{"$f":"STDEV(Y130:AC130)","v":0},0,0,0,0,0,{"$f":"AVERAGE(AF130:AJ130)","v":0},{"$f":"STDEV(AF130:AJ130)","v":0},0,0,0,0,0,{"$f":"AVERAGE(AM130:AQ130)","v":0},{"$f":"STDEV(AM130:AQ130)","v":0},0,0,0,0,0,{"$f":"AVERAGE(AT130:AX130)","v":0},{"$f":"STDEV(AT130:AX130)","v":0},0,0,0,0,0,{"$f":"AVERAGE(BA130:BE130)","v":0},{"$f":"STDEV(BA130:BE130)","v":0}]
["average",{"$nulls":7},{"$f":"AVERAGE(I128:I130)","v":{"v":31.733333333333334,"d":"32"}},{"$nulls":6},{"$f":"AVERAGE(P128:P130)","v":{"v":2.9333333333333336,"d":"3"}},{"$nulls":6},{"$f":"AVERAGE(W128:W130)","v":{"v":0.6666666666666666,"d":"1"}},{"$nulls":6},{"$f":"AVERAGE(AD128:AD130)","v":0},{"$nulls":6},{"$f":"AVERAGE(AK128:AK130)","v":0},{"$nulls":6},{"$f":"AVERAGE(AR128:AR130)","v":0},{"$nulls":6},{"$f":"AVERAGE(AY128:AY130)","v":0},{"$nulls":6},{"$f":"AVERAGE(BF128:BF130)","v":0}]
["stdev",{"$nulls":7},{"$f":"SUM(J128:J130)","v":{"v":22.034199545175298,"d":"22"}},{"$nulls":6},{"$f":"SUM(Q128:Q130)","v":{"v":4.45407096958747,"d":"4"}},{"$nulls":6},{"$f":"SUM(X128:X130)","v":{"v":2.178300813033949,"d":"2"}},{"$nulls":6},{"$f":"SUM(AE128:AE130)","v":0},{"$nulls":6},{"$f":"SUM(AL128:AL130)","v":0},{"$nulls":6},{"$f":"SUM(AS128:AS130)","v":0},{"$nulls":6},{"$f":"SUM(AZ128:AZ130)","v":0},{"$nulls":6},{"$f":"SUM(BG128:BG130)","v":0}]
["2213F A",1,null,4,7,1,4,3,{"$f":"AVERAGE(D133:H133)","v":{"v":3.8,"d":"4"}},{"$f":"STDEV(D133:H133)","v":{"v":2.16794833886788,"d":"2"}},0,0,0,0,11,{"$f":"AVERAGE(K133:O133)","v":{"v":2.2,"d":"2"}},{"$f":"STDEV(K133:O133)","v":{"v":4.919349550499537,"d":"5"}},0,0,0,0,0,{"$f":"AVERAGE(R133:V133)","v":0},{"$f":"STDEV(R133:V133)","v":0},0,0,0,0,0,{"$f":"AVERAGE(Y133:AC133)","v":0},{"$f":"STDEV(Y133:AC133)","v":0},0,0,0,0,0,{"$f":"AVERAGE(AF133:AJ133)","v":0},{"$f":"STDEV(AF133:AJ133)","v":0},0,0,0,0,0,{"$f":"AVERAGE(AM133:AQ133)","v":0},{"$f":"STDEV(AM133:AQ133)","v":0},0,0,0,0,0,{"$f":"AVERAGE(AT133:AX133)","v":0},{"$f":"STDEV(AT133:AX133)","v":0},0,0,0,0,0,{"$f":"AVERAGE(BA133:BE133)","v":0},{"$f":"STDEV(BA133:BE133)","v":0}]
["p+0",2,null,35,30,31,38,27,{"$f":"AVERAGE(D134:H134)","v":{"v":32.2,"d":"32"}},{"$f":"STDEV(D134:H134)","v":{"v":4.324349662087936,"d":"4"}},3,1,4,1,3,{"$f":"AVERAGE(K134:O134)","v":{"v":2.4,"d":"2"}},{"$f":"STDEV(K134:O134)","v":{"v":1.3416407864998738,"d":"1"}},1,0,0,0,1,{"$f":"AVERAGE(R134:V134)","v":{"v":0.4,"d":"0"}},{"$f":"STDEV(R134:V134)","v":{"v":0.5477225575051661,"d":"1"}},0,0,0,0,0,{"$f":"AVERAGE(Y134:AC134)","v":0},{"$f":"STDEV(Y134:AC134)","v":0},0,0,0,0,0,{"$f":"AVERAGE(AF134:AJ134)","v":0},{"$f":"STDEV(AF134:AJ134)","v":0},0,0,0,0,0,{"$f":"AVERAGE(AM134:AQ134)","v":0},{"$f":"STDEV(AM134:AQ134)","v":0},0,0,0,0,0,{"$f":"AVERAGE(AT134:AX134)","v":0},{"$f":"STDEV(AT134:AX134)","v":0},0,0,0,0,0,{"$f":"AVERAGE(BA134:BE134)","v":0},{"$f":"STDEV(BA134:BE134)","v":0}]
[null,3,null,14,18,14,14,17,{"$f":"AVERAGE(D135:H135)","v":{"v":15.4,"d":"15"}},{"$f":"STDEV(D135:H135)","v":{"v":1.9493588689617958,"d":"2"}},1,0,0,0,2,{"$f":"AVERAGE(K135:O135)","v":{"v":0.6,"d":"1"}},{"$f":"STDEV(K135:O135)","v":{"v":0.8944271909999159,"d":"1"}},0,0,0,0,0,{"$f":"AVERAGE(R135:V135)","v":0},{"$f":"STDEV(R135:V135)","v":0},0,0,0,0,1,{"$f":"AVERAGE(Y135:AC135)","v":{"v":0.2,"d":"0"}},{"$f":"STDEV(Y135:AC135)","v":{"v":0.4472135954999579,"d":"0"}},0,0,0,0,0,{"$f":"AVERAGE(AF135:AJ135)","v":0},{"$f":"STDEV(AF135:AJ135)","v":0},0,0,0,0,0,{"$f":"AVERAGE(AM135:AQ135)","v":0},{"$f":"STDEV(AM135:AQ135)","v":0},0,0,0,0,0,{"$f":"AVERAGE(AT135:AX135)","v":0},{"$f":"STDEV(AT135:AX135)","v":0},0,0,0,0,0,{"$f":"AVERAGE(BA135:BE135)","v":0},{"$f":"STDEV(BA135:BE135)","v":0}]
["average",{"$nulls":7},{"$f":"AVERAGE(I133:I135)","v":{"v":17.133333333333333,"d":"17"}},{"$nulls":6},{"$f":"AVERAGE(P133:P135)","v":{"v":1.7333333333333332,"d":"2"}},{"$nulls":6},{"$f":"AVERAGE(W133:W135)","v":{"v":0.13333333333333333,"d":"0"}},{"$nulls":6},{"$f":"AVERAGE(AD133:AD135)","v":{"v":0.06666666666666667,"d":"0"}},{"$nulls":6},{"$f":"AVERAGE(AK133:AK135)","v":0},{"$nulls":6},{"$f":"AVERAGE(AR133:AR135)","v":0},{"$nulls":6},{"$f":"AVERAGE(AY133:AY135)","v":0},{"$nulls":6},{"$f":"AVERAGE(BF133:BF135)","v":0}]
["stdev",{"$nulls":7},{"$f":"SUM(J133:J135)","v":{"v":8.441656869917612,"d":"8"}},{"$nulls":6},{"$f":"SUM(Q133:Q135)","v":{"v":7.155417527999327,"d":"7"}},{"$nulls":6},{"$f":"SUM(X133:X135)","v":{"v":0.5477225575051661,"d":"1"}},{"$nulls":6},{"$f":"SUM(AE133:AE135)","v":{"v":0.4472135954999579,"d":"0"}},{"$nulls":6},{"$f":"SUM(AL133:AL135)","v":0},{"$nulls":6},{"$f":"SUM(AS133:AS135)","v":0},{"$nulls":6},{"$f":"SUM(AZ133:AZ135)","v":0},{"$nulls":6},{"$f":"SUM(BG133:BG135)","v":0}]
["p+3",1,null,28,39,29,31,28,{"$f":"AVERAGE(D138:H138)","v":31},{"$f":"STDEV(D138:H138)","v":{"v":4.636809247747852,"d":"5"}},14,16,7,10,9,{"$f":"AVERAGE(K138:O138)","v":{"v":11.2,"d":"11"}},{"$f":"STDEV(K138:O138)","v":{"v":3.701351104664348,"d":"4"}},1,2,2,2,2,{"$f":"AVERAGE(R138:V138)","v":{"v":1.8,"d":"2"}},{"$f":"STDEV(R138:V138)","v":{"v":0.44721359549995815,"d":"0"}},0,0,0,0,0,{"$f":"AVERAGE(Y138:AC138)","v":0},{"$f":"STDEV(Y138:AC138)","v":0},0,0,0,0,0,{"$f":"AVERAGE(AF138:AJ138)","v":0},{"$f":"STDEV(AF138:AJ138)","v":0},0,0,0,0,0,{"$f":"AVERAGE(AM138:AQ138)","v":0},{"$f":"STDEV(AM138:AQ138)","v":0},0,0,0,0,0,{"$f":"AVERAGE(AT138:AX138)","v":0},{"$f":"STDEV(AT138:AX138)","v":0},0,0,0,0,0,{"$f":"AVERAGE(BA138:BE138)","v":0},{"$f":"STDEV(BA138:BE138)","v":0}]
[null,2,null,39,48,34,41,42,{"$f":"AVERAGE(D139:H139)","v":{"v":40.8,"d":"41"}},{"$f":"STDEV(D139:H139)","v":{"v":5.069516742254613,"d":"5"}},4,6,4,9,6,{"$f":"AVERAGE(K139:O139)","v":{"v":5.8,"d":"6"}},{"$f":"STDEV(K139:O139)","v":{"v":2.0493901531919203,"d":"2"}},1,0,1,0,0,{"$f":"AVERAGE(R139:V139)","v":{"v":0.4,"d":"0"}},{"$f":"STDEV(R139:V139)","v":{"v":0.5477225575051661,"d":"1"}},0,0,0,0,0,{"$f":"AVERAGE(Y139:AC139)","v":0},{"$f":"STDEV(Y139:AC139)","v":0},0,0,0,0,0,{"$f":"AVERAGE(AF139:AJ139)","v":0},{"$f":"STDEV(AF139:AJ139)","v":0},0,0,0,0,0,{"$f":"AVERAGE(AM139:AQ139)","v":0},{"$f":"STDEV(AM139:AQ139)","v":0},0,0,0,0,0,{"$f":"AVERAGE(AT139:AX139)","v":0},{"$f":"STDEV(AT139:AX139)","v":0},0,0,0,0,0,{"$f":"AVERAGE(BA139:BE139)","v":0},{"$f":"STDEV(BA139:BE139)","v":0}]
[null,3,null,27,26,30,32,34,{"$f":"AVERAGE(D140:H140)","v":{"v":29.8,"d":"30"}},{"$f":"STDEV(D140:H140)","v":{"v":3.3466401061363023,"d":"3"}},4,5,3,3,3,{"$f":"AVERAGE(K140:O140)","v":{"v":3.6,"d":"4"}},{"$f":"STDEV(K140:O140)","v":{"v":0.8944271909999163,"d":"1"}},0,0,0,0,0,{"$f":"AVERAGE(R140:V140)","v":0},{"$f":"STDEV(R140:V140)","v":0},0,0,0,0,0,{"$f":"AVERAGE(Y140:AC140)","v":0},{"$f":"STDEV(Y140:AC140)","v":0},0,0,0,0,0,{"$f":"AVERAGE(AF140:AJ140)","v":0},{"$f":"STDEV(AF140:AJ140)","v":0},0,0,0,0,0,{"$f":"AVERAGE(AM140:AQ140)","v":0},{"$f":"STDEV(AM140:AQ140)","v":0},0,0,0,0,0,{"$f":"AVERAGE(AT140:AX140)","v":0},{"$f":"STDEV(AT140:AX140)","v":0},0,0,0,0,0,{"$f":"AVERAGE(BA140:BE140)","v":0},{"$f":"STDEV(BA140:BE140)","v":0}]
["average",{"$nulls":7},{"$f":"AVERAGE(I138:I140)","v":{"v":33.86666666666667,"d":"34"}},{"$nulls":6},{"$f":"AVERAGE(P138:P140)","v":{"v":6.866666666666667,"d":"7"}},{"$nulls":6},{"$f":"AVERAGE(W138:W140)","v":{"v":0.7333333333333334,"d":"1"}},{"$nulls":6},{"$f":"AVERAGE(AD138:AD140)","v":0},{"$nulls":6},{"$f":"AVERAGE(AK138:AK140)","v":0},{"$nulls":6},{"$f":"AVERAGE(AR138:AR140)","v":0},{"$nulls":6},{"$f":"AVERAGE(AY138:AY140)","v":0},{"$nulls":6},{"$f":"AVERAGE(BF138:BF140)","v":0}]
["stdev",{"$nulls":7},{"$f":"SUM(J138:J140)","v":{"v":13.052966096138768,"d":"13"}},{"$nulls":6},{"$f":"SUM(Q138:Q140)","v":{"v":6.645168448856185,"d":"7"}},{"$nulls":6},{"$f":"SUM(X138:X140)","v":{"v":0.9949361530051242,"d":"1"}},{"$nulls":6},{"$f":"SUM(AE138:AE140)","v":0},{"$nulls":6},{"$f":"SUM(AL138:AL140)","v":0},{"$nulls":6},{"$f":"SUM(AS138:AS140)","v":0},{"$nulls":6},{"$f":"SUM(AZ138:AZ140)","v":0},{"$nulls":6},{"$f":"SUM(BG138:BG140)","v":0}]
["2213F APR",1,null,8,7,9,5,11,{"$f":"AVERAGE(D143:H143)","v":8},{"$f":"STDEV(D143:H143)","v":{"v":2.23606797749979,"d":"2"}},1,0,1,0,1,{"$f":"AVERAGE(K143:O143)","v":{"v":0.6,"d":"1"}},{"$f":"STDEV(K143:O143)","v":{"v":0.5477225575051661,"d":"1"}},0,0,0,0,1,{"$f":"AVERAGE(R143:V143)","v":{"v":0.2,"d":"0"}},{"$f":"STDEV(R143:V143)","v":{"v":0.4472135954999579,"d":"0"}},0,0,0,0,0,{"$f":"AVERAGE(Y143:AC143)","v":0},{"$f":"STDEV(Y143:AC143)","v":0},0,0,0,0,0,{"$f":"AVERAGE(AF143:AJ143)","v":0},{"$f":"STDEV(AF143:AJ143)","v":0},0,0,0,0,0,{"$f":"AVERAGE(AM143:AQ143)","v":0},{"$f":"STDEV(AM143:AQ143)","v":0},0,0,0,0,0,{"$f":"AVERAGE(AT143:AX143)","v":0},{"$f":"STDEV(AT143:AX143)","v":0},0,0,0,0,0,{"$f":"AVERAGE(BA143:BE143)","v":0},{"$f":"STDEV(BA143:BE143)","v":0}]
["p+0",2,null,0,2,2,3,2,{"$f":"AVERAGE(D144:H144)","v":{"v":1.8,"d":"2"}},{"$f":"STDEV(D144:H144)","v":{"v":1.0954451150103324,"d":"1"}},0,0,0,0,0,{"$f":"AVERAGE(K144:O144)","v":0},{"$f":"STDEV(K144:O144)","v":0},0,0,0,0,0,{"$f":"AVERAGE(R144:V144)","v":0},{"$f":"STDEV(R144:V144)","v":0},0,0,0,0,0,{"$f":"AVERAGE(Y144:AC144)","v":0},{"$f":"STDEV(Y144:AC144)","v":0},0,0,0,0,0,{"$f":"AVERAGE(AF144:AJ144)","v":0},{"$f":"STDEV(AF144:AJ144)","v":0},0,0,0,0,0,{"$f":"AVERAGE(AM144:AQ144)","v":0},{"$f":"STDEV(AM144:AQ144)","v":0},0,0,0,0,0,{"$f":"AVERAGE(AT144:AX144)","v":0},{"$f":"STDEV(AT144:AX144)","v":0},0,0,0,0,0,{"$f":"AVERAGE(BA144:BE144)","v":0},{"$f":"STDEV(BA144:BE144)","v":0}]
[null,3,null,18,17,14,18,25,{"$f":"AVERAGE(D145:H145)","v":{"v":18.4,"d":"18"}},{"$f":"STDEV(D145:H145)","v":{"v":4.0373258476372715,"d":"4"}},0,3,4,1,2,{"$f":"AVERAGE(K145:O145)","v":2},{"$f":"STDEV(K145:O145)","v":{"v":1.5811388300841898,"d":"2"}},0,0,0,0,1,{"$f":"AVERAGE(R145:V145)","v":{"v":0.2,"d":"0"}},{"$f":"STDEV(R145:V145)","v":{"v":0.4472135954999579,"d":"0"}},0,0,0,1,0,{"$f":"AVERAGE(Y145:AC145)","v":{"v":0.2,"d":"0"}},{"$f":"STDEV(Y145:AC145)","v":{"v":0.4472135954999579,"d":"0"}},0,0,0,0,0,{"$f":"AVERAGE(AF145:AJ145)","v":0},{"$f":"STDEV(AF145:AJ145)","v":0},0,0,0,0,0,{"$f":"AVERAGE(AM145:AQ145)","v":0},{"$f":"STDEV(AM145:AQ145)","v":0},0,0,0,0,0,{"$f":"AVERAGE(AT145:AX145)","v":0},{"$f":"STDEV(AT145:AX145)","v":0},0,0,0,0,0,{"$f":"AVERAGE(BA145:BE145)","v":0},{"$f":"STDEV(BA145:BE145)","v":0}]
["average",{"$nulls":7},{"$f":"AVERAGE(I143:I145)","v":{"v":9.4,"d":"9"}},{"$nulls":6},{"$f":"AVERAGE(P143:P145)","v":{"v":0.8666666666666667,"d":"1"}},{"$nulls":6},{"$f":"AVERAGE(W143:W145)","v":{"v":0.13333333333333333,"d":"0"}},{"$nulls":6},{"$f":"AVERAGE(AD143:AD145)","v":{"v":0.06666666666666667,"d":"0"}},{"$nulls":6},{"$f":"AVERAGE(AK143:AK145)","v":0},{"$nulls":6},{"$f":"AVERAGE(AR143:AR145)","v":0},{"$nulls":6},{"$f":"AVERAGE(AY143:AY145)","v":0},{"$nulls":6},{"$f":"AVERAGE(BF143:BF145)","v":0}]
["stdev",{"$nulls":7},{"$f":"SUM(J143:J145)","v":{"v":7.368838940147394,"d":"7"}},{"$nulls":6},{"$f":"SUM(Q143:Q145)","v":{"v":2.128861387589356,"d":"2"}},{"$nulls":6},{"$f":"SUM(X143:X145)","v":{"v":0.8944271909999159,"d":"1"}},{"$nulls":6},{"$f":"SUM(AE143:AE145)","v":{"v":0.4472135954999579,"d":"0"}},{"$nulls":6},{"$f":"SUM(AL143:AL145)","v":0},{"$nulls":6},{"$f":"SUM(AS143:AS145)","v":0},{"$nulls":6},{"$f":"SUM(AZ143:AZ145)","v":0},{"$nulls":6},{"$f":"SUM(BG143:BG145)","v":0}]
["p+3",1,null,12,14,9,8,10,{"$f":"AVERAGE(D148:H148)","v":{"v":10.6,"d":"11"}},{"$f":"STDEV(D148:H148)","v":{"v":2.4083189157584615,"d":"2"}},2,2,0,2,0,{"$f":"AVERAGE(K148:O148)","v":{"v":1.2,"d":"1"}},{"$f":"STDEV(K148:O148)","v":{"v":1.0954451150103321,"d":"1"}},0,0,0,0,0,{"$f":"AVERAGE(R148:V148)","v":0},{"$f":"STDEV(R148:V148)","v":0},0,0,0,0,0,{"$f":"AVERAGE(Y148:AC148)","v":0},{"$f":"STDEV(Y148:AC148)","v":0},0,0,0,0,0,{"$f":"AVERAGE(AF148:AJ148)","v":0},{"$f":"STDEV(AF148:AJ148)","v":0},0,0,0,0,0,{"$f":"AVERAGE(AM148:AQ148)","v":0},{"$f":"STDEV(AM148:AQ148)","v":0},0,0,0,0,0,{"$f":"AVERAGE(AT148:AX148)","v":0},{"$f":"STDEV(AT148:AX148)","v":0},0,0,0,0,0,{"$f":"AVERAGE(BA148:BE148)","v":0},{"$f":"STDEV(BA148:BE148)","v":0}]
[null,2,null,1,0,2,0,2,{"$f":"AVERAGE(D149:H149)","v":1},{"$f":"STDEV(D149:H149)","v":1},0,2,0,0,0,{"$f":"AVERAGE(K149:O149)","v":{"v":0.4,"d":"0"}},{"$f":"STDEV(K149:O149)","v":{"v":0.8944271909999159,"d":"1"}},0,0,0,0,0,{"$f":"AVERAGE(R149:V149)","v":0},{"$f":"STDEV(R149:V149)","v":0},0,0,0,0,0,{"$f":"AVERAGE(Y149:AC149)","v":0},{"$f":"STDEV(Y149:AC149)","v":0},0,0,0,0,0,{"$f":"AVERAGE(AF149:AJ149)","v":0},{"$f":"STDEV(AF149:AJ149)","v":0},0,0,0,0,0,{"$f":"AVERAGE(AM149:AQ149)","v":0},{"$f":"STDEV(AM149:AQ149)","v":0},0,0,0,0,0,{"$f":"AVERAGE(AT149:AX149)","v":0},{"$f":"STDEV(AT149:AX149)","v":0},0,0,0,0,0,{"$f":"AVERAGE(BA149:BE149)","v":0},{"$f":"STDEV(BA149:BE149)","v":0}]
[null,3,null,13,13,14,14,12,{"$f":"AVERAGE(D150:H150)","v":{"v":13.2,"d":"13"}},{"$f":"STDEV(D150:H150)","v":{"v":0.8366600265340756,"d":"1"}},2,4,1,2,1,{"$f":"AVERAGE(K150:O150)","v":2},{"$f":"STDEV(K150:O150)","v":{"v":1.224744871391589,"d":"1"}},0,0,0,0,0,{"$f":"AVERAGE(R150:V150)","v":0},{"$f":"STDEV(R150:V150)","v":0},0,0,0,0,0,{"$f":"AVERAGE(Y150:AC150)","v":0},{"$f":"STDEV(Y150:AC150)","v":0},0,0,0,0,0,{"$f":"AVERAGE(AF150:AJ150)","v":0},{"$f":"STDEV(AF150:AJ150)","v":0},0,0,0,0,0,{"$f":"AVERAGE(AM150:AQ150)","v":0},{"$f":"STDEV(AM150:AQ150)","v":0},0,0,0,0,0,{"$f":"AVERAGE(AT150:AX150)","v":0},{"$f":"STDEV(AT150:AX150)","v":0},0,0,0,0,0,{"$f":"AVERAGE(BA150:BE150)","v":0},{"$f":"STDEV(BA150:BE150)","v":0}]
["average",{"$nulls":7},{"$f":"AVERAGE(I148:I150)","v":{"v":8.266666666666666,"d":"8"}},{"$nulls":6},{"$f":"AVERAGE(P148:P150)","v":{"v":1.2,"d":"1"}},{"$nulls":6},{"$f":"AVERAGE(W148:W150)","v":0},{"$nulls":6},{"$f":"AVERAGE(AD148:AD150)","v":0},{"$nulls":6},{"$f":"AVERAGE(AK148:AK150)","v":0},{"$nulls":6},{"$f":"AVERAGE(AR148:AR150)","v":0},{"$nulls":6},{"$f":"AVERAGE(AY148:AY150)","v":0},{"$nulls":6},{"$f":"AVERAGE(BF148:BF150)","v":0}]
["stdev",{"$nulls":7},{"$f":"SUM(J148:J150)","v":{"v":4.244978942292537,"d":"4"}},{"$nulls":6},{"$f":"SUM(Q148:Q150)","v":{"v":3.214617177401837,"d":"3"}},{"$nulls":6},{"$f":"SUM(X148:X150)","v":0},{"$nulls":6},{"$f":"SUM(AE148:AE150)","v":0},{"$nulls":6},{"$f":"SUM(AL148:AL150)","v":0},{"$nulls":6},{"$f":"SUM(AS148:AS150)","v":0},{"$nulls":6},{"$f":"SUM(AZ148:AZ150)","v":0},{"$nulls":6},{"$f":"SUM(BG148:BG150)","v":0}]
[]
[]
["T7","08okt17"]
["Sample","Dilution:",null,1,{"$nulls":4},"AVERAGE",null,{"$f":"10^-1","v":0.1},{"$nulls":4},"AVERAGE",null,{"$f":"10^-2","v":0.01},{"$nulls":4},"AVERAGE",null,{"$f":"10^-3","v":{"v":1E-3,"d":"1.00E-03"}},{"$nulls":4},"AVERAGE",null,{"$f":"10^-4","v":{"v":1E-4,"d":"1.00E-04"}},{"$nulls":4},"AVERAGE",null,{"$f":"10^-5","v":{"v":1e-05,"d":"1.00E-05"}},{"$nulls":4},"AVERAGE",null,{"$f":"10^-5","v":{"v":1e-05,"d":"1.00E-05"}},{"$nulls":4},"AVERAGE",null,{"$f":"10^-5","v":{"v":1e-05,"d":"1.00E-05"}},{"$nulls":4},"AVERAGE"]
["Blank",1,null,0,0,0,0,0,{"$f":"AVERAGE(D157:H157)","v":0},{"$f":"STDEV(D157:H157)","v":0},0,0,0,0,0,{"$f":"AVERAGE(K157:O157)","v":0},{"$f":"STDEV(K157:O157)","v":0},0,0,0,0,0,{"$f":"AVERAGE(R157:V157)","v":0},{"$f":"STDEV(R157:V157)","v":0},0,0,0,0,0,{"$f":"AVERAGE(Y157:AC157)","v":0},{"$f":"STDEV(Y157:AC157)","v":0},0,0,0,0,0,{"$f":"AVERAGE(AF157:AJ157)","v":0},{"$f":"STDEV(AF157:AJ157)","v":0},0,0,0,0,0,{"$f":"AVERAGE(AM157:AQ157)","v":0},{"$f":"STDEV(AM157:AQ157)","v":0},0,0,0,0,0,{"$f":"AVERAGE(AT157:AX157)","v":0},{"$f":"STDEV(AT157:AX157)","v":0},0,0,0,0,0,{"$f":"AVERAGE(BA157:BE157)","v":0},{"$f":"STDEV(BA157:BE157)","v":0}]
[null,2,null,0,0,0,0,0,{"$f":"AVERAGE(D158:H158)","v":0},{"$f":"STDEV(D158:H158)","v":0},0,0,0,0,0,{"$f":"AVERAGE(K158:O158)","v":0},{"$f":"STDEV(K158:O158)","v":0},0,0,0,0,0,{"$f":"AVERAGE(R158:V158)","v":0},{"$f":"STDEV(R158:V158)","v":0},0,0,0,0,0,{"$f":"AVERAGE(Y158:AC158)","v":0},{"$f":"STDEV(Y158:AC158)","v":0},0,0,0,0,0,{"$f":"AVERAGE(AF158:AJ158)","v":0},{"$f":"STDEV(AF158:AJ158)","v":0},0,0,0,0,0,{"$f":"AVERAGE(AM158:AQ158)","v":0},{"$f":"STDEV(AM158:AQ158)","v":0},0,0,0,0,0,{"$f":"AVERAGE(AT158:AX158)","v":0},{"$f":"STDEV(AT158:AX158)","v":0},0,0,0,0,0,{"$f":"AVERAGE(BA158:BE158)","v":0},{"$f":"STDEV(BA158:BE158)","v":0}]
[null,3,null,0,0,0,0,0,{"$f":"AVERAGE(D159:H159)","v":0},{"$f":"STDEV(D159:H159)","v":0},0,0,0,0,0,{"$f":"AVERAGE(K159:O159)","v":0},{"$f":"STDEV(K159:O159)","v":0},0,0,0,0,0,{"$f":"AVERAGE(R159:V159)","v":0},{"$f":"STDEV(R159:V159)","v":0},0,0,0,0,0,{"$f":"AVERAGE(Y159:AC159)","v":0},{"$f":"STDEV(Y159:AC159)","v":0},0,0,0,0,0,{"$f":"AVERAGE(AF159:AJ159)","v":0},{"$f":"STDEV(AF159:AJ159)","v":0},0,0,0,0,0,{"$f":"AVERAGE(AM159:AQ159)","v":0},{"$f":"STDEV(AM159:AQ159)","v":0},0,0,0,0,0,{"$f":"AVERAGE(AT159:AX159)","v":0},{"$f":"STDEV(AT159:AX159)","v":0},0,0,0,0,0,0,0]
[{"$nulls":8},{"$f":"AVERAGE(I157:I159)","v":0},{"$nulls":6},{"$f":"AVERAGE(P157:P159)","v":0},{"$nulls":6},{"$f":"AVERAGE(W157:W159)","v":0},{"$nulls":6},{"$f":"AVERAGE(AD157:AD159)","v":0},{"$nulls":6},{"$f":"AVERAGE(AK157:AK159)","v":0},{"$nulls":6},{"$f":"AVERAGE(AR157:AR159)","v":0},{"$nulls":6},{"$f":"AVERAGE(AY157:AY159)","v":0},{"$nulls":6},{"$f":"AVERAGE(BF157:BF159)","v":0}]
[{"$nulls":8},{"$f":"SUM(J157:J159)","v":0},{"$nulls":6},{"$f":"SUM(Q157:Q159)","v":0},{"$nulls":6},{"$f":"SUM(X157:X159)","v":0},{"$nulls":6},{"$f":"SUM(AE157:AE159)","v":0},{"$nulls":6},{"$f":"SUM(AL157:AL159)","v":0},{"$nulls":6},{"$f":"SUM(AS157:AS159)","v":0},{"$nulls":6},{"$f":"SUM(AZ157:AZ159)","v":0},{"$nulls":6},{"$f":"SUM(BG157:BG159)","v":0}]
["DH5α -",1,null,49,56,43,47,52,{"$f":"AVERAGE(D162:H162)","v":{"v":49.4,"d":"49"}},{"$f":"STDEV(D162:H162)","v":{"v":4.9295030175464944,"d":"5"}},4,6,8,14,12,{"$f":"AVERAGE(K162:O162)","v":{"v":8.8,"d":"9"}},{"$f":"STDEV(K162:O162)","v":{"v":4.147288270665545,"d":"4"}},0,0,0,0,0,{"$f":"AVERAGE(R162:V162)","v":0},{"$f":"STDEV(R162:V162)","v":0},0,0,0,0,0,{"$f":"AVERAGE(Y162:AC162)","v":0},{"$f":"STDEV(Y162:AC162)","v":0},0,0,0,0,0,{"$f":"AVERAGE(AF162:AJ162)","v":0},{"$f":"STDEV(AF162:AJ162)","v":0},0,0,0,0,0,{"$f":"AVERAGE(AM162:AQ162)","v":0},{"$f":"STDEV(AM162:AQ162)","v":0},0,0,0,0,0,{"$f":"AVERAGE(AT162:AX162)","v":0},{"$f":"STDEV(AT162:AX162)","v":0},0,0,0,0,0,{"$f":"AVERAGE(BA162:BE162)","v":0},{"$f":"STDEV(BA162:BE162)","v":0}]
[null,2,null,34,29,48,38,35,{"$f":"AVERAGE(D163:H163)","v":{"v":36.8,"d":"37"}},{"$f":"STDEV(D163:H163)","v":{"v":7.04982269280583,"d":"7"}},4,3,6,2,6,{"$f":"AVERAGE(K163:O163)","v":{"v":4.2,"d":"4"}},{"$f":"STDEV(K163:O163)","v":{"v":1.7888543819998315,"d":"2"}},0,0,0,0,0,{"$f":"AVERAGE(R163:V163)","v":0},{"$f":"STDEV(R163:V163)","v":0},0,0,0,0,0,{"$f":"AVERAGE(Y163:AC163)","v":0},{"$f":"STDEV(Y163:AC163)","v":0},0,0,0,0,0,{"$f":"AVERAGE(AF163:AJ163)","v":0},{"$f":"STDEV(AF163:AJ163)","v":0},0,0,0,0,0,{"$f":"AVERAGE(AM163:AQ163)","v":0},{"$f":"STDEV(AM163:AQ163)","v":0},0,0,0,0,0,{"$f":"AVERAGE(AT163:AX163)","v":0},{"$f":"STDEV(AT163:AX163)","v":0},0,0,0,0,0,{"$f":"AVERAGE(BA163:BE163)","v":0},{"$f":"STDEV(BA163:BE163)","v":0}]
[null,3,null,104,96,98,102,89,{"$f":"AVERAGE(D164:H164)","v":{"v":97.8,"d":"98"}},{"$f":"STDEV(D164:H164)","v":{"v":5.848076606885378,"d":"6"}},14,9,12,24,12,{"$f":"AVERAGE(K164:O164)","v":{"v":14.2,"d":"14"}},{"$f":"STDEV(K164:O164)","v":{"v":5.761944116355172,"d":"6"}},0,0,0,0,0,{"$f":"AVERAGE(R164:V164)","v":0},{"$f":"STDEV(R164:V164)","v":0},0,0,0,0,0,{"$f":"AVERAGE(Y164:AC164)","v":0},{"$f":"STDEV(Y164:AC164)","v":0},0,0,0,0,0,{"$f":"AVERAGE(AF164:AJ164)","v":0},{"$f":"STDEV(AF164:AJ164)","v":0},0,0,0,0,0,{"$f":"AVERAGE(AM164:AQ164)","v":0},{"$f":"STDEV(AM164:AQ164)","v":0},0,0,0,0,0,{"$f":"AVERAGE(AT164:AX164)","v":0},{"$f":"STDEV(AT164:AX164)","v":0},0,0,0,0,0,{"$f":"AVERAGE(BA164:BE164)","v":0},{"$f":"STDEV(BA164:BE164)","v":0}]
[{"$nulls":8},{"$f":"AVERAGE(I162:I164)","v":{"v":61.333333333333336,"d":"61"}},{"$nulls":6},{"$f":"AVERAGE(P162:P164)","v":{"v":9.066666666666666,"d":"9"}},{"$nulls":6},{"$f":"AVERAGE(W162:W164)","v":0},{"$nulls":6},{"$f":"AVERAGE(AD162:AD164)","v":0},{"$nulls":6},{"$f":"AVERAGE(AK162:AK164)","v":0},{"$nulls":6},{"$f":"AVERAGE(AR162:AR164)","v":0},{"$nulls":6},{"$f":"AVERAGE(AY162:AY164)","v":0},{"$nulls":6},{"$f":"AVERAGE(BF162:BF164)","v":0}]
[{"$nulls":8},{"$f":"SUM(J162:J164)","v":{"v":17.827402317237702,"d":"18"}},{"$nulls":6},{"$f":"SUM(Q162:Q164)","v":{"v":11.698086769020549,"d":"12"}},{"$nulls":6},{"$f":"SUM(X162:X164)","v":0},{"$nulls":6},{"$f":"SUM(AE162:AE164)","v":0},{"$nulls":6},{"$f":"SUM(AL162:AL164)","v":0},{"$nulls":6},{"$f":"SUM(AS162:AS164)","v":0},{"$nulls":6},{"$f":"SUM(AZ162:AZ164)","v":0},{"$nulls":6},{"$f":"SUM(BG162:BG164)","v":0}]
["WT",1,null,1,0,1,0,2,{"$f":"AVERAGE(D167:H167)","v":{"v":0.8,"d":"1"}},{"$f":"STDEV(D167:H167)","v":{"v":0.8366600265340756,"d":"1"}},0,0,0,0,0,{"$f":"AVERAGE(K167:O167)","v":0},{"$f":"STDEV(K167:O167)","v":0},0,0,0,0,0,{"$f":"AVERAGE(R167:V167)","v":0},{"$f":"STDEV(R167:V167)","v":0},0,0,0,0,0,{"$f":"AVERAGE(Y167:AC167)","v":0},{"$f":"STDEV(Y167:AC167)","v":0},0,0,0,0,0,{"$f":"AVERAGE(AF167:AJ167)","v":0},{"$f":"STDEV(AF167:AJ167)","v":0},0,0,0,0,0,{"$f":"AVERAGE(AM167:AQ167)","v":0},{"$f":"STDEV(AM167:AQ167)","v":0},0,0,0,0,0,{"$f":"AVERAGE(AT167:AX167)","v":0},{"$f":"STDEV(AT167:AX167)","v":0},0,0,0,0,0,{"$f":"AVERAGE(BA167:BE167)","v":0},{"$f":"STDEV(BA167:BE167)","v":0}]
[null,2,null,10,8,9,15,12,{"$f":"AVERAGE(D168:H168)","v":{"v":10.8,"d":"11"}},{"$f":"STDEV(D168:H168)","v":{"v":2.7748873851023195,"d":"3"}},1,0,0,3,2,{"$f":"AVERAGE(K168:O168)","v":{"v":1.2,"d":"1"}},{"$f":"STDEV(K168:O168)","v":{"v":1.3038404810405297,"d":"1"}},1,0,0,0,0,{"$f":"AVERAGE(R168:V168)","v":{"v":0.2,"d":"0"}},{"$f":"STDEV(R168:V168)","v":{"v":0.4472135954999579,"d":"0"}},0,0,0,0,0,{"$f":"AVERAGE(Y168:AC168)","v":0},{"$f":"STDEV(Y168:AC168)","v":0},0,0,0,0,0,{"$f":"AVERAGE(AF168:AJ168)","v":0},{"$f":"STDEV(AF168:AJ168)","v":0},0,0,0,0,0,{"$f":"AVERAGE(AM168:AQ168)","v":0},{"$f":"STDEV(AM168:AQ168)","v":0},0,0,0,0,0,{"$f":"AVERAGE(AT168:AX168)","v":0},{"$f":"STDEV(AT168:AX168)","v":0},0,0,0,0,0,0,{"$f":"STDEV(BA168:BE168)","v":0}]
[null,3,null,10,15,9,9,5,{"$f":"AVERAGE(D169:H169)","v":{"v":9.6,"d":"10"}},{"$f":"STDEV(D169:H169)","v":{"v":3.577708763999663,"d":"4"}},0,0,0,0,2,{"$f":"AVERAGE(K169:O169)","v":{"v":0.4,"d":"0"}},{"$f":"STDEV(K169:O169)","v":{"v":0.8944271909999159,"d":"1"}},0,0,0,0,0,{"$f":"AVERAGE(R169:V169)","v":0},{"$f":"STDEV(R169:V169)","v":0},0,0,0,0,0,{"$f":"AVERAGE(Y169:AC169)","v":0},{"$f":"STDEV(Y169:AC169)","v":0},0,0,0,0,0,{"$f":"AVERAGE(AF169:AJ169)","v":0},{"$f":"STDEV(AF169:AJ169)","v":0},0,0,0,0,0,{"$f":"AVERAGE(AM169:AQ169)","v":0},{"$f":"STDEV(AM169:AQ169)","v":0},0,0,0,0,0,{"$f":"AVERAGE(AT169:AX169)","v":0},{"$f":"STDEV(AT169:AX169)","v":0},0,0,0,0,0,0,0]
["average",{"$nulls":7},{"$f":"AVERAGE(I167:I169)","v":{"v":7.066666666666667,"d":"7"}},{"$nulls":6},{"$f":"AVERAGE(P167:P169)","v":{"v":0.5333333333333333,"d":"1"}},{"$nulls":6},{"$f":"AVERAGE(W167:W169)","v":{"v":0.06666666666666667,"d":"0"}},{"$nulls":6},{"$f":"AVERAGE(AD167:AD169)","v":0},{"$nulls":6},{"$f":"AVERAGE(AK167:AK169)","v":0},{"$nulls":6},{"$f":"AVERAGE(AR167:AR169)","v":0},{"$nulls":6},{"$f":"AVERAGE(AY167:AY169)","v":0},{"$nulls":6},{"$f":"AVERAGE(BF168:BF169)","v":0}]
["stdev",{"$nulls":7},{"$f":"SUM(J167:J169)","v":{"v":7.189256175636058,"d":"7"}},{"$nulls":6},{"$f":"SUM(Q167:Q169)","v":{"v":2.1982676720404455,"d":"2"}},{"$nulls":6},{"$f":"SUM(X167:X169)","v":{"v":0.4472135954999579,"d":"0"}},{"$nulls":6},{"$f":"SUM(AE167:AE169)","v":0},{"$nulls":6},{"$f":"SUM(AL167:AL169)","v":0},{"$nulls":6},{"$f":"SUM(AS167:AS169)","v":0},{"$nulls":6},{"$f":"SUM(AZ167:AZ169)","v":0},{"$nulls":6},{"$f":"SUM(BG167:BG169)","v":0}]
["2213F - ",1,null,71,64,54,73,74,{"$f":"AVERAGE(D172:H172)","v":{"v":67.2,"d":"67"}},{"$f":"STDEV(D172:H172)","v":{"v":8.34865258589671,"d":"8"}},0,0,0,0,0,{"$f":"AVERAGE(K172:O172)","v":0},{"$f":"STDEV(K172:O172)","v":0},0,0,0,0,0,{"$f":"AVERAGE(R172:V172)","v":0},{"$f":"STDEV(R172:V172)","v":0},0,0,0,0,0,{"$f":"AVERAGE(Y172:AC172)","v":0},{"$f":"STDEV(Y172:AC172)","v":0},0,0,0,0,0,{"$f":"AVERAGE(AF172:AJ172)","v":0},{"$f":"STDEV(AF172:AJ172)","v":0},0,0,0,0,0,{"$f":"AVERAGE(AM172:AQ172)","v":0},{"$f":"STDEV(AM172:AQ172)","v":0},0,0,0,0,0,{"$f":"AVERAGE(AT172:AX172)","v":0},{"$f":"STDEV(AT172:AX172)","v":0},0,0,0,0,0,{"$f":"AVERAGE(BA172:BE172)","v":0},{"$f":"STDEV(BA172:BE172)","v":0}]
["p+0",2,null,0,0,0,0,0,{"$f":"AVERAGE(D173:H173)","v":0},{"$f":"STDEV(D173:H173)","v":0},0,0,0,0,0,{"$f":"AVERAGE(K173:O173)","v":0},{"$f":"STDEV(K173:O173)","v":0},0,0,0,0,0,{"$f":"AVERAGE(R173:V173)","v":0},{"$f":"STDEV(R173:V173)","v":0},0,0,0,0,0,{"$f":"AVERAGE(Y173:AC173)","v":0},{"$f":"STDEV(Y173:AC173)","v":0},0,0,0,0,0,{"$f":"AVERAGE(AF173:AJ173)","v":0},{"$f":"STDEV(AF173:AJ173)","v":0},0,0,0,0,0,{"$f":"AVERAGE(AM173:AQ173)","v":0},{"$f":"STDEV(AM173:AQ173)","v":0},0,0,0,0,0,{"$f":"AVERAGE(AT173:AX173)","v":0},{"$f":"STDEV(AT173:AX173)","v":0},0,0,0,0,0,0,{"$f":"STDEV(BA173:BE173)","v":0}]
[null,3,null,0,0,2,1,0,{"$f":"AVERAGE(D174:H174)","v":{"v":0.6,"d":"1"}},{"$f":"STDEV(D174:H174)","v":{"v":0.8944271909999159,"d":"1"}},0,0,0,0,0,{"$f":"AVERAGE(K174:O174)","v":0},{"$f":"STDEV(K174:O174)","v":0},0,0,0,0,0,{"$f":"AVERAGE(R174:V174)","v":0},{"$f":"STDEV(R174:V174)","v":0},0,0,0,0,0,{"$f":"AVERAGE(Y174:AC174)","v":0},{"$f":"STDEV(Y174:AC174)","v":0},0,0,0,0,0,{"$f":"AVERAGE(AF174:AJ174)","v":0},{"$f":"STDEV(AF174:AJ174)","v":0},0,0,0,0,0,{"$f":"AVERAGE(AM174:AQ174)","v":0},{"$f":"STDEV(AM174:AQ174)","v":0},0,0,0,0,0,{"$f":"AVERAGE(AT174:AX174)","v":0},{"$f":"STDEV(AT174:AX174)","v":0},0,0,0,0,0,0,0]
["average",{"$nulls":7},{"$f":"AVERAGE(I172,I174)","v":{"v":33.9,"d":"34"}},{"$nulls":6},{"$f":"AVERAGE(P172,P174)","v":0},{"$nulls":6},{"$f":"AVERAGE(W172,W174)","v":0},{"$nulls":6},{"$f":"AVERAGE(AD172,AD174)","v":0},{"$nulls":6},{"$f":"AVERAGE(AK172,AK174)","v":0},{"$nulls":6},{"$f":"AVERAGE(AR172,AR174)","v":0},{"$nulls":6},{"$f":"AVERAGE(AY172,AY174)","v":0},{"$nulls":6},{"$f":"AVERAGE(BF172,BF174)","v":0}]
["stdev",{"$nulls":7},{"$f":"SUM(J172,J174)","v":{"v":9.243079776896627,"d":"9"}},{"$nulls":6},{"$f":"SUM(Q172,Q174)","v":0},{"$nulls":6},{"$f":"SUM(X172,X174)","v":0},{"$nulls":6},{"$f":"SUM(AE172,AE174)","v":0},{"$nulls":6},{"$f":"SUM(AL172,AL174)","v":0},{"$nulls":6},{"$f":"SUM(AS172,AS174)","v":0},{"$nulls":6},{"$f":"SUM(AZ172,AZ174)","v":0},{"$nulls":6},{"$f":"SUM(BG172,BG174)","v":0}]
["p+3",1,null,2,1,2,4,1,{"$f":"AVERAGE(D177:H177)","v":2},{"$f":"STDEV(D177:H177)","v":{"v":1.224744871391589,"d":"1"}},0,0,0,0,1,{"$f":"AVERAGE(K177:O177)","v":{"v":0.2,"d":"0"}},{"$f":"STDEV(K177:O177)","v":{"v":0.4472135954999579,"d":"0"}},0,0,0,0,0,{"$f":"AVERAGE(R177:V177)","v":0},{"$f":"STDEV(R177:V177)","v":0},0,0,0,0,0,{"$f":"AVERAGE(Y177:AC177)","v":0},{"$f":"STDEV(Y177:AC177)","v":0},0,0,0,0,0,{"$f":"AVERAGE(AF177:AJ177)","v":0},{"$f":"STDEV(AF177:AJ177)","v":0},0,0,0,0,0,{"$f":"AVERAGE(AM177:AQ177)","v":0},{"$f":"STDEV(AM177:AQ177)","v":0},0,0,0,0,0,{"$f":"AVERAGE(AT177:AX177)","v":0},{"$f":"STDEV(AT177:AX177)","v":0},0,0,0,0,0,{"$f":"AVERAGE(BA177:BE177)","v":0},{"$f":"STDEV(BA177:BE177)","v":0}]
[null,2,null,4,1,1,2,1,{"$f":"AVERAGE(D178:H178)","v":{"v":1.8,"d":"2"}},{"$f":"STDEV(D178:H178)","v":{"v":1.3038404810405297,"d":"1"}},0,0,0,1,0,{"$f":"AVERAGE(K178:O178)","v":{"v":0.2,"d":"0"}},{"$f":"STDEV(K178:O178)","v":{"v":0.4472135954999579,"d":"0"}},0,0,0,0,0,{"$f":"AVERAGE(R178:V178)","v":0},{"$f":"STDEV(R178:V178)","v":0},0,0,0,0,0,{"$f":"AVERAGE(Y178:AC178)","v":0},{"$f":"STDEV(Y178:AC178)","v":0},0,0,0,0,0,{"$f":"AVERAGE(AF178:AJ178)","v":0},{"$f":"STDEV(AF178:AJ178)","v":0},0,0,0,0,0,{"$f":"AVERAGE(AM178:AQ178)","v":0},{"$f":"STDEV(AM178:AQ178)","v":0},0,0,0,0,0,{"$f":"AVERAGE(AT178:AX178)","v":0},{"$f":"STDEV(AT178:AX178)","v":0},0,0,0,0,0,0,{"$f":"STDEV(BA178:BE178)","v":0}]
[null,3,null,40,46,51,40,46,{"$f":"AVERAGE(D179:H179)","v":{"v":44.6,"d":"45"}},{"$f":"STDEV(D179:H179)","v":{"v":4.6690470119715,"d":"5"}},7,0,0,3,9,{"$f":"AVERAGE(K179:O179)","v":{"v":3.8,"d":"4"}},{"$f":"STDEV(K179:O179)","v":{"v":4.08656334834051,"d":"4"}},0,0,0,1,0,{"$f":"AVERAGE(R179:V179)","v":{"v":0.2,"d":"0"}},{"$f":"STDEV(R179:V179)","v":{"v":0.4472135954999579,"d":"0"}},0,0,0,0,0,{"$f":"AVERAGE(Y179:AC179)","v":0},{"$f":"STDEV(Y179:AC179)","v":0},0,0,0,0,0,{"$f":"AVERAGE(AF179:AJ179)","v":0},{"$f":"STDEV(AF179:AJ179)","v":0},0,0,0,0,0,{"$f":"AVERAGE(AM179:AQ179)","v":0},{"$f":"STDEV(AM179:AQ179)","v":0},0,0,0,0,0,{"$f":"AVERAGE(AT179:AX179)","v":0},{"$f":"STDEV(AT179:AX179)","v":0},0,0,0,0,0,0,0]
["average",{"$nulls":7},{"$f":"AVERAGE(I177:I179)","v":{"v":16.133333333333333,"d":"16"}},{"$nulls":6},{"$f":"AVERAGE(P177:P179)","v":{"v":1.4000000000000001,"d":"1"}},{"$nulls":6},{"$f":"AVERAGE(W177:W179)","v":{"v":0.06666666666666667,"d":"0"}},{"$nulls":6},{"$f":"AVERAGE(AD177:AD179)","v":0},{"$nulls":6},{"$f":"AVERAGE(AK177:AK179)","v":0},{"$nulls":6},{"$f":"AVERAGE(AR177:AR179)","v":0},{"$nulls":6},{"$f":"AVERAGE(AY177:AY179)","v":0},{"$nulls":6},{"$f":"AVERAGE(BF177:BF179)","v":0}]
["stdev",{"$nulls":7},{"$f":"SUM(J177:J179)","v":{"v":7.197632364403619,"d":"7"}},{"$nulls":6},{"$f":"SUM(Q177:Q179)","v":{"v":4.980990539340426,"d":"5"}},{"$nulls":6},{"$f":"SUM(X177:X179)","v":{"v":0.4472135954999579,"d":"0"}},{"$nulls":6},{"$f":"SUM(AE177:AE179)","v":0},{"$nulls":6},{"$f":"SUM(AL177:AL179)","v":0},{"$nulls":6},{"$f":"SUM(AS177:AS179)","v":0},{"$nulls":6},{"$f":"SUM(AZ177:AZ179)","v":0},{"$nulls":6},{"$f":"SUM(BG177:BG179)","v":0}]
["2213F A",1,null,0,0,0,0,0,{"$f":"AVERAGE(D182:H182)","v":0},{"$f":"STDEV(D182:H182)","v":0},0,0,0,0,0,{"$f":"AVERAGE(K182:O182)","v":0},{"$f":"STDEV(K182:O182)","v":0},0,0,0,0,0,{"$f":"AVERAGE(R182:V182)","v":0},{"$f":"STDEV(R182:V182)","v":0},0,0,0,0,0,{"$f":"AVERAGE(Y182:AC182)","v":0},{"$f":"STDEV(Y182:AC182)","v":0},0,0,0,0,0,{"$f":"AVERAGE(AF182:AJ182)","v":0},{"$f":"STDEV(AF182:AJ182)","v":0},0,0,0,0,0,{"$f":"AVERAGE(AM182:AQ182)","v":0},{"$f":"STDEV(AM182:AQ182)","v":0},0,0,0,0,0,{"$f":"AVERAGE(AT182:AX182)","v":0},{"$f":"STDEV(AT182:AX182)","v":0},0,0,0,0,0,{"$f":"AVERAGE(BA182:BE182)","v":0},{"$f":"STDEV(BA182:BE182)","v":0}]
["p+0",2,null,0,0,1,1,2,{"$f":"AVERAGE(D183:H183)","v":{"v":0.8,"d":"1"}},{"$f":"STDEV(D183:H183)","v":{"v":0.8366600265340756,"d":"1"}},1,2,0,0,0,{"$f":"AVERAGE(K183:O183)","v":{"v":0.6,"d":"1"}},{"$f":"STDEV(K183:O183)","v":{"v":0.8944271909999159,"d":"1"}},0,0,0,0,0,{"$f":"AVERAGE(R183:V183)","v":0},{"$f":"STDEV(R183:V183)","v":0},0,0,0,0,0,{"$f":"AVERAGE(Y183:AC183)","v":0},{"$f":"STDEV(Y183:AC183)","v":0},0,0,0,0,0,{"$f":"AVERAGE(AF183:AJ183)","v":0},{"$f":"STDEV(AF183:AJ183)","v":0},0,0,0,0,0,{"$f":"AVERAGE(AM183:AQ183)","v":0},{"$f":"STDEV(AM183:AQ183)","v":0},0,0,0,0,0,{"$f":"AVERAGE(AT183:AX183)","v":0},{"$f":"STDEV(AT183:AX183)","v":0},0,0,0,0,0,0,{"$f":"STDEV(BA183:BE183)","v":0}]
[null,3,null,4,2,2,3,1,{"$f":"AVERAGE(D184:H184)","v":{"v":2.4,"d":"2"}},{"$f":"STDEV(D184:H184)","v":{"v":1.1401754250991378,"d":"1"}},0,0,0,1,1,{"$f":"AVERAGE(K184:O184)","v":{"v":0.4,"d":"0"}},{"$f":"STDEV(K184:O184)","v":{"v":0.5477225575051661,"d":"1"}},1,0,0,0,0,{"$f":"AVERAGE(R184:V184)","v":{"v":0.2,"d":"0"}},{"$f":"STDEV(R184:V184)","v":{"v":0.4472135954999579,"d":"0"}},0,0,0,0,0,{"$f":"AVERAGE(Y184:AC184)","v":0},{"$f":"STDEV(Y184:AC184)","v":0},0,0,0,0,0,{"$f":"AVERAGE(AF184:AJ184)","v":0},{"$f":"STDEV(AF184:AJ184)","v":0},0,0,0,0,0,{"$f":"AVERAGE(AM184:AQ184)","v":0},{"$f":"STDEV(AM184:AQ184)","v":0},0,0,0,0,0,{"$f":"AVERAGE(AT184:AX184)","v":0},{"$f":"STDEV(AT184:AX184)","v":0},0,0,0,0,0,{"$f":"AVERAGE(BA184:BE184)","v":0},0]
["average",{"$nulls":7},{"$f":"AVERAGE(I182:I184)","v":{"v":1.0666666666666667,"d":"1"}},{"$nulls":6},{"$f":"AVERAGE(P182:P184)","v":{"v":0.3333333333333333,"d":"0"}},{"$nulls":6},{"$f":"AVERAGE(W182:W184)","v":{"v":0.06666666666666667,"d":"0"}},{"$nulls":6},{"$f":"AVERAGE(AD182:AD184)","v":0},{"$nulls":6},{"$f":"AVERAGE(AK182:AK184)","v":0},{"$nulls":6},{"$f":"AVERAGE(AR182:AR184)","v":0},{"$nulls":6},{"$f":"AVERAGE(AY182:AY184)","v":0},{"$nulls":6},{"$f":"AVERAGE(BF182:BF184)","v":0}]
["stdev",{"$nulls":7},{"$f":"SUM(J182:J184)","v":{"v":1.9768354516332134,"d":"2"}},{"$nulls":6},{"$f":"SUM(Q182:Q184)","v":{"v":1.442149748505082,"d":"1"}},{"$nulls":6},{"$f":"SUM(X182:X184)","v":{"v":0.4472135954999579,"d":"0"}},{"$nulls":6},{"$f":"SUM(AE182:AE184)","v":0},{"$nulls":6},{"$f":"SUM(AL182:AL184)","v":0},{"$nulls":6},{"$f":"SUM(AS182:AS184)","v":0},{"$nulls":6},{"$f":"SUM(AZ182:AZ184)","v":0},{"$nulls":6},{"$f":"SUM(BG182:BG184)","v":0}]
["p+3",1,null,4,1,2,3,1,{"$f":"AVERAGE(D187:H187)","v":{"v":2.2,"d":"2"}},{"$f":"STDEV(D187:H187)","v":{"v":1.3038404810405297,"d":"1"}},3,1,2,0,0,{"$f":"AVERAGE(K187:O187)","v":{"v":1.2,"d":"1"}},{"$f":"STDEV(K187:O187)","v":{"v":1.3038404810405297,"d":"1"}},0,0,0,0,1,{"$f":"AVERAGE(R187:V187)","v":{"v":0.2,"d":"0"}},{"$f":"STDEV(R187:V187)","v":{"v":0.4472135954999579,"d":"0"}},0,0,0,0,0,{"$f":"AVERAGE(Y187:AC187)","v":0},{"$f":"STDEV(Y187:AC187)","v":0},0,0,0,0,0,{"$f":"AVERAGE(AF187:AJ187)","v":0},{"$f":"STDEV(AF187:AJ187)","v":0},0,0,0,0,0,{"$f":"AVERAGE(AM187:AQ187)","v":0},{"$f":"STDEV(AM187:AQ187)","v":0},0,0,0,0,0,{"$f":"AVERAGE(AT187:AX187)","v":0},{"$f":"STDEV(AT187:AX187)","v":0},0,0,0,0,0,{"$f":"AVERAGE(BA187:BE187)","v":0},{"$f":"STDEV(BA187:BE187)","v":0}]
[null,2,null,1,4,1,1,2,{"$f":"AVERAGE(D188:H188)","v":{"v":1.8,"d":"2"}},{"$f":"STDEV(D188:H188)","v":{"v":1.3038404810405297,"d":"1"}},1,1,0,0,0,{"$f":"AVERAGE(K188:O188)","v":{"v":0.4,"d":"0"}},{"$f":"STDEV(K188:O188)","v":{"v":0.5477225575051661,"d":"1"}},0,0,0,0,0,{"$f":"AVERAGE(R188:V188)","v":0},{"$f":"STDEV(R188:V188)","v":0},0,0,0,0,0,{"$f":"AVERAGE(Y188:AC188)","v":0},{"$f":"STDEV(Y188:AC188)","v":0},0,0,0,0,0,{"$f":"AVERAGE(AF188:AJ188)","v":0},{"$f":"STDEV(AF188:AJ188)","v":0},0,0,0,0,0,{"$f":"AVERAGE(AM188:AQ188)","v":0},{"$f":"STDEV(AM188:AQ188)","v":0},0,0,0,0,0,{"$f":"AVERAGE(AT188:AX188)","v":0},{"$f":"STDEV(AT188:AX188)","v":0},0,0,0,0,0,0,{"$f":"STDEV(BA188:BE188)","v":0}]
[null,3,null,1,6,2,4,4,{"$f":"AVERAGE(D189:H189)","v":{"v":3.4,"d":"3"}},{"$f":"STDEV(D189:H189)","v":{"v":1.949358868961793,"d":"2"}},0,2,0,0,1,{"$f":"AVERAGE(K189:O189)","v":{"v":0.6,"d":"1"}},{"$f":"STDEV(K189:O189)","v":{"v":0.8944271909999159,"d":"1"}},0,0,0,0,0,{"$f":"AVERAGE(R189:V189)","v":0},{"$f":"STDEV(R189:V189)","v":0},0,0,0,0,0,{"$f":"AVERAGE(Y189:AC189)","v":0},{"$f":"STDEV(Y189:AC189)","v":0},0,0,0,0,0,{"$f":"AVERAGE(AF189:AJ189)","v":0},{"$f":"STDEV(AF189:AJ189)","v":0},0,0,0,0,0,{"$f":"AVERAGE(AM189:AQ189)","v":0},{"$f":"STDEV(AM189:AQ189)","v":0},0,0,0,0,0,{"$f":"AVERAGE(AT189:AX189)","v":0},{"$f":"STDEV(AT189:AX189)","v":0},0,0,0,0,0,0,0]
["average",{"$nulls":7},{"$f":"AVERAGE(I187:I189)","v":{"v":2.466666666666667,"d":"2"}},{"$nulls":6},{"$f":"AVERAGE(P187:P189)","v":{"v":0.7333333333333334,"d":"1"}},{"$nulls":6},{"$f":"AVERAGE(W187:W189)","v":{"v":0.06666666666666667,"d":"0"}},{"$nulls":6},{"$f":"AVERAGE(AD187:AD189)","v":0},{"$nulls":6},{"$f":"AVERAGE(AK187:AK189)","v":0},{"$nulls":6},{"$f":"AVERAGE(AR187:AR189)","v":0},{"$nulls":6},{"$f":"AVERAGE(AY187:AY189)","v":0},{"$nulls":6},{"$f":"AVERAGE(BF187:BF189)","v":0}]
["stdev",{"$nulls":7},{"$f":"SUM(J187:J189)","v":{"v":4.557039831042852,"d":"5"}},{"$nulls":6},{"$f":"SUM(Q187:Q189)","v":{"v":2.745990229545612,"d":"3"}},{"$nulls":6},{"$f":"SUM(X187:X189)","v":{"v":0.4472135954999579,"d":"0"}},{"$nulls":6},{"$f":"SUM(AE187:AE189)","v":0},{"$nulls":6},{"$f":"SUM(AL187:AL189)","v":0},{"$nulls":6},{"$f":"SUM(AS187:AS189)","v":0},{"$nulls":6},{"$f":"SUM(AZ187:AZ189)","v":0},{"$nulls":6},{"$f":"SUM(BG187:BG189)","v":0}]
["2213F APR",1,null,1,1,0,0,0,{"$f":"AVERAGE(D192:H192)","v":{"v":0.4,"d":"0"}},{"$f":"STDEV(D192:H192)","v":{"v":0.5477225575051661,"d":"1"}},0,0,0,0,0,{"$f":"AVERAGE(K192:O192)","v":0},{"$f":"STDEV(K192:O192)","v":0},0,0,0,0,0,{"$f":"AVERAGE(R192:V192)","v":0},{"$f":"STDEV(R192:V192)","v":0},0,0,0,0,0,{"$f":"AVERAGE(Y192:AC192)","v":0},{"$f":"STDEV(Y192:AC192)","v":0},0,0,0,0,0,{"$f":"AVERAGE(AF192:AJ192)","v":0},{"$f":"STDEV(AF192:AJ192)","v":0},0,0,0,0,0,{"$f":"AVERAGE(AM192:AQ192)","v":0},{"$f":"STDEV(AM192:AQ192)","v":0},0,0,0,0,0,{"$f":"AVERAGE(AT192:AX192)","v":0},{"$f":"STDEV(AT192:AX192)","v":0},0,0,0,0,0,{"$f":"AVERAGE(BA192:BE192)","v":0},{"$f":"STDEV(BA192:BE192)","v":0}]
["p+0",2,null,0,0,0,0,0,{"$f":"AVERAGE(D193:H193)","v":0},{"$f":"STDEV(D193:H193)","v":0},0,0,0,0,0,{"$f":"AVERAGE(K193:O193)","v":0},{"$f":"STDEV(K193:O193)","v":0},0,0,0,0,0,{"$f":"AVERAGE(R193:V193)","v":0},{"$f":"STDEV(R193:V193)","v":0},0,0,0,0,0,{"$f":"AVERAGE(Y193:AC193)","v":0},{"$f":"STDEV(Y193:AC193)","v":0},0,0,0,0,0,{"$f":"AVERAGE(AF193:AJ193)","v":0},{"$f":"STDEV(AF193:AJ193)","v":0},0,0,0,0,0,{"$f":"AVERAGE(AM193:AQ193)","v":0},{"$f":"STDEV(AM193:AQ193)","v":0},0,0,0,0,0,{"$f":"AVERAGE(AT193:AX193)","v":0},{"$f":"STDEV(AT193:AX193)","v":0},0,0,0,0,0,0,{"$f":"STDEV(BA193:BE193)","v":0}]
[null,3,null,0,0,1,0,0,{"$f":"AVERAGE(D194:H194)","v":{"v":0.2,"d":"0"}},{"$f":"STDEV(D194:H194)","v":{"v":0.4472135954999579,"d":"0"}},0,0,0,0,0,{"$f":"AVERAGE(K194:O194)","v":0},{"$f":"STDEV(K194:O194)","v":0},0,0,0,0,0,{"$f":"AVERAGE(R194:V194)","v":0},{"$f":"STDEV(R194:V194)","v":0},0,0,0,0,0,{"$f":"AVERAGE(Y194:AC194)","v":0},{"$f":"STDEV(Y194:AC194)","v":0},0,0,0,0,0,{"$f":"AVERAGE(AF194:AJ194)","v":0},{"$f":"STDEV(AF194:AJ194)","v":0},0,0,0,0,0,{"$f":"AVERAGE(AM194:AQ194)","v":0},{"$f":"STDEV(AM194:AQ194)","v":0},0,0,0,0,0,{"$f":"AVERAGE(AT194:AX194)","v":0},{"$f":"STDEV(AT194:AX194)","v":0},0,0,0,0,0,0,0]
["average",{"$nulls":7},{"$f":"AVERAGE(I192:I194)","v":{"v":0.20000000000000004,"d":"0"}},{"$nulls":6},{"$f":"AVERAGE(P192:P194)","v":0},{"$nulls":6},{"$f":"AVERAGE(W192:W194)","v":0},{"$nulls":6},{"$f":"AVERAGE(AD192:AD194)","v":0},{"$nulls":6},{"$f":"AVERAGE(AK192:AK194)","v":0},{"$nulls":6},{"$f":"AVERAGE(AR192:AR194)","v":0},{"$nulls":6},{"$f":"AVERAGE(AY192:AY194)","v":0},{"$nulls":6},{"$f":"AVERAGE(BF192:BF194)","v":0}]
["stdev",{"$nulls":7},{"$f":"SUM(J192:J194)","v":{"v":0.994936153005124,"d":"1"}},{"$nulls":6},{"$f":"SUM(Q192:Q194)","v":0},{"$nulls":6},{"$f":"SUM(X192:X194)","v":0},{"$nulls":6},{"$f":"SUM(AE192:AE194)","v":0},{"$nulls":6},{"$f":"SUM(AL192:AL194)","v":0},{"$nulls":6},{"$f":"SUM(AS192:AS194)","v":0},{"$nulls":6},{"$f":"SUM(AZ192:AZ194)","v":0},{"$nulls":6},{"$f":"SUM(BG192:BG194)","v":0}]
["p+3",1,null,0,0,1,0,0,{"$f":"AVERAGE(D197:H197)","v":{"v":0.2,"d":"0"}},{"$f":"STDEV(D197:H197)","v":{"v":0.4472135954999579,"d":"0"}},0,0,0,0,0,{"$f":"AVERAGE(K197:O197)","v":0},{"$f":"STDEV(K197:O197)","v":0},0,0,0,0,0,{"$f":"AVERAGE(R197:V197)","v":0},{"$f":"STDEV(R197:V197)","v":0},0,0,0,0,0,{"$f":"AVERAGE(Y197:AC197)","v":0},{"$f":"STDEV(Y197:AC197)","v":0},0,0,0,0,0,{"$f":"AVERAGE(AF197:AJ197)","v":0},{"$f":"STDEV(AF197:AJ197)","v":0},0,0,0,0,0,{"$f":"AVERAGE(AM197:AQ197)","v":0},{"$f":"STDEV(AM197:AQ197)","v":0},0,0,0,0,0,{"$f":"AVERAGE(AT197:AX197)","v":0},{"$f":"STDEV(AT197:AX197)","v":0},0,0,0,0,0,{"$f":"AVERAGE(BA197:BE197)","v":0},{"$f":"STDEV(BA197:BE197)","v":0}]
[null,2,null,0,0,0,0,0,{"$f":"AVERAGE(D198:H198)","v":0},{"$f":"STDEV(D198:H198)","v":0},0,0,0,0,0,{"$f":"AVERAGE(K198:O198)","v":0},{"$f":"STDEV(K198:O198)","v":0},0,0,0,0,0,{"$f":"AVERAGE(R198:V198)","v":0},{"$f":"STDEV(R198:V198)","v":0},0,0,0,0,0,{"$f":"AVERAGE(Y198:AC198)","v":0},{"$f":"STDEV(Y198:AC198)","v":0},0,0,0,0,0,{"$f":"AVERAGE(AF198:AJ198)","v":0},{"$f":"STDEV(AF198:AJ198)","v":0},0,0,0,0,0,{"$f":"AVERAGE(AM198:AQ198)","v":0},{"$f":"STDEV(AM198:AQ198)","v":0},0,0,0,0,0,{"$f":"AVERAGE(AT198:AX198)","v":0},{"$f":"STDEV(AT198:AX198)","v":0},0,0,0,0,0,0,{"$f":"STDEV(BA198:BE198)","v":0}]
[null,3,null,2,0,0,1,0,{"$f":"AVERAGE(D199:H199)","v":{"v":0.6,"d":"1"}},{"$f":"STDEV(D199:H199)","v":{"v":0.8944271909999159,"d":"1"}},0,0,0,0,0,{"$f":"AVERAGE(K199:O199)","v":0},{"$f":"STDEV(K199:O199)","v":0},0,0,0,0,0,{"$f":"AVERAGE(R199:V199)","v":0},{"$f":"STDEV(R199:V199)","v":0},0,0,0,0,0,{"$f":"AVERAGE(Y199:AC199)","v":0},{"$f":"STDEV(Y199:AC199)","v":0},0,0,0,0,0,{"$f":"AVERAGE(AF199:AJ199)","v":0},{"$f":"STDEV(AF199:AJ199)","v":0},0,0,0,0,0,{"$f":"AVERAGE(AM199:AQ199)","v":0},{"$f":"STDEV(AM199:AQ199)","v":0},0,0,0,0,0,{"$f":"AVERAGE(AT199:AX199)","v":0},{"$f":"STDEV(AT199:AX199)","v":0},0,0,0,0,0,0,0]
["average",{"$nulls":7},{"$f":"AVERAGE(I197:I199)","v":{"v":0.26666666666666666,"d":"0"}},{"$nulls":6},{"$f":"AVERAGE(P197:P199)","v":0},{"$nulls":6},{"$f":"AVERAGE(W197:W199)","v":0},{"$nulls":6},{"$f":"AVERAGE(AD197:AD199)","v":0},{"$nulls":6},{"$f":"AVERAGE(AK197:AK199)","v":0},{"$nulls":6},{"$f":"AVERAGE(AR197:AR199)","v":0},{"$nulls":6},{"$f":"AVERAGE(AY197:AY199)","v":0},{"$nulls":6},{"$f":"AVERAGE(BF197:BF199)","v":0}]
["stdev",{"$nulls":7},{"$f":"SUM(J197:J199)","v":{"v":1.3416407864998738,"d":"1"}},{"$nulls":6},{"$f":"SUM(Q197:Q199)","v":0},{"$nulls":6},{"$f":"SUM(X197:X199)","v":0},{"$nulls":6},{"$f":"SUM(AE197:AE199)","v":0},{"$nulls":6},{"$f":"SUM(AL197:AL199)","v":0},{"$nulls":6},{"$f":"SUM(AS197:AS199)","v":0},{"$nulls":6},{"$f":"SUM(AZ197:AZ199)","v":0},{"$nulls":6},{"$f":"SUM(BG197:BG199)","v":0}]
[]
[]
["T9","2017-10-10"]
["Sample","Dilution:",null,1,{"$nulls":4},"AVERAGE",null,{"$f":"10^-1","v":0.1},{"$nulls":4},"AVERAGE",null,{"$f":"10^-2","v":0.01},{"$nulls":4},"AVERAGE",null,{"$f":"10^-3","v":{"v":1E-3,"d":"1.00E-03"}},{"$nulls":4},"AVERAGE",null,{"$f":"10^-4","v":{"v":1E-4,"d":"1.00E-04"}},{"$nulls":4},"AVERAGE",null,{"$f":"10^-5","v":{"v":1e-05,"d":"1.00E-05"}},{"$nulls":4},"AVERAGE",null,{"$f":"10^-6","v":{"v":1e-06,"d":"1.00E-06"}},{"$nulls":4},"AVERAGE",null,{"$f":"10^-7","v":{"v":1e-07,"d":"1.00E-07"}},{"$nulls":4},"AVERAGE"]
["Blank",1,null,0,0,0,0,0,{"$f":"AVERAGE(D206:H206)","v":0},{"$f":"STDEV(D206:H206)","v":0},0,0,0,0,0,{"$f":"AVERAGE(K206:O206)","v":0},{"$f":"STDEV(K206:O206)","v":0},0,0,0,0,0,{"$f":"AVERAGE(R206:V206)","v":0},{"$f":"STDEV(R206:V206)","v":0},0,0,0,0,0,{"$f":"AVERAGE(Y206:AC206)","v":0},{"$f":"STDEV(Y206:AC206)","v":0},0,0,0,0,0,{"$f":"AVERAGE(AF206:AJ206)","v":0},{"$f":"STDEV(AF206:AJ206)","v":0},0,0,0,0,0,{"$f":"AVERAGE(AM206:AQ206)","v":0},{"$f":"STDEV(AM206:AQ206)","v":0},0,0,0,0,0,{"$f":"AVERAGE(AT206:AX206)","v":0},{"$f":"STDEV(AT206:AX206)","v":0},0,0,0,0,0,{"$f":"AVERAGE(BA206:BE206)","v":0},{"$f":"STDEV(BA206:BE206)","v":0}]
[null,2,null,0,0,0,0,0,{"$f":"AVERAGE(D207:H207)","v":0},{"$f":"STDEV(D207:H207)","v":0},0,0,0,0,0,{"$f":"AVERAGE(K207:O207)","v":0},{"$f":"STDEV(K207:O207)","v":0},0,0,0,0,0,{"$f":"AVERAGE(R207:V207)","v":0},{"$f":"STDEV(R207:V207)","v":0},0,0,0,0,0,{"$f":"AVERAGE(Y207:AC207)","v":0},{"$f":"STDEV(Y207:AC207)","v":0},0,0,0,0,0,{"$f":"AVERAGE(AF207:AJ207)","v":0},{"$f":"STDEV(AF207:AJ207)","v":0},0,0,0,0,0,{"$f":"AVERAGE(AM207:AQ207)","v":0},{"$f":"STDEV(AM207:AQ207)","v":0},0,0,0,0,0,{"$f":"AVERAGE(AT207:AX207)","v":0},{"$f":"STDEV(AT207:AX207)","v":0},0,0,0,0,0,{"$f":"AVERAGE(BA207:BE207)","v":0},{"$f":"STDEV(BA207:BE207)","v":0}]
[null,3,null,0,0,0,0,0,{"$f":"AVERAGE(D208:H208)","v":0},{"$f":"STDEV(D208:H208)","v":0},0,0,0,0,0,{"$f":"AVERAGE(K208:O208)","v":0},{"$f":"STDEV(K208:O208)","v":0},0,0,0,0,0,{"$f":"AVERAGE(R208:V208)","v":0},{"$f":"STDEV(R208:V208)","v":0},0,0,0,0,0,{"$f":"AVERAGE(Y208:AC208)","v":0},{"$f":"STDEV(Y208:AC208)","v":0},0,0,0,0,0,{"$f":"AVERAGE(AF208:AJ208)","v":0},{"$f":"STDEV(AF208:AJ208)","v":0},0,0,0,0,0,{"$f":"AVERAGE(AM208:AQ208)","v":0},{"$f":"STDEV(AM208:AQ208)","v":0},0,0,0,0,0,{"$f":"AVERAGE(AT208:AX208)","v":0},{"$f":"STDEV(AT208:AX208)","v":0},0,0,0,0,0,{"$f":"AVERAGE(BA208:BE208)","v":0},{"$f":"STDEV(BA208:BE208)","v":0}]
[{"$nulls":8},{"$f":"AVERAGE(I206:I208)","v":0},{"$nulls":6},{"$f":"AVERAGE(P206:P208)","v":0},{"$nulls":6},{"$f":"AVERAGE(W206:W208)","v":0},{"$nulls":6},{"$f":"AVERAGE(AD206:AD208)","v":0},{"$nulls":6},{"$f":"AVERAGE(AK206:AK208)","v":0},{"$nulls":6},{"$f":"AVERAGE(AR206:AR208)","v":0},{"$nulls":6},{"$f":"AVERAGE(AY206:AY208)","v":0},{"$nulls":6},{"$f":"AVERAGE(BF206:BF208)","v":0}]
[{"$nulls":8},{"$f":"SUM(J206:J208)","v":0},{"$nulls":6},{"$f":"SUM(Q206:Q208)","v":0},{"$nulls":6},{"$f":"SUM(X206:X208)","v":0},{"$nulls":6},{"$f":"SUM(AE206:AE208)","v":0},{"$nulls":6},{"$f":"SUM(AL206:AL208)","v":0},{"$nulls":6},{"$f":"SUM(AS206:AS208)","v":0},{"$nulls":6},{"$f":"SUM(AZ206:AZ208)","v":0},{"$nulls":6},{"$f":"SUM(BG206:BG208)","v":0}]
["DH5α -",1,null,32,44,40,45,44,{"$f":"AVERAGE(D211:H211)","v":41},{"$f":"STDEV(D211:H211)","v":{"v":5.385164807134504,"d":"5"}},0,0,0,0,0,{"$f":"AVERAGE(K211:O211)","v":0},{"$f":"STDEV(K211:O211)","v":0},0,0,0,0,0,{"$f":"AVERAGE(R211:V211)","v":0},{"$f":"STDEV(R211:V211)","v":0},0,0,0,0,0,{"$f":"AVERAGE(Y211:AC211)","v":0},{"$f":"STDEV(Y211:AC211)","v":0},0,0,0,0,0,{"$f":"AVERAGE(AF211:AJ211)","v":0},{"$f":"STDEV(AF211:AJ211)","v":0},0,0,0,0,0,{"$f":"AVERAGE(AM211:AQ211)","v":0},{"$f":"STDEV(AM211:AQ211)","v":0},0,0,0,0,0,{"$f":"AVERAGE(AT211:AX211)","v":0},{"$f":"STDEV(AT211:AX211)","v":0},0,0,0,0,0,{"$f":"AVERAGE(BA211:BE211)","v":0},{"$f":"STDEV(BA211:BE211)","v":0}]
[null,2,null,30,20,26,19,20,{"$f":"AVERAGE(D212:H212)","v":23},{"$f":"STDEV(D212:H212)","v":{"v":4.795831523312719,"d":"5"}},0,0,0,0,0,{"$f":"AVERAGE(K212:O212)","v":0},{"$f":"STDEV(K212:O212)","v":0},0,0,0,0,0,{"$f":"AVERAGE(R212:V212)","v":0},{"$f":"STDEV(R212:V212)","v":0},0,0,0,0,0,{"$f":"AVERAGE(Y212:AC212)","v":0},{"$f":"STDEV(Y212:AC212)","v":0},0,0,0,0,0,{"$f":"AVERAGE(AF212:AJ212)","v":0},{"$f":"STDEV(AF212:AJ212)","v":0},0,0,0,0,0,{"$f":"AVERAGE(AM212:AQ212)","v":0},{"$f":"STDEV(AM212:AQ212)","v":0},0,0,0,0,0,{"$f":"AVERAGE(AT212:AX212)","v":0},{"$f":"STDEV(AT212:AX212)","v":0},0,0,0,0,0,{"$f":"AVERAGE(BA212:BE212)","v":0},{"$f":"STDEV(BA212:BE212)","v":0}]
[null,3,null,30,80,60,72,53,{"$f":"AVERAGE(D213:H213)","v":59},{"$f":"STDEV(D213:H213)","v":{"v":19.28730152198591,"d":"19"}},0,0,0,0,0,{"$f":"AVERAGE(K213:O213)","v":0},{"$f":"STDEV(K213:O213)","v":0},0,0,0,0,0,{"$f":"AVERAGE(R213:V213)","v":0},{"$f":"STDEV(R213:V213)","v":0},0,0,0,0,0,{"$f":"AVERAGE(Y213:AC213)","v":0},{"$f":"STDEV(Y213:AC213)","v":0},0,0,0,0,0,{"$f":"AVERAGE(AF213:AJ213)","v":0},{"$f":"STDEV(AF213:AJ213)","v":0},0,0,0,0,0,{"$f":"AVERAGE(AM213:AQ213)","v":0},{"$f":"STDEV(AM213:AQ213)","v":0},0,0,0,0,0,{"$f":"AVERAGE(AT213:AX213)","v":0},{"$f":"STDEV(AT213:AX213)","v":0},0,0,0,0,0,{"$f":"AVERAGE(BA213:BE213)","v":0},{"$f":"STDEV(BA213:BE213)","v":0}]
[{"$nulls":8},{"$f":"AVERAGE(I211:I213)","v":41},{"$nulls":6},{"$f":"AVERAGE(P211:P213)","v":0},{"$nulls":6},{"$f":"AVERAGE(W211:W213)","v":0},{"$nulls":6},{"$f":"AVERAGE(AD211:AD213)","v":0},{"$nulls":6},{"$f":"AVERAGE(AK211:AK213)","v":0},{"$nulls":6},{"$f":"AVERAGE(AR211:AR213)","v":0},{"$nulls":6},{"$f":"AVERAGE(AY211:AY213)","v":0},{"$nulls":6},{"$f":"AVERAGE(BF211:BF213)","v":0}]
[{"$nulls":8},{"$f":"SUM(J211:J213)","v":{"v":29.468297852433132,"d":"29"}},{"$nulls":6},{"$f":"SUM(Q211:Q213)","v":0},{"$nulls":6},{"$f":"SUM(X211:X213)","v":0},{"$nulls":6},{"$f":"SUM(AE211:AE213)","v":0},{"$nulls":6},{"$f":"SUM(AL211:AL213)","v":0},{"$nulls":6},{"$f":"SUM(AS211:AS213)","v":0},{"$nulls":6},{"$f":"SUM(AZ211:AZ213)","v":0},{"$nulls":6},{"$f":"SUM(BG211:BG213)","v":0}]
["WT",1,null,0,0,1,0,0,{"$f":"AVERAGE(D216:H216)","v":{"v":0.2,"d":"0"}},{"$f":"STDEV(D216:H216)","v":{"v":0.4472135954999579,"d":"0"}},0,0,0,0,0,{"$f":"AVERAGE(K216:O216)","v":0},{"$f":"STDEV(K216:O216)","v":0},0,0,0,0,0,{"$f":"AVERAGE(R216:V216)","v":0},{"$f":"STDEV(R216:V216)","v":0},0,0,0,0,0,{"$f":"AVERAGE(Y216:AC216)","v":0},{"$f":"STDEV(Y216:AC216)","v":0},0,0,0,0,0,{"$f":"AVERAGE(AF216:AJ216)","v":0},{"$f":"STDEV(AF216:AJ216)","v":0},0,0,0,0,0,{"$f":"AVERAGE(AM216:AQ216)","v":0},{"$f":"STDEV(AM216:AQ216)","v":0},0,0,0,0,0,{"$f":"AVERAGE(AT216:AX216)","v":0},{"$f":"STDEV(AT216:AX216)","v":0},0,0,0,0,0,{"$f":"AVERAGE(BA216:BE216)","v":0},{"$f":"STDEV(BA216:BE216)","v":0}]
[null,2,null,0,0,1,1,1,{"$f":"AVERAGE(D217:H217)","v":{"v":0.6,"d":"1"}},{"$f":"STDEV(D217:H217)","v":{"v":0.5477225575051661,"d":"1"}},0,0,0,0,0,{"$f":"AVERAGE(K217:O217)","v":0},{"$f":"STDEV(K217:O217)","v":0},0,0,0,0,0,{"$f":"AVERAGE(R217:V217)","v":0},{"$f":"STDEV(R217:V217)","v":0},0,0,0,0,0,{"$f":"AVERAGE(Y217:AC217)","v":0},{"$f":"STDEV(Y217:AC217)","v":0},0,0,0,0,0,{"$f":"AVERAGE(AF217:AJ217)","v":0},{"$f":"STDEV(AF217:AJ217)","v":0},0,0,0,0,0,{"$f":"AVERAGE(AM217:AQ217)","v":0},{"$f":"STDEV(AM217:AQ217)","v":0},0,0,0,0,0,{"$f":"AVERAGE(AT217:AX217)","v":0},{"$f":"STDEV(AT217:AX217)","v":0},0,0,0,0,0,{"$f":"AVERAGE(BA217:BE217)","v":0},{"$f":"STDEV(BA217:BE217)","v":0}]
[null,3,null,0,1,0,1,0,{"$f":"AVERAGE(D218:H218)","v":{"v":0.4,"d":"0"}},{"$f":"STDEV(D218:H218)","v":{"v":0.5477225575051661,"d":"1"}},0,0,0,0,0,{"$f":"AVERAGE(K218:O218)","v":0},{"$f":"STDEV(K218:O218)","v":0},0,0,0,0,0,{"$f":"AVERAGE(R218:V218)","v":0},{"$f":"STDEV(R218:V218)","v":0},0,0,0,0,0,{"$f":"AVERAGE(Y218:AC218)","v":0},{"$f":"STDEV(Y218:AC218)","v":0},0,0,0,0,0,{"$f":"AVERAGE(AF218:AJ218)","v":0},{"$f":"STDEV(AF218:AJ218)","v":0},0,0,0,0,0,{"$f":"AVERAGE(AM218:AQ218)","v":0},{"$f":"STDEV(AM218:AQ218)","v":0},0,0,0,0,0,{"$f":"AVERAGE(AT218:AX218)","v":0},{"$f":"STDEV(AT218:AX218)","v":0},0,0,0,0,0,{"$f":"AVERAGE(BA218:BE218)","v":0},{"$f":"STDEV(BA218:BE218)","v":0}]
["average",{"$nulls":7},{"$f":"AVERAGE(I216:I218)","v":{"v":0.4000000000000001,"d":"0"}},{"$nulls":6},{"$f":"AVERAGE(P216:P218)","v":0},{"$nulls":6},{"$f":"AVERAGE(W216:W218)","v":0},{"$nulls":6},{"$f":"AVERAGE(AD216:AD218)","v":0},{"$nulls":6},{"$f":"AVERAGE(AK216:AK218)","v":0},{"$nulls":6},{"$f":"AVERAGE(AR216:AR218)","v":0},{"$nulls":6},{"$f":"AVERAGE(AY216:AY218)","v":0},{"$nulls":6},{"$f":"AVERAGE(BF216:BF218)","v":0}]
["stdev",{"$nulls":7},{"$f":"SUM(J216:J218)","v":{"v":1.54265871051029,"d":"2"}},{"$nulls":6},{"$f":"SUM(Q216:Q218)","v":0},{"$nulls":6},{"$f":"SUM(X216:X218)","v":0},{"$nulls":6},{"$f":"SUM(AE216:AE218)","v":0},{"$nulls":6},{"$f":"SUM(AL216:AL218)","v":0},{"$nulls":6},{"$f":"SUM(AS216:AS218)","v":0},{"$nulls":6},{"$f":"SUM(AZ216:AZ218)","v":0},{"$nulls":6},{"$f":"SUM(BG216:BG218)","v":0}]
["2213F - ",1,null,15,15,15,15,12,{"$f":"AVERAGE(D221:H221)","v":{"v":14.4,"d":"14"}},{"$f":"STDEV(D221:H221)","v":{"v":1.3416407864998738,"d":"1"}},4,0,0,1,1,{"$f":"AVERAGE(K221:O221)","v":{"v":1.2,"d":"1"}},{"$f":"STDEV(K221:O221)","v":{"v":1.6431676725154984,"d":"2"}},1,0,1,0,0,{"$f":"AVERAGE(R221:V221)","v":{"v":0.4,"d":"0"}},{"$f":"STDEV(R221:V221)","v":{"v":0.5477225575051661,"d":"1"}},0,0,0,0,0,{"$f":"AVERAGE(Y221:AC221)","v":0},{"$f":"STDEV(Y221:AC221)","v":0},0,0,0,0,0,{"$f":"AVERAGE(AF221:AJ221)","v":0},{"$f":"STDEV(AF221:AJ221)","v":0},0,0,0,0,0,{"$f":"AVERAGE(AM221:AQ221)","v":0},{"$f":"STDEV(AM221:AQ221)","v":0},0,0,0,0,0,{"$f":"AVERAGE(AT221:AX221)","v":0},{"$f":"STDEV(AT221:AX221)","v":0},0,0,0,0,0,{"$f":"AVERAGE(BA221:BE221)","v":0},{"$f":"STDEV(BA221:BE221)","v":0}]
["p+0",2,null,0,0,0,0,0,{"$f":"AVERAGE(D222:H222)","v":0},{"$f":"STDEV(D222:H222)","v":0},0,0,0,0,0,{"$f":"AVERAGE(K222:O222)","v":0},{"$f":"STDEV(K222:O222)","v":0},0,0,0,0,0,{"$f":"AVERAGE(R222:V222)","v":0},{"$f":"STDEV(R222:V222)","v":0},0,0,0,0,0,{"$f":"AVERAGE(Y222:AC222)","v":0},{"$f":"STDEV(Y222:AC222)","v":0},0,0,0,0,0,{"$f":"AVERAGE(AF222:AJ222)","v":0},{"$f":"STDEV(AF222:AJ222)","v":0},0,0,0,0,0,{"$f":"AVERAGE(AM222:AQ222)","v":0},{"$f":"STDEV(AM222:AQ222)","v":0},0,0,0,0,0,{"$f":"AVERAGE(AT222:AX222)","v":0},{"$f":"STDEV(AT222:AX222)","v":0},0,0,0,0,0,{"$f":"AVERAGE(BA222:BE222)","v":0},{"$f":"STDEV(BA222:BE222)","v":0}]
[null,3,null,0,0,0,0,0,{"$f":"AVERAGE(D223:H223)","v":0},{"$f":"STDEV(D223:H223)","v":0},0,0,0,0,0,{"$f":"AVERAGE(K223:O223)","v":0},{"$f":"STDEV(K223:O223)","v":0},0,0,0,0,0,{"$f":"AVERAGE(R223:V223)","v":0},{"$f":"STDEV(R223:V223)","v":0},0,0,0,0,0,{"$f":"AVERAGE(Y223:AC223)","v":0},{"$f":"STDEV(Y223:AC223)","v":0},0,0,0,0,0,{"$f":"AVERAGE(AF223:AJ223)","v":0},{"$f":"STDEV(AF223:AJ223)","v":0},0,0,0,0,0,{"$f":"AVERAGE(AM223:AQ223)","v":0},{"$f":"STDEV(AM223:AQ223)","v":0},0,0,0,0,0,{"$f":"AVERAGE(AT223:AX223)","v":0},{"$f":"STDEV(AT223:AX223)","v":0},0,0,0,0,0,{"$f":"AVERAGE(BA223:BE223)","v":0},{"$f":"STDEV(BA223:BE223)","v":0}]
["average",{"$nulls":7},{"$f":"AVERAGE(I221,I223)","v":{"v":7.2,"d":"7"}},{"$nulls":6},{"$f":"AVERAGE(P221,P223)","v":{"v":0.6,"d":"1"}},{"$nulls":6},{"$f":"AVERAGE(W221,W223)","v":{"v":0.2,"d":"0"}},{"$nulls":6},{"$f":"AVERAGE(AD221,AD223)","v":0},{"$nulls":6},{"$f":"AVERAGE(AK221,AK223)","v":0},{"$nulls":6},{"$f":"AVERAGE(AR221,AR223)","v":0},{"$nulls":6},{"$f":"AVERAGE(AY221,AY223)","v":0},{"$nulls":6},{"$f":"AVERAGE(BF221,BF223)","v":0}]
["stdev",{"$nulls":7},{"$f":"SUM(J221,J223)","v":{"v":1.3416407864998738,"d":"1"}},{"$nulls":6},{"$f":"SUM(Q221,Q223)","v":{"v":1.6431676725154984,"d":"2"}},{"$nulls":6},{"$f":"SUM(X221,X223)","v":{"v":0.5477225575051661,"d":"1"}},{"$nulls":6},{"$f":"SUM(AE221,AE223)","v":0},{"$nulls":6},{"$f":"SUM(AL221,AL223)","v":0},{"$nulls":6},{"$f":"SUM(AS221,AS223)","v":0},{"$nulls":6},{"$f":"SUM(AZ221,AZ223)","v":0},{"$nulls":6},{"$f":"SUM(BG221,BG223)","v":0}]
["p+3",1,null,0,0,0,0,0,{"$f":"AVERAGE(D226:H226)","v":0},{"$f":"STDEV(D226:H226)","v":0},0,0,0,0,0,{"$f":"AVERAGE(K226:O226)","v":0},{"$f":"STDEV(K226:O226)","v":0},0,0,0,0,0,{"$f":"AVERAGE(R226:V226)","v":0},{"$f":"STDEV(R226:V226)","v":0},0,0,0,0,0,{"$f":"AVERAGE(Y226:AC226)","v":0},{"$f":"STDEV(Y226:AC226)","v":0},0,0,0,0,0,{"$f":"AVERAGE(AF226:AJ226)","v":0},{"$f":"STDEV(AF226:AJ226)","v":0},0,0,0,0,0,{"$f":"AVERAGE(AM226:AQ226)","v":0},{"$f":"STDEV(AM226:AQ226)","v":0},0,0,0,0,0,{"$f":"AVERAGE(AT226:AX226)","v":0},{"$f":"STDEV(AT226:AX226)","v":0},0,0,0,0,0,{"$f":"AVERAGE(BA226:BE226)","v":0},{"$f":"STDEV(BA226:BE226)","v":0}]
[null,2,null,0,0,0,0,0,{"$f":"AVERAGE(D227:H227)","v":0},{"$f":"STDEV(D227:H227)","v":0},0,0,0,0,0,{"$f":"AVERAGE(K227:O227)","v":0},{"$f":"STDEV(K227:O227)","v":0},0,0,0,0,0,{"$f":"AVERAGE(R227:V227)","v":0},{"$f":"STDEV(R227:V227)","v":0},0,0,0,0,0,{"$f":"AVERAGE(Y227:AC227)","v":0},{"$f":"STDEV(Y227:AC227)","v":0},0,0,0,0,0,{"$f":"AVERAGE(AF227:AJ227)","v":0},{"$f":"STDEV(AF227:AJ227)","v":0},0,0,0,0,0,{"$f":"AVERAGE(AM227:AQ227)","v":0},{"$f":"STDEV(AM227:AQ227)","v":0},0,0,0,0,0,{"$f":"AVERAGE(AT227:AX227)","v":0},{"$f":"STDEV(AT227:AX227)","v":0},0,0,0,0,0,{"$f":"AVERAGE(BA227:BE227)","v":0},{"$f":"STDEV(BA227:BE227)","v":0}]
[null,3,null,1,5,2,0,2,{"$f":"AVERAGE(D228:H228)","v":2},{"$f":"STDEV(D228:H228)","v":{"v":1.8708286933869707,"d":"2"}},0,0,0,0,1,{"$f":"AVERAGE(K228:O228)","v":{"v":0.2,"d":"0"}},{"$f":"STDEV(K228:O228)","v":{"v":0.4472135954999579,"d":"0"}},0,0,0,0,0,{"$f":"AVERAGE(R228:V228)","v":0},{"$f":"STDEV(R228:V228)","v":0},0,0,0,0,0,{"$f":"AVERAGE(Y228:AC228)","v":0},{"$f":"STDEV(Y228:AC228)","v":0},0,0,0,0,0,{"$f":"AVERAGE(AF228:AJ228)","v":0},{"$f":"STDEV(AF228:AJ228)","v":0},0,0,0,0,0,{"$f":"AVERAGE(AM228:AQ228)","v":0},{"$f":"STDEV(AM228:AQ228)","v":0},0,0,0,0,0,{"$f":"AVERAGE(AT228:AX228)","v":0},{"$f":"STDEV(AT228:AX228)","v":0},0,0,0,0,0,{"$f":"AVERAGE(BA228:BE228)","v":0},{"$f":"STDEV(BA228:BE228)","v":0}]
["average",{"$nulls":7},{"$f":"AVERAGE(I226:I228)","v":{"v":0.6666666666666666,"d":"1"}},{"$nulls":6},{"$f":"AVERAGE(P226:P228)","v":{"v":0.06666666666666667,"d":"0"}},{"$nulls":6},{"$f":"AVERAGE(W226:W228)","v":0},{"$nulls":6},{"$f":"AVERAGE(AD226:AD228)","v":0},{"$nulls":6},{"$f":"AVERAGE(AK226:AK228)","v":0},{"$nulls":6},{"$f":"AVERAGE(AR226:AR228)","v":0},{"$nulls":6},{"$f":"AVERAGE(AY226:AY228)","v":0},{"$nulls":6},{"$f":"AVERAGE(BF226:BF228)","v":0}]
["stdev",{"$nulls":7},{"$f":"SUM(J226:J228)","v":{"v":1.8708286933869707,"d":"2"}},{"$nulls":6},{"$f":"SUM(Q226:Q228)","v":{"v":0.4472135954999579,"d":"0"}},{"$nulls":6},{"$f":"SUM(X226:X228)","v":0},{"$nulls":6},{"$f":"SUM(AE226:AE228)","v":0},{"$nulls":6},{"$f":"SUM(AL226:AL228)","v":0},{"$nulls":6},{"$f":"SUM(AS226:AS228)","v":0},{"$nulls":6},{"$f":"SUM(AZ226:AZ228)","v":0},{"$nulls":6},{"$f":"SUM(BG226:BG228)","v":0}]
["2213F A",1,null,0,0,0,0,0,{"$f":"AVERAGE(D231:H231)","v":0},{"$f":"STDEV(D231:H231)","v":0},0,0,0,0,0,{"$f":"AVERAGE(K231:O231)","v":0},{"$f":"STDEV(K231:O231)","v":0},0,0,0,0,0,{"$f":"AVERAGE(R231:V231)","v":0},{"$f":"STDEV(R231:V231)","v":0},0,0,0,0,0,{"$f":"AVERAGE(Y231:AC231)","v":0},{"$f":"STDEV(Y231:AC231)","v":0},0,0,0,0,0,{"$f":"AVERAGE(AF231:AJ231)","v":0},{"$f":"STDEV(AF231:AJ231)","v":0},0,0,0,0,0,{"$f":"AVERAGE(AM231:AQ231)","v":0},{"$f":"STDEV(AM231:AQ231)","v":0},0,0,0,0,0,{"$f":"AVERAGE(AT231:AX231)","v":0},{"$f":"STDEV(AT231:AX231)","v":0},0,0,0,0,0,{"$f":"AVERAGE(BA231:BE231)","v":0},{"$f":"STDEV(BA231:BE231)","v":0}]
["p+0",2,null,0,0,0,0,0,{"$f":"AVERAGE(D232:H232)","v":0},{"$f":"STDEV(D232:H232)","v":0},0,0,0,0,0,{"$f":"AVERAGE(K232:O232)","v":0},{"$f":"STDEV(K232:O232)","v":0},0,0,0,0,0,{"$f":"AVERAGE(R232:V232)","v":0},{"$f":"STDEV(R232:V232)","v":0},0,0,0,0,0,{"$f":"AVERAGE(Y232:AC232)","v":0},{"$f":"STDEV(Y232:AC232)","v":0},0,0,0,0,0,{"$f":"AVERAGE(AF232:AJ232)","v":0},{"$f":"STDEV(AF232:AJ232)","v":0},0,0,0,0,0,{"$f":"AVERAGE(AM232:AQ232)","v":0},{"$f":"STDEV(AM232:AQ232)","v":0},0,0,0,0,0,{"$f":"AVERAGE(AT232:AX232)","v":0},{"$f":"STDEV(AT232:AX232)","v":0},0,0,0,0,0,{"$f":"AVERAGE(BA232:BE232)","v":0},{"$f":"STDEV(BA232:BE232)","v":0}]
[null,3,null,0,0,0,0,0,{"$f":"AVERAGE(D233:H233)","v":0},{"$f":"STDEV(D233:H233)","v":0},0,0,0,0,0,{"$f":"AVERAGE(K233:O233)","v":0},{"$f":"STDEV(K233:O233)","v":0},0,0,0,0,0,{"$f":"AVERAGE(R233:V233)","v":0},{"$f":"STDEV(R233:V233)","v":0},0,0,0,0,0,{"$f":"AVERAGE(Y233:AC233)","v":0},{"$f":"STDEV(Y233:AC233)","v":0},0,0,0,0,0,{"$f":"AVERAGE(AF233:AJ233)","v":0},{"$f":"STDEV(AF233:AJ233)","v":0},0,0,0,0,0,{"$f":"AVERAGE(AM233:AQ233)","v":0},{"$f":"STDEV(AM233:AQ233)","v":0},0,0,0,0,0,{"$f":"AVERAGE(AT233:AX233)","v":0},{"$f":"STDEV(AT233:AX233)","v":0},0,0,0,0,0,{"$f":"AVERAGE(BA233:BE233)","v":0},{"$f":"STDEV(BA233:BE233)","v":0}]
["average",{"$nulls":7},{"$f":"AVERAGE(I231:I233)","v":0},{"$nulls":6},{"$f":"AVERAGE(P231:P233)","v":0},{"$nulls":6},{"$f":"AVERAGE(W231:W233)","v":0},{"$nulls":6},{"$f":"AVERAGE(AD231:AD233)","v":0},{"$nulls":6},{"$f":"AVERAGE(AK231:AK233)","v":0},{"$nulls":6},{"$f":"AVERAGE(AR231:AR233)","v":0},{"$nulls":6},{"$f":"AVERAGE(AY231:AY233)","v":0},{"$nulls":6},{"$f":"AVERAGE(BF231:BF233)","v":0}]
["stdev",{"$nulls":7},{"$f":"SUM(J231:J233)","v":0},{"$nulls":6},{"$f":"SUM(Q231:Q233)","v":0},{"$nulls":6},{"$f":"SUM(X231:X233)","v":0},{"$nulls":6},{"$f":"SUM(AE231:AE233)","v":0},{"$nulls":6},{"$f":"SUM(AL231:AL233)","v":0},{"$nulls":6},{"$f":"SUM(AS231:AS233)","v":0},{"$nulls":6},{"$f":"SUM(AZ231:AZ233)","v":0},{"$nulls":6},{"$f":"SUM(BG231:BG233)","v":0}]
["p+3",1,null,0,0,0,0,1,{"$f":"AVERAGE(D236:H236)","v":{"v":0.2,"d":"0"}},{"$f":"STDEV(D236:H236)","v":{"v":0.4472135954999579,"d":"0"}},0,0,0,0,0,{"$f":"AVERAGE(K236:O236)","v":0},{"$f":"STDEV(K236:O236)","v":0},0,0,0,0,0,{"$f":"AVERAGE(R236:V236)","v":0},{"$f":"STDEV(R236:V236)","v":0},0,0,0,0,0,{"$f":"AVERAGE(Y236:AC236)","v":0},{"$f":"STDEV(Y236:AC236)","v":0},0,0,0,0,0,{"$f":"AVERAGE(AF236:AJ236)","v":0},{"$f":"STDEV(AF236:AJ236)","v":0},0,0,0,0,0,{"$f":"AVERAGE(AM236:AQ236)","v":0},{"$f":"STDEV(AM236:AQ236)","v":0},0,0,0,0,0,{"$f":"AVERAGE(AT236:AX236)","v":0},{"$f":"STDEV(AT236:AX236)","v":0},0,0,0,0,0,{"$f":"AVERAGE(BA236:BE236)","v":0},{"$f":"STDEV(BA236:BE236)","v":0}]
[null,2,null,1,0,0,0,1,{"$f":"AVERAGE(D237:H237)","v":{"v":0.4,"d":"0"}},{"$f":"STDEV(D237:H237)","v":{"v":0.5477225575051661,"d":"1"}},0,0,0,0,0,{"$f":"AVERAGE(K237:O237)","v":0},{"$f":"STDEV(K237:O237)","v":0},0,0,0,0,0,{"$f":"AVERAGE(R237:V237)","v":0},{"$f":"STDEV(R237:V237)","v":0},0,0,0,0,0,{"$f":"AVERAGE(Y237:AC237)","v":0},{"$f":"STDEV(Y237:AC237)","v":0},0,0,0,0,0,{"$f":"AVERAGE(AF237:AJ237)","v":0},{"$f":"STDEV(AF237:AJ237)","v":0},0,0,0,0,0,{"$f":"AVERAGE(AM237:AQ237)","v":0},{"$f":"STDEV(AM237:AQ237)","v":0},0,0,0,0,0,{"$f":"AVERAGE(AT237:AX237)","v":0},{"$f":"STDEV(AT237:AX237)","v":0},0,0,0,0,0,{"$f":"AVERAGE(BA237:BE237)","v":0},{"$f":"STDEV(BA237:BE237)","v":0}]
[null,3,null,0,0,0,0,0,{"$f":"AVERAGE(D238:H238)","v":0},{"$f":"STDEV(D238:H238)","v":0},0,0,0,0,0,{"$f":"AVERAGE(K238:O238)","v":0},{"$f":"STDEV(K238:O238)","v":0},0,0,0,0,0,{"$f":"AVERAGE(R238:V238)","v":0},{"$f":"STDEV(R238:V238)","v":0},0,0,0,0,0,{"$f":"AVERAGE(Y238:AC238)","v":0},{"$f":"STDEV(Y238:AC238)","v":0},0,0,0,0,0,{"$f":"AVERAGE(AF238:AJ238)","v":0},{"$f":"STDEV(AF238:AJ238)","v":0},0,0,0,0,0,{"$f":"AVERAGE(AM238:AQ238)","v":0},{"$f":"STDEV(AM238:AQ238)","v":0},0,0,0,0,0,{"$f":"AVERAGE(AT238:AX238)","v":0},{"$f":"STDEV(AT238:AX238)","v":0},0,0,0,0,0,{"$f":"AVERAGE(BA238:BE238)","v":0},{"$f":"STDEV(BA238:BE238)","v":0}]
["average",{"$nulls":7},{"$f":"AVERAGE(I236:I238)","v":{"v":0.20000000000000004,"d":"0"}},{"$nulls":6},{"$f":"AVERAGE(P236:P238)","v":0},{"$nulls":6},{"$f":"AVERAGE(W236:W238)","v":0},{"$nulls":6},{"$f":"AVERAGE(AD236:AD238)","v":0},{"$nulls":6},{"$f":"AVERAGE(AK236:AK238)","v":0},{"$nulls":6},{"$f":"AVERAGE(AR236:AR238)","v":0},{"$nulls":6},{"$f":"AVERAGE(AY236:AY238)","v":0},{"$nulls":6},{"$f":"AVERAGE(BF236:BF238)","v":0}]
["stdev",{"$nulls":7},{"$f":"SUM(J236:J238)","v":{"v":0.994936153005124,"d":"1"}},{"$nulls":6},{"$f":"SUM(Q236:Q238)","v":0},{"$nulls":6},{"$f":"SUM(X236:X238)","v":0},{"$nulls":6},{"$f":"SUM(AE236:AE238)","v":0},{"$nulls":6},{"$f":"SUM(AL236:AL238)","v":0},{"$nulls":6},{"$f":"SUM(AS236:AS238)","v":0},{"$nulls":6},{"$f":"SUM(AZ236:AZ238)","v":0},{"$nulls":6},{"$f":"SUM(BG236:BG238)","v":0}]
["2213F APR",1,null,0,0,0,0,0,{"$f":"AVERAGE(D241:H241)","v":0},{"$f":"STDEV(D241:H241)","v":0},0,0,0,0,0,{"$f":"AVERAGE(K241:O241)","v":0},{"$f":"STDEV(K241:O241)","v":0},0,0,0,0,0,{"$f":"AVERAGE(R241:V241)","v":0},{"$f":"STDEV(R241:V241)","v":0},0,0,0,0,0,{"$f":"AVERAGE(Y241:AC241)","v":0},{"$f":"STDEV(Y241:AC241)","v":0},0,0,0,0,0,{"$f":"AVERAGE(AF241:AJ241)","v":0},{"$f":"STDEV(AF241:AJ241)","v":0},0,0,0,0,0,{"$f":"AVERAGE(AM241:AQ241)","v":0},{"$f":"STDEV(AM241:AQ241)","v":0},0,0,0,0,0,{"$f":"AVERAGE(AT241:AX241)","v":0},{"$f":"STDEV(AT241:AX241)","v":0},0,0,0,0,0,{"$f":"AVERAGE(BA241:BE241)","v":0},{"$f":"STDEV(BA241:BE241)","v":0}]
["p+0",2,null,0,0,0,0,0,{"$f":"AVERAGE(D242:H242)","v":0},{"$f":"STDEV(D242:H242)","v":0},0,0,0,0,0,{"$f":"AVERAGE(K242:O242)","v":0},{"$f":"STDEV(K242:O242)","v":0},0,0,0,0,0,{"$f":"AVERAGE(R242:V242)","v":0},{"$f":"STDEV(R242:V242)","v":0},0,0,0,0,0,{"$f":"AVERAGE(Y242:AC242)","v":0},{"$f":"STDEV(Y242:AC242)","v":0},0,0,0,0,0,{"$f":"AVERAGE(AF242:AJ242)","v":0},{"$f":"STDEV(AF242:AJ242)","v":0},0,0,0,0,0,{"$f":"AVERAGE(AM242:AQ242)","v":0},{"$f":"STDEV(AM242:AQ242)","v":0},0,0,0,0,0,{"$f":"AVERAGE(AT242:AX242)","v":0},{"$f":"STDEV(AT242:AX242)","v":0},0,0,0,0,0,{"$f":"AVERAGE(BA242:BE242)","v":0},{"$f":"STDEV(BA242:BE242)","v":0}]
[null,3,null,0,0,0,0,0,{"$f":"AVERAGE(D243:H243)","v":0},{"$f":"STDEV(D243:H243)","v":0},0,0,0,0,0,{"$f":"AVERAGE(K243:O243)","v":0},{"$f":"STDEV(K243:O243)","v":0},0,0,0,0,0,{"$f":"AVERAGE(R243:V243)","v":0},{"$f":"STDEV(R243:V243)","v":0},0,0,0,0,0,{"$f":"AVERAGE(Y243:AC243)","v":0},{"$f":"STDEV(Y243:AC243)","v":0},0,0,0,0,0,{"$f":"AVERAGE(AF243:AJ243)","v":0},{"$f":"STDEV(AF243:AJ243)","v":0},0,0,0,0,0,{"$f":"AVERAGE(AM243:AQ243)","v":0},{"$f":"STDEV(AM243:AQ243)","v":0},0,0,0,0,0,{"$f":"AVERAGE(AT243:AX243)","v":0},{"$f":"STDEV(AT243:AX243)","v":0},0,0,0,0,0,{"$f":"AVERAGE(BA243:BE243)","v":0},{"$f":"STDEV(BA243:BE243)","v":0}]
["average",{"$nulls":7},{"$f":"AVERAGE(I241:I243)","v":0},{"$nulls":6},{"$f":"AVERAGE(P241:P243)","v":0},{"$nulls":6},{"$f":"AVERAGE(W241:W243)","v":0},{"$nulls":6},{"$f":"AVERAGE(AD241:AD243)","v":0},{"$nulls":6},{"$f":"AVERAGE(AK241:AK243)","v":0},{"$nulls":6},{"$f":"AVERAGE(AR241:AR243)","v":0},{"$nulls":6},{"$f":"AVERAGE(AY241:AY243)","v":0},{"$nulls":6},{"$f":"AVERAGE(BF241:BF243)","v":0}]
["stdev",{"$nulls":7},{"$f":"SUM(J241:J243)","v":0},{"$nulls":6},{"$f":"SUM(Q241:Q243)","v":0},{"$nulls":6},{"$f":"SUM(X241:X243)","v":0},{"$nulls":6},{"$f":"SUM(AE241:AE243)","v":0},{"$nulls":6},{"$f":"SUM(AL241:AL243)","v":0},{"$nulls":6},{"$f":"SUM(AS241:AS243)","v":0},{"$nulls":6},{"$f":"SUM(AZ241:AZ243)","v":0},{"$nulls":6},{"$f":"SUM(BG241:BG243)","v":0}]
["p+3",1,null,0,0,0,0,0,{"$f":"AVERAGE(D246:H246)","v":0},{"$f":"STDEV(D246:H246)","v":0},0,0,0,0,0,{"$f":"AVERAGE(K246:O246)","v":0},{"$f":"STDEV(K246:O246)","v":0},0,0,0,0,0,{"$f":"AVERAGE(R246:V246)","v":0},{"$f":"STDEV(R246:V246)","v":0},0,0,0,0,0,{"$f":"AVERAGE(Y246:AC246)","v":0},{"$f":"STDEV(Y246:AC246)","v":0},0,0,0,0,0,{"$f":"AVERAGE(AF246:AJ246)","v":0},{"$f":"STDEV(AF246:AJ246)","v":0},0,0,0,0,0,{"$f":"AVERAGE(AM246:AQ246)","v":0},{"$f":"STDEV(AM246:AQ246)","v":0},0,0,0,0,0,{"$f":"AVERAGE(AT246:AX246)","v":0},{"$f":"STDEV(AT246:AX246)","v":0},0,0,0,0,0,{"$f":"AVERAGE(BA246:BE246)","v":0},{"$f":"STDEV(BA246:BE246)","v":0}]
[null,2,null,0,0,0,0,0,{"$f":"AVERAGE(D247:H247)","v":0},{"$f":"STDEV(D247:H247)","v":0},0,0,0,0,0,{"$f":"AVERAGE(K247:O247)","v":0},{"$f":"STDEV(K247:O247)","v":0},0,0,0,0,0,{"$f":"AVERAGE(R247:V247)","v":0},{"$f":"STDEV(R247:V247)","v":0},0,0,0,0,0,{"$f":"AVERAGE(Y247:AC247)","v":0},{"$f":"STDEV(Y247:AC247)","v":0},0,0,0,0,0,{"$f":"AVERAGE(AF247:AJ247)","v":0},{"$f":"STDEV(AF247:AJ247)","v":0},0,0,0,0,0,{"$f":"AVERAGE(AM247:AQ247)","v":0},{"$f":"STDEV(AM247:AQ247)","v":0},0,0,0,0,0,{"$f":"AVERAGE(AT247:AX247)","v":0},{"$f":"STDEV(AT247:AX247)","v":0},0,0,0,0,0,{"$f":"AVERAGE(BA247:BE247)","v":0},{"$f":"STDEV(BA247:BE247)","v":0}]
[null,3,null,0,0,0,0,0,{"$f":"AVERAGE(D248:H248)","v":0},{"$f":"STDEV(D248:H248)","v":0},0,0,0,0,0,{"$f":"AVERAGE(K248:O248)","v":0},{"$f":"STDEV(K248:O248)","v":0},0,0,0,0,0,{"$f":"AVERAGE(R248:V248)","v":0},{"$f":"STDEV(R248:V248)","v":0},0,0,0,0,0,{"$f":"AVERAGE(Y248:AC248)","v":0},{"$f":"STDEV(Y248:AC248)","v":0},0,0,0,0,0,{"$f":"AVERAGE(AF248:AJ248)","v":0},{"$f":"STDEV(AF248:AJ248)","v":0},0,0,0,0,0,{"$f":"AVERAGE(AM248:AQ248)","v":0},{"$f":"STDEV(AM248:AQ248)","v":0},0,0,0,0,0,{"$f":"AVERAGE(AT248:AX248)","v":0},{"$f":"STDEV(AT248:AX248)","v":0},0,0,0,0,0,{"$f":"AVERAGE(BA248:BE248)","v":0},{"$f":"STDEV(BA248:BE248)","v":0}]
["average",{"$nulls":7},{"$f":"AVERAGE(I246:I248)","v":0},{"$nulls":6},{"$f":"AVERAGE(P246:P248)","v":0},{"$nulls":6},{"$f":"AVERAGE(W246:W248)","v":0},{"$nulls":6},{"$f":"AVERAGE(AD246:AD248)","v":0},{"$nulls":6},{"$f":"AVERAGE(AK246:AK248)","v":0},{"$nulls":6},{"$f":"AVERAGE(AR246:AR248)","v":0},{"$nulls":6},{"$f":"AVERAGE(AY246:AY248)","v":0},{"$nulls":6},{"$f":"AVERAGE(BF246:BF248)","v":0}]
["stdev",{"$nulls":7},{"$f":"SUM(J246:J248)","v":0},{"$nulls":6},{"$f":"SUM(Q246:Q248)","v":0},{"$nulls":6},{"$f":"SUM(X246:X248)","v":0},{"$nulls":6},{"$f":"SUM(AE246:AE248)","v":0},{"$nulls":6},{"$f":"SUM(AL246:AL248)","v":0},{"$nulls":6},{"$f":"SUM(AS246:AS248)","v":0},{"$nulls":6},{"$f":"SUM(AZ246:AZ248)","v":0},{"$nulls":6},{"$f":"SUM(BG246:BG248)","v":0}]

{"sheet":"Survivalexp results","index":1,"n_rows":66,"n_cols":53,"rows_kept":66}
["Survival experiment"]
["Subject: ",null,"Anaerobic survival after aerobic inoculation of recombinant strains"]
[null,null,"DeBont+Gluconic Acid - Kanamycin only in 2213-/A/APR"]
["Inoculation date",null,"2017-06-25"]
["Inoculated",null,"Blank ","KT2440 WT","2213F -",null,"2213F A",null,"2213F APR"]
[{"$nulls":3},"dilution"]
[{"$nulls":3},"T1",{"$nulls":9},"T3",{"$nulls":9},"T5",{"$nulls":9},"T7",{"$nulls":9},"T9"]
[null,null,"Sample",{"$f":"10^0","v":{"v":1,"d":"1E+00"}},{"$f":"10^-1","v":{"v":0.1,"d":"1E-01"}},{"$f":"10^-2","v":{"v":0.01,"d":"1E-02"}},{"$f":"10^-3","v":{"v":1E-3,"d":"1E-03"}},{"$f":"10^-4","v":{"v":1E-4,"d":"1E-04"}},{"$f":"10^-5","v":{"v":1e-05,"d":"1E-05"}},{"$f":"10^-6","v":{"v":1e-06,"d":"1E-06"}},{"$f":"10^-7","v":{"v":1e-07,"d":"1E-07"}},"Average nr of bacteria","stdev",{"$f":"10^0","v":{"v":1,"d":"1E+00"}},{"$f":"10^-1","v":{"v":0.1,"d":"1E-01"}},{"$f":"10^-2","v":{"v":0.01,"d":"1E-02"}},{"$f":"10^-3","v":{"v":1E-3,"d":"1E-03"}},{"$f":"10^-4","v":{"v":1E-4,"d":"1E-04"}},{"$f":"10^-5","v":{"v":1e-05,"d":"1E-05"}},{"$f":"10^-6","v":{"v":1e-06,"d":"1E-06"}},{"$f":"10^-7","v":{"v":1e-07,"d":"1E-07"}},"Average nr of bacteria","stdev",{"$f":"10^0","v":{"v":1,"d":"1E+00"}},{"$f":"10^-1","v":{"v":0.1,"d":"1E-01"}},{"$f":"10^-2","v":{"v":0.01,"d":"1E-02"}},{"$f":"10^-3","v":{"v":1E-3,"d":"1E-03"}},{"$f":"10^-4","v":{"v":1E-4,"d":"1E-04"}},{"$f":"10^-5","v":{"v":1e-05,"d":"1E-05"}},{"$f":"10^-6","v":{"v":1e-06,"d":"1E-06"}},{"$f":"10^-7","v":{"v":1e-07,"d":"1E-07"}},"Average nr of bacteria","stdev",{"$f":"10^0","v":{"v":1,"d":"1E+00"}},{"$f":"10^-1","v":{"v":0.1,"d":"1E-01"}},{"$f":"10^-2","v":{"v":0.01,"d":"1E-02"}},{"$f":"10^-3","v":{"v":1E-3,"d":"1E-03"}},{"$f":"10^-4","v":{"v":1E-4,"d":"1E-04"}},{"$f":"10^-5","v":{"v":1e-05,"d":"1E-05"}},{"$f":"10^-6","v":{"v":1e-06,"d":"1E-06"}},{"$f":"10^-7","v":{"v":1e-07,"d":"1E-07"}},"Average nr of bacteria","stdev",{"$f":"10^0","v":{"v":1,"d":"1E+00"}},{"$f":"10^-1","v":{"v":0.1,"d":"1E-01"}},{"$f":"10^-2","v":{"v":0.01,"d":"1E-02"}},{"$f":"10^-3","v":{"v":1E-3,"d":"1E-03"}},{"$f":"10^-4","v":{"v":1E-4,"d":"1E-04"}},{"$f":"10^-5","v":{"v":1e-05,"d":"1E-05"}},{"$f":"10^-6","v":{"v":1e-06,"d":"1E-06"}},{"$f":"10^-7","v":{"v":1e-07,"d":"1E-07"}},"Average nr of bacteria","stdev"]
[null,null,"Blank",{"$f":"'Survivalexp RAW October 2017'!I13","v":0},{"$f":"'Survivalexp RAW October 2017'!P13","v":0},{"$f":"'Survivalexp RAW October 2017'!W13","v":0},{"$f":"'Survivalexp RAW October 2017'!AD13","v":0},{"$f":"'Survivalexp RAW October 2017'!AK13","v":0},{"$f":"'Survivalexp RAW October 2017'!AR13","v":0},{"$f":"'Survivalexp RAW October 2017'!AY13","v":0},{"$f":"'Survivalexp RAW October 2017'!BF13","v":0},null,null,{"$f":"'Survivalexp RAW October 2017'!I62","v":0},{"$f":"'Survivalexp RAW October 2017'!P62","v":0},{"$f":"'Survivalexp RAW October 2017'!W62","v":0},{"$f":"'Survivalexp RAW October 2017'!AD62","v":0},{"$f":"'Survivalexp RAW October 2017'!AK62","v":0},{"$f":"'Survivalexp RAW October 2017'!AR62","v":0},{"$f":"'Survivalexp RAW October 2017'!AY62","v":0},{"$f":"'Survivalexp RAW October 2017'!BF62","v":0},null,null,{"$f":"'Survivalexp RAW October 2017'!I111","v":0},{"$f":"'Survivalexp RAW October 2017'!P111","v":0},{"$f":"'Survivalexp RAW October 2017'!W111","v":0},{"$f":"'Survivalexp RAW October 2017'!AD111","v":0},{"$f":"'Survivalexp RAW October 2017'!AK111","v":0},{"$f":"'Survivalexp RAW October 2017'!AR111","v":0},{"$f":"'Survivalexp RAW October 2017'!AY111","v":0},{"$f":"'Survivalexp RAW October 2017'!BF111","v":0},null,null,{"$f":"'Survivalexp RAW October 2017'!I160","v":0},{"$f":"'Survivalexp RAW October 2017'!P160","v":0},{"$f":"'Survivalexp RAW October 2017'!W160","v":0},{"$f":"'Survivalexp RAW October 2017'!AD160","v":0},{"$f":"'Survivalexp RAW October 2017'!AK160","v":0},{"$f":"'Survivalexp RAW October 2017'!AR160","v":0},{"$f":"'Survivalexp RAW October 2017'!AY160","v":0},{"$f":"'Survivalexp RAW October 2017'!BF160","v":0},null,null,{"$f":"'Survivalexp RAW October 2017'!I209","v":0},{"$f":"'Survivalexp RAW October 2017'!P209","v":0},{"$f":"'Survivalexp RAW October 2017'!W209","v":0},{"$f":"'Survivalexp RAW October 2017'!AD209","v":0},{"$f":"'Survivalexp RAW October 2017'!AK209","v":0},{"$f":"'Survivalexp RAW October 2017'!AR209","v":0},{"$f":"'Survivalexp RAW October 2017'!AY209","v":0},{"$f":"'Survivalexp RAW October 2017'!BF209","v":0}]
[null,null,"stdev",{"$f":"'Survivalexp RAW October 2017'!I14","v":0},{"$f":"'Survivalexp RAW October 2017'!P14","v":0},{"$f":"'Survivalexp RAW October 2017'!W14","v":0},{"$f":"'Survivalexp RAW October 2017'!AD14","v":0},{"$f":"'Survivalexp RAW October 2017'!AK14","v":0},{"$f":"'Survivalexp RAW October 2017'!AR14","v":0},{"$f":"'Survivalexp RAW October 2017'!AY14","v":0},{"$f":"'Survivalexp RAW October 2017'!BF14","v":0},null,null,{"$f":"'Survivalexp RAW October 2017'!I63","v":0},{"$f":"'Survivalexp RAW October 2017'!P63","v":0},{"$f":"'Survivalexp RAW October 2017'!W63","v":0},{"$f":"'Survivalexp RAW October 2017'!AD63","v":0},{"$f":"'Survivalexp RAW October 2017'!AK63","v":0},{"$f":"'Survivalexp RAW October 2017'!AR63","v":0},{"$f":"'Survivalexp RAW October 2017'!AY63","v":0},{"$f":"'Survivalexp RAW October 2017'!BF63","v":0},null,null,{"$f":"'Survivalexp RAW October 2017'!I112","v":0},{"$f":"'Survivalexp RAW October 2017'!P112","v":0},{"$f":"'Survivalexp RAW October 2017'!W112","v":0},{"$f":"'Survivalexp RAW October 2017'!AD112","v":0},{"$f":"'Survivalexp RAW October 2017'!AK112","v":0},{"$f":"'Survivalexp RAW October 2017'!AR112","v":0},{"$f":"'Survivalexp RAW October 2017'!AY112","v":0},{"$f":"'Survivalexp RAW October 2017'!BF112","v":0},null,null,{"$f":"'Survivalexp RAW October 2017'!I161","v":0},{"$f":"'Survivalexp RAW October 2017'!P161","v":0},{"$f":"'Survivalexp RAW October 2017'!W161","v":0},{"$f":"'Survivalexp RAW October 2017'!AD161","v":0},{"$f":"'Survivalexp RAW October 2017'!AK161","v":0},{"$f":"'Survivalexp RAW October 2017'!AR161","v":0},{"$f":"'Survivalexp RAW October 2017'!AY161","v":0},{"$f":"'Survivalexp RAW October 2017'!BF161","v":0},null,null,{"$f":"'Survivalexp RAW October 2017'!I210","v":0},{"$f":"'Survivalexp RAW October 2017'!P210","v":0},{"$f":"'Survivalexp RAW October 2017'!W210","v":0},{"$f":"'Survivalexp RAW October 2017'!AD210","v":0},{"$f":"'Survivalexp RAW October 2017'!AK210","v":0},{"$f":"'Survivalexp RAW October 2017'!AR210","v":0},{"$f":"'Survivalexp RAW October 2017'!AY210","v":0},{"$f":"'Survivalexp RAW October 2017'!BF210","v":0}]
[null,"est. nr of bacteria",null,{"$f":"D9/$D$8","v":0},{"$f":"E9/$E$8","v":0},{"$f":"F9/$F$8","v":0},{"$f":"G9/$G$8","v":0},{"$f":"H9/$H$8","v":0},{"$f":"I9/$I$8","v":0},{"$f":"J9/$J$8","v":0},{"$f":"K9/$K$8","v":{"v":0,"d":"0E+00"}},{"$f":"G11","v":0},{"$f":"G12","v":0},{"$f":"N9/$D$8","v":0},{"$f":"O9/$E$8","v":0},{"$f":"P9/$F$8","v":0},{"$f":"Q9/$G$8","v":0},{"$f":"R9/$H$8","v":0},{"$f":"S9/$I$8","v":0},{"$f":"T9/$J$8","v":0},{"$f":"U9/$K$8","v":0},{"$f":"P11","v":0},{"$f":"P12","v":0},{"$f":"X9/$D$8","v":0},{"$f":"Y9/$E$8","v":0},{"$f":"Z9/$F$8","v":0},{"$f":"AA9/$G$8","v":0},{"$f":"AB9/$H$8","v":0},{"$f":"AC9/$I$8","v":0},{"$f":"AD9/$J$8","v":0},{"$f":"AE9/$K$8","v":0},{"$f":"AE11","v":0},{"$f":"AE12","v":0},{"$f":"AH9/$D$8","v":0},{"$f":"AI9/$E$8","v":0},{"$f":"AJ9/$F$8","v":0},{"$f":"AK9/$G$8","v":0},{"$f":"AL9/$H$8","v":0},{"$f":"AM9/$I$8","v":0},{"$f":"AN9/$J$8","v":0},{"$f":"AO9/$K$8","v":0},{"$f":"AL11","v":0},{"$f":"AL12","v":0},{"$f":"AR9/$D$8","v":0},{"$f":"AS9/$E$8","v":0},{"$f":"AT9/$F$8","v":0},{"$f":"AU9/$G$8","v":0},{"$f":"AV9/$H$8","v":0},{"$f":"AW9/$I$8","v":0},{"$f":"AX9/$J$8","v":0},{"$f":"AY9/$K$8","v":0},{"$f":"AV11","v":0},{"$f":"AV12","v":0}]
[null,null,"stdev",{"$f":"D10/$D$8","v":0},{"$f":"E10/$E$8","v":0},{"$f":"F10/$F$8","v":0},{"$f":"G10/$G$8","v":0},{"$f":"H10/$H$8","v":0},{"$f":"I10/$I$8","v":0},{"$f":"J10/$J$8","v":0},{"$f":"K10/$K$8","v":0},null,null,{"$f":"N10/$D$8","v":0},{"$f":"O10/$E$8","v":0},{"$f":"P10/$F$8","v":0},{"$f":"Q10/$G$8","v":0},{"$f":"R10/$H$8","v":0},{"$f":"S10/$I$8","v":0},{"$f":"T10/$J$8","v":0},{"$f":"U10/$K$8","v":0},null,null,{"$f":"X10/$D$8","v":0},{"$f":"Y10/$E$8","v":0},{"$f":"Z10/$F$8","v":0},{"$f":"AA10/$G$8","v":0},{"$f":"AB10/$H$8","v":0},{"$f":"AC10/$I$8","v":0},{"$f":"AD10/$J$8","v":0},{"$f":"AE10/$K$8","v":0},null,null,{"$f":"AH10/$D$8","v":0},{"$f":"AI10/$E$8","v":0},{"$f":"AJ10/$F$8","v":0},{"$f":"AK10/$G$8","v":0},{"$f":"AL10/$H$8","v":0},{"$f":"AM10/$I$8","v":0},{"$f":"AN10/$J$8","v":0},{"$f":"AO10/$K$8","v":0},null,null,{"$f":"AR10/$D$8","v":0},{"$f":"AS10/$E$8","v":0},{"$f":"AT10/$F$8","v":0},{"$f":"AU10/$G$8","v":0},{"$f":"AV10/$H$8","v":0},{"$f":"AW10/$I$8","v":0},{"$f":"AX10/$J$8","v":0},{"$f":"AY10/$K$8","v":0}]
[null,null,"DH5α -",{"$f":"'Survivalexp RAW October 2017'!I18","v":{"$error":"#DIV/0!"}},{"$f":"'Survivalexp RAW October 2017'!P18","v":{"$error":"#DIV/0!"}},{"$f":"'Survivalexp RAW October 2017'!W18","v":{"$error":"#DIV/0!"}},{"$f":"'Survivalexp RAW October 2017'!AD18","v":{"v":68.73333333333333,"d":"69"}},{"$f":"'Survivalexp RAW October 2017'!AK18","v":{"v":3.8666666666666667,"d":"4"}},{"$f":"'Survivalexp RAW October 2017'!AR18","v":0},{"$f":"'Survivalexp RAW October 2017'!AY18","v":0},{"$f":"'Survivalexp RAW October 2017'!BF18","v":0},null,null,{"$f":"'Survivalexp RAW October 2017'!I67","v":{"$error":"#DIV/0!"}},{"$f":"'Survivalexp RAW October 2017'!P67","v":{"$error":"#DIV/0!"}},{"$f":"'Survivalexp RAW October 2017'!W67","v":{"v":74.66666666666666,"d":"75"}},{"$f":"'Survivalexp RAW October 2017'!AD67","v":0},{"$f":"'Survivalexp RAW October 2017'!AK67","v":0},{"$f":"'Survivalexp RAW October 2017'!AR67","v":0},{"$f":"'Survivalexp RAW October 2017'!AY67","v":0},{"$f":"'Survivalexp RAW October 2017'!BF67","v":0},null,null,{"$f":"'Survivalexp RAW October 2017'!I116","v":{"v":95.39999999999999,"d":"95"}},{"$f":"'Survivalexp RAW October 2017'!P116","v":{"v":5.6000000000000005,"d":"6"}},{"$f":"'Survivalexp RAW October 2017'!W116","v":{"v":1.4000000000000001,"d":"1"}},{"$f":"'Survivalexp RAW October 2017'!AD116","v":{"v":0.06666666666666667,"d":"0"}},{"$f":"'Survivalexp RAW October 2017'!AK116","v":0},{"$f":"'Survivalexp RAW October 2017'!AR116","v":0},{"$f":"'Survivalexp RAW October 2017'!AY116","v":0},{"$f":"'Survivalexp RAW October 2017'!BF116","v":0},null,null,{"$f":"'Survivalexp RAW October 2017'!I165","v":{"v":61.333333333333336,"d":"61"}},{"$f":"'Survivalexp RAW October 2017'!P165","v":{"v":9.066666666666666,"d":"9"}},{"$f":"'Survivalexp RAW October 2017'!W165","v":0},{"$f":"'Survivalexp RAW October 2017'!AD165","v":0},{"$f":"'Survivalexp RAW October 2017'!AK165","v":0},{"$f":"'Survivalexp RAW October 2017'!AR165","v":0},{"$f":"'Survivalexp RAW October 2017'!AY165","v":0},{"$f":"'Survivalexp RAW October 2017'!BF165","v":0},null,null,{"$f":"'Survivalexp RAW October 2017'!I214","v":41},{"$f":"'Survivalexp RAW October 2017'!P214","v":0},{"$f":"'Survivalexp RAW October 2017'!W214","v":0},{"$f":"'Survivalexp RAW October 2017'!AD214","v":0},{"$f":"'Survivalexp RAW October 2017'!AK214","v":0},{"$f":"'Survivalexp RAW October 2017'!AR214","v":0},{"$f":"'Survivalexp RAW October 2017'!AY214","v":0},{"$f":"'Survivalexp RAW October 2017'!BF214","v":0}]
[null,null,"stdev",{"$f":"'Survivalexp RAW October 2017'!I19","v":{"$error":"#DIV/0!"}},{"$f":"'Survivalexp RAW October 2017'!P19","v":{"$error":"#DIV/0!"}},{"$f":"'Survivalexp RAW October 2017'!W19","v":{"$error":"#DIV/0!"}},{"$f":"'Survivalexp RAW October 2017'!AD19","v":{"v":20.96006985518035,"d":"21"}},{"$f":"'Survivalexp RAW October 2017'!AK19","v":{"v":2.190890230020667,"d":"2"}},{"$f":"'Survivalexp RAW October 2017'!AR19","v":0},{"$f":"'Survivalexp RAW October 2017'!AY19","v":0},{"$f":"'Survivalexp RAW October 2017'!BF19","v":0},null,null,{"$f":"'Survivalexp RAW October 2017'!I68","v":{"$error":"#DIV/0!"}},{"$f":"'Survivalexp RAW October 2017'!P68","v":{"$error":"#DIV/0!"}},{"$f":"'Survivalexp RAW October 2017'!W68","v":{"v":32.02400712559932,"d":"32"}},{"$f":"'Survivalexp RAW October 2017'!AD68","v":0},{"$f":"'Survivalexp RAW October 2017'!AK68","v":0},{"$f":"'Survivalexp RAW October 2017'!AR68","v":0},{"$f":"'Survivalexp RAW October 2017'!AY68","v":0},{"$f":"'Survivalexp RAW October 2017'!BF68","v":0},null,null,{"$f":"'Survivalexp RAW October 2017'!I117","v":{"v":28.85059006988564,"d":"29"}},{"$f":"'Survivalexp RAW October 2017'!P117","v":{"v":2.0493901531919168,"d":"2"}},{"$f":"'Survivalexp RAW October 2017'!W117","v":{"v":2.2803508501982757,"d":"2"}},{"$f":"'Survivalexp RAW October 2017'!AD117","v":{"v":0.4472135954999579,"d":"0"}},{"$f":"'Survivalexp RAW October 2017'!AK117","v":0},{"$f":"'Survivalexp RAW October 2017'!AR117","v":0},{"$f":"'Survivalexp RAW October 2017'!AY117","v":0},{"$f":"'Survivalexp RAW October 2017'!BF117","v":0},null,null,{"$f":"'Survivalexp RAW October 2017'!I166","v":{"v":17.827402317237702,"d":"18"}},{"$f":"'Survivalexp RAW October 2017'!P166","v":{"v":11.698086769020549,"d":"12"}},{"$f":"'Survivalexp RAW October 2017'!W166","v":0},{"$f":"'Survivalexp RAW October 2017'!AD166","v":0},{"$f":"'Survivalexp RAW October 2017'!AK166","v":0},{"$f":"'Survivalexp RAW October 2017'!AR166","v":0},{"$f":"'Survivalexp RAW October 2017'!AY166","v":0},{"$f":"'Survivalexp RAW October 2017'!BF166","v":0},null,null,{"$f":"'Survivalexp RAW October 2017'!I215","v":{"v":29.468297852433132,"d":"29"}},{"$f":"'Survivalexp RAW October 2017'!P215","v":0},{"$f":"'Survivalexp RAW October 2017'!W215","v":0},{"$f":"'Survivalexp RAW October 2017'!AD215","v":0},{"$f":"'Survivalexp RAW October 2017'!AK215","v":0},{"$f":"'Survivalexp RAW October 2017'!AR215","v":0},{"$f":"'Survivalexp RAW October 2017'!AY215","v":0},{"$f":"'Survivalexp RAW October 2017'!BF215","v":0}]
[null,"est. nr of bacteria",null,{"$f":"D13/$D$8","v":{"$error":"#DIV/0!"}},{"$f":"E13/$E$8","v":{"$error":"#DIV/0!"}},{"$f":"F13/$F$8","v":{"$error":"#DIV/0!"}},{"$f":"G13/$G$8","v":68733.33333333333},{"$f":"H13/$H$8","v":38666.666666666664},{"$f":"I13/$I$8","v":0},{"$f":"J13/$J$8","v":0},{"$f":"K13/$K$8","v":{"v":0,"d":"0E+00"}},{"$f":"G15","v":{"v":68733.33333333333,"d":"68733"}},{"$f":"G16","v":20960.06985518035},{"$f":"N13/$D$8","v":{"$error":"#DIV/0!"}},{"$f":"O13/$E$8","v":{"$error":"#DIV/0!"}},{"$f":"P13/$F$8","v":7466.666666666665},{"$f":"Q13/$G$8","v":0},{"$f":"R13/$H$8","v":0},{"$f":"S13/$I$8","v":0},{"$f":"T13/$J$8","v":0},{"$f":"U13/$K$8","v":0},{"$f":"P15","v":7466.666666666665},{"$f":"P16","v":3202.400712559932},{"$f":"X13/$D$8","v":95.39999999999999},{"$f":"Y13/$E$8","v":56},{"$f":"Z13/$F$8","v":140},{"$f":"AA13/$G$8","v":{"v":66.66666666666667,"d":"67"}},{"$f":"AB13/$H$8","v":0},{"$f":"AC13/$I$8","v":0},{"$f":"AD13/$J$8","v":0},{"$f":"AE13/$K$8","v":0},{"$f":"Y15","v":56},{"$f":"Y16","v":20.493901531919168},{"$f":"AH13/$D$8","v":{"v":61.333333333333336,"d":"61"}},{"$f":"AI13/$E$8","v":{"v":90.66666666666666,"d":"91"}},{"$f":"AJ13/$F$8","v":0},{"$f":"AK13/$G$8","v":0},{"$f":"AL13/$H$8","v":0},{"$f":"AM13/$I$8","v":0},{"$f":"AN13/$J$8","v":0},{"$f":"AO13/$K$8","v":0},{"$f":"AH15","v":{"v":61.333333333333336,"d":"61"}},{"$f":"AH16","v":{"v":17.827402317237702,"d":"18"}},{"$f":"AR13/$D$8","v":41},{"$f":"AS13/$E$8","v":0},{"$f":"AT13/$F$8","v":0},{"$f":"AU13/$G$8","v":0},{"$f":"AV13/$H$8","v":0},{"$f":"AW13/$I$8","v":0},{"$f":"AX13/$J$8","v":0},{"$f":"AY13/$K$8","v":0},{"$f":"AR15","v":41},{"$f":"AR16","v":29.468297852433132}]
[null,null,"stdev",{"$f":"D14/$D$8","v":{"$error":"#DIV/0!"}},{"$f":"E14/$E$8","v":{"$error":"#DIV/0!"}},{"$f":"F14/$F$8","v":{"$error":"#DIV/0!"}},{"$f":"G14/$G$8","v":20960.06985518035},{"$f":"H14/$H$8","v":21908.902300206668},{"$f":"I14/$I$8","v":0},{"$f":"J14/$J$8","v":0},{"$f":"K14/$K$8","v":0},null,null,{"$f":"N14/$D$8","v":{"$error":"#DIV/0!"}},{"$f":"O14/$E$8","v":{"$error":"#DIV/0!"}},{"$f":"P14/$F$8","v":3202.400712559932},{"$f":"Q14/$G$8","v":0},{"$f":"R14/$H$8","v":0},{"$f":"S14/$I$8","v":0},{"$f":"T14/$J$8","v":0},{"$f":"U14/$K$8","v":0},null,null,{"$f":"X14/$D$8","v":28.85059006988564},{"$f":"Y14/$E$8","v":20.493901531919168},{"$f":"Z14/$F$8","v":228.03508501982756},{"$f":"AA14/$G$8","v":{"v":447.21359549995793,"d":"447"}},{"$f":"AB14/$H$8","v":0},{"$f":"AC14/$I$8","v":0},{"$f":"AD14/$J$8","v":0},{"$f":"AE14/$K$8","v":0},null,null,{"$f":"AH14/$D$8","v":{"v":17.827402317237702,"d":"18"}},{"$f":"AI14/$E$8","v":{"v":116.98086769020549,"d":"117"}},{"$f":"AJ14/$F$8","v":0},{"$f":"AK14/$G$8","v":0},{"$f":"AL14/$H$8","v":0},{"$f":"AM14/$I$8","v":0},{"$f":"AN14/$J$8","v":0},{"$f":"AO14/$K$8","v":0},null,null,{"$f":"AR14/$D$8","v":29.468297852433132},{"$f":"AS14/$E$8","v":0},{"$f":"AT14/$F$8","v":0},{"$f":"AU14/$G$8","v":0},{"$f":"AV14/$H$8","v":0},{"$f":"AW14/$I$8","v":0},{"$f":"AX14/$J$8","v":0},{"$f":"AY14/$K$8","v":0}]
[null,null,"WT",{"$f":"'Survivalexp RAW October 2017'!I23","v":{"$error":"#DIV/0!"}},{"$f":"'Survivalexp RAW October 2017'!P23","v":{"$error":"#DIV/0!"}},{"$f":"'Survivalexp RAW October 2017'!W23","v":{"$error":"#DIV/0!"}},{"$f":"'Survivalexp RAW October 2017'!AD23","v":{"$error":"#DIV/0!"}},{"$f":"'Survivalexp RAW October 2017'!AK23","v":{"$error":"#DIV/0!"}},{"$f":"'Survivalexp RAW October 2017'!AR23","v":{"v":7.366666666666667,"d":"7"}},{"$f":"'Survivalexp RAW October 2017'!AY23","v":{"v":0.6,"d":"1"}},{"$f":"'Survivalexp RAW October 2017'!BF23","v":{"v":0.06666666666666667,"d":"0"}},null,null,{"$f":"'Survivalexp RAW October 2017'!I72","v":{"$error":"#DIV/0!"}},{"$f":"'Survivalexp RAW October 2017'!P72","v":{"$error":"#DIV/0!"}},{"$f":"'Survivalexp RAW October 2017'!W72","v":{"v":67.06666666666666,"d":"67"}},{"$f":"'Survivalexp RAW October 2017'!AD72","v":{"v":11.066666666666668,"d":"11"}},{"$f":"'Survivalexp RAW October 2017'!AK72","v":{"v":1.5333333333333334,"d":"2"}},{"$f":"'Survivalexp RAW October 2017'!AR72","v":{"v":0.06666666666666667,"d":"0"}},{"$f":"'Survivalexp RAW October 2017'!AY72","v":0},{"$f":"'Survivalexp RAW October 2017'!BF72","v":0},null,null,{"$f":"'Survivalexp RAW October 2017'!I121","v":{"$error":"#DIV/0!"}},{"$f":"'Survivalexp RAW October 2017'!P121","v":14},{"$f":"'Survivalexp RAW October 2017'!W121","v":{"v":1.4000000000000001,"d":"1"}},{"$f":"'Survivalexp RAW October 2017'!AD121","v":{"v":0.20000000000000004,"d":"0"}},{"$f":"'Survivalexp RAW October 2017'!AK121","v":0},{"$f":"'Survivalexp RAW October 2017'!AR121","v":0},{"$f":"'Survivalexp RAW October 2017'!AY121","v":0},{"$f":"'Survivalexp RAW October 2017'!BF121","v":0},null,null,{"$f":"'Survivalexp RAW October 2017'!I170","v":{"v":7.066666666666667,"d":"7"}},{"$f":"'Survivalexp RAW October 2017'!P170","v":{"v":0.5333333333333333,"d":"1"}},{"$f":"'Survivalexp RAW October 2017'!W170","v":{"v":0.06666666666666667,"d":"0"}},{"$f":"'Survivalexp RAW October 2017'!AD170","v":0},{"$f":"'Survivalexp RAW October 2017'!AK170","v":0},{"$f":"'Survivalexp RAW October 2017'!AR170","v":0},{"$f":"'Survivalexp RAW October 2017'!AY170","v":0},{"$f":"'Survivalexp RAW October 2017'!BF170","v":0},null,null,{"$f":"'Survivalexp RAW October 2017'!I219","v":{"v":0.4000000000000001,"d":"0"}},{"$f":"'Survivalexp RAW October 2017'!P219","v":0},{"$f":"'Survivalexp RAW October 2017'!W219","v":0},{"$f":"'Survivalexp RAW October 2017'!AD219","v":0},{"$f":"'Survivalexp RAW October 2017'!AK219","v":0},{"$f":"'Survivalexp RAW October 2017'!AR219","v":0},{"$f":"'Survivalexp RAW October 2017'!AY219","v":0},{"$f":"'Survivalexp RAW October 2017'!BF219","v":0}]
[null,null,"stdev",{"$f":"'Survivalexp RAW October 2017'!I24","v":{"$error":"#DIV/0!"}},{"$f":"'Survivalexp RAW October 2017'!P24","v":{"$error":"#DIV/0!"}},{"$f":"'Survivalexp RAW October 2017'!W24","v":{"$error":"#DIV/0!"}},{"$f":"'Survivalexp RAW October 2017'!AD24","v":{"$error":"#DIV/0!"}},{"$f":"'Survivalexp RAW October 2017'!AK24","v":{"$error":"#DIV/0!"}},{"$f":"'Survivalexp RAW October 2017'!AR24","v":{"v":9.297454988459956,"d":"9"}},{"$f":"'Survivalexp RAW October 2017'!AY24","v":{"v":2.120533648568109,"d":"2"}},{"$f":"'Survivalexp RAW October 2017'!BF24","v":{"v":0.4472135954999579,"d":"0"}},null,null,{"$f":"'Survivalexp RAW October 2017'!I73","v":{"$error":"#DIV/0!"}},{"$f":"'Survivalexp RAW October 2017'!P73","v":{"$error":"#DIV/0!"}},{"$f":"'Survivalexp RAW October 2017'!W73","v":{"v":21.67153668251738,"d":"22"}},{"$f":"'Survivalexp RAW October 2017'!AD73","v":{"v":7.59471919113046,"d":"8"}},{"$f":"'Survivalexp RAW October 2017'!AK73","v":{"v":2.6255144085339075,"d":"3"}},{"$f":"'Survivalexp RAW October 2017'!AR73","v":{"v":0.4472135954999579,"d":"0"}},{"$f":"'Survivalexp RAW October 2017'!AY73","v":0},{"$f":"'Survivalexp RAW October 2017'!AU73","v":0},null,null,{"$f":"'Survivalexp RAW October 2017'!I122","v":{"$error":"#DIV/0!"}},{"$f":"'Survivalexp RAW October 2017'!P122","v":{"v":13.870293813262228,"d":"14"}},{"$f":"'Survivalexp RAW October 2017'!W122","v":{"v":2.8842994970101636,"d":"3"}},{"$f":"'Survivalexp RAW October 2017'!AD122","v":{"v":0.994936153005124,"d":"1"}},{"$f":"'Survivalexp RAW October 2017'!AK122","v":0},{"$f":"'Survivalexp RAW October 2017'!AR122","v":0},{"$f":"'Survivalexp RAW October 2017'!AY122","v":0},{"$f":"'Survivalexp RAW October 2017'!BF122","v":0},null,null,{"$f":"'Survivalexp RAW October 2017'!I171","v":{"v":7.189256175636058,"d":"7"}},{"$f":"'Survivalexp RAW October 2017'!P171","v":{"v":2.1982676720404455,"d":"2"}},{"$f":"'Survivalexp RAW October 2017'!W171","v":{"v":0.4472135954999579,"d":"0"}},{"$f":"'Survivalexp RAW October 2017'!AD171","v":0},{"$f":"'Survivalexp RAW October 2017'!AK171","v":0},{"$f":"'Survivalexp RAW October 2017'!AR171","v":0},{"$f":"'Survivalexp RAW October 2017'!AY171","v":0},{"$f":"'Survivalexp RAW October 2017'!BF171","v":0},null,null,{"$f":"'Survivalexp RAW October 2017'!I220","v":{"v":1.54265871051029,"d":"2"}},{"$f":"'Survivalexp RAW October 2017'!P220","v":0},{"$f":"'Survivalexp RAW October 2017'!W220","v":0},{"$f":"'Survivalexp RAW October 2017'!AD220","v":0},{"$f":"'Survivalexp RAW October 2017'!AK220","v":0},{"$f":"'Survivalexp RAW October 2017'!AR220","v":0},{"$f":"'Survivalexp RAW October 2017'!AY220","v":0},{"$f":"'Survivalexp RAW October 2017'!BF220","v":0}]
[null,"est. nr of bacteria",null,{"$f":"D17/$D$8","v":{"$error":"#DIV/0!"}},{"$f":"E17/$E$8","v":{"$error":"#DIV/0!"}},{"$f":"F17/$F$8","v":{"$error":"#DIV/0!"}},{"$f":"G17/$G$8","v":{"$error":"#DIV/0!"}},{"$f":"H17/$H$8","v":{"$error":"#DIV/0!"}},{"$f":"I17/$I$8","v":{"v":736666.6666666666,"d":"7E+05"}},{"$f":"J17/$J$8","v":600000},{"$f":"K17/$K$8","v":666666.6666666667},{"$f":"I19","v":{"v":736666.6666666666,"d":"7E+05"}},{"$f":"I20","v":{"v":929745.4988459955,"d":"9E+05"}},{"$f":"N17/$D$8","v":{"$error":"#DIV/0!"}},{"$f":"O17/$E$8","v":{"$error":"#DIV/0!"}},{"$f":"P17/$F$8","v":6706.666666666666},{"$f":"Q17/$G$8","v":11066.666666666668},{"$f":"R17/$H$8","v":15333.333333333334},{"$f":"S17/$I$8","v":6666.666666666666},{"$f":"T17/$J$8","v":0},{"$f":"U17/$K$8","v":0},{"$f":"P19","v":6706.666666666666},{"$f":"P20","v":2167.153668251738},{"$f":"X17/$D$8","v":{"$error":"#DIV/0!"}},{"$f":"Y17/$E$8","v":140},{"$f":"Z17/$F$8","v":140},{"$f":"AA17/$G$8","v":200.00000000000003},{"$f":"AB17/$H$8","v":0},{"$f":"AC17/$I$8","v":0},{"$f":"AD17/$J$8","v":0},{"$f":"AE17/$K$8","v":0},{"$f":"Y19","v":140},{"$f":"Y20","v":138.70293813262228},{"$f":"AH17/$D$8","v":7.066666666666667},{"$f":"AI17/$E$8","v":5.333333333333333},{"$f":"AJ17/$F$8","v":6.666666666666666},{"$f":"AK17/$G$8","v":0},{"$f":"AL17/$H$8","v":0},{"$f":"AM17/$I$8","v":0},{"$f":"AN17/$J$8","v":0},{"$f":"AO17/$K$8","v":0},{"$f":"AH19","v":7.066666666666667},{"$f":"AH20","v":7.189256175636058},{"$f":"AR17/$D$8","v":0.4000000000000001},{"$f":"AS17/$E$8","v":0},{"$f":"AT17/$F$8","v":0},{"$f":"AU17/$G$8","v":0},{"$f":"AV17/$H$8","v":0},{"$f":"AW17/$I$8","v":0},{"$f":"AX17/$J$8","v":0},{"$f":"AY17/$K$8","v":0},{"$f":"AR19","v":0.4000000000000001},{"$f":"AR20","v":1.54265871051029}]
[null,null,"stdev",{"$f":"D18/$D$8","v":{"$error":"#DIV/0!"}},{"$f":"E18/$E$8","v":{"$error":"#DIV/0!"}},{"$f":"F18/$F$8","v":{"$error":"#DIV/0!"}},{"$f":"G18/$G$8","v":{"$error":"#DIV/0!"}},{"$f":"H18/$H$8","v":{"$error":"#DIV/0!"}},{"$f":"I18/$I$8","v":{"v":929745.4988459955,"d":"9E+05"}},{"$f":"J18/$J$8","v":{"v":2120533.648568109,"d":"2E+06"}},{"$f":"K18/$K$8","v":{"v":4472135.954999579,"d":"4.47E+06"}},null,null,{"$f":"N18/$D$8","v":{"$error":"#DIV/0!"}},{"$f":"O18/$E$8","v":{"$error":"#DIV/0!"}},{"$f":"P18/$F$8","v":2167.153668251738},{"$f":"Q18/$G$8","v":7594.71919113046},{"$f":"R18/$H$8","v":26255.144085339074},{"$f":"S18/$I$8","v":44721.35954999579},{"$f":"T18/$J$8","v":0},{"$f":"U18/$K$8","v":0},null,null,{"$f":"X18/$D$8","v":{"$error":"#DIV/0!"}},{"$f":"Y18/$E$8","v":138.70293813262228},{"$f":"Z18/$F$8","v":288.42994970101637},{"$f":"AA18/$G$8","v":994.936153005124},{"$f":"AB18/$H$8","v":0},{"$f":"AC18/$I$8","v":0},{"$f":"AD18/$J$8","v":0},{"$f":"AE18/$K$8","v":0},null,null,{"$f":"AH18/$D$8","v":7.189256175636058},{"$f":"AI18/$E$8","v":21.982676720404452},{"$f":"AJ18/$F$8","v":44.72135954999579},{"$f":"AK18/$G$8","v":0},{"$f":"AL18/$H$8","v":0},{"$f":"AM18/$I$8","v":0},{"$f":"AN18/$J$8","v":0},{"$f":"AO18/$K$8","v":0},null,null,{"$f":"AR18/$D$8","v":1.54265871051029},{"$f":"AS18/$E$8","v":0},{"$f":"AT18/$F$8","v":0},{"$f":"AU18/$G$8","v":0},{"$f":"AV18/$H$8","v":0},{"$f":"AW18/$I$8","v":0},{"$f":"AX18/$J$8","v":0},{"$f":"AY18/$K$8","v":0}]
[null,"2213F - ","p+0",{"$f":"'Survivalexp RAW October 2017'!I28","v":{"$error":"#DIV/0!"}},{"$f":"'Survivalexp RAW October 2017'!P28","v":{"$error":"#DIV/0!"}},{"$f":"'Survivalexp RAW October 2017'!W28","v":{"$error":"#DIV/0!"}},{"$f":"'Survivalexp RAW October 2017'!AD28","v":{"$error":"#DIV/0!"}},{"$f":"'Survivalexp RAW October 2017'!AK28","v":{"v":50.79999999999999,"d":"51"}},{"$f":"'Survivalexp RAW October 2017'!AR28","v":{"v":9.066666666666666,"d":"9"}},{"$f":"'Survivalexp RAW October 2017'!AY28","v":{"v":1.8,"d":"2"}},{"$f":"'Survivalexp RAW October 2017'!BF28","v":{"v":0.20000000000000004,"d":"0"}},null,null,{"$f":"'Survivalexp RAW October 2017'!I77","v":{"$error":"#DIV/0!"}},{"$f":"'Survivalexp RAW October 2017'!P77","v":{"$error":"#DIV/0!"}},{"$f":"'Survivalexp RAW October 2017'!W77","v":{"v":61.199999999999996,"d":"61"}},{"$f":"'Survivalexp RAW October 2017'!AD77","v":{"v":9.200000000000001,"d":"9"}},{"$f":"'Survivalexp RAW October 2017'!AK77","v":{"v":1.0666666666666667,"d":"1"}},{"$f":"'Survivalexp RAW October 2017'!AR77","v":0},{"$f":"'Survivalexp RAW October 2017'!AY77","v":0},{"$f":"'Survivalexp RAW October 2017'!BF77","v":0},null,null,{"$f":"'Survivalexp RAW October 2017'!I126","v":{"$error":"#DIV/0!"}},{"$f":"'Survivalexp RAW October 2017'!P126","v":{"v":45.2,"d":"45"}},{"$f":"'Survivalexp RAW October 2017'!W126","v":{"v":5.4,"d":"5"}},{"$f":"'Survivalexp RAW October 2017'!AD126","v":{"v":0.4,"d":"0"}},{"$f":"'Survivalexp RAW October 2017'!AK126","v":0},{"$f":"'Survivalexp RAW October 2017'!AR126","v":0},{"$f":"'Survivalexp RAW October 2017'!AY126","v":0},{"$f":"'Survivalexp RAW October 2017'!BF126","v":0},null,null,{"$f":"'Survivalexp RAW October 2017'!I175","v":{"v":33.9,"d":"34"}},{"$f":"'Survivalexp RAW October 2017'!P175","v":0},{"$f":"'Survivalexp RAW October 2017'!W175","v":0},{"$f":"'Survivalexp RAW October 2017'!AD175","v":0},{"$f":"'Survivalexp RAW October 2017'!AK175","v":0},{"$f":"'Survivalexp RAW October 2017'!AR175","v":0},{"$f":"'Survivalexp RAW October 2017'!AY175","v":0},{"$f":"'Survivalexp RAW October 2017'!BF175","v":0},null,null,{"$f":"'Survivalexp RAW October 2017'!I224","v":{"v":7.2,"d":"7"}},{"$f":"'Survivalexp RAW October 2017'!P224","v":{"v":0.6,"d":"1"}},{"$f":"'Survivalexp RAW October 2017'!W224","v":{"v":0.2,"d":"0"}},{"$f":"'Survivalexp RAW October 2017'!AD224","v":0},{"$f":"'Survivalexp RAW October 2017'!AK224","v":0},{"$f":"'Survivalexp RAW October 2017'!AR224","v":0},{"$f":"'Survivalexp RAW October 2017'!AY224","v":0},{"$f":"'Survivalexp RAW October 2017'!BF224","v":0}]
[null,null,"stdev",{"$f":"'Survivalexp RAW October 2017'!I29","v":{"$error":"#DIV/0!"}},{"$f":"'Survivalexp RAW October 2017'!P29","v":{"$error":"#DIV/0!"}},{"$f":"'Survivalexp RAW October 2017'!W29","v":{"$error":"#DIV/0!"}},{"$f":"'Survivalexp RAW October 2017'!AD29","v":{"$error":"#DIV/0!"}},{"$f":"'Survivalexp RAW October 2017'!AK29","v":{"v":20.807564201562744,"d":"21"}},{"$f":"'Survivalexp RAW October 2017'!AR29","v":{"v":11.20064869369768,"d":"11"}},{"$f":"'Survivalexp RAW October 2017'!AY29","v":{"v":5.123010790067838,"d":"5"}},{"$f":"'Survivalexp RAW October 2017'!BF29","v":{"v":0.994936153005124,"d":"1"}},null,null,{"$f":"'Survivalexp RAW October 2017'!I78","v":{"$error":"#DIV/0!"}},{"$f":"'Survivalexp RAW October 2017'!P78","v":{"$error":"#DIV/0!"}},{"$f":"'Survivalexp RAW October 2017'!W78","v":{"v":15.217027872634592,"d":"15"}},{"$f":"'Survivalexp RAW October 2017'!AD78","v":{"v":10.177365275457724,"d":"10"}},{"$f":"'Survivalexp RAW October 2017'!AK78","v":{"v":3.1181090609967734,"d":"3"}},{"$f":"'Survivalexp RAW October 2017'!AR78","v":0},{"$f":"'Survivalexp RAW October 2017'!AY78","v":0},{"$f":"'Survivalexp RAW October 2017'!BF78","v":0},null,null,{"$f":"'Survivalexp RAW October 2017'!I127","v":{"$error":"#DIV/0!"}},{"$f":"'Survivalexp RAW October 2017'!P127","v":{"v":10.268511949619352,"d":"10"}},{"$f":"'Survivalexp RAW October 2017'!W127","v":{"v":7.333830545387119,"d":"7"}},{"$f":"'Survivalexp RAW October 2017'!AD127","v":{"v":1.442149748505082,"d":"1"}},{"$f":"'Survivalexp RAW October 2017'!AK127","v":0},{"$f":"'Survivalexp RAW October 2017'!AR127","v":0},{"$f":"'Survivalexp RAW October 2017'!AY127","v":0},{"$f":"'Survivalexp RAW October 2017'!BF127","v":0},null,null,{"$f":"'Survivalexp RAW October 2017'!I176","v":{"v":9.243079776896627,"d":"9"}},{"$f":"'Survivalexp RAW October 2017'!P176","v":0},{"$f":"'Survivalexp RAW October 2017'!W176","v":0},{"$f":"'Survivalexp RAW October 2017'!AD176","v":0},{"$f":"'Survivalexp RAW October 2017'!AK176","v":0},{"$f":"'Survivalexp RAW October 2017'!AR176","v":0},{"$f":"'Survivalexp RAW October 2017'!AY176","v":0},{"$f":"'Survivalexp RAW October 2017'!BF176","v":0},null,null,{"$f":"'Survivalexp RAW October 2017'!I225","v":{"v":1.3416407864998738,"d":"1"}},{"$f":"'Survivalexp RAW October 2017'!P225","v":{"v":1.6431676725154984,"d":"2"}},{"$f":"'Survivalexp RAW October 2017'!W225","v":{"v":0.5477225575051661,"d":"1"}},{"$f":"'Survivalexp RAW October 2017'!AD225","v":0},{"$f":"'Survivalexp RAW October 2017'!AK225","v":0},{"$f":"'Survivalexp RAW October 2017'!AR225","v":0},{"$f":"'Survivalexp RAW October 2017'!AY225","v":0},{"$f":"'Survivalexp RAW October 2017'!BF225","v":0}]
[null,"est. nr of bacteria",null,{"$f":"D21/$D$8","v":{"$error":"#DIV/0!"}},{"$f":"E21/$E$8","v":{"$error":"#DIV/0!"}},{"$f":"F21/$F$8","v":{"$error":"#DIV/0!"}},{"$f":"G21/$G$8","v":{"$error":"#DIV/0!"}},{"$f":"H21/$H$8","v":507999.9999999999},{"$f":"I21/$I$8","v":906666.6666666665},{"$f":"J21/$J$8","v":1800000.0000000002},{"$f":"K21/$K$8","v":2000000.0000000005},{"$f":"H23","v":507999.9999999999},{"$f":"H24","v":208075.64201562744},{"$f":"N21/$D$8","v":{"$error":"#DIV/0!"}},{"$f":"O21/$E$8","v":{"$error":"#DIV/0!"}},{"$f":"P21/$F$8","v":6119.999999999999},{"$f":"Q21/$G$8","v":9200},{"$f":"R21/$H$8","v":10666.666666666666},{"$f":"S21/$I$8","v":0},{"$f":"T21/$J$8","v":0},{"$f":"U21/$K$8","v":0},{"$f":"AVERAGE(P23)","v":6119.999999999999},{"$f":"P24","v":1521.7027872634592},{"$f":"X21/$D$8","v":{"$error":"#DIV/0!"}},{"$f":"Y21/$E$8","v":452},{"$f":"Z21/$F$8","v":540},{"$f":"AA21/$G$8","v":400},{"$f":"AB21/$H$8","v":0},{"$f":"AC21/$I$8","v":0},{"$f":"AD21/$J$8","v":0},{"$f":"AE21/$K$8","v":0},{"$f":"Y23","v":452},{"$f":"Y24","v":102.68511949619352},{"$f":"AH21/$D$8","v":33.9},{"$f":"AI21/$E$8","v":0},{"$f":"AJ21/$F$8","v":0},{"$f":"AK21/$G$8","v":0},{"$f":"AL21/$H$8","v":0},{"$f":"AM21/$I$8","v":0},{"$f":"AN21/$J$8","v":0},{"$f":"AO21/$K$8","v":0},{"$f":"AH23","v":33.9},{"$f":"AH24","v":9.243079776896627},{"$f":"AR21/$D$8","v":7.2},{"$f":"AS21/$E$8","v":5.999999999999999},{"$f":"AT21/$F$8","v":20},{"$f":"AU21/$G$8","v":0},{"$f":"AV21/$H$8","v":0},{"$f":"AW21/$I$8","v":0},{"$f":"AX21/$J$8","v":0},{"$f":"AY21/$K$8","v":0},{"$f":"AR23","v":7.2},{"$f":"AR24","v":1.3416407864998738}]
[null,null,"stdev",{"$f":"D22/$D$8","v":{"$error":"#DIV/0!"}},{"$f":"E22/$E$8","v":{"$error":"#DIV/0!"}},{"$f":"F22/$F$8","v":{"$error":"#DIV/0!"}},{"$f":"G22/$G$8","v":{"$error":"#DIV/0!"}},{"$f":"H22/$H$8","v":208075.64201562744},{"$f":"I22/$I$8","v":1120064.8693697678},5123010.790067838,{"$f":"K22/$K$8","v":9949361.53005124},null,null,{"$f":"N22/$D$8","v":{"$error":"#DIV/0!"}},{"$f":"O22/$E$8","v":{"$error":"#DIV/0!"}},{"$f":"P22/$F$8","v":1521.7027872634592},{"$f":"Q22/$G$8","v":10177.365275457723},{"$f":"R22/$H$8","v":31181.090609967734},{"$f":"S22/$I$8","v":0},0,{"$f":"U22/$K$8","v":0},null,null,{"$f":"X22/$D$8","v":{"$error":"#DIV/0!"}},{"$f":"Y22/$E$8","v":102.68511949619352},{"$f":"Z22/$F$8","v":733.3830545387119},{"$f":"AA22/$G$8","v":1442.149748505082},{"$f":"AB22/$H$8","v":0},{"$f":"AC22/$I$8","v":0},0,{"$f":"AE22/$K$8","v":0},null,null,{"$f":"AH22/$D$8","v":9.243079776896627},{"$f":"AI22/$E$8","v":0},{"$f":"AJ22/$F$8","v":0},{"$f":"AK22/$G$8","v":0},{"$f":"AL22/$H$8","v":0},{"$f":"AM22/$I$8","v":0},0,{"$f":"AO22/$K$8","v":0},null,null,{"$f":"AR22/$D$8","v":1.3416407864998738},{"$f":"AS22/$E$8","v":16.431676725154983},{"$f":"AT22/$F$8","v":54.77225575051661},{"$f":"AU22/$G$8","v":0},{"$f":"AV22/$H$8","v":0},{"$f":"AW22/$I$8","v":0},0,{"$f":"AY22/$K$8","v":0}]
[null,null,"p+3",{"$f":"'Survivalexp RAW October 2017'!I33","v":{"$error":"#DIV/0!"}},{"$f":"'Survivalexp RAW October 2017'!P33","v":{"$error":"#DIV/0!"}},{"$f":"'Survivalexp RAW October 2017'!W33","v":{"$error":"#DIV/0!"}},{"$f":"'Survivalexp RAW October 2017'!AD33","v":{"$error":"#DIV/0!"}},{"$f":"'Survivalexp RAW October 2017'!AK33","v":{"v":13.000000000000002,"d":"13"}},{"$f":"'Survivalexp RAW October 2017'!AR33","v":{"v":1.8,"d":"2"}},{"$f":"'Survivalexp RAW October 2017'!AY33","v":0},{"$f":"'Survivalexp RAW October 2017'!BF33","v":0},null,null,{"$f":"'Survivalexp RAW October 2017'!I82","v":{"$error":"#DIV/0!"}},{"$f":"'Survivalexp RAW October 2017'!P82","v":{"$error":"#DIV/0!"}},{"$f":"'Survivalexp RAW October 2017'!W82","v":{"v":28.666666666666668,"d":"29"}},{"$f":"'Survivalexp RAW October 2017'!AD82","v":{"v":4.066666666666666,"d":"4"}},{"$f":"'Survivalexp RAW October 2017'!AK82","v":{"v":0.7333333333333334,"d":"1"}},{"$f":"'Survivalexp RAW October 2017'!AR82","v":0},{"$f":"'Survivalexp RAW October 2017'!AY82","v":0},{"$f":"'Survivalexp RAW October 2017'!BF82","v":0},null,null,{"$f":"'Survivalexp RAW October 2017'!I131","v":{"v":31.733333333333334,"d":"32"}},{"$f":"'Survivalexp RAW October 2017'!P131","v":{"v":2.9333333333333336,"d":"3"}},{"$f":"'Survivalexp RAW October 2017'!W131","v":{"v":0.6666666666666666,"d":"1"}},{"$f":"'Survivalexp RAW October 2017'!AD131","v":0},{"$f":"'Survivalexp RAW October 2017'!AK131","v":0},{"$f":"'Survivalexp RAW October 2017'!AR131","v":0},{"$f":"'Survivalexp RAW October 2017'!AY131","v":0},{"$f":"'Survivalexp RAW October 2017'!BF131","v":0},null,null,{"$f":"'Survivalexp RAW October 2017'!I180","v":{"v":16.133333333333333,"d":"16"}},{"$f":"'Survivalexp RAW October 2017'!P180","v":{"v":1.4000000000000001,"d":"1"}},{"$f":"'Survivalexp RAW October 2017'!W180","v":{"v":0.06666666666666667,"d":"0"}},{"$f":"'Survivalexp RAW October 2017'!AD180","v":0},{"$f":"'Survivalexp RAW October 2017'!AK180","v":0},{"$f":"'Survivalexp RAW October 2017'!AR180","v":0},{"$f":"'Survivalexp RAW October 2017'!AY180","v":0},{"$f":"'Survivalexp RAW October 2017'!BF180","v":0},null,null,{"$f":"'Survivalexp RAW October 2017'!I229","v":{"v":0.6666666666666666,"d":"1"}},{"$f":"'Survivalexp RAW October 2017'!P229","v":{"v":0.06666666666666667,"d":"0"}},{"$f":"'Survivalexp RAW October 2017'!W229","v":0},{"$f":"'Survivalexp RAW October 2017'!AD229","v":0},{"$f":"'Survivalexp RAW October 2017'!AK229","v":0},{"$f":"'Survivalexp RAW October 2017'!AR229","v":0},{"$f":"'Survivalexp RAW October 2017'!AY229","v":0},{"$f":"'Survivalexp RAW October 2017'!BF229","v":0}]
[null,null,"stdev",{"$f":"'Survivalexp RAW October 2017'!I34","v":{"$error":"#DIV/0!"}},{"$f":"'Survivalexp RAW October 2017'!P34","v":{"$error":"#DIV/0!"}},{"$f":"'Survivalexp RAW October 2017'!W34","v":{"$error":"#DIV/0!"}},{"$f":"'Survivalexp RAW October 2017'!AD34","v":{"$error":"#DIV/0!"}},{"$f":"'Survivalexp RAW October 2017'!AK34","v":{"v":8.001514113418246,"d":"8"}},{"$f":"'Survivalexp RAW October 2017'!AR34","v":{"v":3.1039641094094064,"d":"3"}},{"$f":"'Survivalexp RAW October 2017'!AY34","v":0},{"$f":"'Survivalexp RAW October 2017'!BF34","v":0},null,null,{"$f":"'Survivalexp RAW October 2017'!I83","v":{"$error":"#DIV/0!"}},{"$f":"'Survivalexp RAW October 2017'!P83","v":{"$error":"#DIV/0!"}},{"$f":"'Survivalexp RAW October 2017'!W83","v":{"v":11.766372154132267,"d":"12"}},{"$f":"'Survivalexp RAW October 2017'!AD83","v":{"v":6.209176093405684,"d":"6"}},{"$f":"'Survivalexp RAW October 2017'!AK83","v":{"v":2.120533648568109,"d":"2"}},{"$f":"'Survivalexp RAW October 2017'!AR83","v":0},{"$f":"'Survivalexp RAW October 2017'!AY83","v":0},{"$f":"'Survivalexp RAW October 2017'!BF83","v":0},null,null,{"$f":"'Survivalexp RAW October 2017'!I132","v":{"v":22.034199545175298,"d":"22"}},{"$f":"'Survivalexp RAW October 2017'!P132","v":{"v":4.45407096958747,"d":"4"}},{"$f":"'Survivalexp RAW October 2017'!W132","v":{"v":2.178300813033949,"d":"2"}},{"$f":"'Survivalexp RAW October 2017'!AD132","v":0},{"$f":"'Survivalexp RAW October 2017'!AK132","v":0},{"$f":"'Survivalexp RAW October 2017'!AR132","v":0},{"$f":"'Survivalexp RAW October 2017'!AY132","v":0},{"$f":"'Survivalexp RAW October 2017'!BF132","v":0},null,null,{"$f":"'Survivalexp RAW October 2017'!I181","v":{"v":7.197632364403619,"d":"7"}},{"$f":"'Survivalexp RAW October 2017'!P181","v":{"v":4.980990539340426,"d":"5"}},{"$f":"'Survivalexp RAW October 2017'!W181","v":{"v":0.4472135954999579,"d":"0"}},{"$f":"'Survivalexp RAW October 2017'!AD181","v":0},{"$f":"'Survivalexp RAW October 2017'!AK181","v":0},{"$f":"'Survivalexp RAW October 2017'!AR181","v":0},{"$f":"'Survivalexp RAW October 2017'!AY181","v":0},{"$f":"'Survivalexp RAW October 2017'!BF181","v":0},null,null,{"$f":"'Survivalexp RAW October 2017'!I230","v":{"v":1.8708286933869707,"d":"2"}},{"$f":"'Survivalexp RAW October 2017'!P230","v":{"v":0.4472135954999579,"d":"0"}},{"$f":"'Survivalexp RAW October 2017'!W230","v":0},{"$f":"'Survivalexp RAW October 2017'!AD230","v":0},{"$f":"'Survivalexp RAW October 2017'!AK230","v":0},{"$f":"'Survivalexp RAW October 2017'!AR230","v":0},{"$f":"'Survivalexp RAW October 2017'!AY230","v":0},{"$f":"'Survivalexp RAW October 2017'!BF230","v":0}]
[null,"est. nr of bacteria",null,{"$f":"D25/$D$8","v":{"$error":"#DIV/0!"}},{"$f":"E25/$E$8","v":{"$error":"#DIV/0!"}},{"$f":"F25/$F$8","v":{"$error":"#DIV/0!"}},{"$f":"G25/$G$8","v":{"$error":"#DIV/0!"}},{"$f":"H25/$H$8","v":130000.00000000001},{"$f":"I25/$I$8","v":180000},0,{"$f":"K25/$K$8","v":0},{"$f":"H27","v":130000.00000000001},{"$f":"H28","v":80015.14113418246},{"$f":"N25/$D$8","v":{"$error":"#DIV/0!"}},{"$f":"O25/$E$8","v":{"$error":"#DIV/0!"}},{"$f":"P25/$F$8","v":2866.6666666666665},{"$f":"Q25/$G$8","v":4066.6666666666665},{"$f":"R25/$H$8","v":7333.333333333334},{"$f":"S25/$I$8","v":0},0,{"$f":"U25/$K$8","v":0},{"$f":"P27","v":2866.6666666666665},{"$f":"P28","v":1176.6372154132266},{"$f":"X25/$D$8","v":31.733333333333334},{"$f":"Y25/$E$8","v":29.333333333333336},{"$f":"Z25/$F$8","v":66.66666666666666},{"$f":"AA25/$G$8","v":0},{"$f":"AB25/$H$8","v":0},{"$f":"AC25/$I$8","v":0},0,{"$f":"AE25/$K$8","v":0},{"$f":"X27","v":31.733333333333334},{"$f":"X28","v":22.034199545175298},{"$f":"AH25/$D$8","v":16.133333333333333},{"$f":"AI25/$E$8","v":14},{"$f":"AJ25/$F$8","v":6.666666666666666},{"$f":"AK25/$G$8","v":0},{"$f":"AL25/$H$8","v":0},{"$f":"AM25/$I$8","v":0},0,{"$f":"AO25/$K$8","v":0},{"$f":"AH27","v":16.133333333333333},{"$f":"AH28","v":7.197632364403619},{"$f":"AR25/$D$8","v":0.6666666666666666},{"$f":"AS25/$E$8","v":0.6666666666666666},{"$f":"AT25/$F$8","v":0},{"$f":"AU25/$G$8","v":0},{"$f":"AV25/$H$8","v":0},{"$f":"AW25/$I$8","v":0},0,{"$f":"AY25/$K$8","v":0},{"$f":"AR27","v":0.6666666666666666},{"$f":"AR28","v":1.8708286933869707}]
[null,null,"stdev",{"$f":"D26/$D$8","v":{"$error":"#DIV/0!"}},{"$f":"E26/$E$8","v":{"$error":"#DIV/0!"}},{"$f":"F26/$F$8","v":{"$error":"#DIV/0!"}},{"$f":"G26/$G$8","v":{"$error":"#DIV/0!"}},{"$f":"H26/$H$8","v":80015.14113418246},{"$f":"I26/$I$8","v":310396.4109409406},0,{"$f":"K26/$K$8","v":0},null,null,{"$f":"N26/$D$8","v":{"$error":"#DIV/0!"}},{"$f":"O26/$E$8","v":{"$error":"#DIV/0!"}},{"$f":"P26/$F$8","v":1176.6372154132266},{"$f":"Q26/$G$8","v":6209.176093405684},{"$f":"R26/$H$8","v":21205.336485681088},{"$f":"S26/$I$8","v":0},0,{"$f":"U26/$K$8","v":0},null,null,{"$f":"X26/$D$8","v":22.034199545175298},{"$f":"Y26/$E$8","v":44.540709695874696},{"$f":"Z26/$F$8","v":217.8300813033949},{"$f":"AA26/$G$8","v":0},{"$f":"AB26/$H$8","v":0},{"$f":"AC26/$I$8","v":0},0,{"$f":"AE26/$K$8","v":0},null,null,{"$f":"AH26/$D$8","v":7.197632364403619},{"$f":"AI26/$E$8","v":49.80990539340426},{"$f":"AJ26/$F$8","v":44.72135954999579},{"$f":"AK26/$G$8","v":0},{"$f":"AL26/$H$8","v":0},{"$f":"AM26/$I$8","v":0},0,{"$f":"AO26/$K$8","v":0},null,null,{"$f":"AR26/$D$8","v":1.8708286933869707},{"$f":"AS26/$E$8","v":4.472135954999579},{"$f":"AT26/$F$8","v":0},{"$f":"AU26/$G$8","v":0},{"$f":"AV26/$H$8","v":0},{"$f":"AW26/$I$8","v":0},0,{"$f":"AY26/$K$8","v":0}]
[null,"2213F A","p+0",{"$f":"'Survivalexp RAW October 2017'!I38","v":{"$error":"#DIV/0!"}},{"$f":"'Survivalexp RAW October 2017'!P38","v":{"$error":"#DIV/0!"}},{"$f":"'Survivalexp RAW October 2017'!W38","v":{"$error":"#DIV/0!"}},{"$f":"'Survivalexp RAW October 2017'!AD38","v":{"v":52.06666666666666,"d":"52"}},{"$f":"'Survivalexp RAW October 2017'!AK38","v":{"v":7.333333333333333,"d":"7"}},{"$f":"'Survivalexp RAW October 2017'!AR38","v":{"v":2.2666666666666666,"d":"2"}},{"$f":"'Survivalexp RAW October 2017'!AY38","v":0},{"$f":"'Survivalexp RAW October 2017'!BF38","v":0},null,null,{"$f":"'Survivalexp RAW October 2017'!I87","v":{"$error":"#DIV/0!"}},{"$f":"'Survivalexp RAW October 2017'!P87","v":{"v":50.46666666666667,"d":"50"}},{"$f":"'Survivalexp RAW October 2017'!W87","v":{"v":5.2,"d":"5"}},{"$f":"'Survivalexp RAW October 2017'!AD87","v":{"v":0.39999999999999997,"d":"0"}},{"$f":"'Survivalexp RAW October 2017'!AK87","v":0},{"$f":"'Survivalexp RAW October 2017'!AR87","v":0},{"$f":"'Survivalexp RAW October 2017'!AY87","v":0},{"$f":"'Survivalexp RAW October 2017'!BF87","v":0},null,null,{"$f":"'Survivalexp RAW October 2017'!I136","v":{"v":17.133333333333333,"d":"17"}},{"$f":"'Survivalexp RAW October 2017'!P136","v":{"v":1.7333333333333332,"d":"2"}},{"$f":"'Survivalexp RAW October 2017'!W136","v":{"v":0.13333333333333333,"d":"0"}},{"$f":"'Survivalexp RAW October 2017'!AD136","v":{"v":0.06666666666666667,"d":"0"}},{"$f":"'Survivalexp RAW October 2017'!AK136","v":0},{"$f":"'Survivalexp RAW October 2017'!AR136","v":0},{"$f":"'Survivalexp RAW October 2017'!AY136","v":0},{"$f":"'Survivalexp RAW October 2017'!BF136","v":0},null,null,{"$f":"'Survivalexp RAW October 2017'!I185","v":{"v":1.0666666666666667,"d":"1"}},{"$f":"'Survivalexp RAW October 2017'!P185","v":{"v":0.3333333333333333,"d":"0"}},{"$f":"'Survivalexp RAW October 2017'!W185","v":{"v":0.06666666666666667,"d":"0"}},{"$f":"'Survivalexp RAW October 2017'!AD185","v":0},{"$f":"'Survivalexp RAW October 2017'!AK185","v":0},{"$f":"'Survivalexp RAW October 2017'!AR185","v":0},{"$f":"'Survivalexp RAW October 2017'!AY185","v":0},{"$f":"'Survivalexp RAW October 2017'!BF185","v":0},null,null,{"$f":"'Survivalexp RAW October 2017'!I234","v":0},{"$f":"'Survivalexp RAW October 2017'!P234","v":0},{"$f":"'Survivalexp RAW October 2017'!W234","v":0},{"$f":"'Survivalexp RAW October 2017'!AD234","v":0},{"$f":"'Survivalexp RAW October 2017'!AK234","v":0},{"$f":"'Survivalexp RAW October 2017'!AR234","v":0},{"$f":"'Survivalexp RAW October 2017'!AY234","v":0},{"$f":"'Survivalexp RAW October 2017'!BF234","v":0}]
[null,null,"stdev",{"$f":"'Survivalexp RAW October 2017'!I39","v":{"$error":"#DIV/0!"}},{"$f":"'Survivalexp RAW October 2017'!P39","v":{"$error":"#DIV/0!"}},{"$f":"'Survivalexp RAW October 2017'!W39","v":{"$error":"#DIV/0!"}},{"$f":"'Survivalexp RAW October 2017'!AD39","v":{"v":33.28477957238392,"d":"33"}},{"$f":"'Survivalexp RAW October 2017'!AK39","v":{"v":9.167113500363154,"d":"9"}},{"$f":"'Survivalexp RAW October 2017'!AR39","v":{"v":6.402256888544698,"d":"6"}},{"$f":"'Survivalexp RAW October 2017'!AY39","v":0},{"$f":"'Survivalexp RAW October 2017'!BF39","v":0},null,null,{"$f":"'Survivalexp RAW October 2017'!I88","v":{"$error":"#DIV/0!"}},{"$f":"'Survivalexp RAW October 2017'!P88","v":{"v":66.86356876272114,"d":"67"}},{"$f":"'Survivalexp RAW October 2017'!W88","v":{"v":6.487370000160217,"d":"6"}},{"$f":"'Survivalexp RAW October 2017'!AD88","v":{"v":1.6431676725154984,"d":"2"}},{"$f":"'Survivalexp RAW October 2017'!AK88","v":0},{"$f":"'Survivalexp RAW October 2017'!AR88","v":0},{"$f":"'Survivalexp RAW October 2017'!AY88","v":0},{"$f":"'Survivalexp RAW October 2017'!BF88","v":0},null,null,{"$f":"'Survivalexp RAW October 2017'!I137","v":{"v":8.441656869917612,"d":"8"}},{"$f":"'Survivalexp RAW October 2017'!P137","v":{"v":7.155417527999327,"d":"7"}},{"$f":"'Survivalexp RAW October 2017'!W137","v":{"v":0.5477225575051661,"d":"1"}},{"$f":"'Survivalexp RAW October 2017'!AD137","v":{"v":0.4472135954999579,"d":"0"}},{"$f":"'Survivalexp RAW October 2017'!AK137","v":0},{"$f":"'Survivalexp RAW October 2017'!AR137","v":0},{"$f":"'Survivalexp RAW October 2017'!AY137","v":0},{"$f":"'Survivalexp RAW October 2017'!BF137","v":0},null,null,{"$f":"'Survivalexp RAW October 2017'!I186","v":{"v":1.9768354516332134,"d":"2"}},{"$f":"'Survivalexp RAW October 2017'!P186","v":{"v":1.442149748505082,"d":"1"}},{"$f":"'Survivalexp RAW October 2017'!W186","v":{"v":0.4472135954999579,"d":"0"}},{"$f":"'Survivalexp RAW October 2017'!AD186","v":0},{"$f":"'Survivalexp RAW October 2017'!AK186","v":0},{"$f":"'Survivalexp RAW October 2017'!AR186","v":0},{"$f":"'Survivalexp RAW October 2017'!AY186","v":0},{"$f":"'Survivalexp RAW October 2017'!BF186","v":0},null,null,{"$f":"'Survivalexp RAW October 2017'!I235","v":0},{"$f":"'Survivalexp RAW October 2017'!P235","v":0},{"$f":"'Survivalexp RAW October 2017'!W235","v":0},{"$f":"'Survivalexp RAW October 2017'!AD235","v":0},{"$f":"'Survivalexp RAW October 2017'!AK235","v":0},{"$f":"'Survivalexp RAW October 2017'!AR235","v":0},{"$f":"'Survivalexp RAW October 2017'!AY235","v":0},{"$f":"'Survivalexp RAW October 2017'!BF235","v":0}]
[null,"est. nr of bacteria",null,{"$f":"D29/$D$8","v":{"$error":"#DIV/0!"}},{"$f":"E29/$E$8","v":{"$error":"#DIV/0!"}},{"$f":"F29/$F$8","v":{"$error":"#DIV/0!"}},{"$f":"G29/$G$8","v":52066.666666666664},{"$f":"H29/$H$8","v":73333.33333333333},{"$f":"I29/$I$8","v":226666.66666666663},0,{"$f":"K29/$K$8","v":0},{"$f":"G31","v":52066.666666666664},{"$f":"G32","v":33284.779572383915},{"$f":"N29/$D$8","v":{"$error":"#DIV/0!"}},{"$f":"O29/$E$8","v":504.6666666666667},{"$f":"P29/$F$8","v":520},{"$f":"Q29/$G$8","v":399.99999999999994},{"$f":"R29/$H$8","v":0},{"$f":"S29/$I$8","v":0},0,{"$f":"U29/$K$8","v":0},{"$f":"P31","v":520},{"$f":"P32","v":648.7370000160217},{"$f":"X29/$D$8","v":17.133333333333333},{"$f":"Y29/$E$8","v":17.333333333333332},{"$f":"Z29/$F$8","v":13.333333333333332},{"$f":"AA29/$G$8","v":66.66666666666667},{"$f":"AB29/$H$8","v":0},{"$f":"AC29/$I$8","v":0},0,{"$f":"AE29/$K$8","v":0},{"$f":"X31","v":17.133333333333333},{"$f":"X32","v":8.441656869917612},{"$f":"AH29/$D$8","v":1.0666666666666667},{"$f":"AI29/$E$8","v":3.333333333333333},{"$f":"AJ29/$F$8","v":6.666666666666666},{"$f":"AK29/$G$8","v":0},{"$f":"AL29/$H$8","v":0},{"$f":"AM29/$I$8","v":0},0,{"$f":"AO29/$K$8","v":0},{"$f":"AH31","v":1.0666666666666667},{"$f":"AH32","v":1.9768354516332134},{"$f":"AR29/$D$8","v":0},{"$f":"AS29/$E$8","v":0},{"$f":"AT29/$F$8","v":0},{"$f":"AU29/$G$8","v":0},{"$f":"AV29/$H$8","v":0},{"$f":"AW29/$I$8","v":0},0,{"$f":"AY29/$K$8","v":0},{"$f":"AV31","v":0},{"$f":"AV32","v":0}]
[null,null,"stdev",{"$f":"D30/$D$8","v":{"$error":"#DIV/0!"}},{"$f":"E30/$E$8","v":{"$error":"#DIV/0!"}},{"$f":"F30/$F$8","v":{"$error":"#DIV/0!"}},{"$f":"G30/$G$8","v":33284.779572383915},{"$f":"H30/$H$8","v":91671.13500363154},{"$f":"I30/$I$8","v":640225.6888544697},0,{"$f":"K30/$K$8","v":0},null,null,{"$f":"N30/$D$8","v":{"$error":"#DIV/0!"}},{"$f":"O30/$E$8","v":668.6356876272114},{"$f":"P30/$F$8","v":648.7370000160217},{"$f":"Q30/$G$8","v":1643.1676725154985},{"$f":"R30/$H$8","v":0},{"$f":"S30/$I$8","v":0},0,{"$f":"U30/$K$8","v":0},null,null,{"$f":"X30/$D$8","v":8.441656869917612},{"$f":"Y30/$E$8","v":71.55417527999326},{"$f":"Z30/$F$8","v":54.77225575051661},{"$f":"AA30/$G$8","v":447.21359549995793},{"$f":"AB30/$H$8","v":0},{"$f":"AC30/$I$8","v":0},0,{"$f":"AE30/$K$8","v":0},null,null,{"$f":"AH30/$D$8","v":1.9768354516332134},{"$f":"AI30/$E$8","v":14.42149748505082},{"$f":"AJ30/$F$8","v":44.72135954999579},{"$f":"AK30/$G$8","v":0},{"$f":"AL30/$H$8","v":0},{"$f":"AM30/$I$8","v":0},0,{"$f":"AO30/$K$8","v":0},null,null,{"$f":"AR30/$D$8","v":0},{"$f":"AS30/$E$8","v":0},{"$f":"AT30/$F$8","v":0},{"$f":"AU30/$G$8","v":0},{"$f":"AV30/$H$8","v":0},{"$f":"AW30/$I$8","v":0},0,{"$f":"AY30/$K$8","v":0}]
[null,null,"p+3",{"$f":"'Survivalexp RAW October 2017'!I43","v":{"$error":"#DIV/0!"}},{"$f":"'Survivalexp RAW October 2017'!P43","v":{"$error":"#DIV/0!"}},{"$f":"'Survivalexp RAW October 2017'!W43","v":{"$error":"#DIV/0!"}},{"$f":"'Survivalexp RAW October 2017'!AD43","v":{"v":49.4,"d":"49"}},{"$f":"'Survivalexp RAW October 2017'!AK43","v":{"v":7.133333333333333,"d":"7"}},{"$f":"'Survivalexp RAW October 2017'!AR43","v":{"v":0.6666666666666666,"d":"1"}},{"$f":"'Survivalexp RAW October 2017'!AY43","v":0},{"$f":"'Survivalexp RAW October 2017'!BF43","v":{"v":0.4666666666666666,"d":"0"}},null,null,{"$f":"'Survivalexp RAW October 2017'!I92","v":{"$error":"#DIV/0!"}},{"$f":"'Survivalexp RAW October 2017'!P92","v":{"v":73.73333333333333,"d":"74"}},{"$f":"'Survivalexp RAW October 2017'!W92","v":{"v":9.799999999999999,"d":"10"}},{"$f":"'Survivalexp RAW October 2017'!AD92","v":{"v":1.4666666666666668,"d":"1"}},{"$f":"'Survivalexp RAW October 2017'!AK92","v":0},{"$f":"'Survivalexp RAW October 2017'!AR92","v":0},{"$f":"'Survivalexp RAW October 2017'!AY92","v":0},{"$f":"'Survivalexp RAW October 2017'!BF92","v":0},null,null,{"$f":"'Survivalexp RAW October 2017'!I141","v":{"v":33.86666666666667,"d":"34"}},{"$f":"'Survivalexp RAW October 2017'!P141","v":{"v":6.866666666666667,"d":"7"}},{"$f":"'Survivalexp RAW October 2017'!W141","v":{"v":0.7333333333333334,"d":"1"}},{"$f":"'Survivalexp RAW October 2017'!AD141","v":0},{"$f":"'Survivalexp RAW October 2017'!AK141","v":0},{"$f":"'Survivalexp RAW October 2017'!AR141","v":0},{"$f":"'Survivalexp RAW October 2017'!AY141","v":0},{"$f":"'Survivalexp RAW October 2017'!BF141","v":0},null,null,{"$f":"'Survivalexp RAW October 2017'!I190","v":{"v":2.466666666666667,"d":"2"}},{"$f":"'Survivalexp RAW October 2017'!P190","v":{"v":0.7333333333333334,"d":"1"}},{"$f":"'Survivalexp RAW October 2017'!W190","v":{"v":0.06666666666666667,"d":"0"}},{"$f":"'Survivalexp RAW October 2017'!AD190","v":0},{"$f":"'Survivalexp RAW October 2017'!AK190","v":0},{"$f":"'Survivalexp RAW October 2017'!AR190","v":0},{"$f":"'Survivalexp RAW October 2017'!AY190","v":0},{"$f":"'Survivalexp RAW October 2017'!BF190","v":0},null,null,{"$f":"'Survivalexp RAW October 2017'!I239","v":{"v":0.20000000000000004,"d":"0"}},{"$f":"'Survivalexp RAW October 2017'!P239","v":0},{"$f":"'Survivalexp RAW October 2017'!W239","v":0},{"$f":"'Survivalexp RAW October 2017'!AD239","v":0},{"$f":"'Survivalexp RAW October 2017'!AK239","v":0},{"$f":"'Survivalexp RAW October 2017'!AR239","v":0},{"$f":"'Survivalexp RAW October 2017'!AY239","v":0},{"$f":"'Survivalexp RAW October 2017'!BF239","v":0}]
[null,null,"stdev",{"$f":"'Survivalexp RAW October 2017'!I44","v":{"$error":"#DIV/0!"}},{"$f":"'Survivalexp RAW October 2017'!P44","v":{"$error":"#DIV/0!"}},{"$f":"'Survivalexp RAW October 2017'!W44","v":{"$error":"#DIV/0!"}},{"$f":"'Survivalexp RAW October 2017'!AD44","v":{"v":20.231186113828628,"d":"20"}},{"$f":"'Survivalexp RAW October 2017'!AK44","v":{"v":5.122588456495108,"d":"5"}},{"$f":"'Survivalexp RAW October 2017'!AR44","v":{"v":2.4370859015102058,"d":"2"}},{"$f":"'Survivalexp RAW October 2017'!AY44","v":0},{"$f":"'Survivalexp RAW October 2017'!BF44","v":{"v":2.23606797749979,"d":"2"}},null,null,{"$f":"'Survivalexp RAW October 2017'!I93","v":{"$error":"#DIV/0!"}},{"$f":"'Survivalexp RAW October 2017'!P93","v":{"v":15.942324047799431,"d":"16"}},{"$f":"'Survivalexp RAW October 2017'!W93","v":{"v":11.137790324479763,"d":"11"}},{"$f":"'Survivalexp RAW October 2017'!AD93","v":{"v":3.3122260476181813,"d":"3"}},{"$f":"'Survivalexp RAW October 2017'!AK93","v":0},{"$f":"'Survivalexp RAW October 2017'!AR93","v":0},{"$f":"'Survivalexp RAW October 2017'!AY93","v":0},{"$f":"'Survivalexp RAW October 2017'!BF93","v":0},null,null,{"$f":"'Survivalexp RAW October 2017'!I142","v":{"v":13.052966096138768,"d":"13"}},{"$f":"'Survivalexp RAW October 2017'!P142","v":{"v":6.645168448856185,"d":"7"}},{"$f":"'Survivalexp RAW October 2017'!W142","v":{"v":0.9949361530051242,"d":"1"}},{"$f":"'Survivalexp RAW October 2017'!AD142","v":0},{"$f":"'Survivalexp RAW October 2017'!AK142","v":0},{"$f":"'Survivalexp RAW October 2017'!AR142","v":0},{"$f":"'Survivalexp RAW October 2017'!AY142","v":0},{"$f":"'Survivalexp RAW October 2017'!BF142","v":0},null,null,{"$f":"'Survivalexp RAW October 2017'!I191","v":{"v":4.557039831042852,"d":"5"}},{"$f":"'Survivalexp RAW October 2017'!P191","v":{"v":2.745990229545612,"d":"3"}},{"$f":"'Survivalexp RAW October 2017'!W191","v":{"v":0.4472135954999579,"d":"0"}},{"$f":"'Survivalexp RAW October 2017'!AD191","v":0},{"$f":"'Survivalexp RAW October 2017'!AK191","v":0},{"$f":"'Survivalexp RAW October 2017'!AR191","v":0},{"$f":"'Survivalexp RAW October 2017'!AY191","v":0},{"$f":"'Survivalexp RAW October 2017'!BF191","v":0},null,null,{"$f":"'Survivalexp RAW October 2017'!I240","v":{"v":0.994936153005124,"d":"1"}},{"$f":"'Survivalexp RAW October 2017'!P240","v":0},{"$f":"'Survivalexp RAW October 2017'!W240","v":0},{"$f":"'Survivalexp RAW October 2017'!AD240","v":0},{"$f":"'Survivalexp RAW October 2017'!AK240","v":0},{"$f":"'Survivalexp RAW October 2017'!AR240","v":0},{"$f":"'Survivalexp RAW October 2017'!AY240","v":0},{"$f":"'Survivalexp RAW October 2017'!BF240","v":0}]
[null,"est. nr of bacteria",null,{"$f":"D33/$D$8","v":{"$error":"#DIV/0!"}},{"$f":"E33/$E$8","v":{"$error":"#DIV/0!"}},{"$f":"F33/$F$8","v":{"$error":"#DIV/0!"}},{"$f":"G33/$G$8","v":49400},{"$f":"H33/$H$8","v":71333.33333333333},{"$f":"I33/$I$8","v":66666.66666666666},0,{"$f":"K33/$K$8","v":4666666.666666666},{"$f":"G35","v":49400},{"$f":"G36","v":20231.186113828626},{"$f":"N33/$D$8","v":{"$error":"#DIV/0!"}},{"$f":"O33/$E$8","v":737.3333333333333},{"$f":"P33/$F$8","v":979.9999999999999},{"$f":"Q33/$G$8","v":1466.6666666666667},{"$f":"R33/$H$8","v":0},{"$f":"S33/$I$8","v":0},0,{"$f":"U33/$K$8","v":0},{"$f":"O35","v":737.3333333333333},{"$f":"O36","v":159.4232404779943},{"$f":"X33/$D$8","v":33.86666666666667},{"$f":"Y33/$E$8","v":68.66666666666667},{"$f":"Z33/$F$8","v":73.33333333333334},{"$f":"AA33/$G$8","v":0},{"$f":"AB33/$H$8","v":0},{"$f":"AC33/$I$8","v":0},0,{"$f":"AE33/$K$8","v":0},{"$f":"X35","v":33.86666666666667},{"$f":"X36","v":13.052966096138768},{"$f":"AH33/$D$8","v":2.466666666666667},{"$f":"AI33/$E$8","v":7.333333333333334},{"$f":"AJ33/$F$8","v":6.666666666666666},{"$f":"AK33/$G$8","v":0},{"$f":"AL33/$H$8","v":0},{"$f":"AM33/$I$8","v":0},0,{"$f":"AO33/$K$8","v":0},{"$f":"AH35","v":2.466666666666667},{"$f":"AH36","v":4.557039831042852},{"$f":"AR33/$D$8","v":0.20000000000000004},{"$f":"AS33/$E$8","v":0},{"$f":"AT33/$F$8","v":0},{"$f":"AU33/$G$8","v":0},{"$f":"AV33/$H$8","v":0},{"$f":"AW33/$I$8","v":0},0,{"$f":"AY33/$K$8","v":0},{"$f":"AR35","v":0.20000000000000004},{"$f":"AR36","v":0.994936153005124}]
[null,null,"stdev",{"$f":"D34/$D$8","v":{"$error":"#DIV/0!"}},{"$f":"E34/$E$8","v":{"$error":"#DIV/0!"}},{"$f":"F34/$F$8","v":{"$error":"#DIV/0!"}},{"$f":"G34/$G$8","v":20231.186113828626},{"$f":"H34/$H$8","v":51225.88456495108},{"$f":"I34/$I$8","v":243708.59015102056},0,{"$f":"K34/$K$8","v":22360679.774997897},null,null,{"$f":"N34/$D$8","v":{"$error":"#DIV/0!"}},{"$f":"O34/$E$8","v":159.4232404779943},{"$f":"P34/$F$8","v":1113.7790324479763},{"$f":"Q34/$G$8","v":3312.2260476181814},{"$f":"R34/$H$8","v":0},{"$f":"S34/$I$8","v":0},0,{"$f":"U34/$K$8","v":0},null,null,{"$f":"X34/$D$8","v":13.052966096138768},{"$f":"Y34/$E$8","v":66.45168448856185},{"$f":"Z34/$F$8","v":99.49361530051242},{"$f":"AA34/$G$8","v":0},{"$f":"AB34/$H$8","v":0},{"$f":"AC34/$I$8","v":0},0,{"$f":"AE34/$K$8","v":0},null,null,{"$f":"AH34/$D$8","v":4.557039831042852},{"$f":"AI34/$E$8","v":27.459902295456118},{"$f":"AJ34/$F$8","v":44.72135954999579},{"$f":"AK34/$G$8","v":0},{"$f":"AL34/$H$8","v":0},{"$f":"AM34/$I$8","v":0},0,{"$f":"AO34/$K$8","v":0},null,null,{"$f":"AR34/$D$8","v":0.994936153005124},{"$f":"AS34/$E$8","v":0},{"$f":"AT34/$F$8","v":0},{"$f":"AU34/$G$8","v":0},{"$f":"AV34/$H$8","v":0},{"$f":"AW34/$I$8","v":0},0,{"$f":"AY34/$K$8","v":0}]
[null,"2213F APR","p+0",{"$f":"'Survivalexp RAW October 2017'!I48","v":{"$error":"#DIV/0!"}},{"$f":"'Survivalexp RAW October 2017'!P48","v":{"$error":"#DIV/0!"}},{"$f":"'Survivalexp RAW October 2017'!W48","v":{"$error":"#DIV/0!"}},{"$f":"'Survivalexp RAW October 2017'!AD48","v":{"$error":"#DIV/0!"}},{"$f":"'Survivalexp RAW October 2017'!AK48","v":{"v":15.466666666666667,"d":"15"}},{"$f":"'Survivalexp RAW October 2017'!AR48","v":{"v":1.7999999999999998,"d":"2"}},{"$f":"'Survivalexp RAW October 2017'!AY48","v":0},{"$f":"'Survivalexp RAW October 2017'!BF48","v":{"v":0.13333333333333333,"d":"0"}},null,null,{"$f":"'Survivalexp RAW October 2017'!I97","v":{"$error":"#DIV/0!"}},{"$f":"'Survivalexp RAW October 2017'!P97","v":{"v":50.79999999999999,"d":"51"}},{"$f":"'Survivalexp RAW October 2017'!W97","v":{"v":7.733333333333334,"d":"8"}},{"$f":"'Survivalexp RAW October 2017'!AD97","v":1},{"$f":"'Survivalexp RAW October 2017'!AK97","v":{"v":0.20000000000000004,"d":"0"}},{"$f":"'Survivalexp RAW October 2017'!AR97","v":0},{"$f":"'Survivalexp RAW October 2017'!AY97","v":0},{"$f":"'Survivalexp RAW October 2017'!BF97","v":0},null,null,{"$f":"'Survivalexp RAW October 2017'!I146","v":{"v":9.4,"d":"9"}},{"$f":"'Survivalexp RAW October 2017'!P146","v":{"v":0.8666666666666667,"d":"1"}},{"$f":"'Survivalexp RAW October 2017'!W146","v":{"v":0.13333333333333333,"d":"0"}},{"$f":"'Survivalexp RAW October 2017'!AD146","v":{"v":0.06666666666666667,"d":"0"}},{"$f":"'Survivalexp RAW October 2017'!AK146","v":0},{"$f":"'Survivalexp RAW October 2017'!AR146","v":0},{"$f":"'Survivalexp RAW October 2017'!AY146","v":0},{"$f":"'Survivalexp RAW October 2017'!BF146","v":0},null,null,{"$f":"'Survivalexp RAW October 2017'!I195","v":{"v":0.20000000000000004,"d":"0"}},{"$f":"'Survivalexp RAW October 2017'!P195","v":0},{"$f":"'Survivalexp RAW October 2017'!W195","v":0},{"$f":"'Survivalexp RAW October 2017'!AD195","v":0},{"$f":"'Survivalexp RAW October 2017'!AK195","v":0},{"$f":"'Survivalexp RAW October 2017'!AR195","v":0},{"$f":"'Survivalexp RAW October 2017'!AY195","v":0},{"$f":"'Survivalexp RAW October 2017'!BF195","v":0},null,null,{"$f":"'Survivalexp RAW October 2017'!I244","v":0},{"$f":"'Survivalexp RAW October 2017'!P244","v":0},{"$f":"'Survivalexp RAW October 2017'!W244","v":0},{"$f":"'Survivalexp RAW October 2017'!AD244","v":0},{"$f":"'Survivalexp RAW October 2017'!AK244","v":0},{"$f":"'Survivalexp RAW October 2017'!AR244","v":0},{"$f":"'Survivalexp RAW October 2017'!AY244","v":0},{"$f":"'Survivalexp RAW October 2017'!BF244","v":0}]
[null,null,"stdev",{"$f":"'Survivalexp RAW October 2017'!I49","v":{"$error":"#DIV/0!"}},{"$f":"'Survivalexp RAW October 2017'!P49","v":{"$error":"#DIV/0!"}},{"$f":"'Survivalexp RAW October 2017'!W49","v":{"$error":"#DIV/0!"}},{"$f":"'Survivalexp RAW October 2017'!AD49","v":{"$error":"#DIV/0!"}},{"$f":"'Survivalexp RAW October 2017'!AK49","v":{"v":9.393325720464922,"d":"9"}},{"$f":"'Survivalexp RAW October 2017'!AR49","v":{"v":3.8316207060976204,"d":"4"}},{"$f":"'Survivalexp RAW October 2017'!AY49","v":0},{"$f":"'Survivalexp RAW October 2017'!BF49","v":{"v":0.8944271909999159,"d":"1"}},null,null,{"$f":"'Survivalexp RAW October 2017'!I98","v":{"$error":"#DIV/0!"}},{"$f":"'Survivalexp RAW October 2017'!P98","v":{"v":19.80082102113238,"d":"20"}},{"$f":"'Survivalexp RAW October 2017'!W98","v":{"v":7.6033749617137625,"d":"8"}},{"$f":"'Survivalexp RAW October 2017'!AD98","v":{"v":2.4240490471331713,"d":"2"}},{"$f":"'Survivalexp RAW October 2017'!AK98","v":{"v":1.3416407864998738,"d":"1"}},{"$f":"'Survivalexp RAW October 2017'!AR98","v":0},{"$f":"'Survivalexp RAW October 2017'!AY98","v":0},{"$f":"'Survivalexp RAW October 2017'!BF98","v":0},null,null,{"$f":"'Survivalexp RAW October 2017'!I147","v":{"v":7.368838940147394,"d":"7"}},{"$f":"'Survivalexp RAW October 2017'!P147","v":{"v":2.128861387589356,"d":"2"}},{"$f":"'Survivalexp RAW October 2017'!W147","v":{"v":0.8944271909999159,"d":"1"}},{"$f":"'Survivalexp RAW October 2017'!AD147","v":{"v":0.4472135954999579,"d":"0"}},{"$f":"'Survivalexp RAW October 2017'!AK147","v":0},{"$f":"'Survivalexp RAW October 2017'!AR147","v":0},{"$f":"'Survivalexp RAW October 2017'!AY147","v":0},{"$f":"'Survivalexp RAW October 2017'!BF147","v":0},null,null,{"$f":"'Survivalexp RAW October 2017'!I196","v":{"v":0.994936153005124,"d":"1"}},{"$f":"'Survivalexp RAW October 2017'!P196","v":0},{"$f":"'Survivalexp RAW October 2017'!W196","v":0},{"$f":"'Survivalexp RAW October 2017'!AD196","v":0},{"$f":"'Survivalexp RAW October 2017'!AK196","v":0},{"$f":"'Survivalexp RAW October 2017'!AR196","v":0},{"$f":"'Survivalexp RAW October 2017'!AY196","v":0},{"$f":"'Survivalexp RAW October 2017'!BF196","v":0},null,null,{"$f":"'Survivalexp RAW October 2017'!I245","v":0},{"$f":"'Survivalexp RAW October 2017'!P245","v":0},{"$f":"'Survivalexp RAW October 2017'!W245","v":0},{"$f":"'Survivalexp RAW October 2017'!AD245","v":0},{"$f":"'Survivalexp RAW October 2017'!AK245","v":0},{"$f":"'Survivalexp RAW October 2017'!AR245","v":0},{"$f":"'Survivalexp RAW October 2017'!AY245","v":0},{"$f":"'Survivalexp RAW October 2017'!BF245","v":0}]
[null,"est. nr of bacteria",null,{"$f":"D37/$D$8","v":{"$error":"#DIV/0!"}},{"$f":"E37/$E$8","v":{"$error":"#DIV/0!"}},{"$f":"F37/$F$8","v":{"$error":"#DIV/0!"}},{"$f":"G37/$G$8","v":{"$error":"#DIV/0!"}},{"$f":"H37/$H$8","v":154666.66666666666},{"$f":"I37/$I$8","v":179999.99999999997},0,{"$f":"K37/$K$8","v":1333333.3333333335},{"$f":"H39","v":154666.66666666666},{"$f":"H40","v":93933.25720464921},{"$f":"N37/$D$8","v":{"$error":"#DIV/0!"}},{"$f":"O37/$E$8","v":507.9999999999999},{"$f":"P37/$F$8","v":773.3333333333334},{"$f":"Q37/$G$8","v":1000},{"$f":"R37/$H$8","v":2000.0000000000002},{"$f":"S37/$I$8","v":0},0,{"$f":"U37/$K$8","v":0},{"$f":"O39","v":507.9999999999999},{"$f":"O40","v":198.00821021132379},{"$f":"X37/$D$8","v":9.4},{"$f":"Y37/$E$8","v":8.666666666666666},{"$f":"Z37/$F$8","v":13.333333333333332},{"$f":"AA37/$G$8","v":66.66666666666667},{"$f":"AB37/$H$8","v":0},{"$f":"AC37/$I$8","v":0},0,{"$f":"AE37/$K$8","v":0},{"$f":"X39","v":9.4},{"$f":"X40","v":7.368838940147394},{"$f":"AH37/$D$8","v":0.20000000000000004},{"$f":"AI37/$E$8","v":0},{"$f":"AJ37/$F$8","v":0},{"$f":"AK37/$G$8","v":0},{"$f":"AL37/$H$8","v":0},{"$f":"AM37/$I$8","v":0},0,{"$f":"AO37/$K$8","v":0},{"$f":"AH39","v":0.20000000000000004},{"$f":"AH40","v":0.994936153005124},{"$f":"AR37/$D$8","v":0},{"$f":"AS37/$E$8","v":0},{"$f":"AT37/$F$8","v":0},{"$f":"AU37/$G$8","v":0},{"$f":"AV37/$H$8","v":0},{"$f":"AW37/$I$8","v":0},0,{"$f":"AY37/$K$8","v":0},{"$f":"AU39","v":0},{"$f":"AU40","v":0}]
[null,null,"stdev",{"$f":"D38/$D$8","v":{"$error":"#DIV/0!"}},{"$f":"E38/$E$8","v":{"$error":"#DIV/0!"}},{"$f":"F38/$F$8","v":{"$error":"#DIV/0!"}},{"$f":"G38/$G$8","v":{"$error":"#DIV/0!"}},{"$f":"H38/$H$8","v":93933.25720464921},{"$f":"I38/$I$8","v":383162.070609762},0,{"$f":"K38/$K$8","v":8944271.909999158},null,null,{"$f":"N38/$D$8","v":{"$error":"#DIV/0!"}},{"$f":"O38/$E$8","v":198.00821021132379},{"$f":"P38/$F$8","v":760.3374961713762},{"$f":"Q38/$G$8","v":2424.0490471331714},{"$f":"R38/$H$8","v":13416.407864998737},{"$f":"S38/$I$8","v":0},0,{"$f":"U38/$K$8","v":0},null,null,{"$f":"X38/$D$8","v":7.368838940147394},{"$f":"Y38/$E$8","v":21.288613875893557},{"$f":"Z38/$F$8","v":89.44271909999158},{"$f":"AA38/$G$8","v":447.21359549995793},{"$f":"AB38/$H$8","v":0},{"$f":"AC38/$I$8","v":0},0,{"$f":"AE38/$K$8","v":0},null,null,{"$f":"AH38/$D$8","v":0.994936153005124},{"$f":"AI38/$E$8","v":0},{"$f":"AJ38/$F$8","v":0},{"$f":"AK38/$G$8","v":0},{"$f":"AL38/$H$8","v":0},{"$f":"AM38/$I$8","v":0},0,{"$f":"AO38/$K$8","v":0},null,null,{"$f":"AR38/$D$8","v":0},{"$f":"AS38/$E$8","v":0},{"$f":"AT38/$F$8","v":0},{"$f":"AU38/$G$8","v":0},{"$f":"AV38/$H$8","v":0},{"$f":"AW38/$I$8","v":0},0,{"$f":"AY38/$K$8","v":0}]
[null,null,"p+3",{"$f":"'Survivalexp RAW October 2017'!I53","v":{"$error":"#DIV/0!"}},{"$f":"'Survivalexp RAW October 2017'!P53","v":{"$error":"#DIV/0!"}},{"$f":"'Survivalexp RAW October 2017'!W53","v":{"$error":"#DIV/0!"}},{"$f":"'Survivalexp RAW October 2017'!AD53","v":{"v":64.8,"d":"65"}},{"$f":"'Survivalexp RAW October 2017'!AK53","v":{"v":10.799999999999999,"d":"11"}},{"$f":"'Survivalexp RAW October 2017'!AR53","v":{"v":1.2,"d":"1"}},{"$f":"'Survivalexp RAW October 2017'!AY53","v":{"v":0.13333333333333333,"d":"0"}},{"$f":"'Survivalexp RAW October 2017'!BF53","v":{"v":0.5333333333333333,"d":"1"}},null,null,{"$f":"'Survivalexp RAW October 2017'!I102","v":{"$error":"#DIV/0!"}},{"$f":"'Survivalexp RAW October 2017'!P102","v":{"v":40.2,"d":"40"}},{"$f":"'Survivalexp RAW October 2017'!W102","v":{"v":5.866666666666667,"d":"6"}},{"$f":"'Survivalexp RAW October 2017'!AD102","v":{"v":0.7333333333333334,"d":"1"}},{"$f":"'Survivalexp RAW October 2017'!AK102","v":{"v":0.20000000000000004,"d":"0"}},{"$f":"'Survivalexp RAW October 2017'!AR102","v":{"v":0.13333333333333333,"d":"0"}},{"$f":"'Survivalexp RAW October 2017'!AY102","v":{"v":0.13333333333333333,"d":"0"}},{"$f":"'Survivalexp RAW October 2017'!BF102","v":{"v":0.13333333333333333,"d":"0"}},null,null,{"$f":"'Survivalexp RAW October 2017'!I151","v":{"v":8.266666666666666,"d":"8"}},{"$f":"'Survivalexp RAW October 2017'!P151","v":{"v":1.2,"d":"1"}},{"$f":"'Survivalexp RAW October 2017'!W151","v":0},{"$f":"'Survivalexp RAW October 2017'!AD151","v":0},{"$f":"'Survivalexp RAW October 2017'!AK151","v":0},{"$f":"'Survivalexp RAW October 2017'!AR151","v":0},{"$f":"'Survivalexp RAW October 2017'!AY151","v":0},{"$f":"'Survivalexp RAW October 2017'!BF151","v":0},null,null,{"$f":"'Survivalexp RAW October 2017'!I200","v":{"v":0.26666666666666666,"d":"0"}},{"$f":"'Survivalexp RAW October 2017'!P200","v":0},{"$f":"'Survivalexp RAW October 2017'!W200","v":0},{"$f":"'Survivalexp RAW October 2017'!AD200","v":0},{"$f":"'Survivalexp RAW October 2017'!AK200","v":0},{"$f":"'Survivalexp RAW October 2017'!AR200","v":0},{"$f":"'Survivalexp RAW October 2017'!AY200","v":0},{"$f":"'Survivalexp RAW October 2017'!BF200","v":0},null,null,{"$f":"'Survivalexp RAW October 2017'!I249","v":0},{"$f":"'Survivalexp RAW October 2017'!P249","v":0},{"$f":"'Survivalexp RAW October 2017'!W249","v":0},{"$f":"'Survivalexp RAW October 2017'!AD249","v":0},{"$f":"'Survivalexp RAW October 2017'!AK249","v":0},{"$f":"'Survivalexp RAW October 2017'!AR249","v":0},{"$f":"'Survivalexp RAW October 2017'!AY249","v":0},{"$f":"'Survivalexp RAW October 2017'!BF249","v":0}]
[null,null,"stdev",{"$f":"'Survivalexp RAW October 2017'!I54","v":{"$error":"#DIV/0!"}},{"$f":"'Survivalexp RAW October 2017'!P54","v":{"$error":"#DIV/0!"}},{"$f":"'Survivalexp RAW October 2017'!W54","v":{"$error":"#DIV/0!"}},{"$f":"'Survivalexp RAW October 2017'!AD54","v":{"v":20.15411648444771,"d":"20"}},{"$f":"'Survivalexp RAW October 2017'!AK54","v":{"v":6.969526448369581,"d":"7"}},{"$f":"'Survivalexp RAW October 2017'!AR54","v":{"v":2.384382584039242,"d":"2"}},{"$f":"'Survivalexp RAW October 2017'!AY54","v":{"v":0.5477225575051661,"d":"1"}},{"$f":"'Survivalexp RAW October 2017'!BF54","v":{"v":1.772467428896755,"d":"2"}},null,null,{"$f":"'Survivalexp RAW October 2017'!I103","v":{"$error":"#DIV/0!"}},{"$f":"'Survivalexp RAW October 2017'!P103","v":{"v":17.728237409792204,"d":"18"}},{"$f":"'Survivalexp RAW October 2017'!W103","v":{"v":6.204459017393704,"d":"6"}},{"$f":"'Survivalexp RAW October 2017'!AD103","v":{"v":1.3038404810405297,"d":"1"}},{"$f":"'Survivalexp RAW October 2017'!AK103","v":{"v":0.994936153005124,"d":"1"}},{"$f":"'Survivalexp RAW October 2017'!AR103","v":{"v":0.8944271909999159,"d":"1"}},{"$f":"'Survivalexp RAW October 2017'!AY103","v":{"v":0.8944271909999159,"d":"1"}},{"$f":"'Survivalexp RAW October 2017'!BF103","v":{"v":0.8944271909999159,"d":"1"}},null,null,{"$f":"'Survivalexp RAW October 2017'!I152","v":{"v":4.244978942292537,"d":"4"}},{"$f":"'Survivalexp RAW October 2017'!P152","v":{"v":3.214617177401837,"d":"3"}},{"$f":"'Survivalexp RAW October 2017'!W152","v":0},{"$f":"'Survivalexp RAW October 2017'!AD152","v":0},{"$f":"'Survivalexp RAW October 2017'!AK152","v":0},{"$f":"'Survivalexp RAW October 2017'!AR152","v":0},{"$f":"'Survivalexp RAW October 2017'!AY152","v":0},{"$f":"'Survivalexp RAW October 2017'!BF152","v":0},null,null,{"$f":"'Survivalexp RAW October 2017'!I201","v":{"v":1.3416407864998738,"d":"1"}},{"$f":"'Survivalexp RAW October 2017'!P201","v":0},{"$f":"'Survivalexp RAW October 2017'!W201","v":0},{"$f":"'Survivalexp RAW October 2017'!AD201","v":0},{"$f":"'Survivalexp RAW October 2017'!AK201","v":0},{"$f":"'Survivalexp RAW October 2017'!AR201","v":0},{"$f":"'Survivalexp RAW October 2017'!AY201","v":0},{"$f":"'Survivalexp RAW October 2017'!BF201","v":0},null,null,{"$f":"'Survivalexp RAW October 2017'!I250","v":0},{"$f":"'Survivalexp RAW October 2017'!P250","v":0},{"$f":"'Survivalexp RAW October 2017'!W250","v":0},{"$f":"'Survivalexp RAW October 2017'!AD250","v":0},{"$f":"'Survivalexp RAW October 2017'!AK250","v":0},{"$f":"'Survivalexp RAW October 2017'!AR250","v":0},{"$f":"'Survivalexp RAW October 2017'!AY250","v":0},{"$f":"'Survivalexp RAW October 2017'!BF250","v":0}]
[null,"est. nr of bacteria",null,{"$f":"D41/$D$8","v":{"$error":"#DIV/0!"}},{"$f":"E41/$E$8","v":{"$error":"#DIV/0!"}},{"$f":"F41/$F$8","v":{"$error":"#DIV/0!"}},{"$f":"G41/$G$8","v":64799.99999999999},{"$f":"H41/$H$8","v":107999.99999999999},{"$f":"I41/$I$8","v":119999.99999999999},133333.33333333334,{"$f":"K41/$K$8","v":5333333.333333334},{"$f":"G43","v":64799.99999999999},{"$f":"G44","v":20154.11648444771},{"$f":"N41/$D$8","v":{"$error":"#DIV/0!"}},{"$f":"O41/$E$8","v":402},{"$f":"P41/$F$8","v":586.6666666666667},{"$f":"Q41/$G$8","v":733.3333333333334},{"$f":"R41/$H$8","v":2000.0000000000002},{"$f":"S41/$I$8","v":13333.333333333332},133333.33333333334,{"$f":"U41/$K$8","v":1333333.3333333335},{"$f":"O43","v":402},{"$f":"O44","v":177.28237409792203},{"$f":"X41/$D$8","v":8.266666666666666},{"$f":"Y41/$E$8","v":11.999999999999998},{"$f":"Z41/$F$8","v":0},{"$f":"AA41/$G$8","v":0},{"$f":"AB41/$H$8","v":0},{"$f":"AC41/$I$8","v":0},0,{"$f":"AE41/$K$8","v":0},{"$f":"X43","v":8.266666666666666},{"$f":"X44","v":4.244978942292537},{"$f":"AH41/$D$8","v":0.26666666666666666},{"$f":"AI41/$E$8","v":0},{"$f":"AJ41/$F$8","v":0},{"$f":"AK41/$G$8","v":0},{"$f":"AL41/$H$8","v":0},{"$f":"AM41/$I$8","v":0},0,{"$f":"AO41/$K$8","v":0},{"$f":"AH43","v":0.26666666666666666},{"$f":"AH44","v":1.3416407864998738},{"$f":"AR41/$D$8","v":0},{"$f":"AS41/$E$8","v":0},{"$f":"AT41/$F$8","v":0},{"$f":"AU41/$G$8","v":0},{"$f":"AV41/$H$8","v":0},{"$f":"AW41/$I$8","v":0},0,{"$f":"AY41/$K$8","v":0},{"$f":"AV43","v":0},{"$f":"AV44","v":0}]
[null,null,"stdev",{"$f":"D42/$D$8","v":{"$error":"#DIV/0!"}},{"$f":"E42/$E$8","v":{"$error":"#DIV/0!"}},{"$f":"F42/$F$8","v":{"$error":"#DIV/0!"}},{"$f":"G42/$G$8","v":20154.11648444771},{"$f":"H42/$H$8","v":69695.2644836958},{"$f":"I42/$I$8","v":238438.25840392418},547722.557505166,{"$f":"K42/$K$8","v":17724674.28896755},null,null,{"$f":"N42/$D$8","v":{"$error":"#DIV/0!"}},{"$f":"O42/$E$8","v":177.28237409792203},{"$f":"P42/$F$8","v":620.4459017393704},{"$f":"Q42/$G$8","v":1303.8404810405298},{"$f":"R42/$H$8","v":9949.36153005124},{"$f":"S42/$I$8","v":89442.71909999158},894427.1909999159,{"$f":"U42/$K$8","v":8944271.909999158},null,null,{"$f":"X42/$D$8","v":4.244978942292537},{"$f":"Y42/$E$8","v":32.14617177401836},{"$f":"Z42/$F$8","v":0},{"$f":"AA42/$G$8","v":0},{"$f":"AB42/$H$8","v":0},{"$f":"AC42/$I$8","v":0},0,{"$f":"AE42/$K$8","v":0},null,null,{"$f":"AH42/$D$8","v":1.3416407864998738},{"$f":"AI42/$E$8","v":0},{"$f":"AJ42/$F$8","v":0},{"$f":"AK42/$G$8","v":0},{"$f":"AL42/$H$8","v":0},{"$f":"AM42/$I$8","v":0},0,{"$f":"AO42/$K$8","v":0},null,null,{"$f":"AR42/$D$8","v":0},{"$f":"AS42/$E$8","v":0},{"$f":"AT42/$F$8","v":0},{"$f":"AU42/$G$8","v":0},{"$f":"AV42/$H$8","v":0},{"$f":"AW42/$I$8","v":0},0,{"$f":"AY42/$K$8","v":0}]
[]
[{"$nulls":4},1,3,5,7,9,{"$nulls":5},"STDEV",null,1,3,5,7,9]
[null,null,"Numbers","Blank",{"$f":"$L$11","v":0},{"$f":"$V$11","v":0},{"$f":"$AF$11","v":0},{"$f":"$AP$11","v":0},{"$f":"$AZ$11","v":0},{"$nulls":5},"Numbers","Blank",{"$f":"$M$11","v":0},{"$f":"$W$11","v":0},{"$f":"$AG$11","v":0},{"$f":"$AQ$11","v":0},{"$f":"$BA$11","v":0}]
[{"$nulls":3},"DH5α -",{"$f":"$L$15","v":{"v":68733.33333333333,"d":"68733"}},{"$f":"$V$15","v":7466.666666666665},{"$f":"$AF$15","v":56},{"$f":"$AP$15","v":{"v":61.333333333333336,"d":"61"}},{"$f":"$AZ$15","v":41},{"$nulls":6},"DH5α -",{"$f":"$M$15","v":20960.06985518035},{"$f":"$W$15","v":3202.400712559932},{"$f":"$AG$15","v":20.493901531919168},{"$f":"$AQ$15","v":{"v":17.827402317237702,"d":"18"}},{"$f":"$BA$15","v":29.468297852433132}]
[{"$nulls":3},"KT2440 WT",{"$f":"$L$19","v":736666.6666666666},{"$f":"$V$19","v":6706.666666666666},{"$f":"$AF$19","v":140},{"$f":"$AP$19","v":7.066666666666667},{"$f":"$AZ$19","v":{"v":0.4000000000000001,"d":"0"}},{"$nulls":6},"KT2440 WT",{"$f":"$M$19","v":929745.4988459955},{"$f":"$W$19","v":2167.153668251738},{"$f":"$AG$19","v":138.70293813262228},{"$f":"$AQ$19","v":7.189256175636058},{"$f":"$BA$19","v":1.54265871051029}]
[{"$nulls":3},"2213F - p+0",{"$f":"$L$23","v":507999.9999999999},{"$f":"$V$23","v":6119.999999999999},{"$f":"$AF$23","v":452},{"$f":"$AP$23","v":33.9},{"$f":"$AZ$23","v":7.2},{"$nulls":6},"2213F - p+0",{"$f":"$M$23","v":208075.64201562744},{"$f":"$W$23","v":1521.7027872634592},{"$f":"$AG$23","v":102.68511949619352},{"$f":"$AQ$23","v":9.243079776896627},{"$f":"$BA$23","v":1.3416407864998738}]
[{"$nulls":3},"2213F - p+3",{"$f":"$L$27","v":130000.00000000001},{"$f":"$V$27","v":2866.6666666666665},{"$f":"$AF$27","v":31.733333333333334},{"$f":"$AP$27","v":16.133333333333333},{"$f":"$AZ$27","v":0.6666666666666666},{"$nulls":6},"2213F - p+3",{"$f":"$M$27","v":80015.14113418246},{"$f":"$W$27","v":1176.6372154132266},{"$f":"$AG$27","v":22.034199545175298},{"$f":"$AQ$27","v":7.197632364403619},{"$f":"$BA$27","v":1.8708286933869707}]
[{"$nulls":3},"2213F A p+0",{"$f":"$L$31","v":52066.666666666664},{"$f":"$V$31","v":520},{"$f":"$AF$31","v":17.133333333333333},{"$f":"$AP$31","v":1.0666666666666667},{"$f":"$AZ$31","v":0},{"$nulls":6},"2213F A p+0",{"$f":"$M$31","v":33284.779572383915},{"$f":"$W$31","v":648.7370000160217},{"$f":"$AG$31","v":8.441656869917612},{"$f":"$AQ$31","v":1.9768354516332134},{"$f":"$BA$31","v":0}]
[{"$nulls":3},"2213F A p+3",{"$f":"$L$35","v":49400},{"$f":"$V$35","v":737.3333333333333},{"$f":"$AF$35","v":33.86666666666667},{"$f":"$AP$35","v":2.466666666666667},{"$f":"$AZ$35","v":0.20000000000000004},{"$nulls":6},"2213F A p+3",{"$f":"$M$35","v":20231.186113828626},{"$f":"$W$35","v":159.4232404779943},{"$f":"$AG$35","v":13.052966096138768},{"$f":"$AQ$35","v":4.557039831042852},{"$f":"$BA$35","v":0.994936153005124}]
[{"$nulls":3},"2213F APR p+0",{"$f":"$L$39","v":154666.66666666666},{"$f":"$V$39","v":507.9999999999999},{"$f":"$AF$39","v":9.4},{"$f":"$AP$39","v":0.20000000000000004},{"$f":"$AZ$39","v":0},{"$nulls":6},"2213F APR p+0",{"$f":"$M$39","v":93933.25720464921},{"$f":"$W$39","v":198.00821021132379},{"$f":"$AG$39","v":7.368838940147394},{"$f":"$AQ$39","v":0.994936153005124},{"$f":"$BA$39","v":0}]
[{"$nulls":3},"2213F APR p+3",{"$f":"$L$43","v":64799.99999999999},{"$f":"$V$43","v":402},{"$f":"$AF$43","v":8.266666666666666},{"$f":"$AP$43","v":0.26666666666666666},{"$f":"$AZ$43","v":0},{"$nulls":6},"2213F APR p+3",{"$f":"$M$43","v":20154.11648444771},{"$f":"$W$43","v":177.28237409792203},{"$f":"$AG$43","v":4.244978942292537},{"$f":"$AQ$43","v":1.3416407864998738},{"$f":"$BA$43","v":0}]
[]
[{"$nulls":4},1,3,5,7,9,{"$nulls":5},"STDEV",null,1,3,5,7,9]
[null,null,"Percentages","Blank",0,0,0,0,0,{"$nulls":5},"Percentages","Blank",0,0,0,0,0]
[{"$nulls":3},"DH5α -",{"$f":"E48/$E$48*100","v":100},{"$f":"(F48/$E$48)*100","v":10.863239573229873},{"$f":"G48/$E$48*100","v":0.08147429679922406},0.08923375363724541,0.05965082444228904,{"$nulls":6},"DH5α -",{"$f":"Q48/$E$48*100","v":30.494767005597023},{"$f":"R48/$E$48*100","v":4.659166895092045},0.02981653957117241,0.025937054777746417,0.042873372239233466]
[{"$nulls":3},"KT2440 WT",{"$f":"E49/$E$49*100","v":100},{"$f":"F49/$E$49*100","v":0.9104072398190045},0.01900452488687783,9.5927601809954769E-4,5.4298642533936661E-5,{"$nulls":6},"KT2440 WT",{"$f":"Q49/$E$49*100","v":126.2097962234383},{"$f":"R49/$E$49*100","v":0.29418375587127665},0.01882845314017497,0.000975917127914397,2.0941068468465477E-4]
[{"$nulls":3},"2213F - p+0",{"$f":"E50/$E$50*100","v":100},{"$f":"F50/$E$50*100","v":1.204724409448819},0.08897637795275593,0.006673228346456695,1.4173228346456696E-3,{"$nulls":6},"2213F - p+0",{"$f":"Q50/$E$50*100","v":40.95977205032037},{"$f":"R50/$E$50*100","v":0.29954779276839755},0.0202136062000381,1.8195038930898877E-3,2.6410251702753428E-4]
[{"$nulls":3},"2213F - p+3",{"$f":"E51/$E$51*100","v":100},{"$f":"F51/$E$51*100","v":2.205128205128205},0.02441025641025641,0.01241025641025641,5.1282051282051271E-4,{"$nulls":6},"2213F - p+3",{"$f":"Q51/$E$51*100","v":61.55010856475573},{"$f":"R51/$E$51*100","v":0.9051055503178665},0.01694938426551946,0.005536640280310475,0.001439098994913054]
[{"$nulls":3},"2213F A p+0",{"$f":"E52/$E$52*100","v":100},{"$f":"F52/$E$52*100","v":0.998719590268886},0.03290653008962868,2.0486555697823306E-3,0,{"$nulls":6},"2213F A p+0",{"$f":"Q52/$E$52*100","v":63.9272334936951},{"$f":"R52/$E$52*100","v":1.2459737516312839},0.01621316940445124,3.7967390236233294E-3,0]
[{"$nulls":3},"2213F A p+3",{"$f":"E53/$E$53*100","v":100},{"$f":"F53/$E$53*100","v":1.4925775978407556},0.06855600539811066,0.004993252361673414,4.0485829959514179E-4,{"$nulls":6},"2213F A p+3",{"$f":"Q53/$E$53*100","v":40.9538180441875},{"$f":"R53/$E$53*100","v":0.3227191102793407},0.02642300829177888,0.009224776985916705,2.014040795556931E-3]
[{"$nulls":3},"2213F APR p+0",{"$f":"E54/$E$54*100","v":100},{"$f":"F54/$E$54*100","v":0.32844827586206893},0.006077586206896552,1.2931034482758624E-4,0,{"$nulls":6},"2213F APR p+0",{"$f":"Q54/$E$54*100","v":60.732709399557685},{"$f":"R54/$E$54*100","v":0.1280225497055973},0.004764335521647022,6.4327768513262331E-4,0]
[{"$nulls":3},"2213F APR p+3",{"$f":"E55/$E$55*100","v":100},{"$f":"F55/$E$55*100","v":0.6203703703703705},0.012757201646090535,0.000411522633744856,0,{"$nulls":6},"2213F APR p+3",{"$f":"Q55/$E$55*100","v":31.102031611802023},{"$f":"R55/$E$55*100","v":0.2735839106449414},0.006550893429463792,2.0704333124998055E-3,0]