{"text_format":"3","workbook":"xlsx","n_sheets":2,"sheets":["Survivalexp RAW 30May-..Jun","Survivalexp results"],"not_rendered":{"charts":2,"comments":1},"read":"whole","date_system":"1900"}

{"sheet":"Survivalexp RAW 30May-..Jun","index":0,"n_rows":282,"n_cols":45,"rows_kept":282}
["Survival experiment"]
["Subject: ",null,"Anaerobic survival after aerobic inoculation of recombinant strains",{"$nulls":8},"Technical replicates"]
[null,null,"DeBont+Gluconic Acid - Kanamycin only in 2213-/A/APR",{"$nulls":8},"Biological replicates"]
["Inoculation date",null,"30may'17"]
["Inoculated",null,"Blank ","KT2440 WT","2213F -",null,"2213F A",null,"2213F APR"]
[{"$nulls":4},"p+0","p+3","p+0","p+3","p+0",null,"p+3"]
["T0","2017-05-30"]
["Sample","Dilution:",null,1,{"$nulls":4},"AVERAGE","Stdev",{"$f":"10^-1","v":0.1},{"$nulls":4},"AVERAGE","Stdev",{"$f":"10^-2","v":0.01},{"$nulls":4},"AVERAGE","Stdev",{"$f":"10^-3","v":1E-3},{"$nulls":4},"AVERAGE","Stdev",{"$f":"10^-4","v":1E-4},{"$nulls":4},"AVERAGE","Stdev",{"$f":"10^-5","v":1e-05},{"$nulls":4},"AVERAGE","Stdev"]
["Blank",1,null,0,0,0,0,0,{"$f":"AVERAGE(D9:H9)","v":0},{"$f":"STDEV(D9:H9)","v":0},0,0,0,0,0,{"$f":"AVERAGE(K9:O9)","v":0},{"$f":"STDEV(K9:O9)","v":0},0,0,0,0,0,{"$f":"AVERAGE(R9:V9)","v":0},{"$f":"STDEV(R9:V9)","v":0},0,0,0,0,0,{"$f":"AVERAGE(Y9:AC9)","v":0},{"$f":"STDEV(Y9:AC9)","v":0},0,0,0,0,0,{"$f":"AVERAGE(AF9:AJ9)","v":0},{"$f":"STDEV(AF9:AJ9)","v":0},0,0,0,0,0,{"$f":"AVERAGE(AM9:AQ9)","v":0},{"$f":"STDEV(AM9:AQ9)","v":0}]
[null,2,null,0,0,0,0,0,{"$f":"AVERAGE(D10:H10)","v":0},{"$f":"STDEV(D10:H10)","v":0},0,0,0,0,0,{"$f":"AVERAGE(K10:O10)","v":0},{"$f":"STDEV(K10:O10)","v":0},0,0,0,0,0,{"$f":"AVERAGE(R10:V10)","v":0},{"$f":"STDEV(R10:V10)","v":0},0,0,0,0,0,{"$f":"AVERAGE(Y10:AC10)","v":0},{"$f":"STDEV(Y10:AC10)","v":0},0,0,0,0,0,{"$f":"AVERAGE(AF10:AJ10)","v":0},{"$f":"STDEV(AF10:AJ10)","v":0},0,0,0,0,0,{"$f":"AVERAGE(AM10:AQ10)","v":0},{"$f":"STDEV(AM10:AQ10)","v":0}]
[null,3,null,0,0,0,0,0,{"$f":"AVERAGE(D11:H11)","v":0},{"$f":"STDEV(D11:H11)","v":0},0,0,0,0,0,0,{"$f":"STDEV(K11:O11)","v":0},0,0,0,0,0,0,{"$f":"STDEV(R11:V11)","v":0},0,0,0,0,0,0,{"$f":"STDEV(Y11:AC11)","v":0},0,0,0,0,0,0,{"$f":"STDEV(AF11:AJ11)","v":0},0,0,0,0,0,0,{"$f":"STDEV(AM11:AQ11)","v":0}]
[{"$nulls":8},{"$f":"AVERAGE(I9:I11)","v":0},{"$nulls":6},{"$f":"AVERAGE(P9:P11)","v":0},{"$nulls":6},{"$f":"AVERAGE(W9:W11)","v":0},{"$nulls":6},{"$f":"AVERAGE(AD9:AD11)","v":0},{"$nulls":6},{"$f":"AVERAGE(AK9:AK11)","v":0},{"$nulls":6},{"$f":"AVERAGE(AR9:AR11)","v":0}]
[{"$nulls":8},{"$f":"J9+J10+J11","v":0},{"$nulls":6},{"$f":"Q9+Q10+Q11","v":0},{"$nulls":6},{"$f":"X9+X10+X11","v":0},{"$nulls":6},{"$f":"AE9+AE10+AE11","v":0},{"$nulls":6},{"$f":"AL9+AL10+AL11","v":0},{"$nulls":6},{"$f":"AS9+AS10+AS11","v":0}]
["WT",1,null,"NA","NA","NA","NA","NA",{"$f":"AVERAGE(D14:H14)","v":{"$error":"#DIV/0!"}},{"$f":"STDEV(D14:H14)","v":{"$error":"#DIV/0!"}},"NA","NA","NA","NA","NA",{"$error":"#DIV/0!"},{"$f":"STDEV(K14:O14)","v":{"$error":"#DIV/0!"}},"NA","NA","NA","NA","NA",{"$error":"#DIV/0!"},{"$f":"STDEV(R14:V14)","v":{"$error":"#DIV/0!"}},"NA","NA","NA","NA","NA",{"$error":"#DIV/0!"},{"$f":"STDEV(Y14:AC14)","v":{"$error":"#DIV/0!"}},14,13,{"$f":"61/5","v":{"v":12.2,"d":"12"}},{"$f":"61/5","v":{"v":12.2,"d":"12"}},10,{"v":12.280000000000001,"d":"12"},{"$f":"STDEV(AF14:AJ14)","v":{"v":1.473770674155223,"d":"1"}},0,1,1,1,1,{"v":0.8,"d":"1"},{"$f":"STDEV(AM14:AQ14)","v":{"v":0.44721359549995787,"d":"0"}}]
[null,2,null,"NA","NA","NA","NA","NA",{"$f":"AVERAGE(D15:H15)","v":{"$error":"#DIV/0!"}},{"$f":"STDEV(D15:H15)","v":{"$error":"#DIV/0!"}},"NA","NA","NA","NA","NA",{"$error":"#DIV/0!"},{"$f":"STDEV(K15:O15)","v":{"$error":"#DIV/0!"}},"NA","NA","NA","NA","NA",{"$error":"#DIV/0!"},{"$f":"STDEV(R15:V15)","v":{"$error":"#DIV/0!"}},"NA","NA","NA","NA","NA",{"$error":"#DIV/0!"},{"$f":"STDEV(Y15:AC15)","v":{"$error":"#DIV/0!"}},12,11,27,35,"NA",{"v":21.25,"d":"21"},{"$f":"STDEV(AF15:AJ15)","v":{"v":11.729592206608606,"d":"12"}},2,1,1,2,0,{"v":1.2,"d":"1"},{"$f":"STDEV(AM15:AQ15)","v":{"v":0.8366600265340756,"d":"1"}}]
[null,3,null,"NA","NA","NA","NA","NA",{"$f":"AVERAGE(D16:H16)","v":{"$error":"#DIV/0!"}},{"$f":"STDEV(D16:H16)","v":{"$error":"#DIV/0!"}},"NA","NA","NA","NA","NA",{"$error":"#DIV/0!"},{"$f":"STDEV(K16:O16)","v":{"$error":"#DIV/0!"}},"NA","NA","NA","NA","NA",{"$error":"#DIV/0!"},{"$f":"STDEV(R16:V16)","v":{"$error":"#DIV/0!"}},"NA","NA","NA","NA","NA",{"$error":"#DIV/0!"},{"$f":"STDEV(Y16:AC16)","v":{"$error":"#DIV/0!"}},9,14,{"$f":"59/5","v":{"v":11.8,"d":"12"}},8,15,{"v":11.559999999999999,"d":"12"},{"$f":"STDEV(AF16:AJ16)","v":{"v":3.0443390087176607,"d":"3"}},1,0,2,0,0,{"v":0.6,"d":"1"},{"$f":"STDEV(AM16:AQ16)","v":{"v":0.8944271909999159,"d":"1"}}]
["average",{"$nulls":7},{"$f":"AVERAGE(I14:I16)","v":{"$error":"#DIV/0!"}},{"$nulls":6},{"$f":"AVERAGE(P14:P16)","v":{"$error":"#DIV/0!"}},{"$nulls":6},{"$f":"AVERAGE(W14:W16)","v":{"$error":"#DIV/0!"}},{"$nulls":6},{"$f":"AVERAGE(AD14:AD16)","v":{"$error":"#DIV/0!"}},{"$nulls":6},{"$f":"AVERAGE(AK14:AK16)","v":{"v":15.030000000000001,"d":"15"}},{"$nulls":6},{"$f":"AVERAGE(AR14:AR16)","v":{"v":0.8666666666666667,"d":"1"}}]
["stdev",{"$nulls":7},{"$f":"J14+J15+J16","v":{"$error":"#DIV/0!"}},{"$nulls":6},{"$f":"Q14+Q15+Q16","v":{"$error":"#DIV/0!"}},{"$nulls":6},{"$f":"X14+X15+X16","v":{"$error":"#DIV/0!"}},{"$nulls":6},{"$f":"AE14+AE15+AE16","v":{"$error":"#DIV/0!"}},{"$nulls":6},{"$f":"AL14+AL15+AL16","v":{"v":16.24770188948149,"d":"16"}},{"$nulls":6},{"$f":"AS14+AS15+AS16","v":{"v":2.178300813033949,"d":"2"}}]
["2213F - ",1,null,"NA","NA","NA","NA","NA",{"$f":"AVERAGE(D19:H19)","v":{"$error":"#DIV/0!"}},{"$f":"STDEV(D19:H19)","v":{"$error":"#DIV/0!"}},"NA","NA","NA","NA","NA",{"$error":"#DIV/0!"},{"$f":"STDEV(K19:O19)","v":{"$error":"#DIV/0!"}},"NA","NA","NA","NA","NA",{"$error":"#DIV/0!"},{"$f":"STDEV(R19:V19)","v":{"$error":"#DIV/0!"}},"NA","NA","NA","NA","NA",{"$error":"#DIV/0!"},{"$f":"STDEV(Y19:AC19)","v":{"$error":"#DIV/0!"}},16,19,11,12,13,{"v":14.2,"d":"14"},{"$f":"STDEV(AF19:AJ19)","v":{"v":3.2710854467592236,"d":"3"}},0,0,4,2,3,{"v":1.8,"d":"2"},{"$f":"STDEV(AM19:AQ19)","v":{"v":1.7888543819998317,"d":"2"}}]
["p+0",2,null,"NA","NA","NA","NA","NA",{"$f":"AVERAGE(D20:H20)","v":{"$error":"#DIV/0!"}},{"$f":"STDEV(D20:H20)","v":{"$error":"#DIV/0!"}},"NA","NA","NA","NA","NA",{"$error":"#DIV/0!"},{"$f":"STDEV(K20:O20)","v":{"$error":"#DIV/0!"}},"NA","NA","NA","NA","NA",{"$error":"#DIV/0!"},{"$f":"STDEV(R20:V20)","v":{"$error":"#DIV/0!"}},"NA","NA","NA","NA","NA",{"$error":"#DIV/0!"},{"$f":"STDEV(Y20:AC20)","v":{"$error":"#DIV/0!"}},17,14,10,7,11,{"v":11.8,"d":"12"},{"$f":"STDEV(AF20:AJ20)","v":{"v":3.8340579025361614,"d":"4"}},1,2,2,0,2,{"v":1.4,"d":"1"},{"$f":"STDEV(AM20:AQ20)","v":{"v":0.8944271909999157,"d":"1"}}]
[null,3,null,"NA","NA","NA","NA","NA",{"$f":"AVERAGE(D21:H21)","v":{"$error":"#DIV/0!"}},{"$f":"STDEV(D21:H21)","v":{"$error":"#DIV/0!"}},"NA","NA","NA","NA","NA",{"$error":"#DIV/0!"},{"$f":"STDEV(K21:O21)","v":{"$error":"#DIV/0!"}},"NA","NA","NA","NA","NA",{"$error":"#DIV/0!"},{"$f":"STDEV(R21:V21)","v":{"$error":"#DIV/0!"}},"NA","NA","NA","NA","NA",{"$error":"#DIV/0!"},{"$f":"STDEV(Y21:AC21)","v":{"$error":"#DIV/0!"}},5,5,7,14,6,{"v":7.4,"d":"7"},{"$f":"STDEV(AF21:AJ21)","v":{"v":3.7815340802378072,"d":"4"}},0,2,0,3,1,{"v":1.2,"d":"1"},{"$f":"STDEV(AM21:AQ21)","v":{"v":1.3038404810405297,"d":"1"}}]
["average",{"$nulls":7},{"$f":"AVERAGE(I19:I21)","v":{"$error":"#DIV/0!"}},{"$nulls":6},{"$f":"AVERAGE(P19:P21)","v":{"$error":"#DIV/0!"}},{"$nulls":6},{"$f":"AVERAGE(W19:W21)","v":{"$error":"#DIV/0!"}},{"$nulls":6},{"$f":"AVERAGE(AD19:AD21)","v":{"$error":"#DIV/0!"}},{"$nulls":6},{"$f":"AVERAGE(AK19:AK21)","v":{"v":11.133333333333333,"d":"11"}},{"$nulls":6},{"$f":"AVERAGE(AR19:AR21)","v":{"v":1.4666666666666668,"d":"1"}}]
["stdev",{"$nulls":7},{"$f":"J19+J20+J21","v":{"$error":"#DIV/0!"}},{"$nulls":6},{"$f":"Q19+Q20+Q21","v":{"$error":"#DIV/0!"}},{"$nulls":6},{"$f":"X19+X20+X21","v":{"$error":"#DIV/0!"}},{"$nulls":6},{"$f":"AE19+AE20+AE21","v":{"$error":"#DIV/0!"}},{"$nulls":6},{"$f":"AL19+AL20+AL21","v":{"v":10.886677429533194,"d":"11"}},{"$nulls":6},{"$f":"AS19+AS20+AS21","v":{"v":3.987122054040277,"d":"4"}}]
["p+3",1,null,"NA","NA","NA","NA","NA",{"$f":"AVERAGE(D24:H24)","v":{"$error":"#DIV/0!"}},{"$f":"STDEV(D24:H24)","v":{"$error":"#DIV/0!"}},"NA","NA","NA","NA","NA",{"$error":"#DIV/0!"},{"$f":"STDEV(K24:O24)","v":{"$error":"#DIV/0!"}},"NA","NA","NA","NA","NA",{"$error":"#DIV/0!"},{"$f":"STDEV(R24:V24)","v":{"$error":"#DIV/0!"}},"NA","NA","NA","NA","NA",{"$error":"#DIV/0!"},{"$f":"STDEV(Y24:AC24)","v":{"$error":"#DIV/0!"}},15,3,9,7,10,{"v":8.8,"d":"9"},{"$f":"STDEV(AF24:AJ24)","v":{"v":4.3817804600413295,"d":"4"}},1,1,0,2,1,1,{"$f":"STDEV(AM24:AQ24)","v":{"v":0.7071067811865476,"d":"1"}}]
[null,2,null,"NA","NA","NA","NA","NA",{"$f":"AVERAGE(D25:H25)","v":{"$error":"#DIV/0!"}},{"$f":"STDEV(D25:H25)","v":{"$error":"#DIV/0!"}},"NA","NA","NA","NA","NA",{"$error":"#DIV/0!"},{"$f":"STDEV(K25:O25)","v":{"$error":"#DIV/0!"}},"NA","NA","NA","NA","NA",{"$error":"#DIV/0!"},{"$f":"STDEV(R25:V25)","v":{"$error":"#DIV/0!"}},33,29,14,28,48,{"v":30.4,"d":"30"},{"$f":"STDEV(Y25:AC25)","v":{"v":12.177848742696714,"d":"12"}},6,8,3,11,4,{"v":6.4,"d":"6"},{"$f":"STDEV(AF25:AJ25)","v":{"v":3.209361307176242,"d":"3"}},1,1,0,2,0,{"v":0.8,"d":"1"},{"$f":"STDEV(AM25:AQ25)","v":{"v":0.8366600265340756,"d":"1"}}]
[null,3,null,"NA","NA","NA","NA","NA",{"$f":"AVERAGE(D26:H26)","v":{"$error":"#DIV/0!"}},{"$f":"STDEV(D26:H26)","v":{"$error":"#DIV/0!"}},"NA","NA","NA","NA","NA",{"$error":"#DIV/0!"},{"$f":"STDEV(K26:O26)","v":{"$error":"#DIV/0!"}},"NA","NA","NA","NA","NA",{"$error":"#DIV/0!"},{"$f":"STDEV(R26:V26)","v":{"$error":"#DIV/0!"}},"NA","NA","NA","NA","NA",{"$error":"#DIV/0!"},{"$f":"STDEV(Y26:AC26)","v":{"$error":"#DIV/0!"}},11,10,7,10,10,{"v":9.6,"d":"10"},{"$f":"STDEV(AF26:AJ26)","v":{"v":1.5165750888103091,"d":"2"}},2,0,3,3,1,{"v":1.8,"d":"2"},{"$f":"STDEV(AM26:AQ26)","v":{"v":1.3038404810405297,"d":"1"}}]
["average",{"$nulls":7},{"$f":"AVERAGE(I24:I26)","v":{"$error":"#DIV/0!"}},{"$nulls":6},{"$f":"AVERAGE(P24:P26)","v":{"$error":"#DIV/0!"}},{"$nulls":6},{"$f":"AVERAGE(W24:W26)","v":{"$error":"#DIV/0!"}},{"$nulls":6},{"$f":"AVERAGE(AD25)","v":{"v":30.4,"d":"30"}},{"$nulls":6},{"$f":"AVERAGE(AK24:AK26)","v":{"v":8.266666666666667,"d":"8"}},{"$nulls":6},{"$f":"AVERAGE(AR24:AR26)","v":{"v":1.2,"d":"1"}}]
["stdev",{"$nulls":7},{"$f":"J24+J25+J26","v":{"$error":"#DIV/0!"}},{"$nulls":6},{"$f":"Q24+Q25+Q26","v":{"$error":"#DIV/0!"}},{"$nulls":6},{"$f":"X24+X25+X26","v":{"$error":"#DIV/0!"}},{"$nulls":6},{"$f":"AE24+AE25+AE26","v":{"$error":"#DIV/0!"}},{"$nulls":6},{"$f":"AL24+AL25+AL26","v":{"v":9.107716856027881,"d":"9"}},{"$nulls":6},{"$f":"AS24+AS25+AS26","v":{"v":2.8476072887611528,"d":"3"}}]
["2213F A",1,null,"NA","NA","NA","NA","NA",{"$f":"AVERAGE(D29:H29)","v":{"$error":"#DIV/0!"}},{"$f":"STDEV(D29:H29)","v":{"$error":"#DIV/0!"}},"NA","NA","NA","NA","NA",{"$error":"#DIV/0!"},{"$f":"STDEV(K29:O29)","v":{"$error":"#DIV/0!"}},"NA","NA","NA","NA","NA",{"$error":"#DIV/0!"},{"$f":"STDEV(R29:V29)","v":{"$error":"#DIV/0!"}},40,45,39,40,43,{"v":41.4,"d":"41"},{"$f":"STDEV(Y29:AC29)","v":{"v":2.5099800796022267,"d":"3"}},5,7,9,6,10,{"v":7.4,"d":"7"},{"$f":"STDEV(AF29:AJ29)","v":{"v":2.0736441353327715,"d":"2"}},0,0,2,1,1,{"v":0.8,"d":"1"},{"$f":"STDEV(AM29:AQ29)","v":{"v":0.8366600265340756,"d":"1"}}]
["p+0",2,null,"NA","NA","NA","NA","NA",{"$f":"AVERAGE(D30:H30)","v":{"$error":"#DIV/0!"}},{"$f":"STDEV(D30:H30)","v":{"$error":"#DIV/0!"}},"NA","NA","NA","NA","NA",{"$error":"#DIV/0!"},{"$f":"STDEV(K30:O30)","v":{"$error":"#DIV/0!"}},"NA","NA","NA","NA","NA",{"$error":"#DIV/0!"},{"$f":"STDEV(R30:V30)","v":{"$error":"#DIV/0!"}},46,43,37,36,45,{"v":41.4,"d":"41"},{"$f":"STDEV(Y30:AC30)","v":{"v":4.61519230368573,"d":"5"}},2,4,5,5,9,5,{"$f":"STDEV(AF30:AJ30)","v":{"v":2.5495097567963922,"d":"3"}},1,1,0,2,2,{"v":1.2,"d":"1"},{"$f":"STDEV(AM30:AQ30)","v":{"v":0.8366600265340756,"d":"1"}}]
[null,3,null,"NA","NA","NA","NA","NA",{"$f":"AVERAGE(D31:H31)","v":{"$error":"#DIV/0!"}},{"$f":"STDEV(D31:H31)","v":{"$error":"#DIV/0!"}},"NA","NA","NA","NA","NA",{"$error":"#DIV/0!"},{"$f":"STDEV(K31:O31)","v":{"$error":"#DIV/0!"}},"NA","NA","NA","NA","NA",{"$error":"#DIV/0!"},{"$f":"STDEV(R31:V31)","v":{"$error":"#DIV/0!"}},47,36,"NA","NA","NA",{"$f":"AVERAGE(Y31:Z31)","v":{"v":41.5,"d":"42"}},{"$f":"STDEV(Y31:AC31)","v":{"v":7.7781745930520225,"d":"8"}},10,10,"NA","NA","NA",{"$f":"AVERAGE(AF31:AG31)","v":10},{"$f":"STDEV(AF31:AJ31)","v":0},1,0,1,0,1,{"v":0.6,"d":"1"},{"$f":"STDEV(AM31:AQ31)","v":{"v":0.5477225575051661,"d":"1"}}]
["average",{"$nulls":7},{"$f":"AVERAGE(I29:I31)","v":{"$error":"#DIV/0!"}},{"$nulls":6},{"$f":"AVERAGE(P29:P31)","v":{"$error":"#DIV/0!"}},{"$nulls":6},{"$f":"AVERAGE(W29:W31)","v":{"$error":"#DIV/0!"}},{"$nulls":6},{"$f":"AVERAGE(AD29:AD31)","v":{"v":41.43333333333333,"d":"41"}},{"$nulls":6},{"$f":"AVERAGE(AK29:AK31)","v":{"v":7.466666666666666,"d":"7"}},{"$nulls":6},{"$f":"AVERAGE(AR29:AR31)","v":{"v":0.8666666666666667,"d":"1"}}]
["stdev",{"$nulls":7},{"$f":"J29+J30+J31","v":{"$error":"#DIV/0!"}},{"$nulls":6},{"$f":"Q29+Q30+Q31","v":{"$error":"#DIV/0!"}},{"$nulls":6},{"$f":"X29+X30+X31","v":{"$error":"#DIV/0!"}},{"$nulls":6},{"$f":"AE29+AE30+AE31","v":{"v":14.903346976339979,"d":"15"}},{"$nulls":6},{"$f":"AL29+AL30+AL31","v":{"v":4.623153892129164,"d":"5"}},{"$nulls":6},{"$f":"AS29+AS30+AS31","v":{"v":2.221042610573317,"d":"2"}}]
["p+3",1,null,"NA","NA","NA","NA","NA",{"$f":"AVERAGE(D34:H34)","v":{"$error":"#DIV/0!"}},{"$f":"STDEV(D34:H34)","v":{"$error":"#DIV/0!"}},"NA","NA","NA","NA","NA",{"$error":"#DIV/0!"},{"$f":"STDEV(K34:O34)","v":{"$error":"#DIV/0!"}},"NA","NA","NA","NA","NA",{"$error":"#DIV/0!"},{"$f":"STDEV(R34:V34)","v":{"$error":"#DIV/0!"}},"NA","NA","NA","NA","NA",{"$error":"#DIV/0!"},{"$f":"STDEV(Y34:AC34)","v":{"$error":"#DIV/0!"}},4,"NA","NA",2,3,{"$f":"AVERAGE(AF34,AI34:AJ34)","v":3},{"$f":"STDEV(AF34:AJ34)","v":1},0,2,1,0,0,{"v":0.6,"d":"1"},{"$f":"STDEV(AM34:AQ34)","v":{"v":0.8944271909999159,"d":"1"}}]
[null,2,null,"NA","NA","NA","NA","NA",{"$f":"AVERAGE(D35:H35)","v":{"$error":"#DIV/0!"}},{"$f":"STDEV(D35:H35)","v":{"$error":"#DIV/0!"}},"NA","NA","NA","NA","NA",{"$error":"#DIV/0!"},{"$f":"STDEV(K35:O35)","v":{"$error":"#DIV/0!"}},"NA","NA","NA","NA","NA",{"$error":"#DIV/0!"},{"$f":"STDEV(R35:V35)","v":{"$error":"#DIV/0!"}},"NA","NA","NA","NA","NA",{"$error":"#DIV/0!"},{"$f":"STDEV(Y35:AC35)","v":{"$error":"#DIV/0!"}},4,3,"NA",2,7,{"$f":"AVERAGE(AF35:AG35,AI35:AJ35)","v":4},{"$f":"STDEV(AF35:AJ35)","v":{"v":2.160246899469287,"d":"2"}},1,1,0,0,0,{"v":0.4,"d":"0"},{"$f":"STDEV(AM35:AQ35)","v":{"v":0.5477225575051661,"d":"1"}}]
[null,3,null,"NA","NA","NA","NA","NA",{"$f":"AVERAGE(D36:H36)","v":{"$error":"#DIV/0!"}},{"$f":"STDEV(D36:H36)","v":{"$error":"#DIV/0!"}},"NA","NA","NA","NA","NA",{"$error":"#DIV/0!"},{"$f":"STDEV(K36:O36)","v":{"$error":"#DIV/0!"}},"NA","NA","NA","NA","NA",{"$error":"#DIV/0!"},{"$f":"STDEV(R36:V36)","v":{"$error":"#DIV/0!"}},"NA","NA","NA","NA","NA",{"$error":"#DIV/0!"},{"$f":"STDEV(Y36:AC36)","v":{"$error":"#DIV/0!"}},5,"NA","NA",7,6,{"$f":"AVERAGE(AF36, AI36:AJ36)","v":6},{"$f":"STDEV(AF36:AJ36)","v":1},0,0,0,3,0,{"v":0.6,"d":"1"},{"$f":"STDEV(AM36:AQ36)","v":{"v":1.3416407864998738,"d":"1"}}]
["average",{"$nulls":7},{"$f":"AVERAGE(I34:I36)","v":{"$error":"#DIV/0!"}},{"$nulls":6},{"$f":"AVERAGE(P34:P36)","v":{"$error":"#DIV/0!"}},{"$nulls":6},{"$f":"AVERAGE(W34:W36)","v":{"$error":"#DIV/0!"}},{"$nulls":6},{"$f":"AVERAGE(AD34:AD36)","v":{"$error":"#DIV/0!"}},{"$nulls":6},{"$f":"AVERAGE(AK34:AK36)","v":{"v":4.333333333333333,"d":"4"}},{"$nulls":6},{"$f":"AVERAGE(AR34:AR36)","v":{"v":0.5333333333333333,"d":"1"}}]
["stdev",{"$nulls":7},{"$f":"J34+J35+J36","v":{"$error":"#DIV/0!"}},{"$nulls":6},{"$f":"Q34+Q35+Q36","v":{"$error":"#DIV/0!"}},{"$nulls":6},{"$f":"X34+X35+X36","v":{"$error":"#DIV/0!"}},{"$nulls":6},{"$f":"AE34+AE35+AE36","v":{"$error":"#DIV/0!"}},{"$nulls":6},{"$f":"AL34+AL35+AL36","v":{"v":4.160246899469287,"d":"4"}},{"$nulls":6},{"$f":"AS34+AS35+AS36","v":{"v":2.7837905350049557,"d":"3"}}]
["2213F APR",1,null,"NA","NA","NA","NA","NA",{"$f":"AVERAGE(D39:H39)","v":{"$error":"#DIV/0!"}},{"$f":"STDEV(D39:H39)","v":{"$error":"#DIV/0!"}},"NA","NA","NA","NA","NA",{"$error":"#DIV/0!"},{"$f":"STDEV(K39:O39)","v":{"$error":"#DIV/0!"}},"NA","NA","NA","NA","NA",{"$error":"#DIV/0!"},{"$f":"STDEV(R39:V39)","v":{"$error":"#DIV/0!"}},"NA","NA","NA","NA","NA",{"$error":"#DIV/0!"},{"$f":"STDEV(Y39:AC39)","v":{"$error":"#DIV/0!"}},5,4,"NA",6,6,{"$f":"AVERAGE(AF39:AG39,AI39:AJ39)","v":{"v":5.25,"d":"5"}},{"$f":"STDEV(AF39:AJ39)","v":{"v":0.9574271077563381,"d":"1"}},0,0,1,1,1,{"v":0.6,"d":"1"},{"$f":"STDEV(AM39:AQ39)","v":{"v":0.5477225575051661,"d":"1"}}]
["p+0",2,null,"NA","NA","NA","NA","NA",{"$f":"AVERAGE(D40:H40)","v":{"$error":"#DIV/0!"}},{"$f":"STDEV(D40:H40)","v":{"$error":"#DIV/0!"}},"NA","NA","NA","NA","NA",{"$error":"#DIV/0!"},{"$f":"STDEV(K40:O40)","v":{"$error":"#DIV/0!"}},"NA","NA","NA","NA","NA",{"$error":"#DIV/0!"},{"$f":"STDEV(R40:V40)","v":{"$error":"#DIV/0!"}},"NA","NA","NA","NA","NA",{"$error":"#DIV/0!"},{"$f":"STDEV(Y40:AC40)","v":{"$error":"#DIV/0!"}},3,1,4,1,2,{"v":2.2,"d":"2"},{"$f":"STDEV(AF40:AJ40)","v":{"v":1.3038404810405297,"d":"1"}},1,0,1,0,0,{"v":0.4,"d":"0"},{"$f":"STDEV(AM40:AQ40)","v":{"v":0.5477225575051661,"d":"1"}}]
[null,3,null,"NA","NA","NA","NA","NA",{"$f":"AVERAGE(D41:H41)","v":{"$error":"#DIV/0!"}},{"$f":"STDEV(D41:H41)","v":{"$error":"#DIV/0!"}},"NA","NA","NA","NA","NA",{"$error":"#DIV/0!"},{"$f":"STDEV(K41:O41)","v":{"$error":"#DIV/0!"}},"NA","NA","NA","NA","NA",{"$error":"#DIV/0!"},{"$f":"STDEV(R41:V41)","v":{"$error":"#DIV/0!"}},"NA","NA","NA","NA","NA",{"$error":"#DIV/0!"},{"$f":"STDEV(Y41:AC41)","v":{"$error":"#DIV/0!"}},3,1,2,4,4,{"v":2.8,"d":"3"},{"$f":"STDEV(AF41:AJ41)","v":{"v":1.3038404810405295,"d":"1"}},1,0,0,0,1,{"v":0.4,"d":"0"},{"$f":"STDEV(AM41:AQ41)","v":{"v":0.5477225575051661,"d":"1"}}]
["average",{"$nulls":7},{"$f":"AVERAGE(I39:I41)","v":{"$error":"#DIV/0!"}},{"$nulls":6},{"$f":"AVERAGE(P39:P41)","v":{"$error":"#DIV/0!"}},{"$nulls":6},{"$f":"AVERAGE(W39:W41)","v":{"$error":"#DIV/0!"}},{"$nulls":6},{"$f":"AVERAGE(AD39:AD41)","v":{"$error":"#DIV/0!"}},{"$nulls":6},{"$f":"AVERAGE(AK39:AK41)","v":{"v":3.4166666666666665,"d":"3"}},{"$nulls":6},{"$f":"AVERAGE(AR39:AR41)","v":{"v":0.4666666666666666,"d":"0"}}]
["stdev",{"$nulls":7},{"$f":"J39+J40+J41","v":{"$error":"#DIV/0!"}},{"$nulls":6},{"$f":"Q39+Q40+Q41","v":{"$error":"#DIV/0!"}},{"$nulls":6},{"$f":"X39+X40+X41","v":{"$error":"#DIV/0!"}},{"$nulls":6},{"$f":"AE39+AE40+AE41","v":{"$error":"#DIV/0!"}},{"$nulls":6},{"$f":"AL39+AL40+AL41","v":{"v":3.5651080698373976,"d":"4"}},{"$nulls":6},{"$f":"AS39+AS40+AS41","v":{"v":1.6431676725154982,"d":"2"}}]
["p+3",1,null,"NA","NA","NA","NA","NA",{"$f":"AVERAGE(D44:H44)","v":{"$error":"#DIV/0!"}},{"$f":"STDEV(D44:H44)","v":{"$error":"#DIV/0!"}},"NA","NA","NA","NA","NA",{"$error":"#DIV/0!"},{"$f":"STDEV(K44:O44)","v":{"$error":"#DIV/0!"}},"NA","NA","NA","NA","NA",{"$error":"#DIV/0!"},{"$f":"STDEV(R44:V44)","v":{"$error":"#DIV/0!"}},"NA","NA","NA","NA","NA",{"$error":"#DIV/0!"},{"$f":"STDEV(Y44:AC44)","v":{"$error":"#DIV/0!"}},8,9,6,8,12,{"v":8.6,"d":"9"},{"$f":"STDEV(AF44:AJ44)","v":{"v":2.190890230020664,"d":"2"}},0,0,1,1,3,1,{"$f":"STDEV(AM44:AQ44)","v":{"v":1.224744871391589,"d":"1"}}]
[null,2,null,"NA","NA","NA","NA","NA",{"$f":"AVERAGE(D45:H45)","v":{"$error":"#DIV/0!"}},{"$f":"STDEV(D45:H45)","v":{"$error":"#DIV/0!"}},"NA","NA","NA","NA","NA",{"$error":"#DIV/0!"},{"$f":"STDEV(K45:O45)","v":{"$error":"#DIV/0!"}},"NA","NA","NA","NA","NA",{"$error":"#DIV/0!"},{"$f":"STDEV(R45:V45)","v":{"$error":"#DIV/0!"}},59,"NA","NA","NA","NA",{"$f":"AVERAGE(Y45)","v":59},{"$f":"STDEV(Y45:AC45)","v":{"$error":"#DIV/0!"}},6,8,"NA","NA","NA",{"$f":"AVERAGE(AF45:AG45)","v":7},{"$f":"STDEV(AF45:AJ45)","v":{"v":1.4142135623730951,"d":"1"}},2,1,1,2,0,{"v":1.2,"d":"1"},{"$f":"STDEV(AM45:AQ45)","v":{"v":0.8366600265340756,"d":"1"}}]
[null,3,null,"NA","NA","NA","NA","NA",{"$f":"AVERAGE(D46:H46)","v":{"$error":"#DIV/0!"}},{"$f":"STDEV(D46:H46)","v":{"$error":"#DIV/0!"}},"NA","NA","NA","NA","NA",{"$error":"#DIV/0!"},{"$f":"STDEV(K46:O46)","v":{"$error":"#DIV/0!"}},"NA","NA","NA","NA","NA",{"$error":"#DIV/0!"},{"$f":"STDEV(R46:V46)","v":{"$error":"#DIV/0!"}},"NA","NA","NA","NA","NA",{"$error":"#DIV/0!"},{"$f":"STDEV(Y46:AC46)","v":{"$error":"#DIV/0!"}},9,"NA","NA","NA","NA",{"$f":"AVERAGE(AF46)","v":9},{"$f":"STDEV(AF46:AJ46)","v":{"$error":"#DIV/0!"}},3,3,1,1,1,{"v":1.8,"d":"2"},{"$f":"STDEV(AM46:AQ46)","v":{"v":1.0954451150103324,"d":"1"}}]
["average",{"$nulls":7},{"$f":"AVERAGE(I44:I46)","v":{"$error":"#DIV/0!"}},{"$nulls":6},{"$f":"AVERAGE(P44:P46)","v":{"$error":"#DIV/0!"}},{"$nulls":6},{"$f":"AVERAGE(W44:W46)","v":{"$error":"#DIV/0!"}},{"$nulls":6},{"$f":"AVERAGE(AD45)","v":59},{"$nulls":6},{"$f":"AVERAGE(AK44:AK46)","v":{"v":8.200000000000001,"d":"8"}},{"$nulls":6},{"$f":"AVERAGE(AR44:AR46)","v":{"v":1.3333333333333333,"d":"1"}}]
["stdev",{"$nulls":7},{"$f":"J44+J45+J46","v":{"$error":"#DIV/0!"}},{"$nulls":6},{"$f":"Q44+Q45+Q46","v":{"$error":"#DIV/0!"}},{"$nulls":6},{"$f":"X44+X45+X46","v":{"$error":"#DIV/0!"}},{"$nulls":6},{"$f":"AE44+AE45+AE46","v":{"$error":"#DIV/0!"}},{"$nulls":6},{"$f":"AL44+AL45+AL46","v":{"$error":"#DIV/0!"}},{"$nulls":6},{"$f":"AS44+AS45+AS46","v":{"v":3.1568500129359967,"d":"3"}}]
[]
[]
["T2","2017-06-01"]
["Sample","Dilution:",null,1,{"$nulls":4},"AVERAGE","Stdev",{"$f":"10^-1","v":0.1},{"$nulls":4},"AVERAGE","Stdev",{"$f":"10^-2","v":0.01},{"$nulls":4},"AVERAGE","Stdev",{"$f":"10^-3","v":1E-3},{"$nulls":4},"AVERAGE","Stdev",{"$f":"10^-4","v":1E-4},{"$nulls":4},"AVERAGE","Stdev",{"$f":"10^-5","v":1e-05},{"$nulls":4},"AVERAGE","Stdev"]
["Blank",1,null,0,0,0,0,0,{"$f":"AVERAGE(D53:H53)","v":0},{"$f":"STDEV(D53:H53)","v":0},0,0,0,0,0,{"$f":"AVERAGE(K53:O53)","v":0},{"$f":"STDEV(K53:O53)","v":0},0,0,0,0,0,{"$f":"AVERAGE(R53:V53)","v":0},{"$f":"STDEV(R53:V53)","v":0},0,0,0,0,0,{"$f":"AVERAGE(Y53:AC53)","v":0},{"$f":"STDEV(Y53:AC53)","v":0},0,0,0,0,0,{"$f":"AVERAGE(AF53:AJ53)","v":0},{"$f":"STDEV(AF53:AJ53)","v":0},0,0,0,0,0,{"$f":"AVERAGE(AM53:AQ53)","v":0},{"$f":"STDEV(AM53:AQ53)","v":0}]
[null,2,null,0,0,0,0,0,{"$f":"AVERAGE(D54:H54)","v":0},{"$f":"STDEV(D54:H54)","v":0},0,0,0,0,0,{"$f":"AVERAGE(K54:O54)","v":0},{"$f":"STDEV(K54:O54)","v":0},0,0,0,0,0,{"$f":"AVERAGE(R54:V54)","v":0},{"$f":"STDEV(R54:V54)","v":0},0,0,0,0,0,{"$f":"AVERAGE(Y54:AC54)","v":0},{"$f":"STDEV(Y54:AC54)","v":0},0,0,0,0,0,{"$f":"AVERAGE(AF54:AJ54)","v":0},{"$f":"STDEV(AF54:AJ54)","v":0},0,0,0,0,0,{"$f":"AVERAGE(AM54:AQ54)","v":0},{"$f":"STDEV(AM54:AQ54)","v":0}]
[null,3,null,0,0,0,0,0,{"$f":"AVERAGE(D55:H55)","v":0},{"$f":"STDEV(D55:H55)","v":0},0,0,0,0,0,0,{"$f":"STDEV(K55:O55)","v":0},0,0,0,0,0,0,{"$f":"STDEV(R55:V55)","v":0},0,0,0,0,0,0,{"$f":"STDEV(Y55:AC55)","v":0},0,0,0,0,0,0,{"$f":"STDEV(AF55:AJ55)","v":0},0,0,0,0,0,0,{"$f":"STDEV(AM55:AQ55)","v":0}]
[{"$nulls":8},{"$f":"AVERAGE(I53:I55)","v":0},{"$nulls":6},{"$f":"AVERAGE(P53:P55)","v":0},{"$nulls":6},{"$f":"AVERAGE(W53:W55)","v":0},{"$nulls":6},{"$f":"AVERAGE(AD53:AD55)","v":0},{"$nulls":6},{"$f":"AVERAGE(AK53:AK55)","v":0},{"$nulls":6},{"$f":"AVERAGE(AR53:AR55)","v":0}]
[{"$nulls":8},{"$f":"J53+J54+J55","v":0},{"$nulls":6},{"$f":"Q53+Q54+Q55","v":0},{"$nulls":6},{"$f":"X53+X54+X55","v":0},{"$nulls":6},{"$f":"AE53+AE54+AE55","v":0},{"$nulls":6},{"$f":"AL53+AL54+AL55","v":0},{"$nulls":6},{"$f":"AS53+AS54+AS55","v":0}]
["WT",1,null,"NA","NA","NA","NA","NA",{"$f":"AVERAGE(D58:H58)","v":{"$error":"#DIV/0!"}},{"$f":"STDEV(D58:H58)","v":{"$error":"#DIV/0!"}},"NA","NA","NA","NA","NA",{"$f":"AVERAGE(K58:O58)","v":{"$error":"#DIV/0!"}},{"$f":"STDEV(K58:O58)","v":{"$error":"#DIV/0!"}},"NA","NA","NA","NA","NA",{"$f":"AVERAGE(R58:V58)","v":{"$error":"#DIV/0!"}},{"$f":"STDEV(R58:V58)","v":{"$error":"#DIV/0!"}},"NA","NA","NA","NA","NA",{"$f":"AVERAGE(Y58:AC58)","v":{"$error":"#DIV/0!"}},{"$f":"STDEV(Y58:AC58)","v":{"$error":"#DIV/0!"}},"NA","NA","NA","NA","NA",{"$f":"AVERAGE(AF58:AJ58)","v":{"$error":"#DIV/0!"}},{"$f":"STDEV(AF58:AJ58)","v":{"$error":"#DIV/0!"}},{"$f":"391/5","v":{"v":78.2,"d":"78"}},{"$f":"391/5","v":{"v":78.2,"d":"78"}},{"$f":"391/5","v":{"v":78.2,"d":"78"}},{"$f":"391/5","v":{"v":78.2,"d":"78"}},{"$f":"391/5","v":{"v":78.2,"d":"78"}},{"$f":"AVERAGE(AM58:AQ58)","v":{"v":78.2,"d":"78"}},{"$f":"STDEV(AM58:AQ58)","v":0}]
[null,2,null,"NA","NA","NA","NA","NA",{"$f":"AVERAGE(D59:H59)","v":{"$error":"#DIV/0!"}},{"$f":"STDEV(D59:H59)","v":{"$error":"#DIV/0!"}},"NA","NA","NA","NA","NA",{"$error":"#DIV/0!"},{"$f":"STDEV(K59:O59)","v":{"$error":"#DIV/0!"}},"NA","NA","NA","NA","NA",{"$error":"#DIV/0!"},{"$f":"STDEV(R59:V59)","v":{"$error":"#DIV/0!"}},"NA","NA","NA","NA","NA",{"$error":"#DIV/0!"},{"$f":"STDEV(Y59:AC59)","v":{"$error":"#DIV/0!"}},"NA","NA","NA","NA","NA",{"$error":"#DIV/0!"},{"$f":"STDEV(AF59:AJ59)","v":{"$error":"#DIV/0!"}},{"$f":"338/5","v":{"v":67.6,"d":"68"}},{"$f":"338/5","v":{"v":67.6,"d":"68"}},{"$f":"338/5","v":{"v":67.6,"d":"68"}},{"$f":"338/5","v":{"v":67.6,"d":"68"}},{"$f":"338/5","v":{"v":67.6,"d":"68"}},{"v":67.6,"d":"68"},{"$f":"STDEV(AM59:AQ59)","v":0}]
[null,3,null,"NA","NA","NA","NA","NA",{"$f":"AVERAGE(D60:H60)","v":{"$error":"#DIV/0!"}},{"$f":"STDEV(D60:H60)","v":{"$error":"#DIV/0!"}},"NA","NA","NA","NA","NA",{"$error":"#DIV/0!"},{"$f":"STDEV(K60:O60)","v":{"$error":"#DIV/0!"}},"NA","NA","NA","NA","NA",{"$error":"#DIV/0!"},{"$f":"STDEV(R60:V60)","v":{"$error":"#DIV/0!"}},"NA","NA","NA","NA","NA",{"$error":"#DIV/0!"},{"$f":"STDEV(Y60:AC60)","v":{"$error":"#DIV/0!"}},"NA","NA","NA","NA","NA",{"$error":"#DIV/0!"},{"$f":"STDEV(AF60:AJ60)","v":{"$error":"#DIV/0!"}},"NA","NA","NA","NA","NA",{"$error":"#DIV/0!"},{"$f":"STDEV(AM60:AQ60)","v":{"$error":"#DIV/0!"}}]
["average",{"$nulls":7},{"$f":"AVERAGE(I58:I60)","v":{"$error":"#DIV/0!"}},{"$nulls":6},{"$f":"AVERAGE(P58:P60)","v":{"$error":"#DIV/0!"}},{"$nulls":6},{"$f":"AVERAGE(W58:W60)","v":{"$error":"#DIV/0!"}},{"$nulls":6},{"$f":"AVERAGE(AD58:AD60)","v":{"$error":"#DIV/0!"}},{"$nulls":6},{"$f":"AVERAGE(AK58:AK60)","v":{"$error":"#DIV/0!"}},{"$nulls":6},{"$f":"AVERAGE(AR58:AR59)","v":{"v":72.9,"d":"73"}}]
["stdev",{"$nulls":7},{"$f":"J58+J59+J60","v":{"$error":"#DIV/0!"}},{"$nulls":6},{"$f":"Q58+Q59+Q60","v":{"$error":"#DIV/0!"}},{"$nulls":6},{"$f":"X58+X59+X60","v":{"$error":"#DIV/0!"}},{"$nulls":6},{"$f":"AE58+AE59+AE60","v":{"$error":"#DIV/0!"}},{"$nulls":6},{"$f":"AL58+AL59+AL60","v":{"$error":"#DIV/0!"}},{"$nulls":6},{"$f":"AS58+AS59+AS60","v":{"$error":"#DIV/0!"}}]
["2213F - ",1,null,"NA","NA","NA","NA","NA",{"$f":"AVERAGE(D63:H63)","v":{"$error":"#DIV/0!"}},{"$f":"STDEV(D63:H63)","v":{"$error":"#DIV/0!"}},"NA","NA","NA","NA","NA",{"$f":"AVERAGE(K63:O63)","v":{"$error":"#DIV/0!"}},{"$f":"STDEV(K63:O63)","v":{"$error":"#DIV/0!"}},"NA","NA","NA","NA","NA",{"$f":"AVERAGE(R63:V63)","v":{"$error":"#DIV/0!"}},{"$f":"STDEV(R63:V63)","v":{"$error":"#DIV/0!"}},"NA","NA","NA","NA","NA",{"$f":"AVERAGE(Y63:AC63)","v":{"$error":"#DIV/0!"}},{"$f":"STDEV(Y63:AC63)","v":{"$error":"#DIV/0!"}},"NA","NA","NA","NA","NA",{"$f":"AVERAGE(AF63:AJ63)","v":{"$error":"#DIV/0!"}},{"$f":"STDEV(AF63:AJ63)","v":{"$error":"#DIV/0!"}},{"v":26.6,"d":"27"},{"v":26.6,"d":"27"},{"v":26.6,"d":"27"},{"v":26.6,"d":"27"},{"v":26.6,"d":"27"},{"$f":"AVERAGE(AM63:AQ63)","v":{"v":26.6,"d":"27"}},{"$f":"STDEV(AM63:AQ63)","v":0}]
["p+0",2,null,"NA","NA","NA","NA","NA",{"$f":"AVERAGE(D64:H64)","v":{"$error":"#DIV/0!"}},{"$f":"STDEV(D64:H64)","v":{"$error":"#DIV/0!"}},"NA","NA","NA","NA","NA",{"$error":"#DIV/0!"},{"$f":"STDEV(K64:O64)","v":{"$error":"#DIV/0!"}},"NA","NA","NA","NA","NA",{"$error":"#DIV/0!"},{"$f":"STDEV(R64:V64)","v":{"$error":"#DIV/0!"}},"NA","NA","NA","NA","NA",{"$error":"#DIV/0!"},{"$f":"STDEV(Y64:AC64)","v":{"$error":"#DIV/0!"}},"NA","NA","NA","NA","NA",{"$error":"#DIV/0!"},{"$f":"STDEV(AF64:AJ64)","v":{"$error":"#DIV/0!"}},30,30,30,30,30,30,{"$f":"STDEV(AM64:AQ64)","v":0}]
[null,3,null,"NA","NA","NA","NA","NA",{"$f":"AVERAGE(D65:H65)","v":{"$error":"#DIV/0!"}},{"$f":"STDEV(D65:H65)","v":{"$error":"#DIV/0!"}},"NA","NA","NA","NA","NA",{"$error":"#DIV/0!"},{"$f":"STDEV(K65:O65)","v":{"$error":"#DIV/0!"}},"NA","NA","NA","NA","NA",{"$error":"#DIV/0!"},{"$f":"STDEV(R65:V65)","v":{"$error":"#DIV/0!"}},"NA","NA","NA","NA","NA",{"$error":"#DIV/0!"},{"$f":"STDEV(Y65:AC65)","v":{"$error":"#DIV/0!"}},"NA","NA","NA","NA","NA",{"$error":"#DIV/0!"},{"$f":"STDEV(AF65:AJ65)","v":{"$error":"#DIV/0!"}},{"v":40.6,"d":"41"},{"v":40.6,"d":"41"},{"v":40.6,"d":"41"},{"v":40.6,"d":"41"},{"v":40.6,"d":"41"},{"v":40.6,"d":"41"},{"$f":"STDEV(AM65:AQ65)","v":0}]
["average",{"$nulls":7},{"$f":"AVERAGE(I63:I65)","v":{"$error":"#DIV/0!"}},{"$nulls":6},{"$f":"AVERAGE(P63:P65)","v":{"$error":"#DIV/0!"}},{"$nulls":6},{"$f":"AVERAGE(W63:W65)","v":{"$error":"#DIV/0!"}},{"$nulls":6},{"$f":"AVERAGE(AD63:AD65)","v":{"$error":"#DIV/0!"}},{"$nulls":6},{"$f":"AVERAGE(AK63:AK65)","v":{"$error":"#DIV/0!"}},{"$nulls":6},{"$f":"AVERAGE(AR63:AR65)","v":{"v":32.4,"d":"32"}}]
["stdev",{"$nulls":7},{"$f":"J63+J64+J65","v":{"$error":"#DIV/0!"}},{"$nulls":6},{"$f":"Q63+Q64+Q65","v":{"$error":"#DIV/0!"}},{"$nulls":6},{"$f":"X63+X64+X65","v":{"$error":"#DIV/0!"}},{"$nulls":6},{"$f":"AE63+AE64+AE65","v":{"$error":"#DIV/0!"}},{"$nulls":6},{"$f":"AL63+AL64+AL65","v":{"$error":"#DIV/0!"}},{"$nulls":6},{"$f":"AS63+AS64+AS65","v":0}]
["p+3",1,null,"NA","NA","NA","NA","NA",{"$f":"AVERAGE(D68:H68)","v":{"$error":"#DIV/0!"}},{"$f":"STDEV(D68:H68)","v":{"$error":"#DIV/0!"}},"NA","NA","NA","NA","NA",{"$f":"AVERAGE(K68:O68)","v":{"$error":"#DIV/0!"}},{"$f":"STDEV(K68:O68)","v":{"$error":"#DIV/0!"}},"NA","NA","NA","NA","NA",{"$f":"AVERAGE(R68:V68)","v":{"$error":"#DIV/0!"}},{"$f":"STDEV(R68:V68)","v":{"$error":"#DIV/0!"}},"NA","NA","NA","NA","NA",{"$f":"AVERAGE(Y68:AC68)","v":{"$error":"#DIV/0!"}},{"$f":"STDEV(Y68:AC68)","v":{"$error":"#DIV/0!"}},"NA","NA","NA","NA","NA",{"$f":"AVERAGE(AF68:AJ68)","v":{"$error":"#DIV/0!"}},{"$f":"STDEV(AF68:AJ68)","v":{"$error":"#DIV/0!"}},"NA","NA","NA","NA","NA",{"$f":"AVERAGE(AM68:AQ68)","v":{"$error":"#DIV/0!"}},{"$f":"STDEV(AM68:AQ68)","v":{"$error":"#DIV/0!"}}]
[null,2,null,"NA","NA","NA","NA","NA",{"$f":"AVERAGE(D69:H69)","v":{"$error":"#DIV/0!"}},{"$f":"STDEV(D69:H69)","v":{"$error":"#DIV/0!"}},"NA","NA","NA","NA","NA",{"$error":"#DIV/0!"},{"$f":"STDEV(K69:O69)","v":{"$error":"#DIV/0!"}},"NA","NA","NA","NA","NA",{"$error":"#DIV/0!"},{"$f":"STDEV(R69:V69)","v":{"$error":"#DIV/0!"}},"NA","NA","NA","NA","NA",{"$error":"#DIV/0!"},{"$f":"STDEV(Y69:AC69)","v":{"$error":"#DIV/0!"}},"NA","NA","NA","NA","NA",{"$error":"#DIV/0!"},{"$f":"STDEV(AF69:AJ69)","v":{"$error":"#DIV/0!"}},{"v":87.2,"d":"87"},{"v":87.2,"d":"87"},{"v":87.2,"d":"87"},{"v":87.2,"d":"87"},{"v":87.2,"d":"87"},{"v":87.2,"d":"87"},{"$f":"STDEV(AM69:AQ69)","v":0}]
[null,3,null,"NA","NA","NA","NA","NA",{"$f":"AVERAGE(D70:H70)","v":{"$error":"#DIV/0!"}},{"$f":"STDEV(D70:H70)","v":{"$error":"#DIV/0!"}},"NA","NA","NA","NA","NA",{"$error":"#DIV/0!"},{"$f":"STDEV(K70:O70)","v":{"$error":"#DIV/0!"}},"NA","NA","NA","NA","NA",{"$error":"#DIV/0!"},{"$f":"STDEV(R70:V70)","v":{"$error":"#DIV/0!"}},"NA","NA","NA","NA","NA",{"$error":"#DIV/0!"},{"$f":"STDEV(Y70:AC70)","v":{"$error":"#DIV/0!"}},"NA","NA","NA","NA","NA",{"$error":"#DIV/0!"},{"$f":"STDEV(AF70:AJ70)","v":{"$error":"#DIV/0!"}},64,64,64,64,64,64,{"$f":"STDEV(AM70:AQ70)","v":0}]
["average",{"$nulls":7},{"$f":"AVERAGE(I68:I70)","v":{"$error":"#DIV/0!"}},{"$nulls":6},{"$f":"AVERAGE(P68:P70)","v":{"$error":"#DIV/0!"}},{"$nulls":6},{"$f":"AVERAGE(W68:W70)","v":{"$error":"#DIV/0!"}},{"$nulls":6},{"$f":"AVERAGE(AD68:AD70)","v":{"$error":"#DIV/0!"}},{"$nulls":6},{"$f":"AVERAGE(AK68:AK70)","v":{"$error":"#DIV/0!"}},{"$nulls":6},{"$f":"AVERAGE(AR69:AR70)","v":{"v":75.6,"d":"76"}}]
["stdev",{"$nulls":7},{"$f":"J68+J69+J70","v":{"$error":"#DIV/0!"}},{"$nulls":6},{"$f":"Q68+Q69+Q70","v":{"$error":"#DIV/0!"}},{"$nulls":6},{"$f":"X68+X69+X70","v":{"$error":"#DIV/0!"}},{"$nulls":6},{"$f":"AE68+AE69+AE70","v":{"$error":"#DIV/0!"}},{"$nulls":6},{"$f":"AL68+AL69+AL70","v":{"$error":"#DIV/0!"}},{"$nulls":6},{"$f":"AS68+AS69+AS70","v":{"$error":"#DIV/0!"}}]
["2213F A",1,null,"NA","NA","NA","NA","NA",{"$f":"AVERAGE(D73:H73)","v":{"$error":"#DIV/0!"}},{"$f":"STDEV(D73:H73)","v":{"$error":"#DIV/0!"}},"NA","NA","NA","NA","NA",{"$f":"AVERAGE(K73:O73)","v":{"$error":"#DIV/0!"}},{"$f":"STDEV(K73:O73)","v":{"$error":"#DIV/0!"}},"NA","NA","NA","NA","NA",{"$f":"AVERAGE(R73:V73)","v":{"$error":"#DIV/0!"}},{"$f":"STDEV(R73:V73)","v":{"$error":"#DIV/0!"}},"NA","NA","NA","NA","NA",{"$f":"AVERAGE(Y73:AC73)","v":{"$error":"#DIV/0!"}},{"$f":"STDEV(Y73:AC73)","v":{"$error":"#DIV/0!"}},"NA","NA","NA","NA","NA",{"$f":"AVERAGE(AF73:AJ73)","v":{"$error":"#DIV/0!"}},{"$f":"STDEV(AF73:AJ73)","v":{"$error":"#DIV/0!"}},{"v":45.4,"d":"45"},{"v":45.4,"d":"45"},{"v":45.4,"d":"45"},{"v":45.4,"d":"45"},{"v":45.4,"d":"45"},{"$f":"AVERAGE(AM73:AQ73)","v":{"v":45.4,"d":"45"}},{"$f":"STDEV(AM73:AQ73)","v":0}]
["p+0",2,null,"NA","NA","NA","NA","NA",{"$f":"AVERAGE(D74:H74)","v":{"$error":"#DIV/0!"}},{"$f":"STDEV(D74:H74)","v":{"$error":"#DIV/0!"}},"NA","NA","NA","NA","NA",{"$error":"#DIV/0!"},{"$f":"STDEV(K74:O74)","v":{"$error":"#DIV/0!"}},"NA","NA","NA","NA","NA",{"$error":"#DIV/0!"},{"$f":"STDEV(R74:V74)","v":{"$error":"#DIV/0!"}},"NA","NA","NA","NA","NA",{"$error":"#DIV/0!"},{"$f":"STDEV(Y74:AC74)","v":{"$error":"#DIV/0!"}},"NA","NA","NA","NA","NA",{"$error":"#DIV/0!"},{"$f":"STDEV(AF74:AJ74)","v":{"$error":"#DIV/0!"}},40,40,40,40,40,40,{"$f":"STDEV(AM74:AQ74)","v":0}]
[null,3,null,"NA","NA","NA","NA","NA",{"$f":"AVERAGE(D75:H75)","v":{"$error":"#DIV/0!"}},{"$f":"STDEV(D75:H75)","v":{"$error":"#DIV/0!"}},"NA","NA","NA","NA","NA",{"$error":"#DIV/0!"},{"$f":"STDEV(K75:O75)","v":{"$error":"#DIV/0!"}},"NA","NA","NA","NA","NA",{"$error":"#DIV/0!"},{"$f":"STDEV(R75:V75)","v":{"$error":"#DIV/0!"}},"NA","NA","NA","NA","NA",{"$f":"AVERAGE(Y75:AC75)","v":{"$error":"#DIV/0!"}},{"$f":"STDEV(Y75:AC75)","v":{"$error":"#DIV/0!"}},"NA","NA","NA","NA","NA",{"$f":"AVERAGE(AF75:AJ75)","v":{"$error":"#DIV/0!"}},{"$f":"STDEV(AF75:AJ75)","v":{"$error":"#DIV/0!"}},{"v":30.2,"d":"30"},{"v":30.2,"d":"30"},{"v":30.2,"d":"30"},{"v":30.2,"d":"30"},{"v":30.2,"d":"30"},{"v":30.2,"d":"30"},{"$f":"STDEV(AM75:AQ75)","v":0}]
["average",{"$nulls":7},{"$f":"AVERAGE(I73:I75)","v":{"$error":"#DIV/0!"}},{"$nulls":6},{"$f":"AVERAGE(P73:P75)","v":{"$error":"#DIV/0!"}},{"$nulls":6},{"$f":"AVERAGE(W73:W75)","v":{"$error":"#DIV/0!"}},{"$nulls":6},{"$f":"AVERAGE(AD73:AD75)","v":{"$error":"#DIV/0!"}},{"$nulls":6},{"$f":"AVERAGE(AK73:AK75)","v":{"$error":"#DIV/0!"}},{"$nulls":6},{"$f":"AVERAGE(AR73:AR75)","v":{"v":38.53333333333334,"d":"39"}}]
["stdev",{"$nulls":7},{"$f":"J73+J74+J75","v":{"$error":"#DIV/0!"}},{"$nulls":6},{"$f":"Q73+Q74+Q75","v":{"$error":"#DIV/0!"}},{"$nulls":6},{"$f":"X73+X74+X75","v":{"$error":"#DIV/0!"}},{"$nulls":6},{"$f":"AE73+AE74+AE75","v":{"$error":"#DIV/0!"}},{"$nulls":6},{"$f":"AL73+AL74+AL75","v":{"$error":"#DIV/0!"}},{"$nulls":6},{"$f":"AS73+AS74+AS75","v":0}]
["p+3",1,null,"NA","NA","NA","NA","NA",{"$f":"AVERAGE(D78:H78)","v":{"$error":"#DIV/0!"}},{"$f":"STDEV(D78:H78)","v":{"$error":"#DIV/0!"}},"NA","NA","NA","NA","NA",{"$f":"AVERAGE(K78:O78)","v":{"$error":"#DIV/0!"}},{"$f":"STDEV(K78:O78)","v":{"$error":"#DIV/0!"}},"NA","NA","NA","NA","NA",{"$f":"AVERAGE(R78:V78)","v":{"$error":"#DIV/0!"}},{"$f":"STDEV(R78:V78)","v":{"$error":"#DIV/0!"}},"NA","NA","NA","NA","NA",{"$f":"AVERAGE(Y78:AC78)","v":{"$error":"#DIV/0!"}},{"$f":"STDEV(Y78:AC78)","v":{"$error":"#DIV/0!"}},"NA","NA","NA","NA","NA",{"$f":"AVERAGE(AF78:AJ78)","v":{"$error":"#DIV/0!"}},{"$f":"STDEV(AF78:AJ78)","v":{"$error":"#DIV/0!"}},{"v":44.6,"d":"45"},{"v":44.6,"d":"45"},{"v":44.6,"d":"45"},{"v":44.6,"d":"45"},{"v":44.6,"d":"45"},{"$f":"AVERAGE(AM78:AQ78)","v":{"v":44.6,"d":"45"}},{"$f":"STDEV(AM78:AQ78)","v":0}]
[null,2,null,"NA","NA","NA","NA","NA",{"$f":"AVERAGE(D79:H79)","v":{"$error":"#DIV/0!"}},{"$f":"STDEV(D79:H79)","v":{"$error":"#DIV/0!"}},"NA","NA","NA","NA","NA",{"$error":"#DIV/0!"},{"$f":"STDEV(K79:O79)","v":{"$error":"#DIV/0!"}},"NA","NA","NA","NA","NA",{"$error":"#DIV/0!"},{"$f":"STDEV(R79:V79)","v":{"$error":"#DIV/0!"}},"NA","NA","NA","NA","NA",{"$error":"#DIV/0!"},{"$f":"STDEV(Y79:AC79)","v":{"$error":"#DIV/0!"}},"NA","NA","NA","NA","NA",{"$f":"AVERAGE(AF79:AJ79)","v":{"$error":"#DIV/0!"}},{"$f":"STDEV(AF79:AJ79)","v":{"$error":"#DIV/0!"}},{"v":52.2,"d":"52"},{"v":52.2,"d":"52"},{"v":52.2,"d":"52"},{"v":52.2,"d":"52"},{"v":52.2,"d":"52"},{"v":52.2,"d":"52"},{"$f":"STDEV(AM79:AQ79)","v":0}]
[null,3,null,"NA","NA","NA","NA","NA",{"$f":"AVERAGE(D80:H80)","v":{"$error":"#DIV/0!"}},{"$f":"STDEV(D80:H80)","v":{"$error":"#DIV/0!"}},"NA","NA","NA","NA","NA",{"$error":"#DIV/0!"},{"$f":"STDEV(K80:O80)","v":{"$error":"#DIV/0!"}},"NA","NA","NA","NA","NA",{"$error":"#DIV/0!"},{"$f":"STDEV(R80:V80)","v":{"$error":"#DIV/0!"}},"NA","NA","NA","NA","NA",{"$error":"#DIV/0!"},{"$f":"STDEV(Y80:AC80)","v":{"$error":"#DIV/0!"}},"NA","NA","NA","NA","NA",{"$error":"#DIV/0!"},{"$f":"STDEV(AF80:AJ80)","v":{"$error":"#DIV/0!"}},{"v":45.2,"d":"45"},{"v":45.2,"d":"45"},{"v":45.2,"d":"45"},{"v":45.2,"d":"45"},{"v":45.2,"d":"45"},{"v":45.2,"d":"45"},{"$f":"STDEV(AM80:AQ80)","v":0}]
["average",{"$nulls":7},{"$f":"AVERAGE(I78:I80)","v":{"$error":"#DIV/0!"}},{"$nulls":6},{"$f":"AVERAGE(P78:P80)","v":{"$error":"#DIV/0!"}},{"$nulls":6},{"$f":"AVERAGE(W78:W80)","v":{"$error":"#DIV/0!"}},{"$nulls":6},{"$f":"AVERAGE(AD78:AD80)","v":{"$error":"#DIV/0!"}},{"$nulls":6},{"$f":"AVERAGE(AK78:AK80)","v":{"$error":"#DIV/0!"}},{"$nulls":6},{"$f":"AVERAGE(AR78:AR80)","v":{"v":47.333333333333336,"d":"47"}}]
["stdev",{"$nulls":7},{"$f":"J78+J79+J80","v":{"$error":"#DIV/0!"}},{"$nulls":6},{"$f":"Q78+Q79+Q80","v":{"$error":"#DIV/0!"}},{"$nulls":6},{"$f":"X78+X79+X80","v":{"$error":"#DIV/0!"}},{"$nulls":6},{"$f":"AE78+AE79+AE80","v":{"$error":"#DIV/0!"}},{"$nulls":6},{"$f":"AL78+AL79+AL80","v":{"$error":"#DIV/0!"}},{"$nulls":6},{"$f":"AS78+AS79+AS80","v":0}]
["2213F APR",1,null,"NA","NA","NA","NA","NA",{"$f":"AVERAGE(D83:H83)","v":{"$error":"#DIV/0!"}},{"$f":"STDEV(D83:H83)","v":{"$error":"#DIV/0!"}},"NA","NA","NA","NA","NA",{"$f":"AVERAGE(K83:O83)","v":{"$error":"#DIV/0!"}},{"$f":"STDEV(K83:O83)","v":{"$error":"#DIV/0!"}},"NA","NA","NA","NA","NA",{"$f":"AVERAGE(R83:V83)","v":{"$error":"#DIV/0!"}},{"$f":"STDEV(R83:V83)","v":{"$error":"#DIV/0!"}},"NA","NA","NA","NA","NA",{"$f":"AVERAGE(Y83:AC83)","v":{"$error":"#DIV/0!"}},{"$f":"STDEV(Y83:AC83)","v":{"$error":"#DIV/0!"}},"NA","NA","NA","NA","NA",{"$f":"AVERAGE(AF83:AJ83)","v":{"$error":"#DIV/0!"}},{"$f":"STDEV(AF83:AJ83)","v":{"$error":"#DIV/0!"}},53,53,53,53,53,{"$f":"AVERAGE(AM83:AQ83)","v":53},{"$f":"STDEV(AM83:AQ83)","v":0}]
["p+0",2,null,"NA","NA","NA","NA","NA",{"$f":"AVERAGE(D84:H84)","v":{"$error":"#DIV/0!"}},{"$f":"STDEV(D84:H84)","v":{"$error":"#DIV/0!"}},"NA","NA","NA","NA","NA",{"$error":"#DIV/0!"},{"$f":"STDEV(K84:O84)","v":{"$error":"#DIV/0!"}},"NA","NA","NA","NA","NA",{"$error":"#DIV/0!"},{"$f":"STDEV(R84:V84)","v":{"$error":"#DIV/0!"}},"NA","NA","NA","NA","NA",{"$error":"#DIV/0!"},{"$f":"STDEV(Y84:AC84)","v":{"$error":"#DIV/0!"}},"NA","NA","NA","NA","NA",{"$f":"AVERAGE(AF84:AJ84)","v":{"$error":"#DIV/0!"}},{"$f":"STDEV(AF84:AJ84)","v":{"$error":"#DIV/0!"}},{"v":68.8,"d":"69"},{"v":68.8,"d":"69"},{"v":68.8,"d":"69"},{"v":68.8,"d":"69"},{"v":68.8,"d":"69"},{"v":68.8,"d":"69"},{"$f":"STDEV(AM84:AQ84)","v":0}]
[null,3,null,"NA","NA","NA","NA","NA",{"$f":"AVERAGE(D85:H85)","v":{"$error":"#DIV/0!"}},{"$f":"STDEV(D85:H85)","v":{"$error":"#DIV/0!"}},"NA","NA","NA","NA","NA",{"$error":"#DIV/0!"},{"$f":"STDEV(K85:O85)","v":{"$error":"#DIV/0!"}},"NA","NA","NA","NA","NA",{"$error":"#DIV/0!"},{"$f":"STDEV(R85:V85)","v":{"$error":"#DIV/0!"}},"NA","NA","NA","NA","NA",{"$error":"#DIV/0!"},{"$f":"STDEV(Y85:AC85)","v":{"$error":"#DIV/0!"}},"NA","NA","NA","NA","NA",{"$error":"#DIV/0!"},{"$f":"STDEV(AF85:AJ85)","v":{"$error":"#DIV/0!"}},{"v":43.4,"d":"43"},{"v":43.4,"d":"43"},{"v":43.4,"d":"43"},{"v":43.4,"d":"43"},{"v":43.4,"d":"43"},{"v":43.4,"d":"43"},{"$f":"STDEV(AM85:AQ85)","v":0}]
["average",{"$nulls":7},{"$f":"AVERAGE(I83:I85)","v":{"$error":"#DIV/0!"}},{"$nulls":6},{"$f":"AVERAGE(P83:P85)","v":{"$error":"#DIV/0!"}},{"$nulls":6},{"$f":"AVERAGE(W83:W85)","v":{"$error":"#DIV/0!"}},{"$nulls":6},{"$f":"AVERAGE(AD83:AD85)","v":{"$error":"#DIV/0!"}},{"$nulls":6},{"$f":"AVERAGE(AK83:AK85)","v":{"$error":"#DIV/0!"}},{"$nulls":6},{"$f":"AVERAGE(AR83:AR85)","v":{"v":55.06666666666666,"d":"55"}}]
["stdev",{"$nulls":7},{"$f":"J83+J84+J85","v":{"$error":"#DIV/0!"}},{"$nulls":6},{"$f":"Q83+Q84+Q85","v":{"$error":"#DIV/0!"}},{"$nulls":6},{"$f":"X83+X84+X85","v":{"$error":"#DIV/0!"}},{"$nulls":6},{"$f":"AE83+AE84+AE85","v":{"$error":"#DIV/0!"}},{"$nulls":6},{"$f":"AL83+AL84+AL85","v":{"$error":"#DIV/0!"}},{"$nulls":6},{"$f":"AS83+AS84+AS85","v":0}]
["p+3",1,null,"NA","NA","NA","NA","NA",{"$f":"AVERAGE(D88:H88)","v":{"$error":"#DIV/0!"}},{"$f":"STDEV(D88:H88)","v":{"$error":"#DIV/0!"}},"NA","NA","NA","NA","NA",{"$f":"AVERAGE(K88:O88)","v":{"$error":"#DIV/0!"}},{"$f":"STDEV(K88:O88)","v":{"$error":"#DIV/0!"}},"NA","NA","NA","NA","NA",{"$f":"AVERAGE(R88:V88)","v":{"$error":"#DIV/0!"}},{"$f":"STDEV(R88:V88)","v":{"$error":"#DIV/0!"}},"NA","NA","NA","NA","NA",{"$f":"AVERAGE(Y88:AC88)","v":{"$error":"#DIV/0!"}},{"$f":"STDEV(Y88:AC88)","v":{"$error":"#DIV/0!"}},"NA","NA","NA","NA","NA",{"$f":"AVERAGE(AF88:AJ88)","v":{"$error":"#DIV/0!"}},{"$f":"STDEV(AF88:AJ88)","v":{"$error":"#DIV/0!"}},{"v":50.2,"d":"50"},{"v":50.2,"d":"50"},{"v":50.2,"d":"50"},{"v":50.2,"d":"50"},{"v":50.2,"d":"50"},{"$f":"AVERAGE(AM88:AQ88)","v":{"v":50.2,"d":"50"}},{"$f":"STDEV(AM88:AQ88)","v":0}]
[null,2,null,"NA","NA","NA","NA","NA",{"$f":"AVERAGE(D89:H89)","v":{"$error":"#DIV/0!"}},{"$f":"STDEV(D89:H89)","v":{"$error":"#DIV/0!"}},"NA","NA","NA","NA","NA",{"$error":"#DIV/0!"},{"$f":"STDEV(K89:O89)","v":{"$error":"#DIV/0!"}},"NA","NA","NA","NA","NA",{"$error":"#DIV/0!"},{"$f":"STDEV(R89:V89)","v":{"$error":"#DIV/0!"}},"NA","NA","NA","NA","NA",{"$error":"#DIV/0!"},{"$f":"STDEV(Y89:AC89)","v":{"$error":"#DIV/0!"}},"NA","NA","NA","NA","NA",{"$error":"#DIV/0!"},{"$f":"STDEV(AF89:AJ89)","v":{"$error":"#DIV/0!"}},{"v":90.8,"d":"91"},{"v":90.8,"d":"91"},{"v":90.8,"d":"91"},{"v":90.8,"d":"91"},{"v":90.8,"d":"91"},{"v":90.8,"d":"91"},{"$f":"STDEV(AM89:AQ89)","v":0}]
[null,3,null,"NA","NA","NA","NA","NA",{"$f":"AVERAGE(D90:H90)","v":{"$error":"#DIV/0!"}},{"$f":"STDEV(D90:H90)","v":{"$error":"#DIV/0!"}},"NA","NA","NA","NA","NA",{"$error":"#DIV/0!"},{"$f":"STDEV(K90:O90)","v":{"$error":"#DIV/0!"}},"NA","NA","NA","NA","NA",{"$error":"#DIV/0!"},{"$f":"STDEV(R90:V90)","v":{"$error":"#DIV/0!"}},"NA","NA","NA","NA","NA",{"$f":"AVERAGE(Y90:AC90)","v":{"$error":"#DIV/0!"}},{"$f":"STDEV(Y90:AC90)","v":{"$error":"#DIV/0!"}},"NA","NA","NA","NA","NA",{"$error":"#DIV/0!"},{"$f":"STDEV(AF90:AJ90)","v":{"$error":"#DIV/0!"}},{"v":59.6,"d":"60"},{"v":59.6,"d":"60"},{"v":59.6,"d":"60"},{"v":59.6,"d":"60"},{"v":59.6,"d":"60"},{"v":59.6,"d":"60"},{"$f":"STDEV(AM90:AQ90)","v":0}]
["average",{"$nulls":7},{"$f":"AVERAGE(I88:I90)","v":{"$error":"#DIV/0!"}},{"$nulls":6},{"$f":"AVERAGE(P88:P90)","v":{"$error":"#DIV/0!"}},{"$nulls":6},{"$f":"AVERAGE(W88:W90)","v":{"$error":"#DIV/0!"}},{"$nulls":6},{"$f":"AVERAGE(AD88:AD90)","v":{"$error":"#DIV/0!"}},{"$nulls":6},{"$f":"AVERAGE(AK88:AK90)","v":{"$error":"#DIV/0!"}},{"$nulls":6},{"$f":"AVERAGE(AR88:AR90)","v":{"v":66.86666666666666,"d":"67"}}]
["stdev",{"$nulls":7},{"$f":"J88+J89+J90","v":{"$error":"#DIV/0!"}},{"$nulls":6},{"$f":"Q88+Q89+Q90","v":{"$error":"#DIV/0!"}},{"$nulls":6},{"$f":"X88+X89+X90","v":{"$error":"#DIV/0!"}},{"$nulls":6},{"$f":"AE88+AE89+AE90","v":{"$error":"#DIV/0!"}},{"$nulls":6},{"$f":"AL88+AL89+AL90","v":{"$error":"#DIV/0!"}},{"$nulls":6},{"$f":"AS88+AS89+AS90","v":0}]
[]
[]
["T4","2017-06-03"]
["Sample","Dilution:",null,1,{"$nulls":4},"AVERAGE","Stdev",{"$f":"10^-1","v":0.1},{"$nulls":4},"AVERAGE","Stdev",{"$f":"10^-2","v":0.01},{"$nulls":4},"AVERAGE","Stdev",{"$f":"10^-3","v":1E-3},{"$nulls":4},"AVERAGE","Stdev",{"$f":"10^-4","v":1E-4},{"$nulls":4},"AVERAGE","Stdev",{"$f":"10^-5","v":1e-05},{"$nulls":4},"AVERAGE","Stdev"]
["Blank",1,null,0,0,0,0,0,{"$f":"AVERAGE(D97:H97)","v":0},{"$f":"STDEV(D97:H97)","v":0},0,0,0,0,0,{"$f":"AVERAGE(K97:O97)","v":0},{"$f":"STDEV(K97:O97)","v":0},0,0,0,0,0,{"$f":"AVERAGE(R97:V97)","v":0},{"$f":"STDEV(R97:V97)","v":0},0,0,0,0,0,{"$f":"AVERAGE(Y97:AC97)","v":0},{"$f":"STDEV(Y97:AC97)","v":0},0,0,0,0,0,{"$f":"AVERAGE(AF97:AJ97)","v":0},{"$f":"STDEV(AF97:AJ97)","v":0},0,0,0,0,0,{"$f":"AVERAGE(AM97:AQ97)","v":0},{"$f":"STDEV(AM97:AQ97)","v":0}]
[null,2,null,0,0,0,0,0,{"$f":"AVERAGE(D98:H98)","v":0},{"$f":"STDEV(D98:H98)","v":0},0,0,0,0,0,{"$f":"AVERAGE(K98:O98)","v":0},{"$f":"STDEV(K98:O98)","v":0},0,0,0,0,0,{"$f":"AVERAGE(R98:V98)","v":0},{"$f":"STDEV(R98:V98)","v":0},0,0,0,0,0,{"$f":"AVERAGE(Y98:AC98)","v":0},{"$f":"STDEV(Y98:AC98)","v":0},0,0,0,0,0,{"$f":"AVERAGE(AF98:AJ98)","v":0},{"$f":"STDEV(AF98:AJ98)","v":0},0,0,0,0,0,{"$f":"AVERAGE(AM98:AQ98)","v":0},{"$f":"STDEV(AM98:AQ98)","v":0}]
[null,3,null,0,0,0,0,0,{"$f":"AVERAGE(D99:H99)","v":0},{"$f":"STDEV(D99:H99)","v":0},0,0,0,0,0,0,{"$f":"STDEV(K99:O99)","v":0},0,0,0,0,0,0,{"$f":"STDEV(R99:V99)","v":0},0,0,0,0,0,0,{"$f":"STDEV(Y99:AC99)","v":0},0,0,0,0,0,0,{"$f":"STDEV(AF99:AJ99)","v":0},0,0,0,0,0,0,{"$f":"STDEV(AM99:AQ99)","v":0}]
[{"$nulls":8},{"$f":"AVERAGE(I97:I99)","v":0},{"$nulls":6},{"$f":"AVERAGE(P97:P99)","v":0},{"$nulls":6},{"$f":"AVERAGE(W97:W99)","v":0},{"$nulls":6},{"$f":"AVERAGE(AD97:AD99)","v":0},{"$nulls":6},{"$f":"AVERAGE(AK97:AK99)","v":0},{"$nulls":6},{"$f":"AVERAGE(AR97:AR99)","v":0}]
[{"$nulls":8},{"$f":"J97+J98+J99","v":0},{"$nulls":6},{"$f":"Q97+Q98+Q99","v":0},{"$nulls":6},{"$f":"X97+X98+X99","v":0},{"$nulls":6},{"$f":"AE97+AE98+AE99","v":0},{"$nulls":6},{"$f":"AL97+AL98+AL99","v":0},{"$nulls":6},{"$f":"AS97+AS98+AS99","v":0}]
["WT",1,null,"NA","NA","NA","NA","NA",{"$f":"AVERAGE(D102:H102)","v":{"$error":"#DIV/0!"}},{"$f":"STDEV(D102:H102)","v":{"$error":"#DIV/0!"}},"NA","NA","NA","NA","NA",{"$f":"AVERAGE(K102:O102)","v":{"$error":"#DIV/0!"}},{"$f":"STDEV(K102:O102)","v":{"$error":"#DIV/0!"}},"NA","NA","NA","NA","NA",{"$f":"AVERAGE(R102:V102)","v":{"$error":"#DIV/0!"}},{"$f":"STDEV(R102:V102)","v":{"$error":"#DIV/0!"}},"NA","NA","NA","NA","NA",{"$f":"AVERAGE(Y102:AC102)","v":{"$error":"#DIV/0!"}},{"$f":"STDEV(Y102:AC102)","v":{"$error":"#DIV/0!"}},"NA","NA","NA","NA","NA",{"$f":"AVERAGE(AF102:AJ102)","v":{"$error":"#DIV/0!"}},{"$f":"STDEV(AF102:AJ102)","v":{"$error":"#DIV/0!"}},66,64,65,65,42,{"$f":"AVERAGE(AM102:AQ102)","v":{"v":60.4,"d":"60"}},{"$f":"STDEV(AM102:AQ102)","v":{"v":10.310189135025611,"d":"10"}}]
[null,2,null,"NA","NA","NA","NA","NA",{"$f":"AVERAGE(D103:H103)","v":{"$error":"#DIV/0!"}},{"$f":"STDEV(D103:H103)","v":{"$error":"#DIV/0!"}},"NA","NA","NA","NA","NA",{"$error":"#DIV/0!"},{"$f":"STDEV(K103:O103)","v":{"$error":"#DIV/0!"}},"NA","NA","NA","NA","NA",{"$error":"#DIV/0!"},{"$f":"STDEV(R103:V103)","v":{"$error":"#DIV/0!"}},"NA","NA","NA","NA","NA",{"$error":"#DIV/0!"},{"$f":"STDEV(Y103:AC103)","v":{"$error":"#DIV/0!"}},"NA","NA","NA","NA","NA",{"$error":"#DIV/0!"},{"$f":"STDEV(AF103:AJ103)","v":{"$error":"#DIV/0!"}},76,52,62,66,51,{"v":61.4,"d":"61"},{"$f":"STDEV(AM103:AQ103)","v":{"v":10.382677881933937,"d":"10"}}]
[null,3,null,"NA","NA","NA","NA","NA",{"$f":"AVERAGE(D104:H104)","v":{"$error":"#DIV/0!"}},{"$f":"STDEV(D104:H104)","v":{"$error":"#DIV/0!"}},"NA","NA","NA","NA","NA",{"$error":"#DIV/0!"},{"$f":"STDEV(K104:O104)","v":{"$error":"#DIV/0!"}},"NA","NA","NA","NA","NA",{"$error":"#DIV/0!"},{"$f":"STDEV(R104:V104)","v":{"$error":"#DIV/0!"}},"NA","NA","NA","NA","NA",{"$error":"#DIV/0!"},{"$f":"STDEV(Y104:AC104)","v":{"$error":"#DIV/0!"}},"NA","NA","NA","NA","NA",{"$error":"#DIV/0!"},{"$f":"STDEV(AF104:AJ104)","v":{"$error":"#DIV/0!"}},12,13,14,16,15,14,{"$f":"STDEV(AM104:AQ104)","v":{"v":1.5811388300841898,"d":"2"}}]
["average",{"$nulls":7},{"$f":"AVERAGE(I102:I104)","v":{"$error":"#DIV/0!"}},{"$nulls":6},{"$f":"AVERAGE(P102:P104)","v":{"$error":"#DIV/0!"}},{"$nulls":6},{"$f":"AVERAGE(W102:W104)","v":{"$error":"#DIV/0!"}},{"$nulls":6},{"$f":"AVERAGE(AD102:AD104)","v":{"$error":"#DIV/0!"}},{"$nulls":6},{"$f":"AVERAGE(AK102:AK104)","v":{"$error":"#DIV/0!"}},{"$nulls":6},{"$f":"AVERAGE(AR102:AR104)","v":{"v":45.26666666666667,"d":"45"}}]
["stdev",{"$nulls":7},{"$f":"J102+J103+J104","v":{"$error":"#DIV/0!"}},{"$nulls":6},{"$f":"Q102+Q103+Q104","v":{"$error":"#DIV/0!"}},{"$nulls":6},{"$f":"X102+X103+X104","v":{"$error":"#DIV/0!"}},{"$nulls":6},{"$f":"AE102+AE103+AE104","v":{"$error":"#DIV/0!"}},{"$nulls":6},{"$f":"AL102+AL103+AL104","v":{"$error":"#DIV/0!"}},{"$nulls":6},{"$f":"AS102+AS103+AS104","v":{"v":22.274005847043735,"d":"22"}}]
["2213F - ",1,null,"NA","NA","NA","NA","NA",{"$f":"AVERAGE(D107:H107)","v":{"$error":"#DIV/0!"}},{"$f":"STDEV(D107:H107)","v":{"$error":"#DIV/0!"}},"NA","NA","NA","NA","NA",{"$f":"AVERAGE(K107:O107)","v":{"$error":"#DIV/0!"}},{"$f":"STDEV(K107:O107)","v":{"$error":"#DIV/0!"}},"NA","NA","NA","NA","NA",{"$f":"AVERAGE(R107:V107)","v":{"$error":"#DIV/0!"}},{"$f":"STDEV(R107:V107)","v":{"$error":"#DIV/0!"}},"NA","NA","NA","NA","NA",{"$f":"AVERAGE(Y107:AC107)","v":{"$error":"#DIV/0!"}},{"$f":"STDEV(Y107:AC107)","v":{"$error":"#DIV/0!"}},45,47,48,43,41,{"$f":"AVERAGE(AF107:AJ107)","v":{"v":44.8,"d":"45"}},{"$f":"STDEV(AF107:AJ107)","v":{"v":2.8635642126552705,"d":"3"}},6,10,12,3,6,{"$f":"AVERAGE(AM107:AQ107)","v":{"v":7.4,"d":"7"}},{"$f":"STDEV(AM107:AQ107)","v":{"v":3.577708763999663,"d":"4"}}]
["p+0",2,null,"NA","NA","NA","NA","NA",{"$f":"AVERAGE(D108:H108)","v":{"$error":"#DIV/0!"}},{"$f":"STDEV(D108:H108)","v":{"$error":"#DIV/0!"}},"NA","NA","NA","NA","NA",{"$error":"#DIV/0!"},{"$f":"STDEV(K108:O108)","v":{"$error":"#DIV/0!"}},"NA","NA","NA","NA","NA",{"$error":"#DIV/0!"},{"$f":"STDEV(R108:V108)","v":{"$error":"#DIV/0!"}},"NA","NA","NA","NA","NA",{"$error":"#DIV/0!"},{"$f":"STDEV(Y108:AC108)","v":{"$error":"#DIV/0!"}},"NA","NA","NA","NA","NA",{"$error":"#DIV/0!"},{"$f":"STDEV(AF108:AJ108)","v":{"$error":"#DIV/0!"}},8,13,12,7,15,11,{"$f":"STDEV(AM108:AQ108)","v":{"v":3.391164991562634,"d":"3"}}]
[null,3,null,"NA","NA","NA","NA","NA",{"$f":"AVERAGE(D109:H109)","v":{"$error":"#DIV/0!"}},{"$f":"STDEV(D109:H109)","v":{"$error":"#DIV/0!"}},"NA","NA","NA","NA","NA",{"$error":"#DIV/0!"},{"$f":"STDEV(K109:O109)","v":{"$error":"#DIV/0!"}},"NA","NA","NA","NA","NA",{"$error":"#DIV/0!"},{"$f":"STDEV(R109:V109)","v":{"$error":"#DIV/0!"}},"NA","NA","NA","NA","NA",{"$error":"#DIV/0!"},{"$f":"STDEV(Y109:AC109)","v":{"$error":"#DIV/0!"}},"NA","NA","NA","NA","NA",{"$error":"#DIV/0!"},{"$f":"STDEV(AF109:AJ109)","v":{"$error":"#DIV/0!"}},11,7,14,8,8,{"v":9.6,"d":"10"},{"$f":"STDEV(AM109:AQ109)","v":{"v":2.880972058177586,"d":"3"}}]
["average",{"$nulls":7},{"$f":"AVERAGE(I107:I109)","v":{"$error":"#DIV/0!"}},{"$nulls":6},{"$f":"AVERAGE(P107:P109)","v":{"$error":"#DIV/0!"}},{"$nulls":6},{"$f":"AVERAGE(W107:W109)","v":{"$error":"#DIV/0!"}},{"$nulls":6},{"$f":"AVERAGE(AD107:AD109)","v":{"$error":"#DIV/0!"}},{"$nulls":6},{"$f":"AVERAGE(AK107)","v":{"v":44.8,"d":"45"}},{"$nulls":6},{"$f":"AVERAGE(AR107:AR109)","v":{"v":9.333333333333334,"d":"9"}}]
["stdev",{"$nulls":7},{"$f":"J107+J108+J109","v":{"$error":"#DIV/0!"}},{"$nulls":6},{"$f":"Q107+Q108+Q109","v":{"$error":"#DIV/0!"}},{"$nulls":6},{"$f":"X107+X108+X109","v":{"$error":"#DIV/0!"}},{"$nulls":6},{"$f":"AE107+AE108+AE109","v":{"$error":"#DIV/0!"}},{"$nulls":6},{"$f":"AL107+AL108+AL109","v":{"$error":"#DIV/0!"}},{"$nulls":6},{"$f":"AS107+AS108+AS109","v":{"v":9.849845813739883,"d":"10"}}]
["p+3",1,null,"NA","NA","NA","NA","NA",{"$f":"AVERAGE(D112:H112)","v":{"$error":"#DIV/0!"}},{"$f":"STDEV(D112:H112)","v":{"$error":"#DIV/0!"}},"NA","NA","NA","NA","NA",{"$f":"AVERAGE(K112:O112)","v":{"$error":"#DIV/0!"}},{"$f":"STDEV(K112:O112)","v":{"$error":"#DIV/0!"}},"NA","NA","NA","NA","NA",{"$f":"AVERAGE(R112:V112)","v":{"$error":"#DIV/0!"}},{"$f":"STDEV(R112:V112)","v":{"$error":"#DIV/0!"}},"NA","NA","NA","NA","NA",{"$f":"AVERAGE(Y112:AC112)","v":{"$error":"#DIV/0!"}},{"$f":"STDEV(Y112:AC112)","v":{"$error":"#DIV/0!"}},"NA","NA","NA","NA","NA",{"$f":"AVERAGE(AF112:AJ112)","v":{"$error":"#DIV/0!"}},{"$f":"STDEV(AF112:AJ112)","v":{"$error":"#DIV/0!"}},7,18,9,9,10,{"$f":"AVERAGE(AM112:AQ112)","v":{"v":10.6,"d":"11"}},{"$f":"STDEV(AM112:AQ112)","v":{"v":4.277849927241489,"d":"4"}}]
[null,2,null,"NA","NA","NA","NA","NA",{"$f":"AVERAGE(D113:H113)","v":{"$error":"#DIV/0!"}},{"$f":"STDEV(D113:H113)","v":{"$error":"#DIV/0!"}},"NA","NA","NA","NA","NA",{"$error":"#DIV/0!"},{"$f":"STDEV(K113:O113)","v":{"$error":"#DIV/0!"}},"NA","NA","NA","NA","NA",{"$error":"#DIV/0!"},{"$f":"STDEV(R113:V113)","v":{"$error":"#DIV/0!"}},"NA","NA","NA","NA","NA",{"$error":"#DIV/0!"},{"$f":"STDEV(Y113:AC113)","v":{"$error":"#DIV/0!"}},"NA","NA","NA","NA","NA",{"$error":"#DIV/0!"},{"$f":"STDEV(AF113:AJ113)","v":{"$error":"#DIV/0!"}},"NA","NA","NA","NA","NA",{"$error":"#DIV/0!"},{"$f":"STDEV(AM113:AQ113)","v":{"$error":"#DIV/0!"}}]
[null,3,null,"NA","NA","NA","NA","NA",{"$f":"AVERAGE(D114:H114)","v":{"$error":"#DIV/0!"}},{"$f":"STDEV(D114:H114)","v":{"$error":"#DIV/0!"}},"NA","NA","NA","NA","NA",{"$error":"#DIV/0!"},{"$f":"STDEV(K114:O114)","v":{"$error":"#DIV/0!"}},"NA","NA","NA","NA","NA",{"$error":"#DIV/0!"},{"$f":"STDEV(R114:V114)","v":{"$error":"#DIV/0!"}},"NA","NA","NA","NA","NA",{"$error":"#DIV/0!"},{"$f":"STDEV(Y114:AC114)","v":{"$error":"#DIV/0!"}},"NA","NA","NA","NA","NA",{"$error":"#DIV/0!"},{"$f":"STDEV(AF114:AJ114)","v":{"$error":"#DIV/0!"}},10,9,8,10,8,9,{"$f":"STDEV(AM114:AQ114)","v":1}]
["average",{"$nulls":7},{"$f":"AVERAGE(I112:I114)","v":{"$error":"#DIV/0!"}},{"$nulls":6},{"$f":"AVERAGE(P112:P114)","v":{"$error":"#DIV/0!"}},{"$nulls":6},{"$f":"AVERAGE(W112:W114)","v":{"$error":"#DIV/0!"}},{"$nulls":6},{"$f":"AVERAGE(AD112:AD114)","v":{"$error":"#DIV/0!"}},{"$nulls":6},{"$f":"AVERAGE(AK112:AK114)","v":{"$error":"#DIV/0!"}},{"$nulls":6},{"$f":"AVERAGE(AR112,AR114)","v":{"v":9.8,"d":"10"}}]
["stdev",{"$nulls":7},{"$f":"J112+J113+J114","v":{"$error":"#DIV/0!"}},{"$nulls":6},{"$f":"Q112+Q113+Q114","v":{"$error":"#DIV/0!"}},{"$nulls":6},{"$f":"X112+X113+X114","v":{"$error":"#DIV/0!"}},{"$nulls":6},{"$f":"AE112+AE113+AE114","v":{"$error":"#DIV/0!"}},{"$nulls":6},{"$f":"AL112+AL113+AL114","v":{"$error":"#DIV/0!"}},{"$nulls":6},{"$f":"AS112+AS113+AS114","v":{"$error":"#DIV/0!"}}]
["2213F A",1,null,"NA","NA","NA","NA","NA",{"$f":"AVERAGE(D117:H117)","v":{"$error":"#DIV/0!"}},{"$f":"STDEV(D117:H117)","v":{"$error":"#DIV/0!"}},"NA","NA","NA","NA","NA",{"$f":"AVERAGE(K117:O117)","v":{"$error":"#DIV/0!"}},{"$f":"STDEV(K117:O117)","v":{"$error":"#DIV/0!"}},"NA","NA","NA","NA","NA",{"$f":"AVERAGE(R117:V117)","v":{"$error":"#DIV/0!"}},{"$f":"STDEV(R117:V117)","v":{"$error":"#DIV/0!"}},"NA","NA","NA","NA","NA",{"$f":"AVERAGE(Y117:AC117)","v":{"$error":"#DIV/0!"}},{"$f":"STDEV(Y117:AC117)","v":{"$error":"#DIV/0!"}},47,49,47,57,44,{"$f":"AVERAGE(AF117:AJ117)","v":{"v":48.8,"d":"49"}},{"$f":"STDEV(AF117:AJ117)","v":{"v":4.919349550499538,"d":"5"}},7,15,3,6,5,{"$f":"AVERAGE(AM117:AQ117)","v":{"v":7.2,"d":"7"}},{"$f":"STDEV(AM117:AQ117)","v":{"v":4.604345773288536,"d":"5"}}]
["p+0",2,null,"NA","NA","NA","NA","NA",{"$f":"AVERAGE(D118:H118)","v":{"$error":"#DIV/0!"}},{"$f":"STDEV(D118:H118)","v":{"$error":"#DIV/0!"}},"NA","NA","NA","NA","NA",{"$error":"#DIV/0!"},{"$f":"STDEV(K118:O118)","v":{"$error":"#DIV/0!"}},"NA","NA","NA","NA","NA",{"$error":"#DIV/0!"},{"$f":"STDEV(R118:V118)","v":{"$error":"#DIV/0!"}},"NA","NA","NA","NA","NA",{"$error":"#DIV/0!"},{"$f":"STDEV(Y118:AC118)","v":{"$error":"#DIV/0!"}},"NA","NA","NA","NA","NA",{"$error":"#DIV/0!"},{"$f":"STDEV(AF118:AJ118)","v":{"$error":"#DIV/0!"}},11,5,5,9,9,{"v":7.8,"d":"8"},{"$f":"STDEV(AM118:AQ118)","v":{"v":2.683281572999748,"d":"3"}}]
[null,3,null,"NA","NA","NA","NA","NA",{"$f":"AVERAGE(D119:H119)","v":{"$error":"#DIV/0!"}},{"$f":"STDEV(D119:H119)","v":{"$error":"#DIV/0!"}},"NA","NA","NA","NA","NA",{"$error":"#DIV/0!"},{"$f":"STDEV(K119:O119)","v":{"$error":"#DIV/0!"}},"NA","NA","NA","NA","NA",{"$error":"#DIV/0!"},{"$f":"STDEV(R119:V119)","v":{"$error":"#DIV/0!"}},"NA","NA","NA","NA","NA",{"$f":"AVERAGE(Y119:AC119)","v":{"$error":"#DIV/0!"}},{"$f":"STDEV(Y119:AC119)","v":{"$error":"#DIV/0!"}},"NA","NA","NA","NA","NA",{"$f":"AVERAGE(AF119:AJ119)","v":{"$error":"#DIV/0!"}},{"$f":"STDEV(AF119:AJ119)","v":{"$error":"#DIV/0!"}},9,9,5,4,4,{"$f":"AVERAGE(AM119:AQ119)","v":{"v":6.2,"d":"6"}},{"$f":"STDEV(AM119:AQ119)","v":{"v":2.5884358211089573,"d":"3"}}]
["average",{"$nulls":7},{"$f":"AVERAGE(I117:I119)","v":{"$error":"#DIV/0!"}},{"$nulls":6},{"$f":"AVERAGE(P117:P119)","v":{"$error":"#DIV/0!"}},{"$nulls":6},{"$f":"AVERAGE(W117:W119)","v":{"$error":"#DIV/0!"}},{"$nulls":6},{"$f":"AVERAGE(AD117:AD119)","v":{"$error":"#DIV/0!"}},{"$nulls":6},{"$f":"AVERAGE(AK117)","v":{"v":48.8,"d":"49"}},{"$nulls":6},{"$f":"AVERAGE(AR117:AR119)","v":{"v":7.066666666666666,"d":"7"}}]
["stdev",{"$nulls":7},{"$f":"J117+J118+J119","v":{"$error":"#DIV/0!"}},{"$nulls":6},{"$f":"Q117+Q118+Q119","v":{"$error":"#DIV/0!"}},{"$nulls":6},{"$f":"X117+X118+X119","v":{"$error":"#DIV/0!"}},{"$nulls":6},{"$f":"AE117+AE118+AE119","v":{"$error":"#DIV/0!"}},{"$nulls":6},{"$f":"AL117+AL118+AL119","v":{"$error":"#DIV/0!"}},{"$nulls":6},{"$f":"AS117+AS118+AS119","v":{"v":9.876063167397241,"d":"10"}}]
["p+3",1,null,"NA","NA","NA","NA","NA",{"$f":"AVERAGE(D122:H122)","v":{"$error":"#DIV/0!"}},{"$f":"STDEV(D122:H122)","v":{"$error":"#DIV/0!"}},"NA","NA","NA","NA","NA",{"$f":"AVERAGE(K122:O122)","v":{"$error":"#DIV/0!"}},{"$f":"STDEV(K122:O122)","v":{"$error":"#DIV/0!"}},"NA","NA","NA","NA","NA",{"$f":"AVERAGE(R122:V122)","v":{"$error":"#DIV/0!"}},{"$f":"STDEV(R122:V122)","v":{"$error":"#DIV/0!"}},"NA","NA","NA","NA","NA",{"$f":"AVERAGE(Y122:AC122)","v":{"$error":"#DIV/0!"}},{"$f":"STDEV(Y122:AC122)","v":{"$error":"#DIV/0!"}},"NA","NA","NA","NA","NA",{"$f":"AVERAGE(AF122:AJ122)","v":{"$error":"#DIV/0!"}},{"$f":"STDEV(AF122:AJ122)","v":{"$error":"#DIV/0!"}},18,19,15,16,24,{"$f":"AVERAGE(AM122:AQ122)","v":{"v":18.4,"d":"18"}},{"$f":"STDEV(AM122:AQ122)","v":{"v":3.507135583350038,"d":"4"}}]
[null,2,null,"NA","NA","NA","NA","NA",{"$f":"AVERAGE(D123:H123)","v":{"$error":"#DIV/0!"}},{"$f":"STDEV(D123:H123)","v":{"$error":"#DIV/0!"}},"NA","NA","NA","NA","NA",{"$error":"#DIV/0!"},{"$f":"STDEV(K123:O123)","v":{"$error":"#DIV/0!"}},"NA","NA","NA","NA","NA",{"$error":"#DIV/0!"},{"$f":"STDEV(R123:V123)","v":{"$error":"#DIV/0!"}},"NA","NA","NA","NA","NA",{"$error":"#DIV/0!"},{"$f":"STDEV(Y123:AC123)","v":{"$error":"#DIV/0!"}},"NA","NA","NA","NA","NA",{"$f":"AVERAGE(AF123:AJ123)","v":{"$error":"#DIV/0!"}},{"$f":"STDEV(AF123:AJ123)","v":{"$error":"#DIV/0!"}},"NA","NA","NA","NA","NA",{"$error":"#DIV/0!"},{"$f":"STDEV(AM123:AQ123)","v":{"$error":"#DIV/0!"}}]
[null,3,null,"NA","NA","NA","NA","NA",{"$f":"AVERAGE(D124:H124)","v":{"$error":"#DIV/0!"}},{"$f":"STDEV(D124:H124)","v":{"$error":"#DIV/0!"}},"NA","NA","NA","NA","NA",{"$error":"#DIV/0!"},{"$f":"STDEV(K124:O124)","v":{"$error":"#DIV/0!"}},"NA","NA","NA","NA","NA",{"$error":"#DIV/0!"},{"$f":"STDEV(R124:V124)","v":{"$error":"#DIV/0!"}},"NA","NA","NA","NA","NA",{"$error":"#DIV/0!"},{"$f":"STDEV(Y124:AC124)","v":{"$error":"#DIV/0!"}},"NA","NA","NA","NA","NA",{"$error":"#DIV/0!"},{"$f":"STDEV(AF124:AJ124)","v":{"$error":"#DIV/0!"}},15,15,15,14,12,{"v":14.2,"d":"14"},{"$f":"STDEV(AM124:AQ124)","v":{"v":1.3038404810405297,"d":"1"}}]
["average",{"$nulls":7},{"$f":"AVERAGE(I122:I124)","v":{"$error":"#DIV/0!"}},{"$nulls":6},{"$f":"AVERAGE(P122:P124)","v":{"$error":"#DIV/0!"}},{"$nulls":6},{"$f":"AVERAGE(W122:W124)","v":{"$error":"#DIV/0!"}},{"$nulls":6},{"$f":"AVERAGE(AD122:AD124)","v":{"$error":"#DIV/0!"}},{"$nulls":6},{"$f":"AVERAGE(AK122:AK124)","v":{"$error":"#DIV/0!"}},{"$nulls":6},{"$f":"AVERAGE(AR122,AR124)","v":{"v":16.299999999999997,"d":"16"}}]
["stdev",{"$nulls":7},{"$f":"J122+J123+J124","v":{"$error":"#DIV/0!"}},{"$nulls":6},{"$f":"Q122+Q123+Q124","v":{"$error":"#DIV/0!"}},{"$nulls":6},{"$f":"X122+X123+X124","v":{"$error":"#DIV/0!"}},{"$nulls":6},{"$f":"AE122+AE123+AE124","v":{"$error":"#DIV/0!"}},{"$nulls":6},{"$f":"AL122+AL123+AL124","v":{"$error":"#DIV/0!"}},{"$nulls":6},{"$f":"AS122+AS123+AS124","v":{"$error":"#DIV/0!"}}]
["2213F APR",1,null,"NA","NA","NA","NA","NA",{"$f":"AVERAGE(D127:H127)","v":{"$error":"#DIV/0!"}},{"$f":"STDEV(D127:H127)","v":{"$error":"#DIV/0!"}},"NA","NA","NA","NA","NA",{"$f":"AVERAGE(K127:O127)","v":{"$error":"#DIV/0!"}},{"$f":"STDEV(K127:O127)","v":{"$error":"#DIV/0!"}},"NA","NA","NA","NA","NA",{"$f":"AVERAGE(R127:V127)","v":{"$error":"#DIV/0!"}},{"$f":"STDEV(R127:V127)","v":{"$error":"#DIV/0!"}},"NA","NA","NA","NA","NA",{"$f":"AVERAGE(Y127:AC127)","v":{"$error":"#DIV/0!"}},{"$f":"STDEV(Y127:AC127)","v":{"$error":"#DIV/0!"}},"NA","NA","NA","NA","NA",{"$f":"AVERAGE(AF127:AJ127)","v":{"$error":"#DIV/0!"}},{"$f":"STDEV(AF127:AJ127)","v":{"$error":"#DIV/0!"}},38,29,20,17,20,{"$f":"AVERAGE(AM127:AQ127)","v":{"v":24.8,"d":"25"}},{"$f":"STDEV(AM127:AQ127)","v":{"v":8.642916174532763,"d":"9"}}]
["p+0",2,null,"NA","NA","NA","NA","NA",{"$f":"AVERAGE(D128:H128)","v":{"$error":"#DIV/0!"}},{"$f":"STDEV(D128:H128)","v":{"$error":"#DIV/0!"}},"NA","NA","NA","NA","NA",{"$error":"#DIV/0!"},{"$f":"STDEV(K128:O128)","v":{"$error":"#DIV/0!"}},"NA","NA","NA","NA","NA",{"$error":"#DIV/0!"},{"$f":"STDEV(R128:V128)","v":{"$error":"#DIV/0!"}},"NA","NA","NA","NA","NA",{"$error":"#DIV/0!"},{"$f":"STDEV(Y128:AC128)","v":{"$error":"#DIV/0!"}},"NA","NA","NA","NA","NA",{"$f":"AVERAGE(AF128:AJ128)","v":{"$error":"#DIV/0!"}},{"$f":"STDEV(AF128:AJ128)","v":{"$error":"#DIV/0!"}},12,18,6,10,18,{"v":12.8,"d":"13"},{"$f":"STDEV(AM128:AQ128)","v":{"v":5.215361924162118,"d":"5"}}]
[null,3,null,"NA","NA","NA","NA","NA",{"$f":"AVERAGE(D129:H129)","v":{"$error":"#DIV/0!"}},{"$f":"STDEV(D129:H129)","v":{"$error":"#DIV/0!"}},"NA","NA","NA","NA","NA",{"$error":"#DIV/0!"},{"$f":"STDEV(K129:O129)","v":{"$error":"#DIV/0!"}},"NA","NA","NA","NA","NA",{"$error":"#DIV/0!"},{"$f":"STDEV(R129:V129)","v":{"$error":"#DIV/0!"}},"NA","NA","NA","NA","NA",{"$error":"#DIV/0!"},{"$f":"STDEV(Y129:AC129)","v":{"$error":"#DIV/0!"}},103,113,102,"NA","NA",{"$f":"AVERAGE(AF129:AJ129)","v":106},{"$f":"STDEV(AF129:AJ129)","v":{"v":6.082762530298219,"d":"6"}},11,18,17,8,16,14,{"$f":"STDEV(AM129:AQ129)","v":{"v":4.301162633521313,"d":"4"}}]
["average",{"$nulls":7},{"$f":"AVERAGE(I127:I129)","v":{"$error":"#DIV/0!"}},{"$nulls":6},{"$f":"AVERAGE(P127:P129)","v":{"$error":"#DIV/0!"}},{"$nulls":6},{"$f":"AVERAGE(W127:W129)","v":{"$error":"#DIV/0!"}},{"$nulls":6},{"$f":"AVERAGE(AD127:AD129)","v":{"$error":"#DIV/0!"}},{"$nulls":6},{"$f":"AVERAGE(AK129)","v":106},{"$nulls":6},{"$f":"AVERAGE(AR127:AR129)","v":{"v":17.2,"d":"17"}}]
["stdev",{"$nulls":7},{"$f":"J127+J128+J129","v":{"$error":"#DIV/0!"}},{"$nulls":6},{"$f":"Q127+Q128+Q129","v":{"$error":"#DIV/0!"}},{"$nulls":6},{"$f":"X127+X128+X129","v":{"$error":"#DIV/0!"}},{"$nulls":6},{"$f":"AE127+AE128+AE129","v":{"$error":"#DIV/0!"}},{"$nulls":6},{"$f":"AL127+AL128+AL129","v":{"$error":"#DIV/0!"}},{"$nulls":6},{"$f":"AS127+AS128+AS129","v":{"v":18.159440732216197,"d":"18"}}]
["p+3",1,null,"NA","NA","NA","NA","NA",{"$f":"AVERAGE(D132:H132)","v":{"$error":"#DIV/0!"}},{"$f":"STDEV(D132:H132)","v":{"$error":"#DIV/0!"}},"NA","NA","NA","NA","NA",{"$f":"AVERAGE(K132:O132)","v":{"$error":"#DIV/0!"}},{"$f":"STDEV(K132:O132)","v":{"$error":"#DIV/0!"}},"NA","NA","NA","NA","NA",{"$f":"AVERAGE(R132:V132)","v":{"$error":"#DIV/0!"}},{"$f":"STDEV(R132:V132)","v":{"$error":"#DIV/0!"}},"NA","NA","NA","NA","NA",{"$f":"AVERAGE(Y132:AC132)","v":{"$error":"#DIV/0!"}},{"$f":"STDEV(Y132:AC132)","v":{"$error":"#DIV/0!"}},"NA","NA","NA","NA","NA",{"$f":"AVERAGE(AF132:AJ132)","v":{"$error":"#DIV/0!"}},{"$f":"STDEV(AF132:AJ132)","v":{"$error":"#DIV/0!"}},23,28,24,16,19,{"$f":"AVERAGE(AM132:AQ132)","v":22},{"$f":"STDEV(AM132:AQ132)","v":{"v":4.636809247747852,"d":"5"}}]
[null,2,null,"NA","NA","NA","NA","NA",{"$f":"AVERAGE(D133:H133)","v":{"$error":"#DIV/0!"}},{"$f":"STDEV(D133:H133)","v":{"$error":"#DIV/0!"}},"NA","NA","NA","NA","NA",{"$error":"#DIV/0!"},{"$f":"STDEV(K133:O133)","v":{"$error":"#DIV/0!"}},"NA","NA","NA","NA","NA",{"$error":"#DIV/0!"},{"$f":"STDEV(R133:V133)","v":{"$error":"#DIV/0!"}},"NA","NA","NA","NA","NA",{"$error":"#DIV/0!"},{"$f":"STDEV(Y133:AC133)","v":{"$error":"#DIV/0!"}},"NA","NA","NA","NA","NA",{"$error":"#DIV/0!"},{"$f":"STDEV(AF133:AJ133)","v":{"$error":"#DIV/0!"}},47,44,58,46,84,{"v":55.8,"d":"56"},{"$f":"STDEV(AM133:AQ133)","v":{"v":16.679328523654657,"d":"17"}}]
[null,3,null,"NA","NA","NA","NA","NA",{"$f":"AVERAGE(D134:H134)","v":{"$error":"#DIV/0!"}},{"$f":"STDEV(D134:H134)","v":{"$error":"#DIV/0!"}},"NA","NA","NA","NA","NA",{"$error":"#DIV/0!"},{"$f":"STDEV(K134:O134)","v":{"$error":"#DIV/0!"}},"NA","NA","NA","NA","NA",{"$error":"#DIV/0!"},{"$f":"STDEV(R134:V134)","v":{"$error":"#DIV/0!"}},"NA","NA","NA","NA","NA",{"$error":"#DIV/0!"},{"$f":"STDEV(Y134:AC134)","v":{"$error":"#DIV/0!"}},"NA","NA","NA","NA","NA",{"$error":"#DIV/0!"},{"$f":"STDEV(AF134:AJ134)","v":{"$error":"#DIV/0!"}},32,27,35,36,32,{"v":32.4,"d":"32"},{"$f":"STDEV(AM134:AQ134)","v":{"v":3.507135583350036,"d":"4"}}]
["average",{"$nulls":7},{"$f":"AVERAGE(I132:I134)","v":{"$error":"#DIV/0!"}},{"$nulls":6},{"$f":"AVERAGE(P132:P134)","v":{"$error":"#DIV/0!"}},{"$nulls":6},{"$f":"AVERAGE(W132:W134)","v":{"$error":"#DIV/0!"}},{"$nulls":6},{"$f":"AVERAGE(AD132:AD134)","v":{"$error":"#DIV/0!"}},{"$nulls":6},{"$f":"AVERAGE(AK132:AK134)","v":{"$error":"#DIV/0!"}},{"$nulls":6},{"$f":"AVERAGE(AR132:AR134)","v":{"v":36.73333333333333,"d":"37"}}]
["stdev",{"$nulls":7},{"$f":"J132+J133+J134","v":{"$error":"#DIV/0!"}},{"$nulls":6},{"$f":"Q132+Q133+Q134","v":{"$error":"#DIV/0!"}},{"$nulls":6},{"$f":"X132+X133+X134","v":{"$error":"#DIV/0!"}},{"$nulls":6},{"$f":"AE132+AE133+AE134","v":{"$error":"#DIV/0!"}},{"$nulls":6},{"$f":"AL132+AL133+AL134","v":{"$error":"#DIV/0!"}},{"$nulls":6},{"$f":"AS132+AS133+AS134","v":{"v":24.823273354752544,"d":"25"}}]
[]
[]
["T7","2017-06-05"]
["Sample","Dilution:",null,1,{"$nulls":4},"AVERAGE","Stdev",{"$f":"10^-1","v":0.1},{"$nulls":4},"AVERAGE","Stdev",{"$f":"10^-2","v":0.01},{"$nulls":4},"AVERAGE","Stdev",{"$f":"10^-3","v":1E-3},{"$nulls":4},"AVERAGE","Stdev",{"$f":"10^-4","v":1E-4},{"$nulls":4},"AVERAGE","Stdev",{"$f":"10^-5","v":1e-05},{"$nulls":4},"AVERAGE","Stdev"]
["Blank",1,null,0,0,0,0,0,{"$f":"AVERAGE(D141:H141)","v":0},{"$f":"STDEV(D141:H141)","v":0},0,0,0,0,0,{"$f":"AVERAGE(K141:O141)","v":0},{"$f":"STDEV(K141:O141)","v":0},0,0,0,0,0,{"$f":"AVERAGE(R141:V141)","v":0},{"$f":"STDEV(R141:V141)","v":0},0,0,0,0,0,{"$f":"AVERAGE(Y141:AC141)","v":0},{"$f":"STDEV(Y141:AC141)","v":0},0,0,0,0,0,{"$f":"AVERAGE(AF141:AJ141)","v":0},{"$f":"STDEV(AF141:AJ141)","v":0},0,0,0,0,0,{"$f":"AVERAGE(AM141:AQ141)","v":0},{"$f":"STDEV(AM141:AQ141)","v":0}]
[null,2,null,0,0,0,0,0,{"$f":"AVERAGE(D142:H142)","v":0},{"$f":"STDEV(D142:H142)","v":0},0,0,0,0,0,{"$f":"AVERAGE(K142:O142)","v":0},{"$f":"STDEV(K142:O142)","v":0},0,0,0,0,0,{"$f":"AVERAGE(R142:V142)","v":0},{"$f":"STDEV(R142:V142)","v":0},0,0,0,0,0,{"$f":"AVERAGE(Y142:AC142)","v":0},{"$f":"STDEV(Y142:AC142)","v":0},0,0,0,0,0,{"$f":"AVERAGE(AF142:AJ142)","v":0},{"$f":"STDEV(AF142:AJ142)","v":0},0,0,0,0,0,{"$f":"AVERAGE(AM142:AQ142)","v":0},{"$f":"STDEV(AM142:AQ142)","v":0}]
[null,3,null,0,0,0,0,0,{"$f":"AVERAGE(D143:H143)","v":0},{"$f":"STDEV(D143:H143)","v":0},0,0,0,0,0,0,{"$f":"STDEV(K143:O143)","v":0},0,0,0,0,0,0,{"$f":"STDEV(R143:V143)","v":0},0,0,0,0,0,0,{"$f":"STDEV(Y143:AC143)","v":0},0,0,0,0,0,0,{"$f":"STDEV(AF143:AJ143)","v":0},0,0,0,0,0,0,{"$f":"STDEV(AM143:AQ143)","v":0}]
[{"$nulls":8},{"$f":"AVERAGE(I141:I143)","v":0},{"$nulls":6},{"$f":"AVERAGE(P141:P143)","v":0},{"$nulls":6},{"$f":"AVERAGE(W141:W143)","v":0},{"$nulls":6},{"$f":"AVERAGE(AD141:AD143)","v":0},{"$nulls":6},{"$f":"AVERAGE(AK141:AK143)","v":0},{"$nulls":6},{"$f":"AVERAGE(AR141:AR143)","v":0}]
[{"$nulls":8},{"$f":"J141+J142+J143","v":0},{"$nulls":6},{"$f":"Q141+Q142+Q143","v":0},{"$nulls":6},{"$f":"X141+X142+X143","v":0},{"$nulls":6},{"$f":"AE141+AE142+AE143","v":0},{"$nulls":6},{"$f":"AL141+AL142+AL143","v":0},{"$nulls":6},{"$f":"AS141+AS142+AS143","v":0}]
["WT",1,null,"NA","NA","NA","NA","NA",{"$f":"AVERAGE(D146:H146)","v":{"$error":"#DIV/0!"}},{"$f":"STDEV(D146:H146)","v":{"$error":"#DIV/0!"}},"NA","NA","NA","NA","NA",{"$f":"AVERAGE(K146:O146)","v":{"$error":"#DIV/0!"}},{"$f":"STDEV(K146:O146)","v":{"$error":"#DIV/0!"}},"NA","NA","NA","NA","NA",{"$f":"AVERAGE(R146:V146)","v":{"$error":"#DIV/0!"}},{"$f":"STDEV(R146:V146)","v":{"$error":"#DIV/0!"}},"NA","NA","NA","NA","NA",{"$f":"AVERAGE(Y146:AC146)","v":{"$error":"#DIV/0!"}},{"$f":"STDEV(Y146:AC146)","v":{"$error":"#DIV/0!"}},"NA","NA","NA","NA","NA",{"$f":"AVERAGE(AF146:AJ146)","v":{"$error":"#DIV/0!"}},{"$f":"STDEV(AF146:AJ146)","v":{"$error":"#DIV/0!"}},"NA","NA","NA","NA","NA",{"$f":"AVERAGE(AM146:AQ146)","v":{"$error":"#DIV/0!"}},{"$f":"STDEV(AM146:AQ146)","v":{"$error":"#DIV/0!"}}]
[null,2,null,"NA","NA","NA","NA","NA",{"$f":"AVERAGE(D147:H147)","v":{"$error":"#DIV/0!"}},{"$f":"STDEV(D147:H147)","v":{"$error":"#DIV/0!"}},"NA","NA","NA","NA","NA",{"$error":"#DIV/0!"},{"$f":"STDEV(K147:O147)","v":{"$error":"#DIV/0!"}},"NA","NA","NA","NA","NA",{"$error":"#DIV/0!"},{"$f":"STDEV(R147:V147)","v":{"$error":"#DIV/0!"}},"NA","NA","NA","NA","NA",{"$error":"#DIV/0!"},{"$f":"STDEV(Y147:AC147)","v":{"$error":"#DIV/0!"}},27,39,34,35,35,34,{"$f":"STDEV(AF147:AJ147)","v":{"v":4.358898943540674,"d":"4"}},3,4,3,4,5,{"v":3.8,"d":"4"},{"$f":"STDEV(AM147:AQ147)","v":{"v":0.8366600265340751,"d":"1"}}]
[null,3,null,"NA","NA","NA","NA","NA",{"$f":"AVERAGE(D148:H148)","v":{"$error":"#DIV/0!"}},{"$f":"STDEV(D148:H148)","v":{"$error":"#DIV/0!"}},"NA","NA","NA","NA","NA",{"$error":"#DIV/0!"},{"$f":"STDEV(K148:O148)","v":{"$error":"#DIV/0!"}},"NA","NA","NA","NA","NA",{"$error":"#DIV/0!"},{"$f":"STDEV(R148:V148)","v":{"$error":"#DIV/0!"}},"NA","NA","NA","NA","NA",{"$error":"#DIV/0!"},{"$f":"STDEV(Y148:AC148)","v":{"$error":"#DIV/0!"}},24,23,40,24,10,{"v":24.2,"d":"24"},{"$f":"STDEV(AF148:AJ148)","v":{"v":10.639548862616312,"d":"11"}},3,3,2,1,1,2,{"$f":"STDEV(AM148:AQ148)","v":1}]
["average",{"$nulls":7},{"$f":"AVERAGE(I146:I148)","v":{"$error":"#DIV/0!"}},{"$nulls":6},{"$f":"AVERAGE(P146:P148)","v":{"$error":"#DIV/0!"}},{"$nulls":6},{"$f":"AVERAGE(W146:W148)","v":{"$error":"#DIV/0!"}},{"$nulls":6},{"$f":"AVERAGE(AD146:AD148)","v":{"$error":"#DIV/0!"}},{"$nulls":6},{"$f":"AVERAGE(AK147:AK148)","v":{"v":29.1,"d":"29"}},{"$nulls":6},{"$f":"AVERAGE(AR147:AR148)","v":{"v":2.9,"d":"3"}}]
["stdev",{"$nulls":7},{"$f":"J146+J147+J148","v":{"$error":"#DIV/0!"}},{"$nulls":6},{"$f":"Q146+Q147+Q148","v":{"$error":"#DIV/0!"}},{"$nulls":6},{"$f":"X146+X147+X148","v":{"$error":"#DIV/0!"}},{"$nulls":6},{"$f":"AE146+AE147+AE148","v":{"$error":"#DIV/0!"}},{"$nulls":6},{"$f":"AL146+AL147+AL148","v":{"$error":"#DIV/0!"}},{"$nulls":6},{"$f":"AS146+AS147+AS148","v":{"$error":"#DIV/0!"}}]
["2213F - ",1,null,"NA","NA","NA","NA","NA",{"$f":"AVERAGE(D151:H151)","v":{"$error":"#DIV/0!"}},{"$f":"STDEV(D151:H151)","v":{"$error":"#DIV/0!"}},"NA","NA","NA","NA","NA",{"$f":"AVERAGE(K151:O151)","v":{"$error":"#DIV/0!"}},{"$f":"STDEV(K151:O151)","v":{"$error":"#DIV/0!"}},"NA","NA","NA","NA","NA",{"$f":"AVERAGE(R151:V151)","v":{"$error":"#DIV/0!"}},{"$f":"STDEV(R151:V151)","v":{"$error":"#DIV/0!"}},34,33,24,39,31,{"$f":"AVERAGE(Y151:AC151)","v":{"v":32.2,"d":"32"}},{"$f":"STDEV(Y151:AC151)","v":{"v":5.449770637375489,"d":"5"}},2,7,5,5,4,{"$f":"AVERAGE(AF151:AJ151)","v":{"v":4.6,"d":"5"}},{"$f":"STDEV(AF151:AJ151)","v":{"v":1.8165902124584952,"d":"2"}},0,1,0,1,1,{"$f":"AVERAGE(AM151:AQ151)","v":{"v":0.6,"d":"1"}},{"$f":"STDEV(AM151:AQ151)","v":{"v":0.5477225575051661,"d":"1"}}]
["p+0",2,null,"NA","NA","NA","NA","NA",{"$f":"AVERAGE(D152:H152)","v":{"$error":"#DIV/0!"}},{"$f":"STDEV(D152:H152)","v":{"$error":"#DIV/0!"}},"NA","NA","NA","NA","NA",{"$error":"#DIV/0!"},{"$f":"STDEV(K152:O152)","v":{"$error":"#DIV/0!"}},"NA","NA","NA","NA","NA",{"$error":"#DIV/0!"},{"$f":"STDEV(R152:V152)","v":{"$error":"#DIV/0!"}},16,31,19,26,22,{"v":22.8,"d":"23"},{"$f":"STDEV(Y152:AC152)","v":{"v":5.89067059000926,"d":"6"}},4,5,2,1,0,{"v":2.4,"d":"2"},{"$f":"STDEV(AF152:AJ152)","v":{"v":2.073644135332772,"d":"2"}},0,0,0,0,0,0,{"$f":"STDEV(AM152:AQ152)","v":0}]
[null,3,null,"NA","NA","NA","NA","NA",{"$f":"AVERAGE(D153:H153)","v":{"$error":"#DIV/0!"}},{"$f":"STDEV(D153:H153)","v":{"$error":"#DIV/0!"}},"NA","NA","NA","NA","NA",{"$error":"#DIV/0!"},{"$f":"STDEV(K153:O153)","v":{"$error":"#DIV/0!"}},73,82,61,60,67,{"v":68.6,"d":"69"},{"$f":"STDEV(R153:V153)","v":{"v":9.126883367283718,"d":"9"}},8,11,9,13,12,{"v":10.6,"d":"11"},{"$f":"STDEV(Y153:AC153)","v":{"v":2.073644135332775,"d":"2"}},2,0,2,0,1,1,{"$f":"STDEV(AF153:AJ153)","v":1},0,0,0,0,0,0,{"$f":"STDEV(AM153:AQ153)","v":0}]
["average",{"$nulls":7},{"$f":"AVERAGE(I151:I153)","v":{"$error":"#DIV/0!"}},{"$nulls":6},{"$f":"AVERAGE(P151:P153)","v":{"$error":"#DIV/0!"}},{"$nulls":6},{"$f":"AVERAGE(W153)","v":{"v":68.6,"d":"69"}},{"$nulls":6},{"$f":"AVERAGE(AD151:AD153)","v":{"v":21.866666666666664,"d":"22"}},{"$nulls":6},{"$f":"AVERAGE(AK151:AK153)","v":{"v":2.6666666666666665,"d":"3"}},{"$nulls":6},{"$f":"AVERAGE(AR151:AR153)","v":{"v":0.19999999999999998,"d":"0"}}]
["stdev",{"$nulls":7},{"$f":"J151+J152+J153","v":{"$error":"#DIV/0!"}},{"$nulls":6},{"$f":"Q151+Q152+Q153","v":{"$error":"#DIV/0!"}},{"$nulls":6},{"$f":"X151+X152+X153","v":{"$error":"#DIV/0!"}},{"$nulls":6},{"$f":"AE151+AE152+AE153","v":{"v":13.414085362717525,"d":"13"}},{"$nulls":6},{"$f":"AL151+AL152+AL153","v":{"v":4.890234347791267,"d":"5"}},{"$nulls":6},{"$f":"AS151+AS152+AS153","v":{"v":0.5477225575051661,"d":"1"}}]
["p+3",1,null,"NA","NA","NA","NA","NA",{"$f":"AVERAGE(D156:H156)","v":{"$error":"#DIV/0!"}},{"$f":"STDEV(D156:H156)","v":{"$error":"#DIV/0!"}},"NA","NA","NA","NA","NA",{"$f":"AVERAGE(K156:O156)","v":{"$error":"#DIV/0!"}},{"$f":"STDEV(K156:O156)","v":{"$error":"#DIV/0!"}},52,55,52,66,52,{"$f":"AVERAGE(R156:V156)","v":{"v":55.4,"d":"55"}},{"$f":"STDEV(R156:V156)","v":{"v":6.066300355241241,"d":"6"}},4,8,7,4,7,{"$f":"AVERAGE(Y156:AC156)","v":6},{"$f":"STDEV(Y156:AC156)","v":{"v":1.8708286933869707,"d":"2"}},0,1,1,1,1,{"$f":"AVERAGE(AF156:AJ156)","v":{"v":0.8,"d":"1"}},{"$f":"STDEV(AF156:AJ156)","v":{"v":0.44721359549995787,"d":"0"}},0,0,0,0,0,{"$f":"AVERAGE(AM156:AQ156)","v":0},{"$f":"STDEV(AM156:AQ156)","v":0}]
[null,2,null,"NA","NA","NA","NA","NA",{"$f":"AVERAGE(D157:H157)","v":{"$error":"#DIV/0!"}},{"$f":"STDEV(D157:H157)","v":{"$error":"#DIV/0!"}},"NA","NA","NA","NA","NA",{"$error":"#DIV/0!"},{"$f":"STDEV(K157:O157)","v":{"$error":"#DIV/0!"}},45,38,54,37,42,{"v":43.2,"d":"43"},{"$f":"STDEV(R157:V157)","v":{"v":6.8337398253079416,"d":"7"}},2,4,4,1,7,{"v":3.6,"d":"4"},{"$f":"STDEV(Y157:AC157)","v":{"v":2.302172886644268,"d":"2"}},1,2,0,0,0,{"v":0.6,"d":"1"},{"$f":"STDEV(AF157:AJ157)","v":{"v":0.8944271909999159,"d":"1"}},0,0,0,0,0,0,{"$f":"STDEV(AM157:AQ157)","v":0}]
[null,3,null,"NA","NA","NA","NA","NA",{"$f":"AVERAGE(D158:H158)","v":{"$error":"#DIV/0!"}},{"$f":"STDEV(D158:H158)","v":{"$error":"#DIV/0!"}},"NA","NA","NA","NA","NA",{"$error":"#DIV/0!"},{"$f":"STDEV(K158:O158)","v":{"$error":"#DIV/0!"}},26,28,19,22,29,{"v":24.8,"d":"25"},{"$f":"STDEV(R158:V158)","v":{"v":4.2071367935925315,"d":"4"}},3,3,2,2,1,{"v":2.2,"d":"2"},{"$f":"STDEV(Y158:AC158)","v":{"v":0.8366600265340757,"d":"1"}},0,0,0,0,1,{"v":0.2,"d":"0"},{"$f":"STDEV(AF158:AJ158)","v":{"v":0.4472135954999579,"d":"0"}},0,0,0,0,0,0,{"$f":"STDEV(AM158:AQ158)","v":0}]
["average",{"$nulls":7},{"$f":"AVERAGE(I156:I158)","v":{"$error":"#DIV/0!"}},{"$nulls":6},{"$f":"AVERAGE(P156:P158)","v":{"$error":"#DIV/0!"}},{"$nulls":6},{"$f":"AVERAGE(W156:W158)","v":{"v":41.13333333333333,"d":"41"}},{"$nulls":6},{"$f":"AVERAGE(AD156:AD158)","v":{"v":3.9333333333333336,"d":"4"}},{"$nulls":6},{"$f":"AVERAGE(AK156:AK158)","v":{"v":0.5333333333333333,"d":"1"}},{"$nulls":6},{"$f":"AVERAGE(AR156:AR158)","v":0}]
["stdev",{"$nulls":7},{"$f":"J156+J157+J158","v":{"$error":"#DIV/0!"}},{"$nulls":6},{"$f":"Q156+Q157+Q158","v":{"$error":"#DIV/0!"}},{"$nulls":6},{"$f":"X156+X157+X158","v":{"v":17.107176974141716,"d":"17"}},{"$nulls":6},{"$f":"AE156+AE157+AE158","v":{"v":5.009661606565314,"d":"5"}},{"$nulls":6},{"$f":"AL156+AL157+AL158","v":{"v":1.7888543819998315,"d":"2"}},{"$nulls":6},{"$f":"AS156+AS157+AS158","v":0}]
["2213F A",1,null,"NA","NA","NA","NA","NA",{"$f":"AVERAGE(D161:H161)","v":{"$error":"#DIV/0!"}},{"$f":"STDEV(D161:H161)","v":{"$error":"#DIV/0!"}},"NA","NA","NA","NA","NA",{"$f":"AVERAGE(K161:O161)","v":{"$error":"#DIV/0!"}},{"$f":"STDEV(K161:O161)","v":{"$error":"#DIV/0!"}},72,79,76,81,79,{"$f":"AVERAGE(R161:V161)","v":{"v":77.4,"d":"77"}},{"$f":"STDEV(R161:V161)","v":{"v":3.507135583350036,"d":"4"}},5,9,9,10,7,{"$f":"AVERAGE(Y161:AC161)","v":8},{"$f":"STDEV(Y161:AC161)","v":2},2,3,1,1,3,{"$f":"AVERAGE(AF161:AJ161)","v":2},{"$f":"STDEV(AF161:AJ161)","v":1},0,0,0,0,0,{"$f":"AVERAGE(AM161:AQ161)","v":0},{"$f":"STDEV(AM161:AQ161)","v":0}]
["p+0",2,null,"NA","NA","NA","NA","NA",{"$f":"AVERAGE(D162:H162)","v":{"$error":"#DIV/0!"}},{"$f":"STDEV(D162:H162)","v":{"$error":"#DIV/0!"}},"NA","NA","NA","NA","NA",{"$error":"#DIV/0!"},{"$f":"STDEV(K162:O162)","v":{"$error":"#DIV/0!"}},45,36,49,39,46,43,{"$f":"STDEV(R162:V162)","v":{"v":5.338539126015656,"d":"5"}},5,7,8,3,5,{"v":5.6,"d":"6"},{"$f":"STDEV(Y162:AC162)","v":{"v":1.949358868961792,"d":"2"}},2,1,0,0,1,{"v":0.8,"d":"1"},{"$f":"STDEV(AF162:AJ162)","v":{"v":0.8366600265340756,"d":"1"}},1,0,0,0,0,{"v":0.2,"d":"0"},{"$f":"STDEV(AM162:AQ162)","v":{"v":0.4472135954999579,"d":"0"}}]
[null,3,null,"NA","NA","NA","NA","NA",{"$f":"AVERAGE(D163:H163)","v":{"$error":"#DIV/0!"}},{"$f":"STDEV(D163:H163)","v":{"$error":"#DIV/0!"}},"NA","NA","NA","NA","NA",{"$error":"#DIV/0!"},{"$f":"STDEV(K163:O163)","v":{"$error":"#DIV/0!"}},48,42,55,45,41,{"v":46.2,"d":"46"},{"$f":"STDEV(R163:V163)","v":{"v":5.630275304103683,"d":"6"}},3,4,1,4,7,{"$f":"AVERAGE(Y163:AC163)","v":{"v":3.8,"d":"4"}},{"$f":"STDEV(Y163:AC163)","v":{"v":2.16794833886788,"d":"2"}},0,0,0,0,1,{"$f":"AVERAGE(AF163:AJ163)","v":{"v":0.2,"d":"0"}},{"$f":"STDEV(AF163:AJ163)","v":{"v":0.4472135954999579,"d":"0"}},0,0,0,0,0,{"$f":"AVERAGE(AM163:AQ163)","v":0},{"$f":"STDEV(AM163:AQ163)","v":0}]
["average",{"$nulls":7},{"$f":"AVERAGE(I161:I163)","v":{"$error":"#DIV/0!"}},{"$nulls":6},{"$f":"AVERAGE(P161:P163)","v":{"$error":"#DIV/0!"}},{"$nulls":6},{"$f":"AVERAGE(W161:W163)","v":{"v":55.53333333333334,"d":"56"}},{"$nulls":6},{"$f":"AVERAGE(AD161:AD163)","v":{"v":5.8,"d":"6"}},{"$nulls":6},{"$f":"AVERAGE(AK161:AK163)","v":1},{"$nulls":6},{"$f":"AVERAGE(AR161:AR163)","v":{"v":0.06666666666666667,"d":"0"}}]
["stdev",{"$nulls":7},{"$f":"J161+J162+J163","v":{"$error":"#DIV/0!"}},{"$nulls":6},{"$f":"Q161+Q162+Q163","v":{"$error":"#DIV/0!"}},{"$nulls":6},{"$f":"X161+X162+X163","v":{"v":14.475950013469376,"d":"14"}},{"$nulls":6},{"$f":"AE161+AE162+AE163","v":{"v":6.117307207829672,"d":"6"}},{"$nulls":6},{"$f":"AL161+AL162+AL163","v":{"v":2.2838736220340334,"d":"2"}},{"$nulls":6},{"$f":"AS161+AS162+AS163","v":{"v":0.4472135954999579,"d":"0"}}]
["p+3",1,null,"NA","NA","NA","NA","NA",{"$f":"AVERAGE(D166:H166)","v":{"$error":"#DIV/0!"}},{"$f":"STDEV(D166:H166)","v":{"$error":"#DIV/0!"}},"NA","NA","NA","NA","NA",{"$f":"AVERAGE(K166:O166)","v":{"$error":"#DIV/0!"}},{"$f":"STDEV(K166:O166)","v":{"$error":"#DIV/0!"}},54,44,41,54,54,{"$f":"AVERAGE(R166:V166)","v":{"v":49.4,"d":"49"}},{"$f":"STDEV(R166:V166)","v":{"v":6.387487769068539,"d":"6"}},5,4,9,2,5,{"$f":"AVERAGE(Y166:AC166)","v":5},{"$f":"STDEV(Y166:AC166)","v":{"v":2.5495097567963922,"d":"3"}},2,3,0,0,2,{"$f":"AVERAGE(AF166:AJ166)","v":{"v":1.4,"d":"1"}},{"$f":"STDEV(AF166:AJ166)","v":{"v":1.3416407864998738,"d":"1"}},0,0,1,0,0,{"$f":"AVERAGE(AM166:AQ166)","v":{"v":0.2,"d":"0"}},{"$f":"STDEV(AM166:AQ166)","v":{"v":0.4472135954999579,"d":"0"}}]
[null,2,null,"NA","NA","NA","NA","NA",{"$f":"AVERAGE(D167:H167)","v":{"$error":"#DIV/0!"}},{"$f":"STDEV(D167:H167)","v":{"$error":"#DIV/0!"}},"NA","NA","NA","NA","NA",{"$error":"#DIV/0!"},{"$f":"STDEV(K167:O167)","v":{"$error":"#DIV/0!"}},42,45,41,47,46,{"v":44.2,"d":"44"},{"$f":"STDEV(R167:V167)","v":{"v":2.588435821108957,"d":"3"}},7,8,7,4,7,{"v":6.6,"d":"7"},{"$f":"STDEV(Y167:AC167)","v":{"v":1.5165750888103091,"d":"2"}},0,3,0,0,1,{"$f":"AVERAGE(AF167:AJ167)","v":{"v":0.8,"d":"1"}},{"$f":"STDEV(AF167:AJ167)","v":{"v":1.3038404810405297,"d":"1"}},0,0,0,0,0,0,{"$f":"STDEV(AM167:AQ167)","v":0}]
[null,3,null,"NA","NA","NA","NA","NA",{"$f":"AVERAGE(D168:H168)","v":{"$error":"#DIV/0!"}},{"$f":"STDEV(D168:H168)","v":{"$error":"#DIV/0!"}},"NA","NA","NA","NA","NA",{"$error":"#DIV/0!"},{"$f":"STDEV(K168:O168)","v":{"$error":"#DIV/0!"}},34,34,27,34,35,{"v":32.8,"d":"33"},{"$f":"STDEV(R168:V168)","v":{"v":3.271085446759225,"d":"3"}},3,3,5,5,2,{"v":3.6,"d":"4"},{"$f":"STDEV(Y168:AC168)","v":{"v":1.341640786499874,"d":"1"}},0,0,1,0,0,{"v":0.2,"d":"0"},{"$f":"STDEV(AF168:AJ168)","v":{"v":0.4472135954999579,"d":"0"}},0,0,0,0,0,0,{"$f":"STDEV(AM168:AQ168)","v":0}]
["average",{"$nulls":7},{"$f":"AVERAGE(I166:I168)","v":{"$error":"#DIV/0!"}},{"$nulls":6},{"$f":"AVERAGE(P166:P168)","v":{"$error":"#DIV/0!"}},{"$nulls":6},{"$f":"AVERAGE(W166:W168)","v":{"v":42.13333333333333,"d":"42"}},{"$nulls":6},{"$f":"AVERAGE(AD166:AD168)","v":{"v":5.066666666666666,"d":"5"}},{"$nulls":6},{"$f":"AVERAGE(AK166:AK168)","v":{"v":0.8000000000000002,"d":"1"}},{"$nulls":6},{"$f":"AVERAGE(AR166:AR168)","v":{"v":0.06666666666666667,"d":"0"}}]
["stdev",{"$nulls":7},{"$f":"J166+J167+J168","v":{"$error":"#DIV/0!"}},{"$nulls":6},{"$f":"Q166+Q167+Q168","v":{"$error":"#DIV/0!"}},{"$nulls":6},{"$f":"X166+X167+X168","v":{"v":12.24700903693672,"d":"12"}},{"$nulls":6},{"$f":"AE166+AE167+AE168","v":{"v":5.407725632106575,"d":"5"}},{"$nulls":6},{"$f":"AL166+AL167+AL168","v":{"v":3.0926948630403612,"d":"3"}},{"$nulls":6},{"$f":"AS166+AS167+AS168","v":{"v":0.4472135954999579,"d":"0"}}]
["2213F APR",1,null,"NA","NA","NA","NA","NA",{"$f":"AVERAGE(D171:H171)","v":{"$error":"#DIV/0!"}},{"$f":"STDEV(D171:H171)","v":{"$error":"#DIV/0!"}},"NA","NA","NA","NA","NA",{"$f":"AVERAGE(K171:O171)","v":{"$error":"#DIV/0!"}},{"$f":"STDEV(K171:O171)","v":{"$error":"#DIV/0!"}},"NA","NA","NA","NA","NA",{"$f":"AVERAGE(R171:V171)","v":{"$error":"#DIV/0!"}},{"$f":"STDEV(R171:V171)","v":{"$error":"#DIV/0!"}},"NA","NA","NA","NA","NA",{"$f":"AVERAGE(Y171:AC171)","v":{"$error":"#DIV/0!"}},{"$f":"STDEV(Y171:AC171)","v":{"$error":"#DIV/0!"}},45,55,44,57,47,{"$f":"AVERAGE(AF171:AJ171)","v":{"v":49.6,"d":"50"}},{"$f":"STDEV(AF171:AJ171)","v":{"v":5.983310120660652,"d":"6"}},12,7,6,8,2,{"$f":"AVERAGE(AM171:AQ171)","v":7},{"$f":"STDEV(AM171:AQ171)","v":{"v":3.605551275463989,"d":"4"}}]
["p+0",2,null,"NA","NA","NA","NA","NA",{"$f":"AVERAGE(D172:H172)","v":{"$error":"#DIV/0!"}},{"$f":"STDEV(D172:H172)","v":{"$error":"#DIV/0!"}},"NA","NA","NA","NA","NA",{"$error":"#DIV/0!"},{"$f":"STDEV(K172:O172)","v":{"$error":"#DIV/0!"}},"NA","NA","NA","NA","NA",{"$error":"#DIV/0!"},{"$f":"STDEV(R172:V172)","v":{"$error":"#DIV/0!"}},"NA","NA","NA","NA","NA",{"$error":"#DIV/0!"},{"$f":"STDEV(Y172:AC172)","v":{"$error":"#DIV/0!"}},32,39,24,29,48,{"$f":"AVERAGE(AF172:AJ172)","v":{"v":34.4,"d":"34"}},{"$f":"STDEV(AF172:AJ172)","v":{"v":9.34344690143846,"d":"9"}},4,4,4,2,2,{"v":3.2,"d":"3"},{"$f":"STDEV(AM172:AQ172)","v":{"v":1.095445115010332,"d":"1"}}]
[null,3,null,"NA","NA","NA","NA","NA",{"$f":"AVERAGE(D173:H173)","v":{"$error":"#DIV/0!"}},{"$f":"STDEV(D173:H173)","v":{"$error":"#DIV/0!"}},"NA","NA","NA","NA","NA",{"$error":"#DIV/0!"},{"$f":"STDEV(K173:O173)","v":{"$error":"#DIV/0!"}},"NA","NA","NA","NA","NA",{"$error":"#DIV/0!"},{"$f":"STDEV(R173:V173)","v":{"$error":"#DIV/0!"}},"NA","NA","NA","NA","NA",{"$error":"#DIV/0!"},{"$f":"STDEV(Y173:AC173)","v":{"$error":"#DIV/0!"}},38,40,43,42,48,{"v":42.2,"d":"42"},{"$f":"STDEV(AF173:AJ173)","v":{"v":3.7682887362833544,"d":"4"}},2,5,4,6,2,{"v":3.8,"d":"4"},{"$f":"STDEV(AM173:AQ173)","v":{"v":1.7888543819998315,"d":"2"}}]
["average",{"$nulls":7},{"$f":"AVERAGE(I171:I173)","v":{"$error":"#DIV/0!"}},{"$nulls":6},{"$f":"AVERAGE(P171:P173)","v":{"$error":"#DIV/0!"}},{"$nulls":6},{"$f":"AVERAGE(W171:W173)","v":{"$error":"#DIV/0!"}},{"$nulls":6},{"$f":"AVERAGE(AD171:AD173)","v":{"$error":"#DIV/0!"}},{"$nulls":6},{"$f":"AVERAGE(AK171:AK173)","v":{"v":42.06666666666667,"d":"42"}},{"$nulls":6},{"$f":"AVERAGE(AR171:AR173)","v":{"v":4.666666666666667,"d":"5"}}]
["stdev",{"$nulls":7},{"$f":"J171+J172+J173","v":{"$error":"#DIV/0!"}},{"$nulls":6},{"$f":"Q171+Q172+Q173","v":{"$error":"#DIV/0!"}},{"$nulls":6},{"$f":"X171+X172+X173","v":{"$error":"#DIV/0!"}},{"$nulls":6},{"$f":"AE171+AE172+AE173","v":{"$error":"#DIV/0!"}},{"$nulls":6},{"$f":"AL171+AL172+AL173","v":{"v":19.09504575838247,"d":"19"}},{"$nulls":6},{"$f":"AS171+AS172+AS173","v":{"v":6.489850772474153,"d":"6"}}]
["p+3",1,null,"NA","NA","NA","NA","NA",{"$f":"AVERAGE(D176:H176)","v":{"$error":"#DIV/0!"}},{"$f":"STDEV(D176:H176)","v":{"$error":"#DIV/0!"}},"NA","NA","NA","NA","NA",{"$f":"AVERAGE(K176:O176)","v":{"$error":"#DIV/0!"}},{"$f":"STDEV(K176:O176)","v":{"$error":"#DIV/0!"}},"NA","NA","NA","NA","NA",{"$f":"AVERAGE(R176:V176)","v":{"$error":"#DIV/0!"}},{"$f":"STDEV(R176:V176)","v":{"$error":"#DIV/0!"}},"NA","NA","NA","NA","NA",{"$f":"AVERAGE(Y176:AC176)","v":{"$error":"#DIV/0!"}},{"$f":"STDEV(Y176:AC176)","v":{"$error":"#DIV/0!"}},66,62,57,56,45,{"$f":"AVERAGE(AF176:AJ176)","v":{"v":57.2,"d":"57"}},{"$f":"STDEV(AF176:AJ176)","v":{"v":7.9183331579316505,"d":"8"}},3,7,4,9,4,{"$f":"AVERAGE(AM176:AQ176)","v":{"v":5.4,"d":"5"}},{"$f":"STDEV(AM176:AQ176)","v":{"v":2.5099800796022262,"d":"3"}}]
[null,2,null,"NA","NA","NA","NA","NA",{"$f":"AVERAGE(D177:H177)","v":{"$error":"#DIV/0!"}},{"$f":"STDEV(D177:H177)","v":{"$error":"#DIV/0!"}},"NA","NA","NA","NA","NA",{"$error":"#DIV/0!"},{"$f":"STDEV(K177:O177)","v":{"$error":"#DIV/0!"}},"NA","NA","NA","NA","NA",{"$error":"#DIV/0!"},{"$f":"STDEV(R177:V177)","v":{"$error":"#DIV/0!"}},"NA","NA","NA","NA","NA",{"$error":"#DIV/0!"},{"$f":"STDEV(Y177:AC177)","v":{"$error":"#DIV/0!"}},47,54,47,48,41,{"v":47.4,"d":"47"},{"$f":"STDEV(AF177:AJ177)","v":{"v":4.61519230368573,"d":"5"}},3,4,10,5,3,5,{"$f":"STDEV(AM177:AQ177)","v":{"v":2.9154759474226504,"d":"3"}}]
[null,3,null,"NA","NA","NA","NA","NA",{"$f":"AVERAGE(D178:H178)","v":{"$error":"#DIV/0!"}},{"$f":"STDEV(D178:H178)","v":{"$error":"#DIV/0!"}},"NA","NA","NA","NA","NA",{"$error":"#DIV/0!"},{"$f":"STDEV(K178:O178)","v":{"$error":"#DIV/0!"}},"NA","NA","NA","NA","NA",{"$error":"#DIV/0!"},{"$f":"STDEV(R178:V178)","v":{"$error":"#DIV/0!"}},"NA","NA","NA","NA","NA",{"$error":"#DIV/0!"},{"$f":"STDEV(Y178:AC178)","v":{"$error":"#DIV/0!"}},81,65,80,73,61,72,{"$f":"STDEV(AF178:AJ178)","v":{"v":8.888194417315589,"d":"9"}},8,6,8,11,9,{"v":8.4,"d":"8"},{"$f":"STDEV(AM178:AQ178)","v":{"v":1.8165902124584943,"d":"2"}}]
["average",{"$nulls":7},{"$f":"AVERAGE(I176:I178)","v":{"$error":"#DIV/0!"}},{"$nulls":6},{"$f":"AVERAGE(P176:P178)","v":{"$error":"#DIV/0!"}},{"$nulls":6},{"$f":"AVERAGE(W176:W178)","v":{"$error":"#DIV/0!"}},{"$nulls":6},{"$f":"AVERAGE(AD176:AD178)","v":{"$error":"#DIV/0!"}},{"$nulls":6},{"$f":"AVERAGE(AK176:AK178)","v":{"v":58.86666666666667,"d":"59"}},{"$nulls":6},{"$f":"AVERAGE(AR176:AR178)","v":{"v":6.266666666666667,"d":"6"}}]
["stdev",{"$nulls":7},{"$f":"J176+J177+J178","v":{"$error":"#DIV/0!"}},{"$nulls":6},{"$f":"Q176+Q177+Q178","v":{"$error":"#DIV/0!"}},{"$nulls":6},{"$f":"X176+X177+X178","v":{"$error":"#DIV/0!"}},{"$nulls":6},{"$f":"AE176+AE177+AE178","v":{"$error":"#DIV/0!"}},{"$nulls":6},{"$f":"AL176+AL177+AL178","v":{"v":21.42171987893297,"d":"21"}},{"$nulls":6},{"$f":"AS176+AS177+AS178","v":{"v":7.242046239483371,"d":"7"}}]
[]
[]
["T9","2017-06-07"]
["Sample","Dilution:",null,1,{"$nulls":4},"AVERAGE","Stdev",{"$f":"10^-1","v":{"v":0.1,"d":"1E-01"}},{"$nulls":4},"AVERAGE","Stdev",{"$f":"10^-2","v":{"v":0.01,"d":"1E-02"}},{"$nulls":4},"AVERAGE","Stdev",{"$f":"10^-3","v":{"v":1E-3,"d":"1E-03"}},{"$nulls":4},"AVERAGE","Stdev",{"$f":"10^-4","v":{"v":1E-4,"d":"1E-04"}},{"$nulls":4},"AVERAGE","Stdev",{"$f":"10^-5","v":1e-05},{"$nulls":4},"AVERAGE","Stdev"]
["Blank",1,null,0,0,0,0,0,{"$f":"AVERAGE(D185:H185)","v":0},{"$f":"STDEV(D185:H185)","v":0},0,0,0,0,0,{"$f":"AVERAGE(K185:O185)","v":0},{"$f":"STDEV(K185:O185)","v":0},0,0,0,0,0,{"$f":"AVERAGE(R185:V185)","v":0},{"$f":"STDEV(R185:V185)","v":0},0,0,0,0,0,{"$f":"AVERAGE(Y185:AC185)","v":0},{"$f":"STDEV(Y185:AC185)","v":0},0,0,0,0,0,{"$f":"AVERAGE(AF185:AJ185)","v":0},{"$f":"STDEV(AF185:AJ185)","v":0},0,0,0,0,0,{"$f":"AVERAGE(AM185:AQ185)","v":0},{"$f":"STDEV(AM185:AQ185)","v":0}]
[null,2,null,0,0,0,0,0,{"$f":"AVERAGE(D186:H186)","v":0},{"$f":"STDEV(D186:H186)","v":0},0,0,0,0,0,{"$f":"AVERAGE(K186:O186)","v":0},{"$f":"STDEV(K186:O186)","v":0},0,0,0,0,0,{"$f":"AVERAGE(R186:V186)","v":0},{"$f":"STDEV(R186:V186)","v":0},0,0,0,0,0,{"$f":"AVERAGE(Y186:AC186)","v":0},{"$f":"STDEV(Y186:AC186)","v":0},0,0,0,0,0,{"$f":"AVERAGE(AF186:AJ186)","v":0},{"$f":"STDEV(AF186:AJ186)","v":0},0,0,0,0,0,{"$f":"AVERAGE(AM186:AQ186)","v":0},{"$f":"STDEV(AM186:AQ186)","v":0}]
[null,3,null,0,0,0,0,0,{"$f":"AVERAGE(D187:H187)","v":0},{"$f":"STDEV(D187:H187)","v":0},0,0,0,0,0,0,{"$f":"STDEV(K187:O187)","v":0},0,0,0,0,0,0,{"$f":"STDEV(R187:V187)","v":0},0,0,0,0,0,0,{"$f":"STDEV(Y187:AC187)","v":0},0,0,0,0,0,0,{"$f":"STDEV(AF187:AJ187)","v":0},0,0,0,0,0,0,{"$f":"STDEV(AM187:AQ187)","v":0}]
[{"$nulls":8},{"$f":"AVERAGE(I185:I187)","v":0},{"$nulls":6},{"$f":"AVERAGE(P185:P187)","v":0},{"$nulls":6},{"$f":"AVERAGE(W185:W187)","v":0},{"$nulls":6},{"$f":"AVERAGE(AD185:AD187)","v":0},{"$nulls":6},{"$f":"AVERAGE(AK185:AK187)","v":0},{"$nulls":6},{"$f":"AVERAGE(AR185:AR187)","v":0}]
[{"$nulls":8},{"$f":"J185+J186+J187","v":0},{"$nulls":6},{"$f":"Q185+Q186+Q187","v":0},{"$nulls":6},{"$f":"X185+X186+X187","v":0},{"$nulls":6},{"$f":"AE185+AE186+AE187","v":0},{"$nulls":6},{"$f":"AL185+AL186+AL187","v":0},{"$nulls":6},{"$f":"AS185+AS186+AS187","v":0}]
["WT",1,null,"NA","NA","NA","NA","NA",{"$f":"AVERAGE(D190:H190)","v":{"$error":"#DIV/0!"}},{"$f":"STDEV(D190:H190)","v":{"$error":"#DIV/0!"}},"NA","NA","NA","NA","NA",{"$f":"AVERAGE(K190:O190)","v":{"$error":"#DIV/0!"}},{"$f":"STDEV(K190:O190)","v":{"$error":"#DIV/0!"}},"NA","NA","NA","NA","NA",{"$f":"AVERAGE(R190:V190)","v":{"$error":"#DIV/0!"}},{"$f":"STDEV(R190:V190)","v":{"$error":"#DIV/0!"}},"NA","NA","NA","NA","NA",{"$f":"AVERAGE(Y190:AC190)","v":{"$error":"#DIV/0!"}},{"$f":"STDEV(Y190:AC190)","v":{"$error":"#DIV/0!"}},30,29,"NA","NA","NA",{"$f":"AVERAGE(AF190:AJ190)","v":{"v":29.5,"d":"30"}},{"$f":"STDEV(AF190:AJ190)","v":{"v":0.7071067811865476,"d":"1"}},0,3,3,3,2,{"$f":"AVERAGE(AM190:AQ190)","v":{"v":2.2,"d":"2"}},{"$f":"STDEV(AM190:AQ190)","v":{"v":1.3038404810405297,"d":"1"}}]
[null,2,null,"NA","NA","NA","NA","NA",{"$f":"AVERAGE(D191:H191)","v":{"$error":"#DIV/0!"}},{"$f":"STDEV(D191:H191)","v":{"$error":"#DIV/0!"}},"NA","NA","NA","NA","NA",{"$error":"#DIV/0!"},{"$f":"STDEV(K191:O191)","v":{"$error":"#DIV/0!"}},"NA","NA","NA","NA","NA",{"$error":"#DIV/0!"},{"$f":"STDEV(R191:V191)","v":{"$error":"#DIV/0!"}},"NA","NA","NA","NA",59,59,{"$f":"STDEV(Y191:AC191)","v":{"$error":"#DIV/0!"}},12,103,84,60,9,{"v":53.6,"d":"54"},{"$f":"STDEV(AF191:AJ191)","v":{"v":42.20544988505632,"d":"42"}},0,0,1,0,2,{"v":0.6,"d":"1"},{"$f":"STDEV(AM191:AQ191)","v":{"v":0.8944271909999159,"d":"1"}}]
[null,3,null,"NA","NA","NA","NA","NA",{"$f":"AVERAGE(D192:H192)","v":{"$error":"#DIV/0!"}},{"$f":"STDEV(D192:H192)","v":{"$error":"#DIV/0!"}},"NA","NA","NA","NA","NA",{"$error":"#DIV/0!"},{"$f":"STDEV(K192:O192)","v":{"$error":"#DIV/0!"}},"NA","NA","NA","NA","NA",{"$error":"#DIV/0!"},{"$f":"STDEV(R192:V192)","v":{"$error":"#DIV/0!"}},29,81,"NA",34,28,43,{"$f":"STDEV(Y192:AC192)","v":{"v":25.468935326524086,"d":"25"}},2,4,7,1,2,{"v":3.2,"d":"3"},{"$f":"STDEV(AF192:AJ192)","v":{"v":2.3874672772626644,"d":"2"}},0,0,1,0,0,{"v":0.2,"d":"0"},{"$f":"STDEV(AM192:AQ192)","v":{"v":0.4472135954999579,"d":"0"}}]
["average",{"$nulls":7},{"$f":"AVERAGE(I190:I192)","v":{"$error":"#DIV/0!"}},{"$nulls":6},{"$f":"AVERAGE(P190:P192)","v":{"$error":"#DIV/0!"}},{"$nulls":6},{"$f":"AVERAGE(W190:W192)","v":{"$error":"#DIV/0!"}},{"$nulls":6},{"$f":"AVERAGE(AD191:AD192)","v":51},{"$nulls":6},{"$f":"AVERAGE(AK191:AK192)","v":{"v":28.400000000000002,"d":"28"}},{"$nulls":6},{"$f":"AVERAGE(AR191:AR192)","v":{"v":0.4,"d":"0"}}]
["stdev",{"$nulls":7},{"$f":"J190+J191+J192","v":{"$error":"#DIV/0!"}},{"$nulls":6},{"$f":"Q190+Q191+Q192","v":{"$error":"#DIV/0!"}},{"$nulls":6},{"$f":"X190+X191+X192","v":{"$error":"#DIV/0!"}},{"$nulls":6},{"$f":"AE190+AE191+AE192","v":{"$error":"#DIV/0!"}},{"$nulls":6},{"$f":"AL190+AL191+AL192","v":{"v":45.30002394350553,"d":"45"}},{"$nulls":6},{"$f":"AS190+AS191+AS192","v":{"v":2.6454812675404034,"d":"3"}}]
["2213F - ",1,null,"NA","NA","NA","NA","NA",{"$f":"AVERAGE(D195:H195)","v":{"$error":"#DIV/0!"}},{"$f":"STDEV(D195:H195)","v":{"$error":"#DIV/0!"}},"NA","NA","NA","NA","NA",{"$f":"AVERAGE(K195:O195)","v":{"$error":"#DIV/0!"}},{"$f":"STDEV(K195:O195)","v":{"$error":"#DIV/0!"}},63,83,76,67,73,{"$f":"AVERAGE(R195:V195)","v":{"v":72.4,"d":"72"}},{"$f":"STDEV(R195:V195)","v":{"v":7.797435475847171,"d":"8"}},10,9,12,7,8,{"$f":"AVERAGE(Y195:AC195)","v":{"v":9.2,"d":"9"}},{"$f":"STDEV(Y195:AC195)","v":{"v":1.9235384061671352,"d":"2"}},0,0,1,0,0,{"$f":"AVERAGE(AF195:AJ195)","v":{"v":0.2,"d":"0"}},{"$f":"STDEV(AF195:AJ195)","v":{"v":0.4472135954999579,"d":"0"}},1,0,0,0,0,{"$f":"AVERAGE(AM195:AQ195)","v":{"v":0.2,"d":"0"}},{"$f":"STDEV(AM195:AQ195)","v":{"v":0.4472135954999579,"d":"0"}}]
["p+0",2,null,"NA","NA","NA","NA","NA",{"$f":"AVERAGE(D196:H196)","v":{"$error":"#DIV/0!"}},{"$f":"STDEV(D196:H196)","v":{"$error":"#DIV/0!"}},"NA","NA","NA","NA","NA",{"$error":"#DIV/0!"},{"$f":"STDEV(K196:O196)","v":{"$error":"#DIV/0!"}},47,129,117,82,55,86,{"$f":"STDEV(R196:V196)","v":{"v":36.42801120017397,"d":"36"}},9,3,5,8,7,{"v":6.4,"d":"6"},{"$f":"STDEV(Y196:AC196)","v":{"v":2.4083189157584584,"d":"2"}},0,0,0,1,0,{"v":0.2,"d":"0"},{"$f":"STDEV(AF196:AJ196)","v":{"v":0.4472135954999579,"d":"0"}},0,0,0,0,0,0,{"$f":"STDEV(AM196:AQ196)","v":0}]
[null,3,null,"NA","NA","NA","NA","NA",{"$f":"AVERAGE(D197:H197)","v":{"$error":"#DIV/0!"}},{"$f":"STDEV(D197:H197)","v":{"$error":"#DIV/0!"}},"NA","NA","NA","NA","NA",{"$error":"#DIV/0!"},{"$f":"STDEV(K197:O197)","v":{"$error":"#DIV/0!"}},15,21,17,17,17,{"v":17.4,"d":"17"},{"$f":"STDEV(R197:V197)","v":{"v":2.190890230020667,"d":"2"}},2,1,0,0,0,{"v":0.6,"d":"1"},{"$f":"STDEV(Y197:AC197)","v":{"v":0.8944271909999159,"d":"1"}},0,0,0,0,0,0,{"$f":"STDEV(AF197:AJ197)","v":0},0,0,0,0,0,0,{"$f":"STDEV(AM197:AQ197)","v":0}]
["average",{"$nulls":7},{"$f":"AVERAGE(I195:I197)","v":{"$error":"#DIV/0!"}},{"$nulls":6},{"$f":"AVERAGE(P195:P197)","v":{"$error":"#DIV/0!"}},{"$nulls":6},{"$f":"AVERAGE(W195:W197)","v":{"v":58.6,"d":"59"}},{"$nulls":6},{"$f":"AVERAGE(AD195:AD197)","v":{"v":5.3999999999999995,"d":"5"}},{"$nulls":6},{"$f":"AVERAGE(AK195:AK197)","v":{"v":0.13333333333333333,"d":"0"}},{"$nulls":6},{"$f":"AVERAGE(AR195:AR197)","v":{"v":0.06666666666666667,"d":"0"}}]
["stdev",{"$nulls":7},{"$f":"J195+J196+J197","v":{"$error":"#DIV/0!"}},{"$nulls":6},{"$f":"Q195+Q196+Q197","v":{"$error":"#DIV/0!"}},{"$nulls":6},{"$f":"X195+X196+X197","v":{"v":46.416336906041806,"d":"46"}},{"$nulls":6},{"$f":"AE195+AE196+AE197","v":{"v":5.226284512925509,"d":"5"}},{"$nulls":6},{"$f":"AL195+AL196+AL197","v":{"v":0.8944271909999159,"d":"1"}},{"$nulls":6},{"$f":"AS195+AS196+AS197","v":{"v":0.4472135954999579,"d":"0"}}]
["p+3",1,null,"NA","NA","NA","NA","NA",{"$f":"AVERAGE(D200:H200)","v":{"$error":"#DIV/0!"}},{"$f":"STDEV(D200:H200)","v":{"$error":"#DIV/0!"}},58,73,87,67,86,{"$f":"AVERAGE(K200:O200)","v":{"v":74.2,"d":"74"}},{"$f":"STDEV(K200:O200)","v":{"v":12.437845472588885,"d":"12"}},10,9,12,5,9,{"$f":"AVERAGE(R200:V200)","v":9},{"$f":"STDEV(R200:V200)","v":{"v":2.5495097567963922,"d":"3"}},3,0,2,0,1,{"$f":"AVERAGE(Y200:AC200)","v":{"v":1.2,"d":"1"}},{"$f":"STDEV(Y200:AC200)","v":{"v":1.3038404810405297,"d":"1"}},0,0,0,0,0,{"$f":"AVERAGE(AF200:AJ200)","v":0},{"$f":"STDEV(AF200:AJ200)","v":0},0,0,0,0,0,{"$f":"AVERAGE(AM200:AQ200)","v":0},{"$f":"STDEV(AM200:AQ200)","v":0}]
[null,2,null,"NA","NA","NA","NA","NA",{"$f":"AVERAGE(D201:H201)","v":{"$error":"#DIV/0!"}},{"$f":"STDEV(D201:H201)","v":{"$error":"#DIV/0!"}},49,70,69,48,59,59,{"$f":"STDEV(K201:O201)","v":{"v":10.51189802081432,"d":"11"}},7,9,5,5,6,{"v":6.4,"d":"6"},{"$f":"STDEV(R201:V201)","v":{"v":1.6733200530681502,"d":"2"}},3,3,0,2,0,{"v":1.6,"d":"2"},{"$f":"STDEV(Y201:AC201)","v":{"v":1.51657508881031,"d":"2"}},0,0,0,0,0,0,{"$f":"STDEV(AF201:AJ201)","v":0},0,0,0,0,0,0,{"$f":"STDEV(AM201:AQ201)","v":0}]
[null,3,null,"NA","NA","NA","NA","NA",{"$f":"AVERAGE(D202:H202)","v":{"$error":"#DIV/0!"}},{"$f":"STDEV(D202:H202)","v":{"$error":"#DIV/0!"}},33,42,59,49,23,{"v":41.2,"d":"41"},{"$f":"STDEV(K202:O202)","v":{"v":13.935566009315869,"d":"14"}},3,1,8,5,5,{"v":4.4,"d":"4"},{"$f":"STDEV(R202:V202)","v":{"v":2.6076809620810595,"d":"3"}},0,0,0,1,1,{"v":0.4,"d":"0"},{"$f":"STDEV(Y202:AC202)","v":{"v":0.5477225575051661,"d":"1"}},0,0,0,0,0,0,{"$f":"STDEV(AF202:AJ202)","v":0},0,0,0,0,0,0,{"$f":"STDEV(AM202:AQ202)","v":0}]
["average",{"$nulls":7},{"$f":"AVERAGE(I200:I202)","v":{"$error":"#DIV/0!"}},{"$nulls":6},{"$f":"AVERAGE(P200:P202)","v":{"v":58.133333333333326,"d":"58"}},{"$nulls":6},{"$f":"AVERAGE(W200:W202)","v":{"v":6.6000000000000005,"d":"7"}},{"$nulls":6},{"$f":"AVERAGE(AD200:AD202)","v":{"v":1.0666666666666667,"d":"1"}},{"$nulls":6},{"$f":"AVERAGE(AK200:AK202)","v":0},{"$nulls":6},{"$f":"AVERAGE(AR200:AR202)","v":0}]
["stdev",{"$nulls":7},{"$f":"J200+J201+J202","v":{"$error":"#DIV/0!"}},{"$nulls":6},{"$f":"Q200+Q201+Q202","v":{"v":36.885309502719075,"d":"37"}},{"$nulls":6},{"$f":"X200+X201+X202","v":{"v":6.830510771945602,"d":"7"}},{"$nulls":6},{"$f":"AE200+AE201+AE202","v":{"v":3.368138127356006,"d":"3"}},{"$nulls":6},{"$f":"AL200+AL201+AL202","v":0},{"$nulls":6},{"$f":"AS200+AS201+AS202","v":0}]
["2213F A",1,null,"NA","NA","NA","NA","NA",{"$f":"AVERAGE(D205:H205)","v":{"$error":"#DIV/0!"}},{"$f":"STDEV(D205:H205)","v":{"$error":"#DIV/0!"}},"NA","NA","NA","NA","NA",{"$f":"AVERAGE(K205:O205)","v":{"$error":"#DIV/0!"}},{"$f":"STDEV(K205:O205)","v":{"$error":"#DIV/0!"}},29,22,20,19,25,{"$f":"AVERAGE(R205:V205)","v":23},{"$f":"STDEV(R205:V205)","v":{"v":4.06201920231798,"d":"4"}},3,3,0,3,4,{"$f":"AVERAGE(Y205:AC205)","v":{"v":2.6,"d":"3"}},{"$f":"STDEV(Y205:AC205)","v":{"v":1.5165750888103104,"d":"2"}},0,0,0,0,0,{"$f":"AVERAGE(AF205:AJ205)","v":0},{"$f":"STDEV(AF205:AJ205)","v":0},0,0,0,0,1,{"$f":"AVERAGE(AM205:AQ205)","v":{"v":0.2,"d":"0"}},{"$f":"STDEV(AM205:AQ205)","v":{"v":0.4472135954999579,"d":"0"}}]
["p+0",2,null,"NA","NA","NA","NA","NA",{"$f":"AVERAGE(D206:H206)","v":{"$error":"#DIV/0!"}},{"$f":"STDEV(D206:H206)","v":{"$error":"#DIV/0!"}},"NA","NA","NA","NA","NA",{"$error":"#DIV/0!"},{"$f":"STDEV(K206:O206)","v":{"$error":"#DIV/0!"}},8,13,11,7,7,{"v":9.2,"d":"9"},{"$f":"STDEV(R206:V206)","v":{"v":2.683281572999748,"d":"3"}},1,0,0,0,4,1,{"$f":"STDEV(Y206:AC206)","v":{"v":1.7320508075688772,"d":"2"}},0,0,0,0,0,0,{"$f":"STDEV(AF206:AJ206)","v":0},0,0,0,0,0,0,{"$f":"STDEV(AM206:AQ206)","v":0}]
[null,3,null,"NA","NA","NA","NA","NA",{"$f":"AVERAGE(D207:H207)","v":{"$error":"#DIV/0!"}},{"$f":"STDEV(D207:H207)","v":{"$error":"#DIV/0!"}},"NA","NA","NA","NA","NA",{"$error":"#DIV/0!"},{"$f":"STDEV(K207:O207)","v":{"$error":"#DIV/0!"}},9,24,"NA","NA",8,{"v":13.666666666666666,"d":"14"},{"$f":"STDEV(R207:V207)","v":{"v":8.9628864398325,"d":"9"}},1,1,0,20,0,{"$f":"AVERAGE(Y207:AC207)","v":{"v":4.4,"d":"4"}},{"$f":"STDEV(Y207:AC207)","v":{"v":8.734987120768983,"d":"9"}},0,0,0,1,0,{"$f":"AVERAGE(AF207:AJ207)","v":{"v":0.2,"d":"0"}},{"$f":"STDEV(AF207:AJ207)","v":{"v":0.4472135954999579,"d":"0"}},0,0,0,0,0,{"$f":"AVERAGE(AM207:AQ207)","v":0},{"$f":"STDEV(AM207:AQ207)","v":0}]
["average",{"$nulls":7},{"$f":"AVERAGE(I205:I207)","v":{"$error":"#DIV/0!"}},{"$nulls":6},{"$f":"AVERAGE(P205:P207)","v":{"$error":"#DIV/0!"}},{"$nulls":6},{"$f":"AVERAGE(W205:W207)","v":{"v":15.28888888888889,"d":"15"}},{"$nulls":6},{"$f":"AVERAGE(AD205:AD207)","v":{"v":2.6666666666666665,"d":"3"}},{"$nulls":6},{"$f":"AVERAGE(AK205:AK207)","v":{"v":0.06666666666666667,"d":"0"}},{"$nulls":6},{"$f":"AVERAGE(AR205:AR207)","v":{"v":0.06666666666666667,"d":"0"}}]
["stdev",{"$nulls":7},{"$f":"J205+J206+J207","v":{"$error":"#DIV/0!"}},{"$nulls":6},{"$f":"Q205+Q206+Q207","v":{"$error":"#DIV/0!"}},{"$nulls":6},{"$f":"X205+X206+X207","v":{"v":15.708187215150229,"d":"16"}},{"$nulls":6},{"$f":"AE205+AE206+AE207","v":{"v":11.98361301714817,"d":"12"}},{"$nulls":6},{"$f":"AL205+AL206+AL207","v":{"v":0.4472135954999579,"d":"0"}},{"$nulls":6},{"$f":"AS205+AS206+AS207","v":{"v":0.4472135954999579,"d":"0"}}]
["p+3",1,null,"NA","NA","NA","NA","NA",{"$f":"AVERAGE(D210:H210)","v":{"$error":"#DIV/0!"}},{"$f":"STDEV(D210:H210)","v":{"$error":"#DIV/0!"}},51,59,49,65,62,{"$f":"AVERAGE(K210:O210)","v":{"v":57.2,"d":"57"}},{"$f":"STDEV(K210:O210)","v":{"v":6.9426219830838996,"d":"7"}},6,4,6,15,8,{"$f":"AVERAGE(R210:V210)","v":{"v":7.8,"d":"8"}},{"$f":"STDEV(R210:V210)","v":{"v":4.266145801540309,"d":"4"}},1,0,1,0,4,{"$f":"AVERAGE(Y210:AC210)","v":{"v":1.2,"d":"1"}},{"$f":"STDEV(Y210:AC210)","v":{"v":1.6431676725154984,"d":"2"}},0,0,0,0,0,{"$f":"AVERAGE(AF210:AJ210)","v":0},{"$f":"STDEV(AF210:AJ210)","v":0},0,0,0,0,0,{"$f":"AVERAGE(AM210:AQ210)","v":0},{"$f":"STDEV(AM210:AQ210)","v":0}]
[null,2,null,"NA","NA","NA","NA","NA",{"$f":"AVERAGE(D211:H211)","v":{"$error":"#DIV/0!"}},{"$f":"STDEV(D211:H211)","v":{"$error":"#DIV/0!"}},42,29,29,31,30,{"v":32.2,"d":"32"},{"$f":"STDEV(K211:O211)","v":{"v":5.540758070878032,"d":"6"}},2,4,5,3,4,{"v":3.6,"d":"4"},{"$f":"STDEV(R211:V211)","v":{"v":1.1401754250991383,"d":"1"}},1,0,0,1,1,{"v":0.6,"d":"1"},{"$f":"STDEV(Y211:AC211)","v":{"v":0.5477225575051661,"d":"1"}},0,0,0,0,0,{"$f":"AVERAGE(AF211:AJ211)","v":0},{"$f":"STDEV(AF211:AJ211)","v":0},0,0,0,0,0,0,{"$f":"STDEV(AM211:AQ211)","v":0}]
[null,3,null,"NA","NA","NA","NA","NA",{"$f":"AVERAGE(D212:H212)","v":{"$error":"#DIV/0!"}},{"$f":"STDEV(D212:H212)","v":{"$error":"#DIV/0!"}},35,41,65,50,48,{"v":47.8,"d":"48"},{"$f":"STDEV(K212:O212)","v":{"v":11.30044246921331,"d":"11"}},8,5,35,8,5,{"v":12.2,"d":"12"},{"$f":"STDEV(R212:V212)","v":{"v":12.833549781724463,"d":"13"}},1,0,1,0,0,{"v":0.4,"d":"0"},{"$f":"STDEV(Y212:AC212)","v":{"v":0.5477225575051661,"d":"1"}},0,0,0,1,1,{"v":0.4,"d":"0"},{"$f":"STDEV(AF212:AJ212)","v":{"v":0.5477225575051661,"d":"1"}},0,0,0,0,0,0,{"$f":"STDEV(AM212:AQ212)","v":0}]
["average",{"$nulls":7},{"$f":"AVERAGE(I210:I212)","v":{"$error":"#DIV/0!"}},{"$nulls":6},{"$f":"AVERAGE(P210:P212)","v":{"v":45.73333333333333,"d":"46"}},{"$nulls":6},{"$f":"AVERAGE(W210:W212)","v":{"v":7.866666666666667,"d":"8"}},{"$nulls":6},{"$f":"AVERAGE(AD210:AD212)","v":{"v":0.7333333333333333,"d":"1"}},{"$nulls":6},{"$f":"AVERAGE(AK210:AK212)","v":{"v":0.13333333333333333,"d":"0"}},{"$nulls":6},{"$f":"AVERAGE(AR210:AR212)","v":0}]
["stdev",{"$nulls":7},{"$f":"J210+J211+J212","v":{"$error":"#DIV/0!"}},{"$nulls":6},{"$f":"Q210+Q211+Q212","v":{"v":23.78382252317524,"d":"24"}},{"$nulls":6},{"$f":"X210+X211+X212","v":{"v":18.23987100836391,"d":"18"}},{"$nulls":6},{"$f":"AE210+AE211+AE212","v":{"v":2.73861278752583,"d":"3"}},{"$nulls":6},{"$f":"AL210+AL211+AL212","v":{"v":0.5477225575051661,"d":"1"}},{"$nulls":6},{"$f":"AS210+AS211+AS212","v":0}]
["2213F APR",1,null,"NA","NA","NA","NA","NA",{"$f":"AVERAGE(D215:H215)","v":{"$error":"#DIV/0!"}},{"$f":"STDEV(D215:H215)","v":{"$error":"#DIV/0!"}},"NA","NA","NA","NA","NA",{"$f":"AVERAGE(K215:O215)","v":{"$error":"#DIV/0!"}},{"$f":"STDEV(K215:O215)","v":{"$error":"#DIV/0!"}},"NA","NA","NA","NA","NA",{"$f":"AVERAGE(R215:V215)","v":{"$error":"#DIV/0!"}},{"$f":"STDEV(R215:V215)","v":{"$error":"#DIV/0!"}},74,87,88,73,73,{"$f":"AVERAGE(Y215:AC215)","v":79},{"$f":"STDEV(Y215:AC215)","v":{"v":7.7781745930520225,"d":"8"}},16,16,21,21,13,{"$f":"AVERAGE(AF215:AJ215)","v":{"v":17.4,"d":"17"}},{"$f":"STDEV(AF215:AJ215)","v":{"v":3.507135583350038,"d":"4"}},2,4,2,2,2,{"$f":"AVERAGE(AM215:AQ215)","v":{"v":2.4,"d":"2"}},{"$f":"STDEV(AM215:AQ215)","v":{"v":0.8944271909999157,"d":"1"}}]
["p+0",2,null,"NA","NA","NA","NA","NA",{"$f":"AVERAGE(D216:H216)","v":{"$error":"#DIV/0!"}},{"$f":"STDEV(D216:H216)","v":{"$error":"#DIV/0!"}},"NA","NA","NA","NA","NA",{"$error":"#DIV/0!"},{"$f":"STDEV(K216:O216)","v":{"$error":"#DIV/0!"}},"NA","NA","NA","NA","NA",{"$error":"#DIV/0!"},{"$f":"STDEV(R216:V216)","v":{"$error":"#DIV/0!"}},"NA","NA","NA","NA","NA",{"$error":"#DIV/0!"},{"$f":"STDEV(Y216:AC216)","v":{"$error":"#DIV/0!"}},16,17,14,13,18,{"$f":"AVERAGE(AF216:AJ216)","v":{"v":15.6,"d":"16"}},{"$f":"STDEV(AF216:AJ216)","v":{"v":2.073644135332775,"d":"2"}},1,3,1,0,0,1,{"$f":"STDEV(AM216:AQ216)","v":{"v":1.224744871391589,"d":"1"}}]
[null,3,null,"NA","NA","NA","NA","NA",{"$f":"AVERAGE(D217:H217)","v":{"$error":"#DIV/0!"}},{"$f":"STDEV(D217:H217)","v":{"$error":"#DIV/0!"}},"NA","NA","NA","NA","NA",{"$error":"#DIV/0!"},{"$f":"STDEV(K217:O217)","v":{"$error":"#DIV/0!"}},"NA","NA","NA","NA","NA",{"$error":"#DIV/0!"},{"$f":"STDEV(R217:V217)","v":{"$error":"#DIV/0!"}},"NA","NA","NA","NA","NA",{"$error":"#DIV/0!"},{"$f":"STDEV(Y217:AC217)","v":{"$error":"#DIV/0!"}},25,24,20,23,30,{"v":24.4,"d":"24"},{"$f":"STDEV(AF217:AJ217)","v":{"v":3.6469165057620874,"d":"4"}},1,4,2,4,1,{"v":2.4,"d":"2"},{"$f":"STDEV(AM217:AQ217)","v":{"v":1.51657508881031,"d":"2"}}]
["average",{"$nulls":7},{"$f":"AVERAGE(I215:I217)","v":{"$error":"#DIV/0!"}},{"$nulls":6},{"$f":"AVERAGE(P215:P217)","v":{"$error":"#DIV/0!"}},{"$nulls":6},{"$f":"AVERAGE(W215:W217)","v":{"$error":"#DIV/0!"}},{"$nulls":6},{"$f":"AVERAGE(AD215)","v":79},{"$nulls":6},{"$f":"AVERAGE(AK215:AK217)","v":{"v":19.133333333333333,"d":"19"}},{"$nulls":6},{"$f":"AVERAGE(AR215:AR217)","v":{"v":1.9333333333333333,"d":"2"}}]
["stdev",{"$nulls":7},{"$f":"J215+J216+J217","v":{"$error":"#DIV/0!"}},{"$nulls":6},{"$f":"Q215+Q216+Q217","v":{"$error":"#DIV/0!"}},{"$nulls":6},{"$f":"X215+X216+X217","v":{"$error":"#DIV/0!"}},{"$nulls":6},{"$f":"AE215+AE216+AE217","v":{"$error":"#DIV/0!"}},{"$nulls":6},{"$f":"AL215+AL216+AL217","v":{"v":9.2276962244449,"d":"9"}},{"$nulls":6},{"$f":"AS215+AS216+AS217","v":{"v":3.635747151201815,"d":"4"}}]
["p+3",1,null,"NA","NA","NA","NA","NA",{"$f":"AVERAGE(D220:H220)","v":{"$error":"#DIV/0!"}},{"$f":"STDEV(D220:H220)","v":{"$error":"#DIV/0!"}},"NA","NA","NA","NA","NA",{"$f":"AVERAGE(K220:O220)","v":{"$error":"#DIV/0!"}},{"$f":"STDEV(K220:O220)","v":{"$error":"#DIV/0!"}},"NA","NA","NA","NA","NA",{"$f":"AVERAGE(R220:V220)","v":{"$error":"#DIV/0!"}},{"$f":"STDEV(R220:V220)","v":{"$error":"#DIV/0!"}},"NA","NA","NA","NA","NA",{"$f":"AVERAGE(Y220:AC220)","v":{"$error":"#DIV/0!"}},{"$f":"STDEV(Y220:AC220)","v":{"$error":"#DIV/0!"}},36,38,19,34,39,{"$f":"AVERAGE(AF220:AJ220)","v":{"v":33.2,"d":"33"}},{"$f":"STDEV(AF220:AJ220)","v":{"v":8.16700679563817,"d":"8"}},3,7,5,3,2,{"$f":"AVERAGE(AM220:AQ220)","v":4},{"$f":"STDEV(AM220:AQ220)","v":2}]
[null,2,null,"NA","NA","NA","NA","NA",{"$f":"AVERAGE(D221:H221)","v":{"$error":"#DIV/0!"}},{"$f":"STDEV(D221:H221)","v":{"$error":"#DIV/0!"}},"NA","NA","NA","NA","NA",{"$error":"#DIV/0!"},{"$f":"STDEV(K221:O221)","v":{"$error":"#DIV/0!"}},"NA","NA","NA","NA","NA",{"$error":"#DIV/0!"},{"$f":"STDEV(R221:V221)","v":{"$error":"#DIV/0!"}},"NA","NA","NA","NA","NA",{"$error":"#DIV/0!"},{"$f":"STDEV(Y221:AC221)","v":{"$error":"#DIV/0!"}},31,24,24,22,28,{"v":25.8,"d":"26"},{"$f":"STDEV(AF221:AJ221)","v":{"v":3.633180424916996,"d":"4"}},4,2,3,4,4,{"v":3.4,"d":"3"},{"$f":"STDEV(AM221:AQ221)","v":{"v":0.8944271909999163,"d":"1"}}]
[null,3,null,"NA","NA","NA","NA","NA",{"$f":"AVERAGE(D222:H222)","v":{"$error":"#DIV/0!"}},{"$f":"STDEV(D222:H222)","v":{"$error":"#DIV/0!"}},"NA","NA","NA","NA","NA",{"$error":"#DIV/0!"},{"$f":"STDEV(K222:O222)","v":{"$error":"#DIV/0!"}},"NA","NA","NA","NA","NA",{"$error":"#DIV/0!"},{"$f":"STDEV(R222:V222)","v":{"$error":"#DIV/0!"}},"NA","NA","NA","NA","NA",{"$error":"#DIV/0!"},{"$f":"STDEV(Y222:AC222)","v":{"$error":"#DIV/0!"}},39,36,35,26,32,{"v":33.6,"d":"34"},{"$f":"STDEV(AF222:AJ222)","v":{"v":4.92950301754649,"d":"5"}},2,7,6,4,8,{"v":5.4,"d":"5"},{"$f":"STDEV(AM222:AQ222)","v":{"v":2.4083189157584584,"d":"2"}}]
["average",{"$nulls":7},{"$f":"AVERAGE(I220:I222)","v":{"$error":"#DIV/0!"}},{"$nulls":6},{"$f":"AVERAGE(P220:P222)","v":{"$error":"#DIV/0!"}},{"$nulls":6},{"$f":"AVERAGE(W220:W222)","v":{"$error":"#DIV/0!"}},{"$nulls":6},{"$f":"AVERAGE(AD220:AD222)","v":{"$error":"#DIV/0!"}},{"$nulls":6},{"$f":"AVERAGE(AK220:AK222)","v":{"v":30.866666666666664,"d":"31"}},{"$nulls":6},{"$f":"AVERAGE(AR220:AR222)","v":{"v":4.266666666666667,"d":"4"}}]
["stdev",{"$nulls":7},{"$f":"J220+J221+J222","v":{"$error":"#DIV/0!"}},{"$nulls":6},{"$f":"Q220+Q221+Q222","v":{"$error":"#DIV/0!"}},{"$nulls":6},{"$f":"X220+X221+X222","v":{"$error":"#DIV/0!"}},{"$nulls":6},{"$f":"AE220+AE221+AE222","v":{"$error":"#DIV/0!"}},{"$nulls":6},{"$f":"AL220+AL221+AL222","v":{"v":16.729690238101657,"d":"17"}},{"$nulls":6},{"$f":"AS220+AS221+AS222","v":{"v":5.3027461067583745,"d":"5"}}]
[]
["WT",1,null,"NA","NA","NA","NA","NA",{"$f":"AVERAGE(D226:H226)","v":{"$error":"#DIV/0!"}},{"$f":"STDEV(D226:H226)","v":{"$error":"#DIV/0!"}},"NA","NA","NA","NA","NA",{"$f":"AVERAGE(K226:O226)","v":{"$error":"#DIV/0!"}},{"$f":"STDEV(K226:O226)","v":{"$error":"#DIV/0!"}},"NA","NA","NA","NA","NA",{"$f":"AVERAGE(R226:V226)","v":{"$error":"#DIV/0!"}},{"$f":"STDEV(R226:V226)","v":{"$error":"#DIV/0!"}},"NA","NA","NA","NA","NA",{"$f":"AVERAGE(Y226:AC226)","v":{"$error":"#DIV/0!"}},{"$f":"STDEV(Y226:AC226)","v":{"$error":"#DIV/0!"}},9,"NA","NA","NA",58,{"$f":"AVERAGE(AF226,AJ226)","v":{"v":33.5,"d":"34"}},{"$f":"STDEV(AF226:AJ226)","v":{"v":34.64823227814083,"d":"35"}},0,7,0,0,0,{"$f":"AVERAGE(AM226:AQ226)","v":{"v":1.4,"d":"1"}},{"$f":"STDEV(AM226:AQ226)","v":{"v":3.1304951684997055,"d":"3"}}]
[null,2,null,"NA","NA","NA","NA","NA",{"$f":"AVERAGE(D227:H227)","v":{"$error":"#DIV/0!"}},{"$f":"STDEV(D227:H227)","v":{"$error":"#DIV/0!"}},"NA","NA","NA","NA","NA",{"$error":"#DIV/0!"},{"$f":"STDEV(K227:O227)","v":{"$error":"#DIV/0!"}},"NA","NA","NA","NA","NA",{"$error":"#DIV/0!"},{"$f":"STDEV(R227:V227)","v":{"$error":"#DIV/0!"}},"NA","NA","NA","NA",59,{"$f":"AVERAGE(AC227)","v":59},{"$f":"STDEV(Y227:AC227)","v":{"$error":"#DIV/0!"}},2,"NA","NA","NA",0,{"$f":"AVERAGE(AF227,AJ227)","v":1},{"$f":"STDEV(AF227:AJ227)","v":{"v":1.4142135623730951,"d":"1"}},0,0,0,0,0,{"$f":"AVERAGE(AM227:AQ227)","v":0},{"$f":"STDEV(AM227:AQ227)","v":0}]
[null,3,null,"NA","NA","NA","NA","NA",{"$f":"AVERAGE(D228:H228)","v":{"$error":"#DIV/0!"}},{"$f":"STDEV(D228:H228)","v":{"$error":"#DIV/0!"}},"NA","NA","NA","NA","NA",{"$error":"#DIV/0!"},{"$f":"STDEV(K228:O228)","v":{"$error":"#DIV/0!"}},"NA","NA","NA","NA","NA",{"$error":"#DIV/0!"},{"$f":"STDEV(R228:V228)","v":{"$error":"#DIV/0!"}},27,"NA","NA","NA",22,{"$f":"AVERAGE(Y228,AC228)","v":{"v":24.5,"d":"25"}},{"$f":"STDEV(Y228:AC228)","v":{"v":3.5355339059327378,"d":"4"}},2,5,10,4,9,{"$f":"AVERAGE(AF228:AJ228)","v":6},{"$f":"STDEV(AF228:AJ228)","v":{"v":3.391164991562634,"d":"3"}},0,1,0,0,0,{"v":0.2,"d":"0"},{"$f":"STDEV(AM228:AQ228)","v":{"v":0.4472135954999579,"d":"0"}}]
["average",{"$nulls":7},{"$f":"AVERAGE(I226:I228)","v":{"$error":"#DIV/0!"}},{"$nulls":6},{"$f":"AVERAGE(P226:P228)","v":{"$error":"#DIV/0!"}},{"$nulls":6},{"$f":"AVERAGE(W226:W228)","v":{"$error":"#DIV/0!"}},{"$nulls":6},{"$f":"AVERAGE(AD227:AD228)","v":{"v":41.75,"d":"42"}},{"$nulls":6},{"$f":"AVERAGE(AK227:AK228)","v":{"v":3.5,"d":"4"}},{"$nulls":6},{"$f":"AVERAGE(AR227:AR228)","v":{"v":0.1,"d":"0"}}]
["stdev",{"$nulls":7},{"$f":"J226+J227+J228","v":{"$error":"#DIV/0!"}},{"$nulls":6},{"$f":"Q226+Q227+Q228","v":{"$error":"#DIV/0!"}},{"$nulls":6},{"$f":"X226+X227+X228","v":{"$error":"#DIV/0!"}},{"$nulls":6},{"$f":"AE226+AE227+AE228","v":{"$error":"#DIV/0!"}},{"$nulls":6},{"$f":"AL226+AL227+AL228","v":{"v":39.453610832076556,"d":"39"}},{"$nulls":6},{"$f":"AS226+AS227+AS228","v":{"v":3.5777087639996634,"d":"4"}}]
["2213F - ",1,null,"NA","NA","NA","NA","NA",{"$f":"AVERAGE(D231:H231)","v":{"$error":"#DIV/0!"}},{"$f":"STDEV(D231:H231)","v":{"$error":"#DIV/0!"}},"NA","NA","NA","NA","NA",{"$f":"AVERAGE(K231:O231)","v":{"$error":"#DIV/0!"}},{"$f":"STDEV(K231:O231)","v":{"$error":"#DIV/0!"}},23,22,22,15,25,{"$f":"AVERAGE(R231:V231)","v":{"v":21.4,"d":"21"}},{"$f":"STDEV(R231:V231)","v":{"v":3.7815340802378015,"d":"4"}},3,2,4,1,2,{"$f":"AVERAGE(Y231:AC231)","v":{"v":2.4,"d":"2"}},{"$f":"STDEV(Y231:AC231)","v":{"v":1.1401754250991378,"d":"1"}},0,0,0,0,1,{"$f":"AVERAGE(AF231:AJ231)","v":{"v":0.2,"d":"0"}},{"$f":"STDEV(AF231:AJ231)","v":{"v":0.4472135954999579,"d":"0"}},0,0,0,0,0,{"$f":"AVERAGE(AM231:AQ231)","v":0},{"$f":"STDEV(AM231:AQ231)","v":0}]
["p+0",2,null,"NA","NA","NA","NA","NA",{"$f":"AVERAGE(D232:H232)","v":{"$error":"#DIV/0!"}},{"$f":"STDEV(D232:H232)","v":{"$error":"#DIV/0!"}},"NA","NA","NA","NA","NA",{"$error":"#DIV/0!"},{"$f":"STDEV(K232:O232)","v":{"$error":"#DIV/0!"}},47,129,117,82,55,86,{"$f":"STDEV(R232:V232)","v":{"v":36.42801120017397,"d":"36"}},10,0,"-","-","-",5,{"$f":"STDEV(Y232:AC232)","v":{"v":7.0710678118654755,"d":"7"}},28,8,144,0,0,36,{"$f":"STDEV(AF232:AJ232)","v":{"v":61.44916598294886,"d":"61"}},0,0,0,0,0,0,{"$f":"STDEV(AM232:AQ232)","v":0}]
[null,3,null,"NA","NA","NA","NA","NA",{"$f":"AVERAGE(D233:H233)","v":{"$error":"#DIV/0!"}},{"$f":"STDEV(D233:H233)","v":{"$error":"#DIV/0!"}},71,64,60,74,68,{"v":67.4,"d":"67"},{"$f":"STDEV(K233:O233)","v":{"v":5.549774770204643,"d":"6"}},5,10,8,8,5,{"v":7.2,"d":"7"},{"$f":"STDEV(R233:V233)","v":{"v":2.1679483388678804,"d":"2"}},2,0,1,1,1,1,{"$f":"STDEV(Y233:AC233)","v":{"v":0.7071067811865476,"d":"1"}},0,0,0,0,0,0,{"$f":"STDEV(AF233:AJ233)","v":0},0,0,0,0,0,0,{"$f":"STDEV(AM233:AQ233)","v":0}]
["average",{"$nulls":7},{"$f":"AVERAGE(I231:I233)","v":{"$error":"#DIV/0!"}},{"$nulls":6},{"$f":"AVERAGE(P233)","v":{"v":67.4,"d":"67"}},{"$nulls":6},{"$f":"AVERAGE(W231,W233)","v":{"v":14.299999999999999,"d":"14"}},{"$nulls":6},{"$f":"AVERAGE(AD231,AD233)","v":{"v":1.7,"d":"2"}},{"$nulls":6},{"$f":"AVERAGE(AK231,AK233)","v":{"v":0.1,"d":"0"}},{"$nulls":6},{"$f":"AVERAGE(AR231,AR233)","v":0}]
["stdev",{"$nulls":7},{"$f":"J231+J232+J233","v":{"$error":"#DIV/0!"}},{"$nulls":6},{"$f":"Q231+Q232+Q233","v":{"$error":"#DIV/0!"}},{"$nulls":6},{"$f":"X231+X232+X233","v":{"v":42.377493619279655,"d":"42"}},{"$nulls":6},{"$f":"AE231+AE232+AE233","v":{"v":8.91835001815116,"d":"9"}},{"$nulls":6},{"$f":"AL231+AL232+AL233","v":{"v":61.89637957844882,"d":"62"}},{"$nulls":6},{"$f":"AS231+AS232+AS233","v":0}]
["p+3",1,null,"NA","NA","NA","NA","NA",{"$f":"AVERAGE(D236:H236)","v":{"$error":"#DIV/0!"}},{"$f":"STDEV(D236:H236)","v":{"$error":"#DIV/0!"}},21,30,23,32,27,{"$f":"AVERAGE(K236:O236)","v":{"v":26.6,"d":"27"}},{"$f":"STDEV(K236:O236)","v":{"v":4.615192303685726,"d":"5"}},6,3,4,4,7,{"$f":"AVERAGE(R236:V236)","v":{"v":4.8,"d":"5"}},{"$f":"STDEV(R236:V236)","v":{"v":1.6431676725154982,"d":"2"}},1,0,1,1,1,{"$f":"AVERAGE(Y236:AC236)","v":{"v":0.8,"d":"1"}},{"$f":"STDEV(Y236:AC236)","v":{"v":0.44721359549995787,"d":"0"}},0,0,0,0,0,{"$f":"AVERAGE(AF236:AJ236)","v":0},{"$f":"STDEV(AF236:AJ236)","v":0},0,0,0,0,0,{"$f":"AVERAGE(AM236:AQ236)","v":0},{"$f":"STDEV(AM236:AQ236)","v":0}]
[null,2,null,"NA","NA","NA","NA","NA",{"$f":"AVERAGE(D237:H237)","v":{"$error":"#DIV/0!"}},{"$f":"STDEV(D237:H237)","v":{"$error":"#DIV/0!"}},7,8,2,0,0,{"v":3.4,"d":"3"},{"$f":"STDEV(K237:O237)","v":{"v":3.847076812334269,"d":"4"}},0,0,0,1,2,{"v":0.6,"d":"1"},{"$f":"STDEV(R237:V237)","v":{"v":0.8944271909999159,"d":"1"}},0,0,0,0,0,0,{"$f":"STDEV(Y237:AC237)","v":0},0,0,0,0,0,0,{"$f":"STDEV(AF237:AJ237)","v":0},0,0,0,0,0,0,{"$f":"STDEV(AM237:AQ237)","v":0}]
[null,3,null,"NA","NA","NA","NA","NA",{"$f":"AVERAGE(D238:H238)","v":{"$error":"#DIV/0!"}},{"$f":"STDEV(D238:H238)","v":{"$error":"#DIV/0!"}},33,42,59,49,23,{"v":41.2,"d":"41"},{"$f":"STDEV(K238:O238)","v":{"v":13.935566009315869,"d":"14"}},3,1,8,5,5,{"v":4.4,"d":"4"},{"$f":"STDEV(R238:V238)","v":{"v":2.6076809620810595,"d":"3"}},0,0,0,1,1,{"v":0.4,"d":"0"},{"$f":"STDEV(Y238:AC238)","v":{"v":0.5477225575051661,"d":"1"}},0,0,0,0,0,0,{"$f":"STDEV(AF238:AJ238)","v":0},0,0,0,0,0,0,{"$f":"STDEV(AM238:AQ238)","v":0}]
["average",{"$nulls":7},{"$f":"AVERAGE(I236,I238)","v":{"$error":"#DIV/0!"}},{"$nulls":6},{"$f":"AVERAGE(P236)","v":{"v":26.6,"d":"27"}},{"$nulls":6},{"$f":"AVERAGE(W236)","v":{"v":4.8,"d":"5"}},{"$nulls":6},{"$f":"AVERAGE(AD236)","v":{"v":0.8,"d":"1"}},{"$nulls":6},{"$f":"AVERAGE(AK236)","v":0},{"$nulls":6},{"$f":"AVERAGE(AR236)","v":0}]
["stdev",{"$nulls":7},{"$f":"J236+J237+J238","v":{"$error":"#DIV/0!"}},{"$nulls":6},{"$f":"Q236+Q237+Q238","v":{"v":22.397835125335863,"d":"22"}},{"$nulls":6},{"$f":"X236+X237+X238","v":{"v":5.145275825596474,"d":"5"}},{"$nulls":6},{"$f":"AE236+AE237+AE238","v":{"v":0.994936153005124,"d":"1"}},{"$nulls":6},{"$f":"AL236+AL237+AL238","v":0},{"$nulls":6},{"$f":"AS236+AS237+AS238","v":0}]
["2213F A",1,null,"NA","NA","NA","NA","NA",{"$f":"AVERAGE(D241:H241)","v":{"$error":"#DIV/0!"}},{"$f":"STDEV(D241:H241)","v":{"$error":"#DIV/0!"}},64,65,48,51,55,{"$f":"AVERAGE(K241:O241)","v":{"v":56.6,"d":"57"}},{"$f":"STDEV(K241:O241)","v":{"v":7.635443667528442,"d":"8"}},7,10,8,10,4,{"$f":"AVERAGE(R241:V241)","v":{"v":7.8,"d":"8"}},{"$f":"STDEV(R241:V241)","v":{"v":2.4899799195977472,"d":"2"}},0,0,0,0,0,{"$f":"AVERAGE(Y241:AC241)","v":0},{"$f":"STDEV(Y241:AC241)","v":0},0,0,0,0,0,{"$f":"AVERAGE(AF241:AJ241)","v":0},{"$f":"STDEV(AF241:AJ241)","v":0},0,0,0,0,0,{"$f":"AVERAGE(AM241:AQ241)","v":0},{"$f":"STDEV(AM241:AQ241)","v":0}]
["p+0",2,null,"NA","NA","NA","NA","NA",{"$f":"AVERAGE(D242:H242)","v":{"$error":"#DIV/0!"}},{"$f":"STDEV(D242:H242)","v":{"$error":"#DIV/0!"}},30,22,33,15,27,{"v":25.4,"d":"25"},{"$f":"STDEV(K242:O242)","v":{"v":7.092249290598854,"d":"7"}},4,5,4,2,3,{"v":3.6,"d":"4"},{"$f":"STDEV(R242:V242)","v":{"v":1.1401754250991383,"d":"1"}},0,1,0,1,0,{"v":0.4,"d":"0"},{"$f":"STDEV(Y242:AC242)","v":{"v":0.5477225575051661,"d":"1"}},0,0,0,0,0,0,{"$f":"STDEV(AF242:AJ242)","v":0},0,0,0,0,0,0,{"$f":"STDEV(AM242:AQ242)","v":0}]
[null,3,null,"NA","NA","NA","NA","NA",{"$f":"AVERAGE(D243:H243)","v":{"$error":"#DIV/0!"}},{"$f":"STDEV(D243:H243)","v":{"$error":"#DIV/0!"}},42,45,36,30,38,{"v":38.2,"d":"38"},{"$f":"STDEV(K243:O243)","v":{"v":5.761944116355178,"d":"6"}},5,7,4,2,3,{"v":4.2,"d":"4"},{"$f":"STDEV(R243:V243)","v":{"v":1.9235384061671343,"d":"2"}},0,0,0,1,0,{"$f":"AVERAGE(Y243:AC243)","v":{"v":0.2,"d":"0"}},{"$f":"STDEV(Y243:AC243)","v":{"v":0.4472135954999579,"d":"0"}},0,0,0,0,0,{"$f":"AVERAGE(AF243:AJ243)","v":0},{"$f":"STDEV(AF243:AJ243)","v":0},0,0,0,0,0,{"$f":"AVERAGE(AM243:AQ243)","v":0},{"$f":"STDEV(AM243:AQ243)","v":0}]
["average",{"$nulls":7},{"$f":"AVERAGE(I241:I243)","v":{"$error":"#DIV/0!"}},{"$nulls":6},{"$f":"AVERAGE(P241:P243)","v":{"v":40.06666666666667,"d":"40"}},{"$nulls":6},{"$f":"AVERAGE(W241:W243)","v":{"v":5.2,"d":"5"}},{"$nulls":6},{"$f":"AVERAGE(AD241:AD243)","v":{"v":0.20000000000000004,"d":"0"}},{"$nulls":6},{"$f":"AVERAGE(AK241:AK243)","v":0},{"$nulls":6},{"$f":"AVERAGE(AR241:AR243)","v":0}]
["stdev",{"$nulls":7},{"$f":"J241+J242+J243","v":{"$error":"#DIV/0!"}},{"$nulls":6},{"$f":"Q241+Q242+Q243","v":{"v":20.489637074482474,"d":"20"}},{"$nulls":6},{"$f":"X241+X242+X243","v":{"v":5.55369375086402,"d":"6"}},{"$nulls":6},{"$f":"AE241+AE242+AE243","v":{"v":0.994936153005124,"d":"1"}},{"$nulls":6},{"$f":"AL241+AL242+AL243","v":0},{"$nulls":6},{"$f":"AS241+AS242+AS243","v":0}]
["p+3",1,null,"NA","NA","NA","NA","NA",{"$f":"AVERAGE(D246:H246)","v":{"$error":"#DIV/0!"}},{"$f":"STDEV(D246:H246)","v":{"$error":"#DIV/0!"}},62,60,59,57,57,{"$f":"AVERAGE(K246:O246)","v":59},{"$f":"STDEV(K246:O246)","v":{"v":2.1213203435596424,"d":"2"}},10,7,7,7,7,{"$f":"AVERAGE(R246:V246)","v":{"v":7.6,"d":"8"}},{"$f":"STDEV(R246:V246)","v":{"v":1.3416407864998727,"d":"1"}},0,0,0,0,0,{"$f":"AVERAGE(Y246:AC246)","v":0},{"$f":"STDEV(Y246:AC246)","v":0},0,0,0,0,0,{"$f":"AVERAGE(AF246:AJ246)","v":0},{"$f":"STDEV(AF246:AJ246)","v":0},0,0,0,0,0,{"$f":"AVERAGE(AM246:AQ246)","v":0},{"$f":"STDEV(AM246:AQ246)","v":0}]
[null,2,null,"NA","NA","NA","NA","NA",{"$f":"AVERAGE(D247:H247)","v":{"$error":"#DIV/0!"}},{"$f":"STDEV(D247:H247)","v":{"$error":"#DIV/0!"}},38,44,42,38,42,{"v":40.8,"d":"41"},{"$f":"STDEV(K247:O247)","v":{"v":2.6832815729997477,"d":"3"}},6,5,5,6,4,{"v":5.2,"d":"5"},{"$f":"STDEV(R247:V247)","v":{"v":0.8366600265340772,"d":"1"}},0,3,0,0,0,{"v":0.6,"d":"1"},{"$f":"STDEV(Y247:AC247)","v":{"v":1.3416407864998738,"d":"1"}},0,0,0,0,0,{"$f":"AVERAGE(AF247:AJ247)","v":0},{"$f":"STDEV(AF247:AJ247)","v":0},0,0,0,0,0,0,{"$f":"STDEV(AM247:AQ247)","v":0}]
[null,3,null,"NA","NA","NA","NA","NA",{"$f":"AVERAGE(D248:H248)","v":{"$error":"#DIV/0!"}},{"$f":"STDEV(D248:H248)","v":{"$error":"#DIV/0!"}},24,30,37,35,34,32,{"$f":"STDEV(K248:O248)","v":{"v":5.1478150704935,"d":"5"}},4,3,4,2,3,{"v":3.2,"d":"3"},{"$f":"STDEV(R248:V248)","v":{"v":0.8366600265340751,"d":"1"}},0,0,0,1,0,{"v":0.2,"d":"0"},{"$f":"STDEV(Y248:AC248)","v":{"v":0.4472135954999579,"d":"0"}},0,0,0,0,0,0,{"$f":"STDEV(AF248:AJ248)","v":0},0,0,0,0,0,0,{"$f":"STDEV(AM248:AQ248)","v":0}]
["average",{"$nulls":7},{"$f":"AVERAGE(I246:I248)","v":{"$error":"#DIV/0!"}},{"$nulls":6},{"$f":"AVERAGE(P246:P248)","v":{"v":43.93333333333334,"d":"44"}},{"$nulls":6},{"$f":"AVERAGE(W246:W248)","v":{"v":5.333333333333333,"d":"5"}},{"$nulls":6},{"$f":"AVERAGE(AD246:AD248)","v":{"v":0.26666666666666666,"d":"0"}},{"$nulls":6},{"$f":"AVERAGE(AK246:AK248)","v":0},{"$nulls":6},{"$f":"AVERAGE(AR246:AR248)","v":0}]
["stdev",{"$nulls":7},{"$f":"J246+J247+J248","v":{"$error":"#DIV/0!"}},{"$nulls":6},{"$f":"Q246+Q247+Q248","v":{"v":9.95241698705289,"d":"10"}},{"$nulls":6},{"$f":"X246+X247+X248","v":{"v":3.014960839568025,"d":"3"}},{"$nulls":6},{"$f":"AE246+AE247+AE248","v":{"v":1.7888543819998317,"d":"2"}},{"$nulls":6},{"$f":"AL246+AL247+AL248","v":0},{"$nulls":6},{"$f":"AS246+AS247+AS248","v":0}]
["2213F APR",1,null,"NA","NA","NA","NA","NA",{"$f":"AVERAGE(D251:H251)","v":{"$error":"#DIV/0!"}},{"$f":"STDEV(D251:H251)","v":{"$error":"#DIV/0!"}},"NA","NA","NA","NA","NA",{"$f":"AVERAGE(K251:O251)","v":{"$error":"#DIV/0!"}},{"$f":"STDEV(K251:O251)","v":{"$error":"#DIV/0!"}},"NA","NA","NA","NA","NA",{"$f":"AVERAGE(R251:V251)","v":{"$error":"#DIV/0!"}},{"$f":"STDEV(R251:V251)","v":{"$error":"#DIV/0!"}},49,31,40,33,40,{"$f":"AVERAGE(Y251:AC251)","v":{"v":38.6,"d":"39"}},{"$f":"STDEV(Y251:AC251)","v":{"v":7.092249290598854,"d":"7"}},7,10,7,9,3,{"$f":"AVERAGE(AF251:AJ251)","v":{"v":7.2,"d":"7"}},{"$f":"STDEV(AF251:AJ251)","v":{"v":2.683281572999748,"d":"3"}},1,0,3,1,1,{"$f":"AVERAGE(AM251:AQ251)","v":{"v":1.2,"d":"1"}},{"$f":"STDEV(AM251:AQ251)","v":{"v":1.0954451150103321,"d":"1"}}]
["p+0",2,null,"NA","NA","NA","NA","NA",{"$f":"AVERAGE(D252:H252)","v":{"$error":"#DIV/0!"}},{"$f":"STDEV(D252:H252)","v":{"$error":"#DIV/0!"}},"NA","NA","NA","NA","NA",{"$error":"#DIV/0!"},{"$f":"STDEV(K252:O252)","v":{"$error":"#DIV/0!"}},"NA","NA","NA","NA","NA",{"$error":"#DIV/0!"},{"$f":"STDEV(R252:V252)","v":{"$error":"#DIV/0!"}},40,62,43,40,45,46,{"$f":"STDEV(Y252:AC252)","v":{"v":9.192388155425117,"d":"9"}},10,13,8,7,10,{"$f":"AVERAGE(AF252:AJ252)","v":{"v":9.6,"d":"10"}},{"$f":"STDEV(AF252:AJ252)","v":{"v":2.302172886644267,"d":"2"}},0,0,0,0,2,{"v":0.4,"d":"0"},{"$f":"STDEV(AM252:AQ252)","v":{"v":0.8944271909999159,"d":"1"}}]
[null,3,null,"NA","NA","NA","NA","NA",{"$f":"AVERAGE(D253:H253)","v":{"$error":"#DIV/0!"}},{"$f":"STDEV(D253:H253)","v":{"$error":"#DIV/0!"}},"NA","NA","NA","NA","NA",{"$error":"#DIV/0!"},{"$f":"STDEV(K253:O253)","v":{"$error":"#DIV/0!"}},"NA","NA","NA","NA","NA",{"$error":"#DIV/0!"},{"$f":"STDEV(R253:V253)","v":{"$error":"#DIV/0!"}},42,50,35,44,39,42,{"$f":"STDEV(Y253:AC253)","v":{"v":5.612486080160912,"d":"6"}},7,5,6,11,13,{"v":8.4,"d":"8"},{"$f":"STDEV(AF253:AJ253)","v":{"v":3.435112807463533,"d":"3"}},0,0,2,1,1,{"v":0.8,"d":"1"},{"$f":"STDEV(AM253:AQ253)","v":{"v":0.8366600265340756,"d":"1"}}]
["average",{"$nulls":7},{"$f":"AVERAGE(I251:I253)","v":{"$error":"#DIV/0!"}},{"$nulls":6},{"$f":"AVERAGE(P251:P253)","v":{"$error":"#DIV/0!"}},{"$nulls":6},{"$f":"AVERAGE(W251:W253)","v":{"$error":"#DIV/0!"}},{"$nulls":6},{"$f":"AVERAGE(AD251:AD253)","v":{"v":42.199999999999996,"d":"42"}},{"$nulls":6},{"$f":"AVERAGE(AK251:AK253)","v":{"v":8.4,"d":"8"}},{"$nulls":6},{"$f":"AVERAGE(AR251:AR253)","v":{"v":0.8000000000000002,"d":"1"}}]
["stdev",{"$nulls":7},{"$f":"J251+J252+J253","v":{"$error":"#DIV/0!"}},{"$nulls":6},{"$f":"Q251+Q252+Q253","v":{"$error":"#DIV/0!"}},{"$nulls":6},{"$f":"X251+X252+X253","v":{"$error":"#DIV/0!"}},{"$nulls":6},{"$f":"AE251+AE252+AE253","v":{"v":21.897123526184885,"d":"22"}},{"$nulls":6},{"$f":"AL251+AL252+AL253","v":{"v":8.420567267107549,"d":"8"}},{"$nulls":6},{"$f":"AS251+AS252+AS253","v":{"v":2.8265323325443235,"d":"3"}}]
["p+3",1,null,"NA","NA","NA","NA","NA",{"$f":"AVERAGE(D256:H256)","v":{"$error":"#DIV/0!"}},{"$f":"STDEV(D256:H256)","v":{"$error":"#DIV/0!"}},"NA","NA","NA","NA","NA",{"$f":"AVERAGE(K256:O256)","v":{"$error":"#DIV/0!"}},{"$f":"STDEV(K256:O256)","v":{"$error":"#DIV/0!"}},"NA","NA","NA","NA","NA",{"$f":"AVERAGE(R256:V256)","v":{"$error":"#DIV/0!"}},{"$f":"STDEV(R256:V256)","v":{"$error":"#DIV/0!"}},"NA","NA","NA","NA","NA",{"$f":"AVERAGE(Y256:AC256)","v":{"$error":"#DIV/0!"}},{"$f":"STDEV(Y256:AC256)","v":{"$error":"#DIV/0!"}},19,26,22,24,29,{"$f":"AVERAGE(AF256:AJ256)","v":24},{"$f":"STDEV(AF256:AJ256)","v":{"v":3.8078865529319543,"d":"4"}},7,1,3,1,2,{"$f":"AVERAGE(AM256:AQ256)","v":{"v":2.8,"d":"3"}},{"$f":"STDEV(AM256:AQ256)","v":{"v":2.4899799195977463,"d":"2"}}]
[null,2,null,"NA","NA","NA","NA","NA",{"$f":"AVERAGE(D257:H257)","v":{"$error":"#DIV/0!"}},{"$f":"STDEV(D257:H257)","v":{"$error":"#DIV/0!"}},"NA","NA","NA","NA","NA",{"$error":"#DIV/0!"},{"$f":"STDEV(K257:O257)","v":{"$error":"#DIV/0!"}},"NA","NA","NA","NA","NA",{"$error":"#DIV/0!"},{"$f":"STDEV(R257:V257)","v":{"$error":"#DIV/0!"}},"NA","NA","NA","NA","NA",{"$error":"#DIV/0!"},{"$f":"STDEV(Y257:AC257)","v":{"$error":"#DIV/0!"}},15,16,17,12,19,{"v":15.8,"d":"16"},{"$f":"STDEV(AF257:AJ257)","v":{"v":2.5884358211089546,"d":"3"}},4,2,2,0,4,{"v":2.4,"d":"2"},{"$f":"STDEV(AM257:AQ257)","v":{"v":1.6733200530681511,"d":"2"}}]
[null,3,null,"NA","NA","NA","NA","NA",{"$f":"AVERAGE(D258:H258)","v":{"$error":"#DIV/0!"}},{"$f":"STDEV(D258:H258)","v":{"$error":"#DIV/0!"}},"NA","NA","NA","NA","NA",{"$error":"#DIV/0!"},{"$f":"STDEV(K258:O258)","v":{"$error":"#DIV/0!"}},"NA","NA","NA","NA","NA",{"$error":"#DIV/0!"},{"$f":"STDEV(R258:V258)","v":{"$error":"#DIV/0!"}},"NA","NA","NA","NA","NA",{"$error":"#DIV/0!"},{"$f":"STDEV(Y258:AC258)","v":{"$error":"#DIV/0!"}},6,11,8,16,14,11,{"$f":"STDEV(AF258:AJ258)","v":{"v":4.123105625617661,"d":"4"}},1,0,0,0,0,{"v":0.2,"d":"0"},{"$f":"STDEV(AM258:AQ258)","v":{"v":0.4472135954999579,"d":"0"}}]
["average",{"$nulls":7},{"$f":"AVERAGE(I256:I258)","v":{"$error":"#DIV/0!"}},{"$nulls":6},{"$f":"AVERAGE(P256:P258)","v":{"$error":"#DIV/0!"}},{"$nulls":6},{"$f":"AVERAGE(W256:W258)","v":{"$error":"#DIV/0!"}},{"$nulls":6},{"$f":"AVERAGE(AD256:AD258)","v":{"$error":"#DIV/0!"}},{"$nulls":6},{"$f":"AVERAGE(AK256:AK258)","v":{"v":16.933333333333334,"d":"17"}},{"$nulls":6},{"$f":"AVERAGE(AR256:AR258)","v":{"v":1.7999999999999998,"d":"2"}}]
["stdev",{"$nulls":7},{"$f":"J256+J257+J258","v":{"$error":"#DIV/0!"}},{"$nulls":6},{"$f":"Q256+Q257+Q258","v":{"$error":"#DIV/0!"}},{"$nulls":6},{"$f":"X256+X257+X258","v":{"$error":"#DIV/0!"}},{"$nulls":6},{"$f":"AE256+AE257+AE258","v":{"$error":"#DIV/0!"}},{"$nulls":6},{"$f":"AL256+AL257+AL258","v":{"v":10.51942799965857,"d":"11"}},{"$nulls":6},{"$f":"AS256+AS257+AS258","v":{"v":4.610513568165856,"d":"5"}}]
[]
[]
["2213F A",1,null,"NA","NA","NA","NA","NA",{"$f":"AVERAGE(D263:H263)","v":{"$error":"#DIV/0!"}},{"$f":"STDEV(D263:H263)","v":{"$error":"#DIV/0!"}},21,20,14,9,26,{"$f":"AVERAGE(K263:O263)","v":18},{"$f":"STDEV(K263:O263)","v":{"v":6.59545297913646,"d":"7"}},1,4,3,3,2,{"$f":"AVERAGE(R263:V263)","v":{"v":2.6,"d":"3"}},{"$f":"STDEV(R263:V263)","v":{"v":1.1401754250991383,"d":"1"}},0,0,0,0,0,{"$f":"AVERAGE(Y263:AC263)","v":0},{"$f":"STDEV(Y263:AC263)","v":0},0,0,0,0,0,{"$f":"AVERAGE(AF263:AJ263)","v":0},{"$f":"STDEV(AF263:AJ263)","v":0},0,0,0,0,0,{"$f":"AVERAGE(AM263:AQ263)","v":0},{"$f":"STDEV(AM263:AQ263)","v":0}]
["p+0",2,null,"NA","NA","NA","NA","NA",{"$f":"AVERAGE(D264:H264)","v":{"$error":"#DIV/0!"}},{"$f":"STDEV(D264:H264)","v":{"$error":"#DIV/0!"}},15,23,24,13,15,18,{"$f":"STDEV(K264:O264)","v":{"v":5.0990195135927845,"d":"5"}},2,1,1,1,1,{"v":1.2,"d":"1"},{"$f":"STDEV(R264:V264)","v":{"v":0.44721359549995787,"d":"0"}},0,0,0,0,0,0,{"$f":"STDEV(Y264:AC264)","v":0},0,0,0,0,0,0,{"$f":"STDEV(AF264:AJ264)","v":0},0,0,0,0,0,0,{"$f":"STDEV(AM264:AQ264)","v":0}]
[null,3,null,"NA","NA","NA","NA","NA",{"$f":"AVERAGE(D265:H265)","v":{"$error":"#DIV/0!"}},{"$f":"STDEV(D265:H265)","v":{"$error":"#DIV/0!"}},19,15,19,18,19,18,{"$f":"STDEV(K265:O265)","v":{"v":1.7320508075688772,"d":"2"}},1,0,1,3,0,1,{"$f":"STDEV(R265:V265)","v":{"v":1.224744871391589,"d":"1"}},0,0,0,0,0,{"$f":"AVERAGE(Y265:AC265)","v":0},{"$f":"STDEV(Y265:AC265)","v":0},0,0,0,0,0,{"$f":"AVERAGE(AF265:AJ265)","v":0},{"$f":"STDEV(AF265:AJ265)","v":0},0,0,0,0,0,{"$f":"AVERAGE(AM265:AQ265)","v":0},{"$f":"STDEV(AM265:AQ265)","v":0}]
["average",{"$nulls":7},{"$f":"AVERAGE(I263:I265)","v":{"$error":"#DIV/0!"}},{"$nulls":6},{"$f":"AVERAGE(P263:P265)","v":18},{"$nulls":6},{"$f":"AVERAGE(W263:W265)","v":{"v":1.5999999999999999,"d":"2"}},{"$nulls":6},{"$f":"AVERAGE(AD263:AD265)","v":0},{"$nulls":6},{"$f":"AVERAGE(AK263:AK265)","v":0},{"$nulls":6},{"$f":"AVERAGE(AR263:AR265)","v":0}]
["stdev",{"$nulls":7},{"$f":"J263+J264+J265","v":{"$error":"#DIV/0!"}},{"$nulls":6},{"$f":"Q263+Q264+Q265","v":{"v":13.42652330029812,"d":"13"}},{"$nulls":6},{"$f":"X263+X264+X265","v":{"v":2.812133891990685,"d":"3"}},{"$nulls":6},{"$f":"AE263+AE264+AE265","v":0},{"$nulls":6},{"$f":"AL263+AL264+AL265","v":0},{"$nulls":6},{"$f":"AS263+AS264+AS265","v":0}]
["p+3",1,null,"NA","NA","NA","NA","NA",{"$f":"AVERAGE(D268:H268)","v":{"$error":"#DIV/0!"}},{"$f":"STDEV(D268:H268)","v":{"$error":"#DIV/0!"}},21,19,21,27,23,{"$f":"AVERAGE(K268:O268)","v":{"v":22.2,"d":"22"}},{"$f":"STDEV(K268:O268)","v":{"v":3.0331501776206276,"d":"3"}},2,2,0,0,1,{"$f":"AVERAGE(R268:V268)","v":1},{"$f":"STDEV(R268:V268)","v":1},0,0,0,0,0,{"$f":"AVERAGE(Y268:AC268)","v":0},{"$f":"STDEV(Y268:AC268)","v":0},0,0,0,0,0,{"$f":"AVERAGE(AF268:AJ268)","v":0},{"$f":"STDEV(AF268:AJ268)","v":0},0,0,0,0,0,{"$f":"AVERAGE(AM268:AQ268)","v":0},{"$f":"STDEV(AM268:AQ268)","v":0}]
[null,2,null,"NA","NA","NA","NA","NA",{"$f":"AVERAGE(D269:H269)","v":{"$error":"#DIV/0!"}},{"$f":"STDEV(D269:H269)","v":{"$error":"#DIV/0!"}},22,21,18,16,24,{"v":20.2,"d":"20"},{"$f":"STDEV(K269:O269)","v":{"v":3.1937438845342605,"d":"3"}},2,2,1,0,0,1,{"$f":"STDEV(R269:V269)","v":1},0,3,0,0,0,{"v":0.6,"d":"1"},{"$f":"STDEV(Y269:AC269)","v":{"v":1.3416407864998738,"d":"1"}},0,0,0,0,0,{"$f":"AVERAGE(AF269:AJ269)","v":0},{"$f":"STDEV(AF269:AJ269)","v":0},0,0,0,0,0,0,{"$f":"STDEV(AM269:AQ269)","v":0}]
[null,3,null,"NA","NA","NA","NA","NA",{"$f":"AVERAGE(D270:H270)","v":{"$error":"#DIV/0!"}},{"$f":"STDEV(D270:H270)","v":{"$error":"#DIV/0!"}},6,6,12,7,8,{"v":7.8,"d":"8"},{"$f":"STDEV(K270:O270)","v":{"v":2.4899799195977472,"d":"2"}},0,0,0,2,0,{"v":0.4,"d":"0"},{"$f":"STDEV(R270:V270)","v":{"v":0.8944271909999159,"d":"1"}},0,0,0,1,0,{"v":0.2,"d":"0"},{"$f":"STDEV(Y270:AC270)","v":{"v":0.4472135954999579,"d":"0"}},0,0,0,0,0,0,{"$f":"STDEV(AF270:AJ270)","v":0},0,0,0,0,0,0,{"$f":"STDEV(AM270:AQ270)","v":0}]
["average",{"$nulls":7},{"$f":"AVERAGE(I268:I270)","v":{"$error":"#DIV/0!"}},{"$nulls":6},{"$f":"AVERAGE(P268:P270)","v":{"v":16.73333333333333,"d":"17"}},{"$nulls":6},{"$f":"AVERAGE(W268:W270)","v":{"v":0.7999999999999999,"d":"1"}},{"$nulls":6},{"$f":"AVERAGE(AD268:AD270)","v":{"v":0.26666666666666666,"d":"0"}},{"$nulls":6},{"$f":"AVERAGE(AK268:AK270)","v":0},{"$nulls":6},{"$f":"AVERAGE(AR268:AR270)","v":0}]
["stdev",{"$nulls":7},{"$f":"J268+J269+J270","v":{"$error":"#DIV/0!"}},{"$nulls":6},{"$f":"Q268+Q269+Q270","v":{"v":8.716873981752634,"d":"9"}},{"$nulls":6},{"$f":"X268+X269+X270","v":{"v":2.8944271909999157,"d":"3"}},{"$nulls":6},{"$f":"AE268+AE269+AE270","v":{"v":1.7888543819998317,"d":"2"}},{"$nulls":6},{"$f":"AL268+AL269+AL270","v":0},{"$nulls":6},{"$f":"AS268+AS269+AS270","v":0}]
["2213F APR",1,null,"NA","NA","NA","NA","NA",{"$f":"AVERAGE(D273:H273)","v":{"$error":"#DIV/0!"}},{"$f":"STDEV(D273:H273)","v":{"$error":"#DIV/0!"}},"NA","NA","NA","NA","NA",{"$f":"AVERAGE(K273:O273)","v":{"$error":"#DIV/0!"}},{"$f":"STDEV(K273:O273)","v":{"$error":"#DIV/0!"}},20,12,18,15,18,{"$f":"AVERAGE(R273:V273)","v":{"v":16.6,"d":"17"}},{"$f":"STDEV(R273:V273)","v":{"v":3.1304951684997073,"d":"3"}},3,3,2,0,0,{"$f":"AVERAGE(Y273:AC273)","v":{"v":1.6,"d":"2"}},{"$f":"STDEV(Y273:AC273)","v":{"v":1.51657508881031,"d":"2"}},1,1,1,0,0,{"$f":"AVERAGE(AF273:AJ273)","v":{"v":0.6,"d":"1"}},{"$f":"STDEV(AF273:AJ273)","v":{"v":0.5477225575051661,"d":"1"}},0,0,0,0,0,{"$f":"AVERAGE(AM273:AQ273)","v":0},{"$f":"STDEV(AM273:AQ273)","v":0}]
["p+0",2,null,"NA","NA","NA","NA","NA",{"$f":"AVERAGE(D274:H274)","v":{"$error":"#DIV/0!"}},{"$f":"STDEV(D274:H274)","v":{"$error":"#DIV/0!"}},"NA","NA","NA","NA","NA",{"$error":"#DIV/0!"},{"$f":"STDEV(K274:O274)","v":{"$error":"#DIV/0!"}},31,39,51,39,49,{"v":41.8,"d":"42"},{"$f":"STDEV(R274:V274)","v":{"v":8.197560612767667,"d":"8"}},2,2,3,1,1,{"v":1.8,"d":"2"},{"$f":"STDEV(Y274:AC274)","v":{"v":0.8366600265340757,"d":"1"}},1,0,2,1,1,{"$f":"AVERAGE(AF274:AJ274)","v":1},{"$f":"STDEV(AF274:AJ274)","v":{"v":0.7071067811865476,"d":"1"}},0,0,0,0,0,0,{"$f":"STDEV(AM274:AQ274)","v":0}]
[null,3,null,"NA","NA","NA","NA","NA",{"$f":"AVERAGE(D275:H275)","v":{"$error":"#DIV/0!"}},{"$f":"STDEV(D275:H275)","v":{"$error":"#DIV/0!"}},"NA","NA","NA","NA","NA",{"$error":"#DIV/0!"},{"$f":"STDEV(K275:O275)","v":{"$error":"#DIV/0!"}},35,27,37,37,20,{"v":31.2,"d":"31"},{"$f":"STDEV(R275:V275)","v":{"v":7.496665925596528,"d":"7"}},3,2,1,3,3,{"v":2.4,"d":"2"},{"$f":"STDEV(Y275:AC275)","v":{"v":0.8944271909999157,"d":"1"}},1,0,0,0,1,{"v":0.4,"d":"0"},{"$f":"STDEV(AF275:AJ275)","v":{"v":0.5477225575051661,"d":"1"}},0,0,0,0,0,0,{"$f":"STDEV(AM275:AQ275)","v":0}]
["average",{"$nulls":7},{"$f":"AVERAGE(I273:I275)","v":{"$error":"#DIV/0!"}},{"$nulls":6},{"$f":"AVERAGE(P273:P275)","v":{"$error":"#DIV/0!"}},{"$nulls":6},{"$f":"AVERAGE(W273:W275)","v":{"v":29.866666666666664,"d":"30"}},{"$nulls":6},{"$f":"AVERAGE(AD273:AD275)","v":{"v":1.9333333333333336,"d":"2"}},{"$nulls":6},{"$f":"AVERAGE(AK273:AK275)","v":{"v":0.6666666666666666,"d":"1"}},{"$nulls":6},{"$f":"AVERAGE(AR273:AR275)","v":0}]
["stdev",{"$nulls":7},{"$f":"J273+J274+J275","v":{"$error":"#DIV/0!"}},{"$nulls":6},{"$f":"Q273+Q274+Q275","v":{"$error":"#DIV/0!"}},{"$nulls":6},{"$f":"X273+X274+X275","v":{"v":18.8247217068639,"d":"19"}},{"$nulls":6},{"$f":"AE273+AE274+AE275","v":{"v":3.2476623063443015,"d":"3"}},{"$nulls":6},{"$f":"AL273+AL274+AL275","v":{"v":1.8025518961968798,"d":"2"}},{"$nulls":6},{"$f":"AS273+AS274+AS275","v":0}]
["p+3",1,null,"NA","NA","NA","NA","NA",{"$f":"AVERAGE(D278:H278)","v":{"$error":"#DIV/0!"}},{"$f":"STDEV(D278:H278)","v":{"$error":"#DIV/0!"}},"NA","NA","NA","NA","NA",{"$f":"AVERAGE(K278:O278)","v":{"$error":"#DIV/0!"}},{"$f":"STDEV(K278:O278)","v":{"$error":"#DIV/0!"}},"NA","NA","NA","NA","NA",{"$f":"AVERAGE(R278:V278)","v":{"$error":"#DIV/0!"}},{"$f":"STDEV(R278:V278)","v":{"$error":"#DIV/0!"}},17,13,12,6,16,{"$f":"AVERAGE(Y278:AC278)","v":{"v":12.8,"d":"13"}},{"$f":"STDEV(Y278:AC278)","v":{"v":4.324349662087929,"d":"4"}},1,1,1,0,0,{"$f":"AVERAGE(AF278:AJ278)","v":{"v":0.6,"d":"1"}},{"$f":"STDEV(AF278:AJ278)","v":{"v":0.5477225575051661,"d":"1"}},0,0,0,0,0,{"$f":"AVERAGE(AM278:AQ278)","v":0},{"$f":"STDEV(AM278:AQ278)","v":0}]
[null,2,null,"NA","NA","NA","NA","NA",{"$f":"AVERAGE(D279:H279)","v":{"$error":"#DIV/0!"}},{"$f":"STDEV(D279:H279)","v":{"$error":"#DIV/0!"}},"NA","NA","NA","NA","NA",{"$error":"#DIV/0!"},{"$f":"STDEV(K279:O279)","v":{"$error":"#DIV/0!"}},35,34,35,31,44,{"v":35.8,"d":"36"},{"$f":"STDEV(R279:V279)","v":{"v":4.868264577855239,"d":"5"}},3,4,2,6,2,{"v":3.4,"d":"3"},{"$f":"STDEV(Y279:AC279)","v":{"v":1.6733200530681513,"d":"2"}},0,1,1,1,0,{"v":0.6,"d":"1"},{"$f":"STDEV(AF279:AJ279)","v":{"v":0.5477225575051661,"d":"1"}},0,0,0,0,0,0,{"$f":"STDEV(AM279:AQ279)","v":0}]
[null,3,null,"NA","NA","NA","NA","NA",{"$error":"#DIV/0!"},{"$f":"STDEV(D280:H280)","v":{"$error":"#DIV/0!"}},"NA","NA","NA","NA","NA",{"$error":"#DIV/0!"},{"$f":"STDEV(K280:O280)","v":{"$error":"#DIV/0!"}},32,37,41,41,36,{"v":37.4,"d":"37"},{"$f":"STDEV(R280:V280)","v":{"v":3.7815340802378072,"d":"4"}},3,3,5,3,1,3,{"$f":"STDEV(Y280:AC280)","v":{"v":1.4142135623730951,"d":"1"}},1,0,0,1,1,{"v":0.6,"d":"1"},{"$f":"STDEV(AF280:AJ280)","v":{"v":0.5477225575051661,"d":"1"}},0,0,0,0,0,0,{"$f":"STDEV(AM280:AQ280)","v":0}]
["average",{"$nulls":7},{"$f":"AVERAGE(I278:I280)","v":{"$error":"#DIV/0!"}},{"$nulls":6},{"$f":"AVERAGE(P278:P280)","v":{"$error":"#DIV/0!"}},{"$nulls":6},{"$f":"AVERAGE(W279:W280)","v":{"v":36.599999999999994,"d":"37"}},{"$nulls":6},{"$f":"AVERAGE(AD278:AD280)","v":{"v":6.3999999999999995,"d":"6"}},{"$nulls":6},{"$f":"AVERAGE(AK278:AK280)","v":{"v":0.6,"d":"1"}},{"$nulls":6},{"$f":"AVERAGE(AR278:AR280)","v":0}]
["stdev",{"$nulls":7},{"$f":"J278+J279+J280","v":{"$error":"#DIV/0!"}},{"$nulls":6},{"$f":"Q278+Q279+Q280","v":{"$error":"#DIV/0!"}},{"$nulls":6},{"$f":"X278+X279+X280","v":{"$error":"#DIV/0!"}},{"$nulls":6},{"$f":"AE278+AE279+AE280","v":{"v":7.411883277529175,"d":"7"}},{"$nulls":6},{"$f":"AL278+AL279+AL280","v":{"v":1.6431676725154982,"d":"2"}},{"$nulls":6},{"$f":"AS278+AS279+AS280","v":0}]

{"sheet":"Survivalexp results","index":1,"n_rows":60,"n_cols":59,"rows_kept":60}
["Survival experiment"]
["Subject: ",null,"Anaerobic survival after aerobic inoculation of recombinant strains"]
[null,null,"DeBont+Gluconic Acid - Kanamycin only in 2213-/A/APR"]
["Inoculation date",null,"30may'17"]
["Inoculated",null,"Blank ","KT2440 WT","2213F -",null,"2213F A",null,"2213F APR"]
[{"$nulls":3},"dilution"]
[{"$nulls":3},"T0",{"$nulls":7},"T2",{"$nulls":7},"T4",{"$nulls":7},"T7",{"$nulls":7},"T9",{"$nulls":7},"T11",{"$nulls":7},"T17"]
[null,null,"Sample",{"$f":"10^0","v":1},{"$f":"10^-1","v":0.1},{"$f":"10^-2","v":0.01},{"$f":"10^-3","v":1E-3},{"$f":"10^-4","v":1E-4},{"$f":"10^-5","v":1e-05},"Average nr of bacteria","stdev",{"$f":"10^0","v":1},{"$f":"10^-1","v":0.1},{"$f":"10^-2","v":0.01},{"$f":"10^-3","v":1E-3},{"$f":"10^-4","v":1E-4},{"$f":"10^-5","v":1e-05},"Average nr of bacteria","stdev",{"$f":"10^0","v":1},{"$f":"10^-1","v":0.1},{"$f":"10^-2","v":0.01},{"$f":"10^-3","v":1E-3},{"$f":"10^-4","v":1E-4},{"$f":"10^-5","v":1e-05},"Average nr of bacteria","stdev",{"$f":"10^0","v":1},{"$f":"10^-1","v":0.1},{"$f":"10^-2","v":0.01},{"$f":"10^-3","v":1E-3},{"$f":"10^-4","v":1E-4},{"$f":"10^-5","v":1e-05},"Average nr of bacteria","stdev",{"$f":"10^0","v":1},{"$f":"10^-1","v":0.1},{"$f":"10^-2","v":0.01},{"$f":"10^-3","v":1E-3},{"$f":"10^-4","v":1E-4},{"$f":"10^-5","v":1e-05},"Average nr of bacteria","stdev",{"$f":"10^0","v":1},{"$f":"10^-1","v":0.1},{"$f":"10^-2","v":0.01},{"$f":"10^-3","v":1E-3},{"$f":"10^-4","v":1E-4},{"$f":"10^-5","v":1e-05},"Average nr of bacteria","stdev",{"$f":"10^0","v":1},{"$f":"10^-1","v":0.1},{"$f":"10^-2","v":0.01},{"$f":"10^-3","v":1E-3},{"$f":"10^-4","v":1E-4},{"$f":"10^-5","v":1e-05},"Average nr of bacteria","stdev"]
[null,null,"Blank",{"$f":"'Survivalexp RAW 30May-..Jun'!I12","v":0},{"$f":"'Survivalexp RAW 30May-..Jun'!P12","v":0},{"$f":"'Survivalexp RAW 30May-..Jun'!W12","v":0},{"$f":"'Survivalexp RAW 30May-..Jun'!AD12","v":0},{"$f":"'Survivalexp RAW 30May-..Jun'!AK12","v":0},{"$f":"'Survivalexp RAW 30May-..Jun'!AR12","v":0},null,null,{"$f":"'Survivalexp RAW 30May-..Jun'!I56","v":0},{"$f":"'Survivalexp RAW 30May-..Jun'!P56","v":0},{"$f":"'Survivalexp RAW 30May-..Jun'!W56","v":0},{"$f":"'Survivalexp RAW 30May-..Jun'!AD56","v":0},{"$f":"'Survivalexp RAW 30May-..Jun'!AK56","v":0},{"$f":"'Survivalexp RAW 30May-..Jun'!AR56","v":0},null,null,{"$f":"'Survivalexp RAW 30May-..Jun'!I100","v":0},{"$f":"'Survivalexp RAW 30May-..Jun'!P100","v":0},{"$f":"'Survivalexp RAW 30May-..Jun'!W100","v":0},{"$f":"'Survivalexp RAW 30May-..Jun'!AD100","v":0},{"$f":"'Survivalexp RAW 30May-..Jun'!AK100","v":0},{"$f":"'Survivalexp RAW 30May-..Jun'!AR100","v":0},null,null,{"$f":"'Survivalexp RAW 30May-..Jun'!I144","v":0},{"$f":"'Survivalexp RAW 30May-..Jun'!P144","v":0},{"$f":"'Survivalexp RAW 30May-..Jun'!W144","v":0},{"$f":"'Survivalexp RAW 30May-..Jun'!AD144","v":0},{"$f":"'Survivalexp RAW 30May-..Jun'!AK144","v":0},{"$f":"'Survivalexp RAW 30May-..Jun'!AR144","v":0},null,null,{"$f":"'Survivalexp RAW 30May-..Jun'!I188","v":0},{"$f":"'Survivalexp RAW 30May-..Jun'!P188","v":0},{"$f":"'Survivalexp RAW 30May-..Jun'!W188","v":0},{"$f":"'Survivalexp RAW 30May-..Jun'!AD188","v":0},{"$f":"'Survivalexp RAW 30May-..Jun'!AK188","v":0},{"$f":"'Survivalexp RAW 30May-..Jun'!AR188","v":0},null,null,{"$f":"'Survivalexp RAW 30May-..Jun'!#REF!","v":{"$error":"#REF!"}},{"$f":"'Survivalexp RAW 30May-..Jun'!#REF!","v":{"$error":"#REF!"}},{"$f":"'Survivalexp RAW 30May-..Jun'!#REF!","v":{"$error":"#REF!"}},{"$f":"'Survivalexp RAW 30May-..Jun'!#REF!","v":{"$error":"#REF!"}},{"$f":"'Survivalexp RAW 30May-..Jun'!#REF!","v":{"$error":"#REF!"}},{"$f":"'Survivalexp RAW 30May-..Jun'!#REF!","v":{"$error":"#REF!"}},null,null,{"$f":"'Survivalexp RAW 30May-..Jun'!#REF!","v":{"$error":"#REF!"}},{"$f":"'Survivalexp RAW 30May-..Jun'!#REF!","v":{"$error":"#REF!"}},{"$f":"'Survivalexp RAW 30May-..Jun'!#REF!","v":{"$error":"#REF!"}},{"$f":"'Survivalexp RAW 30May-..Jun'!#REF!","v":{"$error":"#REF!"}},{"$f":"'Survivalexp RAW 30May-..Jun'!#REF!","v":{"$error":"#REF!"}},{"$f":"'Survivalexp RAW 30May-..Jun'!#REF!","v":{"$error":"#REF!"}}]
[null,null,"stdev",{"$f":"'Survivalexp RAW 30May-..Jun'!I13","v":0},{"$f":"'Survivalexp RAW 30May-..Jun'!P13","v":0},{"$f":"'Survivalexp RAW 30May-..Jun'!W13","v":0},{"$f":"'Survivalexp RAW 30May-..Jun'!AD13","v":0},{"$f":"'Survivalexp RAW 30May-..Jun'!AK13","v":0},{"$f":"'Survivalexp RAW 30May-..Jun'!AR13","v":0},null,null,{"$f":"'Survivalexp RAW 30May-..Jun'!I57","v":0},{"$f":"'Survivalexp RAW 30May-..Jun'!P57","v":0},{"$f":"'Survivalexp RAW 30May-..Jun'!W57","v":0},{"$f":"'Survivalexp RAW 30May-..Jun'!AD57","v":0},{"$f":"'Survivalexp RAW 30May-..Jun'!AK57","v":0},{"$f":"'Survivalexp RAW 30May-..Jun'!AR57","v":0},null,null,{"$f":"'Survivalexp RAW 30May-..Jun'!I101","v":0},{"$f":"'Survivalexp RAW 30May-..Jun'!P101","v":0},{"$f":"'Survivalexp RAW 30May-..Jun'!W101","v":0},{"$f":"'Survivalexp RAW 30May-..Jun'!AD101","v":0},{"$f":"'Survivalexp RAW 30May-..Jun'!AK101","v":0},{"$f":"'Survivalexp RAW 30May-..Jun'!AR101","v":0},null,null,{"$f":"'Survivalexp RAW 30May-..Jun'!I145","v":0},{"$f":"'Survivalexp RAW 30May-..Jun'!P145","v":0},{"$f":"'Survivalexp RAW 30May-..Jun'!W145","v":0},{"$f":"'Survivalexp RAW 30May-..Jun'!AD145","v":0},{"$f":"'Survivalexp RAW 30May-..Jun'!AK145","v":0},{"$f":"'Survivalexp RAW 30May-..Jun'!AR145","v":0},null,null,{"$f":"'Survivalexp RAW 30May-..Jun'!I189","v":0},{"$f":"'Survivalexp RAW 30May-..Jun'!P189","v":0},{"$f":"'Survivalexp RAW 30May-..Jun'!W189","v":0},{"$f":"'Survivalexp RAW 30May-..Jun'!AD189","v":0},{"$f":"'Survivalexp RAW 30May-..Jun'!AK189","v":0},{"$f":"'Survivalexp RAW 30May-..Jun'!AR189","v":0},null,null,{"$f":"'Survivalexp RAW 30May-..Jun'!#REF!","v":{"$error":"#REF!"}},{"$f":"'Survivalexp RAW 30May-..Jun'!#REF!","v":{"$error":"#REF!"}},{"$f":"'Survivalexp RAW 30May-..Jun'!#REF!","v":{"$error":"#REF!"}},{"$f":"'Survivalexp RAW 30May-..Jun'!#REF!","v":{"$error":"#REF!"}},{"$f":"'Survivalexp RAW 30May-..Jun'!#REF!","v":{"$error":"#REF!"}},{"$f":"'Survivalexp RAW 30May-..Jun'!#REF!","v":{"$error":"#REF!"}},null,null,{"$f":"'Survivalexp RAW 30May-..Jun'!#REF!","v":{"$error":"#REF!"}},{"$f":"'Survivalexp RAW 30May-..Jun'!#REF!","v":{"$error":"#REF!"}},{"$f":"'Survivalexp RAW 30May-..Jun'!#REF!","v":{"$error":"#REF!"}},{"$f":"'Survivalexp RAW 30May-..Jun'!#REF!","v":{"$error":"#REF!"}},{"$f":"'Survivalexp RAW 30May-..Jun'!#REF!","v":{"$error":"#REF!"}},{"$f":"'Survivalexp RAW 30May-..Jun'!#REF!","v":{"$error":"#REF!"}}]
[null,"est. nr of bacteria",null,{"$f":"D9/$D$8","v":0},{"$f":"E9/$E$8","v":0},{"$f":"F9/$F$8","v":0},{"$f":"G9/$G$8","v":0},{"$f":"H9/$H$8","v":0},{"$f":"I9/$I$8","v":0},{"$f":"AVERAGE(D11:I11)","v":0},{"$f":"STDEV(D11:I11)","v":0},{"$f":"L9/$D$8","v":0},{"$f":"M9/$E$8","v":0},{"$f":"N9/$F$8","v":0},{"$f":"O9/$G$8","v":0},{"$f":"P9/$H$8","v":0},{"$f":"Q9/$I$8","v":0},{"$f":"AVERAGE(O11:Q11)","v":0},{"$f":"STDEV(O11:Q11)","v":0},{"$f":"T9/$D$8","v":0},{"$f":"U9/$E$8","v":0},{"$f":"V9/$F$8","v":0},{"$f":"W9/$G$8","v":0},{"$f":"X9/$H$8","v":0},{"$f":"Y9/$I$8","v":0},{"$f":"AVERAGE(W11:Y11)","v":0},{"$f":"STDEV(W11:Y11)","v":0},{"$f":"AB9/$D$8","v":0},{"$f":"AC9/$E$8","v":0},{"$f":"AD9/$F$8","v":0},{"$f":"AE9/$G$8","v":0},{"$f":"AF9/$H$8","v":0},{"$f":"AG9/$I$8","v":0},{"$f":"AVERAGE(AE11:AG11)","v":0},{"$f":"STDEV(AE11:AG11)","v":0},{"$f":"AJ9/$D$8","v":0},{"$f":"AK9/$E$8","v":0},{"$f":"AL9/$F$8","v":0},{"$f":"AM9/$G$8","v":0},{"$f":"AN9/$H$8","v":0},{"$f":"AO9/$I$8","v":0},{"$f":"AVERAGE(AM11:AO11)","v":0},{"$f":"STDEV(AM11:AO11)","v":0},{"$f":"AR9/$D$8","v":{"$error":"#REF!"}},{"$f":"AS9/$E$8","v":{"$error":"#REF!"}},{"$f":"AT9/$F$8","v":{"$error":"#REF!"}},{"$f":"AU9/$G$8","v":{"$error":"#REF!"}},{"$f":"AV9/$H$8","v":{"$error":"#REF!"}},{"$f":"AW9/$I$8","v":{"$error":"#REF!"}},{"$f":"AVERAGE(AU11:AW11)","v":{"$error":"#REF!"}},{"$f":"STDEV(AU11:AW11)","v":{"$error":"#REF!"}},{"$f":"AZ9/$D$8","v":{"$error":"#REF!"}},{"$f":"BA9/$E$8","v":{"$error":"#REF!"}},{"$f":"BB9/$F$8","v":{"$error":"#REF!"}},{"$f":"BC9/$G$8","v":{"$error":"#REF!"}},{"$f":"BD9/$H$8","v":{"$error":"#REF!"}},{"$f":"BE9/$I$8","v":{"$error":"#REF!"}},{"$f":"AVERAGE(BC11:BE11)","v":{"$error":"#REF!"}},{"$f":"STDEV(BC11:BE11)","v":{"$error":"#REF!"}}]
[null,null,"stdev",{"$f":"D10/$D$8","v":0},{"$f":"E10/$E$8","v":0},{"$f":"F10/$F$8","v":0},{"$f":"G10/$G$8","v":0},{"$f":"H10/$H$8","v":0},{"$f":"I10/$I$8","v":0},null,null,{"$f":"L10/$D$8","v":0},{"$f":"M10/$E$8","v":0},{"$f":"N10/$F$8","v":0},{"$f":"O10/$G$8","v":0},{"$f":"P10/$H$8","v":0},{"$f":"Q10/$I$8","v":0},{"$nulls":10},{"$f":"AB10/$D$8","v":0},{"$f":"AC10/$E$8","v":0},{"$f":"AD10/$F$8","v":0},{"$f":"AE10/$G$8","v":0},{"$f":"AF10/$H$8","v":0},{"$f":"AG10/$I$8","v":0},null,null,{"$f":"AJ10/$D$8","v":0},{"$f":"AK10/$E$8","v":0},{"$f":"AL10/$F$8","v":0},{"$f":"AM10/$G$8","v":0},{"$f":"AN10/$H$8","v":0},{"$f":"AO10/$I$8","v":0},null,null,{"$f":"AR10/$D$8","v":{"$error":"#REF!"}},{"$f":"AS10/$E$8","v":{"$error":"#REF!"}},{"$f":"AT10/$F$8","v":{"$error":"#REF!"}},{"$f":"AU10/$G$8","v":{"$error":"#REF!"}},{"$f":"AV10/$H$8","v":{"$error":"#REF!"}},{"$f":"AW10/$I$8","v":{"$error":"#REF!"}},null,null,{"$f":"AZ10/$D$8","v":{"$error":"#REF!"}},{"$f":"BA10/$E$8","v":{"$error":"#REF!"}},{"$f":"BB10/$F$8","v":{"$error":"#REF!"}},{"$f":"BC10/$G$8","v":{"$error":"#REF!"}},{"$f":"BD10/$H$8","v":{"$error":"#REF!"}},{"$f":"BE10/$I$8","v":{"$error":"#REF!"}}]
[null,null,"WT",{"$f":"'Survivalexp RAW 30May-..Jun'!I17","v":{"$error":"#DIV/0!"}},{"$f":"'Survivalexp RAW 30May-..Jun'!P17","v":{"$error":"#DIV/0!"}},{"$f":"'Survivalexp RAW 30May-..Jun'!W17","v":{"$error":"#DIV/0!"}},{"$f":"'Survivalexp RAW 30May-..Jun'!AD17","v":{"$error":"#DIV/0!"}},{"$f":"'Survivalexp RAW 30May-..Jun'!AK17","v":{"v":15.030000000000001,"d":"15"}},{"$f":"'Survivalexp RAW 30May-..Jun'!AR17","v":{"v":0.8666666666666667,"d":"1"}},null,null,{"$f":"'Survivalexp RAW 30May-..Jun'!I61","v":{"$error":"#DIV/0!"}},{"$f":"'Survivalexp RAW 30May-..Jun'!P61","v":{"$error":"#DIV/0!"}},{"$f":"'Survivalexp RAW 30May-..Jun'!W61","v":{"$error":"#DIV/0!"}},{"$f":"'Survivalexp RAW 30May-..Jun'!AD61","v":{"$error":"#DIV/0!"}},{"$f":"'Survivalexp RAW 30May-..Jun'!AK61","v":{"$error":"#DIV/0!"}},{"$f":"'Survivalexp RAW 30May-..Jun'!AR61","v":{"v":72.9,"d":"73"}},null,null,{"$f":"'Survivalexp RAW 30May-..Jun'!I105","v":{"$error":"#DIV/0!"}},{"$f":"'Survivalexp RAW 30May-..Jun'!P105","v":{"$error":"#DIV/0!"}},{"$f":"'Survivalexp RAW 30May-..Jun'!W105","v":{"$error":"#DIV/0!"}},{"$f":"'Survivalexp RAW 30May-..Jun'!AD105","v":{"$error":"#DIV/0!"}},{"$f":"'Survivalexp RAW 30May-..Jun'!AK105","v":{"$error":"#DIV/0!"}},{"$f":"'Survivalexp RAW 30May-..Jun'!AR105","v":{"v":45.26666666666667,"d":"45"}},null,null,{"$f":"'Survivalexp RAW 30May-..Jun'!I149","v":{"$error":"#DIV/0!"}},{"$f":"'Survivalexp RAW 30May-..Jun'!P149","v":{"$error":"#DIV/0!"}},{"$f":"'Survivalexp RAW 30May-..Jun'!W149","v":{"$error":"#DIV/0!"}},{"$f":"'Survivalexp RAW 30May-..Jun'!AD149","v":{"$error":"#DIV/0!"}},{"$f":"'Survivalexp RAW 30May-..Jun'!AK149","v":{"v":29.1,"d":"29"}},{"$f":"'Survivalexp RAW 30May-..Jun'!AR149","v":{"v":2.9,"d":"3"}},null,null,{"$f":"'Survivalexp RAW 30May-..Jun'!I193","v":{"$error":"#DIV/0!"}},{"$f":"'Survivalexp RAW 30May-..Jun'!P193","v":{"$error":"#DIV/0!"}},{"$f":"'Survivalexp RAW 30May-..Jun'!W193","v":{"$error":"#DIV/0!"}},{"$f":"'Survivalexp RAW 30May-..Jun'!AD193","v":51},{"$f":"'Survivalexp RAW 30May-..Jun'!AK193","v":{"v":28.400000000000002,"d":"28"}},{"$f":"'Survivalexp RAW 30May-..Jun'!AR193","v":{"v":0.4,"d":"0"}},null,null,{"$f":"'Survivalexp RAW 30May-..Jun'!I229","v":{"$error":"#DIV/0!"}},{"$f":"'Survivalexp RAW 30May-..Jun'!P229","v":{"$error":"#DIV/0!"}},{"$f":"'Survivalexp RAW 30May-..Jun'!W229","v":{"$error":"#DIV/0!"}},{"$f":"'Survivalexp RAW 30May-..Jun'!AD229","v":{"v":41.75,"d":"42"}},{"$f":"'Survivalexp RAW 30May-..Jun'!AK229","v":{"v":3.5,"d":"4"}},{"$f":"'Survivalexp RAW 30May-..Jun'!AT229","v":0},null,null,{"$f":"'Survivalexp RAW 30May-..Jun'!#REF!","v":{"$error":"#REF!"}},{"$f":"'Survivalexp RAW 30May-..Jun'!#REF!","v":{"$error":"#REF!"}},{"$f":"'Survivalexp RAW 30May-..Jun'!#REF!","v":{"$error":"#REF!"}},{"$f":"'Survivalexp RAW 30May-..Jun'!#REF!","v":{"$error":"#REF!"}},{"$f":"'Survivalexp RAW 30May-..Jun'!#REF!","v":{"$error":"#REF!"}},{"$f":"'Survivalexp RAW 30May-..Jun'!#REF!","v":{"$error":"#REF!"}}]
[null,null,"stdev",{"$f":"'Survivalexp RAW 30May-..Jun'!I18","v":{"$error":"#DIV/0!"}},{"$f":"'Survivalexp RAW 30May-..Jun'!P18","v":{"$error":"#DIV/0!"}},{"$f":"'Survivalexp RAW 30May-..Jun'!W18","v":{"$error":"#DIV/0!"}},{"$f":"'Survivalexp RAW 30May-..Jun'!AD18","v":{"$error":"#DIV/0!"}},{"$f":"'Survivalexp RAW 30May-..Jun'!AK18","v":{"v":16.24770188948149,"d":"16"}},{"$f":"'Survivalexp RAW 30May-..Jun'!AR18","v":{"v":2.178300813033949,"d":"2"}},null,null,{"$f":"'Survivalexp RAW 30May-..Jun'!I62","v":{"$error":"#DIV/0!"}},{"$f":"'Survivalexp RAW 30May-..Jun'!P62","v":{"$error":"#DIV/0!"}},{"$f":"'Survivalexp RAW 30May-..Jun'!W62","v":{"$error":"#DIV/0!"}},{"$f":"'Survivalexp RAW 30May-..Jun'!AD62","v":{"$error":"#DIV/0!"}},{"$f":"'Survivalexp RAW 30May-..Jun'!AK62","v":{"$error":"#DIV/0!"}},{"$f":"'Survivalexp RAW 30May-..Jun'!AR62","v":{"$error":"#DIV/0!"}},null,null,{"$f":"'Survivalexp RAW 30May-..Jun'!I106","v":{"$error":"#DIV/0!"}},{"$f":"'Survivalexp RAW 30May-..Jun'!P106","v":{"$error":"#DIV/0!"}},{"$f":"'Survivalexp RAW 30May-..Jun'!W106","v":{"$error":"#DIV/0!"}},{"$f":"'Survivalexp RAW 30May-..Jun'!AD106","v":{"$error":"#DIV/0!"}},{"$f":"'Survivalexp RAW 30May-..Jun'!AK106","v":{"$error":"#DIV/0!"}},{"$f":"'Survivalexp RAW 30May-..Jun'!AR106","v":{"v":22.274005847043735,"d":"22"}},null,null,{"$f":"'Survivalexp RAW 30May-..Jun'!I150","v":{"$error":"#DIV/0!"}},{"$f":"'Survivalexp RAW 30May-..Jun'!P150","v":{"$error":"#DIV/0!"}},{"$f":"'Survivalexp RAW 30May-..Jun'!W150","v":{"$error":"#DIV/0!"}},{"$f":"'Survivalexp RAW 30May-..Jun'!AD150","v":{"$error":"#DIV/0!"}},{"$f":"'Survivalexp RAW 30May-..Jun'!AK150","v":{"$error":"#DIV/0!"}},{"$f":"'Survivalexp RAW 30May-..Jun'!AR150","v":{"$error":"#DIV/0!"}},null,null,{"$f":"'Survivalexp RAW 30May-..Jun'!I194","v":{"$error":"#DIV/0!"}},{"$f":"'Survivalexp RAW 30May-..Jun'!P194","v":{"$error":"#DIV/0!"}},{"$f":"'Survivalexp RAW 30May-..Jun'!W194","v":{"$error":"#DIV/0!"}},{"$f":"'Survivalexp RAW 30May-..Jun'!AD194","v":{"$error":"#DIV/0!"}},{"$f":"'Survivalexp RAW 30May-..Jun'!AK194","v":{"v":45.30002394350553,"d":"45"}},{"$f":"'Survivalexp RAW 30May-..Jun'!AR194","v":{"v":2.6454812675404034,"d":"3"}},null,null,{"$f":"'Survivalexp RAW 30May-..Jun'!I230","v":{"$error":"#DIV/0!"}},{"$f":"'Survivalexp RAW 30May-..Jun'!P230","v":{"$error":"#DIV/0!"}},{"$f":"'Survivalexp RAW 30May-..Jun'!W230","v":{"$error":"#DIV/0!"}},{"$f":"'Survivalexp RAW 30May-..Jun'!AD230","v":{"$error":"#DIV/0!"}},{"$f":"'Survivalexp RAW 30May-..Jun'!AK230","v":{"v":39.453610832076556,"d":"39"}},{"$f":"'Survivalexp RAW 30May-..Jun'!AT230","v":0},null,null,{"$f":"'Survivalexp RAW 30May-..Jun'!#REF!","v":{"$error":"#REF!"}},{"$f":"'Survivalexp RAW 30May-..Jun'!#REF!","v":{"$error":"#REF!"}},{"$f":"'Survivalexp RAW 30May-..Jun'!#REF!","v":{"$error":"#REF!"}},{"$f":"'Survivalexp RAW 30May-..Jun'!#REF!","v":{"$error":"#REF!"}},{"$f":"'Survivalexp RAW 30May-..Jun'!#REF!","v":{"$error":"#REF!"}},{"$f":"'Survivalexp RAW 30May-..Jun'!#REF!","v":{"$error":"#REF!"}}]
[null,"est. nr of bacteria",null,{"$f":"D13/$D$8","v":{"$error":"#DIV/0!"}},{"$f":"E13/$E$8","v":{"$error":"#DIV/0!"}},{"$f":"F13/$F$8","v":{"$error":"#DIV/0!"}},{"$f":"G13/$G$8","v":{"$error":"#DIV/0!"}},{"$f":"H13/$H$8","v":150300},{"$f":"I13/$I$8","v":86666.66666666666},{"$f":"H15","v":150300},{"$f":"H16","v":162477.0188948149},{"$f":"L13/$D$8","v":{"$error":"#DIV/0!"}},{"$f":"M13/$E$8","v":{"$error":"#DIV/0!"}},{"$f":"N13/$F$8","v":{"$error":"#DIV/0!"}},{"$f":"O13/$G$8","v":{"$error":"#DIV/0!"}},{"$f":"P13/$H$8","v":{"$error":"#DIV/0!"}},{"$f":"Q13/$I$8","v":7290000},{"$f":"Q15","v":7290000},{"$f":"Q16","v":{"$error":"#DIV/0!"}},{"$f":"T13/$D$8","v":{"$error":"#DIV/0!"}},{"$f":"U13/$E$8","v":{"$error":"#DIV/0!"}},{"$f":"V13/$F$8","v":{"$error":"#DIV/0!"}},{"$f":"W13/$G$8","v":{"$error":"#DIV/0!"}},{"$f":"X13/$H$8","v":{"$error":"#DIV/0!"}},{"$f":"Y13/$I$8","v":4526666.666666667},{"$f":"Y15","v":4526666.666666667},{"$f":"Y16","v":2227400.5847043735},{"$f":"AB13/$D$8","v":{"$error":"#DIV/0!"}},{"$f":"AC13/$E$8","v":{"$error":"#DIV/0!"}},{"$f":"AD13/$F$8","v":{"$error":"#DIV/0!"}},{"$f":"AE13/$G$8","v":{"$error":"#DIV/0!"}},{"$f":"AF13/$H$8","v":291000},{"$f":"AG13/$I$8","v":289999.99999999994},{"$f":"AVERAGE(AF15:AG15)","v":290500},{"$f":"AF16","v":{"$error":"#DIV/0!"}},{"$f":"AJ13/$D$8","v":{"$error":"#DIV/0!"}},{"$f":"AK13/$E$8","v":{"$error":"#DIV/0!"}},{"$f":"AL13/$F$8","v":{"$error":"#DIV/0!"}},{"$f":"AM13/$G$8","v":51000},{"$f":"AN13/$H$8","v":284000},{"$f":"AO13/$I$8","v":40000},{"$f":"AO15","v":40000},{"$f":"AO16","v":264548.1267540403},{"$f":"AR13/$D$8","v":{"$error":"#DIV/0!"}},{"$f":"AS13/$E$8","v":{"$error":"#DIV/0!"}},{"$f":"AT13/$F$8","v":{"$error":"#DIV/0!"}},{"$f":"AU13/$G$8","v":41750},{"$f":"AV13/$H$8","v":35000},{"$f":"AW13/$I$8","v":0},{"$f":"AV15","v":35000},{"$f":"AV16","v":394536.10832076555},{"$f":"AZ13/$D$8","v":{"$error":"#REF!"}},{"$f":"BA13/$E$8","v":{"$error":"#REF!"}},{"$f":"BB13/$F$8","v":{"$error":"#REF!"}},{"$f":"BC13/$G$8","v":{"$error":"#REF!"}},{"$f":"BD13/$H$8","v":{"$error":"#REF!"}},{"$f":"BE13/$I$8","v":{"$error":"#REF!"}},{"$f":"AVERAGE(BC15:BD15)","v":{"$error":"#REF!"}},{"$f":"STDEV(BC15:BD15)","v":{"$error":"#REF!"}}]
[null,null,"stdev",{"$f":"D14/$D$8","v":{"$error":"#DIV/0!"}},{"$f":"E14/$E$8","v":{"$error":"#DIV/0!"}},{"$f":"F14/$F$8","v":{"$error":"#DIV/0!"}},{"$f":"G14/$G$8","v":{"$error":"#DIV/0!"}},{"$f":"H14/$H$8","v":162477.0188948149},{"$f":"I14/$I$8","v":217830.0813033949},null,null,{"$f":"L14/$D$8","v":{"$error":"#DIV/0!"}},{"$f":"M14/$E$8","v":{"$error":"#DIV/0!"}},{"$f":"N14/$F$8","v":{"$error":"#DIV/0!"}},{"$f":"O14/$G$8","v":{"$error":"#DIV/0!"}},{"$f":"P14/$H$8","v":{"$error":"#DIV/0!"}},{"$f":"Q14/$I$8","v":{"$error":"#DIV/0!"}},null,null,{"$f":"T14/$D$8","v":{"$error":"#DIV/0!"}},{"$f":"U14/$E$8","v":{"$error":"#DIV/0!"}},{"$f":"V14/$F$8","v":{"$error":"#DIV/0!"}},{"$f":"W14/$G$8","v":{"$error":"#DIV/0!"}},{"$f":"X14/$H$8","v":{"$error":"#DIV/0!"}},{"$f":"Y14/$I$8","v":2227400.5847043735},null,null,{"$f":"AB14/$D$8","v":{"$error":"#DIV/0!"}},{"$f":"AC14/$E$8","v":{"$error":"#DIV/0!"}},{"$f":"AD14/$F$8","v":{"$error":"#DIV/0!"}},{"$f":"AE14/$G$8","v":{"$error":"#DIV/0!"}},{"$f":"AF14/$H$8","v":{"$error":"#DIV/0!"}},{"$f":"AG14/$I$8","v":{"$error":"#DIV/0!"}},null,null,{"$f":"AJ14/$D$8","v":{"$error":"#DIV/0!"}},{"$f":"AK14/$E$8","v":{"$error":"#DIV/0!"}},{"$f":"AL14/$F$8","v":{"$error":"#DIV/0!"}},{"$f":"AM14/$G$8","v":{"$error":"#DIV/0!"}},{"$f":"AN14/$H$8","v":453000.2394350553},{"$f":"AO14/$I$8","v":264548.1267540403},null,null,{"$f":"AR14/$D$8","v":{"$error":"#DIV/0!"}},{"$f":"AS14/$E$8","v":{"$error":"#DIV/0!"}},{"$f":"AT14/$F$8","v":{"$error":"#DIV/0!"}},{"$f":"AU14/$G$8","v":{"$error":"#DIV/0!"}},{"$f":"AV14/$H$8","v":394536.10832076555},{"$f":"AW14/$I$8","v":0},null,null,{"$f":"AZ14/$D$8","v":{"$error":"#REF!"}},{"$f":"BA14/$E$8","v":{"$error":"#REF!"}},{"$f":"BB14/$F$8","v":{"$error":"#REF!"}},{"$f":"BC14/$G$8","v":{"$error":"#REF!"}},{"$f":"BD14/$H$8","v":{"$error":"#REF!"}},{"$f":"BE14/$I$8","v":{"$error":"#REF!"}}]
[null,"2213F - ","p+0",{"$f":"'Survivalexp RAW 30May-..Jun'!I22","v":{"$error":"#DIV/0!"}},{"$f":"'Survivalexp RAW 30May-..Jun'!P22","v":{"$error":"#DIV/0!"}},{"$f":"'Survivalexp RAW 30May-..Jun'!W22","v":{"$error":"#DIV/0!"}},{"$f":"'Survivalexp RAW 30May-..Jun'!AD22","v":{"$error":"#DIV/0!"}},{"$f":"'Survivalexp RAW 30May-..Jun'!AK22","v":{"v":11.133333333333333,"d":"11"}},{"$f":"'Survivalexp RAW 30May-..Jun'!AR22","v":{"v":1.4666666666666668,"d":"1"}},null,null,{"$f":"'Survivalexp RAW 30May-..Jun'!I66","v":{"$error":"#DIV/0!"}},{"$f":"'Survivalexp RAW 30May-..Jun'!P66","v":{"$error":"#DIV/0!"}},{"$f":"'Survivalexp RAW 30May-..Jun'!W66","v":{"$error":"#DIV/0!"}},{"$f":"'Survivalexp RAW 30May-..Jun'!AD66","v":{"$error":"#DIV/0!"}},{"$f":"'Survivalexp RAW 30May-..Jun'!AK66","v":{"$error":"#DIV/0!"}},{"$f":"'Survivalexp RAW 30May-..Jun'!AR66","v":{"v":32.4,"d":"32"}},null,null,{"$f":"'Survivalexp RAW 30May-..Jun'!I110","v":{"$error":"#DIV/0!"}},{"$f":"'Survivalexp RAW 30May-..Jun'!P110","v":{"$error":"#DIV/0!"}},{"$f":"'Survivalexp RAW 30May-..Jun'!W110","v":{"$error":"#DIV/0!"}},{"$f":"'Survivalexp RAW 30May-..Jun'!AD110","v":{"$error":"#DIV/0!"}},{"$f":"'Survivalexp RAW 30May-..Jun'!AK110","v":{"v":44.8,"d":"45"}},{"$f":"'Survivalexp RAW 30May-..Jun'!AR110","v":{"v":9.333333333333334,"d":"9"}},null,null,{"$f":"'Survivalexp RAW 30May-..Jun'!I154","v":{"$error":"#DIV/0!"}},{"$f":"'Survivalexp RAW 30May-..Jun'!P154","v":{"$error":"#DIV/0!"}},{"$f":"'Survivalexp RAW 30May-..Jun'!W154","v":{"v":68.6,"d":"69"}},{"$f":"'Survivalexp RAW 30May-..Jun'!AD154","v":{"v":21.866666666666664,"d":"22"}},{"$f":"'Survivalexp RAW 30May-..Jun'!AK154","v":{"v":2.6666666666666665,"d":"3"}},{"$f":"'Survivalexp RAW 30May-..Jun'!AR154","v":{"v":0.19999999999999998,"d":"0"}},null,null,{"$f":"'Survivalexp RAW 30May-..Jun'!I198","v":{"$error":"#DIV/0!"}},{"$f":"'Survivalexp RAW 30May-..Jun'!P198","v":{"$error":"#DIV/0!"}},{"$f":"'Survivalexp RAW 30May-..Jun'!W198","v":{"v":58.6,"d":"59"}},{"$f":"'Survivalexp RAW 30May-..Jun'!AD198","v":{"v":5.3999999999999995,"d":"5"}},{"$f":"'Survivalexp RAW 30May-..Jun'!AK198","v":{"v":0.13333333333333333,"d":"0"}},{"$f":"'Survivalexp RAW 30May-..Jun'!AR198","v":{"v":0.06666666666666667,"d":"0"}},null,null,{"$f":"'Survivalexp RAW 30May-..Jun'!I234","v":{"$error":"#DIV/0!"}},{"$f":"'Survivalexp RAW 30May-..Jun'!P234","v":{"v":67.4,"d":"67"}},{"$f":"'Survivalexp RAW 30May-..Jun'!W234","v":{"v":14.299999999999999,"d":"14"}},{"$f":"'Survivalexp RAW 30May-..Jun'!AD234","v":{"v":1.7,"d":"2"}},{"$f":"'Survivalexp RAW 30May-..Jun'!AK234","v":{"v":0.1,"d":"0"}},{"$f":"'Survivalexp RAW 30May-..Jun'!AR234","v":0},null,null,{"$f":"'Survivalexp RAW 30May-..Jun'!#REF!","v":{"$error":"#REF!"}},{"$f":"'Survivalexp RAW 30May-..Jun'!#REF!","v":{"$error":"#REF!"}},{"$f":"'Survivalexp RAW 30May-..Jun'!#REF!","v":{"$error":"#REF!"}},{"$f":"'Survivalexp RAW 30May-..Jun'!#REF!","v":{"$error":"#REF!"}},{"$f":"'Survivalexp RAW 30May-..Jun'!#REF!","v":{"$error":"#REF!"}},{"$f":"'Survivalexp RAW 30May-..Jun'!#REF!","v":{"$error":"#REF!"}}]
[null,null,"stdev",{"$f":"'Survivalexp RAW 30May-..Jun'!I23","v":{"$error":"#DIV/0!"}},{"$f":"'Survivalexp RAW 30May-..Jun'!P23","v":{"$error":"#DIV/0!"}},{"$f":"'Survivalexp RAW 30May-..Jun'!W23","v":{"$error":"#DIV/0!"}},{"$f":"'Survivalexp RAW 30May-..Jun'!AD23","v":{"$error":"#DIV/0!"}},{"$f":"'Survivalexp RAW 30May-..Jun'!AK23","v":{"v":10.886677429533194,"d":"11"}},{"$f":"'Survivalexp RAW 30May-..Jun'!AR23","v":{"v":3.987122054040277,"d":"4"}},null,null,{"$f":"'Survivalexp RAW 30May-..Jun'!I67","v":{"$error":"#DIV/0!"}},{"$f":"'Survivalexp RAW 30May-..Jun'!P67","v":{"$error":"#DIV/0!"}},{"$f":"'Survivalexp RAW 30May-..Jun'!W67","v":{"$error":"#DIV/0!"}},{"$f":"'Survivalexp RAW 30May-..Jun'!AD67","v":{"$error":"#DIV/0!"}},{"$f":"'Survivalexp RAW 30May-..Jun'!AK67","v":{"$error":"#DIV/0!"}},{"$f":"'Survivalexp RAW 30May-..Jun'!AR67","v":0},null,null,{"$f":"'Survivalexp RAW 30May-..Jun'!I111","v":{"$error":"#DIV/0!"}},{"$f":"'Survivalexp RAW 30May-..Jun'!P111","v":{"$error":"#DIV/0!"}},{"$f":"'Survivalexp RAW 30May-..Jun'!W111","v":{"$error":"#DIV/0!"}},{"$f":"'Survivalexp RAW 30May-..Jun'!AD111","v":{"$error":"#DIV/0!"}},{"$f":"'Survivalexp RAW 30May-..Jun'!AK111","v":{"$error":"#DIV/0!"}},{"$f":"'Survivalexp RAW 30May-..Jun'!AR111","v":{"v":9.849845813739883,"d":"10"}},null,null,{"$f":"'Survivalexp RAW 30May-..Jun'!I155","v":{"$error":"#DIV/0!"}},{"$f":"'Survivalexp RAW 30May-..Jun'!P155","v":{"$error":"#DIV/0!"}},{"$f":"'Survivalexp RAW 30May-..Jun'!W155","v":{"$error":"#DIV/0!"}},{"$f":"'Survivalexp RAW 30May-..Jun'!AD155","v":{"v":13.414085362717525,"d":"13"}},{"$f":"'Survivalexp RAW 30May-..Jun'!AK155","v":{"v":4.890234347791267,"d":"5"}},{"$f":"'Survivalexp RAW 30May-..Jun'!AR155","v":{"v":0.5477225575051661,"d":"1"}},null,null,{"$f":"'Survivalexp RAW 30May-..Jun'!I199","v":{"$error":"#DIV/0!"}},{"$f":"'Survivalexp RAW 30May-..Jun'!P199","v":{"$error":"#DIV/0!"}},{"$f":"'Survivalexp RAW 30May-..Jun'!W199","v":{"v":46.416336906041806,"d":"46"}},{"$f":"'Survivalexp RAW 30May-..Jun'!AD199","v":{"v":5.226284512925509,"d":"5"}},{"$f":"'Survivalexp RAW 30May-..Jun'!AK199","v":{"v":0.8944271909999159,"d":"1"}},{"$f":"'Survivalexp RAW 30May-..Jun'!AR199","v":{"v":0.4472135954999579,"d":"0"}},null,null,{"$f":"'Survivalexp RAW 30May-..Jun'!I235","v":{"$error":"#DIV/0!"}},{"$f":"'Survivalexp RAW 30May-..Jun'!P235","v":{"$error":"#DIV/0!"}},{"$f":"'Survivalexp RAW 30May-..Jun'!W235","v":{"v":42.377493619279655,"d":"42"}},{"$f":"'Survivalexp RAW 30May-..Jun'!AD235","v":{"v":8.91835001815116,"d":"9"}},{"$f":"'Survivalexp RAW 30May-..Jun'!AK235","v":{"v":61.89637957844882,"d":"62"}},{"$f":"'Survivalexp RAW 30May-..Jun'!AR235","v":0},null,null,{"$f":"'Survivalexp RAW 30May-..Jun'!#REF!","v":{"$error":"#REF!"}},{"$f":"'Survivalexp RAW 30May-..Jun'!#REF!","v":{"$error":"#REF!"}},{"$f":"'Survivalexp RAW 30May-..Jun'!#REF!","v":{"$error":"#REF!"}},{"$f":"'Survivalexp RAW 30May-..Jun'!#REF!","v":{"$error":"#REF!"}},{"$f":"'Survivalexp RAW 30May-..Jun'!#REF!","v":{"$error":"#REF!"}},{"$f":"'Survivalexp RAW 30May-..Jun'!#REF!","v":{"$error":"#REF!"}}]
[null,"est. nr of bacteria",null,{"$f":"D17/$D$8","v":{"$error":"#DIV/0!"}},{"$f":"E17/$E$8","v":{"$error":"#DIV/0!"}},{"$f":"F17/$F$8","v":{"$error":"#DIV/0!"}},{"$f":"G17/$G$8","v":{"$error":"#DIV/0!"}},{"$f":"H17/$H$8","v":111333.33333333333},{"$f":"I17/$I$8","v":146666.66666666666},{"$f":"H19","v":111333.33333333333},{"$f":"H20","v":108866.77429533192},{"$f":"L17/$D$8","v":{"$error":"#DIV/0!"}},{"$f":"M17/$E$8","v":{"$error":"#DIV/0!"}},{"$f":"N17/$F$8","v":{"$error":"#DIV/0!"}},{"$f":"O17/$G$8","v":{"$error":"#DIV/0!"}},{"$f":"P17/$H$8","v":{"$error":"#DIV/0!"}},{"$f":"Q17/$I$8","v":3239999.9999999995},{"$f":"Q19","v":3239999.9999999995},{"$f":"Q20","v":0},{"$f":"T17/$D$8","v":{"$error":"#DIV/0!"}},{"$f":"U17/$E$8","v":{"$error":"#DIV/0!"}},{"$f":"V17/$F$8","v":{"$error":"#DIV/0!"}},{"$f":"W17/$G$8","v":{"$error":"#DIV/0!"}},{"$f":"X17/$H$8","v":447999.99999999994},{"$f":"Y17/$I$8","v":933333.3333333334},{"$f":"Y19","v":933333.3333333334},{"$f":"Y20","v":984984.5813739882},{"$f":"AB17/$D$8","v":{"$error":"#DIV/0!"}},{"$f":"AC17/$E$8","v":{"$error":"#DIV/0!"}},{"$f":"AD17/$F$8","v":6859.999999999999},{"$f":"AE17/$G$8","v":21866.666666666664},{"$f":"AF17/$H$8","v":26666.666666666664},{"$f":"AG17/$I$8","v":19999.999999999996},{"$f":"AE19","v":21866.666666666664},{"$f":"AE20","v":13414.085362717526},{"$f":"AJ17/$D$8","v":{"$error":"#DIV/0!"}},{"$f":"AK17/$E$8","v":{"$error":"#DIV/0!"}},{"$f":"AL17/$F$8","v":5860},{"$f":"AM17/$G$8","v":5399.999999999999},{"$f":"AN17/$H$8","v":1333.3333333333333},{"$f":"AO17/$I$8","v":6666.666666666666},{"$f":"AL19","v":5860},{"$f":"AL20","v":4641.633690604181},{"$f":"AR17/$D$8","v":{"$error":"#DIV/0!"}},{"$f":"AS17/$E$8","v":674},{"$f":"AT17/$F$8","v":1429.9999999999998},{"$f":"AU17/$G$8","v":1700},{"$f":"AV17/$H$8","v":1000},{"$f":"AW17/$I$8","v":0},{"$f":"AT19","v":1429.9999999999998},{"$f":"AT20","v":4237.749361927966},{"$f":"AZ17/$D$8","v":{"$error":"#REF!"}},{"$f":"BA17/$E$8","v":{"$error":"#REF!"}},{"$f":"BB17/$F$8","v":{"$error":"#REF!"}},{"$f":"BC17/$G$8","v":{"$error":"#REF!"}},{"$f":"BD17/$H$8","v":{"$error":"#REF!"}},{"$f":"BE17/$I$8","v":{"$error":"#REF!"}},{"$f":"AVERAGE(BA19:BD19)","v":{"$error":"#REF!"}},{"$f":"STDEV(BA19:BD19)","v":{"$error":"#REF!"}}]
[null,null,"stdev",{"$f":"D18/$D$8","v":{"$error":"#DIV/0!"}},{"$f":"E18/$E$8","v":{"$error":"#DIV/0!"}},{"$f":"F18/$F$8","v":{"$error":"#DIV/0!"}},{"$f":"G18/$G$8","v":{"$error":"#DIV/0!"}},{"$f":"H18/$H$8","v":108866.77429533192},{"$f":"I18/$I$8","v":398712.20540402766},null,null,{"$f":"L18/$D$8","v":{"$error":"#DIV/0!"}},{"$f":"M18/$E$8","v":{"$error":"#DIV/0!"}},{"$f":"N18/$F$8","v":{"$error":"#DIV/0!"}},{"$f":"O18/$G$8","v":{"$error":"#DIV/0!"}},{"$f":"P18/$H$8","v":{"$error":"#DIV/0!"}},{"$f":"Q18/$I$8","v":0},null,null,{"$f":"T18/$D$8","v":{"$error":"#DIV/0!"}},{"$f":"U18/$E$8","v":{"$error":"#DIV/0!"}},{"$f":"V18/$F$8","v":{"$error":"#DIV/0!"}},{"$f":"W18/$G$8","v":{"$error":"#DIV/0!"}},{"$f":"X18/$H$8","v":{"$error":"#DIV/0!"}},{"$f":"Y18/$I$8","v":984984.5813739882},null,null,{"$f":"AB18/$D$8","v":{"$error":"#DIV/0!"}},{"$f":"AC18/$E$8","v":{"$error":"#DIV/0!"}},{"$f":"AD18/$F$8","v":{"$error":"#DIV/0!"}},{"$f":"AE18/$G$8","v":13414.085362717526},{"$f":"AF18/$H$8","v":48902.34347791267},{"$f":"AG18/$I$8","v":54772.255750516604},null,null,{"$f":"AJ18/$D$8","v":{"$error":"#DIV/0!"}},{"$f":"AK18/$E$8","v":{"$error":"#DIV/0!"}},{"$f":"AL18/$F$8","v":4641.633690604181},{"$f":"AM18/$G$8","v":5226.284512925508},{"$f":"AN18/$H$8","v":8944.271909999157},{"$f":"AO18/$I$8","v":44721.35954999579},null,null,{"$f":"AR18/$D$8","v":{"$error":"#DIV/0!"}},{"$f":"AS18/$E$8","v":{"$error":"#DIV/0!"}},{"$f":"AT18/$F$8","v":4237.749361927966},{"$f":"AU18/$G$8","v":8918.35001815116},{"$f":"AV18/$H$8","v":618963.7957844882},{"$f":"AW18/$I$8","v":0},null,null,{"$f":"AZ18/$D$8","v":{"$error":"#REF!"}},{"$f":"BA18/$E$8","v":{"$error":"#REF!"}},{"$f":"BB18/$F$8","v":{"$error":"#REF!"}},{"$f":"BC18/$G$8","v":{"$error":"#REF!"}},{"$f":"BD18/$H$8","v":{"$error":"#REF!"}},{"$f":"BE18/$I$8","v":{"$error":"#REF!"}}]
[null,null,"p+3",{"$f":"'Survivalexp RAW 30May-..Jun'!I27","v":{"$error":"#DIV/0!"}},{"$f":"'Survivalexp RAW 30May-..Jun'!P27","v":{"$error":"#DIV/0!"}},{"$f":"'Survivalexp RAW 30May-..Jun'!W27","v":{"$error":"#DIV/0!"}},{"$f":"'Survivalexp RAW 30May-..Jun'!AD27","v":{"v":30.4,"d":"30"}},{"$f":"'Survivalexp RAW 30May-..Jun'!AK27","v":{"v":8.266666666666667,"d":"8"}},{"$f":"'Survivalexp RAW 30May-..Jun'!AR27","v":{"v":1.2,"d":"1"}},null,null,{"$f":"'Survivalexp RAW 30May-..Jun'!I71","v":{"$error":"#DIV/0!"}},{"$f":"'Survivalexp RAW 30May-..Jun'!P71","v":{"$error":"#DIV/0!"}},{"$f":"'Survivalexp RAW 30May-..Jun'!W71","v":{"$error":"#DIV/0!"}},{"$f":"'Survivalexp RAW 30May-..Jun'!AD71","v":{"$error":"#DIV/0!"}},{"$f":"'Survivalexp RAW 30May-..Jun'!AK71","v":{"$error":"#DIV/0!"}},{"$f":"'Survivalexp RAW 30May-..Jun'!AR71","v":{"v":75.6,"d":"76"}},null,null,{"$f":"'Survivalexp RAW 30May-..Jun'!I115","v":{"$error":"#DIV/0!"}},{"$f":"'Survivalexp RAW 30May-..Jun'!P115","v":{"$error":"#DIV/0!"}},{"$f":"'Survivalexp RAW 30May-..Jun'!W115","v":{"$error":"#DIV/0!"}},{"$f":"'Survivalexp RAW 30May-..Jun'!AD115","v":{"$error":"#DIV/0!"}},{"$f":"'Survivalexp RAW 30May-..Jun'!AK115","v":{"$error":"#DIV/0!"}},{"$f":"'Survivalexp RAW 30May-..Jun'!AR115","v":{"v":9.8,"d":"10"}},null,null,{"$f":"'Survivalexp RAW 30May-..Jun'!I159","v":{"$error":"#DIV/0!"}},{"$f":"'Survivalexp RAW 30May-..Jun'!P159","v":{"$error":"#DIV/0!"}},{"$f":"'Survivalexp RAW 30May-..Jun'!W159","v":{"v":41.13333333333333,"d":"41"}},{"$f":"'Survivalexp RAW 30May-..Jun'!AD159","v":{"v":3.9333333333333336,"d":"4"}},{"$f":"'Survivalexp RAW 30May-..Jun'!AK159","v":{"v":0.5333333333333333,"d":"1"}},{"$f":"'Survivalexp RAW 30May-..Jun'!AR159","v":0},null,null,{"$f":"'Survivalexp RAW 30May-..Jun'!I203","v":{"$error":"#DIV/0!"}},{"$f":"'Survivalexp RAW 30May-..Jun'!P203","v":{"v":58.133333333333326,"d":"58"}},{"$f":"'Survivalexp RAW 30May-..Jun'!W203","v":{"v":6.6000000000000005,"d":"7"}},{"$f":"'Survivalexp RAW 30May-..Jun'!AD203","v":{"v":1.0666666666666667,"d":"1"}},{"$f":"'Survivalexp RAW 30May-..Jun'!AK203","v":0},{"$f":"'Survivalexp RAW 30May-..Jun'!AR203","v":0},null,null,{"$f":"'Survivalexp RAW 30May-..Jun'!I239","v":{"$error":"#DIV/0!"}},{"$f":"'Survivalexp RAW 30May-..Jun'!P239","v":{"v":26.6,"d":"27"}},{"$f":"'Survivalexp RAW 30May-..Jun'!W239","v":{"v":4.8,"d":"5"}},{"$f":"'Survivalexp RAW 30May-..Jun'!AD239","v":{"v":0.8,"d":"1"}},{"$f":"'Survivalexp RAW 30May-..Jun'!AK239","v":0},{"$f":"'Survivalexp RAW 30May-..Jun'!AR239","v":0},null,null,{"$f":"'Survivalexp RAW 30May-..Jun'!#REF!","v":{"$error":"#REF!"}},{"$f":"'Survivalexp RAW 30May-..Jun'!#REF!","v":{"$error":"#REF!"}},{"$f":"'Survivalexp RAW 30May-..Jun'!#REF!","v":{"$error":"#REF!"}},{"$f":"'Survivalexp RAW 30May-..Jun'!#REF!","v":{"$error":"#REF!"}},{"$f":"'Survivalexp RAW 30May-..Jun'!#REF!","v":{"$error":"#REF!"}},{"$f":"'Survivalexp RAW 30May-..Jun'!#REF!","v":{"$error":"#REF!"}}]
[null,null,"stdev",{"$f":"'Survivalexp RAW 30May-..Jun'!I28","v":{"$error":"#DIV/0!"}},{"$f":"'Survivalexp RAW 30May-..Jun'!P28","v":{"$error":"#DIV/0!"}},{"$f":"'Survivalexp RAW 30May-..Jun'!W28","v":{"$error":"#DIV/0!"}},{"$f":"'Survivalexp RAW 30May-..Jun'!AD28","v":{"$error":"#DIV/0!"}},{"$f":"'Survivalexp RAW 30May-..Jun'!AK28","v":{"v":9.107716856027881,"d":"9"}},{"$f":"'Survivalexp RAW 30May-..Jun'!AR28","v":{"v":2.8476072887611528,"d":"3"}},null,null,{"$f":"'Survivalexp RAW 30May-..Jun'!I72","v":{"$error":"#DIV/0!"}},{"$f":"'Survivalexp RAW 30May-..Jun'!P72","v":{"$error":"#DIV/0!"}},{"$f":"'Survivalexp RAW 30May-..Jun'!W72","v":{"$error":"#DIV/0!"}},{"$f":"'Survivalexp RAW 30May-..Jun'!AD72","v":{"$error":"#DIV/0!"}},{"$f":"'Survivalexp RAW 30May-..Jun'!AK72","v":{"$error":"#DIV/0!"}},{"$f":"'Survivalexp RAW 30May-..Jun'!AR72","v":{"$error":"#DIV/0!"}},null,null,{"$f":"'Survivalexp RAW 30May-..Jun'!I116","v":{"$error":"#DIV/0!"}},{"$f":"'Survivalexp RAW 30May-..Jun'!P116","v":{"$error":"#DIV/0!"}},{"$f":"'Survivalexp RAW 30May-..Jun'!W116","v":{"$error":"#DIV/0!"}},{"$f":"'Survivalexp RAW 30May-..Jun'!AD116","v":{"$error":"#DIV/0!"}},{"$f":"'Survivalexp RAW 30May-..Jun'!AK116","v":{"$error":"#DIV/0!"}},{"$f":"'Survivalexp RAW 30May-..Jun'!AR116","v":{"$error":"#DIV/0!"}},null,null,{"$f":"'Survivalexp RAW 30May-..Jun'!I160","v":{"$error":"#DIV/0!"}},{"$f":"'Survivalexp RAW 30May-..Jun'!P160","v":{"$error":"#DIV/0!"}},{"$f":"'Survivalexp RAW 30May-..Jun'!W160","v":{"v":17.107176974141716,"d":"17"}},{"$f":"'Survivalexp RAW 30May-..Jun'!AD160","v":{"v":5.009661606565314,"d":"5"}},{"$f":"'Survivalexp RAW 30May-..Jun'!AK160","v":{"v":1.7888543819998315,"d":"2"}},{"$f":"'Survivalexp RAW 30May-..Jun'!AR160","v":0},null,null,{"$f":"'Survivalexp RAW 30May-..Jun'!I204","v":{"$error":"#DIV/0!"}},{"$f":"'Survivalexp RAW 30May-..Jun'!P204","v":{"v":36.885309502719075,"d":"37"}},{"$f":"'Survivalexp RAW 30May-..Jun'!W204","v":{"v":6.830510771945602,"d":"7"}},{"$f":"'Survivalexp RAW 30May-..Jun'!AD204","v":{"v":3.368138127356006,"d":"3"}},{"$f":"'Survivalexp RAW 30May-..Jun'!AK204","v":0},{"$f":"'Survivalexp RAW 30May-..Jun'!AR204","v":0},null,null,{"$f":"'Survivalexp RAW 30May-..Jun'!I240","v":{"$error":"#DIV/0!"}},{"$f":"'Survivalexp RAW 30May-..Jun'!P240","v":{"v":22.397835125335863,"d":"22"}},{"$f":"'Survivalexp RAW 30May-..Jun'!W240","v":{"v":5.145275825596474,"d":"5"}},{"$f":"'Survivalexp RAW 30May-..Jun'!AD240","v":{"v":0.994936153005124,"d":"1"}},{"$f":"'Survivalexp RAW 30May-..Jun'!AK240","v":0},{"$f":"'Survivalexp RAW 30May-..Jun'!AR240","v":0},null,null,{"$f":"'Survivalexp RAW 30May-..Jun'!#REF!","v":{"$error":"#REF!"}},{"$f":"'Survivalexp RAW 30May-..Jun'!#REF!","v":{"$error":"#REF!"}},{"$f":"'Survivalexp RAW 30May-..Jun'!#REF!","v":{"$error":"#REF!"}},{"$f":"'Survivalexp RAW 30May-..Jun'!#REF!","v":{"$error":"#REF!"}},{"$f":"'Survivalexp RAW 30May-..Jun'!#REF!","v":{"$error":"#REF!"}},{"$f":"'Survivalexp RAW 30May-..Jun'!#REF!","v":{"$error":"#REF!"}}]
[null,"est. nr of bacteria",null,{"$f":"D21/$D$8","v":{"$error":"#DIV/0!"}},{"$f":"E21/$E$8","v":{"$error":"#DIV/0!"}},{"$f":"F21/$F$8","v":{"$error":"#DIV/0!"}},{"$f":"G21/$G$8","v":30399.999999999996},{"$f":"H21/$H$8","v":82666.66666666667},{"$f":"I21/$I$8","v":119999.99999999999},{"$f":"H23","v":82666.66666666667},{"$f":"H24","v":91077.1685602788},{"$f":"L21/$D$8","v":{"$error":"#DIV/0!"}},{"$f":"M21/$E$8","v":{"$error":"#DIV/0!"}},{"$f":"N21/$F$8","v":{"$error":"#DIV/0!"}},{"$f":"O21/$G$8","v":{"$error":"#DIV/0!"}},{"$f":"P21/$H$8","v":{"$error":"#DIV/0!"}},{"$f":"Q21/$I$8","v":7559999.999999999},{"$f":"Q23","v":7559999.999999999},{"$f":"Q24","v":{"$error":"#DIV/0!"}},{"$f":"T21/$D$8","v":{"$error":"#DIV/0!"}},{"$f":"U21/$E$8","v":{"$error":"#DIV/0!"}},{"$f":"V21/$F$8","v":{"$error":"#DIV/0!"}},{"$f":"W21/$G$8","v":{"$error":"#DIV/0!"}},{"$f":"X21/$H$8","v":{"$error":"#DIV/0!"}},{"$f":"Y21/$I$8","v":980000},{"$f":"Y23","v":980000},{"$f":"Y24","v":{"$error":"#DIV/0!"}},{"$f":"AB21/$D$8","v":{"$error":"#DIV/0!"}},{"$f":"AC21/$E$8","v":{"$error":"#DIV/0!"}},{"$f":"AD21/$F$8","v":4113.333333333333},{"$f":"AE21/$G$8","v":3933.3333333333335},{"$f":"AF21/$H$8","v":5333.333333333333},{"$f":"AG21/$I$8","v":0},{"$f":"AD23","v":4113.333333333333},{"$f":"AD24","v":1710.7176974141714},{"$f":"AJ21/$D$8","v":{"$error":"#DIV/0!"}},{"$f":"AK21/$E$8","v":581.3333333333333},{"$f":"AL21/$F$8","v":660},{"$f":"AM21/$G$8","v":1066.6666666666667},{"$f":"AN21/$H$8","v":0},{"$f":"AO21/$I$8","v":0},{"$f":"AK23","v":581.3333333333333},{"$f":"AK24","v":368.8530950271907},{"$f":"AR21/$D$8","v":{"$error":"#DIV/0!"}},{"$f":"AS21/$E$8","v":266},{"$f":"AT21/$F$8","v":480},{"$f":"AU21/$G$8","v":800},{"$f":"AV21/$H$8","v":0},{"$f":"AW21/$I$8","v":0},{"$f":"AS23","v":266},{"$f":"AS24","v":223.97835125335862},{"$f":"AZ21/$D$8","v":{"$error":"#REF!"}},{"$f":"BA21/$E$8","v":{"$error":"#REF!"}},{"$f":"BB21/$F$8","v":{"$error":"#REF!"}},{"$f":"BC21/$G$8","v":{"$error":"#REF!"}},{"$f":"BD21/$H$8","v":{"$error":"#REF!"}},{"$f":"BE21/$I$8","v":{"$error":"#REF!"}},{"$f":"AVERAGE(BA23:BC23)","v":{"$error":"#REF!"}},{"$f":"STDEV(BA23:BC23)","v":{"$error":"#REF!"}}]
[null,null,"stdev",{"$f":"D22/$D$8","v":{"$error":"#DIV/0!"}},{"$f":"E22/$E$8","v":{"$error":"#DIV/0!"}},{"$f":"F22/$F$8","v":{"$error":"#DIV/0!"}},{"$f":"G22/$G$8","v":{"$error":"#DIV/0!"}},{"$f":"H22/$H$8","v":91077.1685602788},{"$f":"I22/$I$8","v":284760.72887611523},null,null,{"$f":"L22/$D$8","v":{"$error":"#DIV/0!"}},{"$f":"M22/$E$8","v":{"$error":"#DIV/0!"}},{"$f":"N22/$F$8","v":{"$error":"#DIV/0!"}},{"$f":"O22/$G$8","v":{"$error":"#DIV/0!"}},{"$f":"P22/$H$8","v":{"$error":"#DIV/0!"}},{"$f":"Q22/$I$8","v":{"$error":"#DIV/0!"}},null,null,{"$f":"T22/$D$8","v":{"$error":"#DIV/0!"}},{"$f":"U22/$E$8","v":{"$error":"#DIV/0!"}},{"$f":"V22/$F$8","v":{"$error":"#DIV/0!"}},{"$f":"W22/$G$8","v":{"$error":"#DIV/0!"}},{"$f":"X22/$H$8","v":{"$error":"#DIV/0!"}},{"$f":"Y22/$I$8","v":{"$error":"#DIV/0!"}},null,null,{"$f":"AB22/$D$8","v":{"$error":"#DIV/0!"}},{"$f":"AC22/$E$8","v":{"$error":"#DIV/0!"}},{"$f":"AD22/$F$8","v":1710.7176974141714},{"$f":"AE22/$G$8","v":5009.661606565313},{"$f":"AF22/$H$8","v":17888.543819998315},{"$f":"AG22/$I$8","v":0},null,null,{"$f":"AJ22/$D$8","v":{"$error":"#DIV/0!"}},{"$f":"AK22/$E$8","v":368.8530950271907},{"$f":"AL22/$F$8","v":683.0510771945602},{"$f":"AM22/$G$8","v":3368.138127356006},{"$f":"AN22/$H$8","v":0},{"$f":"AO22/$I$8","v":0},null,null,{"$f":"AR22/$D$8","v":{"$error":"#DIV/0!"}},{"$f":"AS22/$E$8","v":223.97835125335862},{"$f":"AT22/$F$8","v":514.5275825596474},{"$f":"AU22/$G$8","v":994.936153005124},{"$f":"AV22/$H$8","v":0},{"$f":"AW22/$I$8","v":0},null,null,{"$f":"AZ22/$D$8","v":{"$error":"#REF!"}},{"$f":"BA22/$E$8","v":{"$error":"#REF!"}},{"$f":"BB22/$F$8","v":{"$error":"#REF!"}},{"$f":"BC22/$G$8","v":{"$error":"#REF!"}},{"$f":"BD22/$H$8","v":{"$error":"#REF!"}},{"$f":"BE22/$I$8","v":{"$error":"#REF!"}}]
[null,"2213F A","p+0",{"$f":"'Survivalexp RAW 30May-..Jun'!I32","v":{"$error":"#DIV/0!"}},{"$f":"'Survivalexp RAW 30May-..Jun'!P32","v":{"$error":"#DIV/0!"}},{"$f":"'Survivalexp RAW 30May-..Jun'!W32","v":{"$error":"#DIV/0!"}},{"$f":"'Survivalexp RAW 30May-..Jun'!AD32","v":{"v":41.43333333333333,"d":"41"}},{"$f":"'Survivalexp RAW 30May-..Jun'!AK32","v":{"v":7.466666666666666,"d":"7"}},{"$f":"'Survivalexp RAW 30May-..Jun'!AR32","v":{"v":0.8666666666666667,"d":"1"}},null,null,{"$f":"'Survivalexp RAW 30May-..Jun'!I76","v":{"$error":"#DIV/0!"}},{"$f":"'Survivalexp RAW 30May-..Jun'!P76","v":{"$error":"#DIV/0!"}},{"$f":"'Survivalexp RAW 30May-..Jun'!W76","v":{"$error":"#DIV/0!"}},{"$f":"'Survivalexp RAW 30May-..Jun'!AD76","v":{"$error":"#DIV/0!"}},{"$f":"'Survivalexp RAW 30May-..Jun'!AK76","v":{"$error":"#DIV/0!"}},{"$f":"'Survivalexp RAW 30May-..Jun'!AR76","v":{"v":38.53333333333334,"d":"39"}},null,null,{"$f":"'Survivalexp RAW 30May-..Jun'!I120","v":{"$error":"#DIV/0!"}},{"$f":"'Survivalexp RAW 30May-..Jun'!P120","v":{"$error":"#DIV/0!"}},{"$f":"'Survivalexp RAW 30May-..Jun'!W120","v":{"$error":"#DIV/0!"}},{"$f":"'Survivalexp RAW 30May-..Jun'!AD120","v":{"$error":"#DIV/0!"}},{"$f":"'Survivalexp RAW 30May-..Jun'!AK120","v":{"v":48.8,"d":"49"}},{"$f":"'Survivalexp RAW 30May-..Jun'!AR120","v":{"v":7.066666666666666,"d":"7"}},null,null,{"$f":"'Survivalexp RAW 30May-..Jun'!I164","v":{"$error":"#DIV/0!"}},{"$f":"'Survivalexp RAW 30May-..Jun'!P164","v":{"$error":"#DIV/0!"}},{"$f":"'Survivalexp RAW 30May-..Jun'!W164","v":{"v":55.53333333333334,"d":"56"}},{"$f":"'Survivalexp RAW 30May-..Jun'!AD164","v":{"v":5.8,"d":"6"}},{"$f":"'Survivalexp RAW 30May-..Jun'!AK164","v":1},{"$f":"'Survivalexp RAW 30May-..Jun'!AR164","v":{"v":0.06666666666666667,"d":"0"}},null,null,{"$f":"'Survivalexp RAW 30May-..Jun'!I208","v":{"$error":"#DIV/0!"}},{"$f":"'Survivalexp RAW 30May-..Jun'!P208","v":{"$error":"#DIV/0!"}},{"$f":"'Survivalexp RAW 30May-..Jun'!W208","v":{"v":15.28888888888889,"d":"15"}},{"$f":"'Survivalexp RAW 30May-..Jun'!AD208","v":{"v":2.6666666666666665,"d":"3"}},{"$f":"'Survivalexp RAW 30May-..Jun'!AK208","v":{"v":0.06666666666666667,"d":"0"}},{"$f":"'Survivalexp RAW 30May-..Jun'!AR208","v":{"v":0.06666666666666667,"d":"0"}},null,null,{"$f":"'Survivalexp RAW 30May-..Jun'!I244","v":{"$error":"#DIV/0!"}},{"$f":"'Survivalexp RAW 30May-..Jun'!P244","v":{"v":40.06666666666667,"d":"40"}},{"$f":"'Survivalexp RAW 30May-..Jun'!W244","v":{"v":5.2,"d":"5"}},{"$f":"'Survivalexp RAW 30May-..Jun'!AD244","v":{"v":0.20000000000000004,"d":"0"}},{"$f":"'Survivalexp RAW 30May-..Jun'!AK244","v":0},{"$f":"'Survivalexp RAW 30May-..Jun'!AR244","v":0},null,null,{"$f":"'Survivalexp RAW 30May-..Jun'!I266","v":{"$error":"#DIV/0!"}},{"$f":"'Survivalexp RAW 30May-..Jun'!P266","v":18},{"$f":"'Survivalexp RAW 30May-..Jun'!W266","v":1.5999999999999999},{"$f":"'Survivalexp RAW 30May-..Jun'!AD266","v":0},{"$f":"'Survivalexp RAW 30May-..Jun'!AK266","v":0},{"$f":"'Survivalexp RAW 30May-..Jun'!AR266","v":0}]
[null,null,"stdev",{"$f":"'Survivalexp RAW 30May-..Jun'!I33","v":{"$error":"#DIV/0!"}},{"$f":"'Survivalexp RAW 30May-..Jun'!P33","v":{"$error":"#DIV/0!"}},{"$f":"'Survivalexp RAW 30May-..Jun'!W33","v":{"$error":"#DIV/0!"}},{"$f":"'Survivalexp RAW 30May-..Jun'!AD33","v":{"v":14.903346976339979,"d":"15"}},{"$f":"'Survivalexp RAW 30May-..Jun'!AK33","v":{"v":4.623153892129164,"d":"5"}},{"$f":"'Survivalexp RAW 30May-..Jun'!AR33","v":{"v":2.221042610573317,"d":"2"}},null,null,{"$f":"'Survivalexp RAW 30May-..Jun'!I77","v":{"$error":"#DIV/0!"}},{"$f":"'Survivalexp RAW 30May-..Jun'!P77","v":{"$error":"#DIV/0!"}},{"$f":"'Survivalexp RAW 30May-..Jun'!W77","v":{"$error":"#DIV/0!"}},{"$f":"'Survivalexp RAW 30May-..Jun'!AD77","v":{"$error":"#DIV/0!"}},{"$f":"'Survivalexp RAW 30May-..Jun'!AK77","v":{"$error":"#DIV/0!"}},{"$f":"'Survivalexp RAW 30May-..Jun'!AR77","v":0},null,null,{"$f":"'Survivalexp RAW 30May-..Jun'!I121","v":{"$error":"#DIV/0!"}},{"$f":"'Survivalexp RAW 30May-..Jun'!P121","v":{"$error":"#DIV/0!"}},{"$f":"'Survivalexp RAW 30May-..Jun'!W121","v":{"$error":"#DIV/0!"}},{"$f":"'Survivalexp RAW 30May-..Jun'!AD121","v":{"$error":"#DIV/0!"}},{"$f":"'Survivalexp RAW 30May-..Jun'!AK121","v":{"$error":"#DIV/0!"}},{"$f":"'Survivalexp RAW 30May-..Jun'!AR121","v":{"v":9.876063167397241,"d":"10"}},null,null,{"$f":"'Survivalexp RAW 30May-..Jun'!I165","v":{"$error":"#DIV/0!"}},{"$f":"'Survivalexp RAW 30May-..Jun'!P165","v":{"$error":"#DIV/0!"}},{"$f":"'Survivalexp RAW 30May-..Jun'!W165","v":{"v":14.475950013469376,"d":"14"}},{"$f":"'Survivalexp RAW 30May-..Jun'!AD165","v":{"v":6.117307207829672,"d":"6"}},{"$f":"'Survivalexp RAW 30May-..Jun'!AK165","v":{"v":2.2838736220340334,"d":"2"}},{"$f":"'Survivalexp RAW 30May-..Jun'!AR165","v":{"v":0.4472135954999579,"d":"0"}},null,null,{"$f":"'Survivalexp RAW 30May-..Jun'!I209","v":{"$error":"#DIV/0!"}},{"$f":"'Survivalexp RAW 30May-..Jun'!P209","v":{"$error":"#DIV/0!"}},{"$f":"'Survivalexp RAW 30May-..Jun'!W209","v":{"v":15.708187215150229,"d":"16"}},{"$f":"'Survivalexp RAW 30May-..Jun'!AD209","v":{"v":11.98361301714817,"d":"12"}},{"$f":"'Survivalexp RAW 30May-..Jun'!AK209","v":{"v":0.4472135954999579,"d":"0"}},{"$f":"'Survivalexp RAW 30May-..Jun'!AR209","v":{"v":0.4472135954999579,"d":"0"}},null,null,{"$f":"'Survivalexp RAW 30May-..Jun'!I245","v":{"$error":"#DIV/0!"}},{"$f":"'Survivalexp RAW 30May-..Jun'!P245","v":{"v":20.489637074482474,"d":"20"}},{"$f":"'Survivalexp RAW 30May-..Jun'!W245","v":{"v":5.55369375086402,"d":"6"}},{"$f":"'Survivalexp RAW 30May-..Jun'!AD245","v":{"v":0.994936153005124,"d":"1"}},{"$f":"'Survivalexp RAW 30May-..Jun'!AK245","v":0},{"$f":"'Survivalexp RAW 30May-..Jun'!AR245","v":0},null,null,{"$f":"'Survivalexp RAW 30May-..Jun'!I267","v":{"$error":"#DIV/0!"}},{"$f":"'Survivalexp RAW 30May-..Jun'!P267","v":13.42652330029812},{"$f":"'Survivalexp RAW 30May-..Jun'!W267","v":2.812133891990685},{"$f":"'Survivalexp RAW 30May-..Jun'!AD267","v":0},{"$f":"'Survivalexp RAW 30May-..Jun'!AK267","v":0},{"$f":"'Survivalexp RAW 30May-..Jun'!AR267","v":0}]
[null,"est. nr of bacteria",null,{"$f":"D25/$D$8","v":{"$error":"#DIV/0!"}},{"$f":"E25/$E$8","v":{"$error":"#DIV/0!"}},{"$f":"F25/$F$8","v":{"$error":"#DIV/0!"}},{"$f":"G25/$G$8","v":41433.33333333333},{"$f":"H25/$H$8","v":74666.66666666666},{"$f":"I25/$I$8","v":86666.66666666666},{"$f":"G27","v":41433.33333333333},{"$f":"G28","v":14903.346976339979},{"$f":"L25/$D$8","v":{"$error":"#DIV/0!"}},{"$f":"M25/$E$8","v":{"$error":"#DIV/0!"}},{"$f":"N25/$F$8","v":{"$error":"#DIV/0!"}},{"$f":"O25/$G$8","v":{"$error":"#DIV/0!"}},{"$f":"P25/$H$8","v":{"$error":"#DIV/0!"}},{"$f":"Q25/$I$8","v":3853333.3333333335},{"$f":"Q27","v":3853333.3333333335},{"$f":"Q28","v":0},{"$f":"T25/$D$8","v":{"$error":"#DIV/0!"}},{"$f":"U25/$E$8","v":{"$error":"#DIV/0!"}},{"$f":"V25/$F$8","v":{"$error":"#DIV/0!"}},{"$f":"W25/$G$8","v":{"$error":"#DIV/0!"}},{"$f":"X25/$H$8","v":487999.99999999994},{"$f":"Y25/$I$8","v":706666.6666666666},{"$f":"Y27","v":706666.6666666666},{"$f":"Y28","v":987606.316739724},{"$f":"AB25/$D$8","v":{"$error":"#DIV/0!"}},{"$f":"AC25/$E$8","v":{"$error":"#DIV/0!"}},{"$f":"AD25/$F$8","v":5553.333333333334},{"$f":"AE25/$G$8","v":5800},{"$f":"AF25/$H$8","v":10000},{"$f":"AG25/$I$8","v":6666.666666666666},{"$f":"AD27","v":5553.333333333334},{"$f":"AD28","v":1447.5950013469376},{"$f":"AJ25/$D$8","v":{"$error":"#DIV/0!"}},{"$f":"AK25/$E$8","v":{"$error":"#DIV/0!"}},{"$f":"AL25/$F$8","v":1528.888888888889},{"$f":"AM25/$G$8","v":2666.6666666666665},{"$f":"AN25/$H$8","v":666.6666666666666},{"$f":"AO25/$I$8","v":6666.666666666666},{"$f":"AL27","v":1528.888888888889},{"$f":"AL28","v":{"v":1570.8187215150228,"d":"1571"}},{"$f":"AR25/$D$8","v":{"$error":"#DIV/0!"}},{"$f":"AS25/$E$8","v":400.6666666666667},{"$f":"AT25/$F$8","v":520},{"$f":"AU25/$G$8","v":200.00000000000003},{"$f":"AV25/$H$8","v":0},{"$f":"AW25/$I$8","v":0},{"$f":"AS27","v":400.6666666666667},{"$f":"AS28","v":204.89637074482474},{"$f":"AZ25/$D$8","v":{"$error":"#DIV/0!"}},{"$f":"BA25/$E$8","v":180},{"$f":"BB25/$F$8","v":159.99999999999997},{"$f":"BC25/$G$8","v":0},{"$f":"BD25/$H$8","v":0},{"$f":"BE25/$I$8","v":0},{"$f":"BA27","v":180},{"$f":"BA28","v":134.2652330029812}]
[null,null,"stdev",{"$f":"D26/$D$8","v":{"$error":"#DIV/0!"}},{"$f":"E26/$E$8","v":{"$error":"#DIV/0!"}},{"$f":"F26/$F$8","v":{"$error":"#DIV/0!"}},{"$f":"G26/$G$8","v":14903.346976339979},{"$f":"H26/$H$8","v":46231.538921291634},{"$f":"I26/$I$8","v":222104.2610573317},null,null,{"$f":"L26/$D$8","v":{"$error":"#DIV/0!"}},{"$f":"M26/$E$8","v":{"$error":"#DIV/0!"}},{"$f":"N26/$F$8","v":{"$error":"#DIV/0!"}},{"$f":"O26/$G$8","v":{"$error":"#DIV/0!"}},{"$f":"P26/$H$8","v":{"$error":"#DIV/0!"}},{"$f":"Q26/$I$8","v":0},null,null,{"$f":"T26/$D$8","v":{"$error":"#DIV/0!"}},{"$f":"U26/$E$8","v":{"$error":"#DIV/0!"}},{"$f":"V26/$F$8","v":{"$error":"#DIV/0!"}},{"$f":"W26/$G$8","v":{"$error":"#DIV/0!"}},{"$f":"X26/$H$8","v":{"$error":"#DIV/0!"}},{"$f":"Y26/$I$8","v":987606.316739724},null,null,{"$f":"AB26/$D$8","v":{"$error":"#DIV/0!"}},{"$f":"AC26/$E$8","v":{"$error":"#DIV/0!"}},{"$f":"AD26/$F$8","v":1447.5950013469376},{"$f":"AE26/$G$8","v":6117.307207829672},{"$f":"AF26/$H$8","v":22838.73622034033},{"$f":"AG26/$I$8","v":44721.35954999579},null,null,{"$f":"AJ26/$D$8","v":{"$error":"#DIV/0!"}},{"$f":"AK26/$E$8","v":{"$error":"#DIV/0!"}},{"$f":"AL26/$F$8","v":1570.8187215150228},{"$f":"AM26/$G$8","v":11983.61301714817},{"$f":"AN26/$H$8","v":4472.135954999579},{"$f":"AO26/$I$8","v":44721.35954999579},null,null,{"$f":"AR26/$D$8","v":{"$error":"#DIV/0!"}},{"$f":"AS26/$E$8","v":204.89637074482474},{"$f":"AT26/$F$8","v":555.369375086402},{"$f":"AU26/$G$8","v":994.936153005124},{"$f":"AV26/$H$8","v":0},{"$f":"AW26/$I$8","v":0},null,null,{"$f":"AZ26/$D$8","v":{"$error":"#DIV/0!"}},{"$f":"BA26/$E$8","v":134.2652330029812},{"$f":"BB26/$F$8","v":281.2133891990685},{"$f":"BC26/$G$8","v":0},{"$f":"BD26/$H$8","v":0},{"$f":"BE26/$I$8","v":0}]
[null,null,"p+3",{"$f":"'Survivalexp RAW 30May-..Jun'!I37","v":{"$error":"#DIV/0!"}},{"$f":"'Survivalexp RAW 30May-..Jun'!P37","v":{"$error":"#DIV/0!"}},{"$f":"'Survivalexp RAW 30May-..Jun'!W37","v":{"$error":"#DIV/0!"}},{"$f":"'Survivalexp RAW 30May-..Jun'!AD37","v":{"$error":"#DIV/0!"}},{"$f":"'Survivalexp RAW 30May-..Jun'!AK37","v":{"v":4.333333333333333,"d":"4"}},{"$f":"'Survivalexp RAW 30May-..Jun'!AR37","v":{"v":0.5333333333333333,"d":"1"}},null,null,{"$f":"'Survivalexp RAW 30May-..Jun'!I81","v":{"$error":"#DIV/0!"}},{"$f":"'Survivalexp RAW 30May-..Jun'!P81","v":{"$error":"#DIV/0!"}},{"$f":"'Survivalexp RAW 30May-..Jun'!W81","v":{"$error":"#DIV/0!"}},{"$f":"'Survivalexp RAW 30May-..Jun'!AD81","v":{"$error":"#DIV/0!"}},{"$f":"'Survivalexp RAW 30May-..Jun'!AK81","v":{"$error":"#DIV/0!"}},{"$f":"'Survivalexp RAW 30May-..Jun'!AR81","v":{"v":47.333333333333336,"d":"47"}},null,null,{"$f":"'Survivalexp RAW 30May-..Jun'!I125","v":{"$error":"#DIV/0!"}},{"$f":"'Survivalexp RAW 30May-..Jun'!P125","v":{"$error":"#DIV/0!"}},{"$f":"'Survivalexp RAW 30May-..Jun'!W125","v":{"$error":"#DIV/0!"}},{"$f":"'Survivalexp RAW 30May-..Jun'!AD125","v":{"$error":"#DIV/0!"}},{"$f":"'Survivalexp RAW 30May-..Jun'!AK125","v":{"$error":"#DIV/0!"}},{"$f":"'Survivalexp RAW 30May-..Jun'!AR125","v":{"v":16.299999999999997,"d":"16"}},null,null,{"$f":"'Survivalexp RAW 30May-..Jun'!I169","v":{"$error":"#DIV/0!"}},{"$f":"'Survivalexp RAW 30May-..Jun'!P169","v":{"$error":"#DIV/0!"}},{"$f":"'Survivalexp RAW 30May-..Jun'!W169","v":{"v":42.13333333333333,"d":"42"}},{"$f":"'Survivalexp RAW 30May-..Jun'!AD169","v":{"v":5.066666666666666,"d":"5"}},{"$f":"'Survivalexp RAW 30May-..Jun'!AK169","v":{"v":0.8000000000000002,"d":"1"}},{"$f":"'Survivalexp RAW 30May-..Jun'!AR169","v":{"v":0.06666666666666667,"d":"0"}},null,null,{"$f":"'Survivalexp RAW 30May-..Jun'!I213","v":{"$error":"#DIV/0!"}},{"$f":"'Survivalexp RAW 30May-..Jun'!P213","v":{"v":45.73333333333333,"d":"46"}},{"$f":"'Survivalexp RAW 30May-..Jun'!W213","v":{"v":7.866666666666667,"d":"8"}},{"$f":"'Survivalexp RAW 30May-..Jun'!AD213","v":{"v":0.7333333333333333,"d":"1"}},{"$f":"'Survivalexp RAW 30May-..Jun'!AK213","v":{"v":0.13333333333333333,"d":"0"}},{"$f":"'Survivalexp RAW 30May-..Jun'!AR213","v":0},null,null,{"$f":"'Survivalexp RAW 30May-..Jun'!I249","v":{"$error":"#DIV/0!"}},{"$f":"'Survivalexp RAW 30May-..Jun'!P249","v":{"v":43.93333333333334,"d":"44"}},{"$f":"'Survivalexp RAW 30May-..Jun'!W249","v":{"v":5.333333333333333,"d":"5"}},{"$f":"'Survivalexp RAW 30May-..Jun'!AD249","v":{"v":0.26666666666666666,"d":"0"}},{"$f":"'Survivalexp RAW 30May-..Jun'!AK249","v":0},{"$f":"'Survivalexp RAW 30May-..Jun'!AR249","v":0},null,null,{"$f":"'Survivalexp RAW 30May-..Jun'!I271","v":{"$error":"#DIV/0!"}},{"$f":"'Survivalexp RAW 30May-..Jun'!P271","v":16.73333333333333},{"$f":"'Survivalexp RAW 30May-..Jun'!W271","v":0.7999999999999999},{"$f":"'Survivalexp RAW 30May-..Jun'!AD271","v":0.26666666666666666},{"$f":"'Survivalexp RAW 30May-..Jun'!AK271","v":0},{"$f":"'Survivalexp RAW 30May-..Jun'!AR271","v":0}]
[null,null,"stdev",{"$f":"'Survivalexp RAW 30May-..Jun'!I38","v":{"$error":"#DIV/0!"}},{"$f":"'Survivalexp RAW 30May-..Jun'!P38","v":{"$error":"#DIV/0!"}},{"$f":"'Survivalexp RAW 30May-..Jun'!W38","v":{"$error":"#DIV/0!"}},{"$f":"'Survivalexp RAW 30May-..Jun'!AD38","v":{"$error":"#DIV/0!"}},{"$f":"'Survivalexp RAW 30May-..Jun'!AK38","v":{"v":4.160246899469287,"d":"4"}},{"$f":"'Survivalexp RAW 30May-..Jun'!AR38","v":{"v":2.7837905350049557,"d":"3"}},null,null,{"$f":"'Survivalexp RAW 30May-..Jun'!I82","v":{"$error":"#DIV/0!"}},{"$f":"'Survivalexp RAW 30May-..Jun'!P82","v":{"$error":"#DIV/0!"}},{"$f":"'Survivalexp RAW 30May-..Jun'!W82","v":{"$error":"#DIV/0!"}},{"$f":"'Survivalexp RAW 30May-..Jun'!AD82","v":{"$error":"#DIV/0!"}},{"$f":"'Survivalexp RAW 30May-..Jun'!AK82","v":{"$error":"#DIV/0!"}},{"$f":"'Survivalexp RAW 30May-..Jun'!AR82","v":0},null,null,{"$f":"'Survivalexp RAW 30May-..Jun'!I126","v":{"$error":"#DIV/0!"}},{"$f":"'Survivalexp RAW 30May-..Jun'!P126","v":{"$error":"#DIV/0!"}},{"$f":"'Survivalexp RAW 30May-..Jun'!W126","v":{"$error":"#DIV/0!"}},{"$f":"'Survivalexp RAW 30May-..Jun'!AD126","v":{"$error":"#DIV/0!"}},{"$f":"'Survivalexp RAW 30May-..Jun'!AK126","v":{"$error":"#DIV/0!"}},{"$f":"'Survivalexp RAW 30May-..Jun'!AR126","v":{"$error":"#DIV/0!"}},null,null,{"$f":"'Survivalexp RAW 30May-..Jun'!I170","v":{"$error":"#DIV/0!"}},{"$f":"'Survivalexp RAW 30May-..Jun'!P170","v":{"$error":"#DIV/0!"}},{"$f":"'Survivalexp RAW 30May-..Jun'!W170","v":{"v":12.24700903693672,"d":"12"}},{"$f":"'Survivalexp RAW 30May-..Jun'!AD170","v":{"v":5.407725632106575,"d":"5"}},{"$f":"'Survivalexp RAW 30May-..Jun'!AK170","v":{"v":3.0926948630403612,"d":"3"}},{"$f":"'Survivalexp RAW 30May-..Jun'!AR170","v":{"v":0.4472135954999579,"d":"0"}},null,null,{"$f":"'Survivalexp RAW 30May-..Jun'!I214","v":{"$error":"#DIV/0!"}},{"$f":"'Survivalexp RAW 30May-..Jun'!P214","v":{"v":23.78382252317524,"d":"24"}},{"$f":"'Survivalexp RAW 30May-..Jun'!W214","v":{"v":18.23987100836391,"d":"18"}},{"$f":"'Survivalexp RAW 30May-..Jun'!AD214","v":{"v":2.73861278752583,"d":"3"}},{"$f":"'Survivalexp RAW 30May-..Jun'!AK214","v":{"v":0.5477225575051661,"d":"1"}},{"$f":"'Survivalexp RAW 30May-..Jun'!AR214","v":0},null,null,{"$f":"'Survivalexp RAW 30May-..Jun'!I250","v":{"$error":"#DIV/0!"}},{"$f":"'Survivalexp RAW 30May-..Jun'!P250","v":{"v":9.95241698705289,"d":"10"}},{"$f":"'Survivalexp RAW 30May-..Jun'!W250","v":{"v":3.014960839568025,"d":"3"}},{"$f":"'Survivalexp RAW 30May-..Jun'!AD250","v":{"v":1.7888543819998317,"d":"2"}},{"$f":"'Survivalexp RAW 30May-..Jun'!AK250","v":0},{"$f":"'Survivalexp RAW 30May-..Jun'!AR250","v":0},null,null,{"$f":"'Survivalexp RAW 30May-..Jun'!I272","v":{"$error":"#DIV/0!"}},{"$f":"'Survivalexp RAW 30May-..Jun'!P272","v":8.716873981752634},{"$f":"'Survivalexp RAW 30May-..Jun'!W272","v":2.8944271909999157},{"$f":"'Survivalexp RAW 30May-..Jun'!AD272","v":1.7888543819998317},{"$f":"'Survivalexp RAW 30May-..Jun'!AK272","v":0},{"$f":"'Survivalexp RAW 30May-..Jun'!AR272","v":0}]
[null,"est. nr of bacteria",null,{"$f":"D29/$D$8","v":{"$error":"#DIV/0!"}},{"$f":"E29/$E$8","v":{"$error":"#DIV/0!"}},{"$f":"F29/$F$8","v":{"$error":"#DIV/0!"}},{"$f":"G29/$G$8","v":{"$error":"#DIV/0!"}},{"$f":"H29/$H$8","v":43333.33333333333},{"$f":"I29/$I$8","v":53333.33333333333},{"$f":"H31","v":43333.33333333333},{"$f":"H32","v":41602.46899469287},{"$f":"L29/$D$8","v":{"$error":"#DIV/0!"}},{"$f":"M29/$E$8","v":{"$error":"#DIV/0!"}},{"$f":"N29/$F$8","v":{"$error":"#DIV/0!"}},{"$f":"O29/$G$8","v":{"$error":"#DIV/0!"}},{"$f":"P29/$H$8","v":{"$error":"#DIV/0!"}},{"$f":"Q29/$I$8","v":4733333.333333333},{"$f":"Q31","v":4733333.333333333},{"$f":"Q32","v":0},{"$f":"T29/$D$8","v":{"$error":"#DIV/0!"}},{"$f":"U29/$E$8","v":{"$error":"#DIV/0!"}},{"$f":"V29/$F$8","v":{"$error":"#DIV/0!"}},{"$f":"W29/$G$8","v":{"$error":"#DIV/0!"}},{"$f":"X29/$H$8","v":{"$error":"#DIV/0!"}},{"$f":"Y29/$I$8","v":1629999.9999999995},{"$f":"Y31","v":1629999.9999999995},{"$f":"Y32","v":{"$error":"#DIV/0!"}},{"$f":"AB29/$D$8","v":{"$error":"#DIV/0!"}},{"$f":"AC29/$E$8","v":{"$error":"#DIV/0!"}},{"$f":"AD29/$F$8","v":4213.333333333333},{"$f":"AE29/$G$8","v":5066.666666666666},{"$f":"AF29/$H$8","v":8000.000000000001},{"$f":"AG29/$I$8","v":6666.666666666666},{"$f":"AD31","v":4213.333333333333},{"$f":"AD32","v":1224.700903693672},{"$f":"AJ29/$D$8","v":{"$error":"#DIV/0!"}},{"$f":"AK29/$E$8","v":457.33333333333326},{"$f":"AL29/$F$8","v":786.6666666666667},{"$f":"AM29/$G$8","v":733.3333333333333},{"$f":"AN29/$H$8","v":1333.3333333333333},{"$f":"AO29/$I$8","v":0},{"$f":"AK31","v":457.33333333333326},{"$f":"AK32","v":237.83822523175238},{"$f":"AR29/$D$8","v":{"$error":"#DIV/0!"}},{"$f":"AS29/$E$8","v":439.33333333333337},{"$f":"AT29/$F$8","v":533.3333333333333},{"$f":"AU29/$G$8","v":266.6666666666667},{"$f":"AV29/$H$8","v":0},{"$f":"AW29/$I$8","v":0},{"$f":"AS31","v":439.33333333333337},{"$f":"AS32","v":99.5241698705289},{"$f":"AZ29/$D$8","v":{"$error":"#DIV/0!"}},{"$f":"BA29/$E$8","v":167.3333333333333},{"$f":"BB29/$F$8","v":79.99999999999999},{"$f":"BC29/$G$8","v":266.6666666666667},{"$f":"BD29/$H$8","v":0},{"$f":"BE29/$I$8","v":0},{"$f":"BA31","v":167.3333333333333},{"$f":"BA32","v":87.16873981752634}]
[null,null,"stdev",{"$f":"D30/$D$8","v":{"$error":"#DIV/0!"}},{"$f":"E30/$E$8","v":{"$error":"#DIV/0!"}},{"$f":"F30/$F$8","v":{"$error":"#DIV/0!"}},{"$f":"G30/$G$8","v":{"$error":"#DIV/0!"}},{"$f":"H30/$H$8","v":41602.46899469287},{"$f":"I30/$I$8","v":278379.05350049556},null,null,{"$f":"L30/$D$8","v":{"$error":"#DIV/0!"}},{"$f":"M30/$E$8","v":{"$error":"#DIV/0!"}},{"$f":"N30/$F$8","v":{"$error":"#DIV/0!"}},{"$f":"O30/$G$8","v":{"$error":"#DIV/0!"}},{"$f":"P30/$H$8","v":{"$error":"#DIV/0!"}},{"$f":"Q30/$I$8","v":0},null,null,{"$f":"T30/$D$8","v":{"$error":"#DIV/0!"}},{"$f":"U30/$E$8","v":{"$error":"#DIV/0!"}},{"$f":"V30/$F$8","v":{"$error":"#DIV/0!"}},{"$f":"W30/$G$8","v":{"$error":"#DIV/0!"}},{"$f":"X30/$H$8","v":{"$error":"#DIV/0!"}},{"$f":"Y30/$I$8","v":{"$error":"#DIV/0!"}},null,null,{"$f":"AB30/$D$8","v":{"$error":"#DIV/0!"}},{"$f":"AC30/$E$8","v":{"$error":"#DIV/0!"}},{"$f":"AD30/$F$8","v":1224.700903693672},{"$f":"AE30/$G$8","v":5407.725632106575},{"$f":"AF30/$H$8","v":30926.94863040361},{"$f":"AG30/$I$8","v":44721.35954999579},null,null,{"$f":"AJ30/$D$8","v":{"$error":"#DIV/0!"}},{"$f":"AK30/$E$8","v":237.83822523175238},{"$f":"AL30/$F$8","v":1823.987100836391},{"$f":"AM30/$G$8","v":2738.6127875258303},{"$f":"AN30/$H$8","v":5477.225575051661},{"$f":"AO30/$I$8","v":0},null,null,{"$f":"AR30/$D$8","v":{"$error":"#DIV/0!"}},{"$f":"AS30/$E$8","v":99.5241698705289},{"$f":"AT30/$F$8","v":301.4960839568025},{"$f":"AU30/$G$8","v":1788.8543819998317},{"$f":"AV30/$H$8","v":0},{"$f":"AW30/$I$8","v":0},null,null,{"$f":"AZ30/$D$8","v":{"$error":"#DIV/0!"}},{"$f":"BA30/$E$8","v":87.16873981752634},{"$f":"BB30/$F$8","v":289.44271909999156},{"$f":"BC30/$G$8","v":1788.8543819998317},{"$f":"BD30/$H$8","v":0},{"$f":"BE30/$I$8","v":0}]
[null,"2213F APR","p+0",{"$f":"'Survivalexp RAW 30May-..Jun'!I42","v":{"$error":"#DIV/0!"}},{"$f":"'Survivalexp RAW 30May-..Jun'!P42","v":{"$error":"#DIV/0!"}},{"$f":"'Survivalexp RAW 30May-..Jun'!W42","v":{"$error":"#DIV/0!"}},{"$f":"'Survivalexp RAW 30May-..Jun'!AD42","v":{"$error":"#DIV/0!"}},{"$f":"'Survivalexp RAW 30May-..Jun'!AK42","v":{"v":3.4166666666666665,"d":"3"}},{"$f":"'Survivalexp RAW 30May-..Jun'!AR42","v":{"v":0.4666666666666666,"d":"0"}},null,null,{"$f":"'Survivalexp RAW 30May-..Jun'!I86","v":{"$error":"#DIV/0!"}},{"$f":"'Survivalexp RAW 30May-..Jun'!P86","v":{"$error":"#DIV/0!"}},{"$f":"'Survivalexp RAW 30May-..Jun'!W86","v":{"$error":"#DIV/0!"}},{"$f":"'Survivalexp RAW 30May-..Jun'!AD86","v":{"$error":"#DIV/0!"}},{"$f":"'Survivalexp RAW 30May-..Jun'!AK86","v":{"$error":"#DIV/0!"}},{"$f":"'Survivalexp RAW 30May-..Jun'!AR86","v":{"v":55.06666666666666,"d":"55"}},null,null,{"$f":"'Survivalexp RAW 30May-..Jun'!I130","v":{"$error":"#DIV/0!"}},{"$f":"'Survivalexp RAW 30May-..Jun'!P130","v":{"$error":"#DIV/0!"}},{"$f":"'Survivalexp RAW 30May-..Jun'!W130","v":{"$error":"#DIV/0!"}},{"$f":"'Survivalexp RAW 30May-..Jun'!AD130","v":{"$error":"#DIV/0!"}},{"$f":"'Survivalexp RAW 30May-..Jun'!AK130","v":106},{"$f":"'Survivalexp RAW 30May-..Jun'!AR130","v":{"v":17.2,"d":"17"}},null,null,{"$f":"'Survivalexp RAW 30May-..Jun'!I174","v":{"$error":"#DIV/0!"}},{"$f":"'Survivalexp RAW 30May-..Jun'!P174","v":{"$error":"#DIV/0!"}},{"$f":"'Survivalexp RAW 30May-..Jun'!W174","v":{"$error":"#DIV/0!"}},{"$f":"'Survivalexp RAW 30May-..Jun'!AD174","v":{"$error":"#DIV/0!"}},{"$f":"'Survivalexp RAW 30May-..Jun'!AK174","v":{"v":42.06666666666667,"d":"42"}},{"$f":"'Survivalexp RAW 30May-..Jun'!AR174","v":{"v":4.666666666666667,"d":"5"}},null,null,{"$f":"'Survivalexp RAW 30May-..Jun'!I218","v":{"$error":"#DIV/0!"}},{"$f":"'Survivalexp RAW 30May-..Jun'!P218","v":{"$error":"#DIV/0!"}},{"$f":"'Survivalexp RAW 30May-..Jun'!W218","v":{"$error":"#DIV/0!"}},{"$f":"'Survivalexp RAW 30May-..Jun'!AD218","v":79},{"$f":"'Survivalexp RAW 30May-..Jun'!AK218","v":{"v":19.133333333333333,"d":"19"}},{"$f":"'Survivalexp RAW 30May-..Jun'!AR218","v":{"v":1.9333333333333333,"d":"2"}},null,null,{"$f":"'Survivalexp RAW 30May-..Jun'!I254","v":{"$error":"#DIV/0!"}},{"$f":"'Survivalexp RAW 30May-..Jun'!P254","v":{"$error":"#DIV/0!"}},{"$f":"'Survivalexp RAW 30May-..Jun'!W254","v":{"$error":"#DIV/0!"}},{"$f":"'Survivalexp RAW 30May-..Jun'!AD254","v":{"v":42.199999999999996,"d":"42"}},{"$f":"'Survivalexp RAW 30May-..Jun'!AK254","v":{"v":8.4,"d":"8"}},{"$f":"'Survivalexp RAW 30May-..Jun'!AR254","v":{"v":0.8000000000000002,"d":"1"}},null,null,{"$f":"'Survivalexp RAW 30May-..Jun'!I276","v":{"$error":"#DIV/0!"}},{"$f":"'Survivalexp RAW 30May-..Jun'!P276","v":{"$error":"#DIV/0!"}},{"$f":"'Survivalexp RAW 30May-..Jun'!W276","v":29.866666666666664},{"$f":"'Survivalexp RAW 30May-..Jun'!AD276","v":1.9333333333333336},{"$f":"'Survivalexp RAW 30May-..Jun'!AK276","v":0.6666666666666666},{"$f":"'Survivalexp RAW 30May-..Jun'!AR276","v":0}]
[null,null,"stdev",{"$f":"'Survivalexp RAW 30May-..Jun'!I43","v":{"$error":"#DIV/0!"}},{"$f":"'Survivalexp RAW 30May-..Jun'!P43","v":{"$error":"#DIV/0!"}},{"$f":"'Survivalexp RAW 30May-..Jun'!W43","v":{"$error":"#DIV/0!"}},{"$f":"'Survivalexp RAW 30May-..Jun'!AD43","v":{"$error":"#DIV/0!"}},{"$f":"'Survivalexp RAW 30May-..Jun'!AK43","v":{"v":3.5651080698373976,"d":"4"}},{"$f":"'Survivalexp RAW 30May-..Jun'!AR43","v":{"v":1.6431676725154982,"d":"2"}},null,null,{"$f":"'Survivalexp RAW 30May-..Jun'!I87","v":{"$error":"#DIV/0!"}},{"$f":"'Survivalexp RAW 30May-..Jun'!P87","v":{"$error":"#DIV/0!"}},{"$f":"'Survivalexp RAW 30May-..Jun'!W87","v":{"$error":"#DIV/0!"}},{"$f":"'Survivalexp RAW 30May-..Jun'!AD87","v":{"$error":"#DIV/0!"}},{"$f":"'Survivalexp RAW 30May-..Jun'!AK87","v":{"$error":"#DIV/0!"}},{"$f":"'Survivalexp RAW 30May-..Jun'!AR87","v":0},null,null,{"$f":"'Survivalexp RAW 30May-..Jun'!I131","v":{"$error":"#DIV/0!"}},{"$f":"'Survivalexp RAW 30May-..Jun'!P131","v":{"$error":"#DIV/0!"}},{"$f":"'Survivalexp RAW 30May-..Jun'!W131","v":{"$error":"#DIV/0!"}},{"$f":"'Survivalexp RAW 30May-..Jun'!AD131","v":{"$error":"#DIV/0!"}},{"$f":"'Survivalexp RAW 30May-..Jun'!AK131","v":{"$error":"#DIV/0!"}},{"$f":"'Survivalexp RAW 30May-..Jun'!AR131","v":{"v":18.159440732216197,"d":"18"}},null,null,{"$f":"'Survivalexp RAW 30May-..Jun'!I175","v":{"$error":"#DIV/0!"}},{"$f":"'Survivalexp RAW 30May-..Jun'!P175","v":{"$error":"#DIV/0!"}},{"$f":"'Survivalexp RAW 30May-..Jun'!W175","v":{"$error":"#DIV/0!"}},{"$f":"'Survivalexp RAW 30May-..Jun'!AD175","v":{"$error":"#DIV/0!"}},{"$f":"'Survivalexp RAW 30May-..Jun'!AK175","v":{"v":19.09504575838247,"d":"19"}},{"$f":"'Survivalexp RAW 30May-..Jun'!AR175","v":{"v":6.489850772474153,"d":"6"}},null,null,{"$f":"'Survivalexp RAW 30May-..Jun'!I219","v":{"$error":"#DIV/0!"}},{"$f":"'Survivalexp RAW 30May-..Jun'!P219","v":{"$error":"#DIV/0!"}},{"$f":"'Survivalexp RAW 30May-..Jun'!W219","v":{"$error":"#DIV/0!"}},{"$f":"'Survivalexp RAW 30May-..Jun'!AD219","v":{"$error":"#DIV/0!"}},{"$f":"'Survivalexp RAW 30May-..Jun'!AK219","v":{"v":9.2276962244449,"d":"9"}},{"$f":"'Survivalexp RAW 30May-..Jun'!AR219","v":{"v":3.635747151201815,"d":"4"}},null,null,{"$f":"'Survivalexp RAW 30May-..Jun'!I255","v":{"$error":"#DIV/0!"}},{"$f":"'Survivalexp RAW 30May-..Jun'!P255","v":{"$error":"#DIV/0!"}},{"$f":"'Survivalexp RAW 30May-..Jun'!W255","v":{"$error":"#DIV/0!"}},{"$f":"'Survivalexp RAW 30May-..Jun'!AD255","v":{"v":21.897123526184885,"d":"22"}},{"$f":"'Survivalexp RAW 30May-..Jun'!AK255","v":{"v":8.420567267107549,"d":"8"}},{"$f":"'Survivalexp RAW 30May-..Jun'!AR255","v":{"v":2.8265323325443235,"d":"3"}},null,null,{"$f":"'Survivalexp RAW 30May-..Jun'!I277","v":{"$error":"#DIV/0!"}},{"$f":"'Survivalexp RAW 30May-..Jun'!P277","v":{"$error":"#DIV/0!"}},{"$f":"'Survivalexp RAW 30May-..Jun'!W277","v":18.8247217068639},{"$f":"'Survivalexp RAW 30May-..Jun'!AD277","v":3.2476623063443015},{"$f":"'Survivalexp RAW 30May-..Jun'!AK277","v":1.8025518961968798},{"$f":"'Survivalexp RAW 30May-..Jun'!AR277","v":0}]
[null,"est. nr of bacteria",null,{"$f":"D33/$D$8","v":{"$error":"#DIV/0!"}},{"$f":"E33/$E$8","v":{"$error":"#DIV/0!"}},{"$f":"F33/$F$8","v":{"$error":"#DIV/0!"}},{"$f":"G33/$G$8","v":{"$error":"#DIV/0!"}},{"$f":"H33/$H$8","v":34166.666666666664},{"$f":"I33/$I$8","v":46666.66666666666},{"$f":"H35","v":34166.666666666664},{"$f":"H36","v":35651.080698373975},{"$f":"L33/$D$8","v":{"$error":"#DIV/0!"}},{"$f":"M33/$E$8","v":{"$error":"#DIV/0!"}},{"$f":"N33/$F$8","v":{"$error":"#DIV/0!"}},{"$f":"O33/$G$8","v":{"$error":"#DIV/0!"}},{"$f":"P33/$H$8","v":{"$error":"#DIV/0!"}},{"$f":"Q33/$I$8","v":5506666.666666666},{"$f":"Q35","v":5506666.666666666},{"$f":"Q36","v":0},{"$f":"T33/$D$8","v":{"$error":"#DIV/0!"}},{"$f":"U33/$E$8","v":{"$error":"#DIV/0!"}},{"$f":"V33/$F$8","v":{"$error":"#DIV/0!"}},{"$f":"W33/$G$8","v":{"$error":"#DIV/0!"}},{"$f":"X33/$H$8","v":1060000},{"$f":"Y33/$I$8","v":1719999.9999999998},{"$f":"Y35","v":1719999.9999999998},{"$f":"Y36","v":1815944.0732216195},{"$f":"AB33/$D$8","v":{"$error":"#DIV/0!"}},{"$f":"AC33/$E$8","v":{"$error":"#DIV/0!"}},{"$f":"AD33/$F$8","v":{"$error":"#DIV/0!"}},{"$f":"AE33/$G$8","v":{"$error":"#DIV/0!"}},{"$f":"AF33/$H$8","v":420666.6666666667},{"$f":"AG33/$I$8","v":466666.6666666667},{"$f":"AF35","v":420666.6666666667},{"$f":"AF36","v":190950.45758382467},{"$f":"AJ33/$D$8","v":{"$error":"#DIV/0!"}},{"$f":"AK33/$E$8","v":{"$error":"#DIV/0!"}},{"$f":"AL33/$F$8","v":{"$error":"#DIV/0!"}},{"$f":"AM33/$G$8","v":79000},{"$f":"AN33/$H$8","v":191333.3333333333},{"$f":"AO33/$I$8","v":193333.3333333333},{"$f":"AN35","v":191333.3333333333},{"$f":"AN36","v":92276.962244449},{"$f":"AR33/$D$8","v":{"$error":"#DIV/0!"}},{"$f":"AS33/$E$8","v":{"$error":"#DIV/0!"}},{"$f":"AT33/$F$8","v":{"$error":"#DIV/0!"}},{"$f":"AU33/$G$8","v":42199.99999999999},{"$f":"AV33/$H$8","v":84000},{"$f":"AW33/$I$8","v":80000.00000000001},{"$f":"AU35","v":42199.99999999999},{"$f":"AU36","v":21897.123526184885},{"$f":"AZ33/$D$8","v":{"$error":"#DIV/0!"}},{"$f":"BA33/$E$8","v":{"$error":"#DIV/0!"}},{"$f":"BB33/$F$8","v":2986.6666666666665},{"$f":"BC33/$G$8","v":1933.3333333333335},{"$f":"BD33/$H$8","v":6666.666666666666},{"$f":"BE33/$I$8","v":0},{"$f":"BB35","v":2986.6666666666665},{"$f":"BB36","v":1882.47217068639}]
[null,null,"stdev",{"$f":"D34/$D$8","v":{"$error":"#DIV/0!"}},{"$f":"E34/$E$8","v":{"$error":"#DIV/0!"}},{"$f":"F34/$F$8","v":{"$error":"#DIV/0!"}},{"$f":"G34/$G$8","v":{"$error":"#DIV/0!"}},{"$f":"H34/$H$8","v":35651.080698373975},{"$f":"I34/$I$8","v":164316.7672515498},null,null,{"$f":"L34/$D$8","v":{"$error":"#DIV/0!"}},{"$f":"M34/$E$8","v":{"$error":"#DIV/0!"}},{"$f":"N34/$F$8","v":{"$error":"#DIV/0!"}},{"$f":"O34/$G$8","v":{"$error":"#DIV/0!"}},{"$f":"P34/$H$8","v":{"$error":"#DIV/0!"}},{"$f":"Q34/$I$8","v":0},null,null,{"$f":"T34/$D$8","v":{"$error":"#DIV/0!"}},{"$f":"U34/$E$8","v":{"$error":"#DIV/0!"}},{"$f":"V34/$F$8","v":{"$error":"#DIV/0!"}},{"$f":"W34/$G$8","v":{"$error":"#DIV/0!"}},{"$f":"X34/$H$8","v":{"$error":"#DIV/0!"}},{"$f":"Y34/$I$8","v":1815944.0732216195},null,null,{"$f":"AB34/$D$8","v":{"$error":"#DIV/0!"}},{"$f":"AC34/$E$8","v":{"$error":"#DIV/0!"}},{"$f":"AD34/$F$8","v":{"$error":"#DIV/0!"}},{"$f":"AE34/$G$8","v":{"$error":"#DIV/0!"}},{"$f":"AF34/$H$8","v":190950.45758382467},{"$f":"AG34/$I$8","v":648985.0772474152},null,null,{"$f":"AJ34/$D$8","v":{"$error":"#DIV/0!"}},{"$f":"AK34/$E$8","v":{"$error":"#DIV/0!"}},{"$f":"AL34/$F$8","v":{"$error":"#DIV/0!"}},{"$f":"AM34/$G$8","v":{"$error":"#DIV/0!"}},{"$f":"AN34/$H$8","v":92276.962244449},{"$f":"AO34/$I$8","v":363574.71512018144},null,null,{"$f":"AR34/$D$8","v":{"$error":"#DIV/0!"}},{"$f":"AS34/$E$8","v":{"$error":"#DIV/0!"}},{"$f":"AT34/$F$8","v":{"$error":"#DIV/0!"}},{"$f":"AU34/$G$8","v":21897.123526184885},{"$f":"AV34/$H$8","v":84205.67267107549},{"$f":"AW34/$I$8","v":282653.2332544323},null,null,{"$f":"AZ34/$D$8","v":{"$error":"#DIV/0!"}},{"$f":"BA34/$E$8","v":{"$error":"#DIV/0!"}},{"$f":"BB34/$F$8","v":1882.47217068639},{"$f":"BC34/$G$8","v":3247.6623063443017},{"$f":"BD34/$H$8","v":18025.5189619688},{"$f":"BE34/$I$8","v":0}]
[null,null,"p+3",{"$f":"'Survivalexp RAW 30May-..Jun'!I47","v":{"$error":"#DIV/0!"}},{"$f":"'Survivalexp RAW 30May-..Jun'!P47","v":{"$error":"#DIV/0!"}},{"$f":"'Survivalexp RAW 30May-..Jun'!W47","v":{"$error":"#DIV/0!"}},{"$f":"'Survivalexp RAW 30May-..Jun'!AD47","v":59},{"$f":"'Survivalexp RAW 30May-..Jun'!AK47","v":{"v":8.200000000000001,"d":"8"}},{"$f":"'Survivalexp RAW 30May-..Jun'!AR47","v":{"v":1.3333333333333333,"d":"1"}},null,null,{"$f":"'Survivalexp RAW 30May-..Jun'!I91","v":{"$error":"#DIV/0!"}},{"$f":"'Survivalexp RAW 30May-..Jun'!P91","v":{"$error":"#DIV/0!"}},{"$f":"'Survivalexp RAW 30May-..Jun'!W91","v":{"$error":"#DIV/0!"}},{"$f":"'Survivalexp RAW 30May-..Jun'!AD91","v":{"$error":"#DIV/0!"}},{"$f":"'Survivalexp RAW 30May-..Jun'!AK91","v":{"$error":"#DIV/0!"}},{"$f":"'Survivalexp RAW 30May-..Jun'!AR91","v":{"v":66.86666666666666,"d":"67"}},null,null,{"$f":"'Survivalexp RAW 30May-..Jun'!I135","v":{"$error":"#DIV/0!"}},{"$f":"'Survivalexp RAW 30May-..Jun'!P135","v":{"$error":"#DIV/0!"}},{"$f":"'Survivalexp RAW 30May-..Jun'!W135","v":{"$error":"#DIV/0!"}},{"$f":"'Survivalexp RAW 30May-..Jun'!AD135","v":{"$error":"#DIV/0!"}},{"$f":"'Survivalexp RAW 30May-..Jun'!AK135","v":{"$error":"#DIV/0!"}},{"$f":"'Survivalexp RAW 30May-..Jun'!AR135","v":{"v":36.73333333333333,"d":"37"}},null,null,{"$f":"'Survivalexp RAW 30May-..Jun'!I179","v":{"$error":"#DIV/0!"}},{"$f":"'Survivalexp RAW 30May-..Jun'!P179","v":{"$error":"#DIV/0!"}},{"$f":"'Survivalexp RAW 30May-..Jun'!W179","v":{"$error":"#DIV/0!"}},{"$f":"'Survivalexp RAW 30May-..Jun'!AD179","v":{"$error":"#DIV/0!"}},{"$f":"'Survivalexp RAW 30May-..Jun'!AK179","v":{"v":58.86666666666667,"d":"59"}},{"$f":"'Survivalexp RAW 30May-..Jun'!AR179","v":{"v":6.266666666666667,"d":"6"}},null,null,{"$f":"'Survivalexp RAW 30May-..Jun'!I223","v":{"$error":"#DIV/0!"}},{"$f":"'Survivalexp RAW 30May-..Jun'!P223","v":{"$error":"#DIV/0!"}},{"$f":"'Survivalexp RAW 30May-..Jun'!W223","v":{"$error":"#DIV/0!"}},{"$f":"'Survivalexp RAW 30May-..Jun'!AD223","v":{"$error":"#DIV/0!"}},{"$f":"'Survivalexp RAW 30May-..Jun'!AK223","v":{"v":30.866666666666664,"d":"31"}},{"$f":"'Survivalexp RAW 30May-..Jun'!AR223","v":{"v":4.266666666666667,"d":"4"}},null,null,{"$f":"'Survivalexp RAW 30May-..Jun'!I259","v":{"$error":"#DIV/0!"}},{"$f":"'Survivalexp RAW 30May-..Jun'!P259","v":{"$error":"#DIV/0!"}},{"$f":"'Survivalexp RAW 30May-..Jun'!W259","v":{"$error":"#DIV/0!"}},{"$f":"'Survivalexp RAW 30May-..Jun'!AD259","v":{"$error":"#DIV/0!"}},{"$f":"'Survivalexp RAW 30May-..Jun'!AK259","v":{"v":16.933333333333334,"d":"17"}},{"$f":"'Survivalexp RAW 30May-..Jun'!AR259","v":{"v":1.7999999999999998,"d":"2"}},null,null,{"$f":"'Survivalexp RAW 30May-..Jun'!I281","v":{"$error":"#DIV/0!"}},{"$f":"'Survivalexp RAW 30May-..Jun'!P281","v":{"$error":"#DIV/0!"}},{"$f":"'Survivalexp RAW 30May-..Jun'!W281","v":36.599999999999994},{"$f":"'Survivalexp RAW 30May-..Jun'!AD281","v":6.3999999999999995},{"$f":"'Survivalexp RAW 30May-..Jun'!AK281","v":0.6},{"$f":"'Survivalexp RAW 30May-..Jun'!AR281","v":0}]
[null,null,"stdev",{"$f":"'Survivalexp RAW 30May-..Jun'!I48","v":{"$error":"#DIV/0!"}},{"$f":"'Survivalexp RAW 30May-..Jun'!P48","v":{"$error":"#DIV/0!"}},{"$f":"'Survivalexp RAW 30May-..Jun'!W48","v":{"$error":"#DIV/0!"}},{"$f":"'Survivalexp RAW 30May-..Jun'!AD48","v":{"$error":"#DIV/0!"}},{"$f":"'Survivalexp RAW 30May-..Jun'!AK48","v":{"$error":"#DIV/0!"}},{"$f":"'Survivalexp RAW 30May-..Jun'!AR48","v":{"v":3.1568500129359967,"d":"3"}},null,null,{"$f":"'Survivalexp RAW 30May-..Jun'!I92","v":{"$error":"#DIV/0!"}},{"$f":"'Survivalexp RAW 30May-..Jun'!P92","v":{"$error":"#DIV/0!"}},{"$f":"'Survivalexp RAW 30May-..Jun'!W92","v":{"$error":"#DIV/0!"}},{"$f":"'Survivalexp RAW 30May-..Jun'!AD92","v":{"$error":"#DIV/0!"}},{"$f":"'Survivalexp RAW 30May-..Jun'!AK92","v":{"$error":"#DIV/0!"}},{"$f":"'Survivalexp RAW 30May-..Jun'!AR92","v":0},null,null,{"$f":"'Survivalexp RAW 30May-..Jun'!I136","v":{"$error":"#DIV/0!"}},{"$f":"'Survivalexp RAW 30May-..Jun'!P136","v":{"$error":"#DIV/0!"}},{"$f":"'Survivalexp RAW 30May-..Jun'!W136","v":{"$error":"#DIV/0!"}},{"$f":"'Survivalexp RAW 30May-..Jun'!AD136","v":{"$error":"#DIV/0!"}},{"$f":"'Survivalexp RAW 30May-..Jun'!AK136","v":{"$error":"#DIV/0!"}},{"$f":"'Survivalexp RAW 30May-..Jun'!AR136","v":{"v":24.823273354752544,"d":"25"}},null,null,{"$f":"'Survivalexp RAW 30May-..Jun'!I180","v":{"$error":"#DIV/0!"}},{"$f":"'Survivalexp RAW 30May-..Jun'!P180","v":{"$error":"#DIV/0!"}},{"$f":"'Survivalexp RAW 30May-..Jun'!W180","v":{"$error":"#DIV/0!"}},{"$f":"'Survivalexp RAW 30May-..Jun'!AD180","v":{"$error":"#DIV/0!"}},{"$f":"'Survivalexp RAW 30May-..Jun'!AK180","v":{"v":21.42171987893297,"d":"21"}},{"$f":"'Survivalexp RAW 30May-..Jun'!AR180","v":{"v":7.242046239483371,"d":"7"}},null,null,{"$f":"'Survivalexp RAW 30May-..Jun'!I224","v":{"$error":"#DIV/0!"}},{"$f":"'Survivalexp RAW 30May-..Jun'!P224","v":{"$error":"#DIV/0!"}},{"$f":"'Survivalexp RAW 30May-..Jun'!W224","v":{"$error":"#DIV/0!"}},{"$f":"'Survivalexp RAW 30May-..Jun'!AD224","v":{"$error":"#DIV/0!"}},{"$f":"'Survivalexp RAW 30May-..Jun'!AK224","v":{"v":16.729690238101657,"d":"17"}},{"$f":"'Survivalexp RAW 30May-..Jun'!AR224","v":{"v":5.3027461067583745,"d":"5"}},null,null,{"$f":"'Survivalexp RAW 30May-..Jun'!I260","v":{"$error":"#DIV/0!"}},{"$f":"'Survivalexp RAW 30May-..Jun'!P260","v":{"$error":"#DIV/0!"}},{"$f":"'Survivalexp RAW 30May-..Jun'!W260","v":{"$error":"#DIV/0!"}},{"$f":"'Survivalexp RAW 30May-..Jun'!AD260","v":{"$error":"#DIV/0!"}},{"$f":"'Survivalexp RAW 30May-..Jun'!AK260","v":{"v":10.51942799965857,"d":"11"}},{"$f":"'Survivalexp RAW 30May-..Jun'!AR260","v":{"v":4.610513568165856,"d":"5"}},null,null,{"$f":"'Survivalexp RAW 30May-..Jun'!I282","v":{"$error":"#DIV/0!"}},{"$f":"'Survivalexp RAW 30May-..Jun'!P282","v":{"$error":"#DIV/0!"}},{"$f":"'Survivalexp RAW 30May-..Jun'!W282","v":{"$error":"#DIV/0!"}},{"$f":"'Survivalexp RAW 30May-..Jun'!AD282","v":7.411883277529175},{"$f":"'Survivalexp RAW 30May-..Jun'!AK282","v":1.6431676725154982},{"$f":"'Survivalexp RAW 30May-..Jun'!AR282","v":0}]
[null,"est. nr of bacteria",null,{"$f":"D37/$D$8","v":{"$error":"#DIV/0!"}},{"$f":"E37/$E$8","v":{"$error":"#DIV/0!"}},{"$f":"F37/$F$8","v":{"$error":"#DIV/0!"}},{"$f":"G37/$G$8","v":59000},{"$f":"H37/$H$8","v":82000},{"$f":"I37/$I$8","v":133333.3333333333},{"$f":"I39","v":133333.3333333333},{"$f":"I40","v":315685.00129359966},{"$f":"L37/$D$8","v":{"$error":"#DIV/0!"}},{"$f":"M37/$E$8","v":{"$error":"#DIV/0!"}},{"$f":"N37/$F$8","v":{"$error":"#DIV/0!"}},{"$f":"O37/$G$8","v":{"$error":"#DIV/0!"}},{"$f":"P37/$H$8","v":{"$error":"#DIV/0!"}},{"$f":"Q37/$I$8","v":6686666.666666665},{"$f":"Q39","v":6686666.666666665},{"$f":"Q40","v":0},{"$f":"T37/$D$8","v":{"$error":"#DIV/0!"}},{"$f":"U37/$E$8","v":{"$error":"#DIV/0!"}},{"$f":"V37/$F$8","v":{"$error":"#DIV/0!"}},{"$f":"W37/$G$8","v":{"$error":"#DIV/0!"}},{"$f":"X37/$H$8","v":{"$error":"#DIV/0!"}},{"$f":"Y37/$I$8","v":3673333.3333333326},{"$f":"Y39","v":3673333.3333333326},{"$f":"Y40","v":2482327.3354752543},{"$f":"AB37/$D$8","v":{"$error":"#DIV/0!"}},{"$f":"AC37/$E$8","v":{"$error":"#DIV/0!"}},{"$f":"AD37/$F$8","v":{"$error":"#DIV/0!"}},{"$f":"AE37/$G$8","v":{"$error":"#DIV/0!"}},{"$f":"AF37/$H$8","v":588666.6666666666},{"$f":"AG37/$I$8","v":626666.6666666666},{"$f":"AF39","v":588666.6666666666},{"$f":"AF40","v":214217.19878932968},{"$f":"AJ37/$D$8","v":{"$error":"#DIV/0!"}},{"$f":"AK37/$E$8","v":{"$error":"#DIV/0!"}},{"$f":"AL37/$F$8","v":{"$error":"#DIV/0!"}},{"$f":"AM37/$G$8","v":{"$error":"#DIV/0!"}},{"$f":"AN37/$H$8","v":308666.6666666666},{"$f":"AO37/$I$8","v":426666.6666666666},{"$f":"AN39","v":308666.6666666666},{"$f":"AN40","v":167296.90238101655},{"$f":"AR37/$D$8","v":{"$error":"#DIV/0!"}},{"$f":"AS37/$E$8","v":{"$error":"#DIV/0!"}},{"$f":"AT37/$F$8","v":{"$error":"#DIV/0!"}},{"$f":"AU37/$G$8","v":{"$error":"#DIV/0!"}},{"$f":"AV37/$H$8","v":169333.3333333333},{"$f":"AW37/$I$8","v":179999.99999999997},{"$f":"AV39","v":169333.3333333333},{"$f":"AV40","v":105194.2799965857},{"$f":"AZ37/$D$8","v":{"$error":"#DIV/0!"}},{"$f":"BA37/$E$8","v":{"$error":"#DIV/0!"}},{"$f":"BB37/$F$8","v":3659.9999999999995},{"$f":"BC37/$G$8","v":6399.999999999999},{"$f":"BD37/$H$8","v":5999.999999999999},{"$f":"BE37/$I$8","v":0},{"$f":"BC39","v":6399.999999999999},{"$f":"BC40","v":7411.883277529175}]
[null,null,"stdev",{"$f":"D38/$D$8","v":{"$error":"#DIV/0!"}},{"$f":"E38/$E$8","v":{"$error":"#DIV/0!"}},{"$f":"F38/$F$8","v":{"$error":"#DIV/0!"}},{"$f":"G38/$G$8","v":{"$error":"#DIV/0!"}},{"$f":"H38/$H$8","v":{"$error":"#DIV/0!"}},{"$f":"I38/$I$8","v":315685.00129359966},null,null,{"$f":"L38/$D$8","v":{"$error":"#DIV/0!"}},{"$f":"M38/$E$8","v":{"$error":"#DIV/0!"}},{"$f":"N38/$F$8","v":{"$error":"#DIV/0!"}},{"$f":"O38/$G$8","v":{"$error":"#DIV/0!"}},{"$f":"P38/$H$8","v":{"$error":"#DIV/0!"}},{"$f":"Q38/$I$8","v":0},null,null,{"$f":"T38/$D$8","v":{"$error":"#DIV/0!"}},{"$f":"U38/$E$8","v":{"$error":"#DIV/0!"}},{"$f":"V38/$F$8","v":{"$error":"#DIV/0!"}},{"$f":"W38/$G$8","v":{"$error":"#DIV/0!"}},{"$f":"X38/$H$8","v":{"$error":"#DIV/0!"}},{"$f":"Y38/$I$8","v":2482327.3354752543},null,null,{"$f":"AB38/$D$8","v":{"$error":"#DIV/0!"}},{"$f":"AC38/$E$8","v":{"$error":"#DIV/0!"}},{"$f":"AD38/$F$8","v":{"$error":"#DIV/0!"}},{"$f":"AE38/$G$8","v":{"$error":"#DIV/0!"}},{"$f":"AF38/$H$8","v":214217.19878932968},{"$f":"AG38/$I$8","v":724204.623948337},null,null,{"$f":"AJ38/$D$8","v":{"$error":"#DIV/0!"}},{"$f":"AK38/$E$8","v":{"$error":"#DIV/0!"}},{"$f":"AL38/$F$8","v":{"$error":"#DIV/0!"}},{"$f":"AM38/$G$8","v":{"$error":"#DIV/0!"}},{"$f":"AN38/$H$8","v":167296.90238101655},{"$f":"AO38/$I$8","v":530274.6106758374},null,null,{"$f":"AR38/$D$8","v":{"$error":"#DIV/0!"}},{"$f":"AS38/$E$8","v":{"$error":"#DIV/0!"}},{"$f":"AT38/$F$8","v":{"$error":"#DIV/0!"}},{"$f":"AU38/$G$8","v":{"$error":"#DIV/0!"}},{"$f":"AV38/$H$8","v":105194.2799965857},{"$f":"AW38/$I$8","v":461051.3568165855},null,null,{"$f":"AZ38/$D$8","v":{"$error":"#DIV/0!"}},{"$f":"BA38/$E$8","v":{"$error":"#DIV/0!"}},{"$f":"BB38/$F$8","v":{"$error":"#DIV/0!"}},{"$f":"BC38/$G$8","v":7411.883277529175},{"$f":"BD38/$H$8","v":16431.676725154983},{"$f":"BE38/$I$8","v":0}]
[]
[{"$nulls":4},0,2,{"$f":"96/24","v":4},7,9,11,17,"STDEV",null,0,2,{"$f":"96/24","v":4},7,9,11,17]
[null,null,"Numbers","Blank",{"$f":"$J$11","v":0},{"$f":"$R$11","v":0},{"$f":"$Z$11","v":0},{"$f":"$AH$11","v":0},{"$f":"$AP$11","v":0},0,{"$f":"$BF$11","v":{"$error":"#REF!"}},"Numbers","Blank",{"$f":"$K$11","v":0},{"$f":"$S$11","v":0},{"$f":"$AA$11","v":0},{"$f":"$AI$11","v":0},{"$f":"$AQ$11","v":0},{"$f":"$AY$11","v":{"$error":"#REF!"}},{"$f":"$BG$11","v":{"$error":"#REF!"}}]
[{"$nulls":3},"KT2440 WT",{"$f":"$J$15","v":150300},{"$f":"$R$15","v":7290000},{"$f":"$Z$15","v":4526666.666666667},{"$f":"$AH$15","v":290500},{"$f":"$AP$15","v":40000},{"$f":"$AX$15","v":35000},{"$f":"$BF$15","v":{"$error":"#REF!"}},null,"KT2440 WT",{"$f":"$K$15","v":162477.0188948149},{"$f":"$S$15","v":{"$error":"#DIV/0!"}},{"$f":"$AA$15","v":2227400.5847043735},{"$f":"$AI$15","v":{"$error":"#DIV/0!"}},{"$f":"$AQ$15","v":264548.1267540403},{"$f":"$AY$15","v":{"v":394536.10832076555,"d":"394536"}},{"$f":"$BG$15","v":{"$error":"#REF!"}}]
[{"$nulls":3},"2213F - p+0",{"$f":"$J$19","v":111333.33333333333},{"$f":"$R$19","v":3239999.9999999995},{"$f":"$Z$19","v":933333.3333333334},{"$f":"$AH$19","v":21866.666666666664},{"$f":"$AP$19","v":5860},{"$f":"$AX$19","v":1429.9999999999998},{"$f":"$BF$19","v":{"$error":"#REF!"}},null,"2213F - p+0",{"$f":"$K$19","v":108866.77429533192},{"$f":"$S$19","v":0},{"$f":"$AA$19","v":984984.5813739882},{"$f":"$AI$19","v":13414.085362717526},{"$f":"$AQ$19","v":4641.633690604181},{"$f":"$AY$19","v":4237.749361927966},{"$f":"$BG$19","v":{"$error":"#REF!"}}]
[{"$nulls":3},"2213F - p+6",{"$f":"$J$23","v":82666.66666666667},{"$f":"$R$23","v":7559999.999999999},{"$f":"$Z$23","v":980000},{"$f":"$AH$23","v":4113.333333333333},{"$f":"$AP$23","v":581.3333333333333},{"$f":"$AX$23","v":266},{"$f":"$BF$23","v":{"$error":"#REF!"}},null,"2213F - p+6",{"$f":"$K$23","v":91077.1685602788},{"$f":"$S$23","v":{"$error":"#DIV/0!"}},{"$f":"$AA$23","v":{"$error":"#DIV/0!"}},{"$f":"$AI$23","v":1710.7176974141714},{"$f":"$AQ$23","v":368.8530950271907},{"$f":"$AY$23","v":223.97835125335862},{"$f":"$BG$23","v":{"$error":"#REF!"}}]
[{"$nulls":3},"2213F A p+0",{"$f":"$J$27","v":41433.33333333333},{"$f":"$R$27","v":3853333.3333333335},{"$f":"$Z$27","v":706666.6666666666},{"$f":"$AH$27","v":5553.333333333334},{"$f":"$AP$27","v":1528.888888888889},{"$f":"$AX$27","v":400.6666666666667},{"$f":"$BF$27","v":180},null,"2213F A p+0",{"$f":"$K$27","v":14903.346976339979},{"$f":"$S$27","v":0},{"$f":"$AA$27","v":987606.316739724},{"$f":"$AI$27","v":1447.5950013469376},{"$f":"$AQ$27","v":1570.8187215150228},{"$f":"$AY$27","v":204.89637074482474},{"$f":"$BG$27","v":134.2652330029812}]
[{"$nulls":3},"2213F A p+6",{"$f":"$J$31","v":43333.33333333333},{"$f":"$R$31","v":4733333.333333333},{"$f":"$Z$31","v":1629999.9999999995},{"$f":"$AH$31","v":4213.333333333333},{"$f":"$AP$31","v":457.33333333333326},{"$f":"$AX$31","v":439.33333333333337},{"$f":"$BF$31","v":167.3333333333333},null,"2213F A p+6",{"$f":"$K$31","v":41602.46899469287},{"$f":"$S$31","v":0},{"$f":"$AA$31","v":{"$error":"#DIV/0!"}},{"$f":"$AI$31","v":1224.700903693672},{"$f":"$AQ$31","v":237.83822523175238},{"$f":"$AY$31","v":99.5241698705289},{"$f":"$BG$31","v":87.16873981752634}]
[{"$nulls":3},"2213F APR p+0",{"$f":"$J$35","v":34166.666666666664},{"$f":"$R$35","v":5506666.666666666},{"$f":"$Z$35","v":1719999.9999999998},{"$f":"$AH$35","v":420666.6666666667},{"$f":"$AP$35","v":191333.3333333333},{"$f":"$AX$35","v":42199.99999999999},{"$f":"$BF$35","v":2986.6666666666665},null,"2213F APR p+0",{"$f":"$K$35","v":35651.080698373975},{"$f":"$S$35","v":0},{"$f":"$AA$35","v":1815944.0732216195},{"$f":"$AI$35","v":190950.45758382467},{"$f":"$AQ$35","v":92276.962244449},{"$f":"$AY$35","v":21897.123526184885},{"$f":"$BG$35","v":1882.47217068639}]
[{"$nulls":3},"2213F APR p+6",{"$f":"$J$39","v":133333.3333333333},{"$f":"$R$39","v":6686666.666666665},{"$f":"$Z$39","v":3673333.3333333326},{"$f":"$AH$39","v":588666.6666666666},{"$f":"$AP$39","v":308666.6666666666},{"$f":"$AX$39","v":169333.3333333333},{"$f":"$BF$39","v":6399.999999999999},null,"2213F APR p+6",{"$f":"$K$39","v":315685.00129359966},{"$f":"$S$39","v":0},{"$f":"$AA$39","v":2482327.3354752543},{"$f":"$AI$39","v":214217.19878932968},{"$f":"$AQ$39","v":167296.90238101655},{"$f":"$AY$39","v":105194.2799965857},{"$f":"$BG$39","v":7411.883277529175}]
[]
[{"$nulls":4},0,2,{"$f":"96/24","v":4},7,9,11,17,"STDEV",null,0,2,{"$f":"96/24","v":4},7,9,11,17]
[null,null,"Percentages","Blank",0,0,0,0,0,0,{"$f":"K43/$F$44*100","v":{"$error":"#REF!"}},"Percentages","Blank",0,0,0,0,0,0,{"$f":"T43/$F$44*100","v":{"$error":"#REF!"}}]
[{"$nulls":3},"KT2440 WT",{"$f":"E44/$F$44*100","v":2.0617283950617282},100,62.094192958390494,3.9849108367626886,0.5486968449931412,0.48010973936899864,{"$error":"#REF!"},null,"KT2440 WT",{"$f":"N44/$F$44*100","v":2.2287656912868985},{"$f":"O44/$F$44*100","v":{"$error":"#DIV/0!"}},30.554191834079198,{"$error":"#DIV/0!"},3.628918062469689,5.412017946786907,{"$error":"#REF!"}]
[{"$nulls":3},"2213F - p+0",{"$f":"E45/$F$45*100","v":3.4362139917695473},100,{"$f":"G45/$F$45*100","v":28.806584362139926},{"$f":"H45/$F$45*100","v":0.6748971193415638},0.18086419753086422,{"$f":"J45/$F$45*100","v":0.0441358024691358},{"$f":"K45/$F$45*100","v":{"$error":"#REF!"}},null,"2213F - p+0",{"$f":"N45/$F$45*100","v":3.360085626399134},0,{"$f":"P45/$F$45*100","v":30.400758684382357},{"$f":"Q45/$F$45*100","v":0.4140149803307879},0.14326029909272164,{"$f":"S45/$F$45*100","v":0.13079473339283848},{"$f":"T45/$F$45*100","v":{"$error":"#REF!"}}]
[{"$nulls":3},"2213F - p+3",{"$f":"E46/$F$46*100","v":1.0934744268077603},100,12.962962962962965,0.05440917107583774,0.007689594356261023,0.003518518518518519,{"$f":"K46/$F$44*100","v":{"$error":"#REF!"}},null,"2213F - p+3",{"$f":"N46/$F$46*100","v":1.2047244518555398},{"$error":"#DIV/0!"},{"$f":"P46/$F$46*100","v":{"$error":"#DIV/0!"}},0.022628540971086925,{"$f":"R46/$F$46*100","v":0.004879009193481359},2.9626766038804058E-3,{"$f":"T46/$F$44*100","v":{"$error":"#REF!"}}]
[{"$nulls":3},"2213F A p+0",{"$f":"E47/$F$47*100","v":1.0752595155709341},100,{"$f":"G47/$F$47*100","v":18.33910034602076},0.14411764705882354,0.03967704728950404,0.010397923875432525,0.004671280276816609,null,"2213F A p+0",{"$f":"N47/$F$47*100","v":0.38676505993961885},0,{"$f":"P47/$F$47*100","v":25.629921714698717},0.03756734432561256,0.04076519173481893,0.005317379863620019,3.4843918599389585E-3]
[{"$nulls":3},"2213F A p+3",{"$f":"E48/$F$48*100","v":0.9154929577464789},100,34.43661971830985,0.08901408450704225,0.009661971830985916,0.009281690140845072,0.003535211267605633,null,"2213F A p+3",{"$f":"N48/$F$48*100","v":0.8789254012963283},0,{"$error":"#DIV/0!"},0.025873962754091664,5.024751237290544E-3,0.00210262330712385,1.841593094736472E-3]
[{"$nulls":3},"2213F APR p+0",{"$f":"E49/$F$49*100","v":0.6204600484261502},100,31.234866828087167,7.639225181598064,3.4745762711864407,0.7663438256658596,{"$f":"K49/$F$49*100","v":0.05423728813559322},null,"2213F APR p+0",{"$f":"N49/$F$49*100","v":0.647416719704128},0,32.97719261298341,3.4676233217401577,1.6757317598870884,0.39764752166195316,{"$f":"T49/$F$49*100","v":0.0341853299761451}]
[{"$nulls":3},"2213F APR p+3",{"$f":"E50/$F$50*100","v":1.9940179461615155},100,54.93519441674975,8.803589232303093,4.616151545363908,2.5324027916251253,0.09571286141575275,null,"2213F APR p+3",{"$f":"N50/$F$50*100","v":4.7211116843509435},0,37.123539413887165,3.203647040717793,2.5019476926373367,1.5731946161004844,0.11084571202685707]