{"text_format":"3","workbook":"xlsx","n_sheets":5,"sheets":["Survivalexp vitmix RAW Feb 2018","Survivalexp vitmix results","Survivalexp novitmix RAW feb18","Survivalexp results","Results side by side"],"not_rendered":{"charts":4,"external_links":2},"read":"whole","date_system":"1900"}

{"sheet":"Survivalexp vitmix RAW Feb 2018","index":0,"n_rows":239,"n_cols":59,"rows_kept":239}
["Survival experiment",{"$nulls":10},"Averages/Stdev Technical replicates"]
["Subject: ",null,"Anaerobic survival after aerobic inoculation of recombinant strains",{"$nulls":8},"Averages/stdev Biological replicates"]
[null,null,"DeBont+ 6g/l Gluconic Acid - vitamin mix - Kanamycin"]
["Inoculation date",null,"07-02-2018"]
["Inoculation OD600",null,0.1,"BW25113 2213F -"]
["Inoculated",null,null,"Blank ","2213F -",null,"2213F A",null,"2213F APR"]
[{"$nulls":4},"p+0","p+3","p+0","p+3","p+0",null,"p+3"]
["T0","2017-10-30"]
["Sample","Dilution:",null,"10^0",{"$nulls":4},"AVERAGE","STDEV","10^-1",{"$nulls":4},"AVERAGE","STDEV","10^-2",{"$nulls":4},"AVERAGE","STDEV","10^-3",{"$nulls":4},"AVERAGE","STDEV","10^-4",{"$nulls":4},"AVERAGE","STDEV","10^-5",{"$nulls":4},"AVERAGE","STDEV","10^-6",{"$nulls":4},"AVERAGE","STDEV","10^-7",{"$nulls":4},"AVERAGE","STDEV"]
["Blank",1,null,0,0,0,0,0,{"$f":"AVERAGE(D10:H10)","v":0},{"$f":"STDEV(D10:H10)","v":0},0,0,0,0,0,{"$f":"AVERAGE(K10:O10)","v":0},{"$f":"STDEV(K10:O10)","v":0},0,0,0,0,0,{"$f":"AVERAGE(R10:V10)","v":0},{"$f":"STDEV(R10:V10)","v":0},0,0,0,0,0,{"$f":"AVERAGE(Y10:AC10)","v":0},{"$f":"STDEV(Y10:AC10)","v":0},0,0,0,0,0,{"$f":"AVERAGE(AF10:AJ10)","v":0},{"$f":"STDEV(AF10:AJ10)","v":0},0,0,0,0,0,{"$f":"AVERAGE(AM10:AQ10)","v":0},{"$f":"STDEV(AM10:AQ10)","v":0},0,0,0,0,0,{"$f":"AVERAGE(AT10:AX10)","v":0},{"$f":"STDEV(AT10:AX10)","v":0},0,0,0,0,0,{"$f":"AVERAGE(BA10:BE10)","v":0},{"$f":"STDEV(BA10:BE10)","v":0}]
[null,2,null,0,0,0,0,0,{"$f":"AVERAGE(D11:H11)","v":0},{"$f":"STDEV(D11:H11)","v":0},0,0,0,0,0,{"$f":"AVERAGE(K11:O11)","v":0},{"$f":"STDEV(K11:O11)","v":0},0,0,0,0,0,{"$f":"AVERAGE(R11:V11)","v":0},{"$f":"STDEV(R11:V11)","v":0},0,0,0,0,0,{"$f":"AVERAGE(Y11:AC11)","v":0},{"$f":"STDEV(Y11:AC11)","v":0},0,0,0,0,0,{"$f":"AVERAGE(AF11:AJ11)","v":0},{"$f":"STDEV(AF11:AJ11)","v":0},0,0,0,0,0,{"$f":"AVERAGE(AM11:AQ11)","v":0},{"$f":"STDEV(AM11:AQ11)","v":0},0,0,0,0,0,{"$f":"AVERAGE(AT11:AX11)","v":0},{"$f":"STDEV(AT11:AX11)","v":0},0,0,0,0,0,{"$f":"AVERAGE(BA11:BE11)","v":0},{"$f":"STDEV(BA11:BE11)","v":0}]
[null,3,null,0,0,0,0,0,{"$f":"AVERAGE(D12:H12)","v":0},{"$f":"STDEV(D12:H12)","v":0},0,0,0,0,0,{"$f":"AVERAGE(K12:O12)","v":0},{"$f":"STDEV(K12:O12)","v":0},0,0,0,0,0,{"$f":"AVERAGE(R12:V12)","v":0},{"$f":"STDEV(R12:V12)","v":0},0,0,0,0,0,{"$f":"AVERAGE(Y12:AC12)","v":0},{"$f":"STDEV(Y12:AC12)","v":0},0,0,0,0,0,{"$f":"AVERAGE(AF12:AJ12)","v":0},{"$f":"STDEV(AF12:AJ12)","v":0},0,0,0,0,0,{"$f":"AVERAGE(AM12:AQ12)","v":0},{"$f":"STDEV(AM12:AQ12)","v":0},0,0,0,0,0,{"$f":"AVERAGE(AT12:AX12)","v":0},{"$f":"STDEV(AT12:AX12)","v":0},0,0,0,0,0,{"$f":"AVERAGE(BA12:BE12)","v":0},{"$f":"STDEV(BA12:BE12)","v":0}]
[{"$nulls":8},{"$f":"AVERAGE(I10:I12)","v":0},{"$nulls":6},{"$f":"AVERAGE(P10:P12)","v":0},{"$nulls":6},{"$f":"AVERAGE(W10:W12)","v":0},{"$nulls":6},{"$f":"AVERAGE(AD10:AD12)","v":0},{"$nulls":6},{"$f":"AVERAGE(AK10:AK12)","v":0},{"$nulls":6},{"$f":"AVERAGE(AR10:AR12)","v":0},{"$nulls":6},{"$f":"AVERAGE(AY10:AY12)","v":0},{"$nulls":6},{"$f":"AVERAGE(BF10:BF12)","v":0}]
[{"$nulls":8},{"$f":"SUM(J10:J12)","v":0},{"$nulls":6},{"$f":"SUM(Q10:Q12)","v":0},{"$nulls":6},{"$f":"SUM(X10:X12)","v":0},{"$nulls":6},{"$f":"SUM(AE10:AE12)","v":0},{"$nulls":6},{"$f":"SUM(AL10:AL12)","v":0},{"$nulls":6},{"$f":"SUM(AS10:AS12)","v":0},{"$nulls":6},{"$f":"SUM(AZ10:AZ12)","v":0},{"$nulls":6},{"$f":"SUM(BG10:BG12)","v":0}]
["BW25113 -",1,null,"NA","NA","NA","NA","NA",{"$f":"AVERAGE(D15:H15)","v":{"$error":"#DIV/0!"}},{"$f":"STDEV(D15:H15)","v":{"$error":"#DIV/0!"}},"NA","NA","NA","NA","NA",{"$f":"AVERAGE(K15:O15)","v":{"$error":"#DIV/0!"}},{"$f":"STDEV(K15:O15)","v":{"$error":"#DIV/0!"}},"NA","NA","NA","NA","NA",{"$f":"AVERAGE(R15:V15)","v":{"$error":"#DIV/0!"}},{"$f":"STDEV(R15:V15)","v":{"$error":"#DIV/0!"}},"NA","NA","NA","NA","NA",{"$f":"AVERAGE(Y15:AC15)","v":{"$error":"#DIV/0!"}},{"$f":"STDEV(Y15:AC15)","v":{"$error":"#DIV/0!"}},"NA","NA","NA","NA","NA",{"$f":"AVERAGE(AF15:AJ15)","v":{"$error":"#DIV/0!"}},{"$f":"STDEV(AF15:AJ15)","v":{"$error":"#DIV/0!"}},38,37,32,40,35,{"$f":"AVERAGE(AM15:AQ15)","v":{"v":36.4,"d":"36"}},{"$f":"STDEV(AM15:AQ15)","v":{"v":3.049590136395381,"d":"3"}},6,4,3,5,4,{"$f":"AVERAGE(AT15:AX15)","v":{"v":4.4,"d":"4"}},{"$f":"STDEV(AT15:AX15)","v":{"v":1.1401754250991383,"d":"1"}},0,0,0,1,1,{"$f":"AVERAGE(BA15:BE15)","v":{"v":0.4,"d":"0"}},{"$f":"STDEV(BA15:BE15)","v":{"v":0.5477225575051661,"d":"1"}}]
["pS2213 - ",2,null,"NA","NA","NA","NA","NA",{"$f":"AVERAGE(D16:H16)","v":{"$error":"#DIV/0!"}},{"$f":"STDEV(D16:H16)","v":{"$error":"#DIV/0!"}},"NA","NA","NA","NA","NA",{"$f":"AVERAGE(K16:O16)","v":{"$error":"#DIV/0!"}},{"$f":"STDEV(K16:O16)","v":{"$error":"#DIV/0!"}},"NA","NA","NA","NA","NA",{"$f":"AVERAGE(R16:V16)","v":{"$error":"#DIV/0!"}},{"$f":"STDEV(R16:V16)","v":{"$error":"#DIV/0!"}},"NA","NA","NA","NA","NA",{"$f":"AVERAGE(Y16:AC16)","v":{"$error":"#DIV/0!"}},{"$f":"STDEV(Y16:AC16)","v":{"$error":"#DIV/0!"}},"NA","NA","NA","NA","NA",{"$f":"AVERAGE(AF16:AJ16)","v":{"$error":"#DIV/0!"}},{"$f":"STDEV(AF16:AJ16)","v":{"$error":"#DIV/0!"}},46,37,37,36,32,{"$f":"AVERAGE(AM16:AQ16)","v":{"v":37.6,"d":"38"}},{"$f":"STDEV(AM16:AQ16)","v":{"v":5.128352561983229,"d":"5"}},8,3,2,5,9,{"$f":"AVERAGE(AT16:AX16)","v":{"v":5.4,"d":"5"}},{"$f":"STDEV(AT16:AX16)","v":{"v":3.0495901363953806,"d":"3"}},0,1,1,1,0,{"$f":"AVERAGE(BA16:BE16)","v":{"v":0.6,"d":"1"}},{"$f":"STDEV(BA16:BE16)","v":{"v":0.5477225575051661,"d":"1"}}]
[null,3,null,"NA","NA","NA","NA","NA",{"$f":"AVERAGE(D17:H17)","v":{"$error":"#DIV/0!"}},{"$f":"STDEV(D17:H17)","v":{"$error":"#DIV/0!"}},"NA","NA","NA","NA","NA",{"$f":"AVERAGE(K17:O17)","v":{"$error":"#DIV/0!"}},{"$f":"STDEV(K17:O17)","v":{"$error":"#DIV/0!"}},"NA","NA","NA","NA","NA",{"$f":"AVERAGE(R17:V17)","v":{"$error":"#DIV/0!"}},{"$f":"STDEV(R17:V17)","v":{"$error":"#DIV/0!"}},"NA","NA","NA","NA","NA",{"$f":"AVERAGE(Y17:AC17)","v":{"$error":"#DIV/0!"}},{"$f":"STDEV(Y17:AC17)","v":{"$error":"#DIV/0!"}},"NA","NA","NA","NA","NA",{"$f":"AVERAGE(AF17:AJ17)","v":{"$error":"#DIV/0!"}},{"$f":"STDEV(AF17:AJ17)","v":{"$error":"#DIV/0!"}},44,50,49,46,33,{"$f":"AVERAGE(AM17:AQ17)","v":{"v":44.4,"d":"44"}},{"$f":"STDEV(AM17:AQ17)","v":{"v":6.804410334481614,"d":"7"}},6,8,4,4,4,{"$f":"AVERAGE(AT17:AX17)","v":{"v":5.2,"d":"5"}},{"$f":"STDEV(AT17:AX17)","v":{"v":1.7888543819998326,"d":"2"}},0,1,1,0,0,{"$f":"AVERAGE(BA17:BE17)","v":{"v":0.4,"d":"0"}},{"$f":"STDEV(BA17:BE17)","v":{"v":0.5477225575051661,"d":"1"}}]
["average",{"$nulls":7},{"$f":"AVERAGE(I15:I17)","v":{"$error":"#DIV/0!"}},{"$nulls":6},{"$f":"AVERAGE(P15:P17)","v":{"$error":"#DIV/0!"}},{"$nulls":6},{"$f":"AVERAGE(W15:W17)","v":{"$error":"#DIV/0!"}},{"$nulls":6},{"$f":"AVERAGE(AD15:AD17)","v":{"$error":"#DIV/0!"}},{"$nulls":6},{"$f":"AVERAGE(AK15:AK17)","v":{"$error":"#DIV/0!"}},{"$nulls":6},{"$f":"AVERAGE(AR15:AR17)","v":{"v":39.46666666666667,"d":"39"}},{"$nulls":6},{"$f":"AVERAGE(AY15:AY17)","v":5},{"$nulls":6},{"$f":"AVERAGE(BF15:BF17)","v":{"v":0.4666666666666666,"d":"0"}}]
["stdev",{"$nulls":7},{"$f":"SUM(J15:J17)","v":{"$error":"#DIV/0!"}},{"$nulls":6},{"$f":"SUM(Q15:Q17)","v":{"$error":"#DIV/0!"}},{"$nulls":6},{"$f":"SUM(X15:X17)","v":{"$error":"#DIV/0!"}},{"$nulls":6},{"$f":"SUM(AE15:AE17)","v":{"$error":"#DIV/0!"}},{"$nulls":6},{"$f":"SUM(AL15:AL17)","v":{"$error":"#DIV/0!"}},{"$nulls":6},{"$f":"SUM(AS15:AS17)","v":{"v":14.982353032860225,"d":"15"}},{"$nulls":6},{"$f":"SUM(AZ15:AZ17)","v":{"v":5.978619943494351,"d":"6"}},{"$nulls":6},{"$f":"SUM(BG15:BG17)","v":{"v":1.6431676725154982,"d":"2"}}]
["pS2213 - ",1,null,"NA","NA","NA","NA","NA",{"$f":"AVERAGE(D20:H20)","v":{"$error":"#DIV/0!"}},{"$f":"STDEV(D20:H20)","v":{"$error":"#DIV/0!"}},"NA","NA","NA","NA","NA",{"$f":"AVERAGE(K20:O20)","v":{"$error":"#DIV/0!"}},{"$f":"STDEV(K20:O20)","v":{"$error":"#DIV/0!"}},"NA","NA","NA","NA","NA",{"$f":"AVERAGE(R20:V20)","v":{"$error":"#DIV/0!"}},{"$f":"STDEV(R20:V20)","v":{"$error":"#DIV/0!"}},"NA","NA","NA","NA","NA",{"$f":"AVERAGE(Y20:AC20)","v":{"$error":"#DIV/0!"}},{"$f":"STDEV(Y20:AC20)","v":{"$error":"#DIV/0!"}},"NA","NA","NA","NA","NA",{"$f":"AVERAGE(AF20:AJ20)","v":{"$error":"#DIV/0!"}},{"$f":"STDEV(AF20:AJ20)","v":{"$error":"#DIV/0!"}},58,62,61,64,57,{"$f":"AVERAGE(AM20:AQ20)","v":60.4},{"$f":"STDEV(AM20:AQ20)","v":2.8809720581775866},7,8,7,3,9,{"$f":"AVERAGE(AT20:AX20)","v":6.8},{"$f":"STDEV(AT20:AX20)","v":2.2803508501982765},0,0,0,2,0,{"$f":"AVERAGE(BA20:BE20)","v":0.4},{"$f":"STDEV(BA20:BE20)","v":0.8944271909999159}]
["p+0",2,null,"NA","NA","NA","NA","NA",{"$f":"AVERAGE(D21:H21)","v":{"$error":"#DIV/0!"}},{"$f":"STDEV(D21:H21)","v":{"$error":"#DIV/0!"}},"NA","NA","NA","NA","NA",{"$f":"AVERAGE(K21:O21)","v":{"$error":"#DIV/0!"}},{"$f":"STDEV(K21:O21)","v":{"$error":"#DIV/0!"}},"NA","NA","NA","NA","NA",{"$f":"AVERAGE(R21:V21)","v":{"$error":"#DIV/0!"}},{"$f":"STDEV(R21:V21)","v":{"$error":"#DIV/0!"}},"NA","NA","NA","NA","NA",{"$f":"AVERAGE(Y21:AC21)","v":{"$error":"#DIV/0!"}},{"$f":"STDEV(Y21:AC21)","v":{"$error":"#DIV/0!"}},"NA","NA","NA","NA","NA",{"$f":"AVERAGE(AF21:AJ21)","v":{"$error":"#DIV/0!"}},{"$f":"STDEV(AF21:AJ21)","v":{"$error":"#DIV/0!"}},76,66,60,69,61,{"$f":"AVERAGE(AM21:AQ21)","v":66.4},{"$f":"STDEV(AM21:AQ21)","v":6.5038450166036395},7,6,10,7,10,{"$f":"AVERAGE(AT21:AX21)","v":8},{"$f":"STDEV(AT21:AX21)","v":1.8708286933869707},1,1,0,0,2,{"$f":"AVERAGE(BA21:BE21)","v":0.8},{"$f":"STDEV(BA21:BE21)","v":0.8366600265340756}]
[null,3,null,"NA","NA","NA","NA","NA",{"$f":"AVERAGE(D22:H22)","v":{"$error":"#DIV/0!"}},{"$f":"STDEV(D22:H22)","v":{"$error":"#DIV/0!"}},"NA","NA","NA","NA","NA",{"$f":"AVERAGE(K22:O22)","v":{"$error":"#DIV/0!"}},{"$f":"STDEV(K22:O22)","v":{"$error":"#DIV/0!"}},"NA","NA","NA","NA","NA",{"$f":"AVERAGE(R22:V22)","v":{"$error":"#DIV/0!"}},{"$f":"STDEV(R22:V22)","v":{"$error":"#DIV/0!"}},"NA","NA","NA","NA","NA",{"$f":"AVERAGE(Y22:AC22)","v":{"$error":"#DIV/0!"}},{"$f":"STDEV(Y22:AC22)","v":{"$error":"#DIV/0!"}},"NA","NA","NA","NA","NA",{"$f":"AVERAGE(AF22:AJ22)","v":{"$error":"#DIV/0!"}},{"$f":"STDEV(AF22:AJ22)","v":{"$error":"#DIV/0!"}},51,45,46,52,45,{"$f":"AVERAGE(AM22:AQ22)","v":{"v":47.8,"d":"48"}},{"$f":"STDEV(AM22:AQ22)","v":{"v":3.420526275297414,"d":"3"}},3,4,5,4,8,{"$f":"AVERAGE(AT22:AX22)","v":{"v":4.8,"d":"5"}},{"$f":"STDEV(AT22:AX22)","v":{"v":1.9235384061671343,"d":"2"}},0,1,0,0,1,{"$f":"AVERAGE(BA22:BE22)","v":{"v":0.4,"d":"0"}},{"$f":"STDEV(BA22:BE22)","v":{"v":0.5477225575051661,"d":"1"}}]
["average",{"$nulls":7},{"$f":"AVERAGE(I20:I22)","v":{"$error":"#DIV/0!"}},{"$nulls":6},{"$f":"AVERAGE(P20:P22)","v":{"$error":"#DIV/0!"}},{"$nulls":6},{"$f":"AVERAGE(W20:W22)","v":{"$error":"#DIV/0!"}},{"$nulls":6},{"$f":"AVERAGE(AD20:AD22)","v":{"$error":"#DIV/0!"}},{"$nulls":6},{"$f":"AVERAGE(AK20:AK22)","v":{"$error":"#DIV/0!"}},{"$nulls":6},{"$f":"AVERAGE(AR20:AR22)","v":{"v":58.20000000000001,"d":"58"}},{"$nulls":6},{"$f":"AVERAGE(AY20:AY22)","v":{"v":6.533333333333334,"d":"7"}},{"$nulls":6},{"$f":"AVERAGE(BF20:BF22)","v":{"v":0.5333333333333333,"d":"1"}}]
["stdev",{"$nulls":7},{"$f":"SUM(J20:J22)","v":{"$error":"#DIV/0!"}},{"$nulls":6},{"$f":"SUM(Q20:Q22)","v":{"$error":"#DIV/0!"}},{"$nulls":6},{"$f":"SUM(X20:X22)","v":{"$error":"#DIV/0!"}},{"$nulls":6},{"$f":"SUM(AE20:AE22)","v":{"$error":"#DIV/0!"}},{"$nulls":6},{"$f":"SUM(AL20:AL22)","v":{"$error":"#DIV/0!"}},{"$nulls":6},{"$f":"SUM(AS20:AS22)","v":{"v":12.80534335007864,"d":"13"}},{"$nulls":6},{"$f":"SUM(AZ20:AZ22)","v":{"v":6.074717949752381,"d":"6"}},{"$nulls":6},{"$f":"SUM(BG20:BG22)","v":{"v":2.278809775039157,"d":"2"}}]
["pS2213 A",1,null,"NA","NA","NA","NA","NA",{"$f":"AVERAGE(D25:H25)","v":{"$error":"#DIV/0!"}},{"$f":"STDEV(D25:H25)","v":{"$error":"#DIV/0!"}},"NA","NA","NA","NA","NA",{"$f":"AVERAGE(K25:O25)","v":{"$error":"#DIV/0!"}},{"$f":"STDEV(K25:O25)","v":{"$error":"#DIV/0!"}},"NA","NA","NA","NA","NA",{"$f":"AVERAGE(R25:V25)","v":{"$error":"#DIV/0!"}},{"$f":"STDEV(R25:V25)","v":{"$error":"#DIV/0!"}},"NA","NA","NA","NA","NA",{"$f":"AVERAGE(Y25:AC25)","v":{"$error":"#DIV/0!"}},{"$f":"STDEV(Y25:AC25)","v":{"$error":"#DIV/0!"}},"NA","NA","NA","NA","NA",{"$f":"AVERAGE(AF25:AJ25)","v":{"$error":"#DIV/0!"}},{"$f":"STDEV(AF25:AJ25)","v":{"$error":"#DIV/0!"}},32,38,42,43,40,{"$f":"AVERAGE(AM25:AQ25)","v":39},{"$f":"STDEV(AM25:AQ25)","v":4.358898943540674},4,6,3,3,1,{"$f":"AVERAGE(AT25:AX25)","v":3.4},{"$f":"STDEV(AT25:AX25)","v":1.8165902124584952},0,0,1,0,0,{"$f":"AVERAGE(BA25:BE25)","v":0.2},{"$f":"STDEV(BA25:BE25)","v":0.4472135954999579}]
["p+0",2,null,"NA","NA","NA","NA","NA",{"$f":"AVERAGE(D26:H26)","v":{"$error":"#DIV/0!"}},{"$f":"STDEV(D26:H26)","v":{"$error":"#DIV/0!"}},"NA","NA","NA","NA","NA",{"$f":"AVERAGE(K26:O26)","v":{"$error":"#DIV/0!"}},{"$f":"STDEV(K26:O26)","v":{"$error":"#DIV/0!"}},"NA","NA","NA","NA","NA",{"$f":"AVERAGE(R26:V26)","v":{"$error":"#DIV/0!"}},{"$f":"STDEV(R26:V26)","v":{"$error":"#DIV/0!"}},"NA","NA","NA","NA","NA",{"$f":"AVERAGE(Y26:AC26)","v":{"$error":"#DIV/0!"}},{"$f":"STDEV(Y26:AC26)","v":{"$error":"#DIV/0!"}},"NA","NA","NA","NA","NA",{"$f":"AVERAGE(AF26:AJ26)","v":{"$error":"#DIV/0!"}},{"$f":"STDEV(AF26:AJ26)","v":{"$error":"#DIV/0!"}},40,49,39,55,45,{"$f":"AVERAGE(AM26:AQ26)","v":45.6},{"$f":"STDEV(AM26:AQ26)","v":6.618156843109732},7,6,5,4,4,{"$f":"AVERAGE(AT26:AX26)","v":5.2},{"$f":"STDEV(AT26:AX26)","v":1.3038404810405309},0,0,0,0,0,{"$f":"AVERAGE(BA26:BE26)","v":0},{"$f":"STDEV(BA26:BE26)","v":0}]
[null,3,null,"NA","NA","NA","NA","NA",{"$f":"AVERAGE(D27:H27)","v":{"$error":"#DIV/0!"}},{"$f":"STDEV(D27:H27)","v":{"$error":"#DIV/0!"}},"NA","NA","NA","NA","NA",{"$f":"AVERAGE(K27:O27)","v":{"$error":"#DIV/0!"}},{"$f":"STDEV(K27:O27)","v":{"$error":"#DIV/0!"}},"NA","NA","NA","NA","NA",{"$f":"AVERAGE(R27:V27)","v":{"$error":"#DIV/0!"}},{"$f":"STDEV(R27:V27)","v":{"$error":"#DIV/0!"}},"NA","NA","NA","NA","NA",{"$f":"AVERAGE(Y27:AC27)","v":{"$error":"#DIV/0!"}},{"$f":"STDEV(Y27:AC27)","v":{"$error":"#DIV/0!"}},"NA","NA","NA","NA","NA",{"$f":"AVERAGE(AF27:AJ27)","v":{"$error":"#DIV/0!"}},{"$f":"STDEV(AF27:AJ27)","v":{"$error":"#DIV/0!"}},45,54,48,47,50,{"$f":"AVERAGE(AM27:AQ27)","v":{"v":48.8,"d":"49"}},{"$f":"STDEV(AM27:AQ27)","v":{"v":3.420526275297414,"d":"3"}},5,8,5,3,6,{"$f":"AVERAGE(AT27:AX27)","v":{"v":5.4,"d":"5"}},{"$f":"STDEV(AT27:AX27)","v":{"v":1.8165902124584943,"d":"2"}},0,0,0,2,1,{"$f":"AVERAGE(BA27:BE27)","v":{"v":0.6,"d":"1"}},{"$f":"STDEV(BA27:BE27)","v":{"v":0.8944271909999159,"d":"1"}}]
["average",{"$nulls":7},{"$f":"AVERAGE(I25:I27)","v":{"$error":"#DIV/0!"}},{"$nulls":6},{"$f":"AVERAGE(P25:P27)","v":{"$error":"#DIV/0!"}},{"$nulls":6},{"$f":"AVERAGE(W25:W27)","v":{"$error":"#DIV/0!"}},{"$nulls":6},{"$f":"AVERAGE(AD25:AD27)","v":{"$error":"#DIV/0!"}},{"$nulls":6},{"$f":"AVERAGE(AK25:AK27)","v":{"$error":"#DIV/0!"}},{"$nulls":6},{"$f":"AVERAGE(AR25:AR27)","v":{"v":44.46666666666666,"d":"44"}},{"$nulls":6},{"$f":"AVERAGE(AY25:AY27)","v":{"v":4.666666666666667,"d":"5"}},{"$nulls":6},{"$f":"AVERAGE(BF25:BF27)","v":{"v":0.26666666666666666,"d":"0"}}]
["stdev",{"$nulls":7},{"$f":"SUM(J25:J27)","v":{"$error":"#DIV/0!"}},{"$nulls":6},{"$f":"SUM(Q25:Q27)","v":{"$error":"#DIV/0!"}},{"$nulls":6},{"$f":"SUM(X25:X27)","v":{"$error":"#DIV/0!"}},{"$nulls":6},{"$f":"SUM(AE25:AE27)","v":{"$error":"#DIV/0!"}},{"$nulls":6},{"$f":"SUM(AL25:AL27)","v":{"$error":"#DIV/0!"}},{"$nulls":6},{"$f":"SUM(AS25:AS27)","v":{"v":14.397582061947821,"d":"14"}},{"$nulls":6},{"$f":"SUM(AZ25:AZ27)","v":{"v":4.93702090595752,"d":"5"}},{"$nulls":6},{"$f":"SUM(BG25:BG27)","v":{"v":1.3416407864998738,"d":"1"}}]
["p+3",1,null,"NA","NA","NA","NA","NA",{"$f":"AVERAGE(D30:H30)","v":{"$error":"#DIV/0!"}},{"$f":"STDEV(D30:H30)","v":{"$error":"#DIV/0!"}},"NA","NA","NA","NA","NA",{"$f":"AVERAGE(K30:O30)","v":{"$error":"#DIV/0!"}},{"$f":"STDEV(K30:O30)","v":{"$error":"#DIV/0!"}},"NA","NA","NA","NA","NA",{"$f":"AVERAGE(R30:V30)","v":{"$error":"#DIV/0!"}},{"$f":"STDEV(R30:V30)","v":{"$error":"#DIV/0!"}},"NA","NA","NA","NA","NA",{"$f":"AVERAGE(Y30:AC30)","v":{"$error":"#DIV/0!"}},{"$f":"STDEV(Y30:AC30)","v":{"$error":"#DIV/0!"}},"NA","NA","NA","NA","NA",{"$f":"AVERAGE(AF30:AJ30)","v":{"$error":"#DIV/0!"}},{"$f":"STDEV(AF30:AJ30)","v":{"$error":"#DIV/0!"}},53,55,61,55,54,{"$f":"AVERAGE(AM30:AQ30)","v":{"v":55.6,"d":"56"}},{"$f":"STDEV(AM30:AQ30)","v":{"v":3.1304951684997055,"d":"3"}},6,8,10,3,10,{"$f":"AVERAGE(AT30:AX30)","v":{"v":7.4,"d":"7"}},{"$f":"STDEV(AT30:AX30)","v":{"v":2.966479394838265,"d":"3"}},0,1,2,1,0,{"$f":"AVERAGE(BA30:BE30)","v":{"v":0.8,"d":"1"}},{"$f":"STDEV(BA30:BE30)","v":{"v":0.8366600265340756,"d":"1"}}]
[null,2,null,"NA","NA","NA","NA","NA",{"$f":"AVERAGE(D31:H31)","v":{"$error":"#DIV/0!"}},{"$f":"STDEV(D31:H31)","v":{"$error":"#DIV/0!"}},"NA","NA","NA","NA","NA",{"$f":"AVERAGE(K31:O31)","v":{"$error":"#DIV/0!"}},{"$f":"STDEV(K31:O31)","v":{"$error":"#DIV/0!"}},"NA","NA","NA","NA","NA",{"$f":"AVERAGE(R31:V31)","v":{"$error":"#DIV/0!"}},{"$f":"STDEV(R31:V31)","v":{"$error":"#DIV/0!"}},"NA","NA","NA","NA","NA",{"$f":"AVERAGE(Y31:AC31)","v":{"$error":"#DIV/0!"}},{"$f":"STDEV(Y31:AC31)","v":{"$error":"#DIV/0!"}},"NA","NA","NA","NA","NA",{"$f":"AVERAGE(AF31:AJ31)","v":{"$error":"#DIV/0!"}},{"$f":"STDEV(AF31:AJ31)","v":{"$error":"#DIV/0!"}},40,39,32,51,41,{"$f":"AVERAGE(AM31:AQ31)","v":{"v":40.6,"d":"41"}},{"$f":"STDEV(AM31:AQ31)","v":{"v":6.804410334481614,"d":"7"}},2,5,2,5,7,{"$f":"AVERAGE(AT31:AX31)","v":{"v":4.2,"d":"4"}},{"$f":"STDEV(AT31:AX31)","v":{"v":2.16794833886788,"d":"2"}},0,1,0,0,1,{"$f":"AVERAGE(BA31:BE31)","v":{"v":0.4,"d":"0"}},{"$f":"STDEV(BA31:BE31)","v":{"v":0.5477225575051661,"d":"1"}}]
[null,3,null,"NA","NA","NA","NA","NA",{"$f":"AVERAGE(D32:H32)","v":{"$error":"#DIV/0!"}},{"$f":"STDEV(D32:H32)","v":{"$error":"#DIV/0!"}},"NA","NA","NA","NA","NA",{"$f":"AVERAGE(K32:O32)","v":{"$error":"#DIV/0!"}},{"$f":"STDEV(K32:O32)","v":{"$error":"#DIV/0!"}},"NA","NA","NA","NA","NA",{"$f":"AVERAGE(R32:V32)","v":{"$error":"#DIV/0!"}},{"$f":"STDEV(R32:V32)","v":{"$error":"#DIV/0!"}},"NA","NA","NA","NA","NA",{"$f":"AVERAGE(Y32:AC32)","v":{"$error":"#DIV/0!"}},{"$f":"STDEV(Y32:AC32)","v":{"$error":"#DIV/0!"}},"NA","NA","NA","NA","NA",{"$f":"AVERAGE(AF32:AJ32)","v":{"$error":"#DIV/0!"}},{"$f":"STDEV(AF32:AJ32)","v":{"$error":"#DIV/0!"}},41,45,53,36,40,{"$f":"AVERAGE(AM32:AQ32)","v":43},{"$f":"STDEV(AM32:AQ32)","v":{"v":6.442049363362563,"d":"6"}},4,7,7,6,2,{"$f":"AVERAGE(AT32:AX32)","v":{"v":5.2,"d":"5"}},{"$f":"STDEV(AT32:AX32)","v":{"v":2.1679483388678804,"d":"2"}},0,0,0,0,0,{"$f":"AVERAGE(BA32:BE32)","v":0},{"$f":"STDEV(BA32:BE32)","v":0}]
["average",{"$nulls":7},{"$f":"AVERAGE(I30:I32)","v":{"$error":"#DIV/0!"}},{"$nulls":6},{"$f":"AVERAGE(P30:P32)","v":{"$error":"#DIV/0!"}},{"$nulls":6},{"$f":"AVERAGE(W30:W32)","v":{"$error":"#DIV/0!"}},{"$nulls":6},{"$f":"AVERAGE(AD30:AD32)","v":{"$error":"#DIV/0!"}},{"$nulls":6},{"$f":"AVERAGE(AK30:AK32)","v":{"$error":"#DIV/0!"}},{"$nulls":6},{"$f":"AVERAGE(AR30:AR32)","v":{"v":46.4,"d":"46"}},{"$nulls":6},{"$f":"AVERAGE(AY30:AY32)","v":{"v":5.6000000000000005,"d":"6"}},{"$nulls":6},{"$f":"AVERAGE(BF30:BF32)","v":{"v":0.4000000000000001,"d":"0"}}]
["stdev",{"$nulls":7},{"$f":"SUM(J30:J32)","v":{"$error":"#DIV/0!"}},{"$nulls":6},{"$f":"SUM(Q30:Q32)","v":{"$error":"#DIV/0!"}},{"$nulls":6},{"$f":"SUM(X30:X32)","v":{"$error":"#DIV/0!"}},{"$nulls":6},{"$f":"SUM(AE30:AE32)","v":{"$error":"#DIV/0!"}},{"$nulls":6},{"$f":"SUM(AL30:AL32)","v":{"$error":"#DIV/0!"}},{"$nulls":6},{"$f":"SUM(AS30:AS32)","v":{"v":16.376954866343883,"d":"16"}},{"$nulls":6},{"$f":"SUM(AZ30:AZ32)","v":{"v":7.302376072574026,"d":"7"}},{"$nulls":6},{"$f":"SUM(BG30:BG32)","v":{"v":1.3843825840392416,"d":"1"}}]
["pS2213 APR",1,null,"NA","NA","NA","NA","NA",{"$f":"AVERAGE(D35:H35)","v":{"$error":"#DIV/0!"}},{"$f":"STDEV(D35:H35)","v":{"$error":"#DIV/0!"}},"NA","NA","NA","NA","NA",{"$f":"AVERAGE(K35:O35)","v":{"$error":"#DIV/0!"}},{"$f":"STDEV(K35:O35)","v":{"$error":"#DIV/0!"}},"NA","NA","NA","NA","NA",{"$f":"AVERAGE(R35:V35)","v":{"$error":"#DIV/0!"}},{"$f":"STDEV(R35:V35)","v":{"$error":"#DIV/0!"}},"NA","NA","NA","NA","NA",{"$f":"AVERAGE(Y35:AC35)","v":{"$error":"#DIV/0!"}},{"$f":"STDEV(Y35:AC35)","v":{"$error":"#DIV/0!"}},"NA","NA","NA","NA","NA",{"$f":"AVERAGE(AF35:AJ35)","v":{"$error":"#DIV/0!"}},{"$f":"STDEV(AF35:AJ35)","v":{"$error":"#DIV/0!"}},55,51,63,63,53,{"$f":"AVERAGE(AM35:AQ35)","v":57},{"$f":"STDEV(AM35:AQ35)","v":5.656854249492381},4,11,5,6,6,{"$f":"AVERAGE(AT35:AX35)","v":6.4},{"$f":"STDEV(AT35:AX35)","v":2.7018512172212588},1,2,0,0,0,{"$f":"AVERAGE(BA35:BE35)","v":0.6},{"$f":"STDEV(BA35:BE35)","v":0.8944271909999159}]
["p+0",2,null,"NA","NA","NA","NA","NA",{"$f":"AVERAGE(D36:H36)","v":{"$error":"#DIV/0!"}},{"$f":"STDEV(D36:H36)","v":{"$error":"#DIV/0!"}},"NA","NA","NA","NA","NA",{"$f":"AVERAGE(K36:O36)","v":{"$error":"#DIV/0!"}},{"$f":"STDEV(K36:O36)","v":{"$error":"#DIV/0!"}},"NA","NA","NA","NA","NA",{"$f":"AVERAGE(R36:V36)","v":{"$error":"#DIV/0!"}},{"$f":"STDEV(R36:V36)","v":{"$error":"#DIV/0!"}},"NA","NA","NA","NA","NA",{"$f":"AVERAGE(Y36:AC36)","v":{"$error":"#DIV/0!"}},{"$f":"STDEV(Y36:AC36)","v":{"$error":"#DIV/0!"}},"NA","NA","NA","NA","NA",{"$f":"AVERAGE(AF36:AJ36)","v":{"$error":"#DIV/0!"}},{"$f":"STDEV(AF36:AJ36)","v":{"$error":"#DIV/0!"}},48,55,49,53,44,{"$f":"AVERAGE(AM36:AQ36)","v":49.8},{"$f":"STDEV(AM36:AQ36)","v":4.324349662087931},11,4,8,4,7,{"$f":"AVERAGE(AT36:AX36)","v":6.8},{"$f":"STDEV(AT36:AX36)","v":2.9495762407505257},0,1,0,0,1,{"$f":"AVERAGE(BA36:BE36)","v":0.4},{"$f":"STDEV(BA36:BE36)","v":0.5477225575051661}]
[null,3,null,"NA","NA","NA","NA","NA",{"$f":"AVERAGE(D37:H37)","v":{"$error":"#DIV/0!"}},{"$f":"STDEV(D37:H37)","v":{"$error":"#DIV/0!"}},"NA","NA","NA","NA","NA",{"$f":"AVERAGE(K37:O37)","v":{"$error":"#DIV/0!"}},{"$f":"STDEV(K37:O37)","v":{"$error":"#DIV/0!"}},"NA","NA","NA","NA","NA",{"$f":"AVERAGE(R37:V37)","v":{"$error":"#DIV/0!"}},{"$f":"STDEV(R37:V37)","v":{"$error":"#DIV/0!"}},"NA","NA","NA","NA","NA",{"$f":"AVERAGE(Y37:AC37)","v":{"$error":"#DIV/0!"}},{"$f":"STDEV(Y37:AC37)","v":{"$error":"#DIV/0!"}},"NA","NA","NA","NA","NA",{"$f":"AVERAGE(AF37:AJ37)","v":{"$error":"#DIV/0!"}},{"$f":"STDEV(AF37:AJ37)","v":{"$error":"#DIV/0!"}},55,42,53,46,39,{"$f":"AVERAGE(AM37:AQ37)","v":47},{"$f":"STDEV(AM37:AQ37)","v":{"v":6.892024376045111,"d":"7"}},10,4,3,4,4,{"$f":"AVERAGE(AT37:AX37)","v":5},{"$f":"STDEV(AT37:AX37)","v":{"v":2.8284271247461903,"d":"3"}},2,0,0,0,1,{"$f":"AVERAGE(BA37:BE37)","v":{"v":0.6,"d":"1"}},{"$f":"STDEV(BA37:BE37)","v":{"v":0.8944271909999159,"d":"1"}}]
["average",{"$nulls":7},{"$f":"AVERAGE(I35:I37)","v":{"$error":"#DIV/0!"}},{"$nulls":6},{"$f":"AVERAGE(P35:P37)","v":{"$error":"#DIV/0!"}},{"$nulls":6},{"$f":"AVERAGE(W35:W37)","v":{"$error":"#DIV/0!"}},{"$nulls":6},{"$f":"AVERAGE(AD35:AD37)","v":{"$error":"#DIV/0!"}},{"$nulls":6},{"$f":"AVERAGE(AK35:AK37)","v":{"$error":"#DIV/0!"}},{"$nulls":6},{"$f":"AVERAGE(AR35:AR37)","v":{"v":51.26666666666667,"d":"51"}},{"$nulls":6},{"$f":"AVERAGE(AY35:AY37)","v":{"v":6.066666666666666,"d":"6"}},{"$nulls":6},{"$f":"AVERAGE(BF35:BF37)","v":{"v":0.5333333333333333,"d":"1"}}]
["stdev",{"$nulls":7},{"$f":"SUM(J35:J37)","v":{"$error":"#DIV/0!"}},{"$nulls":6},{"$f":"SUM(Q35:Q37)","v":{"$error":"#DIV/0!"}},{"$nulls":6},{"$f":"SUM(X35:X37)","v":{"$error":"#DIV/0!"}},{"$nulls":6},{"$f":"SUM(AE35:AE37)","v":{"$error":"#DIV/0!"}},{"$nulls":6},{"$f":"SUM(AL35:AL37)","v":{"$error":"#DIV/0!"}},{"$nulls":6},{"$f":"SUM(AS35:AS37)","v":{"v":16.873228287625423,"d":"17"}},{"$nulls":6},{"$f":"SUM(AZ35:AZ37)","v":{"v":8.479854582717975,"d":"8"}},{"$nulls":6},{"$f":"SUM(BG35:BG37)","v":{"v":2.336576939504998,"d":"2"}}]
["p+3",1,null,"NA","NA","NA","NA","NA",{"$f":"AVERAGE(D40:H40)","v":{"$error":"#DIV/0!"}},{"$f":"STDEV(D40:H40)","v":{"$error":"#DIV/0!"}},"NA","NA","NA","NA","NA",{"$f":"AVERAGE(K40:O40)","v":{"$error":"#DIV/0!"}},{"$f":"STDEV(K40:O40)","v":{"$error":"#DIV/0!"}},"NA","NA","NA","NA","NA",{"$f":"AVERAGE(R40:V40)","v":{"$error":"#DIV/0!"}},{"$f":"STDEV(R40:V40)","v":{"$error":"#DIV/0!"}},"NA","NA","NA","NA","NA",{"$f":"AVERAGE(Y40:AC40)","v":{"$error":"#DIV/0!"}},{"$f":"STDEV(Y40:AC40)","v":{"$error":"#DIV/0!"}},"NA","NA","NA","NA","NA",{"$f":"AVERAGE(AF40:AJ40)","v":{"$error":"#DIV/0!"}},{"$f":"STDEV(AF40:AJ40)","v":{"$error":"#DIV/0!"}},87,79,70,59,81,{"$f":"AVERAGE(AM40:AQ40)","v":{"v":75.2,"d":"75"}},{"$f":"STDEV(AM40:AQ40)","v":{"v":10.917875251164936,"d":"11"}},10,15,11,9,17,{"$f":"AVERAGE(AT40:AX40)","v":{"v":12.4,"d":"12"}},{"$f":"STDEV(AT40:AX40)","v":{"v":3.4351128074635353,"d":"3"}},1,2,0,3,4,{"$f":"AVERAGE(BA40:BE40)","v":2},{"$f":"STDEV(BA40:BE40)","v":{"v":1.5811388300841898,"d":"2"}}]
[null,2,null,"NA","NA","NA","NA","NA",{"$f":"AVERAGE(D41:H41)","v":{"$error":"#DIV/0!"}},{"$f":"STDEV(D41:H41)","v":{"$error":"#DIV/0!"}},"NA","NA","NA","NA","NA",{"$f":"AVERAGE(K41:O41)","v":{"$error":"#DIV/0!"}},{"$f":"STDEV(K41:O41)","v":{"$error":"#DIV/0!"}},"NA","NA","NA","NA","NA",{"$f":"AVERAGE(R41:V41)","v":{"$error":"#DIV/0!"}},{"$f":"STDEV(R41:V41)","v":{"$error":"#DIV/0!"}},"NA","NA","NA","NA","NA",{"$f":"AVERAGE(Y41:AC41)","v":{"$error":"#DIV/0!"}},{"$f":"STDEV(Y41:AC41)","v":{"$error":"#DIV/0!"}},"NA","NA","NA","NA","NA",{"$f":"AVERAGE(AF41:AJ41)","v":{"$error":"#DIV/0!"}},{"$f":"STDEV(AF41:AJ41)","v":{"$error":"#DIV/0!"}},58,47,48,48,54,{"$f":"AVERAGE(AM41:AQ41)","v":51},{"$f":"STDEV(AM41:AQ41)","v":{"v":4.795831523312719,"d":"5"}},10,6,9,5,7,{"$f":"AVERAGE(AT41:AX41)","v":{"v":7.4,"d":"7"}},{"$f":"STDEV(AT41:AX41)","v":{"v":2.0736441353327715,"d":"2"}},0,0,1,0,0,{"$f":"AVERAGE(BA41:BE41)","v":{"v":0.2,"d":"0"}},{"$f":"STDEV(BA41:BE41)","v":{"v":0.4472135954999579,"d":"0"}}]
[null,3,null,"NA","NA","NA","NA","NA",{"$f":"AVERAGE(D42:H42)","v":{"$error":"#DIV/0!"}},{"$f":"STDEV(D42:H42)","v":{"$error":"#DIV/0!"}},"NA","NA","NA","NA","NA",{"$f":"AVERAGE(K42:O42)","v":{"$error":"#DIV/0!"}},{"$f":"STDEV(K42:O42)","v":{"$error":"#DIV/0!"}},"NA","NA","NA","NA","NA",{"$f":"AVERAGE(R42:V42)","v":{"$error":"#DIV/0!"}},{"$f":"STDEV(R42:V42)","v":{"$error":"#DIV/0!"}},"NA","NA","NA","NA","NA",{"$f":"AVERAGE(Y42:AC42)","v":{"$error":"#DIV/0!"}},{"$f":"STDEV(Y42:AC42)","v":{"$error":"#DIV/0!"}},"NA","NA","NA","NA","NA",{"$f":"AVERAGE(AF42:AJ42)","v":{"$error":"#DIV/0!"}},{"$f":"STDEV(AF42:AJ42)","v":{"$error":"#DIV/0!"}},82,70,56,69,58,{"$f":"AVERAGE(AM42:AQ42)","v":67},{"$f":"STDEV(AM42:AQ42)","v":{"v":10.488088481701515,"d":"10"}},5,6,12,7,8,{"$f":"AVERAGE(AT42:AX42)","v":{"v":7.6,"d":"8"}},{"$f":"STDEV(AT42:AX42)","v":{"v":2.7018512172212588,"d":"3"}},2,1,1,1,1,{"$f":"AVERAGE(BA42:BE42)","v":{"v":1.2,"d":"1"}},{"$f":"STDEV(BA42:BE42)","v":{"v":0.44721359549995787,"d":"0"}}]
["average",{"$nulls":7},{"$f":"AVERAGE(I40:I42)","v":{"$error":"#DIV/0!"}},{"$nulls":6},{"$f":"AVERAGE(P40:P42)","v":{"$error":"#DIV/0!"}},{"$nulls":6},{"$f":"AVERAGE(W40:W42)","v":{"$error":"#DIV/0!"}},{"$nulls":6},{"$f":"AVERAGE(AD40:AD42)","v":{"$error":"#DIV/0!"}},{"$nulls":6},{"$f":"AVERAGE(AK40:AK42)","v":{"$error":"#DIV/0!"}},{"$nulls":6},{"$f":"AVERAGE(AR40:AR42)","v":{"v":64.39999999999999,"d":"64"}},{"$nulls":6},{"$f":"AVERAGE(AY40:AY42)","v":{"v":9.133333333333333,"d":"9"}},{"$nulls":6},{"$f":"AVERAGE(BF40:BF42)","v":{"v":1.1333333333333335,"d":"1"}}]
["stdev",{"$nulls":7},{"$f":"SUM(J40:J42)","v":{"$error":"#DIV/0!"}},{"$nulls":6},{"$f":"SUM(Q40:Q42)","v":{"$error":"#DIV/0!"}},{"$nulls":6},{"$f":"SUM(X40:X42)","v":{"$error":"#DIV/0!"}},{"$nulls":6},{"$f":"SUM(AE40:AE42)","v":{"$error":"#DIV/0!"}},{"$nulls":6},{"$f":"SUM(AL40:AL42)","v":{"$error":"#DIV/0!"}},{"$nulls":6},{"$f":"SUM(AS40:AS42)","v":{"v":26.20179525617917,"d":"26"}},{"$nulls":6},{"$f":"SUM(AZ40:AZ42)","v":{"v":8.210608160017566,"d":"8"}},{"$nulls":6},{"$f":"SUM(BG40:BG42)","v":{"v":2.4755660210841057,"d":"2"}}]
[]
[]
["T4","2018-02-12"]
["Sample","Dilution:",null,"10^0",{"$nulls":4},"AVERAGE","STDEV","10^-1",{"$nulls":4},"AVERAGE","STDEV","10^-2",{"$nulls":4},"AVERAGE","STDEV","10^-3",{"$nulls":4},"AVERAGE","STDEV","10^-4",{"$nulls":4},"AVERAGE","STDEV","10^-5",{"$nulls":4},"AVERAGE","STDEV","10^-6",{"$nulls":4},"AVERAGE","STDEV","10^-7",{"$nulls":4},"AVERAGE","STDEV"]
["Blank",1,null,0,0,0,0,0,{"$f":"AVERAGE(D49:H49)","v":0},{"$f":"STDEV(D49:H49)","v":0},0,0,0,0,0,{"$f":"AVERAGE(K49:O49)","v":0},{"$f":"STDEV(K49:O49)","v":0},0,0,0,0,0,{"$f":"AVERAGE(R49:V49)","v":0},{"$f":"STDEV(R49:V49)","v":0},0,0,0,0,0,{"$f":"AVERAGE(Y49:AC49)","v":0},{"$f":"STDEV(Y49:AC49)","v":0},0,0,0,0,0,{"$f":"AVERAGE(AF49:AJ49)","v":0},{"$f":"STDEV(AF49:AJ49)","v":0},0,0,0,0,0,{"$f":"AVERAGE(AM49:AQ49)","v":0},{"$f":"STDEV(AM49:AQ49)","v":0},0,0,0,0,0,{"$f":"AVERAGE(AT49:AX49)","v":0},{"$f":"STDEV(AT49:AX49)","v":0},0,0,0,0,0,{"$f":"AVERAGE(BA49:BE49)","v":0},{"$f":"STDEV(BA49:BE49)","v":0}]
[null,2,null,0,0,0,0,0,{"$f":"AVERAGE(D50:H50)","v":0},{"$f":"STDEV(D50:H50)","v":0},0,0,0,0,0,{"$f":"AVERAGE(K50:O50)","v":0},{"$f":"STDEV(K50:O50)","v":0},0,0,0,0,0,{"$f":"AVERAGE(R50:V50)","v":0},{"$f":"STDEV(R50:V50)","v":0},0,0,0,0,0,{"$f":"AVERAGE(Y50:AC50)","v":0},{"$f":"STDEV(Y50:AC50)","v":0},0,0,0,0,0,{"$f":"AVERAGE(AF50:AJ50)","v":0},{"$f":"STDEV(AF50:AJ50)","v":0},0,0,0,0,0,{"$f":"AVERAGE(AM50:AQ50)","v":0},{"$f":"STDEV(AM50:AQ50)","v":0},0,0,0,0,0,{"$f":"AVERAGE(AT50:AX50)","v":0},{"$f":"STDEV(AT50:AX50)","v":0},0,0,0,0,0,{"$f":"AVERAGE(BA50:BE50)","v":0},{"$f":"STDEV(BA50:BE50)","v":0}]
[null,3,null,0,0,0,0,0,{"$f":"AVERAGE(D51:H51)","v":0},{"$f":"STDEV(D51:H51)","v":0},0,0,0,0,0,{"$f":"AVERAGE(K51:O51)","v":0},{"$f":"STDEV(K51:O51)","v":0},0,0,0,0,0,{"$f":"AVERAGE(R51:V51)","v":0},{"$f":"STDEV(R51:V51)","v":0},0,0,0,0,0,{"$f":"AVERAGE(Y51:AC51)","v":0},{"$f":"STDEV(Y51:AC51)","v":0},0,0,0,0,0,{"$f":"AVERAGE(AF51:AJ51)","v":0},{"$f":"STDEV(AF51:AJ51)","v":0},0,0,0,0,0,{"$f":"AVERAGE(AM51:AQ51)","v":0},{"$f":"STDEV(AM51:AQ51)","v":0},0,0,0,0,0,{"$f":"AVERAGE(AT51:AX51)","v":0},{"$f":"STDEV(AT51:AX51)","v":0},0,0,0,0,0,{"$f":"AVERAGE(BA51:BE51)","v":0},{"$f":"STDEV(BA51:BE51)","v":0}]
[{"$nulls":8},{"$f":"AVERAGE(I49:I51)","v":0},{"$nulls":6},{"$f":"AVERAGE(P49:P51)","v":0},{"$nulls":6},{"$f":"AVERAGE(W49:W51)","v":0},{"$nulls":6},{"$f":"AVERAGE(AD49:AD51)","v":0},{"$nulls":6},{"$f":"AVERAGE(AK49:AK51)","v":0},{"$nulls":6},{"$f":"AVERAGE(AR49:AR51)","v":0},{"$nulls":6},{"$f":"AVERAGE(AY49:AY51)","v":0},{"$nulls":6},{"$f":"AVERAGE(BF49:BF51)","v":0}]
[{"$nulls":8},{"$f":"SUM(J49:J51)","v":0},{"$nulls":6},{"$f":"SUM(Q49:Q51)","v":0},{"$nulls":6},{"$f":"SUM(X49:X51)","v":0},{"$nulls":6},{"$f":"SUM(AE49:AE51)","v":0},{"$nulls":6},{"$f":"SUM(AL49:AL51)","v":0},{"$nulls":6},{"$f":"SUM(AS49:AS51)","v":0},{"$nulls":6},{"$f":"SUM(AZ49:AZ51)","v":0},{"$nulls":6},{"$f":"SUM(BG49:BG51)","v":0}]
["BW25113 -",1,null,"NA","NA","NA","NA","NA",{"$f":"AVERAGE(D54:H54)","v":{"$error":"#DIV/0!"}},{"$f":"STDEV(D54:H54)","v":{"$error":"#DIV/0!"}},"NA","NA","NA","NA","NA",{"$f":"AVERAGE(K54:O54)","v":{"$error":"#DIV/0!"}},{"$f":"STDEV(K54:O54)","v":{"$error":"#DIV/0!"}},"NA","NA","NA","NA","NA",{"$f":"AVERAGE(R54:V54)","v":{"$error":"#DIV/0!"}},{"$f":"STDEV(R54:V54)","v":{"$error":"#DIV/0!"}},"NA","NA","NA","NA","NA",{"$f":"AVERAGE(Y54:AC54)","v":{"$error":"#DIV/0!"}},{"$f":"STDEV(Y54:AC54)","v":{"$error":"#DIV/0!"}},"NA","NA","NA","NA","NA",{"$f":"AVERAGE(AF54:AJ54)","v":{"$error":"#DIV/0!"}},{"$f":"STDEV(AF54:AJ54)","v":{"$error":"#DIV/0!"}},"NA","NA","NA","NA","NA",{"$f":"AVERAGE(AM54:AQ54)","v":{"$error":"#DIV/0!"}},{"$f":"STDEV(AM54:AQ54)","v":{"$error":"#DIV/0!"}},72,64,65,66,39,{"$f":"AVERAGE(AT54:AX54)","v":{"v":61.2,"d":"61"}},{"$f":"STDEV(AT54:AX54)","v":{"v":12.794530081249558,"d":"13"}},18,15,16,16,10,{"$f":"AVERAGE(BA54:BE54)","v":15},{"$f":"STDEV(BA54:BE54)","v":3}]
["pS2213 - ",2,null,"NA","NA","NA","NA","NA",{"$f":"AVERAGE(D55:H55)","v":{"$error":"#DIV/0!"}},{"$f":"STDEV(D55:H55)","v":{"$error":"#DIV/0!"}},"NA","NA","NA","NA","NA",{"$f":"AVERAGE(K55:O55)","v":{"$error":"#DIV/0!"}},{"$f":"STDEV(K55:O55)","v":{"$error":"#DIV/0!"}},"NA","NA","NA","NA","NA",{"$f":"AVERAGE(R55:V55)","v":{"$error":"#DIV/0!"}},{"$f":"STDEV(R55:V55)","v":{"$error":"#DIV/0!"}},"NA","NA","NA","NA","NA",{"$f":"AVERAGE(Y55:AC55)","v":{"$error":"#DIV/0!"}},{"$f":"STDEV(Y55:AC55)","v":{"$error":"#DIV/0!"}},"NA","NA","NA","NA","NA",{"$f":"AVERAGE(AF55:AJ55)","v":{"$error":"#DIV/0!"}},{"$f":"STDEV(AF55:AJ55)","v":{"$error":"#DIV/0!"}},90,82,90,86,88,{"$f":"AVERAGE(AM55:AQ55)","v":{"v":87.2,"d":"87"}},{"$f":"STDEV(AM55:AQ55)","v":{"v":3.3466401061363023,"d":"3"}},13,21,19,9,11,{"$f":"AVERAGE(AT55:AX55)","v":{"v":14.6,"d":"15"}},{"$f":"STDEV(AT55:AX55)","v":{"v":5.176871642217915,"d":"5"}},3,3,2,1,3,{"$f":"AVERAGE(BA55:BE55)","v":{"v":2.4,"d":"2"}},{"$f":"STDEV(BA55:BE55)","v":{"v":0.8944271909999157,"d":"1"}}]
[null,3,null,"NA","NA","NA","NA","NA",{"$f":"AVERAGE(D56:H56)","v":{"$error":"#DIV/0!"}},{"$f":"STDEV(D56:H56)","v":{"$error":"#DIV/0!"}},"NA","NA","NA","NA","NA",{"$f":"AVERAGE(K56:O56)","v":{"$error":"#DIV/0!"}},{"$f":"STDEV(K56:O56)","v":{"$error":"#DIV/0!"}},"NA","NA","NA","NA","NA",{"$f":"AVERAGE(R56:V56)","v":{"$error":"#DIV/0!"}},{"$f":"STDEV(R56:V56)","v":{"$error":"#DIV/0!"}},"NA","NA","NA","NA","NA",{"$f":"AVERAGE(Y56:AC56)","v":{"$error":"#DIV/0!"}},{"$f":"STDEV(Y56:AC56)","v":{"$error":"#DIV/0!"}},"NA","NA","NA","NA","NA",{"$f":"AVERAGE(AF56:AJ56)","v":{"$error":"#DIV/0!"}},{"$f":"STDEV(AF56:AJ56)","v":{"$error":"#DIV/0!"}},112,96,108,95,99,{"$f":"AVERAGE(AM56:AQ56)","v":102},{"$f":"STDEV(AM56:AQ56)","v":{"v":7.582875444051551,"d":"8"}},14,17,18,12,14,{"$f":"AVERAGE(AT56:AX56)","v":15},{"$f":"STDEV(AT56:AX56)","v":{"v":2.449489742783178,"d":"2"}},3,4,4,6,5,{"$f":"AVERAGE(BA56:BE56)","v":{"v":4.4,"d":"4"}},{"$f":"STDEV(BA56:BE56)","v":{"v":1.1401754250991383,"d":"1"}}]
["average",{"$nulls":7},{"$f":"AVERAGE(I54:I56)","v":{"$error":"#DIV/0!"}},{"$nulls":6},{"$f":"AVERAGE(P54:P56)","v":{"$error":"#DIV/0!"}},{"$nulls":6},{"$f":"AVERAGE(W54:W56)","v":{"$error":"#DIV/0!"}},{"$nulls":6},{"$f":"AVERAGE(AD54:AD56)","v":{"$error":"#DIV/0!"}},{"$nulls":6},{"$f":"AVERAGE(AK54:AK56)","v":{"$error":"#DIV/0!"}},{"$nulls":6},{"$f":"AVERAGE(AR54:AR56)","v":{"$error":"#DIV/0!"}},{"$nulls":6},{"$f":"AVERAGE(AY54:AY56)","v":{"v":30.266666666666666,"d":"30"}},{"$nulls":6},{"$f":"AVERAGE(BF54:BF56)","v":{"v":7.266666666666666,"d":"7"}}]
["stdev",{"$nulls":7},{"$f":"SUM(J54:J56)","v":{"$error":"#DIV/0!"}},{"$nulls":6},{"$f":"SUM(Q54:Q56)","v":{"$error":"#DIV/0!"}},{"$nulls":6},{"$f":"SUM(X54:X56)","v":{"$error":"#DIV/0!"}},{"$nulls":6},{"$f":"SUM(AE54:AE56)","v":{"$error":"#DIV/0!"}},{"$nulls":6},{"$f":"SUM(AL54:AL56)","v":{"$error":"#DIV/0!"}},{"$nulls":6},{"$f":"SUM(AS54:AS56)","v":{"$error":"#DIV/0!"}},{"$nulls":6},{"$f":"SUM(AZ54:AZ56)","v":{"v":20.42089146625065,"d":"20"}},{"$nulls":6},{"$f":"SUM(BG54:BG56)","v":{"v":5.034602616099054,"d":"5"}}]
["pS2213 - ",1,null,"NA","NA","NA","NA","NA",{"$f":"AVERAGE(D59:H59)","v":{"$error":"#DIV/0!"}},{"$f":"STDEV(D59:H59)","v":{"$error":"#DIV/0!"}},"NA","NA","NA","NA","NA",{"$f":"AVERAGE(K59:O59)","v":{"$error":"#DIV/0!"}},{"$f":"STDEV(K59:O59)","v":{"$error":"#DIV/0!"}},"NA","NA","NA","NA","NA",{"$f":"AVERAGE(R59:V59)","v":{"$error":"#DIV/0!"}},{"$f":"STDEV(R59:V59)","v":{"$error":"#DIV/0!"}},120,119,99,117,106,{"$f":"AVERAGE(Y59:AC59)","v":112.2},{"$f":"STDEV(Y59:AC59)","v":9.257429448826494},17,13,14,12,16,{"$f":"AVERAGE(AF59:AJ59)","v":14.4},{"$f":"STDEV(AF59:AJ59)","v":2.073644135332775},1,0,2,2,1,{"$f":"AVERAGE(AM59:AQ59)","v":1.2},{"$f":"STDEV(AM59:AQ59)","v":0.8366600265340756},0,0,0,0,0,{"$f":"AVERAGE(AT59:AX59)","v":0},{"$f":"STDEV(AT59:AX59)","v":0},0,0,0,0,0,{"$f":"AVERAGE(BA59:BE59)","v":0},{"$f":"STDEV(BA59:BE59)","v":0}]
["p+0",2,null,"NA","NA","NA","NA","NA",{"$f":"AVERAGE(D60:H60)","v":{"$error":"#DIV/0!"}},{"$f":"STDEV(D60:H60)","v":{"$error":"#DIV/0!"}},"NA","NA","NA","NA","NA",{"$f":"AVERAGE(K60:O60)","v":{"$error":"#DIV/0!"}},{"$f":"STDEV(K60:O60)","v":{"$error":"#DIV/0!"}},"NA","NA","NA","NA","NA",{"$f":"AVERAGE(R60:V60)","v":{"$error":"#DIV/0!"}},{"$f":"STDEV(R60:V60)","v":{"$error":"#DIV/0!"}},91,79,79,102,82,{"$f":"AVERAGE(Y60:AC60)","v":86.6},{"$f":"STDEV(Y60:AC60)","v":9.914635646356313},7,6,4,16,3,{"$f":"AVERAGE(AF60:AJ60)","v":7.2},{"$f":"STDEV(AF60:AJ60)","v":5.167204273105526},2,1,0,0,1,{"$f":"AVERAGE(AM60:AQ60)","v":0.8},{"$f":"STDEV(AM60:AQ60)","v":0.8366600265340756},0,0,0,0,0,{"$f":"AVERAGE(AT60:AX60)","v":0},{"$f":"STDEV(AT60:AX60)","v":0},0,0,0,0,0,{"$f":"AVERAGE(BA60:BE60)","v":0},{"$f":"STDEV(BA60:BE60)","v":0}]
[null,3,null,"NA","NA","NA","NA","NA",{"$f":"AVERAGE(D61:H61)","v":{"$error":"#DIV/0!"}},{"$f":"STDEV(D61:H61)","v":{"$error":"#DIV/0!"}},"NA","NA","NA","NA","NA",{"$f":"AVERAGE(K61:O61)","v":{"$error":"#DIV/0!"}},{"$f":"STDEV(K61:O61)","v":{"$error":"#DIV/0!"}},"NA","NA","NA","NA","NA",{"$f":"AVERAGE(R61:V61)","v":{"$error":"#DIV/0!"}},{"$f":"STDEV(R61:V61)","v":{"$error":"#DIV/0!"}},101,100,109,100,111,{"$f":"AVERAGE(Y61:AC61)","v":{"v":104.2,"d":"104"}},{"$f":"STDEV(Y61:AC61)","v":{"v":5.357238094391549,"d":"5"}},6,19,11,8,7,{"$f":"AVERAGE(AF61:AJ61)","v":{"v":10.2,"d":"10"}},{"$f":"STDEV(AF61:AJ61)","v":{"v":5.2630789467763055,"d":"5"}},0,2,2,1,2,{"$f":"AVERAGE(AM61:AQ61)","v":{"v":1.4,"d":"1"}},{"$f":"STDEV(AM61:AQ61)","v":{"v":0.8944271909999157,"d":"1"}},0,0,0,0,0,{"$f":"AVERAGE(AT61:AX61)","v":0},{"$f":"STDEV(AT61:AX61)","v":0},0,0,0,0,0,{"$f":"AVERAGE(BA61:BE61)","v":0},{"$f":"STDEV(BA61:BE61)","v":0}]
["average",{"$nulls":7},{"$f":"AVERAGE(I59:I61)","v":{"$error":"#DIV/0!"}},{"$nulls":6},{"$f":"AVERAGE(P59:P61)","v":{"$error":"#DIV/0!"}},{"$nulls":6},{"$f":"AVERAGE(W59:W61)","v":{"$error":"#DIV/0!"}},{"$nulls":6},{"$f":"AVERAGE(AD59:AD61)","v":101},{"$nulls":6},{"$f":"AVERAGE(AK59:AK61)","v":{"v":10.6,"d":"11"}},{"$nulls":6},{"$f":"AVERAGE(AR59:AR61)","v":{"v":1.1333333333333333,"d":"1"}},{"$nulls":6},{"$f":"AVERAGE(AY59:AY61)","v":0},{"$nulls":6},{"$f":"AVERAGE(BF59:BF61)","v":0}]
["stdev",{"$nulls":7},{"$f":"SUM(J59:J61)","v":{"$error":"#DIV/0!"}},{"$nulls":6},{"$f":"SUM(Q59:Q61)","v":{"$error":"#DIV/0!"}},{"$nulls":6},{"$f":"SUM(X59:X61)","v":{"$error":"#DIV/0!"}},{"$nulls":6},{"$f":"SUM(AE59:AE61)","v":{"v":24.529303189574357,"d":"25"}},{"$nulls":6},{"$f":"SUM(AL59:AL61)","v":{"v":12.503927355214607,"d":"13"}},{"$nulls":6},{"$f":"SUM(AS59:AS61)","v":{"v":2.567747244068067,"d":"3"}},{"$nulls":6},{"$f":"SUM(AZ59:AZ61)","v":0},{"$nulls":6},{"$f":"SUM(BG59:BG61)","v":0}]
["pS2213 A",1,null,"NA","NA","NA","NA","NA",{"$f":"AVERAGE(D64:H64)","v":{"$error":"#DIV/0!"}},{"$f":"STDEV(D64:H64)","v":{"$error":"#DIV/0!"}},"NA","NA","NA","NA","NA",{"$f":"AVERAGE(K64:O64)","v":{"$error":"#DIV/0!"}},{"$f":"STDEV(K64:O64)","v":{"$error":"#DIV/0!"}},"NA","NA","NA","NA","NA",{"$f":"AVERAGE(R64:V64)","v":{"$error":"#DIV/0!"}},{"$f":"STDEV(R64:V64)","v":{"$error":"#DIV/0!"}},61,58,67,68,59,{"$f":"AVERAGE(Y64:AC64)","v":62.6},{"$f":"STDEV(Y64:AC64)","v":4.61519230368573},8,8,3,13,5,{"$f":"AVERAGE(AF64:AJ64)","v":7.4},{"$f":"STDEV(AF64:AJ64)","v":3.7815340802378072},0,0,1,1,0,{"$f":"AVERAGE(AM64:AQ64)","v":0.4},{"$f":"STDEV(AM64:AQ64)","v":0.5477225575051661},0,0,1,0,0,{"$f":"AVERAGE(AT64:AX64)","v":0.2},{"$f":"STDEV(AT64:AX64)","v":0.4472135954999579},0,0,0,0,0,{"$f":"AVERAGE(BA64:BE64)","v":0},{"$f":"STDEV(BA64:BE64)","v":0}]
["p+0",2,null,"NA","NA","NA","NA","NA",{"$f":"AVERAGE(D65:H65)","v":{"$error":"#DIV/0!"}},{"$f":"STDEV(D65:H65)","v":{"$error":"#DIV/0!"}},"NA","NA","NA","NA","NA",{"$f":"AVERAGE(K65:O65)","v":{"$error":"#DIV/0!"}},{"$f":"STDEV(K65:O65)","v":{"$error":"#DIV/0!"}},119,113,104,111,110,{"$f":"AVERAGE(R65:V65)","v":111.4},{"$f":"STDEV(R65:V65)","v":5.412947441089743},18,13,22,18,9,{"$f":"AVERAGE(Y65:AC65)","v":16},{"$f":"STDEV(Y65:AC65)","v":5.049752469181039},0,0,0,0,0,{"$f":"AVERAGE(AF65:AJ65)","v":0},{"$f":"STDEV(AF65:AJ65)","v":0},0,0,0,0,1,{"$f":"AVERAGE(AM65:AQ65)","v":0.2},{"$f":"STDEV(AM65:AQ65)","v":0.4472135954999579},0,0,0,0,0,{"$f":"AVERAGE(AT65:AX65)","v":0},{"$f":"STDEV(AT65:AX65)","v":0},0,0,0,0,0,{"$f":"AVERAGE(BA65:BE65)","v":0},{"$f":"STDEV(BA65:BE65)","v":0}]
[null,3,null,"NA","NA","NA","NA","NA",{"$f":"AVERAGE(D66:H66)","v":{"$error":"#DIV/0!"}},{"$f":"STDEV(D66:H66)","v":{"$error":"#DIV/0!"}},"NA","NA","NA","NA","NA",{"$f":"AVERAGE(K66:O66)","v":{"$error":"#DIV/0!"}},{"$f":"STDEV(K66:O66)","v":{"$error":"#DIV/0!"}},"NA","NA","NA","NA","NA",{"$f":"AVERAGE(R66:V66)","v":{"$error":"#DIV/0!"}},{"$f":"STDEV(R66:V66)","v":{"$error":"#DIV/0!"}},78,72,70,78,62,{"$f":"AVERAGE(Y66:AC66)","v":72},{"$f":"STDEV(Y66:AC66)","v":{"v":6.6332495807108,"d":"7"}},5,2,4,5,5,{"$f":"AVERAGE(AF66:AJ66)","v":{"v":4.2,"d":"4"}},{"$f":"STDEV(AF66:AJ66)","v":{"v":1.3038404810405295,"d":"1"}},0,0,0,1,1,{"$f":"AVERAGE(AM66:AQ66)","v":{"v":0.4,"d":"0"}},{"$f":"STDEV(AM66:AQ66)","v":{"v":0.5477225575051661,"d":"1"}},0,1,0,0,0,{"$f":"AVERAGE(AT66:AX66)","v":{"v":0.2,"d":"0"}},{"$f":"STDEV(AT66:AX66)","v":{"v":0.4472135954999579,"d":"0"}},0,0,0,0,0,{"$f":"AVERAGE(BA66:BE66)","v":0},{"$f":"STDEV(BA66:BE66)","v":0}]
["average",{"$nulls":7},{"$f":"AVERAGE(I64:I66)","v":{"$error":"#DIV/0!"}},{"$nulls":6},{"$f":"AVERAGE(P64:P66)","v":{"$error":"#DIV/0!"}},{"$nulls":6},{"$f":"AVERAGE(W64:W66)","v":{"$error":"#DIV/0!"}},{"$nulls":6},{"$f":"AVERAGE(AD64:AD66)","v":{"v":50.199999999999996,"d":"50"}},{"$nulls":6},{"$f":"AVERAGE(AK64:AK66)","v":{"v":3.866666666666667,"d":"4"}},{"$nulls":6},{"$f":"AVERAGE(AR64:AR66)","v":{"v":0.3333333333333333,"d":"0"}},{"$nulls":6},{"$f":"AVERAGE(AY64:AY66)","v":{"v":0.13333333333333333,"d":"0"}},{"$nulls":6},{"$f":"AVERAGE(BF64:BF66)","v":0}]
["stdev",{"$nulls":7},{"$f":"SUM(J64:J66)","v":{"$error":"#DIV/0!"}},{"$nulls":6},{"$f":"SUM(Q64:Q66)","v":{"$error":"#DIV/0!"}},{"$nulls":6},{"$f":"SUM(X64:X66)","v":{"$error":"#DIV/0!"}},{"$nulls":6},{"$f":"SUM(AE64:AE66)","v":{"v":16.298194353577568,"d":"16"}},{"$nulls":6},{"$f":"SUM(AL64:AL66)","v":{"v":5.0853745612783365,"d":"5"}},{"$nulls":6},{"$f":"SUM(AS64:AS66)","v":{"v":1.54265871051029,"d":"2"}},{"$nulls":6},{"$f":"SUM(AZ64:AZ66)","v":{"v":0.8944271909999159,"d":"1"}},{"$nulls":6},{"$f":"SUM(BG64:BG66)","v":0}]
["p+3",1,null,"NA","NA","NA","NA","NA",{"$f":"AVERAGE(D69:H69)","v":{"$error":"#DIV/0!"}},{"$f":"STDEV(D69:H69)","v":{"$error":"#DIV/0!"}},"NA","NA","NA","NA","NA",{"$f":"AVERAGE(K69:O69)","v":{"$error":"#DIV/0!"}},{"$f":"STDEV(K69:O69)","v":{"$error":"#DIV/0!"}},36,45,32,38,34,{"$f":"AVERAGE(R69:V69)","v":37},{"$f":"STDEV(R69:V69)","v":5},1,6,4,3,3,{"$f":"AVERAGE(Y69:AC69)","v":{"v":3.4,"d":"3"}},{"$f":"STDEV(Y69:AC69)","v":{"v":1.8165902124584952,"d":"2"}},0,0,0,0,1,{"$f":"AVERAGE(AF69:AJ69)","v":{"v":0.2,"d":"0"}},{"$f":"STDEV(AF69:AJ69)","v":{"v":0.4472135954999579,"d":"0"}},0,0,0,0,1,{"$f":"AVERAGE(AM69:AQ69)","v":{"v":0.2,"d":"0"}},{"$f":"STDEV(AM69:AQ69)","v":{"v":0.4472135954999579,"d":"0"}},0,0,0,0,0,{"$f":"AVERAGE(AT69:AX69)","v":0},{"$f":"STDEV(AT69:AX69)","v":0},0,0,0,0,0,{"$f":"AVERAGE(BA69:BE69)","v":0},{"$f":"STDEV(BA69:BE69)","v":0}]
[null,2,null,"NA","NA","NA","NA","NA",{"$f":"AVERAGE(D70:H70)","v":{"$error":"#DIV/0!"}},{"$f":"STDEV(D70:H70)","v":{"$error":"#DIV/0!"}},"NA","NA","NA","NA","NA",{"$f":"AVERAGE(K70:O70)","v":{"$error":"#DIV/0!"}},{"$f":"STDEV(K70:O70)","v":{"$error":"#DIV/0!"}},"NA","NA","NA","NA","NA",{"$f":"AVERAGE(R70:V70)","v":{"$error":"#DIV/0!"}},{"$f":"STDEV(R70:V70)","v":{"$error":"#DIV/0!"}},69,70,61,67,77,{"$f":"AVERAGE(Y70:AC70)","v":{"v":68.8,"d":"69"}},{"$f":"STDEV(Y70:AC70)","v":{"v":5.761944116355173,"d":"6"}},7,9,10,6,8,{"$f":"AVERAGE(AF70:AJ70)","v":8},{"$f":"STDEV(AF70:AJ70)","v":{"v":1.5811388300841898,"d":"2"}},2,0,0,3,1,{"$f":"AVERAGE(AM70:AQ70)","v":{"v":1.2,"d":"1"}},{"$f":"STDEV(AM70:AQ70)","v":{"v":1.3038404810405297,"d":"1"}},0,0,0,0,0,{"$f":"AVERAGE(AT70:AX70)","v":0},{"$f":"STDEV(AT70:AX70)","v":0},0,0,0,0,0,{"$f":"AVERAGE(BA70:BE70)","v":0},{"$f":"STDEV(BA70:BE70)","v":0}]
[null,3,null,"NA","NA","NA","NA","NA",{"$f":"AVERAGE(D71:H71)","v":{"$error":"#DIV/0!"}},{"$f":"STDEV(D71:H71)","v":{"$error":"#DIV/0!"}},"NA","NA","NA","NA","NA",{"$f":"AVERAGE(K71:O71)","v":{"$error":"#DIV/0!"}},{"$f":"STDEV(K71:O71)","v":{"$error":"#DIV/0!"}},"NA","NA","NA","NA","NA",{"$f":"AVERAGE(R71:V71)","v":{"$error":"#DIV/0!"}},{"$f":"STDEV(R71:V71)","v":{"$error":"#DIV/0!"}},49,49,48,49,45,{"$f":"AVERAGE(Y71:AC71)","v":48},{"$f":"STDEV(Y71:AC71)","v":{"v":1.7320508075688772,"d":"2"}},4,6,8,4,2,{"$f":"AVERAGE(AF71:AJ71)","v":{"v":4.8,"d":"5"}},{"$f":"STDEV(AF71:AJ71)","v":{"v":2.2803508501982757,"d":"2"}},0,2,0,1,0,{"$f":"AVERAGE(AM71:AQ71)","v":{"v":0.6,"d":"1"}},{"$f":"STDEV(AM71:AQ71)","v":{"v":0.8944271909999159,"d":"1"}},0,0,0,0,0,{"$f":"AVERAGE(AT71:AX71)","v":0},{"$f":"STDEV(AT71:AX71)","v":0},0,0,0,0,0,{"$f":"AVERAGE(BA71:BE71)","v":0},{"$f":"STDEV(BA71:BE71)","v":0}]
["average",{"$nulls":7},{"$f":"AVERAGE(I69:I71)","v":{"$error":"#DIV/0!"}},{"$nulls":6},{"$f":"AVERAGE(P69:P71)","v":{"$error":"#DIV/0!"}},{"$nulls":6},{"$f":"AVERAGE(W69:W71)","v":{"$error":"#DIV/0!"}},{"$nulls":6},{"$f":"AVERAGE(AD69:AD71)","v":{"v":40.06666666666667,"d":"40"}},{"$nulls":6},{"$f":"AVERAGE(AK69:AK71)","v":{"v":4.333333333333333,"d":"4"}},{"$nulls":6},{"$f":"AVERAGE(AR69:AR71)","v":{"v":0.6666666666666666,"d":"1"}},{"$nulls":6},{"$f":"AVERAGE(AY69:AY71)","v":0},{"$nulls":6},{"$f":"AVERAGE(BF69:BF71)","v":0}]
["stdev",{"$nulls":7},{"$f":"SUM(J69:J71)","v":{"$error":"#DIV/0!"}},{"$nulls":6},{"$f":"SUM(Q69:Q71)","v":{"$error":"#DIV/0!"}},{"$nulls":6},{"$f":"SUM(X69:X71)","v":{"$error":"#DIV/0!"}},{"$nulls":6},{"$f":"SUM(AE69:AE71)","v":{"v":9.310585136382546,"d":"9"}},{"$nulls":6},{"$f":"SUM(AL69:AL71)","v":{"v":4.308703275782424,"d":"4"}},{"$nulls":6},{"$f":"SUM(AS69:AS71)","v":{"v":2.6454812675404034,"d":"3"}},{"$nulls":6},{"$f":"SUM(AZ69:AZ71)","v":0},{"$nulls":6},{"$f":"SUM(BG69:BG71)","v":0}]
["pS2213 APR",1,null,"NA","NA","NA","NA","NA",{"$f":"AVERAGE(D74:H74)","v":{"$error":"#DIV/0!"}},{"$f":"STDEV(D74:H74)","v":{"$error":"#DIV/0!"}},"NA","NA","NA","NA","NA",{"$f":"AVERAGE(K74:O74)","v":{"$error":"#DIV/0!"}},{"$f":"STDEV(K74:O74)","v":{"$error":"#DIV/0!"}},"NA","NA","NA","NA","NA",{"$f":"AVERAGE(R74:V74)","v":{"$error":"#DIV/0!"}},{"$f":"STDEV(R74:V74)","v":{"$error":"#DIV/0!"}},"NA","NA","NA","NA","NA",{"$f":"AVERAGE(Y74:AC74)","v":{"$error":"#DIV/0!"}},{"$f":"STDEV(Y74:AC74)","v":{"$error":"#DIV/0!"}},29,31,26,20,17,{"$f":"AVERAGE(AF74:AJ74)","v":24.6},{"$f":"STDEV(AF74:AJ74)","v":5.941380311005175},2,6,4,2,1,{"$f":"AVERAGE(AM74:AQ74)","v":3},{"$f":"STDEV(AM74:AQ74)","v":2},0,1,1,0,0,{"$f":"AVERAGE(AT74:AX74)","v":0.4},{"$f":"STDEV(AT74:AX74)","v":0.5477225575051661},0,0,0,0,0,{"$f":"AVERAGE(BA74:BE74)","v":0},{"$f":"STDEV(BA74:BE74)","v":0}]
["p+0",2,null,"NA","NA","NA","NA","NA",{"$f":"AVERAGE(D75:H75)","v":{"$error":"#DIV/0!"}},{"$f":"STDEV(D75:H75)","v":{"$error":"#DIV/0!"}},"NA","NA","NA","NA","NA",{"$f":"AVERAGE(K75:O75)","v":{"$error":"#DIV/0!"}},{"$f":"STDEV(K75:O75)","v":{"$error":"#DIV/0!"}},"NA","NA","NA","NA","NA",{"$f":"AVERAGE(R75:V75)","v":{"$error":"#DIV/0!"}},{"$f":"STDEV(R75:V75)","v":{"$error":"#DIV/0!"}},"NA","NA","NA","NA","NA",{"$f":"AVERAGE(Y75:AC75)","v":{"$error":"#DIV/0!"}},{"$f":"STDEV(Y75:AC75)","v":{"$error":"#DIV/0!"}},75,80,69,85,64,{"$f":"AVERAGE(AF75:AJ75)","v":74.6},{"$f":"STDEV(AF75:AJ75)","v":8.384509526501844},6,8,10,7,8,{"$f":"AVERAGE(AM75:AQ75)","v":7.8},{"$f":"STDEV(AM75:AQ75)","v":1.4832396974191335},0,0,0,1,2,{"$f":"AVERAGE(AT75:AX75)","v":0.6},{"$f":"STDEV(AT75:AX75)","v":0.8944271909999159},1,0,0,1,0,{"$f":"AVERAGE(BA75:BE75)","v":0.4},{"$f":"STDEV(BA75:BE75)","v":0.5477225575051661}]
[null,3,null,"NA","NA","NA","NA","NA",{"$f":"AVERAGE(D76:H76)","v":{"$error":"#DIV/0!"}},{"$f":"STDEV(D76:H76)","v":{"$error":"#DIV/0!"}},"NA","NA","NA","NA","NA",{"$f":"AVERAGE(K76:O76)","v":{"$error":"#DIV/0!"}},{"$f":"STDEV(K76:O76)","v":{"$error":"#DIV/0!"}},"NA","NA","NA","NA","NA",{"$f":"AVERAGE(R76:V76)","v":{"$error":"#DIV/0!"}},{"$f":"STDEV(R76:V76)","v":{"$error":"#DIV/0!"}},"NA","NA","NA","NA","NA",{"$f":"AVERAGE(Y76:AC76)","v":{"$error":"#DIV/0!"}},{"$f":"STDEV(Y76:AC76)","v":{"$error":"#DIV/0!"}},24,38,25,24,30,{"$f":"AVERAGE(AF76:AJ76)","v":{"v":28.2,"d":"28"}},{"$f":"STDEV(AF76:AJ76)","v":{"v":6.016643582596533,"d":"6"}},2,4,3,5,5,{"$f":"AVERAGE(AM76:AQ76)","v":{"v":3.8,"d":"4"}},{"$f":"STDEV(AM76:AQ76)","v":{"v":1.3038404810405295,"d":"1"}},0,0,0,0,2,{"$f":"AVERAGE(AT76:AX76)","v":{"v":0.4,"d":"0"}},{"$f":"STDEV(AT76:AX76)","v":{"v":0.8944271909999159,"d":"1"}},0,0,0,0,0,{"$f":"AVERAGE(BA76:BE76)","v":0},{"$f":"STDEV(BA76:BE76)","v":0}]
["average",{"$nulls":7},{"$f":"AVERAGE(I74:I76)","v":{"$error":"#DIV/0!"}},{"$nulls":6},{"$f":"AVERAGE(P74:P76)","v":{"$error":"#DIV/0!"}},{"$nulls":6},{"$f":"AVERAGE(W74:W76)","v":{"$error":"#DIV/0!"}},{"$nulls":6},{"$f":"AVERAGE(AD74:AD76)","v":{"$error":"#DIV/0!"}},{"$nulls":6},{"$f":"AVERAGE(AK74:AK76)","v":{"v":42.46666666666666,"d":"42"}},{"$nulls":6},{"$f":"AVERAGE(AR74:AR76)","v":{"v":4.866666666666667,"d":"5"}},{"$nulls":6},{"$f":"AVERAGE(AY74:AY76)","v":{"v":0.4666666666666666,"d":"0"}},{"$nulls":6},{"$f":"AVERAGE(BF74:BF76)","v":{"v":0.13333333333333333,"d":"0"}}]
["stdev",{"$nulls":7},{"$f":"SUM(J74:J76)","v":{"$error":"#DIV/0!"}},{"$nulls":6},{"$f":"SUM(Q74:Q76)","v":{"$error":"#DIV/0!"}},{"$nulls":6},{"$f":"SUM(X74:X76)","v":{"$error":"#DIV/0!"}},{"$nulls":6},{"$f":"SUM(AE74:AE76)","v":{"$error":"#DIV/0!"}},{"$nulls":6},{"$f":"SUM(AL74:AL76)","v":{"v":20.342533420103553,"d":"20"}},{"$nulls":6},{"$f":"SUM(AS74:AS76)","v":{"v":4.787080178459663,"d":"5"}},{"$nulls":6},{"$f":"SUM(AZ74:AZ76)","v":{"v":2.336576939504998,"d":"2"}},{"$nulls":6},{"$f":"SUM(BG74:BG76)","v":{"v":0.5477225575051661,"d":"1"}}]
["p+3",1,null,"NA","NA","NA","NA","NA",{"$f":"AVERAGE(D79:H79)","v":{"$error":"#DIV/0!"}},{"$f":"STDEV(D79:H79)","v":{"$error":"#DIV/0!"}},"NA","NA","NA","NA","NA",{"$f":"AVERAGE(K79:O79)","v":{"$error":"#DIV/0!"}},{"$f":"STDEV(K79:O79)","v":{"$error":"#DIV/0!"}},97,98,88,70,110,{"$f":"AVERAGE(R79:V79)","v":{"v":92.6,"d":"93"}},{"$f":"STDEV(R79:V79)","v":{"v":14.859340496805343,"d":"15"}},8,8,13,11,10,{"$f":"AVERAGE(Y79:AC79)","v":10},{"$f":"STDEV(Y79:AC79)","v":{"v":2.1213203435596424,"d":"2"}},0,0,0,1,0,{"$f":"AVERAGE(AF79:AJ79)","v":{"v":0.2,"d":"0"}},{"$f":"STDEV(AF79:AJ79)","v":{"v":0.4472135954999579,"d":"0"}},0,0,0,0,0,{"$f":"AVERAGE(AM79:AQ79)","v":0},{"$f":"STDEV(AM79:AQ79)","v":0},0,0,0,0,0,{"$f":"AVERAGE(AT79:AX79)","v":0},{"$f":"STDEV(AT79:AX79)","v":0},0,0,0,0,0,{"$f":"AVERAGE(BA79:BE79)","v":0},{"$f":"STDEV(BA79:BE79)","v":0}]
[null,2,null,"NA","NA","NA","NA","NA",{"$f":"AVERAGE(D80:H80)","v":{"$error":"#DIV/0!"}},{"$f":"STDEV(D80:H80)","v":{"$error":"#DIV/0!"}},"NA","NA","NA","NA","NA",{"$f":"AVERAGE(K80:O80)","v":{"$error":"#DIV/0!"}},{"$f":"STDEV(K80:O80)","v":{"$error":"#DIV/0!"}},"NA","NA","NA","NA","NA",{"$f":"AVERAGE(R80:V80)","v":{"$error":"#DIV/0!"}},{"$f":"STDEV(R80:V80)","v":{"$error":"#DIV/0!"}},16,13,2,14,7,{"$f":"AVERAGE(Y80:AC80)","v":{"v":10.4,"d":"10"}},{"$f":"STDEV(Y80:AC80)","v":{"v":5.770615218501405,"d":"6"}},1,1,2,4,1,{"$f":"AVERAGE(AF80:AJ80)","v":{"v":1.8,"d":"2"}},{"$f":"STDEV(AF80:AJ80)","v":{"v":1.3038404810405297,"d":"1"}},0,0,0,0,0,{"$f":"AVERAGE(AM80:AQ80)","v":0},{"$f":"STDEV(AM80:AQ80)","v":0},0,0,0,0,0,{"$f":"AVERAGE(AT80:AX80)","v":0},{"$f":"STDEV(AT80:AX80)","v":0},0,0,0,0,0,{"$f":"AVERAGE(BA80:BE80)","v":0},{"$f":"STDEV(BA80:BE80)","v":0}]
[null,3,null,"NA","NA","NA","NA","NA",{"$f":"AVERAGE(D81:H81)","v":{"$error":"#DIV/0!"}},{"$f":"STDEV(D81:H81)","v":{"$error":"#DIV/0!"}},"NA","NA","NA","NA","NA",{"$f":"AVERAGE(K81:O81)","v":{"$error":"#DIV/0!"}},{"$f":"STDEV(K81:O81)","v":{"$error":"#DIV/0!"}},"NA","NA","NA","NA","NA",{"$f":"AVERAGE(R81:V81)","v":{"$error":"#DIV/0!"}},{"$f":"STDEV(R81:V81)","v":{"$error":"#DIV/0!"}},52,21,66,63,47,{"$f":"AVERAGE(Y81:AC81)","v":{"v":49.8,"d":"50"}},{"$f":"STDEV(Y81:AC81)","v":{"v":17.880156598866797,"d":"18"}},8,8,8,9,4,{"$f":"AVERAGE(AF81:AJ81)","v":{"v":7.4,"d":"7"}},{"$f":"STDEV(AF81:AJ81)","v":{"v":1.949358868961792,"d":"2"}},1,0,0,1,2,{"$f":"AVERAGE(AM81:AQ81)","v":{"v":0.8,"d":"1"}},{"$f":"STDEV(AM81:AQ81)","v":{"v":0.8366600265340756,"d":"1"}},0,0,0,0,0,{"$f":"AVERAGE(AT81:AX81)","v":0},{"$f":"STDEV(AT81:AX81)","v":0},0,0,0,0,0,{"$f":"AVERAGE(BA81:BE81)","v":0},{"$f":"STDEV(BA81:BE81)","v":0}]
["average",{"$nulls":7},{"$f":"AVERAGE(I79:I81)","v":{"$error":"#DIV/0!"}},{"$nulls":6},{"$f":"AVERAGE(P79:P81)","v":{"$error":"#DIV/0!"}},{"$nulls":6},{"$f":"AVERAGE(W79:W81)","v":{"$error":"#DIV/0!"}},{"$nulls":6},{"$f":"AVERAGE(AD79:AD81)","v":{"v":23.399999999999995,"d":"23"}},{"$nulls":6},{"$f":"AVERAGE(AK79:AK81)","v":{"v":3.1333333333333333,"d":"3"}},{"$nulls":6},{"$f":"AVERAGE(AR79:AR81)","v":{"v":0.26666666666666666,"d":"0"}},{"$nulls":6},{"$f":"AVERAGE(AY79:AY81)","v":0},{"$nulls":6},{"$f":"AVERAGE(BF79:BF81)","v":0}]
["stdev",{"$nulls":7},{"$f":"SUM(J79:J81)","v":{"$error":"#DIV/0!"}},{"$nulls":6},{"$f":"SUM(Q79:Q81)","v":{"$error":"#DIV/0!"}},{"$nulls":6},{"$f":"SUM(X79:X81)","v":{"$error":"#DIV/0!"}},{"$nulls":6},{"$f":"SUM(AE79:AE81)","v":{"v":25.772092160927844,"d":"26"}},{"$nulls":6},{"$f":"SUM(AL79:AL81)","v":{"v":3.7004129455022796,"d":"4"}},{"$nulls":6},{"$f":"SUM(AS79:AS81)","v":{"v":0.8366600265340756,"d":"1"}},{"$nulls":6},{"$f":"SUM(AZ79:AZ81)","v":0},{"$nulls":6},{"$f":"SUM(BG79:BG81)","v":0}]
[]
[null,"accidentally diluted the first step of 200µl with 90µl saline solution. Therefor, all values were multiplied by 1.8182 to approximate the original number.",1.8182,{"$nulls":10},{"$f":"200/110","v":1.8181818181818181}]
["T7","2018-02-15"]
["Sample","Dilution:",null,"10^0",{"$nulls":4},"AVERAGE","STDEV","10^-1",{"$nulls":4},"AVERAGE","STDEV","10^-2",{"$nulls":4},"AVERAGE","STDEV","10^-3",{"$nulls":4},"AVERAGE","STDEV","10^-4",{"$nulls":4},"AVERAGE","STDEV","10^-5",{"$nulls":4},"AVERAGE","STDEV","10^-6",{"$nulls":4},"AVERAGE","STDEV","10^-7",{"$nulls":4},"AVERAGE","STDEV"]
["Blank",1,null,{"$f":"0*$C$85","v":0},0,0,0,0,{"$f":"AVERAGE(D88:H88)","v":0},{"$f":"STDEV(D88:H88)","v":0},{"$f":"0*$C$85","v":0},0,0,0,0,{"$f":"AVERAGE(K88:O88)","v":0},{"$f":"STDEV(K88:O88)","v":0},{"$f":"0*$C$85","v":0},0,0,0,0,{"$f":"AVERAGE(R88:V88)","v":0},{"$f":"STDEV(R88:V88)","v":0},{"$f":"0*$C$85","v":0},0,0,0,0,{"$f":"AVERAGE(Y88:AC88)","v":0},{"$f":"STDEV(Y88:AC88)","v":0},{"$f":"0*$C$85","v":0},0,0,0,0,{"$f":"AVERAGE(AF88:AJ88)","v":0},{"$f":"STDEV(AF88:AJ88)","v":0},0,0,0,0,0,{"$f":"AVERAGE(AM88:AQ88)","v":0},{"$f":"STDEV(AM88:AQ88)","v":0},0,0,0,0,0,{"$f":"AVERAGE(AT88:AX88)","v":0},{"$f":"STDEV(AT88:AX88)","v":0},{"$f":"0*$C$85","v":0},0,0,0,0,{"$f":"AVERAGE(BA88:BE88)","v":0},{"$f":"STDEV(BA88:BE88)","v":0}]
[null,2,null,0,0,0,0,0,{"$f":"AVERAGE(D89:H89)","v":0},{"$f":"STDEV(D89:H89)","v":0},0,0,0,0,0,{"$f":"AVERAGE(K89:O89)","v":0},{"$f":"STDEV(K89:O89)","v":0},0,0,0,0,0,{"$f":"AVERAGE(R89:V89)","v":0},{"$f":"STDEV(R89:V89)","v":0},0,0,0,0,0,{"$f":"AVERAGE(Y89:AC89)","v":0},{"$f":"STDEV(Y89:AC89)","v":0},0,0,0,0,0,{"$f":"AVERAGE(AF89:AJ89)","v":0},{"$f":"STDEV(AF89:AJ89)","v":0},0,0,0,0,0,{"$f":"AVERAGE(AM89:AQ89)","v":0},{"$f":"STDEV(AM89:AQ89)","v":0},0,0,0,0,0,{"$f":"AVERAGE(AT89:AX89)","v":0},{"$f":"STDEV(AT89:AX89)","v":0},0,0,0,0,0,{"$f":"AVERAGE(BA89:BE89)","v":0},{"$f":"STDEV(BA89:BE89)","v":0}]
[null,3,null,0,0,0,0,0,{"$f":"AVERAGE(D90:H90)","v":0},{"$f":"STDEV(D90:H90)","v":0},0,0,0,0,0,{"$f":"AVERAGE(K90:O90)","v":0},{"$f":"STDEV(K90:O90)","v":0},0,0,0,0,0,{"$f":"AVERAGE(R90:V90)","v":0},{"$f":"STDEV(R90:V90)","v":0},0,0,0,0,0,{"$f":"AVERAGE(Y90:AC90)","v":0},{"$f":"STDEV(Y90:AC90)","v":0},0,0,0,0,0,{"$f":"AVERAGE(AF90:AJ90)","v":0},{"$f":"STDEV(AF90:AJ90)","v":0},0,0,0,0,0,{"$f":"AVERAGE(AM90:AQ90)","v":0},{"$f":"STDEV(AM90:AQ90)","v":0},0,0,0,0,0,{"$f":"AVERAGE(AT90:AX90)","v":0},{"$f":"STDEV(AT90:AX90)","v":0},0,0,0,0,0,{"$f":"AVERAGE(BA90:BE90)","v":0},{"$f":"STDEV(BA90:BE90)","v":0}]
[{"$nulls":8},{"$f":"AVERAGE(I88:I90)","v":0},{"$nulls":6},{"$f":"AVERAGE(P88:P90)","v":0},{"$nulls":6},{"$f":"AVERAGE(W88:W90)","v":0},{"$nulls":6},{"$f":"AVERAGE(AD88:AD90)","v":0},{"$nulls":6},{"$f":"AVERAGE(AK88:AK90)","v":0},{"$nulls":6},{"$f":"AVERAGE(AR88:AR90)","v":0},{"$nulls":6},{"$f":"AVERAGE(AY88:AY90)","v":0},{"$nulls":6},{"$f":"AVERAGE(BF88:BF90)","v":0}]
[{"$nulls":8},{"$f":"SUM(J88:J90)","v":0},{"$nulls":6},{"$f":"SUM(Q88:Q90)","v":0},{"$nulls":6},{"$f":"SUM(X88:X90)","v":0},{"$nulls":6},{"$f":"SUM(AE88:AE90)","v":0},{"$nulls":6},{"$f":"SUM(AL88:AL90)","v":0},{"$nulls":6},{"$f":"SUM(AS88:AS90)","v":0},{"$nulls":6},{"$f":"SUM(AZ88:AZ90)","v":0},{"$nulls":6},{"$f":"SUM(BG88:BG90)","v":0}]
["BW25113 -",1,null,"NA","NA","NA","NA","NA",{"$f":"AVERAGE(D93:H93)","v":{"$error":"#DIV/0!"}},{"$f":"STDEV(D93:H93)","v":{"$error":"#DIV/0!"}},"NA","NA","NA","NA","NA",{"$f":"AVERAGE(K93:O93)","v":{"$error":"#DIV/0!"}},{"$f":"STDEV(K93:O93)","v":{"$error":"#DIV/0!"}},"NA","NA","NA","NA","NA",{"$f":"AVERAGE(R93:V93)","v":{"$error":"#DIV/0!"}},{"$f":"STDEV(R93:V93)","v":{"$error":"#DIV/0!"}},"NA","NA","NA","NA","NA",{"$f":"AVERAGE(Y93:AC93)","v":{"$error":"#DIV/0!"}},{"$f":"STDEV(Y93:AC93)","v":{"$error":"#DIV/0!"}},201,189,210,187,185,{"$f":"AVERAGE(AF93:AJ93)","v":{"v":194.4,"d":"194"}},{"$f":"STDEV(AF93:AJ93)","v":{"v":10.714476188783099,"d":"11"}},36,26,28,31,30,{"$f":"AVERAGE(AM93:AQ93)","v":{"v":30.2,"d":"30"}},{"$f":"STDEV(AM93:AQ93)","v":{"v":3.7682887362833606,"d":"4"}},2,3,1,3,4,{"$f":"AVERAGE(AT93:AX93)","v":{"v":2.6,"d":"3"}},{"$f":"STDEV(AT93:AX93)","v":{"v":1.1401754250991383,"d":"1"}},{"$f":"0*$C$85","v":0},0,0,0,0,{"$f":"AVERAGE(BA93:BE93)","v":0},{"$f":"STDEV(BA93:BE93)","v":0}]
["pS2213 - ",2,null,"NA","NA","NA","NA","NA",{"$f":"AVERAGE(D94:H94)","v":{"$error":"#DIV/0!"}},{"$f":"STDEV(D94:H94)","v":{"$error":"#DIV/0!"}},"NA","NA","NA","NA","NA",{"$f":"AVERAGE(K94:O94)","v":{"$error":"#DIV/0!"}},{"$f":"STDEV(K94:O94)","v":{"$error":"#DIV/0!"}},"NA","NA","NA","NA","NA",{"$f":"AVERAGE(R94:V94)","v":{"$error":"#DIV/0!"}},{"$f":"STDEV(R94:V94)","v":{"$error":"#DIV/0!"}},"NA","NA","NA","NA","NA",{"$f":"AVERAGE(Y94:AC94)","v":{"$error":"#DIV/0!"}},{"$f":"STDEV(Y94:AC94)","v":{"$error":"#DIV/0!"}},124,174,180,169,174,{"$f":"AVERAGE(AF94:AJ94)","v":{"v":164.2,"d":"164"}},{"$f":"STDEV(AF94:AJ94)","v":{"v":22.80789337049779,"d":"23"}},40,30,32,24,21,{"$f":"AVERAGE(AM94:AQ94)","v":{"v":29.4,"d":"29"}},{"$f":"STDEV(AM94:AQ94)","v":{"v":7.402702209328696,"d":"7"}},1,2,6,0,2,{"$f":"AVERAGE(AT94:AX94)","v":{"v":2.2,"d":"2"}},{"$f":"STDEV(AT94:AX94)","v":{"v":2.280350850198276,"d":"2"}},0,0,0,0,0,{"$f":"AVERAGE(BA94:BE94)","v":0},{"$f":"STDEV(BA94:BE94)","v":0}]
[null,3,null,"NA","NA","NA","NA","NA",{"$f":"AVERAGE(D95:H95)","v":{"$error":"#DIV/0!"}},{"$f":"STDEV(D95:H95)","v":{"$error":"#DIV/0!"}},"NA","NA","NA","NA","NA",{"$f":"AVERAGE(K95:O95)","v":{"$error":"#DIV/0!"}},{"$f":"STDEV(K95:O95)","v":{"$error":"#DIV/0!"}},"NA","NA","NA","NA","NA",{"$f":"AVERAGE(R95:V95)","v":{"$error":"#DIV/0!"}},{"$f":"STDEV(R95:V95)","v":{"$error":"#DIV/0!"}},"NA","NA","NA","NA","NA",{"$f":"AVERAGE(Y95:AC95)","v":{"$error":"#DIV/0!"}},{"$f":"STDEV(Y95:AC95)","v":{"$error":"#DIV/0!"}},"NA","NA","NA","NA","NA",{"$f":"AVERAGE(AF95:AJ95)","v":{"$error":"#DIV/0!"}},{"$f":"STDEV(AF95:AJ95)","v":{"$error":"#DIV/0!"}},134,"NA","NA","NA","NA",{"$f":"AVERAGE(AM95:AQ95)","v":134},{"$f":"STDEV(AM95:AQ95)","v":{"$error":"#DIV/0!"}},1,5,0,1,5,{"$f":"AVERAGE(AT95:AX95)","v":{"v":2.4,"d":"2"}},{"$f":"STDEV(AT95:AX95)","v":{"v":2.4083189157584592,"d":"2"}},0,0,0,0,0,{"$f":"AVERAGE(BA95:BE95)","v":0},{"$f":"STDEV(BA95:BE95)","v":0}]
["average",{"$nulls":7},{"$f":"AVERAGE(I93:I95)","v":{"$error":"#DIV/0!"}},{"$nulls":6},{"$f":"AVERAGE(P93:P95)","v":{"$error":"#DIV/0!"}},{"$nulls":6},{"$f":"AVERAGE(W93:W95)","v":{"$error":"#DIV/0!"}},{"$nulls":6},{"$f":"AVERAGE(AD93:AD95)","v":{"$error":"#DIV/0!"}},{"$nulls":6},{"$f":"AVERAGE(AK93:AK95)","v":{"$error":"#DIV/0!"}},{"$nulls":6},{"$f":"AVERAGE(AR93:AR95)","v":{"v":64.53333333333333,"d":"65"}},{"$nulls":6},{"$f":"AVERAGE(AY93:AY95)","v":{"v":2.4000000000000004,"d":"2"}},{"$nulls":6},{"$f":"AVERAGE(BF93:BF95)","v":0}]
["stdev",{"$nulls":7},{"$f":"SUM(J93:J95)","v":{"$error":"#DIV/0!"}},{"$nulls":6},{"$f":"SUM(Q93:Q95)","v":{"$error":"#DIV/0!"}},{"$nulls":6},{"$f":"SUM(X93:X95)","v":{"$error":"#DIV/0!"}},{"$nulls":6},{"$f":"SUM(AE93:AE95)","v":{"$error":"#DIV/0!"}},{"$nulls":6},{"$f":"SUM(AL93:AL95)","v":{"$error":"#DIV/0!"}},{"$nulls":6},{"$f":"SUM(AS93:AS95)","v":{"$error":"#DIV/0!"}},{"$nulls":6},{"$f":"SUM(AZ93:AZ95)","v":{"v":5.828845191055874,"d":"6"}},{"$nulls":6},{"$f":"SUM(BG93:BG95)","v":0}]
["pS2213 - ",1,null,"NA","NA","NA","NA","NA",{"$f":"AVERAGE(D98:H98)","v":{"$error":"#DIV/0!"}},{"$f":"STDEV(D98:H98)","v":{"$error":"#DIV/0!"}},{"$f":"28*C85","v":50.9096},{"$f":"23*C85","v":41.8186},{"$f":"31*C85","v":56.364200000000004},{"$f":"32*C85","v":58.1824},{"$f":"29*C85","v":52.7278},{"$f":"AVERAGE(K98:O98)","v":52.00052000000001},{"$f":"STDEV(K98:O98)","v":6.376673917646978},{"$f":"2*C85","v":3.6364},{"$f":"4*C85","v":7.2728},{"$f":"4*C85","v":7.2728},{"$f":"0*C85","v":0},{"$f":"2*C85","v":3.6364},{"$f":"AVERAGE(R98:V98)","v":4.3636800000000004},{"$f":"STDEV(R98:V98)","v":3.0424305204885105},{"$f":"0*C85","v":0},{"$f":"0*C85","v":0},{"$f":"0*C85","v":0},{"$f":"0*C85","v":0},{"$f":"1*C85","v":1.8182},{"$f":"AVERAGE(Y98:AC98)","v":0.36364},{"$f":"STDEV(Y98:AC98)","v":0.8131237593380235},{"$f":"0*$C$85","v":0},0,0,0,0,{"$f":"AVERAGE(AF98:AJ98)","v":0},{"$f":"STDEV(AF98:AJ98)","v":0},{"$f":"0*$C$85","v":0},0,0,0,0,{"$f":"AVERAGE(AM98:AQ98)","v":0},{"$f":"STDEV(AM98:AQ98)","v":0},{"$f":"0*$C$85","v":0},0,0,0,0,{"$f":"AVERAGE(AT98:AX98)","v":0},{"$f":"STDEV(AT98:AX98)","v":0},{"$f":"0*$C$85","v":0},0,0,0,0,{"$f":"AVERAGE(BA98:BE98)","v":0},{"$f":"STDEV(BA98:BE98)","v":0}]
["p+0",2,null,"NA","NA","NA","NA","NA",{"$f":"AVERAGE(D99:H99)","v":{"$error":"#DIV/0!"}},{"$f":"STDEV(D99:H99)","v":{"$error":"#DIV/0!"}},{"$f":"114*C85","v":207.2748},{"$f":"121*C85","v":220.00220000000002},{"$f":"129*C85","v":234.5478},{"$f":"125*C85","v":227.275},{"$f":"120*C85","v":218.184},{"$f":"AVERAGE(K99:O99)","v":221.45676000000003},{"$f":"STDEV(K99:O99)","v":10.236966557921344},{"$f":"15*C85","v":27.273},{"$f":"22*C85","v":40.0004},{"$f":"24*C85","v":43.6368},{"$f":"19*C85","v":34.5458},{"$f":"22*C85","v":40.0004},{"$f":"AVERAGE(R99:V99)","v":37.091280000000005},{"$f":"STDEV(R99:V99)","v":6.376673917646978},{"$f":"1*C85","v":1.8182},{"$f":"1*C85","v":1.8182},{"$f":"4*C85","v":7.2728},{"$f":"1*C85","v":1.8182},{"$f":"4*C85","v":7.2728},{"$f":"AVERAGE(Y99:AC99)","v":4.00004},{"$f":"STDEV(Y99:AC99)","v":2.9876074621676794},0,0,0,0,0,{"$f":"AVERAGE(AF99:AJ99)","v":0},{"$f":"STDEV(AF99:AJ99)","v":0},0,0,0,0,0,{"$f":"AVERAGE(AM99:AQ99)","v":0},{"$f":"STDEV(AM99:AQ99)","v":0},0,0,0,0,0,{"$f":"AVERAGE(AT99:AX99)","v":0},{"$f":"STDEV(AT99:AX99)","v":0},0,0,0,0,0,{"$f":"AVERAGE(BA99:BE99)","v":0},{"$f":"STDEV(BA99:BE99)","v":0}]
[null,3,null,"NA","NA","NA","NA","NA",{"$f":"AVERAGE(D100:H100)","v":{"$error":"#DIV/0!"}},{"$f":"STDEV(D100:H100)","v":{"$error":"#DIV/0!"}},{"$f":"57*C85","v":{"v":103.6374,"d":"104"}},{"$f":"54*C85","v":{"v":98.1828,"d":"98"}},{"$f":"33*C85","v":{"v":60.0006,"d":"60"}},{"$f":"55*C85","v":{"v":100.001,"d":"100"}},{"$f":"46*C85","v":{"v":83.6372,"d":"84"}},{"$f":"AVERAGE(K100:O100)","v":{"v":89.0918,"d":"89"}},{"$f":"STDEV(K100:O100)","v":{"v":17.953286493007333,"d":"18"}},{"$f":"11*C85","v":{"v":20.0002,"d":"20"}},{"$f":"11*C85","v":{"v":20.0002,"d":"20"}},{"$f":"14*C85","v":{"v":25.4548,"d":"25"}},{"$f":"18*C85","v":{"v":32.7276,"d":"33"}},{"$f":"13*C85","v":{"v":23.6366,"d":"24"}},{"$f":"AVERAGE(R100:V100)","v":{"v":24.363879999999998,"d":"24"}},{"$f":"STDEV(R100:V100)","v":{"v":5.238183396178501,"d":"5"}},{"$f":"0*C85","v":0},{"$f":"3*C85","v":{"v":5.4546,"d":"5"}},{"$f":"3*C85","v":{"v":5.4546,"d":"5"}},{"$f":"2*C85","v":{"v":3.6364,"d":"4"}},{"$f":"2*C85","v":{"v":3.6364,"d":"4"}},{"$f":"AVERAGE(Y100:AC100)","v":{"v":3.6364000000000005,"d":"4"}},{"$f":"STDEV(Y100:AC100)","v":{"v":2.2268311251641864,"d":"2"}},0,0,0,0,0,{"$f":"AVERAGE(AF100:AJ100)","v":0},{"$f":"STDEV(AF100:AJ100)","v":0},0,0,0,0,0,{"$f":"AVERAGE(AM100:AQ100)","v":0},{"$f":"STDEV(AM100:AQ100)","v":0},0,0,0,0,0,{"$f":"AVERAGE(AT100:AX100)","v":0},{"$f":"STDEV(AT100:AX100)","v":0},0,0,0,0,0,{"$f":"AVERAGE(BA100:BE100)","v":0},{"$f":"STDEV(BA100:BE100)","v":0}]
["average",{"$nulls":7},{"$f":"AVERAGE(I98:I100)","v":{"$error":"#DIV/0!"}},{"$nulls":6},{"$f":"AVERAGE(P98:P100)","v":{"v":120.84969333333333,"d":"121"}},{"$nulls":6},{"$f":"AVERAGE(W98:W100)","v":{"v":21.939613333333337,"d":"22"}},{"$nulls":6},{"$f":"AVERAGE(AD98:AD100)","v":{"v":2.6666933333333334,"d":"3"}},{"$nulls":6},{"$f":"AVERAGE(AK98:AK100)","v":0},{"$nulls":6},{"$f":"AVERAGE(AR98:AR100)","v":0},{"$nulls":6},{"$f":"AVERAGE(AY98:AY100)","v":0},{"$nulls":6},{"$f":"AVERAGE(BF98:BF100)","v":0}]
["stdev",{"$nulls":7},{"$f":"SUM(J98:J100)","v":{"$error":"#DIV/0!"}},{"$nulls":6},{"$f":"SUM(Q98:Q100)","v":{"v":34.56692696857566,"d":"35"}},{"$nulls":6},{"$f":"SUM(X98:X100)","v":{"v":14.657287834313989,"d":"15"}},{"$nulls":6},{"$f":"SUM(AE98:AE100)","v":{"v":6.027562346669889,"d":"6"}},{"$nulls":6},{"$f":"SUM(AL98:AL100)","v":0},{"$nulls":6},{"$f":"SUM(AS98:AS100)","v":0},{"$nulls":6},{"$f":"SUM(AZ98:AZ100)","v":0},{"$nulls":6},{"$f":"SUM(BG98:BG100)","v":0}]
["pS2213 A",1,null,"NA","NA","NA","NA","NA",{"$f":"AVERAGE(D103:H103)","v":{"$error":"#DIV/0!"}},{"$f":"STDEV(D103:H103)","v":{"$error":"#DIV/0!"}},{"$f":"38*C85","v":69.0916},{"$f":"43*C85","v":78.18260000000001},{"$f":"41*C85","v":74.5462},{"$f":"43*C85","v":78.18260000000001},{"$f":"29*C85","v":52.7278},{"$f":"AVERAGE(K103:O103)","v":70.54616000000001},{"$f":"STDEV(K103:O103)","v":10.632972886638926},{"$f":"3*C85","v":5.4546},{"$f":"4*C85","v":7.2728},{"$f":"3*C85","v":5.4546},{"$f":"8*C85","v":14.5456},{"$f":"3*C85","v":5.4546},{"$f":"AVERAGE(R103:V103)","v":7.636439999999999},{"$f":"STDEV(R103:V103)","v":3.941763669729582},{"$f":"1*C85","v":1.8182},{"$f":"0*C85","v":0},{"$f":"0*C85","v":0},{"$f":"1*C85","v":1.8182},{"$f":"0*C85","v":0},{"$f":"AVERAGE(Y103:AC103)","v":0.72728},{"$f":"STDEV(Y103:AC103)","v":0.995869154055893},{"$f":"0*$C$85","v":0},0,0,0,0,{"$f":"AVERAGE(AF103:AJ103)","v":0},{"$f":"STDEV(AF103:AJ103)","v":0},{"$f":"0*$C$85","v":0},0,0,0,0,{"$f":"AVERAGE(AM103:AQ103)","v":0},{"$f":"STDEV(AM103:AQ103)","v":0},{"$f":"0*$C$85","v":0},0,0,0,0,{"$f":"AVERAGE(AT103:AX103)","v":0},{"$f":"STDEV(AT103:AX103)","v":0},{"$f":"0*$C$85","v":0},0,0,0,0,{"$f":"AVERAGE(BA103:BE103)","v":0},{"$f":"STDEV(BA103:BE103)","v":0}]
["p+0",2,null,"NA","NA","NA","NA","NA",{"$f":"AVERAGE(D104:H104)","v":{"$error":"#DIV/0!"}},{"$f":"STDEV(D104:H104)","v":{"$error":"#DIV/0!"}},{"$f":"41*C85","v":74.5462},{"$f":"41*C85","v":74.5462},{"$f":"35*C85","v":63.637},{"$f":"43*C85","v":78.18260000000001},{"$f":"42*C85","v":76.3644},{"$f":"AVERAGE(K104:O104)","v":73.45528},{"$f":"STDEV(K104:O104)","v":5.691866315366166},{"$f":"6*C85","v":10.9092},{"$f":"3*C85","v":5.4546},{"$f":"6*C85","v":10.9092},{"$f":"4*C85","v":7.2728},{"$f":"4*C85","v":7.2728},{"$f":"AVERAGE(R104:V104)","v":8.36372},{"$f":"STDEV(R104:V104)","v":2.439371278014065},{"$f":"1*C85","v":1.8182},{"$f":"1*C85","v":1.8182},{"$f":"0*C85","v":0},{"$f":"0*C85","v":0},{"$f":"0*C85","v":0},{"$f":"AVERAGE(Y104:AC104)","v":0.72728},{"$f":"STDEV(Y104:AC104)","v":0.995869154055893},0,0,0,0,0,{"$f":"AVERAGE(AF104:AJ104)","v":0},{"$f":"STDEV(AF104:AJ104)","v":0},0,0,0,0,0,{"$f":"AVERAGE(AM104:AQ104)","v":0},{"$f":"STDEV(AM104:AQ104)","v":0},0,0,0,0,0,{"$f":"AVERAGE(AT104:AX104)","v":0},{"$f":"STDEV(AT104:AX104)","v":0},0,0,0,0,0,{"$f":"AVERAGE(BA104:BE104)","v":0},{"$f":"STDEV(BA104:BE104)","v":0}]
[null,3,null,"NA","NA","NA","NA","NA",{"$f":"AVERAGE(D105:H105)","v":{"$error":"#DIV/0!"}},{"$f":"STDEV(D105:H105)","v":{"$error":"#DIV/0!"}},{"$f":"104*C85","v":{"v":189.0928,"d":"189"}},{"$f":"86*C85","v":{"v":156.36520000000002,"d":"156"}},{"$f":"97*C85","v":{"v":176.3654,"d":"176"}},{"$f":"85*C85","v":{"v":154.547,"d":"155"}},{"$f":"86*C85","v":{"v":156.36520000000002,"d":"156"}},{"$f":"AVERAGE(K105:O105)","v":{"v":166.54712,"d":"167"}},{"$f":"STDEV(K105:O105)","v":{"v":15.460046722180369,"d":"15"}},{"$f":"12*C85","v":{"v":21.8184,"d":"22"}},{"$f":"12*C85","v":{"v":21.8184,"d":"22"}},{"$f":"13*C85","v":{"v":23.6366,"d":"24"}},{"$f":"9*C85","v":{"v":16.3638,"d":"16"}},{"$f":"14*C85","v":{"v":25.4548,"d":"25"}},{"$f":"AVERAGE(R105:V105)","v":{"v":21.818400000000004,"d":"22"}},{"$f":"STDEV(R105:V105)","v":{"v":3.401540730316176,"d":"3"}},{"$f":"0*C85","v":0},{"$f":"2*C85","v":{"v":3.6364,"d":"4"}},{"$f":"0*C85","v":0},{"$f":"1*C85","v":{"v":1.8182,"d":"2"}},{"$f":"1*C85","v":{"v":1.8182,"d":"2"}},{"$f":"AVERAGE(Y105:AC105)","v":{"v":1.45456,"d":"1"}},{"$f":"STDEV(Y105:AC105)","v":{"v":1.521215260244256,"d":"2"}},0,0,0,0,0,{"$f":"AVERAGE(AF105:AJ105)","v":0},{"$f":"STDEV(AF105:AJ105)","v":0},0,0,0,0,0,{"$f":"AVERAGE(AM105:AQ105)","v":0},{"$f":"STDEV(AM105:AQ105)","v":0},0,0,0,0,0,{"$f":"AVERAGE(AT105:AX105)","v":0},{"$f":"STDEV(AT105:AX105)","v":0},0,0,0,0,0,{"$f":"AVERAGE(BA105:BE105)","v":0},{"$f":"STDEV(BA105:BE105)","v":0}]
["average",{"$nulls":7},{"$f":"AVERAGE(I103:I105)","v":{"$error":"#DIV/0!"}},{"$nulls":6},{"$f":"AVERAGE(P103:P105)","v":{"v":103.51618666666667,"d":"104"}},{"$nulls":6},{"$f":"AVERAGE(W103:W105)","v":{"v":12.606186666666668,"d":"13"}},{"$nulls":6},{"$f":"AVERAGE(AD103:AD105)","v":{"v":0.9697066666666667,"d":"1"}},{"$nulls":6},{"$f":"AVERAGE(AK103:AK105)","v":0},{"$nulls":6},{"$f":"AVERAGE(AR103:AR105)","v":0},{"$nulls":6},{"$f":"AVERAGE(AY103:AY105)","v":0},{"$nulls":6},{"$f":"AVERAGE(BF103:BF105)","v":0}]
["stdev",{"$nulls":7},{"$f":"SUM(J103:J105)","v":{"$error":"#DIV/0!"}},{"$nulls":6},{"$f":"SUM(Q103:Q105)","v":{"v":31.784885924185463,"d":"32"}},{"$nulls":6},{"$f":"SUM(X103:X105)","v":{"v":9.782675678059823,"d":"10"}},{"$nulls":6},{"$f":"SUM(AE103:AE105)","v":{"v":3.512953568356042,"d":"4"}},{"$nulls":6},{"$f":"SUM(AL103:AL105)","v":0},{"$nulls":6},{"$f":"SUM(AS103:AS105)","v":0},{"$nulls":6},{"$f":"SUM(AZ103:AZ105)","v":0},{"$nulls":6},{"$f":"SUM(BG103:BG105)","v":0}]
["p+3",1,null,{"$f":"114*C85","v":{"v":207.2748,"d":"207"}},{"$f":"117*C85","v":{"v":212.7294,"d":"213"}},{"$f":"110*C85","v":{"v":200.002,"d":"200"}},{"$f":"123*C85","v":{"v":223.6386,"d":"224"}},{"$f":"124*C85","v":{"v":225.45680000000002,"d":"225"}},{"$f":"AVERAGE(D108:H108)","v":{"v":213.82031999999998,"d":"214"}},{"$f":"STDEV(D108:H108)","v":{"v":10.802617681469618,"d":"11"}},{"$f":"16*C85","v":{"v":29.0912,"d":"29"}},{"$f":"15*C85","v":{"v":27.273,"d":"27"}},{"$f":"14*C85","v":{"v":25.4548,"d":"25"}},{"$f":"11*C85","v":{"v":20.0002,"d":"20"}},{"$f":"17*C85","v":{"v":30.9094,"d":"31"}},{"$f":"AVERAGE(K108:O108)","v":{"v":26.54572,"d":"27"}},{"$f":"STDEV(K108:O108)","v":{"v":4.1858107424965825,"d":"4"}},{"$f":"2*C85","v":{"v":3.6364,"d":"4"}},{"$f":"0*C85","v":0},{"$f":"1*C85","v":{"v":1.8182,"d":"2"}},{"$f":"1*C85","v":{"v":1.8182,"d":"2"}},{"$f":"1*C85","v":{"v":1.8182,"d":"2"}},{"$f":"AVERAGE(R108:V108)","v":{"v":1.8182000000000003,"d":"2"}},{"$f":"STDEV(R108:V108)","v":{"v":1.28566154955338,"d":"1"}},{"$f":"0*C85","v":0},{"$f":"1*C85","v":{"v":1.8182,"d":"2"}},{"$f":"0*C85","v":0},{"$f":"0*C85","v":0},{"$f":"0*C85","v":0},{"$f":"AVERAGE(Y108:AC108)","v":{"v":0.36364,"d":"0"}},{"$f":"STDEV(Y108:AC108)","v":{"v":0.8131237593380235,"d":"1"}},{"$f":"0*$C$85","v":0},0,0,0,0,{"$f":"AVERAGE(AF108:AJ108)","v":0},{"$f":"STDEV(AF108:AJ108)","v":0},{"$f":"0*$C$85","v":0},0,0,0,0,{"$f":"AVERAGE(AM108:AQ108)","v":0},{"$f":"STDEV(AM108:AQ108)","v":0},{"$f":"0*$C$85","v":0},0,0,0,0,{"$f":"AVERAGE(AT108:AX108)","v":0},{"$f":"STDEV(AT108:AX108)","v":0},{"$f":"0*$C$85","v":0},0,0,0,0,{"$f":"AVERAGE(BA108:BE108)","v":0},{"$f":"STDEV(BA108:BE108)","v":0}]
[null,2,null,"NA","NA","NA","NA","NA",{"$f":"AVERAGE(D109:H109)","v":{"$error":"#DIV/0!"}},{"$f":"STDEV(D109:H109)","v":{"$error":"#DIV/0!"}},{"$f":"47*C85","v":{"v":85.4554,"d":"85"}},{"$f":"54*C85","v":{"v":98.1828,"d":"98"}},{"$f":"36*C85","v":{"v":65.4552,"d":"65"}},{"$f":"45*C85","v":{"v":81.819,"d":"82"}},{"$f":"39*C85","v":{"v":70.9098,"d":"71"}},{"$f":"AVERAGE(K109:O109)","v":{"v":80.36444,"d":"80"}},{"$f":"STDEV(K109:O109)","v":{"v":12.817987620059515,"d":"13"}},{"$f":"3*C85","v":{"v":5.4546,"d":"5"}},{"$f":"7*C85","v":{"v":12.7274,"d":"13"}},{"$f":"2*C85","v":{"v":3.6364,"d":"4"}},{"$f":"1*C85","v":{"v":1.8182,"d":"2"}},{"$f":"6*C85","v":{"v":10.9092,"d":"11"}},{"$f":"AVERAGE(R109:V109)","v":{"v":6.90916,"d":"7"}},{"$f":"STDEV(R109:V109)","v":{"v":4.706294009940307,"d":"5"}},{"$f":"3*C85","v":{"v":5.4546,"d":"5"}},{"$f":"0*C85","v":0},{"$f":"0*C85","v":0},{"$f":"1*C85","v":{"v":1.8182,"d":"2"}},{"$f":"1*C85","v":{"v":1.8182,"d":"2"}},{"$f":"AVERAGE(Y109:AC109)","v":{"v":1.8182000000000003,"d":"2"}},{"$f":"STDEV(Y109:AC109)","v":{"v":2.2268311251641877,"d":"2"}},0,0,0,0,0,{"$f":"AVERAGE(AF109:AJ109)","v":0},{"$f":"STDEV(AF109:AJ109)","v":0},0,0,0,0,0,{"$f":"AVERAGE(AM109:AQ109)","v":0},{"$f":"STDEV(AM109:AQ109)","v":0},0,0,0,0,0,{"$f":"AVERAGE(AT109:AX109)","v":0},{"$f":"STDEV(AT109:AX109)","v":0},0,0,0,0,0,{"$f":"AVERAGE(BA109:BE109)","v":0},{"$f":"STDEV(BA109:BE109)","v":0}]
[null,3,null,"NA","NA","NA","NA","NA",{"$f":"AVERAGE(D110:H110)","v":{"$error":"#DIV/0!"}},{"$f":"STDEV(D110:H110)","v":{"$error":"#DIV/0!"}},{"$f":"43*C85","v":{"v":78.18260000000001,"d":"78"}},{"$f":"57*C85","v":{"v":103.6374,"d":"104"}},{"$f":"40*C85","v":{"v":72.72800000000001,"d":"73"}},{"$f":"52*C85","v":{"v":94.5464,"d":"95"}},{"$f":"53*C85","v":{"v":96.3646,"d":"96"}},{"$f":"AVERAGE(K110:O110)","v":{"v":89.0918,"d":"89"}},{"$f":"STDEV(K110:O110)","v":{"v":13.04803965582577,"d":"13"}},{"$f":"3*C85","v":{"v":5.4546,"d":"5"}},{"$f":"5*C85","v":{"v":9.091000000000001,"d":"9"}},{"$f":"4*C85","v":{"v":7.2728,"d":"7"}},{"$f":"6*C85","v":{"v":10.9092,"d":"11"}},{"$f":"3*C85","v":{"v":5.4546,"d":"5"}},{"$f":"AVERAGE(R110:V110)","v":{"v":7.63644,"d":"8"}},{"$f":"STDEV(R110:V110)","v":{"v":2.370642762627892,"d":"2"}},{"$f":"1*C85","v":{"v":1.8182,"d":"2"}},{"$f":"0*C85","v":0},{"$f":"0*C85","v":0},{"$f":"1*C85","v":{"v":1.8182,"d":"2"}},{"$f":"0*C85","v":0},{"$f":"AVERAGE(Y110:AC110)","v":{"v":0.72728,"d":"1"}},{"$f":"STDEV(Y110:AC110)","v":{"v":0.995869154055893,"d":"1"}},0,0,0,0,0,{"$f":"AVERAGE(AF110:AJ110)","v":0},{"$f":"STDEV(AF110:AJ110)","v":0},0,0,0,0,0,{"$f":"AVERAGE(AM110:AQ110)","v":0},{"$f":"STDEV(AM110:AQ110)","v":0},0,0,0,0,0,{"$f":"AVERAGE(AT110:AX110)","v":0},{"$f":"STDEV(AT110:AX110)","v":0},0,0,0,0,0,{"$f":"AVERAGE(BA110:BE110)","v":0},{"$f":"STDEV(BA110:BE110)","v":0}]
["average",{"$nulls":7},{"$f":"AVERAGE(I108:I110)","v":{"$error":"#DIV/0!"}},{"$nulls":6},{"$f":"AVERAGE(P108:P110)","v":{"v":65.33398666666666,"d":"65"}},{"$nulls":6},{"$f":"AVERAGE(W108:W110)","v":{"v":5.4546,"d":"5"}},{"$nulls":6},{"$f":"AVERAGE(AD108:AD110)","v":{"v":0.9697066666666667,"d":"1"}},{"$nulls":6},{"$f":"AVERAGE(AK108:AK110)","v":0},{"$nulls":6},{"$f":"AVERAGE(AR108:AR110)","v":0},{"$nulls":6},{"$f":"AVERAGE(AY108:AY110)","v":0},{"$nulls":6},{"$f":"AVERAGE(BF108:BF110)","v":0}]
["stdev",{"$nulls":7},{"$f":"SUM(J108:J110)","v":{"$error":"#DIV/0!"}},{"$nulls":6},{"$f":"SUM(Q108:Q110)","v":{"v":30.051838018381865,"d":"30"}},{"$nulls":6},{"$f":"SUM(X108:X110)","v":{"v":8.36259832212158,"d":"8"}},{"$nulls":6},{"$f":"SUM(AE108:AE110)","v":{"v":4.035824038558104,"d":"4"}},{"$nulls":6},{"$f":"SUM(AL108:AL110)","v":0},{"$nulls":6},{"$f":"SUM(AS108:AS110)","v":0},{"$nulls":6},{"$f":"SUM(AZ108:AZ110)","v":0},{"$nulls":6},{"$f":"SUM(BG108:BG110)","v":0}]
["pS2213 APR",1,null,"NA","NA","NA","NA","NA",{"$f":"AVERAGE(D113:H113)","v":{"$error":"#DIV/0!"}},{"$f":"STDEV(D113:H113)","v":{"$error":"#DIV/0!"}},{"$f":"88*C85","v":160.0016},{"$f":"59*C85","v":107.27380000000001},{"$f":"63*C85","v":114.5466},{"$f":"73*C85","v":132.7286},{"$f":"75*C85","v":136.365},{"$f":"AVERAGE(K113:O113)","v":130.18312},{"$f":"STDEV(K113:O113)","v":20.63476774068455},{"$f":"13*C85","v":23.6366},{"$f":"16*C85","v":29.0912},{"$f":"15*C85","v":27.273},{"$f":"7*C85","v":12.7274},{"$f":"7*C85","v":12.7274},{"$f":"AVERAGE(R113:V113)","v":21.09112},{"$f":"STDEV(R113:V113)","v":7.88352733945915},{"$f":"0*C85","v":0},{"$f":"1*C85","v":1.8182},{"$f":"0*C85","v":0},{"$f":"1*C85","v":1.8182},{"$f":"0*C85","v":0},{"$f":"AVERAGE(Y113:AC113)","v":0.72728},{"$f":"STDEV(Y113:AC113)","v":0.995869154055893},{"$f":"0*$C$85","v":0},0,0,0,0,{"$f":"AVERAGE(AF113:AJ113)","v":0},{"$f":"STDEV(AF113:AJ113)","v":0},{"$f":"0*$C$85","v":0},0,0,0,0,{"$f":"AVERAGE(AM113:AQ113)","v":0},{"$f":"STDEV(AM113:AQ113)","v":0},{"$f":"0*$C$85","v":0},0,0,0,0,{"$f":"AVERAGE(AT113:AX113)","v":0},{"$f":"STDEV(AT113:AX113)","v":0},{"$f":"0*$C$85","v":0},0,0,0,0,{"$f":"AVERAGE(BA113:BE113)","v":0},{"$f":"STDEV(BA113:BE113)","v":0}]
["p+0",2,null,"NA","NA","NA","NA","NA",{"$f":"AVERAGE(D114:H114)","v":{"$error":"#DIV/0!"}},{"$f":"STDEV(D114:H114)","v":{"$error":"#DIV/0!"}},"NA","NA","NA","NA","NA",{"$f":"AVERAGE(K114:O114)","v":{"$error":"#DIV/0!"}},{"$f":"STDEV(K114:O114)","v":{"$error":"#DIV/0!"}},{"$f":"29*C85","v":52.7278},{"$f":"28*C85","v":50.9096},{"$f":"27*C85","v":49.0914},{"$f":"29*C85","v":52.7278},{"$f":"25*C85","v":45.455},{"$f":"AVERAGE(R114:V114)","v":50.182320000000004},{"$f":"STDEV(R114:V114)","v":3.0424305204885136},{"$f":"1*C85","v":1.8182},{"$f":"2*C85","v":3.6364},{"$f":"5*C85","v":9.091000000000001},{"$f":"1*C85","v":1.8182},{"$f":"7*C85","v":12.7274},{"$f":"AVERAGE(Y114:AC114)","v":5.81824},{"$f":"STDEV(Y114:AC114)","v":4.878742556028141},0,0,0,0,0,{"$f":"AVERAGE(AF114:AJ114)","v":0},{"$f":"STDEV(AF114:AJ114)","v":0},0,0,0,0,0,{"$f":"AVERAGE(AM114:AQ114)","v":0},{"$f":"STDEV(AM114:AQ114)","v":0},0,0,0,0,0,{"$f":"AVERAGE(AT114:AX114)","v":0},{"$f":"STDEV(AT114:AX114)","v":0},0,0,0,0,0,{"$f":"AVERAGE(BA114:BE114)","v":0},{"$f":"STDEV(BA114:BE114)","v":0}]
[null,3,null,"NA","NA","NA","NA","NA",{"$f":"AVERAGE(D115:H115)","v":{"$error":"#DIV/0!"}},{"$f":"STDEV(D115:H115)","v":{"$error":"#DIV/0!"}},{"$f":"51*C85","v":{"v":92.7282,"d":"93"}},{"$f":"33*C85","v":{"v":60.0006,"d":"60"}},{"$f":"42*C85","v":{"v":76.3644,"d":"76"}},{"$f":"42*C85","v":{"v":76.3644,"d":"76"}},{"$f":"46*C85","v":{"v":83.6372,"d":"84"}},{"$f":"AVERAGE(K115:O115)","v":{"v":77.81896,"d":"78"}},{"$f":"STDEV(K115:O115)","v":{"v":12.019388469801621,"d":"12"}},{"$f":"4*C85","v":{"v":7.2728,"d":"7"}},{"$f":"4*C85","v":{"v":7.2728,"d":"7"}},{"$f":"2*C85","v":{"v":3.6364,"d":"4"}},{"$f":"3*C85","v":{"v":5.4546,"d":"5"}},{"$f":"3*C85","v":{"v":5.4546,"d":"5"}},{"$f":"AVERAGE(R115:V115)","v":{"v":5.81824,"d":"6"}},{"$f":"STDEV(R115:V115)","v":{"v":1.521215260244257,"d":"2"}},{"$f":"0*C85","v":0},{"$f":"1*C85","v":{"v":1.8182,"d":"2"}},{"$f":"0*C85","v":0},{"$f":"0*C85","v":0},{"$f":"0*C85","v":0},{"$f":"AVERAGE(Y115:AC115)","v":{"v":0.36364,"d":"0"}},{"$f":"STDEV(Y115:AC115)","v":{"v":0.8131237593380235,"d":"1"}},0,0,0,0,0,{"$f":"AVERAGE(AF115:AJ115)","v":0},{"$f":"STDEV(AF115:AJ115)","v":0},0,0,0,0,0,{"$f":"AVERAGE(AM115:AQ115)","v":0},{"$f":"STDEV(AM115:AQ115)","v":0},0,0,0,0,0,{"$f":"AVERAGE(AT115:AX115)","v":0},{"$f":"STDEV(AT115:AX115)","v":0},0,0,0,0,0,{"$f":"AVERAGE(BA115:BE115)","v":0},{"$f":"STDEV(BA115:BE115)","v":0}]
["average",{"$nulls":7},{"$f":"AVERAGE(I113:I115)","v":{"$error":"#DIV/0!"}},{"$nulls":6},{"$f":"AVERAGE(P113:P115)","v":{"$error":"#DIV/0!"}},{"$nulls":6},{"$f":"AVERAGE(W113:W115)","v":{"v":25.69722666666667,"d":"26"}},{"$nulls":6},{"$f":"AVERAGE(AD113:AD115)","v":{"v":2.3030533333333336,"d":"2"}},{"$nulls":6},{"$f":"AVERAGE(AK113:AK115)","v":0},{"$nulls":6},{"$f":"AVERAGE(AR113:AR115)","v":0},{"$nulls":6},{"$f":"AVERAGE(AY113:AY115)","v":0},{"$nulls":6},{"$f":"AVERAGE(BF113:BF115)","v":0}]
["stdev",{"$nulls":7},{"$f":"SUM(J113:J115)","v":{"$error":"#DIV/0!"}},{"$nulls":6},{"$f":"SUM(Q113:Q115)","v":{"$error":"#DIV/0!"}},{"$nulls":6},{"$f":"SUM(X113:X115)","v":{"v":12.44717312019192,"d":"12"}},{"$nulls":6},{"$f":"SUM(AE113:AE115)","v":{"v":6.687735469422058,"d":"7"}},{"$nulls":6},{"$f":"SUM(AL113:AL115)","v":0},{"$nulls":6},{"$f":"SUM(AS113:AS115)","v":0},{"$nulls":6},{"$f":"SUM(AZ113:AZ115)","v":0},{"$nulls":6},{"$f":"SUM(BG113:BG115)","v":0}]
["p+3",1,null,"NA","NA","NA","NA","NA",{"$f":"AVERAGE(D118:H118)","v":{"$error":"#DIV/0!"}},{"$f":"STDEV(D118:H118)","v":{"$error":"#DIV/0!"}},{"$f":"113*C85","v":{"v":205.4566,"d":"205"}},{"$f":"97*C85","v":{"v":176.3654,"d":"176"}},{"$f":"115*C85","v":{"v":209.09300000000002,"d":"209"}},{"$f":"111*C85","v":{"v":201.8202,"d":"202"}},{"$f":"119*C85","v":{"v":216.3658,"d":"216"}},{"$f":"AVERAGE(K118:O118)","v":{"v":201.8202,"d":"202"}},{"$f":"STDEV(K118:O118)","v":{"v":15.212152602442568,"d":"15"}},{"$f":"18*C85","v":{"v":32.7276,"d":"33"}},{"$f":"19*C85","v":{"v":34.5458,"d":"35"}},{"$f":"18*C85","v":{"v":32.7276,"d":"33"}},{"$f":"18*C85","v":{"v":32.7276,"d":"33"}},{"$f":"15*C85","v":{"v":27.273,"d":"27"}},{"$f":"AVERAGE(R118:V118)","v":{"v":32.00032,"d":"32"}},{"$f":"STDEV(R118:V118)","v":{"v":2.7574368264749065,"d":"3"}},{"$f":"1*C85","v":{"v":1.8182,"d":"2"}},{"$f":"1*C85","v":{"v":1.8182,"d":"2"}},{"$f":"2*C85","v":{"v":3.6364,"d":"4"}},{"$f":"0*C85","v":0},{"$f":"1*C85","v":{"v":1.8182,"d":"2"}},{"$f":"AVERAGE(Y118:AC118)","v":{"v":1.8182000000000003,"d":"2"}},{"$f":"STDEV(Y118:AC118)","v":{"v":1.2856615495533805,"d":"1"}},{"$f":"0*$C$85","v":0},0,0,0,0,{"$f":"AVERAGE(AF118:AJ118)","v":0},{"$f":"STDEV(AF118:AJ118)","v":0},{"$f":"0*$C$85","v":0},0,0,0,0,{"$f":"AVERAGE(AM118:AQ118)","v":0},{"$f":"STDEV(AM118:AQ118)","v":0},{"$f":"0*$C$85","v":0},0,0,0,0,{"$f":"AVERAGE(AT118:AX118)","v":0},{"$f":"STDEV(AT118:AX118)","v":0},{"$f":"0*$C$85","v":0},0,0,0,0,{"$f":"AVERAGE(BA118:BE118)","v":0},{"$f":"STDEV(BA118:BE118)","v":0}]
[null,2,null,"NA","NA","NA","NA","NA",{"$f":"AVERAGE(D119:H119)","v":{"$error":"#DIV/0!"}},{"$f":"STDEV(D119:H119)","v":{"$error":"#DIV/0!"}},"NA","NA","NA","NA","NA",{"$f":"AVERAGE(K119:O119)","v":{"$error":"#DIV/0!"}},{"$f":"STDEV(K119:O119)","v":{"$error":"#DIV/0!"}},{"$f":"42*C85","v":{"v":76.3644,"d":"76"}},{"$f":"37*C85","v":{"v":67.2734,"d":"67"}},{"$f":"38*C85","v":{"v":69.0916,"d":"69"}},{"$f":"43*C85","v":{"v":78.18260000000001,"d":"78"}},{"$f":"33*C85","v":{"v":60.0006,"d":"60"}},{"$f":"AVERAGE(R119:V119)","v":{"v":70.18252000000001,"d":"70"}},{"$f":"STDEV(R119:V119)","v":{"v":7.340665856174088,"d":"7"}},{"$f":"3*C85","v":{"v":5.4546,"d":"5"}},{"$f":"2*C85","v":{"v":3.6364,"d":"4"}},{"$f":"2*C85","v":{"v":3.6364,"d":"4"}},{"$f":"1*C85","v":{"v":1.8182,"d":"2"}},{"$f":"4*C85","v":{"v":7.2728,"d":"7"}},{"$f":"AVERAGE(Y119:AC119)","v":{"v":4.3636800000000004,"d":"4"}},{"$f":"STDEV(Y119:AC119)","v":{"v":2.0730669579152514,"d":"2"}},0,0,0,0,0,{"$f":"AVERAGE(AF119:AJ119)","v":0},{"$f":"STDEV(AF119:AJ119)","v":0},0,0,0,0,0,{"$f":"AVERAGE(AM119:AQ119)","v":0},{"$f":"STDEV(AM119:AQ119)","v":0},0,0,0,0,0,{"$f":"AVERAGE(AT119:AX119)","v":0},{"$f":"STDEV(AT119:AX119)","v":0},0,0,0,0,0,{"$f":"AVERAGE(BA119:BE119)","v":0},{"$f":"STDEV(BA119:BE119)","v":0}]
[null,3,null,"NA","NA","NA","NA","NA",{"$f":"AVERAGE(D120:H120)","v":{"$error":"#DIV/0!"}},{"$f":"STDEV(D120:H120)","v":{"$error":"#DIV/0!"}},{"$f":"125*C85","v":{"v":227.275,"d":"227"}},{"$f":"113*C85","v":{"v":205.4566,"d":"205"}},{"$f":"102*C85","v":{"v":185.4564,"d":"185"}},{"$f":"97*C85","v":{"v":176.3654,"d":"176"}},{"$f":"101*C85","v":{"v":183.6382,"d":"184"}},{"$f":"AVERAGE(K120:O120)","v":{"v":195.63832,"d":"196"}},{"$f":"STDEV(K120:O120)","v":{"v":20.714716772188805,"d":"21"}},{"$f":"17*C85","v":{"v":30.9094,"d":"31"}},{"$f":"11*C85","v":{"v":20.0002,"d":"20"}},{"$f":"18*C85","v":{"v":32.7276,"d":"33"}},{"$f":"19*C85","v":{"v":34.5458,"d":"35"}},{"$f":"21*C85","v":{"v":38.1822,"d":"38"}},{"$f":"AVERAGE(R120:V120)","v":{"v":31.27304,"d":"31"}},{"$f":"STDEV(R120:V120)","v":{"v":6.851502580310381,"d":"7"}},{"$f":"1*C85","v":{"v":1.8182,"d":"2"}},{"$f":"0*C85","v":0},{"$f":"5*C85","v":{"v":9.091000000000001,"d":"9"}},{"$f":"2*C85","v":{"v":3.6364,"d":"4"}},{"$f":"2*C85","v":{"v":3.6364,"d":"4"}},{"$f":"AVERAGE(Y120:AC120)","v":{"v":3.6364000000000005,"d":"4"}},{"$f":"STDEV(Y120:AC120)","v":{"v":3.40154073031619,"d":"3"}},0,0,0,0,0,{"$f":"AVERAGE(AF120:AJ120)","v":0},{"$f":"STDEV(AF120:AJ120)","v":0},0,0,0,0,0,{"$f":"AVERAGE(AM120:AQ120)","v":0},{"$f":"STDEV(AM120:AQ120)","v":0},0,0,0,0,0,{"$f":"AVERAGE(AT120:AX120)","v":0},{"$f":"STDEV(AT120:AX120)","v":0},0,0,0,0,0,{"$f":"AVERAGE(BA120:BE120)","v":0},{"$f":"STDEV(BA120:BE120)","v":0}]
["average",{"$nulls":7},{"$f":"AVERAGE(I118:I120)","v":{"$error":"#DIV/0!"}},{"$nulls":6},{"$f":"AVERAGE(P118:P120)","v":{"$error":"#DIV/0!"}},{"$nulls":6},{"$f":"AVERAGE(W118:W120)","v":{"v":44.48529333333334,"d":"44"}},{"$nulls":6},{"$f":"AVERAGE(AD118:AD120)","v":{"v":3.2727600000000003,"d":"3"}},{"$nulls":6},{"$f":"AVERAGE(AK118:AK120)","v":0},{"$nulls":6},{"$f":"AVERAGE(AR118:AR120)","v":0},{"$nulls":6},{"$f":"AVERAGE(AY118:AY120)","v":0},{"$nulls":6},{"$f":"AVERAGE(BF118:BF120)","v":0}]
["stdev",{"$nulls":7},{"$f":"SUM(J118:J120)","v":{"$error":"#DIV/0!"}},{"$nulls":6},{"$f":"SUM(Q118:Q120)","v":{"$error":"#DIV/0!"}},{"$nulls":6},{"$f":"SUM(X118:X120)","v":{"v":16.949605262959373,"d":"17"}},{"$nulls":6},{"$f":"SUM(AE118:AE120)","v":{"v":6.760269237784822,"d":"7"}},{"$nulls":6},{"$f":"SUM(AL118:AL120)","v":0},{"$nulls":6},{"$f":"SUM(AS118:AS120)","v":0},{"$nulls":6},{"$f":"SUM(AZ118:AZ120)","v":0},{"$nulls":6},{"$f":"SUM(BG118:BG120)","v":0}]
[]
[]
["T11","2018-02-19"]
["Sample","Dilution:",null,"10^0",{"$nulls":4},"AVERAGE","STDEV","10^-1",{"$nulls":4},"AVERAGE","STDEV","10^-2",{"$nulls":4},"AVERAGE","STDEV","10^-3",{"$nulls":4},"AVERAGE","STDEV","10^-4",{"$nulls":4},"AVERAGE","STDEV","10^-5",{"$nulls":4},"AVERAGE","STDEV","10^-6",{"$nulls":4},"AVERAGE","STDEV","10^-7",{"$nulls":4},"AVERAGE","STDEV"]
["Blank",1,null,0,0,0,0,0,{"$f":"AVERAGE(D127:H127)","v":0},{"$f":"STDEV(D127:H127)","v":0},0,0,0,0,0,{"$f":"AVERAGE(K127:O127)","v":0},{"$f":"STDEV(K127:O127)","v":0},0,0,0,0,0,{"$f":"AVERAGE(R127:V127)","v":0},{"$f":"STDEV(R127:V127)","v":0},0,0,0,0,0,{"$f":"AVERAGE(Y127:AC127)","v":0},{"$f":"STDEV(Y127:AC127)","v":0},0,0,0,0,0,{"$f":"AVERAGE(AF127:AJ127)","v":0},{"$f":"STDEV(AF127:AJ127)","v":0},0,0,0,0,0,{"$f":"AVERAGE(AM127:AQ127)","v":0},{"$f":"STDEV(AM127:AQ127)","v":0},0,0,0,0,0,{"$f":"AVERAGE(AT127:AX127)","v":0},{"$f":"STDEV(AT127:AX127)","v":0},0,0,0,0,0,{"$f":"AVERAGE(BA127:BE127)","v":0},{"$f":"STDEV(BA127:BE127)","v":0}]
[null,2,null,0,0,0,0,0,{"$f":"AVERAGE(D128:H128)","v":0},{"$f":"STDEV(D128:H128)","v":0},0,0,0,0,0,{"$f":"AVERAGE(K128:O128)","v":0},{"$f":"STDEV(K128:O128)","v":0},0,0,0,0,0,{"$f":"AVERAGE(R128:V128)","v":0},{"$f":"STDEV(R128:V128)","v":0},0,0,0,0,0,{"$f":"AVERAGE(Y128:AC128)","v":0},{"$f":"STDEV(Y128:AC128)","v":0},0,0,0,0,0,{"$f":"AVERAGE(AF128:AJ128)","v":0},{"$f":"STDEV(AF128:AJ128)","v":0},0,0,0,0,0,{"$f":"AVERAGE(AM128:AQ128)","v":0},{"$f":"STDEV(AM128:AQ128)","v":0},0,0,0,0,0,{"$f":"AVERAGE(AT128:AX128)","v":0},{"$f":"STDEV(AT128:AX128)","v":0},0,0,0,0,0,{"$f":"AVERAGE(BA128:BE128)","v":0},{"$f":"STDEV(BA128:BE128)","v":0}]
[null,3,null,0,0,0,0,0,{"$f":"AVERAGE(D129:H129)","v":0},{"$f":"STDEV(D129:H129)","v":0},0,0,0,0,0,{"$f":"AVERAGE(K129:O129)","v":0},{"$f":"STDEV(K129:O129)","v":0},0,0,0,0,0,{"$f":"AVERAGE(R129:V129)","v":0},{"$f":"STDEV(R129:V129)","v":0},0,0,0,0,0,{"$f":"AVERAGE(Y129:AC129)","v":0},{"$f":"STDEV(Y129:AC129)","v":0},0,0,0,0,0,{"$f":"AVERAGE(AF129:AJ129)","v":0},{"$f":"STDEV(AF129:AJ129)","v":0},0,0,0,0,0,{"$f":"AVERAGE(AM129:AQ129)","v":0},{"$f":"STDEV(AM129:AQ129)","v":0},0,0,0,0,0,{"$f":"AVERAGE(AT129:AX129)","v":0},{"$f":"STDEV(AT129:AX129)","v":0},0,0,0,0,0,{"$f":"AVERAGE(BA129:BE129)","v":0},{"$f":"STDEV(BA129:BE129)","v":0}]
[{"$nulls":8},{"$f":"AVERAGE(I127:I129)","v":0},{"$nulls":6},{"$f":"AVERAGE(P127:P129)","v":0},{"$nulls":6},{"$f":"AVERAGE(W127:W129)","v":0},{"$nulls":6},{"$f":"AVERAGE(AD127:AD129)","v":0},{"$nulls":6},{"$f":"AVERAGE(AK127:AK129)","v":0},{"$nulls":6},{"$f":"AVERAGE(AR127:AR129)","v":0},{"$nulls":6},{"$f":"AVERAGE(AY127:AY129)","v":0},{"$nulls":6},{"$f":"AVERAGE(BF127:BF129)","v":0}]
[{"$nulls":8},{"$f":"SUM(J127:J129)","v":0},{"$nulls":6},{"$f":"SUM(Q127:Q129)","v":0},{"$nulls":6},{"$f":"SUM(X127:X129)","v":0},{"$nulls":6},{"$f":"SUM(AE127:AE129)","v":0},{"$nulls":6},{"$f":"SUM(AL127:AL129)","v":0},{"$nulls":6},{"$f":"SUM(AS127:AS129)","v":0},{"$nulls":6},{"$f":"SUM(AZ127:AZ129)","v":0},{"$nulls":6},{"$f":"SUM(BG127:BG129)","v":0}]
["BW25113 -",1,null,"NA","NA","NA","NA","NA",{"$f":"AVERAGE(D132:H132)","v":{"$error":"#DIV/0!"}},{"$f":"STDEV(D132:H132)","v":{"$error":"#DIV/0!"}},"NA","NA","NA","NA","NA",{"$f":"AVERAGE(K132:O132)","v":{"$error":"#DIV/0!"}},{"$f":"STDEV(K132:O132)","v":{"$error":"#DIV/0!"}},"NA","NA","NA","NA","NA",{"$f":"AVERAGE(R132:V132)","v":{"$error":"#DIV/0!"}},{"$f":"STDEV(R132:V132)","v":{"$error":"#DIV/0!"}},"NA","NA","NA","NA","NA",{"$f":"AVERAGE(Y132:AC132)","v":{"$error":"#DIV/0!"}},{"$f":"STDEV(Y132:AC132)","v":{"$error":"#DIV/0!"}},228,209,232,229,219,{"$f":"AVERAGE(AF132:AJ132)","v":{"v":223.4,"d":"223"}},{"$f":"STDEV(AF132:AJ132)","v":{"v":9.396807968666808,"d":"9"}},31,40,36,33,22,{"$f":"AVERAGE(AM132:AQ132)","v":{"v":32.4,"d":"32"}},{"$f":"STDEV(AM132:AQ132)","v":{"v":6.7305274681855325,"d":"7"}},4,4,3,3,1,{"$f":"AVERAGE(AT132:AX132)","v":3},{"$f":"STDEV(AT132:AX132)","v":{"v":1.224744871391589,"d":"1"}},1,0,1,1,0,{"$f":"AVERAGE(BA132:BE132)","v":{"v":0.6,"d":"1"}},{"$f":"STDEV(BA132:BE132)","v":{"v":0.5477225575051661,"d":"1"}}]
["pS2213 - ",2,null,"NA","NA","NA","NA","NA",{"$f":"AVERAGE(D133:H133)","v":{"$error":"#DIV/0!"}},{"$f":"STDEV(D133:H133)","v":{"$error":"#DIV/0!"}},"NA","NA","NA","NA","NA",{"$f":"AVERAGE(K133:O133)","v":{"$error":"#DIV/0!"}},{"$f":"STDEV(K133:O133)","v":{"$error":"#DIV/0!"}},"NA","NA","NA","NA","NA",{"$f":"AVERAGE(R133:V133)","v":{"$error":"#DIV/0!"}},{"$f":"STDEV(R133:V133)","v":{"$error":"#DIV/0!"}},"NA","NA","NA","NA","NA",{"$f":"AVERAGE(Y133:AC133)","v":{"$error":"#DIV/0!"}},{"$f":"STDEV(Y133:AC133)","v":{"$error":"#DIV/0!"}},219,205,219,221,211,{"$f":"AVERAGE(AF133:AJ133)","v":215},{"$f":"STDEV(AF133:AJ133)","v":{"v":6.782329983125268,"d":"7"}},33,35,31,35,36,{"$f":"AVERAGE(AM133:AQ133)","v":34},{"$f":"STDEV(AM133:AQ133)","v":2},6,1,1,7,3,{"$f":"AVERAGE(AT133:AX133)","v":{"v":3.6,"d":"4"}},{"$f":"STDEV(AT133:AX133)","v":{"v":2.7928480087537886,"d":"3"}},0,0,0,0,0,{"$f":"AVERAGE(BA133:BE133)","v":0},{"$f":"STDEV(BA133:BE133)","v":0}]
[null,3,null,"NA","NA","NA","NA","NA",{"$f":"AVERAGE(D134:H134)","v":{"$error":"#DIV/0!"}},{"$f":"STDEV(D134:H134)","v":{"$error":"#DIV/0!"}},"NA","NA","NA","NA","NA",{"$f":"AVERAGE(K134:O134)","v":{"$error":"#DIV/0!"}},{"$f":"STDEV(K134:O134)","v":{"$error":"#DIV/0!"}},"NA","NA","NA","NA","NA",{"$f":"AVERAGE(R134:V134)","v":{"$error":"#DIV/0!"}},{"$f":"STDEV(R134:V134)","v":{"$error":"#DIV/0!"}},"NA","NA","NA","NA","NA",{"$f":"AVERAGE(Y134:AC134)","v":{"$error":"#DIV/0!"}},{"$f":"STDEV(Y134:AC134)","v":{"$error":"#DIV/0!"}},209,229,216,228,217,{"$f":"AVERAGE(AF134:AJ134)","v":{"v":219.8,"d":"220"}},{"$f":"STDEV(AF134:AJ134)","v":{"v":8.526429498916883,"d":"9"}},33,26,31,30,36,{"$f":"AVERAGE(AM134:AQ134)","v":{"v":31.2,"d":"31"}},{"$f":"STDEV(AM134:AQ134)","v":{"v":3.7013511046643557,"d":"4"}},2,4,6,2,4,{"$f":"AVERAGE(AT134:AX134)","v":{"v":3.6,"d":"4"}},{"$f":"STDEV(AT134:AX134)","v":{"v":1.6733200530681513,"d":"2"}},0,0,1,0,0,{"$f":"AVERAGE(BA134:BE134)","v":{"v":0.2,"d":"0"}},{"$f":"STDEV(BA134:BE134)","v":{"v":0.4472135954999579,"d":"0"}}]
["average",{"$nulls":7},{"$f":"AVERAGE(I132:I134)","v":{"$error":"#DIV/0!"}},{"$nulls":6},{"$f":"AVERAGE(P132:P134)","v":{"$error":"#DIV/0!"}},{"$nulls":6},{"$f":"AVERAGE(W132:W134)","v":{"$error":"#DIV/0!"}},{"$nulls":6},{"$f":"AVERAGE(AD132:AD134)","v":{"$error":"#DIV/0!"}},{"$nulls":6},{"$f":"AVERAGE(AK132:AK134)","v":{"v":219.4,"d":"219"}},{"$nulls":6},{"$f":"AVERAGE(AR132:AR134)","v":{"v":32.53333333333334,"d":"33"}},{"$nulls":6},{"$f":"AVERAGE(AY132:AY134)","v":{"v":3.4,"d":"3"}},{"$nulls":6},{"$f":"AVERAGE(BF132:BF134)","v":{"v":0.26666666666666666,"d":"0"}}]
["stdev",{"$nulls":7},{"$f":"SUM(J132:J134)","v":{"$error":"#DIV/0!"}},{"$nulls":6},{"$f":"SUM(Q132:Q134)","v":{"$error":"#DIV/0!"}},{"$nulls":6},{"$f":"SUM(X132:X134)","v":{"$error":"#DIV/0!"}},{"$nulls":6},{"$f":"SUM(AE132:AE134)","v":{"$error":"#DIV/0!"}},{"$nulls":6},{"$f":"SUM(AL132:AL134)","v":{"v":24.70556745070896,"d":"25"}},{"$nulls":6},{"$f":"SUM(AS132:AS134)","v":{"v":12.431878572849888,"d":"12"}},{"$nulls":6},{"$f":"SUM(AZ132:AZ134)","v":{"v":5.690912933213529,"d":"6"}},{"$nulls":6},{"$f":"SUM(BG132:BG134)","v":{"v":0.994936153005124,"d":"1"}}]
["pS2213 - ",1,null,101,92,86,96,84,{"$f":"AVERAGE(D137:H137)","v":91.8},{"$f":"STDEV(D137:H137)","v":7.014271166700072},3,6,4,3,6,{"$f":"AVERAGE(K137:O137)","v":4.4},{"$f":"STDEV(K137:O137)","v":1.5165750888103104},0,1,1,1,1,{"$f":"AVERAGE(R137:V137)","v":0.8},{"$f":"STDEV(R137:V137)","v":0.44721359549995787},1,0,5,1,2,{"$f":"AVERAGE(Y137:AC137)","v":1.8},{"$f":"STDEV(Y137:AC137)","v":1.9235384061671346},0,0,0,0,0,{"$f":"AVERAGE(AF137:AJ137)","v":0},{"$f":"STDEV(AF137:AJ137)","v":0},0,0,0,0,0,{"$f":"AVERAGE(AM137:AQ137)","v":0},{"$f":"STDEV(AM137:AQ137)","v":0},0,0,0,0,0,{"$f":"AVERAGE(AT137:AX137)","v":0},{"$f":"STDEV(AT137:AX137)","v":0},0,0,0,0,0,{"$f":"AVERAGE(BA137:BE137)","v":0},{"$f":"STDEV(BA137:BE137)","v":0}]
["p+0",2,null,"NA","NA","NA","NA","NA",{"$f":"AVERAGE(D138:H138)","v":{"$error":"#DIV/0!"}},{"$f":"STDEV(D138:H138)","v":{"$error":"#DIV/0!"}},53,57,65,45,62,{"$f":"AVERAGE(K138:O138)","v":56.4},{"$f":"STDEV(K138:O138)","v":7.86129760281343},8,6,7,5,6,{"$f":"AVERAGE(R138:V138)","v":6.4},{"$f":"STDEV(R138:V138)","v":1.1401754250991367},0,0,0,0,1,{"$f":"AVERAGE(Y138:AC138)","v":0.2},{"$f":"STDEV(Y138:AC138)","v":0.4472135954999579},0,0,0,0,0,{"$f":"AVERAGE(AF138:AJ138)","v":0},{"$f":"STDEV(AF138:AJ138)","v":0},0,0,0,0,0,{"$f":"AVERAGE(AM138:AQ138)","v":0},{"$f":"STDEV(AM138:AQ138)","v":0},0,0,0,0,0,{"$f":"AVERAGE(AT138:AX138)","v":0},{"$f":"STDEV(AT138:AX138)","v":0},0,0,0,0,0,{"$f":"AVERAGE(BA138:BE138)","v":0},{"$f":"STDEV(BA138:BE138)","v":0}]
[null,3,null,77,141,117,117,122,{"$f":"AVERAGE(D139:H139)","v":{"v":114.8,"d":"115"}},{"$f":"STDEV(D139:H139)","v":{"v":23.328094650013764,"d":"23"}},20,18,16,15,21,{"$f":"AVERAGE(K139:O139)","v":18},{"$f":"STDEV(K139:O139)","v":{"v":2.5495097567963922,"d":"3"}},23,22,28,22,26,{"$f":"AVERAGE(R139:V139)","v":{"v":24.2,"d":"24"}},{"$f":"STDEV(R139:V139)","v":{"v":2.6832815729997477,"d":"3"}},1,4,0,1,3,{"$f":"AVERAGE(Y139:AC139)","v":{"v":1.8,"d":"2"}},{"$f":"STDEV(Y139:AC139)","v":{"v":1.6431676725154984,"d":"2"}},0,0,0,0,1,{"$f":"AVERAGE(AF139:AJ139)","v":{"v":0.2,"d":"0"}},{"$f":"STDEV(AF139:AJ139)","v":{"v":0.4472135954999579,"d":"0"}},0,0,0,0,0,{"$f":"AVERAGE(AM139:AQ139)","v":0},{"$f":"STDEV(AM139:AQ139)","v":0},0,0,0,0,0,{"$f":"AVERAGE(AT139:AX139)","v":0},{"$f":"STDEV(AT139:AX139)","v":0},0,0,0,0,0,{"$f":"AVERAGE(BA139:BE139)","v":0},{"$f":"STDEV(BA139:BE139)","v":0}]
["average",{"$nulls":7},{"$f":"AVERAGE(I137:I139)","v":{"$error":"#DIV/0!"}},{"$nulls":6},{"$f":"AVERAGE(P137:P139)","v":{"v":26.266666666666666,"d":"26"}},{"$nulls":6},{"$f":"AVERAGE(W137:W139)","v":{"v":10.466666666666667,"d":"10"}},{"$nulls":6},{"$f":"AVERAGE(AD137:AD139)","v":{"v":1.2666666666666666,"d":"1"}},{"$nulls":6},{"$f":"AVERAGE(AK137:AK139)","v":{"v":0.06666666666666667,"d":"0"}},{"$nulls":6},{"$f":"AVERAGE(AR137:AR139)","v":0},{"$nulls":6},{"$f":"AVERAGE(AY137:AY139)","v":0},{"$nulls":6},{"$f":"AVERAGE(BF137:BF139)","v":0}]
["stdev",{"$nulls":7},{"$f":"SUM(J137:J139)","v":{"$error":"#DIV/0!"}},{"$nulls":6},{"$f":"SUM(Q137:Q139)","v":{"v":11.927382448420133,"d":"12"}},{"$nulls":6},{"$f":"SUM(X137:X139)","v":{"v":4.270670593598842,"d":"4"}},{"$nulls":6},{"$f":"SUM(AE137:AE139)","v":{"v":4.013919674182591,"d":"4"}},{"$nulls":6},{"$f":"SUM(AL137:AL139)","v":{"v":0.4472135954999579,"d":"0"}},{"$nulls":6},{"$f":"SUM(AS137:AS139)","v":0},{"$nulls":6},{"$f":"SUM(AZ137:AZ139)","v":0},{"$nulls":6},{"$f":"SUM(BG137:BG139)","v":0}]
["pS2213 A",1,null,159,143,162,168,167,{"$f":"AVERAGE(D142:H142)","v":159.8},{"$f":"STDEV(D142:H142)","v":10.084641788382967},17,10,16,17,12,{"$f":"AVERAGE(K142:O142)","v":14.4},{"$f":"STDEV(K142:O142)","v":3.2093613071762443},3,2,0,3,1,{"$f":"AVERAGE(R142:V142)","v":1.8},{"$f":"STDEV(R142:V142)","v":1.3038404810405297},2,0,0,0,0,{"$f":"AVERAGE(Y142:AC142)","v":0.4},{"$f":"STDEV(Y142:AC142)","v":0.8944271909999159},0,0,0,0,0,{"$f":"AVERAGE(AF142:AJ142)","v":0},{"$f":"STDEV(AF142:AJ142)","v":0},0,0,0,0,0,{"$f":"AVERAGE(AM142:AQ142)","v":0},{"$f":"STDEV(AM142:AQ142)","v":0},0,0,0,0,0,{"$f":"AVERAGE(AT142:AX142)","v":0},{"$f":"STDEV(AT142:AX142)","v":0},0,0,0,0,0,{"$f":"AVERAGE(BA142:BE142)","v":0},{"$f":"STDEV(BA142:BE142)","v":0}]
["p+0",2,null,"NA","NA","NA","NA","NA",{"$f":"AVERAGE(D143:H143)","v":{"$error":"#DIV/0!"}},{"$f":"STDEV(D143:H143)","v":{"$error":"#DIV/0!"}},58,55,63,66,71,{"$f":"AVERAGE(K143:O143)","v":62.6},{"$f":"STDEV(K143:O143)","v":6.348228099241551},8,5,11,7,10,{"$f":"AVERAGE(R143:V143)","v":8.2},{"$f":"STDEV(R143:V143)","v":2.387467277262665},0,0,1,0,1,{"$f":"AVERAGE(Y143:AC143)","v":0.4},{"$f":"STDEV(Y143:AC143)","v":0.5477225575051661},0,0,0,0,0,{"$f":"AVERAGE(AF143:AJ143)","v":0},{"$f":"STDEV(AF143:AJ143)","v":0},0,0,0,0,0,{"$f":"AVERAGE(AM143:AQ143)","v":0},{"$f":"STDEV(AM143:AQ143)","v":0},0,0,0,0,0,{"$f":"AVERAGE(AT143:AX143)","v":0},{"$f":"STDEV(AT143:AX143)","v":0},0,0,0,0,0,{"$f":"AVERAGE(BA143:BE143)","v":0},{"$f":"STDEV(BA143:BE143)","v":0}]
[null,3,null,"NA","NA","NA","NA","NA",{"$f":"AVERAGE(D144:H144)","v":{"$error":"#DIV/0!"}},{"$f":"STDEV(D144:H144)","v":{"$error":"#DIV/0!"}},52,64,66,47,55,{"$f":"AVERAGE(K144:O144)","v":{"v":56.8,"d":"57"}},{"$f":"STDEV(K144:O144)","v":{"v":8.04363102087607,"d":"8"}},10,7,4,11,7,{"$f":"AVERAGE(R144:V144)","v":{"v":7.8,"d":"8"}},{"$f":"STDEV(R144:V144)","v":{"v":2.774887385102322,"d":"3"}},0,1,0,0,1,{"$f":"AVERAGE(Y144:AC144)","v":{"v":0.4,"d":"0"}},{"$f":"STDEV(Y144:AC144)","v":{"v":0.5477225575051661,"d":"1"}},1,0,0,0,0,{"$f":"AVERAGE(AF144:AJ144)","v":{"v":0.2,"d":"0"}},{"$f":"STDEV(AF144:AJ144)","v":{"v":0.4472135954999579,"d":"0"}},0,0,0,0,0,{"$f":"AVERAGE(AM144:AQ144)","v":0},{"$f":"STDEV(AM144:AQ144)","v":0},0,0,0,0,0,{"$f":"AVERAGE(AT144:AX144)","v":0},{"$f":"STDEV(AT144:AX144)","v":0},0,0,0,0,0,{"$f":"AVERAGE(BA144:BE144)","v":0},{"$f":"STDEV(BA144:BE144)","v":0}]
["average",{"$nulls":7},{"$f":"AVERAGE(I142:I144)","v":{"$error":"#DIV/0!"}},{"$nulls":6},{"$f":"AVERAGE(P142:P144)","v":{"v":44.6,"d":"45"}},{"$nulls":6},{"$f":"AVERAGE(W142:W144)","v":{"v":5.933333333333334,"d":"6"}},{"$nulls":6},{"$f":"AVERAGE(AD142:AD144)","v":{"v":0.4000000000000001,"d":"0"}},{"$nulls":6},{"$f":"AVERAGE(AK142:AK144)","v":{"v":0.06666666666666667,"d":"0"}},{"$nulls":6},{"$f":"AVERAGE(AR142:AR144)","v":0},{"$nulls":6},{"$f":"AVERAGE(AY142:AY144)","v":0},{"$nulls":6},{"$f":"AVERAGE(BF142:BF144)","v":0}]
["stdev",{"$nulls":7},{"$f":"SUM(J142:J144)","v":{"$error":"#DIV/0!"}},{"$nulls":6},{"$f":"SUM(Q142:Q144)","v":{"v":17.601220427293867,"d":"18"}},{"$nulls":6},{"$f":"SUM(X142:X144)","v":{"v":6.466195143405517,"d":"6"}},{"$nulls":6},{"$f":"SUM(AE142:AE144)","v":{"v":1.9898723060102481,"d":"2"}},{"$nulls":6},{"$f":"SUM(AL142:AL144)","v":{"v":0.4472135954999579,"d":"0"}},{"$nulls":6},{"$f":"SUM(AS142:AS144)","v":0},{"$nulls":6},{"$f":"SUM(AZ142:AZ144)","v":0},{"$nulls":6},{"$f":"SUM(BG142:BG144)","v":0}]
["p+3",1,null,38,36,34,45,66,{"$f":"AVERAGE(D147:H147)","v":{"v":43.8,"d":"44"}},{"$f":"STDEV(D147:H147)","v":{"v":13.084341787036895,"d":"13"}},14,9,7,7,10,{"$f":"AVERAGE(K147:O147)","v":{"v":9.4,"d":"9"}},{"$f":"STDEV(K147:O147)","v":{"v":2.880972058177586,"d":"3"}},1,2,2,5,1,{"$f":"AVERAGE(R147:V147)","v":{"v":2.2,"d":"2"}},{"$f":"STDEV(R147:V147)","v":{"v":1.6431676725154984,"d":"2"}},0,0,0,1,0,{"$f":"AVERAGE(Y147:AC147)","v":{"v":0.2,"d":"0"}},{"$f":"STDEV(Y147:AC147)","v":{"v":0.4472135954999579,"d":"0"}},0,1,0,0,0,{"$f":"AVERAGE(AF147:AJ147)","v":{"v":0.2,"d":"0"}},{"$f":"STDEV(AF147:AJ147)","v":{"v":0.4472135954999579,"d":"0"}},0,0,0,0,0,{"$f":"AVERAGE(AM147:AQ147)","v":0},{"$f":"STDEV(AM147:AQ147)","v":0},0,0,0,0,0,{"$f":"AVERAGE(AT147:AX147)","v":0},{"$f":"STDEV(AT147:AX147)","v":0},0,0,0,0,0,{"$f":"AVERAGE(BA147:BE147)","v":0},{"$f":"STDEV(BA147:BE147)","v":0}]
[null,2,null,"NA","NA","NA","NA","NA",{"$f":"AVERAGE(D148:H148)","v":{"$error":"#DIV/0!"}},{"$f":"STDEV(D148:H148)","v":{"$error":"#DIV/0!"}},44,55,51,36,27,{"$f":"AVERAGE(K148:O148)","v":{"v":42.6,"d":"43"}},{"$f":"STDEV(K148:O148)","v":{"v":11.326958991715305,"d":"11"}},6,4,8,3,4,{"$f":"AVERAGE(R148:V148)","v":5},{"$f":"STDEV(R148:V148)","v":2},0,0,1,0,1,{"$f":"AVERAGE(Y148:AC148)","v":{"v":0.4,"d":"0"}},{"$f":"STDEV(Y148:AC148)","v":{"v":0.5477225575051661,"d":"1"}},0,0,0,0,0,{"$f":"AVERAGE(AF148:AJ148)","v":0},{"$f":"STDEV(AF148:AJ148)","v":0},0,0,0,0,0,{"$f":"AVERAGE(AM148:AQ148)","v":0},{"$f":"STDEV(AM148:AQ148)","v":0},0,0,0,0,0,{"$f":"AVERAGE(AT148:AX148)","v":0},{"$f":"STDEV(AT148:AX148)","v":0},0,0,0,0,0,{"$f":"AVERAGE(BA148:BE148)","v":0},{"$f":"STDEV(BA148:BE148)","v":0}]
[null,3,null,"NA","NA","NA","NA","NA",{"$f":"AVERAGE(D149:H149)","v":{"$error":"#DIV/0!"}},{"$f":"STDEV(D149:H149)","v":{"$error":"#DIV/0!"}},59,35,45,54,55,{"$f":"AVERAGE(K149:O149)","v":{"v":49.6,"d":"50"}},{"$f":"STDEV(K149:O149)","v":{"v":9.633275663033846,"d":"10"}},8,4,7,4,11,{"$f":"AVERAGE(R149:V149)","v":{"v":6.8,"d":"7"}},{"$f":"STDEV(R149:V149)","v":{"v":2.9495762407505257,"d":"3"}},1,2,0,0,1,{"$f":"AVERAGE(Y149:AC149)","v":{"v":0.8,"d":"1"}},{"$f":"STDEV(Y149:AC149)","v":{"v":0.8366600265340756,"d":"1"}},0,0,0,0,0,{"$f":"AVERAGE(AF149:AJ149)","v":0},{"$f":"STDEV(AF149:AJ149)","v":0},0,0,0,0,0,{"$f":"AVERAGE(AM149:AQ149)","v":0},{"$f":"STDEV(AM149:AQ149)","v":0},0,0,0,0,0,{"$f":"AVERAGE(AT149:AX149)","v":0},{"$f":"STDEV(AT149:AX149)","v":0},0,0,0,0,0,{"$f":"AVERAGE(BA149:BE149)","v":0},{"$f":"STDEV(BA149:BE149)","v":0}]
["average",{"$nulls":7},{"$f":"AVERAGE(I147:I149)","v":{"$error":"#DIV/0!"}},{"$nulls":6},{"$f":"AVERAGE(P147:P149)","v":{"v":33.86666666666667,"d":"34"}},{"$nulls":6},{"$f":"AVERAGE(W147:W149)","v":{"v":4.666666666666667,"d":"5"}},{"$nulls":6},{"$f":"AVERAGE(AD147:AD149)","v":{"v":0.46666666666666673,"d":"0"}},{"$nulls":6},{"$f":"AVERAGE(AK147:AK149)","v":{"v":0.06666666666666667,"d":"0"}},{"$nulls":6},{"$f":"AVERAGE(AR147:AR149)","v":0},{"$nulls":6},{"$f":"AVERAGE(AY147:AY149)","v":0},{"$nulls":6},{"$f":"AVERAGE(BF147:BF149)","v":0}]
["stdev",{"$nulls":7},{"$f":"SUM(J147:J149)","v":{"$error":"#DIV/0!"}},{"$nulls":6},{"$f":"SUM(Q147:Q149)","v":{"v":23.841206712926738,"d":"24"}},{"$nulls":6},{"$f":"SUM(X147:X149)","v":{"v":6.592743913266024,"d":"7"}},{"$nulls":6},{"$f":"SUM(AE147:AE149)","v":{"v":1.8315961795391995,"d":"2"}},{"$nulls":6},{"$f":"SUM(AL147:AL149)","v":{"v":0.4472135954999579,"d":"0"}},{"$nulls":6},{"$f":"SUM(AS147:AS149)","v":0},{"$nulls":6},{"$f":"SUM(AZ147:AZ149)","v":0},{"$nulls":6},{"$f":"SUM(BG147:BG149)","v":0}]
["pS2213 APR",1,null,"NA",174,170,113,123,{"$f":"AVERAGE(D152:H152)","v":145},{"$f":"STDEV(D152:H152)","v":31.485446373417247},35,38,29,31,36,{"$f":"AVERAGE(K152:O152)","v":33.8},{"$f":"STDEV(K152:O152)","v":3.7013511046643495},6,6,3,7,7,{"$f":"AVERAGE(R152:V152)","v":5.8},{"$f":"STDEV(R152:V152)","v":1.6431676725154991},0,0,0,2,0,{"$f":"AVERAGE(Y152:AC152)","v":0.4},{"$f":"STDEV(Y152:AC152)","v":0.8944271909999159},0,0,0,0,0,{"$f":"AVERAGE(AF152:AJ152)","v":0},{"$f":"STDEV(AF152:AJ152)","v":0},0,0,0,0,0,{"$f":"AVERAGE(AM152:AQ152)","v":0},{"$f":"STDEV(AM152:AQ152)","v":0},0,0,0,0,0,{"$f":"AVERAGE(AT152:AX152)","v":0},{"$f":"STDEV(AT152:AX152)","v":0},0,0,0,0,0,{"$f":"AVERAGE(BA152:BE152)","v":0},{"$f":"STDEV(BA152:BE152)","v":0}]
["p+0",2,null,"NA","NA","NA","NA","NA",{"$f":"AVERAGE(D153:H153)","v":{"$error":"#DIV/0!"}},{"$f":"STDEV(D153:H153)","v":{"$error":"#DIV/0!"}},111,115,133,119,119,{"$f":"AVERAGE(K153:O153)","v":119.4},{"$f":"STDEV(K153:O153)","v":8.29457654133109},13,22,18,6,20,{"$f":"AVERAGE(R153:V153)","v":15.8},{"$f":"STDEV(R153:V153)","v":6.418722614352484},3,0,0,0,2,{"$f":"AVERAGE(Y153:AC153)","v":1},{"$f":"STDEV(Y153:AC153)","v":1.4142135623730951},0,0,0,0,0,{"$f":"AVERAGE(AF153:AJ153)","v":0},{"$f":"STDEV(AF153:AJ153)","v":0},0,0,0,0,0,{"$f":"AVERAGE(AM153:AQ153)","v":0},{"$f":"STDEV(AM153:AQ153)","v":0},0,0,0,0,0,{"$f":"AVERAGE(AT153:AX153)","v":0},{"$f":"STDEV(AT153:AX153)","v":0},0,0,0,0,0,{"$f":"AVERAGE(BA153:BE153)","v":0},{"$f":"STDEV(BA153:BE153)","v":0}]
[null,3,null,100,94,104,95,111,{"$f":"AVERAGE(D154:H154)","v":{"v":100.8,"d":"101"}},{"$f":"STDEV(D154:H154)","v":{"v":6.978538528947161,"d":"7"}},14,13,12,18,12,{"$f":"AVERAGE(K154:O154)","v":{"v":13.8,"d":"14"}},{"$f":"STDEV(K154:O154)","v":{"v":2.489979919597744,"d":"2"}},1,1,1,1,0,{"$f":"AVERAGE(R154:V154)","v":{"v":0.8,"d":"1"}},{"$f":"STDEV(R154:V154)","v":{"v":0.44721359549995787,"d":"0"}},0,0,0,0,0,{"$f":"AVERAGE(Y154:AC154)","v":0},{"$f":"STDEV(Y154:AC154)","v":0},0,0,0,0,0,{"$f":"AVERAGE(AF154:AJ154)","v":0},{"$f":"STDEV(AF154:AJ154)","v":0},0,0,0,0,0,{"$f":"AVERAGE(AM154:AQ154)","v":0},{"$f":"STDEV(AM154:AQ154)","v":0},0,0,0,0,0,{"$f":"AVERAGE(AT154:AX154)","v":0},{"$f":"STDEV(AT154:AX154)","v":0},0,0,0,0,0,{"$f":"AVERAGE(BA154:BE154)","v":0},{"$f":"STDEV(BA154:BE154)","v":0}]
["average",{"$nulls":7},{"$f":"AVERAGE(I152:I154)","v":{"$error":"#DIV/0!"}},{"$nulls":6},{"$f":"AVERAGE(P152:P154)","v":{"v":55.666666666666664,"d":"56"}},{"$nulls":6},{"$f":"AVERAGE(W152:W154)","v":{"v":7.466666666666668,"d":"7"}},{"$nulls":6},{"$f":"AVERAGE(AD152:AD154)","v":{"v":0.4666666666666666,"d":"0"}},{"$nulls":6},{"$f":"AVERAGE(AK152:AK154)","v":0},{"$nulls":6},{"$f":"AVERAGE(AR152:AR154)","v":0},{"$nulls":6},{"$f":"AVERAGE(AY152:AY154)","v":0},{"$nulls":6},{"$f":"AVERAGE(BF152:BF154)","v":0}]
["stdev",{"$nulls":7},{"$f":"SUM(J152:J154)","v":{"$error":"#DIV/0!"}},{"$nulls":6},{"$f":"SUM(Q152:Q154)","v":{"v":14.485907565593182,"d":"14"}},{"$nulls":6},{"$f":"SUM(X152:X154)","v":{"v":8.509103882367942,"d":"9"}},{"$nulls":6},{"$f":"SUM(AE152:AE154)","v":{"v":2.308640753373011,"d":"2"}},{"$nulls":6},{"$f":"SUM(AL152:AL154)","v":0},{"$nulls":6},{"$f":"SUM(AS152:AS154)","v":0},{"$nulls":6},{"$f":"SUM(AZ152:AZ154)","v":0},{"$nulls":6},{"$f":"SUM(BG152:BG154)","v":0}]
["p+3",1,null,"NA","NA","NA","NA","NA",{"$f":"AVERAGE(D157:H157)","v":{"$error":"#DIV/0!"}},{"$f":"STDEV(D157:H157)","v":{"$error":"#DIV/0!"}},38,35,40,46,32,{"$f":"AVERAGE(K157:O157)","v":{"v":38.2,"d":"38"}},{"$f":"STDEV(K157:O157)","v":{"v":5.310367218940706,"d":"5"}},10,1,7,3,10,{"$f":"AVERAGE(R157:V157)","v":{"v":6.2,"d":"6"}},{"$f":"STDEV(R157:V157)","v":{"v":4.08656334834051,"d":"4"}},1,2,0,0,0,{"$f":"AVERAGE(Y157:AC157)","v":{"v":0.6,"d":"1"}},{"$f":"STDEV(Y157:AC157)","v":{"v":0.8944271909999159,"d":"1"}},0,0,0,0,0,{"$f":"AVERAGE(AF157:AJ157)","v":0},{"$f":"STDEV(AF157:AJ157)","v":0},0,0,0,0,0,{"$f":"AVERAGE(AM157:AQ157)","v":0},{"$f":"STDEV(AM157:AQ157)","v":0},0,0,0,0,0,{"$f":"AVERAGE(AT157:AX157)","v":0},{"$f":"STDEV(AT157:AX157)","v":0},0,0,0,0,0,{"$f":"AVERAGE(BA157:BE157)","v":0},{"$f":"STDEV(BA157:BE157)","v":0}]
[null,2,null,"NA","NA","NA","NA","NA",{"$f":"AVERAGE(D158:H158)","v":{"$error":"#DIV/0!"}},{"$f":"STDEV(D158:H158)","v":{"$error":"#DIV/0!"}},125,129,141,121,136,{"$f":"AVERAGE(K158:O158)","v":{"v":130.4,"d":"130"}},{"$f":"STDEV(K158:O158)","v":{"v":8.1117199162693,"d":"8"}},9,16,17,22,19,{"$f":"AVERAGE(R158:V158)","v":{"v":16.6,"d":"17"}},{"$f":"STDEV(R158:V158)","v":{"v":4.827007354458869,"d":"5"}},0,1,0,0,2,{"$f":"AVERAGE(Y158:AC158)","v":{"v":0.6,"d":"1"}},{"$f":"STDEV(Y158:AC158)","v":{"v":0.8944271909999159,"d":"1"}},0,0,0,0,0,{"$f":"AVERAGE(AF158:AJ158)","v":0},{"$f":"STDEV(AF158:AJ158)","v":0},0,0,0,0,0,{"$f":"AVERAGE(AM158:AQ158)","v":0},{"$f":"STDEV(AM158:AQ158)","v":0},0,0,0,0,0,{"$f":"AVERAGE(AT158:AX158)","v":0},{"$f":"STDEV(AT158:AX158)","v":0},0,0,0,0,0,{"$f":"AVERAGE(BA158:BE158)","v":0},{"$f":"STDEV(BA158:BE158)","v":0}]
[null,3,null,"NA","NA","NA","NA","NA",{"$f":"AVERAGE(D159:H159)","v":{"$error":"#DIV/0!"}},{"$f":"STDEV(D159:H159)","v":{"$error":"#DIV/0!"}},74,72,81,66,62,{"$f":"AVERAGE(K159:O159)","v":71},{"$f":"STDEV(K159:O159)","v":{"v":7.3484692283495345,"d":"7"}},12,11,10,11,8,{"$f":"AVERAGE(R159:V159)","v":{"v":10.4,"d":"10"}},{"$f":"STDEV(R159:V159)","v":{"v":1.5165750888103138,"d":"2"}},0,1,1,1,1,{"$f":"AVERAGE(Y159:AC159)","v":{"v":0.8,"d":"1"}},{"$f":"STDEV(Y159:AC159)","v":{"v":0.44721359549995787,"d":"0"}},0,0,0,0,0,{"$f":"AVERAGE(AF159:AJ159)","v":0},{"$f":"STDEV(AF159:AJ159)","v":0},0,0,0,0,0,{"$f":"AVERAGE(AM159:AQ159)","v":0},{"$f":"STDEV(AM159:AQ159)","v":0},0,0,0,0,0,{"$f":"AVERAGE(AT159:AX159)","v":0},{"$f":"STDEV(AT159:AX159)","v":0},0,0,0,0,0,{"$f":"AVERAGE(BA159:BE159)","v":0},{"$f":"STDEV(BA159:BE159)","v":0}]
["average",{"$nulls":7},{"$f":"AVERAGE(I157:I159)","v":{"$error":"#DIV/0!"}},{"$nulls":6},{"$f":"AVERAGE(P157:P159)","v":{"v":79.86666666666667,"d":"80"}},{"$nulls":6},{"$f":"AVERAGE(W157:W159)","v":{"v":11.066666666666668,"d":"11"}},{"$nulls":6},{"$f":"AVERAGE(AD157:AD159)","v":{"v":0.6666666666666666,"d":"1"}},{"$nulls":6},{"$f":"AVERAGE(AK157:AK159)","v":0},{"$nulls":6},{"$f":"AVERAGE(AR157:AR159)","v":0},{"$nulls":6},{"$f":"AVERAGE(AY157:AY159)","v":0},{"$nulls":6},{"$f":"AVERAGE(BF157:BF159)","v":0}]
["stdev",{"$nulls":7},{"$f":"SUM(J157:J159)","v":{"$error":"#DIV/0!"}},{"$nulls":6},{"$f":"SUM(Q157:Q159)","v":{"v":20.770556363559542,"d":"21"}},{"$nulls":6},{"$f":"SUM(X157:X159)","v":{"v":10.430145791609693,"d":"10"}},{"$nulls":6},{"$f":"SUM(AE157:AE159)","v":{"v":2.23606797749979,"d":"2"}},{"$nulls":6},{"$f":"SUM(AL157:AL159)","v":0},{"$nulls":6},{"$f":"SUM(AS157:AS159)","v":0},{"$nulls":6},{"$f":"SUM(AZ157:AZ159)","v":0},{"$nulls":6},{"$f":"SUM(BG157:BG159)","v":0}]
[]
[]
["T14","2018-02-22"]
["Sample","Dilution:",null,"10^0",{"$nulls":4},"AVERAGE","STDEV","10^-1",{"$nulls":4},"AVERAGE","STDEV","10^-2",{"$nulls":4},"AVERAGE","STDEV","10^-3",{"$nulls":4},"AVERAGE","STDEV","10^-4",{"$nulls":4},"AVERAGE","STDEV","10^-5",{"$nulls":4},"AVERAGE","STDEV","10^-6",{"$nulls":4},"AVERAGE","STDEV","10^-7",{"$nulls":4},"AVERAGE","STDEV"]
["Blank",1,null,0,0,0,0,0,{"$f":"AVERAGE(D166:H166)","v":0},{"$f":"STDEV(D166:H166)","v":0},0,0,0,0,0,{"$f":"AVERAGE(K166:O166)","v":0},{"$f":"STDEV(K166:O166)","v":0},0,0,0,0,0,{"$f":"AVERAGE(R166:V166)","v":0},{"$f":"STDEV(R166:V166)","v":0},0,0,0,0,0,{"$f":"AVERAGE(Y166:AC166)","v":0},{"$f":"STDEV(Y166:AC166)","v":0},0,0,0,0,0,{"$f":"AVERAGE(AF166:AJ166)","v":0},{"$f":"STDEV(AF166:AJ166)","v":0},0,0,0,0,0,{"$f":"AVERAGE(AM166:AQ166)","v":0},{"$f":"STDEV(AM166:AQ166)","v":0},0,0,0,0,0,{"$f":"AVERAGE(AT166:AX166)","v":0},{"$f":"STDEV(AT166:AX166)","v":0},0,0,0,0,0,{"$f":"AVERAGE(BA166:BE166)","v":0},{"$f":"STDEV(BA166:BE166)","v":0}]
[null,2,null,0,0,0,0,0,{"$f":"AVERAGE(D167:H167)","v":0},{"$f":"STDEV(D167:H167)","v":0},0,0,0,0,0,{"$f":"AVERAGE(K167:O167)","v":0},{"$f":"STDEV(K167:O167)","v":0},0,0,0,0,0,{"$f":"AVERAGE(R167:V167)","v":0},{"$f":"STDEV(R167:V167)","v":0},0,0,0,0,0,{"$f":"AVERAGE(Y167:AC167)","v":0},{"$f":"STDEV(Y167:AC167)","v":0},0,0,0,0,0,{"$f":"AVERAGE(AF167:AJ167)","v":0},{"$f":"STDEV(AF167:AJ167)","v":0},0,0,0,0,0,{"$f":"AVERAGE(AM167:AQ167)","v":0},{"$f":"STDEV(AM167:AQ167)","v":0},0,0,0,0,0,{"$f":"AVERAGE(AT167:AX167)","v":0},{"$f":"STDEV(AT167:AX167)","v":0},0,0,0,0,0,{"$f":"AVERAGE(BA167:BE167)","v":0},{"$f":"STDEV(BA167:BE167)","v":0}]
[null,3,null,0,0,0,0,0,{"$f":"AVERAGE(D168:H168)","v":0},{"$f":"STDEV(D168:H168)","v":0},0,0,0,0,0,{"$f":"AVERAGE(K168:O168)","v":0},{"$f":"STDEV(K168:O168)","v":0},0,0,0,0,0,{"$f":"AVERAGE(R168:V168)","v":0},{"$f":"STDEV(R168:V168)","v":0},0,0,0,0,0,{"$f":"AVERAGE(Y168:AC168)","v":0},{"$f":"STDEV(Y168:AC168)","v":0},0,0,0,0,0,{"$f":"AVERAGE(AF168:AJ168)","v":0},{"$f":"STDEV(AF168:AJ168)","v":0},0,0,0,0,0,{"$f":"AVERAGE(AM168:AQ168)","v":0},{"$f":"STDEV(AM168:AQ168)","v":0},0,0,0,0,0,{"$f":"AVERAGE(AT168:AX168)","v":0},{"$f":"STDEV(AT168:AX168)","v":0},0,0,0,0,0,{"$f":"AVERAGE(BA168:BE168)","v":0},{"$f":"STDEV(BA168:BE168)","v":0}]
[{"$nulls":8},{"$f":"AVERAGE(I166:I168)","v":0},{"$nulls":6},{"$f":"AVERAGE(P166:P168)","v":0},{"$nulls":6},{"$f":"AVERAGE(W166:W168)","v":0},{"$nulls":6},{"$f":"AVERAGE(AD166:AD168)","v":0},{"$nulls":6},{"$f":"AVERAGE(AK166:AK168)","v":0},{"$nulls":6},{"$f":"AVERAGE(AR166:AR168)","v":0},{"$nulls":6},{"$f":"AVERAGE(AY166:AY168)","v":0},{"$nulls":6},{"$f":"AVERAGE(BF166:BF168)","v":0}]
[{"$nulls":8},{"$f":"SUM(J166:J168)","v":0},{"$nulls":6},{"$f":"SUM(Q166:Q168)","v":0},{"$nulls":6},{"$f":"SUM(X166:X168)","v":0},{"$nulls":6},{"$f":"SUM(AE166:AE168)","v":0},{"$nulls":6},{"$f":"SUM(AL166:AL168)","v":0},{"$nulls":6},{"$f":"SUM(AS166:AS168)","v":0},{"$nulls":6},{"$f":"SUM(AZ166:AZ168)","v":0},{"$nulls":6},{"$f":"SUM(BG166:BG168)","v":0}]
["BW25113 -",1,null,"NA","NA","NA","NA","NA",{"$f":"AVERAGE(D171:H171)","v":{"$error":"#DIV/0!"}},{"$f":"STDEV(D171:H171)","v":{"$error":"#DIV/0!"}},"NA","NA","NA","NA","NA",{"$f":"AVERAGE(K171:O171)","v":{"$error":"#DIV/0!"}},{"$f":"STDEV(K171:O171)","v":{"$error":"#DIV/0!"}},"NA","NA","NA","NA","NA",{"$f":"AVERAGE(R171:V171)","v":{"$error":"#DIV/0!"}},{"$f":"STDEV(R171:V171)","v":{"$error":"#DIV/0!"}},"NA","NA","NA","NA","NA",{"$f":"AVERAGE(Y171:AC171)","v":{"$error":"#DIV/0!"}},{"$f":"STDEV(Y171:AC171)","v":{"$error":"#DIV/0!"}},227,184,221,212,196,{"$f":"AVERAGE(AF171:AJ171)","v":208},{"$f":"STDEV(AF171:AJ171)","v":{"v":17.790446874657196,"d":"18"}},37,43,33,35,34,{"$f":"AVERAGE(AM171:AQ171)","v":{"v":36.4,"d":"36"}},{"$f":"STDEV(AM171:AQ171)","v":{"v":3.974921382870358,"d":"4"}},5,1,2,1,3,{"$f":"AVERAGE(AT171:AX171)","v":{"v":2.4,"d":"2"}},{"$f":"STDEV(AT171:AX171)","v":{"v":1.6733200530681511,"d":"2"}},0,1,1,0,0,{"$f":"AVERAGE(BA171:BE171)","v":{"v":0.4,"d":"0"}},{"$f":"STDEV(BA171:BE171)","v":{"v":0.5477225575051661,"d":"1"}}]
["pS2213 - ",2,null,"NA","NA","NA","NA","NA",{"$f":"AVERAGE(D172:H172)","v":{"$error":"#DIV/0!"}},{"$f":"STDEV(D172:H172)","v":{"$error":"#DIV/0!"}},"NA","NA","NA","NA","NA",{"$f":"AVERAGE(K172:O172)","v":{"$error":"#DIV/0!"}},{"$f":"STDEV(K172:O172)","v":{"$error":"#DIV/0!"}},"NA","NA","NA","NA","NA",{"$f":"AVERAGE(R172:V172)","v":{"$error":"#DIV/0!"}},{"$f":"STDEV(R172:V172)","v":{"$error":"#DIV/0!"}},"NA","NA","NA","NA","NA",{"$f":"AVERAGE(Y172:AC172)","v":{"$error":"#DIV/0!"}},{"$f":"STDEV(Y172:AC172)","v":{"$error":"#DIV/0!"}},224,205,203,203,207,{"$f":"AVERAGE(AF172:AJ172)","v":{"v":208.4,"d":"208"}},{"$f":"STDEV(AF172:AJ172)","v":{"v":8.87693640846886,"d":"9"}},46,39,30,30,42,{"$f":"AVERAGE(AM172:AQ172)","v":{"v":37.4,"d":"37"}},{"$f":"STDEV(AM172:AQ172)","v":{"v":7.197221686178629,"d":"7"}},7,6,5,2,4,{"$f":"AVERAGE(AT172:AX172)","v":{"v":4.8,"d":"5"}},{"$f":"STDEV(AT172:AX172)","v":{"v":1.9235384061671343,"d":"2"}},2,0,0,0,0,{"$f":"AVERAGE(BA172:BE172)","v":{"v":0.4,"d":"0"}},{"$f":"STDEV(BA172:BE172)","v":{"v":0.8944271909999159,"d":"1"}}]
[null,3,null,"NA","NA","NA","NA","NA",{"$f":"AVERAGE(D173:H173)","v":{"$error":"#DIV/0!"}},{"$f":"STDEV(D173:H173)","v":{"$error":"#DIV/0!"}},"NA","NA","NA","NA","NA",{"$f":"AVERAGE(K173:O173)","v":{"$error":"#DIV/0!"}},{"$f":"STDEV(K173:O173)","v":{"$error":"#DIV/0!"}},"NA","NA","NA","NA","NA",{"$f":"AVERAGE(R173:V173)","v":{"$error":"#DIV/0!"}},{"$f":"STDEV(R173:V173)","v":{"$error":"#DIV/0!"}},"NA","NA","NA","NA","NA",{"$f":"AVERAGE(Y173:AC173)","v":{"$error":"#DIV/0!"}},{"$f":"STDEV(Y173:AC173)","v":{"$error":"#DIV/0!"}},"NA","NA","NA","NA","NA",{"$f":"AVERAGE(AF173:AJ173)","v":{"$error":"#DIV/0!"}},{"$f":"STDEV(AF173:AJ173)","v":{"$error":"#DIV/0!"}},37,36,28,48,32,{"$f":"AVERAGE(AM173:AQ173)","v":{"v":36.2,"d":"36"}},{"$f":"STDEV(AM173:AQ173)","v":{"v":7.496665925596528,"d":"7"}},5,5,2,6,6,{"$f":"AVERAGE(AT173:AX173)","v":{"v":4.8,"d":"5"}},{"$f":"STDEV(AT173:AX173)","v":{"v":1.6431676725154982,"d":"2"}},0,0,1,1,0,{"$f":"AVERAGE(BA173:BE173)","v":{"v":0.4,"d":"0"}},{"$f":"STDEV(BA173:BE173)","v":{"v":0.5477225575051661,"d":"1"}}]
["average",{"$nulls":7},{"$f":"AVERAGE(I171:I173)","v":{"$error":"#DIV/0!"}},{"$nulls":6},{"$f":"AVERAGE(P171:P173)","v":{"$error":"#DIV/0!"}},{"$nulls":6},{"$f":"AVERAGE(W171:W173)","v":{"$error":"#DIV/0!"}},{"$nulls":6},{"$f":"AVERAGE(AD171:AD173)","v":{"$error":"#DIV/0!"}},{"$nulls":6},{"$f":"AVERAGE(AK171:AK173)","v":{"$error":"#DIV/0!"}},{"$nulls":6},{"$f":"AVERAGE(AR171:AR173)","v":{"v":36.666666666666664,"d":"37"}},{"$nulls":6},{"$f":"AVERAGE(AY171:AY173)","v":4},{"$nulls":6},{"$f":"AVERAGE(BF171:BF173)","v":{"v":0.4000000000000001,"d":"0"}}]
["stdev",{"$nulls":7},{"$f":"SUM(J171:J173)","v":{"$error":"#DIV/0!"}},{"$nulls":6},{"$f":"SUM(Q171:Q173)","v":{"$error":"#DIV/0!"}},{"$nulls":6},{"$f":"SUM(X171:X173)","v":{"$error":"#DIV/0!"}},{"$nulls":6},{"$f":"SUM(AE171:AE173)","v":{"$error":"#DIV/0!"}},{"$nulls":6},{"$f":"SUM(AL171:AL173)","v":{"$error":"#DIV/0!"}},{"$nulls":6},{"$f":"SUM(AS171:AS173)","v":{"v":18.668808994645516,"d":"19"}},{"$nulls":6},{"$f":"SUM(AZ171:AZ173)","v":{"v":5.240026131750784,"d":"5"}},{"$nulls":6},{"$f":"SUM(BG171:BG173)","v":{"v":1.9898723060102481,"d":"2"}}]
["pS2213 - ",1,null,34,34,44,41,32,{"$f":"AVERAGE(D176:H176)","v":37},{"$f":"STDEV(D176:H176)","v":5.196152422706632},2,5,6,4,3,{"$f":"AVERAGE(K176:O176)","v":4},{"$f":"STDEV(K176:O176)","v":1.5811388300841898},0,0,1,0,1,{"$f":"AVERAGE(R176:V176)","v":0.4},{"$f":"STDEV(R176:V176)","v":0.5477225575051661},0,0,0,0,0,{"$f":"AVERAGE(Y176:AC176)","v":0},{"$f":"STDEV(Y176:AC176)","v":0},0,0,0,0,0,{"$f":"AVERAGE(AF176:AJ176)","v":0},{"$f":"STDEV(AF176:AJ176)","v":0},0,0,0,0,0,{"$f":"AVERAGE(AM176:AQ176)","v":0},{"$f":"STDEV(AM176:AQ176)","v":0},0,0,0,0,0,{"$f":"AVERAGE(AT176:AX176)","v":0},{"$f":"STDEV(AT176:AX176)","v":0},0,0,0,0,0,{"$f":"AVERAGE(BA176:BE176)","v":0},{"$f":"STDEV(BA176:BE176)","v":0}]
["p+0",2,null,"NA","NA","NA","NA","NA",{"$f":"AVERAGE(D177:H177)","v":{"$error":"#DIV/0!"}},{"$f":"STDEV(D177:H177)","v":{"$error":"#DIV/0!"}},47,44,40,50,54,{"$f":"AVERAGE(K177:O177)","v":47},{"$f":"STDEV(K177:O177)","v":5.385164807134504},7,3,9,7,8,{"$f":"AVERAGE(R177:V177)","v":6.8},{"$f":"STDEV(R177:V177)","v":2.2803508501982765},2,1,0,0,1,{"$f":"AVERAGE(Y177:AC177)","v":0.8},{"$f":"STDEV(Y177:AC177)","v":0.8366600265340756},0,0,0,0,0,{"$f":"AVERAGE(AF177:AJ177)","v":0},{"$f":"STDEV(AF177:AJ177)","v":0},0,0,0,0,0,{"$f":"AVERAGE(AM177:AQ177)","v":0},{"$f":"STDEV(AM177:AQ177)","v":0},0,0,0,0,0,{"$f":"AVERAGE(AT177:AX177)","v":0},{"$f":"STDEV(AT177:AX177)","v":0},0,0,0,0,0,{"$f":"AVERAGE(BA177:BE177)","v":0},{"$f":"STDEV(BA177:BE177)","v":0}]
[null,3,null,114,100,94,96,92,{"$f":"AVERAGE(D178:H178)","v":{"v":99.2,"d":"99"}},{"$f":"STDEV(D178:H178)","v":{"v":8.786353054595518,"d":"9"}},19,19,19,19,16,{"$f":"AVERAGE(K178:O178)","v":{"v":18.4,"d":"18"}},{"$f":"STDEV(K178:O178)","v":{"v":1.3416407864998738,"d":"1"}},2,4,2,0,2,{"$f":"AVERAGE(R178:V178)","v":2},{"$f":"STDEV(R178:V178)","v":{"v":1.4142135623730951,"d":"1"}},0,0,0,0,0,{"$f":"AVERAGE(Y178:AC178)","v":0},{"$f":"STDEV(Y178:AC178)","v":0},0,0,0,0,0,{"$f":"AVERAGE(AF178:AJ178)","v":0},{"$f":"STDEV(AF178:AJ178)","v":0},0,0,0,0,0,{"$f":"AVERAGE(AM178:AQ178)","v":0},{"$f":"STDEV(AM178:AQ178)","v":0},0,0,0,0,0,{"$f":"AVERAGE(AT178:AX178)","v":0},{"$f":"STDEV(AT178:AX178)","v":0},0,0,0,0,0,{"$f":"AVERAGE(BA178:BE178)","v":0},{"$f":"STDEV(BA178:BE178)","v":0}]
["average",{"$nulls":7},{"$f":"AVERAGE(I176:I178)","v":{"$error":"#DIV/0!"}},{"$nulls":6},{"$f":"AVERAGE(P176:P178)","v":{"v":23.133333333333336,"d":"23"}},{"$nulls":6},{"$f":"AVERAGE(W176:W178)","v":{"v":3.0666666666666664,"d":"3"}},{"$nulls":6},{"$f":"AVERAGE(AD176:AD178)","v":{"v":0.26666666666666666,"d":"0"}},{"$nulls":6},{"$f":"AVERAGE(AK176:AK178)","v":0},{"$nulls":6},{"$f":"AVERAGE(AR176:AR178)","v":0},{"$nulls":6},{"$f":"AVERAGE(AY176:AY178)","v":0},{"$nulls":6},{"$f":"AVERAGE(BF176:BF178)","v":0}]
["stdev",{"$nulls":7},{"$f":"SUM(J176:J178)","v":{"$error":"#DIV/0!"}},{"$nulls":6},{"$f":"SUM(Q176:Q178)","v":{"v":8.307944423718567,"d":"8"}},{"$nulls":6},{"$f":"SUM(X176:X178)","v":{"v":4.242286970076537,"d":"4"}},{"$nulls":6},{"$f":"SUM(AE176:AE178)","v":{"v":0.8366600265340756,"d":"1"}},{"$nulls":6},{"$f":"SUM(AL176:AL178)","v":0},{"$nulls":6},{"$f":"SUM(AS176:AS178)","v":0},{"$nulls":6},{"$f":"SUM(AZ176:AZ178)","v":0},{"$nulls":6},{"$f":"SUM(BG176:BG178)","v":0}]
["pS2213 A",1,null,93,97,88,93,89,{"$f":"AVERAGE(D181:H181)","v":92},{"$f":"STDEV(D181:H181)","v":{"v":3.605551275463989,"d":"4"}},6,12,8,8,8,{"$f":"AVERAGE(K181:O181)","v":{"v":8.4,"d":"8"}},{"$f":"STDEV(K181:O181)","v":{"v":2.190890230020664,"d":"2"}},0,1,0,3,1,{"$f":"AVERAGE(R181:V181)","v":1},{"$f":"STDEV(R181:V181)","v":{"v":1.224744871391589,"d":"1"}},0,0,0,0,0,{"$f":"AVERAGE(Y181:AC181)","v":0},{"$f":"STDEV(Y181:AC181)","v":0},0,0,0,0,0,{"$f":"AVERAGE(AF181:AJ181)","v":0},{"$f":"STDEV(AF181:AJ181)","v":0},0,0,0,0,0,{"$f":"AVERAGE(AM181:AQ181)","v":0},{"$f":"STDEV(AM181:AQ181)","v":0},0,0,0,0,0,{"$f":"AVERAGE(AT181:AX181)","v":0},{"$f":"STDEV(AT181:AX181)","v":0},0,0,0,0,0,{"$f":"AVERAGE(BA181:BE181)","v":0},{"$f":"STDEV(BA181:BE181)","v":0}]
["p+0",2,null,"NA","NA","NA","NA","NA",{"$f":"AVERAGE(D182:H182)","v":{"$error":"#DIV/0!"}},{"$f":"STDEV(D182:H182)","v":{"$error":"#DIV/0!"}},87,78,60,73,69,{"$f":"AVERAGE(K182:O182)","v":{"v":73.4,"d":"73"}},{"$f":"STDEV(K182:O182)","v":{"v":10.064790112068914,"d":"10"}},11,10,8,17,10,{"$f":"AVERAGE(R182:V182)","v":{"v":11.2,"d":"11"}},{"$f":"STDEV(R182:V182)","v":{"v":3.420526275297412,"d":"3"}},1,0,1,0,0,{"$f":"AVERAGE(Y182:AC182)","v":{"v":0.4,"d":"0"}},{"$f":"STDEV(Y182:AC182)","v":{"v":0.5477225575051661,"d":"1"}},0,0,0,0,0,{"$f":"AVERAGE(AF182:AJ182)","v":0},{"$f":"STDEV(AF182:AJ182)","v":0},0,0,0,0,0,{"$f":"AVERAGE(AM182:AQ182)","v":0},{"$f":"STDEV(AM182:AQ182)","v":0},0,0,0,0,0,{"$f":"AVERAGE(AT182:AX182)","v":0},{"$f":"STDEV(AT182:AX182)","v":0},0,0,0,0,0,{"$f":"AVERAGE(BA182:BE182)","v":0},{"$f":"STDEV(BA182:BE182)","v":0}]
[null,3,null,"NA","NA","NA","NA","NA",{"$f":"AVERAGE(D183:H183)","v":{"$error":"#DIV/0!"}},{"$f":"STDEV(D183:H183)","v":{"$error":"#DIV/0!"}},64,53,52,57,37,{"$f":"AVERAGE(K183:O183)","v":{"v":52.6,"d":"53"}},{"$f":"STDEV(K183:O183)","v":{"v":9.91463564635636,"d":"10"}},6,7,5,4,4,{"$f":"AVERAGE(R183:V183)","v":{"v":5.2,"d":"5"}},{"$f":"STDEV(R183:V183)","v":{"v":1.3038404810405309,"d":"1"}},0,1,1,0,0,{"$f":"AVERAGE(Y183:AC183)","v":{"v":0.4,"d":"0"}},{"$f":"STDEV(Y183:AC183)","v":{"v":0.5477225575051661,"d":"1"}},0,0,0,0,0,{"$f":"AVERAGE(AF183:AJ183)","v":0},{"$f":"STDEV(AF183:AJ183)","v":0},0,0,0,0,0,{"$f":"AVERAGE(AM183:AQ183)","v":0},{"$f":"STDEV(AM183:AQ183)","v":0},0,0,0,0,0,{"$f":"AVERAGE(AT183:AX183)","v":0},{"$f":"STDEV(AT183:AX183)","v":0},0,0,0,0,0,{"$f":"AVERAGE(BA183:BE183)","v":0},{"$f":"STDEV(BA183:BE183)","v":0}]
["average",{"$nulls":7},{"$f":"AVERAGE(I181:I183)","v":{"$error":"#DIV/0!"}},{"$nulls":6},{"$f":"AVERAGE(P181:P183)","v":{"v":44.800000000000004,"d":"45"}},{"$nulls":6},{"$f":"AVERAGE(W181:W183)","v":{"v":5.8,"d":"6"}},{"$nulls":6},{"$f":"AVERAGE(AD181:AD183)","v":{"v":0.26666666666666666,"d":"0"}},{"$nulls":6},{"$f":"AVERAGE(AK181:AK183)","v":0},{"$nulls":6},{"$f":"AVERAGE(AR181:AR183)","v":0},{"$nulls":6},{"$f":"AVERAGE(AY181:AY183)","v":0},{"$nulls":6},{"$f":"AVERAGE(BF181:BF183)","v":0}]
["stdev",{"$nulls":7},{"$f":"SUM(J181:J183)","v":{"$error":"#DIV/0!"}},{"$nulls":6},{"$f":"SUM(Q181:Q183)","v":{"v":22.170315988445935,"d":"22"}},{"$nulls":6},{"$f":"SUM(X181:X183)","v":{"v":5.949111627729533,"d":"6"}},{"$nulls":6},{"$f":"SUM(AE181:AE183)","v":{"v":1.0954451150103321,"d":"1"}},{"$nulls":6},{"$f":"SUM(AL181:AL183)","v":0},{"$nulls":6},{"$f":"SUM(AS181:AS183)","v":0},{"$nulls":6},{"$f":"SUM(AZ181:AZ183)","v":0},{"$nulls":6},{"$f":"SUM(BG181:BG183)","v":0}]
["p+3",1,null,29,32,20,31,39,{"$f":"AVERAGE(D186:H186)","v":30.2},{"$f":"STDEV(D186:H186)","v":6.833739825307958},9,5,6,10,10,{"$f":"AVERAGE(K186:O186)","v":8},{"$f":"STDEV(K186:O186)","v":2.345207879911715},1,1,0,3,1,{"$f":"AVERAGE(R186:V186)","v":1.2},{"$f":"STDEV(R186:V186)","v":1.0954451150103321},1,0,0,1,0,{"$f":"AVERAGE(Y186:AC186)","v":0.4},{"$f":"STDEV(Y186:AC186)","v":0.5477225575051661},0,0,0,0,0,{"$f":"AVERAGE(AF186:AJ186)","v":0},{"$f":"STDEV(AF186:AJ186)","v":0},0,0,0,0,0,{"$f":"AVERAGE(AM186:AQ186)","v":0},{"$f":"STDEV(AM186:AQ186)","v":0},0,0,0,0,0,{"$f":"AVERAGE(AT186:AX186)","v":0},{"$f":"STDEV(AT186:AX186)","v":0},0,0,0,0,0,{"$f":"AVERAGE(BA186:BE186)","v":0},{"$f":"STDEV(BA186:BE186)","v":0}]
[null,2,null,"NA","NA","NA","NA","NA",{"$f":"AVERAGE(D187:H187)","v":{"$error":"#DIV/0!"}},{"$f":"STDEV(D187:H187)","v":{"$error":"#DIV/0!"}},39,26,26,34,33,{"$f":"AVERAGE(K187:O187)","v":31.6},{"$f":"STDEV(K187:O187)","v":5.594640292279742},4,4,6,3,4,{"$f":"AVERAGE(R187:V187)","v":4.2},{"$f":"STDEV(R187:V187)","v":1.095445115010332},0,0,1,0,0,{"$f":"AVERAGE(Y187:AC187)","v":0.2},{"$f":"STDEV(Y187:AC187)","v":0.4472135954999579},0,0,0,0,0,{"$f":"AVERAGE(AF187:AJ187)","v":0},{"$f":"STDEV(AF187:AJ187)","v":0},0,0,0,0,0,{"$f":"AVERAGE(AM187:AQ187)","v":0},{"$f":"STDEV(AM187:AQ187)","v":0},0,0,0,0,0,{"$f":"AVERAGE(AT187:AX187)","v":0},{"$f":"STDEV(AT187:AX187)","v":0},0,0,0,0,0,{"$f":"AVERAGE(BA187:BE187)","v":0},{"$f":"STDEV(BA187:BE187)","v":0}]
[null,3,null,"NA","NA","NA","NA","NA",{"$f":"AVERAGE(D188:H188)","v":{"$error":"#DIV/0!"}},{"$f":"STDEV(D188:H188)","v":{"$error":"#DIV/0!"}},33,45,53,46,46,{"$f":"AVERAGE(K188:O188)","v":{"v":44.6,"d":"45"}},{"$f":"STDEV(K188:O188)","v":{"v":7.23187389270583,"d":"7"}},4,6,6,6,5,{"$f":"AVERAGE(R188:V188)","v":{"v":5.4,"d":"5"}},{"$f":"STDEV(R188:V188)","v":{"v":0.8944271909999143,"d":"1"}},1,0,0,1,1,{"$f":"AVERAGE(Y188:AC188)","v":{"v":0.6,"d":"1"}},{"$f":"STDEV(Y188:AC188)","v":{"v":0.5477225575051661,"d":"1"}},0,0,0,0,0,{"$f":"AVERAGE(AF188:AJ188)","v":0},{"$f":"STDEV(AF188:AJ188)","v":0},0,0,0,0,0,{"$f":"AVERAGE(AM188:AQ188)","v":0},{"$f":"STDEV(AM188:AQ188)","v":0},0,0,0,0,0,{"$f":"AVERAGE(AT188:AX188)","v":0},{"$f":"STDEV(AT188:AX188)","v":0},0,0,0,0,0,{"$f":"AVERAGE(BA188:BE188)","v":0},{"$f":"STDEV(BA188:BE188)","v":0}]
["average",{"$nulls":7},{"$f":"AVERAGE(I186:I188)","v":{"$error":"#DIV/0!"}},{"$nulls":6},{"$f":"AVERAGE(P186:P188)","v":{"v":28.066666666666666,"d":"28"}},{"$nulls":6},{"$f":"AVERAGE(W186:W188)","v":{"v":3.6,"d":"4"}},{"$nulls":6},{"$f":"AVERAGE(AD186:AD188)","v":{"v":0.4000000000000001,"d":"0"}},{"$nulls":6},{"$f":"AVERAGE(AK186:AK188)","v":0},{"$nulls":6},{"$f":"AVERAGE(AR186:AR188)","v":0},{"$nulls":6},{"$f":"AVERAGE(AY186:AY188)","v":0},{"$nulls":6},{"$f":"AVERAGE(BF186:BF188)","v":0}]
["stdev",{"$nulls":7},{"$f":"SUM(J186:J188)","v":{"$error":"#DIV/0!"}},{"$nulls":6},{"$f":"SUM(Q186:Q188)","v":{"v":15.171722064897288,"d":"15"}},{"$nulls":6},{"$f":"SUM(X186:X188)","v":{"v":3.0853174210205787,"d":"3"}},{"$nulls":6},{"$f":"SUM(AE186:AE188)","v":{"v":1.54265871051029,"d":"2"}},{"$nulls":6},{"$f":"SUM(AL186:AL188)","v":0},{"$nulls":6},{"$f":"SUM(AS186:AS188)","v":0},{"$nulls":6},{"$f":"SUM(AZ186:AZ188)","v":0},{"$nulls":6},{"$f":"SUM(BG186:BG188)","v":0}]
["pS2213 APR",1,null,"NA","NA","NA","NA","NA",{"$f":"AVERAGE(D191:H191)","v":{"$error":"#DIV/0!"}},{"$f":"STDEV(D191:H191)","v":{"$error":"#DIV/0!"}},41,20,33,22,35,{"$f":"AVERAGE(K191:O191)","v":{"v":30.2,"d":"30"}},{"$f":"STDEV(K191:O191)","v":{"v":8.92748564826626,"d":"9"}},3,3,3,1,4,{"$f":"AVERAGE(R191:V191)","v":{"v":2.8,"d":"3"}},{"$f":"STDEV(R191:V191)","v":{"v":1.095445115010332,"d":"1"}},1,0,0,0,0,{"$f":"AVERAGE(Y191:AC191)","v":{"v":0.2,"d":"0"}},{"$f":"STDEV(Y191:AC191)","v":{"v":0.4472135954999579,"d":"0"}},0,0,0,0,0,{"$f":"AVERAGE(AF191:AJ191)","v":0},{"$f":"STDEV(AF191:AJ191)","v":0},0,0,0,0,0,{"$f":"AVERAGE(AM191:AQ191)","v":0},{"$f":"STDEV(AM191:AQ191)","v":0},0,0,0,0,0,{"$f":"AVERAGE(AT191:AX191)","v":0},{"$f":"STDEV(AT191:AX191)","v":0},0,0,0,0,0,{"$f":"AVERAGE(BA191:BE191)","v":0},{"$f":"STDEV(BA191:BE191)","v":0}]
["p+0",2,null,"NA","NA","NA","NA","NA",{"$f":"AVERAGE(D192:H192)","v":{"$error":"#DIV/0!"}},{"$f":"STDEV(D192:H192)","v":{"$error":"#DIV/0!"}},58,64,71,65,61,{"$f":"AVERAGE(K192:O192)","v":{"v":63.8,"d":"64"}},{"$f":"STDEV(K192:O192)","v":{"v":4.868264577855235,"d":"5"}},9,16,8,14,8,{"$f":"AVERAGE(R192:V192)","v":11},{"$f":"STDEV(R192:V192)","v":{"v":3.7416573867739413,"d":"4"}},1,1,2,1,1,{"$f":"AVERAGE(Y192:AC192)","v":{"v":1.2,"d":"1"}},{"$f":"STDEV(Y192:AC192)","v":{"v":0.44721359549995787,"d":"0"}},0,0,0,0,0,{"$f":"AVERAGE(AF192:AJ192)","v":0},{"$f":"STDEV(AF192:AJ192)","v":0},0,0,0,0,0,{"$f":"AVERAGE(AM192:AQ192)","v":0},{"$f":"STDEV(AM192:AQ192)","v":0},0,0,0,0,0,{"$f":"AVERAGE(AT192:AX192)","v":0},{"$f":"STDEV(AT192:AX192)","v":0},0,0,0,0,0,{"$f":"AVERAGE(BA192:BE192)","v":0},{"$f":"STDEV(BA192:BE192)","v":0}]
[null,3,null,39,40,61,36,51,{"$f":"AVERAGE(D193:H193)","v":{"v":45.4,"d":"45"}},{"$f":"STDEV(D193:H193)","v":{"v":10.406728592598165,"d":"10"}},1,1,2,3,3,{"$f":"AVERAGE(K193:O193)","v":2},{"$f":"STDEV(K193:O193)","v":1},0,0,1,0,0,{"$f":"AVERAGE(R193:V193)","v":{"v":0.2,"d":"0"}},{"$f":"STDEV(R193:V193)","v":{"v":0.4472135954999579,"d":"0"}},0,0,0,0,0,{"$f":"AVERAGE(Y193:AC193)","v":0},{"$f":"STDEV(Y193:AC193)","v":0},0,0,0,0,0,{"$f":"AVERAGE(AF193:AJ193)","v":0},{"$f":"STDEV(AF193:AJ193)","v":0},0,0,0,0,0,{"$f":"AVERAGE(AM193:AQ193)","v":0},{"$f":"STDEV(AM193:AQ193)","v":0},0,0,0,0,0,{"$f":"AVERAGE(AT193:AX193)","v":0},{"$f":"STDEV(AT193:AX193)","v":0},0,0,0,0,0,{"$f":"AVERAGE(BA193:BE193)","v":0},{"$f":"STDEV(BA193:BE193)","v":0}]
["average",{"$nulls":7},{"$f":"AVERAGE(I191:I193)","v":{"$error":"#DIV/0!"}},{"$nulls":6},{"$f":"AVERAGE(P191:P193)","v":32},{"$nulls":6},{"$f":"AVERAGE(W191:W193)","v":{"v":4.666666666666667,"d":"5"}},{"$nulls":6},{"$f":"AVERAGE(AD191:AD193)","v":{"v":0.4666666666666666,"d":"0"}},{"$nulls":6},{"$f":"AVERAGE(AK191:AK193)","v":0},{"$nulls":6},{"$f":"AVERAGE(AR191:AR193)","v":0},{"$nulls":6},{"$f":"AVERAGE(AY191:AY193)","v":0},{"$nulls":6},{"$f":"AVERAGE(BF191:BF193)","v":0}]
["stdev",{"$nulls":7},{"$f":"SUM(J191:J193)","v":{"$error":"#DIV/0!"}},{"$nulls":6},{"$f":"SUM(Q191:Q193)","v":{"v":14.795750226121495,"d":"15"}},{"$nulls":6},{"$f":"SUM(X191:X193)","v":{"v":5.284316097284232,"d":"5"}},{"$nulls":6},{"$f":"SUM(AE191:AE193)","v":{"v":0.8944271909999157,"d":"1"}},{"$nulls":6},{"$f":"SUM(AL191:AL193)","v":0},{"$nulls":6},{"$f":"SUM(AS191:AS193)","v":0},{"$nulls":6},{"$f":"SUM(AZ191:AZ193)","v":0},{"$nulls":6},{"$f":"SUM(BG191:BG193)","v":0}]
["p+3",1,null,"NA","NA","NA","NA","NA",{"$f":"AVERAGE(D196:H196)","v":{"$error":"#DIV/0!"}},{"$f":"STDEV(D196:H196)","v":{"$error":"#DIV/0!"}},10,4,10,11,10,{"$f":"AVERAGE(K196:O196)","v":9},{"$f":"STDEV(K196:O196)","v":2.8284271247461903},2,1,1,1,1,{"$f":"AVERAGE(R196:V196)","v":1.2},{"$f":"STDEV(R196:V196)","v":0.44721359549995787},0,0,1,0,0,{"$f":"AVERAGE(Y196:AC196)","v":0.2},{"$f":"STDEV(Y196:AC196)","v":0.4472135954999579},0,0,0,0,0,{"$f":"AVERAGE(AF196:AJ196)","v":0},{"$f":"STDEV(AF196:AJ196)","v":0},0,0,0,0,0,{"$f":"AVERAGE(AM196:AQ196)","v":0},{"$f":"STDEV(AM196:AQ196)","v":0},0,0,0,0,0,{"$f":"AVERAGE(AT196:AX196)","v":0},{"$f":"STDEV(AT196:AX196)","v":0},0,0,0,0,0,{"$f":"AVERAGE(BA196:BE196)","v":0},{"$f":"STDEV(BA196:BE196)","v":0}]
[null,2,null,"NA","NA","NA","NA","NA",{"$f":"AVERAGE(D197:H197)","v":{"$error":"#DIV/0!"}},{"$f":"STDEV(D197:H197)","v":{"$error":"#DIV/0!"}},35,28,28,35,33,{"$f":"AVERAGE(K197:O197)","v":31.8},{"$f":"STDEV(K197:O197)","v":3.5637059362410923},4,4,4,2,0,{"$f":"AVERAGE(R197:V197)","v":2.8},{"$f":"STDEV(R197:V197)","v":1.7888543819998315},0,0,0,0,0,{"$f":"AVERAGE(Y197:AC197)","v":0},{"$f":"STDEV(Y197:AC197)","v":0},0,0,0,0,0,{"$f":"AVERAGE(AF197:AJ197)","v":0},{"$f":"STDEV(AF197:AJ197)","v":0},0,0,0,0,0,{"$f":"AVERAGE(AM197:AQ197)","v":0},{"$f":"STDEV(AM197:AQ197)","v":0},0,0,0,0,0,{"$f":"AVERAGE(AT197:AX197)","v":0},{"$f":"STDEV(AT197:AX197)","v":0},0,0,0,0,0,{"$f":"AVERAGE(BA197:BE197)","v":0},{"$f":"STDEV(BA197:BE197)","v":0}]
[null,3,null,"NA","NA","NA","NA","NA",{"$f":"AVERAGE(D198:H198)","v":{"$error":"#DIV/0!"}},{"$f":"STDEV(D198:H198)","v":{"$error":"#DIV/0!"}},30,32,28,37,38,{"$f":"AVERAGE(K198:O198)","v":33},{"$f":"STDEV(K198:O198)","v":{"v":4.358898943540674,"d":"4"}},3,2,7,5,2,{"$f":"AVERAGE(R198:V198)","v":{"v":3.8,"d":"4"}},{"$f":"STDEV(R198:V198)","v":{"v":2.16794833886788,"d":"2"}},0,0,1,0,0,{"$f":"AVERAGE(Y198:AC198)","v":{"v":0.2,"d":"0"}},{"$f":"STDEV(Y198:AC198)","v":{"v":0.4472135954999579,"d":"0"}},0,0,0,0,0,{"$f":"AVERAGE(AF198:AJ198)","v":0},{"$f":"STDEV(AF198:AJ198)","v":0},0,0,0,0,0,{"$f":"AVERAGE(AM198:AQ198)","v":0},{"$f":"STDEV(AM198:AQ198)","v":0},0,0,0,0,0,{"$f":"AVERAGE(AT198:AX198)","v":0},{"$f":"STDEV(AT198:AX198)","v":0},0,0,0,0,0,{"$f":"AVERAGE(BA198:BE198)","v":0},{"$f":"STDEV(BA198:BE198)","v":0}]
["average",{"$nulls":7},{"$f":"AVERAGE(I196:I198)","v":{"$error":"#DIV/0!"}},{"$nulls":6},{"$f":"AVERAGE(P196:P198)","v":{"v":24.599999999999998,"d":"25"}},{"$nulls":6},{"$f":"AVERAGE(W196:W198)","v":{"v":2.6,"d":"3"}},{"$nulls":6},{"$f":"AVERAGE(AD196:AD198)","v":{"v":0.13333333333333333,"d":"0"}},{"$nulls":6},{"$f":"AVERAGE(AK196:AK198)","v":0},{"$nulls":6},{"$f":"AVERAGE(AR196:AR198)","v":0},{"$nulls":6},{"$f":"AVERAGE(AY196:AY198)","v":0},{"$nulls":6},{"$f":"AVERAGE(BF196:BF198)","v":0}]
["stdev",{"$nulls":7},{"$f":"SUM(J196:J198)","v":{"$error":"#DIV/0!"}},{"$nulls":6},{"$f":"SUM(Q196:Q198)","v":{"v":10.751032004527957,"d":"11"}},{"$nulls":6},{"$f":"SUM(X196:X198)","v":{"v":4.404016316367669,"d":"4"}},{"$nulls":6},{"$f":"SUM(AE196:AE198)","v":{"v":0.8944271909999159,"d":"1"}},{"$nulls":6},{"$f":"SUM(AL196:AL198)","v":0},{"$nulls":6},{"$f":"SUM(AS196:AS198)","v":0},{"$nulls":6},{"$f":"SUM(AZ196:AZ198)","v":0},{"$nulls":6},{"$f":"SUM(BG196:BG198)","v":0}]
[{"$nulls":8},{"$f":"SUM(#REF!)","v":{"$error":"#REF!"}},{"$nulls":6},{"$f":"SUM(#REF!)","v":{"$error":"#REF!"}},{"$nulls":6},{"$f":"SUM(#REF!)","v":{"$error":"#REF!"}},{"$nulls":6},{"$f":"SUM(#REF!)","v":{"$error":"#REF!"}},{"$nulls":6},{"$f":"SUM(#REF!)","v":{"$error":"#REF!"}},{"$nulls":6},{"$f":"SUM(#REF!)","v":{"$error":"#REF!"}},{"$nulls":6},{"$f":"SUM(#REF!)","v":{"$error":"#REF!"}},{"$nulls":6},{"$f":"SUM(#REF!)","v":{"$error":"#REF!"}}]
[]
["T18"]
["Sample","Dilution:",null,"10^0",{"$nulls":4},"AVERAGE","STDEV","10^-1",{"$nulls":4},"AVERAGE","STDEV","10^-2",{"$nulls":4},"AVERAGE","STDEV","10^-3",{"$nulls":4},"AVERAGE","STDEV","10^-4",{"$nulls":4},"AVERAGE","STDEV","10^-5",{"$nulls":4},"AVERAGE","STDEV","10^-6",{"$nulls":4},"AVERAGE","STDEV","10^-7",{"$nulls":4},"AVERAGE","STDEV"]
["Blank",1,null,0,0,0,0,0,{"$f":"AVERAGE(D205:H205)","v":0},{"$f":"STDEV(D205:H205)","v":0},0,0,0,0,0,{"$f":"AVERAGE(K205:O205)","v":0},{"$f":"STDEV(K205:O205)","v":0},0,0,0,0,0,{"$f":"AVERAGE(R205:V205)","v":0},{"$f":"STDEV(R205:V205)","v":0},0,0,0,0,0,{"$f":"AVERAGE(Y205:AC205)","v":0},{"$f":"STDEV(Y205:AC205)","v":0},0,0,0,0,0,{"$f":"AVERAGE(AF205:AJ205)","v":0},{"$f":"STDEV(AF205:AJ205)","v":0},0,0,0,0,0,{"$f":"AVERAGE(AM205:AQ205)","v":0},{"$f":"STDEV(AM205:AQ205)","v":0},0,0,0,0,0,{"$f":"AVERAGE(AT205:AX205)","v":0},{"$f":"STDEV(AT205:AX205)","v":0},0,0,0,0,0,{"$f":"AVERAGE(BA205:BE205)","v":0},{"$f":"STDEV(BA205:BE205)","v":0}]
[null,2,null,0,0,0,0,0,{"$f":"AVERAGE(D206:H206)","v":0},{"$f":"STDEV(D206:H206)","v":0},0,0,0,0,0,{"$f":"AVERAGE(K206:O206)","v":0},{"$f":"STDEV(K206:O206)","v":0},0,0,0,0,0,{"$f":"AVERAGE(R206:V206)","v":0},{"$f":"STDEV(R206:V206)","v":0},0,0,0,0,0,{"$f":"AVERAGE(Y206:AC206)","v":0},{"$f":"STDEV(Y206:AC206)","v":0},0,0,0,0,0,{"$f":"AVERAGE(AF206:AJ206)","v":0},{"$f":"STDEV(AF206:AJ206)","v":0},0,0,0,0,0,{"$f":"AVERAGE(AM206:AQ206)","v":0},{"$f":"STDEV(AM206:AQ206)","v":0},0,0,0,0,0,{"$f":"AVERAGE(AT206:AX206)","v":0},{"$f":"STDEV(AT206:AX206)","v":0},0,0,0,0,0,{"$f":"AVERAGE(BA206:BE206)","v":0},{"$f":"STDEV(BA206:BE206)","v":0}]
[null,3,null,0,0,0,0,0,{"$f":"AVERAGE(D207:H207)","v":0},{"$f":"STDEV(D207:H207)","v":0},0,0,0,0,0,{"$f":"AVERAGE(K207:O207)","v":0},{"$f":"STDEV(K207:O207)","v":0},0,0,0,0,0,{"$f":"AVERAGE(R207:V207)","v":0},{"$f":"STDEV(R207:V207)","v":0},0,0,0,0,0,{"$f":"AVERAGE(Y207:AC207)","v":0},{"$f":"STDEV(Y207:AC207)","v":0},0,0,0,0,0,{"$f":"AVERAGE(AF207:AJ207)","v":0},{"$f":"STDEV(AF207:AJ207)","v":0},0,0,0,0,0,{"$f":"AVERAGE(AM207:AQ207)","v":0},{"$f":"STDEV(AM207:AQ207)","v":0},0,0,0,0,0,{"$f":"AVERAGE(AT207:AX207)","v":0},{"$f":"STDEV(AT207:AX207)","v":0},0,0,0,0,0,{"$f":"AVERAGE(BA207:BE207)","v":0},{"$f":"STDEV(BA207:BE207)","v":0}]
[{"$nulls":8},{"$f":"AVERAGE(I205:I207)","v":0},{"$nulls":6},{"$f":"AVERAGE(P205:P207)","v":0},{"$nulls":6},{"$f":"AVERAGE(W205:W207)","v":0},{"$nulls":6},{"$f":"AVERAGE(AD205:AD207)","v":0},{"$nulls":6},{"$f":"AVERAGE(AK205:AK207)","v":0},{"$nulls":6},{"$f":"AVERAGE(AR205:AR207)","v":0},{"$nulls":6},{"$f":"AVERAGE(AY205:AY207)","v":0},{"$nulls":6},{"$f":"AVERAGE(BF205:BF207)","v":0}]
[{"$nulls":8},{"$f":"SUM(J205:J207)","v":0},{"$nulls":6},{"$f":"SUM(Q205:Q207)","v":0},{"$nulls":6},{"$f":"SUM(X205:X207)","v":0},{"$nulls":6},{"$f":"SUM(AE205:AE207)","v":0},{"$nulls":6},{"$f":"SUM(AL205:AL207)","v":0},{"$nulls":6},{"$f":"SUM(AS205:AS207)","v":0},{"$nulls":6},{"$f":"SUM(AZ205:AZ207)","v":0},{"$nulls":6},{"$f":"SUM(BG205:BG207)","v":0}]
["BW25113 -",1,null,"NA","NA","NA","NA","NA",{"$f":"AVERAGE(D210:H210)","v":{"$error":"#DIV/0!"}},{"$f":"STDEV(D210:H210)","v":{"$error":"#DIV/0!"}},"NA","NA","NA","NA","NA",{"$f":"AVERAGE(K210:O210)","v":{"$error":"#DIV/0!"}},{"$f":"STDEV(K210:O210)","v":{"$error":"#DIV/0!"}},"NA","NA","NA","NA","NA",{"$f":"AVERAGE(R210:V210)","v":{"$error":"#DIV/0!"}},{"$f":"STDEV(R210:V210)","v":{"$error":"#DIV/0!"}},"NA","NA","NA","NA","NA",{"$f":"AVERAGE(Y210:AC210)","v":{"$error":"#DIV/0!"}},{"$f":"STDEV(Y210:AC210)","v":{"$error":"#DIV/0!"}},"NA","NA","NA","NA","NA",{"$f":"AVERAGE(AF210:AJ210)","v":{"$error":"#DIV/0!"}},{"$f":"STDEV(AF210:AJ210)","v":{"$error":"#DIV/0!"}},0,0,0,0,0,{"$f":"AVERAGE(AM210:AQ210)","v":0},{"$f":"STDEV(AM210:AQ210)","v":0},0,0,0,0,0,{"$f":"AVERAGE(AT210:AX210)","v":0},{"$f":"STDEV(AT210:AX210)","v":0},0,0,0,0,0,{"$f":"AVERAGE(BA210:BE210)","v":0},{"$f":"STDEV(BA210:BE210)","v":0}]
["pS2213 - ",2,null,"NA","NA","NA","NA","NA",{"$f":"AVERAGE(D211:H211)","v":{"$error":"#DIV/0!"}},{"$f":"STDEV(D211:H211)","v":{"$error":"#DIV/0!"}},"NA","NA","NA","NA","NA",{"$f":"AVERAGE(K211:O211)","v":{"$error":"#DIV/0!"}},{"$f":"STDEV(K211:O211)","v":{"$error":"#DIV/0!"}},"NA","NA","NA","NA","NA",{"$f":"AVERAGE(R211:V211)","v":{"$error":"#DIV/0!"}},{"$f":"STDEV(R211:V211)","v":{"$error":"#DIV/0!"}},"NA","NA","NA","NA","NA",{"$f":"AVERAGE(Y211:AC211)","v":{"$error":"#DIV/0!"}},{"$f":"STDEV(Y211:AC211)","v":{"$error":"#DIV/0!"}},"NA","NA","NA","NA","NA",{"$f":"AVERAGE(AF211:AJ211)","v":{"$error":"#DIV/0!"}},{"$f":"STDEV(AF211:AJ211)","v":{"$error":"#DIV/0!"}},0,0,0,0,0,{"$f":"AVERAGE(AM211:AQ211)","v":0},{"$f":"STDEV(AM211:AQ211)","v":0},0,0,0,0,0,{"$f":"AVERAGE(AT211:AX211)","v":0},{"$f":"STDEV(AT211:AX211)","v":0},0,0,0,0,0,{"$f":"AVERAGE(BA211:BE211)","v":0},{"$f":"STDEV(BA211:BE211)","v":0}]
[null,3,null,"NA","NA","NA","NA","NA",{"$f":"AVERAGE(D212:H212)","v":{"$error":"#DIV/0!"}},{"$f":"STDEV(D212:H212)","v":{"$error":"#DIV/0!"}},"NA","NA","NA","NA","NA",{"$f":"AVERAGE(K212:O212)","v":{"$error":"#DIV/0!"}},{"$f":"STDEV(K212:O212)","v":{"$error":"#DIV/0!"}},"NA","NA","NA","NA","NA",{"$f":"AVERAGE(R212:V212)","v":{"$error":"#DIV/0!"}},{"$f":"STDEV(R212:V212)","v":{"$error":"#DIV/0!"}},"NA","NA","NA","NA","NA",{"$f":"AVERAGE(Y212:AC212)","v":{"$error":"#DIV/0!"}},{"$f":"STDEV(Y212:AC212)","v":{"$error":"#DIV/0!"}},"NA","NA","NA","NA","NA",{"$f":"AVERAGE(AF212:AJ212)","v":{"$error":"#DIV/0!"}},{"$f":"STDEV(AF212:AJ212)","v":{"$error":"#DIV/0!"}},0,0,0,0,0,{"$f":"AVERAGE(AM212:AQ212)","v":0},{"$f":"STDEV(AM212:AQ212)","v":0},0,0,0,0,0,{"$f":"AVERAGE(AT212:AX212)","v":0},{"$f":"STDEV(AT212:AX212)","v":0},0,0,0,0,0,{"$f":"AVERAGE(BA212:BE212)","v":0},{"$f":"STDEV(BA212:BE212)","v":0}]
["average",{"$nulls":7},{"$f":"AVERAGE(I210:I212)","v":{"$error":"#DIV/0!"}},{"$nulls":6},{"$f":"AVERAGE(P210:P212)","v":{"$error":"#DIV/0!"}},{"$nulls":6},{"$f":"AVERAGE(W210:W212)","v":{"$error":"#DIV/0!"}},{"$nulls":6},{"$f":"AVERAGE(AD210:AD212)","v":{"$error":"#DIV/0!"}},{"$nulls":6},{"$f":"AVERAGE(AK210:AK212)","v":{"$error":"#DIV/0!"}},{"$nulls":6},{"$f":"AVERAGE(AR210:AR212)","v":0},{"$nulls":6},{"$f":"AVERAGE(AY210:AY212)","v":0},{"$nulls":6},{"$f":"AVERAGE(BF210:BF212)","v":0}]
["stdev",{"$nulls":7},{"$f":"SUM(J210:J212)","v":{"$error":"#DIV/0!"}},{"$nulls":6},{"$f":"SUM(Q210:Q212)","v":{"$error":"#DIV/0!"}},{"$nulls":6},{"$f":"SUM(X210:X212)","v":{"$error":"#DIV/0!"}},{"$nulls":6},{"$f":"SUM(AE210:AE212)","v":{"$error":"#DIV/0!"}},{"$nulls":6},{"$f":"SUM(AL210:AL212)","v":{"$error":"#DIV/0!"}},{"$nulls":6},{"$f":"SUM(AS210:AS212)","v":0},{"$nulls":6},{"$f":"SUM(AZ210:AZ212)","v":0},{"$nulls":6},{"$f":"SUM(BG210:BG212)","v":0}]
["pS2213 - ",1,null,"NA","NA","NA","NA","NA",{"$f":"AVERAGE(D215:H215)","v":{"$error":"#DIV/0!"}},{"$f":"STDEV(D215:H215)","v":{"$error":"#DIV/0!"}},"NA","NA","NA","NA","NA",{"$f":"AVERAGE(K215:O215)","v":{"$error":"#DIV/0!"}},{"$f":"STDEV(K215:O215)","v":{"$error":"#DIV/0!"}},"NA","NA","NA","NA","NA",{"$f":"AVERAGE(R215:V215)","v":{"$error":"#DIV/0!"}},{"$f":"STDEV(R215:V215)","v":{"$error":"#DIV/0!"}},"NA","NA","NA","NA","NA",{"$f":"AVERAGE(Y215:AC215)","v":{"$error":"#DIV/0!"}},{"$f":"STDEV(Y215:AC215)","v":{"$error":"#DIV/0!"}},"NA","NA","NA","NA","NA",{"$f":"AVERAGE(AF215:AJ215)","v":{"$error":"#DIV/0!"}},{"$f":"STDEV(AF215:AJ215)","v":{"$error":"#DIV/0!"}},0,0,0,0,0,{"$f":"AVERAGE(AM215:AQ215)","v":0},{"$f":"STDEV(AM215:AQ215)","v":0},0,0,0,0,0,{"$f":"AVERAGE(AT215:AX215)","v":0},{"$f":"STDEV(AT215:AX215)","v":0},0,0,0,0,0,{"$f":"AVERAGE(BA215:BE215)","v":0},{"$f":"STDEV(BA215:BE215)","v":0}]
["p+0",2,null,"NA","NA","NA","NA","NA",{"$f":"AVERAGE(D216:H216)","v":{"$error":"#DIV/0!"}},{"$f":"STDEV(D216:H216)","v":{"$error":"#DIV/0!"}},"NA","NA","NA","NA","NA",{"$f":"AVERAGE(K216:O216)","v":{"$error":"#DIV/0!"}},{"$f":"STDEV(K216:O216)","v":{"$error":"#DIV/0!"}},"NA","NA","NA","NA","NA",{"$f":"AVERAGE(R216:V216)","v":{"$error":"#DIV/0!"}},{"$f":"STDEV(R216:V216)","v":{"$error":"#DIV/0!"}},"NA","NA","NA","NA","NA",{"$f":"AVERAGE(Y216:AC216)","v":{"$error":"#DIV/0!"}},{"$f":"STDEV(Y216:AC216)","v":{"$error":"#DIV/0!"}},"NA","NA","NA","NA","NA",{"$f":"AVERAGE(AF216:AJ216)","v":{"$error":"#DIV/0!"}},{"$f":"STDEV(AF216:AJ216)","v":{"$error":"#DIV/0!"}},0,0,0,0,0,{"$f":"AVERAGE(AM216:AQ216)","v":0},{"$f":"STDEV(AM216:AQ216)","v":0},0,0,0,0,0,{"$f":"AVERAGE(AT216:AX216)","v":0},{"$f":"STDEV(AT216:AX216)","v":0},0,0,0,0,0,{"$f":"AVERAGE(BA216:BE216)","v":0},{"$f":"STDEV(BA216:BE216)","v":0}]
[null,3,null,"NA","NA","NA","NA","NA",{"$f":"AVERAGE(D217:H217)","v":{"$error":"#DIV/0!"}},{"$f":"STDEV(D217:H217)","v":{"$error":"#DIV/0!"}},"NA","NA","NA","NA","NA",{"$f":"AVERAGE(K217:O217)","v":{"$error":"#DIV/0!"}},{"$f":"STDEV(K217:O217)","v":{"$error":"#DIV/0!"}},"NA","NA","NA","NA","NA",{"$f":"AVERAGE(R217:V217)","v":{"$error":"#DIV/0!"}},{"$f":"STDEV(R217:V217)","v":{"$error":"#DIV/0!"}},"NA","NA","NA","NA","NA",{"$f":"AVERAGE(Y217:AC217)","v":{"$error":"#DIV/0!"}},{"$f":"STDEV(Y217:AC217)","v":{"$error":"#DIV/0!"}},"NA","NA","NA","NA","NA",{"$f":"AVERAGE(AF217:AJ217)","v":{"$error":"#DIV/0!"}},{"$f":"STDEV(AF217:AJ217)","v":{"$error":"#DIV/0!"}},0,0,0,0,0,{"$f":"AVERAGE(AM217:AQ217)","v":0},{"$f":"STDEV(AM217:AQ217)","v":0},0,0,0,0,0,{"$f":"AVERAGE(AT217:AX217)","v":0},{"$f":"STDEV(AT217:AX217)","v":0},0,0,0,0,0,{"$f":"AVERAGE(BA217:BE217)","v":0},{"$f":"STDEV(BA217:BE217)","v":0}]
["average",{"$nulls":7},{"$f":"AVERAGE(I215:I217)","v":{"$error":"#DIV/0!"}},{"$nulls":6},{"$f":"AVERAGE(P215:P217)","v":{"$error":"#DIV/0!"}},{"$nulls":6},{"$f":"AVERAGE(W215:W217)","v":{"$error":"#DIV/0!"}},{"$nulls":6},{"$f":"AVERAGE(AD215:AD217)","v":{"$error":"#DIV/0!"}},{"$nulls":6},{"$f":"AVERAGE(AK215:AK217)","v":{"$error":"#DIV/0!"}},{"$nulls":6},{"$f":"AVERAGE(AR215:AR217)","v":0},{"$nulls":6},{"$f":"AVERAGE(AY215:AY217)","v":0},{"$nulls":6},{"$f":"AVERAGE(BF215:BF217)","v":0}]
["stdev",{"$nulls":7},{"$f":"SUM(J215:J217)","v":{"$error":"#DIV/0!"}},{"$nulls":6},{"$f":"SUM(Q215:Q217)","v":{"$error":"#DIV/0!"}},{"$nulls":6},{"$f":"SUM(X215:X217)","v":{"$error":"#DIV/0!"}},{"$nulls":6},{"$f":"SUM(AE215:AE217)","v":{"$error":"#DIV/0!"}},{"$nulls":6},{"$f":"SUM(AL215:AL217)","v":{"$error":"#DIV/0!"}},{"$nulls":6},{"$f":"SUM(AS215:AS217)","v":0},{"$nulls":6},{"$f":"SUM(AZ215:AZ217)","v":0},{"$nulls":6},{"$f":"SUM(BG215:BG217)","v":0}]
["pS2213 A",1,null,"NA","NA","NA","NA","NA",{"$f":"AVERAGE(D220:H220)","v":{"$error":"#DIV/0!"}},{"$f":"STDEV(D220:H220)","v":{"$error":"#DIV/0!"}},"NA","NA","NA","NA","NA",{"$f":"AVERAGE(K220:O220)","v":{"$error":"#DIV/0!"}},{"$f":"STDEV(K220:O220)","v":{"$error":"#DIV/0!"}},"NA","NA","NA","NA","NA",{"$f":"AVERAGE(R220:V220)","v":{"$error":"#DIV/0!"}},{"$f":"STDEV(R220:V220)","v":{"$error":"#DIV/0!"}},"NA","NA","NA","NA","NA",{"$f":"AVERAGE(Y220:AC220)","v":{"$error":"#DIV/0!"}},{"$f":"STDEV(Y220:AC220)","v":{"$error":"#DIV/0!"}},"NA","NA","NA","NA","NA",{"$f":"AVERAGE(AF220:AJ220)","v":{"$error":"#DIV/0!"}},{"$f":"STDEV(AF220:AJ220)","v":{"$error":"#DIV/0!"}},0,0,0,0,0,{"$f":"AVERAGE(AM220:AQ220)","v":0},{"$f":"STDEV(AM220:AQ220)","v":0},0,0,0,0,0,{"$f":"AVERAGE(AT220:AX220)","v":0},{"$f":"STDEV(AT220:AX220)","v":0},0,0,0,0,0,{"$f":"AVERAGE(BA220:BE220)","v":0},{"$f":"STDEV(BA220:BE220)","v":0}]
["p+0",2,null,"NA","NA","NA","NA","NA",{"$f":"AVERAGE(D221:H221)","v":{"$error":"#DIV/0!"}},{"$f":"STDEV(D221:H221)","v":{"$error":"#DIV/0!"}},"NA","NA","NA","NA","NA",{"$f":"AVERAGE(K221:O221)","v":{"$error":"#DIV/0!"}},{"$f":"STDEV(K221:O221)","v":{"$error":"#DIV/0!"}},"NA","NA","NA","NA","NA",{"$f":"AVERAGE(R221:V221)","v":{"$error":"#DIV/0!"}},{"$f":"STDEV(R221:V221)","v":{"$error":"#DIV/0!"}},"NA","NA","NA","NA","NA",{"$f":"AVERAGE(Y221:AC221)","v":{"$error":"#DIV/0!"}},{"$f":"STDEV(Y221:AC221)","v":{"$error":"#DIV/0!"}},"NA","NA","NA","NA","NA",{"$f":"AVERAGE(AF221:AJ221)","v":{"$error":"#DIV/0!"}},{"$f":"STDEV(AF221:AJ221)","v":{"$error":"#DIV/0!"}},0,0,0,0,0,{"$f":"AVERAGE(AM221:AQ221)","v":0},{"$f":"STDEV(AM221:AQ221)","v":0},0,0,0,0,0,{"$f":"AVERAGE(AT221:AX221)","v":0},{"$f":"STDEV(AT221:AX221)","v":0},0,0,0,0,0,{"$f":"AVERAGE(BA221:BE221)","v":0},{"$f":"STDEV(BA221:BE221)","v":0}]
[null,3,null,"NA","NA","NA","NA","NA",{"$f":"AVERAGE(D222:H222)","v":{"$error":"#DIV/0!"}},{"$f":"STDEV(D222:H222)","v":{"$error":"#DIV/0!"}},"NA","NA","NA","NA","NA",{"$f":"AVERAGE(K222:O222)","v":{"$error":"#DIV/0!"}},{"$f":"STDEV(K222:O222)","v":{"$error":"#DIV/0!"}},"NA","NA","NA","NA","NA",{"$f":"AVERAGE(R222:V222)","v":{"$error":"#DIV/0!"}},{"$f":"STDEV(R222:V222)","v":{"$error":"#DIV/0!"}},"NA","NA","NA","NA","NA",{"$f":"AVERAGE(Y222:AC222)","v":{"$error":"#DIV/0!"}},{"$f":"STDEV(Y222:AC222)","v":{"$error":"#DIV/0!"}},"NA","NA","NA","NA","NA",{"$f":"AVERAGE(AF222:AJ222)","v":{"$error":"#DIV/0!"}},{"$f":"STDEV(AF222:AJ222)","v":{"$error":"#DIV/0!"}},0,0,0,0,0,{"$f":"AVERAGE(AM222:AQ222)","v":0},{"$f":"STDEV(AM222:AQ222)","v":0},0,0,0,0,0,{"$f":"AVERAGE(AT222:AX222)","v":0},{"$f":"STDEV(AT222:AX222)","v":0},0,0,0,0,0,{"$f":"AVERAGE(BA222:BE222)","v":0},{"$f":"STDEV(BA222:BE222)","v":0}]
["average",{"$nulls":7},{"$f":"AVERAGE(I220:I222)","v":{"$error":"#DIV/0!"}},{"$nulls":6},{"$f":"AVERAGE(P220:P222)","v":{"$error":"#DIV/0!"}},{"$nulls":6},{"$f":"AVERAGE(W220:W222)","v":{"$error":"#DIV/0!"}},{"$nulls":6},{"$f":"AVERAGE(AD220:AD222)","v":{"$error":"#DIV/0!"}},{"$nulls":6},{"$f":"AVERAGE(AK220:AK222)","v":{"$error":"#DIV/0!"}},{"$nulls":6},{"$f":"AVERAGE(AR220:AR222)","v":0},{"$nulls":6},{"$f":"AVERAGE(AY220:AY222)","v":0},{"$nulls":6},{"$f":"AVERAGE(BF220:BF222)","v":0}]
["stdev",{"$nulls":7},{"$f":"SUM(J220:J222)","v":{"$error":"#DIV/0!"}},{"$nulls":6},{"$f":"SUM(Q220:Q222)","v":{"$error":"#DIV/0!"}},{"$nulls":6},{"$f":"SUM(X220:X222)","v":{"$error":"#DIV/0!"}},{"$nulls":6},{"$f":"SUM(AE220:AE222)","v":{"$error":"#DIV/0!"}},{"$nulls":6},{"$f":"SUM(AL220:AL222)","v":{"$error":"#DIV/0!"}},{"$nulls":6},{"$f":"SUM(AS220:AS222)","v":0},{"$nulls":6},{"$f":"SUM(AZ220:AZ222)","v":0},{"$nulls":6},{"$f":"SUM(BG220:BG222)","v":0}]
["p+3",1,null,"NA","NA","NA","NA","NA",{"$f":"AVERAGE(D225:H225)","v":{"$error":"#DIV/0!"}},{"$f":"STDEV(D225:H225)","v":{"$error":"#DIV/0!"}},"NA","NA","NA","NA","NA",{"$f":"AVERAGE(K225:O225)","v":{"$error":"#DIV/0!"}},{"$f":"STDEV(K225:O225)","v":{"$error":"#DIV/0!"}},"NA","NA","NA","NA","NA",{"$f":"AVERAGE(R225:V225)","v":{"$error":"#DIV/0!"}},{"$f":"STDEV(R225:V225)","v":{"$error":"#DIV/0!"}},"NA","NA","NA","NA","NA",{"$f":"AVERAGE(Y225:AC225)","v":{"$error":"#DIV/0!"}},{"$f":"STDEV(Y225:AC225)","v":{"$error":"#DIV/0!"}},"NA","NA","NA","NA","NA",{"$f":"AVERAGE(AF225:AJ225)","v":{"$error":"#DIV/0!"}},{"$f":"STDEV(AF225:AJ225)","v":{"$error":"#DIV/0!"}},0,0,0,0,0,{"$f":"AVERAGE(AM225:AQ225)","v":0},{"$f":"STDEV(AM225:AQ225)","v":0},0,0,0,0,0,{"$f":"AVERAGE(AT225:AX225)","v":0},{"$f":"STDEV(AT225:AX225)","v":0},0,0,0,0,0,{"$f":"AVERAGE(BA225:BE225)","v":0},{"$f":"STDEV(BA225:BE225)","v":0}]
[null,2,null,"NA","NA","NA","NA","NA",{"$f":"AVERAGE(D226:H226)","v":{"$error":"#DIV/0!"}},{"$f":"STDEV(D226:H226)","v":{"$error":"#DIV/0!"}},"NA","NA","NA","NA","NA",{"$f":"AVERAGE(K226:O226)","v":{"$error":"#DIV/0!"}},{"$f":"STDEV(K226:O226)","v":{"$error":"#DIV/0!"}},"NA","NA","NA","NA","NA",{"$f":"AVERAGE(R226:V226)","v":{"$error":"#DIV/0!"}},{"$f":"STDEV(R226:V226)","v":{"$error":"#DIV/0!"}},"NA","NA","NA","NA","NA",{"$f":"AVERAGE(Y226:AC226)","v":{"$error":"#DIV/0!"}},{"$f":"STDEV(Y226:AC226)","v":{"$error":"#DIV/0!"}},"NA","NA","NA","NA","NA",{"$f":"AVERAGE(AF226:AJ226)","v":{"$error":"#DIV/0!"}},{"$f":"STDEV(AF226:AJ226)","v":{"$error":"#DIV/0!"}},0,0,0,0,0,{"$f":"AVERAGE(AM226:AQ226)","v":0},{"$f":"STDEV(AM226:AQ226)","v":0},0,0,0,0,0,{"$f":"AVERAGE(AT226:AX226)","v":0},{"$f":"STDEV(AT226:AX226)","v":0},0,0,0,0,0,{"$f":"AVERAGE(BA226:BE226)","v":0},{"$f":"STDEV(BA226:BE226)","v":0}]
[null,3,null,"NA","NA","NA","NA","NA",{"$f":"AVERAGE(D227:H227)","v":{"$error":"#DIV/0!"}},{"$f":"STDEV(D227:H227)","v":{"$error":"#DIV/0!"}},"NA","NA","NA","NA","NA",{"$f":"AVERAGE(K227:O227)","v":{"$error":"#DIV/0!"}},{"$f":"STDEV(K227:O227)","v":{"$error":"#DIV/0!"}},"NA","NA","NA","NA","NA",{"$f":"AVERAGE(R227:V227)","v":{"$error":"#DIV/0!"}},{"$f":"STDEV(R227:V227)","v":{"$error":"#DIV/0!"}},"NA","NA","NA","NA","NA",{"$f":"AVERAGE(Y227:AC227)","v":{"$error":"#DIV/0!"}},{"$f":"STDEV(Y227:AC227)","v":{"$error":"#DIV/0!"}},"NA","NA","NA","NA","NA",{"$f":"AVERAGE(AF227:AJ227)","v":{"$error":"#DIV/0!"}},{"$f":"STDEV(AF227:AJ227)","v":{"$error":"#DIV/0!"}},0,0,0,0,0,{"$f":"AVERAGE(AM227:AQ227)","v":0},{"$f":"STDEV(AM227:AQ227)","v":0},0,0,0,0,0,{"$f":"AVERAGE(AT227:AX227)","v":0},{"$f":"STDEV(AT227:AX227)","v":0},0,0,0,0,0,{"$f":"AVERAGE(BA227:BE227)","v":0},{"$f":"STDEV(BA227:BE227)","v":0}]
["average",{"$nulls":7},{"$f":"AVERAGE(I225:I227)","v":{"$error":"#DIV/0!"}},{"$nulls":6},{"$f":"AVERAGE(P225:P227)","v":{"$error":"#DIV/0!"}},{"$nulls":6},{"$f":"AVERAGE(W225:W227)","v":{"$error":"#DIV/0!"}},{"$nulls":6},{"$f":"AVERAGE(AD225:AD227)","v":{"$error":"#DIV/0!"}},{"$nulls":6},{"$f":"AVERAGE(AK225:AK227)","v":{"$error":"#DIV/0!"}},{"$nulls":6},{"$f":"AVERAGE(AR225:AR227)","v":0},{"$nulls":6},{"$f":"AVERAGE(AY225:AY227)","v":0},{"$nulls":6},{"$f":"AVERAGE(BF225:BF227)","v":0}]
["stdev",{"$nulls":7},{"$f":"SUM(J225:J227)","v":{"$error":"#DIV/0!"}},{"$nulls":6},{"$f":"SUM(Q225:Q227)","v":{"$error":"#DIV/0!"}},{"$nulls":6},{"$f":"SUM(X225:X227)","v":{"$error":"#DIV/0!"}},{"$nulls":6},{"$f":"SUM(AE225:AE227)","v":{"$error":"#DIV/0!"}},{"$nulls":6},{"$f":"SUM(AL225:AL227)","v":{"$error":"#DIV/0!"}},{"$nulls":6},{"$f":"SUM(AS225:AS227)","v":0},{"$nulls":6},{"$f":"SUM(AZ225:AZ227)","v":0},{"$nulls":6},{"$f":"SUM(BG225:BG227)","v":0}]
["pS2213 APR",1,null,"NA","NA","NA","NA","NA",{"$f":"AVERAGE(D230:H230)","v":{"$error":"#DIV/0!"}},{"$f":"STDEV(D230:H230)","v":{"$error":"#DIV/0!"}},"NA","NA","NA","NA","NA",{"$f":"AVERAGE(K230:O230)","v":{"$error":"#DIV/0!"}},{"$f":"STDEV(K230:O230)","v":{"$error":"#DIV/0!"}},"NA","NA","NA","NA","NA",{"$f":"AVERAGE(R230:V230)","v":{"$error":"#DIV/0!"}},{"$f":"STDEV(R230:V230)","v":{"$error":"#DIV/0!"}},"NA","NA","NA","NA","NA",{"$f":"AVERAGE(Y230:AC230)","v":{"$error":"#DIV/0!"}},{"$f":"STDEV(Y230:AC230)","v":{"$error":"#DIV/0!"}},"NA","NA","NA","NA","NA",{"$f":"AVERAGE(AF230:AJ230)","v":{"$error":"#DIV/0!"}},{"$f":"STDEV(AF230:AJ230)","v":{"$error":"#DIV/0!"}},0,0,0,0,0,{"$f":"AVERAGE(AM230:AQ230)","v":0},{"$f":"STDEV(AM230:AQ230)","v":0},0,0,0,0,0,{"$f":"AVERAGE(AT230:AX230)","v":0},{"$f":"STDEV(AT230:AX230)","v":0},0,0,0,0,0,{"$f":"AVERAGE(BA230:BE230)","v":0},{"$f":"STDEV(BA230:BE230)","v":0}]
["p+0",2,null,"NA","NA","NA","NA","NA",{"$f":"AVERAGE(D231:H231)","v":{"$error":"#DIV/0!"}},{"$f":"STDEV(D231:H231)","v":{"$error":"#DIV/0!"}},"NA","NA","NA","NA","NA",{"$f":"AVERAGE(K231:O231)","v":{"$error":"#DIV/0!"}},{"$f":"STDEV(K231:O231)","v":{"$error":"#DIV/0!"}},"NA","NA","NA","NA","NA",{"$f":"AVERAGE(R231:V231)","v":{"$error":"#DIV/0!"}},{"$f":"STDEV(R231:V231)","v":{"$error":"#DIV/0!"}},"NA","NA","NA","NA","NA",{"$f":"AVERAGE(Y231:AC231)","v":{"$error":"#DIV/0!"}},{"$f":"STDEV(Y231:AC231)","v":{"$error":"#DIV/0!"}},"NA","NA","NA","NA","NA",{"$f":"AVERAGE(AF231:AJ231)","v":{"$error":"#DIV/0!"}},{"$f":"STDEV(AF231:AJ231)","v":{"$error":"#DIV/0!"}},0,0,0,0,0,{"$f":"AVERAGE(AM231:AQ231)","v":0},{"$f":"STDEV(AM231:AQ231)","v":0},0,0,0,0,0,{"$f":"AVERAGE(AT231:AX231)","v":0},{"$f":"STDEV(AT231:AX231)","v":0},0,0,0,0,0,{"$f":"AVERAGE(BA231:BE231)","v":0},{"$f":"STDEV(BA231:BE231)","v":0}]
[null,3,null,"NA","NA","NA","NA","NA",{"$f":"AVERAGE(D232:H232)","v":{"$error":"#DIV/0!"}},{"$f":"STDEV(D232:H232)","v":{"$error":"#DIV/0!"}},"NA","NA","NA","NA","NA",{"$f":"AVERAGE(K232:O232)","v":{"$error":"#DIV/0!"}},{"$f":"STDEV(K232:O232)","v":{"$error":"#DIV/0!"}},"NA","NA","NA","NA","NA",{"$f":"AVERAGE(R232:V232)","v":{"$error":"#DIV/0!"}},{"$f":"STDEV(R232:V232)","v":{"$error":"#DIV/0!"}},"NA","NA","NA","NA","NA",{"$f":"AVERAGE(Y232:AC232)","v":{"$error":"#DIV/0!"}},{"$f":"STDEV(Y232:AC232)","v":{"$error":"#DIV/0!"}},"NA","NA","NA","NA","NA",{"$f":"AVERAGE(AF232:AJ232)","v":{"$error":"#DIV/0!"}},{"$f":"STDEV(AF232:AJ232)","v":{"$error":"#DIV/0!"}},0,0,0,0,0,{"$f":"AVERAGE(AM232:AQ232)","v":0},{"$f":"STDEV(AM232:AQ232)","v":0},0,0,0,0,0,{"$f":"AVERAGE(AT232:AX232)","v":0},{"$f":"STDEV(AT232:AX232)","v":0},0,0,0,0,0,{"$f":"AVERAGE(BA232:BE232)","v":0},{"$f":"STDEV(BA232:BE232)","v":0}]
["average",{"$nulls":7},{"$f":"AVERAGE(I230:I232)","v":{"$error":"#DIV/0!"}},{"$nulls":6},{"$f":"AVERAGE(P230:P232)","v":{"$error":"#DIV/0!"}},{"$nulls":6},{"$f":"AVERAGE(W230:W232)","v":{"$error":"#DIV/0!"}},{"$nulls":6},{"$f":"AVERAGE(AD230:AD232)","v":{"$error":"#DIV/0!"}},{"$nulls":6},{"$f":"AVERAGE(AK230:AK232)","v":{"$error":"#DIV/0!"}},{"$nulls":6},{"$f":"AVERAGE(AR230:AR232)","v":0},{"$nulls":6},{"$f":"AVERAGE(AY230:AY232)","v":0},{"$nulls":6},{"$f":"AVERAGE(BF230:BF232)","v":0}]
["stdev",{"$nulls":7},{"$f":"SUM(J230:J232)","v":{"$error":"#DIV/0!"}},{"$nulls":6},{"$f":"SUM(Q230:Q232)","v":{"$error":"#DIV/0!"}},{"$nulls":6},{"$f":"SUM(X230:X232)","v":{"$error":"#DIV/0!"}},{"$nulls":6},{"$f":"SUM(AE230:AE232)","v":{"$error":"#DIV/0!"}},{"$nulls":6},{"$f":"SUM(AL230:AL232)","v":{"$error":"#DIV/0!"}},{"$nulls":6},{"$f":"SUM(AS230:AS232)","v":0},{"$nulls":6},{"$f":"SUM(AZ230:AZ232)","v":0},{"$nulls":6},{"$f":"SUM(BG230:BG232)","v":0}]
["p+3",1,null,"NA","NA","NA","NA","NA",{"$f":"AVERAGE(D235:H235)","v":{"$error":"#DIV/0!"}},{"$f":"STDEV(D235:H235)","v":{"$error":"#DIV/0!"}},"NA","NA","NA","NA","NA",{"$f":"AVERAGE(K235:O235)","v":{"$error":"#DIV/0!"}},{"$f":"STDEV(K235:O235)","v":{"$error":"#DIV/0!"}},"NA","NA","NA","NA","NA",{"$f":"AVERAGE(R235:V235)","v":{"$error":"#DIV/0!"}},{"$f":"STDEV(R235:V235)","v":{"$error":"#DIV/0!"}},"NA","NA","NA","NA","NA",{"$f":"AVERAGE(Y235:AC235)","v":{"$error":"#DIV/0!"}},{"$f":"STDEV(Y235:AC235)","v":{"$error":"#DIV/0!"}},"NA","NA","NA","NA","NA",{"$f":"AVERAGE(AF235:AJ235)","v":{"$error":"#DIV/0!"}},{"$f":"STDEV(AF235:AJ235)","v":{"$error":"#DIV/0!"}},0,0,0,0,0,{"$f":"AVERAGE(AM235:AQ235)","v":0},{"$f":"STDEV(AM235:AQ235)","v":0},0,0,0,0,0,{"$f":"AVERAGE(AT235:AX235)","v":0},{"$f":"STDEV(AT235:AX235)","v":0},0,0,0,0,0,{"$f":"AVERAGE(BA235:BE235)","v":0},{"$f":"STDEV(BA235:BE235)","v":0}]
[null,2,null,"NA","NA","NA","NA","NA",{"$f":"AVERAGE(D236:H236)","v":{"$error":"#DIV/0!"}},{"$f":"STDEV(D236:H236)","v":{"$error":"#DIV/0!"}},"NA","NA","NA","NA","NA",{"$f":"AVERAGE(K236:O236)","v":{"$error":"#DIV/0!"}},{"$f":"STDEV(K236:O236)","v":{"$error":"#DIV/0!"}},"NA","NA","NA","NA","NA",{"$f":"AVERAGE(R236:V236)","v":{"$error":"#DIV/0!"}},{"$f":"STDEV(R236:V236)","v":{"$error":"#DIV/0!"}},"NA","NA","NA","NA","NA",{"$f":"AVERAGE(Y236:AC236)","v":{"$error":"#DIV/0!"}},{"$f":"STDEV(Y236:AC236)","v":{"$error":"#DIV/0!"}},"NA","NA","NA","NA","NA",{"$f":"AVERAGE(AF236:AJ236)","v":{"$error":"#DIV/0!"}},{"$f":"STDEV(AF236:AJ236)","v":{"$error":"#DIV/0!"}},0,0,0,0,0,{"$f":"AVERAGE(AM236:AQ236)","v":0},{"$f":"STDEV(AM236:AQ236)","v":0},0,0,0,0,0,{"$f":"AVERAGE(AT236:AX236)","v":0},{"$f":"STDEV(AT236:AX236)","v":0},0,0,0,0,0,{"$f":"AVERAGE(BA236:BE236)","v":0},{"$f":"STDEV(BA236:BE236)","v":0}]
[null,3,null,"NA","NA","NA","NA","NA",{"$f":"AVERAGE(D237:H237)","v":{"$error":"#DIV/0!"}},{"$f":"STDEV(D237:H237)","v":{"$error":"#DIV/0!"}},"NA","NA","NA","NA","NA",{"$f":"AVERAGE(K237:O237)","v":{"$error":"#DIV/0!"}},{"$f":"STDEV(K237:O237)","v":{"$error":"#DIV/0!"}},"NA","NA","NA","NA","NA",{"$f":"AVERAGE(R237:V237)","v":{"$error":"#DIV/0!"}},{"$f":"STDEV(R237:V237)","v":{"$error":"#DIV/0!"}},"NA","NA","NA","NA","NA",{"$f":"AVERAGE(Y237:AC237)","v":{"$error":"#DIV/0!"}},{"$f":"STDEV(Y237:AC237)","v":{"$error":"#DIV/0!"}},"NA","NA","NA","NA","NA",{"$f":"AVERAGE(AF237:AJ237)","v":{"$error":"#DIV/0!"}},{"$f":"STDEV(AF237:AJ237)","v":{"$error":"#DIV/0!"}},0,0,0,0,0,{"$f":"AVERAGE(AM237:AQ237)","v":0},{"$f":"STDEV(AM237:AQ237)","v":0},0,0,0,0,0,{"$f":"AVERAGE(AT237:AX237)","v":0},{"$f":"STDEV(AT237:AX237)","v":0},0,0,0,0,0,{"$f":"AVERAGE(BA237:BE237)","v":0},{"$f":"STDEV(BA237:BE237)","v":0}]
["average",{"$nulls":7},{"$f":"AVERAGE(I235:I237)","v":{"$error":"#DIV/0!"}},{"$nulls":6},{"$f":"AVERAGE(P235:P237)","v":{"$error":"#DIV/0!"}},{"$nulls":6},{"$f":"AVERAGE(W235:W237)","v":{"$error":"#DIV/0!"}},{"$nulls":6},{"$f":"AVERAGE(AD235:AD237)","v":{"$error":"#DIV/0!"}},{"$nulls":6},{"$f":"AVERAGE(AK235:AK237)","v":{"$error":"#DIV/0!"}},{"$nulls":6},{"$f":"AVERAGE(AR235:AR237)","v":0},{"$nulls":6},{"$f":"AVERAGE(AY235:AY237)","v":0},{"$nulls":6},{"$f":"AVERAGE(BF235:BF237)","v":0}]
["stdev",{"$nulls":7},{"$f":"SUM(J235:J237)","v":{"$error":"#DIV/0!"}},{"$nulls":6},{"$f":"SUM(Q235:Q237)","v":{"$error":"#DIV/0!"}},{"$nulls":6},{"$f":"SUM(X235:X237)","v":{"$error":"#DIV/0!"}},{"$nulls":6},{"$f":"SUM(AE235:AE237)","v":{"$error":"#DIV/0!"}},{"$nulls":6},{"$f":"SUM(AL235:AL237)","v":{"$error":"#DIV/0!"}},{"$nulls":6},{"$f":"SUM(AS235:AS237)","v":0},{"$nulls":6},{"$f":"SUM(AZ235:AZ237)","v":0},{"$nulls":6},{"$f":"SUM(BG235:BG237)","v":0}]

{"sheet":"Survivalexp vitmix results","index":1,"n_rows":59,"n_cols":63,"rows_kept":59}
["Survival experiment"]
["Subject: ",null,"Anaerobic survival after aerobic inoculation of recombinant strains"]
[null,null,"DeBont+Gluconic Acid - Kanamycin only in 2213-/A/APR"]
["Inoculation date",null,"2017-10-22"]
["Inoculated",null,"Blank ","BW25113 2213F -","2213F -",null,"2213F A",null,"2213F APR"]
[{"$nulls":3},"dilution"]
[{"$nulls":3},"T1",{"$nulls":9},"T4",{"$nulls":9},"T7",{"$nulls":9},"T11",{"$nulls":9},"T14",{"$nulls":9},"T18"]
[null,null,"Sample",{"$f":"10^0","v":{"v":1,"d":"1E+00"}},{"$f":"10^-1","v":{"v":0.1,"d":"1E-01"}},{"$f":"10^-2","v":{"v":0.01,"d":"1E-02"}},{"$f":"10^-3","v":{"v":1E-3,"d":"1E-03"}},{"$f":"10^-4","v":{"v":1E-4,"d":"1E-04"}},{"$f":"10^-5","v":{"v":1e-05,"d":"1E-05"}},{"$f":"10^-6","v":{"v":1e-06,"d":"1E-06"}},{"$f":"10^-7","v":{"v":1e-07,"d":"1E-07"}},"Average nr of bacteria","stdev",{"$f":"10^0","v":{"v":1,"d":"1E+00"}},{"$f":"10^-1","v":{"v":0.1,"d":"1E-01"}},{"$f":"10^-2","v":{"v":0.01,"d":"1E-02"}},{"$f":"10^-3","v":{"v":1E-3,"d":"1E-03"}},{"$f":"10^-4","v":{"v":1E-4,"d":"1E-04"}},{"$f":"10^-5","v":{"v":1e-05,"d":"1E-05"}},{"$f":"10^-6","v":{"v":1e-06,"d":"1E-06"}},{"$f":"10^-7","v":{"v":1e-07,"d":"1E-07"}},"Average nr of bacteria","stdev",{"$f":"10^0","v":{"v":1,"d":"1E+00"}},{"$f":"10^-1","v":{"v":0.1,"d":"1E-01"}},{"$f":"10^-2","v":{"v":0.01,"d":"1E-02"}},{"$f":"10^-3","v":{"v":1E-3,"d":"1E-03"}},{"$f":"10^-4","v":{"v":1E-4,"d":"1E-04"}},{"$f":"10^-5","v":{"v":1e-05,"d":"1E-05"}},{"$f":"10^-6","v":{"v":1e-06,"d":"1E-06"}},{"$f":"10^-7","v":{"v":1e-07,"d":"1E-07"}},"Average nr of bacteria","stdev",{"$f":"10^0","v":{"v":1,"d":"1E+00"}},{"$f":"10^-1","v":{"v":0.1,"d":"1E-01"}},{"$f":"10^-2","v":{"v":0.01,"d":"1E-02"}},{"$f":"10^-3","v":{"v":1E-3,"d":"1E-03"}},{"$f":"10^-4","v":{"v":1E-4,"d":"1E-04"}},{"$f":"10^-5","v":{"v":1e-05,"d":"1E-05"}},{"$f":"10^-6","v":{"v":1e-06,"d":"1E-06"}},{"$f":"10^-7","v":{"v":1e-07,"d":"1E-07"}},"Average nr of bacteria","stdev",{"$f":"10^0","v":{"v":1,"d":"1E+00"}},{"$f":"10^-1","v":{"v":0.1,"d":"1E-01"}},{"$f":"10^-2","v":{"v":0.01,"d":"1E-02"}},{"$f":"10^-3","v":{"v":1E-3,"d":"1E-03"}},{"$f":"10^-4","v":{"v":1E-4,"d":"1E-04"}},{"$f":"10^-5","v":{"v":1e-05,"d":"1E-05"}},{"$f":"10^-6","v":{"v":1e-06,"d":"1E-06"}},{"$f":"10^-7","v":{"v":1e-07,"d":"1E-07"}},"Average nr of bacteria","stdev",{"$f":"10^0","v":{"v":1,"d":"1E+00"}},{"$f":"10^-1","v":{"v":0.1,"d":"1E-01"}},{"$f":"10^-2","v":{"v":0.01,"d":"1E-02"}},{"$f":"10^-3","v":{"v":1E-3,"d":"1E-03"}},{"$f":"10^-4","v":{"v":1E-4,"d":"1E-04"}},{"$f":"10^-5","v":{"v":1e-05,"d":"1E-05"}},{"$f":"10^-6","v":{"v":1e-06,"d":"1E-06"}},{"$f":"10^-7","v":{"v":1e-07,"d":"1E-07"}},"Average nr of bacteria","stdev"]
[null,null,"Blank",{"$f":"'Survivalexp vitmix RAW Feb 2018'!I13","v":0},{"$f":"'Survivalexp vitmix RAW Feb 2018'!P13","v":0},{"$f":"'Survivalexp vitmix RAW Feb 2018'!W13","v":0},{"$f":"'Survivalexp vitmix RAW Feb 2018'!AD13","v":0},{"$f":"'Survivalexp vitmix RAW Feb 2018'!AK13","v":0},{"$f":"'Survivalexp vitmix RAW Feb 2018'!AR13","v":0},{"$f":"'Survivalexp vitmix RAW Feb 2018'!AY13","v":0},{"$f":"'Survivalexp vitmix RAW Feb 2018'!BF13","v":0},null,null,{"$f":"'Survivalexp vitmix RAW Feb 2018'!I52","v":0},{"$f":"'Survivalexp vitmix RAW Feb 2018'!P52","v":0},{"$f":"'Survivalexp vitmix RAW Feb 2018'!W52","v":0},{"$f":"'Survivalexp vitmix RAW Feb 2018'!AD52","v":0},{"$f":"'Survivalexp vitmix RAW Feb 2018'!AK52","v":0},{"$f":"'Survivalexp vitmix RAW Feb 2018'!AR52","v":0},{"$f":"'Survivalexp vitmix RAW Feb 2018'!AY52","v":0},{"$f":"'Survivalexp vitmix RAW Feb 2018'!BF52","v":0},null,null,{"$f":"'Survivalexp vitmix RAW Feb 2018'!I91","v":0},{"$f":"'Survivalexp vitmix RAW Feb 2018'!P91","v":0},{"$f":"'Survivalexp vitmix RAW Feb 2018'!W91","v":0},{"$f":"'Survivalexp vitmix RAW Feb 2018'!AD91","v":0},{"$f":"'Survivalexp vitmix RAW Feb 2018'!AK91","v":0},{"$f":"'Survivalexp vitmix RAW Feb 2018'!AR91","v":0},{"$f":"'Survivalexp vitmix RAW Feb 2018'!AY91","v":0},{"$f":"'Survivalexp vitmix RAW Feb 2018'!BF91","v":0},null,null,{"$f":"'Survivalexp vitmix RAW Feb 2018'!I130","v":0},{"$f":"'Survivalexp vitmix RAW Feb 2018'!P130","v":0},{"$f":"'Survivalexp vitmix RAW Feb 2018'!W130","v":0},{"$f":"'Survivalexp vitmix RAW Feb 2018'!AD130","v":0},{"$f":"'Survivalexp vitmix RAW Feb 2018'!AK130","v":0},{"$f":"'Survivalexp vitmix RAW Feb 2018'!AR130","v":0},{"$f":"'Survivalexp vitmix RAW Feb 2018'!AY130","v":0},{"$f":"'Survivalexp vitmix RAW Feb 2018'!BF130","v":0},null,null,{"$f":"'Survivalexp vitmix RAW Feb 2018'!S169","v":0},{"$f":"'Survivalexp vitmix RAW Feb 2018'!Z169","v":0},{"$f":"'Survivalexp vitmix RAW Feb 2018'!AG169","v":0},{"$f":"'Survivalexp vitmix RAW Feb 2018'!AN169","v":0},{"$f":"'Survivalexp vitmix RAW Feb 2018'!AU169","v":0},{"$f":"'Survivalexp vitmix RAW Feb 2018'!BB169","v":0},{"$f":"'Survivalexp vitmix RAW Feb 2018'!BI169","v":0},{"$f":"'Survivalexp vitmix RAW Feb 2018'!BP169","v":0},null,null,{"$f":"'Survivalexp vitmix RAW Feb 2018'!I208","v":0},{"$f":"'Survivalexp vitmix RAW Feb 2018'!P208","v":0},{"$f":"'Survivalexp vitmix RAW Feb 2018'!W208","v":0},{"$f":"'Survivalexp vitmix RAW Feb 2018'!AD208","v":0},{"$f":"'Survivalexp vitmix RAW Feb 2018'!AK208","v":0},{"$f":"'Survivalexp vitmix RAW Feb 2018'!AR208","v":0},{"$f":"'Survivalexp vitmix RAW Feb 2018'!AY208","v":0},{"$f":"'Survivalexp vitmix RAW Feb 2018'!BF208","v":0}]
[null,null,"stdev",{"$f":"'Survivalexp vitmix RAW Feb 2018'!I14","v":0},{"$f":"'Survivalexp vitmix RAW Feb 2018'!P14","v":0},{"$f":"'Survivalexp vitmix RAW Feb 2018'!W14","v":0},{"$f":"'Survivalexp vitmix RAW Feb 2018'!AD14","v":0},{"$f":"'Survivalexp vitmix RAW Feb 2018'!AK14","v":0},{"$f":"'Survivalexp vitmix RAW Feb 2018'!AR14","v":0},{"$f":"'Survivalexp vitmix RAW Feb 2018'!AY14","v":0},{"$f":"'Survivalexp vitmix RAW Feb 2018'!BF14","v":0},null,null,{"$f":"'Survivalexp vitmix RAW Feb 2018'!I53","v":0},{"$f":"'Survivalexp vitmix RAW Feb 2018'!P53","v":0},{"$f":"'Survivalexp vitmix RAW Feb 2018'!W53","v":0},{"$f":"'Survivalexp vitmix RAW Feb 2018'!AD53","v":0},{"$f":"'Survivalexp vitmix RAW Feb 2018'!AK53","v":0},{"$f":"'Survivalexp vitmix RAW Feb 2018'!AR53","v":0},{"$f":"'Survivalexp vitmix RAW Feb 2018'!AY53","v":0},{"$f":"'Survivalexp vitmix RAW Feb 2018'!BF53","v":0},null,null,{"$f":"'Survivalexp vitmix RAW Feb 2018'!I92","v":0},{"$f":"'Survivalexp vitmix RAW Feb 2018'!P92","v":0},{"$f":"'Survivalexp vitmix RAW Feb 2018'!W92","v":0},{"$f":"'Survivalexp vitmix RAW Feb 2018'!AD92","v":0},{"$f":"'Survivalexp vitmix RAW Feb 2018'!AK92","v":0},{"$f":"'Survivalexp vitmix RAW Feb 2018'!AR92","v":0},{"$f":"'Survivalexp vitmix RAW Feb 2018'!AY92","v":0},{"$f":"'Survivalexp vitmix RAW Feb 2018'!BF92","v":0},null,null,{"$f":"'Survivalexp vitmix RAW Feb 2018'!I131","v":0},{"$f":"'Survivalexp vitmix RAW Feb 2018'!P131","v":0},{"$f":"'Survivalexp vitmix RAW Feb 2018'!W131","v":0},{"$f":"'Survivalexp vitmix RAW Feb 2018'!AD131","v":0},{"$f":"'Survivalexp vitmix RAW Feb 2018'!AK131","v":0},{"$f":"'Survivalexp vitmix RAW Feb 2018'!AR131","v":0},{"$f":"'Survivalexp vitmix RAW Feb 2018'!AY131","v":0},{"$f":"'Survivalexp vitmix RAW Feb 2018'!BF131","v":0},null,null,{"$f":"'Survivalexp vitmix RAW Feb 2018'!S170","v":0},{"$f":"'Survivalexp vitmix RAW Feb 2018'!Z170","v":0},{"$f":"'Survivalexp vitmix RAW Feb 2018'!AG170","v":0},{"$f":"'Survivalexp vitmix RAW Feb 2018'!AN170","v":0},{"$f":"'Survivalexp vitmix RAW Feb 2018'!AU170","v":0},{"$f":"'Survivalexp vitmix RAW Feb 2018'!BB170","v":0},{"$f":"'Survivalexp vitmix RAW Feb 2018'!BI170","v":0},{"$f":"'Survivalexp vitmix RAW Feb 2018'!BP170","v":0},null,null,{"$f":"'Survivalexp vitmix RAW Feb 2018'!I209","v":0},{"$f":"'Survivalexp vitmix RAW Feb 2018'!P209","v":0},{"$f":"'Survivalexp vitmix RAW Feb 2018'!W209","v":0},{"$f":"'Survivalexp vitmix RAW Feb 2018'!AD209","v":0},{"$f":"'Survivalexp vitmix RAW Feb 2018'!AK209","v":0},{"$f":"'Survivalexp vitmix RAW Feb 2018'!AR209","v":0},{"$f":"'Survivalexp vitmix RAW Feb 2018'!AY209","v":0},{"$f":"'Survivalexp vitmix RAW Feb 2018'!BF209","v":0}]
[null,"est. nr of bacteria",null,{"$f":"D9/$D$8","v":0},{"$f":"E9/$E$8","v":0},{"$f":"F9/$F$8","v":0},{"$f":"G9/$G$8","v":0},{"$f":"H9/$H$8","v":0},{"$f":"I9/$I$8","v":0},{"$f":"J9/$J$8","v":0},{"$f":"K9/$K$8","v":{"v":0,"d":"0E+00"}},{"$f":"G11","v":0},{"$f":"G12","v":0},{"$f":"N9/$D$8","v":0},{"$f":"O9/$E$8","v":0},{"$f":"P9/$F$8","v":0},{"$f":"Q9/$G$8","v":0},{"$f":"R9/$H$8","v":0},{"$f":"S9/$I$8","v":0},{"$f":"T9/$J$8","v":0},{"$f":"U9/$K$8","v":0},{"$f":"P11","v":0},{"$f":"P12","v":0},{"$f":"X9/$D$8","v":0},{"$f":"Y9/$E$8","v":0},{"$f":"Z9/$F$8","v":0},{"$f":"AA9/$G$8","v":0},{"$f":"AB9/$H$8","v":0},{"$f":"AC9/$I$8","v":0},{"$f":"AD9/$J$8","v":0},{"$f":"AE9/$K$8","v":0},{"$f":"AE11","v":0},{"$f":"AE12","v":0},{"$f":"AH9/$D$8","v":0},{"$f":"AI9/$E$8","v":0},{"$f":"AJ9/$F$8","v":0},{"$f":"AK9/$G$8","v":0},{"$f":"AL9/$H$8","v":0},{"$f":"AM9/$I$8","v":0},{"$f":"AN9/$J$8","v":0},{"$f":"AO9/$K$8","v":0},{"$f":"AL11","v":0},{"$f":"AL12","v":0},{"$f":"AR9/$D$8","v":0},{"$f":"AS9/$E$8","v":0},{"$f":"AT9/$F$8","v":0},{"$f":"AU9/$G$8","v":0},{"$f":"AV9/$H$8","v":0},{"$f":"AW9/$I$8","v":0},{"$f":"AX9/$J$8","v":0},{"$f":"AY9/$K$8","v":0},{"$f":"AV11","v":0},{"$f":"AV12","v":0},{"$f":"BB9/$D$8","v":0},{"$f":"BC9/$E$8","v":0},{"$f":"BD9/$F$8","v":0},{"$f":"BE9/$G$8","v":0},{"$f":"BF9/$H$8","v":0},{"$f":"BG9/$I$8","v":0},{"$f":"BH9/$J$8","v":0},{"$f":"BI9/$K$8","v":0},{"$f":"BF11","v":0},{"$f":"BF12","v":0}]
[null,null,"stdev",{"$f":"D10/$D$8","v":0},{"$f":"E10/$E$8","v":0},{"$f":"F10/$F$8","v":0},{"$f":"G10/$G$8","v":0},{"$f":"H10/$H$8","v":0},{"$f":"I10/$I$8","v":0},{"$f":"J10/$J$8","v":0},{"$f":"K10/$K$8","v":0},null,null,{"$f":"N10/$D$8","v":0},{"$f":"O10/$E$8","v":0},{"$f":"P10/$F$8","v":0},{"$f":"Q10/$G$8","v":0},{"$f":"R10/$H$8","v":0},{"$f":"S10/$I$8","v":0},{"$f":"T10/$J$8","v":0},{"$f":"U10/$K$8","v":0},null,null,{"$f":"X10/$D$8","v":0},{"$f":"Y10/$E$8","v":0},{"$f":"Z10/$F$8","v":0},{"$f":"AA10/$G$8","v":0},{"$f":"AB10/$H$8","v":0},{"$f":"AC10/$I$8","v":0},{"$f":"AD10/$J$8","v":0},{"$f":"AE10/$K$8","v":0},null,null,{"$f":"AH10/$D$8","v":0},{"$f":"AI10/$E$8","v":0},{"$f":"AJ10/$F$8","v":0},{"$f":"AK10/$G$8","v":0},{"$f":"AL10/$H$8","v":0},{"$f":"AM10/$I$8","v":0},{"$f":"AN10/$J$8","v":0},{"$f":"AO10/$K$8","v":0},null,null,{"$f":"AR10/$D$8","v":0},{"$f":"AS10/$E$8","v":0},{"$f":"AT10/$F$8","v":0},{"$f":"AU10/$G$8","v":0},{"$f":"AV10/$H$8","v":0},{"$f":"AW10/$I$8","v":0},{"$f":"AX10/$J$8","v":0},{"$f":"AY10/$K$8","v":0},null,null,{"$f":"BB10/$D$8","v":0},{"$f":"BC10/$E$8","v":0},{"$f":"BD10/$F$8","v":0},{"$f":"BE10/$G$8","v":0},{"$f":"BF10/$H$8","v":0},{"$f":"BG10/$I$8","v":0},{"$f":"BH10/$J$8","v":0},{"$f":"BI10/$K$8","v":0}]
[null,"BW25113","2213 - ",{"$f":"'Survivalexp vitmix RAW Feb 2018'!I18","v":{"$error":"#DIV/0!"}},{"$f":"'Survivalexp vitmix RAW Feb 2018'!P18","v":{"$error":"#DIV/0!"}},{"$f":"'Survivalexp vitmix RAW Feb 2018'!W18","v":{"$error":"#DIV/0!"}},{"$f":"'Survivalexp vitmix RAW Feb 2018'!AD18","v":{"$error":"#DIV/0!"}},{"$f":"'Survivalexp vitmix RAW Feb 2018'!AK18","v":{"$error":"#DIV/0!"}},{"$f":"'Survivalexp vitmix RAW Feb 2018'!AR18","v":{"v":39.46666666666667,"d":"39"}},{"$f":"'Survivalexp vitmix RAW Feb 2018'!AY18","v":5},{"$f":"'Survivalexp vitmix RAW Feb 2018'!BF18","v":{"v":0.4666666666666666,"d":"0"}},null,null,{"$f":"'Survivalexp vitmix RAW Feb 2018'!I57","v":{"$error":"#DIV/0!"}},{"$f":"'Survivalexp vitmix RAW Feb 2018'!P57","v":{"$error":"#DIV/0!"}},{"$f":"'Survivalexp vitmix RAW Feb 2018'!W57","v":{"$error":"#DIV/0!"}},{"$f":"'Survivalexp vitmix RAW Feb 2018'!AD57","v":{"$error":"#DIV/0!"}},{"$f":"'Survivalexp vitmix RAW Feb 2018'!AK57","v":{"$error":"#DIV/0!"}},{"$f":"'Survivalexp vitmix RAW Feb 2018'!AR57","v":{"$error":"#DIV/0!"}},{"$f":"'Survivalexp vitmix RAW Feb 2018'!AY57","v":{"v":30.266666666666666,"d":"30"}},{"$f":"'Survivalexp vitmix RAW Feb 2018'!BF57","v":{"v":7.266666666666666,"d":"7"}},null,null,{"$f":"'Survivalexp vitmix RAW Feb 2018'!I96","v":{"$error":"#DIV/0!"}},{"$f":"'Survivalexp vitmix RAW Feb 2018'!P96","v":{"$error":"#DIV/0!"}},{"$f":"'Survivalexp vitmix RAW Feb 2018'!W96","v":{"$error":"#DIV/0!"}},{"$f":"'Survivalexp vitmix RAW Feb 2018'!AD96","v":{"$error":"#DIV/0!"}},{"$f":"'Survivalexp vitmix RAW Feb 2018'!AK96","v":{"$error":"#DIV/0!"}},{"$f":"'Survivalexp vitmix RAW Feb 2018'!AR96","v":{"v":64.53333333333333,"d":"65"}},{"$f":"'Survivalexp vitmix RAW Feb 2018'!AY96","v":{"v":2.4000000000000004,"d":"2"}},{"$f":"'Survivalexp vitmix RAW Feb 2018'!BF96","v":0},null,null,{"$f":"'Survivalexp vitmix RAW Feb 2018'!I135","v":{"$error":"#DIV/0!"}},{"$f":"'Survivalexp vitmix RAW Feb 2018'!P135","v":{"$error":"#DIV/0!"}},{"$f":"'Survivalexp vitmix RAW Feb 2018'!W135","v":{"$error":"#DIV/0!"}},{"$f":"'Survivalexp vitmix RAW Feb 2018'!AD135","v":{"$error":"#DIV/0!"}},{"$f":"'Survivalexp vitmix RAW Feb 2018'!AK135","v":{"v":219.4,"d":"219"}},{"$f":"'Survivalexp vitmix RAW Feb 2018'!AR135","v":{"v":32.53333333333334,"d":"33"}},{"$f":"'Survivalexp vitmix RAW Feb 2018'!AY135","v":{"v":3.4,"d":"3"}},{"$f":"'Survivalexp vitmix RAW Feb 2018'!BF135","v":{"v":0.26666666666666666,"d":"0"}},null,null,{"$f":"'Survivalexp vitmix RAW Feb 2018'!I174","v":{"$error":"#DIV/0!"}},{"$f":"'Survivalexp vitmix RAW Feb 2018'!P174","v":{"$error":"#DIV/0!"}},{"$f":"'Survivalexp vitmix RAW Feb 2018'!W174","v":{"$error":"#DIV/0!"}},{"$f":"'Survivalexp vitmix RAW Feb 2018'!AD174","v":{"$error":"#DIV/0!"}},{"$f":"'Survivalexp vitmix RAW Feb 2018'!AK174","v":{"$error":"#DIV/0!"}},{"$f":"'Survivalexp vitmix RAW Feb 2018'!AR174","v":{"v":36.666666666666664,"d":"37"}},{"$f":"'Survivalexp vitmix RAW Feb 2018'!AY174","v":4},{"$f":"'Survivalexp vitmix RAW Feb 2018'!BF174","v":{"v":0.4000000000000001,"d":"0"}},null,null,{"$f":"'Survivalexp vitmix RAW Feb 2018'!I213","v":{"$error":"#DIV/0!"}},{"$f":"'Survivalexp vitmix RAW Feb 2018'!P213","v":{"$error":"#DIV/0!"}},{"$f":"'Survivalexp vitmix RAW Feb 2018'!W213","v":{"$error":"#DIV/0!"}},{"$f":"'Survivalexp vitmix RAW Feb 2018'!AD213","v":{"$error":"#DIV/0!"}},{"$f":"'Survivalexp vitmix RAW Feb 2018'!AK213","v":{"$error":"#DIV/0!"}},{"$f":"'Survivalexp vitmix RAW Feb 2018'!AR213","v":0},{"$f":"'Survivalexp vitmix RAW Feb 2018'!AY213","v":0},{"$f":"'Survivalexp vitmix RAW Feb 2018'!BF213","v":0}]
[null,null,"stdev",{"$f":"'Survivalexp vitmix RAW Feb 2018'!I19","v":{"$error":"#DIV/0!"}},{"$f":"'Survivalexp vitmix RAW Feb 2018'!P19","v":{"$error":"#DIV/0!"}},{"$f":"'Survivalexp vitmix RAW Feb 2018'!W19","v":{"$error":"#DIV/0!"}},{"$f":"'Survivalexp vitmix RAW Feb 2018'!AD19","v":{"$error":"#DIV/0!"}},{"$f":"'Survivalexp vitmix RAW Feb 2018'!AK19","v":{"$error":"#DIV/0!"}},{"$f":"'Survivalexp vitmix RAW Feb 2018'!AR19","v":{"v":14.982353032860225,"d":"15"}},{"$f":"'Survivalexp vitmix RAW Feb 2018'!AY19","v":{"v":5.978619943494351,"d":"6"}},{"$f":"'Survivalexp vitmix RAW Feb 2018'!BF19","v":{"v":1.6431676725154982,"d":"2"}},null,null,{"$f":"'Survivalexp vitmix RAW Feb 2018'!I58","v":{"$error":"#DIV/0!"}},{"$f":"'Survivalexp vitmix RAW Feb 2018'!P58","v":{"$error":"#DIV/0!"}},{"$f":"'Survivalexp vitmix RAW Feb 2018'!W58","v":{"$error":"#DIV/0!"}},{"$f":"'Survivalexp vitmix RAW Feb 2018'!AD58","v":{"$error":"#DIV/0!"}},{"$f":"'Survivalexp vitmix RAW Feb 2018'!AK58","v":{"$error":"#DIV/0!"}},{"$f":"'Survivalexp vitmix RAW Feb 2018'!AR58","v":{"$error":"#DIV/0!"}},{"$f":"'Survivalexp vitmix RAW Feb 2018'!AY58","v":{"v":20.42089146625065,"d":"20"}},{"$f":"'Survivalexp vitmix RAW Feb 2018'!BF58","v":{"v":5.034602616099054,"d":"5"}},null,null,{"$f":"'Survivalexp vitmix RAW Feb 2018'!I97","v":{"$error":"#DIV/0!"}},{"$f":"'Survivalexp vitmix RAW Feb 2018'!P97","v":{"$error":"#DIV/0!"}},{"$f":"'Survivalexp vitmix RAW Feb 2018'!W97","v":{"$error":"#DIV/0!"}},{"$f":"'Survivalexp vitmix RAW Feb 2018'!AD97","v":{"$error":"#DIV/0!"}},{"$f":"'Survivalexp vitmix RAW Feb 2018'!AK97","v":{"$error":"#DIV/0!"}},{"$f":"'Survivalexp vitmix RAW Feb 2018'!AR97","v":{"$error":"#DIV/0!"}},{"$f":"'Survivalexp vitmix RAW Feb 2018'!AY97","v":{"v":5.828845191055874,"d":"6"}},{"$f":"'Survivalexp vitmix RAW Feb 2018'!BF97","v":0},null,null,{"$f":"'Survivalexp vitmix RAW Feb 2018'!I136","v":{"$error":"#DIV/0!"}},{"$f":"'Survivalexp vitmix RAW Feb 2018'!P136","v":{"$error":"#DIV/0!"}},{"$f":"'Survivalexp vitmix RAW Feb 2018'!W136","v":{"$error":"#DIV/0!"}},{"$f":"'Survivalexp vitmix RAW Feb 2018'!AD136","v":{"$error":"#DIV/0!"}},{"$f":"'Survivalexp vitmix RAW Feb 2018'!AK136","v":{"v":24.70556745070896,"d":"25"}},{"$f":"'Survivalexp vitmix RAW Feb 2018'!AR136","v":{"v":12.431878572849888,"d":"12"}},{"$f":"'Survivalexp vitmix RAW Feb 2018'!AY136","v":{"v":5.690912933213529,"d":"6"}},{"$f":"'Survivalexp vitmix RAW Feb 2018'!BF136","v":{"v":0.994936153005124,"d":"1"}},null,null,{"$f":"'Survivalexp vitmix RAW Feb 2018'!I175","v":{"$error":"#DIV/0!"}},{"$f":"'Survivalexp vitmix RAW Feb 2018'!P175","v":{"$error":"#DIV/0!"}},{"$f":"'Survivalexp vitmix RAW Feb 2018'!W175","v":{"$error":"#DIV/0!"}},{"$f":"'Survivalexp vitmix RAW Feb 2018'!AD175","v":{"$error":"#DIV/0!"}},{"$f":"'Survivalexp vitmix RAW Feb 2018'!AK175","v":{"$error":"#DIV/0!"}},{"$f":"'Survivalexp vitmix RAW Feb 2018'!AR175","v":{"v":18.668808994645516,"d":"19"}},{"$f":"'Survivalexp vitmix RAW Feb 2018'!AY175","v":{"v":5.240026131750784,"d":"5"}},{"$f":"'Survivalexp vitmix RAW Feb 2018'!BF175","v":{"v":1.9898723060102481,"d":"2"}},null,null,{"$f":"'Survivalexp vitmix RAW Feb 2018'!I214","v":{"$error":"#DIV/0!"}},{"$f":"'Survivalexp vitmix RAW Feb 2018'!P214","v":{"$error":"#DIV/0!"}},{"$f":"'Survivalexp vitmix RAW Feb 2018'!W214","v":{"$error":"#DIV/0!"}},{"$f":"'Survivalexp vitmix RAW Feb 2018'!AD214","v":{"$error":"#DIV/0!"}},{"$f":"'Survivalexp vitmix RAW Feb 2018'!AK214","v":{"$error":"#DIV/0!"}},{"$f":"'Survivalexp vitmix RAW Feb 2018'!AR214","v":0},{"$f":"'Survivalexp vitmix RAW Feb 2018'!AY214","v":0},{"$f":"'Survivalexp vitmix RAW Feb 2018'!BF214","v":0}]
[null,"est. nr of bacteria",null,{"$f":"D13/$D$8","v":{"$error":"#DIV/0!"}},{"$f":"E13/$E$8","v":{"$error":"#DIV/0!"}},{"$f":"F13/$F$8","v":{"$error":"#DIV/0!"}},{"$f":"G13/$G$8","v":{"$error":"#DIV/0!"}},{"$f":"H13/$H$8","v":{"$error":"#DIV/0!"}},{"$f":"I13/$I$8","v":3946666.6666666665},{"$f":"J13/$J$8","v":5000000},{"$f":"K13/$K$8","v":{"v":4666666.666666666,"d":"5E+06"}},{"$f":"I15","v":{"v":3946666.6666666665,"d":"3946667"}},{"$f":"I16","v":1498235.3032860223},{"$f":"N13/$D$8","v":{"$error":"#DIV/0!"}},{"$f":"O13/$E$8","v":{"$error":"#DIV/0!"}},{"$f":"P13/$F$8","v":{"$error":"#DIV/0!"}},{"$f":"Q13/$G$8","v":{"$error":"#DIV/0!"}},{"$f":"R13/$H$8","v":{"$error":"#DIV/0!"}},{"$f":"S13/$I$8","v":{"$error":"#DIV/0!"}},{"$f":"T13/$J$8","v":30266666.666666668},{"$f":"U13/$K$8","v":72666666.66666666},{"$f":"T15","v":30266666.666666668},{"$f":"T16","v":20420891.466250654},{"$f":"X13/$D$8","v":{"$error":"#DIV/0!"}},{"$f":"Y13/$E$8","v":{"$error":"#DIV/0!"}},{"$f":"Z13/$F$8","v":{"$error":"#DIV/0!"}},{"$f":"AA13/$G$8","v":{"$error":"#DIV/0!"}},{"$f":"AB13/$H$8","v":{"$error":"#DIV/0!"}},{"$f":"AC13/$I$8","v":6453333.333333333},{"$f":"AD13/$J$8","v":2400000.0000000005},{"$f":"AE13/$K$8","v":0},{"$f":"AD15","v":2400000.0000000005},{"$f":"AD16","v":5828845.191055874},{"$f":"AH13/$D$8","v":{"$error":"#DIV/0!"}},{"$f":"AI13/$E$8","v":{"$error":"#DIV/0!"}},{"$f":"AJ13/$F$8","v":{"$error":"#DIV/0!"}},{"$f":"AK13/$G$8","v":{"$error":"#DIV/0!"}},{"$f":"AL13/$H$8","v":2194000},{"$f":"AM13/$I$8","v":3253333.3333333335},{"$f":"AN13/$J$8","v":3400000},{"$f":"AO13/$K$8","v":2666666.666666667},{"$f":"AL15","v":2194000},{"$f":"AL16","v":247055.67450708957},{"$f":"AR13/$D$8","v":{"$error":"#DIV/0!"}},{"$f":"AS13/$E$8","v":{"$error":"#DIV/0!"}},{"$f":"AT13/$F$8","v":{"$error":"#DIV/0!"}},{"$f":"AU13/$G$8","v":{"$error":"#DIV/0!"}},{"$f":"AV13/$H$8","v":{"$error":"#DIV/0!"}},{"$f":"AW13/$I$8","v":3666666.666666666},{"$f":"AX13/$J$8","v":{"v":4000000,"d":"4E+06"}},{"$f":"AY13/$K$8","v":4000000.000000001},{"$f":"AW15","v":3666666.666666666},{"$f":"AW16","v":1866880.8994645516},{"$f":"BB13/$D$8","v":{"$error":"#DIV/0!"}},{"$f":"BC13/$E$8","v":{"$error":"#DIV/0!"}},{"$f":"BD13/$F$8","v":{"$error":"#DIV/0!"}},{"$f":"BE13/$G$8","v":{"$error":"#DIV/0!"}},{"$f":"BF13/$H$8","v":{"$error":"#DIV/0!"}},{"$f":"BG13/$I$8","v":0},{"$f":"BH13/$J$8","v":0},{"$f":"BI13/$K$8","v":0},{"$f":"BE15","v":{"$error":"#DIV/0!"}},{"$f":"BE16","v":{"$error":"#DIV/0!"}}]
[null,null,"stdev",{"$f":"D14/$D$8","v":{"$error":"#DIV/0!"}},{"$f":"E14/$E$8","v":{"$error":"#DIV/0!"}},{"$f":"F14/$F$8","v":{"$error":"#DIV/0!"}},{"$f":"G14/$G$8","v":{"$error":"#DIV/0!"}},{"$f":"H14/$H$8","v":{"$error":"#DIV/0!"}},{"$f":"I14/$I$8","v":1498235.3032860223},{"$f":"J14/$J$8","v":5978619.943494352},{"$f":"K14/$K$8","v":16431676.725154983},null,null,{"$f":"N14/$D$8","v":{"$error":"#DIV/0!"}},{"$f":"O14/$E$8","v":{"$error":"#DIV/0!"}},{"$f":"P14/$F$8","v":{"$error":"#DIV/0!"}},{"$f":"Q14/$G$8","v":{"$error":"#DIV/0!"}},{"$f":"R14/$H$8","v":{"$error":"#DIV/0!"}},{"$f":"S14/$I$8","v":{"$error":"#DIV/0!"}},{"$f":"T14/$J$8","v":20420891.466250654},{"$f":"U14/$K$8","v":50346026.16099054},null,null,{"$f":"X14/$D$8","v":{"$error":"#DIV/0!"}},{"$f":"Y14/$E$8","v":{"$error":"#DIV/0!"}},{"$f":"Z14/$F$8","v":{"$error":"#DIV/0!"}},{"$f":"AA14/$G$8","v":{"$error":"#DIV/0!"}},{"$f":"AB14/$H$8","v":{"$error":"#DIV/0!"}},{"$f":"AC14/$I$8","v":{"$error":"#DIV/0!"}},{"$f":"AD14/$J$8","v":5828845.191055874},{"$f":"AE14/$K$8","v":0},null,null,{"$f":"AH14/$D$8","v":{"$error":"#DIV/0!"}},{"$f":"AI14/$E$8","v":{"$error":"#DIV/0!"}},{"$f":"AJ14/$F$8","v":{"$error":"#DIV/0!"}},{"$f":"AK14/$G$8","v":{"$error":"#DIV/0!"}},{"$f":"AL14/$H$8","v":247055.67450708957},{"$f":"AM14/$I$8","v":1243187.8572849887},{"$f":"AN14/$J$8","v":5690912.933213529},{"$f":"AO14/$K$8","v":9949361.53005124},null,null,{"$f":"AR14/$D$8","v":{"$error":"#DIV/0!"}},{"$f":"AS14/$E$8","v":{"$error":"#DIV/0!"}},{"$f":"AT14/$F$8","v":{"$error":"#DIV/0!"}},{"$f":"AU14/$G$8","v":{"$error":"#DIV/0!"}},{"$f":"AV14/$H$8","v":{"$error":"#DIV/0!"}},{"$f":"AW14/$I$8","v":1866880.8994645516},5240026.131750784,{"$f":"AY14/$K$8","v":19898723.06010248},null,null,{"$f":"BB14/$D$8","v":{"$error":"#DIV/0!"}},{"$f":"BC14/$E$8","v":{"$error":"#DIV/0!"}},{"$f":"BD14/$F$8","v":{"$error":"#DIV/0!"}},{"$f":"BE14/$G$8","v":{"$error":"#DIV/0!"}},{"$f":"BF14/$H$8","v":{"$error":"#DIV/0!"}},{"$f":"BG14/$I$8","v":0},{"$f":"BH14/$J$8","v":0},{"$f":"BI14/$K$8","v":0}]
[null,"2213F - ","p+0",{"$f":"'Survivalexp vitmix RAW Feb 2018'!I23","v":{"$error":"#DIV/0!"}},{"$f":"'Survivalexp vitmix RAW Feb 2018'!P23","v":{"$error":"#DIV/0!"}},{"$f":"'Survivalexp vitmix RAW Feb 2018'!W23","v":{"$error":"#DIV/0!"}},{"$f":"'Survivalexp vitmix RAW Feb 2018'!AD23","v":{"$error":"#DIV/0!"}},{"$f":"'Survivalexp vitmix RAW Feb 2018'!AK23","v":{"$error":"#DIV/0!"}},{"$f":"'Survivalexp vitmix RAW Feb 2018'!AR23","v":{"v":58.20000000000001,"d":"58"}},{"$f":"'Survivalexp vitmix RAW Feb 2018'!AY23","v":{"v":6.533333333333334,"d":"7"}},{"$f":"'Survivalexp vitmix RAW Feb 2018'!BF23","v":{"v":0.5333333333333333,"d":"1"}},null,null,{"$f":"'Survivalexp vitmix RAW Feb 2018'!I62","v":{"$error":"#DIV/0!"}},{"$f":"'Survivalexp vitmix RAW Feb 2018'!P62","v":{"$error":"#DIV/0!"}},{"$f":"'Survivalexp vitmix RAW Feb 2018'!W62","v":{"$error":"#DIV/0!"}},{"$f":"'Survivalexp vitmix RAW Feb 2018'!AD62","v":101},{"$f":"'Survivalexp vitmix RAW Feb 2018'!AK62","v":{"v":10.6,"d":"11"}},{"$f":"'Survivalexp vitmix RAW Feb 2018'!AR62","v":{"v":1.1333333333333333,"d":"1"}},{"$f":"'Survivalexp vitmix RAW Feb 2018'!AY62","v":0},{"$f":"'Survivalexp vitmix RAW Feb 2018'!BF62","v":0},null,null,{"$f":"'Survivalexp vitmix RAW Feb 2018'!I101","v":{"$error":"#DIV/0!"}},{"$f":"'Survivalexp vitmix RAW Feb 2018'!P101","v":{"v":120.84969333333333,"d":"121"}},{"$f":"'Survivalexp vitmix RAW Feb 2018'!W101","v":{"v":21.939613333333337,"d":"22"}},{"$f":"'Survivalexp vitmix RAW Feb 2018'!AD101","v":{"v":2.6666933333333334,"d":"3"}},{"$f":"'Survivalexp vitmix RAW Feb 2018'!AK101","v":0},{"$f":"'Survivalexp vitmix RAW Feb 2018'!AR101","v":0},{"$f":"'Survivalexp vitmix RAW Feb 2018'!AY101","v":0},{"$f":"'Survivalexp vitmix RAW Feb 2018'!BF101","v":0},null,null,{"$f":"'Survivalexp vitmix RAW Feb 2018'!I140","v":{"$error":"#DIV/0!"}},{"$f":"'Survivalexp vitmix RAW Feb 2018'!P140","v":{"v":26.266666666666666,"d":"26"}},{"$f":"'Survivalexp vitmix RAW Feb 2018'!W140","v":{"v":10.466666666666667,"d":"10"}},{"$f":"'Survivalexp vitmix RAW Feb 2018'!AD140","v":{"v":1.2666666666666666,"d":"1"}},{"$f":"'Survivalexp vitmix RAW Feb 2018'!AK140","v":{"v":0.06666666666666667,"d":"0"}},{"$f":"'Survivalexp vitmix RAW Feb 2018'!AR140","v":0},{"$f":"'Survivalexp vitmix RAW Feb 2018'!AY140","v":0},{"$f":"'Survivalexp vitmix RAW Feb 2018'!BF140","v":0},null,null,{"$f":"'Survivalexp vitmix RAW Feb 2018'!I179","v":{"$error":"#DIV/0!"}},{"$f":"'Survivalexp vitmix RAW Feb 2018'!P179","v":{"v":23.133333333333336,"d":"23"}},{"$f":"'Survivalexp vitmix RAW Feb 2018'!W179","v":{"v":3.0666666666666664,"d":"3"}},{"$f":"'Survivalexp vitmix RAW Feb 2018'!AD179","v":{"v":0.26666666666666666,"d":"0"}},{"$f":"'Survivalexp vitmix RAW Feb 2018'!AK179","v":0},{"$f":"'Survivalexp vitmix RAW Feb 2018'!AR179","v":0},{"$f":"'Survivalexp vitmix RAW Feb 2018'!AY179","v":0},{"$f":"'Survivalexp vitmix RAW Feb 2018'!BF179","v":0},null,null,{"$f":"'Survivalexp vitmix RAW Feb 2018'!I218","v":{"$error":"#DIV/0!"}},{"$f":"'Survivalexp vitmix RAW Feb 2018'!P218","v":{"$error":"#DIV/0!"}},{"$f":"'Survivalexp vitmix RAW Feb 2018'!W218","v":{"$error":"#DIV/0!"}},{"$f":"'Survivalexp vitmix RAW Feb 2018'!AD218","v":{"$error":"#DIV/0!"}},{"$f":"'Survivalexp vitmix RAW Feb 2018'!AK218","v":{"$error":"#DIV/0!"}},{"$f":"'Survivalexp vitmix RAW Feb 2018'!AR218","v":0},{"$f":"'Survivalexp vitmix RAW Feb 2018'!AY218","v":0},{"$f":"'Survivalexp vitmix RAW Feb 2018'!BF218","v":0}]
[null,null,"stdev",{"$f":"'Survivalexp vitmix RAW Feb 2018'!I24","v":{"$error":"#DIV/0!"}},{"$f":"'Survivalexp vitmix RAW Feb 2018'!P24","v":{"$error":"#DIV/0!"}},{"$f":"'Survivalexp vitmix RAW Feb 2018'!W24","v":{"$error":"#DIV/0!"}},{"$f":"'Survivalexp vitmix RAW Feb 2018'!AD24","v":{"$error":"#DIV/0!"}},{"$f":"'Survivalexp vitmix RAW Feb 2018'!AK24","v":{"$error":"#DIV/0!"}},{"$f":"'Survivalexp vitmix RAW Feb 2018'!AR24","v":{"v":12.80534335007864,"d":"13"}},{"$f":"'Survivalexp vitmix RAW Feb 2018'!AY24","v":{"v":6.074717949752381,"d":"6"}},{"$f":"'Survivalexp vitmix RAW Feb 2018'!BF24","v":{"v":2.278809775039157,"d":"2"}},null,null,{"$f":"'Survivalexp vitmix RAW Feb 2018'!I63","v":{"$error":"#DIV/0!"}},{"$f":"'Survivalexp vitmix RAW Feb 2018'!P63","v":{"$error":"#DIV/0!"}},{"$f":"'Survivalexp vitmix RAW Feb 2018'!W63","v":{"$error":"#DIV/0!"}},{"$f":"'Survivalexp vitmix RAW Feb 2018'!AD63","v":{"v":24.529303189574357,"d":"25"}},{"$f":"'Survivalexp vitmix RAW Feb 2018'!AK63","v":{"v":12.503927355214607,"d":"13"}},{"$f":"'Survivalexp vitmix RAW Feb 2018'!AR63","v":{"v":2.567747244068067,"d":"3"}},{"$f":"'Survivalexp vitmix RAW Feb 2018'!AY63","v":0},{"$f":"'Survivalexp vitmix RAW Feb 2018'!BF63","v":0},null,null,{"$f":"'Survivalexp vitmix RAW Feb 2018'!I102","v":{"$error":"#DIV/0!"}},{"$f":"'Survivalexp vitmix RAW Feb 2018'!P102","v":{"v":34.56692696857566,"d":"35"}},{"$f":"'Survivalexp vitmix RAW Feb 2018'!W102","v":{"v":14.657287834313989,"d":"15"}},{"$f":"'Survivalexp vitmix RAW Feb 2018'!AD102","v":{"v":6.027562346669889,"d":"6"}},{"$f":"'Survivalexp vitmix RAW Feb 2018'!AK102","v":0},{"$f":"'Survivalexp vitmix RAW Feb 2018'!AR102","v":0},{"$f":"'Survivalexp vitmix RAW Feb 2018'!AY102","v":0},{"$f":"'Survivalexp vitmix RAW Feb 2018'!BF102","v":0},null,null,{"$f":"'Survivalexp vitmix RAW Feb 2018'!I141","v":{"$error":"#DIV/0!"}},{"$f":"'Survivalexp vitmix RAW Feb 2018'!P141","v":{"v":11.927382448420133,"d":"12"}},{"$f":"'Survivalexp vitmix RAW Feb 2018'!W141","v":{"v":4.270670593598842,"d":"4"}},{"$f":"'Survivalexp vitmix RAW Feb 2018'!AD141","v":{"v":4.013919674182591,"d":"4"}},{"$f":"'Survivalexp vitmix RAW Feb 2018'!AK141","v":{"v":0.4472135954999579,"d":"0"}},{"$f":"'Survivalexp vitmix RAW Feb 2018'!AR141","v":0},{"$f":"'Survivalexp vitmix RAW Feb 2018'!AY141","v":0},{"$f":"'Survivalexp vitmix RAW Feb 2018'!BF141","v":0},null,null,{"$f":"'Survivalexp vitmix RAW Feb 2018'!I180","v":{"$error":"#DIV/0!"}},{"$f":"'Survivalexp vitmix RAW Feb 2018'!P180","v":{"v":8.307944423718567,"d":"8"}},{"$f":"'Survivalexp vitmix RAW Feb 2018'!W180","v":{"v":4.242286970076537,"d":"4"}},{"$f":"'Survivalexp vitmix RAW Feb 2018'!AD180","v":{"v":0.8366600265340756,"d":"1"}},{"$f":"'Survivalexp vitmix RAW Feb 2018'!AK180","v":0},{"$f":"'Survivalexp vitmix RAW Feb 2018'!AR180","v":0},{"$f":"'Survivalexp vitmix RAW Feb 2018'!AY180","v":0},{"$f":"'Survivalexp vitmix RAW Feb 2018'!BF180","v":0},null,null,{"$f":"'Survivalexp vitmix RAW Feb 2018'!I219","v":{"$error":"#DIV/0!"}},{"$f":"'Survivalexp vitmix RAW Feb 2018'!P219","v":{"$error":"#DIV/0!"}},{"$f":"'Survivalexp vitmix RAW Feb 2018'!W219","v":{"$error":"#DIV/0!"}},{"$f":"'Survivalexp vitmix RAW Feb 2018'!AD219","v":{"$error":"#DIV/0!"}},{"$f":"'Survivalexp vitmix RAW Feb 2018'!AK219","v":{"$error":"#DIV/0!"}},{"$f":"'Survivalexp vitmix RAW Feb 2018'!AR219","v":0},{"$f":"'Survivalexp vitmix RAW Feb 2018'!AY219","v":0},{"$f":"'Survivalexp vitmix RAW Feb 2018'!BF219","v":0}]
[null,"est. nr of bacteria",null,{"$f":"D17/$D$8","v":{"$error":"#DIV/0!"}},{"$f":"E17/$E$8","v":{"$error":"#DIV/0!"}},{"$f":"F17/$F$8","v":{"$error":"#DIV/0!"}},{"$f":"G17/$G$8","v":{"$error":"#DIV/0!"}},{"$f":"H17/$H$8","v":{"$error":"#DIV/0!"}},{"$f":"I17/$I$8","v":5820000.000000001},{"$f":"J17/$J$8","v":6533333.333333334},{"$f":"K17/$K$8","v":5333333.333333334},{"$f":"I19","v":5820000.000000001},{"$f":"I20","v":1280534.335007864},{"$f":"N17/$D$8","v":{"$error":"#DIV/0!"}},{"$f":"O17/$E$8","v":{"$error":"#DIV/0!"}},{"$f":"P17/$F$8","v":{"$error":"#DIV/0!"}},{"$f":"Q17/$G$8","v":101000},{"$f":"R17/$H$8","v":105999.99999999999},{"$f":"S17/$I$8","v":113333.33333333331},{"$f":"T17/$J$8","v":0},{"$f":"U17/$K$8","v":0},{"$f":"AVERAGE(Q19)","v":101000},{"$f":"Q20","v":24529.303189574355},{"$f":"X17/$D$8","v":{"$error":"#DIV/0!"}},{"$f":"Y17/$E$8","v":1208.4969333333333},{"$f":"Z17/$F$8","v":2193.9613333333336},{"$f":"AA17/$G$8","v":2666.693333333333},{"$f":"AB17/$H$8","v":0},{"$f":"AC17/$I$8","v":0},{"$f":"AD17/$J$8","v":0},{"$f":"AE17/$K$8","v":0},{"$f":"Y19","v":1208.4969333333333},{"$f":"Y20","v":345.66926968575655},{"$f":"AH17/$D$8","v":{"$error":"#DIV/0!"}},{"$f":"AI17/$E$8","v":262.66666666666663},{"$f":"AJ17/$F$8","v":1046.6666666666667},{"$f":"AK17/$G$8","v":1266.6666666666665},{"$f":"AL17/$H$8","v":666.6666666666666},{"$f":"AM17/$I$8","v":0},{"$f":"AN17/$J$8","v":0},{"$f":"AO17/$K$8","v":0},{"$f":"AI19","v":262.66666666666663},{"$f":"AI20","v":119.27382448420133},{"$f":"AR17/$D$8","v":{"$error":"#DIV/0!"}},{"$f":"AS17/$E$8","v":231.33333333333334},{"$f":"AT17/$F$8","v":306.66666666666663},{"$f":"AU17/$G$8","v":266.6666666666667},{"$f":"AV17/$H$8","v":0},{"$f":"AW17/$I$8","v":{"v":0,"d":"0E+00"}},{"$f":"AX17/$J$8","v":0},{"$f":"AY17/$K$8","v":0},{"$f":"AS19","v":231.33333333333334},{"$f":"AS20","v":83.07944423718567},{"$f":"BB17/$D$8","v":{"$error":"#DIV/0!"}},{"$f":"BC17/$E$8","v":{"$error":"#DIV/0!"}},{"$f":"BD17/$F$8","v":{"$error":"#DIV/0!"}},{"$f":"BE17/$G$8","v":{"$error":"#DIV/0!"}},{"$f":"BF17/$H$8","v":{"$error":"#DIV/0!"}},{"$f":"BG17/$I$8","v":0},{"$f":"BH17/$J$8","v":0},{"$f":"BI17/$K$8","v":0},{"$f":"BE19","v":{"$error":"#DIV/0!"}},{"$f":"BE20","v":{"$error":"#DIV/0!"}}]
[null,null,"stdev",{"$f":"D18/$D$8","v":{"$error":"#DIV/0!"}},{"$f":"E18/$E$8","v":{"$error":"#DIV/0!"}},{"$f":"F18/$F$8","v":{"$error":"#DIV/0!"}},{"$f":"G18/$G$8","v":{"$error":"#DIV/0!"}},{"$f":"H18/$H$8","v":{"$error":"#DIV/0!"}},{"$f":"I18/$I$8","v":1280534.335007864},6074717.949752382,{"$f":"K18/$K$8","v":22788097.750391573},null,null,{"$f":"N18/$D$8","v":{"$error":"#DIV/0!"}},{"$f":"O18/$E$8","v":{"$error":"#DIV/0!"}},{"$f":"P18/$F$8","v":{"$error":"#DIV/0!"}},{"$f":"Q18/$G$8","v":24529.303189574355},{"$f":"R18/$H$8","v":125039.27355214607},{"$f":"S18/$I$8","v":256774.72440680666},0,{"$f":"U18/$K$8","v":0},null,null,{"$f":"X18/$D$8","v":{"$error":"#DIV/0!"}},{"$f":"Y18/$E$8","v":345.66926968575655},{"$f":"Z18/$F$8","v":1465.7287834313988},{"$f":"AA18/$G$8","v":6027.562346669889},{"$f":"AB18/$H$8","v":0},{"$f":"AC18/$I$8","v":0},0,{"$f":"AE18/$K$8","v":0},null,null,{"$f":"AH18/$D$8","v":{"$error":"#DIV/0!"}},{"$f":"AI18/$E$8","v":119.27382448420133},{"$f":"AJ18/$F$8","v":427.0670593598842},{"$f":"AK18/$G$8","v":4013.919674182591},{"$f":"AL18/$H$8","v":4472.135954999579},{"$f":"AM18/$I$8","v":0},0,{"$f":"AO18/$K$8","v":0},null,null,{"$f":"AR18/$D$8","v":{"$error":"#DIV/0!"}},{"$f":"AS18/$E$8","v":83.07944423718567},{"$f":"AT18/$F$8","v":424.22869700765375},{"$f":"AU18/$G$8","v":836.6600265340755},{"$f":"AV18/$H$8","v":0},{"$f":"AW18/$I$8","v":0},0,{"$f":"AY18/$K$8","v":0},null,null,{"$f":"BB18/$D$8","v":{"$error":"#DIV/0!"}},{"$f":"BC18/$E$8","v":{"$error":"#DIV/0!"}},{"$f":"BD18/$F$8","v":{"$error":"#DIV/0!"}},{"$f":"BE18/$G$8","v":{"$error":"#DIV/0!"}},{"$f":"BF18/$H$8","v":{"$error":"#DIV/0!"}},{"$f":"BG18/$I$8","v":0},0,{"$f":"BI18/$K$8","v":0}]
[null,"2213F A","p+0",{"$f":"'Survivalexp vitmix RAW Feb 2018'!I28","v":{"$error":"#DIV/0!"}},{"$f":"'Survivalexp vitmix RAW Feb 2018'!P28","v":{"$error":"#DIV/0!"}},{"$f":"'Survivalexp vitmix RAW Feb 2018'!W28","v":{"$error":"#DIV/0!"}},{"$f":"'Survivalexp vitmix RAW Feb 2018'!AD28","v":{"$error":"#DIV/0!"}},{"$f":"'Survivalexp vitmix RAW Feb 2018'!AK28","v":{"$error":"#DIV/0!"}},{"$f":"'Survivalexp vitmix RAW Feb 2018'!AR28","v":{"v":44.46666666666666,"d":"44"}},{"$f":"'Survivalexp vitmix RAW Feb 2018'!AY28","v":{"v":4.666666666666667,"d":"5"}},{"$f":"'Survivalexp vitmix RAW Feb 2018'!BF28","v":{"v":0.26666666666666666,"d":"0"}},null,null,{"$f":"'Survivalexp vitmix RAW Feb 2018'!I67","v":{"$error":"#DIV/0!"}},{"$f":"'Survivalexp vitmix RAW Feb 2018'!P67","v":{"$error":"#DIV/0!"}},{"$f":"'Survivalexp vitmix RAW Feb 2018'!W67","v":{"$error":"#DIV/0!"}},{"$f":"'Survivalexp vitmix RAW Feb 2018'!AD67","v":{"v":50.199999999999996,"d":"50"}},{"$f":"'Survivalexp vitmix RAW Feb 2018'!AK67","v":{"v":3.866666666666667,"d":"4"}},{"$f":"'Survivalexp vitmix RAW Feb 2018'!AR67","v":{"v":0.3333333333333333,"d":"0"}},{"$f":"'Survivalexp vitmix RAW Feb 2018'!AY67","v":{"v":0.13333333333333333,"d":"0"}},{"$f":"'Survivalexp vitmix RAW Feb 2018'!BF67","v":0},null,null,{"$f":"'Survivalexp vitmix RAW Feb 2018'!I106","v":{"$error":"#DIV/0!"}},{"$f":"'Survivalexp vitmix RAW Feb 2018'!P106","v":{"v":103.51618666666667,"d":"104"}},{"$f":"'Survivalexp vitmix RAW Feb 2018'!W106","v":{"v":12.606186666666668,"d":"13"}},{"$f":"'Survivalexp vitmix RAW Feb 2018'!AD106","v":{"v":0.9697066666666667,"d":"1"}},{"$f":"'Survivalexp vitmix RAW Feb 2018'!AK106","v":0},{"$f":"'Survivalexp vitmix RAW Feb 2018'!AR106","v":0},{"$f":"'Survivalexp vitmix RAW Feb 2018'!AY106","v":0},{"$f":"'Survivalexp vitmix RAW Feb 2018'!BF106","v":0},null,null,{"$f":"'Survivalexp vitmix RAW Feb 2018'!I145","v":{"$error":"#DIV/0!"}},{"$f":"'Survivalexp vitmix RAW Feb 2018'!P145","v":{"v":44.6,"d":"45"}},{"$f":"'Survivalexp vitmix RAW Feb 2018'!W145","v":{"v":5.933333333333334,"d":"6"}},{"$f":"'Survivalexp vitmix RAW Feb 2018'!AD145","v":{"v":0.4000000000000001,"d":"0"}},{"$f":"'Survivalexp vitmix RAW Feb 2018'!AK145","v":{"v":0.06666666666666667,"d":"0"}},{"$f":"'Survivalexp vitmix RAW Feb 2018'!AR145","v":0},{"$f":"'Survivalexp vitmix RAW Feb 2018'!AY145","v":0},{"$f":"'Survivalexp vitmix RAW Feb 2018'!BF145","v":0},null,null,{"$f":"'Survivalexp vitmix RAW Feb 2018'!I184","v":{"$error":"#DIV/0!"}},{"$f":"'Survivalexp vitmix RAW Feb 2018'!P184","v":{"v":44.800000000000004,"d":"45"}},{"$f":"'Survivalexp vitmix RAW Feb 2018'!W184","v":{"v":5.8,"d":"6"}},{"$f":"'Survivalexp vitmix RAW Feb 2018'!AD184","v":{"v":0.26666666666666666,"d":"0"}},{"$f":"'Survivalexp vitmix RAW Feb 2018'!AK184","v":0},{"$f":"'Survivalexp vitmix RAW Feb 2018'!AR184","v":0},{"$f":"'Survivalexp vitmix RAW Feb 2018'!AY184","v":0},{"$f":"'Survivalexp vitmix RAW Feb 2018'!BF184","v":0},null,null,{"$f":"'Survivalexp vitmix RAW Feb 2018'!I223","v":{"$error":"#DIV/0!"}},{"$f":"'Survivalexp vitmix RAW Feb 2018'!P223","v":{"$error":"#DIV/0!"}},{"$f":"'Survivalexp vitmix RAW Feb 2018'!W223","v":{"$error":"#DIV/0!"}},{"$f":"'Survivalexp vitmix RAW Feb 2018'!AD223","v":{"$error":"#DIV/0!"}},{"$f":"'Survivalexp vitmix RAW Feb 2018'!AK223","v":{"$error":"#DIV/0!"}},{"$f":"'Survivalexp vitmix RAW Feb 2018'!AR223","v":0},{"$f":"'Survivalexp vitmix RAW Feb 2018'!AY223","v":0},{"$f":"'Survivalexp vitmix RAW Feb 2018'!BF223","v":0}]
[null,null,"stdev",{"$f":"'Survivalexp vitmix RAW Feb 2018'!I29","v":{"$error":"#DIV/0!"}},{"$f":"'Survivalexp vitmix RAW Feb 2018'!P29","v":{"$error":"#DIV/0!"}},{"$f":"'Survivalexp vitmix RAW Feb 2018'!W29","v":{"$error":"#DIV/0!"}},{"$f":"'Survivalexp vitmix RAW Feb 2018'!AD29","v":{"$error":"#DIV/0!"}},{"$f":"'Survivalexp vitmix RAW Feb 2018'!AK29","v":{"$error":"#DIV/0!"}},{"$f":"'Survivalexp vitmix RAW Feb 2018'!AR29","v":{"v":14.397582061947821,"d":"14"}},{"$f":"'Survivalexp vitmix RAW Feb 2018'!AY29","v":{"v":4.93702090595752,"d":"5"}},{"$f":"'Survivalexp vitmix RAW Feb 2018'!BF29","v":{"v":1.3416407864998738,"d":"1"}},null,null,{"$f":"'Survivalexp vitmix RAW Feb 2018'!I68","v":{"$error":"#DIV/0!"}},{"$f":"'Survivalexp vitmix RAW Feb 2018'!P68","v":{"$error":"#DIV/0!"}},{"$f":"'Survivalexp vitmix RAW Feb 2018'!W68","v":{"$error":"#DIV/0!"}},{"$f":"'Survivalexp vitmix RAW Feb 2018'!AD68","v":{"v":16.298194353577568,"d":"16"}},{"$f":"'Survivalexp vitmix RAW Feb 2018'!AK68","v":{"v":5.0853745612783365,"d":"5"}},{"$f":"'Survivalexp vitmix RAW Feb 2018'!AR68","v":{"v":1.54265871051029,"d":"2"}},{"$f":"'Survivalexp vitmix RAW Feb 2018'!AY68","v":{"v":0.8944271909999159,"d":"1"}},{"$f":"'Survivalexp vitmix RAW Feb 2018'!BF68","v":0},null,null,{"$f":"'Survivalexp vitmix RAW Feb 2018'!I107","v":{"$error":"#DIV/0!"}},{"$f":"'Survivalexp vitmix RAW Feb 2018'!P107","v":{"v":31.784885924185463,"d":"32"}},{"$f":"'Survivalexp vitmix RAW Feb 2018'!W107","v":{"v":9.782675678059823,"d":"10"}},{"$f":"'Survivalexp vitmix RAW Feb 2018'!AD107","v":{"v":3.512953568356042,"d":"4"}},{"$f":"'Survivalexp vitmix RAW Feb 2018'!AK107","v":0},{"$f":"'Survivalexp vitmix RAW Feb 2018'!AR107","v":0},{"$f":"'Survivalexp vitmix RAW Feb 2018'!AY107","v":0},{"$f":"'Survivalexp vitmix RAW Feb 2018'!BF107","v":0},null,null,{"$f":"'Survivalexp vitmix RAW Feb 2018'!I146","v":{"$error":"#DIV/0!"}},{"$f":"'Survivalexp vitmix RAW Feb 2018'!P146","v":{"v":17.601220427293867,"d":"18"}},{"$f":"'Survivalexp vitmix RAW Feb 2018'!W146","v":{"v":6.466195143405517,"d":"6"}},{"$f":"'Survivalexp vitmix RAW Feb 2018'!AD146","v":{"v":1.9898723060102481,"d":"2"}},{"$f":"'Survivalexp vitmix RAW Feb 2018'!AK146","v":{"v":0.4472135954999579,"d":"0"}},{"$f":"'Survivalexp vitmix RAW Feb 2018'!AR146","v":0},{"$f":"'Survivalexp vitmix RAW Feb 2018'!AY146","v":0},{"$f":"'Survivalexp vitmix RAW Feb 2018'!BF146","v":0},null,null,{"$f":"'Survivalexp vitmix RAW Feb 2018'!I185","v":{"$error":"#DIV/0!"}},{"$f":"'Survivalexp vitmix RAW Feb 2018'!P185","v":{"v":22.170315988445935,"d":"22"}},{"$f":"'Survivalexp vitmix RAW Feb 2018'!W185","v":{"v":5.949111627729533,"d":"6"}},{"$f":"'Survivalexp vitmix RAW Feb 2018'!AD185","v":{"v":1.0954451150103321,"d":"1"}},{"$f":"'Survivalexp vitmix RAW Feb 2018'!AK185","v":0},{"$f":"'Survivalexp vitmix RAW Feb 2018'!AR185","v":0},{"$f":"'Survivalexp vitmix RAW Feb 2018'!AY185","v":0},{"$f":"'Survivalexp vitmix RAW Feb 2018'!BF185","v":0},null,null,{"$f":"'Survivalexp vitmix RAW Feb 2018'!I224","v":{"$error":"#DIV/0!"}},{"$f":"'Survivalexp vitmix RAW Feb 2018'!P224","v":{"$error":"#DIV/0!"}},{"$f":"'Survivalexp vitmix RAW Feb 2018'!W224","v":{"$error":"#DIV/0!"}},{"$f":"'Survivalexp vitmix RAW Feb 2018'!AD224","v":{"$error":"#DIV/0!"}},{"$f":"'Survivalexp vitmix RAW Feb 2018'!AK224","v":{"$error":"#DIV/0!"}},{"$f":"'Survivalexp vitmix RAW Feb 2018'!AR224","v":0},{"$f":"'Survivalexp vitmix RAW Feb 2018'!AY224","v":0},{"$f":"'Survivalexp vitmix RAW Feb 2018'!BF224","v":0}]
[null,"est. nr of bacteria",null,{"$f":"D21/$D$8","v":{"$error":"#DIV/0!"}},{"$f":"E21/$E$8","v":{"$error":"#DIV/0!"}},{"$f":"F21/$F$8","v":{"$error":"#DIV/0!"}},{"$f":"G21/$G$8","v":{"$error":"#DIV/0!"}},{"$f":"H21/$H$8","v":{"$error":"#DIV/0!"}},{"$f":"I21/$I$8","v":4446666.666666666},{"$f":"J21/$J$8","v":4666666.666666667},{"$f":"K21/$K$8","v":2666666.666666667},{"$f":"I23","v":4446666.666666666},{"$f":"I24","v":1439758.206194782},{"$f":"N21/$D$8","v":{"$error":"#DIV/0!"}},{"$f":"O21/$E$8","v":{"$error":"#DIV/0!"}},{"$f":"P21/$F$8","v":{"$error":"#DIV/0!"}},{"$f":"Q21/$G$8","v":50199.99999999999},{"$f":"R21/$H$8","v":38666.66666666667},{"$f":"S21/$I$8","v":33333.33333333333},{"$f":"T21/$J$8","v":133333.33333333334},{"$f":"U21/$K$8","v":0},{"$f":"Q23","v":50199.99999999999},{"$f":"Q24","v":16298.194353577568},{"$f":"X21/$D$8","v":{"$error":"#DIV/0!"}},{"$f":"Y21/$E$8","v":1035.1618666666666},{"$f":"Z21/$F$8","v":1260.6186666666667},{"$f":"AA21/$G$8","v":969.7066666666667},{"$f":"AB21/$H$8","v":0},{"$f":"AC21/$I$8","v":0},{"$f":"AD21/$J$8","v":0},{"$f":"AE21/$K$8","v":0},{"$f":"Y23","v":1035.1618666666666},{"$f":"Y24","v":317.8488592418546},{"$f":"AH21/$D$8","v":{"$error":"#DIV/0!"}},{"$f":"AI21/$E$8","v":446},{"$f":"AJ21/$F$8","v":593.3333333333334},{"$f":"AK21/$G$8","v":400.00000000000006},{"$f":"AL21/$H$8","v":666.6666666666666},{"$f":"AM21/$I$8","v":0},{"$f":"AN21/$J$8","v":0},{"$f":"AO21/$K$8","v":0},{"$f":"AI23","v":446},{"$f":"AI24","v":176.01220427293867},{"$f":"AR21/$D$8","v":{"$error":"#DIV/0!"}},{"$f":"AS21/$E$8","v":448},{"$f":"AT21/$F$8","v":580},{"$f":"AU21/$G$8","v":266.6666666666667},{"$f":"AV21/$H$8","v":0},{"$f":"AW21/$I$8","v":0},{"$f":"AX21/$J$8","v":0},{"$f":"AY21/$K$8","v":0},{"$f":"AS23","v":448},{"$f":"AS24","v":221.70315988445935},{"$f":"BB21/$D$8","v":{"$error":"#DIV/0!"}},{"$f":"BC21/$E$8","v":{"$error":"#DIV/0!"}},{"$f":"BD21/$F$8","v":{"$error":"#DIV/0!"}},{"$f":"BE21/$G$8","v":{"$error":"#DIV/0!"}},{"$f":"BF21/$H$8","v":{"$error":"#DIV/0!"}},{"$f":"BG21/$I$8","v":0},{"$f":"BH21/$J$8","v":0},{"$f":"BI21/$K$8","v":0},{"$f":"BE23","v":{"$error":"#DIV/0!"}},{"$f":"BE24","v":{"$error":"#DIV/0!"}}]
[null,null,"stdev",{"$f":"D22/$D$8","v":{"$error":"#DIV/0!"}},{"$f":"E22/$E$8","v":{"$error":"#DIV/0!"}},{"$f":"F22/$F$8","v":{"$error":"#DIV/0!"}},{"$f":"G22/$G$8","v":{"$error":"#DIV/0!"}},{"$f":"H22/$H$8","v":{"$error":"#DIV/0!"}},{"$f":"I22/$I$8","v":1439758.206194782},{"$f":"J22/$J$8","v":4937020.90595752},{"$f":"K22/$K$8","v":13416407.86499874},null,null,{"$f":"N22/$D$8","v":{"$error":"#DIV/0!"}},{"$f":"O22/$E$8","v":{"$error":"#DIV/0!"}},{"$f":"P22/$F$8","v":{"$error":"#DIV/0!"}},{"$f":"Q22/$G$8","v":16298.194353577568},{"$f":"R22/$H$8","v":50853.745612783365},{"$f":"S22/$I$8","v":154265.87105102898},{"$f":"T22/$J$8","v":894427.1909999159},{"$f":"U22/$K$8","v":0},null,null,{"$f":"X22/$D$8","v":{"$error":"#DIV/0!"}},{"$f":"Y22/$E$8","v":317.8488592418546},{"$f":"Z22/$F$8","v":978.2675678059823},{"$f":"AA22/$G$8","v":3512.9535683560416},{"$f":"AB22/$H$8","v":0},{"$f":"AC22/$I$8","v":0},{"$f":"AD22/$J$8","v":0},{"$f":"AE22/$K$8","v":0},null,null,{"$f":"AH22/$D$8","v":{"$error":"#DIV/0!"}},{"$f":"AI22/$E$8","v":176.01220427293867},{"$f":"AJ22/$F$8","v":646.6195143405516},{"$f":"AK22/$G$8","v":1989.8723060102482},{"$f":"AL22/$H$8","v":4472.135954999579},{"$f":"AM22/$I$8","v":0},{"$f":"AN22/$J$8","v":0},{"$f":"AO22/$K$8","v":0},null,null,{"$f":"AR22/$D$8","v":{"$error":"#DIV/0!"}},{"$f":"AS22/$E$8","v":221.70315988445935},{"$f":"AT22/$F$8","v":594.9111627729533},{"$f":"AU22/$G$8","v":1095.445115010332},{"$f":"AV22/$H$8","v":0},{"$f":"AW22/$I$8","v":0},{"$f":"AX22/$J$8","v":0},{"$f":"AY22/$K$8","v":0},null,null,{"$f":"BB22/$D$8","v":{"$error":"#DIV/0!"}},{"$f":"BC22/$E$8","v":{"$error":"#DIV/0!"}},{"$f":"BD22/$F$8","v":{"$error":"#DIV/0!"}},{"$f":"BE22/$G$8","v":{"$error":"#DIV/0!"}},{"$f":"BF22/$H$8","v":{"$error":"#DIV/0!"}},{"$f":"BG22/$I$8","v":0},{"$f":"BH22/$J$8","v":0},{"$f":"BI22/$K$8","v":0}]
[null,null,"p+3",{"$f":"'Survivalexp vitmix RAW Feb 2018'!I33","v":{"$error":"#DIV/0!"}},{"$f":"'Survivalexp vitmix RAW Feb 2018'!P33","v":{"$error":"#DIV/0!"}},{"$f":"'Survivalexp vitmix RAW Feb 2018'!W33","v":{"$error":"#DIV/0!"}},{"$f":"'Survivalexp vitmix RAW Feb 2018'!AD33","v":{"$error":"#DIV/0!"}},{"$f":"'Survivalexp vitmix RAW Feb 2018'!AK33","v":{"$error":"#DIV/0!"}},{"$f":"'Survivalexp vitmix RAW Feb 2018'!AR33","v":{"v":46.4,"d":"46"}},{"$f":"'Survivalexp vitmix RAW Feb 2018'!AY33","v":{"v":5.6000000000000005,"d":"6"}},{"$f":"'Survivalexp vitmix RAW Feb 2018'!BF33","v":{"v":0.4000000000000001,"d":"0"}},null,null,{"$f":"'Survivalexp vitmix RAW Feb 2018'!I72","v":{"$error":"#DIV/0!"}},{"$f":"'Survivalexp vitmix RAW Feb 2018'!P72","v":{"$error":"#DIV/0!"}},{"$f":"'Survivalexp vitmix RAW Feb 2018'!W72","v":{"$error":"#DIV/0!"}},{"$f":"'Survivalexp vitmix RAW Feb 2018'!AD72","v":{"v":40.06666666666667,"d":"40"}},{"$f":"'Survivalexp vitmix RAW Feb 2018'!AK72","v":{"v":4.333333333333333,"d":"4"}},{"$f":"'Survivalexp vitmix RAW Feb 2018'!AR72","v":{"v":0.6666666666666666,"d":"1"}},{"$f":"'Survivalexp vitmix RAW Feb 2018'!AY72","v":0},{"$f":"'Survivalexp vitmix RAW Feb 2018'!BF72","v":0},null,null,{"$f":"'Survivalexp vitmix RAW Feb 2018'!I111","v":{"$error":"#DIV/0!"}},{"$f":"'Survivalexp vitmix RAW Feb 2018'!P111","v":{"v":65.33398666666666,"d":"65"}},{"$f":"'Survivalexp vitmix RAW Feb 2018'!W111","v":{"v":5.4546,"d":"5"}},{"$f":"'Survivalexp vitmix RAW Feb 2018'!AD111","v":{"v":0.9697066666666667,"d":"1"}},{"$f":"'Survivalexp vitmix RAW Feb 2018'!AK111","v":0},{"$f":"'Survivalexp vitmix RAW Feb 2018'!AR111","v":0},{"$f":"'Survivalexp vitmix RAW Feb 2018'!AY111","v":0},{"$f":"'Survivalexp vitmix RAW Feb 2018'!BF111","v":0},null,null,{"$f":"'Survivalexp vitmix RAW Feb 2018'!I150","v":{"$error":"#DIV/0!"}},{"$f":"'Survivalexp vitmix RAW Feb 2018'!P150","v":{"v":33.86666666666667,"d":"34"}},{"$f":"'Survivalexp vitmix RAW Feb 2018'!W150","v":{"v":4.666666666666667,"d":"5"}},{"$f":"'Survivalexp vitmix RAW Feb 2018'!AD150","v":{"v":0.46666666666666673,"d":"0"}},{"$f":"'Survivalexp vitmix RAW Feb 2018'!AK150","v":{"v":0.06666666666666667,"d":"0"}},{"$f":"'Survivalexp vitmix RAW Feb 2018'!AR150","v":0},{"$f":"'Survivalexp vitmix RAW Feb 2018'!AY150","v":0},{"$f":"'Survivalexp vitmix RAW Feb 2018'!BF150","v":0},null,null,{"$f":"'Survivalexp vitmix RAW Feb 2018'!I189","v":{"$error":"#DIV/0!"}},{"$f":"'Survivalexp vitmix RAW Feb 2018'!P189","v":{"v":28.066666666666666,"d":"28"}},{"$f":"'Survivalexp vitmix RAW Feb 2018'!W189","v":{"v":3.6,"d":"4"}},{"$f":"'Survivalexp vitmix RAW Feb 2018'!AD189","v":{"v":0.4000000000000001,"d":"0"}},{"$f":"'Survivalexp vitmix RAW Feb 2018'!AK189","v":0},{"$f":"'Survivalexp vitmix RAW Feb 2018'!AR189","v":0},{"$f":"'Survivalexp vitmix RAW Feb 2018'!AY189","v":0},{"$f":"'Survivalexp vitmix RAW Feb 2018'!BF189","v":0},null,null,{"$f":"'Survivalexp vitmix RAW Feb 2018'!I228","v":{"$error":"#DIV/0!"}},{"$f":"'Survivalexp vitmix RAW Feb 2018'!P228","v":{"$error":"#DIV/0!"}},{"$f":"'Survivalexp vitmix RAW Feb 2018'!W228","v":{"$error":"#DIV/0!"}},{"$f":"'Survivalexp vitmix RAW Feb 2018'!AD228","v":{"$error":"#DIV/0!"}},{"$f":"'Survivalexp vitmix RAW Feb 2018'!AK228","v":{"$error":"#DIV/0!"}},{"$f":"'Survivalexp vitmix RAW Feb 2018'!AR228","v":0},{"$f":"'Survivalexp vitmix RAW Feb 2018'!AY228","v":0},{"$f":"'Survivalexp vitmix RAW Feb 2018'!BF228","v":0}]
[null,null,"stdev",{"$f":"'Survivalexp vitmix RAW Feb 2018'!I34","v":{"$error":"#DIV/0!"}},{"$f":"'Survivalexp vitmix RAW Feb 2018'!P34","v":{"$error":"#DIV/0!"}},{"$f":"'Survivalexp vitmix RAW Feb 2018'!W34","v":{"$error":"#DIV/0!"}},{"$f":"'Survivalexp vitmix RAW Feb 2018'!AD34","v":{"$error":"#DIV/0!"}},{"$f":"'Survivalexp vitmix RAW Feb 2018'!AK34","v":{"$error":"#DIV/0!"}},{"$f":"'Survivalexp vitmix RAW Feb 2018'!AR34","v":{"v":16.376954866343883,"d":"16"}},{"$f":"'Survivalexp vitmix RAW Feb 2018'!AY34","v":{"v":7.302376072574026,"d":"7"}},{"$f":"'Survivalexp vitmix RAW Feb 2018'!BF34","v":{"v":1.3843825840392416,"d":"1"}},null,null,{"$f":"'Survivalexp vitmix RAW Feb 2018'!I73","v":{"$error":"#DIV/0!"}},{"$f":"'Survivalexp vitmix RAW Feb 2018'!P73","v":{"$error":"#DIV/0!"}},{"$f":"'Survivalexp vitmix RAW Feb 2018'!W73","v":{"$error":"#DIV/0!"}},{"$f":"'Survivalexp vitmix RAW Feb 2018'!AD73","v":{"v":9.310585136382546,"d":"9"}},{"$f":"'Survivalexp vitmix RAW Feb 2018'!AK73","v":{"v":4.308703275782424,"d":"4"}},{"$f":"'Survivalexp vitmix RAW Feb 2018'!AR73","v":{"v":2.6454812675404034,"d":"3"}},{"$f":"'Survivalexp vitmix RAW Feb 2018'!AY73","v":0},{"$f":"'Survivalexp vitmix RAW Feb 2018'!BF73","v":0},null,null,{"$f":"'Survivalexp vitmix RAW Feb 2018'!I112","v":{"$error":"#DIV/0!"}},{"$f":"'Survivalexp vitmix RAW Feb 2018'!P112","v":{"v":30.051838018381865,"d":"30"}},{"$f":"'Survivalexp vitmix RAW Feb 2018'!W112","v":{"v":8.36259832212158,"d":"8"}},{"$f":"'Survivalexp vitmix RAW Feb 2018'!AD112","v":{"v":4.035824038558104,"d":"4"}},{"$f":"'Survivalexp vitmix RAW Feb 2018'!AK112","v":0},{"$f":"'Survivalexp vitmix RAW Feb 2018'!AR112","v":0},{"$f":"'Survivalexp vitmix RAW Feb 2018'!AY112","v":0},{"$f":"'Survivalexp vitmix RAW Feb 2018'!BF112","v":0},null,null,{"$f":"'Survivalexp vitmix RAW Feb 2018'!I151","v":{"$error":"#DIV/0!"}},{"$f":"'Survivalexp vitmix RAW Feb 2018'!P151","v":{"v":23.841206712926738,"d":"24"}},{"$f":"'Survivalexp vitmix RAW Feb 2018'!W151","v":{"v":6.592743913266024,"d":"7"}},{"$f":"'Survivalexp vitmix RAW Feb 2018'!AD151","v":{"v":1.8315961795391995,"d":"2"}},{"$f":"'Survivalexp vitmix RAW Feb 2018'!AK151","v":{"v":0.4472135954999579,"d":"0"}},{"$f":"'Survivalexp vitmix RAW Feb 2018'!AR151","v":0},{"$f":"'Survivalexp vitmix RAW Feb 2018'!AY151","v":0},{"$f":"'Survivalexp vitmix RAW Feb 2018'!BF151","v":0},null,null,{"$f":"'Survivalexp vitmix RAW Feb 2018'!I190","v":{"$error":"#DIV/0!"}},{"$f":"'Survivalexp vitmix RAW Feb 2018'!P190","v":{"v":15.171722064897288,"d":"15"}},{"$f":"'Survivalexp vitmix RAW Feb 2018'!W190","v":{"v":3.0853174210205787,"d":"3"}},{"$f":"'Survivalexp vitmix RAW Feb 2018'!AD190","v":{"v":1.54265871051029,"d":"2"}},{"$f":"'Survivalexp vitmix RAW Feb 2018'!AK190","v":0},{"$f":"'Survivalexp vitmix RAW Feb 2018'!AR190","v":0},{"$f":"'Survivalexp vitmix RAW Feb 2018'!AY190","v":0},{"$f":"'Survivalexp vitmix RAW Feb 2018'!BF190","v":0},null,null,{"$f":"'Survivalexp vitmix RAW Feb 2018'!I229","v":{"$error":"#DIV/0!"}},{"$f":"'Survivalexp vitmix RAW Feb 2018'!P229","v":{"$error":"#DIV/0!"}},{"$f":"'Survivalexp vitmix RAW Feb 2018'!W229","v":{"$error":"#DIV/0!"}},{"$f":"'Survivalexp vitmix RAW Feb 2018'!AD229","v":{"$error":"#DIV/0!"}},{"$f":"'Survivalexp vitmix RAW Feb 2018'!AK229","v":{"$error":"#DIV/0!"}},{"$f":"'Survivalexp vitmix RAW Feb 2018'!AR229","v":0},{"$f":"'Survivalexp vitmix RAW Feb 2018'!AY229","v":0},{"$f":"'Survivalexp vitmix RAW Feb 2018'!BF229","v":0}]
[null,"est. nr of bacteria",null,{"$f":"D25/$D$8","v":{"$error":"#DIV/0!"}},{"$f":"E25/$E$8","v":{"$error":"#DIV/0!"}},{"$f":"F25/$F$8","v":{"$error":"#DIV/0!"}},{"$f":"G25/$G$8","v":{"$error":"#DIV/0!"}},{"$f":"H25/$H$8","v":{"$error":"#DIV/0!"}},{"$f":"I25/$I$8","v":4639999.999999999},{"$f":"J25/$J$8","v":5600000.000000001},{"$f":"K25/$K$8","v":4000000.000000001},{"$f":"I27","v":4639999.999999999},{"$f":"I28","v":1637695.486634388},{"$f":"N25/$D$8","v":{"$error":"#DIV/0!"}},{"$f":"O25/$E$8","v":{"$error":"#DIV/0!"}},{"$f":"P25/$F$8","v":{"$error":"#DIV/0!"}},{"$f":"Q25/$G$8","v":40066.66666666667},{"$f":"R25/$H$8","v":43333.33333333333},{"$f":"S25/$I$8","v":66666.66666666666},{"$f":"T25/$J$8","v":0},{"$f":"U25/$K$8","v":0},{"$f":"Q27","v":40066.66666666667},{"$f":"Q28","v":9310.585136382546},{"$f":"X25/$D$8","v":{"$error":"#DIV/0!"}},{"$f":"Y25/$E$8","v":653.3398666666666},{"$f":"Z25/$F$8","v":545.46},{"$f":"AA25/$G$8","v":969.7066666666667},{"$f":"AB25/$H$8","v":0},{"$f":"AC25/$I$8","v":0},{"$f":"AD25/$J$8","v":0},{"$f":"AE25/$K$8","v":0},{"$f":"Y27","v":653.3398666666666},{"$f":"Y28","v":300.51838018381864},{"$f":"AH25/$D$8","v":{"$error":"#DIV/0!"}},{"$f":"AI25/$E$8","v":338.66666666666663},{"$f":"AJ25/$F$8","v":466.6666666666667},{"$f":"AK25/$G$8","v":466.66666666666674},{"$f":"AL25/$H$8","v":666.6666666666666},{"$f":"AM25/$I$8","v":0},{"$f":"AN25/$J$8","v":0},{"$f":"AO25/$K$8","v":0},{"$f":"AI27","v":338.66666666666663},{"$f":"AI28","v":238.41206712926737},{"$f":"AR25/$D$8","v":{"$error":"#DIV/0!"}},{"$f":"AS25/$E$8","v":280.66666666666663},{"$f":"AT25/$F$8","v":360},{"$f":"AU25/$G$8","v":400.00000000000006},{"$f":"AV25/$H$8","v":0},{"$f":"AW25/$I$8","v":0},{"$f":"AX25/$J$8","v":0},{"$f":"AY25/$K$8","v":0},{"$f":"AS27","v":280.66666666666663},{"$f":"AS28","v":151.71722064897287},{"$f":"BB25/$D$8","v":{"$error":"#DIV/0!"}},{"$f":"BC25/$E$8","v":{"$error":"#DIV/0!"}},{"$f":"BD25/$F$8","v":{"$error":"#DIV/0!"}},{"$f":"BE25/$G$8","v":{"$error":"#DIV/0!"}},{"$f":"BF25/$H$8","v":{"$error":"#DIV/0!"}},{"$f":"BG25/$I$8","v":0},{"$f":"BH25/$J$8","v":0},{"$f":"BI25/$K$8","v":0},{"$f":"BE27","v":{"$error":"#DIV/0!"}},{"$f":"BE28","v":{"$error":"#DIV/0!"}}]
[null,null,"stdev",{"$f":"D26/$D$8","v":{"$error":"#DIV/0!"}},{"$f":"E26/$E$8","v":{"$error":"#DIV/0!"}},{"$f":"F26/$F$8","v":{"$error":"#DIV/0!"}},{"$f":"G26/$G$8","v":{"$error":"#DIV/0!"}},{"$f":"H26/$H$8","v":{"$error":"#DIV/0!"}},{"$f":"I26/$I$8","v":1637695.486634388},{"$f":"J26/$J$8","v":7302376.072574026},{"$f":"K26/$K$8","v":13843825.840392416},null,null,{"$f":"N26/$D$8","v":{"$error":"#DIV/0!"}},{"$f":"O26/$E$8","v":{"$error":"#DIV/0!"}},{"$f":"P26/$F$8","v":{"$error":"#DIV/0!"}},{"$f":"Q26/$G$8","v":9310.585136382546},{"$f":"R26/$H$8","v":43087.032757824236},{"$f":"S26/$I$8","v":264548.1267540403},{"$f":"T26/$J$8","v":0},{"$f":"U26/$K$8","v":0},null,null,{"$f":"X26/$D$8","v":{"$error":"#DIV/0!"}},{"$f":"Y26/$E$8","v":300.51838018381864},{"$f":"Z26/$F$8","v":836.2598322121579},{"$f":"AA26/$G$8","v":4035.824038558104},{"$f":"AB26/$H$8","v":0},{"$f":"AC26/$I$8","v":0},{"$f":"AD26/$J$8","v":0},{"$f":"AE26/$K$8","v":0},null,null,{"$f":"AH26/$D$8","v":{"$error":"#DIV/0!"}},{"$f":"AI26/$E$8","v":238.41206712926737},{"$f":"AJ26/$F$8","v":659.2743913266024},{"$f":"AK26/$G$8","v":1831.5961795391995},{"$f":"AL26/$H$8","v":4472.135954999579},{"$f":"AM26/$I$8","v":0},{"$f":"AN26/$J$8","v":0},{"$f":"AO26/$K$8","v":0},null,null,{"$f":"AR26/$D$8","v":{"$error":"#DIV/0!"}},{"$f":"AS26/$E$8","v":151.71722064897287},{"$f":"AT26/$F$8","v":308.5317421020579},{"$f":"AU26/$G$8","v":1542.65871051029},{"$f":"AV26/$H$8","v":0},{"$f":"AW26/$I$8","v":0},{"$f":"AX26/$J$8","v":0},{"$f":"AY26/$K$8","v":0},null,null,{"$f":"BB26/$D$8","v":{"$error":"#DIV/0!"}},{"$f":"BC26/$E$8","v":{"$error":"#DIV/0!"}},{"$f":"BD26/$F$8","v":{"$error":"#DIV/0!"}},{"$f":"BE26/$G$8","v":{"$error":"#DIV/0!"}},{"$f":"BF26/$H$8","v":{"$error":"#DIV/0!"}},{"$f":"BG26/$I$8","v":0},{"$f":"BH26/$J$8","v":0},{"$f":"BI26/$K$8","v":0}]
[null,"2213F APR","p+0",{"$f":"'Survivalexp vitmix RAW Feb 2018'!I38","v":{"$error":"#DIV/0!"}},{"$f":"'Survivalexp vitmix RAW Feb 2018'!P38","v":{"$error":"#DIV/0!"}},{"$f":"'Survivalexp vitmix RAW Feb 2018'!W38","v":{"$error":"#DIV/0!"}},{"$f":"'Survivalexp vitmix RAW Feb 2018'!AD38","v":{"$error":"#DIV/0!"}},{"$f":"'Survivalexp vitmix RAW Feb 2018'!AK38","v":{"$error":"#DIV/0!"}},{"$f":"'Survivalexp vitmix RAW Feb 2018'!AR38","v":{"v":51.26666666666667,"d":"51"}},{"$f":"'Survivalexp vitmix RAW Feb 2018'!AY38","v":{"v":6.066666666666666,"d":"6"}},{"$f":"'Survivalexp vitmix RAW Feb 2018'!BF38","v":{"v":0.5333333333333333,"d":"1"}},null,null,{"$f":"'Survivalexp vitmix RAW Feb 2018'!I77","v":{"$error":"#DIV/0!"}},{"$f":"'Survivalexp vitmix RAW Feb 2018'!P77","v":{"$error":"#DIV/0!"}},{"$f":"'Survivalexp vitmix RAW Feb 2018'!W77","v":{"$error":"#DIV/0!"}},{"$f":"'Survivalexp vitmix RAW Feb 2018'!AD77","v":{"$error":"#DIV/0!"}},{"$f":"'Survivalexp vitmix RAW Feb 2018'!AK77","v":{"v":42.46666666666666,"d":"42"}},{"$f":"'Survivalexp vitmix RAW Feb 2018'!AR77","v":{"v":4.866666666666667,"d":"5"}},{"$f":"'Survivalexp vitmix RAW Feb 2018'!AY77","v":{"v":0.4666666666666666,"d":"0"}},{"$f":"'Survivalexp vitmix RAW Feb 2018'!BF77","v":{"v":0.13333333333333333,"d":"0"}},null,null,{"$f":"'Survivalexp vitmix RAW Feb 2018'!I116","v":{"$error":"#DIV/0!"}},{"$f":"'Survivalexp vitmix RAW Feb 2018'!P116","v":{"$error":"#DIV/0!"}},{"$f":"'Survivalexp vitmix RAW Feb 2018'!W116","v":{"v":25.69722666666667,"d":"26"}},{"$f":"'Survivalexp vitmix RAW Feb 2018'!AD116","v":{"v":2.3030533333333336,"d":"2"}},{"$f":"'Survivalexp vitmix RAW Feb 2018'!AK116","v":0},{"$f":"'Survivalexp vitmix RAW Feb 2018'!AR116","v":0},{"$f":"'Survivalexp vitmix RAW Feb 2018'!AY116","v":0},{"$f":"'Survivalexp vitmix RAW Feb 2018'!BF116","v":0},null,null,{"$f":"'Survivalexp vitmix RAW Feb 2018'!I155","v":{"$error":"#DIV/0!"}},{"$f":"'Survivalexp vitmix RAW Feb 2018'!P155","v":{"v":55.666666666666664,"d":"56"}},{"$f":"'Survivalexp vitmix RAW Feb 2018'!W155","v":{"v":7.466666666666668,"d":"7"}},{"$f":"'Survivalexp vitmix RAW Feb 2018'!AD155","v":{"v":0.4666666666666666,"d":"0"}},{"$f":"'Survivalexp vitmix RAW Feb 2018'!AK155","v":0},{"$f":"'Survivalexp vitmix RAW Feb 2018'!AR155","v":0},{"$f":"'Survivalexp vitmix RAW Feb 2018'!AY155","v":0},{"$f":"'Survivalexp vitmix RAW Feb 2018'!BF155","v":0},null,null,{"$f":"'Survivalexp vitmix RAW Feb 2018'!I194","v":{"$error":"#DIV/0!"}},{"$f":"'Survivalexp vitmix RAW Feb 2018'!P194","v":32},{"$f":"'Survivalexp vitmix RAW Feb 2018'!W194","v":{"v":4.666666666666667,"d":"5"}},{"$f":"'Survivalexp vitmix RAW Feb 2018'!AD194","v":{"v":0.4666666666666666,"d":"0"}},{"$f":"'Survivalexp vitmix RAW Feb 2018'!AK194","v":0},{"$f":"'Survivalexp vitmix RAW Feb 2018'!AR194","v":0},{"$f":"'Survivalexp vitmix RAW Feb 2018'!AY194","v":0},{"$f":"'Survivalexp vitmix RAW Feb 2018'!BF194","v":0},null,null,{"$f":"'Survivalexp vitmix RAW Feb 2018'!I233","v":{"$error":"#DIV/0!"}},{"$f":"'Survivalexp vitmix RAW Feb 2018'!P233","v":{"$error":"#DIV/0!"}},{"$f":"'Survivalexp vitmix RAW Feb 2018'!W233","v":{"$error":"#DIV/0!"}},{"$f":"'Survivalexp vitmix RAW Feb 2018'!AD233","v":{"$error":"#DIV/0!"}},{"$f":"'Survivalexp vitmix RAW Feb 2018'!AK233","v":{"$error":"#DIV/0!"}},{"$f":"'Survivalexp vitmix RAW Feb 2018'!AR233","v":0},{"$f":"'Survivalexp vitmix RAW Feb 2018'!AY233","v":0},{"$f":"'Survivalexp vitmix RAW Feb 2018'!BF233","v":0}]
[null,null,"stdev",{"$f":"'Survivalexp vitmix RAW Feb 2018'!I39","v":{"$error":"#DIV/0!"}},{"$f":"'Survivalexp vitmix RAW Feb 2018'!P39","v":{"$error":"#DIV/0!"}},{"$f":"'Survivalexp vitmix RAW Feb 2018'!W39","v":{"$error":"#DIV/0!"}},{"$f":"'Survivalexp vitmix RAW Feb 2018'!AD39","v":{"$error":"#DIV/0!"}},{"$f":"'Survivalexp vitmix RAW Feb 2018'!AK39","v":{"$error":"#DIV/0!"}},{"$f":"'Survivalexp vitmix RAW Feb 2018'!AR39","v":{"v":16.873228287625423,"d":"17"}},{"$f":"'Survivalexp vitmix RAW Feb 2018'!AY39","v":{"v":8.479854582717975,"d":"8"}},{"$f":"'Survivalexp vitmix RAW Feb 2018'!BF39","v":{"v":2.336576939504998,"d":"2"}},null,null,{"$f":"'Survivalexp vitmix RAW Feb 2018'!I78","v":{"$error":"#DIV/0!"}},{"$f":"'Survivalexp vitmix RAW Feb 2018'!P78","v":{"$error":"#DIV/0!"}},{"$f":"'Survivalexp vitmix RAW Feb 2018'!W78","v":{"$error":"#DIV/0!"}},{"$f":"'Survivalexp vitmix RAW Feb 2018'!AD78","v":{"$error":"#DIV/0!"}},{"$f":"'Survivalexp vitmix RAW Feb 2018'!AK78","v":{"v":20.342533420103553,"d":"20"}},{"$f":"'Survivalexp vitmix RAW Feb 2018'!AR78","v":{"v":4.787080178459663,"d":"5"}},{"$f":"'Survivalexp vitmix RAW Feb 2018'!AY78","v":{"v":2.336576939504998,"d":"2"}},{"$f":"'Survivalexp vitmix RAW Feb 2018'!BF78","v":{"v":0.5477225575051661,"d":"1"}},null,null,{"$f":"'Survivalexp vitmix RAW Feb 2018'!I117","v":{"$error":"#DIV/0!"}},{"$f":"'Survivalexp vitmix RAW Feb 2018'!P117","v":{"$error":"#DIV/0!"}},{"$f":"'Survivalexp vitmix RAW Feb 2018'!W117","v":{"v":12.44717312019192,"d":"12"}},{"$f":"'Survivalexp vitmix RAW Feb 2018'!AD117","v":{"v":6.687735469422058,"d":"7"}},{"$f":"'Survivalexp vitmix RAW Feb 2018'!AK117","v":0},{"$f":"'Survivalexp vitmix RAW Feb 2018'!AR117","v":0},{"$f":"'Survivalexp vitmix RAW Feb 2018'!AY117","v":0},{"$f":"'Survivalexp vitmix RAW Feb 2018'!BF117","v":0},null,null,{"$f":"'Survivalexp vitmix RAW Feb 2018'!I156","v":{"$error":"#DIV/0!"}},{"$f":"'Survivalexp vitmix RAW Feb 2018'!P156","v":{"v":14.485907565593182,"d":"14"}},{"$f":"'Survivalexp vitmix RAW Feb 2018'!W156","v":{"v":8.509103882367942,"d":"9"}},{"$f":"'Survivalexp vitmix RAW Feb 2018'!AD156","v":{"v":2.308640753373011,"d":"2"}},{"$f":"'Survivalexp vitmix RAW Feb 2018'!AK156","v":0},{"$f":"'Survivalexp vitmix RAW Feb 2018'!AR156","v":0},{"$f":"'Survivalexp vitmix RAW Feb 2018'!AY156","v":0},{"$f":"'Survivalexp vitmix RAW Feb 2018'!BF156","v":0},null,null,{"$f":"'Survivalexp vitmix RAW Feb 2018'!I195","v":{"$error":"#DIV/0!"}},{"$f":"'Survivalexp vitmix RAW Feb 2018'!P195","v":{"v":14.795750226121495,"d":"15"}},{"$f":"'Survivalexp vitmix RAW Feb 2018'!W195","v":{"v":5.284316097284232,"d":"5"}},{"$f":"'Survivalexp vitmix RAW Feb 2018'!AD195","v":{"v":0.8944271909999157,"d":"1"}},{"$f":"'Survivalexp vitmix RAW Feb 2018'!AK195","v":0},{"$f":"'Survivalexp vitmix RAW Feb 2018'!AR195","v":0},{"$f":"'Survivalexp vitmix RAW Feb 2018'!AY195","v":0},{"$f":"'Survivalexp vitmix RAW Feb 2018'!BF195","v":0},null,null,{"$f":"'Survivalexp vitmix RAW Feb 2018'!I234","v":{"$error":"#DIV/0!"}},{"$f":"'Survivalexp vitmix RAW Feb 2018'!P234","v":{"$error":"#DIV/0!"}},{"$f":"'Survivalexp vitmix RAW Feb 2018'!W234","v":{"$error":"#DIV/0!"}},{"$f":"'Survivalexp vitmix RAW Feb 2018'!AD234","v":{"$error":"#DIV/0!"}},{"$f":"'Survivalexp vitmix RAW Feb 2018'!AK234","v":{"$error":"#DIV/0!"}},{"$f":"'Survivalexp vitmix RAW Feb 2018'!AR234","v":0},{"$f":"'Survivalexp vitmix RAW Feb 2018'!AY234","v":0},{"$f":"'Survivalexp vitmix RAW Feb 2018'!BF234","v":0}]
[null,"est. nr of bacteria",null,{"$f":"D29/$D$8","v":{"$error":"#DIV/0!"}},{"$f":"E29/$E$8","v":{"$error":"#DIV/0!"}},{"$f":"F29/$F$8","v":{"$error":"#DIV/0!"}},{"$f":"G29/$G$8","v":{"$error":"#DIV/0!"}},{"$f":"H29/$H$8","v":{"$error":"#DIV/0!"}},{"$f":"I29/$I$8","v":5126666.666666667},{"$f":"J29/$J$8","v":6066666.666666667},{"$f":"K29/$K$8","v":5333333.333333334},{"$f":"I31","v":5126666.666666667},{"$f":"I32","v":1687322.8287625422},{"$f":"N29/$D$8","v":{"$error":"#DIV/0!"}},{"$f":"O29/$E$8","v":{"$error":"#DIV/0!"}},{"$f":"P29/$F$8","v":{"$error":"#DIV/0!"}},{"$f":"Q29/$G$8","v":{"$error":"#DIV/0!"}},{"$f":"R29/$H$8","v":424666.66666666657},{"$f":"S29/$I$8","v":486666.6666666667},{"$f":"T29/$J$8","v":466666.6666666666},{"$f":"U29/$K$8","v":1333333.3333333335},{"$f":"R31","v":424666.66666666657},{"$f":"R32","v":203425.33420103553},{"$f":"X29/$D$8","v":{"$error":"#DIV/0!"}},{"$f":"Y29/$E$8","v":{"$error":"#DIV/0!"}},{"$f":"Z29/$F$8","v":2569.722666666667},{"$f":"AA29/$G$8","v":2303.0533333333337},{"$f":"AB29/$H$8","v":0},{"$f":"AC29/$I$8","v":0},{"$f":"AD29/$J$8","v":0},{"$f":"AE29/$K$8","v":0},{"$f":"Z31","v":2569.722666666667},{"$f":"Z32","v":1244.717312019192},{"$f":"AH29/$D$8","v":{"$error":"#DIV/0!"}},{"$f":"AI29/$E$8","v":556.6666666666666},{"$f":"AJ29/$F$8","v":746.6666666666667},{"$f":"AK29/$G$8","v":466.66666666666663},{"$f":"AL29/$H$8","v":0},{"$f":"AM29/$I$8","v":0},{"$f":"AN29/$J$8","v":0},{"$f":"AO29/$K$8","v":0},{"$f":"AI31","v":556.6666666666666},{"$f":"AI32","v":144.8590756559318},{"$f":"AR29/$D$8","v":{"$error":"#DIV/0!"}},{"$f":"AS29/$E$8","v":320},{"$f":"AT29/$F$8","v":466.6666666666667},{"$f":"AU29/$G$8","v":466.66666666666663},{"$f":"AV29/$H$8","v":0},{"$f":"AW29/$I$8","v":0},{"$f":"AX29/$J$8","v":0},{"$f":"AY29/$K$8","v":0},{"$f":"AS31","v":320},{"$f":"AS32","v":147.95750226121493},{"$f":"BB29/$D$8","v":{"$error":"#DIV/0!"}},{"$f":"BC29/$E$8","v":{"$error":"#DIV/0!"}},{"$f":"BD29/$F$8","v":{"$error":"#DIV/0!"}},{"$f":"BE29/$G$8","v":{"$error":"#DIV/0!"}},{"$f":"BF29/$H$8","v":{"$error":"#DIV/0!"}},{"$f":"BG29/$I$8","v":0},{"$f":"BH29/$J$8","v":0},{"$f":"BI29/$K$8","v":0},{"$f":"BE31","v":{"$error":"#DIV/0!"}},{"$f":"BE32","v":{"$error":"#DIV/0!"}}]
[null,null,"stdev",{"$f":"D30/$D$8","v":{"$error":"#DIV/0!"}},{"$f":"E30/$E$8","v":{"$error":"#DIV/0!"}},{"$f":"F30/$F$8","v":{"$error":"#DIV/0!"}},{"$f":"G30/$G$8","v":{"$error":"#DIV/0!"}},{"$f":"H30/$H$8","v":{"$error":"#DIV/0!"}},{"$f":"I30/$I$8","v":1687322.8287625422},{"$f":"J30/$J$8","v":8479854.582717976},{"$f":"K30/$K$8","v":23365769.395049978},null,null,{"$f":"N30/$D$8","v":{"$error":"#DIV/0!"}},{"$f":"O30/$E$8","v":{"$error":"#DIV/0!"}},{"$f":"P30/$F$8","v":{"$error":"#DIV/0!"}},{"$f":"Q30/$G$8","v":{"$error":"#DIV/0!"}},{"$f":"R30/$H$8","v":203425.33420103553},{"$f":"S30/$I$8","v":478708.0178459662},{"$f":"T30/$J$8","v":2336576.939504998},{"$f":"U30/$K$8","v":5477225.575051661},null,null,{"$f":"X30/$D$8","v":{"$error":"#DIV/0!"}},{"$f":"Y30/$E$8","v":{"$error":"#DIV/0!"}},{"$f":"Z30/$F$8","v":1244.717312019192},{"$f":"AA30/$G$8","v":6687.735469422058},{"$f":"AB30/$H$8","v":0},{"$f":"AC30/$I$8","v":0},{"$f":"AD30/$J$8","v":0},{"$f":"AE30/$K$8","v":0},null,null,{"$f":"AH30/$D$8","v":{"$error":"#DIV/0!"}},{"$f":"AI30/$E$8","v":144.8590756559318},{"$f":"AJ30/$F$8","v":850.9103882367941},{"$f":"AK30/$G$8","v":2308.640753373011},{"$f":"AL30/$H$8","v":0},{"$f":"AM30/$I$8","v":0},{"$f":"AN30/$J$8","v":0},{"$f":"AO30/$K$8","v":0},null,null,{"$f":"AR30/$D$8","v":{"$error":"#DIV/0!"}},{"$f":"AS30/$E$8","v":147.95750226121493},{"$f":"AT30/$F$8","v":528.4316097284232},{"$f":"AU30/$G$8","v":894.4271909999158},{"$f":"AV30/$H$8","v":0},{"$f":"AW30/$I$8","v":0},{"$f":"AX30/$J$8","v":0},{"$f":"AY30/$K$8","v":0},null,null,{"$f":"BB30/$D$8","v":{"$error":"#DIV/0!"}},{"$f":"BC30/$E$8","v":{"$error":"#DIV/0!"}},{"$f":"BD30/$F$8","v":{"$error":"#DIV/0!"}},{"$f":"BE30/$G$8","v":{"$error":"#DIV/0!"}},{"$f":"BF30/$H$8","v":{"$error":"#DIV/0!"}},{"$f":"BG30/$I$8","v":0},{"$f":"BH30/$J$8","v":0},{"$f":"BI30/$K$8","v":0}]
[null,null,"p+3",{"$f":"'Survivalexp vitmix RAW Feb 2018'!I43","v":{"$error":"#DIV/0!"}},{"$f":"'Survivalexp vitmix RAW Feb 2018'!P43","v":{"$error":"#DIV/0!"}},{"$f":"'Survivalexp vitmix RAW Feb 2018'!W43","v":{"$error":"#DIV/0!"}},{"$f":"'Survivalexp vitmix RAW Feb 2018'!AD43","v":{"$error":"#DIV/0!"}},{"$f":"'Survivalexp vitmix RAW Feb 2018'!AK43","v":{"$error":"#DIV/0!"}},{"$f":"'Survivalexp vitmix RAW Feb 2018'!AR43","v":{"v":64.39999999999999,"d":"64"}},{"$f":"'Survivalexp vitmix RAW Feb 2018'!AY43","v":{"v":9.133333333333333,"d":"9"}},{"$f":"'Survivalexp vitmix RAW Feb 2018'!BF43","v":{"v":1.1333333333333335,"d":"1"}},null,null,{"$f":"'Survivalexp vitmix RAW Feb 2018'!I80","v":{"$error":"#DIV/0!"}},{"$f":"'Survivalexp vitmix RAW Feb 2018'!P80","v":{"$error":"#DIV/0!"}},{"$f":"'Survivalexp vitmix RAW Feb 2018'!W82","v":{"$error":"#DIV/0!"}},{"$f":"'Survivalexp vitmix RAW Feb 2018'!AD82","v":{"v":23.399999999999995,"d":"23"}},{"$f":"'Survivalexp vitmix RAW Feb 2018'!AK82","v":{"v":3.1333333333333333,"d":"3"}},{"$f":"'Survivalexp vitmix RAW Feb 2018'!AR82","v":{"v":0.26666666666666666,"d":"0"}},{"$f":"'Survivalexp vitmix RAW Feb 2018'!AY82","v":0},{"$f":"'Survivalexp vitmix RAW Feb 2018'!BF82","v":0},null,null,{"$f":"'Survivalexp vitmix RAW Feb 2018'!I121","v":{"$error":"#DIV/0!"}},{"$f":"'Survivalexp vitmix RAW Feb 2018'!P121","v":{"$error":"#DIV/0!"}},{"$f":"'Survivalexp vitmix RAW Feb 2018'!W121","v":{"v":44.48529333333334,"d":"44"}},{"$f":"'Survivalexp vitmix RAW Feb 2018'!AD121","v":{"v":3.2727600000000003,"d":"3"}},{"$f":"'Survivalexp vitmix RAW Feb 2018'!AK121","v":0},{"$f":"'Survivalexp vitmix RAW Feb 2018'!AR121","v":0},{"$f":"'Survivalexp vitmix RAW Feb 2018'!AY121","v":0},{"$f":"'Survivalexp vitmix RAW Feb 2018'!BF121","v":0},null,null,{"$f":"'Survivalexp vitmix RAW Feb 2018'!I160","v":{"$error":"#DIV/0!"}},{"$f":"'Survivalexp vitmix RAW Feb 2018'!P160","v":{"v":79.86666666666667,"d":"80"}},{"$f":"'Survivalexp vitmix RAW Feb 2018'!W160","v":{"v":11.066666666666668,"d":"11"}},{"$f":"'Survivalexp vitmix RAW Feb 2018'!AD160","v":{"v":0.6666666666666666,"d":"1"}},{"$f":"'Survivalexp vitmix RAW Feb 2018'!AK160","v":0},{"$f":"'Survivalexp vitmix RAW Feb 2018'!AR160","v":0},{"$f":"'Survivalexp vitmix RAW Feb 2018'!AY160","v":0},{"$f":"'Survivalexp vitmix RAW Feb 2018'!BF160","v":0},null,null,{"$f":"'Survivalexp vitmix RAW Feb 2018'!I199","v":{"$error":"#DIV/0!"}},{"$f":"'Survivalexp vitmix RAW Feb 2018'!P199","v":{"v":24.599999999999998,"d":"25"}},{"$f":"'Survivalexp vitmix RAW Feb 2018'!W199","v":{"v":2.6,"d":"3"}},{"$f":"'Survivalexp vitmix RAW Feb 2018'!AD199","v":{"v":0.13333333333333333,"d":"0"}},{"$f":"'Survivalexp vitmix RAW Feb 2018'!AK199","v":0},{"$f":"'Survivalexp vitmix RAW Feb 2018'!AR199","v":0},{"$f":"'Survivalexp vitmix RAW Feb 2018'!AY199","v":0},{"$f":"'Survivalexp vitmix RAW Feb 2018'!BF199","v":0},null,null,{"$f":"'Survivalexp vitmix RAW Feb 2018'!I238","v":{"$error":"#DIV/0!"}},{"$f":"'Survivalexp vitmix RAW Feb 2018'!P238","v":{"$error":"#DIV/0!"}},{"$f":"'Survivalexp vitmix RAW Feb 2018'!W238","v":{"$error":"#DIV/0!"}},{"$f":"'Survivalexp vitmix RAW Feb 2018'!AD238","v":{"$error":"#DIV/0!"}},{"$f":"'Survivalexp vitmix RAW Feb 2018'!AK238","v":{"$error":"#DIV/0!"}},{"$f":"'Survivalexp vitmix RAW Feb 2018'!AR238","v":0},{"$f":"'Survivalexp vitmix RAW Feb 2018'!AY238","v":0},{"$f":"'Survivalexp vitmix RAW Feb 2018'!BF238","v":0}]
[null,null,"stdev",{"$f":"'Survivalexp vitmix RAW Feb 2018'!I44","v":{"$error":"#DIV/0!"}},{"$f":"'Survivalexp vitmix RAW Feb 2018'!P44","v":{"$error":"#DIV/0!"}},{"$f":"'Survivalexp vitmix RAW Feb 2018'!W44","v":{"$error":"#DIV/0!"}},{"$f":"'Survivalexp vitmix RAW Feb 2018'!AD44","v":{"$error":"#DIV/0!"}},{"$f":"'Survivalexp vitmix RAW Feb 2018'!AK44","v":{"$error":"#DIV/0!"}},{"$f":"'Survivalexp vitmix RAW Feb 2018'!AR44","v":{"v":26.20179525617917,"d":"26"}},{"$f":"'Survivalexp vitmix RAW Feb 2018'!AY44","v":{"v":8.210608160017566,"d":"8"}},{"$f":"'Survivalexp vitmix RAW Feb 2018'!BF44","v":{"v":2.4755660210841057,"d":"2"}},null,null,{"$f":"'Survivalexp vitmix RAW Feb 2018'!I81","v":{"$error":"#DIV/0!"}},{"$f":"'Survivalexp vitmix RAW Feb 2018'!P81","v":{"$error":"#DIV/0!"}},{"$f":"'Survivalexp vitmix RAW Feb 2018'!W83","v":{"$error":"#DIV/0!"}},{"$f":"'Survivalexp vitmix RAW Feb 2018'!AD83","v":{"v":25.772092160927844,"d":"26"}},{"$f":"'Survivalexp vitmix RAW Feb 2018'!AK83","v":{"v":3.7004129455022796,"d":"4"}},{"$f":"'Survivalexp vitmix RAW Feb 2018'!AR83","v":{"v":0.8366600265340756,"d":"1"}},{"$f":"'Survivalexp vitmix RAW Feb 2018'!AY83","v":0},{"$f":"'Survivalexp vitmix RAW Feb 2018'!BF83","v":0},null,null,{"$f":"'Survivalexp vitmix RAW Feb 2018'!I122","v":{"$error":"#DIV/0!"}},{"$f":"'Survivalexp vitmix RAW Feb 2018'!P122","v":{"$error":"#DIV/0!"}},{"$f":"'Survivalexp vitmix RAW Feb 2018'!W122","v":{"v":16.949605262959373,"d":"17"}},{"$f":"'Survivalexp vitmix RAW Feb 2018'!AD122","v":{"v":6.760269237784822,"d":"7"}},{"$f":"'Survivalexp vitmix RAW Feb 2018'!AK122","v":0},{"$f":"'Survivalexp vitmix RAW Feb 2018'!AR122","v":0},{"$f":"'Survivalexp vitmix RAW Feb 2018'!AY122","v":0},{"$f":"'Survivalexp vitmix RAW Feb 2018'!BF122","v":0},null,null,{"$f":"'Survivalexp vitmix RAW Feb 2018'!I161","v":{"$error":"#DIV/0!"}},{"$f":"'Survivalexp vitmix RAW Feb 2018'!P161","v":{"v":20.770556363559542,"d":"21"}},{"$f":"'Survivalexp vitmix RAW Feb 2018'!W161","v":{"v":10.430145791609693,"d":"10"}},{"$f":"'Survivalexp vitmix RAW Feb 2018'!AD161","v":{"v":2.23606797749979,"d":"2"}},{"$f":"'Survivalexp vitmix RAW Feb 2018'!AK161","v":0},{"$f":"'Survivalexp vitmix RAW Feb 2018'!AR161","v":0},{"$f":"'Survivalexp vitmix RAW Feb 2018'!AY161","v":0},{"$f":"'Survivalexp vitmix RAW Feb 2018'!BF161","v":0},null,null,{"$f":"'Survivalexp vitmix RAW Feb 2018'!I200","v":{"$error":"#DIV/0!"}},{"$f":"'Survivalexp vitmix RAW Feb 2018'!P200","v":{"v":10.751032004527957,"d":"11"}},{"$f":"'Survivalexp vitmix RAW Feb 2018'!W200","v":{"v":4.404016316367669,"d":"4"}},{"$f":"'Survivalexp vitmix RAW Feb 2018'!AD200","v":{"v":0.8944271909999159,"d":"1"}},{"$f":"'Survivalexp vitmix RAW Feb 2018'!AK200","v":0},{"$f":"'Survivalexp vitmix RAW Feb 2018'!AR200","v":0},{"$f":"'Survivalexp vitmix RAW Feb 2018'!AY200","v":0},{"$f":"'Survivalexp vitmix RAW Feb 2018'!BF200","v":0},null,null,{"$f":"'Survivalexp vitmix RAW Feb 2018'!I239","v":{"$error":"#DIV/0!"}},{"$f":"'Survivalexp vitmix RAW Feb 2018'!P239","v":{"$error":"#DIV/0!"}},{"$f":"'Survivalexp vitmix RAW Feb 2018'!W239","v":{"$error":"#DIV/0!"}},{"$f":"'Survivalexp vitmix RAW Feb 2018'!AD239","v":{"$error":"#DIV/0!"}},{"$f":"'Survivalexp vitmix RAW Feb 2018'!AK239","v":{"$error":"#DIV/0!"}},{"$f":"'Survivalexp vitmix RAW Feb 2018'!AR239","v":0},{"$f":"'Survivalexp vitmix RAW Feb 2018'!AY239","v":0},{"$f":"'Survivalexp vitmix RAW Feb 2018'!BF239","v":0}]
[null,"est. nr of bacteria",null,{"$f":"D33/$D$8","v":{"$error":"#DIV/0!"}},{"$f":"E33/$E$8","v":{"$error":"#DIV/0!"}},{"$f":"F33/$F$8","v":{"$error":"#DIV/0!"}},{"$f":"G33/$G$8","v":{"$error":"#DIV/0!"}},{"$f":"H33/$H$8","v":{"$error":"#DIV/0!"}},{"$f":"I33/$I$8","v":6439999.999999999},{"$f":"J33/$J$8","v":9133333.333333334},{"$f":"K33/$K$8","v":11333333.333333336},{"$f":"I35","v":6439999.999999999},{"$f":"I36","v":2620179.525617917},{"$f":"N33/$D$8","v":{"$error":"#DIV/0!"}},{"$f":"O33/$E$8","v":{"$error":"#DIV/0!"}},{"$f":"P33/$F$8","v":{"$error":"#DIV/0!"}},{"$f":"Q33/$G$8","v":23399.999999999993},{"$f":"R33/$H$8","v":31333.333333333332},{"$f":"S33/$I$8","v":26666.666666666664},{"$f":"T33/$J$8","v":0},{"$f":"U33/$K$8","v":0},{"$f":"Q35","v":23399.999999999993},{"$f":"Q36","v":25772.092160927845},{"$f":"X33/$D$8","v":{"$error":"#DIV/0!"}},{"$f":"Y33/$E$8","v":{"$error":"#DIV/0!"}},{"$f":"Z33/$F$8","v":4448.529333333334},{"$f":"AA33/$G$8","v":3272.76},{"$f":"AB33/$H$8","v":0},{"$f":"AC33/$I$8","v":0},{"$f":"AD33/$J$8","v":0},{"$f":"AE33/$K$8","v":0},{"$f":"Z35","v":4448.529333333334},{"$f":"Z36","v":1694.9605262959374},{"$f":"AH33/$D$8","v":{"$error":"#DIV/0!"}},{"$f":"AI33/$E$8","v":798.6666666666667},{"$f":"AJ33/$F$8","v":1106.6666666666667},{"$f":"AK33/$G$8","v":666.6666666666666},{"$f":"AL33/$H$8","v":0},{"$f":"AM33/$I$8","v":0},{"$f":"AN33/$J$8","v":0},{"$f":"AO33/$K$8","v":0},{"$f":"AI35","v":798.6666666666667},{"$f":"AI36","v":207.7055636355954},{"$f":"AR33/$D$8","v":{"$error":"#DIV/0!"}},{"$f":"AS33/$E$8","v":245.99999999999997},{"$f":"AT33/$F$8","v":260},{"$f":"AU33/$G$8","v":133.33333333333334},{"$f":"AV33/$H$8","v":0},{"$f":"AW33/$I$8","v":0},{"$f":"AX33/$J$8","v":0},{"$f":"AY33/$K$8","v":0},{"$f":"AS35","v":245.99999999999997},{"$f":"AS36","v":107.51032004527957},{"$f":"BB33/$D$8","v":{"$error":"#DIV/0!"}},{"$f":"BC33/$E$8","v":{"$error":"#DIV/0!"}},{"$f":"BD33/$F$8","v":{"$error":"#DIV/0!"}},{"$f":"BE33/$G$8","v":{"$error":"#DIV/0!"}},{"$f":"BF33/$H$8","v":{"$error":"#DIV/0!"}},{"$f":"BG33/$I$8","v":0},{"$f":"BH33/$J$8","v":0},{"$f":"BI33/$K$8","v":0},{"$f":"BE35","v":{"$error":"#DIV/0!"}},{"$f":"BE36","v":{"$error":"#DIV/0!"}}]
[null,null,"stdev",{"$f":"D34/$D$8","v":{"$error":"#DIV/0!"}},{"$f":"E34/$E$8","v":{"$error":"#DIV/0!"}},{"$f":"F34/$F$8","v":{"$error":"#DIV/0!"}},{"$f":"G34/$G$8","v":{"$error":"#DIV/0!"}},{"$f":"H34/$H$8","v":{"$error":"#DIV/0!"}},{"$f":"I34/$I$8","v":2620179.525617917},{"$f":"J34/$J$8","v":8210608.160017567},{"$f":"K34/$K$8","v":24755660.21084106},null,null,{"$f":"N34/$D$8","v":{"$error":"#DIV/0!"}},{"$f":"O34/$E$8","v":{"$error":"#DIV/0!"}},{"$f":"P34/$F$8","v":{"$error":"#DIV/0!"}},{"$f":"Q34/$G$8","v":25772.092160927845},{"$f":"R34/$H$8","v":37004.1294550228},{"$f":"S34/$I$8","v":83666.00265340754},{"$f":"T34/$J$8","v":0},{"$f":"U34/$K$8","v":0},null,null,{"$f":"X34/$D$8","v":{"$error":"#DIV/0!"}},{"$f":"Y34/$E$8","v":{"$error":"#DIV/0!"}},{"$f":"Z34/$F$8","v":1694.9605262959374},{"$f":"AA34/$G$8","v":6760.269237784822},{"$f":"AB34/$H$8","v":0},{"$f":"AC34/$I$8","v":0},{"$f":"AD34/$J$8","v":0},{"$f":"AE34/$K$8","v":0},null,null,{"$f":"AH34/$D$8","v":{"$error":"#DIV/0!"}},{"$f":"AI34/$E$8","v":207.7055636355954},{"$f":"AJ34/$F$8","v":1043.0145791609693},{"$f":"AK34/$G$8","v":2236.06797749979},{"$f":"AL34/$H$8","v":0},{"$f":"AM34/$I$8","v":0},{"$f":"AN34/$J$8","v":0},{"$f":"AO34/$K$8","v":0},null,null,{"$f":"AR34/$D$8","v":{"$error":"#DIV/0!"}},{"$f":"AS34/$E$8","v":107.51032004527957},{"$f":"AT34/$F$8","v":440.4016316367669},{"$f":"AU34/$G$8","v":894.4271909999159},{"$f":"AV34/$H$8","v":0},{"$f":"AW34/$I$8","v":0},{"$f":"AX34/$J$8","v":0},{"$f":"AY34/$K$8","v":0},null,null,{"$f":"BB34/$D$8","v":{"$error":"#DIV/0!"}},{"$f":"BC34/$E$8","v":{"$error":"#DIV/0!"}},{"$f":"BD34/$F$8","v":{"$error":"#DIV/0!"}},{"$f":"BE34/$G$8","v":{"$error":"#DIV/0!"}},{"$f":"BF34/$H$8","v":{"$error":"#DIV/0!"}},{"$f":"BG34/$I$8","v":0},{"$f":"BH34/$J$8","v":0},{"$f":"BI34/$K$8","v":0}]
[]
[]
[]
[]
[]
[{"$nulls":4},0,4,7,11,14,18,{"$nulls":4},"STDEV",null,0,4,7,11,14,18]
[null,null,"Numbers","Blank",{"$f":"$L$11","v":{"v":0,"d":"0.0"}},{"$f":"$V$11","v":{"v":0,"d":"0.0"}},{"$f":"$AF$11","v":{"v":0,"d":"0.0"}},{"$f":"AP11","v":{"v":0,"d":"0.0"}},{"$f":"$AP$11","v":{"v":0,"d":"0.0"}},{"$f":"$AZ$11","v":{"v":0,"d":"0.0"}},{"$nulls":4},"Numbers","Blank",{"$f":"$M$11","v":{"v":0,"d":"0.0"}},{"$f":"$W$11","v":{"v":0,"d":"0.0"}},{"$f":"$AG$11","v":{"v":0,"d":"0.0"}},{"$f":"AQ11","v":{"v":0,"d":"0.0"}},{"$f":"$AQ$11","v":{"v":0,"d":"0.0"}},{"$f":"$BA$11","v":{"v":0,"d":"0.0"}}]
[{"$nulls":3},"BW25113 -",{"$f":"$L$15","v":{"v":3946666.6666666665,"d":"3946666.7"}},{"$f":"$V$15","v":{"v":30266666.666666668,"d":"30266666.7"}},{"$f":"$AF$15","v":{"v":2400000.0000000005,"d":"2400000.0"}},{"$f":"AP15","v":{"v":2194000,"d":"2194000.0"}},{"$f":"$AP$15","v":{"v":2194000,"d":"2194000.0"}},{"$f":"$AZ$15","v":{"v":3666666.666666666,"d":"3666666.7"}},{"$nulls":5},"BW25113 2213F -",{"$f":"$M$15","v":{"v":1498235.3032860223,"d":"1498235.3"}},{"$f":"$W$15","v":{"v":20420891.466250654,"d":"20420891.5"}},{"$f":"$AG$15","v":{"v":5828845.191055874,"d":"5828845.2"}},{"$f":"AQ15","v":{"v":247055.67450708957,"d":"247055.7"}},{"$f":"$AQ$15","v":{"v":247055.67450708957,"d":"247055.7"}},{"$f":"BA15","v":{"v":1866880.8994645516,"d":"1866880.9"}}]
[{"$nulls":3},"2213F - p+0",{"$f":"$L$19","v":{"v":5820000.000000001,"d":"5820000.0"}},{"$f":"$V$19","v":{"v":101000,"d":"101000.0"}},{"$f":"$AF$19","v":{"v":1208.4969333333333,"d":"1208.5"}},{"$f":"AP19","v":{"v":262.66666666666663,"d":"262.7"}},{"$f":"$AP$19","v":{"v":262.66666666666663,"d":"262.7"}},{"$f":"$AZ$19","v":{"v":231.33333333333334,"d":"231.3"}},{"$nulls":5},"2213F - p+0",{"$f":"$M$19","v":{"v":1280534.335007864,"d":"1280534.3"}},{"$f":"$W$19","v":{"v":24529.303189574355,"d":"24529.3"}},{"$f":"$AG$19","v":{"v":345.66926968575655,"d":"345.7"}},{"$f":"AQ19","v":{"v":119.27382448420133,"d":"119.3"}},{"$f":"$AQ$19","v":{"v":119.27382448420133,"d":"119.3"}},{"$f":"BA19","v":{"v":83.07944423718567,"d":"83.1"}}]
[{"$nulls":3},"2213F A p+0",{"$f":"$L$23","v":{"v":4446666.666666666,"d":"4446666.7"}},{"$f":"$V$23","v":{"v":50199.99999999999,"d":"50200.0"}},{"$f":"$AF$23","v":{"v":1035.1618666666666,"d":"1035.2"}},{"$f":"AP23","v":{"v":446,"d":"446.0"}},{"$f":"$AP$23","v":{"v":446,"d":"446.0"}},{"$f":"$AZ$23","v":{"v":448,"d":"448.0"}},{"$nulls":5},"2213F A p+0",{"$f":"$M$23","v":{"v":1439758.206194782,"d":"1439758.2"}},{"$f":"$W$23","v":{"v":16298.194353577568,"d":"16298.2"}},{"$f":"$AG$23","v":{"v":317.8488592418546,"d":"317.8"}},{"$f":"AQ23","v":{"v":176.01220427293867,"d":"176.0"}},{"$f":"$AQ$23","v":{"v":176.01220427293867,"d":"176.0"}},{"$f":"BA23","v":{"v":221.70315988445935,"d":"221.7"}}]
[{"$nulls":3},"2213F A p+3",{"$f":"$L$27","v":{"v":4639999.999999999,"d":"4640000.0"}},{"$f":"$V$27","v":{"v":40066.66666666667,"d":"40066.7"}},{"$f":"$AF$27","v":{"v":653.3398666666666,"d":"653.3"}},{"$f":"AP27","v":{"v":338.66666666666663,"d":"338.7"}},{"$f":"$AP$27","v":{"v":338.66666666666663,"d":"338.7"}},{"$f":"$AZ$27","v":{"v":280.66666666666663,"d":"280.7"}},{"$nulls":5},"2213F A p+3",{"$f":"$M$27","v":{"v":1637695.486634388,"d":"1637695.5"}},{"$f":"$W$27","v":{"v":9310.585136382546,"d":"9310.6"}},{"$f":"$AG$27","v":{"v":300.51838018381864,"d":"300.5"}},{"$f":"AQ27","v":{"v":238.41206712926737,"d":"238.4"}},{"$f":"$AQ$27","v":{"v":238.41206712926737,"d":"238.4"}},{"$f":"BA27","v":{"v":151.71722064897287,"d":"151.7"}}]
[{"$nulls":3},"2213F APR p+0",{"$f":"$L$31","v":{"v":5126666.666666667,"d":"5126666.7"}},{"$f":"$V$31","v":{"v":424666.66666666657,"d":"424666.7"}},{"$f":"$AF$31","v":{"v":2569.722666666667,"d":"2569.7"}},{"$f":"AP31","v":{"v":556.6666666666666,"d":"556.7"}},{"$f":"$AP$31","v":{"v":556.6666666666666,"d":"556.7"}},{"$f":"$AZ$31","v":{"v":320,"d":"320.0"}},{"$nulls":5},"2213F APR p+0",{"$f":"$M$31","v":{"v":1687322.8287625422,"d":"1687322.8"}},{"$f":"$W$31","v":{"v":203425.33420103553,"d":"203425.3"}},{"$f":"$AG$31","v":{"v":1244.717312019192,"d":"1244.7"}},{"$f":"AQ31","v":{"v":144.8590756559318,"d":"144.9"}},{"$f":"$AQ$31","v":{"v":144.8590756559318,"d":"144.9"}},{"$f":"BA31","v":{"v":147.95750226121493,"d":"148.0"}}]
[{"$nulls":3},"2213F APR p+3",{"$f":"$L$35","v":{"v":6439999.999999999,"d":"6440000.0"}},{"$f":"$V$35","v":{"v":23399.999999999993,"d":"23400.0"}},{"$f":"$AF$35","v":{"v":4448.529333333334,"d":"4448.5"}},{"$f":"AP35","v":{"v":798.6666666666667,"d":"798.7"}},{"$f":"$AP$35","v":{"v":798.6666666666667,"d":"798.7"}},{"$f":"$AZ$35","v":{"v":245.99999999999997,"d":"246.0"}},{"$nulls":5},"2213F APR p+3",{"$f":"$M$35","v":{"v":2620179.525617917,"d":"2620179.5"}},{"$f":"$W$35","v":{"v":25772.092160927845,"d":"25772.1"}},{"$f":"$AG$35","v":{"v":1694.9605262959374,"d":"1695.0"}},{"$f":"AQ35","v":{"v":207.7055636355954,"d":"207.7"}},{"$f":"$AQ$35","v":{"v":207.7055636355954,"d":"207.7"}},{"$f":"BA35","v":{"v":107.51032004527957,"d":"107.5"}}]
[]
[]
[{"$nulls":4},0,4,7,11,14,18,{"$nulls":4},"STDEV",null,0,4,7,11,14,18]
[null,null,"Percentages","Blank",0,0,0,0,0,0,{"$nulls":4},"Percentages","Blank",{"v":0,"d":"0.0"},{"v":0,"d":"0.0"},{"v":0,"d":"0.0"},{"v":0,"d":"0.0"},{"v":0,"d":"0.0"},{"v":0,"d":"0.0"}]
[{"$nulls":3},"BW25113 -",{"$f":"E44/$E$44*100","v":{"v":100,"d":"100.0"}},{"$f":"(F44/$E$44)*100","v":{"v":766.8918918918919,"d":"766.9"}},{"$f":"G44/$E$44*100","v":{"v":60.81081081081082,"d":"60.8"}},{"$f":"H44/$E$44*100","v":{"v":55.591216216216225,"d":"55.6"}},{"$f":"I44/$E$44*100","v":{"v":55.591216216216225,"d":"55.6"}},{"$f":"J44/$E$44*100","v":{"v":92.90540540540539,"d":"92.9"}},{"$nulls":5},"BW25113 2213F -",{"$f":"Q44/$E$44*100","v":{"v":37.96204315758502,"d":"38.0"}},{"$f":"R44/$E$44*100","v":{"v":517.4212364759456,"d":"517.4"}},{"$f":"S44/$E$44*100","v":{"v":147.69033423283466,"d":"147.7"}},{"$f":"T44/$E$44*100","v":{"v":6.259856617578283,"d":"6.3"}},{"$f":"U44/$E$44*100","v":{"v":6.259856617578283,"d":"6.3"}},{"$f":"V44/$E44*100","v":{"v":47.30272549318965,"d":"47.3"}}]
[{"$nulls":3},"2213F - p+0",{"$f":"E45/$E$45*100","v":{"v":100,"d":"100.0000"}},{"$f":"F45/$E$45*100","v":{"v":1.7353951890034363,"d":"1.7354"}},{"$f":"G45/$E$45*100","v":{"v":0.020764552119129438,"d":"0.0208"}},{"$f":"H45/$E$45*100","v":{"v":0.004513172966781213,"d":"0.0045"}},{"$f":"I45/$E$45*100","v":{"v":0.004513172966781213,"d":"0.0"}},{"$f":"J45/$E$44*100","v":{"v":0.005861486486486487,"d":"0.0"}},{"$nulls":5},"2213F - p+0",{"$f":"Q45/$E$45*100","v":{"v":22.002308161647143,"d":"22.0"}},{"$f":"R45/$E$45*100","v":{"v":0.4214656905425146,"d":"0.4"}},{"v":0.005939334530683101,"d":"0.0"},{"$f":"T45/$E$45*100","v":{"v":0.002049378427563596,"d":"0.0"}},{"$f":"U45/$E$45*100","v":{"v":0.002049378427563596,"d":"0.0"}},{"v":1.427481859745458E-3,"d":"0.0"}]
[{"$nulls":3},"2213F A p+0",{"$f":"E46/$E$46*100","v":{"v":100,"d":"100.0000"}},{"$f":"F46/$E$46*100","v":{"v":1.128935532233883,"d":"1.1289"}},{"$f":"G46/$E$46*100","v":{"v":0.023279502248875563,"d":"0.0233"}},{"$f":"H46/$E$46*100","v":{"v":0.010029985007496254,"d":"0.0100"}},{"$f":"I46/$E$46*100","v":{"v":0.010029985007496254,"d":"0.0"}},{"$f":"J46/$E$44*100","v":{"v":0.011351351351351352,"d":"0.0"}},{"$nulls":5},"2213F A p+0",{"$f":"Q46/$E$46*100","v":{"v":32.37837045415552,"d":"32.4"}},{"$f":"R46/$E$46*100","v":{"v":0.36652610990054507,"d":"0.4"}},{"$f":"S46/$E$46*100","v":{"v":0.007148025320281589,"d":"0.0"}},{"$f":"T46/$E$46*100","v":{"v":0.003958295448416913,"d":"0.0"}},{"$f":"U46/$E$46*100","v":{"v":0.003958295448416913,"d":"0.0"}},{"v":0.004985828183308682,"d":"0.0"}]
[{"$nulls":3},"2213F A p+3",{"$f":"E47/$E$47*100","v":{"v":100,"d":"100.0000"}},{"$f":"F47/$E$47*100","v":{"v":0.8635057471264371,"d":"0.8635"}},{"$f":"G47/$E$47*100","v":{"v":0.014080600574712646,"d":"0.0141"}},{"$f":"H47/$E$47*100","v":{"v":0.007298850574712645,"d":"0.0073"}},{"$f":"I47/$E$47*100","v":{"v":0.007298850574712645,"d":"0.0"}},{"$f":"J47/$E$44*100","v":{"v":0.007111486486486486,"d":"0.0"}},{"$nulls":5},"2213F A p+3",{"$f":"Q47/$E$47*100","v":{"v":35.29516134987906,"d":"35.3"}},{"$f":"R47/$E$47*100","v":{"v":0.20065916242203766,"d":"0.2"}},{"$f":"S47/$E$47*100","v":{"v":0.006476689228099541,"d":"0.0"}},{"$f":"T47/$E$47*100","v":{"v":0.005138191101923866,"d":"0.0"}},{"$f":"U47/$E$47*100","v":{"v":0.005138191101923866,"d":"0.0"}},{"v":3.2697676864002784E-3,"d":"0.0"}]
[{"$nulls":3},"2213F APR p+0",{"$f":"E48/$E$48*100","v":{"v":100,"d":"100.0000"}},{"$f":"F48/$E$48*100","v":{"v":8.283485045513652,"d":"8.2835"}},{"$f":"G48/$E$48*100","v":{"v":0.05012462938881665,"d":"0.0501"}},{"$f":"H48/$E$48*100","v":{"v":0.010858257477243172,"d":"0.0109"}},{"$f":"I48/$E$48*100","v":{"v":0.010858257477243172,"d":"0.0"}},{"$f":"J48/$E$44*100","v":{"v":0.008108108108108109,"d":"0.0"}},{"$nulls":5},"2213F APR p+0",{"$f":"Q48/$E$48*100","v":{"v":32.91266896155804,"d":"32.9"}},{"$f":"R48/$E$48*100","v":{"v":3.9679844122438657,"d":"4.0"}},{"$f":"S48/$E$48*100","v":{"v":0.024279271365783974,"d":"0.0"}},{"$f":"T48/$E$48*100","v":{"v":2.8255996551872263E-3,"d":"0.0"}},{"$f":"U48/$E$48*100","v":{"v":2.8255996551872263E-3,"d":"0.0"}},{"v":2.8860371052252583E-3,"d":"0.0"}]
[{"$nulls":3},"2213F APR p+3",{"$f":"E49/$E$49*100","v":{"v":100,"d":"100.0000"}},{"$f":"F49/$E$49*100","v":{"v":0.36335403726708065,"d":"0.3634"}},{"$f":"G49/$E$49*100","v":{"v":0.0690765424430642,"d":"0.0691"}},{"$f":"H49/$E$49*100","v":{"v":0.012401656314699796,"d":"0.0124"}},{"$f":"I49/$E$49*100","v":{"v":0.012401656314699796,"d":"0.0"}},{"$f":"J49/$E$44*100","v":{"v":0.006233108108108109,"d":"0.0"}},{"$nulls":5},"2213F APR p+3",{"$f":"Q49/$E$49*100","v":{"v":40.686017478539085,"d":"40.7"}},{"$f":"R49/$E$49*100","v":{"v":0.40018776647403487,"d":"0.4"}},{"$f":"S49/$E$49*100","v":{"v":0.026319262830682262,"d":"0.0"}},{"$f":"T49/$E$49*100","v":{"v":3.2252416713601777E-3,"d":"0.0"}},{"$f":"U49/$E$49*100","v":{"v":3.2252416713601777E-3,"d":"0.0"}},{"v":1.6694149075353972E-3,"d":"0.0"}]

{"sheet":"Survivalexp novitmix RAW feb18","index":2,"n_rows":238,"n_cols":59,"rows_kept":238}
["Survival experiment",{"$nulls":10},"Averages/Stdev Technical replicates"]
["Subject: ",null,"Anaerobic survival after aerobic inoculation of recombinant strains",{"$nulls":8},"Averages/stdev Biological replicates"]
[null,null,"DeBont+ 6g/l Gluconic Acid - Kanamycin"]
["Inoculation date",null,"07-02-2018"]
["Inoculation OD600",null,0.1,"BW25113 2213F -"]
["Inoculated",null,null,"Blank ","2213F -",null,"2213F A",null,"2213F APR"]
[{"$nulls":4},"p+0","p+3","p+0","p+3","p+0",null,"p+3"]
["T0","2017-10-30"]
["Sample","Dilution:",null,"10^0",{"$nulls":4},"AVERAGE","STDEV","10^-1",{"$nulls":4},"AVERAGE","STDEV","10^-2",{"$nulls":4},"AVERAGE","STDEV","10^-3",{"$nulls":4},"AVERAGE","STDEV","10^-4",{"$nulls":4},"AVERAGE","STDEV","10^-5",{"$nulls":4},"AVERAGE","STDEV","10^-6",{"$nulls":4},"AVERAGE","STDEV","10^-7",{"$nulls":4},"AVERAGE","STDEV"]
["Blank",1,null,0,0,0,0,0,{"$f":"AVERAGE(D10:H10)","v":0},{"$f":"STDEV(D10:H10)","v":0},0,0,0,0,0,{"$f":"AVERAGE(K10:O10)","v":0},{"$f":"STDEV(K10:O10)","v":0},0,0,0,0,0,{"$f":"AVERAGE(R10:V10)","v":0},{"$f":"STDEV(R10:V10)","v":0},0,0,0,0,0,{"$f":"AVERAGE(Y10:AC10)","v":0},{"$f":"STDEV(Y10:AC10)","v":0},0,0,0,0,0,{"$f":"AVERAGE(AF10:AJ10)","v":0},{"$f":"STDEV(AF10:AJ10)","v":0},0,0,0,0,0,{"$f":"AVERAGE(AM10:AQ10)","v":0},{"$f":"STDEV(AM10:AQ10)","v":0},0,0,0,0,0,{"$f":"AVERAGE(AT10:AX10)","v":0},{"$f":"STDEV(AT10:AX10)","v":0},0,0,0,0,0,{"$f":"AVERAGE(BA10:BE10)","v":0},{"$f":"STDEV(BA10:BE10)","v":0}]
[null,2,null,0,0,0,0,0,{"$f":"AVERAGE(D11:H11)","v":0},{"$f":"STDEV(D11:H11)","v":0},0,0,0,0,0,{"$f":"AVERAGE(K11:O11)","v":0},{"$f":"STDEV(K11:O11)","v":0},0,0,0,0,0,{"$f":"AVERAGE(R11:V11)","v":0},{"$f":"STDEV(R11:V11)","v":0},0,0,0,0,0,{"$f":"AVERAGE(Y11:AC11)","v":0},{"$f":"STDEV(Y11:AC11)","v":0},0,0,0,0,0,{"$f":"AVERAGE(AF11:AJ11)","v":0},{"$f":"STDEV(AF11:AJ11)","v":0},0,0,0,0,0,{"$f":"AVERAGE(AM11:AQ11)","v":0},{"$f":"STDEV(AM11:AQ11)","v":0},0,0,0,0,0,{"$f":"AVERAGE(AT11:AX11)","v":0},{"$f":"STDEV(AT11:AX11)","v":0},0,0,0,0,0,{"$f":"AVERAGE(BA11:BE11)","v":0},{"$f":"STDEV(BA11:BE11)","v":0}]
[null,3,null,0,0,0,0,0,{"$f":"AVERAGE(D12:H12)","v":0},{"$f":"STDEV(D12:H12)","v":0},0,0,0,0,0,{"$f":"AVERAGE(K12:O12)","v":0},{"$f":"STDEV(K12:O12)","v":0},0,0,0,0,0,{"$f":"AVERAGE(R12:V12)","v":0},{"$f":"STDEV(R12:V12)","v":0},0,0,0,0,0,{"$f":"AVERAGE(Y12:AC12)","v":0},{"$f":"STDEV(Y12:AC12)","v":0},0,0,0,0,0,{"$f":"AVERAGE(AF12:AJ12)","v":0},{"$f":"STDEV(AF12:AJ12)","v":0},0,0,0,0,0,{"$f":"AVERAGE(AM12:AQ12)","v":0},{"$f":"STDEV(AM12:AQ12)","v":0},0,0,0,0,0,{"$f":"AVERAGE(AT12:AX12)","v":0},{"$f":"STDEV(AT12:AX12)","v":0},0,0,0,0,0,{"$f":"AVERAGE(BA12:BE12)","v":0},{"$f":"STDEV(BA12:BE12)","v":0}]
[{"$nulls":8},{"$f":"AVERAGE(I10:I12)","v":0},{"$nulls":6},{"$f":"AVERAGE(P10:P12)","v":0},{"$nulls":6},{"$f":"AVERAGE(W10:W12)","v":0},{"$nulls":6},{"$f":"AVERAGE(AD10:AD12)","v":0},{"$nulls":6},{"$f":"AVERAGE(AK10:AK12)","v":0},{"$nulls":6},{"$f":"AVERAGE(AR10:AR12)","v":0},{"$nulls":6},{"$f":"AVERAGE(AY10:AY12)","v":0},{"$nulls":6},{"$f":"AVERAGE(BF10:BF12)","v":0}]
[{"$nulls":8},{"$f":"SUM(J10:J12)","v":0},{"$nulls":6},{"$f":"SUM(Q10:Q12)","v":0},{"$nulls":6},{"$f":"SUM(X10:X12)","v":0},{"$nulls":6},{"$f":"SUM(AE10:AE12)","v":0},{"$nulls":6},{"$f":"SUM(AL10:AL12)","v":0},{"$nulls":6},{"$f":"SUM(AS10:AS12)","v":0},{"$nulls":6},{"$f":"SUM(AZ10:AZ12)","v":0},{"$nulls":6},{"$f":"SUM(BG10:BG12)","v":0}]
["BW25113 -",1,null,"NA","NA","NA","NA","NA",{"$f":"AVERAGE(D15:H15)","v":{"$error":"#DIV/0!"}},{"$f":"STDEV(D15:H15)","v":{"$error":"#DIV/0!"}},"NA","NA","NA","NA","NA",{"$f":"AVERAGE(K15:O15)","v":{"$error":"#DIV/0!"}},{"$f":"STDEV(K15:O15)","v":{"$error":"#DIV/0!"}},"NA","NA","NA","NA","NA",{"$f":"AVERAGE(R15:V15)","v":{"$error":"#DIV/0!"}},{"$f":"STDEV(R15:V15)","v":{"$error":"#DIV/0!"}},"NA","NA","NA","NA","NA",{"$f":"AVERAGE(Y15:AC15)","v":{"$error":"#DIV/0!"}},{"$f":"STDEV(Y15:AC15)","v":{"$error":"#DIV/0!"}},"NA","NA","NA","NA","NA",{"$f":"AVERAGE(AF15:AJ15)","v":{"$error":"#DIV/0!"}},{"$f":"STDEV(AF15:AJ15)","v":{"$error":"#DIV/0!"}},57,51,65,67,69,{"$f":"AVERAGE(AM15:AQ15)","v":{"v":61.8,"d":"62"}},{"$f":"STDEV(AM15:AQ15)","v":{"v":7.563068160475603,"d":"8"}},13,6,11,13,8,{"$f":"AVERAGE(AT15:AX15)","v":{"v":10.2,"d":"10"}},{"$f":"STDEV(AT15:AX15)","v":{"v":3.1144823004794855,"d":"3"}},2,0,0,0,1,{"$f":"AVERAGE(BA15:BE15)","v":{"v":0.6,"d":"1"}},{"$f":"STDEV(BA15:BE15)","v":{"v":0.8944271909999159,"d":"1"}}]
["pS2213 - ",2,null,"NA","NA","NA","NA","NA",{"$f":"AVERAGE(D16:H16)","v":{"$error":"#DIV/0!"}},{"$f":"STDEV(D16:H16)","v":{"$error":"#DIV/0!"}},"NA","NA","NA","NA","NA",{"$f":"AVERAGE(K16:O16)","v":{"$error":"#DIV/0!"}},{"$f":"STDEV(K16:O16)","v":{"$error":"#DIV/0!"}},"NA","NA","NA","NA","NA",{"$f":"AVERAGE(R16:V16)","v":{"$error":"#DIV/0!"}},{"$f":"STDEV(R16:V16)","v":{"$error":"#DIV/0!"}},"NA","NA","NA","NA","NA",{"$f":"AVERAGE(Y16:AC16)","v":{"$error":"#DIV/0!"}},{"$f":"STDEV(Y16:AC16)","v":{"$error":"#DIV/0!"}},"NA","NA","NA","NA","NA",{"$f":"AVERAGE(AF16:AJ16)","v":{"$error":"#DIV/0!"}},{"$f":"STDEV(AF16:AJ16)","v":{"$error":"#DIV/0!"}},78,89,92,87,81,{"$f":"AVERAGE(AM16:AQ16)","v":{"v":85.4,"d":"85"}},{"$f":"STDEV(AM16:AQ16)","v":{"v":5.770615218501404,"d":"6"}},12,13,12,7,11,{"$f":"AVERAGE(AT16:AX16)","v":11},{"$f":"STDEV(AT16:AX16)","v":{"v":2.345207879911715,"d":"2"}},2,2,1,1,2,{"$f":"AVERAGE(BA16:BE16)","v":{"v":1.6,"d":"2"}},{"$f":"STDEV(BA16:BE16)","v":{"v":0.547722557505166,"d":"1"}}]
[null,3,null,"NA","NA","NA","NA","NA",{"$f":"AVERAGE(D17:H17)","v":{"$error":"#DIV/0!"}},{"$f":"STDEV(D17:H17)","v":{"$error":"#DIV/0!"}},"NA","NA","NA","NA","NA",{"$f":"AVERAGE(K17:O17)","v":{"$error":"#DIV/0!"}},{"$f":"STDEV(K17:O17)","v":{"$error":"#DIV/0!"}},"NA","NA","NA","NA","NA",{"$f":"AVERAGE(R17:V17)","v":{"$error":"#DIV/0!"}},{"$f":"STDEV(R17:V17)","v":{"$error":"#DIV/0!"}},"NA","NA","NA","NA","NA",{"$f":"AVERAGE(Y17:AC17)","v":{"$error":"#DIV/0!"}},{"$f":"STDEV(Y17:AC17)","v":{"$error":"#DIV/0!"}},"NA","NA","NA","NA","NA",{"$f":"AVERAGE(AF17:AJ17)","v":{"$error":"#DIV/0!"}},{"$f":"STDEV(AF17:AJ17)","v":{"$error":"#DIV/0!"}},60,51,65,56,66,{"$f":"AVERAGE(AM17:AQ17)","v":{"v":59.6,"d":"60"}},{"$f":"STDEV(AM17:AQ17)","v":{"v":6.268971207462991,"d":"6"}},9,13,10,5,4,{"$f":"AVERAGE(AT17:AX17)","v":{"v":8.2,"d":"8"}},{"$f":"STDEV(AT17:AX17)","v":{"v":3.70135110466435,"d":"4"}},1,1,1,0,0,{"$f":"AVERAGE(BA17:BE17)","v":{"v":0.6,"d":"1"}},{"$f":"STDEV(BA17:BE17)","v":{"v":0.5477225575051661,"d":"1"}}]
["average",{"$nulls":7},{"$f":"AVERAGE(I15:I17)","v":{"$error":"#DIV/0!"}},{"$nulls":6},{"$f":"AVERAGE(P15:P17)","v":{"$error":"#DIV/0!"}},{"$nulls":6},{"$f":"AVERAGE(W15:W17)","v":{"$error":"#DIV/0!"}},{"$nulls":6},{"$f":"AVERAGE(AD15:AD17)","v":{"$error":"#DIV/0!"}},{"$nulls":6},{"$f":"AVERAGE(AK15:AK17)","v":{"$error":"#DIV/0!"}},{"$nulls":6},{"$f":"AVERAGE(AR15:AR17)","v":{"v":68.93333333333332,"d":"69"}},{"$nulls":6},{"$f":"AVERAGE(AY15:AY17)","v":{"v":9.799999999999999,"d":"10"}},{"$nulls":6},{"$f":"AVERAGE(BF15:BF17)","v":{"v":0.9333333333333335,"d":"1"}}]
["stdev",{"$nulls":7},{"$f":"SUM(J15:J17)","v":{"$error":"#DIV/0!"}},{"$nulls":6},{"$f":"SUM(Q15:Q17)","v":{"$error":"#DIV/0!"}},{"$nulls":6},{"$f":"SUM(X15:X17)","v":{"$error":"#DIV/0!"}},{"$nulls":6},{"$f":"SUM(AE15:AE17)","v":{"$error":"#DIV/0!"}},{"$nulls":6},{"$f":"SUM(AL15:AL17)","v":{"$error":"#DIV/0!"}},{"$nulls":6},{"$f":"SUM(AS15:AS17)","v":{"v":19.602654586439996,"d":"20"}},{"$nulls":6},{"$f":"SUM(AZ15:AZ17)","v":{"v":9.16104128505555,"d":"9"}},{"$nulls":6},{"$f":"SUM(BG15:BG17)","v":{"v":1.989872306010248,"d":"2"}}]
["pS2213 - ",1,null,"NA","NA","NA","NA","NA",{"$f":"AVERAGE(D20:H20)","v":{"$error":"#DIV/0!"}},{"$f":"STDEV(D20:H20)","v":{"$error":"#DIV/0!"}},"NA","NA","NA","NA","NA",{"$f":"AVERAGE(K20:O20)","v":{"$error":"#DIV/0!"}},{"$f":"STDEV(K20:O20)","v":{"$error":"#DIV/0!"}},"NA","NA","NA","NA","NA",{"$f":"AVERAGE(R20:V20)","v":{"$error":"#DIV/0!"}},{"$f":"STDEV(R20:V20)","v":{"$error":"#DIV/0!"}},"NA","NA","NA","NA","NA",{"$f":"AVERAGE(Y20:AC20)","v":{"$error":"#DIV/0!"}},{"$f":"STDEV(Y20:AC20)","v":{"$error":"#DIV/0!"}},"NA","NA","NA","NA","NA",{"$f":"AVERAGE(AF20:AJ20)","v":{"$error":"#DIV/0!"}},{"$f":"STDEV(AF20:AJ20)","v":{"$error":"#DIV/0!"}},69,55,45,48,55,{"$f":"AVERAGE(AM20:AQ20)","v":54.4},{"$f":"STDEV(AM20:AQ20)","v":9.26282894152754},12,15,6,6,7,{"$f":"AVERAGE(AT20:AX20)","v":9.2},{"$f":"STDEV(AT20:AX20)","v":4.08656334834051},3,1,1,2,0,{"$f":"AVERAGE(BA20:BE20)","v":1.4},{"$f":"STDEV(BA20:BE20)","v":1.1401754250991378}]
["p+0",2,null,"NA","NA","NA","NA","NA",{"$f":"AVERAGE(D21:H21)","v":{"$error":"#DIV/0!"}},{"$f":"STDEV(D21:H21)","v":{"$error":"#DIV/0!"}},"NA","NA","NA","NA","NA",{"$f":"AVERAGE(K21:O21)","v":{"$error":"#DIV/0!"}},{"$f":"STDEV(K21:O21)","v":{"$error":"#DIV/0!"}},"NA","NA","NA","NA","NA",{"$f":"AVERAGE(R21:V21)","v":{"$error":"#DIV/0!"}},{"$f":"STDEV(R21:V21)","v":{"$error":"#DIV/0!"}},"NA","NA","NA","NA","NA",{"$f":"AVERAGE(Y21:AC21)","v":{"$error":"#DIV/0!"}},{"$f":"STDEV(Y21:AC21)","v":{"$error":"#DIV/0!"}},"NA","NA","NA","NA","NA",{"$f":"AVERAGE(AF21:AJ21)","v":{"$error":"#DIV/0!"}},{"$f":"STDEV(AF21:AJ21)","v":{"$error":"#DIV/0!"}},87,73,67,71,58,{"$f":"AVERAGE(AM21:AQ21)","v":71.2},{"$f":"STDEV(AM21:AQ21)","v":10.545141061171245},10,13,14,8,10,{"$f":"AVERAGE(AT21:AX21)","v":11},{"$f":"STDEV(AT21:AX21)","v":2.449489742783178},3,1,4,0,2,{"$f":"AVERAGE(BA21:BE21)","v":2},{"$f":"STDEV(BA21:BE21)","v":1.5811388300841898}]
[null,3,null,"NA","NA","NA","NA","NA",{"$f":"AVERAGE(D22:H22)","v":{"$error":"#DIV/0!"}},{"$f":"STDEV(D22:H22)","v":{"$error":"#DIV/0!"}},"NA","NA","NA","NA","NA",{"$f":"AVERAGE(K22:O22)","v":{"$error":"#DIV/0!"}},{"$f":"STDEV(K22:O22)","v":{"$error":"#DIV/0!"}},"NA","NA","NA","NA","NA",{"$f":"AVERAGE(R22:V22)","v":{"$error":"#DIV/0!"}},{"$f":"STDEV(R22:V22)","v":{"$error":"#DIV/0!"}},"NA","NA","NA","NA","NA",{"$f":"AVERAGE(Y22:AC22)","v":{"$error":"#DIV/0!"}},{"$f":"STDEV(Y22:AC22)","v":{"$error":"#DIV/0!"}},"NA","NA","NA","NA","NA",{"$f":"AVERAGE(AF22:AJ22)","v":{"$error":"#DIV/0!"}},{"$f":"STDEV(AF22:AJ22)","v":{"$error":"#DIV/0!"}},49,55,50,52,66,{"$f":"AVERAGE(AM22:AQ22)","v":{"v":54.4,"d":"54"}},{"$f":"STDEV(AM22:AQ22)","v":{"v":6.877499545619773,"d":"7"}},14,13,8,11,6,{"$f":"AVERAGE(AT22:AX22)","v":{"v":10.4,"d":"10"}},{"$f":"STDEV(AT22:AX22)","v":{"v":3.361547262794324,"d":"3"}},0,1,0,0,2,{"$f":"AVERAGE(BA22:BE22)","v":{"v":0.6,"d":"1"}},{"$f":"STDEV(BA22:BE22)","v":{"v":0.8944271909999159,"d":"1"}}]
["average",{"$nulls":7},{"$f":"AVERAGE(I20:I22)","v":{"$error":"#DIV/0!"}},{"$nulls":6},{"$f":"AVERAGE(P20:P22)","v":{"$error":"#DIV/0!"}},{"$nulls":6},{"$f":"AVERAGE(W20:W22)","v":{"$error":"#DIV/0!"}},{"$nulls":6},{"$f":"AVERAGE(AD20:AD22)","v":{"$error":"#DIV/0!"}},{"$nulls":6},{"$f":"AVERAGE(AK20:AK22)","v":{"$error":"#DIV/0!"}},{"$nulls":6},{"$f":"AVERAGE(AR20:AR22)","v":60},{"$nulls":6},{"$f":"AVERAGE(AY20:AY22)","v":{"v":10.200000000000001,"d":"10"}},{"$nulls":6},{"$f":"AVERAGE(BF20:BF22)","v":{"v":1.3333333333333333,"d":"1"}}]
["stdev",{"$nulls":7},{"$f":"SUM(J20:J22)","v":{"$error":"#DIV/0!"}},{"$nulls":6},{"$f":"SUM(Q20:Q22)","v":{"$error":"#DIV/0!"}},{"$nulls":6},{"$f":"SUM(X20:X22)","v":{"$error":"#DIV/0!"}},{"$nulls":6},{"$f":"SUM(AE20:AE22)","v":{"$error":"#DIV/0!"}},{"$nulls":6},{"$f":"SUM(AL20:AL22)","v":{"$error":"#DIV/0!"}},{"$nulls":6},{"$f":"SUM(AS20:AS22)","v":{"v":26.685469548318558,"d":"27"}},{"$nulls":6},{"$f":"SUM(AZ20:AZ22)","v":{"v":9.897600353918012,"d":"10"}},{"$nulls":6},{"$f":"SUM(BG20:BG22)","v":{"v":3.615741446183243,"d":"4"}}]
["pS2213 A",1,null,"NA","NA","NA","NA","NA",{"$f":"AVERAGE(D25:H25)","v":{"$error":"#DIV/0!"}},{"$f":"STDEV(D25:H25)","v":{"$error":"#DIV/0!"}},"NA","NA","NA","NA","NA",{"$f":"AVERAGE(K25:O25)","v":{"$error":"#DIV/0!"}},{"$f":"STDEV(K25:O25)","v":{"$error":"#DIV/0!"}},"NA","NA","NA","NA","NA",{"$f":"AVERAGE(R25:V25)","v":{"$error":"#DIV/0!"}},{"$f":"STDEV(R25:V25)","v":{"$error":"#DIV/0!"}},"NA","NA","NA","NA","NA",{"$f":"AVERAGE(Y25:AC25)","v":{"$error":"#DIV/0!"}},{"$f":"STDEV(Y25:AC25)","v":{"$error":"#DIV/0!"}},"NA","NA","NA","NA","NA",{"$f":"AVERAGE(AF25:AJ25)","v":{"$error":"#DIV/0!"}},{"$f":"STDEV(AF25:AJ25)","v":{"$error":"#DIV/0!"}},60,60,72,61,57,{"$f":"AVERAGE(AM25:AQ25)","v":62},{"$f":"STDEV(AM25:AQ25)","v":5.787918451395113},11,11,9,12,16,{"$f":"AVERAGE(AT25:AX25)","v":11.8},{"$f":"STDEV(AT25:AX25)","v":2.5884358211089546},1,1,1,0,2,{"$f":"AVERAGE(BA25:BE25)","v":1},{"$f":"STDEV(BA25:BE25)","v":0.7071067811865476}]
["p+0",2,null,"NA","NA","NA","NA","NA",{"$f":"AVERAGE(D26:H26)","v":{"$error":"#DIV/0!"}},{"$f":"STDEV(D26:H26)","v":{"$error":"#DIV/0!"}},"NA","NA","NA","NA","NA",{"$f":"AVERAGE(K26:O26)","v":{"$error":"#DIV/0!"}},{"$f":"STDEV(K26:O26)","v":{"$error":"#DIV/0!"}},"NA","NA","NA","NA","NA",{"$f":"AVERAGE(R26:V26)","v":{"$error":"#DIV/0!"}},{"$f":"STDEV(R26:V26)","v":{"$error":"#DIV/0!"}},"NA","NA","NA","NA","NA",{"$f":"AVERAGE(Y26:AC26)","v":{"$error":"#DIV/0!"}},{"$f":"STDEV(Y26:AC26)","v":{"$error":"#DIV/0!"}},"NA","NA","NA","NA","NA",{"$f":"AVERAGE(AF26:AJ26)","v":{"$error":"#DIV/0!"}},{"$f":"STDEV(AF26:AJ26)","v":{"$error":"#DIV/0!"}},56,56,54,54,57,{"$f":"AVERAGE(AM26:AQ26)","v":55.4},{"$f":"STDEV(AM26:AQ26)","v":1.3416407864998738},6,8,11,8,6,{"$f":"AVERAGE(AT26:AX26)","v":7.8},{"$f":"STDEV(AT26:AX26)","v":2.0493901531919203},0,1,2,1,1,{"$f":"AVERAGE(BA26:BE26)","v":1},{"$f":"STDEV(BA26:BE26)","v":0.7071067811865476}]
[null,3,null,"NA","NA","NA","NA","NA",{"$f":"AVERAGE(D27:H27)","v":{"$error":"#DIV/0!"}},{"$f":"STDEV(D27:H27)","v":{"$error":"#DIV/0!"}},"NA","NA","NA","NA","NA",{"$f":"AVERAGE(K27:O27)","v":{"$error":"#DIV/0!"}},{"$f":"STDEV(K27:O27)","v":{"$error":"#DIV/0!"}},"NA","NA","NA","NA","NA",{"$f":"AVERAGE(R27:V27)","v":{"$error":"#DIV/0!"}},{"$f":"STDEV(R27:V27)","v":{"$error":"#DIV/0!"}},"NA","NA","NA","NA","NA",{"$f":"AVERAGE(Y27:AC27)","v":{"$error":"#DIV/0!"}},{"$f":"STDEV(Y27:AC27)","v":{"$error":"#DIV/0!"}},"NA","NA","NA","NA","NA",{"$f":"AVERAGE(AF27:AJ27)","v":{"$error":"#DIV/0!"}},{"$f":"STDEV(AF27:AJ27)","v":{"$error":"#DIV/0!"}},38,46,51,57,53,{"$f":"AVERAGE(AM27:AQ27)","v":49},{"$f":"STDEV(AM27:AQ27)","v":{"v":7.314369419163897,"d":"7"}},8,9,6,9,6,{"$f":"AVERAGE(AT27:AX27)","v":{"v":7.6,"d":"8"}},{"$f":"STDEV(AT27:AX27)","v":{"v":1.5165750888103091,"d":"2"}},1,0,2,0,0,{"$f":"AVERAGE(BA27:BE27)","v":{"v":0.6,"d":"1"}},{"$f":"STDEV(BA27:BE27)","v":{"v":0.8944271909999159,"d":"1"}}]
["average",{"$nulls":7},{"$f":"AVERAGE(I25:I27)","v":{"$error":"#DIV/0!"}},{"$nulls":6},{"$f":"AVERAGE(P25:P27)","v":{"$error":"#DIV/0!"}},{"$nulls":6},{"$f":"AVERAGE(W25:W27)","v":{"$error":"#DIV/0!"}},{"$nulls":6},{"$f":"AVERAGE(AD25:AD27)","v":{"$error":"#DIV/0!"}},{"$nulls":6},{"$f":"AVERAGE(AK25:AK27)","v":{"$error":"#DIV/0!"}},{"$nulls":6},{"$f":"AVERAGE(AR25:AR27)","v":{"v":55.46666666666667,"d":"55"}},{"$nulls":6},{"$f":"AVERAGE(AY25:AY27)","v":{"v":9.066666666666668,"d":"9"}},{"$nulls":6},{"$f":"AVERAGE(BF25:BF27)","v":{"v":0.8666666666666667,"d":"1"}}]
["stdev",{"$nulls":7},{"$f":"SUM(J25:J27)","v":{"$error":"#DIV/0!"}},{"$nulls":6},{"$f":"SUM(Q25:Q27)","v":{"$error":"#DIV/0!"}},{"$nulls":6},{"$f":"SUM(X25:X27)","v":{"$error":"#DIV/0!"}},{"$nulls":6},{"$f":"SUM(AE25:AE27)","v":{"$error":"#DIV/0!"}},{"$nulls":6},{"$f":"SUM(AL25:AL27)","v":{"$error":"#DIV/0!"}},{"$nulls":6},{"$f":"SUM(AS25:AS27)","v":{"v":14.443928657058883,"d":"14"}},{"$nulls":6},{"$f":"SUM(AZ25:AZ27)","v":{"v":6.154401063111184,"d":"6"}},{"$nulls":6},{"$f":"SUM(BG25:BG27)","v":{"v":2.308640753373011,"d":"2"}}]
["p+3",1,null,"NA","NA","NA","NA","NA",{"$f":"AVERAGE(D30:H30)","v":{"$error":"#DIV/0!"}},{"$f":"STDEV(D30:H30)","v":{"$error":"#DIV/0!"}},"NA","NA","NA","NA","NA",{"$f":"AVERAGE(K30:O30)","v":{"$error":"#DIV/0!"}},{"$f":"STDEV(K30:O30)","v":{"$error":"#DIV/0!"}},"NA","NA","NA","NA","NA",{"$f":"AVERAGE(R30:V30)","v":{"$error":"#DIV/0!"}},{"$f":"STDEV(R30:V30)","v":{"$error":"#DIV/0!"}},"NA","NA","NA","NA","NA",{"$f":"AVERAGE(Y30:AC30)","v":{"$error":"#DIV/0!"}},{"$f":"STDEV(Y30:AC30)","v":{"$error":"#DIV/0!"}},"NA","NA","NA","NA","NA",{"$f":"AVERAGE(AF30:AJ30)","v":{"$error":"#DIV/0!"}},{"$f":"STDEV(AF30:AJ30)","v":{"$error":"#DIV/0!"}},"NA","NA","NA","NA","NA",{"$f":"AVERAGE(AM30:AQ30)","v":{"$error":"#DIV/0!"}},{"$f":"STDEV(AM30:AQ30)","v":{"$error":"#DIV/0!"}},31,40,30,29,22,{"$f":"AVERAGE(AT30:AX30)","v":{"v":30.4,"d":"30"}},{"$f":"STDEV(AT30:AX30)","v":{"v":6.426507605223848,"d":"6"}},2,4,5,3,4,{"$f":"AVERAGE(BA30:BE30)","v":{"v":3.6,"d":"4"}},{"$f":"STDEV(BA30:BE30)","v":{"v":1.1401754250991383,"d":"1"}}]
[null,2,null,"NA","NA","NA","NA","NA",{"$f":"AVERAGE(D31:H31)","v":{"$error":"#DIV/0!"}},{"$f":"STDEV(D31:H31)","v":{"$error":"#DIV/0!"}},"NA","NA","NA","NA","NA",{"$f":"AVERAGE(K31:O31)","v":{"$error":"#DIV/0!"}},{"$f":"STDEV(K31:O31)","v":{"$error":"#DIV/0!"}},"NA","NA","NA","NA","NA",{"$f":"AVERAGE(R31:V31)","v":{"$error":"#DIV/0!"}},{"$f":"STDEV(R31:V31)","v":{"$error":"#DIV/0!"}},"NA","NA","NA","NA","NA",{"$f":"AVERAGE(Y31:AC31)","v":{"$error":"#DIV/0!"}},{"$f":"STDEV(Y31:AC31)","v":{"$error":"#DIV/0!"}},"NA","NA","NA","NA","NA",{"$f":"AVERAGE(AF31:AJ31)","v":{"$error":"#DIV/0!"}},{"$f":"STDEV(AF31:AJ31)","v":{"$error":"#DIV/0!"}},83,62,91,80,74,{"$f":"AVERAGE(AM31:AQ31)","v":78},{"$f":"STDEV(AM31:AQ31)","v":{"v":10.8397416943394,"d":"11"}},13,13,12,10,14,{"$f":"AVERAGE(AT31:AX31)","v":{"v":12.4,"d":"12"}},{"$f":"STDEV(AT31:AX31)","v":{"v":1.5165750888103138,"d":"2"}},1,3,2,1,0,{"$f":"AVERAGE(BA31:BE31)","v":{"v":1.4,"d":"1"}},{"$f":"STDEV(BA31:BE31)","v":{"v":1.1401754250991378,"d":"1"}}]
[null,3,null,"NA","NA","NA","NA","NA",{"$f":"AVERAGE(D32:H32)","v":{"$error":"#DIV/0!"}},{"$f":"STDEV(D32:H32)","v":{"$error":"#DIV/0!"}},"NA","NA","NA","NA","NA",{"$f":"AVERAGE(K32:O32)","v":{"$error":"#DIV/0!"}},{"$f":"STDEV(K32:O32)","v":{"$error":"#DIV/0!"}},"NA","NA","NA","NA","NA",{"$f":"AVERAGE(R32:V32)","v":{"$error":"#DIV/0!"}},{"$f":"STDEV(R32:V32)","v":{"$error":"#DIV/0!"}},"NA","NA","NA","NA","NA",{"$f":"AVERAGE(Y32:AC32)","v":{"$error":"#DIV/0!"}},{"$f":"STDEV(Y32:AC32)","v":{"$error":"#DIV/0!"}},"NA","NA","NA","NA","NA",{"$f":"AVERAGE(AF32:AJ32)","v":{"$error":"#DIV/0!"}},{"$f":"STDEV(AF32:AJ32)","v":{"$error":"#DIV/0!"}},56,62,76,68,75,{"$f":"AVERAGE(AM32:AQ32)","v":{"v":67.4,"d":"67"}},{"$f":"STDEV(AM32:AQ32)","v":{"v":8.532291603080628,"d":"9"}},7,11,8,9,7,{"$f":"AVERAGE(AT32:AX32)","v":{"v":8.4,"d":"8"}},{"$f":"STDEV(AT32:AX32)","v":{"v":1.6733200530681502,"d":"2"}},0,2,0,2,1,{"$f":"AVERAGE(BA32:BE32)","v":1},{"$f":"STDEV(BA32:BE32)","v":1}]
["average",{"$nulls":7},{"$f":"AVERAGE(I30:I32)","v":{"$error":"#DIV/0!"}},{"$nulls":6},{"$f":"AVERAGE(P30:P32)","v":{"$error":"#DIV/0!"}},{"$nulls":6},{"$f":"AVERAGE(W30:W32)","v":{"$error":"#DIV/0!"}},{"$nulls":6},{"$f":"AVERAGE(AD30:AD32)","v":{"$error":"#DIV/0!"}},{"$nulls":6},{"$f":"AVERAGE(AK30:AK32)","v":{"$error":"#DIV/0!"}},{"$nulls":6},{"$f":"AVERAGE(AR30:AR32)","v":{"$error":"#DIV/0!"}},{"$nulls":6},{"$f":"AVERAGE(AY30:AY32)","v":{"v":17.066666666666666,"d":"17"}},{"$nulls":6},{"$f":"AVERAGE(BF30:BF32)","v":2}]
["stdev",{"$nulls":7},{"$f":"SUM(J30:J32)","v":{"$error":"#DIV/0!"}},{"$nulls":6},{"$f":"SUM(Q30:Q32)","v":{"$error":"#DIV/0!"}},{"$nulls":6},{"$f":"SUM(X30:X32)","v":{"$error":"#DIV/0!"}},{"$nulls":6},{"$f":"SUM(AE30:AE32)","v":{"$error":"#DIV/0!"}},{"$nulls":6},{"$f":"SUM(AL30:AL32)","v":{"$error":"#DIV/0!"}},{"$nulls":6},{"$f":"SUM(AS30:AS32)","v":{"$error":"#DIV/0!"}},{"$nulls":6},{"$f":"SUM(AZ30:AZ32)","v":{"v":9.616402747102313,"d":"10"}},{"$nulls":6},{"$f":"SUM(BG30:BG32)","v":{"v":3.280350850198276,"d":"3"}}]
["pS2213 APR",1,null,"NA","NA","NA","NA","NA",{"$f":"AVERAGE(D35:H35)","v":{"$error":"#DIV/0!"}},{"$f":"STDEV(D35:H35)","v":{"$error":"#DIV/0!"}},"NA","NA","NA","NA","NA",{"$f":"AVERAGE(K35:O35)","v":{"$error":"#DIV/0!"}},{"$f":"STDEV(K35:O35)","v":{"$error":"#DIV/0!"}},"NA","NA","NA","NA","NA",{"$f":"AVERAGE(R35:V35)","v":{"$error":"#DIV/0!"}},{"$f":"STDEV(R35:V35)","v":{"$error":"#DIV/0!"}},"NA","NA","NA","NA","NA",{"$f":"AVERAGE(Y35:AC35)","v":{"$error":"#DIV/0!"}},{"$f":"STDEV(Y35:AC35)","v":{"$error":"#DIV/0!"}},"NA","NA","NA","NA","NA",{"$f":"AVERAGE(AF35:AJ35)","v":{"$error":"#DIV/0!"}},{"$f":"STDEV(AF35:AJ35)","v":{"$error":"#DIV/0!"}},51,36,45,54,45,{"$f":"AVERAGE(AM35:AQ35)","v":46.2},{"$f":"STDEV(AM35:AQ35)","v":6.9065186599327895},7,1,8,10,7,{"$f":"AVERAGE(AT35:AX35)","v":6.6},{"$f":"STDEV(AT35:AX35)","v":3.3615472627943217},2,0,1,0,1,{"$f":"AVERAGE(BA35:BE35)","v":0.8},{"$f":"STDEV(BA35:BE35)","v":0.8366600265340756}]
["p+0",2,null,"NA","NA","NA","NA","NA",{"$f":"AVERAGE(D36:H36)","v":{"$error":"#DIV/0!"}},{"$f":"STDEV(D36:H36)","v":{"$error":"#DIV/0!"}},"                     ","NA","NA","NA","NA",{"$f":"AVERAGE(K36:O36)","v":{"$error":"#DIV/0!"}},{"$f":"STDEV(K36:O36)","v":{"$error":"#DIV/0!"}},"NA","NA","NA","NA","NA",{"$f":"AVERAGE(R36:V36)","v":{"$error":"#DIV/0!"}},{"$f":"STDEV(R36:V36)","v":{"$error":"#DIV/0!"}},"NA","NA","NA","NA","NA",{"$f":"AVERAGE(Y36:AC36)","v":{"$error":"#DIV/0!"}},{"$f":"STDEV(Y36:AC36)","v":{"$error":"#DIV/0!"}},"NA","NA","NA","NA","NA",{"$f":"AVERAGE(AF36:AJ36)","v":{"$error":"#DIV/0!"}},{"$f":"STDEV(AF36:AJ36)","v":{"$error":"#DIV/0!"}},44,47,58,57,46,{"$f":"AVERAGE(AM36:AQ36)","v":50.4},{"$f":"STDEV(AM36:AQ36)","v":6.580273550544854},7,11,7,5,4,{"$f":"AVERAGE(AT36:AX36)","v":6.8},{"$f":"STDEV(AT36:AX36)","v":2.683281572999748},1,2,0,0,0,{"$f":"AVERAGE(BA36:BE36)","v":0.6},{"$f":"STDEV(BA36:BE36)","v":0.8944271909999159}]
[null,3,null,"NA","NA","NA","NA","NA",{"$f":"AVERAGE(D37:H37)","v":{"$error":"#DIV/0!"}},{"$f":"STDEV(D37:H37)","v":{"$error":"#DIV/0!"}},"NA","NA","NA","NA","NA",{"$f":"AVERAGE(K37:O37)","v":{"$error":"#DIV/0!"}},{"$f":"STDEV(K37:O37)","v":{"$error":"#DIV/0!"}},"NA","NA","NA","NA","NA",{"$f":"AVERAGE(R37:V37)","v":{"$error":"#DIV/0!"}},{"$f":"STDEV(R37:V37)","v":{"$error":"#DIV/0!"}},"NA","NA","NA","NA","NA",{"$f":"AVERAGE(Y37:AC37)","v":{"$error":"#DIV/0!"}},{"$f":"STDEV(Y37:AC37)","v":{"$error":"#DIV/0!"}},"NA","NA","NA","NA","NA",{"$f":"AVERAGE(AF37:AJ37)","v":{"$error":"#DIV/0!"}},{"$f":"STDEV(AF37:AJ37)","v":{"$error":"#DIV/0!"}},66,70,58,48,63,{"$f":"AVERAGE(AM37:AQ37)","v":61},{"$f":"STDEV(AM37:AQ37)","v":{"v":8.48528137423857,"d":"8"}},8,6,9,9,8,{"$f":"AVERAGE(AT37:AX37)","v":8},{"$f":"STDEV(AT37:AX37)","v":{"v":1.224744871391589,"d":"1"}},1,0,2,0,0,{"$f":"AVERAGE(BA37:BE37)","v":{"v":0.6,"d":"1"}},{"$f":"STDEV(BA37:BE37)","v":{"v":0.8944271909999159,"d":"1"}}]
["average",{"$nulls":6},"               ",{"$f":"AVERAGE(I35:I37)","v":{"$error":"#DIV/0!"}},null,"  ",{"$nulls":4},{"$f":"AVERAGE(P35:P37)","v":{"$error":"#DIV/0!"}},{"$nulls":6},{"$f":"AVERAGE(W35:W37)","v":{"$error":"#DIV/0!"}},{"$nulls":6},{"$f":"AVERAGE(AD35:AD37)","v":{"$error":"#DIV/0!"}},{"$nulls":6},{"$f":"AVERAGE(AK35:AK37)","v":{"$error":"#DIV/0!"}},{"$nulls":6},{"$f":"AVERAGE(AR35:AR37)","v":{"v":52.53333333333333,"d":"53"}},{"$nulls":6},{"$f":"AVERAGE(AY35:AY37)","v":{"v":7.133333333333333,"d":"7"}},{"$nulls":6},{"$f":"AVERAGE(BF35:BF37)","v":{"v":0.6666666666666666,"d":"1"}}]
["stdev",{"$nulls":7},{"$f":"SUM(J35:J37)","v":{"$error":"#DIV/0!"}},{"$nulls":6},{"$f":"SUM(Q35:Q37)","v":{"$error":"#DIV/0!"}},{"$nulls":6},{"$f":"SUM(X35:X37)","v":{"$error":"#DIV/0!"}},{"$nulls":6},{"$f":"SUM(AE35:AE37)","v":{"$error":"#DIV/0!"}},{"$nulls":6},{"$f":"SUM(AL35:AL37)","v":{"$error":"#DIV/0!"}},{"$nulls":6},{"$f":"SUM(AS35:AS37)","v":{"v":21.972073584716213,"d":"22"}},{"$nulls":6},{"$f":"SUM(AZ35:AZ37)","v":{"v":7.269573707185659,"d":"7"}},{"$nulls":6},{"$f":"SUM(BG35:BG37)","v":{"v":2.625514408533907,"d":"3"}}]
["p+3",1,null,"NA","NA","NA","NA","NA",{"$f":"AVERAGE(D40:H40)","v":{"$error":"#DIV/0!"}},{"$f":"STDEV(D40:H40)","v":{"$error":"#DIV/0!"}},"NA","NA","NA","NA","NA",{"$f":"AVERAGE(K40:O40)","v":{"$error":"#DIV/0!"}},{"$f":"STDEV(K40:O40)","v":{"$error":"#DIV/0!"}},"NA","NA","NA","NA","NA",{"$f":"AVERAGE(R40:V40)","v":{"$error":"#DIV/0!"}},{"$f":"STDEV(R40:V40)","v":{"$error":"#DIV/0!"}},"NA","NA","NA","NA","NA",{"$f":"AVERAGE(Y40:AC40)","v":{"$error":"#DIV/0!"}},{"$f":"STDEV(Y40:AC40)","v":{"$error":"#DIV/0!"}},"NA","NA","NA","NA","NA",{"$f":"AVERAGE(AF40:AJ40)","v":{"$error":"#DIV/0!"}},{"$f":"STDEV(AF40:AJ40)","v":{"$error":"#DIV/0!"}},94,84,93,96,100,{"$f":"AVERAGE(AM40:AQ40)","v":{"v":93.4,"d":"93"}},{"$f":"STDEV(AM40:AQ40)","v":{"v":5.8991524815010505,"d":"6"}},17,15,15,8,6,{"$f":"AVERAGE(AT40:AX40)","v":{"v":12.2,"d":"12"}},{"$f":"STDEV(AT40:AX40)","v":{"v":4.868264577855233,"d":"5"}},3,1,3,3,2,{"$f":"AVERAGE(BA40:BE40)","v":{"v":2.4,"d":"2"}},{"$f":"STDEV(BA40:BE40)","v":{"v":0.8944271909999157,"d":"1"}}]
[null,2,null,"NA","NA","NA","NA","NA",{"$f":"AVERAGE(D41:H41)","v":{"$error":"#DIV/0!"}},{"$f":"STDEV(D41:H41)","v":{"$error":"#DIV/0!"}},"NA","NA","NA","NA","NA",{"$f":"AVERAGE(K41:O41)","v":{"$error":"#DIV/0!"}},{"$f":"STDEV(K41:O41)","v":{"$error":"#DIV/0!"}},"NA","NA","NA","NA","NA",{"$f":"AVERAGE(R41:V41)","v":{"$error":"#DIV/0!"}},{"$f":"STDEV(R41:V41)","v":{"$error":"#DIV/0!"}},"NA","NA","NA","NA","NA",{"$f":"AVERAGE(Y41:AC41)","v":{"$error":"#DIV/0!"}},{"$f":"STDEV(Y41:AC41)","v":{"$error":"#DIV/0!"}},"NA","NA","NA","NA","NA",{"$f":"AVERAGE(AF41:AJ41)","v":{"$error":"#DIV/0!"}},{"$f":"STDEV(AF41:AJ41)","v":{"$error":"#DIV/0!"}},46,46,41,31,38,{"$f":"AVERAGE(AM41:AQ41)","v":{"v":40.4,"d":"40"}},{"$f":"STDEV(AM41:AQ41)","v":{"v":6.268971207462988,"d":"6"}},5,6,4,2,4,{"$f":"AVERAGE(AT41:AX41)","v":{"v":4.2,"d":"4"}},{"$f":"STDEV(AT41:AX41)","v":{"v":1.4832396974191324,"d":"1"}},0,0,0,0,0,{"$f":"AVERAGE(BA41:BE41)","v":0},{"$f":"STDEV(BA41:BE41)","v":0}]
[null,3,null,"NA","NA","NA","NA","NA",{"$f":"AVERAGE(D42:H42)","v":{"$error":"#DIV/0!"}},{"$f":"STDEV(D42:H42)","v":{"$error":"#DIV/0!"}},"NA","NA","NA","NA","NA",{"$f":"AVERAGE(K42:O42)","v":{"$error":"#DIV/0!"}},{"$f":"STDEV(K42:O42)","v":{"$error":"#DIV/0!"}},"NA","NA","NA","NA","NA",{"$f":"AVERAGE(R42:V42)","v":{"$error":"#DIV/0!"}},{"$f":"STDEV(R42:V42)","v":{"$error":"#DIV/0!"}},"NA","NA","NA","NA","NA",{"$f":"AVERAGE(Y42:AC42)","v":{"$error":"#DIV/0!"}},{"$f":"STDEV(Y42:AC42)","v":{"$error":"#DIV/0!"}},"NA","NA","NA","NA","NA",{"$f":"AVERAGE(AF42:AJ42)","v":{"$error":"#DIV/0!"}},{"$f":"STDEV(AF42:AJ42)","v":{"$error":"#DIV/0!"}},56,63,55,63,46,{"$f":"AVERAGE(AM42:AQ42)","v":{"v":56.6,"d":"57"}},{"$f":"STDEV(AM42:AQ42)","v":{"v":7.021395872616797,"d":"7"}},6,3,8,9,10,{"$f":"AVERAGE(AT42:AX42)","v":{"v":7.2,"d":"7"}},{"$f":"STDEV(AT42:AX42)","v":{"v":2.774887385102322,"d":"3"}},0,3,0,1,1,{"$f":"AVERAGE(BA42:BE42)","v":1},{"$f":"STDEV(BA42:BE42)","v":{"v":1.224744871391589,"d":"1"}}]
["average",{"$nulls":7},{"$f":"AVERAGE(I40:I42)","v":{"$error":"#DIV/0!"}},{"$nulls":6},{"$f":"AVERAGE(P40:P42)","v":{"$error":"#DIV/0!"}},{"$nulls":6},{"$f":"AVERAGE(W40:W42)","v":{"$error":"#DIV/0!"}},{"$nulls":6},{"$f":"AVERAGE(AD40:AD42)","v":{"$error":"#DIV/0!"}},{"$nulls":6},{"$f":"AVERAGE(AK40:AK42)","v":{"$error":"#DIV/0!"}},{"$nulls":6},{"$f":"AVERAGE(AR40:AR42)","v":{"v":63.46666666666667,"d":"63"}},{"$nulls":6},{"$f":"AVERAGE(AY40:AY42)","v":{"v":7.866666666666666,"d":"8"}},{"$nulls":6},{"$f":"AVERAGE(BF40:BF42)","v":{"v":1.1333333333333333,"d":"1"}}]
["stdev",{"$nulls":7},{"$f":"SUM(J40:J42)","v":{"$error":"#DIV/0!"}},{"$nulls":6},{"$f":"SUM(Q40:Q42)","v":{"$error":"#DIV/0!"}},{"$nulls":6},{"$f":"SUM(X40:X42)","v":{"$error":"#DIV/0!"}},{"$nulls":6},{"$f":"SUM(AE40:AE42)","v":{"$error":"#DIV/0!"}},{"$nulls":6},{"$f":"SUM(AL40:AL42)","v":{"$error":"#DIV/0!"}},{"$nulls":6},{"$f":"SUM(AS40:AS42)","v":{"v":19.189519561580834,"d":"19"}},{"$nulls":6},{"$f":"SUM(AZ40:AZ42)","v":{"v":9.126391660376687,"d":"9"}},{"$nulls":6},{"$f":"SUM(BG40:BG42)","v":{"v":2.1191720623915047,"d":"2"}}]
[]
[]
["T4","2018-02-12"]
["Sample","Dilution:",null,"10^0",{"$nulls":4},"AVERAGE","STDEV","10^-1",{"$nulls":4},"AVERAGE","STDEV","10^-2",{"$nulls":4},"AVERAGE","STDEV","10^-3",{"$nulls":4},"AVERAGE","STDEV","10^-4",{"$nulls":4},"AVERAGE","STDEV","10^-5",{"$nulls":4},"AVERAGE","STDEV","10^-6",{"$nulls":4},"AVERAGE","STDEV","10^-7",{"$nulls":4},"AVERAGE","STDEV"]
["Blank",1,null,0,0,0,0,0,{"$f":"AVERAGE(D49:H49)","v":0},{"$f":"STDEV(D49:H49)","v":0},0,0,0,0,0,{"$f":"AVERAGE(K49:O49)","v":0},{"$f":"STDEV(K49:O49)","v":0},0,0,0,0,0,{"$f":"AVERAGE(R49:V49)","v":0},{"$f":"STDEV(R49:V49)","v":0},0,0,0,0,0,{"$f":"AVERAGE(Y49:AC49)","v":0},{"$f":"STDEV(Y49:AC49)","v":0},0,0,0,0,0,{"$f":"AVERAGE(AF49:AJ49)","v":0},{"$f":"STDEV(AF49:AJ49)","v":0},0,0,0,0,0,{"$f":"AVERAGE(AM49:AQ49)","v":0},{"$f":"STDEV(AM49:AQ49)","v":0},0,0,0,0,0,{"$f":"AVERAGE(AT49:AX49)","v":0},{"$f":"STDEV(AT49:AX49)","v":0},0,0,0,0,0,{"$f":"AVERAGE(BA49:BE49)","v":0},{"$f":"STDEV(BA49:BE49)","v":0}]
[null,2,null,0,0,0,0,0,{"$f":"AVERAGE(D50:H50)","v":0},{"$f":"STDEV(D50:H50)","v":0},0,0,0,0,0,{"$f":"AVERAGE(K50:O50)","v":0},{"$f":"STDEV(K50:O50)","v":0},0,0,0,0,0,{"$f":"AVERAGE(R50:V50)","v":0},{"$f":"STDEV(R50:V50)","v":0},0,0,0,0,0,{"$f":"AVERAGE(Y50:AC50)","v":0},{"$f":"STDEV(Y50:AC50)","v":0},0,0,0,0,0,{"$f":"AVERAGE(AF50:AJ50)","v":0},{"$f":"STDEV(AF50:AJ50)","v":0},0,0,0,0,0,{"$f":"AVERAGE(AM50:AQ50)","v":0},{"$f":"STDEV(AM50:AQ50)","v":0},0,0,0,0,0,{"$f":"AVERAGE(AT50:AX50)","v":0},{"$f":"STDEV(AT50:AX50)","v":0},0,0,0,0,0,{"$f":"AVERAGE(BA50:BE50)","v":0},{"$f":"STDEV(BA50:BE50)","v":0}]
[null,3,null,0,0,0,0,0,{"$f":"AVERAGE(D51:H51)","v":0},{"$f":"STDEV(D51:H51)","v":0},0,0,0,0,0,{"$f":"AVERAGE(K51:O51)","v":0},{"$f":"STDEV(K51:O51)","v":0},0,0,0,0,0,{"$f":"AVERAGE(R51:V51)","v":0},{"$f":"STDEV(R51:V51)","v":0},0,0,0,0,0,{"$f":"AVERAGE(Y51:AC51)","v":0},{"$f":"STDEV(Y51:AC51)","v":0},0,0,0,0,0,{"$f":"AVERAGE(AF51:AJ51)","v":0},{"$f":"STDEV(AF51:AJ51)","v":0},0,0,0,0,0,{"$f":"AVERAGE(AM51:AQ51)","v":0},{"$f":"STDEV(AM51:AQ51)","v":0},0,0,0,0,0,{"$f":"AVERAGE(AT51:AX51)","v":0},{"$f":"STDEV(AT51:AX51)","v":0},0,0,0,0,0,{"$f":"AVERAGE(BA51:BE51)","v":0},{"$f":"STDEV(BA51:BE51)","v":0}]
[{"$nulls":8},{"$f":"AVERAGE(I49:I51)","v":0},{"$nulls":6},{"$f":"AVERAGE(P49:P51)","v":0},{"$nulls":6},{"$f":"AVERAGE(W49:W51)","v":0},{"$nulls":6},{"$f":"AVERAGE(AD49:AD51)","v":0},{"$nulls":6},{"$f":"AVERAGE(AK49:AK51)","v":0},{"$nulls":6},{"$f":"AVERAGE(AR49:AR51)","v":0},{"$nulls":6},{"$f":"AVERAGE(AY49:AY51)","v":0},{"$nulls":6},{"$f":"AVERAGE(BF49:BF51)","v":0}]
[{"$nulls":8},{"$f":"SUM(J49:J51)","v":0},{"$nulls":6},{"$f":"SUM(Q49:Q51)","v":0},{"$nulls":6},{"$f":"SUM(X49:X51)","v":0},{"$nulls":6},{"$f":"SUM(AE49:AE51)","v":0},{"$nulls":6},{"$f":"SUM(AL49:AL51)","v":0},{"$nulls":6},{"$f":"SUM(AS49:AS51)","v":0},{"$nulls":6},{"$f":"SUM(AZ49:AZ51)","v":0},{"$nulls":6},{"$f":"SUM(BG49:BG51)","v":0}]
["BW25113 -",1,null,"NA","NA","NA","NA","NA",{"$f":"AVERAGE(D54:H54)","v":{"$error":"#DIV/0!"}},{"$f":"STDEV(D54:H54)","v":{"$error":"#DIV/0!"}},"NA","NA","NA","NA","NA",{"$f":"AVERAGE(K54:O54)","v":{"$error":"#DIV/0!"}},{"$f":"STDEV(K54:O54)","v":{"$error":"#DIV/0!"}},"NA","NA","NA","NA","NA",{"$f":"AVERAGE(R54:V54)","v":{"$error":"#DIV/0!"}},{"$f":"STDEV(R54:V54)","v":{"$error":"#DIV/0!"}},"NA","NA","NA","NA","NA",{"$f":"AVERAGE(Y54:AC54)","v":{"$error":"#DIV/0!"}},{"$f":"STDEV(Y54:AC54)","v":{"$error":"#DIV/0!"}},"NA","NA","NA","NA","NA",{"$f":"AVERAGE(AF54:AJ54)","v":{"$error":"#DIV/0!"}},{"$f":"STDEV(AF54:AJ54)","v":{"$error":"#DIV/0!"}},42,43,57,44,50,{"$f":"AVERAGE(AM54:AQ54)","v":{"v":47.2,"d":"47"}},{"$f":"STDEV(AM54:AQ54)","v":{"v":6.300793600809331,"d":"6"}},8,3,1,6,4,{"$f":"AVERAGE(AT54:AX54)","v":{"v":4.4,"d":"4"}},{"$f":"STDEV(AT54:AX54)","v":{"v":2.701851217221259,"d":"3"}},2,2,0,0,1,{"$f":"AVERAGE(BA54:BE54)","v":1},{"$f":"STDEV(BA54:BE54)","v":1}]
["pS2213 - ",2,null,"NA","NA","NA","NA","NA",{"$f":"AVERAGE(D55:H55)","v":{"$error":"#DIV/0!"}},{"$f":"STDEV(D55:H55)","v":{"$error":"#DIV/0!"}},"NA","NA","NA","NA","NA",{"$f":"AVERAGE(K55:O55)","v":{"$error":"#DIV/0!"}},{"$f":"STDEV(K55:O55)","v":{"$error":"#DIV/0!"}},"NA","NA","NA","NA","NA",{"$f":"AVERAGE(R55:V55)","v":{"$error":"#DIV/0!"}},{"$f":"STDEV(R55:V55)","v":{"$error":"#DIV/0!"}},"NA","NA","NA","NA","NA",{"$f":"AVERAGE(Y55:AC55)","v":{"$error":"#DIV/0!"}},{"$f":"STDEV(Y55:AC55)","v":{"$error":"#DIV/0!"}},"NA","NA","NA","NA","NA",{"$f":"AVERAGE(AF55:AJ55)","v":{"$error":"#DIV/0!"}},{"$f":"STDEV(AF55:AJ55)","v":{"$error":"#DIV/0!"}},58,55,49,50,49,{"$f":"AVERAGE(AM55:AQ55)","v":{"v":52.2,"d":"52"}},{"$f":"STDEV(AM55:AQ55)","v":{"v":4.08656334834051,"d":"4"}},2,7,1,5,6,{"$f":"AVERAGE(AT55:AX55)","v":{"v":4.2,"d":"4"}},{"$f":"STDEV(AT55:AX55)","v":{"v":2.588435821108957,"d":"3"}},2,0,0,0,0,{"$f":"AVERAGE(BA55:BE55)","v":{"v":0.4,"d":"0"}},{"$f":"STDEV(BA55:BE55)","v":{"v":0.8944271909999159,"d":"1"}}]
[null,3,null,"NA","NA","NA","NA","NA",{"$f":"AVERAGE(D56:H56)","v":{"$error":"#DIV/0!"}},{"$f":"STDEV(D56:H56)","v":{"$error":"#DIV/0!"}},"NA","NA","NA","NA","NA",{"$f":"AVERAGE(K56:O56)","v":{"$error":"#DIV/0!"}},{"$f":"STDEV(K56:O56)","v":{"$error":"#DIV/0!"}},"NA","NA","NA","NA","NA",{"$f":"AVERAGE(R56:V56)","v":{"$error":"#DIV/0!"}},{"$f":"STDEV(R56:V56)","v":{"$error":"#DIV/0!"}},"NA","NA","NA","NA","NA",{"$f":"AVERAGE(Y56:AC56)","v":{"$error":"#DIV/0!"}},{"$f":"STDEV(Y56:AC56)","v":{"$error":"#DIV/0!"}},"NA","NA","NA","NA","NA",{"$f":"AVERAGE(AF56:AJ56)","v":{"$error":"#DIV/0!"}},{"$f":"STDEV(AF56:AJ56)","v":{"$error":"#DIV/0!"}},31,40,32,45,44,{"$f":"AVERAGE(AM56:AQ56)","v":{"v":38.4,"d":"38"}},{"$f":"STDEV(AM56:AQ56)","v":{"v":6.580273550544837,"d":"7"}},3,7,4,7,8,{"$f":"AVERAGE(AT56:AX56)","v":{"v":5.8,"d":"6"}},{"$f":"STDEV(AT56:AX56)","v":{"v":2.1679483388678804,"d":"2"}},0,2,0,2,2,{"$f":"AVERAGE(BA56:BE56)","v":{"v":1.2,"d":"1"}},{"$f":"STDEV(BA56:BE56)","v":{"v":1.0954451150103321,"d":"1"}}]
["average",{"$nulls":7},{"$f":"AVERAGE(I54:I56)","v":{"$error":"#DIV/0!"}},{"$nulls":6},{"$f":"AVERAGE(P54:P56)","v":{"$error":"#DIV/0!"}},{"$nulls":6},{"$f":"AVERAGE(W54:W56)","v":{"$error":"#DIV/0!"}},{"$nulls":6},{"$f":"AVERAGE(AD54:AD56)","v":{"$error":"#DIV/0!"}},{"$nulls":6},{"$f":"AVERAGE(AK54:AK56)","v":{"$error":"#DIV/0!"}},{"$nulls":6},{"$f":"AVERAGE(AR54:AR56)","v":{"v":45.93333333333334,"d":"46"}},{"$nulls":6},{"$f":"AVERAGE(AY54:AY56)","v":{"v":4.800000000000001,"d":"5"}},{"$nulls":6},{"$f":"AVERAGE(BF54:BF56)","v":{"v":0.8666666666666666,"d":"1"}}]
["stdev",{"$nulls":7},{"$f":"SUM(J54:J56)","v":{"$error":"#DIV/0!"}},{"$nulls":6},{"$f":"SUM(Q54:Q56)","v":{"$error":"#DIV/0!"}},{"$nulls":6},{"$f":"SUM(X54:X56)","v":{"$error":"#DIV/0!"}},{"$nulls":6},{"$f":"SUM(AE54:AE56)","v":{"$error":"#DIV/0!"}},{"$nulls":6},{"$f":"SUM(AL54:AL56)","v":{"$error":"#DIV/0!"}},{"$nulls":6},{"$f":"SUM(AS54:AS56)","v":{"v":16.96763049969468,"d":"17"}},{"$nulls":6},{"$f":"SUM(AZ54:AZ56)","v":{"v":7.458235377198097,"d":"7"}},{"$nulls":6},{"$f":"SUM(BG54:BG56)","v":{"v":2.989872306010248,"d":"3"}}]
["pS2213 - ",1,null,"NA","NA","NA","NA","NA",{"$f":"AVERAGE(D59:H59)","v":{"$error":"#DIV/0!"}},{"$f":"STDEV(D59:H59)","v":{"$error":"#DIV/0!"}},"NA","NA","NA","NA","NA",{"$f":"AVERAGE(K59:O59)","v":{"$error":"#DIV/0!"}},{"$f":"STDEV(K59:O59)","v":{"$error":"#DIV/0!"}},"NA","NA","NA","NA","NA",{"$f":"AVERAGE(R59:V59)","v":{"$error":"#DIV/0!"}},{"$f":"STDEV(R59:V59)","v":{"$error":"#DIV/0!"}},"NA","NA","NA","NA","NA",{"$f":"AVERAGE(Y59:AC59)","v":{"$error":"#DIV/0!"}},{"$f":"STDEV(Y59:AC59)","v":{"$error":"#DIV/0!"}},15,12,15,10,11,{"$f":"AVERAGE(AF59:AJ59)","v":12.6},{"$f":"STDEV(AF59:AJ59)","v":2.30217288664427},0,3,2,1,0,{"$f":"AVERAGE(AM59:AQ59)","v":1.2},{"$f":"STDEV(AM59:AQ59)","v":1.3038404810405297},0,0,1,0,0,{"$f":"AVERAGE(AT59:AX59)","v":0.2},{"$f":"STDEV(AT59:AX59)","v":0.4472135954999579},0,0,0,0,0,{"$f":"AVERAGE(BA59:BE59)","v":0},{"$f":"STDEV(BA59:BE59)","v":0}]
["p+0",2,null,"NA","NA","NA","NA","NA",{"$f":"AVERAGE(D60:H60)","v":{"$error":"#DIV/0!"}},{"$f":"STDEV(D60:H60)","v":{"$error":"#DIV/0!"}},"NA","NA","NA","NA","NA",{"$f":"AVERAGE(K60:O60)","v":{"$error":"#DIV/0!"}},{"$f":"STDEV(K60:O60)","v":{"$error":"#DIV/0!"}},"NA","NA","NA","NA","NA",{"$f":"AVERAGE(R60:V60)","v":{"$error":"#DIV/0!"}},{"$f":"STDEV(R60:V60)","v":{"$error":"#DIV/0!"}},"NA","NA","NA","NA","NA",{"$f":"AVERAGE(Y60:AC60)","v":{"$error":"#DIV/0!"}},{"$f":"STDEV(Y60:AC60)","v":{"$error":"#DIV/0!"}},62,65,73,55,60,{"$f":"AVERAGE(AF60:AJ60)","v":63},{"$f":"STDEV(AF60:AJ60)","v":6.670832032063167},13,12,11,7,9,{"$f":"AVERAGE(AM60:AQ60)","v":10.4},{"$f":"STDEV(AM60:AQ60)","v":2.4083189157584615},2,1,2,0,1,{"$f":"AVERAGE(AT60:AX60)","v":1.2},{"$f":"STDEV(AT60:AX60)","v":0.8366600265340756},0,0,0,0,0,{"$f":"AVERAGE(BA60:BE60)","v":0},{"$f":"STDEV(BA60:BE60)","v":0}]
[null,3,null,"NA","NA","NA","NA","NA",{"$f":"AVERAGE(D61:H61)","v":{"$error":"#DIV/0!"}},{"$f":"STDEV(D61:H61)","v":{"$error":"#DIV/0!"}},"NA","NA","NA","NA","NA",{"$f":"AVERAGE(K61:O61)","v":{"$error":"#DIV/0!"}},{"$f":"STDEV(K61:O61)","v":{"$error":"#DIV/0!"}},"NA","NA","NA","NA","NA",{"$f":"AVERAGE(R61:V61)","v":{"$error":"#DIV/0!"}},{"$f":"STDEV(R61:V61)","v":{"$error":"#DIV/0!"}},39,47,53,29,39,{"$f":"AVERAGE(Y61:AC61)","v":{"v":41.4,"d":"41"}},{"$f":"STDEV(Y61:AC61)","v":{"v":9.099450532861871,"d":"9"}},1,0,3,3,3,{"$f":"AVERAGE(AF61:AJ61)","v":2},{"$f":"STDEV(AF61:AJ61)","v":{"v":1.4142135623730951,"d":"1"}},0,1,1,0,1,{"$f":"AVERAGE(AM61:AQ61)","v":{"v":0.6,"d":"1"}},{"$f":"STDEV(AM61:AQ61)","v":{"v":0.5477225575051661,"d":"1"}},0,0,0,0,0,{"$f":"AVERAGE(AT61:AX61)","v":0},{"$f":"STDEV(AT61:AX61)","v":0},0,0,0,0,0,{"$f":"AVERAGE(BA61:BE61)","v":0},{"$f":"STDEV(BA61:BE61)","v":0}]
["average",{"$nulls":7},{"$f":"AVERAGE(I59:I61)","v":{"$error":"#DIV/0!"}},{"$nulls":6},{"$f":"AVERAGE(P59:P61)","v":{"$error":"#DIV/0!"}},{"$nulls":6},{"$f":"AVERAGE(W59:W61)","v":{"$error":"#DIV/0!"}},{"$nulls":6},{"$f":"AVERAGE(AD59:AD61)","v":{"$error":"#DIV/0!"}},{"$nulls":6},{"$f":"AVERAGE(AK59:AK61)","v":{"v":25.866666666666664,"d":"26"}},{"$nulls":6},{"$f":"AVERAGE(AR59:AR61)","v":{"v":4.066666666666666,"d":"4"}},{"$nulls":6},{"$f":"AVERAGE(AY59:AY61)","v":{"v":0.4666666666666666,"d":"0"}},{"$nulls":6},{"$f":"AVERAGE(BF59:BF61)","v":0}]
["stdev",{"$nulls":7},{"$f":"SUM(J59:J61)","v":{"$error":"#DIV/0!"}},{"$nulls":6},{"$f":"SUM(Q59:Q61)","v":{"$error":"#DIV/0!"}},{"$nulls":6},{"$f":"SUM(X59:X61)","v":{"$error":"#DIV/0!"}},{"$nulls":6},{"$f":"SUM(AE59:AE61)","v":{"$error":"#DIV/0!"}},{"$nulls":6},{"$f":"SUM(AL59:AL61)","v":{"v":10.387218481080533,"d":"10"}},{"$nulls":6},{"$f":"SUM(AS59:AS61)","v":{"v":4.2598819543041575,"d":"4"}},{"$nulls":6},{"$f":"SUM(AZ59:AZ61)","v":{"v":1.2838736220340334,"d":"1"}},{"$nulls":6},{"$f":"SUM(BG59:BG61)","v":0}]
["pS2213 A",1,null,"NA","NA","NA","NA","NA",{"$f":"AVERAGE(D64:H64)","v":{"$error":"#DIV/0!"}},{"$f":"STDEV(D64:H64)","v":{"$error":"#DIV/0!"}},"NA","NA","NA","NA","NA",{"$f":"AVERAGE(K64:O64)","v":{"$error":"#DIV/0!"}},{"$f":"STDEV(K64:O64)","v":{"$error":"#DIV/0!"}},"NA","NA","NA","NA","NA",{"$f":"AVERAGE(R64:V64)","v":{"$error":"#DIV/0!"}},{"$f":"STDEV(R64:V64)","v":{"$error":"#DIV/0!"}},18,24,11,18,14,{"$f":"AVERAGE(Y64:AC64)","v":17},{"$f":"STDEV(Y64:AC64)","v":4.898979485566356},0,1,3,2,1,{"$f":"AVERAGE(AF64:AJ64)","v":1.4},{"$f":"STDEV(AF64:AJ64)","v":1.1401754250991378},0,0,0,0,0,{"$f":"AVERAGE(AM64:AQ64)","v":0},{"$f":"STDEV(AM64:AQ64)","v":0},0,0,0,0,0,{"$f":"AVERAGE(AT64:AX64)","v":0},{"$f":"STDEV(AT64:AX64)","v":0},0,0,0,0,0,{"$f":"AVERAGE(BA64:BE64)","v":0},{"$f":"STDEV(BA64:BE64)","v":0}]
["p+0",2,null,"NA","NA","NA","NA","NA",{"$f":"AVERAGE(D65:H65)","v":{"$error":"#DIV/0!"}},{"$f":"STDEV(D65:H65)","v":{"$error":"#DIV/0!"}},"NA","NA","NA","NA","NA",{"$f":"AVERAGE(K65:O65)","v":{"$error":"#DIV/0!"}},{"$f":"STDEV(K65:O65)","v":{"$error":"#DIV/0!"}},"NA","NA","NA","NA","NA",{"$f":"AVERAGE(R65:V65)","v":{"$error":"#DIV/0!"}},{"$f":"STDEV(R65:V65)","v":{"$error":"#DIV/0!"}},"NA","NA","NA","NA","NA",{"$f":"AVERAGE(Y65:AC65)","v":{"$error":"#DIV/0!"}},{"$f":"STDEV(Y65:AC65)","v":{"$error":"#DIV/0!"}},"NA","NA","NA","NA","NA",{"$f":"AVERAGE(AF65:AJ65)","v":{"$error":"#DIV/0!"}},{"$f":"STDEV(AF65:AJ65)","v":{"$error":"#DIV/0!"}},23,25,25,24,21,{"$f":"AVERAGE(AM65:AQ65)","v":23.6},{"$f":"STDEV(AM65:AQ65)","v":1.6733200530681511},4,3,5,6,2,{"$f":"AVERAGE(AT65:AX65)","v":4},{"$f":"STDEV(AT65:AX65)","v":1.5811388300841898},1,0,0,0,0,{"$f":"AVERAGE(BA65:BE65)","v":0.2},{"$f":"STDEV(BA65:BE65)","v":0.4472135954999579}]
[null,3,null,"NA","NA","NA","NA","NA",{"$f":"AVERAGE(D66:H66)","v":{"$error":"#DIV/0!"}},{"$f":"STDEV(D66:H66)","v":{"$error":"#DIV/0!"}},"NA","NA","NA","NA","NA",{"$f":"AVERAGE(K66:O66)","v":{"$error":"#DIV/0!"}},{"$f":"STDEV(K66:O66)","v":{"$error":"#DIV/0!"}},"NA","NA","NA","NA","NA",{"$f":"AVERAGE(R66:V66)","v":{"$error":"#DIV/0!"}},{"$f":"STDEV(R66:V66)","v":{"$error":"#DIV/0!"}},54,54,58,56,47,{"$f":"AVERAGE(Y66:AC66)","v":{"v":53.8,"d":"54"}},{"$f":"STDEV(Y66:AC66)","v":{"v":4.147288270665544,"d":"4"}},3,"NA",3,2,6,{"$f":"AVERAGE(AF66:AJ66)","v":{"v":3.5,"d":"4"}},{"$f":"STDEV(AF66:AJ66)","v":{"v":1.7320508075688772,"d":"2"}},0,0,0,2,1,{"$f":"AVERAGE(AM66:AQ66)","v":{"v":0.6,"d":"1"}},{"$f":"STDEV(AM66:AQ66)","v":{"v":0.8944271909999159,"d":"1"}},0,0,0,0,1,{"$f":"AVERAGE(AT66:AX66)","v":{"v":0.2,"d":"0"}},{"$f":"STDEV(AT66:AX66)","v":{"v":0.4472135954999579,"d":"0"}},0,0,0,0,0,{"$f":"AVERAGE(BA66:BE66)","v":0},{"$f":"STDEV(BA66:BE66)","v":0}]
["average",{"$nulls":7},{"$f":"AVERAGE(I64:I66)","v":{"$error":"#DIV/0!"}},{"$nulls":6},{"$f":"AVERAGE(P64:P66)","v":{"$error":"#DIV/0!"}},{"$nulls":6},{"$f":"AVERAGE(W64:W66)","v":{"$error":"#DIV/0!"}},{"$nulls":6},{"$f":"AVERAGE(AD64:AD66)","v":{"$error":"#DIV/0!"}},{"$nulls":6},{"$f":"AVERAGE(AK64:AK66)","v":{"$error":"#DIV/0!"}},{"$nulls":6},{"$f":"AVERAGE(AR64:AR66)","v":{"v":8.066666666666668,"d":"8"}},{"$nulls":6},{"$f":"AVERAGE(AY64:AY66)","v":{"v":1.4000000000000001,"d":"1"}},{"$nulls":6},{"$f":"AVERAGE(BF64:BF66)","v":{"v":0.06666666666666667,"d":"0"}}]
["stdev",{"$nulls":7},{"$f":"SUM(J64:J66)","v":{"$error":"#DIV/0!"}},{"$nulls":6},{"$f":"SUM(Q64:Q66)","v":{"$error":"#DIV/0!"}},{"$nulls":6},{"$f":"SUM(X64:X66)","v":{"$error":"#DIV/0!"}},{"$nulls":6},{"$f":"SUM(AE64:AE66)","v":{"$error":"#DIV/0!"}},{"$nulls":6},{"$f":"SUM(AL64:AL66)","v":{"$error":"#DIV/0!"}},{"$nulls":6},{"$f":"SUM(AS64:AS66)","v":{"v":2.567747244068067,"d":"3"}},{"$nulls":6},{"$f":"SUM(AZ64:AZ66)","v":{"v":2.028352425584148,"d":"2"}},{"$nulls":6},{"$f":"SUM(BG64:BG66)","v":{"v":0.4472135954999579,"d":"0"}}]
["p+3",1,null,"NA","NA","NA","NA","NA",{"$f":"AVERAGE(D69:H69)","v":{"$error":"#DIV/0!"}},{"$f":"STDEV(D69:H69)","v":{"$error":"#DIV/0!"}},"NA","NA","NA","NA","NA",{"$f":"AVERAGE(K69:O69)","v":{"$error":"#DIV/0!"}},{"$f":"STDEV(K69:O69)","v":{"$error":"#DIV/0!"}},45,49,42,55,54,{"$f":"AVERAGE(R69:V69)","v":49},{"$f":"STDEV(R69:V69)","v":{"v":5.612486080160912,"d":"6"}},9,4,5,5,2,{"$f":"AVERAGE(Y69:AC69)","v":5},{"$f":"STDEV(Y69:AC69)","v":{"v":2.5495097567963922,"d":"3"}},0,0,0,3,1,{"$f":"AVERAGE(AF69:AJ69)","v":{"v":0.8,"d":"1"}},{"$f":"STDEV(AF69:AJ69)","v":{"v":1.3038404810405297,"d":"1"}},1,0,0,0,0,{"$f":"AVERAGE(AM69:AQ69)","v":{"v":0.2,"d":"0"}},{"$f":"STDEV(AM69:AQ69)","v":{"v":0.4472135954999579,"d":"0"}},0,0,0,0,0,{"$f":"AVERAGE(AT69:AX69)","v":0},{"$f":"STDEV(AT69:AX69)","v":0},0,0,0,0,0,{"$f":"AVERAGE(BA69:BE69)","v":0},{"$f":"STDEV(BA69:BE69)","v":0}]
[null,2,null,"NA","NA","NA","NA","NA",{"$f":"AVERAGE(D70:H70)","v":{"$error":"#DIV/0!"}},{"$f":"STDEV(D70:H70)","v":{"$error":"#DIV/0!"}},"NA","NA","NA","NA","NA",{"$f":"AVERAGE(K70:O70)","v":{"$error":"#DIV/0!"}},{"$f":"STDEV(K70:O70)","v":{"$error":"#DIV/0!"}},36,20,25,31,32,{"$f":"AVERAGE(R70:V70)","v":{"v":28.8,"d":"29"}},{"$f":"STDEV(R70:V70)","v":{"v":6.3007936008093495,"d":"6"}},1,0,3,3,4,{"$f":"AVERAGE(Y70:AC70)","v":{"v":2.2,"d":"2"}},{"$f":"STDEV(Y70:AC70)","v":{"v":1.6431676725154984,"d":"2"}},0,0,0,0,0,{"$f":"AVERAGE(AF70:AJ70)","v":0},{"$f":"STDEV(AF70:AJ70)","v":0},0,0,0,0,0,{"$f":"AVERAGE(AM70:AQ70)","v":0},{"$f":"STDEV(AM70:AQ70)","v":0},0,0,0,0,0,{"$f":"AVERAGE(AT70:AX70)","v":0},{"$f":"STDEV(AT70:AX70)","v":0},0,0,0,0,0,{"$f":"AVERAGE(BA70:BE70)","v":0},{"$f":"STDEV(BA70:BE70)","v":0}]
[null,3,null,"NA","NA","NA","NA","NA",{"$f":"AVERAGE(D71:H71)","v":{"$error":"#DIV/0!"}},{"$f":"STDEV(D71:H71)","v":{"$error":"#DIV/0!"}},"NA","NA","NA","NA","NA",{"$f":"AVERAGE(K71:O71)","v":{"$error":"#DIV/0!"}},{"$f":"STDEV(K71:O71)","v":{"$error":"#DIV/0!"}},"NA","NA","NA","NA","NA",{"$f":"AVERAGE(R71:V71)","v":{"$error":"#DIV/0!"}},{"$f":"STDEV(R71:V71)","v":{"$error":"#DIV/0!"}},"NA","NA","NA","NA","NA",{"$f":"AVERAGE(Y71:AC71)","v":{"$error":"#DIV/0!"}},{"$f":"STDEV(Y71:AC71)","v":{"$error":"#DIV/0!"}},79,92,85,86,90,{"$f":"AVERAGE(AF71:AJ71)","v":{"v":86.4,"d":"86"}},{"$f":"STDEV(AF71:AJ71)","v":{"v":5.029910535983717,"d":"5"}},17,10,12,9,12,{"$f":"AVERAGE(AM71:AQ71)","v":12},{"$f":"STDEV(AM71:AQ71)","v":{"v":3.082207001484488,"d":"3"}},0,0,0,1,0,{"$f":"AVERAGE(AT71:AX71)","v":{"v":0.2,"d":"0"}},{"$f":"STDEV(AT71:AX71)","v":{"v":0.4472135954999579,"d":"0"}},0,0,0,1,0,{"$f":"AVERAGE(BA71:BE71)","v":{"v":0.2,"d":"0"}},{"$f":"STDEV(BA71:BE71)","v":{"v":0.4472135954999579,"d":"0"}}]
["average",{"$nulls":7},{"$f":"AVERAGE(I69:I71)","v":{"$error":"#DIV/0!"}},{"$nulls":6},{"$f":"AVERAGE(P69:P71)","v":{"$error":"#DIV/0!"}},{"$nulls":6},{"$f":"AVERAGE(W69:W71)","v":{"$error":"#DIV/0!"}},{"$nulls":6},{"$f":"AVERAGE(AD69:AD71)","v":{"$error":"#DIV/0!"}},{"$nulls":6},{"$f":"AVERAGE(AK69:AK71)","v":{"v":29.066666666666666,"d":"29"}},{"$nulls":6},{"$f":"AVERAGE(AR69:AR71)","v":{"v":4.066666666666666,"d":"4"}},{"$nulls":6},{"$f":"AVERAGE(AY69:AY71)","v":{"v":0.06666666666666667,"d":"0"}},{"$nulls":6},{"$f":"AVERAGE(BF69:BF71)","v":{"v":0.06666666666666667,"d":"0"}}]
["stdev",{"$nulls":7},{"$f":"SUM(J69:J71)","v":{"$error":"#DIV/0!"}},{"$nulls":6},{"$f":"SUM(Q69:Q71)","v":{"$error":"#DIV/0!"}},{"$nulls":6},{"$f":"SUM(X69:X71)","v":{"$error":"#DIV/0!"}},{"$nulls":6},{"$f":"SUM(AE69:AE71)","v":{"$error":"#DIV/0!"}},{"$nulls":6},{"$f":"SUM(AL69:AL71)","v":{"v":6.333751017024246,"d":"6"}},{"$nulls":6},{"$f":"SUM(AS69:AS71)","v":{"v":3.529420596984446,"d":"4"}},{"$nulls":6},{"$f":"SUM(AZ69:AZ71)","v":{"v":0.4472135954999579,"d":"0"}},{"$nulls":6},{"$f":"SUM(BG69:BG71)","v":{"v":0.4472135954999579,"d":"0"}}]
["pS2213 APR",1,null,"NA","NA","NA","NA","NA",{"$f":"AVERAGE(D74:H74)","v":{"$error":"#DIV/0!"}},{"$f":"STDEV(D74:H74)","v":{"$error":"#DIV/0!"}},"NA","NA","NA","NA","NA",{"$f":"AVERAGE(K74:O74)","v":{"$error":"#DIV/0!"}},{"$f":"STDEV(K74:O74)","v":{"$error":"#DIV/0!"}},"NA","NA","NA","NA","NA",{"$f":"AVERAGE(R74:V74)","v":{"$error":"#DIV/0!"}},{"$f":"STDEV(R74:V74)","v":{"$error":"#DIV/0!"}},"NA","NA","NA","NA","NA",{"$f":"AVERAGE(Y74:AC74)","v":{"$error":"#DIV/0!"}},{"$f":"STDEV(Y74:AC74)","v":{"$error":"#DIV/0!"}},10,17,11,13,14,{"$f":"AVERAGE(AF74:AJ74)","v":13},{"$f":"STDEV(AF74:AJ74)","v":2.7386127875258306},2,3,3,4,1,{"$f":"AVERAGE(AM74:AQ74)","v":2.6},{"$f":"STDEV(AM74:AQ74)","v":1.1401754250991383},0,1,0,0,0,{"$f":"AVERAGE(AT74:AX74)","v":0.2},{"$f":"STDEV(AT74:AX74)","v":0.4472135954999579},0,0,0,0,0,{"$f":"AVERAGE(BA74:BE74)","v":0},{"$f":"STDEV(BA74:BE74)","v":0}]
["p+0",2,null,"NA","NA","NA","NA","NA",{"$f":"AVERAGE(D75:H75)","v":{"$error":"#DIV/0!"}},{"$f":"STDEV(D75:H75)","v":{"$error":"#DIV/0!"}},"NA","NA","NA","NA","NA",{"$f":"AVERAGE(K75:O75)","v":{"$error":"#DIV/0!"}},{"$f":"STDEV(K75:O75)","v":{"$error":"#DIV/0!"}},"NA","NA","NA","NA","NA",{"$f":"AVERAGE(R75:V75)","v":{"$error":"#DIV/0!"}},{"$f":"STDEV(R75:V75)","v":{"$error":"#DIV/0!"}},18,17,16,20,16,{"$f":"AVERAGE(Y75:AC75)","v":17.4},{"$f":"STDEV(Y75:AC75)","v":1.6733200530681511},1,2,4,2,4,{"$f":"AVERAGE(AF75:AJ75)","v":2.6},{"$f":"STDEV(AF75:AJ75)","v":1.341640786499874},0,1,0,0,0,{"$f":"AVERAGE(AM75:AQ75)","v":0.2},{"$f":"STDEV(AM75:AQ75)","v":0.4472135954999579},0,0,0,0,0,{"$f":"AVERAGE(AT75:AX75)","v":0},{"$f":"STDEV(AT75:AX75)","v":0},0,0,0,0,0,{"$f":"AVERAGE(BA75:BE75)","v":0},{"$f":"STDEV(BA75:BE75)","v":0}]
[null,3,null,"NA","NA","NA","NA","NA",{"$f":"AVERAGE(D76:H76)","v":{"$error":"#DIV/0!"}},{"$f":"STDEV(D76:H76)","v":{"$error":"#DIV/0!"}},"NA","NA","NA","NA","NA",{"$f":"AVERAGE(K76:O76)","v":{"$error":"#DIV/0!"}},{"$f":"STDEV(K76:O76)","v":{"$error":"#DIV/0!"}},"NA","NA","NA","NA","NA",{"$f":"AVERAGE(R76:V76)","v":{"$error":"#DIV/0!"}},{"$f":"STDEV(R76:V76)","v":{"$error":"#DIV/0!"}},"NA","NA","NA","NA","NA",{"$f":"AVERAGE(Y76:AC76)","v":{"$error":"#DIV/0!"}},{"$f":"STDEV(Y76:AC76)","v":{"$error":"#DIV/0!"}},28,33,28,31,27,{"$f":"AVERAGE(AF76:AJ76)","v":{"v":29.4,"d":"29"}},{"$f":"STDEV(AF76:AJ76)","v":{"v":2.5099800796022267,"d":"3"}},7,4,5,5,4,{"$f":"AVERAGE(AM76:AQ76)","v":5},{"$f":"STDEV(AM76:AQ76)","v":{"v":1.224744871391589,"d":"1"}},0,0,1,0,0,{"$f":"AVERAGE(AT76:AX76)","v":{"v":0.2,"d":"0"}},{"$f":"STDEV(AT76:AX76)","v":{"v":0.4472135954999579,"d":"0"}},0,0,0,0,0,{"$f":"AVERAGE(BA76:BE76)","v":0},{"$f":"STDEV(BA76:BE76)","v":0}]
["average",{"$nulls":7},{"$f":"AVERAGE(I74:I76)","v":{"$error":"#DIV/0!"}},{"$nulls":6},{"$f":"AVERAGE(P74:P76)","v":{"$error":"#DIV/0!"}},{"$nulls":6},{"$f":"AVERAGE(W74:W76)","v":{"$error":"#DIV/0!"}},{"$nulls":6},{"$f":"AVERAGE(AD74:AD76)","v":{"$error":"#DIV/0!"}},{"$nulls":6},{"$f":"AVERAGE(AK74:AK76)","v":15},{"$nulls":6},{"$f":"AVERAGE(AR74:AR76)","v":{"v":2.6,"d":"3"}},{"$nulls":6},{"$f":"AVERAGE(AY74:AY76)","v":{"v":0.13333333333333333,"d":"0"}},{"$nulls":6},{"$f":"AVERAGE(BF74:BF76)","v":0}]
["stdev",{"$nulls":7},{"$f":"SUM(J74:J76)","v":{"$error":"#DIV/0!"}},{"$nulls":6},{"$f":"SUM(Q74:Q76)","v":{"$error":"#DIV/0!"}},{"$nulls":6},{"$f":"SUM(X74:X76)","v":{"$error":"#DIV/0!"}},{"$nulls":6},{"$f":"SUM(AE74:AE76)","v":{"$error":"#DIV/0!"}},{"$nulls":6},{"$f":"SUM(AL74:AL76)","v":{"v":6.590233653627931,"d":"7"}},{"$nulls":6},{"$f":"SUM(AS74:AS76)","v":{"v":2.812133891990685,"d":"3"}},{"$nulls":6},{"$f":"SUM(AZ74:AZ76)","v":{"v":0.8944271909999159,"d":"1"}},{"$nulls":6},{"$f":"SUM(BG74:BG76)","v":0}]
["p+3",1,null,"NA","NA","NA","NA","NA",{"$f":"AVERAGE(D79:H79)","v":{"$error":"#DIV/0!"}},{"$f":"STDEV(D79:H79)","v":{"$error":"#DIV/0!"}},"NA","NA","NA","NA","NA",{"$f":"AVERAGE(K79:O79)","v":{"$error":"#DIV/0!"}},{"$f":"STDEV(K79:O79)","v":{"$error":"#DIV/0!"}},"NA","NA","NA","NA","NA",{"$f":"AVERAGE(R79:V79)","v":{"$error":"#DIV/0!"}},{"$f":"STDEV(R79:V79)","v":{"$error":"#DIV/0!"}},"NA","NA","NA","NA","NA",{"$f":"AVERAGE(Y79:AC79)","v":{"$error":"#DIV/0!"}},{"$f":"STDEV(Y79:AC79)","v":{"$error":"#DIV/0!"}},18,11,21,15,13,{"$f":"AVERAGE(AF79:AJ79)","v":{"v":15.6,"d":"16"}},{"$f":"STDEV(AF79:AJ79)","v":{"v":3.9749213828703596,"d":"4"}},2,2,4,3,2,{"$f":"AVERAGE(AM79:AQ79)","v":{"v":2.6,"d":"3"}},{"$f":"STDEV(AM79:AQ79)","v":{"v":0.8944271909999163,"d":"1"}},0,2,0,1,0,{"$f":"AVERAGE(AT79:AX79)","v":{"v":0.6,"d":"1"}},{"$f":"STDEV(AT79:AX79)","v":{"v":0.8944271909999159,"d":"1"}},0,0,0,0,1,{"$f":"AVERAGE(BA79:BE79)","v":{"v":0.2,"d":"0"}},{"$f":"STDEV(BA79:BE79)","v":{"v":0.4472135954999579,"d":"0"}}]
[null,2,null,"NA","NA","NA","NA","NA",{"$f":"AVERAGE(D80:H80)","v":{"$error":"#DIV/0!"}},{"$f":"STDEV(D80:H80)","v":{"$error":"#DIV/0!"}},"NA","NA","NA","NA","NA",{"$f":"AVERAGE(K80:O80)","v":{"$error":"#DIV/0!"}},{"$f":"STDEV(K80:O80)","v":{"$error":"#DIV/0!"}},"NA","NA","NA","NA","NA",{"$f":"AVERAGE(R80:V80)","v":{"$error":"#DIV/0!"}},{"$f":"STDEV(R80:V80)","v":{"$error":"#DIV/0!"}},54,48,51,53,54,{"$f":"AVERAGE(Y80:AC80)","v":52},{"$f":"STDEV(Y80:AC80)","v":{"v":2.5495097567963922,"d":"3"}},1,"NA",2,4,1,{"$f":"AVERAGE(AF80:AJ80)","v":2},{"$f":"STDEV(AF80:AJ80)","v":{"v":1.4142135623730951,"d":"1"}},2,0,0,0,0,{"$f":"AVERAGE(AM80:AQ80)","v":{"v":0.4,"d":"0"}},{"$f":"STDEV(AM80:AQ80)","v":{"v":0.8944271909999159,"d":"1"}},0,0,0,0,0,{"$f":"AVERAGE(AT80:AX80)","v":0},{"$f":"STDEV(AT80:AX80)","v":0},0,0,0,0,0,{"$f":"AVERAGE(BA80:BE80)","v":0},{"$f":"STDEV(BA80:BE80)","v":0}]
[null,3,null,"NA","NA","NA","NA","NA",{"$f":"AVERAGE(D81:H81)","v":{"$error":"#DIV/0!"}},{"$f":"STDEV(D81:H81)","v":{"$error":"#DIV/0!"}},"NA","NA","NA","NA","NA",{"$f":"AVERAGE(K81:O81)","v":{"$error":"#DIV/0!"}},{"$f":"STDEV(K81:O81)","v":{"$error":"#DIV/0!"}},"NA","NA","NA","NA","NA",{"$f":"AVERAGE(R81:V81)","v":{"$error":"#DIV/0!"}},{"$f":"STDEV(R81:V81)","v":{"$error":"#DIV/0!"}},23,25,31,25,26,{"$f":"AVERAGE(Y81:AC81)","v":26},{"$f":"STDEV(Y81:AC81)","v":3},3,1,1,3,3,{"$f":"AVERAGE(AF81:AJ81)","v":{"v":2.2,"d":"2"}},{"$f":"STDEV(AF81:AJ81)","v":{"v":1.0954451150103324,"d":"1"}},0,0,0,1,0,{"$f":"AVERAGE(AM81:AQ81)","v":{"v":0.2,"d":"0"}},{"$f":"STDEV(AM81:AQ81)","v":{"v":0.4472135954999579,"d":"0"}},0,0,0,0,0,{"$f":"AVERAGE(AT81:AX81)","v":0},{"$f":"STDEV(AT81:AX81)","v":0},0,0,0,0,0,{"$f":"AVERAGE(BA81:BE81)","v":0},{"$f":"STDEV(BA81:BE81)","v":0}]
["average",{"$nulls":7},{"$f":"AVERAGE(I79:I81)","v":{"$error":"#DIV/0!"}},{"$nulls":6},{"$f":"AVERAGE(P79:P81)","v":{"$error":"#DIV/0!"}},{"$nulls":6},{"$f":"AVERAGE(W79:W81)","v":{"$error":"#DIV/0!"}},{"$nulls":6},{"$f":"AVERAGE(AD79:AD81)","v":{"$error":"#DIV/0!"}},{"$nulls":6},{"$f":"AVERAGE(AK79:AK81)","v":{"v":6.6000000000000005,"d":"7"}},{"$nulls":6},{"$f":"AVERAGE(AR79:AR81)","v":{"v":1.0666666666666667,"d":"1"}},{"$nulls":6},{"$f":"AVERAGE(AY79:AY81)","v":{"v":0.19999999999999998,"d":"0"}},{"$nulls":6},{"$f":"AVERAGE(BF79:BF81)","v":{"v":0.06666666666666667,"d":"0"}}]
["stdev",{"$nulls":7},{"$f":"SUM(J79:J81)","v":{"$error":"#DIV/0!"}},{"$nulls":6},{"$f":"SUM(Q79:Q81)","v":{"$error":"#DIV/0!"}},{"$nulls":6},{"$f":"SUM(X79:X81)","v":{"$error":"#DIV/0!"}},{"$nulls":6},{"$f":"SUM(AE79:AE81)","v":{"$error":"#DIV/0!"}},{"$nulls":6},{"$f":"SUM(AL79:AL81)","v":{"v":6.484580060253787,"d":"6"}},{"$nulls":6},{"$f":"SUM(AS79:AS81)","v":{"v":2.2360679774997902,"d":"2"}},{"$nulls":6},{"$f":"SUM(AZ79:AZ81)","v":{"v":0.8944271909999159,"d":"1"}},{"$nulls":6},{"$f":"SUM(BG79:BG81)","v":{"v":0.4472135954999579,"d":"0"}}]
[]
[]
["T7","2018-02-15"]
["Sample","Dilution:",null,"10^0",{"$nulls":4},"AVERAGE","STDEV","10^-1",{"$nulls":4},"AVERAGE","STDEV","10^-2",{"$nulls":4},"AVERAGE","STDEV","10^-3",{"$nulls":4},"AVERAGE","STDEV","10^-4",{"$nulls":4},"AVERAGE","STDEV","10^-5",{"$nulls":4},"AVERAGE","STDEV","10^-6",{"$nulls":4},"AVERAGE","STDEV","10^-7",{"$nulls":4},"AVERAGE","STDEV"]
["Blank",1,null,0,0,0,0,0,{"$f":"AVERAGE(D88:H88)","v":0},{"$f":"STDEV(D88:H88)","v":0},0,0,0,0,0,{"$f":"AVERAGE(K88:O88)","v":0},{"$f":"STDEV(K88:O88)","v":0},0,0,0,0,0,{"$f":"AVERAGE(R88:V88)","v":0},{"$f":"STDEV(R88:V88)","v":0},0,0,0,0,0,{"$f":"AVERAGE(Y88:AC88)","v":0},{"$f":"STDEV(Y88:AC88)","v":0},0,0,0,0,0,{"$f":"AVERAGE(AF88:AJ88)","v":0},{"$f":"STDEV(AF88:AJ88)","v":0},0,0,0,0,0,{"$f":"AVERAGE(AM88:AQ88)","v":0},{"$f":"STDEV(AM88:AQ88)","v":0},0,0,0,0,0,{"$f":"AVERAGE(AT88:AX88)","v":0},{"$f":"STDEV(AT88:AX88)","v":0},0,0,0,0,0,{"$f":"AVERAGE(BA88:BE88)","v":0},{"$f":"STDEV(BA88:BE88)","v":0}]
[null,2,null,0,0,0,0,0,{"$f":"AVERAGE(D89:H89)","v":0},{"$f":"STDEV(D89:H89)","v":0},0,0,0,0,0,{"$f":"AVERAGE(K89:O89)","v":0},{"$f":"STDEV(K89:O89)","v":0},0,0,0,0,0,{"$f":"AVERAGE(R89:V89)","v":0},{"$f":"STDEV(R89:V89)","v":0},0,0,0,0,0,{"$f":"AVERAGE(Y89:AC89)","v":0},{"$f":"STDEV(Y89:AC89)","v":0},0,0,0,0,0,{"$f":"AVERAGE(AF89:AJ89)","v":0},{"$f":"STDEV(AF89:AJ89)","v":0},0,0,0,0,0,{"$f":"AVERAGE(AM89:AQ89)","v":0},{"$f":"STDEV(AM89:AQ89)","v":0},0,0,0,0,0,{"$f":"AVERAGE(AT89:AX89)","v":0},{"$f":"STDEV(AT89:AX89)","v":0},0,0,0,0,0,{"$f":"AVERAGE(BA89:BE89)","v":0},{"$f":"STDEV(BA89:BE89)","v":0}]
[null,3,null,0,0,0,0,0,{"$f":"AVERAGE(D90:H90)","v":0},{"$f":"STDEV(D90:H90)","v":0},0,0,0,0,0,{"$f":"AVERAGE(K90:O90)","v":0},{"$f":"STDEV(K90:O90)","v":0},0,0,0,0,0,{"$f":"AVERAGE(R90:V90)","v":0},{"$f":"STDEV(R90:V90)","v":0},0,0,0,0,0,{"$f":"AVERAGE(Y90:AC90)","v":0},{"$f":"STDEV(Y90:AC90)","v":0},0,0,0,0,0,{"$f":"AVERAGE(AF90:AJ90)","v":0},{"$f":"STDEV(AF90:AJ90)","v":0},0,0,0,0,0,{"$f":"AVERAGE(AM90:AQ90)","v":0},{"$f":"STDEV(AM90:AQ90)","v":0},0,0,0,0,0,{"$f":"AVERAGE(AT90:AX90)","v":0},{"$f":"STDEV(AT90:AX90)","v":0},0,0,0,0,0,{"$f":"AVERAGE(BA90:BE90)","v":0},{"$f":"STDEV(BA90:BE90)","v":0}]
[{"$nulls":8},{"$f":"AVERAGE(I88:I90)","v":0},{"$nulls":6},{"$f":"AVERAGE(P88:P90)","v":0},{"$nulls":6},{"$f":"AVERAGE(W88:W90)","v":0},{"$nulls":6},{"$f":"AVERAGE(AD88:AD90)","v":0},{"$nulls":6},{"$f":"AVERAGE(AK88:AK90)","v":0},{"$nulls":6},{"$f":"AVERAGE(AR88:AR90)","v":0},{"$nulls":6},{"$f":"AVERAGE(AY88:AY90)","v":0},{"$nulls":6},{"$f":"AVERAGE(BF88:BF90)","v":0}]
[{"$nulls":8},{"$f":"SUM(J88:J90)","v":0},{"$nulls":6},{"$f":"SUM(Q88:Q90)","v":0},{"$nulls":6},{"$f":"SUM(X88:X90)","v":0},{"$nulls":6},{"$f":"SUM(AE88:AE90)","v":0},{"$nulls":6},{"$f":"SUM(AL88:AL90)","v":0},{"$nulls":6},{"$f":"SUM(AS88:AS90)","v":0},{"$nulls":6},{"$f":"SUM(AZ88:AZ90)","v":0},{"$nulls":6},{"$f":"SUM(BG88:BG90)","v":0}]
["BW25113 -",1,null,"NA","NA","NA","NA","NA",{"$f":"AVERAGE(D93:H93)","v":{"$error":"#DIV/0!"}},{"$f":"STDEV(D93:H93)","v":{"$error":"#DIV/0!"}},"NA","NA","NA","NA","NA",{"$f":"AVERAGE(K93:O93)","v":{"$error":"#DIV/0!"}},{"$f":"STDEV(K93:O93)","v":{"$error":"#DIV/0!"}},"NA","NA","NA","NA","NA",{"$f":"AVERAGE(R93:V93)","v":{"$error":"#DIV/0!"}},{"$f":"STDEV(R93:V93)","v":{"$error":"#DIV/0!"}},"NA","NA","NA","NA","NA",{"$f":"AVERAGE(Y93:AC93)","v":{"$error":"#DIV/0!"}},{"$f":"STDEV(Y93:AC93)","v":{"$error":"#DIV/0!"}},245,240,273,258,223,{"$f":"AVERAGE(AF93:AJ93)","v":{"v":247.8,"d":"248"}},{"$f":"STDEV(AF93:AJ93)","v":{"v":18.86001060445089,"d":"19"}},32,41,52,62,42,{"$f":"AVERAGE(AM93:AQ93)","v":{"v":45.8,"d":"46"}},{"$f":"STDEV(AM93:AQ93)","v":{"v":11.49782588144384,"d":"11"}},3,5,6,8,4,{"$f":"AVERAGE(AT93:AX93)","v":{"v":5.2,"d":"5"}},{"$f":"STDEV(AT93:AX93)","v":{"v":1.9235384061671352,"d":"2"}},0,0,0,0,0,{"$f":"AVERAGE(BA93:BE93)","v":0},{"$f":"STDEV(BA93:BE93)","v":0}]
["pS2213 - ",2,null,"NA","NA","NA","NA","NA",{"$f":"AVERAGE(D94:H94)","v":{"$error":"#DIV/0!"}},{"$f":"STDEV(D94:H94)","v":{"$error":"#DIV/0!"}},"NA","NA","NA","NA","NA",{"$f":"AVERAGE(K94:O94)","v":{"$error":"#DIV/0!"}},{"$f":"STDEV(K94:O94)","v":{"$error":"#DIV/0!"}},"NA","NA","NA","NA","NA",{"$f":"AVERAGE(R94:V94)","v":{"$error":"#DIV/0!"}},{"$f":"STDEV(R94:V94)","v":{"$error":"#DIV/0!"}},"NA","NA","NA","NA","NA",{"$f":"AVERAGE(Y94:AC94)","v":{"$error":"#DIV/0!"}},{"$f":"STDEV(Y94:AC94)","v":{"$error":"#DIV/0!"}},257,201,196,220,208,{"$f":"AVERAGE(AF94:AJ94)","v":{"v":216.4,"d":"216"}},{"$f":"STDEV(AF94:AJ94)","v":{"v":24.419254697881403,"d":"24"}},45,45,31,38,41,{"$f":"AVERAGE(AM94:AQ94)","v":40},{"$f":"STDEV(AM94:AQ94)","v":{"v":5.830951894845301,"d":"6"}},2,2,10,5,2,{"$f":"AVERAGE(AT94:AX94)","v":{"v":4.2,"d":"4"}},{"$f":"STDEV(AT94:AX94)","v":{"v":3.492849839314596,"d":"3"}},1,0,1,0,0,{"$f":"AVERAGE(BA94:BE94)","v":{"v":0.4,"d":"0"}},{"$f":"STDEV(BA94:BE94)","v":{"v":0.5477225575051661,"d":"1"}}]
[null,3,null,"NA","NA","NA","NA","NA",{"$f":"AVERAGE(D95:H95)","v":{"$error":"#DIV/0!"}},{"$f":"STDEV(D95:H95)","v":{"$error":"#DIV/0!"}},"NA","NA","NA","NA","NA",{"$f":"AVERAGE(K95:O95)","v":{"$error":"#DIV/0!"}},{"$f":"STDEV(K95:O95)","v":{"$error":"#DIV/0!"}},"NA","NA","NA","NA","NA",{"$f":"AVERAGE(R95:V95)","v":{"$error":"#DIV/0!"}},{"$f":"STDEV(R95:V95)","v":{"$error":"#DIV/0!"}},"NA","NA","NA","NA","NA",{"$f":"AVERAGE(Y95:AC95)","v":{"$error":"#DIV/0!"}},{"$f":"STDEV(Y95:AC95)","v":{"$error":"#DIV/0!"}},262,"NA","NA","NA","NA",{"$f":"AVERAGE(AF95:AJ95)","v":262},{"$f":"STDEV(AF95:AJ95)","v":{"$error":"#DIV/0!"}},44,58,48,45,44,{"$f":"AVERAGE(AM95:AQ95)","v":{"v":47.8,"d":"48"}},{"$f":"STDEV(AM95:AQ95)","v":{"v":5.9329587896765155,"d":"6"}},8,6,3,9,5,{"$f":"AVERAGE(AT95:AX95)","v":{"v":6.2,"d":"6"}},{"$f":"STDEV(AT95:AX95)","v":{"v":2.387467277262665,"d":"2"}},1,1,0,0,1,{"$f":"AVERAGE(BA95:BE95)","v":{"v":0.6,"d":"1"}},{"$f":"STDEV(BA95:BE95)","v":{"v":0.5477225575051661,"d":"1"}}]
["average",{"$nulls":7},{"$f":"AVERAGE(I93:I95)","v":{"$error":"#DIV/0!"}},{"$nulls":6},{"$f":"AVERAGE(P93:P95)","v":{"$error":"#DIV/0!"}},{"$nulls":6},{"$f":"AVERAGE(W93:W95)","v":{"$error":"#DIV/0!"}},{"$nulls":6},{"$f":"AVERAGE(AD93:AD95)","v":{"$error":"#DIV/0!"}},{"$nulls":6},{"$f":"AVERAGE(AK93:AK95)","v":{"v":242.0666666666667,"d":"242"}},{"$nulls":6},{"$f":"AVERAGE(AR93:AR95)","v":{"v":44.53333333333333,"d":"45"}},{"$nulls":6},{"$f":"AVERAGE(AY93:AY95)","v":{"v":5.2,"d":"5"}},{"$nulls":6},{"$f":"AVERAGE(BF93:BF95)","v":{"v":0.3333333333333333,"d":"0"}}]
["stdev",{"$nulls":7},{"$f":"SUM(J93:J95)","v":{"$error":"#DIV/0!"}},{"$nulls":6},{"$f":"SUM(Q93:Q95)","v":{"$error":"#DIV/0!"}},{"$nulls":6},{"$f":"SUM(X93:X95)","v":{"$error":"#DIV/0!"}},{"$nulls":6},{"$f":"SUM(AE93:AE95)","v":{"$error":"#DIV/0!"}},{"$nulls":6},{"$f":"SUM(AL93:AL95)","v":{"$error":"#DIV/0!"}},{"$nulls":6},{"$f":"SUM(AS93:AS95)","v":{"v":23.261736565965656,"d":"23"}},{"$nulls":6},{"$f":"SUM(AZ93:AZ95)","v":{"v":7.803855522744396,"d":"8"}},{"$nulls":6},{"$f":"SUM(BG93:BG95)","v":{"v":1.0954451150103321,"d":"1"}}]
["pS2213 - ",1,null,"NA","NA","NA","NA","NA",{"$f":"AVERAGE(D98:H98)","v":{"$error":"#DIV/0!"}},{"$f":"STDEV(D98:H98)","v":{"$error":"#DIV/0!"}},"NA","NA","NA","NA","NA",{"$f":"AVERAGE(K98:O98)","v":{"$error":"#DIV/0!"}},{"$f":"STDEV(K98:O98)","v":{"$error":"#DIV/0!"}},45,44,37,48,45,{"$f":"AVERAGE(R98:V98)","v":43.8},{"$f":"STDEV(R98:V98)","v":4.08656334834051},2,8,6,10,9,{"$f":"AVERAGE(Y98:AC98)","v":7},{"$f":"STDEV(Y98:AC98)","v":3.1622776601683795},0,0,0,1,1,{"$f":"AVERAGE(AF98:AJ98)","v":0.4},{"$f":"STDEV(AF98:AJ98)","v":0.5477225575051661},0,0,0,0,0,{"$f":"AVERAGE(AM98:AQ98)","v":0},{"$f":"STDEV(AM98:AQ98)","v":0},0,0,0,0,0,{"$f":"AVERAGE(AT98:AX98)","v":0},{"$f":"STDEV(AT98:AX98)","v":0},0,0,0,0,0,{"$f":"AVERAGE(BA98:BE98)","v":0},{"$f":"STDEV(BA98:BE98)","v":0}]
["p+0",2,null,"NA","NA","NA","NA","NA",{"$f":"AVERAGE(D99:H99)","v":{"$error":"#DIV/0!"}},{"$f":"STDEV(D99:H99)","v":{"$error":"#DIV/0!"}},"NA","NA","NA","NA","NA",{"$f":"AVERAGE(K99:O99)","v":{"$error":"#DIV/0!"}},{"$f":"STDEV(K99:O99)","v":{"$error":"#DIV/0!"}},41,46,26,37,31,{"$f":"AVERAGE(R99:V99)","v":36.2},{"$f":"STDEV(R99:V99)","v":7.918333157931665},2,3,1,1,2,{"$f":"AVERAGE(Y99:AC99)","v":1.8},{"$f":"STDEV(Y99:AC99)","v":0.8366600265340757},2,0,0,0,0,{"$f":"AVERAGE(AF99:AJ99)","v":0.4},{"$f":"STDEV(AF99:AJ99)","v":0.8944271909999159},0,0,0,0,0,{"$f":"AVERAGE(AM99:AQ99)","v":0},{"$f":"STDEV(AM99:AQ99)","v":0},0,0,0,0,0,{"$f":"AVERAGE(AT99:AX99)","v":0},{"$f":"STDEV(AT99:AX99)","v":0},0,0,0,0,0,{"$f":"AVERAGE(BA99:BE99)","v":0},{"$f":"STDEV(BA99:BE99)","v":0}]
[null,3,null,"NA","NA","NA","NA","NA",{"$f":"AVERAGE(D100:H100)","v":{"$error":"#DIV/0!"}},{"$f":"STDEV(D100:H100)","v":{"$error":"#DIV/0!"}},159,170,"NA","NA","NA",{"$f":"AVERAGE(K100:O100)","v":{"v":164.5,"d":"165"}},{"$f":"STDEV(K100:O100)","v":{"v":7.7781745930520225,"d":"8"}},27,26,30,21,35,{"$f":"AVERAGE(R100:V100)","v":{"v":27.8,"d":"28"}},{"$f":"STDEV(R100:V100)","v":{"v":5.16720427310553,"d":"5"}},1,5,2,3,1,{"$f":"AVERAGE(Y100:AC100)","v":{"v":2.4,"d":"2"}},{"$f":"STDEV(Y100:AC100)","v":{"v":1.6733200530681511,"d":"2"}},0,0,0,0,0,{"$f":"AVERAGE(AF100:AJ100)","v":0},{"$f":"STDEV(AF100:AJ100)","v":0},0,0,0,0,0,{"$f":"AVERAGE(AM100:AQ100)","v":0},{"$f":"STDEV(AM100:AQ100)","v":0},0,0,0,0,0,{"$f":"AVERAGE(AT100:AX100)","v":0},{"$f":"STDEV(AT100:AX100)","v":0},0,0,0,0,0,{"$f":"AVERAGE(BA100:BE100)","v":0},{"$f":"STDEV(BA100:BE100)","v":0}]
["average",{"$nulls":7},{"$f":"AVERAGE(I98:I100)","v":{"$error":"#DIV/0!"}},{"$nulls":6},{"$f":"AVERAGE(P98:P100)","v":{"$error":"#DIV/0!"}},{"$nulls":6},{"$f":"AVERAGE(W98:W100)","v":{"v":35.93333333333333,"d":"36"}},{"$nulls":6},{"$f":"AVERAGE(AD98:AD100)","v":{"v":3.733333333333334,"d":"4"}},{"$nulls":6},{"$f":"AVERAGE(AK98:AK100)","v":{"v":0.26666666666666666,"d":"0"}},{"$nulls":6},{"$f":"AVERAGE(AR98:AR100)","v":0},{"$nulls":6},{"$f":"AVERAGE(AY98:AY100)","v":0},{"$nulls":6},{"$f":"AVERAGE(BF98:BF100)","v":0}]
["stdev",{"$nulls":7},{"$f":"SUM(J98:J100)","v":{"$error":"#DIV/0!"}},{"$nulls":6},{"$f":"SUM(Q98:Q100)","v":{"$error":"#DIV/0!"}},{"$nulls":6},{"$f":"SUM(X98:X100)","v":{"v":17.172100779377704,"d":"17"}},{"$nulls":6},{"$f":"SUM(AE98:AE100)","v":{"v":5.672257739770606,"d":"6"}},{"$nulls":6},{"$f":"SUM(AL98:AL100)","v":{"v":1.442149748505082,"d":"1"}},{"$nulls":6},{"$f":"SUM(AS98:AS100)","v":0},{"$nulls":6},{"$f":"SUM(AZ98:AZ100)","v":0},{"$nulls":6},{"$f":"SUM(BG98:BG100)","v":0}]
["pS2213 A",1,null,"NA","NA","NA","NA","NA",{"$f":"AVERAGE(D103:H103)","v":{"$error":"#DIV/0!"}},{"$f":"STDEV(D103:H103)","v":{"$error":"#DIV/0!"}},71,64,62,64,62,{"$f":"AVERAGE(K103:O103)","v":64.6},{"$f":"STDEV(K103:O103)","v":3.714835124201342},7,5,8,5,4,{"$f":"AVERAGE(R103:V103)","v":5.8},{"$f":"STDEV(R103:V103)","v":1.6431676725154991},0,1,0,0,3,{"$f":"AVERAGE(Y103:AC103)","v":0.8},{"$f":"STDEV(Y103:AC103)","v":1.3038404810405297},0,0,0,0,0,{"$f":"AVERAGE(AF103:AJ103)","v":0},{"$f":"STDEV(AF103:AJ103)","v":0},0,0,0,0,0,{"$f":"AVERAGE(AM103:AQ103)","v":0},{"$f":"STDEV(AM103:AQ103)","v":0},0,0,0,0,0,{"$f":"AVERAGE(AT103:AX103)","v":0},{"$f":"STDEV(AT103:AX103)","v":0},0,0,0,0,0,{"$f":"AVERAGE(BA103:BE103)","v":0},{"$f":"STDEV(BA103:BE103)","v":0}]
["p+0",2,null,"NA","NA","NA","NA","NA",{"$f":"AVERAGE(D104:H104)","v":{"$error":"#DIV/0!"}},{"$f":"STDEV(D104:H104)","v":{"$error":"#DIV/0!"}},"NA","NA","NA","NA","NA",{"$f":"AVERAGE(K104:O104)","v":{"$error":"#DIV/0!"}},{"$f":"STDEV(K104:O104)","v":{"$error":"#DIV/0!"}},32,30,38,33,43,{"$f":"AVERAGE(R104:V104)","v":35.2},{"$f":"STDEV(R104:V104)","v":5.263078946776311},5,4,3,5,5,{"$f":"AVERAGE(Y104:AC104)","v":4.4},{"$f":"STDEV(Y104:AC104)","v":0.8944271909999163},0,0,0,0,0,{"$f":"AVERAGE(AF104:AJ104)","v":0},{"$f":"STDEV(AF104:AJ104)","v":0},0,0,0,0,0,{"$f":"AVERAGE(AM104:AQ104)","v":0},{"$f":"STDEV(AM104:AQ104)","v":0},0,0,0,0,0,{"$f":"AVERAGE(AT104:AX104)","v":0},{"$f":"STDEV(AT104:AX104)","v":0},0,0,0,0,0,{"$f":"AVERAGE(BA104:BE104)","v":0},{"$f":"STDEV(BA104:BE104)","v":0}]
[null,3,null,"NA","NA","NA","NA","NA",{"$f":"AVERAGE(D105:H105)","v":{"$error":"#DIV/0!"}},{"$f":"STDEV(D105:H105)","v":{"$error":"#DIV/0!"}},88,88,83,90,101,{"$f":"AVERAGE(K105:O105)","v":90},{"$f":"STDEV(K105:O105)","v":{"v":6.670832032063167,"d":"7"}},15,13,19,13,14,{"$f":"AVERAGE(R105:V105)","v":{"v":14.8,"d":"15"}},{"$f":"STDEV(R105:V105)","v":{"v":2.489979919597744,"d":"2"}},1,1,3,7,4,{"$f":"AVERAGE(Y105:AC105)","v":{"v":3.2,"d":"3"}},{"$f":"STDEV(Y105:AC105)","v":{"v":2.4899799195977463,"d":"2"}},0,0,0,0,0,{"$f":"AVERAGE(AF105:AJ105)","v":0},{"$f":"STDEV(AF105:AJ105)","v":0},0,0,0,0,0,{"$f":"AVERAGE(AM105:AQ105)","v":0},{"$f":"STDEV(AM105:AQ105)","v":0},0,0,0,0,0,{"$f":"AVERAGE(AT105:AX105)","v":0},{"$f":"STDEV(AT105:AX105)","v":0},0,0,0,0,0,{"$f":"AVERAGE(BA105:BE105)","v":0},{"$f":"STDEV(BA105:BE105)","v":0}]
["average",{"$nulls":7},{"$f":"AVERAGE(I103:I105)","v":{"$error":"#DIV/0!"}},{"$nulls":6},{"$f":"AVERAGE(P103:P105)","v":{"$error":"#DIV/0!"}},{"$nulls":6},{"$f":"AVERAGE(W103:W105)","v":{"v":18.599999999999998,"d":"19"}},{"$nulls":6},{"$f":"AVERAGE(AD103:AD105)","v":{"v":2.8000000000000003,"d":"3"}},{"$nulls":6},{"$f":"AVERAGE(AK103:AK105)","v":0},{"$nulls":6},{"$f":"AVERAGE(AR103:AR105)","v":0},{"$nulls":6},{"$f":"AVERAGE(AY103:AY105)","v":0},{"$nulls":6},{"$f":"AVERAGE(BF103:BF105)","v":0}]
["stdev",{"$nulls":7},{"$f":"SUM(J103:J105)","v":{"$error":"#DIV/0!"}},{"$nulls":6},{"$f":"SUM(Q103:Q105)","v":{"$error":"#DIV/0!"}},{"$nulls":6},{"$f":"SUM(X103:X105)","v":{"v":9.396226538889554,"d":"9"}},{"$nulls":6},{"$f":"SUM(AE103:AE105)","v":{"v":4.688247591638192,"d":"5"}},{"$nulls":6},{"$f":"SUM(AL103:AL105)","v":0},{"$nulls":6},{"$f":"SUM(AS103:AS105)","v":0},{"$nulls":6},{"$f":"SUM(AZ103:AZ105)","v":0},{"$nulls":6},{"$f":"SUM(BG103:BG105)","v":0}]
["p+3",1,null,44,44,42,53,42,{"$f":"AVERAGE(D108:H108)","v":45},{"$f":"STDEV(D108:H108)","v":{"v":4.58257569495584,"d":"5"}},8,4,4,6,5,{"$f":"AVERAGE(K108:O108)","v":{"v":5.4,"d":"5"}},{"$f":"STDEV(K108:O108)","v":{"v":1.6733200530681502,"d":"2"}},1,0,0,0,1,{"$f":"AVERAGE(R108:V108)","v":{"v":0.4,"d":"0"}},{"$f":"STDEV(R108:V108)","v":{"v":0.5477225575051661,"d":"1"}},0,0,0,0,0,{"$f":"AVERAGE(Y108:AC108)","v":0},{"$f":"STDEV(Y108:AC108)","v":0},0,0,0,0,0,{"$f":"AVERAGE(AF108:AJ108)","v":0},{"$f":"STDEV(AF108:AJ108)","v":0},0,0,0,0,0,{"$f":"AVERAGE(AM108:AQ108)","v":0},{"$f":"STDEV(AM108:AQ108)","v":0},0,0,0,0,0,{"$f":"AVERAGE(AT108:AX108)","v":0},{"$f":"STDEV(AT108:AX108)","v":0},0,0,0,0,0,{"$f":"AVERAGE(BA108:BE108)","v":0},{"$f":"STDEV(BA108:BE108)","v":0}]
[null,2,null,"NA","NA","NA","NA","NA",{"$f":"AVERAGE(D109:H109)","v":{"$error":"#DIV/0!"}},{"$f":"STDEV(D109:H109)","v":{"$error":"#DIV/0!"}},141,147,156,122,141,{"$f":"AVERAGE(K109:O109)","v":{"v":141.4,"d":"141"}},{"$f":"STDEV(K109:O109)","v":{"v":12.461942063739503,"d":"12"}},17,18,28,28,28,{"$f":"AVERAGE(R109:V109)","v":{"v":23.8,"d":"24"}},{"$f":"STDEV(R109:V109)","v":{"v":5.761944116355178,"d":"6"}},3,1,2,2,2,{"$f":"AVERAGE(Y109:AC109)","v":2},{"$f":"STDEV(Y109:AC109)","v":{"v":0.7071067811865476,"d":"1"}},0,0,0,0,0,{"$f":"AVERAGE(AF109:AJ109)","v":0},{"$f":"STDEV(AF109:AJ109)","v":0},0,0,0,0,0,{"$f":"AVERAGE(AM109:AQ109)","v":0},{"$f":"STDEV(AM109:AQ109)","v":0},0,0,0,0,0,{"$f":"AVERAGE(AT109:AX109)","v":0},{"$f":"STDEV(AT109:AX109)","v":0},0,0,0,0,0,{"$f":"AVERAGE(BA109:BE109)","v":0},{"$f":"STDEV(BA109:BE109)","v":0}]
[null,3,null,"NA","NA","NA","NA","NA",{"$f":"AVERAGE(D110:H110)","v":{"$error":"#DIV/0!"}},{"$f":"STDEV(D110:H110)","v":{"$error":"#DIV/0!"}},161,150,134,133,150,{"$f":"AVERAGE(K110:O110)","v":{"v":145.6,"d":"146"}},{"$f":"STDEV(K110:O110)","v":{"v":11.928956366757319,"d":"12"}},20,22,22,27,15,{"$f":"AVERAGE(R110:V110)","v":{"v":21.2,"d":"21"}},{"$f":"STDEV(R110:V110)","v":{"v":4.324349662087936,"d":"4"}},5,7,3,4,0,{"$f":"AVERAGE(Y110:AC110)","v":{"v":3.8,"d":"4"}},{"$f":"STDEV(Y110:AC110)","v":{"v":2.588435821108957,"d":"3"}},0,0,1,0,0,{"$f":"AVERAGE(AF110:AJ110)","v":{"v":0.2,"d":"0"}},{"$f":"STDEV(AF110:AJ110)","v":{"v":0.4472135954999579,"d":"0"}},0,0,0,0,0,{"$f":"AVERAGE(AM110:AQ110)","v":0},{"$f":"STDEV(AM110:AQ110)","v":0},0,0,0,0,0,{"$f":"AVERAGE(AT110:AX110)","v":0},{"$f":"STDEV(AT110:AX110)","v":0},0,0,0,0,0,{"$f":"AVERAGE(BA110:BE110)","v":0},{"$f":"STDEV(BA110:BE110)","v":0}]
["average",{"$nulls":7},{"$f":"AVERAGE(I108:I110)","v":{"$error":"#DIV/0!"}},{"$nulls":6},{"$f":"AVERAGE(P108:P110)","v":{"v":97.46666666666665,"d":"97"}},{"$nulls":6},{"$f":"AVERAGE(W108:W110)","v":{"v":15.133333333333333,"d":"15"}},{"$nulls":6},{"$f":"AVERAGE(AD108:AD110)","v":{"v":1.9333333333333333,"d":"2"}},{"$nulls":6},{"$f":"AVERAGE(AK108:AK110)","v":{"v":0.06666666666666667,"d":"0"}},{"$nulls":6},{"$f":"AVERAGE(AR108:AR110)","v":0},{"$nulls":6},{"$f":"AVERAGE(AY108:AY110)","v":0},{"$nulls":6},{"$f":"AVERAGE(BF108:BF110)","v":0}]
["stdev",{"$nulls":7},{"$f":"SUM(J108:J110)","v":{"$error":"#DIV/0!"}},{"$nulls":6},{"$f":"SUM(Q108:Q110)","v":{"v":26.06421848356497,"d":"26"}},{"$nulls":6},{"$f":"SUM(X108:X110)","v":{"v":10.63401633594828,"d":"11"}},{"$nulls":6},{"$f":"SUM(AE108:AE110)","v":{"v":3.2955426022955043,"d":"3"}},{"$nulls":6},{"$f":"SUM(AL108:AL110)","v":{"v":0.4472135954999579,"d":"0"}},{"$nulls":6},{"$f":"SUM(AS108:AS110)","v":0},{"$nulls":6},{"$f":"SUM(AZ108:AZ110)","v":0},{"$nulls":6},{"$f":"SUM(BG108:BG110)","v":0}]
["pS2213 APR",1,null,"NA","NA","NA","NA","NA",{"$f":"AVERAGE(D113:H113)","v":{"$error":"#DIV/0!"}},{"$f":"STDEV(D113:H113)","v":{"$error":"#DIV/0!"}},160,158,135,133,131,{"$f":"AVERAGE(K113:O113)","v":143.4},{"$f":"STDEV(K113:O113)","v":14.328293687665674},23,30,24,17,13,{"$f":"AVERAGE(R113:V113)","v":21.4},{"$f":"STDEV(R113:V113)","v":6.580273550544837},1,2,2,3,2,{"$f":"AVERAGE(Y113:AC113)","v":2},{"$f":"STDEV(Y113:AC113)","v":0.7071067811865476},0,0,0,0,0,{"$f":"AVERAGE(AF113:AJ113)","v":0},{"$f":"STDEV(AF113:AJ113)","v":0},0,0,0,0,0,{"$f":"AVERAGE(AM113:AQ113)","v":0},{"$f":"STDEV(AM113:AQ113)","v":0},0,0,0,0,0,{"$f":"AVERAGE(AT113:AX113)","v":0},{"$f":"STDEV(AT113:AX113)","v":0},0,0,0,0,0,{"$f":"AVERAGE(BA113:BE113)","v":0},{"$f":"STDEV(BA113:BE113)","v":0}]
["p+0",2,null,"NA","NA","NA","NA","NA",{"$f":"AVERAGE(D114:H114)","v":{"$error":"#DIV/0!"}},{"$f":"STDEV(D114:H114)","v":{"$error":"#DIV/0!"}},93,92,69,70,86,{"$f":"AVERAGE(K114:O114)","v":82},{"$f":"STDEV(K114:O114)","v":11.726039399558575},10,13,6,9,14,{"$f":"AVERAGE(R114:V114)","v":10.4},{"$f":"STDEV(R114:V114)","v":3.2093613071762443},1,0,0,0,0,{"$f":"AVERAGE(Y114:AC114)","v":0.2},{"$f":"STDEV(Y114:AC114)","v":0.4472135954999579},0,0,0,0,0,{"$f":"AVERAGE(AF114:AJ114)","v":0},{"$f":"STDEV(AF114:AJ114)","v":0},0,0,0,0,0,{"$f":"AVERAGE(AM114:AQ114)","v":0},{"$f":"STDEV(AM114:AQ114)","v":0},0,0,0,0,0,{"$f":"AVERAGE(AT114:AX114)","v":0},{"$f":"STDEV(AT114:AX114)","v":0},0,0,0,0,0,{"$f":"AVERAGE(BA114:BE114)","v":0},{"$f":"STDEV(BA114:BE114)","v":0}]
[null,3,null,"NA","NA","NA","NA","NA",{"$f":"AVERAGE(D115:H115)","v":{"$error":"#DIV/0!"}},{"$f":"STDEV(D115:H115)","v":{"$error":"#DIV/0!"}},"NA","NA","NA","NA","NA",{"$f":"AVERAGE(K115:O115)","v":{"$error":"#DIV/0!"}},{"$f":"STDEV(K115:O115)","v":{"$error":"#DIV/0!"}},32,32,22,23,25,{"$f":"AVERAGE(R115:V115)","v":{"v":26.8,"d":"27"}},{"$f":"STDEV(R115:V115)","v":{"v":4.868264577855239,"d":"5"}},2,2,1,3,1,{"$f":"AVERAGE(Y115:AC115)","v":{"v":1.8,"d":"2"}},{"$f":"STDEV(Y115:AC115)","v":{"v":0.8366600265340757,"d":"1"}},2,0,0,0,1,{"$f":"AVERAGE(AF115:AJ115)","v":{"v":0.6,"d":"1"}},{"$f":"STDEV(AF115:AJ115)","v":{"v":0.8944271909999159,"d":"1"}},0,0,0,0,0,{"$f":"AVERAGE(AM115:AQ115)","v":0},{"$f":"STDEV(AM115:AQ115)","v":0},0,0,0,0,0,{"$f":"AVERAGE(AT115:AX115)","v":0},{"$f":"STDEV(AT115:AX115)","v":0},0,0,0,0,0,{"$f":"AVERAGE(BA115:BE115)","v":0},{"$f":"STDEV(BA115:BE115)","v":0}]
["average",{"$nulls":7},{"$f":"AVERAGE(I113:I115)","v":{"$error":"#DIV/0!"}},{"$nulls":6},{"$f":"AVERAGE(P113:P115)","v":{"$error":"#DIV/0!"}},{"$nulls":6},{"$f":"AVERAGE(W113:W115)","v":{"v":19.53333333333333,"d":"20"}},{"$nulls":6},{"$f":"AVERAGE(AD113:AD115)","v":{"v":1.3333333333333333,"d":"1"}},{"$nulls":6},{"$f":"AVERAGE(AK113:AK115)","v":{"v":0.19999999999999998,"d":"0"}},{"$nulls":6},{"$f":"AVERAGE(AR113:AR115)","v":0},{"$nulls":6},{"$f":"AVERAGE(AY113:AY115)","v":0},{"$nulls":6},{"$f":"AVERAGE(BF113:BF115)","v":0}]
["stdev",{"$nulls":7},{"$f":"SUM(J113:J115)","v":{"$error":"#DIV/0!"}},{"$nulls":6},{"$f":"SUM(Q113:Q115)","v":{"$error":"#DIV/0!"}},{"$nulls":6},{"$f":"SUM(X113:X115)","v":{"v":14.65789943557632,"d":"15"}},{"$nulls":6},{"$f":"SUM(AE113:AE115)","v":{"v":1.9909804032205813,"d":"2"}},{"$nulls":6},{"$f":"SUM(AL113:AL115)","v":{"v":0.8944271909999159,"d":"1"}},{"$nulls":6},{"$f":"SUM(AS113:AS115)","v":0},{"$nulls":6},{"$f":"SUM(AZ113:AZ115)","v":0},{"$nulls":6},{"$f":"SUM(BG113:BG115)","v":0}]
["p+3",1,null,"NA","NA","NA","NA","NA",{"$f":"AVERAGE(D118:H118)","v":{"$error":"#DIV/0!"}},{"$f":"STDEV(D118:H118)","v":{"$error":"#DIV/0!"}},76,74,66,67,73,{"$f":"AVERAGE(K118:O118)","v":{"v":71.2,"d":"71"}},{"$f":"STDEV(K118:O118)","v":{"v":4.43846820423443,"d":"4"}},8,8,6,11,8,{"$f":"AVERAGE(R118:V118)","v":{"v":8.2,"d":"8"}},{"$f":"STDEV(R118:V118)","v":{"v":1.7888543819998326,"d":"2"}},0,2,1,2,0,{"$f":"AVERAGE(Y118:AC118)","v":1},{"$f":"STDEV(Y118:AC118)","v":1},0,0,0,0,0,{"$f":"AVERAGE(AF118:AJ118)","v":0},{"$f":"STDEV(AF118:AJ118)","v":0},0,0,0,0,0,{"$f":"AVERAGE(AM118:AQ118)","v":0},{"$f":"STDEV(AM118:AQ118)","v":0},0,0,0,0,0,{"$f":"AVERAGE(AT118:AX118)","v":0},{"$f":"STDEV(AT118:AX118)","v":0},0,0,0,0,0,{"$f":"AVERAGE(BA118:BE118)","v":0},{"$f":"STDEV(BA118:BE118)","v":0}]
[null,2,null,"NA","NA","NA","NA","NA",{"$f":"AVERAGE(D119:H119)","v":{"$error":"#DIV/0!"}},{"$f":"STDEV(D119:H119)","v":{"$error":"#DIV/0!"}},"NA","NA","NA","NA","NA",{"$f":"AVERAGE(K119:O119)","v":{"$error":"#DIV/0!"}},{"$f":"STDEV(K119:O119)","v":{"$error":"#DIV/0!"}},78,74,76,70,73,{"$f":"AVERAGE(R119:V119)","v":{"v":74.2,"d":"74"}},{"$f":"STDEV(R119:V119)","v":{"v":3.0331501776206204,"d":"3"}},4,5,6,5,8,{"$f":"AVERAGE(Y119:AC119)","v":{"v":5.6,"d":"6"}},{"$f":"STDEV(Y119:AC119)","v":{"v":1.5165750888103091,"d":"2"}},0,0,0,0,0,{"$f":"AVERAGE(AF119:AJ119)","v":0},{"$f":"STDEV(AF119:AJ119)","v":0},0,0,0,0,0,{"$f":"AVERAGE(AM119:AQ119)","v":0},{"$f":"STDEV(AM119:AQ119)","v":0},0,0,0,0,0,{"$f":"AVERAGE(AT119:AX119)","v":0},{"$f":"STDEV(AT119:AX119)","v":0},0,0,0,0,0,{"$f":"AVERAGE(BA119:BE119)","v":0},{"$f":"STDEV(BA119:BE119)","v":0}]
[null,3,null,"NA","NA","NA","NA","NA",{"$f":"AVERAGE(D120:H120)","v":{"$error":"#DIV/0!"}},{"$f":"STDEV(D120:H120)","v":{"$error":"#DIV/0!"}},88,81,72,90,86,{"$f":"AVERAGE(K120:O120)","v":{"v":83.4,"d":"83"}},{"$f":"STDEV(K120:O120)","v":{"v":7.197221686178632,"d":"7"}},15,11,14,15,15,{"$f":"AVERAGE(R120:V120)","v":14},{"$f":"STDEV(R120:V120)","v":{"v":1.7320508075688772,"d":"2"}},3,0,0,0,1,{"$f":"AVERAGE(Y120:AC120)","v":{"v":0.8,"d":"1"}},{"$f":"STDEV(Y120:AC120)","v":{"v":1.3038404810405297,"d":"1"}},0,0,0,0,0,{"$f":"AVERAGE(AF120:AJ120)","v":0},{"$f":"STDEV(AF120:AJ120)","v":0},0,0,0,0,0,{"$f":"AVERAGE(AM120:AQ120)","v":0},{"$f":"STDEV(AM120:AQ120)","v":0},0,0,0,0,0,{"$f":"AVERAGE(AT120:AX120)","v":0},{"$f":"STDEV(AT120:AX120)","v":0},0,0,0,0,0,{"$f":"AVERAGE(BA120:BE120)","v":0},{"$f":"STDEV(BA120:BE120)","v":0}]
["average",{"$nulls":7},{"$f":"AVERAGE(I118:I120)","v":{"$error":"#DIV/0!"}},{"$nulls":6},{"$f":"AVERAGE(P118:P120)","v":{"$error":"#DIV/0!"}},{"$nulls":6},{"$f":"AVERAGE(W118:W120)","v":{"v":32.13333333333333,"d":"32"}},{"$nulls":6},{"$f":"AVERAGE(AD118:AD120)","v":{"v":2.4666666666666663,"d":"2"}},{"$nulls":6},{"$f":"AVERAGE(AK118:AK120)","v":0},{"$nulls":6},{"$f":"AVERAGE(AR118:AR120)","v":0},{"$nulls":6},{"$f":"AVERAGE(AY118:AY120)","v":0},{"$nulls":6},{"$f":"AVERAGE(BF118:BF120)","v":0}]
["stdev",{"$nulls":7},{"$f":"SUM(J118:J120)","v":{"$error":"#DIV/0!"}},{"$nulls":6},{"$f":"SUM(Q118:Q120)","v":{"$error":"#DIV/0!"}},{"$nulls":6},{"$f":"SUM(X118:X120)","v":{"v":6.55405536718933,"d":"7"}},{"$nulls":6},{"$f":"SUM(AE118:AE120)","v":{"v":3.8204155698508386,"d":"4"}},{"$nulls":6},{"$f":"SUM(AL118:AL120)","v":0},{"$nulls":6},{"$f":"SUM(AS118:AS120)","v":0},{"$nulls":6},{"$f":"SUM(AZ118:AZ120)","v":0},{"$nulls":6},{"$f":"SUM(BG118:BG120)","v":0}]
[]
[]
["T11","2018-02-19"]
["Sample","Dilution:",null,"10^0",{"$nulls":4},"AVERAGE","STDEV","10^-1",{"$nulls":4},"AVERAGE","STDEV","10^-2",{"$nulls":4},"AVERAGE","STDEV","10^-3",{"$nulls":4},"AVERAGE","STDEV","10^-4",{"$nulls":4},"AVERAGE","STDEV","10^-5",{"$nulls":4},"AVERAGE","STDEV","10^-6",{"$nulls":4},"AVERAGE","STDEV","10^-7",{"$nulls":4},"AVERAGE","STDEV"]
["Blank",1,null,0,0,0,0,0,{"$f":"AVERAGE(D127:H127)","v":0},{"$f":"STDEV(D127:H127)","v":0},0,0,0,0,0,{"$f":"AVERAGE(K127:O127)","v":0},{"$f":"STDEV(K127:O127)","v":0},0,0,0,0,0,{"$f":"AVERAGE(R127:V127)","v":0},{"$f":"STDEV(R127:V127)","v":0},0,0,0,0,0,{"$f":"AVERAGE(Y127:AC127)","v":0},{"$f":"STDEV(Y127:AC127)","v":0},0,0,0,0,0,{"$f":"AVERAGE(AF127:AJ127)","v":0},{"$f":"STDEV(AF127:AJ127)","v":0},0,0,0,0,0,{"$f":"AVERAGE(AM127:AQ127)","v":0},{"$f":"STDEV(AM127:AQ127)","v":0},0,0,0,0,0,{"$f":"AVERAGE(AT127:AX127)","v":0},{"$f":"STDEV(AT127:AX127)","v":0},0,0,0,0,0,{"$f":"AVERAGE(BA127:BE127)","v":0},{"$f":"STDEV(BA127:BE127)","v":0}]
[null,2,null,0,0,0,0,0,{"$f":"AVERAGE(D128:H128)","v":0},{"$f":"STDEV(D128:H128)","v":0},0,0,0,0,0,{"$f":"AVERAGE(K128:O128)","v":0},{"$f":"STDEV(K128:O128)","v":0},0,0,0,0,0,{"$f":"AVERAGE(R128:V128)","v":0},{"$f":"STDEV(R128:V128)","v":0},0,0,0,0,0,{"$f":"AVERAGE(Y128:AC128)","v":0},{"$f":"STDEV(Y128:AC128)","v":0},0,0,0,0,0,{"$f":"AVERAGE(AF128:AJ128)","v":0},{"$f":"STDEV(AF128:AJ128)","v":0},0,0,0,0,0,{"$f":"AVERAGE(AM128:AQ128)","v":0},{"$f":"STDEV(AM128:AQ128)","v":0},0,0,0,0,0,{"$f":"AVERAGE(AT128:AX128)","v":0},{"$f":"STDEV(AT128:AX128)","v":0},0,0,0,0,0,{"$f":"AVERAGE(BA128:BE128)","v":0},{"$f":"STDEV(BA128:BE128)","v":0}]
[null,3,null,0,0,0,0,0,{"$f":"AVERAGE(D129:H129)","v":0},{"$f":"STDEV(D129:H129)","v":0},0,0,0,0,0,{"$f":"AVERAGE(K129:O129)","v":0},{"$f":"STDEV(K129:O129)","v":0},0,0,0,0,0,{"$f":"AVERAGE(R129:V129)","v":0},{"$f":"STDEV(R129:V129)","v":0},0,0,0,0,0,{"$f":"AVERAGE(Y129:AC129)","v":0},{"$f":"STDEV(Y129:AC129)","v":0},0,0,0,0,0,{"$f":"AVERAGE(AF129:AJ129)","v":0},{"$f":"STDEV(AF129:AJ129)","v":0},0,0,0,0,0,{"$f":"AVERAGE(AM129:AQ129)","v":0},{"$f":"STDEV(AM129:AQ129)","v":0},0,0,0,0,0,{"$f":"AVERAGE(AT129:AX129)","v":0},{"$f":"STDEV(AT129:AX129)","v":0},0,0,0,0,0,{"$f":"AVERAGE(BA129:BE129)","v":0},{"$f":"STDEV(BA129:BE129)","v":0}]
[{"$nulls":8},{"$f":"AVERAGE(I127:I129)","v":0},{"$nulls":6},{"$f":"AVERAGE(P127:P129)","v":0},{"$nulls":6},{"$f":"AVERAGE(W127:W129)","v":0},{"$nulls":6},{"$f":"AVERAGE(AD127:AD129)","v":0},{"$nulls":6},{"$f":"AVERAGE(AK127:AK129)","v":0},{"$nulls":6},{"$f":"AVERAGE(AR127:AR129)","v":0},{"$nulls":6},{"$f":"AVERAGE(AY127:AY129)","v":0},{"$nulls":6},{"$f":"AVERAGE(BF127:BF129)","v":0}]
[{"$nulls":8},{"$f":"SUM(J127:J129)","v":0},{"$nulls":6},{"$f":"SUM(Q127:Q129)","v":0},{"$nulls":6},{"$f":"SUM(X127:X129)","v":0},{"$nulls":6},{"$f":"SUM(AE127:AE129)","v":0},{"$nulls":6},{"$f":"SUM(AL127:AL129)","v":0},{"$nulls":6},{"$f":"SUM(AS127:AS129)","v":0},{"$nulls":6},{"$f":"SUM(AZ127:AZ129)","v":0},{"$nulls":6},{"$f":"SUM(BG127:BG129)","v":0}]
["BW25113 -",1,null,"NA","NA","NA","NA","NA",{"$f":"AVERAGE(D132:H132)","v":{"$error":"#DIV/0!"}},{"$f":"STDEV(D132:H132)","v":{"$error":"#DIV/0!"}},"NA","NA","NA","NA","NA",{"$f":"AVERAGE(K132:O132)","v":{"$error":"#DIV/0!"}},{"$f":"STDEV(K132:O132)","v":{"$error":"#DIV/0!"}},"NA","NA","NA","NA","NA",{"$f":"AVERAGE(R132:V132)","v":{"$error":"#DIV/0!"}},{"$f":"STDEV(R132:V132)","v":{"$error":"#DIV/0!"}},"NA","NA","NA","NA","NA",{"$f":"AVERAGE(Y132:AC132)","v":{"$error":"#DIV/0!"}},{"$f":"STDEV(Y132:AC132)","v":{"$error":"#DIV/0!"}},242,277,268,272,260,{"$f":"AVERAGE(AF132:AJ132)","v":{"v":263.8,"d":"264"}},{"$f":"STDEV(AF132:AJ132)","v":{"v":13.682105101189656,"d":"14"}},65,46,50,60,52,{"$f":"AVERAGE(AM132:AQ132)","v":{"v":54.6,"d":"55"}},{"$f":"STDEV(AM132:AQ132)","v":{"v":7.733045971672493,"d":"8"}},8,3,2,0,0,{"$f":"AVERAGE(AT132:AX132)","v":{"v":2.6,"d":"3"}},{"$f":"STDEV(AT132:AX132)","v":{"v":3.286335345030997,"d":"3"}},0,1,0,1,0,{"$f":"AVERAGE(BA132:BE132)","v":{"v":0.4,"d":"0"}},{"$f":"STDEV(BA132:BE132)","v":{"v":0.5477225575051661,"d":"1"}}]
["pS2213 - ",2,null,"NA","NA","NA","NA","NA",{"$f":"AVERAGE(D133:H133)","v":{"$error":"#DIV/0!"}},{"$f":"STDEV(D133:H133)","v":{"$error":"#DIV/0!"}},"NA","NA","NA","NA","NA",{"$f":"AVERAGE(K133:O133)","v":{"$error":"#DIV/0!"}},{"$f":"STDEV(K133:O133)","v":{"$error":"#DIV/0!"}},"NA","NA","NA","NA","NA",{"$f":"AVERAGE(R133:V133)","v":{"$error":"#DIV/0!"}},{"$f":"STDEV(R133:V133)","v":{"$error":"#DIV/0!"}},"NA","NA","NA","NA","NA",{"$f":"AVERAGE(Y133:AC133)","v":{"$error":"#DIV/0!"}},{"$f":"STDEV(Y133:AC133)","v":{"$error":"#DIV/0!"}},212,250,244,293,222,{"$f":"AVERAGE(AF133:AJ133)","v":{"v":244.2,"d":"244"}},{"$f":"STDEV(AF133:AJ133)","v":{"v":31.40382142351464,"d":"31"}},47,58,57,58,57,{"$f":"AVERAGE(AM133:AQ133)","v":{"v":55.4,"d":"55"}},{"$f":"STDEV(AM133:AQ133)","v":{"v":4.722287581247038,"d":"5"}},4,9,8,6,4,{"$f":"AVERAGE(AT133:AX133)","v":{"v":6.2,"d":"6"}},{"$f":"STDEV(AT133:AX133)","v":{"v":2.2803508501982765,"d":"2"}},1,1,1,0,1,{"$f":"AVERAGE(BA133:BE133)","v":{"v":0.8,"d":"1"}},{"$f":"STDEV(BA133:BE133)","v":{"v":0.44721359549995787,"d":"0"}}]
[null,3,null,"NA","NA","NA","NA","NA",{"$f":"AVERAGE(D134:H134)","v":{"$error":"#DIV/0!"}},{"$f":"STDEV(D134:H134)","v":{"$error":"#DIV/0!"}},"NA","NA","NA","NA","NA",{"$f":"AVERAGE(K134:O134)","v":{"$error":"#DIV/0!"}},{"$f":"STDEV(K134:O134)","v":{"$error":"#DIV/0!"}},"NA","NA","NA","NA","NA",{"$f":"AVERAGE(R134:V134)","v":{"$error":"#DIV/0!"}},{"$f":"STDEV(R134:V134)","v":{"$error":"#DIV/0!"}},"NA","NA","NA","NA","NA",{"$f":"AVERAGE(Y134:AC134)","v":{"$error":"#DIV/0!"}},{"$f":"STDEV(Y134:AC134)","v":{"$error":"#DIV/0!"}},274,328,257,293,242,{"$f":"AVERAGE(AF134:AJ134)","v":{"v":278.8,"d":"279"}},{"$f":"STDEV(AF134:AJ134)","v":{"v":33.44697295720492,"d":"33"}},45,51,58,72,61,{"$f":"AVERAGE(AM134:AQ134)","v":{"v":57.4,"d":"57"}},{"$f":"STDEV(AM134:AQ134)","v":{"v":10.26157882589225,"d":"10"}},7,6,2,3,5,{"$f":"AVERAGE(AT134:AX134)","v":{"v":4.6,"d":"5"}},{"$f":"STDEV(AT134:AX134)","v":{"v":2.0736441353327724,"d":"2"}},0,0,0,0,2,{"$f":"AVERAGE(BA134:BE134)","v":{"v":0.4,"d":"0"}},{"$f":"STDEV(BA134:BE134)","v":{"v":0.8944271909999159,"d":"1"}}]
["average",{"$nulls":7},{"$f":"AVERAGE(I132:I134)","v":{"$error":"#DIV/0!"}},{"$nulls":6},{"$f":"AVERAGE(P132:P134)","v":{"$error":"#DIV/0!"}},{"$nulls":6},{"$f":"AVERAGE(W132:W134)","v":{"$error":"#DIV/0!"}},{"$nulls":6},{"$f":"AVERAGE(AD132:AD134)","v":{"$error":"#DIV/0!"}},{"$nulls":6},{"$f":"AVERAGE(AK132:AK134)","v":{"v":262.26666666666665,"d":"262"}},{"$nulls":6},{"$f":"AVERAGE(AR132:AR134)","v":{"v":55.800000000000004,"d":"56"}},{"$nulls":6},{"$f":"AVERAGE(AY132:AY134)","v":{"v":4.466666666666667,"d":"4"}},{"$nulls":6},{"$f":"AVERAGE(BF132:BF134)","v":{"v":0.5333333333333333,"d":"1"}}]
["stdev",{"$nulls":7},{"$f":"SUM(J132:J134)","v":{"$error":"#DIV/0!"}},{"$nulls":6},{"$f":"SUM(Q132:Q134)","v":{"$error":"#DIV/0!"}},{"$nulls":6},{"$f":"SUM(X132:X134)","v":{"$error":"#DIV/0!"}},{"$nulls":6},{"$f":"SUM(AE132:AE134)","v":{"$error":"#DIV/0!"}},{"$nulls":6},{"$f":"SUM(AL132:AL134)","v":{"v":78.53289948190921,"d":"79"}},{"$nulls":6},{"$f":"SUM(AS132:AS134)","v":{"v":22.71691237881178,"d":"23"}},{"$nulls":6},{"$f":"SUM(AZ132:AZ134)","v":{"v":7.640330330562046,"d":"8"}},{"$nulls":6},{"$f":"SUM(BG132:BG134)","v":{"v":1.88936334400504,"d":"2"}}]
["pS2213 - ",1,null,"NA","NA","NA","NA","NA",{"$f":"AVERAGE(D137:H137)","v":{"$error":"#DIV/0!"}},{"$f":"STDEV(D137:H137)","v":{"$error":"#DIV/0!"}},86,84,91,74,78,{"$f":"AVERAGE(K137:O137)","v":82.6},{"$f":"STDEV(K137:O137)","v":6.6932802122726045},7,10,12,15,9,{"$f":"AVERAGE(R137:V137)","v":10.6},{"$f":"STDEV(R137:V137)","v":3.0495901363953832},1,0,0,2,3,{"$f":"AVERAGE(Y137:AC137)","v":1.2},{"$f":"STDEV(Y137:AC137)","v":1.3038404810405297},0,0,0,0,0,{"$f":"AVERAGE(AF137:AJ137)","v":0},{"$f":"STDEV(AF137:AJ137)","v":0},0,0,0,0,0,{"$f":"AVERAGE(AM137:AQ137)","v":0},{"$f":"STDEV(AM137:AQ137)","v":0},0,0,0,0,0,{"$f":"AVERAGE(AT137:AX137)","v":0},{"$f":"STDEV(AT137:AX137)","v":0},0,0,0,0,0,{"$f":"AVERAGE(BA137:BE137)","v":0},{"$f":"STDEV(BA137:BE137)","v":0}]
["p+0",2,null,"NA","NA","NA","NA","NA",{"$f":"AVERAGE(D138:H138)","v":{"$error":"#DIV/0!"}},{"$f":"STDEV(D138:H138)","v":{"$error":"#DIV/0!"}},63,"NA","NA",84,69,{"$f":"AVERAGE(K138:O138)","v":72},{"$f":"STDEV(K138:O138)","v":10.816653826391969},7,4,14,8,7,{"$f":"AVERAGE(R138:V138)","v":8},{"$f":"STDEV(R138:V138)","v":3.6742346141747673},0,0,0,0,0,{"$f":"AVERAGE(Y138:AC138)","v":0},{"$f":"STDEV(Y138:AC138)","v":0},0,0,0,0,0,{"$f":"AVERAGE(AF138:AJ138)","v":0},{"$f":"STDEV(AF138:AJ138)","v":0},0,0,0,0,0,{"$f":"AVERAGE(AM138:AQ138)","v":0},{"$f":"STDEV(AM138:AQ138)","v":0},0,0,0,0,0,{"$f":"AVERAGE(AT138:AX138)","v":0},{"$f":"STDEV(AT138:AX138)","v":0},0,0,0,0,0,{"$f":"AVERAGE(BA138:BE138)","v":0},{"$f":"STDEV(BA138:BE138)","v":0}]
[null,3,null,"NA","NA","NA","NA","NA",{"$f":"AVERAGE(D139:H139)","v":{"$error":"#DIV/0!"}},{"$f":"STDEV(D139:H139)","v":{"$error":"#DIV/0!"}},65,53,53,55,44,{"$f":"AVERAGE(K139:O139)","v":54},{"$f":"STDEV(K139:O139)","v":{"v":7.483314773547883,"d":"7"}},7,12,8,5,4,{"$f":"AVERAGE(R139:V139)","v":{"v":7.2,"d":"7"}},{"$f":"STDEV(R139:V139)","v":{"v":3.1144823004794877,"d":"3"}},0,1,0,0,0,{"$f":"AVERAGE(Y139:AC139)","v":{"v":0.2,"d":"0"}},{"$f":"STDEV(Y139:AC139)","v":{"v":0.4472135954999579,"d":"0"}},0,0,0,0,0,{"$f":"AVERAGE(AF139:AJ139)","v":0},{"$f":"STDEV(AF139:AJ139)","v":0},0,0,0,0,0,{"$f":"AVERAGE(AM139:AQ139)","v":0},{"$f":"STDEV(AM139:AQ139)","v":0},0,0,0,0,0,{"$f":"AVERAGE(AT139:AX139)","v":0},{"$f":"STDEV(AT139:AX139)","v":0},0,0,0,0,0,{"$f":"AVERAGE(BA139:BE139)","v":0},{"$f":"STDEV(BA139:BE139)","v":0}]
["average",{"$nulls":7},{"$f":"AVERAGE(I137:I139)","v":{"$error":"#DIV/0!"}},{"$nulls":6},{"$f":"AVERAGE(P137:P139)","v":{"v":69.53333333333333,"d":"70"}},{"$nulls":6},{"$f":"AVERAGE(W137:W139)","v":{"v":8.6,"d":"9"}},{"$nulls":6},{"$f":"AVERAGE(AD137:AD139)","v":{"v":0.4666666666666666,"d":"0"}},{"$nulls":6},{"$f":"AVERAGE(AK137:AK139)","v":0},{"$nulls":6},{"$f":"AVERAGE(AR137:AR139)","v":0},{"$nulls":6},{"$f":"AVERAGE(AY137:AY139)","v":0},{"$nulls":6},{"$f":"AVERAGE(BF137:BF139)","v":0}]
["stdev",{"$nulls":7},{"$f":"SUM(J137:J139)","v":{"$error":"#DIV/0!"}},{"$nulls":6},{"$f":"SUM(Q137:Q139)","v":{"v":24.993248812212457,"d":"25"}},{"$nulls":6},{"$f":"SUM(X137:X139)","v":{"v":9.838307051049638,"d":"10"}},{"$nulls":6},{"$f":"SUM(AE137:AE139)","v":{"v":1.7510540765404876,"d":"2"}},{"$nulls":6},{"$f":"SUM(AL137:AL139)","v":0},{"$nulls":6},{"$f":"SUM(AS137:AS139)","v":0},{"$nulls":6},{"$f":"SUM(AZ137:AZ139)","v":0},{"$nulls":6},{"$f":"SUM(BG137:BG139)","v":0}]
["pS2213 A",1,null,"NA","NA","NA","NA","NA",{"$f":"AVERAGE(D142:H142)","v":{"$error":"#DIV/0!"}},{"$f":"STDEV(D142:H142)","v":{"$error":"#DIV/0!"}},26,17,24,19,27,{"$f":"AVERAGE(K142:O142)","v":22.6},{"$f":"STDEV(K142:O142)","v":4.393176527297754},2,1,3,1,3,{"$f":"AVERAGE(R142:V142)","v":2},{"$f":"STDEV(R142:V142)","v":1},1,0,0,0,0,{"$f":"AVERAGE(Y142:AC142)","v":0.2},{"$f":"STDEV(Y142:AC142)","v":0.4472135954999579},0,0,0,0,0,{"$f":"AVERAGE(AF142:AJ142)","v":0},{"$f":"STDEV(AF142:AJ142)","v":0},0,0,0,0,0,{"$f":"AVERAGE(AM142:AQ142)","v":0},{"$f":"STDEV(AM142:AQ142)","v":0},0,0,0,0,0,{"$f":"AVERAGE(AT142:AX142)","v":0},{"$f":"STDEV(AT142:AX142)","v":0},0,0,0,0,0,{"$f":"AVERAGE(BA142:BE142)","v":0},{"$f":"STDEV(BA142:BE142)","v":0}]
["p+0",2,null,"NA","NA","NA","NA","NA",{"$f":"AVERAGE(D143:H143)","v":{"$error":"#DIV/0!"}},{"$f":"STDEV(D143:H143)","v":{"$error":"#DIV/0!"}},133,110,129,125,133,{"$f":"AVERAGE(K143:O143)","v":126},{"$f":"STDEV(K143:O143)","v":9.539392014169456},17,23,15,26,17,{"$f":"AVERAGE(R143:V143)","v":19.6},{"$f":"STDEV(R143:V143)","v":4.669047011971502},2,3,1,2,2,{"$f":"AVERAGE(Y143:AC143)","v":2},{"$f":"STDEV(Y143:AC143)","v":0.7071067811865476},0,1,0,1,0,{"$f":"AVERAGE(AF143:AJ143)","v":0.4},{"$f":"STDEV(AF143:AJ143)","v":0.5477225575051661},0,0,1,0,0,{"$f":"AVERAGE(AM143:AQ143)","v":0.2},{"$f":"STDEV(AM143:AQ143)","v":0.4472135954999579},0,0,0,0,0,{"$f":"AVERAGE(AT143:AX143)","v":0},{"$f":"STDEV(AT143:AX143)","v":0},0,0,0,0,0,{"$f":"AVERAGE(BA143:BE143)","v":0},{"$f":"STDEV(BA143:BE143)","v":0}]
[null,3,null,"NA","NA","NA","NA","NA",{"$f":"AVERAGE(D144:H144)","v":{"$error":"#DIV/0!"}},{"$f":"STDEV(D144:H144)","v":{"$error":"#DIV/0!"}},25,"NA","NA","NA",21,{"$f":"AVERAGE(K144:O144)","v":23},{"$f":"STDEV(K144:O144)","v":{"v":2.8284271247461903,"d":"3"}},1,1,1,0,1,{"$f":"AVERAGE(R144:V144)","v":{"v":0.8,"d":"1"}},{"$f":"STDEV(R144:V144)","v":{"v":0.44721359549995787,"d":"0"}},0,1,0,0,0,{"$f":"AVERAGE(Y144:AC144)","v":{"v":0.2,"d":"0"}},{"$f":"STDEV(Y144:AC144)","v":{"v":0.4472135954999579,"d":"0"}},0,0,0,0,0,{"$f":"AVERAGE(AF144:AJ144)","v":0},{"$f":"STDEV(AF144:AJ144)","v":0},0,0,0,0,0,{"$f":"AVERAGE(AM144:AQ144)","v":0},{"$f":"STDEV(AM144:AQ144)","v":0},0,0,0,0,0,{"$f":"AVERAGE(AT144:AX144)","v":0},{"$f":"STDEV(AT144:AX144)","v":0},0,0,0,0,0,{"$f":"AVERAGE(BA144:BE144)","v":0},{"$f":"STDEV(BA144:BE144)","v":0}]
["average",{"$nulls":7},{"$f":"AVERAGE(I142:I144)","v":{"$error":"#DIV/0!"}},{"$nulls":6},{"$f":"AVERAGE(P142:P144)","v":{"v":57.199999999999996,"d":"57"}},{"$nulls":6},{"$f":"AVERAGE(W142:W144)","v":{"v":7.466666666666668,"d":"7"}},{"$nulls":6},{"$f":"AVERAGE(AD142:AD144)","v":{"v":0.8000000000000002,"d":"1"}},{"$nulls":6},{"$f":"AVERAGE(AK142:AK144)","v":{"v":0.13333333333333333,"d":"0"}},{"$nulls":6},{"$f":"AVERAGE(AR142:AR144)","v":{"v":0.06666666666666667,"d":"0"}},{"$nulls":6},{"$f":"AVERAGE(AY142:AY144)","v":0},{"$nulls":6},{"$f":"AVERAGE(BF142:BF144)","v":0}]
["stdev",{"$nulls":7},{"$f":"SUM(J142:J144)","v":{"$error":"#DIV/0!"}},{"$nulls":6},{"$f":"SUM(Q142:Q144)","v":{"v":16.7609956662134,"d":"17"}},{"$nulls":6},{"$f":"SUM(X142:X144)","v":{"v":6.11626060747146,"d":"6"}},{"$nulls":6},{"$f":"SUM(AE142:AE144)","v":{"v":1.6015339721864634,"d":"2"}},{"$nulls":6},{"$f":"SUM(AL142:AL144)","v":{"v":0.5477225575051661,"d":"1"}},{"$nulls":6},{"$f":"SUM(AS142:AS144)","v":{"v":0.4472135954999579,"d":"0"}},{"$nulls":6},{"$f":"SUM(AZ142:AZ144)","v":0},{"$nulls":6},{"$f":"SUM(BG142:BG144)","v":0}]
["p+3",1,null,7,7,5,19,10,{"$f":"AVERAGE(D147:H147)","v":{"v":9.6,"d":"10"}},{"$f":"STDEV(D147:H147)","v":{"v":5.5497747702046425,"d":"6"}},1,1,1,2,1,{"$f":"AVERAGE(K147:O147)","v":{"v":1.2,"d":"1"}},{"$f":"STDEV(K147:O147)","v":{"v":0.44721359549995787,"d":"0"}},0,0,0,0,0,{"$f":"AVERAGE(R147:V147)","v":0},{"$f":"STDEV(R147:V147)","v":0},0,0,0,0,0,{"$f":"AVERAGE(Y147:AC147)","v":0},{"$f":"STDEV(Y147:AC147)","v":0},0,0,0,0,0,{"$f":"AVERAGE(AF147:AJ147)","v":0},{"$f":"STDEV(AF147:AJ147)","v":0},0,0,0,0,0,{"$f":"AVERAGE(AM147:AQ147)","v":0},{"$f":"STDEV(AM147:AQ147)","v":0},0,0,0,0,0,{"$f":"AVERAGE(AT147:AX147)","v":0},{"$f":"STDEV(AT147:AX147)","v":0},0,0,0,0,0,{"$f":"AVERAGE(BA147:BE147)","v":0},{"$f":"STDEV(BA147:BE147)","v":0}]
[null,2,null,152,193,183,196,211,{"$f":"AVERAGE(D148:H148)","v":187},{"$f":"STDEV(D148:H148)","v":{"v":21.988633427296023,"d":"22"}},42,45,43,31,27,{"$f":"AVERAGE(K148:O148)","v":{"v":37.6,"d":"38"}},{"$f":"STDEV(K148:O148)","v":{"v":8.04984471899924,"d":"8"}},4,2,2,5,5,{"$f":"AVERAGE(R148:V148)","v":{"v":3.6,"d":"4"}},{"$f":"STDEV(R148:V148)","v":{"v":1.5165750888103104,"d":"2"}},0,0,0,0,0,{"$f":"AVERAGE(Y148:AC148)","v":0},{"$f":"STDEV(Y148:AC148)","v":0},0,0,0,0,0,{"$f":"AVERAGE(AF148:AJ148)","v":0},{"$f":"STDEV(AF148:AJ148)","v":0},0,0,0,0,0,{"$f":"AVERAGE(AM148:AQ148)","v":0},{"$f":"STDEV(AM148:AQ148)","v":0},0,0,0,0,0,{"$f":"AVERAGE(AT148:AX148)","v":0},{"$f":"STDEV(AT148:AX148)","v":0},0,0,0,0,0,{"$f":"AVERAGE(BA148:BE148)","v":0},{"$f":"STDEV(BA148:BE148)","v":0}]
[null,3,null,"NA","NA","NA","NA","NA",{"$f":"AVERAGE(D149:H149)","v":{"$error":"#DIV/0!"}},{"$f":"STDEV(D149:H149)","v":{"$error":"#DIV/0!"}},50,33,42,32,31,{"$f":"AVERAGE(K149:O149)","v":{"v":37.6,"d":"38"}},{"$f":"STDEV(K149:O149)","v":{"v":8.203657720797471,"d":"8"}},4,5,3,3,2,{"$f":"AVERAGE(R149:V149)","v":{"v":3.4,"d":"3"}},{"$f":"STDEV(R149:V149)","v":{"v":1.1401754250991383,"d":"1"}},0,0,0,0,0,{"$f":"AVERAGE(Y149:AC149)","v":0},{"$f":"STDEV(Y149:AC149)","v":0},0,0,0,0,0,{"$f":"AVERAGE(AF149:AJ149)","v":0},{"$f":"STDEV(AF149:AJ149)","v":0},0,0,0,0,0,{"$f":"AVERAGE(AM149:AQ149)","v":0},{"$f":"STDEV(AM149:AQ149)","v":0},0,0,0,0,0,{"$f":"AVERAGE(AT149:AX149)","v":0},{"$f":"STDEV(AT149:AX149)","v":0},0,0,0,0,0,{"$f":"AVERAGE(BA149:BE149)","v":0},{"$f":"STDEV(BA149:BE149)","v":0}]
["average",{"$nulls":7},{"$f":"AVERAGE(I147:I149)","v":{"$error":"#DIV/0!"}},{"$nulls":6},{"$f":"AVERAGE(P147:P149)","v":{"v":25.46666666666667,"d":"25"}},{"$nulls":6},{"$f":"AVERAGE(W147:W149)","v":{"v":2.3333333333333335,"d":"2"}},{"$nulls":6},{"$f":"AVERAGE(AD147:AD149)","v":0},{"$nulls":6},{"$f":"AVERAGE(AK147:AK149)","v":0},{"$nulls":6},{"$f":"AVERAGE(AR147:AR149)","v":0},{"$nulls":6},{"$f":"AVERAGE(AY147:AY149)","v":0},{"$nulls":6},{"$f":"AVERAGE(BF147:BF149)","v":0}]
["stdev",{"$nulls":7},{"$f":"SUM(J147:J149)","v":{"$error":"#DIV/0!"}},{"$nulls":6},{"$f":"SUM(Q147:Q149)","v":{"v":16.700716035296672,"d":"17"}},{"$nulls":6},{"$f":"SUM(X147:X149)","v":{"v":2.656750513909449,"d":"3"}},{"$nulls":6},{"$f":"SUM(AE147:AE149)","v":0},{"$nulls":6},{"$f":"SUM(AL147:AL149)","v":0},{"$nulls":6},{"$f":"SUM(AS147:AS149)","v":0},{"$nulls":6},{"$f":"SUM(AZ147:AZ149)","v":0},{"$nulls":6},{"$f":"SUM(BG147:BG149)","v":0}]
["pS2213 APR",1,null,188,151,122,171,160,{"$f":"AVERAGE(D152:H152)","v":158.4},{"$f":"STDEV(D152:H152)","v":24.582514110643753},22,25,37,28,17,{"$f":"AVERAGE(K152:O152)","v":25.8},{"$f":"STDEV(K152:O152)","v":7.46324326281812},6,3,6,1,3,{"$f":"AVERAGE(R152:V152)","v":3.8},{"$f":"STDEV(R152:V152)","v":2.16794833886788},0,0,0,0,0,{"$f":"AVERAGE(Y152:AC152)","v":0},{"$f":"STDEV(Y152:AC152)","v":0},0,0,1,0,0,{"$f":"AVERAGE(AF152:AJ152)","v":0.2},{"$f":"STDEV(AF152:AJ152)","v":0.4472135954999579},0,0,0,0,0,{"$f":"AVERAGE(AM152:AQ152)","v":0},{"$f":"STDEV(AM152:AQ152)","v":0},0,0,0,0,0,{"$f":"AVERAGE(AT152:AX152)","v":0},{"$f":"STDEV(AT152:AX152)","v":0},0,0,0,0,0,{"$f":"AVERAGE(BA152:BE152)","v":0},{"$f":"STDEV(BA152:BE152)","v":0}]
["p+0",2,null,156,144,135,152,138,{"$f":"AVERAGE(D153:H153)","v":145},{"$f":"STDEV(D153:H153)","v":8.94427190999916},21,12,11,12,10,{"$f":"AVERAGE(K153:O153)","v":13.2},{"$f":"STDEV(K153:O153)","v":4.438468204234428},1,0,0,0,0,{"$f":"AVERAGE(R153:V153)","v":0.2},{"$f":"STDEV(R153:V153)","v":0.4472135954999579},0,0,0,0,0,{"$f":"AVERAGE(Y153:AC153)","v":0},{"$f":"STDEV(Y153:AC153)","v":0},0,0,0,0,0,{"$f":"AVERAGE(AF153:AJ153)","v":0},{"$f":"STDEV(AF153:AJ153)","v":0},0,0,0,0,0,{"$f":"AVERAGE(AM153:AQ153)","v":0},{"$f":"STDEV(AM153:AQ153)","v":0},0,0,0,0,0,{"$f":"AVERAGE(AT153:AX153)","v":0},{"$f":"STDEV(AT153:AX153)","v":0},0,0,0,0,0,{"$f":"AVERAGE(BA153:BE153)","v":0},{"$f":"STDEV(BA153:BE153)","v":0}]
[null,3,null,"NA","NA","NA","NA","NA",{"$f":"AVERAGE(D154:H154)","v":{"$error":"#DIV/0!"}},{"$f":"STDEV(D154:H154)","v":{"$error":"#DIV/0!"}},31,43,25,36,39,{"$f":"AVERAGE(K154:O154)","v":{"v":34.8,"d":"35"}},{"$f":"STDEV(K154:O154)","v":{"v":7.014271166700076,"d":"7"}},1,2,3,6,3,{"$f":"AVERAGE(R154:V154)","v":3},{"$f":"STDEV(R154:V154)","v":{"v":1.8708286933869707,"d":"2"}},0,0,0,0,1,{"$f":"AVERAGE(Y154:AC154)","v":{"v":0.2,"d":"0"}},{"$f":"STDEV(Y154:AC154)","v":{"v":0.4472135954999579,"d":"0"}},0,0,0,0,1,{"$f":"AVERAGE(AF154:AJ154)","v":{"v":0.2,"d":"0"}},{"$f":"STDEV(AF154:AJ154)","v":{"v":0.4472135954999579,"d":"0"}},0,0,0,0,0,{"$f":"AVERAGE(AM154:AQ154)","v":0},{"$f":"STDEV(AM154:AQ154)","v":0},0,0,0,0,0,{"$f":"AVERAGE(AT154:AX154)","v":0},{"$f":"STDEV(AT154:AX154)","v":0},0,0,0,0,0,{"$f":"AVERAGE(BA154:BE154)","v":0},{"$f":"STDEV(BA154:BE154)","v":0}]
["average",{"$nulls":7},{"$f":"AVERAGE(I152:I154)","v":{"$error":"#DIV/0!"}},{"$nulls":6},{"$f":"AVERAGE(P152:P154)","v":{"v":24.599999999999998,"d":"25"}},{"$nulls":6},{"$f":"AVERAGE(W152:W154)","v":{"v":2.3333333333333335,"d":"2"}},{"$nulls":6},{"$f":"AVERAGE(AD152:AD154)","v":{"v":0.06666666666666667,"d":"0"}},{"$nulls":6},{"$f":"AVERAGE(AK152:AK154)","v":{"v":0.13333333333333333,"d":"0"}},{"$nulls":6},{"$f":"AVERAGE(AR152:AR154)","v":0},{"$nulls":6},{"$f":"AVERAGE(AY152:AY154)","v":0},{"$nulls":6},{"$f":"AVERAGE(BF152:BF154)","v":0}]
["stdev",{"$nulls":7},{"$f":"SUM(J152:J154)","v":{"$error":"#DIV/0!"}},{"$nulls":6},{"$f":"SUM(Q152:Q154)","v":{"v":18.915982633752623,"d":"19"}},{"$nulls":6},{"$f":"SUM(X152:X154)","v":{"v":4.485990627754808,"d":"4"}},{"$nulls":6},{"$f":"SUM(AE152:AE154)","v":{"v":0.4472135954999579,"d":"0"}},{"$nulls":6},{"$f":"SUM(AL152:AL154)","v":{"v":0.8944271909999159,"d":"1"}},{"$nulls":6},{"$f":"SUM(AS152:AS154)","v":0},{"$nulls":6},{"$f":"SUM(AZ152:AZ154)","v":0},{"$nulls":6},{"$f":"SUM(BG152:BG154)","v":0}]
["p+3",1,null,215,"NA","NA","NA","NA",{"$f":"AVERAGE(D157:H157)","v":215},{"$f":"STDEV(D157:H157)","v":{"$error":"#DIV/0!"}},19,14,15,12,21,{"$f":"AVERAGE(K157:O157)","v":{"v":16.2,"d":"16"}},{"$f":"STDEV(K157:O157)","v":{"v":3.701351104664348,"d":"4"}},3,3,2,2,3,{"$f":"AVERAGE(R157:V157)","v":{"v":2.6,"d":"3"}},{"$f":"STDEV(R157:V157)","v":{"v":0.5477225575051667,"d":"1"}},0,0,0,1,0,{"$f":"AVERAGE(Y157:AC157)","v":{"v":0.2,"d":"0"}},{"$f":"STDEV(Y157:AC157)","v":{"v":0.4472135954999579,"d":"0"}},0,0,0,0,0,{"$f":"AVERAGE(AF157:AJ157)","v":0},{"$f":"STDEV(AF157:AJ157)","v":0},0,0,0,0,0,{"$f":"AVERAGE(AM157:AQ157)","v":0},{"$f":"STDEV(AM157:AQ157)","v":0},0,0,0,0,0,{"$f":"AVERAGE(AT157:AX157)","v":0},{"$f":"STDEV(AT157:AX157)","v":0},0,0,0,0,0,{"$f":"AVERAGE(BA157:BE157)","v":0},{"$f":"STDEV(BA157:BE157)","v":0}]
[null,2,null,"NA","NA","NA","NA","NA",{"$f":"AVERAGE(D158:H158)","v":{"$error":"#DIV/0!"}},{"$f":"STDEV(D158:H158)","v":{"$error":"#DIV/0!"}},51,47,32,30,47,{"$f":"AVERAGE(K158:O158)","v":{"v":41.4,"d":"41"}},{"$f":"STDEV(K158:O158)","v":{"v":9.65919251283461,"d":"10"}},6,4,3,1,4,{"$f":"AVERAGE(R158:V158)","v":{"v":3.6,"d":"4"}},{"$f":"STDEV(R158:V158)","v":{"v":1.8165902124584952,"d":"2"}},0,0,0,0,0,{"$f":"AVERAGE(Y158:AC158)","v":0},{"$f":"STDEV(Y158:AC158)","v":0},0,0,0,0,0,{"$f":"AVERAGE(AF158:AJ158)","v":0},{"$f":"STDEV(AF158:AJ158)","v":0},0,0,0,0,0,{"$f":"AVERAGE(AM158:AQ158)","v":0},{"$f":"STDEV(AM158:AQ158)","v":0},0,0,0,0,0,{"$f":"AVERAGE(AT158:AX158)","v":0},{"$f":"STDEV(AT158:AX158)","v":0},0,0,0,0,0,{"$f":"AVERAGE(BA158:BE158)","v":0},{"$f":"STDEV(BA158:BE158)","v":0}]
[null,3,null,123,106,112,112,109,{"$f":"AVERAGE(D159:H159)","v":{"v":112.4,"d":"112"}},{"$f":"STDEV(D159:H159)","v":{"v":6.4265076052238514,"d":"6"}},14,14,8,6,20,{"$f":"AVERAGE(K159:O159)","v":{"v":12.4,"d":"12"}},{"$f":"STDEV(K159:O159)","v":{"v":5.549774770204644,"d":"6"}},2,1,1,0,2,{"$f":"AVERAGE(R159:V159)","v":{"v":1.2,"d":"1"}},{"$f":"STDEV(R159:V159)","v":{"v":0.8366600265340756,"d":"1"}},0,0,0,0,0,{"$f":"AVERAGE(Y159:AC159)","v":0},{"$f":"STDEV(Y159:AC159)","v":0},0,0,0,0,0,{"$f":"AVERAGE(AF159:AJ159)","v":0},{"$f":"STDEV(AF159:AJ159)","v":0},0,0,0,0,0,{"$f":"AVERAGE(AM159:AQ159)","v":0},{"$f":"STDEV(AM159:AQ159)","v":0},0,0,0,0,0,{"$f":"AVERAGE(AT159:AX159)","v":0},{"$f":"STDEV(AT159:AX159)","v":0},0,0,0,0,0,{"$f":"AVERAGE(BA159:BE159)","v":0},{"$f":"STDEV(BA159:BE159)","v":0}]
["average",{"$nulls":7},{"$f":"AVERAGE(I157:I159)","v":{"$error":"#DIV/0!"}},{"$nulls":6},{"$f":"AVERAGE(P157:P159)","v":{"v":23.333333333333332,"d":"23"}},{"$nulls":6},{"$f":"AVERAGE(W157:W159)","v":{"v":2.466666666666667,"d":"2"}},{"$nulls":6},{"$f":"AVERAGE(AD157:AD159)","v":{"v":0.06666666666666667,"d":"0"}},{"$nulls":6},{"$f":"AVERAGE(AK157:AK159)","v":0},{"$nulls":6},{"$f":"AVERAGE(AR157:AR159)","v":0},{"$nulls":6},{"$f":"AVERAGE(AY157:AY159)","v":0},{"$nulls":6},{"$f":"AVERAGE(BF157:BF159)","v":0}]
["stdev",{"$nulls":7},{"$f":"SUM(J157:J159)","v":{"$error":"#DIV/0!"}},{"$nulls":6},{"$f":"SUM(Q157:Q159)","v":{"v":18.910318387703605,"d":"19"}},{"$nulls":6},{"$f":"SUM(X157:X159)","v":{"v":3.2009727964977372,"d":"3"}},{"$nulls":6},{"$f":"SUM(AE157:AE159)","v":{"v":0.4472135954999579,"d":"0"}},{"$nulls":6},{"$f":"SUM(AL157:AL159)","v":0},{"$nulls":6},{"$f":"SUM(AS157:AS159)","v":0},{"$nulls":6},{"$f":"SUM(AZ157:AZ159)","v":0},{"$nulls":6},{"$f":"SUM(BG157:BG159)","v":0}]
[]
[]
["T14","2018-02-22"]
["Sample","Dilution:",null,"10^0",{"$nulls":4},"AVERAGE","STDEV","10^-1",{"$nulls":4},"AVERAGE","STDEV","10^-2",{"$nulls":4},"AVERAGE","STDEV","10^-3",{"$nulls":4},"AVERAGE","STDEV","10^-4",{"$nulls":4},"AVERAGE","STDEV","10^-5",{"$nulls":4},"AVERAGE","STDEV","10^-6",{"$nulls":4},"AVERAGE","STDEV","10^-7",{"$nulls":4},"AVERAGE","STDEV"]
["Blank",1,null,0,0,0,0,0,{"$f":"AVERAGE(D166:H166)","v":0},{"$f":"STDEV(D166:H166)","v":0},0,0,0,0,0,{"$f":"AVERAGE(K166:O166)","v":0},{"$f":"STDEV(K166:O166)","v":0},0,0,0,0,0,{"$f":"AVERAGE(R166:V166)","v":0},{"$f":"STDEV(R166:V166)","v":0},0,0,0,0,0,{"$f":"AVERAGE(Y166:AC166)","v":0},{"$f":"STDEV(Y166:AC166)","v":0},0,0,0,0,0,{"$f":"AVERAGE(AF166:AJ166)","v":0},{"$f":"STDEV(AF166:AJ166)","v":0},0,0,0,0,0,{"$f":"AVERAGE(AM166:AQ166)","v":0},{"$f":"STDEV(AM166:AQ166)","v":0},0,0,0,0,0,{"$f":"AVERAGE(AT166:AX166)","v":0},{"$f":"STDEV(AT166:AX166)","v":0},0,0,0,0,0,{"$f":"AVERAGE(BA166:BE166)","v":0},{"$f":"STDEV(BA166:BE166)","v":0}]
[null,2,null,0,0,0,0,0,{"$f":"AVERAGE(D167:H167)","v":0},{"$f":"STDEV(D167:H167)","v":0},0,0,0,0,0,{"$f":"AVERAGE(K167:O167)","v":0},{"$f":"STDEV(K167:O167)","v":0},0,0,0,0,0,{"$f":"AVERAGE(R167:V167)","v":0},{"$f":"STDEV(R167:V167)","v":0},0,0,0,0,0,{"$f":"AVERAGE(Y167:AC167)","v":0},{"$f":"STDEV(Y167:AC167)","v":0},0,0,0,0,0,{"$f":"AVERAGE(AF167:AJ167)","v":0},{"$f":"STDEV(AF167:AJ167)","v":0},0,0,0,0,0,{"$f":"AVERAGE(AM167:AQ167)","v":0},{"$f":"STDEV(AM167:AQ167)","v":0},0,0,0,0,0,{"$f":"AVERAGE(AT167:AX167)","v":0},{"$f":"STDEV(AT167:AX167)","v":0},0,0,0,0,0,{"$f":"AVERAGE(BA167:BE167)","v":0},{"$f":"STDEV(BA167:BE167)","v":0}]
[null,3,null,0,0,0,0,0,{"$f":"AVERAGE(D168:H168)","v":0},{"$f":"STDEV(D168:H168)","v":0},0,0,0,0,0,{"$f":"AVERAGE(K168:O168)","v":0},{"$f":"STDEV(K168:O168)","v":0},0,0,0,0,0,{"$f":"AVERAGE(R168:V168)","v":0},{"$f":"STDEV(R168:V168)","v":0},0,0,0,0,0,{"$f":"AVERAGE(Y168:AC168)","v":0},{"$f":"STDEV(Y168:AC168)","v":0},0,0,0,0,0,{"$f":"AVERAGE(AF168:AJ168)","v":0},{"$f":"STDEV(AF168:AJ168)","v":0},0,0,0,0,0,{"$f":"AVERAGE(AM168:AQ168)","v":0},{"$f":"STDEV(AM168:AQ168)","v":0},0,0,0,0,0,{"$f":"AVERAGE(AT168:AX168)","v":0},{"$f":"STDEV(AT168:AX168)","v":0},0,0,0,0,0,{"$f":"AVERAGE(BA168:BE168)","v":0},{"$f":"STDEV(BA168:BE168)","v":0}]
[{"$nulls":8},{"$f":"AVERAGE(I166:I168)","v":0},{"$nulls":6},{"$f":"AVERAGE(P166:P168)","v":0},{"$nulls":6},{"$f":"AVERAGE(W166:W168)","v":0},{"$nulls":6},{"$f":"AVERAGE(AD166:AD168)","v":0},{"$nulls":6},{"$f":"AVERAGE(AK166:AK168)","v":0},{"$nulls":6},{"$f":"AVERAGE(AR166:AR168)","v":0},{"$nulls":6},{"$f":"AVERAGE(AY166:AY168)","v":0},{"$nulls":6},{"$f":"AVERAGE(BF166:BF168)","v":0}]
[{"$nulls":8},{"$f":"SUM(J166:J168)","v":0},{"$nulls":6},{"$f":"SUM(Q166:Q168)","v":0},{"$nulls":6},{"$f":"SUM(X166:X168)","v":0},{"$nulls":6},{"$f":"SUM(AE166:AE168)","v":0},{"$nulls":6},{"$f":"SUM(AL166:AL168)","v":0},{"$nulls":6},{"$f":"SUM(AS166:AS168)","v":0},{"$nulls":6},{"$f":"SUM(AZ166:AZ168)","v":0},{"$nulls":6},{"$f":"SUM(BG166:BG168)","v":0}]
["BW25113 -",1,null,"NA","NA","NA","NA","NA",{"$f":"AVERAGE(D171:H171)","v":{"$error":"#DIV/0!"}},{"$f":"STDEV(D171:H171)","v":{"$error":"#DIV/0!"}},"NA","NA","NA","NA","NA",{"$f":"AVERAGE(K171:O171)","v":{"$error":"#DIV/0!"}},{"$f":"STDEV(K171:O171)","v":{"$error":"#DIV/0!"}},"NA","NA","NA","NA","NA",{"$f":"AVERAGE(R171:V171)","v":{"$error":"#DIV/0!"}},{"$f":"STDEV(R171:V171)","v":{"$error":"#DIV/0!"}},"NA","NA","NA","NA","NA",{"$f":"AVERAGE(Y171:AC171)","v":{"$error":"#DIV/0!"}},{"$f":"STDEV(Y171:AC171)","v":{"$error":"#DIV/0!"}},254,"NA","NA","NA","NA",{"$f":"AVERAGE(AF171:AJ171)","v":254},{"$f":"STDEV(AF171:AJ171)","v":{"$error":"#DIV/0!"}},34,45,35,42,47,{"$f":"AVERAGE(AM171:AQ171)","v":{"v":40.6,"d":"41"}},{"$f":"STDEV(AM171:AQ171)","v":{"v":5.856620185738544,"d":"6"}},3,7,8,9,12,{"$f":"AVERAGE(AT171:AX171)","v":{"v":7.8,"d":"8"}},{"$f":"STDEV(AT171:AX171)","v":{"v":3.271085446759226,"d":"3"}},0,0,1,0,0,{"$f":"AVERAGE(BA171:BE171)","v":{"v":0.2,"d":"0"}},{"$f":"STDEV(BA171:BE171)","v":{"v":0.4472135954999579,"d":"0"}}]
["pS2213 - ",2,null,"NA","NA","NA","NA","NA",{"$f":"AVERAGE(D172:H172)","v":{"$error":"#DIV/0!"}},{"$f":"STDEV(D172:H172)","v":{"$error":"#DIV/0!"}},"NA","NA","NA","NA","NA",{"$f":"AVERAGE(K172:O172)","v":{"$error":"#DIV/0!"}},{"$f":"STDEV(K172:O172)","v":{"$error":"#DIV/0!"}},"NA","NA","NA","NA","NA",{"$f":"AVERAGE(R172:V172)","v":{"$error":"#DIV/0!"}},{"$f":"STDEV(R172:V172)","v":{"$error":"#DIV/0!"}},"NA","NA","NA","NA","NA",{"$f":"AVERAGE(Y172:AC172)","v":{"$error":"#DIV/0!"}},{"$f":"STDEV(Y172:AC172)","v":{"$error":"#DIV/0!"}},"NA","NA","NA","NA","NA",{"$f":"AVERAGE(AF172:AJ172)","v":{"$error":"#DIV/0!"}},{"$f":"STDEV(AF172:AJ172)","v":{"$error":"#DIV/0!"}},37,46,56,53,53,{"$f":"AVERAGE(AM172:AQ172)","v":49},{"$f":"STDEV(AM172:AQ172)","v":{"v":7.648529270389178,"d":"8"}},8,9,5,5,12,{"$f":"AVERAGE(AT172:AX172)","v":{"v":7.8,"d":"8"}},{"$f":"STDEV(AT172:AX172)","v":{"v":2.9495762407505257,"d":"3"}},2,0,0,1,0,{"$f":"AVERAGE(BA172:BE172)","v":{"v":0.6,"d":"1"}},{"$f":"STDEV(BA172:BE172)","v":{"v":0.8944271909999159,"d":"1"}}]
[null,3,null,"NA","NA","NA","NA","NA",{"$f":"AVERAGE(D173:H173)","v":{"$error":"#DIV/0!"}},{"$f":"STDEV(D173:H173)","v":{"$error":"#DIV/0!"}},"NA","NA","NA","NA","NA",{"$f":"AVERAGE(K173:O173)","v":{"$error":"#DIV/0!"}},{"$f":"STDEV(K173:O173)","v":{"$error":"#DIV/0!"}},"NA","NA","NA","NA","NA",{"$f":"AVERAGE(R173:V173)","v":{"$error":"#DIV/0!"}},{"$f":"STDEV(R173:V173)","v":{"$error":"#DIV/0!"}},"NA","NA","NA","NA","NA",{"$f":"AVERAGE(Y173:AC173)","v":{"$error":"#DIV/0!"}},{"$f":"STDEV(Y173:AC173)","v":{"$error":"#DIV/0!"}},"NA","NA","NA","NA","NA",{"$f":"AVERAGE(AF173:AJ173)","v":{"$error":"#DIV/0!"}},{"$f":"STDEV(AF173:AJ173)","v":{"$error":"#DIV/0!"}},46,43,43,50,39,{"$f":"AVERAGE(AM173:AQ173)","v":{"v":44.2,"d":"44"}},{"$f":"STDEV(AM173:AQ173)","v":{"v":4.08656334834051,"d":"4"}},8,5,5,4,4,{"$f":"AVERAGE(AT173:AX173)","v":{"v":5.2,"d":"5"}},{"$f":"STDEV(AT173:AX173)","v":{"v":1.6431676725154991,"d":"2"}},1,0,1,0,2,{"$f":"AVERAGE(BA173:BE173)","v":{"v":0.8,"d":"1"}},{"$f":"STDEV(BA173:BE173)","v":{"v":0.8366600265340756,"d":"1"}}]
["average",{"$nulls":7},{"$f":"AVERAGE(I171:I173)","v":{"$error":"#DIV/0!"}},{"$nulls":6},{"$f":"AVERAGE(P171:P173)","v":{"$error":"#DIV/0!"}},{"$nulls":6},{"$f":"AVERAGE(W171:W173)","v":{"$error":"#DIV/0!"}},{"$nulls":6},{"$f":"AVERAGE(AD171:AD173)","v":{"$error":"#DIV/0!"}},{"$nulls":6},{"$f":"AVERAGE(AK171:AK173)","v":{"$error":"#DIV/0!"}},{"$nulls":6},{"$f":"AVERAGE(AR171:AR173)","v":{"v":44.6,"d":"45"}},{"$nulls":6},{"$f":"AVERAGE(AY171:AY173)","v":{"v":6.933333333333334,"d":"7"}},{"$nulls":6},{"$f":"AVERAGE(BF171:BF173)","v":{"v":0.5333333333333333,"d":"1"}}]
["stdev",{"$nulls":7},{"$f":"SUM(J171:J173)","v":{"$error":"#DIV/0!"}},{"$nulls":6},{"$f":"SUM(Q171:Q173)","v":{"$error":"#DIV/0!"}},{"$nulls":6},{"$f":"SUM(X171:X173)","v":{"$error":"#DIV/0!"}},{"$nulls":6},{"$f":"SUM(AE171:AE173)","v":{"$error":"#DIV/0!"}},{"$nulls":6},{"$f":"SUM(AL171:AL173)","v":{"$error":"#DIV/0!"}},{"$nulls":6},{"$f":"SUM(AS171:AS173)","v":{"v":17.59171280446823,"d":"18"}},{"$nulls":6},{"$f":"SUM(AZ171:AZ173)","v":{"v":7.863829360025251,"d":"8"}},{"$nulls":6},{"$f":"SUM(BG171:BG173)","v":{"v":2.1783008130339496,"d":"2"}}]
["pS2213 - ",1,null,"NA","NA","NA","NA","NA",{"$f":"AVERAGE(D176:H176)","v":{"$error":"#DIV/0!"}},{"$f":"STDEV(D176:H176)","v":{"$error":"#DIV/0!"}},28,27,31,35,22,{"$f":"AVERAGE(K176:O176)","v":28.6},{"$f":"STDEV(K176:O176)","v":4.827007354458863},3,4,6,6,3,{"$f":"AVERAGE(R176:V176)","v":4.4},{"$f":"STDEV(R176:V176)","v":1.5165750888103104},1,0,1,0,0,{"$f":"AVERAGE(Y176:AC176)","v":0.4},{"$f":"STDEV(Y176:AC176)","v":0.5477225575051661},0,0,0,0,0,{"$f":"AVERAGE(AF176:AJ176)","v":0},{"$f":"STDEV(AF176:AJ176)","v":0},0,0,0,0,0,{"$f":"AVERAGE(AM176:AQ176)","v":0},{"$f":"STDEV(AM176:AQ176)","v":0},0,0,0,0,0,{"$f":"AVERAGE(AT176:AX176)","v":0},{"$f":"STDEV(AT176:AX176)","v":0},0,0,0,0,0,{"$f":"AVERAGE(BA176:BE176)","v":0},{"$f":"STDEV(BA176:BE176)","v":0}]
["p+0",2,null,"NA","NA","NA","NA","NA",{"$f":"AVERAGE(D177:H177)","v":{"$error":"#DIV/0!"}},{"$f":"STDEV(D177:H177)","v":{"$error":"#DIV/0!"}},"NA","NA","NA","NA","NA",{"$f":"AVERAGE(K177:O177)","v":{"$error":"#DIV/0!"}},{"$f":"STDEV(K177:O177)","v":{"$error":"#DIV/0!"}},0,0,0,0,0,{"$f":"AVERAGE(R177:V177)","v":0},{"$f":"STDEV(R177:V177)","v":0},0,0,0,0,0,{"$f":"AVERAGE(Y177:AC177)","v":0},{"$f":"STDEV(Y177:AC177)","v":0},0,0,0,0,0,{"$f":"AVERAGE(AF177:AJ177)","v":0},{"$f":"STDEV(AF177:AJ177)","v":0},0,0,0,0,0,{"$f":"AVERAGE(AM177:AQ177)","v":0},{"$f":"STDEV(AM177:AQ177)","v":0},0,0,0,0,0,{"$f":"AVERAGE(AT177:AX177)","v":0},{"$f":"STDEV(AT177:AX177)","v":0},0,0,0,0,0,{"$f":"AVERAGE(BA177:BE177)","v":0},{"$f":"STDEV(BA177:BE177)","v":0}]
[null,3,null,"NA","NA","NA","NA","NA",{"$f":"AVERAGE(D178:H178)","v":{"$error":"#DIV/0!"}},{"$f":"STDEV(D178:H178)","v":{"$error":"#DIV/0!"}},"NA","NA","NA","NA","NA",{"$f":"AVERAGE(K178:O178)","v":{"$error":"#DIV/0!"}},{"$f":"STDEV(K178:O178)","v":{"$error":"#DIV/0!"}},0,0,0,0,0,{"$f":"AVERAGE(R178:V178)","v":0},{"$f":"STDEV(R178:V178)","v":0},0,0,0,0,0,{"$f":"AVERAGE(Y178:AC178)","v":0},{"$f":"STDEV(Y178:AC178)","v":0},0,0,0,0,0,{"$f":"AVERAGE(AF178:AJ178)","v":0},{"$f":"STDEV(AF178:AJ178)","v":0},0,0,0,0,0,{"$f":"AVERAGE(AM178:AQ178)","v":0},{"$f":"STDEV(AM178:AQ178)","v":0},0,0,0,0,0,{"$f":"AVERAGE(AT178:AX178)","v":0},{"$f":"STDEV(AT178:AX178)","v":0},0,0,0,0,0,{"$f":"AVERAGE(BA178:BE178)","v":0},{"$f":"STDEV(BA178:BE178)","v":0}]
["average",{"$nulls":7},{"$f":"AVERAGE(I176:I178)","v":{"$error":"#DIV/0!"}},{"$nulls":6},{"$f":"AVERAGE(P176)","v":{"v":28.6,"d":"29"}},{"$nulls":6},{"$f":"AVERAGE(W176:W178)","v":{"v":1.4666666666666668,"d":"1"}},{"$nulls":6},{"$f":"AVERAGE(AD176:AD178)","v":{"v":0.13333333333333333,"d":"0"}},{"$nulls":6},{"$f":"AVERAGE(AK176:AK178)","v":0},{"$nulls":6},{"$f":"AVERAGE(AR176:AR178)","v":0},{"$nulls":6},{"$f":"AVERAGE(AY176:AY178)","v":0},{"$nulls":6},{"$f":"AVERAGE(BF176:BF178)","v":0}]
["stdev",{"$nulls":7},{"$f":"SUM(J176:J178)","v":{"$error":"#DIV/0!"}},{"$nulls":6},{"$f":"SUM(Q176)","v":{"v":4.827007354458863,"d":"5"}},{"$nulls":6},{"$f":"SUM(X176:X178)","v":{"v":1.5165750888103104,"d":"2"}},{"$nulls":6},{"$f":"SUM(AE176:AE178)","v":{"v":0.5477225575051661,"d":"1"}},{"$nulls":6},{"$f":"SUM(AL176:AL178)","v":0},{"$nulls":6},{"$f":"SUM(AS176:AS178)","v":0},{"$nulls":6},{"$f":"SUM(AZ176:AZ178)","v":0},{"$nulls":6},{"$f":"SUM(BG176:BG178)","v":0}]
["pS2213 A",1,null,80,55,60,65,71,{"$f":"AVERAGE(D181:H181)","v":{"v":66.2,"d":"66"}},{"$f":"STDEV(D181:H181)","v":{"v":9.731392500562281,"d":"10"}},2,8,12,11,14,{"$f":"AVERAGE(K181:O181)","v":{"v":9.4,"d":"9"}},{"$f":"STDEV(K181:O181)","v":{"v":4.6690470119715,"d":"5"}},1,0,0,0,1,{"$f":"AVERAGE(R181:V181)","v":{"v":0.4,"d":"0"}},{"$f":"STDEV(R181:V181)","v":{"v":0.5477225575051661,"d":"1"}},0,0,1,0,0,{"$f":"AVERAGE(Y181:AC181)","v":{"v":0.2,"d":"0"}},{"$f":"STDEV(Y181:AC181)","v":{"v":0.4472135954999579,"d":"0"}},0,0,0,0,0,{"$f":"AVERAGE(AF181:AJ181)","v":0},{"$f":"STDEV(AF181:AJ181)","v":0},0,0,0,0,0,{"$f":"AVERAGE(AM181:AQ181)","v":0},{"$f":"STDEV(AM181:AQ181)","v":0},0,0,0,0,0,{"$f":"AVERAGE(AT181:AX181)","v":0},{"$f":"STDEV(AT181:AX181)","v":0},0,0,0,0,0,{"$f":"AVERAGE(BA181:BE181)","v":0},{"$f":"STDEV(BA181:BE181)","v":0}]
["p+0",2,null,"NA","NA","NA","NA","NA",{"$f":"AVERAGE(D182:H182)","v":{"$error":"#DIV/0!"}},{"$f":"STDEV(D182:H182)","v":{"$error":"#DIV/0!"}},98,116,104,75,83,{"$f":"AVERAGE(K182:O182)","v":{"v":95.2,"d":"95"}},{"$f":"STDEV(K182:O182)","v":{"v":16.392071254115532,"d":"16"}},13,18,15,10,17,{"$f":"AVERAGE(R182:V182)","v":{"v":14.6,"d":"15"}},{"$f":"STDEV(R182:V182)","v":{"v":3.2093613071762443,"d":"3"}},1,1,0,0,1,{"$f":"AVERAGE(Y182:AC182)","v":{"v":0.6,"d":"1"}},{"$f":"STDEV(Y182:AC182)","v":{"v":0.5477225575051661,"d":"1"}},0,0,0,0,0,{"$f":"AVERAGE(AF182:AJ182)","v":0},{"$f":"STDEV(AF182:AJ182)","v":0},0,0,0,0,0,{"$f":"AVERAGE(AM182:AQ182)","v":0},{"$f":"STDEV(AM182:AQ182)","v":0},0,0,0,0,0,{"$f":"AVERAGE(AT182:AX182)","v":0},{"$f":"STDEV(AT182:AX182)","v":0},0,0,0,0,0,{"$f":"AVERAGE(BA182:BE182)","v":0},{"$f":"STDEV(BA182:BE182)","v":0}]
[null,3,null,130,112,121,111,113,{"$f":"AVERAGE(D183:H183)","v":{"v":117.4,"d":"117"}},{"$f":"STDEV(D183:H183)","v":{"v":8.080841540334768,"d":"8"}},26,25,21,28,23,{"$f":"AVERAGE(K183:O183)","v":{"v":24.6,"d":"25"}},{"$f":"STDEV(K183:O183)","v":{"v":2.701851217221259,"d":"3"}},2,1,2,4,4,{"$f":"AVERAGE(R183:V183)","v":{"v":2.6,"d":"3"}},{"$f":"STDEV(R183:V183)","v":{"v":1.341640786499874,"d":"1"}},0,0,0,0,0,{"$f":"AVERAGE(Y183:AC183)","v":0},{"$f":"STDEV(Y183:AC183)","v":0},0,0,0,0,0,{"$f":"AVERAGE(AF183:AJ183)","v":0},{"$f":"STDEV(AF183:AJ183)","v":0},0,0,0,0,0,{"$f":"AVERAGE(AM183:AQ183)","v":0},{"$f":"STDEV(AM183:AQ183)","v":0},0,0,0,0,0,{"$f":"AVERAGE(AT183:AX183)","v":0},{"$f":"STDEV(AT183:AX183)","v":0},0,0,0,0,0,{"$f":"AVERAGE(BA183:BE183)","v":0},{"$f":"STDEV(BA183:BE183)","v":0}]
["average",{"$nulls":7},{"$f":"AVERAGE(I181:I183)","v":{"$error":"#DIV/0!"}},{"$nulls":6},{"$f":"AVERAGE(P181:P183)","v":{"v":43.06666666666667,"d":"43"}},{"$nulls":6},{"$f":"AVERAGE(W181:W183)","v":{"v":5.866666666666667,"d":"6"}},{"$nulls":6},{"$f":"AVERAGE(AD181:AD183)","v":{"v":0.26666666666666666,"d":"0"}},{"$nulls":6},{"$f":"AVERAGE(AK181:AK183)","v":0},{"$nulls":6},{"$f":"AVERAGE(AR181:AR183)","v":0},{"$nulls":6},{"$f":"AVERAGE(AY181:AY183)","v":0},{"$nulls":6},{"$f":"AVERAGE(BF181:BF183)","v":0}]
["stdev",{"$nulls":7},{"$f":"SUM(J181:J183)","v":{"$error":"#DIV/0!"}},{"$nulls":6},{"$f":"SUM(Q181:Q183)","v":{"v":23.76296948330829,"d":"24"}},{"$nulls":6},{"$f":"SUM(X181:X183)","v":{"v":5.098724651181285,"d":"5"}},{"$nulls":6},{"$f":"SUM(AE181:AE183)","v":{"v":0.994936153005124,"d":"1"}},{"$nulls":6},{"$f":"SUM(AL181:AL183)","v":0},{"$nulls":6},{"$f":"SUM(AS181:AS183)","v":0},{"$nulls":6},{"$f":"SUM(AZ181:AZ183)","v":0},{"$nulls":6},{"$f":"SUM(BG181:BG183)","v":0}]
["p+3",1,null,"NA","NA","NA","NA","NA",{"$f":"AVERAGE(D186:H186)","v":{"$error":"#DIV/0!"}},{"$f":"STDEV(D186:H186)","v":{"$error":"#DIV/0!"}},1,1,2,2,2,{"$f":"AVERAGE(K186:O186)","v":1.6},{"$f":"STDEV(K186:O186)","v":0.547722557505166},0,1,0,0,0,{"$f":"AVERAGE(R186:V186)","v":0.2},{"$f":"STDEV(R186:V186)","v":0.4472135954999579},1,0,0,0,0,{"$f":"AVERAGE(Y186:AC186)","v":0.2},{"$f":"STDEV(Y186:AC186)","v":0.4472135954999579},0,0,0,0,0,{"$f":"AVERAGE(AF186:AJ186)","v":0},{"$f":"STDEV(AF186:AJ186)","v":0},0,0,0,0,0,{"$f":"AVERAGE(AM186:AQ186)","v":0},{"$f":"STDEV(AM186:AQ186)","v":0},0,0,0,0,0,{"$f":"AVERAGE(AT186:AX186)","v":0},{"$f":"STDEV(AT186:AX186)","v":0},0,0,0,0,0,{"$f":"AVERAGE(BA186:BE186)","v":0},{"$f":"STDEV(BA186:BE186)","v":0}]
[null,2,null,82,75,93,90,106,{"$f":"AVERAGE(D187:H187)","v":89.2},{"$f":"STDEV(D187:H187)","v":11.7345643293648},26,29,23,26,24,{"$f":"AVERAGE(K187:O187)","v":25.6},{"$f":"STDEV(K187:O187)","v":2.302172886644268},5,4,4,0,2,{"$f":"AVERAGE(R187:V187)","v":3},{"$f":"STDEV(R187:V187)","v":2},0,0,0,0,0,{"$f":"AVERAGE(Y187:AC187)","v":0},{"$f":"STDEV(Y187:AC187)","v":0},0,0,0,0,0,{"$f":"AVERAGE(AF187:AJ187)","v":0},{"$f":"STDEV(AF187:AJ187)","v":0},0,0,0,0,0,{"$f":"AVERAGE(AM187:AQ187)","v":0},{"$f":"STDEV(AM187:AQ187)","v":0},0,0,0,0,0,{"$f":"AVERAGE(AT187:AX187)","v":0},{"$f":"STDEV(AT187:AX187)","v":0},0,0,0,0,0,{"$f":"AVERAGE(BA187:BE187)","v":0},{"$f":"STDEV(BA187:BE187)","v":0}]
[null,3,null,"NA","NA","NA","NA","NA",{"$f":"AVERAGE(D188:H188)","v":{"$error":"#DIV/0!"}},{"$f":"STDEV(D188:H188)","v":{"$error":"#DIV/0!"}},33,29,18,20,20,{"$f":"AVERAGE(K188:O188)","v":24},{"$f":"STDEV(K188:O188)","v":{"v":6.59545297913646,"d":"7"}},2,1,7,3,3,{"$f":"AVERAGE(R188:V188)","v":{"v":3.2,"d":"3"}},{"$f":"STDEV(R188:V188)","v":{"v":2.2803508501982757,"d":"2"}},0,0,0,0,0,{"$f":"AVERAGE(Y188:AC188)","v":0},{"$f":"STDEV(Y188:AC188)","v":0},0,0,0,0,0,{"$f":"AVERAGE(AF188:AJ188)","v":0},{"$f":"STDEV(AF188:AJ188)","v":0},0,0,0,0,0,{"$f":"AVERAGE(AM188:AQ188)","v":0},{"$f":"STDEV(AM188:AQ188)","v":0},0,0,0,0,0,{"$f":"AVERAGE(AT188:AX188)","v":0},{"$f":"STDEV(AT188:AX188)","v":0},0,0,0,0,0,{"$f":"AVERAGE(BA188:BE188)","v":0},{"$f":"STDEV(BA188:BE188)","v":0}]
["average",{"$nulls":7},{"$f":"AVERAGE(I186:I188)","v":{"$error":"#DIV/0!"}},{"$nulls":6},{"$f":"AVERAGE(P186:P188)","v":{"v":17.066666666666666,"d":"17"}},{"$nulls":6},{"$f":"AVERAGE(W186:W188)","v":{"v":2.1333333333333333,"d":"2"}},{"$nulls":6},{"$f":"AVERAGE(AD186:AD188)","v":{"v":0.06666666666666667,"d":"0"}},{"$nulls":6},{"$f":"AVERAGE(AK186:AK188)","v":0},{"$nulls":6},{"$f":"AVERAGE(AR186:AR188)","v":0},{"$nulls":6},{"$f":"AVERAGE(AY186:AY188)","v":0},{"$nulls":6},{"$f":"AVERAGE(BF186:BF188)","v":0}]
["stdev",{"$nulls":7},{"$f":"SUM(J186:J188)","v":{"$error":"#DIV/0!"}},{"$nulls":6},{"$f":"SUM(Q186:Q188)","v":{"v":9.445348423285893,"d":"9"}},{"$nulls":6},{"$f":"SUM(X186:X188)","v":{"v":4.727564445698233,"d":"5"}},{"$nulls":6},{"$f":"SUM(AE186:AE188)","v":{"v":0.4472135954999579,"d":"0"}},{"$nulls":6},{"$f":"SUM(AL186:AL188)","v":0},{"$nulls":6},{"$f":"SUM(AS186:AS188)","v":0},{"$nulls":6},{"$f":"SUM(AZ186:AZ188)","v":0},{"$nulls":6},{"$f":"SUM(BG186:BG188)","v":0}]
["pS2213 APR",1,null,"NA","NA","NA","NA","NA",{"$f":"AVERAGE(D191:H191)","v":{"$error":"#DIV/0!"}},{"$f":"STDEV(D191:H191)","v":{"$error":"#DIV/0!"}},38,41,46,34,42,{"$f":"AVERAGE(K191:O191)","v":{"v":40.2,"d":"40"}},{"$f":"STDEV(K191:O191)","v":{"v":4.494441010848846,"d":"4"}},4,5,9,7,8,{"$f":"AVERAGE(R191:V191)","v":{"v":6.6,"d":"7"}},{"$f":"STDEV(R191:V191)","v":{"v":2.0736441353327715,"d":"2"}},0,1,0,0,1,{"$f":"AVERAGE(Y191:AC191)","v":{"v":0.4,"d":"0"}},{"$f":"STDEV(Y191:AC191)","v":{"v":0.5477225575051661,"d":"1"}},0,0,0,0,0,{"$f":"AVERAGE(AF191:AJ191)","v":0},{"$f":"STDEV(AF191:AJ191)","v":0},0,0,0,0,0,{"$f":"AVERAGE(AM191:AQ191)","v":0},{"$f":"STDEV(AM191:AQ191)","v":0},0,0,0,0,0,{"$f":"AVERAGE(AT191:AX191)","v":0},{"$f":"STDEV(AT191:AX191)","v":0},0,0,0,0,0,{"$f":"AVERAGE(BA191:BE191)","v":0},{"$f":"STDEV(BA191:BE191)","v":0}]
["p+0",2,null,73,63,73,83,69,{"$f":"AVERAGE(D192:H192)","v":{"v":72.2,"d":"72"}},{"$f":"STDEV(D192:H192)","v":{"v":7.293833011524188,"d":"7"}},9,6,6,8,9,{"$f":"AVERAGE(K192:O192)","v":{"v":7.6,"d":"8"}},{"$f":"STDEV(K192:O192)","v":{"v":1.5165750888103091,"d":"2"}},2,3,1,1,1,{"$f":"AVERAGE(R192:V192)","v":{"v":1.6,"d":"2"}},{"$f":"STDEV(R192:V192)","v":{"v":0.8944271909999157,"d":"1"}},1,0,0,0,0,{"$f":"AVERAGE(Y192:AC192)","v":{"v":0.2,"d":"0"}},{"$f":"STDEV(Y192:AC192)","v":{"v":0.4472135954999579,"d":"0"}},0,0,0,0,0,{"$f":"AVERAGE(AF192:AJ192)","v":0},{"$f":"STDEV(AF192:AJ192)","v":0},0,0,0,0,0,{"$f":"AVERAGE(AM192:AQ192)","v":0},{"$f":"STDEV(AM192:AQ192)","v":0},0,0,0,0,0,{"$f":"AVERAGE(AT192:AX192)","v":0},{"$f":"STDEV(AT192:AX192)","v":0},0,0,0,0,0,{"$f":"AVERAGE(BA192:BE192)","v":0},{"$f":"STDEV(BA192:BE192)","v":0}]
[null,3,null,130,"NA","NA","NA","NA",{"$f":"AVERAGE(D193:H193)","v":130},{"$f":"STDEV(D193:H193)","v":{"$error":"#DIV/0!"}},27,25,26,32,28,{"$f":"AVERAGE(K193:O193)","v":{"v":27.6,"d":"28"}},{"$f":"STDEV(K193:O193)","v":{"v":2.701851217221259,"d":"3"}},2,3,7,1,2,{"$f":"AVERAGE(R193:V193)","v":3},{"$f":"STDEV(R193:V193)","v":{"v":2.345207879911715,"d":"2"}},0,0,0,0,2,{"$f":"AVERAGE(Y193:AC193)","v":{"v":0.4,"d":"0"}},{"$f":"STDEV(Y193:AC193)","v":{"v":0.8944271909999159,"d":"1"}},0,0,0,0,0,{"$f":"AVERAGE(AF193:AJ193)","v":0},{"$f":"STDEV(AF193:AJ193)","v":0},0,0,0,0,0,{"$f":"AVERAGE(AM193:AQ193)","v":0},{"$f":"STDEV(AM193:AQ193)","v":0},0,0,0,0,0,{"$f":"AVERAGE(AT193:AX193)","v":0},{"$f":"STDEV(AT193:AX193)","v":0},0,0,0,0,0,{"$f":"AVERAGE(BA193:BE193)","v":0},{"$f":"STDEV(BA193:BE193)","v":0}]
["average",{"$nulls":7},{"$f":"AVERAGE(I191:I193)","v":{"$error":"#DIV/0!"}},{"$nulls":6},{"$f":"AVERAGE(P191:P193)","v":{"v":25.133333333333336,"d":"25"}},{"$nulls":6},{"$f":"AVERAGE(W191:W193)","v":{"v":3.733333333333333,"d":"4"}},{"$nulls":6},{"$f":"AVERAGE(AD191:AD193)","v":{"v":0.3333333333333333,"d":"0"}},{"$nulls":6},{"$f":"AVERAGE(AK191:AK193)","v":0},{"$nulls":6},{"$f":"AVERAGE(AR191:AR193)","v":0},{"$nulls":6},{"$f":"AVERAGE(AY191:AY193)","v":0},{"$nulls":6},{"$f":"AVERAGE(BF191:BF193)","v":0}]
["stdev",{"$nulls":7},{"$f":"SUM(J191:J193)","v":{"$error":"#DIV/0!"}},{"$nulls":6},{"$f":"SUM(Q191:Q193)","v":{"v":8.712867316880414,"d":"9"}},{"$nulls":6},{"$f":"SUM(X191:X193)","v":{"v":5.3132792062444025,"d":"5"}},{"$nulls":6},{"$f":"SUM(AE191:AE193)","v":{"v":1.88936334400504,"d":"2"}},{"$nulls":6},{"$f":"SUM(AL191:AL193)","v":0},{"$nulls":6},{"$f":"SUM(AS191:AS193)","v":0},{"$nulls":6},{"$f":"SUM(AZ191:AZ193)","v":0},{"$nulls":6},{"$f":"SUM(BG191:BG193)","v":0}]
["p+3",1,null,70,83,94,82,96,{"$f":"AVERAGE(D196:H196)","v":85},{"$f":"STDEV(D196:H196)","v":10.488088481701515},4,2,5,6,4,{"$f":"AVERAGE(K196:O196)","v":4.2},{"$f":"STDEV(K196:O196)","v":1.4832396974191324},0,0,1,0,0,{"$f":"AVERAGE(R196:V196)","v":0.2},{"$f":"STDEV(R196:V196)","v":0.4472135954999579},0,0,0,0,0,{"$f":"AVERAGE(Y196:AC196)","v":0},{"$f":"STDEV(Y196:AC196)","v":0},0,0,0,0,0,{"$f":"AVERAGE(AF196:AJ196)","v":0},{"$f":"STDEV(AF196:AJ196)","v":0},0,0,0,0,0,{"$f":"AVERAGE(AM196:AQ196)","v":0},{"$f":"STDEV(AM196:AQ196)","v":0},0,0,0,0,0,{"$f":"AVERAGE(AT196:AX196)","v":0},{"$f":"STDEV(AT196:AX196)","v":0},0,0,0,0,0,{"$f":"AVERAGE(BA196:BE196)","v":0},{"$f":"STDEV(BA196:BE196)","v":0}]
[null,2,null,"NA","NA","NA","NA","NA",{"$f":"AVERAGE(D197:H197)","v":{"$error":"#DIV/0!"}},{"$f":"STDEV(D197:H197)","v":{"$error":"#DIV/0!"}},10,11,14,9,7,{"$f":"AVERAGE(K197:O197)","v":10.2},{"$f":"STDEV(K197:O197)","v":2.5884358211089546},2,1,1,1,1,{"$f":"AVERAGE(R197:V197)","v":1.2},{"$f":"STDEV(R197:V197)","v":0.44721359549995787},0,0,0,0,0,{"$f":"AVERAGE(Y197:AC197)","v":0},{"$f":"STDEV(Y197:AC197)","v":0},0,0,0,0,0,{"$f":"AVERAGE(AF197:AJ197)","v":0},{"$f":"STDEV(AF197:AJ197)","v":0},0,0,0,0,0,{"$f":"AVERAGE(AM197:AQ197)","v":0},{"$f":"STDEV(AM197:AQ197)","v":0},0,0,0,0,0,{"$f":"AVERAGE(AT197:AX197)","v":0},{"$f":"STDEV(AT197:AX197)","v":0},0,0,0,0,0,{"$f":"AVERAGE(BA197:BE197)","v":0},{"$f":"STDEV(BA197:BE197)","v":0}]
[null,3,null,60,49,54,55,55,{"$f":"AVERAGE(D198:H198)","v":{"v":54.6,"d":"55"}},{"$f":"STDEV(D198:H198)","v":{"v":3.9115214431215892,"d":"4"}},5,6,9,6,4,{"$f":"AVERAGE(K198:O198)","v":6},{"$f":"STDEV(K198:O198)","v":{"v":1.8708286933869707,"d":"2"}},1,0,0,1,2,{"$f":"AVERAGE(R198:V198)","v":{"v":0.8,"d":"1"}},{"$f":"STDEV(R198:V198)","v":{"v":0.8366600265340756,"d":"1"}},0,0,0,0,0,{"$f":"AVERAGE(Y198:AC198)","v":0},{"$f":"STDEV(Y198:AC198)","v":0},0,0,0,0,0,{"$f":"AVERAGE(AF198:AJ198)","v":0},{"$f":"STDEV(AF198:AJ198)","v":0},0,0,0,0,0,{"$f":"AVERAGE(AM198:AQ198)","v":0},{"$f":"STDEV(AM198:AQ198)","v":0},0,0,0,0,0,{"$f":"AVERAGE(AT198:AX198)","v":0},{"$f":"STDEV(AT198:AX198)","v":0},0,0,0,0,0,{"$f":"AVERAGE(BA198:BE198)","v":0},{"$f":"STDEV(BA198:BE198)","v":0}]
["average",{"$nulls":7},{"$f":"AVERAGE(I196,I198)","v":{"v":69.8,"d":"70"}},{"$nulls":6},{"$f":"AVERAGE(P196:P198)","v":{"v":6.8,"d":"7"}},{"$nulls":6},{"$f":"AVERAGE(W196:W198)","v":{"v":0.7333333333333334,"d":"1"}},{"$nulls":6},{"$f":"AVERAGE(AD196:AD198)","v":0},{"$nulls":6},{"$f":"AVERAGE(AK196:AK198)","v":0},{"$nulls":6},{"$f":"AVERAGE(AR196:AR198)","v":0},{"$nulls":6},{"$f":"AVERAGE(AY196:AY198)","v":0},{"$nulls":6},{"$f":"AVERAGE(BF196:BF198)","v":0}]
["stdev",{"$nulls":7},{"$f":"SUM(J196,J198)","v":{"v":14.399609924823105,"d":"14"}},{"$nulls":6},{"$f":"SUM(Q196:Q198)","v":{"v":5.9425042119150575,"d":"6"}},{"$nulls":6},{"$f":"SUM(X196:X198)","v":{"v":1.7310872175339913,"d":"2"}},{"$nulls":6},{"$f":"SUM(AE196:AE198)","v":0},{"$nulls":6},{"$f":"SUM(AL196:AL198)","v":0},{"$nulls":6},{"$f":"SUM(AS196:AS198)","v":0},{"$nulls":6},{"$f":"SUM(AZ196:AZ198)","v":0},{"$nulls":6},{"$f":"SUM(BG196:BG198)","v":0}]
[]
["T18"]
["Sample","Dilution:",null,"10^0",{"$nulls":4},"AVERAGE","STDEV","10^-1",{"$nulls":4},"AVERAGE","STDEV","10^-2",{"$nulls":4},"AVERAGE","STDEV","10^-3",{"$nulls":4},"AVERAGE","STDEV","10^-4",{"$nulls":4},"AVERAGE","STDEV","10^-5",{"$nulls":4},"AVERAGE","STDEV","10^-6",{"$nulls":4},"AVERAGE","STDEV","10^-7",{"$nulls":4},"AVERAGE","STDEV"]
["Blank",1,null,0,0,0,0,0,{"$f":"AVERAGE(D204:H204)","v":0},{"$f":"STDEV(D204:H204)","v":0},0,0,0,0,0,{"$f":"AVERAGE(K204:O204)","v":0},{"$f":"STDEV(K204:O204)","v":0},0,0,0,0,0,{"$f":"AVERAGE(R204:V204)","v":0},{"$f":"STDEV(R204:V204)","v":0},0,0,0,0,0,{"$f":"AVERAGE(Y204:AC204)","v":0},{"$f":"STDEV(Y204:AC204)","v":0},0,0,0,0,0,{"$f":"AVERAGE(AF204:AJ204)","v":0},{"$f":"STDEV(AF204:AJ204)","v":0},0,0,0,0,0,{"$f":"AVERAGE(AM204:AQ204)","v":0},{"$f":"STDEV(AM204:AQ204)","v":0},0,0,0,0,0,{"$f":"AVERAGE(AT204:AX204)","v":0},{"$f":"STDEV(AT204:AX204)","v":0},0,0,0,0,0,{"$f":"AVERAGE(BA204:BE204)","v":0},{"$f":"STDEV(BA204:BE204)","v":0}]
[null,2,null,0,0,0,0,0,{"$f":"AVERAGE(D205:H205)","v":0},{"$f":"STDEV(D205:H205)","v":0},0,0,0,0,0,{"$f":"AVERAGE(K205:O205)","v":0},{"$f":"STDEV(K205:O205)","v":0},0,0,0,0,0,{"$f":"AVERAGE(R205:V205)","v":0},{"$f":"STDEV(R205:V205)","v":0},0,0,0,0,0,{"$f":"AVERAGE(Y205:AC205)","v":0},{"$f":"STDEV(Y205:AC205)","v":0},0,0,0,0,0,{"$f":"AVERAGE(AF205:AJ205)","v":0},{"$f":"STDEV(AF205:AJ205)","v":0},0,0,0,0,0,{"$f":"AVERAGE(AM205:AQ205)","v":0},{"$f":"STDEV(AM205:AQ205)","v":0},0,0,0,0,0,{"$f":"AVERAGE(AT205:AX205)","v":0},{"$f":"STDEV(AT205:AX205)","v":0},0,0,0,0,0,{"$f":"AVERAGE(BA205:BE205)","v":0},{"$f":"STDEV(BA205:BE205)","v":0}]
[null,3,null,0,0,0,0,0,{"$f":"AVERAGE(D206:H206)","v":0},{"$f":"STDEV(D206:H206)","v":0},0,0,0,0,0,{"$f":"AVERAGE(K206:O206)","v":0},{"$f":"STDEV(K206:O206)","v":0},0,0,0,0,0,{"$f":"AVERAGE(R206:V206)","v":0},{"$f":"STDEV(R206:V206)","v":0},0,0,0,0,0,{"$f":"AVERAGE(Y206:AC206)","v":0},{"$f":"STDEV(Y206:AC206)","v":0},0,0,0,0,0,{"$f":"AVERAGE(AF206:AJ206)","v":0},{"$f":"STDEV(AF206:AJ206)","v":0},0,0,0,0,0,{"$f":"AVERAGE(AM206:AQ206)","v":0},{"$f":"STDEV(AM206:AQ206)","v":0},0,0,0,0,0,{"$f":"AVERAGE(AT206:AX206)","v":0},{"$f":"STDEV(AT206:AX206)","v":0},0,0,0,0,0,{"$f":"AVERAGE(BA206:BE206)","v":0},{"$f":"STDEV(BA206:BE206)","v":0}]
[{"$nulls":8},{"$f":"AVERAGE(I204:I206)","v":0},{"$nulls":6},{"$f":"AVERAGE(P204:P206)","v":0},{"$nulls":6},{"$f":"AVERAGE(W204:W206)","v":0},{"$nulls":6},{"$f":"AVERAGE(AD204:AD206)","v":0},{"$nulls":6},{"$f":"AVERAGE(AK204:AK206)","v":0},{"$nulls":6},{"$f":"AVERAGE(AR204:AR206)","v":0},{"$nulls":6},{"$f":"AVERAGE(AY204:AY206)","v":0},{"$nulls":6},{"$f":"AVERAGE(BF204:BF206)","v":0}]
[{"$nulls":8},{"$f":"SUM(J204:J206)","v":0},{"$nulls":6},{"$f":"SUM(Q204:Q206)","v":0},{"$nulls":6},{"$f":"SUM(X204:X206)","v":0},{"$nulls":6},{"$f":"SUM(AE204:AE206)","v":0},{"$nulls":6},{"$f":"SUM(AL204:AL206)","v":0},{"$nulls":6},{"$f":"SUM(AS204:AS206)","v":0},{"$nulls":6},{"$f":"SUM(AZ204:AZ206)","v":0},{"$nulls":6},{"$f":"SUM(BG204:BG206)","v":0}]
["BW25113 -",1,null,"NA","NA","NA","NA","NA",{"$f":"AVERAGE(D209:H209)","v":{"$error":"#DIV/0!"}},{"$f":"STDEV(D209:H209)","v":{"$error":"#DIV/0!"}},"NA","NA","NA","NA","NA",{"$f":"AVERAGE(K209:O209)","v":{"$error":"#DIV/0!"}},{"$f":"STDEV(K209:O209)","v":{"$error":"#DIV/0!"}},"NA","NA","NA","NA","NA",{"$f":"AVERAGE(R209:V209)","v":{"$error":"#DIV/0!"}},{"$f":"STDEV(R209:V209)","v":{"$error":"#DIV/0!"}},"NA","NA","NA","NA","NA",{"$f":"AVERAGE(Y209:AC209)","v":{"$error":"#DIV/0!"}},{"$f":"STDEV(Y209:AC209)","v":{"$error":"#DIV/0!"}},0,0,0,0,0,{"$f":"AVERAGE(AF209:AJ209)","v":0},{"$f":"STDEV(AF209:AJ209)","v":0},0,0,0,0,0,{"$f":"AVERAGE(AM209:AQ209)","v":0},{"$f":"STDEV(AM209:AQ209)","v":0},0,0,0,0,0,{"$f":"AVERAGE(AT209:AX209)","v":0},{"$f":"STDEV(AT209:AX209)","v":0},0,0,0,0,0,{"$f":"AVERAGE(BA209:BE209)","v":0},{"$f":"STDEV(BA209:BE209)","v":0}]
["pS2213 - ",2,null,"NA","NA","NA","NA","NA",{"$f":"AVERAGE(D210:H210)","v":{"$error":"#DIV/0!"}},{"$f":"STDEV(D210:H210)","v":{"$error":"#DIV/0!"}},"NA","NA","NA","NA","NA",{"$f":"AVERAGE(K210:O210)","v":{"$error":"#DIV/0!"}},{"$f":"STDEV(K210:O210)","v":{"$error":"#DIV/0!"}},"NA","NA","NA","NA","NA",{"$f":"AVERAGE(R210:V210)","v":{"$error":"#DIV/0!"}},{"$f":"STDEV(R210:V210)","v":{"$error":"#DIV/0!"}},"NA","NA","NA","NA","NA",{"$f":"AVERAGE(Y210:AC210)","v":{"$error":"#DIV/0!"}},{"$f":"STDEV(Y210:AC210)","v":{"$error":"#DIV/0!"}},0,0,0,0,0,{"$f":"AVERAGE(AF210:AJ210)","v":0},{"$f":"STDEV(AF210:AJ210)","v":0},0,0,0,0,0,{"$f":"AVERAGE(AM210:AQ210)","v":0},{"$f":"STDEV(AM210:AQ210)","v":0},0,0,0,0,0,{"$f":"AVERAGE(AT210:AX210)","v":0},{"$f":"STDEV(AT210:AX210)","v":0},0,0,0,0,0,{"$f":"AVERAGE(BA210:BE210)","v":0},{"$f":"STDEV(BA210:BE210)","v":0}]
[null,3,null,"NA","NA","NA","NA","NA",{"$f":"AVERAGE(D211:H211)","v":{"$error":"#DIV/0!"}},{"$f":"STDEV(D211:H211)","v":{"$error":"#DIV/0!"}},"NA","NA","NA","NA","NA",{"$f":"AVERAGE(K211:O211)","v":{"$error":"#DIV/0!"}},{"$f":"STDEV(K211:O211)","v":{"$error":"#DIV/0!"}},"NA","NA","NA","NA","NA",{"$f":"AVERAGE(R211:V211)","v":{"$error":"#DIV/0!"}},{"$f":"STDEV(R211:V211)","v":{"$error":"#DIV/0!"}},"NA","NA","NA","NA","NA",{"$f":"AVERAGE(Y211:AC211)","v":{"$error":"#DIV/0!"}},{"$f":"STDEV(Y211:AC211)","v":{"$error":"#DIV/0!"}},0,0,0,0,0,{"$f":"AVERAGE(AF211:AJ211)","v":0},{"$f":"STDEV(AF211:AJ211)","v":0},0,0,0,0,0,{"$f":"AVERAGE(AM211:AQ211)","v":0},{"$f":"STDEV(AM211:AQ211)","v":0},0,0,0,0,0,{"$f":"AVERAGE(AT211:AX211)","v":0},{"$f":"STDEV(AT211:AX211)","v":0},0,0,0,0,0,{"$f":"AVERAGE(BA211:BE211)","v":0},{"$f":"STDEV(BA211:BE211)","v":0}]
["average",{"$nulls":7},{"$f":"AVERAGE(I209:I211)","v":{"$error":"#DIV/0!"}},{"$nulls":6},{"$f":"AVERAGE(P209:P211)","v":{"$error":"#DIV/0!"}},{"$nulls":6},{"$f":"AVERAGE(W209:W211)","v":{"$error":"#DIV/0!"}},{"$nulls":6},{"$f":"AVERAGE(AD209:AD211)","v":{"$error":"#DIV/0!"}},{"$nulls":6},{"$f":"AVERAGE(AK209:AK211)","v":0},{"$nulls":6},{"$f":"AVERAGE(AR209:AR211)","v":0},{"$nulls":6},{"$f":"AVERAGE(AY209:AY211)","v":0},{"$nulls":6},{"$f":"AVERAGE(BF209:BF211)","v":0}]
["stdev",{"$nulls":7},{"$f":"SUM(J209:J211)","v":{"$error":"#DIV/0!"}},{"$nulls":6},{"$f":"SUM(Q209:Q211)","v":{"$error":"#DIV/0!"}},{"$nulls":6},{"$f":"SUM(X209:X211)","v":{"$error":"#DIV/0!"}},{"$nulls":6},{"$f":"SUM(AE209:AE211)","v":{"$error":"#DIV/0!"}},{"$nulls":6},{"$f":"SUM(AL209:AL211)","v":0},{"$nulls":6},{"$f":"SUM(AS209:AS211)","v":0},{"$nulls":6},{"$f":"SUM(AZ209:AZ211)","v":0},{"$nulls":6},{"$f":"SUM(BG209:BG211)","v":0}]
["pS2213 - ",1,null,"NA","NA","NA","NA","NA",{"$f":"AVERAGE(D214:H214)","v":{"$error":"#DIV/0!"}},{"$f":"STDEV(D214:H214)","v":{"$error":"#DIV/0!"}},"NA","NA","NA","NA","NA",{"$f":"AVERAGE(K214:O214)","v":{"$error":"#DIV/0!"}},{"$f":"STDEV(K214:O214)","v":{"$error":"#DIV/0!"}},0,0,0,0,0,{"$f":"AVERAGE(R214:V214)","v":0},{"$f":"STDEV(R214:V214)","v":0},0,0,0,0,0,{"$f":"AVERAGE(Y214:AC214)","v":0},{"$f":"STDEV(Y214:AC214)","v":0},0,0,0,0,0,{"$f":"AVERAGE(AF214:AJ214)","v":0},{"$f":"STDEV(AF214:AJ214)","v":0},0,0,0,0,0,{"$f":"AVERAGE(AM214:AQ214)","v":0},{"$f":"STDEV(AM214:AQ214)","v":0},0,0,0,0,0,{"$f":"AVERAGE(AT214:AX214)","v":0},{"$f":"STDEV(AT214:AX214)","v":0},0,0,0,0,0,{"$f":"AVERAGE(BA214:BE214)","v":0},{"$f":"STDEV(BA214:BE214)","v":0}]
["p+0",2,null,"NA","NA","NA","NA","NA",{"$f":"AVERAGE(D215:H215)","v":{"$error":"#DIV/0!"}},{"$f":"STDEV(D215:H215)","v":{"$error":"#DIV/0!"}},"NA","NA","NA","NA","NA",{"$f":"AVERAGE(K215:O215)","v":{"$error":"#DIV/0!"}},{"$f":"STDEV(K215:O215)","v":{"$error":"#DIV/0!"}},0,0,0,0,0,{"$f":"AVERAGE(R215:V215)","v":0},{"$f":"STDEV(R215:V215)","v":0},0,0,0,0,0,{"$f":"AVERAGE(Y215:AC215)","v":0},{"$f":"STDEV(Y215:AC215)","v":0},0,0,0,0,0,{"$f":"AVERAGE(AF215:AJ215)","v":0},{"$f":"STDEV(AF215:AJ215)","v":0},0,0,0,0,0,{"$f":"AVERAGE(AM215:AQ215)","v":0},{"$f":"STDEV(AM215:AQ215)","v":0},0,0,0,0,0,{"$f":"AVERAGE(AT215:AX215)","v":0},{"$f":"STDEV(AT215:AX215)","v":0},0,0,0,0,0,{"$f":"AVERAGE(BA215:BE215)","v":0},{"$f":"STDEV(BA215:BE215)","v":0}]
[null,3,null,"NA","NA","NA","NA","NA",{"$f":"AVERAGE(D216:H216)","v":{"$error":"#DIV/0!"}},{"$f":"STDEV(D216:H216)","v":{"$error":"#DIV/0!"}},"NA","NA","NA","NA","NA",{"$f":"AVERAGE(K216:O216)","v":{"$error":"#DIV/0!"}},{"$f":"STDEV(K216:O216)","v":{"$error":"#DIV/0!"}},0,0,0,0,0,{"$f":"AVERAGE(R216:V216)","v":0},{"$f":"STDEV(R216:V216)","v":0},0,0,0,0,0,{"$f":"AVERAGE(Y216:AC216)","v":0},{"$f":"STDEV(Y216:AC216)","v":0},0,0,0,0,0,{"$f":"AVERAGE(AF216:AJ216)","v":0},{"$f":"STDEV(AF216:AJ216)","v":0},0,0,0,0,0,{"$f":"AVERAGE(AM216:AQ216)","v":0},{"$f":"STDEV(AM216:AQ216)","v":0},0,0,0,0,0,{"$f":"AVERAGE(AT216:AX216)","v":0},{"$f":"STDEV(AT216:AX216)","v":0},0,0,0,0,0,{"$f":"AVERAGE(BA216:BE216)","v":0},{"$f":"STDEV(BA216:BE216)","v":0}]
["average",{"$nulls":7},{"$f":"AVERAGE(I214:I216)","v":{"$error":"#DIV/0!"}},{"$nulls":6},{"$f":"AVERAGE(P214:P216)","v":{"$error":"#DIV/0!"}},{"$nulls":6},{"$f":"AVERAGE(W214:W216)","v":0},{"$nulls":6},{"$f":"AVERAGE(AD214:AD216)","v":0},{"$nulls":6},{"$f":"AVERAGE(AK214:AK216)","v":0},{"$nulls":6},{"$f":"AVERAGE(AR214:AR216)","v":0},{"$nulls":6},{"$f":"AVERAGE(AY214:AY216)","v":0},{"$nulls":6},{"$f":"AVERAGE(BF214:BF216)","v":0}]
["stdev",{"$nulls":7},{"$f":"SUM(J214:J216)","v":{"$error":"#DIV/0!"}},{"$nulls":6},{"$f":"SUM(Q214:Q216)","v":{"$error":"#DIV/0!"}},{"$nulls":6},{"$f":"SUM(X214:X216)","v":0},{"$nulls":6},{"$f":"SUM(AE214:AE216)","v":0},{"$nulls":6},{"$f":"SUM(AL214:AL216)","v":0},{"$nulls":6},{"$f":"SUM(AS214:AS216)","v":0},{"$nulls":6},{"$f":"SUM(AZ214:AZ216)","v":0},{"$nulls":6},{"$f":"SUM(BG214:BG216)","v":0}]
["pS2213 A",1,null,"NA","NA","NA","NA","NA",{"$f":"AVERAGE(D219:H219)","v":{"$error":"#DIV/0!"}},{"$f":"STDEV(D219:H219)","v":{"$error":"#DIV/0!"}},"NA","NA","NA","NA","NA",{"$f":"AVERAGE(K219:O219)","v":{"$error":"#DIV/0!"}},{"$f":"STDEV(K219:O219)","v":{"$error":"#DIV/0!"}},0,0,0,0,0,{"$f":"AVERAGE(R219:V219)","v":0},{"$f":"STDEV(R219:V219)","v":0},0,0,0,0,0,{"$f":"AVERAGE(Y219:AC219)","v":0},{"$f":"STDEV(Y219:AC219)","v":0},0,0,0,0,0,{"$f":"AVERAGE(AF219:AJ219)","v":0},{"$f":"STDEV(AF219:AJ219)","v":0},0,0,0,0,0,{"$f":"AVERAGE(AM219:AQ219)","v":0},{"$f":"STDEV(AM219:AQ219)","v":0},0,0,0,0,0,{"$f":"AVERAGE(AT219:AX219)","v":0},{"$f":"STDEV(AT219:AX219)","v":0},0,0,0,0,0,{"$f":"AVERAGE(BA219:BE219)","v":0},{"$f":"STDEV(BA219:BE219)","v":0}]
["p+0",2,null,"NA","NA","NA","NA","NA",{"$f":"AVERAGE(D220:H220)","v":{"$error":"#DIV/0!"}},{"$f":"STDEV(D220:H220)","v":{"$error":"#DIV/0!"}},"NA","NA","NA","NA","NA",{"$f":"AVERAGE(K220:O220)","v":{"$error":"#DIV/0!"}},{"$f":"STDEV(K220:O220)","v":{"$error":"#DIV/0!"}},0,0,0,0,0,{"$f":"AVERAGE(R220:V220)","v":0},{"$f":"STDEV(R220:V220)","v":0},0,0,0,0,0,{"$f":"AVERAGE(Y220:AC220)","v":0},{"$f":"STDEV(Y220:AC220)","v":0},0,0,0,0,0,{"$f":"AVERAGE(AF220:AJ220)","v":0},{"$f":"STDEV(AF220:AJ220)","v":0},0,0,0,0,0,{"$f":"AVERAGE(AM220:AQ220)","v":0},{"$f":"STDEV(AM220:AQ220)","v":0},0,0,0,0,0,{"$f":"AVERAGE(AT220:AX220)","v":0},{"$f":"STDEV(AT220:AX220)","v":0},0,0,0,0,0,{"$f":"AVERAGE(BA220:BE220)","v":0},{"$f":"STDEV(BA220:BE220)","v":0}]
[null,3,null,"NA","NA","NA","NA","NA",{"$f":"AVERAGE(D221:H221)","v":{"$error":"#DIV/0!"}},{"$f":"STDEV(D221:H221)","v":{"$error":"#DIV/0!"}},"NA","NA","NA","NA","NA",{"$f":"AVERAGE(K221:O221)","v":{"$error":"#DIV/0!"}},{"$f":"STDEV(K221:O221)","v":{"$error":"#DIV/0!"}},0,0,0,0,0,{"$f":"AVERAGE(R221:V221)","v":0},{"$f":"STDEV(R221:V221)","v":0},0,0,0,0,0,{"$f":"AVERAGE(Y221:AC221)","v":0},{"$f":"STDEV(Y221:AC221)","v":0},0,0,0,0,0,{"$f":"AVERAGE(AF221:AJ221)","v":0},{"$f":"STDEV(AF221:AJ221)","v":0},0,0,0,0,0,{"$f":"AVERAGE(AM221:AQ221)","v":0},{"$f":"STDEV(AM221:AQ221)","v":0},0,0,0,0,0,{"$f":"AVERAGE(AT221:AX221)","v":0},{"$f":"STDEV(AT221:AX221)","v":0},0,0,0,0,0,{"$f":"AVERAGE(BA221:BE221)","v":0},{"$f":"STDEV(BA221:BE221)","v":0}]
["average",{"$nulls":7},{"$f":"AVERAGE(I219:I221)","v":{"$error":"#DIV/0!"}},{"$nulls":6},{"$f":"AVERAGE(P219:P221)","v":{"$error":"#DIV/0!"}},{"$nulls":6},{"$f":"AVERAGE(W219:W221)","v":0},{"$nulls":6},{"$f":"AVERAGE(AD219:AD221)","v":0},{"$nulls":6},{"$f":"AVERAGE(AK219:AK221)","v":0},{"$nulls":6},{"$f":"AVERAGE(AR219:AR221)","v":0},{"$nulls":6},{"$f":"AVERAGE(AY219:AY221)","v":0},{"$nulls":6},{"$f":"AVERAGE(BF219:BF221)","v":0}]
["stdev",{"$nulls":7},{"$f":"SUM(J219:J221)","v":{"$error":"#DIV/0!"}},{"$nulls":6},{"$f":"SUM(Q219:Q221)","v":{"$error":"#DIV/0!"}},{"$nulls":6},{"$f":"SUM(X219:X221)","v":0},{"$nulls":6},{"$f":"SUM(AE219:AE221)","v":0},{"$nulls":6},{"$f":"SUM(AL219:AL221)","v":0},{"$nulls":6},{"$f":"SUM(AS219:AS221)","v":0},{"$nulls":6},{"$f":"SUM(AZ219:AZ221)","v":0},{"$nulls":6},{"$f":"SUM(BG219:BG221)","v":0}]
["p+3",1,null,"NA","NA","NA","NA","NA",{"$f":"AVERAGE(D224:H224)","v":{"$error":"#DIV/0!"}},{"$f":"STDEV(D224:H224)","v":{"$error":"#DIV/0!"}},"NA","NA","NA","NA","NA",{"$f":"AVERAGE(K224:O224)","v":{"$error":"#DIV/0!"}},{"$f":"STDEV(K224:O224)","v":{"$error":"#DIV/0!"}},0,0,0,0,0,{"$f":"AVERAGE(R224:V224)","v":0},{"$f":"STDEV(R224:V224)","v":0},0,0,0,0,0,{"$f":"AVERAGE(Y224:AC224)","v":0},{"$f":"STDEV(Y224:AC224)","v":0},0,0,0,0,0,{"$f":"AVERAGE(AF224:AJ224)","v":0},{"$f":"STDEV(AF224:AJ224)","v":0},0,0,0,0,0,{"$f":"AVERAGE(AM224:AQ224)","v":0},{"$f":"STDEV(AM224:AQ224)","v":0},0,0,0,0,0,{"$f":"AVERAGE(AT224:AX224)","v":0},{"$f":"STDEV(AT224:AX224)","v":0},0,0,0,0,0,{"$f":"AVERAGE(BA224:BE224)","v":0},{"$f":"STDEV(BA224:BE224)","v":0}]
[null,2,null,"NA","NA","NA","NA","NA",{"$f":"AVERAGE(D225:H225)","v":{"$error":"#DIV/0!"}},{"$f":"STDEV(D225:H225)","v":{"$error":"#DIV/0!"}},"NA","NA","NA","NA","NA",{"$f":"AVERAGE(K225:O225)","v":{"$error":"#DIV/0!"}},{"$f":"STDEV(K225:O225)","v":{"$error":"#DIV/0!"}},0,0,0,0,0,{"$f":"AVERAGE(R225:V225)","v":0},{"$f":"STDEV(R225:V225)","v":0},0,0,0,0,0,{"$f":"AVERAGE(Y225:AC225)","v":0},{"$f":"STDEV(Y225:AC225)","v":0},0,0,0,0,0,{"$f":"AVERAGE(AF225:AJ225)","v":0},{"$f":"STDEV(AF225:AJ225)","v":0},0,0,0,0,0,{"$f":"AVERAGE(AM225:AQ225)","v":0},{"$f":"STDEV(AM225:AQ225)","v":0},0,0,0,0,0,{"$f":"AVERAGE(AT225:AX225)","v":0},{"$f":"STDEV(AT225:AX225)","v":0},0,0,0,0,0,{"$f":"AVERAGE(BA225:BE225)","v":0},{"$f":"STDEV(BA225:BE225)","v":0}]
[null,3,null,"NA","NA","NA","NA","NA",{"$f":"AVERAGE(D226:H226)","v":{"$error":"#DIV/0!"}},{"$f":"STDEV(D226:H226)","v":{"$error":"#DIV/0!"}},"NA","NA","NA","NA","NA",{"$f":"AVERAGE(K226:O226)","v":{"$error":"#DIV/0!"}},{"$f":"STDEV(K226:O226)","v":{"$error":"#DIV/0!"}},0,0,0,0,0,{"$f":"AVERAGE(R226:V226)","v":0},{"$f":"STDEV(R226:V226)","v":0},0,0,0,0,0,{"$f":"AVERAGE(Y226:AC226)","v":0},{"$f":"STDEV(Y226:AC226)","v":0},0,0,0,0,0,{"$f":"AVERAGE(AF226:AJ226)","v":0},{"$f":"STDEV(AF226:AJ226)","v":0},0,0,0,0,0,{"$f":"AVERAGE(AM226:AQ226)","v":0},{"$f":"STDEV(AM226:AQ226)","v":0},0,0,0,0,0,{"$f":"AVERAGE(AT226:AX226)","v":0},{"$f":"STDEV(AT226:AX226)","v":0},0,0,0,0,0,{"$f":"AVERAGE(BA226:BE226)","v":0},{"$f":"STDEV(BA226:BE226)","v":0}]
["average",{"$nulls":7},{"$f":"AVERAGE(I224:I226)","v":{"$error":"#DIV/0!"}},{"$nulls":6},{"$f":"AVERAGE(P224:P226)","v":{"$error":"#DIV/0!"}},{"$nulls":6},{"$f":"AVERAGE(W224:W226)","v":0},{"$nulls":6},{"$f":"AVERAGE(AD224:AD226)","v":0},{"$nulls":6},{"$f":"AVERAGE(AK224:AK226)","v":0},{"$nulls":6},{"$f":"AVERAGE(AR224:AR226)","v":0},{"$nulls":6},{"$f":"AVERAGE(AY224:AY226)","v":0},{"$nulls":6},{"$f":"AVERAGE(BF224:BF226)","v":0}]
["stdev",{"$nulls":7},{"$f":"SUM(J224:J226)","v":{"$error":"#DIV/0!"}},{"$nulls":6},{"$f":"SUM(Q224:Q226)","v":{"$error":"#DIV/0!"}},{"$nulls":6},{"$f":"SUM(X224:X226)","v":0},{"$nulls":6},{"$f":"SUM(AE224:AE226)","v":0},{"$nulls":6},{"$f":"SUM(AL224:AL226)","v":0},{"$nulls":6},{"$f":"SUM(AS224:AS226)","v":0},{"$nulls":6},{"$f":"SUM(AZ224:AZ226)","v":0},{"$nulls":6},{"$f":"SUM(BG224:BG226)","v":0}]
["pS2213 APR",1,null,"NA","NA","NA","NA","NA",{"$f":"AVERAGE(D229:H229)","v":{"$error":"#DIV/0!"}},{"$f":"STDEV(D229:H229)","v":{"$error":"#DIV/0!"}},"NA","NA","NA","NA","NA",{"$f":"AVERAGE(K229:O229)","v":{"$error":"#DIV/0!"}},{"$f":"STDEV(K229:O229)","v":{"$error":"#DIV/0!"}},0,0,0,0,0,{"$f":"AVERAGE(R229:V229)","v":0},{"$f":"STDEV(R229:V229)","v":0},0,0,0,0,0,{"$f":"AVERAGE(Y229:AC229)","v":0},{"$f":"STDEV(Y229:AC229)","v":0},0,0,0,0,0,{"$f":"AVERAGE(AF229:AJ229)","v":0},{"$f":"STDEV(AF229:AJ229)","v":0},0,0,0,0,0,{"$f":"AVERAGE(AM229:AQ229)","v":0},{"$f":"STDEV(AM229:AQ229)","v":0},0,0,0,0,0,{"$f":"AVERAGE(AT229:AX229)","v":0},{"$f":"STDEV(AT229:AX229)","v":0},0,0,0,0,0,{"$f":"AVERAGE(BA229:BE229)","v":0},{"$f":"STDEV(BA229:BE229)","v":0}]
["p+0",2,null,"NA","NA","NA","NA","NA",{"$f":"AVERAGE(D230:H230)","v":{"$error":"#DIV/0!"}},{"$f":"STDEV(D230:H230)","v":{"$error":"#DIV/0!"}},"NA","NA","NA","NA","NA",{"$f":"AVERAGE(K230:O230)","v":{"$error":"#DIV/0!"}},{"$f":"STDEV(K230:O230)","v":{"$error":"#DIV/0!"}},0,0,0,0,0,{"$f":"AVERAGE(R230:V230)","v":0},{"$f":"STDEV(R230:V230)","v":0},0,0,0,0,0,{"$f":"AVERAGE(Y230:AC230)","v":0},{"$f":"STDEV(Y230:AC230)","v":0},0,0,0,0,0,{"$f":"AVERAGE(AF230:AJ230)","v":0},{"$f":"STDEV(AF230:AJ230)","v":0},0,0,0,0,0,{"$f":"AVERAGE(AM230:AQ230)","v":0},{"$f":"STDEV(AM230:AQ230)","v":0},0,0,0,0,0,{"$f":"AVERAGE(AT230:AX230)","v":0},{"$f":"STDEV(AT230:AX230)","v":0},0,0,0,0,0,{"$f":"AVERAGE(BA230:BE230)","v":0},{"$f":"STDEV(BA230:BE230)","v":0}]
[null,3,null,"NA","NA","NA","NA","NA",{"$f":"AVERAGE(D231:H231)","v":{"$error":"#DIV/0!"}},{"$f":"STDEV(D231:H231)","v":{"$error":"#DIV/0!"}},"NA","NA","NA","NA","NA",{"$f":"AVERAGE(K231:O231)","v":{"$error":"#DIV/0!"}},{"$f":"STDEV(K231:O231)","v":{"$error":"#DIV/0!"}},0,0,0,0,0,{"$f":"AVERAGE(R231:V231)","v":0},{"$f":"STDEV(R231:V231)","v":0},0,0,0,0,0,{"$f":"AVERAGE(Y231:AC231)","v":0},{"$f":"STDEV(Y231:AC231)","v":0},0,0,0,0,0,{"$f":"AVERAGE(AF231:AJ231)","v":0},{"$f":"STDEV(AF231:AJ231)","v":0},0,0,0,0,0,{"$f":"AVERAGE(AM231:AQ231)","v":0},{"$f":"STDEV(AM231:AQ231)","v":0},0,0,0,0,0,{"$f":"AVERAGE(AT231:AX231)","v":0},{"$f":"STDEV(AT231:AX231)","v":0},0,0,0,0,0,{"$f":"AVERAGE(BA231:BE231)","v":0},{"$f":"STDEV(BA231:BE231)","v":0}]
["average",{"$nulls":7},{"$f":"AVERAGE(I229:I231)","v":{"$error":"#DIV/0!"}},{"$nulls":6},{"$f":"AVERAGE(P229:P231)","v":{"$error":"#DIV/0!"}},{"$nulls":6},{"$f":"AVERAGE(W229:W231)","v":0},{"$nulls":6},{"$f":"AVERAGE(AD229:AD231)","v":0},{"$nulls":6},{"$f":"AVERAGE(AK229:AK231)","v":0},{"$nulls":6},{"$f":"AVERAGE(AR229:AR231)","v":0},{"$nulls":6},{"$f":"AVERAGE(AY229:AY231)","v":0},{"$nulls":6},{"$f":"AVERAGE(BF229:BF231)","v":0}]
["stdev",{"$nulls":7},{"$f":"SUM(J229:J231)","v":{"$error":"#DIV/0!"}},{"$nulls":6},{"$f":"SUM(Q229:Q231)","v":{"$error":"#DIV/0!"}},{"$nulls":6},{"$f":"SUM(X229:X231)","v":0},{"$nulls":6},{"$f":"SUM(AE229:AE231)","v":0},{"$nulls":6},{"$f":"SUM(AL229:AL231)","v":0},{"$nulls":6},{"$f":"SUM(AS229:AS231)","v":0},{"$nulls":6},{"$f":"SUM(AZ229:AZ231)","v":0},{"$nulls":6},{"$f":"SUM(BG229:BG231)","v":0}]
["p+3",1,null,"NA","NA","NA","NA","NA",{"$f":"AVERAGE(D234:H234)","v":{"$error":"#DIV/0!"}},{"$f":"STDEV(D234:H234)","v":{"$error":"#DIV/0!"}},"NA","NA","NA","NA","NA",{"$f":"AVERAGE(K234:O234)","v":{"$error":"#DIV/0!"}},{"$f":"STDEV(K234:O234)","v":{"$error":"#DIV/0!"}},0,0,0,0,0,{"$f":"AVERAGE(R234:V234)","v":0},{"$f":"STDEV(R234:V234)","v":0},0,0,0,0,0,{"$f":"AVERAGE(Y234:AC234)","v":0},{"$f":"STDEV(Y234:AC234)","v":0},0,0,0,0,0,{"$f":"AVERAGE(AF234:AJ234)","v":0},{"$f":"STDEV(AF234:AJ234)","v":0},0,0,0,0,0,{"$f":"AVERAGE(AM234:AQ234)","v":0},{"$f":"STDEV(AM234:AQ234)","v":0},0,0,0,0,0,{"$f":"AVERAGE(AT234:AX234)","v":0},{"$f":"STDEV(AT234:AX234)","v":0},0,0,0,0,0,{"$f":"AVERAGE(BA234:BE234)","v":0},{"$f":"STDEV(BA234:BE234)","v":0}]
[null,2,null,"NA","NA","NA","NA","NA",{"$f":"AVERAGE(D235:H235)","v":{"$error":"#DIV/0!"}},{"$f":"STDEV(D235:H235)","v":{"$error":"#DIV/0!"}},"NA","NA","NA","NA","NA",{"$f":"AVERAGE(K235:O235)","v":{"$error":"#DIV/0!"}},{"$f":"STDEV(K235:O235)","v":{"$error":"#DIV/0!"}},0,0,0,0,0,{"$f":"AVERAGE(R235:V235)","v":0},{"$f":"STDEV(R235:V235)","v":0},0,0,0,0,0,{"$f":"AVERAGE(Y235:AC235)","v":0},{"$f":"STDEV(Y235:AC235)","v":0},0,0,0,0,0,{"$f":"AVERAGE(AF235:AJ235)","v":0},{"$f":"STDEV(AF235:AJ235)","v":0},0,0,0,0,0,{"$f":"AVERAGE(AM235:AQ235)","v":0},{"$f":"STDEV(AM235:AQ235)","v":0},0,0,0,0,0,{"$f":"AVERAGE(AT235:AX235)","v":0},{"$f":"STDEV(AT235:AX235)","v":0},0,0,0,0,0,{"$f":"AVERAGE(BA235:BE235)","v":0},{"$f":"STDEV(BA235:BE235)","v":0}]
[null,3,null,"NA","NA","NA","NA","NA",{"$f":"AVERAGE(D236:H236)","v":{"$error":"#DIV/0!"}},{"$f":"STDEV(D236:H236)","v":{"$error":"#DIV/0!"}},"NA","NA","NA","NA","NA",{"$f":"AVERAGE(K236:O236)","v":{"$error":"#DIV/0!"}},{"$f":"STDEV(K236:O236)","v":{"$error":"#DIV/0!"}},0,0,0,0,0,{"$f":"AVERAGE(R236:V236)","v":0},{"$f":"STDEV(R236:V236)","v":0},0,0,0,0,0,{"$f":"AVERAGE(Y236:AC236)","v":0},{"$f":"STDEV(Y236:AC236)","v":0},0,0,0,0,0,{"$f":"AVERAGE(AF236:AJ236)","v":0},{"$f":"STDEV(AF236:AJ236)","v":0},0,0,0,0,0,{"$f":"AVERAGE(AM236:AQ236)","v":0},{"$f":"STDEV(AM236:AQ236)","v":0},0,0,0,0,0,{"$f":"AVERAGE(AT236:AX236)","v":0},{"$f":"STDEV(AT236:AX236)","v":0},0,0,0,0,0,{"$f":"AVERAGE(BA236:BE236)","v":0},{"$f":"STDEV(BA236:BE236)","v":0}]
["average",{"$nulls":7},{"$f":"AVERAGE(I234:I236)","v":{"$error":"#DIV/0!"}},{"$nulls":6},{"$f":"AVERAGE(P234:P236)","v":{"$error":"#DIV/0!"}},{"$nulls":6},{"$f":"AVERAGE(W234:W236)","v":0},{"$nulls":6},{"$f":"AVERAGE(AD234:AD236)","v":0},{"$nulls":6},{"$f":"AVERAGE(AK234:AK236)","v":0},{"$nulls":6},{"$f":"AVERAGE(AR234:AR236)","v":0},{"$nulls":6},{"$f":"AVERAGE(AY234:AY236)","v":0},{"$nulls":6},{"$f":"AVERAGE(BF234:BF236)","v":0}]
["stdev",{"$nulls":7},{"$f":"SUM(J234:J236)","v":{"$error":"#DIV/0!"}},{"$nulls":6},{"$f":"SUM(Q234:Q236)","v":{"$error":"#DIV/0!"}},{"$nulls":6},{"$f":"SUM(X234:X236)","v":0},{"$nulls":6},{"$f":"SUM(AE234:AE236)","v":0},{"$nulls":6},{"$f":"SUM(AL234:AL236)","v":0},{"$nulls":6},{"$f":"SUM(AS234:AS236)","v":0},{"$nulls":6},{"$f":"SUM(AZ234:AZ236)","v":0},{"$nulls":6},{"$f":"SUM(BG234:BG236)","v":0}]

{"sheet":"Survivalexp results","index":3,"n_rows":59,"n_cols":63,"rows_kept":59}
["Survival experiment"]
["Subject: ",null,"Anaerobic survival after aerobic inoculation of recombinant strains"]
[null,null,"DeBont+Gluconic Acid - Kanamycin only in 2213-/A/APR"]
["Inoculation date",null,"2017-10-22"]
["Inoculated",null,"Blank ","BW25113 2213F -","2213F -",null,"2213F A",null,"2213F APR"]
[{"$nulls":3},"dilution"]
[{"$nulls":3},"T1",{"$nulls":9},"T4",{"$nulls":9},"T7",{"$nulls":9},"T11",{"$nulls":9},"T14",{"$nulls":9},"T18"]
[null,null,"Sample",{"$f":"10^0","v":{"v":1,"d":"1E+00"}},{"$f":"10^-1","v":{"v":0.1,"d":"1E-01"}},{"$f":"10^-2","v":{"v":0.01,"d":"1E-02"}},{"$f":"10^-3","v":{"v":1E-3,"d":"1E-03"}},{"$f":"10^-4","v":{"v":1E-4,"d":"1E-04"}},{"$f":"10^-5","v":{"v":1e-05,"d":"1E-05"}},{"$f":"10^-6","v":{"v":1e-06,"d":"1E-06"}},{"$f":"10^-7","v":{"v":1e-07,"d":"1E-07"}},"Average nr of bacteria","stdev",{"$f":"10^0","v":{"v":1,"d":"1E+00"}},{"$f":"10^-1","v":{"v":0.1,"d":"1E-01"}},{"$f":"10^-2","v":{"v":0.01,"d":"1E-02"}},{"$f":"10^-3","v":{"v":1E-3,"d":"1E-03"}},{"$f":"10^-4","v":{"v":1E-4,"d":"1E-04"}},{"$f":"10^-5","v":{"v":1e-05,"d":"1E-05"}},{"$f":"10^-6","v":{"v":1e-06,"d":"1E-06"}},{"$f":"10^-7","v":{"v":1e-07,"d":"1E-07"}},"Average nr of bacteria","stdev",{"$f":"10^0","v":{"v":1,"d":"1E+00"}},{"$f":"10^-1","v":{"v":0.1,"d":"1E-01"}},{"$f":"10^-2","v":{"v":0.01,"d":"1E-02"}},{"$f":"10^-3","v":{"v":1E-3,"d":"1E-03"}},{"$f":"10^-4","v":{"v":1E-4,"d":"1E-04"}},{"$f":"10^-5","v":{"v":1e-05,"d":"1E-05"}},{"$f":"10^-6","v":{"v":1e-06,"d":"1E-06"}},{"$f":"10^-7","v":{"v":1e-07,"d":"1E-07"}},"Average nr of bacteria","stdev",{"$f":"10^0","v":{"v":1,"d":"1E+00"}},{"$f":"10^-1","v":{"v":0.1,"d":"1E-01"}},{"$f":"10^-2","v":{"v":0.01,"d":"1E-02"}},{"$f":"10^-3","v":{"v":1E-3,"d":"1E-03"}},{"$f":"10^-4","v":{"v":1E-4,"d":"1E-04"}},{"$f":"10^-5","v":{"v":1e-05,"d":"1E-05"}},{"$f":"10^-6","v":{"v":1e-06,"d":"1E-06"}},{"$f":"10^-7","v":{"v":1e-07,"d":"1E-07"}},"Average nr of bacteria","stdev",{"$f":"10^0","v":{"v":1,"d":"1E+00"}},{"$f":"10^-1","v":{"v":0.1,"d":"1E-01"}},{"$f":"10^-2","v":{"v":0.01,"d":"1E-02"}},{"$f":"10^-3","v":{"v":1E-3,"d":"1E-03"}},{"$f":"10^-4","v":{"v":1E-4,"d":"1E-04"}},{"$f":"10^-5","v":{"v":1e-05,"d":"1E-05"}},{"$f":"10^-6","v":{"v":1e-06,"d":"1E-06"}},{"$f":"10^-7","v":{"v":1e-07,"d":"1E-07"}},"Average nr of bacteria","stdev",{"$f":"10^0","v":{"v":1,"d":"1E+00"}},{"$f":"10^-1","v":{"v":0.1,"d":"1E-01"}},{"$f":"10^-2","v":{"v":0.01,"d":"1E-02"}},{"$f":"10^-3","v":{"v":1E-3,"d":"1E-03"}},{"$f":"10^-4","v":{"v":1E-4,"d":"1E-04"}},{"$f":"10^-5","v":{"v":1e-05,"d":"1E-05"}},{"$f":"10^-6","v":{"v":1e-06,"d":"1E-06"}},{"$f":"10^-7","v":{"v":1e-07,"d":"1E-07"}},"Average nr of bacteria","stdev"]
[null,null,"Blank",{"$f":"'[1]Survivalexp RAW Feb 2018'!I13","v":0},{"$f":"'[1]Survivalexp RAW Feb 2018'!P13","v":0},{"$f":"'[1]Survivalexp RAW Feb 2018'!W13","v":0},{"$f":"'[1]Survivalexp RAW Feb 2018'!AD13","v":0},{"$f":"'[1]Survivalexp RAW Feb 2018'!AK13","v":0},{"$f":"'[1]Survivalexp RAW Feb 2018'!AR13","v":0},{"$f":"'[1]Survivalexp RAW Feb 2018'!AY13","v":0},{"$f":"'[1]Survivalexp RAW Feb 2018'!BF13","v":0},null,null,{"$f":"'[1]Survivalexp RAW Feb 2018'!I52","v":0},{"$f":"'[1]Survivalexp RAW Feb 2018'!P52","v":0},{"$f":"'[1]Survivalexp RAW Feb 2018'!W52","v":0},{"$f":"'[1]Survivalexp RAW Feb 2018'!AD52","v":0},{"$f":"'[1]Survivalexp RAW Feb 2018'!AK52","v":0},{"$f":"'[1]Survivalexp RAW Feb 2018'!AR52","v":0},{"$f":"'[1]Survivalexp RAW Feb 2018'!AY52","v":0},{"$f":"'[1]Survivalexp RAW Feb 2018'!BF52","v":0},null,null,{"$f":"'[1]Survivalexp RAW Feb 2018'!I91","v":0},{"$f":"'[1]Survivalexp RAW Feb 2018'!P91","v":0},0,{"$f":"'[1]Survivalexp RAW Feb 2018'!AD91","v":0},{"$f":"'[1]Survivalexp RAW Feb 2018'!AK91","v":0},{"$f":"'[1]Survivalexp RAW Feb 2018'!AR91","v":0},{"$f":"'[1]Survivalexp RAW Feb 2018'!AY91","v":0},{"$f":"'[1]Survivalexp RAW Feb 2018'!BF91","v":0},null,null,{"$f":"'[1]Survivalexp RAW Feb 2018'!I130","v":0},{"$f":"'[1]Survivalexp RAW Feb 2018'!P130","v":0},{"$f":"'[1]Survivalexp RAW Feb 2018'!W130","v":0},{"$f":"'[1]Survivalexp RAW Feb 2018'!AD130","v":0},{"$f":"'[1]Survivalexp RAW Feb 2018'!AK130","v":0},{"$f":"'[1]Survivalexp RAW Feb 2018'!AR130","v":0},{"$f":"'[1]Survivalexp RAW Feb 2018'!AY130","v":0},{"$f":"'[1]Survivalexp RAW Feb 2018'!BF130","v":0},null,null,{"$f":"'[1]Survivalexp RAW Feb 2018'!S169","v":0},{"$f":"'[1]Survivalexp RAW Feb 2018'!Z169","v":0},{"$f":"'[1]Survivalexp RAW Feb 2018'!AG169","v":0},{"$f":"'[1]Survivalexp RAW Feb 2018'!AN169","v":0},{"$f":"'[1]Survivalexp RAW Feb 2018'!AU169","v":0},{"$f":"'[1]Survivalexp RAW Feb 2018'!BB169","v":0},{"$f":"'[1]Survivalexp RAW Feb 2018'!BI169","v":0},{"$f":"'[1]Survivalexp RAW Feb 2018'!BP169","v":0},null,null,{"$f":"'[1]Survivalexp RAW Feb 2018'!I207","v":0},{"$f":"'[1]Survivalexp RAW Feb 2018'!P207","v":0},{"$f":"'[1]Survivalexp RAW Feb 2018'!W207","v":0},{"$f":"'[1]Survivalexp RAW Feb 2018'!AD207","v":0},{"$f":"'[1]Survivalexp RAW Feb 2018'!AK207","v":0},{"$f":"'[1]Survivalexp RAW Feb 2018'!AR207","v":0},{"$f":"'[1]Survivalexp RAW Feb 2018'!AY207","v":0},{"$f":"'[1]Survivalexp RAW Feb 2018'!BF207","v":0}]
[null,null,"stdev",{"$f":"'[1]Survivalexp RAW Feb 2018'!I14","v":0},{"$f":"'[1]Survivalexp RAW Feb 2018'!P14","v":0},{"$f":"'[1]Survivalexp RAW Feb 2018'!W14","v":0},{"$f":"'[1]Survivalexp RAW Feb 2018'!AD14","v":0},{"$f":"'[1]Survivalexp RAW Feb 2018'!AK14","v":0},{"$f":"'[1]Survivalexp RAW Feb 2018'!AR14","v":0},{"$f":"'[1]Survivalexp RAW Feb 2018'!AY14","v":0},{"$f":"'[1]Survivalexp RAW Feb 2018'!BF14","v":0},null,null,{"$f":"'[1]Survivalexp RAW Feb 2018'!I53","v":0},{"$f":"'[1]Survivalexp RAW Feb 2018'!P53","v":0},{"$f":"'[1]Survivalexp RAW Feb 2018'!W53","v":0},{"$f":"'[1]Survivalexp RAW Feb 2018'!AD53","v":0},{"$f":"'[1]Survivalexp RAW Feb 2018'!AK53","v":0},{"$f":"'[1]Survivalexp RAW Feb 2018'!AR53","v":0},{"$f":"'[1]Survivalexp RAW Feb 2018'!AY53","v":0},{"$f":"'[1]Survivalexp RAW Feb 2018'!BF53","v":0},null,null,{"$f":"'[1]Survivalexp RAW Feb 2018'!I92","v":0},{"$f":"'[1]Survivalexp RAW Feb 2018'!P92","v":0},{"$f":"'[1]Survivalexp RAW Feb 2018'!W92","v":0},{"$f":"'[1]Survivalexp RAW Feb 2018'!AD92","v":0},{"$f":"'[1]Survivalexp RAW Feb 2018'!AK92","v":0},{"$f":"'[1]Survivalexp RAW Feb 2018'!AR92","v":0},{"$f":"'[1]Survivalexp RAW Feb 2018'!AY92","v":0},{"$f":"'[1]Survivalexp RAW Feb 2018'!BF92","v":0},null,null,{"$f":"'[1]Survivalexp RAW Feb 2018'!I131","v":0},{"$f":"'[1]Survivalexp RAW Feb 2018'!P131","v":0},{"$f":"'[1]Survivalexp RAW Feb 2018'!W131","v":0},{"$f":"'[1]Survivalexp RAW Feb 2018'!AD131","v":0},{"$f":"'[1]Survivalexp RAW Feb 2018'!AK131","v":0},{"$f":"'[1]Survivalexp RAW Feb 2018'!AR131","v":0},{"$f":"'[1]Survivalexp RAW Feb 2018'!AY131","v":0},{"$f":"'[1]Survivalexp RAW Feb 2018'!BF131","v":0},null,null,{"$f":"'[1]Survivalexp RAW Feb 2018'!S170","v":0},{"$f":"'[1]Survivalexp RAW Feb 2018'!Z170","v":0},{"$f":"'[1]Survivalexp RAW Feb 2018'!AG170","v":0},{"$f":"'[1]Survivalexp RAW Feb 2018'!AN170","v":0},{"$f":"'[1]Survivalexp RAW Feb 2018'!AU170","v":0},{"$f":"'[1]Survivalexp RAW Feb 2018'!BB170","v":0},{"$f":"'[1]Survivalexp RAW Feb 2018'!BI170","v":0},{"$f":"'[1]Survivalexp RAW Feb 2018'!BP170","v":0},null,null,{"$f":"'[1]Survivalexp RAW Feb 2018'!I208","v":0},{"$f":"'[1]Survivalexp RAW Feb 2018'!P208","v":0},{"$f":"'[1]Survivalexp RAW Feb 2018'!W208","v":0},{"$f":"'[1]Survivalexp RAW Feb 2018'!AD208","v":0},{"$f":"'[1]Survivalexp RAW Feb 2018'!AK208","v":0},{"$f":"'[1]Survivalexp RAW Feb 2018'!AR208","v":0},{"$f":"'[1]Survivalexp RAW Feb 2018'!AY208","v":0},{"$f":"'[1]Survivalexp RAW Feb 2018'!BF208","v":0}]
[null,"est. nr of bacteria",null,{"$f":"D9/$D$8","v":0},{"$f":"E9/$E$8","v":0},{"$f":"F9/$F$8","v":0},{"$f":"G9/$G$8","v":0},{"$f":"H9/$H$8","v":0},{"$f":"I9/$I$8","v":0},{"$f":"J9/$J$8","v":0},{"$f":"K9/$K$8","v":{"v":0,"d":"0E+00"}},{"$f":"G11","v":0},{"$f":"G12","v":0},{"$f":"N9/$D$8","v":0},{"$f":"O9/$E$8","v":0},{"$f":"P9/$F$8","v":0},{"$f":"Q9/$G$8","v":0},{"$f":"R9/$H$8","v":0},{"$f":"S9/$I$8","v":0},{"$f":"T9/$J$8","v":0},{"$f":"U9/$K$8","v":0},{"$f":"P11","v":0},{"$f":"P12","v":0},{"$f":"X9/$D$8","v":{"v":0,"d":"0E+00"}},{"$f":"Y9/$E$8","v":{"v":0,"d":"0E+00"}},{"$f":"Z9/F8","v":{"v":0,"d":"0E+00"}},{"$f":"AA9/G8","v":{"v":0,"d":"0E+00"}},{"v":0,"d":"0E+00"},{"v":0,"d":"0E+00"},{"v":0,"d":"0E+00"},{"$f":"AE9/K8","v":{"v":0,"d":"0E+00"}},{"$f":"AE11","v":0},{"$f":"AE12","v":0},{"$f":"AH9/$D$8","v":0},{"$f":"AI9/$E$8","v":0},{"$f":"AJ9/$F$8","v":0},{"$f":"AK9/$G$8","v":0},{"$f":"AL9/$H$8","v":0},{"$f":"AM9/$I$8","v":0},{"$f":"AN9/$J$8","v":0},{"$f":"AO9/$K$8","v":0},{"$f":"AL11","v":0},{"$f":"AL12","v":0},{"$f":"AR9/$D$8","v":0},{"$f":"AS9/$E$8","v":0},{"$f":"AT9/$F$8","v":0},{"$f":"AU9/$G$8","v":0},{"$f":"AV9/$H$8","v":0},{"$f":"AW9/$I$8","v":0},{"$f":"AX9/$J$8","v":0},{"$f":"AY9/$K$8","v":0},{"$f":"AV11","v":0},{"$f":"AV12","v":0},{"$f":"BB9/$D$8","v":0},{"$f":"BC9/$E$8","v":0},{"$f":"BD9/$F$8","v":0},{"$f":"BE9/$G$8","v":0},{"$f":"BF9/$H$8","v":0},{"$f":"BG9/$I$8","v":0},{"$f":"BH9/$J$8","v":0},{"$f":"BI9/$K$8","v":0},{"$f":"BF11","v":0},{"$f":"BF12","v":0}]
[null,null,"stdev",{"$f":"D10/$D$8","v":0},{"$f":"E10/$E$8","v":0},{"$f":"F10/$F$8","v":0},{"$f":"G10/$G$8","v":0},{"$f":"H10/$H$8","v":0},{"$f":"I10/$I$8","v":0},{"$f":"J10/$J$8","v":0},{"$f":"K10/$K$8","v":0},null,null,{"$f":"N10/$D$8","v":0},{"$f":"O10/$E$8","v":0},{"$f":"P10/$F$8","v":0},{"$f":"Q10/$G$8","v":0},{"$f":"R10/$H$8","v":0},{"$f":"S10/$I$8","v":0},{"$f":"T10/$J$8","v":0},{"$f":"U10/$K$8","v":0},null,null,{"$f":"X9/$D$8","v":0},{"$f":"Y9/$E$8","v":0},{"$f":"Z9/$F$8","v":0},{"$f":"AA9/$G$8","v":0},{"$f":"AB9/$H$8","v":0},{"$f":"AC9/$I$8","v":0},{"$f":"AD9/$J$8","v":0},{"$f":"AE9/$K$8","v":0},null,null,{"$f":"AH10/$D$8","v":0},{"$f":"AI10/$E$8","v":0},{"$f":"AJ10/$F$8","v":0},{"$f":"AK10/$G$8","v":0},{"$f":"AL10/$H$8","v":0},{"$f":"AM10/$I$8","v":0},{"$f":"AN10/$J$8","v":0},{"$f":"AO10/$K$8","v":0},null,null,{"$f":"AR10/$D$8","v":0},{"$f":"AS10/$E$8","v":0},{"$f":"AT10/$F$8","v":0},{"$f":"AU10/$G$8","v":0},{"$f":"AV10/$H$8","v":0},{"$f":"AW10/$I$8","v":0},{"$f":"AX10/$J$8","v":0},{"$f":"AY10/$K$8","v":0},null,null,{"$f":"BB10/$D$8","v":0},{"$f":"BC10/$E$8","v":0},{"$f":"BD10/$F$8","v":0},{"$f":"BE10/$G$8","v":0},{"$f":"BF10/$H$8","v":0},{"$f":"BG10/$I$8","v":0},{"$f":"BH10/$J$8","v":0},{"$f":"BI10/$K$8","v":0}]
[null,null,"BW25113 -",{"$f":"'[1]Survivalexp RAW Feb 2018'!I18","v":{"$error":"#DIV/0!"}},{"$f":"'[1]Survivalexp RAW Feb 2018'!P18","v":{"$error":"#DIV/0!"}},{"$f":"'[1]Survivalexp RAW Feb 2018'!W18","v":{"$error":"#DIV/0!"}},{"$f":"'[1]Survivalexp RAW Feb 2018'!AD18","v":{"$error":"#DIV/0!"}},{"$f":"'[1]Survivalexp RAW Feb 2018'!AK18","v":{"$error":"#DIV/0!"}},{"$f":"'[1]Survivalexp RAW Feb 2018'!AR18","v":{"v":68.93333333333332,"d":"69"}},{"$f":"'[1]Survivalexp RAW Feb 2018'!AY18","v":{"v":9.799999999999999,"d":"10"}},{"$f":"'[1]Survivalexp RAW Feb 2018'!BF18","v":{"v":0.9333333333333335,"d":"1"}},null,null,{"$f":"'[1]Survivalexp RAW Feb 2018'!I57","v":{"$error":"#DIV/0!"}},{"$f":"'[1]Survivalexp RAW Feb 2018'!P57","v":{"$error":"#DIV/0!"}},{"$f":"'[1]Survivalexp RAW Feb 2018'!W57","v":{"$error":"#DIV/0!"}},{"$f":"'[1]Survivalexp RAW Feb 2018'!AD57","v":{"$error":"#DIV/0!"}},{"$f":"'[1]Survivalexp RAW Feb 2018'!AK57","v":{"$error":"#DIV/0!"}},{"$f":"'[1]Survivalexp RAW Feb 2018'!AR57","v":{"v":45.93333333333334,"d":"46"}},{"$f":"'[1]Survivalexp RAW Feb 2018'!AY57","v":{"v":4.800000000000001,"d":"5"}},{"$f":"'[1]Survivalexp RAW Feb 2018'!BF57","v":{"v":0.8666666666666666,"d":"1"}},null,null,{"$f":"'[1]Survivalexp RAW Feb 2018'!I96","v":{"$error":"#DIV/0!"}},{"$f":"'[1]Survivalexp RAW Feb 2018'!P96","v":{"$error":"#DIV/0!"}},{"$f":"'[1]Survivalexp RAW Feb 2018'!W96","v":{"$error":"#DIV/0!"}},{"$f":"'[1]Survivalexp RAW Feb 2018'!AD96","v":{"$error":"#DIV/0!"}},{"$f":"'[1]Survivalexp RAW Feb 2018'!AK96","v":{"v":242.0666666666667,"d":"242"}},{"$f":"'[1]Survivalexp RAW Feb 2018'!AR96","v":{"v":44.53333333333333,"d":"45"}},{"$f":"'[1]Survivalexp RAW Feb 2018'!AY96","v":{"v":5.2,"d":"5"}},{"$f":"'[1]Survivalexp RAW Feb 2018'!BF96","v":{"v":0.3333333333333333,"d":"0"}},null,null,{"$f":"'[1]Survivalexp RAW Feb 2018'!I135","v":{"$error":"#DIV/0!"}},{"$f":"'[1]Survivalexp RAW Feb 2018'!P135","v":{"$error":"#DIV/0!"}},{"$f":"'[1]Survivalexp RAW Feb 2018'!W135","v":{"$error":"#DIV/0!"}},{"$f":"'[1]Survivalexp RAW Feb 2018'!AD135","v":{"$error":"#DIV/0!"}},{"$f":"'[1]Survivalexp RAW Feb 2018'!AK135","v":{"v":262.26666666666665,"d":"262"}},{"$f":"'[1]Survivalexp RAW Feb 2018'!AR135","v":{"v":55.800000000000004,"d":"56"}},{"$f":"'[1]Survivalexp RAW Feb 2018'!AY135","v":{"v":4.466666666666667,"d":"4"}},{"$f":"'[1]Survivalexp RAW Feb 2018'!BF135","v":{"v":0.5333333333333333,"d":"1"}},null,null,{"$f":"'[1]Survivalexp RAW Feb 2018'!I174","v":{"$error":"#DIV/0!"}},{"$f":"'[1]Survivalexp RAW Feb 2018'!P174","v":{"$error":"#DIV/0!"}},{"$f":"'[1]Survivalexp RAW Feb 2018'!W174","v":{"$error":"#DIV/0!"}},{"$f":"'[1]Survivalexp RAW Feb 2018'!AD174","v":{"$error":"#DIV/0!"}},{"$f":"'[1]Survivalexp RAW Feb 2018'!AK174","v":{"$error":"#DIV/0!"}},{"$f":"'[1]Survivalexp RAW Feb 2018'!AR174","v":{"v":44.6,"d":"45"}},{"$f":"'[1]Survivalexp RAW Feb 2018'!AY174","v":{"v":6.933333333333334,"d":"7"}},{"$f":"'[1]Survivalexp RAW Feb 2018'!BF174","v":{"v":0.5333333333333333,"d":"1"}},null,null,{"$f":"'[1]Survivalexp RAW Feb 2018'!I212","v":{"$error":"#DIV/0!"}},{"$f":"'[1]Survivalexp RAW Feb 2018'!P212","v":{"$error":"#DIV/0!"}},{"$f":"'[1]Survivalexp RAW Feb 2018'!W212","v":{"$error":"#DIV/0!"}},{"$f":"'[1]Survivalexp RAW Feb 2018'!AD212","v":{"$error":"#DIV/0!"}},{"$f":"'[1]Survivalexp RAW Feb 2018'!AK212","v":0},{"$f":"'[1]Survivalexp RAW Feb 2018'!AR212","v":0},{"$f":"'[1]Survivalexp RAW Feb 2018'!AY212","v":0},{"$f":"'[1]Survivalexp RAW Feb 2018'!BF212","v":0}]
[null,null,"stdev",{"$f":"'[1]Survivalexp RAW Feb 2018'!I19","v":{"$error":"#DIV/0!"}},{"$f":"'[1]Survivalexp RAW Feb 2018'!P19","v":{"$error":"#DIV/0!"}},{"$f":"'[1]Survivalexp RAW Feb 2018'!W19","v":{"$error":"#DIV/0!"}},{"$f":"'[1]Survivalexp RAW Feb 2018'!AD19","v":{"$error":"#DIV/0!"}},{"$f":"'[1]Survivalexp RAW Feb 2018'!AK19","v":{"$error":"#DIV/0!"}},{"$f":"'[1]Survivalexp RAW Feb 2018'!AR19","v":{"v":19.602654586439996,"d":"20"}},{"$f":"'[1]Survivalexp RAW Feb 2018'!AY19","v":{"v":9.16104128505555,"d":"9"}},{"$f":"'[1]Survivalexp RAW Feb 2018'!BF19","v":{"v":1.989872306010248,"d":"2"}},null,null,{"$f":"'[1]Survivalexp RAW Feb 2018'!I58","v":{"$error":"#DIV/0!"}},{"$f":"'[1]Survivalexp RAW Feb 2018'!P58","v":{"$error":"#DIV/0!"}},{"$f":"'[1]Survivalexp RAW Feb 2018'!W58","v":{"$error":"#DIV/0!"}},{"$f":"'[1]Survivalexp RAW Feb 2018'!AD58","v":{"$error":"#DIV/0!"}},{"$f":"'[1]Survivalexp RAW Feb 2018'!AK58","v":{"$error":"#DIV/0!"}},{"$f":"'[1]Survivalexp RAW Feb 2018'!AR58","v":{"v":16.96763049969468,"d":"17"}},{"$f":"'[1]Survivalexp RAW Feb 2018'!AY58","v":{"v":7.458235377198097,"d":"7"}},{"$f":"'[1]Survivalexp RAW Feb 2018'!BF58","v":{"v":2.989872306010248,"d":"3"}},null,null,{"$f":"'[1]Survivalexp RAW Feb 2018'!I97","v":{"$error":"#DIV/0!"}},{"$f":"'[1]Survivalexp RAW Feb 2018'!P97","v":{"$error":"#DIV/0!"}},{"$f":"'[1]Survivalexp RAW Feb 2018'!W97","v":{"$error":"#DIV/0!"}},{"$f":"'[1]Survivalexp RAW Feb 2018'!AD97","v":{"$error":"#DIV/0!"}},{"$f":"'[1]Survivalexp RAW Feb 2018'!AK97","v":{"$error":"#DIV/0!"}},{"$f":"'[1]Survivalexp RAW Feb 2018'!AR97","v":{"v":23.261736565965656,"d":"23"}},{"$f":"'[1]Survivalexp RAW Feb 2018'!AY97","v":{"v":7.803855522744396,"d":"8"}},{"$f":"'[1]Survivalexp RAW Feb 2018'!BF97","v":{"v":1.0954451150103321,"d":"1"}},null,null,{"$f":"'[1]Survivalexp RAW Feb 2018'!I136","v":{"$error":"#DIV/0!"}},{"$f":"'[1]Survivalexp RAW Feb 2018'!P136","v":{"$error":"#DIV/0!"}},{"$f":"'[1]Survivalexp RAW Feb 2018'!W136","v":{"$error":"#DIV/0!"}},{"$f":"'[1]Survivalexp RAW Feb 2018'!AD136","v":{"$error":"#DIV/0!"}},{"$f":"'[1]Survivalexp RAW Feb 2018'!AK136","v":{"v":78.53289948190921,"d":"79"}},{"$f":"'[1]Survivalexp RAW Feb 2018'!AR136","v":{"v":22.71691237881178,"d":"23"}},{"$f":"'[1]Survivalexp RAW Feb 2018'!AY136","v":{"v":7.640330330562046,"d":"8"}},{"$f":"'[1]Survivalexp RAW Feb 2018'!BF136","v":{"v":1.88936334400504,"d":"2"}},null,null,{"$f":"'[1]Survivalexp RAW Feb 2018'!I175","v":{"$error":"#DIV/0!"}},{"$f":"'[1]Survivalexp RAW Feb 2018'!P175","v":{"$error":"#DIV/0!"}},{"$f":"'[1]Survivalexp RAW Feb 2018'!W175","v":{"$error":"#DIV/0!"}},{"$f":"'[1]Survivalexp RAW Feb 2018'!AD175","v":{"$error":"#DIV/0!"}},{"$f":"'[1]Survivalexp RAW Feb 2018'!AK175","v":{"$error":"#DIV/0!"}},{"$f":"'[1]Survivalexp RAW Feb 2018'!AR175","v":{"v":17.59171280446823,"d":"18"}},{"$f":"'[1]Survivalexp RAW Feb 2018'!AY175","v":{"v":7.863829360025251,"d":"8"}},{"$f":"'[1]Survivalexp RAW Feb 2018'!BF175","v":{"v":2.1783008130339496,"d":"2"}},null,null,{"$f":"'[1]Survivalexp RAW Feb 2018'!I213","v":{"$error":"#DIV/0!"}},{"$f":"'[1]Survivalexp RAW Feb 2018'!P213","v":{"$error":"#DIV/0!"}},{"$f":"'[1]Survivalexp RAW Feb 2018'!W213","v":{"$error":"#DIV/0!"}},{"$f":"'[1]Survivalexp RAW Feb 2018'!AD213","v":{"$error":"#DIV/0!"}},{"$f":"'[1]Survivalexp RAW Feb 2018'!AK213","v":0},{"$f":"'[1]Survivalexp RAW Feb 2018'!AR213","v":0},{"$f":"'[1]Survivalexp RAW Feb 2018'!AY213","v":0},{"$f":"'[1]Survivalexp RAW Feb 2018'!BF213","v":0}]
[null,"est. nr of bacteria",null,{"$f":"D13/$D$8","v":{"$error":"#DIV/0!"}},{"$f":"E13/$E$8","v":{"$error":"#DIV/0!"}},{"$f":"F13/$F$8","v":{"$error":"#DIV/0!"}},{"$f":"G13/$G$8","v":{"$error":"#DIV/0!"}},{"$f":"H13/$H$8","v":{"$error":"#DIV/0!"}},{"$f":"I13/$I$8","v":6893333.333333332},{"$f":"J13/$J$8","v":9800000},{"$f":"K13/$K$8","v":{"v":9333333.333333336,"d":"9E+06"}},{"$f":"I15","v":{"v":6893333.333333332,"d":"6893333"}},{"$f":"I16","v":1960265.4586439994},{"$f":"N13/$D$8","v":{"$error":"#DIV/0!"}},{"$f":"O13/$E$8","v":{"$error":"#DIV/0!"}},{"$f":"P13/$F$8","v":{"$error":"#DIV/0!"}},{"$f":"Q13/$G$8","v":{"$error":"#DIV/0!"}},{"$f":"R13/$H$8","v":{"$error":"#DIV/0!"}},{"$f":"S13/$I$8","v":4593333.333333333},{"$f":"T13/$J$8","v":4800000.000000001},{"$f":"U13/$K$8","v":8666666.666666666},{"$f":"S15","v":4593333.333333333},{"$f":"S16","v":1696763.0499694678},{"$f":"X13/$D$8","v":{"$error":"#DIV/0!"}},{"$f":"Y13/$E$8","v":{"$error":"#DIV/0!"}},{"$f":"Z13/$F$8","v":{"$error":"#DIV/0!"}},{"$f":"AA13/$G$8","v":{"$error":"#DIV/0!"}},{"$f":"AB13/$H$8","v":{"v":2420666.666666667,"d":"2E+06"}},{"$f":"AC13/$I$8","v":4453333.333333333},{"$f":"AD13/$J$8","v":5200000},{"$f":"AE13/$K$8","v":3333333.3333333335},{"$f":"AB15","v":2420666.666666667},{"$f":"AB16","v":{"$error":"#DIV/0!"}},{"$f":"AH13/$D$8","v":{"$error":"#DIV/0!"}},{"$f":"AI13/$E$8","v":{"$error":"#DIV/0!"}},{"$f":"AJ13/$F$8","v":{"$error":"#DIV/0!"}},{"$f":"AK13/$G$8","v":{"$error":"#DIV/0!"}},{"$f":"AL13/$H$8","v":2622666.6666666665},{"$f":"AM13/$I$8","v":5580000},{"$f":"AN13/$J$8","v":4466666.666666667},{"$f":"AO13/$K$8","v":5333333.333333334},{"$f":"AL15","v":2622666.6666666665},{"$f":"AL16","v":785328.9948190921},{"$f":"AR13/$D$8","v":{"$error":"#DIV/0!"}},{"$f":"AS13/$E$8","v":{"$error":"#DIV/0!"}},{"$f":"AT13/$F$8","v":{"$error":"#DIV/0!"}},{"$f":"AU13/$G$8","v":{"$error":"#DIV/0!"}},{"$f":"AV13/$H$8","v":{"$error":"#DIV/0!"}},{"$f":"AW13/$I$8","v":4460000},{"$f":"AX13/$J$8","v":6933333.333333334},{"$f":"AY13/$K$8","v":5333333.333333334},{"$f":"AW15","v":4460000},{"$f":"AW16","v":1759171.2804468228},{"$f":"BB13/$D$8","v":{"$error":"#DIV/0!"}},{"$f":"BC13/$E$8","v":{"$error":"#DIV/0!"}},{"$f":"BD13/$F$8","v":{"$error":"#DIV/0!"}},{"$f":"BE13/$G$8","v":{"$error":"#DIV/0!"}},{"$f":"BF13/$H$8","v":0},{"$f":"BG13/$I$8","v":0},{"$f":"BH13/$J$8","v":0},{"$f":"BI13/$K$8","v":0},{"$f":"BE15","v":{"$error":"#DIV/0!"}},{"$f":"BE16","v":{"$error":"#DIV/0!"}}]
[null,null,"stdev",{"$f":"D14/$D$8","v":{"$error":"#DIV/0!"}},{"$f":"E14/$E$8","v":{"$error":"#DIV/0!"}},{"$f":"F14/$F$8","v":{"$error":"#DIV/0!"}},{"$f":"G14/$G$8","v":{"$error":"#DIV/0!"}},{"$f":"H14/$H$8","v":{"$error":"#DIV/0!"}},{"$f":"I14/$I$8","v":1960265.4586439994},{"$f":"J14/$J$8","v":9161041.28505555},{"$f":"K14/$K$8","v":19898723.06010248},null,null,{"$f":"N14/$D$8","v":{"$error":"#DIV/0!"}},{"$f":"O14/$E$8","v":{"$error":"#DIV/0!"}},{"$f":"P14/$F$8","v":{"$error":"#DIV/0!"}},{"$f":"Q14/$G$8","v":{"$error":"#DIV/0!"}},{"$f":"R14/$H$8","v":{"$error":"#DIV/0!"}},{"$f":"S14/$I$8","v":1696763.0499694678},{"$f":"T14/$J$8","v":7458235.377198097},{"$f":"U14/$K$8","v":29898723.06010248},null,null,{"$f":"X14/$D$8","v":{"$error":"#DIV/0!"}},{"$f":"Y14/$E$8","v":{"$error":"#DIV/0!"}},{"$f":"Z14/$F$8","v":{"$error":"#DIV/0!"}},{"$f":"AA14/$G$8","v":{"$error":"#DIV/0!"}},{"$f":"AB14/$H$8","v":{"$error":"#DIV/0!"}},{"$f":"AC14/$I$8","v":2326173.656596565},{"$f":"AD14/$J$8","v":7803855.522744396},{"$f":"AE14/$K$8","v":10954451.150103321},null,null,{"$f":"AH14/$D$8","v":{"$error":"#DIV/0!"}},{"$f":"AI14/$E$8","v":{"$error":"#DIV/0!"}},{"$f":"AJ14/$F$8","v":{"$error":"#DIV/0!"}},{"$f":"AK14/$G$8","v":{"$error":"#DIV/0!"}},{"$f":"AL14/$H$8","v":785328.9948190921},{"$f":"AM14/$I$8","v":2271691.237881178},{"$f":"AN14/$J$8","v":7640330.330562046},{"$f":"AO14/$K$8","v":18893633.4400504},null,null,{"$f":"AR14/$D$8","v":{"$error":"#DIV/0!"}},{"$f":"AS14/$E$8","v":{"$error":"#DIV/0!"}},{"$f":"AT14/$F$8","v":{"$error":"#DIV/0!"}},{"$f":"AU14/$G$8","v":{"$error":"#DIV/0!"}},{"$f":"AV14/$H$8","v":{"$error":"#DIV/0!"}},{"$f":"AW14/$I$8","v":1759171.2804468228},{"$f":"AX14/$J$8","v":7863829.360025251},{"$f":"AY14/$K$8","v":21783008.130339496},null,null,{"$f":"BB14/$D$8","v":{"$error":"#DIV/0!"}},{"$f":"BC14/$E$8","v":{"$error":"#DIV/0!"}},{"$f":"BD14/$F$8","v":{"$error":"#DIV/0!"}},{"$f":"BE14/$G$8","v":{"$error":"#DIV/0!"}},{"$f":"BF14/$H$8","v":0},{"$f":"BG14/$I$8","v":0},{"$f":"BH14/$J$8","v":0},{"$f":"BI14/$K$8","v":0}]
[null,"2213F - ","p+0",{"$f":"'[1]Survivalexp RAW Feb 2018'!I23","v":{"$error":"#DIV/0!"}},{"$f":"'[1]Survivalexp RAW Feb 2018'!P23","v":{"$error":"#DIV/0!"}},{"$f":"'[1]Survivalexp RAW Feb 2018'!W23","v":{"$error":"#DIV/0!"}},{"$f":"'[1]Survivalexp RAW Feb 2018'!AD23","v":{"$error":"#DIV/0!"}},{"$f":"'[1]Survivalexp RAW Feb 2018'!AK23","v":{"$error":"#DIV/0!"}},{"$f":"'[1]Survivalexp RAW Feb 2018'!AR23","v":60},{"$f":"'[1]Survivalexp RAW Feb 2018'!AY23","v":{"v":10.200000000000001,"d":"10"}},{"$f":"'[1]Survivalexp RAW Feb 2018'!BF23","v":{"v":1.3333333333333333,"d":"1"}},null,null,{"$f":"'[1]Survivalexp RAW Feb 2018'!I62","v":{"$error":"#DIV/0!"}},{"$f":"'[1]Survivalexp RAW Feb 2018'!P62","v":{"$error":"#DIV/0!"}},{"$f":"'[1]Survivalexp RAW Feb 2018'!W62","v":{"$error":"#DIV/0!"}},{"$f":"'[1]Survivalexp RAW Feb 2018'!AD62","v":{"$error":"#DIV/0!"}},{"$f":"'[1]Survivalexp RAW Feb 2018'!AK62","v":{"v":25.866666666666664,"d":"26"}},{"$f":"'[1]Survivalexp RAW Feb 2018'!AR62","v":{"v":4.066666666666666,"d":"4"}},{"$f":"'[1]Survivalexp RAW Feb 2018'!AY62","v":{"v":0.4666666666666666,"d":"0"}},{"$f":"'[1]Survivalexp RAW Feb 2018'!BF62","v":0},null,null,{"$f":"'[1]Survivalexp RAW Feb 2018'!I101","v":{"$error":"#DIV/0!"}},{"$f":"'[1]Survivalexp RAW Feb 2018'!P101","v":{"$error":"#DIV/0!"}},{"$f":"'[1]Survivalexp RAW Feb 2018'!W101","v":{"v":35.93333333333333,"d":"36"}},{"$f":"'[1]Survivalexp RAW Feb 2018'!AD101","v":{"v":3.733333333333334,"d":"4"}},{"$f":"'[1]Survivalexp RAW Feb 2018'!AK101","v":{"v":0.26666666666666666,"d":"0"}},{"$f":"'[1]Survivalexp RAW Feb 2018'!AR101","v":0},{"$f":"'[1]Survivalexp RAW Feb 2018'!AY101","v":0},{"$f":"'[1]Survivalexp RAW Feb 2018'!BF101","v":0},null,null,{"$f":"'[1]Survivalexp RAW Feb 2018'!I140","v":{"$error":"#DIV/0!"}},{"$f":"'[1]Survivalexp RAW Feb 2018'!P140","v":{"v":69.53333333333333,"d":"70"}},{"$f":"'[1]Survivalexp RAW Feb 2018'!W140","v":{"v":8.6,"d":"9"}},{"$f":"'[1]Survivalexp RAW Feb 2018'!AD140","v":{"v":0.4666666666666666,"d":"0"}},{"$f":"'[1]Survivalexp RAW Feb 2018'!AK140","v":0},{"$f":"'[1]Survivalexp RAW Feb 2018'!AR140","v":0},{"$f":"'[1]Survivalexp RAW Feb 2018'!AY140","v":0},{"$f":"'[1]Survivalexp RAW Feb 2018'!BF140","v":0},null,null,{"$f":"'[1]Survivalexp RAW Feb 2018'!I179","v":{"$error":"#DIV/0!"}},{"$f":"'[1]Survivalexp RAW Feb 2018'!P179","v":{"v":28.6,"d":"29"}},{"$f":"'[1]Survivalexp RAW Feb 2018'!W179","v":{"v":1.4666666666666668,"d":"1"}},{"$f":"'[1]Survivalexp RAW Feb 2018'!AD179","v":{"v":0.13333333333333333,"d":"0"}},{"$f":"'[1]Survivalexp RAW Feb 2018'!AK179","v":0},{"$f":"'[1]Survivalexp RAW Feb 2018'!AR179","v":0},{"$f":"'[1]Survivalexp RAW Feb 2018'!AY179","v":0},{"$f":"'[1]Survivalexp RAW Feb 2018'!BF179","v":0},null,null,{"$f":"'[1]Survivalexp RAW Feb 2018'!I217","v":{"$error":"#DIV/0!"}},{"$f":"'[1]Survivalexp RAW Feb 2018'!P217","v":{"$error":"#DIV/0!"}},{"$f":"'[1]Survivalexp RAW Feb 2018'!W217","v":0},{"$f":"'[1]Survivalexp RAW Feb 2018'!AD217","v":0},{"$f":"'[1]Survivalexp RAW Feb 2018'!AK217","v":0},{"$f":"'[1]Survivalexp RAW Feb 2018'!AR217","v":0},{"$f":"'[1]Survivalexp RAW Feb 2018'!AY217","v":0},{"$f":"'[1]Survivalexp RAW Feb 2018'!BF217","v":0}]
[null,null,"stdev",{"$f":"'[1]Survivalexp RAW Feb 2018'!I24","v":{"$error":"#DIV/0!"}},{"$f":"'[1]Survivalexp RAW Feb 2018'!P24","v":{"$error":"#DIV/0!"}},{"$f":"'[1]Survivalexp RAW Feb 2018'!W24","v":{"$error":"#DIV/0!"}},{"$f":"'[1]Survivalexp RAW Feb 2018'!AD24","v":{"$error":"#DIV/0!"}},{"$f":"'[1]Survivalexp RAW Feb 2018'!AK24","v":{"$error":"#DIV/0!"}},{"$f":"'[1]Survivalexp RAW Feb 2018'!AR24","v":{"v":26.685469548318558,"d":"27"}},{"$f":"'[1]Survivalexp RAW Feb 2018'!AY24","v":{"v":9.897600353918012,"d":"10"}},{"$f":"'[1]Survivalexp RAW Feb 2018'!BF24","v":{"v":3.615741446183243,"d":"4"}},null,null,{"$f":"'[1]Survivalexp RAW Feb 2018'!I63","v":{"$error":"#DIV/0!"}},{"$f":"'[1]Survivalexp RAW Feb 2018'!P63","v":{"$error":"#DIV/0!"}},{"$f":"'[1]Survivalexp RAW Feb 2018'!W63","v":{"$error":"#DIV/0!"}},{"$f":"'[1]Survivalexp RAW Feb 2018'!AD63","v":{"$error":"#DIV/0!"}},{"$f":"'[1]Survivalexp RAW Feb 2018'!AK63","v":{"v":10.387218481080533,"d":"10"}},{"$f":"'[1]Survivalexp RAW Feb 2018'!AR63","v":{"v":4.2598819543041575,"d":"4"}},{"$f":"'[1]Survivalexp RAW Feb 2018'!AY63","v":{"v":1.2838736220340334,"d":"1"}},{"$f":"'[1]Survivalexp RAW Feb 2018'!BF63","v":0},null,null,{"$f":"'[1]Survivalexp RAW Feb 2018'!I102","v":{"$error":"#DIV/0!"}},{"$f":"'[1]Survivalexp RAW Feb 2018'!P102","v":{"$error":"#DIV/0!"}},{"$f":"'[1]Survivalexp RAW Feb 2018'!W102","v":{"v":17.172100779377704,"d":"17"}},{"$f":"'[1]Survivalexp RAW Feb 2018'!AD102","v":{"v":5.672257739770606,"d":"6"}},{"$f":"'[1]Survivalexp RAW Feb 2018'!AK102","v":{"v":1.442149748505082,"d":"1"}},{"$f":"'[1]Survivalexp RAW Feb 2018'!AR102","v":0},{"$f":"'[1]Survivalexp RAW Feb 2018'!AY102","v":0},{"$f":"'[1]Survivalexp RAW Feb 2018'!BF102","v":0},null,null,{"$f":"'[1]Survivalexp RAW Feb 2018'!I141","v":{"$error":"#DIV/0!"}},{"$f":"'[1]Survivalexp RAW Feb 2018'!P141","v":{"v":24.993248812212457,"d":"25"}},{"$f":"'[1]Survivalexp RAW Feb 2018'!W141","v":{"v":9.838307051049638,"d":"10"}},{"$f":"'[1]Survivalexp RAW Feb 2018'!AD141","v":{"v":1.7510540765404876,"d":"2"}},{"$f":"'[1]Survivalexp RAW Feb 2018'!AK141","v":0},{"$f":"'[1]Survivalexp RAW Feb 2018'!AR141","v":0},{"$f":"'[1]Survivalexp RAW Feb 2018'!AY141","v":0},{"$f":"'[1]Survivalexp RAW Feb 2018'!BF141","v":0},null,null,{"$f":"'[1]Survivalexp RAW Feb 2018'!I180","v":{"$error":"#DIV/0!"}},{"$f":"'[1]Survivalexp RAW Feb 2018'!P180","v":{"v":4.827007354458863,"d":"5"}},{"$f":"'[1]Survivalexp RAW Feb 2018'!W180","v":{"v":1.5165750888103104,"d":"2"}},{"$f":"'[1]Survivalexp RAW Feb 2018'!AD180","v":{"v":0.5477225575051661,"d":"1"}},{"$f":"'[1]Survivalexp RAW Feb 2018'!AK180","v":0},{"$f":"'[1]Survivalexp RAW Feb 2018'!AR180","v":0},{"$f":"'[1]Survivalexp RAW Feb 2018'!AY180","v":0},{"$f":"'[1]Survivalexp RAW Feb 2018'!BF180","v":0},null,null,{"$f":"'[1]Survivalexp RAW Feb 2018'!I218","v":{"$error":"#DIV/0!"}},{"$f":"'[1]Survivalexp RAW Feb 2018'!P218","v":{"$error":"#DIV/0!"}},{"$f":"'[1]Survivalexp RAW Feb 2018'!W218","v":0},{"$f":"'[1]Survivalexp RAW Feb 2018'!AD218","v":0},{"$f":"'[1]Survivalexp RAW Feb 2018'!AK218","v":0},{"$f":"'[1]Survivalexp RAW Feb 2018'!AR218","v":0},{"$f":"'[1]Survivalexp RAW Feb 2018'!AY218","v":0},{"$f":"'[1]Survivalexp RAW Feb 2018'!BF218","v":0}]
[null,"est. nr of bacteria",null,{"$f":"D17/$D$8","v":{"$error":"#DIV/0!"}},{"$f":"E17/$E$8","v":{"$error":"#DIV/0!"}},{"$f":"F17/$F$8","v":{"$error":"#DIV/0!"}},{"$f":"G17/$G$8","v":{"$error":"#DIV/0!"}},{"$f":"H17/$H$8","v":{"$error":"#DIV/0!"}},{"$f":"I17/$I$8","v":5999999.999999999},{"$f":"J17/$J$8","v":10200000.000000002},{"$f":"K17/$K$8","v":13333333.333333334},{"$f":"I19","v":5999999.999999999},{"$f":"I20","v":2668546.9548318554},{"$f":"N17/$D$8","v":{"$error":"#DIV/0!"}},{"$f":"O17/$E$8","v":{"$error":"#DIV/0!"}},{"$f":"P17/$F$8","v":{"$error":"#DIV/0!"}},{"$f":"Q17/$G$8","v":{"$error":"#DIV/0!"}},{"$f":"R17/$H$8","v":258666.66666666663},{"$f":"S17/$I$8","v":406666.6666666666},{"$f":"T17/$J$8","v":466666.6666666666},{"$f":"U17/$K$8","v":0},{"$f":"AVERAGE(R19)","v":258666.66666666663},{"$f":"R20","v":103872.18481080532},{"$f":"X17/$D$8","v":{"$error":"#DIV/0!"}},{"$f":"Y17/$E$8","v":{"$error":"#DIV/0!"}},{"$f":"Z17/$F$8","v":{"v":3593.333333333333,"d":"4E+03"}},{"$f":"AA17/$G$8","v":{"v":3733.333333333334,"d":"4E+03"}},{"$f":"AB17/$H$8","v":{"v":2666.6666666666665,"d":"3E+03"}},{"$f":"AC17/$I$8","v":{"v":0,"d":"0E+00"}},{"$f":"AD17/$J$8","v":{"v":0,"d":"0E+00"}},{"$f":"AE17/$K$8","v":{"v":0,"d":"0E+00"}},{"$f":"Z19","v":{"v":3593.333333333333,"d":"4E+03"}},{"$f":"Z20","v":{"v":1717.2100779377704,"d":"2E+03"}},{"$f":"AH17/$D$8","v":{"$error":"#DIV/0!"}},{"$f":"AI17/$E$8","v":695.3333333333333},{"$f":"AJ17/$F$8","v":860},{"$f":"AK17/$G$8","v":466.66666666666663},{"$f":"AL17/$H$8","v":0},{"$f":"AM17/$I$8","v":0},{"$f":"AN17/$J$8","v":0},{"$f":"AO17/$K$8","v":0},{"$f":"AI19","v":695.3333333333333},{"$f":"AI20","v":249.93248812212457},{"$f":"AR17/$D$8","v":{"$error":"#DIV/0!"}},{"$f":"AS17/$E$8","v":286},{"$f":"AT17/$F$8","v":146.66666666666669},{"$f":"AU17/$G$8","v":133.33333333333334},{"$f":"AV17/$H$8","v":0},{"$f":"AW17/$I$8","v":0},{"$f":"AX17/$J$8","v":0},{"$f":"AY17/$K$8","v":0},{"$f":"AS19","v":286},{"$f":"AS20","v":48.27007354458863},{"$f":"BB17/$D$8","v":{"$error":"#DIV/0!"}},{"$f":"BC17/$E$8","v":{"$error":"#DIV/0!"}},{"$f":"BD17/$F$8","v":0},{"$f":"BE17/$G$8","v":0},{"$f":"BF17/$H$8","v":0},{"$f":"BG17/$I$8","v":0},{"$f":"BH17/$J$8","v":0},{"$f":"BI17/$K$8","v":0},{"$f":"BE19","v":0},{"$f":"BE20","v":0}]
[null,null,"stdev",{"$f":"D18/$D$8","v":{"$error":"#DIV/0!"}},{"$f":"E18/$E$8","v":{"$error":"#DIV/0!"}},{"$f":"F18/$F$8","v":{"$error":"#DIV/0!"}},{"$f":"G18/$G$8","v":{"$error":"#DIV/0!"}},{"$f":"H18/$H$8","v":{"$error":"#DIV/0!"}},{"$f":"I18/$I$8","v":2668546.9548318554},9897600.353918012,{"$f":"K18/$K$8","v":36157414.461832434},null,null,{"$f":"N18/$D$8","v":{"$error":"#DIV/0!"}},{"$f":"O18/$E$8","v":{"$error":"#DIV/0!"}},{"$f":"P18/$F$8","v":{"$error":"#DIV/0!"}},{"$f":"Q18/$G$8","v":{"$error":"#DIV/0!"}},{"$f":"R18/$H$8","v":103872.18481080532},{"$f":"S18/$I$8","v":425988.19543041574},1283873.6220340335,{"$f":"U18/$K$8","v":0},null,null,{"$f":"X17/$D$8","v":{"$error":"#DIV/0!"}},{"$f":"Y17/$E$8","v":{"$error":"#DIV/0!"}},{"$f":"Z18/$F$8","v":{"v":1717.2100779377704,"d":"2E+03"}},{"$f":"AA18/$G$8","v":{"v":5672.257739770605,"d":"6E+03"}},{"$f":"AB18/$H$8","v":{"v":14421.49748505082,"d":"1E+04"}},{"$f":"AC18/$I$8","v":{"v":0,"d":"0E+00"}},{"$f":"AD18/$J$8","v":{"v":0,"d":"0E+00"}},{"$f":"AE18/$K$8","v":{"v":0,"d":"0E+00"}},null,null,{"$f":"AH18/$D$8","v":{"$error":"#DIV/0!"}},{"$f":"AI18/$E$8","v":249.93248812212457},{"$f":"AJ18/$F$8","v":983.8307051049637},{"$f":"AK18/$G$8","v":1751.0540765404876},{"$f":"AL18/$H$8","v":0},{"$f":"AM18/$I$8","v":0},0,{"$f":"AO18/$K$8","v":0},null,null,{"$f":"AR18/$D$8","v":{"$error":"#DIV/0!"}},{"$f":"AS18/$E$8","v":48.27007354458863},{"$f":"AT18/$F$8","v":151.65750888103105},{"$f":"AU18/$G$8","v":547.722557505166},{"$f":"AV18/$H$8","v":0},{"$f":"AW18/$I$8","v":0},0,{"$f":"AY18/$K$8","v":0},null,null,{"$f":"BB18/$D$8","v":{"$error":"#DIV/0!"}},{"$f":"BC18/$E$8","v":{"$error":"#DIV/0!"}},{"$f":"BD18/$F$8","v":0},{"$f":"BE18/$G$8","v":0},{"$f":"BF18/$H$8","v":0},{"$f":"BG18/$I$8","v":0},0,{"$f":"BI18/$K$8","v":0}]
[null,"2213F A","p+0",{"$f":"'[1]Survivalexp RAW Feb 2018'!I28","v":{"$error":"#DIV/0!"}},{"$f":"'[1]Survivalexp RAW Feb 2018'!P28","v":{"$error":"#DIV/0!"}},{"$f":"'[1]Survivalexp RAW Feb 2018'!W28","v":{"$error":"#DIV/0!"}},{"$f":"'[1]Survivalexp RAW Feb 2018'!AD28","v":{"$error":"#DIV/0!"}},{"$f":"'[1]Survivalexp RAW Feb 2018'!AK28","v":{"$error":"#DIV/0!"}},{"$f":"'[1]Survivalexp RAW Feb 2018'!AR28","v":{"v":55.46666666666667,"d":"55"}},{"$f":"'[1]Survivalexp RAW Feb 2018'!AY28","v":{"v":9.066666666666668,"d":"9"}},{"$f":"'[1]Survivalexp RAW Feb 2018'!BF28","v":{"v":0.8666666666666667,"d":"1"}},null,null,{"$f":"'[1]Survivalexp RAW Feb 2018'!I67","v":{"$error":"#DIV/0!"}},{"$f":"'[1]Survivalexp RAW Feb 2018'!P67","v":{"$error":"#DIV/0!"}},{"$f":"'[1]Survivalexp RAW Feb 2018'!W67","v":{"$error":"#DIV/0!"}},{"$f":"'[1]Survivalexp RAW Feb 2018'!AD67","v":{"$error":"#DIV/0!"}},{"$f":"'[1]Survivalexp RAW Feb 2018'!AK67","v":{"$error":"#DIV/0!"}},{"$f":"'[1]Survivalexp RAW Feb 2018'!AR67","v":{"v":8.066666666666668,"d":"8"}},{"$f":"'[1]Survivalexp RAW Feb 2018'!AY67","v":{"v":1.4000000000000001,"d":"1"}},{"$f":"'[1]Survivalexp RAW Feb 2018'!BF67","v":{"v":0.06666666666666667,"d":"0"}},null,null,{"$f":"'[1]Survivalexp RAW Feb 2018'!I106","v":{"$error":"#DIV/0!"}},{"$f":"'[1]Survivalexp RAW Feb 2018'!P106","v":{"$error":"#DIV/0!"}},{"$f":"'[1]Survivalexp RAW Feb 2018'!W106","v":{"v":18.599999999999998,"d":"19"}},{"$f":"'[1]Survivalexp RAW Feb 2018'!AD106","v":{"v":2.8000000000000003,"d":"3"}},{"$f":"'[1]Survivalexp RAW Feb 2018'!AK106","v":0},{"$f":"'[1]Survivalexp RAW Feb 2018'!AR106","v":0},{"$f":"'[1]Survivalexp RAW Feb 2018'!AY106","v":0},{"$f":"'[1]Survivalexp RAW Feb 2018'!BF106","v":0},null,null,{"$f":"'[1]Survivalexp RAW Feb 2018'!I145","v":{"$error":"#DIV/0!"}},{"$f":"'[1]Survivalexp RAW Feb 2018'!P145","v":{"v":57.199999999999996,"d":"57"}},{"$f":"'[1]Survivalexp RAW Feb 2018'!W145","v":{"v":7.466666666666668,"d":"7"}},{"$f":"'[1]Survivalexp RAW Feb 2018'!AD145","v":{"v":0.8000000000000002,"d":"1"}},{"$f":"'[1]Survivalexp RAW Feb 2018'!AK145","v":{"v":0.13333333333333333,"d":"0"}},{"$f":"'[1]Survivalexp RAW Feb 2018'!AR145","v":{"v":0.06666666666666667,"d":"0"}},{"$f":"'[1]Survivalexp RAW Feb 2018'!AY145","v":0},{"$f":"'[1]Survivalexp RAW Feb 2018'!BF145","v":0},null,null,{"$f":"'[1]Survivalexp RAW Feb 2018'!I184","v":{"$error":"#DIV/0!"}},{"$f":"'[1]Survivalexp RAW Feb 2018'!P184","v":{"v":43.06666666666667,"d":"43"}},{"$f":"'[1]Survivalexp RAW Feb 2018'!W184","v":{"v":5.866666666666667,"d":"6"}},{"$f":"'[1]Survivalexp RAW Feb 2018'!AD184","v":{"v":0.26666666666666666,"d":"0"}},{"$f":"'[1]Survivalexp RAW Feb 2018'!AK184","v":0},{"$f":"'[1]Survivalexp RAW Feb 2018'!AR184","v":0},{"$f":"'[1]Survivalexp RAW Feb 2018'!AY184","v":0},{"$f":"'[1]Survivalexp RAW Feb 2018'!BF184","v":0},null,null,{"$f":"'[1]Survivalexp RAW Feb 2018'!I222","v":{"$error":"#DIV/0!"}},{"$f":"'[1]Survivalexp RAW Feb 2018'!P222","v":{"$error":"#DIV/0!"}},{"$f":"'[1]Survivalexp RAW Feb 2018'!W222","v":0},{"$f":"'[1]Survivalexp RAW Feb 2018'!AD222","v":0},{"$f":"'[1]Survivalexp RAW Feb 2018'!AK222","v":0},{"$f":"'[1]Survivalexp RAW Feb 2018'!AR222","v":0},{"$f":"'[1]Survivalexp RAW Feb 2018'!AY222","v":0},{"$f":"'[1]Survivalexp RAW Feb 2018'!BF222","v":0}]
[null,null,"stdev",{"$f":"'[1]Survivalexp RAW Feb 2018'!I29","v":{"$error":"#DIV/0!"}},{"$f":"'[1]Survivalexp RAW Feb 2018'!P29","v":{"$error":"#DIV/0!"}},{"$f":"'[1]Survivalexp RAW Feb 2018'!W29","v":{"$error":"#DIV/0!"}},{"$f":"'[1]Survivalexp RAW Feb 2018'!AD29","v":{"$error":"#DIV/0!"}},{"$f":"'[1]Survivalexp RAW Feb 2018'!AK29","v":{"$error":"#DIV/0!"}},{"$f":"'[1]Survivalexp RAW Feb 2018'!AR29","v":{"v":14.443928657058883,"d":"14"}},{"$f":"'[1]Survivalexp RAW Feb 2018'!AY29","v":{"v":6.154401063111184,"d":"6"}},{"$f":"'[1]Survivalexp RAW Feb 2018'!BF29","v":{"v":2.308640753373011,"d":"2"}},null,null,{"$f":"'[1]Survivalexp RAW Feb 2018'!I68","v":{"$error":"#DIV/0!"}},{"$f":"'[1]Survivalexp RAW Feb 2018'!P68","v":{"$error":"#DIV/0!"}},{"$f":"'[1]Survivalexp RAW Feb 2018'!W68","v":{"$error":"#DIV/0!"}},{"$f":"'[1]Survivalexp RAW Feb 2018'!AD68","v":{"$error":"#DIV/0!"}},{"$f":"'[1]Survivalexp RAW Feb 2018'!AK68","v":{"$error":"#DIV/0!"}},{"$f":"'[1]Survivalexp RAW Feb 2018'!AR68","v":{"v":2.567747244068067,"d":"3"}},{"$f":"'[1]Survivalexp RAW Feb 2018'!AY68","v":{"v":2.028352425584148,"d":"2"}},{"$f":"'[1]Survivalexp RAW Feb 2018'!BF68","v":{"v":0.4472135954999579,"d":"0"}},null,null,{"$f":"'[1]Survivalexp RAW Feb 2018'!I107","v":{"$error":"#DIV/0!"}},{"$f":"'[1]Survivalexp RAW Feb 2018'!P107","v":{"$error":"#DIV/0!"}},{"$f":"'[1]Survivalexp RAW Feb 2018'!W107","v":{"v":9.396226538889554,"d":"9"}},{"$f":"'[1]Survivalexp RAW Feb 2018'!AD107","v":{"v":4.688247591638192,"d":"5"}},{"$f":"'[1]Survivalexp RAW Feb 2018'!AK107","v":0},{"$f":"'[1]Survivalexp RAW Feb 2018'!AR107","v":0},{"$f":"'[1]Survivalexp RAW Feb 2018'!AY107","v":0},{"$f":"'[1]Survivalexp RAW Feb 2018'!BF107","v":0},null,null,{"$f":"'[1]Survivalexp RAW Feb 2018'!I146","v":{"$error":"#DIV/0!"}},{"$f":"'[1]Survivalexp RAW Feb 2018'!P146","v":{"v":16.7609956662134,"d":"17"}},{"$f":"'[1]Survivalexp RAW Feb 2018'!W146","v":{"v":6.11626060747146,"d":"6"}},{"$f":"'[1]Survivalexp RAW Feb 2018'!AD146","v":{"v":1.6015339721864634,"d":"2"}},{"$f":"'[1]Survivalexp RAW Feb 2018'!AK146","v":{"v":0.5477225575051661,"d":"1"}},{"$f":"'[1]Survivalexp RAW Feb 2018'!AR146","v":{"v":0.4472135954999579,"d":"0"}},{"$f":"'[1]Survivalexp RAW Feb 2018'!AY146","v":0},{"$f":"'[1]Survivalexp RAW Feb 2018'!BF146","v":0},null,null,{"$f":"'[1]Survivalexp RAW Feb 2018'!I185","v":{"$error":"#DIV/0!"}},{"$f":"'[1]Survivalexp RAW Feb 2018'!P185","v":{"v":23.76296948330829,"d":"24"}},{"$f":"'[1]Survivalexp RAW Feb 2018'!W185","v":{"v":5.098724651181285,"d":"5"}},{"$f":"'[1]Survivalexp RAW Feb 2018'!AD185","v":{"v":0.994936153005124,"d":"1"}},{"$f":"'[1]Survivalexp RAW Feb 2018'!AK185","v":0},{"$f":"'[1]Survivalexp RAW Feb 2018'!AR185","v":0},{"$f":"'[1]Survivalexp RAW Feb 2018'!AY185","v":0},{"$f":"'[1]Survivalexp RAW Feb 2018'!BF185","v":0},null,null,{"$f":"'[1]Survivalexp RAW Feb 2018'!I223","v":{"$error":"#DIV/0!"}},{"$f":"'[1]Survivalexp RAW Feb 2018'!P223","v":{"$error":"#DIV/0!"}},{"$f":"'[1]Survivalexp RAW Feb 2018'!W223","v":0},{"$f":"'[1]Survivalexp RAW Feb 2018'!AD223","v":0},{"$f":"'[1]Survivalexp RAW Feb 2018'!AK223","v":0},{"$f":"'[1]Survivalexp RAW Feb 2018'!AR223","v":0},{"$f":"'[1]Survivalexp RAW Feb 2018'!AY223","v":0},{"$f":"'[1]Survivalexp RAW Feb 2018'!BF223","v":0}]
[null,"est. nr of bacteria",null,{"$f":"D21/$D$8","v":{"$error":"#DIV/0!"}},{"$f":"E21/$E$8","v":{"$error":"#DIV/0!"}},{"$f":"F21/$F$8","v":{"$error":"#DIV/0!"}},{"$f":"G21/$G$8","v":{"$error":"#DIV/0!"}},{"$f":"H21/$H$8","v":{"$error":"#DIV/0!"}},{"$f":"I21/$I$8","v":5546666.666666666},{"$f":"J21/$J$8","v":9066666.666666668},{"$f":"K21/$K$8","v":8666666.666666668},{"$f":"I23","v":5546666.666666666},{"$f":"I24","v":1444392.8657058883},{"$f":"N21/$D$8","v":{"$error":"#DIV/0!"}},{"$f":"O21/$E$8","v":{"$error":"#DIV/0!"}},{"$f":"P21/$F$8","v":{"$error":"#DIV/0!"}},{"$f":"Q21/$G$8","v":{"$error":"#DIV/0!"}},{"$f":"R21/$H$8","v":{"$error":"#DIV/0!"}},{"$f":"S21/$I$8","v":806666.6666666667},{"$f":"T21/$J$8","v":1400000.0000000002},{"$f":"U21/$K$8","v":666666.6666666667},{"$f":"S23","v":806666.6666666667},{"$f":"S24","v":256774.72440680666},{"$f":"X21/$D$8","v":{"$error":"#DIV/0!"}},{"$f":"Y21/$E$8","v":{"$error":"#DIV/0!"}},{"$f":"Z21/$F$8","v":1859.9999999999998},{"$f":"AA21/$G$8","v":2800},{"$f":"AB21/$H$8","v":{"v":0,"d":"0E+00"}},{"$f":"AC21/$I$8","v":0},{"$f":"AD21/$J$8","v":0},{"$f":"AE21/$K$8","v":0},{"$f":"Z23","v":1859.9999999999998},{"$f":"Z24","v":939.6226538889554},{"$f":"AH21/$D$8","v":{"$error":"#DIV/0!"}},{"$f":"AI21/$E$8","v":571.9999999999999},{"$f":"AJ21/$F$8","v":746.6666666666667},{"$f":"AK21/$G$8","v":800.0000000000001},{"$f":"AL21/$H$8","v":1333.3333333333333},{"$f":"AM21/$I$8","v":6666.666666666666},{"$f":"AN21/$J$8","v":0},{"$f":"AO21/$K$8","v":0},{"$f":"AI23","v":571.9999999999999},{"$f":"AI24","v":167.60995666213398},{"$f":"AR21/$D$8","v":{"$error":"#DIV/0!"}},{"$f":"AS21/$E$8","v":430.6666666666667},{"$f":"AT21/$F$8","v":586.6666666666667},{"$f":"AU21/$G$8","v":266.6666666666667},{"$f":"AV21/$H$8","v":0},{"$f":"AW21/$I$8","v":0},{"$f":"AX21/$J$8","v":0},{"$f":"AY21/$K$8","v":0},{"$f":"AS23","v":430.6666666666667},{"$f":"AS24","v":237.62969483308288},{"$f":"BB21/$D$8","v":{"$error":"#DIV/0!"}},{"$f":"BC21/$E$8","v":{"$error":"#DIV/0!"}},{"$f":"BD21/$F$8","v":0},{"$f":"BE21/$G$8","v":0},{"$f":"BF21/$H$8","v":0},{"$f":"BG21/$I$8","v":0},{"$f":"BH21/$J$8","v":0},{"$f":"BI21/$K$8","v":0},{"$f":"BE23","v":0},{"$f":"BE24","v":0}]
[null,null,"stdev",{"$f":"D22/$D$8","v":{"$error":"#DIV/0!"}},{"$f":"E22/$E$8","v":{"$error":"#DIV/0!"}},{"$f":"F22/$F$8","v":{"$error":"#DIV/0!"}},{"$f":"G22/$G$8","v":{"$error":"#DIV/0!"}},{"$f":"H22/$H$8","v":{"$error":"#DIV/0!"}},{"$f":"I22/$I$8","v":1444392.8657058883},{"$f":"J22/$J$8","v":6154401.063111184},{"$f":"K22/$K$8","v":23086407.533730112},null,null,{"$f":"N22/$D$8","v":{"$error":"#DIV/0!"}},{"$f":"O22/$E$8","v":{"$error":"#DIV/0!"}},{"$f":"P22/$F$8","v":{"$error":"#DIV/0!"}},{"$f":"Q22/$G$8","v":{"$error":"#DIV/0!"}},{"$f":"R22/$H$8","v":{"$error":"#DIV/0!"}},{"$f":"S22/$I$8","v":256774.72440680666},{"$f":"T22/$J$8","v":2028352.425584148},{"$f":"U22/$K$8","v":4472135.954999579},null,null,{"$f":"X22/$D$8","v":{"$error":"#DIV/0!"}},{"$f":"Y22/$E$8","v":{"$error":"#DIV/0!"}},{"$f":"Z22/$F$8","v":939.6226538889554},{"$f":"AA22/$G$8","v":4688.247591638192},{"$f":"AB22/$H$8","v":0},{"$f":"AC22/$I$8","v":0},{"$f":"AD22/$J$8","v":0},{"$f":"AE22/$K$8","v":0},null,null,{"$f":"AH22/$D$8","v":{"$error":"#DIV/0!"}},{"$f":"AI22/$E$8","v":167.60995666213398},{"$f":"AJ22/$F$8","v":611.626060747146},{"$f":"AK22/$G$8","v":1601.5339721864634},{"$f":"AL22/$H$8","v":5477.225575051661},{"$f":"AM22/$I$8","v":44721.35954999579},{"$f":"AN22/$J$8","v":0},{"$f":"AO22/$K$8","v":0},null,null,{"$f":"AR22/$D$8","v":{"$error":"#DIV/0!"}},{"$f":"AS22/$E$8","v":237.62969483308288},{"$f":"AT22/$F$8","v":509.87246511812845},{"$f":"AU22/$G$8","v":994.936153005124},{"$f":"AV22/$H$8","v":0},{"$f":"AW22/$I$8","v":0},{"$f":"AX22/$J$8","v":0},{"$f":"AY22/$K$8","v":0},null,null,{"$f":"BB22/$D$8","v":{"$error":"#DIV/0!"}},{"$f":"BC22/$E$8","v":{"$error":"#DIV/0!"}},{"$f":"BD22/$F$8","v":0},{"$f":"BE22/$G$8","v":0},{"$f":"BF22/$H$8","v":0},{"$f":"BG22/$I$8","v":0},{"$f":"BH22/$J$8","v":0},{"$f":"BI22/$K$8","v":0}]
[null,null,"p+3",{"$f":"'[1]Survivalexp RAW Feb 2018'!I33","v":{"$error":"#DIV/0!"}},{"$f":"'[1]Survivalexp RAW Feb 2018'!P33","v":{"$error":"#DIV/0!"}},{"$f":"'[1]Survivalexp RAW Feb 2018'!W33","v":{"$error":"#DIV/0!"}},{"$f":"'[1]Survivalexp RAW Feb 2018'!AD33","v":{"$error":"#DIV/0!"}},{"$f":"'[1]Survivalexp RAW Feb 2018'!AK33","v":{"$error":"#DIV/0!"}},{"$f":"'[1]Survivalexp RAW Feb 2018'!AR33","v":{"$error":"#DIV/0!"}},{"$f":"'[1]Survivalexp RAW Feb 2018'!AY33","v":{"v":17.066666666666666,"d":"17"}},{"$f":"'[1]Survivalexp RAW Feb 2018'!BF33","v":2},null,null,{"$f":"'[1]Survivalexp RAW Feb 2018'!I72","v":{"$error":"#DIV/0!"}},{"$f":"'[1]Survivalexp RAW Feb 2018'!P72","v":{"$error":"#DIV/0!"}},{"$f":"'[1]Survivalexp RAW Feb 2018'!W72","v":{"$error":"#DIV/0!"}},{"$f":"'[1]Survivalexp RAW Feb 2018'!AD72","v":{"$error":"#DIV/0!"}},{"$f":"'[1]Survivalexp RAW Feb 2018'!AK72","v":{"v":29.066666666666666,"d":"29"}},{"$f":"'[1]Survivalexp RAW Feb 2018'!AR72","v":{"v":4.066666666666666,"d":"4"}},{"$f":"'[1]Survivalexp RAW Feb 2018'!AY72","v":{"v":0.06666666666666667,"d":"0"}},{"$f":"'[1]Survivalexp RAW Feb 2018'!BF72","v":{"v":0.06666666666666667,"d":"0"}},null,null,{"$f":"'[1]Survivalexp RAW Feb 2018'!I111","v":{"$error":"#DIV/0!"}},{"$f":"'[1]Survivalexp RAW Feb 2018'!P111","v":{"v":97.46666666666665,"d":"97"}},{"$f":"'[1]Survivalexp RAW Feb 2018'!W111","v":{"v":15.133333333333333,"d":"15"}},{"$f":"'[1]Survivalexp RAW Feb 2018'!AD111","v":{"v":1.9333333333333333,"d":"2"}},{"$f":"'[1]Survivalexp RAW Feb 2018'!AK111","v":{"v":0.06666666666666667,"d":"0"}},{"$f":"'[1]Survivalexp RAW Feb 2018'!AR111","v":0},{"$f":"'[1]Survivalexp RAW Feb 2018'!AY111","v":0},{"$f":"'[1]Survivalexp RAW Feb 2018'!BF111","v":0},null,null,{"$f":"'[1]Survivalexp RAW Feb 2018'!I150","v":{"$error":"#DIV/0!"}},{"$f":"'[1]Survivalexp RAW Feb 2018'!P150","v":{"v":25.46666666666667,"d":"25"}},{"$f":"'[1]Survivalexp RAW Feb 2018'!W150","v":{"v":2.3333333333333335,"d":"2"}},{"$f":"'[1]Survivalexp RAW Feb 2018'!AD150","v":0},{"$f":"'[1]Survivalexp RAW Feb 2018'!AK150","v":0},{"$f":"'[1]Survivalexp RAW Feb 2018'!AR150","v":0},{"$f":"'[1]Survivalexp RAW Feb 2018'!AY150","v":0},{"$f":"'[1]Survivalexp RAW Feb 2018'!BF150","v":0},null,null,{"$f":"'[1]Survivalexp RAW Feb 2018'!I189","v":{"$error":"#DIV/0!"}},{"$f":"'[1]Survivalexp RAW Feb 2018'!P189","v":{"v":17.066666666666666,"d":"17"}},{"$f":"'[1]Survivalexp RAW Feb 2018'!W189","v":{"v":2.1333333333333333,"d":"2"}},{"$f":"'[1]Survivalexp RAW Feb 2018'!AD189","v":{"v":0.06666666666666667,"d":"0"}},{"$f":"'[1]Survivalexp RAW Feb 2018'!AK189","v":0},{"$f":"'[1]Survivalexp RAW Feb 2018'!AR189","v":0},{"$f":"'[1]Survivalexp RAW Feb 2018'!AY189","v":0},{"$f":"'[1]Survivalexp RAW Feb 2018'!BF189","v":0},null,null,{"$f":"'[1]Survivalexp RAW Feb 2018'!I227","v":{"$error":"#DIV/0!"}},{"$f":"'[1]Survivalexp RAW Feb 2018'!P227","v":{"$error":"#DIV/0!"}},{"$f":"'[1]Survivalexp RAW Feb 2018'!W227","v":0},{"$f":"'[1]Survivalexp RAW Feb 2018'!AD227","v":0},{"$f":"'[1]Survivalexp RAW Feb 2018'!AK227","v":0},{"$f":"'[1]Survivalexp RAW Feb 2018'!AR227","v":0},{"$f":"'[1]Survivalexp RAW Feb 2018'!AY227","v":0},{"$f":"'[1]Survivalexp RAW Feb 2018'!BF227","v":0}]
[null,null,"stdev",{"$f":"'[1]Survivalexp RAW Feb 2018'!I34","v":{"$error":"#DIV/0!"}},{"$f":"'[1]Survivalexp RAW Feb 2018'!P34","v":{"$error":"#DIV/0!"}},{"$f":"'[1]Survivalexp RAW Feb 2018'!W34","v":{"$error":"#DIV/0!"}},{"$f":"'[1]Survivalexp RAW Feb 2018'!AD34","v":{"$error":"#DIV/0!"}},{"$f":"'[1]Survivalexp RAW Feb 2018'!AK34","v":{"$error":"#DIV/0!"}},{"$f":"'[1]Survivalexp RAW Feb 2018'!AR34","v":{"$error":"#DIV/0!"}},{"$f":"'[1]Survivalexp RAW Feb 2018'!AY34","v":{"v":9.616402747102313,"d":"10"}},{"$f":"'[1]Survivalexp RAW Feb 2018'!BF34","v":{"v":3.280350850198276,"d":"3"}},null,null,{"$f":"'[1]Survivalexp RAW Feb 2018'!I73","v":{"$error":"#DIV/0!"}},{"$f":"'[1]Survivalexp RAW Feb 2018'!P73","v":{"$error":"#DIV/0!"}},{"$f":"'[1]Survivalexp RAW Feb 2018'!W73","v":{"$error":"#DIV/0!"}},{"$f":"'[1]Survivalexp RAW Feb 2018'!AD73","v":{"$error":"#DIV/0!"}},{"$f":"'[1]Survivalexp RAW Feb 2018'!AK73","v":{"v":6.333751017024246,"d":"6"}},{"$f":"'[1]Survivalexp RAW Feb 2018'!AR73","v":{"v":3.529420596984446,"d":"4"}},{"$f":"'[1]Survivalexp RAW Feb 2018'!AY73","v":{"v":0.4472135954999579,"d":"0"}},{"$f":"'[1]Survivalexp RAW Feb 2018'!BF73","v":{"v":0.4472135954999579,"d":"0"}},null,null,{"$f":"'[1]Survivalexp RAW Feb 2018'!I112","v":{"$error":"#DIV/0!"}},{"$f":"'[1]Survivalexp RAW Feb 2018'!P112","v":{"v":26.06421848356497,"d":"26"}},{"$f":"'[1]Survivalexp RAW Feb 2018'!W112","v":{"v":10.63401633594828,"d":"11"}},{"$f":"'[1]Survivalexp RAW Feb 2018'!AD112","v":{"v":3.2955426022955043,"d":"3"}},{"$f":"'[1]Survivalexp RAW Feb 2018'!AK112","v":{"v":0.4472135954999579,"d":"0"}},{"$f":"'[1]Survivalexp RAW Feb 2018'!AR112","v":0},{"$f":"'[1]Survivalexp RAW Feb 2018'!AY112","v":0},{"$f":"'[1]Survivalexp RAW Feb 2018'!BF112","v":0},null,null,{"$f":"'[1]Survivalexp RAW Feb 2018'!I151","v":{"$error":"#DIV/0!"}},{"$f":"'[1]Survivalexp RAW Feb 2018'!P151","v":{"v":16.700716035296672,"d":"17"}},{"$f":"'[1]Survivalexp RAW Feb 2018'!W151","v":{"v":2.656750513909449,"d":"3"}},{"$f":"'[1]Survivalexp RAW Feb 2018'!AD151","v":0},{"$f":"'[1]Survivalexp RAW Feb 2018'!AK151","v":0},{"$f":"'[1]Survivalexp RAW Feb 2018'!AR151","v":0},{"$f":"'[1]Survivalexp RAW Feb 2018'!AY151","v":0},{"$f":"'[1]Survivalexp RAW Feb 2018'!BF151","v":0},null,null,{"$f":"'[1]Survivalexp RAW Feb 2018'!I190","v":{"$error":"#DIV/0!"}},{"$f":"'[1]Survivalexp RAW Feb 2018'!P190","v":{"v":9.445348423285893,"d":"9"}},{"$f":"'[1]Survivalexp RAW Feb 2018'!W190","v":{"v":4.727564445698233,"d":"5"}},{"$f":"'[1]Survivalexp RAW Feb 2018'!AD190","v":{"v":0.4472135954999579,"d":"0"}},{"$f":"'[1]Survivalexp RAW Feb 2018'!AK190","v":0},{"$f":"'[1]Survivalexp RAW Feb 2018'!AR190","v":0},{"$f":"'[1]Survivalexp RAW Feb 2018'!AY190","v":0},{"$f":"'[1]Survivalexp RAW Feb 2018'!BF190","v":0},null,null,{"$f":"'[1]Survivalexp RAW Feb 2018'!I228","v":{"$error":"#DIV/0!"}},{"$f":"'[1]Survivalexp RAW Feb 2018'!P228","v":{"$error":"#DIV/0!"}},{"$f":"'[1]Survivalexp RAW Feb 2018'!W228","v":0},{"$f":"'[1]Survivalexp RAW Feb 2018'!AD228","v":0},{"$f":"'[1]Survivalexp RAW Feb 2018'!AK228","v":0},{"$f":"'[1]Survivalexp RAW Feb 2018'!AR228","v":0},{"$f":"'[1]Survivalexp RAW Feb 2018'!AY228","v":0},{"$f":"'[1]Survivalexp RAW Feb 2018'!BF228","v":0}]
[null,"est. nr of bacteria",null,{"$f":"D25/$D$8","v":{"$error":"#DIV/0!"}},{"$f":"E25/$E$8","v":{"$error":"#DIV/0!"}},{"$f":"F25/$F$8","v":{"$error":"#DIV/0!"}},{"$f":"G25/$G$8","v":{"$error":"#DIV/0!"}},{"$f":"H25/$H$8","v":{"$error":"#DIV/0!"}},{"$f":"I25/$I$8","v":{"$error":"#DIV/0!"}},{"$f":"J25/$J$8","v":17066666.666666668},{"$f":"K25/$K$8","v":20000000},{"$f":"J27","v":17066666.666666668},{"$f":"J28","v":9616402.747102315},{"$f":"N25/$D$8","v":{"$error":"#DIV/0!"}},{"$f":"O25/$E$8","v":{"$error":"#DIV/0!"}},{"$f":"P25/$F$8","v":{"$error":"#DIV/0!"}},{"$f":"Q25/$G$8","v":{"$error":"#DIV/0!"}},{"$f":"R25/$H$8","v":290666.6666666666},{"$f":"S25/$I$8","v":406666.6666666666},{"$f":"T25/$J$8","v":66666.66666666667},{"$f":"U25/$K$8","v":666666.6666666667},{"$f":"R27","v":290666.6666666666},{"$f":"R28","v":63337.51017024246},{"$f":"X25/$D$8","v":{"$error":"#DIV/0!"}},{"$f":"Y25/$E$8","v":974.6666666666665},{"$f":"Z25/$F$8","v":1513.3333333333333},{"$f":"AA25/$G$8","v":1933.3333333333333},{"$f":"AB25/$H$8","v":666.6666666666666},{"$f":"AC25/$I$8","v":0},{"$f":"AD25/$J$8","v":0},{"$f":"AE25/$K$8","v":0},{"$f":"Y27","v":974.6666666666665},{"$f":"Y28","v":260.6421848356497},{"$f":"AH25/$D$8","v":{"$error":"#DIV/0!"}},{"$f":"AI25/$E$8","v":254.66666666666669},{"$f":"AJ25/$F$8","v":233.33333333333334},{"$f":"AK25/$G$8","v":0},{"$f":"AL25/$H$8","v":0},{"$f":"AM25/$I$8","v":0},{"$f":"AN25/$J$8","v":0},{"$f":"AO25/$K$8","v":0},{"$f":"AI27","v":254.66666666666669},{"$f":"AI28","v":167.0071603529667},{"$f":"AR25/$D$8","v":{"$error":"#DIV/0!"}},{"$f":"AS25/$E$8","v":170.66666666666666},{"$f":"AT25/$F$8","v":213.33333333333331},{"$f":"AU25/$G$8","v":66.66666666666667},{"$f":"AV25/$H$8","v":0},{"$f":"AW25/$I$8","v":0},{"$f":"AX25/$J$8","v":0},{"$f":"AY25/$K$8","v":0},{"$f":"AS27","v":170.66666666666666},{"$f":"AS28","v":94.45348423285893},{"$f":"BB25/$D$8","v":{"$error":"#DIV/0!"}},{"$f":"BC25/$E$8","v":{"$error":"#DIV/0!"}},{"$f":"BD25/$F$8","v":0},{"$f":"BE25/$G$8","v":0},{"$f":"BF25/$H$8","v":0},{"$f":"BG25/$I$8","v":0},{"$f":"BH25/$J$8","v":0},{"$f":"BI25/$K$8","v":0},{"$f":"BE27","v":0},{"$f":"BE28","v":0}]
[null,null,"stdev",{"$f":"D26/$D$8","v":{"$error":"#DIV/0!"}},{"$f":"E26/$E$8","v":{"$error":"#DIV/0!"}},{"$f":"F26/$F$8","v":{"$error":"#DIV/0!"}},{"$f":"G26/$G$8","v":{"$error":"#DIV/0!"}},{"$f":"H26/$H$8","v":{"$error":"#DIV/0!"}},{"$f":"I26/$I$8","v":{"$error":"#DIV/0!"}},{"$f":"J26/$J$8","v":9616402.747102315},{"$f":"K26/$K$8","v":32803508.501982763},null,null,{"$f":"N26/$D$8","v":{"$error":"#DIV/0!"}},{"$f":"O26/$E$8","v":{"$error":"#DIV/0!"}},{"$f":"P26/$F$8","v":{"$error":"#DIV/0!"}},{"$f":"Q26/$G$8","v":{"$error":"#DIV/0!"}},{"$f":"R26/$H$8","v":63337.51017024246},{"$f":"S26/$I$8","v":352942.05969844456},{"$f":"T26/$J$8","v":447213.59549995797},{"$f":"U26/$K$8","v":4472135.954999579},null,null,{"$f":"X26/$D$8","v":{"$error":"#DIV/0!"}},{"$f":"Y26/$E$8","v":260.6421848356497},{"$f":"Z26/$F$8","v":1063.401633594828},{"$f":"AA26/$G$8","v":3295.5426022955044},{"$f":"AB26/$H$8","v":4472.135954999579},{"$f":"AC26/$I$8","v":0},{"$f":"AD26/$J$8","v":0},{"$f":"AE26/$K$8","v":0},null,null,{"$f":"AH26/$D$8","v":{"$error":"#DIV/0!"}},{"$f":"AI26/$E$8","v":167.0071603529667},{"$f":"AJ26/$F$8","v":265.6750513909449},{"$f":"AK26/$G$8","v":0},{"$f":"AL26/$H$8","v":0},{"$f":"AM26/$I$8","v":0},{"$f":"AN26/$J$8","v":0},{"$f":"AO26/$K$8","v":0},null,null,{"$f":"AR26/$D$8","v":{"$error":"#DIV/0!"}},{"$f":"AS26/$E$8","v":94.45348423285893},{"$f":"AT26/$F$8","v":472.7564445698233},{"$f":"AU26/$G$8","v":447.21359549995793},{"$f":"AV26/$H$8","v":0},{"$f":"AW26/$I$8","v":0},{"$f":"AX26/$J$8","v":0},{"$f":"AY26/$K$8","v":0},null,null,{"$f":"BB26/$D$8","v":{"$error":"#DIV/0!"}},{"$f":"BC26/$E$8","v":{"$error":"#DIV/0!"}},{"$f":"BD26/$F$8","v":0},{"$f":"BE26/$G$8","v":0},{"$f":"BF26/$H$8","v":0},{"$f":"BG26/$I$8","v":0},{"$f":"BH26/$J$8","v":0},{"$f":"BI26/$K$8","v":0}]
[null,"2213F APR","p+0",{"$f":"'[1]Survivalexp RAW Feb 2018'!I38","v":{"$error":"#DIV/0!"}},{"$f":"'[1]Survivalexp RAW Feb 2018'!P38","v":{"$error":"#DIV/0!"}},{"$f":"'[1]Survivalexp RAW Feb 2018'!W38","v":{"$error":"#DIV/0!"}},{"$f":"'[1]Survivalexp RAW Feb 2018'!AD38","v":{"$error":"#DIV/0!"}},{"$f":"'[1]Survivalexp RAW Feb 2018'!AK38","v":{"$error":"#DIV/0!"}},{"$f":"'[1]Survivalexp RAW Feb 2018'!AR38","v":{"v":52.53333333333333,"d":"53"}},{"$f":"'[1]Survivalexp RAW Feb 2018'!AY38","v":{"v":7.133333333333333,"d":"7"}},{"$f":"'[1]Survivalexp RAW Feb 2018'!BF38","v":{"v":0.6666666666666666,"d":"1"}},null,null,{"$f":"'[1]Survivalexp RAW Feb 2018'!I77","v":{"$error":"#DIV/0!"}},{"$f":"'[1]Survivalexp RAW Feb 2018'!P77","v":{"$error":"#DIV/0!"}},{"$f":"'[1]Survivalexp RAW Feb 2018'!W77","v":{"$error":"#DIV/0!"}},{"$f":"'[1]Survivalexp RAW Feb 2018'!AD77","v":{"$error":"#DIV/0!"}},{"$f":"'[1]Survivalexp RAW Feb 2018'!AK77","v":15},{"$f":"'[1]Survivalexp RAW Feb 2018'!AR77","v":{"v":2.6,"d":"3"}},{"$f":"'[1]Survivalexp RAW Feb 2018'!AY77","v":{"v":0.13333333333333333,"d":"0"}},{"$f":"'[1]Survivalexp RAW Feb 2018'!BF77","v":0},null,null,{"$f":"'[1]Survivalexp RAW Feb 2018'!I116","v":{"$error":"#DIV/0!"}},{"$f":"'[1]Survivalexp RAW Feb 2018'!P116","v":{"$error":"#DIV/0!"}},{"$f":"'[1]Survivalexp RAW Feb 2018'!W116","v":{"v":19.53333333333333,"d":"20"}},{"$f":"'[1]Survivalexp RAW Feb 2018'!AD116","v":{"v":1.3333333333333333,"d":"1"}},{"$f":"'[1]Survivalexp RAW Feb 2018'!AK116","v":{"v":0.19999999999999998,"d":"0"}},{"$f":"'[1]Survivalexp RAW Feb 2018'!AR116","v":0},{"$f":"'[1]Survivalexp RAW Feb 2018'!AY116","v":0},{"$f":"'[1]Survivalexp RAW Feb 2018'!BF116","v":0},null,null,{"$f":"'[1]Survivalexp RAW Feb 2018'!I155","v":{"$error":"#DIV/0!"}},{"$f":"'[1]Survivalexp RAW Feb 2018'!P155","v":{"v":24.599999999999998,"d":"25"}},{"$f":"'[1]Survivalexp RAW Feb 2018'!W155","v":{"v":2.3333333333333335,"d":"2"}},{"$f":"'[1]Survivalexp RAW Feb 2018'!AD155","v":{"v":0.06666666666666667,"d":"0"}},{"$f":"'[1]Survivalexp RAW Feb 2018'!AK155","v":{"v":0.13333333333333333,"d":"0"}},{"$f":"'[1]Survivalexp RAW Feb 2018'!AR155","v":0},{"$f":"'[1]Survivalexp RAW Feb 2018'!AY155","v":0},{"$f":"'[1]Survivalexp RAW Feb 2018'!BF155","v":0},null,null,{"$f":"'[1]Survivalexp RAW Feb 2018'!I194","v":{"$error":"#DIV/0!"}},{"$f":"'[1]Survivalexp RAW Feb 2018'!P194","v":{"v":25.133333333333336,"d":"25"}},{"$f":"'[1]Survivalexp RAW Feb 2018'!W194","v":{"v":3.733333333333333,"d":"4"}},{"$f":"'[1]Survivalexp RAW Feb 2018'!AD194","v":{"v":0.3333333333333333,"d":"0"}},{"$f":"'[1]Survivalexp RAW Feb 2018'!AK194","v":0},{"$f":"'[1]Survivalexp RAW Feb 2018'!AR194","v":0},{"$f":"'[1]Survivalexp RAW Feb 2018'!AY194","v":0},{"$f":"'[1]Survivalexp RAW Feb 2018'!BF194","v":0},null,null,{"$f":"'[1]Survivalexp RAW Feb 2018'!I232","v":{"$error":"#DIV/0!"}},{"$f":"'[1]Survivalexp RAW Feb 2018'!P232","v":{"$error":"#DIV/0!"}},{"$f":"'[1]Survivalexp RAW Feb 2018'!W232","v":0},{"$f":"'[1]Survivalexp RAW Feb 2018'!AD232","v":0},{"$f":"'[1]Survivalexp RAW Feb 2018'!AK232","v":0},{"$f":"'[1]Survivalexp RAW Feb 2018'!AR232","v":0},{"$f":"'[1]Survivalexp RAW Feb 2018'!AY232","v":0},{"$f":"'[1]Survivalexp RAW Feb 2018'!BF232","v":0}]
[null,null,"stdev",{"$f":"'[1]Survivalexp RAW Feb 2018'!I39","v":{"$error":"#DIV/0!"}},{"$f":"'[1]Survivalexp RAW Feb 2018'!P39","v":{"$error":"#DIV/0!"}},{"$f":"'[1]Survivalexp RAW Feb 2018'!W39","v":{"$error":"#DIV/0!"}},{"$f":"'[1]Survivalexp RAW Feb 2018'!AD39","v":{"$error":"#DIV/0!"}},{"$f":"'[1]Survivalexp RAW Feb 2018'!AK39","v":{"$error":"#DIV/0!"}},{"$f":"'[1]Survivalexp RAW Feb 2018'!AR39","v":{"v":21.972073584716213,"d":"22"}},{"$f":"'[1]Survivalexp RAW Feb 2018'!AY39","v":{"v":7.269573707185659,"d":"7"}},{"$f":"'[1]Survivalexp RAW Feb 2018'!BF39","v":{"v":2.625514408533907,"d":"3"}},null,null,{"$f":"'[1]Survivalexp RAW Feb 2018'!I78","v":{"$error":"#DIV/0!"}},{"$f":"'[1]Survivalexp RAW Feb 2018'!P78","v":{"$error":"#DIV/0!"}},{"$f":"'[1]Survivalexp RAW Feb 2018'!W78","v":{"$error":"#DIV/0!"}},{"$f":"'[1]Survivalexp RAW Feb 2018'!AD78","v":{"$error":"#DIV/0!"}},{"$f":"'[1]Survivalexp RAW Feb 2018'!AK78","v":{"v":6.590233653627931,"d":"7"}},{"$f":"'[1]Survivalexp RAW Feb 2018'!AR78","v":{"v":2.812133891990685,"d":"3"}},{"$f":"'[1]Survivalexp RAW Feb 2018'!AY78","v":{"v":0.8944271909999159,"d":"1"}},{"$f":"'[1]Survivalexp RAW Feb 2018'!BF78","v":0},null,null,{"$f":"'[1]Survivalexp RAW Feb 2018'!I117","v":{"$error":"#DIV/0!"}},{"$f":"'[1]Survivalexp RAW Feb 2018'!P117","v":{"$error":"#DIV/0!"}},{"$f":"'[1]Survivalexp RAW Feb 2018'!W117","v":{"v":14.65789943557632,"d":"15"}},{"$f":"'[1]Survivalexp RAW Feb 2018'!AD117","v":{"v":1.9909804032205813,"d":"2"}},{"$f":"'[1]Survivalexp RAW Feb 2018'!AK117","v":{"v":0.8944271909999159,"d":"1"}},{"$f":"'[1]Survivalexp RAW Feb 2018'!AR117","v":0},{"$f":"'[1]Survivalexp RAW Feb 2018'!AY117","v":0},{"$f":"'[1]Survivalexp RAW Feb 2018'!BF117","v":0},null,null,{"$f":"'[1]Survivalexp RAW Feb 2018'!I156","v":{"$error":"#DIV/0!"}},{"$f":"'[1]Survivalexp RAW Feb 2018'!P156","v":{"v":18.915982633752623,"d":"19"}},{"$f":"'[1]Survivalexp RAW Feb 2018'!W156","v":{"v":4.485990627754808,"d":"4"}},{"$f":"'[1]Survivalexp RAW Feb 2018'!AD156","v":{"v":0.4472135954999579,"d":"0"}},{"$f":"'[1]Survivalexp RAW Feb 2018'!AK156","v":{"v":0.8944271909999159,"d":"1"}},{"$f":"'[1]Survivalexp RAW Feb 2018'!AR156","v":0},{"$f":"'[1]Survivalexp RAW Feb 2018'!AY156","v":0},{"$f":"'[1]Survivalexp RAW Feb 2018'!BF156","v":0},null,null,{"$f":"'[1]Survivalexp RAW Feb 2018'!I195","v":{"$error":"#DIV/0!"}},{"$f":"'[1]Survivalexp RAW Feb 2018'!P195","v":{"v":8.712867316880414,"d":"9"}},{"$f":"'[1]Survivalexp RAW Feb 2018'!W195","v":{"v":5.3132792062444025,"d":"5"}},{"$f":"'[1]Survivalexp RAW Feb 2018'!AD195","v":{"v":1.88936334400504,"d":"2"}},{"$f":"'[1]Survivalexp RAW Feb 2018'!AK195","v":0},{"$f":"'[1]Survivalexp RAW Feb 2018'!AR195","v":0},{"$f":"'[1]Survivalexp RAW Feb 2018'!AY195","v":0},{"$f":"'[1]Survivalexp RAW Feb 2018'!BF195","v":0},null,null,{"$f":"'[1]Survivalexp RAW Feb 2018'!I233","v":{"$error":"#DIV/0!"}},{"$f":"'[1]Survivalexp RAW Feb 2018'!P233","v":{"$error":"#DIV/0!"}},{"$f":"'[1]Survivalexp RAW Feb 2018'!W233","v":0},{"$f":"'[1]Survivalexp RAW Feb 2018'!AD233","v":0},{"$f":"'[1]Survivalexp RAW Feb 2018'!AK233","v":0},{"$f":"'[1]Survivalexp RAW Feb 2018'!AR233","v":0},{"$f":"'[1]Survivalexp RAW Feb 2018'!AY233","v":0},{"$f":"'[1]Survivalexp RAW Feb 2018'!BF233","v":0}]
[null,"est. nr of bacteria",null,{"$f":"D29/$D$8","v":{"$error":"#DIV/0!"}},{"$f":"E29/$E$8","v":{"$error":"#DIV/0!"}},{"$f":"F29/$F$8","v":{"$error":"#DIV/0!"}},{"$f":"G29/$G$8","v":{"$error":"#DIV/0!"}},{"$f":"H29/$H$8","v":{"$error":"#DIV/0!"}},{"$f":"I29/$I$8","v":5253333.333333333},{"$f":"J29/$J$8","v":7133333.333333333},{"$f":"K29/$K$8","v":6666666.666666667},{"$f":"I31","v":5253333.333333333},{"$f":"I32","v":2197207.3584716213},{"$f":"N29/$D$8","v":{"$error":"#DIV/0!"}},{"$f":"O29/$E$8","v":{"$error":"#DIV/0!"}},{"$f":"P29/$F$8","v":{"$error":"#DIV/0!"}},{"$f":"Q29/$G$8","v":{"$error":"#DIV/0!"}},{"$f":"R29/$H$8","v":150000},{"$f":"S29/$I$8","v":260000},{"$f":"T29/$J$8","v":133333.33333333334},{"$f":"U29/$K$8","v":0},{"$f":"R31","v":150000},{"$f":"R32","v":65902.33653627931},{"$f":"X29/$D$8","v":{"$error":"#DIV/0!"}},{"$f":"Y29/$E$8","v":{"$error":"#DIV/0!"}},{"$f":"Z29/$F$8","v":1953.333333333333},{"$f":"AA29/$G$8","v":1333.3333333333333},{"$f":"AB29/$H$8","v":1999.9999999999998},{"$f":"AC29/$I$8","v":0},{"$f":"AD29/$J$8","v":0},{"$f":"AE29/$K$8","v":0},{"$f":"Z31","v":1953.333333333333},{"$f":"Z32","v":1465.7899435576321},{"$f":"AH29/$D$8","v":{"$error":"#DIV/0!"}},{"$f":"AI29/$E$8","v":245.99999999999997},{"$f":"AJ29/$F$8","v":233.33333333333334},{"$f":"AK29/$G$8","v":66.66666666666667},{"$f":"AL29/$H$8","v":1333.3333333333333},{"$f":"AM29/$I$8","v":0},{"$f":"AN29/$J$8","v":0},{"$f":"AO29/$K$8","v":0},{"$f":"AI31","v":245.99999999999997},{"$f":"AI32","v":189.15982633752623},{"$f":"AR29/$D$8","v":{"$error":"#DIV/0!"}},{"$f":"AS29/$E$8","v":251.33333333333334},{"$f":"AT29/$F$8","v":373.3333333333333},{"$f":"AU29/$G$8","v":333.3333333333333},{"$f":"AV29/$H$8","v":0},{"$f":"AW29/$I$8","v":0},{"$f":"AX29/$J$8","v":0},{"$f":"AY29/$K$8","v":0},{"$f":"AS31","v":251.33333333333334},{"$f":"AS32","v":87.12867316880414},{"$f":"BB29/$D$8","v":{"$error":"#DIV/0!"}},{"$f":"BC29/$E$8","v":{"$error":"#DIV/0!"}},{"$f":"BD29/$F$8","v":0},{"$f":"BE29/$G$8","v":0},{"$f":"BF29/$H$8","v":0},{"$f":"BG29/$I$8","v":0},{"$f":"BH29/$J$8","v":0},{"$f":"BI29/$K$8","v":0},{"$f":"BE31","v":0},{"$f":"BE32","v":0}]
[null,null,"stdev",{"$f":"D30/$D$8","v":{"$error":"#DIV/0!"}},{"$f":"E30/$E$8","v":{"$error":"#DIV/0!"}},{"$f":"F30/$F$8","v":{"$error":"#DIV/0!"}},{"$f":"G30/$G$8","v":{"$error":"#DIV/0!"}},{"$f":"H30/$H$8","v":{"$error":"#DIV/0!"}},{"$f":"I30/$I$8","v":2197207.3584716213},{"$f":"J30/$J$8","v":7269573.707185659},{"$f":"K30/$K$8","v":26255144.085339073},null,null,{"$f":"N30/$D$8","v":{"$error":"#DIV/0!"}},{"$f":"O30/$E$8","v":{"$error":"#DIV/0!"}},{"$f":"P30/$F$8","v":{"$error":"#DIV/0!"}},{"$f":"Q30/$G$8","v":{"$error":"#DIV/0!"}},{"$f":"R30/$H$8","v":65902.33653627931},{"$f":"S30/$I$8","v":281213.3891990685},{"$f":"T30/$J$8","v":894427.1909999159},{"$f":"U30/$K$8","v":0},null,null,{"$f":"X30/$D$8","v":{"$error":"#DIV/0!"}},{"$f":"Y30/$E$8","v":{"$error":"#DIV/0!"}},{"$f":"Z30/$F$8","v":1465.7899435576321},{"$f":"AA30/$G$8","v":1990.9804032205814},{"$f":"AB30/$H$8","v":8944.271909999157},{"$f":"AC30/$I$8","v":0},{"$f":"AD30/$J$8","v":0},{"$f":"AE30/$K$8","v":0},null,null,{"$f":"AH30/$D$8","v":{"$error":"#DIV/0!"}},{"$f":"AI30/$E$8","v":189.15982633752623},{"$f":"AJ30/$F$8","v":448.59906277548083},{"$f":"AK30/$G$8","v":447.21359549995793},{"$f":"AL30/$H$8","v":8944.271909999157},{"$f":"AM30/$I$8","v":0},{"$f":"AN30/$J$8","v":0},{"$f":"AO30/$K$8","v":0},null,null,{"$f":"AR30/$D$8","v":{"$error":"#DIV/0!"}},{"$f":"AS30/$E$8","v":87.12867316880414},{"$f":"AT30/$F$8","v":531.3279206244403},{"$f":"AU30/$G$8","v":1889.3633440050398},{"$f":"AV30/$H$8","v":0},{"$f":"AW30/$I$8","v":0},{"$f":"AX30/$J$8","v":0},{"$f":"AY30/$K$8","v":0},null,null,{"$f":"BB30/$D$8","v":{"$error":"#DIV/0!"}},{"$f":"BC30/$E$8","v":{"$error":"#DIV/0!"}},{"$f":"BD30/$F$8","v":0},{"$f":"BE30/$G$8","v":0},{"$f":"BF30/$H$8","v":0},{"$f":"BG30/$I$8","v":0},{"$f":"BH30/$J$8","v":0},{"$f":"BI30/$K$8","v":0}]
[null,null,"p+3",{"$f":"'[1]Survivalexp RAW Feb 2018'!I43","v":{"$error":"#DIV/0!"}},{"$f":"'[1]Survivalexp RAW Feb 2018'!P43","v":{"$error":"#DIV/0!"}},{"$f":"'[1]Survivalexp RAW Feb 2018'!W43","v":{"$error":"#DIV/0!"}},{"$f":"'[1]Survivalexp RAW Feb 2018'!AD43","v":{"$error":"#DIV/0!"}},{"$f":"'[1]Survivalexp RAW Feb 2018'!AK43","v":{"$error":"#DIV/0!"}},{"$f":"'[1]Survivalexp RAW Feb 2018'!AR43","v":{"v":63.46666666666667,"d":"63"}},{"$f":"'[1]Survivalexp RAW Feb 2018'!AY43","v":{"v":7.866666666666666,"d":"8"}},{"$f":"'[1]Survivalexp RAW Feb 2018'!BF43","v":{"v":1.1333333333333333,"d":"1"}},null,null,{"$f":"'[1]Survivalexp RAW Feb 2018'!I82","v":{"$error":"#DIV/0!"}},{"$f":"'[1]Survivalexp RAW Feb 2018'!P82","v":{"$error":"#DIV/0!"}},{"$f":"'[1]Survivalexp RAW Feb 2018'!W82","v":{"$error":"#DIV/0!"}},{"$f":"'[1]Survivalexp RAW Feb 2018'!AD82","v":{"$error":"#DIV/0!"}},{"$f":"'[1]Survivalexp RAW Feb 2018'!AK82","v":{"v":6.6000000000000005,"d":"7"}},{"$f":"'[1]Survivalexp RAW Feb 2018'!AR82","v":{"v":1.0666666666666667,"d":"1"}},{"$f":"'[1]Survivalexp RAW Feb 2018'!AY82","v":{"v":0.19999999999999998,"d":"0"}},{"$f":"'[1]Survivalexp RAW Feb 2018'!BF82","v":{"v":0.06666666666666667,"d":"0"}},null,null,{"$f":"'[1]Survivalexp RAW Feb 2018'!I121","v":{"$error":"#DIV/0!"}},{"$f":"'[1]Survivalexp RAW Feb 2018'!P121","v":{"$error":"#DIV/0!"}},{"$f":"'[1]Survivalexp RAW Feb 2018'!W121","v":{"v":32.13333333333333,"d":"32"}},{"$f":"'[1]Survivalexp RAW Feb 2018'!AD121","v":{"v":2.4666666666666663,"d":"2"}},{"$f":"'[1]Survivalexp RAW Feb 2018'!AK121","v":0},{"$f":"'[1]Survivalexp RAW Feb 2018'!AR121","v":0},{"$f":"'[1]Survivalexp RAW Feb 2018'!AY121","v":0},{"$f":"'[1]Survivalexp RAW Feb 2018'!BF121","v":0},null,null,{"$f":"'[1]Survivalexp RAW Feb 2018'!I160","v":{"$error":"#DIV/0!"}},{"$f":"'[1]Survivalexp RAW Feb 2018'!P160","v":{"v":23.333333333333332,"d":"23"}},{"$f":"'[1]Survivalexp RAW Feb 2018'!W160","v":{"v":2.466666666666667,"d":"2"}},{"$f":"'[1]Survivalexp RAW Feb 2018'!AD160","v":{"v":0.06666666666666667,"d":"0"}},{"$f":"'[1]Survivalexp RAW Feb 2018'!AK160","v":0},{"$f":"'[1]Survivalexp RAW Feb 2018'!AR160","v":0},{"$f":"'[1]Survivalexp RAW Feb 2018'!AY160","v":0},{"$f":"'[1]Survivalexp RAW Feb 2018'!BF160","v":0},null,null,{"$f":"'[1]Survivalexp RAW Feb 2018'!I199","v":{"v":69.8,"d":"70"}},{"$f":"'[1]Survivalexp RAW Feb 2018'!P199","v":{"v":6.8,"d":"7"}},{"$f":"'[1]Survivalexp RAW Feb 2018'!W199","v":{"v":0.7333333333333334,"d":"1"}},{"$f":"'[1]Survivalexp RAW Feb 2018'!AD199","v":0},{"$f":"'[1]Survivalexp RAW Feb 2018'!AK199","v":0},{"$f":"'[1]Survivalexp RAW Feb 2018'!AR199","v":0},{"$f":"'[1]Survivalexp RAW Feb 2018'!AY199","v":0},{"$f":"'[1]Survivalexp RAW Feb 2018'!BF199","v":0},null,null,{"$f":"'[1]Survivalexp RAW Feb 2018'!I237","v":{"$error":"#DIV/0!"}},{"$f":"'[1]Survivalexp RAW Feb 2018'!P237","v":{"$error":"#DIV/0!"}},{"$f":"'[1]Survivalexp RAW Feb 2018'!W237","v":0},{"$f":"'[1]Survivalexp RAW Feb 2018'!AD237","v":0},{"$f":"'[1]Survivalexp RAW Feb 2018'!AK237","v":0},{"$f":"'[1]Survivalexp RAW Feb 2018'!AR237","v":0},{"$f":"'[1]Survivalexp RAW Feb 2018'!AY237","v":0},{"$f":"'[1]Survivalexp RAW Feb 2018'!BF237","v":0}]
[null,null,"stdev",{"$f":"'[1]Survivalexp RAW Feb 2018'!I44","v":{"$error":"#DIV/0!"}},{"$f":"'[1]Survivalexp RAW Feb 2018'!P44","v":{"$error":"#DIV/0!"}},{"$f":"'[1]Survivalexp RAW Feb 2018'!W44","v":{"$error":"#DIV/0!"}},{"$f":"'[1]Survivalexp RAW Feb 2018'!AD44","v":{"$error":"#DIV/0!"}},{"$f":"'[1]Survivalexp RAW Feb 2018'!AK44","v":{"$error":"#DIV/0!"}},{"$f":"'[1]Survivalexp RAW Feb 2018'!AR44","v":{"v":19.189519561580834,"d":"19"}},{"$f":"'[1]Survivalexp RAW Feb 2018'!AY44","v":{"v":9.126391660376687,"d":"9"}},{"$f":"'[1]Survivalexp RAW Feb 2018'!BF44","v":{"v":2.1191720623915047,"d":"2"}},null,null,{"$f":"'[1]Survivalexp RAW Feb 2018'!I83","v":{"$error":"#DIV/0!"}},{"$f":"'[1]Survivalexp RAW Feb 2018'!P83","v":{"$error":"#DIV/0!"}},{"$f":"'[1]Survivalexp RAW Feb 2018'!W83","v":{"$error":"#DIV/0!"}},{"$f":"'[1]Survivalexp RAW Feb 2018'!AD83","v":{"$error":"#DIV/0!"}},{"$f":"'[1]Survivalexp RAW Feb 2018'!AK83","v":{"v":6.484580060253787,"d":"6"}},{"$f":"'[1]Survivalexp RAW Feb 2018'!AR83","v":{"v":2.2360679774997902,"d":"2"}},{"$f":"'[1]Survivalexp RAW Feb 2018'!AY83","v":{"v":0.8944271909999159,"d":"1"}},{"$f":"'[1]Survivalexp RAW Feb 2018'!BF83","v":{"v":0.4472135954999579,"d":"0"}},null,null,{"$f":"'[1]Survivalexp RAW Feb 2018'!I122","v":{"$error":"#DIV/0!"}},{"$f":"'[1]Survivalexp RAW Feb 2018'!P122","v":{"$error":"#DIV/0!"}},{"$f":"'[1]Survivalexp RAW Feb 2018'!W122","v":{"v":6.55405536718933,"d":"7"}},{"$f":"'[1]Survivalexp RAW Feb 2018'!AD122","v":{"v":3.8204155698508386,"d":"4"}},{"$f":"'[1]Survivalexp RAW Feb 2018'!AK122","v":0},{"$f":"'[1]Survivalexp RAW Feb 2018'!AR122","v":0},{"$f":"'[1]Survivalexp RAW Feb 2018'!AY122","v":0},{"$f":"'[1]Survivalexp RAW Feb 2018'!BF122","v":0},null,null,{"$f":"'[1]Survivalexp RAW Feb 2018'!I161","v":{"$error":"#DIV/0!"}},{"$f":"'[1]Survivalexp RAW Feb 2018'!P161","v":{"v":18.910318387703605,"d":"19"}},{"$f":"'[1]Survivalexp RAW Feb 2018'!W161","v":{"v":3.2009727964977372,"d":"3"}},{"$f":"'[1]Survivalexp RAW Feb 2018'!AD161","v":{"v":0.4472135954999579,"d":"0"}},{"$f":"'[1]Survivalexp RAW Feb 2018'!AK161","v":0},{"$f":"'[1]Survivalexp RAW Feb 2018'!AR161","v":0},{"$f":"'[1]Survivalexp RAW Feb 2018'!AY161","v":0},{"$f":"'[1]Survivalexp RAW Feb 2018'!BF161","v":0},null,null,{"$f":"'[1]Survivalexp RAW Feb 2018'!I200","v":{"v":14.399609924823105,"d":"14"}},{"$f":"'[1]Survivalexp RAW Feb 2018'!P200","v":{"v":5.9425042119150575,"d":"6"}},{"$f":"'[1]Survivalexp RAW Feb 2018'!W200","v":{"v":1.7310872175339913,"d":"2"}},{"$f":"'[1]Survivalexp RAW Feb 2018'!AD200","v":0},{"$f":"'[1]Survivalexp RAW Feb 2018'!AK200","v":0},{"$f":"'[1]Survivalexp RAW Feb 2018'!AR200","v":0},{"$f":"'[1]Survivalexp RAW Feb 2018'!AY200","v":0},{"$f":"'[1]Survivalexp RAW Feb 2018'!BF200","v":0},null,null,{"$f":"'[1]Survivalexp RAW Feb 2018'!I238","v":{"$error":"#DIV/0!"}},{"$f":"'[1]Survivalexp RAW Feb 2018'!P238","v":{"$error":"#DIV/0!"}},{"$f":"'[1]Survivalexp RAW Feb 2018'!W238","v":0},{"$f":"'[1]Survivalexp RAW Feb 2018'!AD238","v":0},{"$f":"'[1]Survivalexp RAW Feb 2018'!AK238","v":0},{"$f":"'[1]Survivalexp RAW Feb 2018'!AR238","v":0},{"$f":"'[1]Survivalexp RAW Feb 2018'!AY238","v":0},{"$f":"'[1]Survivalexp RAW Feb 2018'!BF238","v":0}]
[null,"est. nr of bacteria",null,{"$f":"D33/$D$8","v":{"$error":"#DIV/0!"}},{"$f":"E33/$E$8","v":{"$error":"#DIV/0!"}},{"$f":"F33/$F$8","v":{"$error":"#DIV/0!"}},{"$f":"G33/$G$8","v":{"$error":"#DIV/0!"}},{"$f":"H33/$H$8","v":{"$error":"#DIV/0!"}},{"$f":"I33/$I$8","v":6346666.666666666},{"$f":"J33/$J$8","v":7866666.666666667},{"$f":"K33/$K$8","v":11333333.333333334},{"$f":"I35","v":6346666.666666666},{"$f":"I36","v":1918951.9561580832},{"$f":"N33/$D$8","v":{"$error":"#DIV/0!"}},{"$f":"O33/$E$8","v":{"$error":"#DIV/0!"}},{"$f":"P33/$F$8","v":{"$error":"#DIV/0!"}},{"$f":"Q33/$G$8","v":{"$error":"#DIV/0!"}},{"$f":"R33/$H$8","v":66000},{"$f":"S33/$I$8","v":106666.66666666666},{"$f":"T33/$J$8","v":200000},{"$f":"U33/$K$8","v":666666.6666666667},{"$f":"R35","v":66000},{"$f":"R36","v":64845.80060253787},{"$f":"X33/$D$8","v":{"$error":"#DIV/0!"}},{"$f":"Y33/$E$8","v":{"$error":"#DIV/0!"}},{"$f":"Z33/$F$8","v":{"v":3213.333333333333,"d":"3E+03"}},{"$f":"AA33/$G$8","v":2466.6666666666665},{"$f":"AB33/$H$8","v":0},{"$f":"AC33/$I$8","v":0},{"$f":"AD33/$J$8","v":0},{"$f":"AE33/$K$8","v":0},{"$f":"Z35","v":{"v":3213.333333333333,"d":"3E+03"}},{"$f":"Z36","v":{"v":655.4055367189329,"d":"7E+02"}},{"$f":"AH33/$D$8","v":{"$error":"#DIV/0!"}},{"$f":"AI33/$E$8","v":233.33333333333331},{"$f":"AJ33/$F$8","v":246.66666666666669},{"$f":"AK33/$G$8","v":66.66666666666667},{"$f":"AL33/$H$8","v":0},{"$f":"AM33/$I$8","v":0},{"$f":"AN33/$J$8","v":0},{"$f":"AO33/$K$8","v":0},{"$f":"AI35","v":233.33333333333331},{"$f":"AI36","v":189.10318387703603},{"$f":"AR33/$D$8","v":69.8},{"$f":"AS33/$E$8","v":68},{"$f":"AT33/$F$8","v":73.33333333333334},{"$f":"AU33/$G$8","v":0},{"$f":"AV33/$H$8","v":0},{"$f":"AW33/$I$8","v":0},{"$f":"AX33/$J$8","v":0},{"$f":"AY33/$K$8","v":0},{"$f":"AR35","v":69.8},{"$f":"AR36","v":14.399609924823105},{"$f":"BB33/$D$8","v":{"$error":"#DIV/0!"}},{"$f":"BC33/$E$8","v":{"$error":"#DIV/0!"}},{"$f":"BD33/$F$8","v":0},{"$f":"BE33/$G$8","v":0},{"$f":"BF33/$H$8","v":0},{"$f":"BG33/$I$8","v":0},{"$f":"BH33/$J$8","v":0},{"$f":"BI33/$K$8","v":0},{"$f":"BE35","v":0},{"$f":"BE36","v":0}]
[null,null,"stdev",{"$f":"D34/$D$8","v":{"$error":"#DIV/0!"}},{"$f":"E34/$E$8","v":{"$error":"#DIV/0!"}},{"$f":"F34/$F$8","v":{"$error":"#DIV/0!"}},{"$f":"G34/$G$8","v":{"$error":"#DIV/0!"}},{"$f":"H34/$H$8","v":{"$error":"#DIV/0!"}},{"$f":"I34/$I$8","v":1918951.9561580832},{"$f":"J34/$J$8","v":9126391.660376687},{"$f":"K34/$K$8","v":21191720.623915046},null,null,{"$f":"N34/$D$8","v":{"$error":"#DIV/0!"}},{"$f":"O34/$E$8","v":{"$error":"#DIV/0!"}},{"$f":"P34/$F$8","v":{"$error":"#DIV/0!"}},{"$f":"Q34/$G$8","v":{"$error":"#DIV/0!"}},{"$f":"R34/$H$8","v":64845.80060253787},{"$f":"S34/$I$8","v":223606.797749979},{"$f":"T34/$J$8","v":894427.1909999159},{"$f":"U34/$K$8","v":4472135.954999579},null,null,{"$f":"X34/$D$8","v":{"$error":"#DIV/0!"}},{"$f":"Y34/$E$8","v":{"$error":"#DIV/0!"}},{"$f":"Z34/$F$8","v":{"v":655.4055367189329,"d":"7E+02"}},{"$f":"AA34/$G$8","v":3820.4155698508384},{"$f":"AB34/$H$8","v":0},{"$f":"AC34/$I$8","v":0},{"$f":"AD34/$J$8","v":0},{"$f":"AE34/$K$8","v":0},null,null,{"$f":"AH34/$D$8","v":{"$error":"#DIV/0!"}},{"$f":"AI34/$E$8","v":189.10318387703603},{"$f":"AJ34/$F$8","v":320.0972796497737},{"$f":"AK34/$G$8","v":447.21359549995793},{"$f":"AL34/$H$8","v":0},{"$f":"AM34/$I$8","v":0},{"$f":"AN34/$J$8","v":0},{"$f":"AO34/$K$8","v":0},null,null,{"$f":"AR34/$D$8","v":14.399609924823105},{"$f":"AS34/$E$8","v":59.425042119150575},{"$f":"AT34/$F$8","v":173.10872175339912},{"$f":"AU34/$G$8","v":0},{"$f":"AV34/$H$8","v":0},{"$f":"AW34/$I$8","v":0},{"$f":"AX34/$J$8","v":0},{"$f":"AY34/$K$8","v":0},null,null,{"$f":"BB34/$D$8","v":{"$error":"#DIV/0!"}},{"$f":"BC34/$E$8","v":{"$error":"#DIV/0!"}},{"$f":"BD34/$F$8","v":0},{"$f":"BE34/$G$8","v":0},{"$f":"BF34/$H$8","v":0},{"$f":"BG34/$I$8","v":0},{"$f":"BH34/$J$8","v":0},{"$f":"BI34/$K$8","v":0}]
[]
[]
[]
[]
[]
[{"$nulls":4},0,4,7,11,14,18,{"$nulls":4},"STDEV",null,0,4,7,11,14,18]
[null,null,"Numbers","Blank",{"$f":"$L$11","v":0},{"$f":"$V$11","v":0},{"$f":"$AF$11","v":0},{"$f":"AP11","v":0},{"$f":"$AP$11","v":0},{"$f":"$AZ$11","v":0},{"$nulls":4},"Numbers","Blank",{"$f":"$M$11","v":0},{"$f":"$W$11","v":0},{"$f":"$AG$11","v":0},{"$f":"AQ11","v":0},{"$f":"$AQ$11","v":0},{"$f":"$BA$11","v":0}]
[{"$nulls":3},"BW25113 -",{"$f":"$L$15","v":{"v":6893333.333333332,"d":"6893333"}},{"$f":"$V$15","v":4593333.333333333},{"$f":"$AF$15","v":2420666.666666667},{"$f":"AP15","v":{"v":2622666.6666666665,"d":"2622667"}},{"$f":"$AP$15","v":2622666.6666666665},{"$f":"$AZ$15","v":4460000},{"$nulls":5},"BW25113 2213F -",{"$f":"$M$15","v":1960265.4586439994},{"$f":"$W$15","v":1696763.0499694678},{"$f":"$AG$15","v":{"$error":"#DIV/0!"}},{"$f":"AQ15","v":{"v":785328.9948190921,"d":"785329"}},{"$f":"$AQ$15","v":785328.9948190921},{"$f":"BA15","v":1759171.2804468228}]
[{"$nulls":3},"2213F - p+0",{"$f":"$L$19","v":5999999.999999999},{"$f":"$V$19","v":258666.66666666663},{"$f":"$AF$19","v":3593.333333333333},{"$f":"AP19","v":695.3333333333333},{"$f":"$AP$19","v":695.3333333333333},{"$f":"$AZ$19","v":286},{"$nulls":5},"2213F - p+0",{"$f":"$M$19","v":2668546.9548318554},{"$f":"$W$19","v":103872.18481080532},{"$f":"$AG$19","v":1717.2100779377704},{"$f":"AQ19","v":249.93248812212457},{"$f":"$AQ$19","v":249.93248812212457},{"$f":"BA19","v":48.27007354458863}]
[{"$nulls":3},"2213F A p+0",{"$f":"$L$23","v":5546666.666666666},{"$f":"$V$23","v":806666.6666666667},{"$f":"$AF$23","v":1859.9999999999998},{"$f":"AP23","v":571.9999999999999},{"$f":"$AP$23","v":571.9999999999999},{"$f":"$AZ$23","v":430.6666666666667},{"$nulls":5},"2213F A p+0",{"$f":"$M$23","v":1444392.8657058883},{"$f":"$W$23","v":256774.72440680666},{"$f":"$AG$23","v":939.6226538889554},{"$f":"AQ23","v":167.60995666213398},{"$f":"$AQ$23","v":167.60995666213398},{"$f":"BA23","v":237.62969483308288}]
[{"$nulls":3},"2213F A p+3",{"$f":"$L$27","v":17066666.666666668},{"$f":"$V$27","v":290666.6666666666},{"$f":"$AF$27","v":974.6666666666665},{"$f":"AP27","v":254.66666666666669},{"$f":"$AP$27","v":254.66666666666669},{"$f":"$AZ$27","v":170.66666666666666},{"$nulls":5},"2213F A p+3",{"$f":"$M$27","v":9616402.747102315},{"$f":"$W$27","v":63337.51017024246},{"$f":"$AG$27","v":260.6421848356497},{"$f":"AQ27","v":167.0071603529667},{"$f":"$AQ$27","v":167.0071603529667},{"$f":"BA27","v":94.45348423285893}]
[{"$nulls":3},"2213F APR p+0",{"$f":"$L$31","v":5253333.333333333},{"$f":"$V$31","v":150000},{"$f":"$AF$31","v":1953.333333333333},{"$f":"AP31","v":245.99999999999997},{"$f":"$AP$31","v":245.99999999999997},{"$f":"$AZ$31","v":251.33333333333334},{"$nulls":5},"2213F APR p+0",{"$f":"$M$31","v":2197207.3584716213},{"$f":"$W$31","v":65902.33653627931},{"$f":"$AG$31","v":1465.7899435576321},{"$f":"AQ31","v":189.15982633752623},{"$f":"$AQ$31","v":189.15982633752623},{"$f":"BA31","v":87.12867316880414}]
[{"$nulls":3},"2213F APR p+3",{"$f":"$L$35","v":6346666.666666666},{"$f":"$V$35","v":66000},{"$f":"$AF$35","v":3213.333333333333},{"$f":"AP35","v":233.33333333333331},{"$f":"$AP$35","v":233.33333333333331},{"$f":"$AZ$35","v":69.8},{"$nulls":5},"2213F APR p+3",{"$f":"$M$35","v":1918951.9561580832},{"$f":"$W$35","v":64845.80060253787},{"$f":"$AG$35","v":655.4055367189329},{"$f":"AQ35","v":189.10318387703603},{"$f":"$AQ$35","v":189.10318387703603},{"$f":"BA35","v":14.399609924823105}]
[]
[]
[{"$nulls":4},0,4,7,11,14,18,{"$nulls":4},"STDEV",null,0,4,7,11,14,18]
[null,null,"Percentages","Blank",0,0,0,0,0,0,{"$nulls":4},"Percentages","Blank",0,0,0,0,0,0]
[{"$nulls":3},"BW25113 -",{"$f":"E44/$E$44*100","v":100},{"$f":"(F44/$E$44)*100","v":66.63442940038685},{"$f":"G44/$E$44*100","v":35.11605415860736},{"$f":"H44/$E$44*100","v":38.04642166344294},{"$f":"I44/$E$44*100","v":38.04642166344294},{"$f":"J44/$E$44*100","v":64.7001934235977},{"$nulls":5},"BW25113 2213F -",{"$f":"Q44/$E$44*100","v":28.43711980624758},{"$f":"R44/$E$44*100","v":24.61455101503097},{"$f":"S44/$E$44*100","v":{"$error":"#DIV/0!"}},{"$f":"T44/$E$44*100","v":11.392586965460719},{"$f":"U44/$E$44*100","v":11.392586965460719},{"$f":"V44/$E44*100","v":25.519892849808844}]
[{"$nulls":3},"2213F - p+0",{"$f":"E45/$E$45*100","v":100},{"$f":"F45/$E$45*100","v":4.311111111111112},{"$f":"G45/$E$45*100","v":0.059888888888888894},{"$f":"H45/$E$45*100","v":0.01158888888888889},{"$f":"I45/$E$45*100","v":0.01158888888888889},{"$f":"J45/$E$44*100","v":0.004148936170212767},{"$nulls":5},"2213F - p+0",{"$f":"Q45/$E$45*100","v":44.47578258053093},{"$f":"R45/$E$45*100","v":1.7312030801800888},0.02862016796562951,{"$f":"T45/$E$45*100","v":0.004165541468702076},{"$f":"U45/$E$45*100","v":0.004165541468702076},8.0450122574314391E-4]
[{"$nulls":3},"2213F A p+0",{"$f":"E46/$E$46*100","v":100},{"$f":"F46/$E$46*100","v":14.543269230769235},{"$f":"G46/$E$46*100","v":0.033533653846153845},{"$f":"H46/$E$46*100","v":0.010312499999999999},{"$f":"I46/$E$46*100","v":0.010312499999999999},{"$f":"J46/$E$44*100","v":0.006247582205029014},{"$nulls":5},"2213F A p+0",{"$f":"Q46/$E$46*100","v":26.04073676152443},{"$f":"R46/$E$46*100","v":4.629352002526563},{"$f":"S46/$E$46*100","v":0.01694031226963261},{"$f":"T46/$E$46*100","v":0.003021814122514435},{"$f":"U46/$E$46*100","v":0.003021814122514435},0.004284189209731062]
[{"$nulls":3},"2213F A p+3",{"$f":"E47/$E$47*100","v":100},{"$f":"F47/$E$47*100","v":1.7031249999999998},{"$f":"G47/$E$47*100","v":0.005710937499999998},{"$f":"H47/$E$47*100","v":1.4921875E-3},{"$f":"I47/$E$47*100","v":1.4921875E-3},{"$f":"J47/$E$44*100","v":2.4758220502901357E-3},{"$nulls":5},"2213F A p+3",{"$f":"Q47/$E$47*100","v":56.34610984630262},{"$f":"R47/$E$47*100","v":0.37111822365376435},{"$f":"S47/$E$47*100","v":1.5272003017713848E-3},{"$f":"T47/$E$47*100","v":9.7855758019316425E-4},{"$f":"U47/$E$47*100","v":9.7855758019316425E-4},5.5343838417690769E-4]
[{"$nulls":3},"2213F APR p+0",{"$f":"E48/$E$48*100","v":100},{"$f":"F48/$E$48*100","v":2.855329949238579},{"$f":"G48/$E$48*100","v":0.03718274111675127},{"$f":"H48/$E$48*100","v":0.004682741116751269},{"$f":"I48/$E$48*100","v":0.004682741116751269},{"$f":"J48/$E$44*100","v":3.6460348162475832E-3},{"$nulls":5},"2213F APR p+0",{"$f":"Q48/$E$48*100","v":41.82501316887604},{"$f":"R48/$E$48*100","v":1.254486101578921},{"$f":"S48/$E$48*100","v":0.02790209283421889},{"$f":"T48/$E$48*100","v":3.6007581155620477E-3},{"$f":"U48/$E$48*100","v":3.6007581155620477E-3},1.6585407329087083E-3]
[{"$nulls":3},"2213F APR p+3",{"$f":"E49/$E$49*100","v":100},{"$f":"F49/$E$49*100","v":1.0399159663865547},{"$f":"G49/$E$49*100","v":0.05063025210084034},{"$f":"H49/$E$49*100","v":3.6764705882352945E-3},{"$f":"I49/$E$49*100","v":3.6764705882352945E-3},{"$f":"J49/$E$44*100","v":1.0125725338491296E-3},{"$nulls":5},"2213F APR p+3",{"$f":"Q49/$E$49*100","v":30.235587544507613},{"$f":"R49/$E$49*100","v":1.0217300515105758},{"$f":"S49/$E$49*100","v":0.01032676791048739},{"$f":"T49/$E$49*100","v":2.9795669728524586E-3},{"$f":"U49/$E$49*100","v":2.9795669728524586E-3},2.2688461016002795E-4]

{"sheet":"Results side by side","index":4,"n_rows":0,"n_cols":0,"rows_kept":0}