Workbook

Sheet Sheet1
B2: INPUTS | H2: Instructions: For each location, input height (h), applied force (F), applied moment (M), and weight (w) as shown in Figure 1 of the article, as well as the flexural stiffness of the plant stem (EI). If a location is unused, just leave everything blank. It will then calculate the moment from self loading (W) for each location. It will also calculate the displacement (d) of each location and the induced moment (M_TOTAL) at each location, which can be used to calculate the bending stress at each location. It will calculate the displacement and induced moment both including and ignoring the self-loading. In addition, it will calculate the error between the two approaches. NOTE locations must be enteted in descending order acording to heights (i.e the topmost location must be location 1 with subsequent locations being more basal as shown in Figure 1)
B3: Location # | C3: Height, h (mm) | D3: Force, F (N) | E3: Moment, M (Nmm) | F3: Weight, w (N)
B4: 1 | C4: 0 | D4: 0 | E4: 0 | F4: 0
B5: 2 | C5: 0 | D5: 0 | E5: 0 | F5: 0
B6: 3 | C6: 0 | D6: 0 | E6: 0 | F6: 0
B7: 4 | C7: 0 | D7: 0 | E7: 0 | F7: 0
B8: 5 | C8: 0 | D8: 0 | E8: 0 | F8: 0
B9: 6 | C9: 0 | D9: 0 | E9: 0 | F9: 0
B10: 7 | C10: 0 | D10: 0 | E10: 0 | F10: 0
B11: 8 | C11: 0 | D11: 0 | E11: 0 | F11: 0
B12: 9 | C12: 0 | D12: 0 | E12: 0 | F12: 0
B13: 10 | C13: 0 | D13: 0 | E13: 0 | F13: 0
D15: Flexural Stiffness, EI (Nmm^2) | F15: 10000000
B18: OUTPUTS
B19: Location # | C19: Self-Loading Included | F19: Self-Loading Ignored | H19: Error (%)
C20: Weight-Induced Moment, W (Nmm) | D20: Deflection, d (mm) | E20: M_TOTAL, (Nmm) | F20: Deflection, d (mm) | G20: M_TOTAL, (Nmm) | H20: Deflection (%) | I20: M_TOTAL (%)
B21: 1 | C21: =IF(ISBLANK(C4)," ",Sheet2!AA40) -> 0 | D21: =IF(ISBLANK(C4)," ",Sheet2!AA30) -> 0 | E21: =IF(ISBLANK(C4)," ",Sheet2!J106) -> 0 | F21: =IF(ISBLANK(C4)," ",Sheet2!AA80) -> 0 | G21: =IF(ISBLANK(C4)," ",Sheet2!I106) -> 0 | H21: =IF(OR(D21=0, D21=" ")," ",ABS(D21-F21)/D21*100) | I21: =IF(OR(E21=0, E21=" ")," ",ABS(E21-G21)/E21*100)
B22: 2 | C22: =IF(ISBLANK(C5)," ",Sheet2!AA41) -> 0 | D22: =IF(ISBLANK(C5)," ",Sheet2!AA31) -> 0 | E22: =IF(ISBLANK(C5)," ",Sheet2!J107) -> 0 | F22: =IF(ISBLANK(C5)," ",Sheet2!AA81) -> 0 | G22: =IF(ISBLANK(C5)," ",Sheet2!I107) -> 0 | H22: =IF(OR(D22=0, D22=" ")," ",ABS(D22-F22)/D22*100) | I22: =IF(OR(E22=0, E22=" ")," ",ABS(E22-G22)/E22*100)
B23: 3 | C23: =IF(ISBLANK(C6)," ",Sheet2!AA42) -> 0 | D23: =IF(ISBLANK(C6)," ",Sheet2!AA32) -> 0 | E23: =IF(ISBLANK(C6)," ",Sheet2!J108) -> 0 | F23: =IF(ISBLANK(C6)," ",Sheet2!AA82) -> 0 | G23: =IF(ISBLANK(C6)," ",Sheet2!I108) -> 0 | H23: =IF(OR(D23=0, D23=" ")," ",ABS(D23-F23)/D23*100) | I23: =IF(OR(E23=0, E23=" ")," ",ABS(E23-G23)/E23*100)
B24: 4 | C24: =IF(ISBLANK(C7)," ",Sheet2!AA43) -> 0 | D24: =IF(ISBLANK(C7)," ",Sheet2!AA33) -> 0 | E24: =IF(ISBLANK(C7)," ",Sheet2!J109) -> 0 | F24: =IF(ISBLANK(C7)," ",Sheet2!AA83) -> 0 | G24: =IF(ISBLANK(C7)," ",Sheet2!I109) -> 0 | H24: =IF(OR(D24=0, D24=" ")," ",ABS(D24-F24)/D24*100) | I24: =IF(OR(E24=0, E24=" ")," ",ABS(E24-G24)/E24*100)
B25: 5 | C25: =IF(ISBLANK(C8)," ",Sheet2!AA44) -> 0 | D25: =IF(ISBLANK(C8)," ",Sheet2!AA34) -> 0 | E25: =IF(ISBLANK(C8)," ",Sheet2!J110) -> 0 | F25: =IF(ISBLANK(C8)," ",Sheet2!AA84) -> 0 | G25: =IF(ISBLANK(C8)," ",Sheet2!I110) -> 0 | H25: =IF(OR(D25=0, D25=" ")," ",ABS(D25-F25)/D25*100) | I25: =IF(OR(E25=0, E25=" ")," ",ABS(E25-G25)/E25*100)
B26: 6 | C26: =IF(ISBLANK(C9)," ",Sheet2!AA45) -> 0 | D26: =IF(ISBLANK(C9)," ",Sheet2!AA35) -> 0 | E26: =IF(ISBLANK(C9)," ",Sheet2!J111) -> 0 | F26: =IF(ISBLANK(C9)," ",Sheet2!AA85) -> 0 | G26: =IF(ISBLANK(C9)," ",Sheet2!I111) -> 0 | H26: =IF(OR(D26=0, D26=" ")," ",ABS(D26-F26)/D26*100) | I26: =IF(OR(E26=0, E26=" ")," ",ABS(E26-G26)/E26*100)
B27: 7 | C27: =IF(ISBLANK(C10)," ",Sheet2!AA46) -> 0 | D27: =IF(ISBLANK(C10)," ",Sheet2!AA36) -> 0 | E27: =IF(ISBLANK(C10)," ",Sheet2!J112) -> 0 | F27: =IF(ISBLANK(C10)," ",Sheet2!AA86) -> 0 | G27: =IF(ISBLANK(C10)," ",Sheet2!I112) -> 0 | H27: =IF(OR(D27=0, D27=" ")," ",ABS(D27-F27)/D27*100) | I27: =IF(OR(E27=0, E27=" ")," ",ABS(E27-G27)/E27*100)
B28: 8 | C28: =IF(ISBLANK(C11)," ",Sheet2!AA47) -> 0 | D28: =IF(ISBLANK(C11)," ",Sheet2!AA37) -> 0 | E28: =IF(ISBLANK(C11)," ",Sheet2!J113) -> 0 | F28: =IF(ISBLANK(C11)," ",Sheet2!AA87) -> 0 | G28: =IF(ISBLANK(C11)," ",Sheet2!I113) -> 0 | H28: =IF(OR(D28=0, D28=" ")," ",ABS(D28-F28)/D28*100) | I28: =IF(OR(E28=0, E28=" ")," ",ABS(E28-G28)/E28*100)
B29: 9 | C29: =IF(ISBLANK(C12)," ",Sheet2!AA48) -> 0 | D29: =IF(ISBLANK(C12)," ",Sheet2!AA38) -> 0 | E29: =IF(ISBLANK(C12)," ",Sheet2!J114) -> 0 | F29: =IF(ISBLANK(C12)," ",Sheet2!AA88) -> 0 | G29: =IF(ISBLANK(C12)," ",Sheet2!I114) -> 0 | H29: =IF(OR(D29=0, D29=" ")," ",ABS(D29-F29)/D29*100) | I29: =IF(OR(E29=0, E29=" ")," ",ABS(E29-G29)/E29*100)
B30: 10 | C30: =IF(ISBLANK(C13)," ",Sheet2!AA49) -> 0 | D30: =IF(ISBLANK(C13)," ",Sheet2!AA39) -> 0 | E30: =IF(ISBLANK(C13)," ",Sheet2!J115) -> 0 | F30: =IF(ISBLANK(C13)," ",Sheet2!AA89) -> 0 | G30: =IF(ISBLANK(C13)," ",Sheet2!I115) -> 0 | H30: =IF(OR(D30=0, D30=" ")," ",ABS(D30-F30)/D30*100) | I30: =IF(OR(E30=0, E30=" ")," ",ABS(E30-G30)/E30*100)

Sheet Sheet2
B3: WITH WEIGHTS
B6: Square Matrix | X6: F | AI6: M
B7: 1 | C7: 0 | D7: 0 | E7: 0 | F7: 0 | G7: 0 | H7: 0 | I7: 0 | J7: 0 | K7: 0 | L7: =-1*Sheet1!C4^2/(2*Sheet1!$F$15) -> 0 | M7: =-1*(Sheet1!C4^2-(Sheet1!C5-Sheet1!C4)^2)/(2*Sheet1!$F$15) -> 0 | N7: =-1*(Sheet1!C4^2-(Sheet1!C6-Sheet1!C4)^2)/(2*Sheet1!$F$15) -> 0 | O7: =-1*(Sheet1!C4^2-(Sheet1!C7-Sheet1!C4)^2)/(2*Sheet1!$F$15) -> 0 | P7: =-1*(Sheet1!C4^2-(Sheet1!C8-Sheet1!C4)^2)/(2*Sheet1!$F$15) -> 0 | Q7: =-1*(Sheet1!C4^2-(Sheet1!C9-Sheet1!C4)^2)/(2*Sheet1!$F$15) -> 0 | R7: =-1*(Sheet1!C4^2-(Sheet1!C10-Sheet1!C4)^2)/(2*Sheet1!$F$15) -> 0 | S7: =-1*(Sheet1!C4^2-(Sheet1!C11-Sheet1!C4)^2)/(2*Sheet1!$F$15) -> 0 | T7: =-1*(Sheet1!C4^2-(Sheet1!C12-Sheet1!C4)^2)/(2*Sheet1!$F$15) -> 0 | U7: =-1*(Sheet1!C4^2-(Sheet1!C13-Sheet1!C4)^2)/(2*Sheet1!$F$15) -> 0 | X7: =Sheet1!$D4*Sheet1!$C4^3/(3*Sheet1!$F$15) -> 0 | Y7: =Sheet1!$D$5*(2*Sheet1!$C4^3-3*Sheet1!$C4^2*(Sheet1!$C4-Sheet1!$C$5)+(Sheet1!$C4-Sheet1!$C$5)^3)/(6*Sheet1!$F$15) -> 0 | Z7: =Sheet1!$D$6*(2*Sheet1!$C4^3-3*Sheet1!$C4^2*(Sheet1!$C4-Sheet1!$C$6)+(Sheet1!$C4-Sheet1!$C$6)^3)/(6*Sheet1!$F$15) -> 0 | AA7: =Sheet1!$D$7*(2*Sheet1!$C4^3-3*Sheet1!$C4^2*(Sheet1!$C4-Sheet1!$C$7)+(Sheet1!$C4-Sheet1!$C$7)^3)/(6*Sheet1!$F$15) -> 0 | AB7: =Sheet1!$D$8*(2*Sheet1!$C4^3-3*Sheet1!$C4^2*(Sheet1!$C4-Sheet1!$C$8)+(Sheet1!$C4-Sheet1!$C$8)^3)/(6*Sheet1!$F$15) -> 0 | AC7: =Sheet1!$D$9*(2*Sheet1!$C4^3-3*Sheet1!$C4^2*(Sheet1!$C4-Sheet1!$C$9)+(Sheet1!$C4-Sheet1!$C$9)^3)/(6*Sheet1!$F$15) -> 0 | AD7: =Sheet1!$D$10*(2*Sheet1!$C4^3-3*Sheet1!$C4^2*(Sheet1!$C4-Sheet1!$C$10)+(Sheet1!$C4-Sheet1!$C$10)^3)/(6*Sheet1!$F$15) -> 0 | AE7: =Sheet1!$D$11*(2*Sheet1!$C4^3-3*Sheet1!$C4^2*(Sheet1!$C4-Sheet1!$C$11)+(Sheet1!$C4-Sheet1!$C$11)^3)/(6*Sheet1!$F$15) -> 0 | AF7: =Sheet1!$D$12*(2*Sheet1!$C4^3-3*Sheet1!$C4^2*(Sheet1!$C4-Sheet1!$C$12)+(Sheet1!$C4-Sheet1!$C$12)^3)/(6*Sheet1!$F$15) -> 0 | AG7: =Sheet1!$D$13*(2*Sheet1!$C4^3-3*Sheet1!$C4^2*(Sheet1!$C4-Sheet1!$C$13)+(Sheet1!$C4-Sheet1!$C$13)^3)/(6*Sheet1!$F$15) -> 0 | AI7: =Sheet1!$E$4*Sheet1!$C4^2/(6*Sheet1!$F$15) -> 0 | AJ7: =Sheet1!$E$5*(Sheet1!$C4^2-(Sheet1!$C4-Sheet1!$C$5)^2)/(6*Sheet1!$F$15) -> 0 | AK7: =Sheet1!$E$6*(Sheet1!$C4^2-(Sheet1!$C4-Sheet1!$C$6)^2)/(6*Sheet1!$F$15) -> 0 | AL7: =Sheet1!$E$7*(Sheet1!$C4^2-(Sheet1!$C4-Sheet1!$C$7)^2)/(6*Sheet1!$F$15) -> 0 | AM7: =Sheet1!$E$8*(Sheet1!$C4^2-(Sheet1!$C4-Sheet1!$C$8)^2)/(6*Sheet1!$F$15) -> 0 | AN7: =Sheet1!$E$9*(Sheet1!$C4^2-(Sheet1!$C4-Sheet1!$C$9)^2)/(6*Sheet1!$F$15) -> 0 | AO7: =Sheet1!$E$10*(Sheet1!$C4^2-(Sheet1!$C4-Sheet1!$C$10)^2)/(6*Sheet1!$F$15) -> 0 | AP7: =Sheet1!$E$11*(Sheet1!$C4^2-(Sheet1!$C4-Sheet1!$C$11)^2)/(6*Sheet1!$F$15) -> 0 | AQ7: =Sheet1!$E$12*(Sheet1!$C4^2-(Sheet1!$C4-Sheet1!$C$12)^2)/(6*Sheet1!$F$15) -> 0 | AR7: =Sheet1!$E$13*(Sheet1!$C4^2-(Sheet1!$C4-Sheet1!$C$13)^2)/(6*Sheet1!$F$15) -> 0
B8: 0 | C8: 1 | D8: 0 | E8: 0 | F8: 0 | G8: 0 | H8: 0 | I8: 0 | J8: 0 | K8: 0 | L8: =-1*Sheet1!C5^2/(2*Sheet1!$F$15) -> 0 | M8: =-1*Sheet1!C5^2/(2*Sheet1!$F$15) -> 0 | N8: =-1*(Sheet1!C5^2-(Sheet1!C6-Sheet1!C5)^2)/(2*Sheet1!$F$15) -> 0 | O8: =-1*(Sheet1!C5^2-(Sheet1!C7-Sheet1!C5)^2)/(2*Sheet1!$F$15) -> 0 | P8: =-1*(Sheet1!C5^2-(Sheet1!C8-Sheet1!C5)^2)/(2*Sheet1!$F$15) -> 0 | Q8: =-1*(Sheet1!C5^2-(Sheet1!C9-Sheet1!C5)^2)/(2*Sheet1!$F$15) -> 0 | R8: =-1*(Sheet1!C5^2-(Sheet1!C10-Sheet1!C5)^2)/(2*Sheet1!$F$15) -> 0 | S8: =-1*(Sheet1!C5^2-(Sheet1!C11-Sheet1!C5)^2)/(2*Sheet1!$F$15) -> 0 | T8: =-1*(Sheet1!C5^2-(Sheet1!C12-Sheet1!C5)^2)/(2*Sheet1!$F$15) -> 0 | U8: =-1*(Sheet1!C5^2-(Sheet1!C13-Sheet1!C5)^2)/(2*Sheet1!$F$15) -> 0 | X8: =Sheet1!$D$4*(Sheet1!$C5^2*(3*Sheet1!$C$4-Sheet1!$C5))/(6*Sheet1!$F$15) -> 0 | Y8: =Sheet1!$D5*Sheet1!$C5^3/(3*Sheet1!$F$15) -> 0 | Z8: =Sheet1!$D$6*(2*Sheet1!$C5^3-3*Sheet1!$C5^2*(Sheet1!$C5-Sheet1!$C$6)+(Sheet1!$C5-Sheet1!$C$6)^3)/(6*Sheet1!$F$15) -> 0 | AA8: =Sheet1!$D$7*(2*Sheet1!$C5^3-3*Sheet1!$C5^2*(Sheet1!$C5-Sheet1!$C$7)+(Sheet1!$C5-Sheet1!$C$7)^3)/(6*Sheet1!$F$15) -> 0 | AB8: =Sheet1!$D$8*(2*Sheet1!$C5^3-3*Sheet1!$C5^2*(Sheet1!$C5-Sheet1!$C$8)+(Sheet1!$C5-Sheet1!$C$8)^3)/(6*Sheet1!$F$15) -> 0 | AC8: =Sheet1!$D$9*(2*Sheet1!$C5^3-3*Sheet1!$C5^2*(Sheet1!$C5-Sheet1!$C$9)+(Sheet1!$C5-Sheet1!$C$9)^3)/(6*Sheet1!$F$15) -> 0 | AD8: =Sheet1!$D$10*(2*Sheet1!$C5^3-3*Sheet1!$C5^2*(Sheet1!$C5-Sheet1!$C$10)+(Sheet1!$C5-Sheet1!$C$10)^3)/(6*Sheet1!$F$15) -> 0 | AE8: =Sheet1!$D$11*(2*Sheet1!$C5^3-3*Sheet1!$C5^2*(Sheet1!$C5-Sheet1!$C$11)+(Sheet1!$C5-Sheet1!$C$11)^3)/(6*Sheet1!$F$15) -> 0 | AF8: =Sheet1!$D$12*(2*Sheet1!$C5^3-3*Sheet1!$C5^2*(Sheet1!$C5-Sheet1!$C$12)+(Sheet1!$C5-Sheet1!$C$12)^3)/(6*Sheet1!$F$15) -> 0 | AG8: =Sheet1!$D$13*(2*Sheet1!$C5^3-3*Sheet1!$C5^2*(Sheet1!$C5-Sheet1!$C$13)+(Sheet1!$C5-Sheet1!$C$13)^3)/(6*Sheet1!$F$15) -> 0 | AI8: =Sheet1!$E$4*Sheet1!$C5^2/(6*Sheet1!$F$15) -> 0 | AJ8: =Sheet1!$E$5*Sheet1!$C5^2/(6*Sheet1!$F$15) -> 0 | AK8: =Sheet1!$E$6*(Sheet1!$C5^2-(Sheet1!$C5-Sheet1!$C$6)^2)/(6*Sheet1!$F$15) -> 0 | AL8: =Sheet1!$E$7*(Sheet1!$C5^2-(Sheet1!$C5-Sheet1!$C$7)^2)/(6*Sheet1!$F$15) -> 0 | AM8: =Sheet1!$E$8*(Sheet1!$C5^2-(Sheet1!$C5-Sheet1!$C$8)^2)/(6*Sheet1!$F$15) -> 0 | AN8: =Sheet1!$E$9*(Sheet1!$C5^2-(Sheet1!$C5-Sheet1!$C$9)^2)/(6*Sheet1!$F$15) -> 0 | AO8: =Sheet1!$E$10*(Sheet1!$C5^2-(Sheet1!$C5-Sheet1!$C$10)^2)/(6*Sheet1!$F$15) -> 0 | AP8: =Sheet1!$E$11*(Sheet1!$C5^2-(Sheet1!$C5-Sheet1!$C$11)^2)/(6*Sheet1!$F$15) -> 0 | AQ8: =Sheet1!$E$12*(Sheet1!$C5^2-(Sheet1!$C5-Sheet1!$C$12)^2)/(6*Sheet1!$F$15) -> 0 | AR8: =Sheet1!$E$13*(Sheet1!$C5^2-(Sheet1!$C5-Sheet1!$C$13)^2)/(6*Sheet1!$F$15) -> 0
B9: 0 | C9: 0 | D9: 1 | E9: 0 | F9: 0 | G9: 0 | H9: 0 | I9: 0 | J9: 0 | K9: 0 | L9: =-1*Sheet1!C6^2/(2*Sheet1!$F$15) -> 0 | M9: =-1*Sheet1!C6^2/(2*Sheet1!$F$15) -> 0 | N9: =-1*Sheet1!C6^2/(2*Sheet1!$F$15) -> 0 | O9: =-1*(Sheet1!C6^2-(Sheet1!C7-Sheet1!C6)^2)/(2*Sheet1!$F$15) -> 0 | P9: =-1*(Sheet1!C6^2-(Sheet1!C8-Sheet1!C6)^2)/(2*Sheet1!$F$15) -> 0 | Q9: =-1*(Sheet1!C6^2-(Sheet1!C9-Sheet1!C6)^2)/(2*Sheet1!$F$15) -> 0 | R9: =-1*(Sheet1!C6^2-(Sheet1!C10-Sheet1!C6)^2)/(2*Sheet1!$F$15) -> 0 | S9: =-1*(Sheet1!C6^2-(Sheet1!C11-Sheet1!C6)^2)/(2*Sheet1!$F$15) -> 0 | T9: =-1*(Sheet1!C6^2-(Sheet1!C12-Sheet1!C6)^2)/(2*Sheet1!$F$15) -> 0 | U9: =-1*(Sheet1!C6^2-(Sheet1!C13-Sheet1!C6)^2)/(2*Sheet1!$F$15) -> 0 | X9: =Sheet1!$D$4*(Sheet1!$C6^2*(3*Sheet1!$C$4-Sheet1!$C6))/(6*Sheet1!$F$15) -> 0 | Y9: =Sheet1!$D$5*(Sheet1!$C6^2*(3*Sheet1!$C$4-Sheet1!$C6))/(6*Sheet1!$F$15) -> 0 | Z9: =Sheet1!$D6*Sheet1!$C6^3/(3*Sheet1!$F$15) -> 0 | AA9: =Sheet1!$D$7*(2*Sheet1!$C6^3-3*Sheet1!$C6^2*(Sheet1!$C6-Sheet1!$C$7)+(Sheet1!$C6-Sheet1!$C$7)^3)/(6*Sheet1!$F$15) -> 0 | AB9: =Sheet1!$D$8*(2*Sheet1!$C6^3-3*Sheet1!$C6^2*(Sheet1!$C6-Sheet1!$C$8)+(Sheet1!$C6-Sheet1!$C$8)^3)/(6*Sheet1!$F$15) -> 0 | AC9: =Sheet1!$D$9*(2*Sheet1!$C6^3-3*Sheet1!$C6^2*(Sheet1!$C6-Sheet1!$C$9)+(Sheet1!$C6-Sheet1!$C$9)^3)/(6*Sheet1!$F$15) -> 0 | AD9: =Sheet1!$D$10*(2*Sheet1!$C6^3-3*Sheet1!$C6^2*(Sheet1!$C6-Sheet1!$C$10)+(Sheet1!$C6-Sheet1!$C$10)^3)/(6*Sheet1!$F$15) -> 0 | AE9: =Sheet1!$D$11*(2*Sheet1!$C6^3-3*Sheet1!$C6^2*(Sheet1!$C6-Sheet1!$C$11)+(Sheet1!$C6-Sheet1!$C$11)^3)/(6*Sheet1!$F$15) -> 0 | AF9: =Sheet1!$D$12*(2*Sheet1!$C6^3-3*Sheet1!$C6^2*(Sheet1!$C6-Sheet1!$C$12)+(Sheet1!$C6-Sheet1!$C$12)^3)/(6*Sheet1!$F$15) -> 0 | AG9: =Sheet1!$D$13*(2*Sheet1!$C6^3-3*Sheet1!$C6^2*(Sheet1!$C6-Sheet1!$C$13)+(Sheet1!$C6-Sheet1!$C$13)^3)/(6*Sheet1!$F$15) -> 0 | AI9: =Sheet1!$E$4*Sheet1!$C6^2/(6*Sheet1!$F$15) -> 0 | AJ9: =Sheet1!$E$5*Sheet1!$C6^2/(6*Sheet1!$F$15) -> 0 | AK9: =Sheet1!$E$6*Sheet1!$C6^2/(6*Sheet1!$F$15) -> 0 | AL9: =Sheet1!$E$7*(Sheet1!$C6^2-(Sheet1!$C6-Sheet1!$C$7)^2)/(6*Sheet1!$F$15) -> 0 | AM9: =Sheet1!$E$8*(Sheet1!$C6^2-(Sheet1!$C6-Sheet1!$C$8)^2)/(6*Sheet1!$F$15) -> 0 | AN9: =Sheet1!$E$9*(Sheet1!$C6^2-(Sheet1!$C6-Sheet1!$C$9)^2)/(6*Sheet1!$F$15) -> 0 | AO9: =Sheet1!$E$10*(Sheet1!$C6^2-(Sheet1!$C6-Sheet1!$C$10)^2)/(6*Sheet1!$F$15) -> 0 | AP9: =Sheet1!$E$11*(Sheet1!$C6^2-(Sheet1!$C6-Sheet1!$C$11)^2)/(6*Sheet1!$F$15) -> 0 | AQ9: =Sheet1!$E$12*(Sheet1!$C6^2-(Sheet1!$C6-Sheet1!$C$12)^2)/(6*Sheet1!$F$15) -> 0 | AR9: =Sheet1!$E$13*(Sheet1!$C6^2-(Sheet1!$C6-Sheet1!$C$13)^2)/(6*Sheet1!$F$15) -> 0
B10: 0 | C10: 0 | D10: 0 | E10: 1 | F10: 0 | G10: 0 | H10: 0 | I10: 0 | J10: 0 | K10: 0 | L10: =-1*Sheet1!C7^2/(2*Sheet1!$F$15) -> 0 | M10: =-1*Sheet1!C7^2/(2*Sheet1!$F$15) -> 0 | N10: =-1*Sheet1!C7^2/(2*Sheet1!$F$15) -> 0 | O10: =-1*Sheet1!C7^2/(2*Sheet1!$F$15) -> 0 | P10: =-1*(Sheet1!C7^2-(Sheet1!C8-Sheet1!C7)^2)/(2*Sheet1!$F$15) -> 0 | Q10: =-1*(Sheet1!C7^2-(Sheet1!C9-Sheet1!C7)^2)/(2*Sheet1!$F$15) -> 0 | R10: =-1*(Sheet1!C7^2-(Sheet1!C10-Sheet1!C7)^2)/(2*Sheet1!$F$15) -> 0 | S10: =-1*(Sheet1!C7^2-(Sheet1!C11-Sheet1!C7)^2)/(2*Sheet1!$F$15) -> 0 | T10: =-1*(Sheet1!C7^2-(Sheet1!C12-Sheet1!C7)^2)/(2*Sheet1!$F$15) -> 0 | U10: =-1*(Sheet1!C7^2-(Sheet1!C13-Sheet1!C7)^2)/(2*Sheet1!$F$15) -> 0 | X10: =Sheet1!$D$4*(Sheet1!$C7^2*(3*Sheet1!$C$4-Sheet1!$C7))/(6*Sheet1!$F$15) -> 0 | Y10: =Sheet1!$D$5*(Sheet1!$C7^2*(3*Sheet1!$C$4-Sheet1!$C7))/(6*Sheet1!$F$15) -> 0 | Z10: =Sheet1!$D$6*(Sheet1!$C7^2*(3*Sheet1!$C$4-Sheet1!$C7))/(6*Sheet1!$F$15) -> 0 | AA10: =Sheet1!$D7*Sheet1!$C7^3/(3*Sheet1!$F$15) -> 0 | AB10: =Sheet1!$D$8*(2*Sheet1!$C7^3-3*Sheet1!$C7^2*(Sheet1!$C7-Sheet1!$C$8)+(Sheet1!$C7-Sheet1!$C$8)^3)/(6*Sheet1!$F$15) -> 0 | AC10: =Sheet1!$D$9*(2*Sheet1!$C7^3-3*Sheet1!$C7^2*(Sheet1!$C7-Sheet1!$C$9)+(Sheet1!$C7-Sheet1!$C$9)^3)/(6*Sheet1!$F$15) -> 0 | AD10: =Sheet1!$D$10*(2*Sheet1!$C7^3-3*Sheet1!$C7^2*(Sheet1!$C7-Sheet1!$C$10)+(Sheet1!$C7-Sheet1!$C$10)^3)/(6*Sheet1!$F$15) -> 0 | AE10: =Sheet1!$D$11*(2*Sheet1!$C7^3-3*Sheet1!$C7^2*(Sheet1!$C7-Sheet1!$C$11)+(Sheet1!$C7-Sheet1!$C$11)^3)/(6*Sheet1!$F$15) -> 0 | AF10: =Sheet1!$D$12*(2*Sheet1!$C7^3-3*Sheet1!$C7^2*(Sheet1!$C7-Sheet1!$C$12)+(Sheet1!$C7-Sheet1!$C$12)^3)/(6*Sheet1!$F$15) -> 0 | AG10: =Sheet1!$D$13*(2*Sheet1!$C7^3-3*Sheet1!$C7^2*(Sheet1!$C7-Sheet1!$C$13)+(Sheet1!$C7-Sheet1!$C$13)^3)/(6*Sheet1!$F$15) -> 0 | AI10: =Sheet1!$E$4*Sheet1!$C7^2/(6*Sheet1!$F$15) -> 0 | AJ10: =Sheet1!$E$5*Sheet1!$C7^2/(6*Sheet1!$F$15) -> 0 | AK10: =Sheet1!$E$6*Sheet1!$C7^2/(6*Sheet1!$F$15) -> 0 | AL10: =Sheet1!$E$7*Sheet1!$C7^2/(6*Sheet1!$F$15) -> 0 | AM10: =Sheet1!$E$8*(Sheet1!$C7^2-(Sheet1!$C7-Sheet1!$C$8)^2)/(6*Sheet1!$F$15) -> 0 | AN10: =Sheet1!$E$9*(Sheet1!$C7^2-(Sheet1!$C7-Sheet1!$C$9)^2)/(6*Sheet1!$F$15) -> 0 | AO10: =Sheet1!$E$10*(Sheet1!$C7^2-(Sheet1!$C7-Sheet1!$C$10)^2)/(6*Sheet1!$F$15) -> 0 | AP10: =Sheet1!$E$11*(Sheet1!$C7^2-(Sheet1!$C7-Sheet1!$C$11)^2)/(6*Sheet1!$F$15) -> 0 | AQ10: =Sheet1!$E$12*(Sheet1!$C7^2-(Sheet1!$C7-Sheet1!$C$12)^2)/(6*Sheet1!$F$15) -> 0 | AR10: =Sheet1!$E$13*(Sheet1!$C7^2-(Sheet1!$C7-Sheet1!$C$13)^2)/(6*Sheet1!$F$15) -> 0
B11: 0 | C11: 0 | D11: 0 | E11: 0 | F11: 1 | G11: 0 | H11: 0 | I11: 0 | J11: 0 | K11: 0 | L11: =-1*Sheet1!C8^2/(2*Sheet1!$F$15) -> 0 | M11: =-1*Sheet1!C8^2/(2*Sheet1!$F$15) -> 0 | N11: =-1*Sheet1!C8^2/(2*Sheet1!$F$15) -> 0 | O11: =-1*Sheet1!C8^2/(2*Sheet1!$F$15) -> 0 | P11: =-1*Sheet1!C8^2/(2*Sheet1!$F$15) -> 0 | Q11: =-1*(Sheet1!C8^2-(Sheet1!C9-Sheet1!C8)^2)/(2*Sheet1!$F$15) -> 0 | R11: =-1*(Sheet1!C8^2-(Sheet1!C10-Sheet1!C8)^2)/(2*Sheet1!$F$15) -> 0 | S11: =-1*(Sheet1!C8^2-(Sheet1!C11-Sheet1!C8)^2)/(2*Sheet1!$F$15) -> 0 | T11: =-1*(Sheet1!C8^2-(Sheet1!C12-Sheet1!C8)^2)/(2*Sheet1!$F$15) -> 0 | U11: =-1*(Sheet1!C8^2-(Sheet1!C13-Sheet1!C8)^2)/(2*Sheet1!$F$15) -> 0 | X11: =Sheet1!$D$4*(Sheet1!$C8^2*(3*Sheet1!$C$4-Sheet1!$C8))/(6*Sheet1!$F$15) -> 0 | Y11: =Sheet1!$D$5*(Sheet1!$C8^2*(3*Sheet1!$C$4-Sheet1!$C8))/(6*Sheet1!$F$15) -> 0 | Z11: =Sheet1!$D$6*(Sheet1!$C8^2*(3*Sheet1!$C$4-Sheet1!$C8))/(6*Sheet1!$F$15) -> 0 | AA11: =Sheet1!$D$7*(Sheet1!$C8^2*(3*Sheet1!$C$4-Sheet1!$C8))/(6*Sheet1!$F$15) -> 0 | AB11: =Sheet1!$D8*Sheet1!$C8^3/(3*Sheet1!$F$15) -> 0 | AC11: =Sheet1!$D$9*(2*Sheet1!$C8^3-3*Sheet1!$C8^2*(Sheet1!$C8-Sheet1!$C$9)+(Sheet1!$C8-Sheet1!$C$9)^3)/(6*Sheet1!$F$15) -> 0 | AD11: =Sheet1!$D$10*(2*Sheet1!$C8^3-3*Sheet1!$C8^2*(Sheet1!$C8-Sheet1!$C$10)+(Sheet1!$C8-Sheet1!$C$10)^3)/(6*Sheet1!$F$15) -> 0 | AE11: =Sheet1!$D$11*(2*Sheet1!$C8^3-3*Sheet1!$C8^2*(Sheet1!$C8-Sheet1!$C$11)+(Sheet1!$C8-Sheet1!$C$11)^3)/(6*Sheet1!$F$15) -> 0 | AF11: =Sheet1!$D$12*(2*Sheet1!$C8^3-3*Sheet1!$C8^2*(Sheet1!$C8-Sheet1!$C$12)+(Sheet1!$C8-Sheet1!$C$12)^3)/(6*Sheet1!$F$15) -> 0 | AG11: =Sheet1!$D$13*(2*Sheet1!$C8^3-3*Sheet1!$C8^2*(Sheet1!$C8-Sheet1!$C$13)+(Sheet1!$C8-Sheet1!$C$13)^3)/(6*Sheet1!$F$15) -> 0 | AI11: =Sheet1!$E$4*Sheet1!$C8^2/(6*Sheet1!$F$15) -> 0 | AJ11: =Sheet1!$E$5*Sheet1!$C8^2/(6*Sheet1!$F$15) -> 0 | AK11: =Sheet1!$E$6*Sheet1!$C8^2/(6*Sheet1!$F$15) -> 0 | AL11: =Sheet1!$E$7*Sheet1!$C8^2/(6*Sheet1!$F$15) -> 0 | AM11: =Sheet1!$E$8*Sheet1!$C8^2/(6*Sheet1!$F$15) -> 0 | AN11: =Sheet1!$E$9*(Sheet1!$C8^2-(Sheet1!$C8-Sheet1!$C$9)^2)/(6*Sheet1!$F$15) -> 0 | AO11: =Sheet1!$E$10*(Sheet1!$C8^2-(Sheet1!$C8-Sheet1!$C$10)^2)/(6*Sheet1!$F$15) -> 0 | AP11: =Sheet1!$E$11*(Sheet1!$C8^2-(Sheet1!$C8-Sheet1!$C$11)^2)/(6*Sheet1!$F$15) -> 0 | AQ11: =Sheet1!$E$12*(Sheet1!$C8^2-(Sheet1!$C8-Sheet1!$C$12)^2)/(6*Sheet1!$F$15) -> 0 | AR11: =Sheet1!$E$13*(Sheet1!$C8^2-(Sheet1!$C8-Sheet1!$C$13)^2)/(6*Sheet1!$F$15) -> 0
B12: 0 | C12: 0 | D12: 0 | E12: 0 | F12: 0 | G12: 1 | H12: 0 | I12: 0 | J12: 0 | K12: 0 | L12: =-1*Sheet1!C9^2/(2*Sheet1!$F$15) -> 0 | M12: =-1*Sheet1!C9^2/(2*Sheet1!$F$15) -> 0 | N12: =-1*Sheet1!C9^2/(2*Sheet1!$F$15) -> 0 | O12: =-1*Sheet1!C9^2/(2*Sheet1!$F$15) -> 0 | P12: =-1*Sheet1!C9^2/(2*Sheet1!$F$15) -> 0 | Q12: =-1*Sheet1!C9^2/(2*Sheet1!$F$15) -> 0 | R12: =-1*(Sheet1!C9^2-(Sheet1!C10-Sheet1!C9)^2)/(2*Sheet1!$F$15) -> 0 | S12: =-1*(Sheet1!C9^2-(Sheet1!C11-Sheet1!C9)^2)/(2*Sheet1!$F$15) -> 0 | T12: =-1*(Sheet1!C9^2-(Sheet1!C12-Sheet1!C9)^2)/(2*Sheet1!$F$15) -> 0 | U12: =-1*(Sheet1!C9^2-(Sheet1!C13-Sheet1!C9)^2)/(2*Sheet1!$F$15) -> 0 | X12: =Sheet1!$D$4*(Sheet1!$C9^2*(3*Sheet1!$C$4-Sheet1!$C9))/(6*Sheet1!$F$15) -> 0 | Y12: =Sheet1!$D$5*(Sheet1!$C9^2*(3*Sheet1!$C$4-Sheet1!$C9))/(6*Sheet1!$F$15) -> 0 | Z12: =Sheet1!$D$6*(Sheet1!$C9^2*(3*Sheet1!$C$4-Sheet1!$C9))/(6*Sheet1!$F$15) -> 0 | AA12: =Sheet1!$D$7*(Sheet1!$C9^2*(3*Sheet1!$C$4-Sheet1!$C9))/(6*Sheet1!$F$15) -> 0 | AB12: =Sheet1!$D$8*(Sheet1!$C9^2*(3*Sheet1!$C$4-Sheet1!$C9))/(6*Sheet1!$F$15) -> 0 | AC12: =Sheet1!$D9*Sheet1!$C9^3/(3*Sheet1!$F$15) -> 0 | AD12: =Sheet1!$D$10*(2*Sheet1!$C9^3-3*Sheet1!$C9^2*(Sheet1!$C9-Sheet1!$C$10)+(Sheet1!$C9-Sheet1!$C$10)^3)/(6*Sheet1!$F$15) -> 0 | AE12: =Sheet1!$D$11*(2*Sheet1!$C9^3-3*Sheet1!$C9^2*(Sheet1!$C9-Sheet1!$C$11)+(Sheet1!$C9-Sheet1!$C$11)^3)/(6*Sheet1!$F$15) -> 0 | AF12: =Sheet1!$D$12*(2*Sheet1!$C9^3-3*Sheet1!$C9^2*(Sheet1!$C9-Sheet1!$C$12)+(Sheet1!$C9-Sheet1!$C$12)^3)/(6*Sheet1!$F$15) -> 0 | AG12: =Sheet1!$D$13*(2*Sheet1!$C9^3-3*Sheet1!$C9^2*(Sheet1!$C9-Sheet1!$C$13)+(Sheet1!$C9-Sheet1!$C$13)^3)/(6*Sheet1!$F$15) -> 0 | AI12: =Sheet1!$E$4*Sheet1!$C9^2/(6*Sheet1!$F$15) -> 0 | AJ12: =Sheet1!$E$5*Sheet1!$C9^2/(6*Sheet1!$F$15) -> 0 | AK12: =Sheet1!$E$6*Sheet1!$C9^2/(6*Sheet1!$F$15) -> 0 | AL12: =Sheet1!$E$7*Sheet1!$C9^2/(6*Sheet1!$F$15) -> 0 | AM12: =Sheet1!$E$8*Sheet1!$C9^2/(6*Sheet1!$F$15) -> 0 | AN12: =Sheet1!$E$9*Sheet1!$C9^2/(6*Sheet1!$F$15) -> 0 | AO12: =Sheet1!$E$10*(Sheet1!$C9^2-(Sheet1!$C9-Sheet1!$C$10)^2)/(6*Sheet1!$F$15) -> 0 | AP12: =Sheet1!$E$11*(Sheet1!$C9^2-(Sheet1!$C9-Sheet1!$C$11)^2)/(6*Sheet1!$F$15) -> 0 | AQ12: =Sheet1!$E$12*(Sheet1!$C9^2-(Sheet1!$C9-Sheet1!$C$12)^2)/(6*Sheet1!$F$15) -> 0 | AR12: =Sheet1!$E$13*(Sheet1!$C9^2-(Sheet1!$C9-Sheet1!$C$13)^2)/(6*Sheet1!$F$15) -> 0
B13: 0 | C13: 0 | D13: 0 | E13: 0 | F13: 0 | G13: 0 | H13: 1 | I13: 0 | J13: 0 | K13: 0 | L13: =-1*Sheet1!C10^2/(2*Sheet1!$F$15) -> 0 | M13: =-1*Sheet1!C10^2/(2*Sheet1!$F$15) -> 0 | N13: =-1*Sheet1!C10^2/(2*Sheet1!$F$15) -> 0 | O13: =-1*Sheet1!C10^2/(2*Sheet1!$F$15) -> 0 | P13: =-1*Sheet1!C10^2/(2*Sheet1!$F$15) -> 0 | Q13: =-1*Sheet1!C10^2/(2*Sheet1!$F$15) -> 0 | R13: =-1*Sheet1!C10^2/(2*Sheet1!$F$15) -> 0 | S13: =-1*(Sheet1!C10^2-(Sheet1!C11-Sheet1!C10)^2)/(2*Sheet1!$F$15) -> 0 | T13: =-1*(Sheet1!C10^2-(Sheet1!C12-Sheet1!C10)^2)/(2*Sheet1!$F$15) -> 0 | U13: =-1*(Sheet1!C10^2-(Sheet1!C13-Sheet1!C10)^2)/(2*Sheet1!$F$15) -> 0 | X13: =Sheet1!$D$4*(Sheet1!$C10^2*(3*Sheet1!$C$4-Sheet1!$C10))/(6*Sheet1!$F$15) -> 0 | Y13: =Sheet1!$D$5*(Sheet1!$C10^2*(3*Sheet1!$C$4-Sheet1!$C10))/(6*Sheet1!$F$15) -> 0 | Z13: =Sheet1!$D$6*(Sheet1!$C10^2*(3*Sheet1!$C$4-Sheet1!$C10))/(6*Sheet1!$F$15) -> 0 | AA13: =Sheet1!$D$7*(Sheet1!$C10^2*(3*Sheet1!$C$4-Sheet1!$C10))/(6*Sheet1!$F$15) -> 0 | AB13: =Sheet1!$D$8*(Sheet1!$C10^2*(3*Sheet1!$C$4-Sheet1!$C10))/(6*Sheet1!$F$15) -> 0 | AC13: =Sheet1!$D$9*(Sheet1!$C10^2*(3*Sheet1!$C$4-Sheet1!$C10))/(6*Sheet1!$F$15) -> 0 | AD13: =Sheet1!$D10*Sheet1!$C10^3/(3*Sheet1!$F$15) -> 0 | AE13: =Sheet1!$D$11*(2*Sheet1!$C10^3-3*Sheet1!$C10^2*(Sheet1!$C10-Sheet1!$C$11)+(Sheet1!$C10-Sheet1!$C$11)^3)/(6*Sheet1!$F$15) -> 0 | AF13: =Sheet1!$D$12*(2*Sheet1!$C10^3-3*Sheet1!$C10^2*(Sheet1!$C10-Sheet1!$C$12)+(Sheet1!$C10-Sheet1!$C$12)^3)/(6*Sheet1!$F$15) -> 0 | AG13: =Sheet1!$D$13*(2*Sheet1!$C10^3-3*Sheet1!$C10^2*(Sheet1!$C10-Sheet1!$C$13)+(Sheet1!$C10-Sheet1!$C$13)^3)/(6*Sheet1!$F$15) -> 0 | AI13: =Sheet1!$E$4*Sheet1!$C10^2/(6*Sheet1!$F$15) -> 0 | AJ13: =Sheet1!$E$5*Sheet1!$C10^2/(6*Sheet1!$F$15) -> 0 | AK13: =Sheet1!$E$6*Sheet1!$C10^2/(6*Sheet1!$F$15) -> 0 | AL13: =Sheet1!$E$7*Sheet1!$C10^2/(6*Sheet1!$F$15) -> 0 | AM13: =Sheet1!$E$8*Sheet1!$C10^2/(6*Sheet1!$F$15) -> 0 | AN13: =Sheet1!$E$9*Sheet1!$C10^2/(6*Sheet1!$F$15) -> 0 | AO13: =Sheet1!$E$10*Sheet1!$C10^2/(6*Sheet1!$F$15) -> 0 | AP13: =Sheet1!$E$11*(Sheet1!$C10^2-(Sheet1!$C10-Sheet1!$C$11)^2)/(6*Sheet1!$F$15) -> 0 | AQ13: =Sheet1!$E$12*(Sheet1!$C10^2-(Sheet1!$C10-Sheet1!$C$12)^2)/(6*Sheet1!$F$15) -> 0 | AR13: =Sheet1!$E$13*(Sheet1!$C10^2-(Sheet1!$C10-Sheet1!$C$13)^2)/(6*Sheet1!$F$15) -> 0
B14: 0 | C14: 0 | D14: 0 | E14: 0 | F14: 0 | G14: 0 | H14: 0 | I14: 1 | J14: 0 | K14: 0 | L14: =-1*Sheet1!C11^2/(2*Sheet1!$F$15) -> 0 | M14: =-1*Sheet1!C11^2/(2*Sheet1!$F$15) -> 0 | N14: =-1*Sheet1!C11^2/(2*Sheet1!$F$15) -> 0 | O14: =-1*Sheet1!C11^2/(2*Sheet1!$F$15) -> 0 | P14: =-1*Sheet1!C11^2/(2*Sheet1!$F$15) -> 0 | Q14: =-1*Sheet1!C11^2/(2*Sheet1!$F$15) -> 0 | R14: =-1*Sheet1!C11^2/(2*Sheet1!$F$15) -> 0 | S14: =-1*Sheet1!C11^2/(2*Sheet1!$F$15) -> 0 | T14: =-1*(Sheet1!C11^2-(Sheet1!C12-Sheet1!C11)^2)/(2*Sheet1!$F$15) -> 0 | U14: =-1*(Sheet1!C11^2-(Sheet1!C13-Sheet1!C11)^2)/(2*Sheet1!$F$15) -> 0 | X14: =Sheet1!$D$4*(Sheet1!$C11^2*(3*Sheet1!$C$4-Sheet1!$C11))/(6*Sheet1!$F$15) -> 0 | Y14: =Sheet1!$D$5*(Sheet1!$C11^2*(3*Sheet1!$C$4-Sheet1!$C11))/(6*Sheet1!$F$15) -> 0 | Z14: =Sheet1!$D$6*(Sheet1!$C11^2*(3*Sheet1!$C$4-Sheet1!$C11))/(6*Sheet1!$F$15) -> 0 | AA14: =Sheet1!$D$7*(Sheet1!$C11^2*(3*Sheet1!$C$4-Sheet1!$C11))/(6*Sheet1!$F$15) -> 0 | AB14: =Sheet1!$D$8*(Sheet1!$C11^2*(3*Sheet1!$C$4-Sheet1!$C11))/(6*Sheet1!$F$15) -> 0 | AC14: =Sheet1!$D$9*(Sheet1!$C11^2*(3*Sheet1!$C$4-Sheet1!$C11))/(6*Sheet1!$F$15) -> 0 | AD14: =Sheet1!$D$10*(Sheet1!$C11^2*(3*Sheet1!$C$4-Sheet1!$C11))/(6*Sheet1!$F$15) -> 0 | AE14: =Sheet1!$D11*Sheet1!$C11^3/(3*Sheet1!$F$15) -> 0 | AF14: =Sheet1!$D$12*(2*Sheet1!$C11^3-3*Sheet1!$C11^2*(Sheet1!$C11-Sheet1!$C$12)+(Sheet1!$C11-Sheet1!$C$12)^3)/(6*Sheet1!$F$15) -> 0 | AG14: =Sheet1!$D$13*(2*Sheet1!$C11^3-3*Sheet1!$C11^2*(Sheet1!$C11-Sheet1!$C$13)+(Sheet1!$C11-Sheet1!$C$13)^3)/(6*Sheet1!$F$15) -> 0 | AI14: =Sheet1!$E$4*Sheet1!$C11^2/(6*Sheet1!$F$15) -> 0 | AJ14: =Sheet1!$E$5*Sheet1!$C11^2/(6*Sheet1!$F$15) -> 0 | AK14: =Sheet1!$E$6*Sheet1!$C11^2/(6*Sheet1!$F$15) -> 0 | AL14: =Sheet1!$E$7*Sheet1!$C11^2/(6*Sheet1!$F$15) -> 0 | AM14: =Sheet1!$E$8*Sheet1!$C11^2/(6*Sheet1!$F$15) -> 0 | AN14: =Sheet1!$E$9*Sheet1!$C11^2/(6*Sheet1!$F$15) -> 0 | AO14: =Sheet1!$E$10*Sheet1!$C11^2/(6*Sheet1!$F$15) -> 0 | AP14: =Sheet1!$E$11*Sheet1!$C11^2/(6*Sheet1!$F$15) -> 0 | AQ14: =Sheet1!$E$12*(Sheet1!$C11^2-(Sheet1!$C11-Sheet1!$C$12)^2)/(6*Sheet1!$F$15) -> 0 | AR14: =Sheet1!$E$13*(Sheet1!$C11^2-(Sheet1!$C11-Sheet1!$C$13)^2)/(6*Sheet1!$F$15) -> 0
B15: 0 | C15: 0 | D15: 0 | E15: 0 | F15: 0 | G15: 0 | H15: 0 | I15: 0 | J15: 1 | K15: 0 | L15: =-1*Sheet1!C12^2/(2*Sheet1!$F$15) -> 0 | M15: =-1*Sheet1!C12^2/(2*Sheet1!$F$15) -> 0 | N15: =-1*Sheet1!C12^2/(2*Sheet1!$F$15) -> 0 | O15: =-1*Sheet1!C12^2/(2*Sheet1!$F$15) -> 0 | P15: =-1*Sheet1!C12^2/(2*Sheet1!$F$15) -> 0 | Q15: =-1*Sheet1!C12^2/(2*Sheet1!$F$15) -> 0 | R15: =-1*Sheet1!C12^2/(2*Sheet1!$F$15) -> 0 | S15: =-1*Sheet1!C12^2/(2*Sheet1!$F$15) -> 0 | T15: =-1*Sheet1!C12^2/(2*Sheet1!$F$15) -> 0 | U15: =-1*(Sheet1!C12^2-(Sheet1!C13-Sheet1!C12)^2)/(2*Sheet1!$F$15) -> 0 | X15: =Sheet1!$D$4*(Sheet1!$C12^2*(3*Sheet1!$C$4-Sheet1!$C12))/(6*Sheet1!$F$15) -> 0 | Y15: =Sheet1!$D$5*(Sheet1!$C12^2*(3*Sheet1!$C$4-Sheet1!$C12))/(6*Sheet1!$F$15) -> 0 | Z15: =Sheet1!$D$6*(Sheet1!$C12^2*(3*Sheet1!$C$4-Sheet1!$C12))/(6*Sheet1!$F$15) -> 0 | AA15: =Sheet1!$D$7*(Sheet1!$C12^2*(3*Sheet1!$C$4-Sheet1!$C12))/(6*Sheet1!$F$15) -> 0 | AB15: =Sheet1!$D$8*(Sheet1!$C12^2*(3*Sheet1!$C$4-Sheet1!$C12))/(6*Sheet1!$F$15) -> 0 | AC15: =Sheet1!$D$9*(Sheet1!$C12^2*(3*Sheet1!$C$4-Sheet1!$C12))/(6*Sheet1!$F$15) -> 0 | AD15: =Sheet1!$D$10*(Sheet1!$C12^2*(3*Sheet1!$C$4-Sheet1!$C12))/(6*Sheet1!$F$15) -> 0 | AE15: =Sheet1!$D$11*(Sheet1!$C12^2*(3*Sheet1!$C$4-Sheet1!$C12))/(6*Sheet1!$F$15) -> 0 | AF15: =Sheet1!$D12*Sheet1!$C12^3/(3*Sheet1!$F$15) -> 0 | AG15: =Sheet1!$D$13*(2*Sheet1!$C12^3-3*Sheet1!$C12^2*(Sheet1!$C12-Sheet1!$C$13)+(Sheet1!$C12-Sheet1!$C$13)^3)/(6*Sheet1!$F$15) -> 0 | AI15: =Sheet1!$E$4*Sheet1!$C12^2/(6*Sheet1!$F$15) -> 0 | AJ15: =Sheet1!$E$5*Sheet1!$C12^2/(6*Sheet1!$F$15) -> 0 | AK15: =Sheet1!$E$6*Sheet1!$C12^2/(6*Sheet1!$F$15) -> 0 | AL15: =Sheet1!$E$7*Sheet1!$C12^2/(6*Sheet1!$F$15) -> 0 | AM15: =Sheet1!$E$8*Sheet1!$C12^2/(6*Sheet1!$F$15) -> 0 | AN15: =Sheet1!$E$9*Sheet1!$C12^2/(6*Sheet1!$F$15) -> 0 | AO15: =Sheet1!$E$10*Sheet1!$C12^2/(6*Sheet1!$F$15) -> 0 | AP15: =Sheet1!$E$11*Sheet1!$C12^2/(6*Sheet1!$F$15) -> 0 | AQ15: =Sheet1!$E$12*Sheet1!$C12^2/(6*Sheet1!$F$15) -> 0 | AR15: =Sheet1!$E$13*(Sheet1!$C12^2-(Sheet1!$C12-Sheet1!$C$13)^2)/(6*Sheet1!$F$15) -> 0
B16: 0 | C16: 0 | D16: 0 | E16: 0 | F16: 0 | G16: 0 | H16: 0 | I16: 0 | J16: 0 | K16: 1 | L16: =-1*Sheet1!C13^2/(2*Sheet1!$F$15) -> 0 | M16: =-1*Sheet1!C13^2/(2*Sheet1!$F$15) -> 0 | N16: =-1*Sheet1!C13^2/(2*Sheet1!$F$15) -> 0 | O16: =-1*Sheet1!C13^2/(2*Sheet1!$F$15) -> 0 | P16: =-1*Sheet1!C13^2/(2*Sheet1!$F$15) -> 0 | Q16: =-1*Sheet1!C13^2/(2*Sheet1!$F$15) -> 0 | R16: =-1*Sheet1!C13^2/(2*Sheet1!$F$15) -> 0 | S16: =-1*Sheet1!C13^2/(2*Sheet1!$F$15) -> 0 | T16: =-1*Sheet1!C13^2/(2*Sheet1!$F$15) -> 0 | U16: =-1*Sheet1!C13^2/(2*Sheet1!$F$15) -> 0 | X16: =Sheet1!$D$4*(Sheet1!$C13^2*(3*Sheet1!$C$4-Sheet1!$C13))/(6*Sheet1!$F$15) -> 0 | Y16: =Sheet1!$D$5*(Sheet1!$C13^2*(3*Sheet1!$C$4-Sheet1!$C13))/(6*Sheet1!$F$15) -> 0 | Z16: =Sheet1!$D$6*(Sheet1!$C13^2*(3*Sheet1!$C$4-Sheet1!$C13))/(6*Sheet1!$F$15) -> 0 | AA16: =Sheet1!$D$7*(Sheet1!$C13^2*(3*Sheet1!$C$4-Sheet1!$C13))/(6*Sheet1!$F$15) -> 0 | AB16: =Sheet1!$D$8*(Sheet1!$C13^2*(3*Sheet1!$C$4-Sheet1!$C13))/(6*Sheet1!$F$15) -> 0 | AC16: =Sheet1!$D$9*(Sheet1!$C13^2*(3*Sheet1!$C$4-Sheet1!$C13))/(6*Sheet1!$F$15) -> 0 | AD16: =Sheet1!$D$10*(Sheet1!$C13^2*(3*Sheet1!$C$4-Sheet1!$C13))/(6*Sheet1!$F$15) -> 0 | AE16: =Sheet1!$D$11*(Sheet1!$C13^2*(3*Sheet1!$C$4-Sheet1!$C13))/(6*Sheet1!$F$15) -> 0 | AF16: =Sheet1!$D$12*(Sheet1!$C13^2*(3*Sheet1!$C$4-Sheet1!$C13))/(6*Sheet1!$F$15) -> 0 | AG16: =Sheet1!$D13*Sheet1!$C13^3/(3*Sheet1!$F$15) -> 0 | AI16: =Sheet1!$E$4*Sheet1!$C13^2/(6*Sheet1!$F$15) -> 0 | AJ16: =Sheet1!$E$5*Sheet1!$C13^2/(6*Sheet1!$F$15) -> 0 | AK16: =Sheet1!$E$6*Sheet1!$C13^2/(6*Sheet1!$F$15) -> 0 | AL16: =Sheet1!$E$7*Sheet1!$C13^2/(6*Sheet1!$F$15) -> 0 | AM16: =Sheet1!$E$8*Sheet1!$C13^2/(6*Sheet1!$F$15) -> 0 | AN16: =Sheet1!$E$9*Sheet1!$C13^2/(6*Sheet1!$F$15) -> 0 | AO16: =Sheet1!$E$10*Sheet1!$C13^2/(6*Sheet1!$F$15) -> 0 | AP16: =Sheet1!$E$11*Sheet1!$C13^2/(6*Sheet1!$F$15) -> 0 | AQ16: =Sheet1!$E$12*Sheet1!$C13^2/(6*Sheet1!$F$15) -> 0 | AR16: =Sheet1!$E13*Sheet1!$C13^2/(6*Sheet1!$F$15) -> 0
B17: =-1*Sheet1!$F4 -> 0 | C17: 0 | D17: 0 | E17: 0 | F17: 0 | G17: 0 | H17: 0 | I17: 0 | J17: 0 | K17: 0 | L17: 1 | M17: 0 | N17: 0 | O17: 0 | P17: 0 | Q17: 0 | R17: 0 | S17: 0 | T17: 0 | U17: 0 | X17: 0 | Y17: 0 | Z17: 0 | AA17: 0 | AB17: 0 | AC17: 0 | AD17: 0 | AE17: 0 | AF17: 0 | AG17: 0 | AI17: 0 | AJ17: 0 | AK17: 0 | AL17: 0 | AM17: 0 | AN17: 0 | AO17: 0 | AP17: 0 | AQ17: 0 | AR17: 0
B18: 0 | C18: =-1*Sheet1!$F5 -> 0 | D18: 0 | E18: 0 | F18: 0 | G18: 0 | H18: 0 | I18: 0 | J18: 0 | K18: 0 | L18: 0 | M18: 1 | N18: 0 | O18: 0 | P18: 0 | Q18: 0 | R18: 0 | S18: 0 | T18: 0 | U18: 0 | X18: 0 | Y18: 0 | Z18: 0 | AA18: 0 | AB18: 0 | AC18: 0 | AD18: 0 | AE18: 0 | AF18: 0 | AG18: 0 | AI18: 0 | AJ18: 0 | AK18: 0 | AL18: 0 | AM18: 0 | AN18: 0 | AO18: 0 | AP18: 0 | AQ18: 0 | AR18: 0
B19: 0 | C19: 0 | D19: =-1*Sheet1!$F6 -> 0 | E19: 0 | F19: 0 | G19: 0 | H19: 0 | I19: 0 | J19: 0 | K19: 0 | L19: 0 | M19: 0 | N19: 1 | O19: 0 | P19: 0 | Q19: 0 | R19: 0 | S19: 0 | T19: 0 | U19: 0 | X19: 0 | Y19: 0 | Z19: 0 | AA19: 0 | AB19: 0 | AC19: 0 | AD19: 0 | AE19: 0 | AF19: 0 | AG19: 0 | AI19: 0 | AJ19: 0 | AK19: 0 | AL19: 0 | AM19: 0 | AN19: 0 | AO19: 0 | AP19: 0 | AQ19: 0 | AR19: 0
B20: 0 | C20: 0 | D20: 0 | E20: =-1*Sheet1!$F7 -> 0 | F20: 0 | G20: 0 | H20: 0 | I20: 0 | J20: 0 | K20: 0 | L20: 0 | M20: 0 | N20: 0 | O20: 1 | P20: 0 | Q20: 0 | R20: 0 | S20: 0 | T20: 0 | U20: 0 | X20: 0 | Y20: 0 | Z20: 0 | AA20: 0 | AB20: 0 | AC20: 0 | AD20: 0 | AE20: 0 | AF20: 0 | AG20: 0 | AI20: 0 | AJ20: 0 | AK20: 0 | AL20: 0 | AM20: 0 | AN20: 0 | AO20: 0 | AP20: 0 | AQ20: 0 | AR20: 0
B21: 0 | C21: 0 | D21: 0 | E21: 0 | F21: =-1*Sheet1!$F8 -> 0 | G21: 0 | H21: 0 | I21: 0 | J21: 0 | K21: 0 | L21: 0 | M21: 0 | N21: 0 | O21: 0 | P21: 1 | Q21: 0 | R21: 0 | S21: 0 | T21: 0 | U21: 0 | X21: 0 | Y21: 0 | Z21: 0 | AA21: 0 | AB21: 0 | AC21: 0 | AD21: 0 | AE21: 0 | AF21: 0 | AG21: 0 | AI21: 0 | AJ21: 0 | AK21: 0 | AL21: 0 | AM21: 0 | AN21: 0 | AO21: 0 | AP21: 0 | AQ21: 0 | AR21: 0
B22: 0 | C22: 0 | D22: 0 | E22: 0 | F22: 0 | G22: =-1*Sheet1!$F9 -> 0 | H22: 0 | I22: 0 | J22: 0 | K22: 0 | L22: 0 | M22: 0 | N22: 0 | O22: 0 | P22: 0 | Q22: 1 | R22: 0 | S22: 0 | T22: 0 | U22: 0 | X22: 0 | Y22: 0 | Z22: 0 | AA22: 0 | AB22: 0 | AC22: 0 | AD22: 0 | AE22: 0 | AF22: 0 | AG22: 0 | AI22: 0 | AJ22: 0 | AK22: 0 | AL22: 0 | AM22: 0 | AN22: 0 | AO22: 0 | AP22: 0 | AQ22: 0 | AR22: 0
B23: 0 | C23: 0 | D23: 0 | E23: 0 | F23: 0 | G23: 0 | H23: =-1*Sheet1!$F10 -> 0 | I23: 0 | J23: 0 | K23: 0 | L23: 0 | M23: 0 | N23: 0 | O23: 0 | P23: 0 | Q23: 0 | R23: 1 | S23: 0 | T23: 0 | U23: 0 | X23: 0 | Y23: 0 | Z23: 0 | AA23: 0 | AB23: 0 | AC23: 0 | AD23: 0 | AE23: 0 | AF23: 0 | AG23: 0 | AI23: 0 | AJ23: 0 | AK23: 0 | AL23: 0 | AM23: 0 | AN23: 0 | AO23: 0 | AP23: 0 | AQ23: 0 | AR23: 0
B24: 0 | C24: 0 | D24: 0 | E24: 0 | F24: 0 | G24: 0 | H24: 0 | I24: =-1*Sheet1!$F11 -> 0 | J24: 0 | K24: 0 | L24: 0 | M24: 0 | N24: 0 | O24: 0 | P24: 0 | Q24: 0 | R24: 0 | S24: 1 | T24: 0 | U24: 0 | X24: 0 | Y24: 0 | Z24: 0 | AA24: 0 | AB24: 0 | AC24: 0 | AD24: 0 | AE24: 0 | AF24: 0 | AG24: 0 | AI24: 0 | AJ24: 0 | AK24: 0 | AL24: 0 | AM24: 0 | AN24: 0 | AO24: 0 | AP24: 0 | AQ24: 0 | AR24: 0
B25: 0 | C25: 0 | D25: 0 | E25: 0 | F25: 0 | G25: 0 | H25: 0 | I25: 0 | J25: =-1*Sheet1!$F12 -> 0 | K25: 0 | L25: 0 | M25: 0 | N25: 0 | O25: 0 | P25: 0 | Q25: 0 | R25: 0 | S25: 0 | T25: 1 | U25: 0 | X25: 0 | Y25: 0 | Z25: 0 | AA25: 0 | AB25: 0 | AC25: 0 | AD25: 0 | AE25: 0 | AF25: 0 | AG25: 0 | AI25: 0 | AJ25: 0 | AK25: 0 | AL25: 0 | AM25: 0 | AN25: 0 | AO25: 0 | AP25: 0 | AQ25: 0 | AR25: 0
B26: 0 | C26: 0 | D26: 0 | E26: 0 | F26: 0 | G26: 0 | H26: 0 | I26: 0 | J26: 0 | K26: =-1*Sheet1!$F13 -> 0 | L26: 0 | M26: 0 | N26: 0 | O26: 0 | P26: 0 | Q26: 0 | R26: 0 | S26: 0 | T26: 0 | U26: 1 | X26: 0 | Y26: 0 | Z26: 0 | AA26: 0 | AB26: 0 | AC26: 0 | AD26: 0 | AE26: 0 | AF26: 0 | AG26: 0 | AI26: 0 | AJ26: 0 | AK26: 0 | AL26: 0 | AM26: 0 | AN26: 0 | AO26: 0 | AP26: 0 | AQ26: 0 | AR26: 0
B29: Square Matrix Inverse | X29: F + M | AA29: Results
B30: {=MINVERSE(B7:U26)} -> 1 | C30: 0 | D30: 0 | E30: 0 | F30: 0 | G30: 0 | H30: 0 | I30: 0 | J30: 0 | K30: 0 | L30: 0 | M30: 0 | N30: 0 | O30: 0 | P30: 0 | Q30: 0 | R30: 0 | S30: 0 | T30: 0 | U30: 0 | X30: =SUM(X7:AG7)+SUM(AI7:AR7)*3 -> 0 | AA30: {=MMULT(B30:U49,X30:X49)} -> 0
B31: 0 | C31: 1 | D31: 0 | E31: 0 | F31: 0 | G31: 0 | H31: 0 | I31: 0 | J31: 0 | K31: 0 | L31: 0 | M31: 0 | N31: 0 | O31: 0 | P31: 0 | Q31: 0 | R31: 0 | S31: 0 | T31: 0 | U31: 0 | X31: =SUM(X8:AG8)+SUM(AI8:AR8)*3 -> 0 | AA31: 0
B32: 0 | C32: 0 | D32: 1 | E32: 0 | F32: 0 | G32: 0 | H32: 0 | I32: 0 | J32: 0 | K32: 0 | L32: 0 | M32: 0 | N32: 0 | O32: 0 | P32: 0 | Q32: 0 | R32: 0 | S32: 0 | T32: 0 | U32: 0 | X32: =SUM(X9:AG9)+SUM(AI9:AR9)*3 -> 0 | AA32: 0
B33: 0 | C33: 0 | D33: 0 | E33: 1 | F33: 0 | G33: 0 | H33: 0 | I33: 0 | J33: 0 | K33: 0 | L33: 0 | M33: 0 | N33: 0 | O33: 0 | P33: 0 | Q33: 0 | R33: 0 | S33: 0 | T33: 0 | U33: 0 | X33: =SUM(X10:AG10)+SUM(AI10:AR10)*3 -> 0 | AA33: 0
B34: 0 | C34: 0 | D34: 0 | E34: 0 | F34: 1 | G34: 0 | H34: 0 | I34: 0 | J34: 0 | K34: 0 | L34: 0 | M34: 0 | N34: 0 | O34: 0 | P34: 0 | Q34: 0 | R34: 0 | S34: 0 | T34: 0 | U34: 0 | X34: =SUM(X11:AG11)+SUM(AI11:AR11)*3 -> 0 | AA34: 0
B35: 0 | C35: 0 | D35: 0 | E35: 0 | F35: 0 | G35: 1 | H35: 0 | I35: 0 | J35: 0 | K35: 0 | L35: 0 | M35: 0 | N35: 0 | O35: 0 | P35: 0 | Q35: 0 | R35: 0 | S35: 0 | T35: 0 | U35: 0 | X35: =SUM(X12:AG12)+SUM(AI12:AR12)*3 -> 0 | AA35: 0
B36: 0 | C36: 0 | D36: 0 | E36: 0 | F36: 0 | G36: 0 | H36: 1 | I36: 0 | J36: 0 | K36: 0 | L36: 0 | M36: 0 | N36: 0 | O36: 0 | P36: 0 | Q36: 0 | R36: 0 | S36: 0 | T36: 0 | U36: 0 | X36: =SUM(X13:AG13)+SUM(AI13:AR13)*3 -> 0 | AA36: 0
B37: 0 | C37: 0 | D37: 0 | E37: 0 | F37: 0 | G37: 0 | H37: 0 | I37: 1 | J37: 0 | K37: 0 | L37: 0 | M37: 0 | N37: 0 | O37: 0 | P37: 0 | Q37: 0 | R37: 0 | S37: 0 | T37: 0 | U37: 0 | X37: =SUM(X14:AG14)+SUM(AI14:AR14)*3 -> 0 | AA37: 0
B38: 0 | C38: 0 | D38: 0 | E38: 0 | F38: 0 | G38: 0 | H38: 0 | I38: 0 | J38: 1 | K38: 0 | L38: 0 | M38: 0 | N38: 0 | O38: 0 | P38: 0 | Q38: 0 | R38: 0 | S38: 0 | T38: 0 | U38: 0 | X38: =SUM(X15:AG15)+SUM(AI15:AR15)*3 -> 0 | AA38: 0
B39: 0 | C39: 0 | D39: 0 | E39: 0 | F39: 0 | G39: 0 | H39: 0 | I39: 0 | J39: 0 | K39: 1 | L39: 0 | M39: 0 | N39: 0 | O39: 0 | P39: 0 | Q39: 0 | R39: 0 | S39: 0 | T39: 0 | U39: 0 | X39: =SUM(X16:AG16)+SUM(AI16:AR16)*3 -> 0 | AA39: 0
B40: 0 | C40: 0 | D40: 0 | E40: 0 | F40: 0 | G40: 0 | H40: 0 | I40: 0 | J40: 0 | K40: 0 | L40: 1 | M40: 0 | N40: 0 | O40: 0 | P40: 0 | Q40: 0 | R40: 0 | S40: 0 | T40: 0 | U40: 0 | X40: =SUM(X17:AG17)+SUM(AI17:AR17)*3 -> 0 | AA40: 0
B41: 0 | C41: 0 | D41: 0 | E41: 0 | F41: 0 | G41: 0 | H41: 0 | I41: 0 | J41: 0 | K41: 0 | L41: 0 | M41: 1 | N41: 0 | O41: 0 | P41: 0 | Q41: 0 | R41: 0 | S41: 0 | T41: 0 | U41: 0 | X41: =SUM(X18:AG18)+SUM(AI18:AR18)*3 -> 0 | AA41: 0
B42: 0 | C42: 0 | D42: 0 | E42: 0 | F42: 0 | G42: 0 | H42: 0 | I42: 0 | J42: 0 | K42: 0 | L42: 0 | M42: 0 | N42: 1 | O42: 0 | P42: 0 | Q42: 0 | R42: 0 | S42: 0 | T42: 0 | U42: 0 | X42: =SUM(X19:AG19)+SUM(AI19:AR19)*3 -> 0 | AA42: 0
... B49: 0 | C49: 0 | D49: 0 | E49: 0 | F49: 0 | G49: 0 | H49: 0 | I49: 0 | J49: 0 | K49: 0 | L49: 0 | M49: 0 | N49: 0 | O49: 0 | P49: 0 | Q49: 0 | R49: 0 | S49: 0 | T49: 0 | U49: 1 | X49: =SUM(X26:AG26)+SUM(AI26:AR26)*3 -> 0 | AA49: 0
B55: WITHOUT WEIGHTS
B56: Square Matrix
B57: 1 | C57: 0 | D57: 0 | E57: 0 | F57: 0 | G57: 0 | H57: 0 | I57: 0 | J57: 0 | K57: 0 | L57: 0 | M57: 0 | N57: 0 | O57: 0 | P57: 0 | Q57: 0 | R57: 0 | S57: 0 | T57: 0 | U57: 0
...
