Workbook

Sheet PO_L
D1: PTV(V18=80%, PTV-PRV) | N1: MU | R1: Cauda eqnuina | Y1: Cauda eqnuina PRV | AF1: BODY | AI1: RING_15MM
D2: PTV volume (cm3) | E2: D98% (Gy) | F2: D90% (Gy) | G2: D5% (Gy) | H2: D2% (Gy) | I2: Min. dose (Gy) | J2: Max. dose (Gy) | K2: Mean dose (Gy) | L2: Conformity index (CI) | M2: Homogeneity index (HI) | N2: 273 | O2: 350 | P2: TOTAL | Q2: MCSv | R2: Volume (cm3) | S2: D1.5cc (Gy) | T2: D0.5cc (Gy) | U2: D0.1cc (Gy) | V2: D0.035cc (Gy) | W2: Max. dose (Gy) | X2: Mean dose (Gy) | Y2: Volume (cm3) | Z2: D1.5cc (Gy) | AA2: D0.5cc (Gy) | AB2: D0.1cc (Gy) | AC2: D0.035cc (Gy) | AD2: Max. dose (Gy) | AE2: Mean dose (Gy) | AF2: V50% (cm3) | AG2: V100% (cm3) | AH2: Gradient index (GI) | AI2: V105% (cm3) | AJ2: V110% (cm3) | AK2: V115% (cm3)
A3: CASE_01 | B3: L3 | C3: 47080757 | D3: 71.9 | E3: 12.683625 | F3: 16.836596 | G3: 19.691431 | H3: 19.857485 | I3: 6.699 | J3: 20.628 | K3: 18.4 | L3: =D3*0.8/AG3 -> 0.73435437 | M3: =(H3-E3)/K3 -> 0.38988371 | N3: 2592.1891 | O3: 2311.9531 | P3: =N3+O3 -> 4904.1422 | Q3: 0.59052501 | R3: 4.5 | S3: 6.9612907 | T3: 9.1778913 | U3: 12.01785 | V3: 12.984088 | W3: 14.902 | X3: 5.864 | Y3: 7.5 | Z3: 9.0729324 | AA3: 11.877393 | AB3: 14.161343 | AC3: 14.824149 | AD3: 16.009 | AE3: 6.513 | AF3: 345.79498 | AG3: 78.327307 | AH3: =AF3/AG3 -> 4.4147436 | AI3: 8.0512453 | AJ3: 0.87422671 | AK3: 0
A4: CASE_02 | B4: L2 | C4: 53166757 | D4: 247.2 | E4: 13.6435 | F4: 17.339068 | G4: 19.595293 | H4: 19.811692 | I4: 7.184 | J4: 21.392 | K4: 18.448 | L4: =D4*0.8/AG4 -> 0.89412727 | M4: =(H4-E4)/K4 -> 0.3343556 | N4: 1809.8699 | O4: 2636.6758 | P4: =N4+O4 -> 4446.5457 | Q4: 0.70643067 | R4: 4.2 | S4: 7.6746258 | T4: 9.111046 | U4: 10.734857 | V4: 11.636803 | W4: 14.283 | X4: 5.98 | Y4: 7.2 | Z4: 9.4784416 | AA4: 11.022318 | AB4: 12.787509 | AC4: 13.643914 | AD4: 16.166 | AE4: 6.67 | AF4: 872.90702 | AG4: 221.17657 | AH4: =AF4/AG4 -> 3.9466523 | AI4: 5.8432931 | AJ4: 0.094622032 | AK4: 4.4582613e-05
A5: CASE_03 | B5: L5 | C5: 45301977 | D5: 55.8 | E5: 13.897857 | F5: 16.992961 | G5: 19.019012 | H5: 19.144336 | I5: 9.928 | J5: 19.935 | K5: 18.173 | L5: =D5*0.8/AG5 -> 0.82251496 | M5: =(H5-E5)/K5 -> 0.28869636 | N5: 2724.9396 | O5: 2744.1569 | P5: =N5+O5 -> 5469.0965 | Q5: 0.44743809 | R5: 9.6 | S5: 9.6415529 | T5: 11.26346 | U5: 12.414992 | V5: 12.926805 | W5: 13.902 | X5: 4.214 | Y5: 15.5 | Z5: 11.19832 | AA5: 12.62866 | AB5: 13.756567 | AC5: 14.210987 | AD5: 14.877 | AE5: 4.449 | AF5: 269.929 | AG5: 54.272569 | AH5: =AF5/AG5 -> 4.9735807 | AI5: 1.1742099 | AJ5: 0.00017984825 | AK5: 0
A6: CASE_04 | B6: L2 | C6: 20067449 | D6: 94.6 | E6: 13.934091 | F6: 17.14069 | G6: 19.969288 | H6: 20.120595 | I6: 4.379 | J6: 21.125 | K6: 18.609 | L6: =D6*0.8/AG6 -> 0.8074381 | M6: =(H6-E6)/K6 -> 0.33244691 | N6: 2694.3913 | O6: 2238.4984 | P6: =N6+O6 -> 4932.8897 | Q6: 0.55514081 | R6: 7.4 | S6: 9.0298507 | T6: 10.426929 | U6: 11.69035 | V6: 12.171651 | W6: 13.827 | X6: 6.001 | Y6: 10.8 | Z6: 10.352646 | AA6: 11.920263 | AB6: 13.157061 | AC6: 13.698356 | AD6: 15.402 | AE6: 6.258 | AF6: 463.6549 | AG6: 93.728547 | AH6: =AF6/AG6 -> 4.9467842 | AI6: 6.1624655 | AJ6: 0.533087 | AK6: 0.004033581
A7: CASE_05 | B7: L4 | C7: 52157642 | D7: 62.8 | E7: 16.5825 | F7: 17.752173 | G7: 19.026777 | H7: 19.161757 | I7: 12.401 | J7: 19.747 | K7: 18.325 | L7: =D7*0.8/AG7 -> 0.93365251 | M7: =(H7-E7)/K7 -> 0.14075075 | N7: 2741.963 | O7: 2411.8539 | P7: =N7+O7 -> 5153.8169 | Q7: 0.57965431 | R7: 6.2 | S7: 5.9522771 | T7: 9.7344153 | U7: 12.291122 | V7: 13.008178 | W7: 14.313 | X7: 4.505 | Y7: 9.8 | Z7: 8.8407438 | AA7: 12.251597 | AB7: 14.189813 | AC7: 14.748274 | AD7: 15.844 | AE7: 4.865 | AF7: 213.53118 | AG7: 53.810169 | AH7: =AF7/AG7 -> 3.9682309 | AI7: 0.31813002 | AJ7: 0 | AK7: 0
A8: CASE_06 | B8: L5 | C8: 49275094 | D8: 72.2 | E8: 13.5705 | F8: 17.103148 | G8: 19.763514 | H8: 19.899775 | I8: 7.515 | J8: 20.581 | K8: 18.491 | L8: =D8*0.8/AG8 -> 0.77957841 | M8: =(H8-E8)/K8 -> 0.34228947 | N8: 1893.9179 | O8: 2425.5756 | P8: =N8+O8 -> 4319.4936 | Q8: 0.61027738 | R8: 4 | S8: 7.5853824 | T8: 9.3226196 | U8: 11.405827 | V8: 12.185225 | W8: 13.634 | X8: 6.427 | Y8: 6.4 | Z8: 9.0764257 | AA8: 11.209959 | AB8: 13.096106 | AC8: 13.735979 | AD8: 14.846 | AE8: 6.578 | AF8: 338.83645 | AG8: 74.091329 | AH8: =AF8/AG8 -> 4.5732268 | AI8: 5.4076038 | AJ8: 0.38423236 | AK8: 0
A9: CASE_07 | B9: L1 | C9: 48319388 | D9: 32.7 | E9: 16.446778 | F9: 17.570182 | G9: 19.105803 | H9: 19.248688 | I9: 12.653 | J9: 20.013 | K9: 18.35 | L9: =D9*0.8/AG9 -> 0.95746179 | M9: =(H9-E9)/K9 -> 0.15269266 | N9: 2607.7685 | O9: 2267.2458 | P9: =N9+O9 -> 4875.0143 | Q9: 0.56669409 | R9: 1.6 | S9: 1.3477048 | T9: 4.5192632 | U9: 7.9034599 | V9: 9.302366 | W9: 12.092 | X9: 3.838 | Y9: 2.8 | Z9: 3.1578588 | AA9: 7.2784571 | AB9: 10.596224 | AC9: 11.856835 | AD9: 13.563 | AE9: 4.355 | AF9: 113.31223 | AG9: 27.322239 | AH9: =AF9/AG9 -> 4.1472525 | AI9: 0.075623367 | AJ9: 0 | AK9: 0
A10: CASE_08 | B10: L1 | C10: 21941665 | D10: 130.5 | E10: 13.145 | F10: 17.045085 | G10: 20.064485 | H10: 20.231883 | I10: 7.62 | J10: 21.415 | K10: 18.623 | L10: =D10*0.8/AG10 -> 0.90203806 | M10: =(H10-E10)/K10 -> 0.38054465 | N10: 2593.2707 | O10: 2285.4931 | P10: =N10+O10 -> 4878.7638 | Q10: 0.53879965 | R10: 7.7 | S10: 7.3166289 | T10: 8.6285364 | U10: 9.8765597 | V10: 10.65772 | W10: 12.635 | X10: 4.971 | Y10: 11.8 | Z10: 9.0195048 | AA10: 10.530989 | AB10: 11.739043 | AC10: 12.411689 | AD10: 14.215 | AE10: 5.437 | AF10: 494.44219 | AG10: 115.73791 | AH10: =AF10/AG10 -> 4.272085 | AI10: 2.8899578 | AJ10: 0.64003808 | AK10: 0.040746576
A11: CASE_09 | B11: L4 | C11: 52035898 | D11: 13 | E11: 12.580813 | F11: 15.792469 | G11: 20.265543 | H11: 20.482893 | I11: 7.083 | J11: 21.528 | K11: 18.726 | L11: =D11*0.8/AG11 -> 0.5183737 | M11: =(H11-E11)/K11 -> 0.42198443 | N11: 2867.85 | O11: 3067.3785 | P11: =N11+O11 -> 5935.2285 | Q11: 0.38790481 | R11: 4.9 | S11: 6.6353353 | T11: 8.9496239 | U11: 10.865416 | V11: 11.82082 | W11: 14.402 | X11: 5.343 | Y11: 7.7 | Z11: 8.9952893 | AA11: 11.284023 | AB11: 13.000404 | AC11: 13.738549 | AD11: 16.027 | AE11: 6.008 | AF11: 79.798861 | AG11: 20.062746 | AH11: =AF11/AG11 -> 3.9774645 | AI11: 6.1492685 | AJ11: 2.552484 | AK11: 0.073702738
A12: CASE_10 | B12: L5 | C12: 52159097 | D12: 92.1 | E12: 13.008545 | F12: 16.789 | G12: 19.849915 | H12: 20.045413 | I12: 7.131 | J12: 21.028 | K12: 18.49 | L12: =D12*0.8/AG12 -> 0.722198 | M12: =(H12-E12)/K12 -> 0.38057691 | N12: 2721.1862 | O12: 2188.856 | P12: =N12+O12 -> 4910.0422 | Q12: 0.56382145 | R12: 9.6 | S12: 9.2023433 | T12: 12.016708 | U12: 14.264202 | V12: 14.864817 | W12: 16.079 | X12: 6.125 | Y12: 13.9 | Z12: 11.378707 | AA12: 14.031516 | AB12: 15.634107 | AC12: 16.059294 | AD12: 17.044 | AE12: 6.512 | AF12: 425.61426 | AG12: 102.02188 | AH12: =AF12/AG12 -> 4.1717937 | AI12: 11.350857 | AJ12: 2.9766357 | AK12: 0.4035263
A13: CASE_11 | B13: L5 | C13: 51486354 | D13: 86.6 | E13: 14.7758 | F13: 17.39631 | G13: 19.345875 | H13: 19.496477 | I13: 8.404 | J13: 20.223 | K13: 18.362 | L13: =D13*0.8/AG13 -> 0.83607813 | M13: =(H13-E13)/K13 -> 0.2570895 | N13: 2669.7123 | O13: 2902.8528 | P13: =N13+O13 -> 5572.565 | Q13: 0.52725258 | R13: 6 | S13: 6.9951828 | T13: 8.8278238 | U13: 10.374131 | V13: 10.893048 | W13: 11.523 | X13: 4.881 | Y13: 9.1 | Z13: 8.697157 | AA13: 10.712254 | AB13: 12.173188 | AC13: 12.630894 | AD13: 13.478 | AE13: 5.36 | AF13: 380.4387 | AG13: 82.863069 | AH13: =AF13/AG13 -> 4.5911732 | AI13: 2.8507181 | AJ13: 0.064272725 | AK13: 0
A14: CASE_12 | B14: L4 | C14: 43434972 | D14: 89.2 | E14: 14.1826 | F14: 17.478333 | G14: 19.272712 | H14: 19.456565 | I14: 8.153 | J14: 20.113 | K14: 18.3 | L14: =D14*0.8/AG14 -> 0.95402067 | M14: =(H14-E14)/K14 -> 0.28819483 | N14: 2495.8581 | O14: 2792.1626 | P14: =N14+O14 -> 5288.0207 | Q14: 0.46474235 | R14: 6.1 | S14: 6.9613336 | T14: 9.470368 | U14: 12.136915 | V14: 13.295204 | W14: 14.679 | X14: 5.394 | Y14: 9.2 | Z14: 9.0844792 | AA14: 11.668538 | AB14: 13.79028 | AC14: 14.610471 | AD14: 15.661 | AE14: 5.81 | AF14: 373.68468 | AG14: 74.799218 | AH14: =AF14/AG14 -> 4.9958368 | AI14: 0.55315135 | AJ14: 0.0061153551 | AK14: 0
... A28: CASE_26 | B28: L4 | C28: 43864559 | D28: 143.9 | E28: 12.532625 | F28: 17.242881 | G28: 19.377983 | H28: 19.57178 | I28: 6.68 | J28: 20.517 | K28: 18.232 | L28: =D28*0.8/AG28 -> 0.90706083 | M28: =(H28-E28)/K28 -> 0.38608792 | N28: 2729.8164 | O28: 2214.1487 | P28: =N28+O28 -> 4943.965 | Q28: 0.58639088 | R28: 2.8 | S28: 6.0942546 | T28: 7.5987461 | U28: 8.9719268 | V28: 9.6121856 | W28: 11.154 | X28: 5.745 | Y28: 5 | Z28: 7.8192229 | AA28: 9.4475333 | AB28: 10.926873 | AC28: 11.562493 | AD28: 13.096 | AE28: 6.399 | AF28: 545.98133 | AG28: 126.91541 | AH28: =AF28/AG28 -> 4.3019308 | AI28: 2.4921866 | AJ28: 0.14394088 | AK28: 0
A29: CASE_27 | B29: L2 | C29: 32594571 | D29: 76.8 | E29: 15.456944 | F29: 17.442089 | G29: 19.277426 | H29: 19.467284 | I29: 10.99 | J29: 20.371 | K29: 18.372 | L29: =D29*0.8/AG29 -> 0.84336314 | M29: =(H29-E29)/K29 -> 0.2182854 | N29: 2222.8683 | O29: 2167.8825 | P29: =N29+O29 -> 4390.7509 | Q29: 0.54073915 | R29: 6.3 | S29: 8.5028543 | T29: 10.977735 | U29: 12.924515 | V29: 13.49251 | W29: 14.557 | X29: 5.735 | Y29: 10.1 | Z29: 10.860061 | AA29: 12.928385 | AB29: 14.392642 | AC29: 14.822017 | AD29: 15.581 | AE29: 6.166 | AF29: 340.41715 | AG29: 72.85118 | AI29: 2.3689032 | AJ29: 0.073854016 | AK29: 0
A30: CASE_28 | B30: L4 | C30: 52721012 | D30: 58.6 | E30: 14.5245 | F30: 17.369533 | G30: 19.454193 | H30: 19.580079 | I30: 7.39 | J30: 20.19 | K30: 18.443 | L30: =D30*0.8/AG30 -> 0.8925866 | M30: =(H30-E30)/K30 -> 0.27411914 | N30: 2288.7361 | O30: 2431.3218 | P30: =N30+O30 -> 4720.0579 | Q30: 0.44146352 | R30: 5.1 | S30: 5.5012736 | T30: 9.4857534 | U30: 12.488767 | V30: 13.282203 | W30: 14.425 | X30: 4.846 | Y30: 8.5 | Z30: 8.7022296 | AA30: 12.282681 | AB30: 14.167585 | AC30: 14.632169 | AD30: 15.733 | AE30: 5.407 | AF30: 227.65978 | AG30: 52.521514 | AI30: 1.2726956 | AJ30: 0.0014033002 | AK30: 0
A31: CASE_29 | B31: L3 | C31: 47210596 | D31: 43.6 | E31: 16.526067 | F31: 17.747971 | G31: 18.652073 | H31: 18.759859 | I31: 11.158 | J31: 19.498 | K31: 18.161 | L31: =D31*0.8/AG31 -> 0.98449045 | M31: =(H31-E31)/K31 -> 0.12299941 | N31: 2599.6605 | O31: 2675.8221 | P31: =N31+O31 -> 5275.4826 | Q31: 0.45307937 | R31: 5.9 | S31: 3.7961332 | T31: 6.7165511 | U31: 9.9434954 | V31: 11.351836 | W31: 14.574 | X31: 3.134 | Y31: 9.4 | Z31: 6.0875839 | AA31: 9.5523629 | AB31: 12.488113 | AC31: 13.597718 | AD31: 16.292 | AE31: 3.515 | AF31: 149.00369 | AG31: 35.429495 | AI31: 0.0037903583 | AJ31: 0 | AK31: 0
C32: AVG | D32: =AVERAGE(D3:D31) -> 83.52069 | E32: =AVERAGE(E3:E31) -> 14.301489 | F32: =AVERAGE(F3:F31) -> 17.200129 | G32: =AVERAGE(G3:G31) -> 19.48989 | H32: =AVERAGE(H3:H31) -> 19.660532 | I32: =AVERAGE(I3:I31) -> 8.4467931 | J32: =AVERAGE(J3:J31) -> 20.553621 | K32: =AVERAGE(K3:K31) -> 18.410241 | ... AK32: =AVERAGE(AK3:AK31) -> 0.021147372
C33: SD | D33: =_xlfn.STDEV.P(D3:D31) -> 46.657293 | E33: =_xlfn.STDEV.P(E3:E31) -> 1.4999813 | F33: =_xlfn.STDEV.P(F3:F31) -> 0.44562773 | G33: =_xlfn.STDEV.P(G3:G31) -> 0.47945593 | H33: =_xlfn.STDEV.P(H3:H31) -> 0.5101198 | I33: =_xlfn.STDEV.P(I3:I31) -> 2.2982369 | J33: =_xlfn.STDEV.P(J3:J31) -> 0.765474 | K33: =_xlfn.STDEV.P(K3:K31) -> 0.16840789 | ... AK33: =_xlfn.STDEV.P(AK3:AK31) -> 0.074768806

Sheet PRO_L
D1: PTV(V18=80%, PTV-PRV) | N1: MU | R1: Cauda eqnuina | Y1: Cauda eqnuina PRV | AF1: BODY | AI1: RING_15MM
D2: PTV volume (cm3) | E2: D98% (Gy) | F2: D90% (Gy) | G2: D5% (Gy) | H2: D2% (Gy) | I2: Min. dose (Gy) | J2: Max. dose (Gy) | K2: Mean dose (Gy) | L2: Conformity index (CI) | M2: Homogeneity index (HI) | N2: 273 | O2: 350 | P2: TOTAL | Q2: MCSv | R2: Volume (cm3) | S2: D1.5cc (Gy) | T2: D0.5cc (Gy) | U2: D0.1cc (Gy) | V2: D0.035cc (Gy) | W2: Max. dose (Gy) | X2: Mean dose (Gy) | Y2: Volume (cm3) | Z2: D1.5cc (Gy) | AA2: D0.5cc (Gy) | AB2: D0.1cc (Gy) | AC2: D0.035cc (Gy) | AD2: Max. dose (Gy) | AE2: Mean dose (Gy) | AF2: V50% (cm3) | AG2: V100% (cm3) | AH2: Gradient index (GI) | AI2: V105% (cm3) | AJ2: V110% (cm3) | AK2: V115% (cm3)
A3: CASE_01 | B3: L3 | C3: 47080757 | D3: 71.9 | E3: 13.412 | F3: 17.324795 | G3: 19.166296 | H3: 19.336263 | I3: 7.884 | J3: 20.515 | K3: 18.197 | L3: =D3*0.8/AG3 -> 0.80871808 | M3: =(H3-E3)/K3 -> 0.32556264 | N3: 3402.4042 | O3: 2832.5099 | P3: =N3+O3 -> 6234.9141 | Q3: 0.45813141 | R3: 4.5 | S3: 6.3915412 | T3: 8.4259798 | U3: 10.91978 | V3: 11.822858 | W3: 13.607 | X3: 5.457 | Y3: 7.5 | Z3: 8.6076026 | AA3: 11.075767 | AB3: 13.190855 | AC3: 13.833028 | AD3: 14.91 | AE3: 6.142 | AF3: 326.04184 | AG3: 71.124909 | AH3: =AF3/AG3 -> 4.584074 | AI3: 4.0923988 | AJ3: 0.65396086 | AK3: 0.010094228
A4: CASE_02 | B4: L2 | C4: 53166757 | D4: 247.2 | E4: 14.081 | F4: 17.479711 | G4: 19.16714 | H4: 19.307751 | I4: 6.618 | J4: 20.542 | K4: 18.283 | L4: =D4*0.8/AG4 -> 0.96433089 | M4: =(H4-E4)/K4 -> 0.28588038 | N4: 2718.5105 | O4: 3141.4615 | P4: =N4+O4 -> 5859.972 | Q4: 0.53200249 | R4: 4.2 | S4: 6.5800077 | T4: 7.9785918 | U4: 9.5890335 | V4: 10.418677 | W4: 13.143 | X4: 5.24 | Y4: 7.2 | Z4: 8.6173161 | AA4: 10.0848 | AB4: 11.900548 | AC4: 12.788493 | AD4: 15.125 | AE4: 6.01 | AF4: 827.78201 | AG4: 205.07484 | AH4: =AF4/AG4 -> 4.0364875 | AI4: 0.95362622 | AJ4: 0 | AK4: 0
A5: CASE_03 | B5: L5 | C5: 45301977 | D5: 55.8 | E5: 14.0264 | F5: 17.20781 | G5: 18.925125 | H5: 19.028171 | I5: 10.304 | J5: 19.78 | K5: 18.142 | L5: =D5*0.8/AG5 -> 0.89051524 | M5: =(H5-E5)/K5 -> 0.2757012 | N5: 3022.7268 | O5: 3514.6738 | P5: =N5+O5 -> 6537.4005 | Q5: 0.36825634 | R5: 9.6 | S5: 8.8488333 | T5: 10.52807 | U5: 11.656291 | V5: 12.052153 | W5: 12.793 | X5: 4.052 | Y5: 15.5 | Z5: 10.716515 | AA5: 12.023763 | AB5: 12.988365 | AC5: 13.395244 | AD5: 14.243 | AE5: 4.341 | AF5: 262.21359 | AG5: 50.128283 | AH5: =AF5/AG5 -> 5.2308513 | AI5: 0.26075966 | AJ5: 0 | AK5: 0
A6: CASE_04 | B6: L2 | C6: 20067449 | D6: 94.6 | E6: 14.205714 | F6: 17.472229 | G6: 19.306856 | H6: 19.489195 | I6: 6.399 | J6: 20.764 | K6: 18.276 | L6: =D6*0.8/AG6 -> 0.86945933 | M6: =(H6-E6)/K6 -> 0.28909396 | N6: 3886.2049 | O6: 2634.9504 | P6: =N6+O6 -> 6521.1553 | Q6: 0.41705836 | R6: 7.4 | S6: 7.2452359 | T6: 8.9711093 | U6: 10.706627 | V6: 11.233464 | W6: 12.762 | X6: 4.954 | Y6: 10.8 | Z6: 9.1485402 | AA6: 11.067389 | AB6: 12.903696 | AC6: 13.493293 | AD6: 15.213 | AE6: 5.419 | AF6: 452.28007 | AG6: 87.042599 | AH6: =AF6/AG6 -> 5.1960773 | AI6: 2.8808897 | AJ6: 0.18643215 | AK6: 0.0018369308
A7: CASE_05 | B7: L4 | C7: 52157642 | D7: 62.8 | E7: 16.590412 | F7: 17.763707 | G7: 18.846048 | H7: 18.952378 | I7: 11.417 | J7: 19.684 | K7: 18.247 | L7: =D7*0.8/AG7 -> 0.94801579 | M7: =(H7-E7)/K7 -> 0.12944408 | N7: 2651.4237 | O7: 3586.4309 | P7: =N7+O7 -> 6237.8546 | Q7: 0.47356168 | R7: 6.2 | S7: 4.7549278 | T7: 8.2677222 | U7: 10.912952 | V7: 11.727617 | W7: 13.257 | X7: 3.798 | Y7: 9.8 | Z7: 7.401118 | AA7: 10.905163 | AB7: 13.154974 | AC7: 13.813564 | AD7: 14.943 | AE7: 4.172 | AF7: 208.05934 | AG7: 52.994898 | AH7: =AF7/AG7 -> 3.9260259 | AI7: 0.069557564 | AJ7: 0 | AK7: 0
A8: CASE_06 | B8: L5 | C8: 49275094 | D8: 72.2 | E8: 13.740429 | F8: 17.500531 | G8: 19.107533 | H8: 19.25718 | I8: 8.015 | J8: 20.404 | K8: 18.214 | L8: =D8*0.8/AG8 -> 0.84979939 | M8: =(H8-E8)/K8 -> 0.30288523 | N8: 3303.7611 | O8: 3088.0238 | P8: =N8+O8 -> 6391.7849 | Q8: 0.40213702 | R8: 4 | S8: 5.7668967 | T8: 7.6063827 | U8: 9.5797879 | V8: 10.372587 | W8: 11.763 | X8: 5.127 | Y8: 6.4 | Z8: 7.5544471 | AA8: 9.7462049 | AB8: 11.821706 | AC8: 12.579035 | AD8: 14.058 | AE8: 5.497 | AF8: 322.79837 | AG8: 67.968983 | AH8: =AF8/AG8 -> 4.7492011 | AI8: 2.526001 | AJ8: 0.012304443 | AK8: 0
A9: CASE_07 | B9: L1 | C9: 48319388 | D9: 32.7 | E9: 16.840143 | F9: 17.739747 | G9: 18.811261 | H9: 18.926924 | I9: 11.792 | J9: 19.59 | K9: 18.245 | L9: =D9*0.8/AG9 -> 0.97108216 | M9: =(H9-E9)/K9 -> 0.11437549 | N9: 4229.0286 | O9: 1935.8464 | P9: =N9+O9 -> 6164.875 | Q9: 0.43477019 | R9: 1.6 | S9: 1.5895921 | T9: 3.4710186 | U9: 5.861023 | V9: 6.9175819 | W9: 8.729 | X9: 3.143 | Y9: 2.8 | Z9: 2.69464 | AA9: 5.5548613 | AB9: 8.4641458 | AC9: 9.467677 | AD9: 10.986 | AE9: 3.621 | AF9: 108.88037 | AG9: 26.939018 | AH9: =AF9/AG9 -> 4.041735 | AI9: 0.002175482 | AJ9: 0 | AK9: 0
A10: CASE_08 | B10: L1 | C10: 21941665 | D10: 130.5 | E10: 14.035 | F10: 17.387929 | G10: 19.431234 | H10: 19.573039 | I10: 8.376 | J10: 20.303 | K10: 18.369 | L10: =D10*0.8/AG10 -> 0.94452721 | M10: =(H10-E10)/K10 -> 0.30148833 | N10: 3463.2497 | O10: 2449.5126 | P10: =N10+O10 -> 5912.7623 | Q10: 0.43657099 | R10: 7.7 | S10: 6.5144033 | T10: 8.0689375 | U10: 9.7054732 | V10: 10.370992 | W10: 11.986 | X10: 4.627 | Y10: 11.8 | Z10: 8.6543661 | AA10: 10.463422 | AB10: 12.227974 | AC10: 12.922635 | AD10: 14.379 | AE10: 5.262 | AF10: 481.21083 | AG10: 110.53149 | AH10: =AF10/AG10 -> 4.3536084 | AI10: 1.9384284 | AJ10: 0.3725596 | AK10: 0.0048625555
A11: CASE_09 | B11: L4 | C11: 52035898 | D11: 13 | E11: 12.69525 | F11: 16.2032 | G11: 19.184251 | H11: 19.310039 | I11: 9.377 | J11: 19.941 | K11: 18.103 | L11: =D11*0.8/AG11 -> 0.66627793 | M11: =(H11-E11)/K11 -> 0.36539741 | N11: 4467.1521 | O11: 2879.919 | P11: =N11+O11 -> 7347.0711 | Q11: 0.30155944 | R11: 4.9 | S11: 5.8272417 | T11: 8.0383622 | U11: 9.8344277 | V11: 10.7463 | W11: 13.583 | X11: 4.824 | Y11: 7.7 | Z11: 8.3473461 | AA11: 10.67998 | AB11: 12.38843 | AC11: 13.249761 | AD11: 15.614 | AE11: 5.524 | AF11: 78.919213 | AG11: 15.609102 | AH11: =AF11/AG11 -> 5.055974 | AI11: 1.0245321 | AJ11: 0.002544593 | AK11: 0
A12: CASE_10 | B12: L5 | C12: 52159097 | D12: 92.1 | E12: 13.023143 | F12: 17.306575 | G12: 19.235964 | H12: 19.397417 | I12: 5.558 | J12: 20.599 | K12: 18.212 | L12: =D12*0.8/AG12 -> 0.84188693 | M12: =(H12-E12)/K12 -> 0.35000405 | N12: 3491.8533 | O12: 3357.1073 | P12: =N12+O12 -> 6848.9606 | Q12: 0.42629057 | R12: 9.6 | S12: 7.3180132 | T12: 9.8148135 | U12: 12.33907 | V12: 13.159852 | W12: 15.058 | X12: 4.888 | Y12: 13.9 | Z12: 9.771111 | AA12: 12.351759 | AB12: 14.373502 | AC12: 15.005454 | AD12: 16.427 | AE12: 5.431 | AF12: 413.44478 | AG12: 87.517691 | AH12: =AF12/AG12 -> 4.7241281 | AI12: 4.1683686 | AJ12: 0.85375357 | AK12: 0.052155234
A13: CASE_11 | B13: L5 | C13: 51486354 | D13: 86.6 | E13: 15.063143 | F13: 17.63366 | G13: 18.998303 | H13: 19.132544 | I13: 8.867 | J13: 20.013 | K13: 18.248 | L13: =D13*0.8/AG13 -> 0.91606799 | M13: =(H13-E13)/K13 -> 0.22300531 | N13: 3426.6595 | O13: 3354.6487 | P13: =N13+O13 -> 6781.3083 | Q13: 0.43791478 | R13: 6 | S13: 5.7006906 | T13: 7.3162436 | U13: 8.4084555 | V13: 8.8354245 | W13: 9.839 | X13: 4.293 | Y13: 9.1 | Z13: 7.589884 | AA13: 9.3926763 | AB13: 10.559746 | AC13: 10.978448 | AD13: 12.219 | AE13: 4.857 | AF13: 361.39551 | AG13: 75.627574 | AH13: =AF13/AG13 -> 4.7786209 | AI13: 0.6927829 | AJ13: 0.0010077757 | AK13: 0
A14: CASE_12 | B14: L4 | C14: 43434972 | D14: 89.2 | E14: 13.6908 | F14: 17.507363 | G14: 19.053812 | H14: 19.189942 | I14: 8.141 | J14: 19.976 | K14: 18.19 | L14: =D14*0.8/AG14 -> 0.96537008 | M14: =(H14-E14)/K14 -> 0.30231674 | N14: 2808.9793 | O14: 3310.6198 | P14: =N14+O14 -> 6119.5992 | Q14: 0.41834602 | R14: 6.1 | S14: 6.0061296 | T14: 7.8781926 | U14: 10.213155 | V14: 11.488616 | W14: 13.41 | X14: 4.745 | Y14: 9.2 | Z14: 7.9631349 | AA14: 10.098607 | AB14: 12.266259 | AC14: 13.19826 | AD14: 14.784 | AE14: 5.238 | AF14: 357.98598 | AG14: 73.919838 | AH14: =AF14/AG14 -> 4.8428945 | AI14: 0.12290437 | AJ14: 0 | AK14: 0
... A28: CASE_26 | B28: L4 | C28: 43864559 | D28: 143.9 | E28: 13.210286 | F28: 17.504731 | G28: 18.977529 | H28: 19.110525 | I28: 6.781 | J28: 19.955 | K28: 18.134 | L28: =D28*0.8/AG28 -> 0.95632237 | M28: =(H28-E28)/K28 -> 0.32536885 | N28: 2840.4552 | O28: 2684.7299 | P28: =N28+O28 -> 5525.1851 | Q28: 0.54907239 | R28: 2.8 | S28: 5.6530137 | T28: 7.121305 | U28: 8.2605876 | V28: 8.9608365 | W28: 10.762 | X28: 5.443 | Y28: 5 | Z28: 7.5977923 | AA28: 9.1299926 | AB28: 10.48266 | AC28: 11.336893 | AD28: 13.424 | AE28: 6.204 | AF28: 505.74341 | AG28: 120.37782 | AH28: =AF28/AG28 -> 4.2013007 | AI28: 0.44273741 | AJ28: 0 | AK28: 0
A29: CASE_27 | B29: L2 | C29: 32594571 | D29: 76.8 | E29: 16.131714 | F29: 17.772992 | G29: 18.84478 | H29: 18.971535 | I29: 11.187 | J29: 19.583 | K29: 18.214 | L29: =D29*0.8/AG29 -> 0.90828863 | M29: =(H29-E29)/K29 -> 0.15591419 | N29: 3297.3387 | O29: 2490.5338 | P29: =N29+O29 -> 5787.8724 | Q29: 0.41544353 | R29: 6.3 | S29: 7.2369121 | T29: 10.214065 | U29: 12.273866 | V29: 12.754106 | W29: 13.511 | X29: 5.01 | Y29: 10.1 | Z29: 10.113935 | AA29: 12.664194 | AB29: 14.060002 | AC29: 14.423247 | AD29: 15.366 | AE29: 5.558 | AF29: 351.03601 | AG29: 67.643696 | AI29: 0.39987607 | AJ29: 0 | AK29: 0
A30: CASE_28 | B30: L4 | C30: 52721012 | D30: 58.6 | E30: 14.8741 | F30: 17.485073 | G30: 19.162019 | H30: 19.297949 | I30: 9.362 | J30: 19.942 | K30: 18.288 | L30: =D30*0.8/AG30 -> 0.92713155 | M30: =(H30-E30)/K30 -> 0.24189901 | N30: 2516.071 | O30: 2974.7386 | P30: =N30+O30 -> 5490.8095 | Q30: 0.38860056 | R30: 5.1 | S30: 5.5918901 | T30: 9.2873619 | U30: 11.916734 | V30: 12.628839 | W30: 13.644 | X30: 4.819 | Y30: 8.5 | Z30: 8.5930409 | AA30: 11.776788 | AB30: 13.514479 | AC30: 13.93022 | AD30: 14.896 | AE30: 5.376 | AF30: 225.69211 | AG30: 50.564561 | AI30: 0.6170917 | AJ30: 0.0062495076 | AK30: 0
A31: CASE_29 | B31: L3 | C31: 47210596 | D31: 43.6 | E31: 16.923304 | F31: 17.795839 | G31: 18.686556 | H31: 18.787721 | I31: 10.703 | J31: 19.425 | K31: 18.186 | L31: =D31*0.8/AG31 -> 0.98405319 | M31: =(H31-E31)/K31 -> 0.10251936 | N31: 2231.582 | O31: 3702.5735 | P31: =N31+O31 -> 5934.1555 | Q31: 0.43566203 | R31: 5.9 | S31: 3.5786697 | T31: 6.4071918 | U31: 9.5568587 | V31: 10.977058 | W31: 13.846 | X31: 3.107 | Y31: 9.4 | Z31: 5.7738757 | AA31: 9.2149734 | AB31: 12.137033 | AC31: 13.334916 | AD31: 15.55 | AE31: 3.474 | AF31: 144.50579 | AG31: 35.445238 | AI31: 0.0010567097 | AJ31: 0 | AK31: 0
C32: AVG | D32: =AVERAGE(D3:D31) -> 83.52069 | E32: =AVERAGE(E3:E31) -> 14.492138 | F32: =AVERAGE(F3:F31) -> 17.447214 | G32: =AVERAGE(G3:G31) -> 19.068394 | H32: =AVERAGE(H3:H31) -> 19.209491 | I32: =AVERAGE(I3:I31) -> 8.6837931 | J32: =AVERAGE(J3:J31) -> 20.120655 | K32: =AVERAGE(K3:K31) -> 18.222517 | ... AK32: =AVERAGE(AK3:AK31) -> 0.0029520385
C33: SD | D33: =_xlfn.STDEV.P(D3:D31) -> 46.657293 | E33: =_xlfn.STDEV.P(E3:E31) -> 1.542086 | F33: =_xlfn.STDEV.P(F3:F31) -> 0.32095156 | G33: =_xlfn.STDEV.P(G3:G31) -> 0.23685496 | H33: =_xlfn.STDEV.P(H3:H31) -> 0.2561956 | I33: =_xlfn.STDEV.P(I3:I31) -> 2.0398556 | J33: =_xlfn.STDEV.P(J3:J31) -> 0.4280109 | K33: =_xlfn.STDEV.P(K3:K31) -> 0.060005529 | ... AK33: =_xlfn.STDEV.P(AK3:AK31) -> 0.0099549337
Z37: 1.5685903 | AA37: 1.4680915 | AB37: 1.3280074 | AC37: 1.2465906 | AD37: 1.1660095 | AE37: 0.8473211 | AI37: 1.3105121 | AJ37: 0.21493877 | AK37: 0.0099549337

Sheet PO-PRO(LSPINE)
D1: PTV(V18=80%, PTV-PRV) | N1: MU | R1: Cauda eqnuina | Y1: Cauda eqnuina PRV | AF1: BODY | AI1: RING_15MM
D2: PTV volume (cm3) | E2: D98% (Gy) | F2: D90% (Gy) | G2: D5% (Gy) | H2: D2% (Gy) | I2: Min. dose (Gy) | J2: Max. dose (Gy) | K2: Mean dose (Gy) | L2: Conformity index (CI) | M2: Homogeneity index (HI) | N2: 273 | O2: 350 | P2: TOTAL | Q2: MCSv | R2: Volume (cm3) | S2: D1.5cc (Gy) | T2: D0.5cc (Gy) | U2: D0.1cc (Gy) | V2: D0.035cc (Gy) | W2: Max. dose (Gy) | X2: Mean dose (Gy) | Y2: Volume (cm3) | Z2: D1.5cc (Gy) | AA2: D0.5cc (Gy) | AB2: D0.1cc (Gy) | AC2: D0.035cc (Gy) | AD2: Max. dose (Gy) | AE2: Mean dose (Gy) | AF2: V50% (cm3) | AG2: V100% (cm3) | AH2: Gradient index (GI) | AI2: V105% (cm3) | AJ2: V110% (cm3) | AK2: V115% (cm3)
A3: CASE_01 | B3: L3 | C3: 47080757 | D3: =PO_L!D3-PRO_L!D3 -> 0 | E3: =PO_L!E3-PRO_L!E3 -> -0.728375 | F3: =PO_L!F3-PRO_L!F3 -> -0.48819878 | G3: =PO_L!G3-PRO_L!G3 -> 0.52513486 | H3: =PO_L!H3-PRO_L!H3 -> 0.52122185 | I3: =PO_L!I3-PRO_L!I3 -> -1.185 | J3: =PO_L!J3-PRO_L!J3 -> 0.113 | K3: =PO_L!K3-PRO_L!K3 -> 0.203 | ... AK3: =PO_L!AK3-PRO_L!AK3 -> -0.010094228
A4: CASE_02 | B4: L2 | C4: 53166757 | D4: =PO_L!D4-PRO_L!D4 -> 0 | E4: =PO_L!E4-PRO_L!E4 -> -0.4375 | F4: =PO_L!F4-PRO_L!F4 -> -0.14064256 | G4: =PO_L!G4-PRO_L!G4 -> 0.42815326 | H4: =PO_L!H4-PRO_L!H4 -> 0.50394116 | I4: =PO_L!I4-PRO_L!I4 -> 0.566 | J4: =PO_L!J4-PRO_L!J4 -> 0.85 | K4: =PO_L!K4-PRO_L!K4 -> 0.165 | ... AK4: =PO_L!AK4-PRO_L!AK4 -> 4.4582613e-05
A5: CASE_03 | B5: L5 | C5: 45301977 | D5: =PO_L!D5-PRO_L!D5 -> 0 | E5: =PO_L!E5-PRO_L!E5 -> -0.12854286 | F5: =PO_L!F5-PRO_L!F5 -> -0.21484956 | G5: =PO_L!G5-PRO_L!G5 -> 0.093887345 | H5: =PO_L!H5-PRO_L!H5 -> 0.11616502 | I5: =PO_L!I5-PRO_L!I5 -> -0.376 | J5: =PO_L!J5-PRO_L!J5 -> 0.155 | K5: =PO_L!K5-PRO_L!K5 -> 0.031 | ... AK5: =PO_L!AK5-PRO_L!AK5 -> 0
A6: CASE_04 | B6: L2 | C6: 20067449 | D6: =PO_L!D6-PRO_L!D6 -> 0 | E6: =PO_L!E6-PRO_L!E6 -> -0.27162338 | F6: =PO_L!F6-PRO_L!F6 -> -0.33153843 | G6: =PO_L!G6-PRO_L!G6 -> 0.66243226 | H6: =PO_L!H6-PRO_L!H6 -> 0.63139993 | I6: =PO_L!I6-PRO_L!I6 -> -2.02 | J6: =PO_L!J6-PRO_L!J6 -> 0.361 | K6: =PO_L!K6-PRO_L!K6 -> 0.333 | ... AK6: =PO_L!AK6-PRO_L!AK6 -> 0.0021966502
A7: CASE_05 | B7: L4 | C7: 52157642 | D7: =PO_L!D7-PRO_L!D7 -> 0 | E7: =PO_L!E7-PRO_L!E7 -> -0.0079117647 | F7: =PO_L!F7-PRO_L!F7 -> -0.011534478 | G7: =PO_L!G7-PRO_L!G7 -> 0.18072876 | H7: =PO_L!H7-PRO_L!H7 -> 0.20937965 | I7: =PO_L!I7-PRO_L!I7 -> 0.984 | J7: =PO_L!J7-PRO_L!J7 -> 0.063 | K7: =PO_L!K7-PRO_L!K7 -> 0.078 | ... AK7: =PO_L!AK7-PRO_L!AK7 -> 0
A8: CASE_06 | B8: L5 | C8: 49275094 | D8: =PO_L!D8-PRO_L!D8 -> 0 | E8: =PO_L!E8-PRO_L!E8 -> -0.16992857 | F8: =PO_L!F8-PRO_L!F8 -> -0.39738307 | G8: =PO_L!G8-PRO_L!G8 -> 0.65598042 | H8: =PO_L!H8-PRO_L!H8 -> 0.64259442 | I8: =PO_L!I8-PRO_L!I8 -> -0.5 | J8: =PO_L!J8-PRO_L!J8 -> 0.177 | K8: =PO_L!K8-PRO_L!K8 -> 0.277 | ... AK8: =PO_L!AK8-PRO_L!AK8 -> 0
A9: CASE_07 | B9: L1 | C9: 48319388 | D9: =PO_L!D9-PRO_L!D9 -> 0 | E9: =PO_L!E9-PRO_L!E9 -> -0.39336508 | F9: =PO_L!F9-PRO_L!F9 -> -0.16956531 | G9: =PO_L!G9-PRO_L!G9 -> 0.29454184 | H9: =PO_L!H9-PRO_L!H9 -> 0.32176452 | I9: =PO_L!I9-PRO_L!I9 -> 0.861 | J9: =PO_L!J9-PRO_L!J9 -> 0.423 | K9: =PO_L!K9-PRO_L!K9 -> 0.105 | ... AK9: =PO_L!AK9-PRO_L!AK9 -> 0
A10: CASE_08 | B10: L1 | C10: 21941665 | D10: =PO_L!D10-PRO_L!D10 -> 0 | E10: =PO_L!E10-PRO_L!E10 -> -0.89 | F10: =PO_L!F10-PRO_L!F10 -> -0.34284455 | G10: =PO_L!G10-PRO_L!G10 -> 0.63325035 | H10: =PO_L!H10-PRO_L!H10 -> 0.6588438 | I10: =PO_L!I10-PRO_L!I10 -> -0.756 | J10: =PO_L!J10-PRO_L!J10 -> 1.112 | K10: =PO_L!K10-PRO_L!K10 -> 0.254 | ... AK10: =PO_L!AK10-PRO_L!AK10 -> 0.035884021
A11: CASE_09 | B11: L4 | C11: 52035898 | D11: =PO_L!D11-PRO_L!D11 -> 0 | E11: =PO_L!E11-PRO_L!E11 -> -0.1144375 | F11: =PO_L!F11-PRO_L!F11 -> -0.41073125 | G11: =PO_L!G11-PRO_L!G11 -> 1.081292 | H11: =PO_L!H11-PRO_L!H11 -> 1.1728537 | I11: =PO_L!I11-PRO_L!I11 -> -2.294 | J11: =PO_L!J11-PRO_L!J11 -> 1.587 | K11: =PO_L!K11-PRO_L!K11 -> 0.623 | ... AK11: =PO_L!AK11-PRO_L!AK11 -> 0.073702738
A12: CASE_10 | B12: L5 | C12: 52159097 | D12: =PO_L!D12-PRO_L!D12 -> 0 | E12: =PO_L!E12-PRO_L!E12 -> -0.014597403 | F12: =PO_L!F12-PRO_L!F12 -> -0.51757534 | G12: =PO_L!G12-PRO_L!G12 -> 0.61395117 | H12: =PO_L!H12-PRO_L!H12 -> 0.64799591 | I12: =PO_L!I12-PRO_L!I12 -> 1.573 | J12: =PO_L!J12-PRO_L!J12 -> 0.429 | K12: =PO_L!K12-PRO_L!K12 -> 0.278 | ... AK12: =PO_L!AK12-PRO_L!AK12 -> 0.35137106
A13: CASE_11 | B13: L5 | C13: 51486354 | D13: =PO_L!D13-PRO_L!D13 -> 0 | E13: =PO_L!E13-PRO_L!E13 -> -0.28734286 | F13: =PO_L!F13-PRO_L!F13 -> -0.23735 | G13: =PO_L!G13-PRO_L!G13 -> 0.34757142 | H13: =PO_L!H13-PRO_L!H13 -> 0.36393371 | I13: =PO_L!I13-PRO_L!I13 -> -0.463 | J13: =PO_L!J13-PRO_L!J13 -> 0.21 | K13: =PO_L!K13-PRO_L!K13 -> 0.114 | ... AK13: =PO_L!AK13-PRO_L!AK13 -> 0
A14: CASE_12 | B14: L4 | C14: 43434972 | D14: =PO_L!D14-PRO_L!D14 -> 0 | E14: =PO_L!E14-PRO_L!E14 -> 0.4918 | F14: =PO_L!F14-PRO_L!F14 -> -0.029029412 | G14: =PO_L!G14-PRO_L!G14 -> 0.2189005 | H14: =PO_L!H14-PRO_L!H14 -> 0.26662385 | I14: =PO_L!I14-PRO_L!I14 -> 0.012 | J14: =PO_L!J14-PRO_L!J14 -> 0.137 | K14: =PO_L!K14-PRO_L!K14 -> 0.11 | ... AK14: =PO_L!AK14-PRO_L!AK14 -> 0
... A31: CASE_29 | B31: L3 | C31: 47210596 | D31: =PO_L!D31-PRO_L!D31 -> 0 | E31: =PO_L!E31-PRO_L!E31 -> -0.39723768 | F31: =PO_L!F31-PRO_L!F31 -> -0.047868492 | G31: =PO_L!G31-PRO_L!G31 -> -0.034483329 | H31: =PO_L!H31-PRO_L!H31 -> -0.027862323 | I31: =PO_L!I31-PRO_L!I31 -> 0.455 | J31: =PO_L!J31-PRO_L!J31 -> 0.073 | K31: =PO_L!K31-PRO_L!K31 -> -0.025 | ... AK31: =PO_L!AK31-PRO_L!AK31 -> 0
C32: AVG | D32: =AVERAGE(D3:D31) -> 0 | E32: =AVERAGE(E3:E31) -> -0.19064831 | F32: =AVERAGE(F3:F31) -> -0.24708529 | G32: =AVERAGE(G3:G31) -> 0.42149564 | H32: =AVERAGE(H3:H31) -> 0.45104092 | I32: =AVERAGE(I3:I31) -> -0.237 | J32: =AVERAGE(J3:J31) -> 0.43296552 | K32: =AVERAGE(K3:K31) -> 0.18772414 | ... AK32: =AVERAGE(AK3:AK31) -> 0.018195334
C33: SD | D33: =_xlfn.STDEV.P(D3:D31) -> 0 | E33: =_xlfn.STDEV.P(E3:E31) -> 0.39055511 | F33: =_xlfn.STDEV.P(F3:F31) -> 0.16665535 | G33: =_xlfn.STDEV.P(G3:G31) -> 0.27928615 | H33: =_xlfn.STDEV.P(H3:H31) -> 0.29666277 | I33: =_xlfn.STDEV.P(I3:I31) -> 0.9702095 | J33: =_xlfn.STDEV.P(J3:J31) -> 0.53066032 | K33: =_xlfn.STDEV.P(K3:K31) -> 0.15419645 | ... AK33: =_xlfn.STDEV.P(AK3:AK31) -> 0.065779886

Sheet PO_C&T
D1: PTV(V18=80%) | N1: MU | R1: Spinal cord | X1: Spinal cord PRV | AD1: BODY | AG1: RING_15MM
D2: PTV volume (cm3) | E2: D98% (Gy) | F2: D90% (Gy) | G2: D5% (Gy) | H2: D2% (Gy) | I2: Min. dose (Gy) | J2: Max. dose (Gy) | K2: Mean dose (Gy) | L2: Conformity index (CI) | M2: Homogeneity index (HI) | N2: 350 | O2: 273 | P2: TOTAL | Q2: MCSv | R2: Volume (cm3) | S2: D0.35cc (Gy) | T2: D0.035cc (Gy) | U2: D1.2cc (Gy) | V2: Max. dose (Gy) | W2: Mean dose (Gy) | X2: Volume (cm3) | Y2: D0.35cc (Gy) | Z2: D0.035cc (Gy) | AA2: D1.2cc (Gy) | AB2: Max. dose (Gy) | AC2: Mean dose (Gy) | AD2: V50% (cm3) | AE2: V100% (cm3) | AF2: Gradient index (GI) | AG2: V105% (cm3) | AH2: V110% (cm3) | AI2: V115% (cm3)
A3: CASE_01 | B3: T4 | C3: 22171298 | D3: 22 | E3: 10.981077 | F3: 15.457038 | G3: 20.078298 | H3: 20.212636 | I3: 7.261 | J3: 20.868 | K3: 18.478 | L3: =D3*0.8/AE3 -> 0.59512044 | M3: =(H3-E3)/K3 -> 0.49959733 | N3: 2629.1737 | O3: 2830.5709 | P3: =N3+O3 -> 5459.7445 | Q3: 0.39523103 | R3: 2.8 | S3: 5.4714342 | T3: 6.9817559 | U3: 4.0770065 | V3: 8.202 | W3: 3.699 | X3: 6.5 | Y3: 8.5483166 | Z3: 10.389216 | AA3: 6.7157538 | AB3: 11.573 | AC3: 4.418 | AD3: 140.61282 | AE3: 29.573846 | AF3: =AD3/AE3 -> 4.7546344 | AG3: 6.2045373 | AH3: 1.2712519 | AI3: 8.2259725e-05
A4: CASE_02 | B4: T11 | C4: 46460040 | D4: 47.7 | E4: 15.0885 | F4: 17.462837 | G4: 18.911624 | H4: 19.009346 | I4: 10.232 | J4: 19.819 | K4: 18.203 | L4: =D4*0.8/AE4 -> 0.97152401 | M4: =(H4-E4)/K4 -> 0.21539561 | N4: 2589.8542 | O4: 2834.873 | P4: =N4+O4 -> 5424.7272 | Q4: 0.5258318 | R4: 4.4 | S4: 8.0398993 | T4: 9.878026 | U4: 5.9064792 | V4: 10.864 | W4: 4.757 | X4: 6.8 | Y4: 10.462225 | Z4: 12.158086 | AA4: 8.1568946 | AB4: 12.822 | AC4: 5.255 | AD4: 149.94783 | AE4: 39.278494 | AF4: =AD4/AE4 -> 3.8175554 | AG4: 0.0013520338 | AH4: 0 | AI4: 0
A5: CASE_03 | B5: T3 | C5: 50323032 | D5: 33 | E5: 13.055385 | F5: 16.281189 | G5: 20.433298 | H5: 20.570335 | I5: 7.473 | J5: 21.192 | K5: 18.841 | L5: =D5*0.8/AE5 -> 0.74062577 | M5: =(H5-E5)/K5 -> 0.39886153 | N5: 2285.1961 | O5: 2784.4572 | P5: =N5+O5 -> 5069.6533 | Q5: 0.43139015 | R5: 2.7 | S5: 8.2372071 | T5: 10.641936 | U5: 6.0053348 | V5: 13.226 | W5: 5.571 | X5: 6.3 | Y5: 12.120304 | Z5: 14.545016 | AA5: 9.6086533 | AB5: 16.348 | AC5: 6.491 | AD5: 167.15043 | AE5: 35.645533 | AF5: =AD5/AE5 -> 4.6892392 | AG5: 4.1523468 | AH5: 1.0270092 | AI5: 0.084017709
A6: CASE_04 | B6: T9 | C6: 35864046 | D6: 31.1 | E6: 13.609111 | F6: 16.565349 | G6: 19.796768 | H6: 19.954839 | I6: 9.325 | J6: 20.567 | K6: 18.504 | L6: =D6*0.8/AE6 -> 0.7393305 | M6: =(H6-E6)/K6 -> 0.34293816 | N6: 2100.829 | O6: 2769.3284 | P6: =N6+O6 -> 4870.1574 | Q6: 0.36882605 | R6: 3.2 | S6: 8.443413 | T6: 10.396598 | U6: 6.3177302 | V6: 11.651 | W6: 4.922 | X6: 5.3 | Y6: 10.697969 | Z6: 12.900817 | AA6: 8.3876878 | AB6: 13.905 | AC6: 5.43 | AD6: 164.23604 | AE6: 33.652068 | AF6: =AD6/AE6 -> 4.8804144 | AG6: 3.4777702 | AH6: 0.426734 | AI6: 0
A7: CASE_05 | B7: T5 | C7: 53874647 | D7: 22.1 | E7: 14.197529 | F7: 16.705059 | G7: 19.872173 | H7: 20.021378 | I7: 10.839 | J7: 20.682 | K7: 18.586 | L7: =D7*0.8/AE7 -> 0.78045966 | M7: =(H7-E7)/K7 -> 0.31334597 | N7: 2307.0772 | O7: 3009.2479 | P7: =N7+O7 -> 5316.3251 | Q7: 0.43472227 | R7: 1.7 | S7: 7.7378898 | T7: 9.9918246 | U7: 3.5111054 | V7: 11.923 | W7: 5.432 | X7: 3.2 | Y7: 10.1257 | Z7: 12.392888 | AA7: 7.146693 | AB7: 14.348 | AC7: 6.06 | AD7: 128.0109 | AE7: 22.653317 | AF7: =AD7/AE7 -> 5.6508677 | AG7: 1.3165832 | AH7: 0.10979093 | AI7: 0
A8: CASE_06 | B8: T3 | C8: 53863692 | D8: 14.9 | E8: 14.33045 | F8: 16.516271 | G8: 20.832314 | H8: 20.943871 | I8: 9.782 | J8: 22.009 | K8: 19.176 | L8: =D8*0.8/AE8 -> 0.84396573 | M8: =(H8-E8)/K8 -> 0.34488013 | N8: 2607.6519 | O8: 2902.3116 | P8: =N8+O8 -> 5509.9634 | Q8: 0.37126232 | R8: 2.9 | S8: 8.149033 | T8: 10.483648 | U8: 5.3625799 | V8: 12.401 | W8: 5.035 | X8: 6.7 | Y8: 13.057581 | Z8: 15.113431 | AA8: 9.5979896 | AB8: 16.381 | AC8: 6.055 | AD8: 69.049667 | AE8: 14.123796 | AF8: =AD8/AE8 -> 4.8888886 | AG8: 0.89646068 | AH8: 0.1849802 | AI8: 0.0020665012
A9: CASE_07 | B9: T7 | C9: 52601978 | D9: 26.1 | E9: 14.530188 | F9: 17.00254 | G9: 19.945501 | H9: 20.103105 | I9: 10.37 | J9: 20.973 | K9: 18.665 | L9: =D9*0.8/AE9 -> 0.80032433 | M9: =(H9-E9)/K9 -> 0.2985758 | N9: 2093.2891 | O9: 2787.8382 | P9: =N9+O9 -> 4881.1273 | Q9: 0.421135 | R9: 1.7 | S9: 9.769885 | T9: 11.41378 | U9: 5.0895882 | V9: 12.294 | W9: 7.174 | X9: 3.2 | Y9: 11.638012 | Z9: 13.273268 | AA9: 9.4135131 | AB9: 14.461 | AC9: 7.522 | AD9: 130.00597 | AE9: 26.089423 | AF9: =AD9/AE9 -> 4.9830909 | AG9: 1.2461573 | AH9: 0.070528809 | AI9: 0
A10: CASE_08 | B10: T4 | C10: 28631332 | D10: 178.7 | E10: 12.863667 | F10: 16.729596 | G10: 20.854106 | H10: 21.195005 | I10: 6.836 | J10: 22.864 | K10: 18.854 | L10: =D10*0.8/AE10 -> 0.95571594 | M10: =(H10-E10)/K10 -> 0.44188705 | N10: 1812.9179 | O10: 2315.5638 | P10: =N10+O10 -> 4128.4818 | Q10: 0.77349957 | R10: 2.7 | S10: 8.7468697 | T10: 9.7636509 | U10: 7.6394045 | V10: 10.612 | W10: 7.505 | X10: 6.5 | Y10: 11.574618 | Z10: 12.709629 | AA10: 10.256457 | AB10: 13.594 | AC10: 8.319 | AD10: 486.40996 | AE10: 149.5842 | AF10: =AD10/AE10 -> 3.251747 | AG10: 1.5760036 | AH10: 0.091267144 | AI10: 0
A11: CASE_09 | B11: T12 | C11: 48841708 | D11: 57.8 | E11: 15.083 | F11: 17.369534 | G11: 19.367285 | H11: 19.511825 | I11: 8.524 | J11: 20.001 | K11: 18.417 | L11: =D11*0.8/AE11 -> 0.90579037 | M11: =(H11-E11)/K11 -> 0.24047485 | N11: 2530.3922 | O11: 2385.4538 | P11: =N11+O11 -> 4915.846 | Q11: 0.52396435 | R11: 2.7 | S11: 7.2688028 | T11: 8.6508253 | U11: 5.5331824 | V11: 9.707 | W11: 5.283 | X11: 4.6 | Y11: 9.3374905 | Z11: 10.816887 | AA11: 7.1895935 | AB11: 11.952 | AC11: 5.864 | AD11: 219.81926 | AE11: 51.04934 | AF11: =AD11/AE11 -> 4.3060157 | AG11: 0.90380921 | AH11: 0 | AI11: 0
A12: CASE_10 | B12: T4 | C12: 52817968 | D12: 20.5 | E12: 13.833417 | F12: 16.762018 | G12: 20.237062 | H12: 20.370664 | I12: 8.662 | J12: 21.2 | K12: 18.874 | L12: =D12*0.8/AE12 -> 0.88970853 | M12: =(H12-E12)/K12 -> 0.34636258 | N12: 3036.1783 | O12: 2743.9961 | P12: =N12+O12 -> 5780.1744 | Q12: 0.41836585 | R12: 1.6 | S12: 6.5643684 | T12: 8.6608357 | U12: 3.947 | V12: 10.086 | W12: 5.132 | X12: 4.2 | Y12: 10.726077 | Z12: 12.836721 | AA12: 7.5603033 | AB12: 14.15 | AC12: 6.01 | AD12: 74.303145 | AE12: 18.433003 | AF12: =AD12/AE12 -> 4.0309843 | AG12: 0.53426395 | AH12: 0.037493507 | AI12: 0
A13: CASE_11 | B13: T9 | C13: 53072504 | D13: 57.3 | E13: 12.2305 | F13: 16.450576 | G13: 19.788913 | H13: 19.909334 | I13: 7.642 | J13: 20.782 | K13: 18.419 | L13: =D13*0.8/AE13 -> 0.73976632 | M13: =(H13-E13)/K13 -> 0.41689745 | N13: 2584.8897 | O13: 1891.5936 | P13: =N13+O13 -> 4476.4833 | Q13: 0.54736495 | R13: 2.4 | S13: 9.0665788 | T13: 10.684588 | U13: 7.3039145 | V13: 12.304 | W13: 6.215 | X13: 4.2 | Y13: 10.761085 | Z13: 12.503488 | AA13: 8.9820826 | AB13: 13.871 | AC13: 6.589 | AD13: 307.9315 | AE13: 61.965514 | AF13: =AD13/AE13 -> 4.9694012 | AG13: 4.2451255 | AH13: 0.13677306 | AI13: 0
A14: CASE_12 | B14: T7 | C14: 53017312 | D14: 23 | E14: 14.576636 | F14: 17.269654 | G14: 19.219923 | H14: 19.379791 | I14: 9.601 | J14: 20.069 | K14: 18.288 | L14: =D14*0.8/AE14 -> 0.73965552 | M14: =(H14-E14)/K14 -> 0.2626397 | N14: 3119.8495 | O14: 2611.0762 | P14: =N14+O14 -> 5730.9257 | Q14: 0.33465722 | R14: 4 | S14: 7.3908457 | T14: 9.1918944 | U14: 5.1681807 | V14: 10.403 | W14: 3.596 | X14: 6.6 | Y14: 9.0173376 | Z14: 11.119806 | AA14: 7.0431116 | AB14: 12.182 | AC14: 3.871 | AD14: 155.4845 | AE14: 24.876445 | AF14: =AD14/AE14 -> 6.2502699 | AG14: 0.5415257 | AH14: 0 | AI14: 0
... A30: CASE_28 | B30: T3 | C30: 50409323 | D30: 26.3 | E30: 13.439714 | F30: 16.3518 | G30: 20.546097 | H30: 20.692418 | I30: 8.995 | J30: 21.76 | K30: 18.92 | L30: =D30*0.8/AE30 -> 0.7503916 | M30: =(H30-E30)/K30 -> 0.3833353 | N30: 2456.8385 | O30: 3018.3481 | P30: =N30+O30 -> 5475.1867 | Q30: 0.39318325 | R30: 2.2 | S30: 7.4966762 | T30: 9.3459744 | U30: 5.5536378 | V30: 10.494 | W30: 5.419 | X30: 5.4 | Y30: 11.325396 | Z30: 13.288055 | AA30: 8.7676192 | AB30: 14.368 | AC30: 6.325 | AD30: 143.08954 | AE30: 28.038693 | AF30: =AD30/AE30 -> 5.1032885 | AG30: 3.5982957 | AH30: 1.0732347 | AI30: 0.058453609
C31: AVG | D31: =AVERAGE(D3:D30) -> 51.460714 | E31: =AVERAGE(E2:E30) -> 13.67882 | F31: =AVERAGE(F2:F30) -> 16.788602 | G31: =AVERAGE(G2:G30) -> 19.984622 | H31: =AVERAGE(H2:H30) -> 20.146658 | I31: =AVERAGE(I2:I30) -> 8.3996429 | J31: =AVERAGE(J2:J30) -> 20.992679 | K31: =AVERAGE(K2:K30) -> 18.63025 | L31: =AVERAGE(L2:L30) -> 0.81849821 | ... AI31: =AVERAGE(AI2:AI30) -> 0.12595393
C32: SD | D32: =_xlfn.STDEV.P(D3:D30) -> 40.918066 | E32: =_xlfn.STDEV.P(E3:E30) -> 1.1598797 | F32: =_xlfn.STDEV.P(F3:F30) -> 0.51308927 | G32: =_xlfn.STDEV.P(G3:G30) -> 0.6035372 | H32: =_xlfn.STDEV.P(H3:H30) -> 0.62359229 | I32: =_xlfn.STDEV.P(I3:I30) -> 1.8493968 | J32: =_xlfn.STDEV.P(J3:J30) -> 0.83216735 | K32: =_xlfn.STDEV.P(K3:K30) -> 0.27555575 | L32: =_xlfn.STDEV.P(L2:L30) -> 0.10192942 | M32: =_xlfn.STDEV.P(M2:M30) -> 0.082725203 | N32: =_xlfn.STDEV.P(N2:N30) -> 529.42883 | O32: =_xlfn.STDEV.P(O2:O30) -> 570.19689 | P32: =_xlfn.STDEV.P(P2:P30) -> 594.52127 | Q32: =_xlfn.STDEV.P(Q2:Q30) -> 0.11913701 | R32: =_xlfn.STDEV.P(R2:R30) -> 0.72305333 | S32: =_xlfn.STDEV.P(S2:S30) -> 1.1956502 | ... AI32: =_xlfn.STDEV.P(AI2:AI30) -> 0.4450232
AG37: 2.6635454 | AH37: 0.62986535 | AI37: 0.12595393
AG38: 3.1383403 | AH38: 1.4991421 | AI38: 0.4450232

Sheet PRO_C&T
D1: PTV(V18=80%) | N1: MU | R1: Spinal cord | X1: Spinal cord PRV | AD1: BODY | AG1: RING_15MM
D2: PTV volume (cm3) | E2: D98% (Gy) | F2: D90% (Gy) | G2: D5% (Gy) | H2: D2% (Gy) | I2: Min. dose (Gy) | J2: Max. dose (Gy) | K2: Mean dose (Gy) | L2: Conformity index (CI) | M2: Homogeneity index (HI) | N2: 350 | O2: 273 | P2: TOTAL | Q2: MCSv | R2: Volume (cm3) | S2: D0.35cc (Gy) | T2: D0.035cc (Gy) | U2: D1.2cc (Gy) | V2: Max. dose (Gy) | W2: Mean dose (Gy) | X2: Volume (cm3) | Y2: D0.35cc (Gy) | Z2: D0.035cc (Gy) | AA2: D1.2cc (Gy) | AB2: Max. dose (Gy) | AC2: Mean dose (Gy) | AD2: V50% (cm3) | AE2: V100% (cm3) | AF2: Gradient index (GI) | AG2: V105% (cm3) | AH2: V110% (cm3) | AI2: V115% (cm3)
A3: CASE_01 | B3: ='PO_C&T'!B3 -> T4 | C3: ='PO_C&T'!C3 -> 22171298 | D3: 22 | E3: 12.054833 | F3: 16.237655 | G3: 19.441673 | H3: 19.560444 | I3: 8.994 | J3: 20.108 | K3: 18.228 | L3: =D3*0.8/AE3 -> 0.76292702 | M3: =(H3-E3)/K3 -> 0.41176273 | N3: 2134.2347 | O3: 3343.0114 | P3: =N3+O3 -> 5477.2461 | Q3: 0.38950717 | R3: 2.8 | S3: 5.3568197 | T3: 6.8987351 | U3: 3.8933617 | V3: 8.128 | W3: 3.653 | X3: 6.5 | Y3: 9.0458367 | Z3: 10.918337 | AA3: 6.7716299 | AB3: 12.369 | AC3: 4.484 | AD3: 132.41361 | AE3: 23.069048 | AF3: =AD3/AE3 -> 5.7398818 | AG3: 1.1022867 | AH3: 0.00044532073 | AI3: 0
A4: CASE_02 | B4: ='PO_C&T'!B4 -> T11 | C4: ='PO_C&T'!C4 -> 46460040 | D4: 47.7 | E4: 14.7868 | F4: 17.62517 | G4: 18.676043 | H4: 18.776926 | I4: 9.137 | J4: 19.392 | K4: 18.087 | L4: =D4*0.8/AE4 -> 0.98786861 | M4: =(H4-E4)/K4 -> 0.22060742 | N4: 2976.8052 | O4: 3019.6308 | P4: =N4+O4 -> 5996.4359 | Q4: 0.45286628 | R4: 4.4 | S4: 6.4819409 | T4: 8.0270931 | U4: 4.735484 | V4: 8.96 | W4: 3.969 | X4: 6.8 | Y4: 8.9845163 | Z4: 10.397249 | AA4: 6.7653975 | AB4: 11.42 | AC4: 4.497 | AD4: 142.46669 | AE4: 38.628619 | AF4: =AD4/AE4 -> 3.6881124 | AG4: 0 | AH4: 0 | AI4: 0
A5: CASE_03 | B5: ='PO_C&T'!B5 -> T3 | C5: ='PO_C&T'!C5 -> 50323032 | D5: 33 | E5: 12.759 | F5: 16.330313 | G5: 19.543946 | H5: 19.676674 | I5: 8.533 | J5: 20.244 | K5: 18.347 | L5: =D5*0.8/AE5 -> 0.84431559 | M5: =(H5-E5)/K5 -> 0.37704662 | N5: 2946.1847 | O5: 3382.9697 | P5: =N5+O5 -> 6329.1544 | Q5: 0.32681663 | R5: 2.7 | S5: 6.3792974 | T5: 7.8566123 | U5: 4.9135625 | V5: 9.905 | W5: 4.53 | X5: 6.3 | Y5: 10.302902 | Z5: 12.067913 | AA5: 8.4366318 | AB5: 13.737 | AC5: 5.618 | AD5: 154.75396 | AE5: 31.267929 | AF5: =AD5/AE5 -> 4.9492872 | AG5: 0.92144741 | AH5: 0.01528464 | AI5: 0
A6: CASE_04 | B6: ='PO_C&T'!B6 -> T9 | C6: ='PO_C&T'!C6 -> 35864046 | D6: 31.1 | E6: 13.521846 | F6: 16.863889 | G6: 19.180409 | H6: 19.294457 | I6: 9.582 | J6: 19.915 | K6: 18.214 | L6: =D6*0.8/AE6 -> 0.88292054 | M6: =(H6-E6)/K6 -> 0.31693262 | N6: 2505.7492 | O6: 3054.4036 | P6: =N6+O6 -> 5560.1528 | Q6: 0.31119725 | R6: 3.2 | S6: 6.9273089 | T6: 8.1132399 | U6: 5.3042194 | V6: 9.219 | W6: 4.273 | X6: 5.3 | Y6: 9.1770544 | Z6: 10.463085 | AA6: 7.2533324 | AB6: 11.806 | AC6: 4.846 | AD6: 156.00718 | AE6: 28.179206 | AF6: =AD6/AE6 -> 5.5362517 | AG6: 0.31555906 | AH6: 0 | AI6: 0
A7: CASE_05 | B7: ='PO_C&T'!B7 -> T5 | C7: ='PO_C&T'!C7 -> 53874647 | D7: 22.1 | E7: 13.489273 | F7: 17.041455 | G7: 19.233718 | H7: 19.354636 | I7: 9.181 | J7: 20.076 | K7: 18.252 | L7: =D7*0.8/AE7 -> 0.85966056 | M7: =(H7-E7)/K7 -> 0.32135453 | N7: 2698.8129 | O7: 3417.1534 | P7: =N7+O7 -> 6115.9662 | Q7: 0.35937103 | R7: 1.7 | S7: 6.1470879 | T7: 7.7470512 | U7: 3.4012109 | V7: 9.615 | W7: 4.597 | X7: 3.2 | Y7: 8.2796395 | Z7: 10.35241 | AA7: 6.0048393 | AB7: 12.772 | AC7: 5.283 | AD7: 124.58979 | AE7: 20.566257 | AF7: =AD7/AE7 -> 6.057971 | AG7: 0.21961074 | AH7: 0 | AI7: 0
A8: CASE_06 | B8: ='PO_C&T'!B8 -> T3 | C8: ='PO_C&T'!C8 -> 53863692 | D8: 14.9 | E8: 13.807947 | F8: 16.382579 | G8: 19.814493 | H8: 19.93453 | I8: 10.761 | J8: 20.753 | K8: 18.586 | L8: =D8*0.8/AE8 -> 0.90185309 | M8: =(H8-E8)/K8 -> 0.32963428 | N8: 3028.7341 | O8: 3949.6107 | P8: =N8+O8 -> 6978.3448 | Q8: 0.27485206 | R8: 2.9 | S8: 6.2747485 | T8: 7.9754556 | U8: 4.3775825 | V8: 9.887 | W8: 4.1 | X8: 6.7 | Y8: 10.948223 | Z8: 12.761964 | AA8: 8.2175619 | AB8: 14.619 | AC8: 5.21 | AD8: 69.515709 | AE8: 13.21723 | AF8: =AD8/AE8 -> 5.2594763 | AG8: 0.13599881 | AH8: 0.0024085668 | AI8: 0
A9: CASE_07 | B9: ='PO_C&T'!B9 -> T7 | C9: ='PO_C&T'!C9 -> 52601978 | D9: 26.1 | E9: 14.467933 | F9: 17.322043 | G9: 19.344568 | H9: 19.467039 | I9: 10.467 | J9: 20.302 | K9: 18.364 | L9: =D9*0.8/AE9 -> 0.78626478 | M9: =(H9-E9)/K9 -> 0.27222313 | N9: 4167.1088 | O9: 3085.2858 | P9: =N9+O9 -> 7252.3946 | Q9: 0.29775279 | R9: 1.7 | S9: 7.6420413 | T9: 9.2143814 | U9: 4.9141706 | V9: 10.547 | W9: 5.87 | X9: 3.2 | Y9: 9.8768019 | Z9: 11.611914 | AA9: 7.6312132 | AB9: 12.788 | AC9: 6.488 | AD9: 135.00371 | AE9: 26.55594 | AF9: =AD9/AE9 -> 5.083748 | AG9: 1.4810364 | AH9: 0.15077229 | AI9: 8.1600584e-05
A10: CASE_08 | B10: ='PO_C&T'!B10 -> T4 | C10: ='PO_C&T'!C10 -> 28631332 | D10: 178.7 | E10: 12.265429 | F10: 17.208059 | G10: 20.037528 | H10: 20.264952 | I10: 5.631 | J10: 22.019 | K10: 18.573 | L10: =D10*0.8/AE10 -> 0.9904891 | M10: =(H10-E10)/K10 -> 0.43070712 | N10: 2766.8671 | O10: 3024.7966 | P10: =N10+O10 -> 5791.6637 | Q10: 0.54875683 | R10: 2.7 | S10: 6.2696584 | T10: 6.8448397 | U10: 5.4844908 | V10: 7.685 | W10: 5.376 | X10: 6.5 | Y10: 9.362115 | Z10: 10.151764 | AA10: 8.424583 | AB10: 11.196 | AC10: 6.569 | AD10: 478.56538 | AE10: 144.33273 | AF10: =AD10/AE10 -> 3.3157092 | AG10: 0.12797358 | AH10: 0.00032501301 | AI10: 0
A11: CASE_09 | B11: ='PO_C&T'!B11 -> T12 | C11: ='PO_C&T'!C11 -> 48841708 | D11: 57.8 | E11: 15.8774 | F11: 17.552103 | G11: 18.977406 | H11: 19.101932 | I11: 10.064 | J11: 19.7 | K11: 18.25 | L11: =D11*0.8/AE11 -> 0.92792612 | M11: =(H11-E11)/K11 -> 0.1766867 | N11: 2712.0602 | O11: 3771.0383 | P11: =N11+O11 -> 6483.0984 | Q11: 0.42598651 | R11: 2.7 | S11: 6.3385681 | T11: 8.0388461 | U11: 4.8699752 | V11: 9.486 | W11: 4.712 | X11: 4.6 | Y11: 8.507548 | Z11: 10.463318 | AA11: 6.5647132 | AB11: 12.089 | AC11: 5.34 | AD11: 224.60993 | AE11: 49.831553 | AF11: =AD11/AE11 -> 4.5073837 | AG11: 0.70700885 | AH11: 0.059209645 | AI11: 0
A12: CASE_10 | B12: ='PO_C&T'!B12 -> T4 | C12: ='PO_C&T'!C12 -> 52817968 | D12: 20.5 | E12: 12.6774 | F12: 16.567974 | G12: 19.503762 | H12: 19.637134 | I12: 8.823 | J12: 20.546 | K12: 18.362 | L12: =D12*0.8/AE12 -> 0.93895525 | M12: =(H12-E12)/K12 -> 0.37902917 | N12: 3684.2177 | O12: 3055.9911 | P12: =N12+O12 -> 6740.2088 | Q12: 0.3230708 | R12: 1.6 | S12: 5.1091724 | T12: 6.7076348 | U12: 3.364201 | V12: 7.972 | W12: 4.215 | X12: 4.2 | Y12: 8.7021453 | Z12: 10.668533 | AA12: 6.2508845 | AB12: 11.895 | AC12: 5.129 | AD12: 72.931597 | AE12: 17.466221 | AF12: =AD12/AE12 -> 4.1755797 | AG12: 0.055003364 | AH12: 0.00097983929 | AI12: 0
A13: CASE_11 | B13: ='PO_C&T'!B13 -> T9 | C13: ='PO_C&T'!C13 -> 53072504 | D13: 57.3 | E13: 11.821556 | F13: 16.967462 | G13: 19.095248 | H13: 19.199843 | I13: 7.991 | J13: 19.727 | K13: 18.065 | L13: =D13*0.8/AE13 -> 0.85164602 | M13: =(H13-E13)/K13 -> 0.40842997 | N13: 2763.9175 | O13: 3041.1686 | P13: =N13+O13 -> 5805.0861 | Q13: 0.44542583 | R13: 2.4 | S13: 7.395751 | T13: 8.6985143 | U13: 5.7795017 | V13: 9.807 | W13: 5.241 | X13: 4.2 | Y13: 9.4017542 | Z13: 10.95666 | AA13: 7.6638311 | AB13: 12.326 | AC13: 5.785 | AD13: 294.43756 | AE13: 53.825179 | AF13: =AD13/AE13 -> 5.4702569 | AG13: 0.24834537 | AH13: 0 | AI13: 0
A14: CASE_12 | B14: ='PO_C&T'!B14 -> T7 | C14: ='PO_C&T'!C14 -> 53017312 | D14: 23 | E14: 15.629818 | F14: 17.681152 | G14: 18.925055 | H14: 19.043008 | I14: 10.946 | J14: 19.587 | K14: 18.232 | L14: =D14*0.8/AE14 -> 0.85562009 | M14: =(H14-E14)/K14 -> 0.18720875 | N14: 2916.728 | O14: 3419.2023 | P14: =N14+O14 -> 6335.9304 | Q14: 0.32601039 | R14: 4 | S14: 6.8666108 | T14: 8.3475999 | U14: 4.8629204 | V14: 9.314 | W14: 3.438 | X14: 6.6 | Y14: 8.8911765 | Z14: 10.761635 | AA14: 6.6025039 | AB14: 11.943 | AC14: 3.771 | AD14: 143.04969 | AE14: 21.504871 | AF14: =AD14/AE14 -> 6.6519666 | AG14: 0.069481028 | AH14: 0 | AI14: 0
... A30: CASE_28 | B30: ='PO_C&T'!B30 -> T3 | C30: ='PO_C&T'!C30 -> 50409323 | D30: 26.3 | E30: 12.724154 | F30: 16.366667 | G30: 19.568812 | H30: 19.690976 | I30: 8.796 | J30: 20.332 | K30: 18.352 | L30: =D30*0.8/AE30 -> 0.85619224 | M30: =(H30-E30)/K30 -> 0.37962197 | N30: 3422.7909 | O30: 3379.3255 | P30: =N30+O30 -> 6802.1164 | Q30: 0.31630193 | R30: 2.2 | S30: 6.0370056 | T30: 7.3081077 | U30: 4.3796937 | V30: 8.383 | W30: 4.424 | X30: 5.4 | Y30: 9.7090591 | Z30: 11.411342 | AA30: 7.6919871 | AB30: 12.883 | AC30: 5.459 | AD30: 142.40627 | AE30: 24.573921 | AF30: =AD30/AE30 -> 5.7950165 | AG30: 0.49044511 | AH30: 0.012435891 | AI30: 0
C31: AVG | D31: =AVERAGE(D2:D30) -> 51.460714 | E31: =AVERAGE(E2:E30) -> 13.50376 | F31: =AVERAGE(F2:F30) -> 17.010945 | G31: =AVERAGE(G2:G30) -> 19.297603 | H31: =AVERAGE(H2:H30) -> 19.426788 | I31: =AVERAGE(I2:I30) -> 8.7079643 | J31: =AVERAGE(J2:J30) -> 20.250321 | K31: =AVERAGE(K2:K30) -> 18.2875 | ... AI31: =AVERAGE(AI2:AI30) -> 9.9591968e-06
C32: SD | D32: =_xlfn.STDEV.P(D2:D30) -> 40.918066 | E32: =_xlfn.STDEV.P(E2:E30) -> 1.4044313 | F32: =_xlfn.STDEV.P(F2:F30) -> 0.56192204 | G32: =_xlfn.STDEV.P(G2:G30) -> 0.35023964 | H32: =_xlfn.STDEV.P(H2:H30) -> 0.36918402 | I32: =_xlfn.STDEV.P(I2:I30) -> 1.4422678 | J32: =_xlfn.STDEV.P(J2:J30) -> 0.66311619 | K32: =_xlfn.STDEV.P(K2:K30) -> 0.14171286 | ... AI32: =_xlfn.STDEV.P(AI2:AI30) -> 3.9093182e-05
AG37: 0.44339772 | AH37: 0.024044605 | AI37: 9.9591968e-06
AG38: 0.60899326 | AH38: 0.061226276 | AI38: 3.9093182e-05

Sheet PO-PRO(C&T)
D1: PTV(V18=80%) | N1: MU | R1: Spinal cord | X1: Spinal cord PRV | AD1: BODY | AG1: RING_15MM
D2: PTV volume (cm3) | E2: D98% (Gy) | F2: D90% (Gy) | G2: D5% (Gy) | H2: D2% (Gy) | I2: Min. dose (Gy) | J2: Max. dose (Gy) | K2: Mean dose (Gy) | L2: Conformity index (CI) | M2: Homogeneity index (HI) | N2: 350 | O2: 273 | P2: TOTAL | Q2: MCSv | R2: Volume (cm3) | S2: D0.35cc (Gy) | T2: D0.035cc (Gy) | U2: D1.2cc (Gy) | V2: Max. dose (Gy) | W2: Mean dose (Gy) | X2: Volume (cm3) | Y2: D0.35cc (Gy) | Z2: D0.035cc (Gy) | AA2: D1.2cc (Gy) | AB2: Max. dose (Gy) | AC2: Mean dose (Gy) | AD2: V50% (cm3) | AE2: V100% (cm3) | AF2: Gradient index (GI) | AG2: V105% (cm3) | AH2: V110% (cm3) | AI2: V115% (cm3)
A3: CASE_01 | B3: ='PO_C&T'!B3 -> T4 | C3: ='PO_C&T'!C3 -> 22171298 | D3: ='PO_C&T'!D3-'PRO_C&T'!D3 -> 0 | E3: ='PO_C&T'!E3-'PRO_C&T'!E3 -> -1.0737564 | F3: ='PO_C&T'!F3-'PRO_C&T'!F3 -> -0.78061671 | G3: ='PO_C&T'!G3-'PRO_C&T'!G3 -> 0.63662425 | H3: ='PO_C&T'!H3-'PRO_C&T'!H3 -> 0.65219204 | I3: ='PO_C&T'!I3-'PRO_C&T'!I3 -> -1.733 | J3: ='PO_C&T'!J3-'PRO_C&T'!J3 -> 0.76 | K3: ='PO_C&T'!K3-'PRO_C&T'!K3 -> 0.25 | ... AI3: ='PO_C&T'!AI3-'PRO_C&T'!AI3 -> 8.2259725e-05
A4: CASE_02 | B4: ='PO_C&T'!B4 -> T11 | C4: ='PO_C&T'!C4 -> 46460040 | D4: ='PO_C&T'!D4-'PRO_C&T'!D4 -> 0 | E4: ='PO_C&T'!E4-'PRO_C&T'!E4 -> 0.3017 | F4: ='PO_C&T'!F4-'PRO_C&T'!F4 -> -0.16233308 | G4: ='PO_C&T'!G4-'PRO_C&T'!G4 -> 0.23558119 | H4: ='PO_C&T'!H4-'PRO_C&T'!H4 -> 0.23242001 | I4: ='PO_C&T'!I4-'PRO_C&T'!I4 -> 1.095 | J4: ='PO_C&T'!J4-'PRO_C&T'!J4 -> 0.427 | K4: ='PO_C&T'!K4-'PRO_C&T'!K4 -> 0.116 | ... AI4: ='PO_C&T'!AI4-'PRO_C&T'!AI4 -> 0
A5: CASE_03 | B5: ='PO_C&T'!B5 -> T3 | C5: ='PO_C&T'!C5 -> 50323032 | D5: ='PO_C&T'!D5-'PRO_C&T'!D5 -> 0 | E5: ='PO_C&T'!E5-'PRO_C&T'!E5 -> 0.29638462 | F5: ='PO_C&T'!F5-'PRO_C&T'!F5 -> -0.049123311 | G5: ='PO_C&T'!G5-'PRO_C&T'!G5 -> 0.88935241 | H5: ='PO_C&T'!H5-'PRO_C&T'!H5 -> 0.89366038 | I5: ='PO_C&T'!I5-'PRO_C&T'!I5 -> -1.06 | J5: ='PO_C&T'!J5-'PRO_C&T'!J5 -> 0.948 | K5: ='PO_C&T'!K5-'PRO_C&T'!K5 -> 0.494 | ... AI5: ='PO_C&T'!AI5-'PRO_C&T'!AI5 -> 0.084017709
A6: CASE_04 | B6: ='PO_C&T'!B6 -> T9 | C6: ='PO_C&T'!C6 -> 35864046 | D6: ='PO_C&T'!D6-'PRO_C&T'!D6 -> 0 | E6: ='PO_C&T'!E6-'PRO_C&T'!E6 -> 0.087264957 | F6: ='PO_C&T'!F6-'PRO_C&T'!F6 -> -0.29854005 | G6: ='PO_C&T'!G6-'PRO_C&T'!G6 -> 0.6163588 | H6: ='PO_C&T'!H6-'PRO_C&T'!H6 -> 0.66038187 | I6: ='PO_C&T'!I6-'PRO_C&T'!I6 -> -0.257 | J6: ='PO_C&T'!J6-'PRO_C&T'!J6 -> 0.652 | K6: ='PO_C&T'!K6-'PRO_C&T'!K6 -> 0.29 | ... AI6: ='PO_C&T'!AI6-'PRO_C&T'!AI6 -> 0
A7: CASE_05 | B7: ='PO_C&T'!B7 -> T5 | C7: ='PO_C&T'!C7 -> 53874647 | D7: ='PO_C&T'!D7-'PRO_C&T'!D7 -> 0 | E7: ='PO_C&T'!E7-'PRO_C&T'!E7 -> 0.70825668 | F7: ='PO_C&T'!F7-'PRO_C&T'!F7 -> -0.33639572 | G7: ='PO_C&T'!G7-'PRO_C&T'!G7 -> 0.63845531 | H7: ='PO_C&T'!H7-'PRO_C&T'!H7 -> 0.66674208 | I7: ='PO_C&T'!I7-'PRO_C&T'!I7 -> 1.658 | J7: ='PO_C&T'!J7-'PRO_C&T'!J7 -> 0.606 | K7: ='PO_C&T'!K7-'PRO_C&T'!K7 -> 0.334 | ... AI7: ='PO_C&T'!AI7-'PRO_C&T'!AI7 -> 0
A8: CASE_06 | B8: ='PO_C&T'!B8 -> T3 | C8: ='PO_C&T'!C8 -> 53863692 | D8: ='PO_C&T'!D8-'PRO_C&T'!D8 -> 0 | E8: ='PO_C&T'!E8-'PRO_C&T'!E8 -> 0.52250263 | F8: ='PO_C&T'!F8-'PRO_C&T'!F8 -> 0.13369189 | G8: ='PO_C&T'!G8-'PRO_C&T'!G8 -> 1.0178208 | H8: ='PO_C&T'!H8-'PRO_C&T'!H8 -> 1.0093413 | I8: ='PO_C&T'!I8-'PRO_C&T'!I8 -> -0.979 | J8: ='PO_C&T'!J8-'PRO_C&T'!J8 -> 1.256 | K8: ='PO_C&T'!K8-'PRO_C&T'!K8 -> 0.59 | ... AI8: ='PO_C&T'!AI8-'PRO_C&T'!AI8 -> 0.0020665012
A9: CASE_07 | B9: ='PO_C&T'!B9 -> T7 | C9: ='PO_C&T'!C9 -> 52601978 | D9: ='PO_C&T'!D9-'PRO_C&T'!D9 -> 0 | E9: ='PO_C&T'!E9-'PRO_C&T'!E9 -> 0.062254167 | F9: ='PO_C&T'!F9-'PRO_C&T'!F9 -> -0.31950317 | G9: ='PO_C&T'!G9-'PRO_C&T'!G9 -> 0.60093316 | H9: ='PO_C&T'!H9-'PRO_C&T'!H9 -> 0.6360659 | I9: ='PO_C&T'!I9-'PRO_C&T'!I9 -> -0.097 | J9: ='PO_C&T'!J9-'PRO_C&T'!J9 -> 0.671 | K9: ='PO_C&T'!K9-'PRO_C&T'!K9 -> 0.301 | ... AI9: ='PO_C&T'!AI9-'PRO_C&T'!AI9 -> -8.1600584e-05
A10: CASE_08 | B10: ='PO_C&T'!B10 -> T4 | C10: ='PO_C&T'!C10 -> 28631332 | D10: ='PO_C&T'!D10-'PRO_C&T'!D10 -> 0 | E10: ='PO_C&T'!E10-'PRO_C&T'!E10 -> 0.5982381 | F10: ='PO_C&T'!F10-'PRO_C&T'!F10 -> -0.47846308 | G10: ='PO_C&T'!G10-'PRO_C&T'!G10 -> 0.81657763 | H10: ='PO_C&T'!H10-'PRO_C&T'!H10 -> 0.93005315 | I10: ='PO_C&T'!I10-'PRO_C&T'!I10 -> 1.205 | J10: ='PO_C&T'!J10-'PRO_C&T'!J10 -> 0.845 | K10: ='PO_C&T'!K10-'PRO_C&T'!K10 -> 0.281 | ... AI10: ='PO_C&T'!AI10-'PRO_C&T'!AI10 -> 0
A11: CASE_09 | B11: ='PO_C&T'!B11 -> T12 | C11: ='PO_C&T'!C11 -> 48841708 | D11: ='PO_C&T'!D11-'PRO_C&T'!D11 -> 0 | E11: ='PO_C&T'!E11-'PRO_C&T'!E11 -> -0.7944 | F11: ='PO_C&T'!F11-'PRO_C&T'!F11 -> -0.18256896 | G11: ='PO_C&T'!G11-'PRO_C&T'!G11 -> 0.38987844 | H11: ='PO_C&T'!H11-'PRO_C&T'!H11 -> 0.40989306 | I11: ='PO_C&T'!I11-'PRO_C&T'!I11 -> -1.54 | J11: ='PO_C&T'!J11-'PRO_C&T'!J11 -> 0.301 | K11: ='PO_C&T'!K11-'PRO_C&T'!K11 -> 0.167 | ... AI11: ='PO_C&T'!AI11-'PRO_C&T'!AI11 -> 0
A12: CASE_10 | B12: ='PO_C&T'!B12 -> T4 | C12: ='PO_C&T'!C12 -> 52817968 | D12: ='PO_C&T'!D12-'PRO_C&T'!D12 -> 0 | E12: ='PO_C&T'!E12-'PRO_C&T'!E12 -> 1.1560167 | F12: ='PO_C&T'!F12-'PRO_C&T'!F12 -> 0.19404386 | G12: ='PO_C&T'!G12-'PRO_C&T'!G12 -> 0.73329946 | H12: ='PO_C&T'!H12-'PRO_C&T'!H12 -> 0.73353031 | I12: ='PO_C&T'!I12-'PRO_C&T'!I12 -> -0.161 | J12: ='PO_C&T'!J12-'PRO_C&T'!J12 -> 0.654 | K12: ='PO_C&T'!K12-'PRO_C&T'!K12 -> 0.512 | ... AI12: ='PO_C&T'!AI12-'PRO_C&T'!AI12 -> 0
A13: CASE_11 | B13: ='PO_C&T'!B13 -> T9 | C13: ='PO_C&T'!C13 -> 53072504 | D13: ='PO_C&T'!D13-'PRO_C&T'!D13 -> 0 | E13: ='PO_C&T'!E13-'PRO_C&T'!E13 -> 0.40894444 | F13: ='PO_C&T'!F13-'PRO_C&T'!F13 -> -0.51688578 | G13: ='PO_C&T'!G13-'PRO_C&T'!G13 -> 0.69366505 | H13: ='PO_C&T'!H13-'PRO_C&T'!H13 -> 0.70949114 | I13: ='PO_C&T'!I13-'PRO_C&T'!I13 -> -0.349 | J13: ='PO_C&T'!J13-'PRO_C&T'!J13 -> 1.055 | K13: ='PO_C&T'!K13-'PRO_C&T'!K13 -> 0.354 | ... AI13: ='PO_C&T'!AI13-'PRO_C&T'!AI13 -> 0
A14: CASE_12 | B14: ='PO_C&T'!B14 -> T7 | C14: ='PO_C&T'!C14 -> 53017312 | D14: ='PO_C&T'!D14-'PRO_C&T'!D14 -> 0 | E14: ='PO_C&T'!E14-'PRO_C&T'!E14 -> -1.0531818 | F14: ='PO_C&T'!F14-'PRO_C&T'!F14 -> -0.41149812 | G14: ='PO_C&T'!G14-'PRO_C&T'!G14 -> 0.29486761 | H14: ='PO_C&T'!H14-'PRO_C&T'!H14 -> 0.33678308 | I14: ='PO_C&T'!I14-'PRO_C&T'!I14 -> -1.345 | J14: ='PO_C&T'!J14-'PRO_C&T'!J14 -> 0.482 | K14: ='PO_C&T'!K14-'PRO_C&T'!K14 -> 0.056 | ... AI14: ='PO_C&T'!AI14-'PRO_C&T'!AI14 -> 0
... A30: CASE_28 | B30: ='PO_C&T'!B30 -> T3 | C30: ='PO_C&T'!C30 -> 50409323 | D30: ='PO_C&T'!D30-'PRO_C&T'!D30 -> 0 | E30: ='PO_C&T'!E30-'PRO_C&T'!E30 -> 0.71556044 | F30: ='PO_C&T'!F30-'PRO_C&T'!F30 -> -0.014866667 | G30: ='PO_C&T'!G30-'PRO_C&T'!G30 -> 0.97728456 | H30: ='PO_C&T'!H30-'PRO_C&T'!H30 -> 1.0014418 | I30: ='PO_C&T'!I30-'PRO_C&T'!I30 -> 0.199 | J30: ='PO_C&T'!J30-'PRO_C&T'!J30 -> 1.428 | K30: ='PO_C&T'!K30-'PRO_C&T'!K30 -> 0.568 | ... AI30: ='PO_C&T'!AI30-'PRO_C&T'!AI30 -> 0.058453609
C31: AVG | D31: =AVERAGE(D2:D30) -> 0 | E31: =AVERAGE(E2:E30) -> 0.17506071 | F31: =AVERAGE(F2:F30) -> -0.22234265 | G31: =AVERAGE(G2:G30) -> 0.68701959 | H31: =AVERAGE(H2:H30) -> 0.71987017 | I31: =AVERAGE(I2:I30) -> -0.30832143 | J31: =AVERAGE(J2:J30) -> 0.74235714 | K31: =AVERAGE(K2:K30) -> 0.34275 | ... AI31: =AVERAGE(AI2:AI30) -> 0.12594397
C32: SD | D32: =_xlfn.STDEV.P(D2:D30) -> 0 | E32: =_xlfn.STDEV.P(E2:E30) -> 0.64017033 | F32: =_xlfn.STDEV.P(F2:F30) -> 0.24638615 | G32: =_xlfn.STDEV.P(G2:G30) -> 0.29072756 | H32: =_xlfn.STDEV.P(H2:H30) -> 0.28981883 | I32: =_xlfn.STDEV.P(I2:I30) -> 1.056743 | J32: =_xlfn.STDEV.P(J2:J30) -> 0.36284975 | K32: =_xlfn.STDEV.P(K2:K30) -> 0.19404319 | ... AI32: =_xlfn.STDEV.P(AI2:AI30) -> 0.44500509

Sheet correlation
B2: C&T | C2: Nomalrity | D2: MU | F2: MCSv
D3: r | E3: p | F3: r | G3: p
A4: Spinal cord | B4: Volume (cm3) | C4: X
B5: D0.35cc (Gy) | C5: X | D5: -0.67925561 | E5: 0.00010552916 | F5: 0.7925561 | G5: 2.1710987e-06
B6: D0.035cc (Gy) | C6: X | D6: -0.50355774 | E6: 0.0069340771 | F6: 0.64422551 | G6: 0.00029760709
B7: D1.2cc (Gy) | C7: X | D7: -0.34920635 | E7: 0.069169974 | F7: 0.37985769 | G7: 0.047005336
B8: Max. dose (Gy) | C8: X | D8: -0.39354132 | E8: 0.039157935 | F8: 0.58401752 | G8: 0.0013509825
B9: Mean dose (Gy) | C9: X | D9: -0.6863711 | E9: 8.402922e-05 | F9: 0.79036672 | G9: 2.274336e-06
A10: Spinal cord PRV | B10: Volume (cm3) | C10: X
B11: D0.35cc (Gy) | C11: X | D11: -0.53256705 | E11: 0.0040111368 | F11: 0.60536398 | G11: 0.00081701271
B12: D0.035cc (Gy) | C12: X | D12: -0.28735632 | E12: 0.13800277 | F12: 0.46031746 | G12: 0.01454027
B13: D1.2cc (Gy) | C13: X | D13: -0.65188834 | E13: 0.00023990024 | F13: 0.7805145 | G13: 2.9154993e-06
B14: Max. dose (Gy) | C14: X | D14: -0.27586207 | E14: 0.1550099 | F14: 0.54022989 | G14: 0.0034452798
B15: Mean dose (Gy) | C15: X | D15: -0.63473382 | E15: 0.00028559114 | F15: 0.8041604 | G15: 2.5298615e-07
B16: V50% (cm3) | C16: X | D16: -0.106185 | E16: 0.58934544 | F16: 0.48385331 | G16: 0.0098202568
B17: V100% (cm3) | C17: X | D17: -0.20799124 | E17: 0.28686498 | F17: 0.42966612 | G17: 0.023407326
B18: Gradient index (GI) | C18: X | D18: -0.044334975 | E18: 0.82261857 | F18: 0.20853859 | G18: 0.28557597
A19: Ring | B19: V105% (cm3) | C19: X | D19: -0.074986316 | E19: 0.70366136 | F19: 0.21565408 | G19: 0.26915986
B20: V110% (cm3) | C20: X | D20: -0.0041056522 | E20: 0.98345736 | F20: 0.13329684 | G20: 0.49890733
B21: V115% (cm3) | C21: X | D21: -0.089221807 | E21: 0.65163292 | F21: 0.13692116 | G21: 0.48719989
B26: L | C26: Nomalrity | D26: MU | F26: MCSv
D27: r | E27: p | F27: r | G27: p
A28: EC | B28: Volume (cm3) | C28: X
B29: D1.5cc (Gy) | C29: X | D29: -0.67536946 | E29: 8.7751754e-05 | F29: 0.67438424 | G29: 9.0574196e-05
B30: D0.5cc (Gy) | C30: X | D30: -0.54876847 | E30: 0.0023970306 | F30: 0.56896552 | G30: 0.001539121
B31: D0.1cc (Gy) | C31: X | D31: -0.53497537 | E31: 0.0031973714 | F31: 0.51477833 | G31: 0.0047807073
B32: D0.035cc (Gy) | C32: X | D32: -0.53743842 | E32: 0.0030395345 | F32: 0.51428571 | G32: 0.0048265016
B33: Max. dose (Gy) | C33: X | D33: -0.29806627 | E33: 0.11630589 | F33: 0.26013056 | G33: 0.17293801
B34: Mean dose (Gy) | C34: X | D34: -0.80192168 | E34: 1.6977256e-07 | F34: 0.83419564 | G34: 1.8866913e-08
A35: EC PRV | B35: Volume (cm3) | C35: X
B36: D1.5cc (Gy) | C36: X | D36: -0.50492611 | E36: 0.0057709533 | F36: 0.52857143 | G36: 0.0036412527
B37: D0.5cc (Gy) | C37: X | D37: -0.40591133 | E37: 0.029777854 | F37: 0.43891626 | G37: 0.018057611
B38: D0.1cc (Gy) | C38: X | D38: -0.30738916 | E38: 0.10497544 | F38: 0.3226601 | G38: 0.088171029
B39: D0.035cc (Gy) | C39: X | D39: -0.25517241 | E39: 0.18097744 | F39: 0.24482759 | G39: 0.19978242
B40: Max. dose (Gy) | C40: X | D40: 0.034979678 | E40: 0.85704249 | F40: -0.024633576 | G40: 0.89906729
B41: Mean dose (Gy) | C41: X | D41: -0.73629758 | E41: 5.2876432e-06 | F41: 0.77398695 | G41: 8.4256084e-07
B42: V50% (cm3) | C42: X | D42: -0.14778325 | E42: 0.44258552 | F42: 0.26157635 | G42: 0.16998676
B43: V100% (cm3) | C43: X | D43: -0.63596059 | E43: 0.00028620495 | F43: 0.61280788 | G43: 0.00053342589
B44: Gradient index (GI) | C44: X | D44: 0.55495325 | E44: 0.0017807611 | F44: -0.32331202 | G44: 0.087118877
A45: Ring | B45: V105% (cm3) | C45: X | D45: -0.71674877 | E45: 2.0897491e-05 | F45: 0.60098522 | G45: 0.00072016073
...
