Workbook

Sheet metadata
A1: sheet | B1: sheet description | D1: text | F1: column | G1: sheet | H1: column description
A2: samples | B2: describes sample properties | D2: if highlighted in run, then the sample failed to sequence | F2: sample_number | G2: samples | H2: sample number also used in manuscript
A3: reads | B3: describes read yields for different amplicons and technical repeats | F3: sample_replicates | G3: samples | H3: same letter indicates biological (sampling) replicates from the same site, while * indicates technical replicates of the same sample
A4: reads-stat | B4: performs simple summary statistics on the sequencing sheet | F4: sequenced_platform | G4: samples | H4: indicates which sequencing platform was used for a sample. m = Illumina MiSeq, p = Pacb, mg = Illunina Shotgun Metagenomics
F5: sample_farm | G5: samples | H5: A and B designate two farms
F6: sample_compartment | G6: samples | H6: indicates which compartment of the recirculation system was sampled
F7: sample_tank | G7: samples | H7: indicates the specific circuit and tank that was sampled
F8: sample_method | G8: samples | H8: indicates the method used to collect biological material
F9: sample_type | G9: samples | H9: indicates the niche sampled (water vs biofilm from the tank wall)
F10: sample_date_YYYYMMDD | G10: samples | H10: date the sample was taken
F11: dataset_demultiplexed | G11: reads | H11: name of the demultiplexed dataset
F12: sample_origin | G12: reads | H12: sample from which the dataset was derived
F13: sample_designation | G13: reads | H13: name of the sample in the paper (e.g. technical replicates from 1 = 20, 21)
F14: reads_raw | G14: reads | H14: number of raw reads in the demultiplexed dataset
F15: reads_filtered | G15: reads | H15: number of reads after filter step of DADA2
F16: reads_denoisedF | G16: reads | H16: DADA2 step that aligns erroneous sequences to the correct "mother" sequence for the forward reads
... F33: percent_retained_average | G33: reads-stat | H33: average percent of raw reads retained after filtering across all samples in the dataset, excluding the mock community

Sheet samples
A1: sample_number | B1: sample_replicates | C1: sequence_platform | D1: sample_farm | E1: sample_compartment | F1: sample_tank | G1: sample_method | H1: sample_type | I1: sample_date_YYYYMMDD
A2: 1 | B2: a* | C2: m | D2: A | E2: tank | F2: H2 | G2: swab | H2: biofilm | I2: 20201104
A3: 2 | B3: a | C3: m, p, mg | D3: A | E3: tank | F3: H2 | G3: swab | H3: biofilm | I3: 20201104
A4: 3 | B4: a | C4: m, p, mg | D4: A | E4: tank | F4: H2 | G4: swab | H4: biofilm | I4: 20201104
A5: 4 | B5: b | C5: m | D5: A | E5: tank | F5: H8 | G5: swab | H5: biofilm | I5: 20200625
A6: 5 | B6: b | C6: m | D6: A | E6: tank | F6: H8 | G6: swab | H6: biofilm | I6: 20200625
A7: 6 | B7: b | C7: m | D7: A | E7: tank | F7: H8 | G7: swab | H7: biofilm | I7: 20200625
A8: negcont | B8: NA | C8: NA | D8: A | E8: NA | F8: NA | G8: swab | H8: none | I8: 20200625
A9: 7 | B9: c | C9: m | D9: A | E9: tank | F9: H8 | G9: filter | H9: water | I9: 20200625
A10: 8 | B10: c | C10: m, p | D10: A | E10: tank | F10: H8 | G10: filter | H10: water | I10: 20200625
A11: 9 | B11: c | C11: m,p | D11: A | E11: tank | F11: H8 | G11: filter | H11: water | I11: 20200625
A12: 10 | B12: d | C12: m, p, mg | D12: A | E12: biofilter | F12: NA | G12: filter | H12: water | I12: 20200625
A13: 11 | B13: d | C13: m, p, mg | D13: A | E13: biofilter | F13: NA | G13: filter | H13: water | I13: 20200625
A14: 12 | B14: d | C14: m | D14: A | E14: biofilter | F14: NA | G14: filter | H14: water | I14: 20200625
A15: negcont | B15: NA | C15: NA | D15: A | E15: NA | F15: NA | G15: filter | H15: destwater | I15: 20200625
A16: 13 | B16: e | C16: m | D16: B | E16: tank | F16: E15 | G16: swab | H16: biofilm | I16: 20201109
A17: 14 | B17: e | C17: m | D17: B | E17: tank | F17: E15 | G17: swab | H17: biofilm | I17: 20201109
A18: 15 | B18: e | C18: m | D18: B | E18: tank | F18: E15 | G18: swab | H18: biofilm | I18: 20201109
A19: 16 | B19: f | C19: m, p, mg | D19: B | E19: tank | F19: E3 | G19: swab | H19: biofilm | I19: 20201109
A20: 17 | B20: f | C20: m, p, mg | D20: B | E20: tank | F20: E3 | G20: swab | H20: biofilm | I20: 20201109
A21: 18 | B21: f | C21: m | D21: B | E21: tank | F21: E3 | G21: swab | H21: biofilm | I21: 20201109
A22: 19 | B22: a* | C22: m | D22: A | E22: tank | F22: H2 | G22: swab | H22: biofilm | I22: 20201104
A23: 20 | B23: a* | C23: m | D23: A | E23: tank | F23: H2 | G23: swab | H23: biofilm | I23: 20201104
A24: 21 | B24: a* | C24: m | D24: A | E24: tank | F24: H2 | G24: swab | H24: biofilm | I24: 20201104

Sheet reads
A1: dataset_demultiplexed | B1: sample_origin | C1: sample_designation | D1: reads_raw | E1: reads_filtered | F1: reads_denoisedF | G1: reads_denoisedR | H1: reads_merged | I1: reads_nonchim | J1: reads_percent_retained
A2: 27F_537R | B2: 1 | C2: 1 | D2: 352917 | E2: 271707 | F2: 260720 | G2: 252593 | H2: 247923 | I2: 241655 | J2: 43.56
A3: 27F_537R | B3: 2 | C3: 2 | D3: 294702 | E3: 234834 | F3: 225486 | G3: 220251 | H3: 216588 | I3: 208357 | J3: 48.98
A4: 27F_537R | B4: 3 | C4: 3 | D4: 225146 | E4: 163313 | F4: 155195 | G4: 152187 | H4: 149273 | I4: 144342 | J4: 73.81
A5: 27F_537R | B5: 4 | C5: 4 | D5: 249294 | E5: 191910 | F5: 182369 | G5: 178403 | H5: 172568 | I5: 166177 | J5: 75.94
A6: 27F_537R | B6: 5 | C6: 5 | D6: 279315 | E6: 218888 | F6: 208168 | G6: 204611 | H6: 197900 | I6: 189314 | J6: 63.37
A7: 27F_537R | B7: 6 | C7: 6 | D7: 261062 | E7: 204683 | F7: 193624 | G7: 193405 | H7: 186148 | I7: 176994 | J7: 76.83
A8: 27F_537R | B8: 7 | C8: 7 | D8: 297805 | E8: 224853 | F8: 209678 | G8: 212010 | H8: 203176 | I8: 200575 | J8: 56.38
A9: 27F_537R | B9: 8 | C9: 8 | D9: 243587 | E9: 198430 | F9: 184628 | G9: 182784 | H9: 174905 | I9: 167910 | J9: 63.33
A10: 27F_537R | B10: 9 | C10: 9 | D10: 241974 | E10: 184649 | F10: 169744 | G10: 170129 | H10: 162359 | I10: 154267 | J10: 63.75
A11: 27F_537R | B11: 10 | C11: 10 | D11: 271194 | E11: 203420 | F11: 187347 | G11: 187080 | H11: 178924 | I11: 173196 | J11: 62.31
A12: 27F_537R | B12: 11 | C12: 11 | D12: 263715 | E12: 197276 | F12: 179423 | G12: 182307 | H12: 172984 | I12: 168980 | J12: 67.29
A13: 27F_537R | B13: 12 | C13: 12 | D13: 284766 | E13: 209270 | F13: 189738 | G13: 192521 | H13: 182659 | I13: 177442 | J13: 55.41
... A19: 27F_537R | B19: 18 | C19: 18 | D19: 246451 | E19: 185926 | F19: 168645 | G19: 175691 | H19: 166018 | I19: 157607 | J19: 98.05
A20: 27F_537R | B20: 22St | C20: Mock | D20: 237110 | E20: 176751 | F20: 168977 | G20: 171615 | H20: 164189 | I20: 153746 | J20: 87.87
A21: Earth | B21: 1 | C21: 1 | D21: 278565 | E21: 258383 | F21: 253519 | G21: 256688 | H21: 249393 | I21: 241436 | J21: 86.67
A22: Earth | B22: 1 | C22: 19 | D22: 0 | E22: 0 | F22: 0 | G22: 0 | H22: 0 | I22: 0 | J22: 0
A23: Earth | B23: 1 | C23: 20 | D23: 248768 | E23: 225628 | F23: 219753 | G23: 223583 | H23: 215104 | I23: 208693 | J23: 83.89
A24: Earth | B24: 1 | C24: 21 | D24: 241294 | E24: 217179 | F24: 210868 | G24: 215158 | H24: 206388 | I24: 200523 | J24: 83.1
A25: Earth | B25: 2 | C25: 2 | D25: 255340 | E25: 234968 | F25: 229171 | G25: 232894 | H25: 224252 | I25: 217433 | J25: 85.15
A26: Earth | B26: 3 | C26: 3 | D26: 256634 | E26: 235599 | F26: 230000 | G26: 233833 | H26: 225793 | I26: 219035 | J26: 85.35
A27: Earth | B27: 4 | C27: 4 | D27: 322798 | E27: 298653 | F27: 295052 | G27: 297478 | H27: 292116 | I27: 277564 | J27: 85.99
A28: Earth | B28: 5 | C28: 5 | D28: 300711 | E28: 277658 | F28: 273585 | G28: 276177 | H28: 270277 | I28: 256589 | J28: 85.33
A29: Earth | B29: 6 | C29: 6 | D29: 297785 | E29: 274721 | F29: 271083 | G29: 273497 | H29: 268174 | I29: 253692 | J29: 85.19
A30: Earth | B30: 7 | C30: 7 | D30: 275981 | E30: 253440 | F30: 246399 | G30: 251249 | H30: 239051 | I30: 236008 | J30: 85.52
A31: Earth | B31: 8 | C31: 8 | D31: 266386 | E31: 246073 | F31: 239913 | G31: 244187 | H31: 233243 | I31: 229392 | J31: 86.11
A32: Earth | B32: 9 | C32: 9 | D32: 281697 | E32: 259208 | F32: 251765 | G32: 257008 | H32: 244079 | I32: 240444 | J32: 85.36
... A41: Earth | B41: 18 | C41: 18 | D41: 270329 | E41: 245995 | F41: 236543 | G41: 242296 | H41: 227785 | I41: 226391 | J41: 83.75
A42: Earth | B42: 22St | C42: Mock | D42: 336050 | E42: 310496 | F42: 310190 | G42: 310160 | H42: 304205 | I42: 297827 | J42: 88.63
A43: MiSeq | B43: 1 | C43: 1 | D43: 283101 | E43: 243660 | F43: 241256 | G43: 242851 | H43: 237043 | I43: 231390 | J43: 81.73
A44: MiSeq | B44: 2 | C44: 2 | D44: 253688 | E44: 215670 | F44: 214613 | G44: 215098 | H44: 213106 | I44: 212486 | J44: 83.76
A45: MiSeq | B45: 3 | C45: 3 | D45: 280928 | E45: 242905 | F45: 241324 | G45: 242320 | H45: 238770 | I45: 236997 | J45: 84.36
A46: MiSeq | B46: 4 | C46: 4 | D46: 297857 | E46: 259202 | F46: 257000 | G46: 258463 | H46: 252518 | I46: 236855 | J46: 79.52
A47: MiSeq | B47: 5 | C47: 5 | D47: 254684 | E47: 218981 | F47: 216869 | G47: 218241 | H47: 212649 | I47: 199939 | J47: 78.5
A48: MiSeq | B48: 6 | C48: 6 | D48: 274373 | E48: 236281 | F48: 233770 | G48: 235417 | H48: 229040 | I48: 217266 | J48: 79.19
A49: MiSeq | B49: 7 | C49: 7 | D49: 294544 | E49: 253846 | F49: 249272 | G49: 252219 | H49: 242621 | I49: 236000 | J49: 80.12
A50: MiSeq | B50: 8 | C50: 8 | D50: 350173 | E50: 303846 | F50: 300267 | G50: 302359 | H50: 295467 | I50: 292267 | J50: 83.46
A51: MiSeq | B51: 9 | C51: 9 | D51: 283840 | E51: 245074 | F51: 241642 | G51: 243636 | H51: 237267 | I51: 234783 | J51: 82.72
A52: MiSeq | B52: 10 | C52: 10 | D52: 276288 | E52: 234976 | F52: 230152 | G52: 233535 | H52: 225391 | I52: 223664 | J52: 80.95
A53: MiSeq | B53: 11 | C53: 11 | D53: 259398 | E53: 219981 | F53: 215972 | G53: 218586 | H53: 212046 | I53: 210955 | J53: 81.32
A54: MiSeq | B54: 12 | C54: 12 | D54: 250728 | E54: 207273 | F54: 202190 | G54: 205557 | H54: 196839 | I54: 195008 | J54: 77.78
... A60: MiSeq | B60: 18 | C60: 18 | D60: 271991 | E60: 232078 | F60: 227536 | G60: 230239 | H60: 222485 | I60: 220969 | J60: 81.24
A61: MiSeq | B61: 22St | C61: Mock | D61: 303318 | E61: 259786 | F61: 259417 | G61: 259511 | H61: 257873 | I61: 232627 | J61: 76.69
A62: Earth_combined | B62: 1 | C62: 1 | D62: 278565 | E62: 258383 | F62: 253461 | G62: 256680 | H62: 249185 | I62: 248576 | J62: 89.23
A63: Earth_combined | B63: 1 | C63: 19 | D63: 0 | E63: 0 | F63: 0 | G63: 0 | H63: 0 | I63: 0 | J63: 0
A64: Earth_combined | B64: 1 | C64: 20 | D64: 248768 | E64: 225628 | F64: 219970 | G64: 223607 | H64: 215399 | I64: 214981 | J64: 86.42
A65: Earth_combined | B65: 1 | C65: 21 | D65: 241294 | E65: 217179 | F65: 211429 | G65: 215167 | H65: 207100 | I65: 206789 | J65: 85.7
A66: Earth_combined | B66: 2 | C66: 2 | D66: 255340 | E66: 234968 | F66: 229097 | G66: 232897 | H66: 224241 | I66: 223737 | J66: 87.62
A67: Earth_combined | B67: 3 | C67: 3 | D67: 256634 | E67: 235599 | F67: 230011 | G67: 233821 | H67: 225723 | I67: 225291 | J67: 87.79
A68: Earth_combined | B68: 4 | C68: 4 | D68: 322798 | E68: 298653 | F68: 295213 | G68: 297475 | H68: 292239 | I68: 289159 | J68: 89.58
A69: Earth_combined | B69: 5 | C69: 5 | D69: 300711 | E69: 277658 | F69: 273551 | G69: 276188 | H69: 270140 | I69: 267285 | J69: 88.88
A70: Earth_combined | B70: 6 | C70: 6 | D70: 297785 | E70: 274721 | F70: 270847 | G70: 273482 | H70: 267924 | I70: 265334 | J70: 89.1
A71: Earth_combined | B71: 7 | C71: 7 | D71: 275981 | E71: 253440 | F71: 246261 | G71: 251217 | H71: 239065 | I71: 238876 | J71: 86.56
A72: Earth_combined | B72: 8 | C72: 8 | D72: 266386 | E72: 246073 | F72: 239750 | G72: 244185 | H72: 233104 | I72: 232810 | J72: 87.4
A73: Earth_combined | B73: 9 | C73: 9 | D73: 281697 | E73: 259208 | F73: 251814 | G73: 256978 | H73: 244142 | I73: 243849 | J73: 86.56
... A82: Earth_combined | B82: 18 | C82: 18 | D82: 270329 | E82: 245995 | F82: 236105 | G82: 242224 | H82: 226982 | I82: 226839 | J82: 83.91
A83: Earth_combined | B83: 22St | C83: Mock | D83: 336050 | E83: 310496 | F83: 310135 | G83: 310158 | H83: 304172 | I83: 301096 | J83: 89.6
A84: MiSeq_combined | B84: 1 | C84: 1 | D84: 283101 | E84: 243651 | F84: 241329 | G84: 242898 | H84: 236958 | I84: 231556 | J84: 81.79
A85: MiSeq_combined | B85: 2 | C85: 2 | D85: 253688 | E85: 215651 | F85: 214573 | G85: 215136 | H85: 213084 | I85: 212481 | J85: 83.76
A86: MiSeq_combined | B86: 3 | C86: 3 | D86: 280928 | E86: 242891 | F86: 241387 | G86: 242316 | H86: 238742 | I86: 237060 | J86: 84.38
A87: MiSeq_combined | B87: 4 | C87: 4 | D87: 297857 | E87: 259191 | F87: 256980 | G87: 258571 | H87: 252339 | I87: 237140 | J87: 79.62
A88: MiSeq_combined | B88: 5 | C88: 5 | D88: 254684 | E88: 218992 | F88: 217086 | G88: 218421 | H88: 212781 | I88: 200242 | J88: 78.62
A89: MiSeq_combined | B89: 6 | C89: 6 | D89: 274373 | E89: 236291 | F89: 234041 | G89: 235532 | H89: 229129 | I89: 217500 | J89: 79.27
A90: MiSeq_combined | B90: 7 | C90: 7 | D90: 294544 | E90: 253827 | F90: 249449 | G90: 252317 | H90: 242502 | I90: 236423 | J90: 80.27
A91: MiSeq_combined | B91: 8 | C91: 8 | D91: 350173 | E91: 303847 | F91: 300455 | G91: 302385 | H91: 295395 | I91: 292532 | J91: 83.54
A92: MiSeq_combined | B92: 9 | C92: 9 | D92: 283840 | E92: 245060 | F92: 241978 | G92: 243741 | H92: 237352 | I92: 235120 | J92: 82.84
A93: MiSeq_combined | B93: 10 | C93: 10 | D93: 276288 | E93: 234972 | F93: 230540 | G93: 233631 | H93: 225433 | I93: 223935 | J93: 81.05
A94: MiSeq_combined | B94: 11 | C94: 11 | D94: 259398 | E94: 219973 | F94: 216269 | G94: 218652 | H94: 212109 | I94: 211158 | J94: 81.4
A95: MiSeq_combined | B95: 12 | C95: 12 | D95: 250728 | E95: 207291 | F95: 202513 | G95: 205706 | H95: 196844 | I95: 195266 | J95: 77.88
... A101: MiSeq_combined | B101: 18 | C101: 18 | D101: 271991 | E101: 232074 | F101: 227797 | G101: 230328 | H101: 222579 | I101: 221206 | J101: 81.33
A102: MiSeq_combined | B102: 22St | C102: Mock | D102: 303318 | E102: 259793 | F102: 259497 | G102: 259669 | H102: 257832 | I102: 232907 | J102: 76.79

Sheet reads-stat
A1: dataset_demultiplexed | B1: raw_total | C1: raw_min | D1: raw_max | E1: raw_median | F1: raw_average | G1: nochim_total | H1: nonchim_min | I1: nonchim_max | J1: nonchim_median | K1: nonchim_average | L1: percent_retained_min | M1: percent_retained_max | N1: percent_retained_median | O1: percent_retained_average
A2: 27F_534R | B2: =SUM(reads!D2:D19) -> 4808910 | C2: =MIN(reads!D2:D19) -> 225146 | D2: =MAX(reads!D2:D19) -> 352917 | E2: =MEDIAN(reads!D2:D19) -> 262388.5 | F2: =AVERAGE(reads!D2:D19) -> 267161.67 | G2: =SUM(reads!I2:I19) -> 3195326 | H2: =MIN(reads!I2:I19) -> 144342 | I2: =MAX(reads!I2:I19) -> 241655 | J2: =MEDIAN(reads!I2:I19) -> 175095 | K2: =AVERAGE(reads!I2:I19) -> 177518.11 | L2: =MIN(reads!J2:J19) -> 43.56 | M2: =MAX(reads!J2:J19) -> 98.05 | N2: =MEDIAN(reads!J2:J19) -> 64.32 | O2: =AVERAGE(reads!J2:J19) -> 65.768889
A3: Earth | B3: =SUM(reads!D21:D41) -> 5306621 | C3: =MIN(reads!D21:D41) -> 0 | D3: =MAX(reads!D21:D41) -> 322798 | E3: =MEDIAN(reads!D21:D41) -> 270329 | F3: =AVERAGE(reads!D21:D41) -> 252696.24 | G3: =SUM(reads!I21:I41) -> 4453843 | H3: =MIN(reads!I21:I41) -> 0 | I3: =MAX(reads!I21:I41) -> 277564 | J3: =MEDIAN(reads!I21:I41) -> 226391 | K3: =AVERAGE(reads!I21:I41) -> 212087.76 | L3: =MIN(reads!J21:J41) -> 0 | M3: =MAX(reads!J21:J41) -> 86.67 | N3: =MEDIAN(reads!J21:J41) -> 84.89 | O3: =AVERAGE(reads!J21:J41) -> 79.790476
A4: Earth_combined | B4: =SUM(reads!D62:D82) -> 5306621 | C4: =MIN(reads!D62:D82) -> 0 | D4: =MAX(reads!D62:D82) -> 322798 | E4: =MEDIAN(reads!D62:D82) -> 270329 | F4: =AVERAGE(reads!D62:D82) -> 252696.24 | G4: =SUM(reads!I62:I82) -> 4549777 | H4: =MIN(reads!I62:I82) -> 0 | I4: =MAX(reads!I62:I82) -> 289159 | J4: =MEDIAN(reads!I62:I82) -> 226839 | K4: =AVERAGE(reads!I62:I82) -> 216656.05 | L4: =MIN(reads!J62:J82) -> 0 | M4: =MAX(reads!J62:J82) -> 89.58 | N4: =MEDIAN(reads!J62:J82) -> 86.42 | O4: =AVERAGE(reads!J62:J82) -> 81.434286
A5: MiSeq | B5: =SUM(reads!D43:D60) -> 5149263 | C5: =MIN(reads!D43:D60) -> 250728 | D5: =MAX(reads!D43:D60) -> 406780 | E5: =MEDIAN(reads!D43:D60) -> 277289 | F5: =AVERAGE(reads!D43:D60) -> 286070.17 | G5: =SUM(reads!I43:I60) -> 4212922 | H5: =MIN(reads!I43:I60) -> 195008 | I5: =MAX(reads!I43:I60) -> 341404 | J5: =MEDIAN(reads!I43:I60) -> 227527 | K5: =AVERAGE(reads!I43:I60) -> 234051.22 | L5: =MIN(reads!J43:J60) -> 77.78 | M5: =MAX(reads!J43:J60) -> 84.43 | N5: =MEDIAN(reads!J43:J60) -> 81.785 | O5: =AVERAGE(reads!J43:J60) -> 81.735
A6: MiSeq_combined | B6: =SUM(reads!D84:D101) -> 5149263 | C6: =MIN(reads!D84:D101) -> 250728 | D6: =MAX(reads!D84:D101) -> 406780 | E6: =MEDIAN(reads!D84:D101) -> 277289 | F6: =AVERAGE(reads!D84:D101) -> 286070.17 | G6: =SUM(reads!I84:I101) -> 4216287 | H6: =MIN(reads!I84:I101) -> 195266 | I6: =MAX(reads!I84:I101) -> 341402 | J6: =MEDIAN(reads!I84:I101) -> 227745.5 | K6: =AVERAGE(reads!I84:I101) -> 234238.17 | L6: =MIN(reads!J84:J101) -> 77.88 | M6: =MAX(reads!J84:J101) -> 84.39 | N6: =MEDIAN(reads!J84:J101) -> 81.865 | O6: =AVERAGE(reads!J84:J101) -> 81.802222
