Workbook

Sheet metadata
A1: sheet | B1: sheet description | D1: text | F1: column | G1: sheet | H1: column description
A2: samples | B2: describes sample properties | D2: if highlighted in run, then the sample failed to sequence | F2: sample_number | G2: samples | H2: sample number also used in manuscript
A3: reads | B3: describes read yields for different amplicons and technical repeats | F3: sample_replicates | G3: samples | H3: same letter indicates biological (sampling) replicates from the same site, while * indicates technical replicates of the same sample
A4: reads-stat | B4: performs simple summary statistics on the sequencing sheet | F4: sequenced_platform | G4: samples | H4: indicates which sequencing platform was used for a sample. m = Illumina MiSeq, p = Pacb, mg = Illunina Shotgun Metagenomics
F5: sample_farm | G5: samples | H5: A and B designate two farms
F6: sample_compartment | G6: samples | H6: indicates which compartment of the recirculation system was sampled
F7: sample_tank | G7: samples | H7: indicates the specific circuit and tank that was sampled
F8: sample_method | G8: samples | H8: indicates the method used to collect biological material
F9: sample_type | G9: samples | H9: indicates the niche sampled (water vs biofilm from the tank wall)
F10: sample_date_YYYYMMDD | G10: samples | H10: date the sample was taken
F11: dataset_demultiplexed | G11: reads | H11: name of the demultiplexed dataset
F12: sample_origin | G12: reads | H12: sample from which the dataset was derived
F13: sample_designation | G13: reads | H13: name of the sample in the paper (e.g. technical replicates from 1 = 20, 21)
F14: reads_raw | G14: reads | H14: number of raw reads in the demultiplexed dataset
F15: reads_filtered | G15: reads | H15: number of reads after filter step of DADA2
F16: reads_denoisedF | G16: reads | H16: DADA2 step that aligns erroneous sequences to the correct "mother" sequence for the forward reads
... F33: percent_retained_average | G33: reads-stat | H33: average percent of raw reads retained after filtering across all samples in the dataset, excluding the mock community

Sheet samples
A1: sample_number | B1: sample_replicates | C1: sequence_platform | D1: sample_farm | E1: sample_compartment | F1: sample_tank | G1: sample_method | H1: sample_type | I1: sample_date_YYYYMMDD
A2: 1 | B2: a* | C2: m | D2: A | E2: tank | F2: H2 | G2: swab | H2: biofilm | I2: 20201104
A3: 2 | B3: a | C3: m, p, mg | D3: A | E3: tank | F3: H2 | G3: swab | H3: biofilm | I3: 20201104
A4: 3 | B4: a | C4: m, p, mg | D4: A | E4: tank | F4: H2 | G4: swab | H4: biofilm | I4: 20201104
A5: 4 | B5: b | C5: m | D5: A | E5: tank | F5: H8 | G5: swab | H5: biofilm | I5: 20200625
A6: 5 | B6: b | C6: m | D6: A | E6: tank | F6: H8 | G6: swab | H6: biofilm | I6: 20200625
A7: 6 | B7: b | C7: m | D7: A | E7: tank | F7: H8 | G7: swab | H7: biofilm | I7: 20200625
A8: negcont | B8: NA | C8: NA | D8: A | E8: NA | F8: NA | G8: swab | H8: none | I8: 20200625
A9: 7 | B9: c | C9: m | D9: A | E9: tank | F9: H8 | G9: filter | H9: water | I9: 20200625
A10: 8 | B10: c | C10: m, p | D10: A | E10: tank | F10: H8 | G10: filter | H10: water | I10: 20200625
A11: 9 | B11: c | C11: m,p | D11: A | E11: tank | F11: H8 | G11: filter | H11: water | I11: 20200625
A12: 10 | B12: d | C12: m, p, mg | D12: A | E12: biofilter | F12: NA | G12: filter | H12: water | I12: 20200625
A13: 11 | B13: d | C13: m, p, mg | D13: A | E13: biofilter | F13: NA | G13: filter | H13: water | I13: 20200625
A14: 12 | B14: d | C14: m | D14: A | E14: biofilter | F14: NA | G14: filter | H14: water | I14: 20200625
A15: negcont | B15: NA | C15: NA | D15: A | E15: NA | F15: NA | G15: filter | H15: destwater | I15: 20200625
A16: 13 | B16: e | C16: m | D16: B | E16: tank | F16: E15 | G16: swab | H16: biofilm | I16: 20201109
A17: 14 | B17: e | C17: m | D17: B | E17: tank | F17: E15 | G17: swab | H17: biofilm | I17: 20201109
A18: 15 | B18: e | C18: m | D18: B | E18: tank | F18: E15 | G18: swab | H18: biofilm | I18: 20201109
A19: 16 | B19: f | C19: m, p, mg | D19: B | E19: tank | F19: E3 | G19: swab | H19: biofilm | I19: 20201109
A20: 17 | B20: f | C20: m, p, mg | D20: B | E20: tank | F20: E3 | G20: swab | H20: biofilm | I20: 20201109
A21: 18 | B21: f | C21: m | D21: B | E21: tank | F21: E3 | G21: swab | H21: biofilm | I21: 20201109
A22: 19 | B22: a* | C22: m | D22: A | E22: tank | F22: H2 | G22: swab | H22: biofilm | I22: 20201104
A23: 20 | B23: a* | C23: m | D23: A | E23: tank | F23: H2 | G23: swab | H23: biofilm | I23: 20201104
A24: 21 | B24: a* | C24: m | D24: A | E24: tank | F24: H2 | G24: swab | H24: biofilm | I24: 20201104

Sheet reads
A1: dataset_demultiplexed | B1: sample_origin | C1: sample_designation | D1: reads_raw | E1: reads_filtered | F1: reads_denoisedF | G1: reads_denoisedR | H1: reads_merged | I1: reads_nonchim | J1: reads_percent_retained
A2: 27F_537R | B2: 1 | C2: 1 | D2: 352917 | E2: 271707 | F2: 260720 | G2: 252593 | H2: 247923 | I2: 241655 | J2: 43.56
A3: 27F_537R | B3: 2 | C3: 2 | D3: 294702 | E3: 234834 | F3: 225486 | G3: 220251 | H3: 216588 | I3: 208357 | J3: 48.98
A4: 27F_537R | B4: 3 | C4: 3 | D4: 225146 | E4: 163313 | F4: 155195 | G4: 152187 | H4: 149273 | I4: 144342 | J4: 73.81
A5: 27F_537R | B5: 4 | C5: 4 | D5: 249294 | E5: 191910 | F5: 182369 | G5: 178403 | H5: 172568 | I5: 166177 | J5: 75.94
A6: 27F_537R | B6: 5 | C6: 5 | D6: 279315 | E6: 218888 | F6: 208168 | G6: 204611 | H6: 197900 | I6: 189314 | J6: 63.37
A7: 27F_537R | B7: 6 | C7: 6 | D7: 261062 | E7: 204683 | F7: 193624 | G7: 193405 | H7: 186148 | I7: 176994 | J7: 76.83
A8: 27F_537R | B8: 7 | C8: 7 | D8: 297805 | E8: 224853 | F8: 209678 | G8: 212010 | H8: 203176 | I8: 200575 | J8: 56.38
A9: 27F_537R | B9: 8 | C9: 8 | D9: 243587 | E9: 198430 | F9: 184628 | G9: 182784 | H9: 174905 | I9: 167910 | J9: 63.33
A10: 27F_537R | B10: 9 | C10: 9 | D10: 241974 | E10: 184649 | F10: 169744 | G10: 170129 | H10: 162359 | I10: 154267 | J10: 63.75
A11: 27F_537R | B11: 10 | C11: 10 | D11: 271194 | E11: 203420 | F11: 187347 | G11: 187080 | H11: 178924 | I11: 173196 | J11: 62.31
A12: 27F_537R | B12: 11 | C12: 11 | D12: 263715 | E12: 197276 | F12: 179423 | G12: 182307 | H12: 172984 | I12: 168980 | J12: 67.29
A13: 27F_537R | B13: 12 | C13: 12 | D13: 284766 | E13: 209270 | F13: 189738 | G13: 192521 | H13: 182659 | I13: 177442 | J13: 55.41
... A19: 27F_537R | B19: 18 | C19: 18 | D19: 246451 | E19: 185926 | F19: 168645 | G19: 175691 | H19: 166018 | I19: 157607 | J19: 98.05
A20: 27F_537R | B20: 22St | C20: Mock | D20: 237110 | E20: 176751 | F20: 168977 | G20: 171615 | H20: 164189 | I20: 153746 | J20: 87.87
A21: Earth | B21: 1 | C21: 1 | D21: 278565 | E21: 258383 | F21: 253519 | G21: 256688 | H21: 249393 | I21: 241436 | J21: 86.67
A22: Earth | B22: 1 | C22: 19 | D22: 0 | E22: 0 | F22: 0 | G22: 0 | H22: 0 | I22: 0 | J22: 0
A23: Earth | B23: 1 | C23: 20 | D23: 248768 | E23: 225628 | F23: 219753 | G23: 223583 | H23: 215104 | I23: 208693 | J23: 83.89
A24: Earth | B24: 1 | C24: 21 | D24: 241294 | E24: 217179 | F24: 210868 | G24: 215158 | H24: 206388 | I24: 200523 | J24: 83.1
A25: Earth | B25: 2 | C25: 2 | D25: 255340 | E25: 234968 | F25: 229171 | G25: 232894 | H25: 224252 | I25: 217433 | J25: 85.15
A26: Earth | B26: 3 | C26: 3 | D26: 256634 | E26: 235599 | F26: 230000 | G26: 233833 | H26: 225793 | I26: 219035 | J26: 85.35
A27: Earth | B27: 4 | C27: 4 | D27: 322798 | E27: 298653 | F27: 295052 | G27: 297478 | H27: 292116 | I27: 277564 | J27: 85.99
A28: Earth | B28: 5 | C28: 5 | D28: 300711 | E28: 277658 | F28: 273585 | G28: 276177 | H28: 270277 | I28: 256589 | J28: 85.33
A29: Earth | B29: 6 | C29: 6 | D29: 297785 | E29: 274721 | F29: 271083 | G29: 273497 | H29: 268174 | I29: 253692 | J29: 85.19
A30: Earth | B30: 7 | C30: 7 | D30: 275981 | E30: 253440 | F30: 246399 | G30: 251249 | H30: 239051 | I30: 236008 | J30: 85.52
A31: Earth | B31: 8 | C31: 8 | D31: 266386 | E31: 246073 | F31: 239913 | G31: 244187 | H31: 233243 | I31: 229392 | J31: 86.11
A32: Earth | B32: 9 | C32: 9 | D32: 281697 | E32: 259208 | F32: 251765 | G32: 257008 | H32: 244079 | I32: 240444 | J32: 85.36
... A41: Earth | B41: 18 | C41: 18 | D41: 270329 | E41: 245995 | F41: 236543 | G41: 242296 | H41: 227785 | I41: 226391 | J41: 83.75
A42: Earth | B42: 22St | C42: Mock | D42: 336050 | E42: 310496 | F42: 310190 | G42: 310160 | H42: 304205 | I42: 297827 | J42: 88.63
A43: MiSeq | B43: 1 | C43: 1 | D43: 283101 | E43: 243660 | F43: 241256 | G43: 242851 | H43: 237043 | I43: 231390 | J43: 81.73
A44: MiSeq | B44: 2 | C44: 2 | D44: 253688 | E44: 215670 | F44: 214613 | G44: 215098 | H44: 213106 | I44: 212486 | J44: 83.76
A45: MiSeq | B45: 3 | C45: 3 | D45: 280928 | E45: 242905 | F45: 241324 | G45: 242320 | H45: 238770 | I45: 236997 | J45: 84.36
A46: MiSeq | B46: 4 | C46: 4 | D46: 297857 | E46: 259202 | F46: 257000 | G46: 258463 | H46: 252518 | I46: 236855 | J46: 79.52
A47: MiSeq | B47: 5 | C47: 5 | D47: 254684 | E47: 218981 | F47: 216869 | G47: 218241 | H47: 212649 | I47: 199939 | J47: 78.5
A48: MiSeq | B48: 6 | C48: 6 | D48: 274373 | E48: 236281 | F48: 233770 | G48: 235417 | H48: 229040 | I48: 217266 | J48: 79.19
A49: MiSeq | B49: 7 | C49: 7 | D49: 294544 | E49: 253846 | F49: 249272 | G49: 252219 | H49: 242621 | I49: 236000 | J49: 80.12
A50: MiSeq | B50: 8 | C50: 8 | D50: 350173 | E50: 303846 | F50: 300267 | G50: 302359 | H50: 295467 | I50: 292267 | J50: 83.46
A51: MiSeq | B51: 9 | C51: 9 | D51: 283840 | E51: 245074 | F51: 241642 | G51: 243636 | H51: 237267 | I51: 234783 | J51: 82.72
A52: MiSeq | B52: 10 | C52: 10 | D52: 276288 | E52: 234976 | F52: 230152 | G52: 233535 | H52: 225391 | I52: 223664 | J52: 80.95
A53: MiSeq | B53: 11 | C53: 11 | D53: 259398 | E53: 219981 | F53: 215972 | G53: 218586 | H53: 212046 | I53: 210955 | J53: 81.32
...

Sheet reads-stat
A1: dataset_demultiplexed | B1: raw_total | C1: raw_min | D1: raw_max | E1: raw_median | F1: raw_average | G1: nochim_total | H1: nonchim_min | I1: nonchim_max | J1: nonchim_median | K1: nonchim_average | L1: percent_retained_min | M1: percent_retained_max | N1: percent_retained_median | O1: percent_retained_average
A2: 27F_534R | B2: =SUM(reads!D2:D19) -> 4808910 | C2: =MIN(reads!D2:D19) -> 225146 | D2: =MAX(reads!D2:D19) -> 352917 | E2: =MEDIAN(reads!D2:D19) -> 262388.5 | F2: =AVERAGE(reads!D2:D19) -> 267161.67 | G2: =SUM(reads!I2:I19) -> 3195326 | H2: =MIN(reads!I2:I19) -> 144342 | I2: =MAX(reads!I2:I19) -> 241655 | J2: =MEDIAN(reads!I2:I19) -> 175095 | K2: =AVERAGE(reads!I2:I19) -> 177518.11 | L2: =MIN(reads!J2:J19) -> 43.56 | M2: =MAX(reads!J2:J19) -> 98.05 | N2: =MEDIAN(reads!J2:J19) -> 64.32 | O2: =AVERAGE(reads!J2:J19) -> 65.768889
A3: Earth | B3: =SUM(reads!D21:D41) -> 5306621 | C3: =MIN(reads!D21:D41) -> 0 | D3: =MAX(reads!D21:D41) -> 322798 | E3: =MEDIAN(reads!D21:D41) -> 270329 | F3: =AVERAGE(reads!D21:D41) -> 252696.24 | G3: =SUM(reads!I21:I41) -> 4453843 | H3: =MIN(reads!I21:I41) -> 0 | I3: =MAX(reads!I21:I41) -> 277564 | J3: =MEDIAN(reads!I21:I41) -> 226391 | K3: =AVERAGE(reads!I21:I41) -> 212087.76 | L3: =MIN(reads!J21:J41) -> 0 | M3: =MAX(reads!J21:J41) -> 86.67 | N3: =MEDIAN(reads!J21:J41) -> 84.89 | O3: =AVERAGE(reads!J21:J41) -> 79.790476
A4: Earth_combined | B4: =SUM(reads!D62:D82) -> 5306621 | C4: =MIN(reads!D62:D82) -> 0 | D4: =MAX(reads!D62:D82) -> 322798 | E4: =MEDIAN(reads!D62:D82) -> 270329 | F4: =AVERAGE(reads!D62:D82) -> 252696.24 | G4: =SUM(reads!I62:I82) -> 4549777 | H4: =MIN(reads!I62:I82) -> 0 | I4: =MAX(reads!I62:I82) -> 289159 | J4: =MEDIAN(reads!I62:I82) -> 226839 | K4: =AVERAGE(reads!I62:I82) -> 216656.05 | L4: =MIN(reads!J62:J82) -> 0 | M4: =MAX(reads!J62:J82) -> 89.58 | N4: =MEDIAN(reads!J62:J82) -> 86.42 | O4: =AVERAGE(reads!J62:J82) -> 81.434286
A5: MiSeq | B5: =SUM(reads!D43:D60) -> 5149263 | C5: =MIN(reads!D43:D60) -> 250728 | D5: =MAX(reads!D43:D60) -> 406780 | E5: =MEDIAN(reads!D43:D60) -> 277289 | F5: =AVERAGE(reads!D43:D60) -> 286070.17 | G5: =SUM(reads!I43:I60) -> 4212922 | H5: =MIN(reads!I43:I60) -> 195008 | I5: =MAX(reads!I43:I60) -> 341404 | J5: =MEDIAN(reads!I43:I60) -> 227527 | K5: =AVERAGE(reads!I43:I60) -> 234051.22 | L5: =MIN(reads!J43:J60) -> 77.78 | M5: =MAX(reads!J43:J60) -> 84.43 | N5: =MEDIAN(reads!J43:J60) -> 81.785 | O5: =AVERAGE(reads!J43:J60) -> 81.735
A6: MiSeq_combined | B6: =SUM(reads!D84:D101) -> 5149263 | C6: =MIN(reads!D84:D101) -> 250728 | D6: =MAX(reads!D84:D101) -> 406780 | E6: =MEDIAN(reads!D84:D101) -> 277289 | F6: =AVERAGE(reads!D84:D101) -> 286070.17 | G6: =SUM(reads!I84:I101) -> 4216287 | H6: =MIN(reads!I84:I101) -> 195266 | I6: =MAX(reads!I84:I101) -> 341402 | J6: =MEDIAN(reads!I84:I101) -> 227745.5 | K6: =AVERAGE(reads!I84:I101) -> 234238.17 | L6: =MIN(reads!J84:J101) -> 77.88 | M6: =MAX(reads!J84:J101) -> 84.39 | N6: =MEDIAN(reads!J84:J101) -> 81.865 | O6: =AVERAGE(reads!J84:J101) -> 81.802222
