Workbook

Sheet metadata
A1: sheet | B1: sheet description | D1: column | E1: sheet | F1: column description
A2: Alpha_Values | B2: Alpha indice values | D2: Sample_Number | E2: Alpha_Values | F2: sample number also used in manuscript
A3: Alpha_Analysis | B3: Alpha stats | D3: Source | E3: Alpha_Values | F3: source indicates whether the ASV was derived from samples, from the mock community, or occurs in both
D4: Dataset | E4: Alpha_Values | F4: dataset used to demultiplex
D5: Dataset_Demultiplexed | E5: Alpha_Values | F5: name of the demultiplexed dataset
D6: Sequenced_Platform | E6: Alpha_Values | F6: indicates which sequencing platform was used for a sample
D7: Sample_Farm | E7: Alpha_Values | F7: A and B designate two farms
D8: Sample_Compartment | E8: Alpha_Values | F8: indicates which compartment of the recirculation system was sampled
D9: Sample_Tank | E9: Alpha_Values | F9: indicates the specific circuit and tank that was sampled
D10: Sample_Method | E10: Alpha_Values | F10: indicates the method used to collect biological material
D11: Sample_Type | E11: Alpha_Values | F11: indicates the niche sampled (water vs biofilm from the tank wall)
D12: Same_Date_YYYYMMDD | E12: Alpha_Values | F12: date the sample was taken and format of date
D13: Richness_ASVs | E13: Alpha_Values | F13: Alpha richness based on ASVs
D14: Shannon_diversity_ASVs | E14: Alpha_Values | F14: Shannon diversity based on ASVs
D15: Dataset | E15: Alpha_Analysis | F15: dataset used to demultiplex
... D29: Average_Shannon_Diversity | E29: Alpha_Analysis | F29: Average Shannon_Diversity of samples

Sheet Alpha_Values
A1: Sample_Number | B1: Source | C1: Dataset | D1: Dataset_Demultiplexed | E1: Sequenced_Platform | F1: Sample_Farm | G1: Sample_Compartment | H1: Sample_Tank | I1: Sample_Method | J1: Sample_Type | K1: Sample_Date_YYYYMMDD | L1: Richness_ASVs | M1: Shannon_diversity_ASVs
A2: sample01 | B2: Sample | C2: Combined | D2: Earth | E2: Illumina MiSeq | F2: A | G2: Tank | H2: H2 | I2: Swab | J2: Biofilm | K2: 20201104 | L2: 1462 | M2: 6.62
A3: sample02 | B3: Sample | C3: Combined | D3: Earth | E3: Illumina MiSeq | F3: A | G3: Tank | H3: H2 | I3: Swab | J3: Biofilm | K3: 20201104 | L3: 1515 | M3: 6.77
A4: sample03 | B4: Sample | C4: Combined | D4: Earth | E4: Illumina MiSeq | F4: A | G4: Tank | H4: H2 | I4: Swab | J4: Biofilm | K4: 20201104 | L4: 1510 | M4: 6.76
A5: sample04 | B5: Sample | C5: Combined | D5: Earth | E5: Illumina MiSeq | F5: A | G5: Tank | H5: H8 | I5: Swab | J5: Biofilm | K5: 20200625 | L5: 1119 | M5: 6.13
A6: sample05 | B6: Sample | C6: Combined | D6: Earth | E6: Illumina MiSeq | F6: A | G6: Tank | H6: H8 | I6: Swab | J6: Biofilm | K6: 20200625 | L6: 1067 | M6: 6.14
A7: sample06 | B7: Sample | C7: Combined | D7: Earth | E7: Illumina MiSeq | F7: A | G7: Tank | H7: H8 | I7: Swab | J7: Biofilm | K7: 20200625 | L7: 1217 | M7: 6.36
A8: sample07 | B8: Sample | C8: Combined | D8: Earth | E8: Illumina MiSeq | F8: A | G8: Tank | H8: H8 | I8: Filter | J8: Water | K8: 20200625 | L8: 1904 | M8: 7.06
A9: sample08 | B9: Sample | C9: Combined | D9: Earth | E9: Illumina MiSeq | F9: A | G9: Tank | H9: H8 | I9: Filter | J9: Water | K9: 20200625 | L9: 1915 | M9: 7.04
A10: sample09 | B10: Sample | C10: Combined | D10: Earth | E10: Illumina MiSeq | F10: A | G10: Tank | H10: H8 | I10: Filter | J10: Water | K10: 20200625 | L10: 1981 | M10: 7.11
A11: sample10 | B11: Sample | C11: Combined | D11: Earth | E11: Illumina MiSeq | F11: A | G11: Biofilter | H11: NA | I11: Filter | J11: Water | K11: 20200625 | L11: 2129 | M11: 7.26
A12: sample11 | B12: Sample | C12: Combined | D12: Earth | E12: Illumina MiSeq | F12: A | G12: Biofilter | H12: NA | I12: Filter | J12: Water | K12: 20200625 | L12: 2240 | M12: 7.31
A13: sample12 | B13: Sample | C13: Combined | D13: Earth | E13: Illumina MiSeq | F13: A | G13: Biofilter | H13: NA | I13: Filter | J13: Water | K13: 20200625 | L13: 2124 | M13: 7.28
... A37: sample18 | B37: Sample | C37: Combined | D37: MiSeq | E37: Illumina MiSeq | F37: B | G37: Tank | H37: E3 | I37: Swab | J37: Biofilm | K37: 20201109 | L37: 1837 | M37: 6.17

Sheet Alpha_Analysis
A1: Dataset | B1: Dataset_Demultiplexed | C1: Sample_Farm | D1: Sample_Number | E1: Sample_Classification | F1: Total_Richness | G1: Minimal_Richness | H1: Maximal_Richness | I1: Median_Richness | J1: Average_Richness | K1: Total_Shannon_Diversity | L1: Minimal_Shannon_Diversity | M1: Maximal_Shannon_Diversity | N1: Median_Shannon_Diversity | O1: Average_Shannon_Diversity
A2: Combined | B2: Earth | C2: AB | D2: 1-18 | E2: All | F2: =SUM(Alpha_Values!L2:L19) -> 30977 | G2: =MIN(Alpha_Values!L2:L19) -> 1067 | H2: =MAX(Alpha_Values!L2:L19) -> 2240 | I2: =MEDIAN(Alpha_Values!L2:L19) -> 1670.5 | J2: =AVERAGE(Alpha_Values!L2:L19) -> 1720.9444 | K2: =SUM(Alpha_Values!M2:M19) -> 123.86 | L2: =MIN(Alpha_Values!M2:M19) -> 6.13 | M2: =MAX(Alpha_Values!M2:M19) -> 7.31 | N2: =MEDIAN(Alpha_Values!M2:M19) -> 6.99 | O2: =AVERAGE(Alpha_Values!M2:M19) -> 6.8811111
A3: Combined | B3: Earth | C3: A | D3: 1-3 | E3: Mature_Biofilm | F3: =SUM(Alpha_Values!L2:L4) -> 4487 | G3: =MIN(Alpha_Values!L2:L4) -> 1462 | H3: =MAX(Alpha_Values!L2:L4) -> 1515 | I3: =MEDIAN(Alpha_Values!L2:L4) -> 1510 | J3: =AVERAGE(Alpha_Values!L2:L4) -> 1495.6667 | K3: =SUM(Alpha_Values!M2:M4) -> 20.15 | L3: =MIN(Alpha_Values!M2:M4) -> 6.62 | M3: =MAX(Alpha_Values!M2:M4) -> 6.77 | N3: =MEDIAN(Alpha_Values!M2:M4) -> 6.76 | O3: =AVERAGE(Alpha_Values!M2:M4) -> 6.7166667
A4: Combined | B4: Earth | C4: A | D4: 4-6 | E4: Young_Biofilm | F4: =SUM(Alpha_Values!L5:L7) -> 3403 | G4: =MIN(Alpha_Values!L5:L7) -> 1067 | H4: =MAX(Alpha_Values!L5:L7) -> 1217 | I4: =MEDIAN(Alpha_Values!L5:L7) -> 1119 | J4: =AVERAGE(Alpha_Values!L5:L7) -> 1134.3333 | K4: =SUM(Alpha_Values!M5:M7) -> 18.63 | L4: =MIN(Alpha_Values!M5:M7) -> 6.13 | M4: =MAX(Alpha_Values!M5:M7) -> 6.36 | N4: =MEDIAN(Alpha_Values!M5:M7) -> 6.14 | O4: =AVERAGE(Alpha_Values!M5:M7) -> 6.21
A5: Combined | B5: Earth | C5: A | D5: 7-9 | E5: Tank_Water | F5: =SUM(Alpha_Values!L8:L10) -> 5800 | G5: =MIN(Alpha_Values!L8:L10) -> 1904 | H5: =MAX(Alpha_Values!L8:L10) -> 1981 | I5: =MEDIAN(Alpha_Values!L8:L10) -> 1915 | J5: =AVERAGE(Alpha_Values!L8:L10) -> 1933.3333 | K5: =SUM(Alpha_Values!M8:M10) -> 21.21 | L5: =MIN(Alpha_Values!M8:M10) -> 7.04 | M5: =MAX(Alpha_Values!M8:M10) -> 7.11 | N5: =MEDIAN(Alpha_Values!M8:M10) -> 7.06 | O5: =AVERAGE(Alpha_Values!M8:M10) -> 7.07
A6: Combined | B6: Earth | C6: A | D6: 10-12 | E6: Biofilter_Water | F6: =SUM(Alpha_Values!L11:L13) -> 6493 | G6: =MIN(Alpha_Values!L11:L13) -> 2124 | H6: =MAX(Alpha_Values!L11:L13) -> 2240 | I6: =MEDIAN(Alpha_Values!L11:L13) -> 2129 | J6: =AVERAGE(Alpha_Values!L11:L13) -> 2164.3333 | K6: =SUM(Alpha_Values!M11:M13) -> 21.85 | L6: =MIN(Alpha_Values!M11:M13) -> 7.26 | M6: =MAX(Alpha_Values!M11:M13) -> 7.31 | N6: =MEDIAN(Alpha_Values!M11:M13) -> 7.28 | O6: =AVERAGE(Alpha_Values!M11:M13) -> 7.2833333
A7: Combined | B7: Earth | C7: B | D7: 13-15 | E7: Tank1_Biofilm | F7: =SUM(Alpha_Values!L14:L16) -> 5382 | G7: =MIN(Alpha_Values!L14:L16) -> 1667 | H7: =MAX(Alpha_Values!L14:L16) -> 2041 | I7: =MEDIAN(Alpha_Values!L14:L16) -> 1674 | J7: =AVERAGE(Alpha_Values!L14:L16) -> 1794 | K7: =SUM(Alpha_Values!M14:M16) -> 20.73 | L7: =MIN(Alpha_Values!M14:M16) -> 6.74 | M7: =MAX(Alpha_Values!M14:M16) -> 7.21 | N7: =MEDIAN(Alpha_Values!M14:M16) -> 6.78 | O7: =AVERAGE(Alpha_Values!M14:M16) -> 6.91
A8: Combined | B8: Earth | C8: B | D8: 16-18 | E8: Tank2_Biofilm | F8: =SUM(Alpha_Values!L17:L19) -> 5412 | G8: =MIN(Alpha_Values!L17:L19) -> 1588 | H8: =MAX(Alpha_Values!L17:L19) -> 2196 | I8: =MEDIAN(Alpha_Values!L17:L19) -> 1628 | J8: =AVERAGE(Alpha_Values!L17:L19) -> 1804 | K8: =SUM(Alpha_Values!M17:M19) -> 21.29 | L8: =MIN(Alpha_Values!M17:M19) -> 6.98 | M8: =MAX(Alpha_Values!M17:M19) -> 7.31 | N8: =MEDIAN(Alpha_Values!M17:M19) -> 7 | O8: =AVERAGE(Alpha_Values!M17:M19) -> 7.0966667
A9: Combined | B9: MiSeq | C9: AB | D9: 1-18 | E9: All | F9: =SUM(Alpha_Values!L20:L37) -> 23263 | G9: =MIN(Alpha_Values!L20:L37) -> 437 | H9: =MAX(Alpha_Values!L20:L37) -> 1948 | I9: =MEDIAN(Alpha_Values!L20:L37) -> 1496 | J9: =AVERAGE(Alpha_Values!L20:L37) -> 1292.3889 | K9: =SUM(Alpha_Values!M20:M37) -> 95.32 | L9: =MIN(Alpha_Values!M20:M37) -> 3.83 | M9: =MAX(Alpha_Values!M20:M37) -> 6.18 | N9: =MEDIAN(Alpha_Values!M20:M37) -> 5.41 | O9: =AVERAGE(Alpha_Values!M20:M37) -> 5.2955556
A10: Combined | B10: MiSeq | C10: A | D10: 1-3 | E10: Mature_Biofilm | F10: =SUM(Alpha_Values!L20:L22) -> 2492 | G10: =MIN(Alpha_Values!L20:L22) -> 808 | H10: =MAX(Alpha_Values!L20:L22) -> 843 | I10: =MEDIAN(Alpha_Values!L20:L22) -> 841 | J10: =AVERAGE(Alpha_Values!L20:L22) -> 830.66667 | K10: =SUM(Alpha_Values!M20:M22) -> 14.5 | L10: =MIN(Alpha_Values!M20:M22) -> 4.75 | M10: =MAX(Alpha_Values!M20:M22) -> 4.89 | N10: =MEDIAN(Alpha_Values!M20:M22) -> 4.86 | O10: =AVERAGE(Alpha_Values!M20:M22) -> 4.8333333
A11: Combined | B11: MiSeq | C11: A | D11: 4-6 | E11: Young_Biofilm | F11: =SUM(Alpha_Values!L23:L25) -> 1396 | G11: =MIN(Alpha_Values!L23:L25) -> 437 | H11: =MAX(Alpha_Values!L23:L25) -> 506 | I11: =MEDIAN(Alpha_Values!L23:L25) -> 453 | J11: =AVERAGE(Alpha_Values!L23:L25) -> 465.33333 | K11: =SUM(Alpha_Values!M23:M25) -> 11.93 | L11: =MIN(Alpha_Values!M23:M25) -> 3.83 | M11: =MAX(Alpha_Values!M23:M25) -> 4.18 | N11: =MEDIAN(Alpha_Values!M23:M25) -> 3.92 | O11: =AVERAGE(Alpha_Values!M23:M25) -> 3.9766667
A12: Combined | B12: MiSeq | C12: A | D12: 7-9 | E12: Tank_Water | F12: =SUM(Alpha_Values!L26:L28) -> 4429 | G12: =MIN(Alpha_Values!L26:L28) -> 1457 | H12: =MAX(Alpha_Values!L26:L28) -> 1505 | I12: =MEDIAN(Alpha_Values!L26:L28) -> 1467 | J12: =AVERAGE(Alpha_Values!L26:L28) -> 1476.3333 | K12: =SUM(Alpha_Values!M26:M28) -> 16.26 | L12: =MIN(Alpha_Values!M26:M28) -> 5.38 | M12: =MAX(Alpha_Values!M26:M28) -> 5.47 | N12: =MEDIAN(Alpha_Values!M26:M28) -> 5.41 | O12: =AVERAGE(Alpha_Values!M26:M28) -> 5.42
A13: Combined | B13: MiSeq | C13: A | D13: 10-12 | E13: Biofilter_Water | F13: =SUM(Alpha_Values!L29:L31) -> 4526 | G13: =MIN(Alpha_Values!L29:L31) -> 1493 | H13: =MAX(Alpha_Values!L29:L31) -> 1527 | I13: =MEDIAN(Alpha_Values!L29:L31) -> 1506 | J13: =AVERAGE(Alpha_Values!L29:L31) -> 1508.6667 | K13: =SUM(Alpha_Values!M29:M31) -> 17.65 | L13: =MIN(Alpha_Values!M29:M31) -> 5.86 | M13: =MAX(Alpha_Values!M29:M31) -> 5.93 | N13: =MEDIAN(Alpha_Values!M29:M31) -> 5.86 | O13: =AVERAGE(Alpha_Values!M29:M31) -> 5.8833333
A14: Combined | B14: MiSeq | C14: B | D14: 13-15 | E14: Tank1_Biofilm | F14: =SUM(Alpha_Values!L32:L34) -> 4990 | G14: =MIN(Alpha_Values!L32:L34) -> 1499 | H14: =MAX(Alpha_Values!L32:L34) -> 1786 | I14: =MEDIAN(Alpha_Values!L32:L34) -> 1705 | J14: =AVERAGE(Alpha_Values!L32:L34) -> 1663.3333 | K14: =SUM(Alpha_Values!M32:M34) -> 16.76 | L14: =MIN(Alpha_Values!M32:M34) -> 5.35 | M14: =MAX(Alpha_Values!M32:M34) -> 6 | N14: =MEDIAN(Alpha_Values!M32:M34) -> 5.41 | O14: =AVERAGE(Alpha_Values!M32:M34) -> 5.5866667
A15: Combined | B15: MiSeq | C15: B | D15: 16-18 | E15: Tank2_Biofilm | F15: =SUM(Alpha_Values!L35:L37) -> 5430 | G15: =MIN(Alpha_Values!L35:L37) -> 1645 | H15: =MAX(Alpha_Values!L35:L37) -> 1948 | I15: =MEDIAN(Alpha_Values!L35:L37) -> 1837 | J15: =AVERAGE(Alpha_Values!L35:L37) -> 1810 | K15: =SUM(Alpha_Values!M35:M37) -> 18.22 | L15: =MIN(Alpha_Values!M35:M37) -> 5.87 | M15: =MAX(Alpha_Values!M35:M37) -> 6.18 | N15: =MEDIAN(Alpha_Values!M35:M37) -> 6.17 | O15: =AVERAGE(Alpha_Values!M35:M37) -> 6.0733333
