Workbook

Sheet Measures Raw
A1: Measures | B1: Weight | C1: QLD | D1: NSW | E1: VIC | F1: TAS | G1: ACT | H1: SA | I1: NT | J1: WA
A4: Domain 1: Health Security Surveillance
A5: Subdomain 1.1: Health Surveillance & Epidemiological Investigation
A6: M17* - State health department participates in the Behavioral Risk Factor Surveillance System (BRFSS) | C6: 1 | D6: 1 | E6: 1 | F6: 1 | G6: 1 | H6: 1 | I6: 1 | J6: 1
A7: M18 - Number of epidemiologists per 100,000 population in the state, by quintile | B7: 0.13483146 | C7: 4 | D7: 4 | E7: 4 | F7: 4 | G7: 5 | H7: 5 | I7: 5 | J7: 4
A8: M19* - State health department participates in the Epidemic Information Exchange (EpiX) System | C8: 1 | D8: 1 | E8: 1 | F8: 1 | G8: 1 | H8: 1 | I8: 1 | J8: 1
A9: M20* - State health department participates in the National Electronic Disease Surveillance System (NEDSS) | C9: 1 | D9: 1 | E9: 1 | F9: 1 | G9: 1 | H9: 1 | I9: 1 | J9: 1
A10: M22 - State health department has an electronic syndromic surveillance system that can report and exchange information | B10: 0.14981273 | C10: 1 | D10: 1 | E10: 1 | F10: 1 | G10: 1 | H10: 1 | I10: 1 | J10: 1
A11: M217 - State public health laboratory has implemented the laboratory information management system (LIMS) to exchange laboratory information and results electronically with hospitals, clinical labs, state epidemiology units, and federal agencies | B11: 0.14981273 | C11: 1 | D11: 1 | E11: 1 | F11: 1 | G11: 1 | H11: 1 | I11: 1 | J11: 1
A12: M220 - State has legal requirement for nongovernmental laboratories (e.g. clinical, hospital-based) in the state to send clinical isolates or specimens associated with reportable foodborne diseases to the state public health laboratory | B12: 0.14906368 | C12: 1 | D12: 1 | E12: 1 | F12: 1 | G12: 1 | H12: 1 | I12: 1 | J12: 1
A13: M256* - State public health laboratory participates in either of the following federal surveillance programs: Foodborne Diseases Active Surveillance Network (FoodNet) or National Molecular Subtyping Network for Foodborne Disease Surveillance (PulseNet) | C13: 1 | D13: 1 | E13: 1 | F13: 1 | G13: 1 | H13: 1 | I13: 1 | J13: 1
A14: M23 - Percent of foodborne illness outbreaks reported to CDC by state and local public health departments for which a causative infectious agent is confirmed | B14: 0.13483146 | C14: 100 | D14: 56.14 | E14: 82 | F14: 100 | G14: 100 | H14: 100 | I14: 50 | J14: 75
A15: M289* - State health department participates in a broad prevention collaborative addressing health care-associated infections (HAIs) | C15: 1 | D15: 1 | E15: 1 | F15: 1 | G15: 1 | H15: 1 | I15: 1 | J15: 1
A16: M290 - State has a public health veterinarian | B16: 0.13483146 | C16: 1 | D16: 1 | E16: 1 | F16: 1 | G16: 1 | H16: 1 | I16: 1 | J16: 1
A17: M265 - State uses an Electronic Death Registration System (EDRS) | B17: 0.14681648 | C17: 1 | D17: 1 | E17: 1 | F17: 1 | G17: 1 | H17: 1 | I17: 1 | J17: 1
A18: M801* - State public health laboratory participates in the Centers for Disease Control and Prevention (CDC)/(CDNA) Influenza surveillance program, and/or the World Health Organization (WHO) Influenza Surveillance Network | C18: 1 | D18: 1 | E18: 1 | F18: 1 | G18: 1 | H18: 1 | I18: 1 | J18: 1
A19: Subdomain 1.2: Biological Monitoring & Laboratory Testing
A20: M1* - Public Health Emergency Preparedness (PHEP) Cooperative Agreement-funded Laboratory Response Network chemical (LRN-C) laboratories collect, package, and ship samples properly during an LRN-C exercise | C20: 1 | D20: 1 | E20: 1 | F20: 1 | G20: 1 | H20: 1 | I20: 1 | J20: 1
A21: M1314 - State public health chemical OR radiological terrorism/threat laboratory is accredited or certified by the College of American Pathologists (CAP) or Clinical Laboratory Improvement Amendments (CLIA) | B21: 0.061692022 | C21: 1 | D21: 1 | E21: 1 | F21: 1 | G21: 1 | H21: 1 | I21: 1 | J21: 1
A22: M208 - State public health laboratory has a permit for the importation and transportation of materials, organisms, and vectors controlled by USDA/APHIS (U.S. Department of Agriculture/ Animal and Plant Health Inspection Service) | B22: 0.058910154 | C22: 1 | D22: 1 | E22: 1 | F22: 1 | G22: 1 | H22: 1 | I22: 1 | J22: 1
A23: M8 - State public health laboratory has a plan for a 6-8 week surge in testing capacity to respond to an outbreak or other public health event, with enough staffing capacity to work five 12-hour days for six to eight weeks in response to an infectious disease outbreak, such as novel influenza A (H1N1) | B23: 0.065455727 | C23: 1 | D23: 1 | E23: 1 | F23: 1 | G23: 1 | H23: 1 | I23: 1 | J23: 1
A24: M9 - State public health laboratory has a continuity of operations plan consistent with National Incident Management System (NIMS) guidelines | B24: 0.065455727 | C24: 1 | D24: 1 | E24: 1 | F24: 1 | G24: 1 | H24: 1 | I24: 1 | J24: 1
A25: M11 - State public health laboratory has a plan to receive specimens from sentinel clinical laboratories during nonbusiness hours | B25: 0.065455727 | C25: 1 | D25: 1 | E25: 1 | F25: 1 | G25: 1 | H25: 1 | I25: 1 | J25: 1
A26: M12 - State public health laboratory has the capacity in place to assure the timely transportation (pick-up and delivery) of samples 24/7/365 days to the appropriate public health Laboratory Response Network (LRN) reference laboratory | B26: 0.065455727 | C26: 1 | D26: 1 | E26: 1 | F26: 1 | G26: 1 | H26: 1 | I26: 1 | J26: 1
A27: M211 - Percent of 10 tests for infectious diseases that the state public health laboratory provides or assures, including the study of the characteristics of a disease or organism in blood tests for arbovirus, hepatitis C, Legionella, measles, mumps, Neisseria meningitides serotyping, Plasmodium identification, Salmonella serotyping, Shigella serotyping, and Varicella | B27: 0.060219266 | C27: 100 | D27: 100 | E27: 100 | F27: 100 | G27: 100 | H27: 100 | I27: 100 | J27: 100
A28: M216 - Percent of 15 tests for infectious diseases that the state public health laboratory provides or assures including: antimicrobial susceptibility testing confirmation for vancomycin resistant Staphylococcus aureus, Anaplasmosis (Anaplasma phagocytophilum), Babesiosis (Babesia sp.), botulinum toxin—mouse toxicity assay, Dengue Fever, Hantavirus serology, identification of unusual bacterial isolates, identification of fungal isolates, identification of parasites, Klebsiella pneumoniae Carbapenemase (blaKPC) by PCR, Legionella by culture or PCR, malaria by PCR, norovirus by PCR, Powassan virus, rabies | B28: 0.060873825 | C28: 100 | D28: 100 | E28: 100 | F28: 100 | G28: 100 | H28: 100 | I28: 100 | J28: 100
A29: M2 - Percent of Laboratory Response Network biological (LRN-B) proficiency tests successfully passed by Public Health Emergency Preparedness (PHEP) Cooperative Agreement-funded laboratories | B29: 0.065455727 | C29: 100 | D29: 100 | E29: 100 | F29: 100 | G29: 100 | H29: 100 | I29: 100 | J29: 100
A30: M3 - Percent of pulsed field gel electrophoresis (PFGE) subtyping data results for E. coli submitted to the CDC PulseNet national database within four working days of receiving samples from clinical laboratories | B30: 0.058910154 | C30: 0 | D30: 0 | E30: 0 | F30: 0 | G30: 0 | H30: 0 | I30: 0 | J30: 0
A31: M5 - Percent of chemical agents correctly identified and quantified from unknown samples during unannounced proficiency testing during the state’s Laboratory Response Network (LRN) Emergency Response Pop Proficiency Test (PopPT) Exercise | B31: 0.065455727 | C31: 0 | D31: 0 | E31: 0 | F31: 0 | G31: 0 | H31: 0 | I31: 0 | J31: 0
A32: M7 - Number of additional chemical agent detection methods—beyond the core methods—demonstrated by Laboratory Response Network chemical (LRN-C) Level 1 or 2 laboratories in the state | B32: 0.049419072 | C32: 7 | D32: 7 | E32: 7 | F32: 7 | G32: 7 | H32: 7 | I32: 7 | J32: 7
... A37: M902 - State has a high-capability laboratory to detect chemical threats (Level 1 or 2 LRN-C laboratory) | B37: 0.05956471 | C37: 1 | D37: 1 | E37: 1 | F37: 1 | G37: 1 | H37: 1 | I37: 1 | J37: 1
A38: Domain 2: Community Planning & Engagement Coordination
A39: Subdomain 2.1: Cross-Sector / Community Collaboration
A40: M87 - State health department is accredited by the Public Health Accreditation Board (PHAB) | B40: 0.14948933 | C40: 1 | D40: 1 | E40: 1 | F40: 1 | G40: 1 | H40: 1 | I40: 1 | J40: 1
A41: M501 - Percent of the state’s population served by a comprehensive public health system, as determined through the National Longitudinal Survey of Public Health Systems | B41: 0.181987 | C41: 100 | D41: 100 | E41: 100 | F41: 100 | G41: 100 | H41: 100 | I41: 100 | J41: 100
A42: M9031 - Percent of hospitals in the state that participate in health care preparedness coalitions supported through the federal Hospital Preparedness Program of the Office of the Assistant Secretary for Preparedness and Response | B42: 0.16713092 | C42: 52.8 | D42: 52.5 | E42: 47.4 | F42: 100 | G42: 100 | H42: 58.3 | I42: 100 | J42: 60.5
A43: M9032 - Percent of emergency medical service agencies in the state that participate in health care preparedness coalitions supported through the federal Hospital Preparedness Program of the Office of the Assistant Secretary for Preparedness and Response | B43: 0.16713092 | C43: 100 | D43: 100 | E43: 100 | F43: 100 | G43: 100 | H43: 100 | I43: 100 | J43: 100
A44: M9033 - Percent of emergency management agencies in the state that participate in health care preparedness coalitions supported through the federal Hospital Preparedness Program of the Office of the Assistant Secretary for Preparedness and Response | B44: 0.16713092 | C44: 100 | D44: 100 | E44: 100 | F44: 100 | G44: 100 | H44: 100 | I44: 100 | J44: 100
A45: M9034 - Percent of local health departments in the state that participate in health care preparedness coalitions supported through the federal Hospital Preparedness Program of the Office of the Assistant Secretary for Preparedness and Response | B45: 0.16713092 | C45: 100 | D45: 100 | E45: 100 | F45: 100 | G45: 100 | H45: 100 | I45: 100 | J45: 100
A46: Domain 2: Community Planning & Engagement Coordination
...

Sheet Measure List
A1: Measures | B1: Individual Measure Weight | C1: QLD | D1: NSW | E1: VIC | F1: TAS | G1: ACT | H1: SA | I1: NT | J1: WA
A4: Domain 1: Health Security Surveillance
A5: Subdomain 1.1: Health Surveillance & Epidemiological Investigation
A6: M17* - State health department participates in the Behavioral Risk Factor Surveillance System (BRFSS) | C6: 1 | D6: 1 | E6: 1 | F6: 1 | G6: 1 | H6: 1 | I6: 1 | J6: 1 | L6: =MIN(C6,C6:J6) -> 1 | M6: =MAX(C6:J6) -> 1
A7: M18 - Number of epidemiologists per 100,000 population in the state, by quintile | B7: 0.13483146 | C7: 1 | D7: 1 | E7: 1 | F7: 1 | G7: 1 | H7: 1 | I7: 1 | J7: 1 | L7: =MIN(C7,C7:J7) -> 1 | M7: =MAX(C7:J7) -> 1
A8: M19* - State health department participates in the Epidemic Information Exchange (EpiX) System | C8: 1 | D8: 1 | E8: 1 | F8: 1 | G8: 1 | H8: 1 | I8: 1 | J8: 1 | L8: =MIN(C8,C8:J8) -> 1 | M8: =MAX(C8:J8) -> 1
A9: M20* - State health department participates in the National Electronic Disease Surveillance System (NEDSS) | C9: 1 | D9: 1 | E9: 1 | F9: 1 | G9: 1 | H9: 1 | I9: 1 | J9: 1 | L9: =MIN(C9,C9:J9) -> 1 | M9: =MAX(C9:J9) -> 1
A10: M22 - State health department has an electronic syndromic surveillance system that can report and exchange information | B10: 0.14981273 | C10: 1 | D10: 1 | E10: 1 | F10: 1 | G10: 1 | H10: 1 | I10: 1 | J10: 1 | L10: =MIN(C10,C10:J10) -> 1 | M10: =MAX(C10:J10) -> 1
A11: M217 - State public health laboratory has implemented the laboratory information management system (LIMS) to exchange laboratory information and results electronically with hospitals, clinical labs, state epidemiology units, and federal agencies | B11: 0.14981273 | C11: 1 | D11: 1 | E11: 1 | F11: 1 | G11: 1 | H11: 1 | I11: 1 | J11: 1 | L11: =MIN(C11,C11:J11) -> 1 | M11: =MAX(C11:J11) -> 1
A12: M220 - State has legal requirement for nongovernmental laboratories (e.g. clinical, hospital-based) in the state to send clinical isolates or specimens associated with reportable foodborne diseases to the state public health laboratory | B12: 0.14906368 | C12: 1 | D12: 1 | E12: 1 | F12: 1 | G12: 1 | H12: 1 | I12: 1 | J12: 1 | L12: =MIN(C12,C12:J12) -> 1 | M12: =MAX(C12:J12) -> 1
A13: M256* - State public health laboratory participates in either of the following federal surveillance programs: Foodborne Diseases Active Surveillance Network (FoodNet) or National Molecular Subtyping Network for Foodborne Disease Surveillance (PulseNet) | C13: 1 | D13: 1 | E13: 1 | F13: 1 | G13: 1 | H13: 1 | I13: 1 | J13: 1 | L13: =MIN(C13,C13:J13) -> 1 | M13: =MAX(C13:J13) -> 1
A14: M23 - Percent of foodborne illness outbreaks reported to CDC by state and local public health departments for which a causative infectious agent is confirmed | B14: 0.13483146 | C14: 1 | D14: 0.5614 | E14: 0.82 | F14: 1 | G14: 1 | H14: 1 | I14: 0.5 | J14: 0.75 | L14: =MIN(C14,C14:J14) -> 0.5 | M14: =MAX(C14:J14) -> 1
A15: M289* - State health department participates in a broad prevention collaborative addressing health care-associated infections (HAIs) | C15: 1 | D15: 1 | E15: 1 | F15: 1 | G15: 1 | H15: 1 | I15: 1 | J15: 1 | L15: =MIN(C15,C15:J15) -> 1 | M15: =MAX(C15:J15) -> 1
A16: M290 - State has a public health veterinarian | B16: 0.13483146 | C16: 1 | D16: 1 | E16: 1 | F16: 1 | G16: 1 | H16: 1 | I16: 1 | J16: 1 | L16: =MIN(C16,C16:J16) -> 1 | M16: =MAX(C16:J16) -> 1
A17: M265 - State uses an Electronic Death Registration System (EDRS) | B17: 0.14681648 | C17: 1 | D17: 1 | E17: 1 | F17: 1 | G17: 1 | H17: 1 | I17: 1 | J17: 1 | L17: =MIN(C17,C17:J17) -> 1 | M17: =MAX(B17:J17) -> 1
A18: M801* - State public health laboratory participates in the Centers for Disease Control and Prevention (CDC)/(CDNA) Influenza surveillance program, and/or the World Health Organization (WHO) Influenza Surveillance Network | B18: 0.061692022 | C18: 1 | D18: 1 | E18: 1 | F18: 1 | G18: 1 | H18: 1 | I18: 1 | J18: 1 | L18: =MIN(C18,C18:J18) -> 1 | M18: =MAX(C18:J18) -> 1
A19: Subdomain 1.2: Biological Monitoring & Laboratory Testing
A20: M1* - Public Health Emergency Preparedness (PHEP) Cooperative Agreement-funded Laboratory Response Network chemical (LRN-C) laboratories collect, package, and ship samples properly during an LRN-C exercise | B20: 0.065455727 | C20: 1 | D20: 1 | E20: 1 | F20: 1 | G20: 1 | H20: 1 | I20: 1 | J20: 1 | L20: =MIN(C20,C20:J20) -> 1 | M20: =MAX(C20:J20) -> 1
A21: M1314 - State public health chemical OR radiological terrorism/threat laboratory is accredited or certified by the College of American Pathologists (CAP) or Clinical Laboratory Improvement Amendments (CLIA) | B21: 0.061692022 | C21: 1 | D21: 1 | E21: 1 | F21: 1 | G21: 1 | H21: 1 | I21: 1 | J21: 1 | L21: =MIN(C21,C21:J21) -> 1 | M21: =MAX(C21:J21) -> 1
A22: M208 - State public health laboratory has a permit for the importation and transportation of materials, organisms, and vectors controlled by USDA/APHIS (U.S. Department of Agriculture/ Animal and Plant Health Inspection Service) | B22: 0.058910154 | C22: 1 | D22: 1 | E22: 1 | F22: 1 | G22: 1 | H22: 1 | I22: 1 | J22: 1 | L22: =MIN(C22,C22:J22) -> 1 | M22: =MAX(C22:J22) -> 1
A23: M8 - State public health laboratory has a plan for a six to eight week surge in testing capacity to respond to an outbreak or other public health event, with enough staffing capacity to work five 12-hour days for six to eight weeks in response to an infectious disease outbreak, such as novel influenza A (H1N1) | B23: 0.065455727 | C23: 1 | D23: 1 | E23: 1 | F23: 1 | G23: 1 | H23: 1 | I23: 1 | J23: 1 | L23: =MIN(C23,C23:J23) -> 1 | M23: =MAX(C23:J23) -> 1
A24: M9 - State public health laboratory has a continuity of operations plan consistent with National Incident Management System (NIMS) guidelines | B24: 0.065455727 | C24: 1 | D24: 1 | E24: 1 | F24: 1 | G24: 1 | H24: 1 | I24: 1 | J24: 1 | L24: =MIN(C24,C24:J24) -> 1 | M24: =MAX(C24:J24) -> 1
A25: M11 - State public health laboratory has a plan to receive specimens from sentinel clinical laboratories during nonbusiness hours | B25: 0.065455727 | C25: 1 | D25: 1 | E25: 1 | F25: 1 | G25: 1 | H25: 1 | I25: 1 | J25: 1 | L25: =MIN(C25,C25:J25) -> 1 | M25: =MAX(C25:J25) -> 1
A26: M12 - State public health laboratory has the capacity in place to assure the timely transportation (pick-up and delivery) of samples 24/7/365 days to the appropriate public health Laboratory Response Network (LRN) reference laboratory | B26: 0.065455727 | C26: 1 | D26: 1 | E26: 1 | F26: 1 | G26: 1 | H26: 1 | I26: 1 | J26: 1 | L26: =MIN(C26,C26:J26) -> 1 | M26: =MAX(C26:J26) -> 1
A27: M211 - Percent of 10 tests for infectious diseases that the state public health laboratory provides or assures, including the study of the characteristics of a disease or organism inblood tests for arbovirus, hepatitis C, Legionella, measles, mumps, Neisseria meningitides serotyping, Plasmodium identification, Salmonella serotyping, Shigella serotyping, and Varicella | B27: 0.060219266 | C27: 1 | D27: 1 | E27: 1 | F27: 1 | G27: 1 | H27: 1 | I27: 1 | J27: 1 | L27: =MIN(C27,C27:J27) -> 1 | M27: =MAX(C27:J27) -> 1
A28: M216 - Percent of 15 tests for infectious diseases that the state public health laboratory provides or assures including: antimicrobial susceptibility testing confirmation for vancomycin resistant Staphylococcus aureus, Anaplasmosis (Anaplasma phagocytophilum), Babesiosis (Babesia sp.), botulinum toxin—mouse toxicity assay, Dengue Fever, Hantavirus serology, identification of unusual bacterial isolates, identification of fungal isolates, identification of parasites, Klebsiella pneumoniae Carbapenemase (blaKPC) by PCR, Legionella by culture or PCR, malaria by PCR, norovirus by PCR, Powassan virus, rabies | B28: 0.060873825 | C28: 1 | D28: 1 | E28: 1 | F28: 1 | G28: 1 | H28: 1 | I28: 1 | J28: 1 | L28: =MIN(C28,C28:J28) -> 1 | M28: =MAX(C28:J28) -> 1
A29: M2 - Percent of Laboratory Response Network biological (LRN-B) proficiency tests successfully passed by Public Health Emergency Preparedness (PHEP) Cooperative Agreement-funded laboratories | B29: 0.065455727 | C29: 1 | D29: 1 | E29: 1 | F29: 1 | G29: 1 | H29: 1 | I29: 1 | J29: 1 | L29: =MIN(C29,C29:J29) -> 1 | M29: =MAX(C29:J29) -> 1
A30: M3 - Percent of pulsed field gel electrophoresis (PFGE) subtyping data results for E. coli submitted to the CDC PulseNet national database within four working days of receiving samples from clinical laboratories | B30: 0.058910154 | C30: 0 | D30: 0 | E30: 0 | F30: 0 | G30: 0 | H30: 0 | I30: 0 | J30: 0 | L30: =MIN(C30,C30:J30) -> 0 | M30: =MAX(C30:J30) -> 0
A31: M5 - Percent of chemical agents correctly identified and quantified from unknown samples during unannounced proficiency testing during the state’s Laboratory Response Network (LRN) Emergency Response Pop Proficiency Test (PopPT) Exercise | B31: 0.065455727 | C31: 0 | D31: 0 | E31: 0 | F31: 0 | G31: 0 | H31: 0 | I31: 0 | J31: 0 | L31: =MIN(C31,C31:J31) -> 0 | M31: =MAX(C31:J31) -> 0
... A37: M911 - State has a high-capability laboratory to detect chemical threats (Level 1 or 2 LRN-C laboratory) | B37: 0.05956471 | C37: 1 | D37: 1 | E37: 1 | F37: 1 | G37: 1 | H37: 1 | I37: 1 | J37: 1 | L37: =MIN(C37,C37:J37) -> 1 | M37: =MAX(C37:J37) -> 1
A38: Domain 2: Community Planning & Engagement Coordination
A39: Subdomain 2.1: Cross-Sector / Community Collaboration
A40: M87 - State health department is accredited by the Public Health Accreditation Board (PHAB) | B40: 0.14948933 | C40: 1 | D40: 1 | E40: 1 | F40: 1 | G40: 1 | H40: 1 | I40: 1 | J40: 1 | L40: =MIN(C40,C40:J40) -> 1 | M40: =MAX(C40:J40) -> 1
A41: M501 - Percent of the state’s population served by a comprehensive public health system, as determined through the National Longitudinal Survey of Public Health Systems | B41: 0.181987 | C41: 1 | D41: 1 | E41: 1 | F41: 1 | G41: 1 | H41: 1 | I41: 1 | J41: 1 | L41: =MIN(C41,C41:J41) -> 1 | M41: =MAX(C41:J41) -> 1
A42: M9031 - Percent of hospitals in the state that participate in health care preparedness coalitions supported through the federal Hospital Preparedness Program of the Office of the Assistant Secretary for Preparedness and Response | B42: 0.16713092 | C42: 0.528 | D42: 0.525 | E42: 0.474 | F42: 1 | G42: 1 | H42: 0.583 | I42: 1 | J42: 0.605 | L42: =MIN(C42,C42:J42) -> 0.474 | M42: =MAX(C42:J42) -> 1
A43: M9032 - Percent of emergency medical service agencies in the state that participate in health care preparedness coalitions supported through the federal Hospital Preparedness Program of the Office of the Assistant Secretary for Preparedness and Response | B43: 0.16713092 | C43: 1 | D43: 1 | E43: 1 | F43: 1 | G43: 1 | H43: 1 | I43: 1 | J43: 1 | L43: =MIN(C43,C43:J43) -> 1 | M43: =MAX(C43:J43) -> 1
A44: M9033 - Percent of emergency management agencies in the state that participate in health care preparedness coalitions supported through the federal Hospital Preparedness Program of the Office of the Assistant Secretary for Preparedness and Response | B44: 0.16713092 | C44: 1 | D44: 1 | E44: 1 | F44: 1 | G44: 1 | H44: 1 | I44: 1 | J44: 1 | L44: =MIN(C44,C44:J44) -> 1 | M44: =MAX(C44:J44) -> 1
A45: M9034 - Percent of local health departments in the state that participate in health care preparedness coalitions supported through the federal Hospital Preparedness Program of the Office of the Assistant Secretary for Preparedness and Response | B45: 0.16713092 | C45: 1 | D45: 1 | E45: 1 | F45: 1 | G45: 1 | H45: 1 | I45: 1 | J45: 1 | L45: =MIN(C45,C45:J45) -> 1 | M45: =MAX(C45:J45) -> 1
A46: Domain 2: Community Planning & Engagement Coordination
A47: Subdomain 2.2: Children & Other At-Risk Populations
...

Sheet Measures Weighted
A1: Measures | B1: Individual Measure Weight | C1: QLD | D1: NSW | E1: VIC | F1: TAS | G1: ACT | H1: SA | I1: NT | J1: WA
A4: Domain 1: Health Security Surveillance
A5: Subdomain 1.1: Health Surveillance & Epidemiological Investigation | C5: =SUM(C7:C17) -> 0.99999999 | D5: =SUBTOTAL(109,D7:D17) -> 0.94086291 | E5: =SUBTOTAL(109,E7:E17) -> 0.97573032 | F5: =SUBTOTAL(109,F7:F17) -> 0.99999999 | G5: =SUBTOTAL(109,G7:G17) -> 0.99999999 | H5: =SUBTOTAL(109,H7:H17) -> 0.99999999 | I5: =SUBTOTAL(109,I7:I17) -> 0.93258426 | J5: =SUBTOTAL(109,J7:J17) -> 0.96629212
A6: M17* - State health department participates in the Behavioral Risk Factor Surveillance System (BRFSS) | C6: 1 | D6: 1 | E6: 1 | F6: 1 | G6: 1 | H6: 1 | I6: 1 | J6: 1 | L6: =MIN(C6,C6:J6) -> 1 | M6: =MAX(C6:J6) -> 1
A7: M18 - Number of epidemiologists per 100,000 population in the state, by quintile | B7: 0.13483146 | C7: =('Measure List'!C7)*'Measures Weighted'!$B$7 -> 0.13483146 | D7: =('Measure List'!D7)*'Measures Weighted'!$B$7 -> 0.13483146 | E7: =('Measure List'!E7)*'Measures Weighted'!$B$7 -> 0.13483146 | F7: =('Measure List'!F7)*'Measures Weighted'!$B$7 -> 0.13483146 | G7: =('Measure List'!G7)*'Measures Weighted'!$B$7 -> 0.13483146 | H7: =('Measure List'!H7)*'Measures Weighted'!$B$7 -> 0.13483146 | I7: =('Measure List'!I7)*'Measures Weighted'!$B$7 -> 0.13483146 | J7: =('Measure List'!J7)*'Measures Weighted'!$B$7 -> 0.13483146 | L7: =MIN(C7,C7:J7) -> 0.13483146 | M7: =MAX(C7:J7) -> 0.13483146
A8: M19* - State health department participates in the Epidemic Information Exchange (EpiX) System | C8: =('Measure List'!C8)*'Measures Weighted'!B8 -> 0 | D8: 1 | E8: 1 | F8: 1 | G8: 1 | H8: 1 | I8: 1 | J8: 1 | L8: =MIN(C8,C8:J8) -> 0 | M8: =MAX(C8:J8) -> 1
A9: M20* - State health department participates in the National Electronic Disease Surveillance System (NEDSS) | C9: =('Measure List'!C9)*'Measures Weighted'!B9 -> 0 | D9: 1 | E9: 1 | F9: 1 | G9: 1 | H9: 1 | I9: 1 | J9: 1 | L9: =MIN(C9,C9:J9) -> 0 | M9: =MAX(C9:J9) -> 1
A10: M22 - State health department has an electronic syndromic surveillance system that can report and exchange information | B10: 0.14981273 | C10: =('Measure List'!C10)*'Measures Weighted'!B10 -> 0.14981273 | D10: =('Measure List'!D10)*'Measures Weighted'!C10 -> 0.14981273 | E10: =('Measure List'!E10)*'Measures Weighted'!D10 -> 0.14981273 | F10: =('Measure List'!F10)*'Measures Weighted'!E10 -> 0.14981273 | G10: =('Measure List'!G10)*'Measures Weighted'!F10 -> 0.14981273 | H10: =('Measure List'!H10)*'Measures Weighted'!G10 -> 0.14981273 | I10: =('Measure List'!I10)*'Measures Weighted'!H10 -> 0.14981273 | J10: =('Measure List'!J10)*'Measures Weighted'!I10 -> 0.14981273 | L10: =MIN(C10,C10:J10) -> 0.14981273 | M10: =MAX(C10:J10) -> 0.14981273
A11: M217 - State public health laboratory has implemented the laboratory information management system (LIMS) to exchange laboratory information and results electronically with hospitals, clinical labs, state epidemiology units, and federal agencies | B11: 0.14981273 | C11: =('Measure List'!C11)*'Measures Weighted'!B11 -> 0.14981273 | D11: =('Measure List'!D11)*'Measures Weighted'!C11 -> 0.14981273 | E11: =('Measure List'!E11)*'Measures Weighted'!D11 -> 0.14981273 | F11: =('Measure List'!F11)*'Measures Weighted'!E11 -> 0.14981273 | G11: =('Measure List'!G11)*'Measures Weighted'!F11 -> 0.14981273 | H11: =('Measure List'!H11)*'Measures Weighted'!G11 -> 0.14981273 | I11: =('Measure List'!I11)*'Measures Weighted'!H11 -> 0.14981273 | J11: =('Measure List'!J11)*'Measures Weighted'!I11 -> 0.14981273 | L11: =MIN(C11,C11:J11) -> 0.14981273 | M11: =MAX(C11:J11) -> 0.14981273
A12: M220 - State has legal requirement for nongovernmental laboratories (e.g. clinical, hospital-based) in the state to send clinical isolates or specimens associated with reportable foodborne diseases to the state public health laboratory | B12: 0.14906368 | C12: =('Measure List'!C12)*'Measures Weighted'!B12 -> 0.14906368 | D12: =('Measure List'!D12)*'Measures Weighted'!C12 -> 0.14906368 | E12: =('Measure List'!E12)*'Measures Weighted'!D12 -> 0.14906368 | F12: =('Measure List'!F12)*'Measures Weighted'!E12 -> 0.14906368 | G12: =('Measure List'!G12)*'Measures Weighted'!F12 -> 0.14906368 | H12: =('Measure List'!H12)*'Measures Weighted'!G12 -> 0.14906368 | I12: =('Measure List'!I12)*'Measures Weighted'!H12 -> 0.14906368 | J12: =('Measure List'!J12)*'Measures Weighted'!I12 -> 0.14906368 | L12: =MIN(C12,C12:J12) -> 0.14906368 | M12: =MAX(C12:J12) -> 0.14906368
A13: M256* - State public health laboratory participates in either of the following federal surveillance programs: Foodborne Diseases Active Surveillance Network (FoodNet) or National Molecular Subtyping Network for Foodborne Disease Surveillance (PulseNet) | C13: =('Measure List'!C13)*'Measures Weighted'!B13 -> 0 | D13: 1 | E13: 1 | F13: 1 | G13: 1 | H13: 1 | I13: 1 | J13: 1 | L13: =MIN(C13,C13:J13) -> 0 | M13: =MAX(C13:J13) -> 1
A14: M23 - Percent of foodborne illness outbreaks reported to CDC by state and local public health departments for which a causative infectious agent is confirmed | B14: 0.13483146 | C14: =('Measure List'!C14)*'Measures Weighted'!$B$14 -> 0.13483146 | D14: =('Measure List'!D14)*'Measures Weighted'!$B$14 -> 0.075694381 | E14: =('Measure List'!E14)*'Measures Weighted'!$B$14 -> 0.1105618 | F14: =('Measure List'!F14)*'Measures Weighted'!$B$14 -> 0.13483146 | G14: =('Measure List'!G14)*'Measures Weighted'!$B$14 -> 0.13483146 | H14: =('Measure List'!H14)*'Measures Weighted'!$B$14 -> 0.13483146 | I14: =('Measure List'!I14)*'Measures Weighted'!$B$14 -> 0.067415729 | J14: =('Measure List'!J14)*'Measures Weighted'!$B$14 -> 0.10112359 | L14: =MIN(C14,C14:J14) -> 0.067415729 | M14: =MAX(C14:J14) -> 0.13483146
A15: M289* - State health department participates in a broad prevention collaborative addressing health care-associated infections (HAIs) | C15: =('Measure List'!C15)*'Measures Weighted'!B15 -> 0 | D15: 1 | E15: 1 | F15: 1 | G15: 1 | H15: 1 | I15: 1 | J15: 1 | L15: =MIN(C15,C15:J15) -> 0 | M15: =MAX(C15:J15) -> 1
A16: M290 - State has a public health veterinarian | B16: 0.13483146 | C16: =('Measure List'!C16)*'Measures Weighted'!B16 -> 0.13483146 | D16: =('Measure List'!D16)*'Measures Weighted'!C16 -> 0.13483146 | E16: =('Measure List'!E16)*'Measures Weighted'!D16 -> 0.13483146 | F16: =('Measure List'!F16)*'Measures Weighted'!E16 -> 0.13483146 | G16: =('Measure List'!G16)*'Measures Weighted'!F16 -> 0.13483146 | H16: =('Measure List'!H16)*'Measures Weighted'!G16 -> 0.13483146 | I16: =('Measure List'!I16)*'Measures Weighted'!H16 -> 0.13483146 | J16: =('Measure List'!J16)*'Measures Weighted'!I16 -> 0.13483146 | L16: =MIN(C16,C16:J16) -> 0.13483146 | M16: =MAX(C16:J16) -> 0.13483146
A17: M265 - State uses an Electronic Death Registration System (EDRS) | B17: 0.14681648 | C17: =('Measure List'!C17)*'Measures Weighted'!B17 -> 0.14681648 | D17: =('Measure List'!D17)*'Measures Weighted'!C17 -> 0.14681648 | E17: =('Measure List'!E17)*'Measures Weighted'!D17 -> 0.14681648 | F17: =('Measure List'!F17)*'Measures Weighted'!E17 -> 0.14681648 | G17: =('Measure List'!G17)*'Measures Weighted'!F17 -> 0.14681648 | H17: =('Measure List'!H17)*'Measures Weighted'!G17 -> 0.14681648 | I17: =('Measure List'!I17)*'Measures Weighted'!H17 -> 0.14681648 | J17: =('Measure List'!J17)*'Measures Weighted'!I17 -> 0.14681648 | L17: =MIN(C17,C17:J17) -> 0.14681648 | M17: =MAX(B17:J17) -> 0.14681648
A18: M801* - State public health laboratory participates in the Centers for Disease Control and Prevention (CDC)/(CDNA) Influenza surveillance program, and/or the World Health Organization (WHO) Influenza Surveillance Network | B18: 0.061692022 | C18: =('Measure List'!C18)*'Measures Weighted'!B18 -> 0.061692022 | D18: =('Measure List'!D18)*'Measures Weighted'!C18 -> 0.061692022 | E18: =('Measure List'!E18)*'Measures Weighted'!D18 -> 0.061692022 | F18: =('Measure List'!F18)*'Measures Weighted'!E18 -> 0.061692022 | G18: =('Measure List'!G18)*'Measures Weighted'!F18 -> 0.061692022 | H18: =('Measure List'!H18)*'Measures Weighted'!G18 -> 0.061692022 | I18: =('Measure List'!I18)*'Measures Weighted'!H18 -> 0.061692022 | J18: =('Measure List'!J18)*'Measures Weighted'!I18 -> 0.061692022 | L18: =MIN(C18,C18:J18) -> 0.061692022 | M18: =MAX(C18:J18) -> 0.061692022
A19: Subdomain 1.2: Biological Monitoring & Laboratory Testing | C19: =SUBTOTAL(109,C21:C37) -> 0.72770403 | D19: =SUBTOTAL(109,D21:D37) -> 0.72770403 | E19: =SUBTOTAL(109,E21:E37) -> 0.72770403 | F19: =SUBTOTAL(109,F21:F37) -> 0.72770403 | G19: =SUBTOTAL(109,G21:G37) -> 0.72770403 | H19: =SUBTOTAL(109,H21:H37) -> 0.72770403 | I19: =SUBTOTAL(109,I21:I37) -> 0.72770403 | J19: =SUBTOTAL(109,J21:J37) -> 0.72770403
A20: M1* - Public Health Emergency Preparedness (PHEP) Cooperative Agreement-funded Laboratory Response Network chemical (LRN-C) laboratories collect, package, and ship samples properly during an LRN-C exercise | B20: 0.065455727 | C20: =('Measure List'!C20)*'Measures Weighted'!B20 -> 0.065455727 | D20: 1 | E20: 1 | F20: 1 | G20: 1 | H20: 1 | I20: 1 | J20: 1 | L20: =MIN(C20,C20:J20) -> 0.065455727 | M20: =MAX(C20:J20) -> 1
A21: M1314 - State public health chemical OR radiological terrorism/threat laboratory is accredited or certified by the College of American Pathologists (CAP) or Clinical Laboratory Improvement Amendments (CLIA) | B21: 0.061692022 | C21: =('Measure List'!C21)*'Measures Weighted'!$B$21 -> 0.061692022 | D21: =('Measure List'!D21)*'Measures Weighted'!$B$21 -> 0.061692022 | E21: =('Measure List'!E21)*'Measures Weighted'!$B$21 -> 0.061692022 | F21: =('Measure List'!F21)*'Measures Weighted'!$B$21 -> 0.061692022 | G21: =('Measure List'!G21)*'Measures Weighted'!$B$21 -> 0.061692022 | H21: =('Measure List'!H21)*'Measures Weighted'!$B$21 -> 0.061692022 | I21: =('Measure List'!I21)*'Measures Weighted'!$B$21 -> 0.061692022 | J21: =('Measure List'!J21)*'Measures Weighted'!$B$21 -> 0.061692022 | L21: =MIN(C21,C21:J21) -> 0.061692022 | M21: =MAX(C21:J21) -> 0.061692022
A22: M208 - State public health laboratory has a permit for the importation and transportation of materials, organisms, and vectors controlled by USDA/APHIS (U.S. Department of Agriculture/ Animal and Plant Health Inspection Service) | B22: 0.058910154 | C22: =('Measure List'!C22)*'Measures Weighted'!B22 -> 0.058910154 | D22: =('Measure List'!D22)*'Measures Weighted'!C22 -> 0.058910154 | E22: =('Measure List'!E22)*'Measures Weighted'!D22 -> 0.058910154 | F22: =('Measure List'!F22)*'Measures Weighted'!E22 -> 0.058910154 | G22: =('Measure List'!G22)*'Measures Weighted'!F22 -> 0.058910154 | H22: =('Measure List'!H22)*'Measures Weighted'!G22 -> 0.058910154 | I22: =('Measure List'!I22)*'Measures Weighted'!H22 -> 0.058910154 | J22: =('Measure List'!J22)*'Measures Weighted'!I22 -> 0.058910154 | L22: =MIN(C22,C22:J22) -> 0.058910154 | M22: =MAX(C22:J22) -> 0.058910154
A23: M8 - State public health laboratory has a plan for a six to eight week surge in testing capacity to respond to an outbreak or other public health event, with enough staffing capacity to work five 12-hour days for six to eight weeks in response to an infectious disease outbreak, such as novel influenza A (H1N1) | B23: 0.065455727 | C23: =('Measure List'!C23)*'Measures Weighted'!B23 -> 0.065455727 | D23: =('Measure List'!D23)*'Measures Weighted'!C23 -> 0.065455727 | E23: =('Measure List'!E23)*'Measures Weighted'!D23 -> 0.065455727 | F23: =('Measure List'!F23)*'Measures Weighted'!E23 -> 0.065455727 | G23: =('Measure List'!G23)*'Measures Weighted'!F23 -> 0.065455727 | H23: =('Measure List'!H23)*'Measures Weighted'!G23 -> 0.065455727 | I23: =('Measure List'!I23)*'Measures Weighted'!H23 -> 0.065455727 | J23: =('Measure List'!J23)*'Measures Weighted'!I23 -> 0.065455727 | L23: =MIN(C23,C23:J23) -> 0.065455727 | M23: =MAX(C23:J23) -> 0.065455727
A24: M9 - State public health laboratory has a continuity of operations plan consistent with National Incident Management System (NIMS) guidelines | B24: 0.065455727 | C24: =('Measure List'!C24)*'Measures Weighted'!B24 -> 0.065455727 | D24: =('Measure List'!D24)*'Measures Weighted'!C24 -> 0.065455727 | E24: =('Measure List'!E24)*'Measures Weighted'!D24 -> 0.065455727 | F24: =('Measure List'!F24)*'Measures Weighted'!E24 -> 0.065455727 | G24: =('Measure List'!G24)*'Measures Weighted'!F24 -> 0.065455727 | H24: =('Measure List'!H24)*'Measures Weighted'!G24 -> 0.065455727 | I24: =('Measure List'!I24)*'Measures Weighted'!H24 -> 0.065455727 | J24: =('Measure List'!J24)*'Measures Weighted'!I24 -> 0.065455727 | L24: =MIN(C24,C24:J24) -> 0.065455727 | M24: =MAX(C24:J24) -> 0.065455727
A25: M11 - State public health laboratory has a plan to receive specimens from sentinel clinical laboratories during nonbusiness hours | B25: 0.065455727 | C25: =('Measure List'!C25)*'Measures Weighted'!B25 -> 0.065455727 | D25: =('Measure List'!D25)*'Measures Weighted'!C25 -> 0.065455727 | E25: =('Measure List'!E25)*'Measures Weighted'!D25 -> 0.065455727 | F25: =('Measure List'!F25)*'Measures Weighted'!E25 -> 0.065455727 | G25: =('Measure List'!G25)*'Measures Weighted'!F25 -> 0.065455727 | H25: =('Measure List'!H25)*'Measures Weighted'!G25 -> 0.065455727 | I25: =('Measure List'!I25)*'Measures Weighted'!H25 -> 0.065455727 | J25: =('Measure List'!J25)*'Measures Weighted'!I25 -> 0.065455727 | L25: =MIN(C25,C25:J25) -> 0.065455727 | M25: =MAX(C25:J25) -> 0.065455727
A26: M12 - State public health laboratory has the capacity in place to assure the timely transportation (pick-up and delivery) of samples 24/7/365 days to the appropriate public health Laboratory Response Network (LRN) reference laboratory | B26: 0.065455727 | C26: =('Measure List'!C26)*'Measures Weighted'!B26 -> 0.065455727 | D26: =('Measure List'!D26)*'Measures Weighted'!C26 -> 0.065455727 | E26: =('Measure List'!E26)*'Measures Weighted'!D26 -> 0.065455727 | F26: =('Measure List'!F26)*'Measures Weighted'!E26 -> 0.065455727 | G26: =('Measure List'!G26)*'Measures Weighted'!F26 -> 0.065455727 | H26: =('Measure List'!H26)*'Measures Weighted'!G26 -> 0.065455727 | I26: =('Measure List'!I26)*'Measures Weighted'!H26 -> 0.065455727 | J26: =('Measure List'!J26)*'Measures Weighted'!I26 -> 0.065455727 | L26: =MIN(C26,C26:J26) -> 0.065455727 | M26: =MAX(C26:J26) -> 0.065455727
A27: M211 - Percent of 10 tests for infectious diseases that the state public health laboratory provides or assures, including the study of the characteristics of a disease or organism inblood tests for arbovirus, hepatitis C, Legionella, measles, mumps, Neisseria meningitides serotyping, Plasmodium identification, Salmonella serotyping, Shigella serotyping, and Varicella | B27: 0.060219266 | C27: =('Measure List'!C27)*'Measures Weighted'!B27 -> 0.060219266 | D27: =('Measure List'!D27)*'Measures Weighted'!C27 -> 0.060219266 | E27: =('Measure List'!E27)*'Measures Weighted'!D27 -> 0.060219266 | F27: =('Measure List'!F27)*'Measures Weighted'!E27 -> 0.060219266 | G27: =('Measure List'!G27)*'Measures Weighted'!F27 -> 0.060219266 | H27: =('Measure List'!H27)*'Measures Weighted'!G27 -> 0.060219266 | I27: =('Measure List'!I27)*'Measures Weighted'!H27 -> 0.060219266 | J27: =('Measure List'!J27)*'Measures Weighted'!I27 -> 0.060219266 | L27: =MIN(C27,C27:J27) -> 0.060219266 | M27: =MAX(C27:J27) -> 0.060219266
A28: M216 - Percent of 15 tests for infectious diseases that the state public health laboratory provides or assures including: antimicrobial susceptibility testing confirmation for vancomycin resistant Staphylococcus aureus, Anaplasmosis (Anaplasma phagocytophilum), Babesiosis (Babesia sp.), botulinum toxin—mouse toxicity assay, Dengue Fever, Hantavirus serology, identification of unusual bacterial isolates, identification of fungal isolates, identification of parasites, Klebsiella pneumoniae Carbapenemase (blaKPC) by PCR, Legionella by culture or PCR, malaria by PCR, norovirus by PCR, Powassan virus, rabies | B28: 0.060873825 | C28: =('Measure List'!C28)*'Measures Weighted'!B28 -> 0.060873825 | D28: =('Measure List'!D28)*'Measures Weighted'!C28 -> 0.060873825 | E28: =('Measure List'!E28)*'Measures Weighted'!D28 -> 0.060873825 | F28: =('Measure List'!F28)*'Measures Weighted'!E28 -> 0.060873825 | G28: =('Measure List'!G28)*'Measures Weighted'!F28 -> 0.060873825 | H28: =('Measure List'!H28)*'Measures Weighted'!G28 -> 0.060873825 | I28: =('Measure List'!I28)*'Measures Weighted'!H28 -> 0.060873825 | J28: =('Measure List'!J28)*'Measures Weighted'!I28 -> 0.060873825 | L28: =MIN(C28,C28:J28) -> 0.060873825 | M28: =MAX(C28:J28) -> 0.060873825
A29: M2 - Percent of Laboratory Response Network biological (LRN-B) proficiency tests successfully passed by Public Health Emergency Preparedness (PHEP) Cooperative Agreement-funded laboratories | B29: 0.065455727 | C29: =('Measure List'!C29)*'Measures Weighted'!B29 -> 0.065455727 | D29: =('Measure List'!D29)*'Measures Weighted'!C29 -> 0.065455727 | E29: =('Measure List'!E29)*'Measures Weighted'!D29 -> 0.065455727 | F29: =('Measure List'!F29)*'Measures Weighted'!E29 -> 0.065455727 | G29: =('Measure List'!G29)*'Measures Weighted'!F29 -> 0.065455727 | H29: =('Measure List'!H29)*'Measures Weighted'!G29 -> 0.065455727 | I29: =('Measure List'!I29)*'Measures Weighted'!H29 -> 0.065455727 | J29: =('Measure List'!J29)*'Measures Weighted'!I29 -> 0.065455727 | L29: =MIN(C29,C29:J29) -> 0.065455727 | M29: =MAX(C29:J29) -> 0.065455727
A30: M3 - Percent of pulsed field gel electrophoresis (PFGE) subtyping data results for E. coli submitted to the CDC PulseNet national database within four working days of receiving samples from clinical laboratories | B30: 0.058910154 | C30: =('Measure List'!C30)*'Measures Weighted'!B30 -> 0 | D30: =('Measure List'!D30)*'Measures Weighted'!C30 -> 0 | E30: =('Measure List'!E30)*'Measures Weighted'!D30 -> 0 | F30: =('Measure List'!F30)*'Measures Weighted'!E30 -> 0 | G30: =('Measure List'!G30)*'Measures Weighted'!F30 -> 0 | H30: =('Measure List'!H30)*'Measures Weighted'!G30 -> 0 | I30: =('Measure List'!I30)*'Measures Weighted'!H30 -> 0 | J30: =('Measure List'!J30)*'Measures Weighted'!I30 -> 0 | L30: =MIN(C30,C30:J30) -> 0 | M30: =MAX(C30:J30) -> 0
A31: M5 - Percent of chemical agents correctly identified and quantified from unknown samples during unannounced proficiency testing during the state’s Laboratory Response Network (LRN) Emergency Response Pop Proficiency Test (PopPT) Exercise | B31: 0.065455727 | C31: =('Measure List'!C31)*'Measures Weighted'!B31 -> 0 | D31: =('Measure List'!D31)*'Measures Weighted'!C31 -> 0 | E31: =('Measure List'!E31)*'Measures Weighted'!D31 -> 0 | F31: =('Measure List'!F31)*'Measures Weighted'!E31 -> 0 | G31: =('Measure List'!G31)*'Measures Weighted'!F31 -> 0 | H31: =('Measure List'!H31)*'Measures Weighted'!G31 -> 0 | I31: =('Measure List'!I31)*'Measures Weighted'!H31 -> 0 | J31: =('Measure List'!J31)*'Measures Weighted'!I31 -> 0 | L31: =MIN(C31,C31:J31) -> 0 | M31: =MAX(C31:J31) -> 0
A32: M7 - Number of additional chemical agent detection methods—beyond the core methods—demonstrated by Laboratory Response Network chemical (LRN-C) Level 1 or 2 laboratories in the state | B32: 0.049419072 | C32: =('Measure List'!C32)*'Measures Weighted'!B32 -> 0.049419072 | D32: =('Measure List'!D32)*'Measures Weighted'!C32 -> 0.049419072 | E32: =('Measure List'!E32)*'Measures Weighted'!D32 -> 0.049419072 | F32: =('Measure List'!F32)*'Measures Weighted'!E32 -> 0.049419072 | G32: =('Measure List'!G32)*'Measures Weighted'!F32 -> 0.049419072 | H32: =('Measure List'!H32)*'Measures Weighted'!G32 -> 0.049419072 | I32: =('Measure List'!I32)*'Measures Weighted'!H32 -> 0.049419072 | J32: =('Measure List'!J32)*'Measures Weighted'!I32 -> 0.049419072 | L32: =MIN(C32,C32:J32) -> 0.049419072 | M32: =MAX(C32:J32) -> 0.049419072
A33: M286 - Number of chemical threat and multi-hazards preparedness exercises or drills the state public health laboratory conducts or participates in annually | B33: 0.049091794 | C33: =('Measure List'!C33)*'Measures Weighted'!B33 -> 0 | D33: =('Measure List'!D33)*'Measures Weighted'!C33 -> 0 | E33: =('Measure List'!E33)*'Measures Weighted'!D33 -> 0 | F33: =('Measure List'!F33)*'Measures Weighted'!E33 -> 0 | G33: =('Measure List'!G33)*'Measures Weighted'!F33 -> 0 | H33: =('Measure List'!H33)*'Measures Weighted'!G33 -> 0 | I33: =('Measure List'!I33)*'Measures Weighted'!H33 -> 0 | J33: =('Measure List'!J33)*'Measures Weighted'!I33 -> 0 | L33: =MIN(C33,C33:J33) -> 0 | M33: =MAX(C33:J33) -> 0
... A37: M911 - State has a high-capability laboratory to detect chemical threats (Level 1 or 2 LRN-C laboratory) | B37: 0.05956471 | C37: =('Measure List'!C37)*'Measures Weighted'!B37 -> 0.05956471 | D37: =('Measure List'!D37)*'Measures Weighted'!C37 -> 0.05956471 | E37: =('Measure List'!E37)*'Measures Weighted'!D37 -> 0.05956471 | F37: =('Measure List'!F37)*'Measures Weighted'!E37 -> 0.05956471 | G37: =('Measure List'!G37)*'Measures Weighted'!F37 -> 0.05956471 | H37: =('Measure List'!H37)*'Measures Weighted'!G37 -> 0.05956471 | I37: =('Measure List'!I37)*'Measures Weighted'!H37 -> 0.05956471 | J37: =('Measure List'!J37)*'Measures Weighted'!I37 -> 0.05956471 | L37: =MIN(C37,C37:J37) -> 0.05956471 | M37: =MAX(C37:J37) -> 0.05956471
A38: Domain 2: Community Planning & Engagement Coordination
A39: Subdomain 2.1: Cross-Sector / Community Collaboration | C39: =SUBTOTAL(109,C40:C45) -> 0.92111421 | D39: =SUBTOTAL(109,D40:D45) -> 0.92061281 | E39: =SUBTOTAL(109,E40:E45) -> 0.91208914 | F39: =SUBTOTAL(109,F40:F45) -> 1 | G39: =SUBTOTAL(109,G40:G45) -> 1 | H39: =SUBTOTAL(109,H40:H45) -> 0.93030641 | I39: =SUBTOTAL(109,I40:I45) -> 1 | J39: =SUBTOTAL(109,J40:J45) -> 0.93398329
A40: M87 - State health department is accredited by the Public Health Accreditation Board (PHAB) | B40: 0.14948933 | C40: =('Measure List'!C40)*'Measures Weighted'!$B$40 -> 0.14948933 | D40: =('Measure List'!D40)*'Measures Weighted'!$B$40 -> 0.14948933 | E40: =('Measure List'!E40)*'Measures Weighted'!$B$40 -> 0.14948933 | F40: =('Measure List'!F40)*'Measures Weighted'!$B$40 -> 0.14948933 | G40: =('Measure List'!G40)*'Measures Weighted'!$B$40 -> 0.14948933 | H40: =('Measure List'!H40)*'Measures Weighted'!$B$40 -> 0.14948933 | I40: =('Measure List'!I40)*'Measures Weighted'!$B$40 -> 0.14948933 | J40: =('Measure List'!J40)*'Measures Weighted'!$B$40 -> 0.14948933 | L40: =MIN(C40,C40:J40) -> 0.14948933 | M40: =MAX(C40:J40) -> 0.14948933
A41: M501 - Percent of the state’s population served by a comprehensive public health system, as determined through the National Longitudinal Survey of Public Health Systems | B41: 0.181987 | C41: =('Measure List'!C41)*'Measures Weighted'!$B$41 -> 0.181987 | D41: =('Measure List'!D41)*'Measures Weighted'!$B$41 -> 0.181987 | E41: =('Measure List'!E41)*'Measures Weighted'!$B$41 -> 0.181987 | F41: =('Measure List'!F41)*'Measures Weighted'!$B$41 -> 0.181987 | G41: =('Measure List'!G41)*'Measures Weighted'!$B$41 -> 0.181987 | H41: =('Measure List'!H41)*'Measures Weighted'!$B$41 -> 0.181987 | I41: =('Measure List'!I41)*'Measures Weighted'!$B$41 -> 0.181987 | J41: =('Measure List'!J41)*'Measures Weighted'!$B$41 -> 0.181987 | L41: =MIN(C41,C41:J41) -> 0.181987 | M41: =MAX(C41:J41) -> 0.181987
A42: M9031 - Percent of hospitals in the state that participate in health care preparedness coalitions supported through the federal Hospital Preparedness Program of the Office of the Assistant Secretary for Preparedness and Response | B42: 0.16713092 | C42: =('Measure List'!C42)*'Measures Weighted'!$B$42 -> 0.088245124 | D42: =('Measure List'!D42)*'Measures Weighted'!$B$42 -> 0.087743732 | E42: =('Measure List'!E42)*'Measures Weighted'!$B$42 -> 0.079220055 | F42: =('Measure List'!F42)*'Measures Weighted'!$B$42 -> 0.16713092 | G42: =('Measure List'!G42)*'Measures Weighted'!$B$42 -> 0.16713092 | H42: =('Measure List'!H42)*'Measures Weighted'!$B$42 -> 0.097437325 | I42: =('Measure List'!I42)*'Measures Weighted'!$B$42 -> 0.16713092 | J42: =('Measure List'!J42)*'Measures Weighted'!$B$42 -> 0.1011142 | L42: =MIN(C42,C42:J42) -> 0.079220055 | M42: =MAX(C42:J42) -> 0.16713092
A43: M9032 - Percent of emergency medical service agencies in the state that participate in health care preparedness coalitions supported through the federal Hospital Preparedness Program of the Office of the Assistant Secretary for Preparedness and Response | B43: 0.16713092 | C43: =('Measure List'!C43)*'Measures Weighted'!B43 -> 0.16713092 | D43: =('Measure List'!D43)*'Measures Weighted'!C43 -> 0.16713092 | E43: =('Measure List'!E43)*'Measures Weighted'!D43 -> 0.16713092 | F43: =('Measure List'!F43)*'Measures Weighted'!E43 -> 0.16713092 | G43: =('Measure List'!G43)*'Measures Weighted'!F43 -> 0.16713092 | H43: =('Measure List'!H43)*'Measures Weighted'!G43 -> 0.16713092 | I43: =('Measure List'!I43)*'Measures Weighted'!H43 -> 0.16713092 | J43: =('Measure List'!J43)*'Measures Weighted'!I43 -> 0.16713092 | L43: =MIN(C43,C43:J43) -> 0.16713092 | M43: =MAX(C43:J43) -> 0.16713092
A44: M9033 - Percent of emergency management agencies in the state that participate in health care preparedness coalitions supported through the federal Hospital Preparedness Program of the Office of the Assistant Secretary for Preparedness and Response | B44: 0.16713092 | C44: =('Measure List'!C44)*'Measures Weighted'!B44 -> 0.16713092 | D44: =('Measure List'!D44)*'Measures Weighted'!C44 -> 0.16713092 | E44: =('Measure List'!E44)*'Measures Weighted'!D44 -> 0.16713092 | F44: =('Measure List'!F44)*'Measures Weighted'!E44 -> 0.16713092 | G44: =('Measure List'!G44)*'Measures Weighted'!F44 -> 0.16713092 | H44: =('Measure List'!H44)*'Measures Weighted'!G44 -> 0.16713092 | I44: =('Measure List'!I44)*'Measures Weighted'!H44 -> 0.16713092 | J44: =('Measure List'!J44)*'Measures Weighted'!I44 -> 0.16713092 | L44: =MIN(C44,C44:J44) -> 0.16713092 | M44: =MAX(C44:J44) -> 0.16713092
A45: M9034 - Percent of local health departments in the state that participate in health care preparedness coalitions supported through the federal Hospital Preparedness Program of the Office of the Assistant Secretary for Preparedness and Response | B45: 0.16713092 | C45: =('Measure List'!C45)*'Measures Weighted'!B45 -> 0.16713092 | D45: =('Measure List'!D45)*'Measures Weighted'!C45 -> 0.16713092 | E45: =('Measure List'!E45)*'Measures Weighted'!D45 -> 0.16713092 | F45: =('Measure List'!F45)*'Measures Weighted'!E45 -> 0.16713092 | G45: =('Measure List'!G45)*'Measures Weighted'!F45 -> 0.16713092 | H45: =('Measure List'!H45)*'Measures Weighted'!G45 -> 0.16713092 | I45: =('Measure List'!I45)*'Measures Weighted'!H45 -> 0.16713092 | J45: =('Measure List'!J45)*'Measures Weighted'!I45 -> 0.16713092 | L45: =MIN(C45,C45:J45) -> 0.16713092 | M45: =MAX(C45:J45) -> 0.16713092
...

Sheet Subdom 10 point
A1: State | B1: Year | C1: PHSEI | D1: BMLT | E1: CSCC | F1: ARP | G1: MVDE | H1: SCC | I1: INCM | J1: INFM | K1: PC | L1: HPS | M1: LTC | N1: MBH | O1: HC | P1: MMMDD | Q1: CUE | R1: FWS | S1: EM | T1: PEI | U1: WR | V1: National
A2: QLD | B2: 2019 | C2: ='Measures Weighted'!C5 -> 0.99999999 | D2: ='Measures Weighted'!C$19 -> 0.72770403 | E2: ='Measures Weighted'!C$39 -> 0.92111421 | F2: ='Measures Weighted'!C$47 -> 0.59548855 | G2: ='Measures Weighted'!C$52 -> 0.20546164 | H2: ='Measures Weighted'!C$59 -> 0.8223647 | I2: ='Measures Weighted'!C$64 -> 0.74117649 | J2: ='Measures Weighted'!C$76 -> 0.55683707 | K2: ='Measures Weighted'!C$83 -> 0.92914195 | L2: ='Measures Weighted'!C$89 -> 0.7437208 | M2: ='Measures Weighted'!C$101 -> 0.45232153 | N2: ='Measures Weighted'!C$108 -> 0.39750865 | O2: ='Measures Weighted'!C$112 -> 0.22428043 | P2: ='Measures Weighted'!C$117 -> 0.90695181 | Q2: ='Measures Weighted'!C$121 -> 0.89236181 | R2: ='Measures Weighted'!C$128 -> 0.7366621 | S2: ='Measures Weighted'!C$138 -> 0.70497087 | T2: ='Measures Weighted'!C$147 -> 0.38751473 | U2: ='Measures Weighted'!C$153 -> 0.8234065
A3: NSW | C3: ='Measures Weighted'!D5 -> 0.94086291 | D3: ='Measures Weighted'!D$19 -> 0.72770403 | E3: ='Measures Weighted'!D$39 -> 0.92061281 | F3: ='Measures Weighted'!D$47 -> 0.60040955 | G3: ='Measures Weighted'!D$52 -> 0.20546164 | H3: ='Measures Weighted'!D$59 -> 0.8858486 | I3: ='Measures Weighted'!D$64 -> 0.74117649 | J3: ='Measures Weighted'!D$76 -> 0.68725241 | K3: ='Measures Weighted'!D$83 -> 0.88994559 | L3: ='Measures Weighted'!D$89 -> 0.77842887 | M3: ='Measures Weighted'!$D$101 -> 0.42320162 | N3: ='Measures Weighted'!$D$108 -> 0.33502019 | O3: ='Measures Weighted'!$D$112 -> 0.21573641 | P3: ='Measures Weighted'!$D$117 -> 0.88696098 | Q3: ='Measures Weighted'!$D$121 -> 0.87336246 | R3: ='Measures Weighted'!$D$128 -> 0.79283447 | S3: ='Measures Weighted'!$D$138 -> 0.62372353 | T3: ='Measures Weighted'!$D$147 -> 0.38751473 | U3: ='Measures Weighted'!$D$153 -> 0.75438472
A4: VIC | C4: ='Measures Weighted'!E$5 -> 0.97573032 | D4: ='Measures Weighted'!E$19 -> 0.72770403 | E4: ='Measures Weighted'!E$39 -> 0.91208914 | F4: ='Measures Weighted'!E$47 -> 0.61515724 | G4: ='Measures Weighted'!E$52 -> 0.20546164 | H4: ='Measures Weighted'!E$59 -> 0.9075749 | I4: ='Measures Weighted'!E$64 -> 0.74117649 | J4: ='Measures Weighted'!E$76 -> 0.64916934 | K4: ='Measures Weighted'!E$83 -> 0.90277613 | L4: ='Measures Weighted'!E$89 -> 0.75005234 | M4: ='Measures Weighted'!$E$101 -> 0.41243488 | N4: ='Measures Weighted'!$E$108 -> 0.27395781 | O4: ='Measures Weighted'!$E$112 -> 0.16447232 | P4: ='Measures Weighted'!$E$117 -> 0.92439834 | Q4: ='Measures Weighted'!$E$121 -> 0.90901355 | R4: ='Measures Weighted'!$E$128 -> 0.73306131 | S4: ='Measures Weighted'!$E$138 -> 0.54850447 | T4: ='Measures Weighted'!$E$147 -> 0.38751473 | U4: ='Measures Weighted'!$E$153 -> 0.76834249
A5: TAS | C5: ='Measures Weighted'!F$5 -> 0.99999999 | D5: ='Measures Weighted'!F$19 -> 0.72770403 | E5: ='Measures Weighted'!F$39 -> 1 | F5: ='Measures Weighted'!F$47 -> 0.60546551 | G5: ='Measures Weighted'!F$52 -> 0.20546164 | H5: ='Measures Weighted'!F$59 -> 0.98812061 | I5: ='Measures Weighted'!F$64 -> 0.74117649 | J5: ='Measures Weighted'!F$76 -> 0.49431311 | K5: ='Measures Weighted'!F$83 -> 0.95512291 | L5: ='Measures Weighted'!F$89 -> 0.77317409 | M5: ='Measures Weighted'!$F$101 -> 0.40552785 | N5: ='Measures Weighted'!$F$108 -> 0.11517681 | O5: ='Measures Weighted'!$F$112 -> 0.14418028 | P5: ='Measures Weighted'!$F$117 -> 0.98073612 | Q5: ='Measures Weighted'!$F$121 -> 0.95205599 | R5: ='Measures Weighted'!$F$128 -> 0.80003605 | S5: ='Measures Weighted'!$F$138 -> 0.54739275 | T5: ='Measures Weighted'!$F$147 -> 0.38751473 | U5: ='Measures Weighted'!$F$153 -> 0.94266155
A6: ACT | C6: ='Measures Weighted'!G$5 -> 0.99999999 | D6: ='Measures Weighted'!G$19 -> 0.72770403 | E6: ='Measures Weighted'!G$39 -> 1 | F6: ='Measures Weighted'!G$47 -> 0.57893357 | G6: ='Measures Weighted'!G$52 -> 0.20546164 | H6: ='Measures Weighted'!G$59 -> 0.90703327 | I6: ='Measures Weighted'!G$64 -> 0.74117649 | J6: ='Measures Weighted'!G$76 -> 0.68220449 | K6: ='Measures Weighted'!G$83 -> 0.82612053 | L6: ='Measures Weighted'!G$89 -> 0.86314872 | M6: ='Measures Weighted'!$G$101 -> 0.52142477 | N6: ='Measures Weighted'!$G$108 -> 0.35414232 | O6: ='Measures Weighted'!$G$112 -> 0.1559283 | P6: ='Measures Weighted'!$G$117 -> 1 | Q6: ='Measures Weighted'!$G$121 -> 0.88983855 | R6: ='Measures Weighted'!$G$128 -> 0.77339019 | S6: ='Measures Weighted'!$G$138 -> 0.54534318 | T6: ='Measures Weighted'!$G$147 -> 0.38751473 | U6: ='Measures Weighted'!$G$153 -> 0.67482539
A7: SA | C7: ='Measures Weighted'!H$5 -> 0.99999999 | D7: ='Measures Weighted'!H$19 -> 0.72770403 | E7: ='Measures Weighted'!H$39 -> 0.93030641 | F7: ='Measures Weighted'!H$47 -> 0.61812835 | G7: ='Measures Weighted'!H$52 -> 0.20546164 | H7: ='Measures Weighted'!H$59 -> 0.9885309 | I7: ='Measures Weighted'!H$64 -> 0.74117649 | J7: ='Measures Weighted'!H$76 -> 0.53035145 | K7: ='Measures Weighted'!H$83 -> 0.90392743 | L7: ='Measures Weighted'!H$89 -> 0.80210197 | M7: ='Measures Weighted'!$H$101 -> 0.39251096 | N7: ='Measures Weighted'!$H$108 -> 0.2105615 | O7: ='Measures Weighted'!$H$112 -> 0.13435466 | P7: ='Measures Weighted'!$H$117 -> 0.90368058 | Q7: ='Measures Weighted'!$H$121 -> 0.9943116 | R7: ='Measures Weighted'!$H$128 -> 0.76978939 | S7: ='Measures Weighted'!$H$138 -> 0.54144067 | T7: ='Measures Weighted'!$H$147 -> 0.38751473 | U7: ='Measures Weighted'!$H$153 -> 0.75507898
A8: NT | C8: ='Measures Weighted'!I$5 -> 0.93258426 | D8: ='Measures Weighted'!I$19 -> 0.72770403 | E8: ='Measures Weighted'!I$39 -> 1 | F8: ='Measures Weighted'!I$47 -> 0.66326533 | G8: ='Measures Weighted'!I$52 -> 0.20546164 | H8: ='Measures Weighted'!I$59 -> 0.77068838 | I8: ='Measures Weighted'!I$64 -> 0.74117649 | J8: ='Measures Weighted'!I$76 -> 0.74824283 | K8: ='Measures Weighted'!I$83 -> 0.85964832 | L8: ='Measures Weighted'!I$89 -> 0.78808865 | M8: ='Measures Weighted'!$I$101 -> 0.5632684 | N8: ='Measures Weighted'!$I$108 -> 0.32623926 | O8: ='Measures Weighted'!$I$112 -> 0.27981654 | P8: ='Measures Weighted'!$I$117 -> 0.80917851 | Q8: ='Measures Weighted'!$I$121 -> 0.82815424 | R8: ='Measures Weighted'!$I$128 -> 0.84036493 | S8: ='Measures Weighted'!$I$138 -> 0.71439968 | T8: ='Measures Weighted'!$I$147 -> 0.38751473 | U8: ='Measures Weighted'!$I$153 -> 0.68350642
A9: WA | C9: ='Measures Weighted'!J$5 -> 0.96629212 | D9: ='Measures Weighted'!J$19 -> 0.72770403 | E9: ='Measures Weighted'!J$39 -> 0.93398329 | F9: ='Measures Weighted'!J$47 -> 0.58784688 | G9: ='Measures Weighted'!J$52 -> 0.20546164 | H9: ='Measures Weighted'!J$59 -> 0.90673053 | I9: ='Measures Weighted'!J$64 -> 0.74117649 | J9: ='Measures Weighted'!J$76 -> 0.50709266 | K9: ='Measures Weighted'!J$83 -> 0.8412756 | L9: ='Measures Weighted'!J$89 -> 0.72042021 | M9: ='Measures Weighted'!$J$101 -> 0.54215842 | N9: ='Measures Weighted'!$J$108 -> 0.20140671 | O9: ='Measures Weighted'!$J$112 -> 0.2082604 | P9: ='Measures Weighted'!$J$117 -> 0.89423037 | Q9: ='Measures Weighted'!$J$121 -> 0.88280127 | R9: ='Measures Weighted'!$J$128 -> 0.81587954 | S9: ='Measures Weighted'!$J$138 -> 0.564834 | T9: ='Measures Weighted'!$J$147 -> 0.38751473 | U9: ='Measures Weighted'!$J$153 -> 0.76451037

Sheet Subdomain
A1: State | B1: Year | C1: PHSEI | D1: BMLT | E1: CSCC | F1: ARP | G1: MVDE | H1: SCC | I1: INCM | J1: INFM | K1: PC | L1: HPS | M1: LTC | N1: MBH | O1: HC | P1: MMMDD | Q1: CUE | R1: FWS | S1: EM | T1: PEI | U1: WR
A2: QLD | B2: 2019 | C2: ='Subdom 10 point'!C2*10 -> 9.9999999 | D2: ='Subdom 10 point'!D2*10 -> 7.2770403 | E2: ='Subdom 10 point'!E2*10 -> 9.2111421 | F2: ='Subdom 10 point'!F2*10 -> 5.9548855 | G2: ='Subdom 10 point'!G2*10 -> 2.0546164 | H2: ='Subdom 10 point'!H2*10 -> 8.223647 | I2: ='Subdom 10 point'!I2*10 -> 7.4117649 | J2: ='Subdom 10 point'!J2*10 -> 5.5683707 | ... U2: ='Subdom 10 point'!U2*10 -> 8.234065
A3: NSW | B3: 2019 | C3: ='Subdom 10 point'!C3*10 -> 9.4086291 | D3: ='Subdom 10 point'!D3*10 -> 7.2770403 | E3: ='Subdom 10 point'!E3*10 -> 9.2061281 | F3: ='Subdom 10 point'!F3*10 -> 6.0040955 | G3: ='Subdom 10 point'!G3*10 -> 2.0546164 | H3: ='Subdom 10 point'!H3*10 -> 8.858486 | I3: ='Subdom 10 point'!I3*10 -> 7.4117649 | J3: ='Subdom 10 point'!J3*10 -> 6.8725241 | ... U3: ='Subdom 10 point'!U3*10 -> 7.5438472
A4: VIC | B4: 2019 | C4: ='Subdom 10 point'!C4*10 -> 9.7573032 | D4: ='Subdom 10 point'!D4*10 -> 7.2770403 | E4: ='Subdom 10 point'!E4*10 -> 9.1208914 | F4: ='Subdom 10 point'!F4*10 -> 6.1515724 | G4: ='Subdom 10 point'!G4*10 -> 2.0546164 | H4: ='Subdom 10 point'!H4*10 -> 9.075749 | I4: ='Subdom 10 point'!I4*10 -> 7.4117649 | J4: ='Subdom 10 point'!J4*10 -> 6.4916934 | ... U4: ='Subdom 10 point'!U4*10 -> 7.6834249
A5: TAS | B5: 2019 | C5: ='Subdom 10 point'!C5*10 -> 9.9999999 | D5: ='Subdom 10 point'!D5*10 -> 7.2770403 | E5: ='Subdom 10 point'!E5*10 -> 10 | F5: ='Subdom 10 point'!F5*10 -> 6.0546551 | G5: ='Subdom 10 point'!G5*10 -> 2.0546164 | H5: ='Subdom 10 point'!H5*10 -> 9.8812061 | I5: ='Subdom 10 point'!I5*10 -> 7.4117649 | J5: ='Subdom 10 point'!J5*10 -> 4.9431311 | ... U5: ='Subdom 10 point'!U5*10 -> 9.4266155
A6: ACT | B6: 2019 | C6: ='Subdom 10 point'!C6*10 -> 9.9999999 | D6: ='Subdom 10 point'!D6*10 -> 7.2770403 | E6: ='Subdom 10 point'!E6*10 -> 10 | F6: ='Subdom 10 point'!F6*10 -> 5.7893357 | G6: ='Subdom 10 point'!G6*10 -> 2.0546164 | H6: ='Subdom 10 point'!H6*10 -> 9.0703327 | I6: ='Subdom 10 point'!I6*10 -> 7.4117649 | J6: ='Subdom 10 point'!J6*10 -> 6.8220449 | ... U6: ='Subdom 10 point'!U6*10 -> 6.7482539
A7: SA | B7: 2019 | C7: ='Subdom 10 point'!C7*10 -> 9.9999999 | D7: ='Subdom 10 point'!D7*10 -> 7.2770403 | E7: ='Subdom 10 point'!E7*10 -> 9.3030641 | F7: ='Subdom 10 point'!F7*10 -> 6.1812835 | G7: ='Subdom 10 point'!G7*10 -> 2.0546164 | H7: ='Subdom 10 point'!H7*10 -> 9.885309 | I7: ='Subdom 10 point'!I7*10 -> 7.4117649 | J7: ='Subdom 10 point'!J7*10 -> 5.3035145 | ... U7: ='Subdom 10 point'!U7*10 -> 7.5507898
A8: NT | B8: 2019 | C8: ='Subdom 10 point'!C8*10 -> 9.3258426 | D8: ='Subdom 10 point'!D8*10 -> 7.2770403 | E8: ='Subdom 10 point'!E8*10 -> 10 | F8: ='Subdom 10 point'!F8*10 -> 6.6326533 | G8: ='Subdom 10 point'!G8*10 -> 2.0546164 | H8: ='Subdom 10 point'!H8*10 -> 7.7068838 | I8: ='Subdom 10 point'!I8*10 -> 7.4117649 | J8: ='Subdom 10 point'!J8*10 -> 7.4824283 | ... U8: ='Subdom 10 point'!U8*10 -> 6.8350642
A9: WA | B9: 2019 | C9: ='Subdom 10 point'!C9*10 -> 9.6629212 | D9: ='Subdom 10 point'!D9*10 -> 7.2770403 | E9: ='Subdom 10 point'!E9*10 -> 9.3398329 | F9: ='Subdom 10 point'!F9*10 -> 5.8784688 | G9: ='Subdom 10 point'!G9*10 -> 2.0546164 | H9: ='Subdom 10 point'!H9*10 -> 9.0673053 | I9: ='Subdom 10 point'!I9*10 -> 7.4117649 | J9: ='Subdom 10 point'!J9*10 -> 5.0709266 | ... U9: ='Subdom 10 point'!U9*10 -> 7.6451037
A11: QLD Total | B11: 2019 | C11: =(SUM(C2:D2)*Domain!$B$2)/Domain!$B$1 -> 6.677576 | E11: =((SUM(E2:H2)*Domain!$C$2))/Domain!$C$1 -> 4.7835267 | I11: =((SUM(I2:J2)*Domain!$D$2))/Domain!$D$1 -> 2.9789411 | K11: =((SUM(K2:O2)*Domain!$E$2))/Domain!$E$1 -> 5.4939467 | P11: =((SUM(P2:Q2)*Domain!$F$2))/Domain!$F$1 -> 7.665076 | R11: =((SUM(R2:U2)*Domain!$G$2))/(Domain!$G$1) -> 6.0610863
