Workbook

Sheet Measures Raw
A1: Measures | B1: Weight | C1: QLD | D1: NSW | E1: VIC | F1: TAS | G1: ACT | H1: SA | I1: NT | J1: WA
A4: Domain 1: Health Security Surveillance
A5: Subdomain 1.1: Health Surveillance & Epidemiological Investigation
A6: M17* - State health department participates in the Behavioral Risk Factor Surveillance System (BRFSS) | C6: 1 | D6: 1 | E6: 1 | F6: 1 | G6: 1 | H6: 1 | I6: 1 | J6: 1
A7: M18 - Number of epidemiologists per 100,000 population in the state, by quintile | B7: 0.13483146 | C7: 4 | D7: 4 | E7: 4 | F7: 4 | G7: 5 | H7: 5 | I7: 5 | J7: 4
A8: M19* - State health department participates in the Epidemic Information Exchange (EpiX) System | C8: 1 | D8: 1 | E8: 1 | F8: 1 | G8: 1 | H8: 1 | I8: 1 | J8: 1
A9: M20* - State health department participates in the National Electronic Disease Surveillance System (NEDSS) | C9: 1 | D9: 1 | E9: 1 | F9: 1 | G9: 1 | H9: 1 | I9: 1 | J9: 1
A10: M22 - State health department has an electronic syndromic surveillance system that can report and exchange information | B10: 0.14981273 | C10: 1 | D10: 1 | E10: 1 | F10: 1 | G10: 1 | H10: 1 | I10: 1 | J10: 1
A11: M217 - State public health laboratory has implemented the laboratory information management system (LIMS) to exchange laboratory information and results electronically with hospitals, clinical labs, state epidemiology units, and federal agencies | B11: 0.14981273 | C11: 1 | D11: 1 | E11: 1 | F11: 1 | G11: 1 | H11: 1 | I11: 1 | J11: 1
A12: M220 - State has legal requirement for nongovernmental laboratories (e.g. clinical, hospital-based) in the state to send clinical isolates or specimens associated with reportable foodborne diseases to the state public health laboratory | B12: 0.14906368 | C12: 1 | D12: 1 | E12: 1 | F12: 1 | G12: 1 | H12: 1 | I12: 1 | J12: 1
A13: M256* - State public health laboratory participates in either of the following federal surveillance programs: Foodborne Diseases Active Surveillance Network (FoodNet) or National Molecular Subtyping Network for Foodborne Disease Surveillance (PulseNet) | C13: 1 | D13: 1 | E13: 1 | F13: 1 | G13: 1 | H13: 1 | I13: 1 | J13: 1
A14: M23 - Percent of foodborne illness outbreaks reported to CDC by state and local public health departments for which a causative infectious agent is confirmed | B14: 0.13483146 | C14: 100 | D14: 56.14 | E14: 82 | F14: 100 | G14: 100 | H14: 100 | I14: 50 | J14: 75
A15: M289* - State health department participates in a broad prevention collaborative addressing health care-associated infections (HAIs) | C15: 1 | D15: 1 | E15: 1 | F15: 1 | G15: 1 | H15: 1 | I15: 1 | J15: 1
A16: M290 - State has a public health veterinarian | B16: 0.13483146 | C16: 1 | D16: 1 | E16: 1 | F16: 1 | G16: 1 | H16: 1 | I16: 1 | J16: 1
A17: M265 - State uses an Electronic Death Registration System (EDRS) | B17: 0.14681648 | C17: 1 | D17: 1 | E17: 1 | F17: 1 | G17: 1 | H17: 1 | I17: 1 | J17: 1
A18: M801* - State public health laboratory participates in the Centers for Disease Control and Prevention (CDC)/(CDNA) Influenza surveillance program, and/or the World Health Organization (WHO) Influenza Surveillance Network | C18: 1 | D18: 1 | E18: 1 | F18: 1 | G18: 1 | H18: 1 | I18: 1 | J18: 1
A19: Subdomain 1.2: Biological Monitoring & Laboratory Testing
A20: M1* - Public Health Emergency Preparedness (PHEP) Cooperative Agreement-funded Laboratory Response Network chemical (LRN-C) laboratories collect, package, and ship samples properly during an LRN-C exercise | C20: 1 | D20: 1 | E20: 1 | F20: 1 | G20: 1 | H20: 1 | I20: 1 | J20: 1
A21: M1314 - State public health chemical OR radiological terrorism/threat laboratory is accredited or certified by the College of American Pathologists (CAP) or Clinical Laboratory Improvement Amendments (CLIA) | B21: 0.061692022 | C21: 1 | D21: 1 | E21: 1 | F21: 1 | G21: 1 | H21: 1 | I21: 1 | J21: 1
A22: M208 - State public health laboratory has a permit for the importation and transportation of materials, organisms, and vectors controlled by USDA/APHIS (U.S. Department of Agriculture/ Animal and Plant Health Inspection Service) | B22: 0.058910154 | C22: 1 | D22: 1 | E22: 1 | F22: 1 | G22: 1 | H22: 1 | I22: 1 | J22: 1
A23: M8 - State public health laboratory has a plan for a 6-8 week surge in testing capacity to respond to an outbreak or other public health event, with enough staffing capacity to work five 12-hour days for six to eight weeks in response to an infectious disease outbreak, such as novel influenza A (H1N1) | B23: 0.065455727 | C23: 1 | D23: 1 | E23: 1 | F23: 1 | G23: 1 | H23: 1 | I23: 1 | J23: 1
A24: M9 - State public health laboratory has a continuity of operations plan consistent with National Incident Management System (NIMS) guidelines | B24: 0.065455727 | C24: 1 | D24: 1 | E24: 1 | F24: 1 | G24: 1 | H24: 1 | I24: 1 | J24: 1
A25: M11 - State public health laboratory has a plan to receive specimens from sentinel clinical laboratories during nonbusiness hours | B25: 0.065455727 | C25: 1 | D25: 1 | E25: 1 | F25: 1 | G25: 1 | H25: 1 | I25: 1 | J25: 1
A26: M12 - State public health laboratory has the capacity in place to assure the timely transportation (pick-up and delivery) of samples 24/7/365 days to the appropriate public health Laboratory Response Network (LRN) reference laboratory | B26: 0.065455727 | C26: 1 | D26: 1 | E26: 1 | F26: 1 | G26: 1 | H26: 1 | I26: 1 | J26: 1
A27: M211 - Percent of 10 tests for infectious diseases that the state public health laboratory provides or assures, including the study of the characteristics of a disease or organism in blood tests for arbovirus, hepatitis C, Legionella, measles, mumps, Neisseria meningitides serotyping, Plasmodium identification, Salmonella serotyping, Shigella serotyping, and Varicella | B27: 0.060219266 | C27: 100 | D27: 100 | E27: 100 | F27: 100 | G27: 100 | H27: 100 | I27: 100 | J27: 100
A28: M216 - Percent of 15 tests for infectious diseases that the state public health laboratory provides or assures including: antimicrobial susceptibility testing confirmation for vancomycin resistant Staphylococcus aureus, Anaplasmosis (Anaplasma phagocytophilum), Babesiosis (Babesia sp.), botulinum toxin—mouse toxicity assay, Dengue Fever, Hantavirus serology, identification of unusual bacterial isolates, identification of fungal isolates, identification of parasites, Klebsiella pneumoniae Carbapenemase (blaKPC) by PCR, Legionella by culture or PCR, malaria by PCR, norovirus by PCR, Powassan virus, rabies | B28: 0.060873825 | C28: 100 | D28: 100 | E28: 100 | F28: 100 | G28: 100 | H28: 100 | I28: 100 | J28: 100
A29: M2 - Percent of Laboratory Response Network biological (LRN-B) proficiency tests successfully passed by Public Health Emergency Preparedness (PHEP) Cooperative Agreement-funded laboratories | B29: 0.065455727 | C29: 100 | D29: 100 | E29: 100 | F29: 100 | G29: 100 | H29: 100 | I29: 100 | J29: 100
A30: M3 - Percent of pulsed field gel electrophoresis (PFGE) subtyping data results for E. coli submitted to the CDC PulseNet national database within four working days of receiving samples from clinical laboratories | B30: 0.058910154 | C30: 0 | D30: 0 | E30: 0 | F30: 0 | G30: 0 | H30: 0 | I30: 0 | J30: 0
A31: M5 - Percent of chemical agents correctly identified and quantified from unknown samples during unannounced proficiency testing during the state’s Laboratory Response Network (LRN) Emergency Response Pop Proficiency Test (PopPT) Exercise | B31: 0.065455727 | C31: 0 | D31: 0 | E31: 0 | F31: 0 | G31: 0 | H31: 0 | I31: 0 | J31: 0
A32: M7 - Number of additional chemical agent detection methods—beyond the core methods—demonstrated by Laboratory Response Network chemical (LRN-C) Level 1 or 2 laboratories in the state | B32: 0.049419072 | C32: 7 | D32: 7 | E32: 7 | F32: 7 | G32: 7 | H32: 7 | I32: 7 | J32: 7
... A37: M902 - State has a high-capability laboratory to detect chemical threats (Level 1 or 2 LRN-C laboratory) | B37: 0.05956471 | C37: 1 | D37: 1 | E37: 1 | F37: 1 | G37: 1 | H37: 1 | I37: 1 | J37: 1
A38: Domain 2: Community Planning & Engagement Coordination
A39: Subdomain 2.1: Cross-Sector / Community Collaboration
A40: M87 - State health department is accredited by the Public Health Accreditation Board (PHAB) | B40: 0.14948933 | C40: 1 | D40: 1 | E40: 1 | F40: 1 | G40: 1 | H40: 1 | I40: 1 | J40: 1
A41: M501 - Percent of the state’s population served by a comprehensive public health system, as determined through the National Longitudinal Survey of Public Health Systems | B41: 0.181987 | C41: 100 | D41: 100 | E41: 100 | F41: 100 | G41: 100 | H41: 100 | I41: 100 | J41: 100
A42: M9031 - Percent of hospitals in the state that participate in health care preparedness coalitions supported through the federal Hospital Preparedness Program of the Office of the Assistant Secretary for Preparedness and Response | B42: 0.16713092 | C42: 52.8 | D42: 52.5 | E42: 47.4 | F42: 100 | G42: 100 | H42: 58.3 | I42: 100 | J42: 60.5
A43: M9032 - Percent of emergency medical service agencies in the state that participate in health care preparedness coalitions supported through the federal Hospital Preparedness Program of the Office of the Assistant Secretary for Preparedness and Response | B43: 0.16713092 | C43: 100 | D43: 100 | E43: 100 | F43: 100 | G43: 100 | H43: 100 | I43: 100 | J43: 100
A44: M9033 - Percent of emergency management agencies in the state that participate in health care preparedness coalitions supported through the federal Hospital Preparedness Program of the Office of the Assistant Secretary for Preparedness and Response | B44: 0.16713092 | C44: 100 | D44: 100 | E44: 100 | F44: 100 | G44: 100 | H44: 100 | I44: 100 | J44: 100
A45: M9034 - Percent of local health departments in the state that participate in health care preparedness coalitions supported through the federal Hospital Preparedness Program of the Office of the Assistant Secretary for Preparedness and Response | B45: 0.16713092 | C45: 100 | D45: 100 | E45: 100 | F45: 100 | G45: 100 | H45: 100 | I45: 100 | J45: 100
A46: Domain 2: Community Planning & Engagement Coordination
A47: Subdomain 2.2: Children & Other At-Risk Populations
A48: M163 - Number of pediatricians per 100,000 population under 18 years old in the state | C48: 29.9 | D48: 32.6 | E48: 30.9 | F48: 28.2 | G48: 27.7 | H48: 31.9 | I48: 38.1 | J48: 30.7
A49: M164 - Number of obstetricians and gynecologists per 100,000 female population in the state | C49: 6.7 | D49: 6.3 | E49: 7.3 | F49: 7.5 | G49: 6.5 | H49: 7.2 | I49: 7.7 | J49: 6.2
A50: M170 - Percent of state children (0-18 years) who reside within 50 miles of a pediatric trauma center, including out-of-state centers | C50: 100 | D50: 100 | E50: 100 | F50: 100 | G50: 100 | H50: 100 | I50: 100 | J50: 100
A51: M53B - Percent of youth who missed one or more days of school in past month due to concerns about safety | C51: 0 | D51: 0 | E51: 0 | F51: 0 | G51: 0 | H51: 0 | I51: 0 | J51: 0
A52: Subdomain 2.3: Management of Volunteers during Emergencies
A53: M36* - State participates in Emergency System for Advance Registration of Volunteer Health Professionals (ESAR-VHP) Program and has a state volunteer registry | C53: 100 | D53: 100 | E53: 100 | F53: 100 | G53: 100 | H53: 100 | I53: 100 | J53: 100
A54: M266 - Percent of the state’s population who live in a county with a Community Emergency Response Teams (CERT) (SES) | C54: 0 | D54: 0 | E54: 0 | F54: 0 | G54: 0 | H54: 0 | I54: 0 | J54: 0
A55: M346 - Number of total Medical Reserve Corps members per 100,000 population in the state | C55: 0 | D55: 0 | E55: 0 | F55: 0 | G55: 0 | H55: 0 | I55: 0 | J55: 0
A56: M176 - Number of Medical Reserve Corps (MRC) members who are physicians per 100,000 population in the state | C56: 0 | D56: 0 | E56: 0 | F56: 0 | G56: 0 | H56: 0 | I56: 0 | J56: 0
A57: M179 - Number of Medical Reserve Corps (MRC) members who are nurses or advanced practice nurses per 100,000 population in the state | C57: 0 | D57: 0 | E57: 0 | F57: 0 | G57: 0 | H57: 0 | I57: 0 | J57: 0
A58: M186 - Number of Medical Reserve Corps (MRC) members who are other health professionals per 100,000 population in the state | C58: 0 | D58: 0 | E58: 0 | F58: 0 | G58: 0 | H58: 0 | I58: 0 | J58: 0
A59: Subdomain 2.4: Social Capital & Cohesion
A60: M175 - Percent of voting-eligible population in the state participating in the highest office election | C60: 95.4 | D60: 98.2 | E60: 96.7 | F60: 96.9 | G60: 99 | H60: 97 | I60: 84.9 | J60: 96.4
A61: M188 - Percent of adults in the state who volunteer in their communities | C61: 26.9 | D61: 30.6 | E61: 32.3 | F61: 36.6 | G61: 36.8 | H61: 36.7 | I61: 28.7 | J61: 34.2
A62: M189 - Number of annual volunteer hours per state resident, 15 years and older | C62: 35.19 | D62: 37.89 | E62: 39.34 | F62: 44.68 | G62: 32.82 | H62: 44.57 | I62: 30.67 | J62: 37.05
A63: Domain 3: Incident & Information Management
A64: Subdomain 3.1: Incident Management
A65: M10* - State public health laboratory uses a rapid method (e.g., Health Alert Network (HAN), blast e-mail or fax) to send messages to their sentinel clinical laboratories and other partners | C65: 1 | D65: 1 | E65: 1 | F65: 1 | G65: 1 | H65: 1 | I65: 1 | J65: 1
A66: M84 - State all hazards emergency management program is accredited by the Emergency Management Accreditation Program (EMAP) | C66: 100 | D66: 100 | E66: 100 | F66: 100 | G66: 100 | H66: 100 | I66: 100 | J66: 100
A67: M107 - Percent of local health departments in the state with an emergency preparedness coordinator for states with local health departments | C67: 100 | D67: 100 | E67: 100 | F67: 100 | G67: 100 | H67: 100 | I67: 100 | J67: 100
A68: M229* - State public health laboratory has a 24/7/365 contact system in place to use in case of an emergency | C68: 1 | D68: 1 | E68: 1 | F68: 1 | G68: 1 | H68: 1 | I68: 1 | J68: 1
A69: M150* - State uses a system for tracking hospital bed availability during emergencies | C69: 0 | D69: 0 | E69: 0 | F69: 0 | G69: 0 | H69: 0 | I69: 0 | J69: 0
A70: M701 - Average number of minutes for state health department staff with incident management lead roles to report for immediate emergency response duty | C70: 1 | D70: 1 | E70: 1 | F70: 1 | G70: 1 | H70: 1 | I70: 1 | J70: 1
A71: M344 - State has adopted the Nurse Licensure Compact (NLC) | C71: 1 | D71: 1 | E71: 1 | F71: 1 | G71: 1 | H71: 1 | I71: 1 | J71: 1
A72: M338* - State requires healthcare facilities to report healthcare-associated infections to the Centers for Disease Control and Prevention's (CDC's) National Health Safety Network (NHSN) or other systems | C72: 1 | D72: 1 | E72: 1 | F72: 1 | G72: 1 | H72: 1 | I72: 1 | J72: 1
A73: M341* - State law includes a general provision regulating the release of personally identifiable information (PII) held by the health department | C73: 1 | D73: 1 | E73: 1 | F73: 1 | G73: 1 | H73: 1 | I73: 1 | J73: 1
A74: M342* - State law requires healthcare facilities to report communicable diseases to a health department | C74: 1 | D74: 1 | E74: 1 | F74: 1 | G74: 1 | H74: 1 | I74: 1 | J74: 1
A75: M345* - State has adopted Emergency Management Assistance Compact (EMAC) legislation
A76: Subdomain 3.2: Information Management | C76: 1 | D76: 1 | E76: 1 | F76: 1 | G76: 1 | H76: 1 | I76: 1 | J76: 1
A77: M64* - State has a public information and communication plan developed for a mass prophylaxis campaign | C77: 86.3 | D77: 85.2 | E77: 86.8 | F77: 83.4 | G77: 94.1 | H77: 82.5 | I77: 89 | J77: 88.4
A78: M228 - Percent of households in the state with broadband in the home | C78: 23 | D78: 78.6 | E78: 61 | F78: 0 | G78: 67 | H78: 16 | I78: 100 | J78: 0
A79: M906 - Percent of hospitals in the state that have demonstrated meaningful use of certified electronic health record technology (CEHRT). This includes the demonstration of meaningful use through either the Medicare or Medicaid EHR Incentive Programs. Critical Access hospitals are facilities with no more than 25 beds and located in a rural area further than 35 miles from the nearest hospital, and/or are located in a mountainous region. | C79: 23 | D79: 78.6 | E79: 61 | F79: 0 | G79: 67 | H79: 16 | I79: 100 | J79: 0
A80: M907 - Percent of office-based medical doctors and doctors of osteopathy in the state that have demonstrated meaningful use of certified electronic health record technology (CEHRT). This includes the demonstration of meaningful use through either the Medicare or Medicaid EHR Incentive Programs. | C80: 23 | D80: 78.6 | E80: 61 | F80: 0 | G80: 67 | H80: 16 | I80: 100 | J80: 0
A81: M1001 - The state's 911 authorities are capable of processing and interpreting location and caller information using Next Generation 911 infrastructure. | C81: 1 | D81: 1 | E81: 1 | F81: 1 | G81: 1 | H81: 1 | I81: 1 | J81: 1
A82: Domain 4: Healthcare Delivery
A83: Subdomain 4.1: Prehospital Care
A84: M140 - Number of emergency medical technicians (EMTs) and paramedics per 100,000 population in the state | C84: 87.2 | D84: 58.35 | E84: 72.819 | F84: 71.18 | G84: 50.15 | H84: 68.88 | I84: 60.99 | J84: 60.54
A85: M331 - Percent of local emergency medical services (EMS) agencies that submit National EMS Information System (NEMSIS) compliant data (e.g., Version 2 in earlier years, Version 3 in later years) to the state | C85: 100 | D85: 100 | E85: 100 | F85: 100 | G85: 100 | H85: 100 | I85: 100 | J85: 100
A86: M349 - State has adopted EMS Personnel Licensure Interstate CompAct (REPLICA) legislation | C86: 1 | D86: 1 | E86: 1 | F86: 1 | G86: 1 | H86: 1 | I86: 1 | J86: 1
A87: M350U - The average length of time in minutes between EMS notification and arrival at a fatal motor vehicle crash (MVC) in urban areas | C87: 9.6 | D87: 11 | E87: 9.5 | F87: 11.5 | G87: 9.1 | H87: 10.3 | I87: 9.8 | J87: 8.3
A88: M350R - The average length of time in minutes between EMS notification and arrival at a fatal motor vehicle crash (MVC) in rural areas | C88: 8.4 | D88: 11.4 | E88: 10.1 | F88: 14.1 | G88: 9.1 | H88: 10.5 | I88: 8.6 | J88: 8.5
A89: Subdomain 4.2: Hospital and Physician Services
A90: M147 - Median time in minutes from hospital emergency department (ED) arrival to ED departure for patients admitted to hospitals in the state (identifier ED-1) | C90: 232 | D90: 280 | E90: 237 | F90: 375 | G90: 289 | H90: 287 | I90: 358 | J90: 236
A91: M152 - Percent of the state’s population who live within 50 miles of a trauma center, including out-of-state centers | C91: 74.2 | D91: 72.7 | E91: 78.1 | F91: 49.69 | G91: 99.6 | H91: 69.5 | I91: 51.8 | J91: 78.6 | M91: =(SUM(C90:C99)/10)*1 -> 239.874
A92: M160 - Number of physicians and surgeons per 100,000 population in the state | C92: 383.3 | D92: 375.2 | E92: 374.2 | F92: 378.4 | G92: 446.1 | H92: 400.2 | I92: 474.7 | J92: 353.5
A93: M167 - Number of active registered nurse (RN) and licensed practical nurse (LPN/(EN) licenses per 100,000 population in the state | C93: 1326.4 | D93: 1145.9 | E93: 1385.1 | F93: 1500.8 | G93: 1296.1 | H93: 1610.4 | I93: 1613.7 | J93: 1237.6
A94: M168 - Percent of the state’s population living within 100 miles of a burn center, including out-of-state centers | C94: 74.2 | D94: 72.7 | E94: 78.1 | F94: 49.69 | G94: 100 | H94: 69.5 | I94: 51.8 | J94: 78.6
A95: M296 - Percent of hospitals in the state providing a specialty geriatric services program (includes general as well as specialized geriatric services, such as psychiatric geriatric services/Alzheimer care) | C95: 100 | D95: 100 | E95: 100 | F95: 100 | G95: 100 | H95: 100 | I95: 100 | J95: 100
A96: M297 - Percent of hospitals in the state providing palliative care programs (includes both palliative care program and/or palliative care inpatient unit, but excludes pain management program, patient-controlled analgesia, and hospice program) | C96: 100 | D96: 100 | E96: 100 | F96: 100 | G96: 100 | H96: 100 | I96: 100 | J96: 100
A97: M298 - Number of hospital airborne infection isolation room (AIIR) beds per 100,000 population in the state, including hospitals with AIIR rooms within 50 miles from neighboring states | C97: 8.64 | D97: 11.47 | E97: 8.01 | F97: 9.69 | G97: 11.26 | H97: 11.05 | I97: 9 | J97: 6.25
A98: M299 - Risk-adjusted 30-day survival rate (percent) among Medicare beneficiaries hospitalized in the state for heart attack, heart failure, or pneumonia | C98: 0 | D98: 0 | E98: 0 | F98: 0 | G98: 0 | H98: 0 | I98: 0 | J98: 0
A99: M300 - Percent of hospitals in the state with a top quality ranking (Grade A) on the Hospital Safety Score | C99: 100 | D99: 100 | E99: 100 | F99: 100 | G99: 100 | H99: 100 | I99: 100 | J99: 100
A100: M148 - Median time in minutes from hospital admission decision to emergency department (ED) departure for patients admitted to hospitals in the state (identifier ED2) | C100: 232 | D100: 280 | E100: 237 | F100: 375 | G100: 289 | H100: 287 | I100: 358 | J100: 236
A101: Subdomain 4.3: Long-Term Care
A102: M308 - Average number of nurse (RN) staffing hours per resident per day in nursing homes in the state | B102: 0.12280702 | C102: 0.44 | D102: 0.34 | E102: 0.38 | F102: 0.38 | G102: 0.6 | H102: 0.31 | I102: 1.98 | J102: 0.51
A103: M309 - Average number of nursing assistant (CNA) staffing hours per resident per day in nursing homes in the state | B103: 0.10526316 | C103: 1.97 | D103: 1.88 | E103: 0.14 | F103: 0.23 | G103: 5.08 | H103: 0.15 | I103: 0.09 | J103: 5.08
A104: M307 - Percent of long-stay nursing home residents in the state that are assessed and appropriately given the seasonal influenza vaccine | B104: 0.15789473 | C104: 100 | D104: 100 | E104: 100 | F104: 100 | G104: 100 | H104: 100 | I104: 100 | J104: 100
A105: M310 - Average number of licensed practical nurse (LPN) staffing hours per resident per day in nursing homes in the state | B105: 0.10526316 | C105: 0.29 | D105: 0.17 | E105: 0.3 | F105: 0.25 | G105: 0.26 | H105: 0.21 | I105: 0.6 | J105: 0.41 | M105: https://www.agedcarequality.gov.au/providers/standards/standard-3
A106: M303B - Number of licensed skilled nursing facilities with deficiencies in compliance with CMS Emergency Preparedness requirements, per 100 facilities in the state (expressed as quintiles) | B106: 0.1754386 | C106: 100 | D106: 100 | E106: 100 | F106: 100 | G106: 100 | H106: 100 | I106: 100 | J106: 100
...

Sheet Measure List
A1: Measures | B1: Individual Measure Weight | C1: QLD | D1: NSW | E1: VIC | F1: TAS | G1: ACT | H1: SA | I1: NT | J1: WA
A4: Domain 1: Health Security Surveillance
A5: Subdomain 1.1: Health Surveillance & Epidemiological Investigation
A6: M17* - State health department participates in the Behavioral Risk Factor Surveillance System (BRFSS) | C6: 1 | D6: 1 | E6: 1 | F6: 1 | G6: 1 | H6: 1 | I6: 1 | J6: 1 | L6: =MIN(C6,C6:J6) -> 1 | M6: =MAX(C6:J6) -> 1
A7: M18 - Number of epidemiologists per 100,000 population in the state, by quintile | B7: 0.13483146 | C7: 1 | D7: 1 | E7: 1 | F7: 1 | G7: 1 | H7: 1 | I7: 1 | J7: 1 | L7: =MIN(C7,C7:J7) -> 1 | M7: =MAX(C7:J7) -> 1
A8: M19* - State health department participates in the Epidemic Information Exchange (EpiX) System | C8: 1 | D8: 1 | E8: 1 | F8: 1 | G8: 1 | H8: 1 | I8: 1 | J8: 1 | L8: =MIN(C8,C8:J8) -> 1 | M8: =MAX(C8:J8) -> 1
A9: M20* - State health department participates in the National Electronic Disease Surveillance System (NEDSS) | C9: 1 | D9: 1 | E9: 1 | F9: 1 | G9: 1 | H9: 1 | I9: 1 | J9: 1 | L9: =MIN(C9,C9:J9) -> 1 | M9: =MAX(C9:J9) -> 1
A10: M22 - State health department has an electronic syndromic surveillance system that can report and exchange information | B10: 0.14981273 | C10: 1 | D10: 1 | E10: 1 | F10: 1 | G10: 1 | H10: 1 | I10: 1 | J10: 1 | L10: =MIN(C10,C10:J10) -> 1 | M10: =MAX(C10:J10) -> 1
A11: M217 - State public health laboratory has implemented the laboratory information management system (LIMS) to exchange laboratory information and results electronically with hospitals, clinical labs, state epidemiology units, and federal agencies | B11: 0.14981273 | C11: 1 | D11: 1 | E11: 1 | F11: 1 | G11: 1 | H11: 1 | I11: 1 | J11: 1 | L11: =MIN(C11,C11:J11) -> 1 | M11: =MAX(C11:J11) -> 1
A12: M220 - State has legal requirement for nongovernmental laboratories (e.g. clinical, hospital-based) in the state to send clinical isolates or specimens associated with reportable foodborne diseases to the state public health laboratory | B12: 0.14906368 | C12: 1 | D12: 1 | E12: 1 | F12: 1 | G12: 1 | H12: 1 | I12: 1 | J12: 1 | L12: =MIN(C12,C12:J12) -> 1 | M12: =MAX(C12:J12) -> 1
A13: M256* - State public health laboratory participates in either of the following federal surveillance programs: Foodborne Diseases Active Surveillance Network (FoodNet) or National Molecular Subtyping Network for Foodborne Disease Surveillance (PulseNet) | C13: 1 | D13: 1 | E13: 1 | F13: 1 | G13: 1 | H13: 1 | I13: 1 | J13: 1 | L13: =MIN(C13,C13:J13) -> 1 | M13: =MAX(C13:J13) -> 1
A14: M23 - Percent of foodborne illness outbreaks reported to CDC by state and local public health departments for which a causative infectious agent is confirmed | B14: 0.13483146 | C14: 1 | D14: 0.5614 | E14: 0.82 | F14: 1 | G14: 1 | H14: 1 | I14: 0.5 | J14: 0.75 | L14: =MIN(C14,C14:J14) -> 0.5 | M14: =MAX(C14:J14) -> 1
A15: M289* - State health department participates in a broad prevention collaborative addressing health care-associated infections (HAIs) | C15: 1 | D15: 1 | E15: 1 | F15: 1 | G15: 1 | H15: 1 | I15: 1 | J15: 1 | L15: =MIN(C15,C15:J15) -> 1 | M15: =MAX(C15:J15) -> 1
A16: M290 - State has a public health veterinarian | B16: 0.13483146 | C16: 1 | D16: 1 | E16: 1 | F16: 1 | G16: 1 | H16: 1 | I16: 1 | J16: 1 | L16: =MIN(C16,C16:J16) -> 1 | M16: =MAX(C16:J16) -> 1
A17: M265 - State uses an Electronic Death Registration System (EDRS) | B17: 0.14681648 | C17: 1 | D17: 1 | E17: 1 | F17: 1 | G17: 1 | H17: 1 | I17: 1 | J17: 1 | L17: =MIN(C17,C17:J17) -> 1 | M17: =MAX(B17:J17) -> 1
A18: M801* - State public health laboratory participates in the Centers for Disease Control and Prevention (CDC)/(CDNA) Influenza surveillance program, and/or the World Health Organization (WHO) Influenza Surveillance Network | B18: 0.061692022 | C18: 1 | D18: 1 | E18: 1 | F18: 1 | G18: 1 | H18: 1 | I18: 1 | J18: 1 | L18: =MIN(C18,C18:J18) -> 1 | M18: =MAX(C18:J18) -> 1
A19: Subdomain 1.2: Biological Monitoring & Laboratory Testing
A20: M1* - Public Health Emergency Preparedness (PHEP) Cooperative Agreement-funded Laboratory Response Network chemical (LRN-C) laboratories collect, package, and ship samples properly during an LRN-C exercise | B20: 0.065455727 | C20: 1 | D20: 1 | E20: 1 | F20: 1 | G20: 1 | H20: 1 | I20: 1 | J20: 1 | L20: =MIN(C20,C20:J20) -> 1 | M20: =MAX(C20:J20) -> 1
A21: M1314 - State public health chemical OR radiological terrorism/threat laboratory is accredited or certified by the College of American Pathologists (CAP) or Clinical Laboratory Improvement Amendments (CLIA) | B21: 0.061692022 | C21: 1 | D21: 1 | E21: 1 | F21: 1 | G21: 1 | H21: 1 | I21: 1 | J21: 1 | L21: =MIN(C21,C21:J21) -> 1 | M21: =MAX(C21:J21) -> 1
A22: M208 - State public health laboratory has a permit for the importation and transportation of materials, organisms, and vectors controlled by USDA/APHIS (U.S. Department of Agriculture/ Animal and Plant Health Inspection Service) | B22: 0.058910154 | C22: 1 | D22: 1 | E22: 1 | F22: 1 | G22: 1 | H22: 1 | I22: 1 | J22: 1 | L22: =MIN(C22,C22:J22) -> 1 | M22: =MAX(C22:J22) -> 1
A23: M8 - State public health laboratory has a plan for a six to eight week surge in testing capacity to respond to an outbreak or other public health event, with enough staffing capacity to work five 12-hour days for six to eight weeks in response to an infectious disease outbreak, such as novel influenza A (H1N1) | B23: 0.065455727 | C23: 1 | D23: 1 | E23: 1 | F23: 1 | G23: 1 | H23: 1 | I23: 1 | J23: 1 | L23: =MIN(C23,C23:J23) -> 1 | M23: =MAX(C23:J23) -> 1
A24: M9 - State public health laboratory has a continuity of operations plan consistent with National Incident Management System (NIMS) guidelines | B24: 0.065455727 | C24: 1 | D24: 1 | E24: 1 | F24: 1 | G24: 1 | H24: 1 | I24: 1 | J24: 1 | L24: =MIN(C24,C24:J24) -> 1 | M24: =MAX(C24:J24) -> 1
A25: M11 - State public health laboratory has a plan to receive specimens from sentinel clinical laboratories during nonbusiness hours | B25: 0.065455727 | C25: 1 | D25: 1 | E25: 1 | F25: 1 | G25: 1 | H25: 1 | I25: 1 | J25: 1 | L25: =MIN(C25,C25:J25) -> 1 | M25: =MAX(C25:J25) -> 1
A26: M12 - State public health laboratory has the capacity in place to assure the timely transportation (pick-up and delivery) of samples 24/7/365 days to the appropriate public health Laboratory Response Network (LRN) reference laboratory | B26: 0.065455727 | C26: 1 | D26: 1 | E26: 1 | F26: 1 | G26: 1 | H26: 1 | I26: 1 | J26: 1 | L26: =MIN(C26,C26:J26) -> 1 | M26: =MAX(C26:J26) -> 1
A27: M211 - Percent of 10 tests for infectious diseases that the state public health laboratory provides or assures, including the study of the characteristics of a disease or organism inblood tests for arbovirus, hepatitis C, Legionella, measles, mumps, Neisseria meningitides serotyping, Plasmodium identification, Salmonella serotyping, Shigella serotyping, and Varicella | B27: 0.060219266 | C27: 1 | D27: 1 | E27: 1 | F27: 1 | G27: 1 | H27: 1 | I27: 1 | J27: 1 | L27: =MIN(C27,C27:J27) -> 1 | M27: =MAX(C27:J27) -> 1
A28: M216 - Percent of 15 tests for infectious diseases that the state public health laboratory provides or assures including: antimicrobial susceptibility testing confirmation for vancomycin resistant Staphylococcus aureus, Anaplasmosis (Anaplasma phagocytophilum), Babesiosis (Babesia sp.), botulinum toxin—mouse toxicity assay, Dengue Fever, Hantavirus serology, identification of unusual bacterial isolates, identification of fungal isolates, identification of parasites, Klebsiella pneumoniae Carbapenemase (blaKPC) by PCR, Legionella by culture or PCR, malaria by PCR, norovirus by PCR, Powassan virus, rabies | B28: 0.060873825 | C28: 1 | D28: 1 | E28: 1 | F28: 1 | G28: 1 | H28: 1 | I28: 1 | J28: 1 | L28: =MIN(C28,C28:J28) -> 1 | M28: =MAX(C28:J28) -> 1
A29: M2 - Percent of Laboratory Response Network biological (LRN-B) proficiency tests successfully passed by Public Health Emergency Preparedness (PHEP) Cooperative Agreement-funded laboratories | B29: 0.065455727 | C29: 1 | D29: 1 | E29: 1 | F29: 1 | G29: 1 | H29: 1 | I29: 1 | J29: 1 | L29: =MIN(C29,C29:J29) -> 1 | M29: =MAX(C29:J29) -> 1
A30: M3 - Percent of pulsed field gel electrophoresis (PFGE) subtyping data results for E. coli submitted to the CDC PulseNet national database within four working days of receiving samples from clinical laboratories | B30: 0.058910154 | C30: 0 | D30: 0 | E30: 0 | F30: 0 | G30: 0 | H30: 0 | I30: 0 | J30: 0 | L30: =MIN(C30,C30:J30) -> 0 | M30: =MAX(C30:J30) -> 0
A31: M5 - Percent of chemical agents correctly identified and quantified from unknown samples during unannounced proficiency testing during the state’s Laboratory Response Network (LRN) Emergency Response Pop Proficiency Test (PopPT) Exercise | B31: 0.065455727 | C31: 0 | D31: 0 | E31: 0 | F31: 0 | G31: 0 | H31: 0 | I31: 0 | J31: 0 | L31: =MIN(C31,C31:J31) -> 0 | M31: =MAX(C31:J31) -> 0
... A37: M911 - State has a high-capability laboratory to detect chemical threats (Level 1 or 2 LRN-C laboratory) | B37: 0.05956471 | C37: 1 | D37: 1 | E37: 1 | F37: 1 | G37: 1 | H37: 1 | I37: 1 | J37: 1 | L37: =MIN(C37,C37:J37) -> 1 | M37: =MAX(C37:J37) -> 1
A38: Domain 2: Community Planning & Engagement Coordination
A39: Subdomain 2.1: Cross-Sector / Community Collaboration
A40: M87 - State health department is accredited by the Public Health Accreditation Board (PHAB) | B40: 0.14948933 | C40: 1 | D40: 1 | E40: 1 | F40: 1 | G40: 1 | H40: 1 | I40: 1 | J40: 1 | L40: =MIN(C40,C40:J40) -> 1 | M40: =MAX(C40:J40) -> 1
A41: M501 - Percent of the state’s population served by a comprehensive public health system, as determined through the National Longitudinal Survey of Public Health Systems | B41: 0.181987 | C41: 1 | D41: 1 | E41: 1 | F41: 1 | G41: 1 | H41: 1 | I41: 1 | J41: 1 | L41: =MIN(C41,C41:J41) -> 1 | M41: =MAX(C41:J41) -> 1
A42: M9031 - Percent of hospitals in the state that participate in health care preparedness coalitions supported through the federal Hospital Preparedness Program of the Office of the Assistant Secretary for Preparedness and Response | B42: 0.16713092 | C42: 0.528 | D42: 0.525 | E42: 0.474 | F42: 1 | G42: 1 | H42: 0.583 | I42: 1 | J42: 0.605 | L42: =MIN(C42,C42:J42) -> 0.474 | M42: =MAX(C42:J42) -> 1
A43: M9032 - Percent of emergency medical service agencies in the state that participate in health care preparedness coalitions supported through the federal Hospital Preparedness Program of the Office of the Assistant Secretary for Preparedness and Response | B43: 0.16713092 | C43: 1 | D43: 1 | E43: 1 | F43: 1 | G43: 1 | H43: 1 | I43: 1 | J43: 1 | L43: =MIN(C43,C43:J43) -> 1 | M43: =MAX(C43:J43) -> 1
A44: M9033 - Percent of emergency management agencies in the state that participate in health care preparedness coalitions supported through the federal Hospital Preparedness Program of the Office of the Assistant Secretary for Preparedness and Response | B44: 0.16713092 | C44: 1 | D44: 1 | E44: 1 | F44: 1 | G44: 1 | H44: 1 | I44: 1 | J44: 1 | L44: =MIN(C44,C44:J44) -> 1 | M44: =MAX(C44:J44) -> 1
A45: M9034 - Percent of local health departments in the state that participate in health care preparedness coalitions supported through the federal Hospital Preparedness Program of the Office of the Assistant Secretary for Preparedness and Response | B45: 0.16713092 | C45: 1 | D45: 1 | E45: 1 | F45: 1 | G45: 1 | H45: 1 | I45: 1 | J45: 1 | L45: =MIN(C45,C45:J45) -> 1 | M45: =MAX(C45:J45) -> 1
A46: Domain 2: Community Planning & Engagement Coordination
A47: Subdomain 2.2: Children & Other At-Risk Populations
A48: M163 - Number of pediatricians per 100,000 population under 18 years old in the state | B48: 0.20408164 | C48: =('Measures Raw'!C48)/(38.1) -> 0.7847769 | D48: =('Measures Raw'!D48)/(38.1) -> 0.85564304 | E48: =('Measures Raw'!E48)/(38.1) -> 0.81102362 | F48: =('Measures Raw'!F48)/(38.1) -> 0.74015748 | G48: =('Measures Raw'!G48)/(38.1) -> 0.72703412 | H48: =('Measures Raw'!H48)/(38.1) -> 0.83727034 | I48: =('Measures Raw'!I48)/(38.1) -> 1 | J48: =('Measures Raw'!J48)/(38.1) -> 0.80577428 | L48: =MIN(C48,C48:J48) -> 0.72703412 | M48: =MAX(C48:J48) -> 1 | P48: 27.7 | Q48: 38.1 | R48: =Q48-P48 -> 10.4
A49: M164 - Number of obstetricians and gynecologists per 100,000 female population in the state | B49: 0.18367347 | C49: =('Measures Raw'!C49)/('Measure List'!$O$49) -> 0.87012987 | D49: =('Measures Raw'!D49)/('Measure List'!$O$49) -> 0.81818182 | E49: =('Measures Raw'!E49)/('Measure List'!$O$49) -> 0.94805195 | F49: =('Measures Raw'!F49)/('Measure List'!$O$49) -> 0.97402597 | G49: =('Measures Raw'!G49)/('Measure List'!$O$49) -> 0.84415584 | H49: =('Measures Raw'!H49)/('Measure List'!$O$49) -> 0.93506494 | I49: =('Measures Raw'!I49)/('Measure List'!$O$49) -> 1 | J49: =('Measures Raw'!J49)/('Measure List'!$O$49) -> 0.80519481 | L49: =MIN(C49,C49:J49) -> 0.80519481 | M49: =MAX(C49:J49) -> 1 | N49: 6.2 | O49: 7.7
A50: M170 - Percent of state children (0-18 years) who reside within 50 miles of a pediatric trauma center, including out-of-state centers | B50: 0.27551022 | C50: 1 | D50: 1 | E50: 1 | F50: 1 | G50: 1 | H50: 1 | I50: 1 | J50: 1 | L50: =MIN(C50,C50:J50) -> 1 | M50: =MAX(C50:J50) -> 1
A51: M53B - Percent of youth who missed one or more days of school in past month due to concerns about safety | B51: 0.33673468 | C51: 0 | D51: 0 | E51: 0 | F51: 0 | G51: 0 | H51: 0 | I51: 0 | J51: 0 | L51: =MIN(C51,C51:J51) -> 0 | M51: =MAX(C51:J51) -> 0
A52: Subdomain 2.3: Management of Volunteers during Emergencies | L52: =MIN(C52,C52:J52) -> 0 | M52: =MAX(C52:J52) -> 0
A53: M36* - State participates in Emergency System for Advance Registration of Volunteer Health Professionals (ESAR-VHP) Program and has a state volunteer registry | C53: 0 | D53: 0 | E53: 0 | F53: 0 | G53: 0 | H53: 0 | I53: 0 | J53: 0 | L53: =MIN(C53,C53:J53) -> 0 | M53: =MAX(C53:J53) -> 0
A54: M266 - Percent of the state’s population who live in a county with a Community Emergency Response Teams (CERT) (SES) | B54: 0.20546164 | C54: 1 | D54: 1 | E54: 1 | F54: 1 | G54: 1 | H54: 1 | I54: 1 | J54: 1 | L54: =MIN(C54,C54:J54) -> 1 | M54: =MAX(C54:J54) -> 1
A55: M346 - Number of total Medical Reserve Corps members per 100,000 population in the state | B55: 0.21196358 | C55: 0 | D55: 0 | E55: 0 | F55: 0 | G55: 0 | H55: 0 | I55: 0 | J55: 0 | L55: =MIN(C55,C55:J55) -> 0 | M55: =MAX(C55:J55) -> 0
A56: M176 - Number of Medical Reserve Corps (MRC) members who are physicians per 100,000 population in the state | B56: 0.19505851 | C56: 0 | D56: 0 | E56: 0 | F56: 0 | G56: 0 | H56: 0 | I56: 0 | J56: 0 | L56: =MIN(C56,C56:J56) -> 0 | M56: =MAX(C56:J56) -> 0
A57: M179 - Number of Medical Reserve Corps (MRC) members who are nurses or advanced practice nurses per 100,000 population in the state | B57: 0.20806241 | C57: 0 | D57: 0 | E57: 0 | F57: 0 | G57: 0 | H57: 0 | I57: 0 | J57: 0 | L57: =MIN(C57,C57:J57) -> 0 | M57: =MAX(C57:J57) -> 0 | O57: Percentage 100
A58: M186 - Number of Medical Reserve Corps (MRC) members who are other health professionals per 100,000 population in the state | B58: 0.17945383 | C58: 0 | D58: 0 | E58: 0 | F58: 0 | G58: 0 | H58: 0 | I58: 0 | J58: 0 | L58: =MIN(C58,C58:J58) -> 0 | M58: =MAX(C58:J58) -> 0 | O58: 100
A59: Subdomain 2.4: Social Capital & Cohesion
A60: M175 - Percent of voting-eligible population in the state participating in the highest office election | B60: 0.32394364 | C60: =95.4/$O$58 -> 0.954 | D60: 0.982 | E60: 0.967 | F60: 0.969 | G60: 0.99 | H60: 0.97 | I60: 0.849 | J60: 0.964 | L60: =MIN(C60,C60:J60) -> 0.849 | M60: =MAX(C60:J60) -> 0.99
A61: M188 - Percent of adults in the state who volunteer in their communities | B61: 0.33802816 | C61: =('Measures Raw'!C61)/('Measure List'!$P$61) -> 0.73097826 | D61: =('Measures Raw'!D61)/('Measure List'!$P$61) -> 0.83152174 | E61: =('Measures Raw'!E61)/('Measure List'!$P$61) -> 0.87771739 | F61: =('Measures Raw'!F61)/('Measure List'!$P$61) -> 0.99456522 | G61: =('Measures Raw'!G61)/('Measure List'!$P$61) -> 1 | H61: =('Measures Raw'!H61)/('Measure List'!$P$61) -> 0.99728261 | I61: =('Measures Raw'!I61)/('Measure List'!$P$61) -> 0.7798913 | J61: =('Measures Raw'!J61)/('Measure List'!$P$61) -> 0.92934783 | L61: =MIN(C61,C61:J61) -> 0.73097826 | M61: =MAX(C61:J61) -> 1 | N61: =MAX(C61:J61) -> 1 | O61: 17.1 | P61: 36.8
A62: M189 - Number of annual volunteer hours per state resident, 15 years and older | B62: 0.33802816 | C62: =('Measures Raw'!C62)/('Measure List'!$P$62) -> 0.78760072 | D62: =('Measures Raw'!D62)/('Measure List'!$P$62) -> 0.84803044 | E62: =('Measures Raw'!E62)/('Measure List'!$P$62) -> 0.88048344 | F62: =('Measures Raw'!F62)/('Measure List'!$P$62) -> 1 | G62: =('Measures Raw'!G62)/('Measure List'!$P$62) -> 0.73455685 | H62: =('Measures Raw'!H62)/('Measure List'!$P$62) -> 0.99753805 | I62: =('Measures Raw'!I62)/('Measure List'!$P$62) -> 0.68643688 | J62: =('Measures Raw'!J62)/('Measure List'!$P$62) -> 0.82923008 | L62: =MIN(C62,C62:J62) -> 0.68643688 | M62: =MAX(C62:J62) -> 1 | O62: 30.67 | P62: 44.68
A63: Domain 3: Incident & Information Management
A64: Subdomain 3.1: Incident Management
A65: M10* - State public health laboratory uses a rapid method (e.g., Health Alert Network (HAN), blast e-mail or fax) to send messages to their sentinel clinical laboratories and other partners | C65: 1 | D65: 1 | E65: 1 | F65: 1 | G65: 1 | H65: 1 | I65: 1 | J65: 1 | L65: =MIN(C65,C65:J65) -> 1 | M65: =MAX(C65:J65) -> 1
A66: M84 - State all hazards emergency management program is accredited by the Emergency Management Accreditation Program (EMAP) | B66: 0.25882354 | C66: 1 | D66: 1 | E66: 1 | F66: 1 | G66: 1 | H66: 1 | I66: 1 | J66: 1 | L66: =MIN(C66,C66:J66) -> 1 | M66: =MAX(C66:J66) -> 1
A67: M107 - Percent of local health departments in the state with an emergency preparedness coordinator for states with local health departments | B67: 0.24705882 | C67: 1 | D67: 1 | E67: 1 | F67: 1 | G67: 1 | H67: 1 | I67: 1 | J67: 1 | L67: =MIN(C67,C67:J67) -> 1 | M67: =MAX(C67:J67) -> 1
A68: M229* - State public health laboratory has a 24/7/365 contact system in place to use in case of an emergency | B68: 0.25882354 | C68: 1 | D68: 1 | E68: 1 | F68: 1 | G68: 1 | H68: 1 | I68: 1 | J68: 1 | L68: =MIN(C68,C68:J68) -> 1 | M68: =MAX(C68:J68) -> 1
A69: M150* - State uses a system for tracking hospital bed availability during emergencies | B69: 0.23529412 | C69: 1 | D69: 1 | E69: 1 | F69: 1 | G69: 1 | H69: 1 | I69: 1 | J69: 1 | L69: =MIN(C69,C69:J69) -> 1 | M69: =MAX(C69:J69) -> 1
A70: M701 - Average number of minutes for state health department staff with incident management lead roles to report for immediate emergency response duty | B70: 0.25882354 | C70: 0 | D70: 0 | E70: 0 | F70: 0 | G70: 0 | H70: 0 | I70: 0 | J70: 0 | L70: =MIN(C70,C70:J70) -> 0 | M70: =MAX(C70:J70) -> 0
A71: M344 - State has adopted the Nurse Licensure Compact (NLC) | B71: 0.23529412 | C71: 1 | D71: 1 | E71: 1 | F71: 1 | G71: 1 | H71: 1 | I71: 1 | J71: 1 | L71: =MIN(C71,C71:J71) -> 1 | M71: =MAX(C71:J71) -> 1
A72: M338* - State requires healthcare facilities to report healthcare-associated infections to the Centers for Disease Control and Prevention's (CDC's) National Health Safety Network (NHSN) or other systems | C72: 1 | D72: 1 | E72: 1 | F72: 1 | G72: 1 | H72: 1 | I72: 1 | J72: 1 | L72: =MIN(C72,C72:J72) -> 1 | M72: =MAX(C72:J72) -> 1
A73: M341* - State law includes a general provision regulating the release of personally identifiable information (PII) held by the health department | C73: 1 | D73: 1 | E73: 1 | F73: 1 | G73: 1 | H73: 1 | I73: 1 | J73: 1 | L73: =MIN(C73,C73:J73) -> 1 | M73: =MAX(C73:J73) -> 1
A74: M342* - State law requires healthcare facilities to report communicable diseases to a health department | C74: 1 | D74: 1 | E74: 1 | F74: 1 | G74: 1 | H74: 1 | I74: 1 | J74: 1 | L74: =MIN(C74,C74:J74) -> 1 | M74: =MAX(C74:J74) -> 1
A75: M345* - State has adopted Emergency Management Assistance Compact (EMAC) legislation | C75: 1 | D75: 1 | E75: 1 | F75: 1 | G75: 1 | H75: 1 | I75: 1 | J75: 1 | L75: =MIN(C75,C75:J75) -> 1 | M75: =MAX(C75:J75) -> 1
A76: Subdomain 3.2: Information Management
A77: M64* - State has a public information and communication plan developed for a mass prophylaxis campaign | C77: 1 | D77: 1 | E77: 1 | F77: 1 | G77: 1 | H77: 1 | I77: 1 | J77: 1 | L77: =MIN(C77,C77:J77) -> 1 | M77: =MAX(C77:J77) -> 1
A78: M228 - Percent of households in the state with broadband in the home | B78: 0.25559106 | C78: 0.863 | D78: 0.852 | E78: 0.868 | F78: 0.834 | G78: 0.941 | H78: 0.825 | I78: 0.89 | J78: 0.884 | L78: =MIN(C78,C78:J78) -> 0.825 | M78: =MAX(C78:J78) -> 0.941
A79: M906 - Percent of hospitals in the state that have demonstrated meaningful use of certified electronic health record technology (CEHRT). This includes the demonstration of meaningful use through either the Medicare or Medicaid EHR Incentive Programs. Critical Access hospitals are facilities with no more than 25 beds and located in a rural area further than 35 miles from the nearest hospital, and/or are located in a mountainous region | B79: 0.23961662 | C79: 0.23 | D79: 0.786 | E79: 0.61 | F79: 0 | G79: 0.67 | H79: 0.16 | I79: 1 | J79: 0 | L79: =MIN(C79,C79:J79) -> 0 | M79: =MAX(C79:J79) -> 1
A80: M907 - Percent of office-based medical doctors and doctors of osteopathy in the state that have demonstrated meaningful use of certified electronic health record technology (CEHRT). This includes the demonstration of meaningful use through either the Medicare or Medicaid EHR Incentive Programs. | B80: 0.22364219 | C80: 0 | D80: 0 | E80: 0 | F80: 0 | G80: 0 | H80: 0 | I80: 0 | J80: 0 | L80: =MIN(C80,C80:J80) -> 0 | M80: =MAX(C80:J80) -> 0
A81: M1001 - The state's 911 authorities are capable of processing and interpreting location and caller information using Next Generation 911 infrastructure. | B81: 0.28115016 | C81: 1 | D81: 1 | E81: 1 | F81: 1 | G81: 1 | H81: 1 | I81: 1 | J81: 1 | L81: =MIN(C81,C81:J81) -> 1 | M81: =MAX(C81:J81) -> 1
A82: Domain 4: Healthcare Delivery | L82: =MIN(C82,C82:J82) -> 0 | M82: =MAX(C82:J82) -> 0
A83: Subdomain 4.1: Prehospital Care
A84: M140 - Number of emergency medical technicians (EMTs) and paramedics per 100,000 population in the state | B84: 0.24427481 | C84: =('Measures Raw'!C84)/('Measure List'!$P$84) -> 1 | D84: =('Measures Raw'!D84)/('Measure List'!$P$84) -> 0.66915138 | E84: =('Measures Raw'!E84)/('Measure List'!$P$84) -> 0.83508028 | F84: =('Measures Raw'!F84)/('Measure List'!$P$84) -> 0.8162844 | G84: =('Measures Raw'!G84)/('Measure List'!$P$84) -> 0.57511468 | H84: =('Measures Raw'!H84)/('Measure List'!$P$84) -> 0.78990826 | I84: =('Measures Raw'!I84)/('Measure List'!$P$84) -> 0.69942661 | J84: =('Measures Raw'!J84)/('Measure List'!$P$84) -> 0.69426606 | L84: =MIN(C84,C84:J84) -> 0.57511468 | M84: =MAX(C84:J84) -> 1 | O84: 50.15 | P84: 87.2
A85: M331 - Percent of local emergency medical services (EMS) agencies that submit National EMS Information System (NEMSIS) compliant data (e.g., Version 2 in earlier years, Version 3 in later years) to the state | B85: 0.27786261 | C85: 1 | D85: 1 | E85: 1 | F85: 1 | G85: 1 | H85: 1 | I85: 1 | J85: 1 | L85: =MIN(C85,C85:J85) -> 1 | M85: =MAX(C85:J85) -> 1
A86: M349 - State has adopted EMS Personnel Licensure Interstate CompAct (REPLICA) legislation | B86: 0.22900763 | C86: 1 | D86: 1 | E86: 1 | F86: 1 | G86: 1 | H86: 1 | I86: 1 | J86: 1 | L86: =MIN(C86,C86:J86) -> 1 | M86: =MAX(C86:J86) -> 1
A87: M350U - The average length of time in minutes between EMS notification and arrival at a fatal motor vehicle crash (MVC) in urban areas | B87: 0.12442748 | C87: =('Measures Raw'!C87)/('Measure List'!$P$87) -> 0.83478261 | D87: =('Measures Raw'!D87)/('Measure List'!$P$87) -> 0.95652174 | E87: =('Measures Raw'!E87)/('Measure List'!$P$87) -> 0.82608696 | F87: =('Measures Raw'!F87)/('Measure List'!$P$87) -> 1 | G87: =('Measures Raw'!G87)/('Measure List'!$P$87) -> 0.79130435 | H87: =('Measures Raw'!H87)/('Measure List'!$P$87) -> 0.89565217 | I87: =('Measures Raw'!I87)/('Measure List'!$P$87) -> 0.85217391 | J87: =('Measures Raw'!J87)/('Measure List'!$P$87) -> 0.72173913 | L87: =MIN(C87,C87:J87) -> 0.72173913 | M87: =MAX(C87:J87) -> 1 | O87: 8.3 | P87: 11.5
A88: M350R - The average length of time in minutes between EMS notification and arrival at a fatal motor vehicle crash (MVC) in rural areas | B88: 0.12442748 | C88: =('Measures Raw'!C88)/('Measure List'!$P$88) -> 0.59574468 | D88: =('Measures Raw'!D88)/('Measure List'!$P$88) -> 0.80851064 | E88: =('Measures Raw'!E88)/('Measure List'!$P$88) -> 0.71631206 | F88: =('Measures Raw'!F88)/('Measure List'!$P$88) -> 1 | G88: =('Measures Raw'!G88)/('Measure List'!$P$88) -> 0.64539007 | H88: =('Measures Raw'!H88)/('Measure List'!$P$88) -> 0.74468085 | I88: =('Measures Raw'!I88)/('Measure List'!$P$88) -> 0.60992908 | J88: =('Measures Raw'!J88)/('Measure List'!$P$88) -> 0.60283688 | L88: =MIN(C88,C88:J88) -> 0.59574468 | M88: =MAX(C88:J88) -> 1 | O88: 8.4 | P88: 14.1
A89: Subdomain 4.2: Hospital and Physician Services
A90: M147 - Median time in minutes from hospital emergency department (ED) arrival to ED departure for patients admitted to hospitals in the state (identifier ED-1) | B90: 0.086186536 | C90: =('Measures Raw'!C90)/('Measure List'!$P$90) -> 0.61866667 | D90: =('Measures Raw'!D90)/('Measure List'!$P$90) -> 0.74666667 | E90: =('Measures Raw'!E90)/('Measure List'!$P$90) -> 0.632 | F90: =('Measures Raw'!F90)/('Measure List'!$P$90) -> 1 | G90: =('Measures Raw'!G90)/('Measure List'!$P$90) -> 0.77066667 | H90: =('Measures Raw'!H90)/('Measure List'!$P$90) -> 0.76533333 | I90: =('Measures Raw'!I90)/('Measure List'!$P$90) -> 0.95466667 | J90: =('Measures Raw'!J90)/('Measure List'!$P$90) -> 0.62933333 | L90: =MIN(C90,C90:J90) -> 0.61866667 | M90: =MAX(C90:J90) -> 1 | O90: 232 | P90: 375
A91: M152 - Percent of the state’s population who live within 50 miles of a trauma center, including out-of-state centers | B91: 0.11097992 | C91: =('Measures Raw'!C91)/('Measure List'!$P$91) -> 0.74497992 | D91: =('Measures Raw'!D91)/('Measure List'!$P$91) -> 0.72991968 | E91: =('Measures Raw'!E91)/('Measure List'!$P$91) -> 0.78413655 | F91: =('Measures Raw'!F91)/('Measure List'!$P$91) -> 0.49889558 | G91: =('Measures Raw'!G91)/('Measure List'!$P$91) -> 1 | H91: =('Measures Raw'!H91)/('Measure List'!$P$91) -> 0.69779116 | I91: =('Measures Raw'!I91)/('Measure List'!$P$91) -> 0.52008032 | J91: =('Measures Raw'!J91)/('Measure List'!$P$91) -> 0.78915663 | L91: =MIN(C91,C91:J91) -> 0.49889558 | M91: =MAX(C91:J91) -> 1 | O91: 49.69 | P91: 99.6
A92: M160 - Number of physicians and surgeons per 100,000 population in the state | B92: 0.089728445 | C92: =('Measures Raw'!C92)/('Measure List'!$P$92) -> 0.80745734 | D92: =('Measures Raw'!D92)/('Measure List'!$P$92) -> 0.79039393 | E92: =('Measures Raw'!E92)/('Measure List'!$P$92) -> 0.78828734 | F92: =('Measures Raw'!F92)/('Measure List'!$P$92) -> 0.79713503 | G92: =('Measures Raw'!G92)/('Measure List'!$P$92) -> 0.93975142 | H92: =('Measures Raw'!H92)/('Measure List'!$P$92) -> 0.84305877 | I92: =('Measures Raw'!I92)/('Measure List'!$P$92) -> 1 | J92: =('Measures Raw'!J92)/('Measure List'!$P$92) -> 0.74468085 | L92: =MIN(C92,C92:J92) -> 0.74468085 | M92: =MAX(C92:J92) -> 1 | O92: 353.5 | P92: 474.7
A93: M167 - Number of active registered nurse (RN) and licensed practical nurse (LPN/(EN) licenses per 100,000 population in the state | B93: 0.094450995 | C93: =('Measures Raw'!C93)/('Measure List'!$P$93) -> 0.82196195 | D93: =('Measures Raw'!D93)/('Measure List'!$P$93) -> 0.71010721 | E93: =('Measures Raw'!E93)/('Measure List'!$P$93) -> 0.85833798 | F93: =('Measures Raw'!F93)/('Measure List'!$P$93) -> 0.93003656 | G93: =('Measures Raw'!G93)/('Measure List'!$P$93) -> 0.80318523 | H93: =('Measures Raw'!H93)/('Measure List'!$P$93) -> 0.99795501 | I93: =('Measures Raw'!I93)/('Measure List'!$P$93) -> 1 | J93: =('Measures Raw'!J93)/('Measure List'!$P$93) -> 0.76693314 | L93: =MIN(C93,C93:J93) -> 0.71010721 | M93: =MAX(C93:J93) -> 1 | O93: 1145.9 | P93: 1613.7
A94: M168 - Percent of the state’s population living within 100 miles of a burn center, including out-of-state centers | B94: 0.11216056 | C94: =('Measures Raw'!C94)/('Measure List'!$P$94) -> 0.742 | D94: =('Measures Raw'!D94)/('Measure List'!$P$94) -> 0.727 | E94: =('Measures Raw'!E94)/('Measure List'!$P$94) -> 0.781 | F94: =('Measures Raw'!F94)/('Measure List'!$P$94) -> 0.4969 | G94: =('Measures Raw'!G94)/('Measure List'!$P$94) -> 1 | H94: =('Measures Raw'!H94)/('Measure List'!$P$94) -> 0.695 | I94: =('Measures Raw'!I94)/('Measure List'!$P$94) -> 0.518 | J94: =('Measures Raw'!J94)/('Measure List'!$P$94) -> 0.786 | L94: =MIN(C94,C94:J94) -> 0.4969 | M94: =MAX(C94:J94) -> 1 | O94: 0 | P94: 100
A95: M296 - Percent of hospitals in the state providing a specialty geriatric services program (includes general as well as specialized geriatric services, such as psychiatric geriatric services/Alzheimer care) | B95: 0.072018884 | C95: 1 | D95: 1 | E95: 1 | F95: 1 | G95: 1 | H95: 1 | I95: 1 | J95: 1 | L95: =MIN(C95,C95:J95) -> 1 | M95: =MAX(C95:J95) -> 1
A96: M297 - Percent of hospitals in the state providing palliative care programs (includes both palliative care program and/or palliative care inpatient unit, but excludes pain management program, patient-controlled analgesia, and hospice program) | B96: 0.069657609 | C96: 1 | D96: 1 | E96: 1 | F96: 1 | G96: 1 | H96: 1 | I96: 1 | J96: 1 | L96: =MIN(C96,C96:J96) -> 1 | M96: =MAX(C96:J96) -> 1
A97: M298 - Number of hospital airborne infection isolation room (AIIR) beds per 100,000 population in the state, including hospitals with AIIR rooms within 50 miles from neighboring states | B97: 0.11570247 | C97: =('Measures Raw'!C97)/('Measure List'!$P$97) -> 0.7532694 | D97: =('Measures Raw'!D97)/('Measure List'!$P$97) -> 1 | E97: =('Measures Raw'!E97)/('Measure List'!$P$97) -> 0.6983435 | F97: =('Measures Raw'!F97)/('Measure List'!$P$97) -> 0.84481255 | G97: =('Measures Raw'!G97)/('Measure List'!$P$97) -> 0.98169137 | H97: =('Measures Raw'!H97)/('Measure List'!$P$97) -> 0.96338274 | I97: =('Measures Raw'!I97)/('Measure List'!$P$97) -> 0.78465562 | J97: =('Measures Raw'!J97)/('Measure List'!$P$97) -> 0.54489974 | L97: =MIN(C97,C97:J97) -> 0.54489974 | M97: =MAX(C97:J97) -> 1 | O97: 6.25 | P97: 11.47
A98: M299 - Risk-adjusted 30-day survival rate (percent) among Medicare beneficiaries hospitalized in the state for heart attack, heart failure, or pneumonia | B98: 0.072018884 | C98: 0 | D98: 0 | E98: 0 | F98: 0 | G98: 0 | H98: 0 | I98: 0 | J98: 0 | L98: =MIN(C98,C98:J98) -> 0 | M98: =MAX(C98:J98) -> 0
A99: M300 - Percent of hospitals in the state with a top quality ranking (Grade A) on the Hospital Safety Score | B99: 0.094450995 | C99: 1 | D99: 1 | E99: 1 | F99: 1 | G99: 1 | H99: 1 | I99: 1 | J99: 1 | L99: =MIN(C99,C99:J99) -> 1 | M99: =MAX(C99:J99) -> 1
A100: M148 - Median time in minutes from hospital admission decision to emergency department (ED) departure for patients admitted to hospitals in the state (identifier ED2) | B100: 0.082644626 | C100: =C90 -> 0.61866667 | D100: =D90 -> 0.74666667 | E100: =E90 -> 0.632 | F100: =F90 -> 1 | G100: =G90 -> 0.77066667 | H100: =H90 -> 0.76533333 | I100: =I90 -> 0.95466667 | J100: =J90 -> 0.62933333 | L100: =MIN(C100,C100:J100) -> 0.61866667 | M100: =MAX(C100:J100) -> 1 | O100: 232 | P100: 375
A101: Subdomain 4.3: Long-Term Care
A102: M308 - Average number of nurse (RN) staffing hours per resident per day in nursing homes in the state | B102: 0.12280702 | C102: =('Measures Raw'!C102)/('Measure List'!$O$102) -> 0.22222222 | D102: =('Measures Raw'!D102)/('Measure List'!$O$102) -> 0.17171717 | E102: =('Measures Raw'!E102)/('Measure List'!$O$102) -> 0.19191919 | F102: =('Measures Raw'!F102)/('Measure List'!$O$102) -> 0.19191919 | G102: =('Measures Raw'!G102)/('Measure List'!$O$102) -> 0.3030303 | H102: =('Measures Raw'!H102)/('Measure List'!$O$102) -> 0.15656566 | I102: =('Measures Raw'!I102)/('Measure List'!$O$102) -> 1 | J102: =('Measures Raw'!J102)/('Measure List'!$O$102) -> 0.25757576 | L102: =MIN(C102,C102:J102) -> 0.15656566 | M102: =MAX(C102:J102) -> 1 | N102: 0.31 | O102: 1.98
A103: M309 - Average number of nursing assistant (CNA) staffing hours per resident per day in nursing homes in the state | B103: 0.10526316 | C103: =('Measures Raw'!C103)/('Measure List'!$Q$103) -> 0.38779528 | D103: =('Measures Raw'!D103)/('Measure List'!$Q$103) -> 0.37007874 | E103: =('Measures Raw'!E103)/('Measure List'!$Q$103) -> 0.027559055 | F103: =('Measures Raw'!F103)/('Measure List'!$Q$103) -> 0.045275591 | G103: =('Measures Raw'!G103)/('Measure List'!$Q$103) -> 1 | H103: =('Measures Raw'!H103)/('Measure List'!$Q$103) -> 0.029527559 | I103: =('Measures Raw'!I103)/('Measure List'!$Q$103) -> 0.017716535 | J103: =('Measures Raw'!J103)/('Measure List'!$Q$103) -> 1 | L103: =MIN(C103,C103:J103) -> 0.017716535 | M103: =MAX(C103:J103) -> 1 | N103: 0.09 | O103: 5.08 | P103: 0.09 | Q103: 5.08
A104: M307 - Percent of long-stay nursing home residents in the state that are assessed and appropriately given the seasonal influenza vaccine | B104: 0.15789473 | C104: 1 | D104: 1 | E104: 1 | F104: 1 | G104: 1 | H104: 1 | I104: 1 | J104: 1 | L104: =MIN(C104,C104:J104) -> 1 | M104: =MAX(C104:J104) -> 1
A105: M310 - Average number of licensed practical nurse (LPN) staffing hours per resident per day in nursing homes in the state | B105: 0.10526316 | C105: =('Measures Raw'!C105)/('Measure List'!$O$105) -> 0.48333333 | D105: =('Measures Raw'!D105)/('Measure List'!$O$105) -> 0.28333333 | E105: =('Measures Raw'!E105)/('Measure List'!$O$105) -> 0.5 | F105: =('Measures Raw'!F105)/('Measure List'!$O$105) -> 0.41666667 | G105: =('Measures Raw'!G105)/('Measure List'!$O$105) -> 0.43333333 | H105: =('Measures Raw'!H105)/('Measure List'!$O$105) -> 0.35 | I105: =('Measures Raw'!I105)/('Measure List'!$O$105) -> 1 | J105: =('Measures Raw'!J105)/('Measure List'!$O$105) -> 0.68333333 | L105: =MIN(C105,C105:J105) -> 0.28333333 | M105: =MAX(C105:J105) -> 1 | N105: 0.17 | O105: 0.6
A106: M303B - Number of licensed skilled nursing facilities with deficiencies in compliance with CMS Emergency Preparedness requirements, per 100 facilities in the state (expressed as quintiles) | B106: 0.1754386 | C106: 1 | D106: 1 | E106: 1 | F106: 1 | G106: 1 | H106: 1 | I106: 1 | J106: 1 | L106: =MIN(C106,C106:J106) -> 1 | M106: =MAX(C106:J106) -> 1
A107: M23NH - Number of disease outbreaks in nursing homes or assisted living facilities per 1,000 certified nursing home residents in a state | B107: 0.15789473 | C107: 0 | D107: 0 | E107: 0 | F107: 0 | G107: 0 | H107: 0 | I107: 0 | J107: 0 | L107: =MIN(C107,C107:J107) -> 0 | M107: =MAX(C107:J107) -> 0
...

Sheet Measures Weighted
A1: Measures | B1: Individual Measure Weight | C1: QLD | D1: NSW | E1: VIC | F1: TAS | G1: ACT | H1: SA | I1: NT | J1: WA
A4: Domain 1: Health Security Surveillance
A5: Subdomain 1.1: Health Surveillance & Epidemiological Investigation | C5: =SUM(C7:C17) -> 0.99999999 | D5: =SUBTOTAL(109,D7:D17) -> 0.94086291 | E5: =SUBTOTAL(109,E7:E17) -> 0.97573032 | F5: =SUBTOTAL(109,F7:F17) -> 0.99999999 | G5: =SUBTOTAL(109,G7:G17) -> 0.99999999 | H5: =SUBTOTAL(109,H7:H17) -> 0.99999999 | I5: =SUBTOTAL(109,I7:I17) -> 0.93258426 | J5: =SUBTOTAL(109,J7:J17) -> 0.96629212
A6: M17* - State health department participates in the Behavioral Risk Factor Surveillance System (BRFSS) | C6: 1 | D6: 1 | E6: 1 | F6: 1 | G6: 1 | H6: 1 | I6: 1 | J6: 1 | L6: =MIN(C6,C6:J6) -> 1 | M6: =MAX(C6:J6) -> 1
A7: M18 - Number of epidemiologists per 100,000 population in the state, by quintile | B7: 0.13483146 | C7: =('Measure List'!C7)*'Measures Weighted'!$B$7 -> 0.13483146 | D7: =('Measure List'!D7)*'Measures Weighted'!$B$7 -> 0.13483146 | E7: =('Measure List'!E7)*'Measures Weighted'!$B$7 -> 0.13483146 | F7: =('Measure List'!F7)*'Measures Weighted'!$B$7 -> 0.13483146 | G7: =('Measure List'!G7)*'Measures Weighted'!$B$7 -> 0.13483146 | H7: =('Measure List'!H7)*'Measures Weighted'!$B$7 -> 0.13483146 | I7: =('Measure List'!I7)*'Measures Weighted'!$B$7 -> 0.13483146 | J7: =('Measure List'!J7)*'Measures Weighted'!$B$7 -> 0.13483146 | L7: =MIN(C7,C7:J7) -> 0.13483146 | M7: =MAX(C7:J7) -> 0.13483146
A8: M19* - State health department participates in the Epidemic Information Exchange (EpiX) System | C8: =('Measure List'!C8)*'Measures Weighted'!B8 -> 0 | D8: 1 | E8: 1 | F8: 1 | G8: 1 | H8: 1 | I8: 1 | J8: 1 | L8: =MIN(C8,C8:J8) -> 0 | M8: =MAX(C8:J8) -> 1
A9: M20* - State health department participates in the National Electronic Disease Surveillance System (NEDSS) | C9: =('Measure List'!C9)*'Measures Weighted'!B9 -> 0 | D9: 1 | E9: 1 | F9: 1 | G9: 1 | H9: 1 | I9: 1 | J9: 1 | L9: =MIN(C9,C9:J9) -> 0 | M9: =MAX(C9:J9) -> 1
A10: M22 - State health department has an electronic syndromic surveillance system that can report and exchange information | B10: 0.14981273 | C10: =('Measure List'!C10)*'Measures Weighted'!B10 -> 0.14981273 | D10: =('Measure List'!D10)*'Measures Weighted'!C10 -> 0.14981273 | E10: =('Measure List'!E10)*'Measures Weighted'!D10 -> 0.14981273 | F10: =('Measure List'!F10)*'Measures Weighted'!E10 -> 0.14981273 | G10: =('Measure List'!G10)*'Measures Weighted'!F10 -> 0.14981273 | H10: =('Measure List'!H10)*'Measures Weighted'!G10 -> 0.14981273 | I10: =('Measure List'!I10)*'Measures Weighted'!H10 -> 0.14981273 | J10: =('Measure List'!J10)*'Measures Weighted'!I10 -> 0.14981273 | L10: =MIN(C10,C10:J10) -> 0.14981273 | M10: =MAX(C10:J10) -> 0.14981273
A11: M217 - State public health laboratory has implemented the laboratory information management system (LIMS) to exchange laboratory information and results electronically with hospitals, clinical labs, state epidemiology units, and federal agencies | B11: 0.14981273 | C11: =('Measure List'!C11)*'Measures Weighted'!B11 -> 0.14981273 | D11: =('Measure List'!D11)*'Measures Weighted'!C11 -> 0.14981273 | E11: =('Measure List'!E11)*'Measures Weighted'!D11 -> 0.14981273 | F11: =('Measure List'!F11)*'Measures Weighted'!E11 -> 0.14981273 | G11: =('Measure List'!G11)*'Measures Weighted'!F11 -> 0.14981273 | H11: =('Measure List'!H11)*'Measures Weighted'!G11 -> 0.14981273 | I11: =('Measure List'!I11)*'Measures Weighted'!H11 -> 0.14981273 | J11: =('Measure List'!J11)*'Measures Weighted'!I11 -> 0.14981273 | L11: =MIN(C11,C11:J11) -> 0.14981273 | M11: =MAX(C11:J11) -> 0.14981273
A12: M220 - State has legal requirement for nongovernmental laboratories (e.g. clinical, hospital-based) in the state to send clinical isolates or specimens associated with reportable foodborne diseases to the state public health laboratory | B12: 0.14906368 | C12: =('Measure List'!C12)*'Measures Weighted'!B12 -> 0.14906368 | D12: =('Measure List'!D12)*'Measures Weighted'!C12 -> 0.14906368 | E12: =('Measure List'!E12)*'Measures Weighted'!D12 -> 0.14906368 | F12: =('Measure List'!F12)*'Measures Weighted'!E12 -> 0.14906368 | G12: =('Measure List'!G12)*'Measures Weighted'!F12 -> 0.14906368 | H12: =('Measure List'!H12)*'Measures Weighted'!G12 -> 0.14906368 | I12: =('Measure List'!I12)*'Measures Weighted'!H12 -> 0.14906368 | J12: =('Measure List'!J12)*'Measures Weighted'!I12 -> 0.14906368 | L12: =MIN(C12,C12:J12) -> 0.14906368 | M12: =MAX(C12:J12) -> 0.14906368
A13: M256* - State public health laboratory participates in either of the following federal surveillance programs: Foodborne Diseases Active Surveillance Network (FoodNet) or National Molecular Subtyping Network for Foodborne Disease Surveillance (PulseNet) | C13: =('Measure List'!C13)*'Measures Weighted'!B13 -> 0 | D13: 1 | E13: 1 | F13: 1 | G13: 1 | H13: 1 | I13: 1 | J13: 1 | L13: =MIN(C13,C13:J13) -> 0 | M13: =MAX(C13:J13) -> 1
A14: M23 - Percent of foodborne illness outbreaks reported to CDC by state and local public health departments for which a causative infectious agent is confirmed | B14: 0.13483146 | C14: =('Measure List'!C14)*'Measures Weighted'!$B$14 -> 0.13483146 | D14: =('Measure List'!D14)*'Measures Weighted'!$B$14 -> 0.075694381 | E14: =('Measure List'!E14)*'Measures Weighted'!$B$14 -> 0.1105618 | F14: =('Measure List'!F14)*'Measures Weighted'!$B$14 -> 0.13483146 | G14: =('Measure List'!G14)*'Measures Weighted'!$B$14 -> 0.13483146 | H14: =('Measure List'!H14)*'Measures Weighted'!$B$14 -> 0.13483146 | I14: =('Measure List'!I14)*'Measures Weighted'!$B$14 -> 0.067415729 | J14: =('Measure List'!J14)*'Measures Weighted'!$B$14 -> 0.10112359 | L14: =MIN(C14,C14:J14) -> 0.067415729 | M14: =MAX(C14:J14) -> 0.13483146
A15: M289* - State health department participates in a broad prevention collaborative addressing health care-associated infections (HAIs) | C15: =('Measure List'!C15)*'Measures Weighted'!B15 -> 0 | D15: 1 | E15: 1 | F15: 1 | G15: 1 | H15: 1 | I15: 1 | J15: 1 | L15: =MIN(C15,C15:J15) -> 0 | M15: =MAX(C15:J15) -> 1
A16: M290 - State has a public health veterinarian | B16: 0.13483146 | C16: =('Measure List'!C16)*'Measures Weighted'!B16 -> 0.13483146 | D16: =('Measure List'!D16)*'Measures Weighted'!C16 -> 0.13483146 | E16: =('Measure List'!E16)*'Measures Weighted'!D16 -> 0.13483146 | F16: =('Measure List'!F16)*'Measures Weighted'!E16 -> 0.13483146 | G16: =('Measure List'!G16)*'Measures Weighted'!F16 -> 0.13483146 | H16: =('Measure List'!H16)*'Measures Weighted'!G16 -> 0.13483146 | I16: =('Measure List'!I16)*'Measures Weighted'!H16 -> 0.13483146 | J16: =('Measure List'!J16)*'Measures Weighted'!I16 -> 0.13483146 | L16: =MIN(C16,C16:J16) -> 0.13483146 | M16: =MAX(C16:J16) -> 0.13483146
A17: M265 - State uses an Electronic Death Registration System (EDRS) | B17: 0.14681648 | C17: =('Measure List'!C17)*'Measures Weighted'!B17 -> 0.14681648 | D17: =('Measure List'!D17)*'Measures Weighted'!C17 -> 0.14681648 | E17: =('Measure List'!E17)*'Measures Weighted'!D17 -> 0.14681648 | F17: =('Measure List'!F17)*'Measures Weighted'!E17 -> 0.14681648 | G17: =('Measure List'!G17)*'Measures Weighted'!F17 -> 0.14681648 | H17: =('Measure List'!H17)*'Measures Weighted'!G17 -> 0.14681648 | I17: =('Measure List'!I17)*'Measures Weighted'!H17 -> 0.14681648 | J17: =('Measure List'!J17)*'Measures Weighted'!I17 -> 0.14681648 | L17: =MIN(C17,C17:J17) -> 0.14681648 | M17: =MAX(B17:J17) -> 0.14681648
A18: M801* - State public health laboratory participates in the Centers for Disease Control and Prevention (CDC)/(CDNA) Influenza surveillance program, and/or the World Health Organization (WHO) Influenza Surveillance Network | B18: 0.061692022 | C18: =('Measure List'!C18)*'Measures Weighted'!B18 -> 0.061692022 | D18: =('Measure List'!D18)*'Measures Weighted'!C18 -> 0.061692022 | E18: =('Measure List'!E18)*'Measures Weighted'!D18 -> 0.061692022 | F18: =('Measure List'!F18)*'Measures Weighted'!E18 -> 0.061692022 | G18: =('Measure List'!G18)*'Measures Weighted'!F18 -> 0.061692022 | H18: =('Measure List'!H18)*'Measures Weighted'!G18 -> 0.061692022 | I18: =('Measure List'!I18)*'Measures Weighted'!H18 -> 0.061692022 | J18: =('Measure List'!J18)*'Measures Weighted'!I18 -> 0.061692022 | L18: =MIN(C18,C18:J18) -> 0.061692022 | M18: =MAX(C18:J18) -> 0.061692022
A19: Subdomain 1.2: Biological Monitoring & Laboratory Testing | C19: =SUBTOTAL(109,C21:C37) -> 0.72770403 | D19: =SUBTOTAL(109,D21:D37) -> 0.72770403 | E19: =SUBTOTAL(109,E21:E37) -> 0.72770403 | F19: =SUBTOTAL(109,F21:F37) -> 0.72770403 | G19: =SUBTOTAL(109,G21:G37) -> 0.72770403 | H19: =SUBTOTAL(109,H21:H37) -> 0.72770403 | I19: =SUBTOTAL(109,I21:I37) -> 0.72770403 | J19: =SUBTOTAL(109,J21:J37) -> 0.72770403
A20: M1* - Public Health Emergency Preparedness (PHEP) Cooperative Agreement-funded Laboratory Response Network chemical (LRN-C) laboratories collect, package, and ship samples properly during an LRN-C exercise | B20: 0.065455727 | C20: =('Measure List'!C20)*'Measures Weighted'!B20 -> 0.065455727 | D20: 1 | E20: 1 | F20: 1 | G20: 1 | H20: 1 | I20: 1 | J20: 1 | L20: =MIN(C20,C20:J20) -> 0.065455727 | M20: =MAX(C20:J20) -> 1
A21: M1314 - State public health chemical OR radiological terrorism/threat laboratory is accredited or certified by the College of American Pathologists (CAP) or Clinical Laboratory Improvement Amendments (CLIA) | B21: 0.061692022 | C21: =('Measure List'!C21)*'Measures Weighted'!$B$21 -> 0.061692022 | D21: =('Measure List'!D21)*'Measures Weighted'!$B$21 -> 0.061692022 | E21: =('Measure List'!E21)*'Measures Weighted'!$B$21 -> 0.061692022 | F21: =('Measure List'!F21)*'Measures Weighted'!$B$21 -> 0.061692022 | G21: =('Measure List'!G21)*'Measures Weighted'!$B$21 -> 0.061692022 | H21: =('Measure List'!H21)*'Measures Weighted'!$B$21 -> 0.061692022 | I21: =('Measure List'!I21)*'Measures Weighted'!$B$21 -> 0.061692022 | J21: =('Measure List'!J21)*'Measures Weighted'!$B$21 -> 0.061692022 | L21: =MIN(C21,C21:J21) -> 0.061692022 | M21: =MAX(C21:J21) -> 0.061692022
A22: M208 - State public health laboratory has a permit for the importation and transportation of materials, organisms, and vectors controlled by USDA/APHIS (U.S. Department of Agriculture/ Animal and Plant Health Inspection Service) | B22: 0.058910154 | C22: =('Measure List'!C22)*'Measures Weighted'!B22 -> 0.058910154 | D22: =('Measure List'!D22)*'Measures Weighted'!C22 -> 0.058910154 | E22: =('Measure List'!E22)*'Measures Weighted'!D22 -> 0.058910154 | F22: =('Measure List'!F22)*'Measures Weighted'!E22 -> 0.058910154 | G22: =('Measure List'!G22)*'Measures Weighted'!F22 -> 0.058910154 | H22: =('Measure List'!H22)*'Measures Weighted'!G22 -> 0.058910154 | I22: =('Measure List'!I22)*'Measures Weighted'!H22 -> 0.058910154 | J22: =('Measure List'!J22)*'Measures Weighted'!I22 -> 0.058910154 | L22: =MIN(C22,C22:J22) -> 0.058910154 | M22: =MAX(C22:J22) -> 0.058910154
A23: M8 - State public health laboratory has a plan for a six to eight week surge in testing capacity to respond to an outbreak or other public health event, with enough staffing capacity to work five 12-hour days for six to eight weeks in response to an infectious disease outbreak, such as novel influenza A (H1N1) | B23: 0.065455727 | C23: =('Measure List'!C23)*'Measures Weighted'!B23 -> 0.065455727 | D23: =('Measure List'!D23)*'Measures Weighted'!C23 -> 0.065455727 | E23: =('Measure List'!E23)*'Measures Weighted'!D23 -> 0.065455727 | F23: =('Measure List'!F23)*'Measures Weighted'!E23 -> 0.065455727 | G23: =('Measure List'!G23)*'Measures Weighted'!F23 -> 0.065455727 | H23: =('Measure List'!H23)*'Measures Weighted'!G23 -> 0.065455727 | I23: =('Measure List'!I23)*'Measures Weighted'!H23 -> 0.065455727 | J23: =('Measure List'!J23)*'Measures Weighted'!I23 -> 0.065455727 | L23: =MIN(C23,C23:J23) -> 0.065455727 | M23: =MAX(C23:J23) -> 0.065455727
A24: M9 - State public health laboratory has a continuity of operations plan consistent with National Incident Management System (NIMS) guidelines | B24: 0.065455727 | C24: =('Measure List'!C24)*'Measures Weighted'!B24 -> 0.065455727 | D24: =('Measure List'!D24)*'Measures Weighted'!C24 -> 0.065455727 | E24: =('Measure List'!E24)*'Measures Weighted'!D24 -> 0.065455727 | F24: =('Measure List'!F24)*'Measures Weighted'!E24 -> 0.065455727 | G24: =('Measure List'!G24)*'Measures Weighted'!F24 -> 0.065455727 | H24: =('Measure List'!H24)*'Measures Weighted'!G24 -> 0.065455727 | I24: =('Measure List'!I24)*'Measures Weighted'!H24 -> 0.065455727 | J24: =('Measure List'!J24)*'Measures Weighted'!I24 -> 0.065455727 | L24: =MIN(C24,C24:J24) -> 0.065455727 | M24: =MAX(C24:J24) -> 0.065455727
A25: M11 - State public health laboratory has a plan to receive specimens from sentinel clinical laboratories during nonbusiness hours | B25: 0.065455727 | C25: =('Measure List'!C25)*'Measures Weighted'!B25 -> 0.065455727 | D25: =('Measure List'!D25)*'Measures Weighted'!C25 -> 0.065455727 | E25: =('Measure List'!E25)*'Measures Weighted'!D25 -> 0.065455727 | F25: =('Measure List'!F25)*'Measures Weighted'!E25 -> 0.065455727 | G25: =('Measure List'!G25)*'Measures Weighted'!F25 -> 0.065455727 | H25: =('Measure List'!H25)*'Measures Weighted'!G25 -> 0.065455727 | I25: =('Measure List'!I25)*'Measures Weighted'!H25 -> 0.065455727 | J25: =('Measure List'!J25)*'Measures Weighted'!I25 -> 0.065455727 | L25: =MIN(C25,C25:J25) -> 0.065455727 | M25: =MAX(C25:J25) -> 0.065455727
A26: M12 - State public health laboratory has the capacity in place to assure the timely transportation (pick-up and delivery) of samples 24/7/365 days to the appropriate public health Laboratory Response Network (LRN) reference laboratory | B26: 0.065455727 | C26: =('Measure List'!C26)*'Measures Weighted'!B26 -> 0.065455727 | D26: =('Measure List'!D26)*'Measures Weighted'!C26 -> 0.065455727 | E26: =('Measure List'!E26)*'Measures Weighted'!D26 -> 0.065455727 | F26: =('Measure List'!F26)*'Measures Weighted'!E26 -> 0.065455727 | G26: =('Measure List'!G26)*'Measures Weighted'!F26 -> 0.065455727 | H26: =('Measure List'!H26)*'Measures Weighted'!G26 -> 0.065455727 | I26: =('Measure List'!I26)*'Measures Weighted'!H26 -> 0.065455727 | J26: =('Measure List'!J26)*'Measures Weighted'!I26 -> 0.065455727 | L26: =MIN(C26,C26:J26) -> 0.065455727 | M26: =MAX(C26:J26) -> 0.065455727
A27: M211 - Percent of 10 tests for infectious diseases that the state public health laboratory provides or assures, including the study of the characteristics of a disease or organism inblood tests for arbovirus, hepatitis C, Legionella, measles, mumps, Neisseria meningitides serotyping, Plasmodium identification, Salmonella serotyping, Shigella serotyping, and Varicella | B27: 0.060219266 | C27: =('Measure List'!C27)*'Measures Weighted'!B27 -> 0.060219266 | D27: =('Measure List'!D27)*'Measures Weighted'!C27 -> 0.060219266 | E27: =('Measure List'!E27)*'Measures Weighted'!D27 -> 0.060219266 | F27: =('Measure List'!F27)*'Measures Weighted'!E27 -> 0.060219266 | G27: =('Measure List'!G27)*'Measures Weighted'!F27 -> 0.060219266 | H27: =('Measure List'!H27)*'Measures Weighted'!G27 -> 0.060219266 | I27: =('Measure List'!I27)*'Measures Weighted'!H27 -> 0.060219266 | J27: =('Measure List'!J27)*'Measures Weighted'!I27 -> 0.060219266 | L27: =MIN(C27,C27:J27) -> 0.060219266 | M27: =MAX(C27:J27) -> 0.060219266
A28: M216 - Percent of 15 tests for infectious diseases that the state public health laboratory provides or assures including: antimicrobial susceptibility testing confirmation for vancomycin resistant Staphylococcus aureus, Anaplasmosis (Anaplasma phagocytophilum), Babesiosis (Babesia sp.), botulinum toxin—mouse toxicity assay, Dengue Fever, Hantavirus serology, identification of unusual bacterial isolates, identification of fungal isolates, identification of parasites, Klebsiella pneumoniae Carbapenemase (blaKPC) by PCR, Legionella by culture or PCR, malaria by PCR, norovirus by PCR, Powassan virus, rabies | B28: 0.060873825 | C28: =('Measure List'!C28)*'Measures Weighted'!B28 -> 0.060873825 | D28: =('Measure List'!D28)*'Measures Weighted'!C28 -> 0.060873825 | E28: =('Measure List'!E28)*'Measures Weighted'!D28 -> 0.060873825 | F28: =('Measure List'!F28)*'Measures Weighted'!E28 -> 0.060873825 | G28: =('Measure List'!G28)*'Measures Weighted'!F28 -> 0.060873825 | H28: =('Measure List'!H28)*'Measures Weighted'!G28 -> 0.060873825 | I28: =('Measure List'!I28)*'Measures Weighted'!H28 -> 0.060873825 | J28: =('Measure List'!J28)*'Measures Weighted'!I28 -> 0.060873825 | L28: =MIN(C28,C28:J28) -> 0.060873825 | M28: =MAX(C28:J28) -> 0.060873825
A29: M2 - Percent of Laboratory Response Network biological (LRN-B) proficiency tests successfully passed by Public Health Emergency Preparedness (PHEP) Cooperative Agreement-funded laboratories | B29: 0.065455727 | C29: =('Measure List'!C29)*'Measures Weighted'!B29 -> 0.065455727 | D29: =('Measure List'!D29)*'Measures Weighted'!C29 -> 0.065455727 | E29: =('Measure List'!E29)*'Measures Weighted'!D29 -> 0.065455727 | F29: =('Measure List'!F29)*'Measures Weighted'!E29 -> 0.065455727 | G29: =('Measure List'!G29)*'Measures Weighted'!F29 -> 0.065455727 | H29: =('Measure List'!H29)*'Measures Weighted'!G29 -> 0.065455727 | I29: =('Measure List'!I29)*'Measures Weighted'!H29 -> 0.065455727 | J29: =('Measure List'!J29)*'Measures Weighted'!I29 -> 0.065455727 | L29: =MIN(C29,C29:J29) -> 0.065455727 | M29: =MAX(C29:J29) -> 0.065455727
A30: M3 - Percent of pulsed field gel electrophoresis (PFGE) subtyping data results for E. coli submitted to the CDC PulseNet national database within four working days of receiving samples from clinical laboratories | B30: 0.058910154 | C30: =('Measure List'!C30)*'Measures Weighted'!B30 -> 0 | D30: =('Measure List'!D30)*'Measures Weighted'!C30 -> 0 | E30: =('Measure List'!E30)*'Measures Weighted'!D30 -> 0 | F30: =('Measure List'!F30)*'Measures Weighted'!E30 -> 0 | G30: =('Measure List'!G30)*'Measures Weighted'!F30 -> 0 | H30: =('Measure List'!H30)*'Measures Weighted'!G30 -> 0 | I30: =('Measure List'!I30)*'Measures Weighted'!H30 -> 0 | J30: =('Measure List'!J30)*'Measures Weighted'!I30 -> 0 | L30: =MIN(C30,C30:J30) -> 0 | M30: =MAX(C30:J30) -> 0
A31: M5 - Percent of chemical agents correctly identified and quantified from unknown samples during unannounced proficiency testing during the state’s Laboratory Response Network (LRN) Emergency Response Pop Proficiency Test (PopPT) Exercise | B31: 0.065455727 | C31: =('Measure List'!C31)*'Measures Weighted'!B31 -> 0 | D31: =('Measure List'!D31)*'Measures Weighted'!C31 -> 0 | E31: =('Measure List'!E31)*'Measures Weighted'!D31 -> 0 | F31: =('Measure List'!F31)*'Measures Weighted'!E31 -> 0 | G31: =('Measure List'!G31)*'Measures Weighted'!F31 -> 0 | H31: =('Measure List'!H31)*'Measures Weighted'!G31 -> 0 | I31: =('Measure List'!I31)*'Measures Weighted'!H31 -> 0 | J31: =('Measure List'!J31)*'Measures Weighted'!I31 -> 0 | L31: =MIN(C31,C31:J31) -> 0 | M31: =MAX(C31:J31) -> 0
A32: M7 - Number of additional chemical agent detection methods—beyond the core methods—demonstrated by Laboratory Response Network chemical (LRN-C) Level 1 or 2 laboratories in the state | B32: 0.049419072 | C32: =('Measure List'!C32)*'Measures Weighted'!B32 -> 0.049419072 | D32: =('Measure List'!D32)*'Measures Weighted'!C32 -> 0.049419072 | E32: =('Measure List'!E32)*'Measures Weighted'!D32 -> 0.049419072 | F32: =('Measure List'!F32)*'Measures Weighted'!E32 -> 0.049419072 | G32: =('Measure List'!G32)*'Measures Weighted'!F32 -> 0.049419072 | H32: =('Measure List'!H32)*'Measures Weighted'!G32 -> 0.049419072 | I32: =('Measure List'!I32)*'Measures Weighted'!H32 -> 0.049419072 | J32: =('Measure List'!J32)*'Measures Weighted'!I32 -> 0.049419072 | L32: =MIN(C32,C32:J32) -> 0.049419072 | M32: =MAX(C32:J32) -> 0.049419072
A33: M286 - Number of chemical threat and multi-hazards preparedness exercises or drills the state public health laboratory conducts or participates in annually | B33: 0.049091794 | C33: =('Measure List'!C33)*'Measures Weighted'!B33 -> 0 | D33: =('Measure List'!D33)*'Measures Weighted'!C33 -> 0 | E33: =('Measure List'!E33)*'Measures Weighted'!D33 -> 0 | F33: =('Measure List'!F33)*'Measures Weighted'!E33 -> 0 | G33: =('Measure List'!G33)*'Measures Weighted'!F33 -> 0 | H33: =('Measure List'!H33)*'Measures Weighted'!G33 -> 0 | I33: =('Measure List'!I33)*'Measures Weighted'!H33 -> 0 | J33: =('Measure List'!J33)*'Measures Weighted'!I33 -> 0 | L33: =MIN(C33,C33:J33) -> 0 | M33: =MAX(C33:J33) -> 0
... A37: M911 - State has a high-capability laboratory to detect chemical threats (Level 1 or 2 LRN-C laboratory) | B37: 0.05956471 | C37: =('Measure List'!C37)*'Measures Weighted'!B37 -> 0.05956471 | D37: =('Measure List'!D37)*'Measures Weighted'!C37 -> 0.05956471 | E37: =('Measure List'!E37)*'Measures Weighted'!D37 -> 0.05956471 | F37: =('Measure List'!F37)*'Measures Weighted'!E37 -> 0.05956471 | G37: =('Measure List'!G37)*'Measures Weighted'!F37 -> 0.05956471 | H37: =('Measure List'!H37)*'Measures Weighted'!G37 -> 0.05956471 | I37: =('Measure List'!I37)*'Measures Weighted'!H37 -> 0.05956471 | J37: =('Measure List'!J37)*'Measures Weighted'!I37 -> 0.05956471 | L37: =MIN(C37,C37:J37) -> 0.05956471 | M37: =MAX(C37:J37) -> 0.05956471
A38: Domain 2: Community Planning & Engagement Coordination
A39: Subdomain 2.1: Cross-Sector / Community Collaboration | C39: =SUBTOTAL(109,C40:C45) -> 0.92111421 | D39: =SUBTOTAL(109,D40:D45) -> 0.92061281 | E39: =SUBTOTAL(109,E40:E45) -> 0.91208914 | F39: =SUBTOTAL(109,F40:F45) -> 1 | G39: =SUBTOTAL(109,G40:G45) -> 1 | H39: =SUBTOTAL(109,H40:H45) -> 0.93030641 | I39: =SUBTOTAL(109,I40:I45) -> 1 | J39: =SUBTOTAL(109,J40:J45) -> 0.93398329
A40: M87 - State health department is accredited by the Public Health Accreditation Board (PHAB) | B40: 0.14948933 | C40: =('Measure List'!C40)*'Measures Weighted'!$B$40 -> 0.14948933 | D40: =('Measure List'!D40)*'Measures Weighted'!$B$40 -> 0.14948933 | E40: =('Measure List'!E40)*'Measures Weighted'!$B$40 -> 0.14948933 | F40: =('Measure List'!F40)*'Measures Weighted'!$B$40 -> 0.14948933 | G40: =('Measure List'!G40)*'Measures Weighted'!$B$40 -> 0.14948933 | H40: =('Measure List'!H40)*'Measures Weighted'!$B$40 -> 0.14948933 | I40: =('Measure List'!I40)*'Measures Weighted'!$B$40 -> 0.14948933 | J40: =('Measure List'!J40)*'Measures Weighted'!$B$40 -> 0.14948933 | L40: =MIN(C40,C40:J40) -> 0.14948933 | M40: =MAX(C40:J40) -> 0.14948933
A41: M501 - Percent of the state’s population served by a comprehensive public health system, as determined through the National Longitudinal Survey of Public Health Systems | B41: 0.181987 | C41: =('Measure List'!C41)*'Measures Weighted'!$B$41 -> 0.181987 | D41: =('Measure List'!D41)*'Measures Weighted'!$B$41 -> 0.181987 | E41: =('Measure List'!E41)*'Measures Weighted'!$B$41 -> 0.181987 | F41: =('Measure List'!F41)*'Measures Weighted'!$B$41 -> 0.181987 | G41: =('Measure List'!G41)*'Measures Weighted'!$B$41 -> 0.181987 | H41: =('Measure List'!H41)*'Measures Weighted'!$B$41 -> 0.181987 | I41: =('Measure List'!I41)*'Measures Weighted'!$B$41 -> 0.181987 | J41: =('Measure List'!J41)*'Measures Weighted'!$B$41 -> 0.181987 | L41: =MIN(C41,C41:J41) -> 0.181987 | M41: =MAX(C41:J41) -> 0.181987
A42: M9031 - Percent of hospitals in the state that participate in health care preparedness coalitions supported through the federal Hospital Preparedness Program of the Office of the Assistant Secretary for Preparedness and Response | B42: 0.16713092 | C42: =('Measure List'!C42)*'Measures Weighted'!$B$42 -> 0.088245124 | D42: =('Measure List'!D42)*'Measures Weighted'!$B$42 -> 0.087743732 | E42: =('Measure List'!E42)*'Measures Weighted'!$B$42 -> 0.079220055 | F42: =('Measure List'!F42)*'Measures Weighted'!$B$42 -> 0.16713092 | G42: =('Measure List'!G42)*'Measures Weighted'!$B$42 -> 0.16713092 | H42: =('Measure List'!H42)*'Measures Weighted'!$B$42 -> 0.097437325 | I42: =('Measure List'!I42)*'Measures Weighted'!$B$42 -> 0.16713092 | J42: =('Measure List'!J42)*'Measures Weighted'!$B$42 -> 0.1011142 | L42: =MIN(C42,C42:J42) -> 0.079220055 | M42: =MAX(C42:J42) -> 0.16713092
A43: M9032 - Percent of emergency medical service agencies in the state that participate in health care preparedness coalitions supported through the federal Hospital Preparedness Program of the Office of the Assistant Secretary for Preparedness and Response | B43: 0.16713092 | C43: =('Measure List'!C43)*'Measures Weighted'!B43 -> 0.16713092 | D43: =('Measure List'!D43)*'Measures Weighted'!C43 -> 0.16713092 | E43: =('Measure List'!E43)*'Measures Weighted'!D43 -> 0.16713092 | F43: =('Measure List'!F43)*'Measures Weighted'!E43 -> 0.16713092 | G43: =('Measure List'!G43)*'Measures Weighted'!F43 -> 0.16713092 | H43: =('Measure List'!H43)*'Measures Weighted'!G43 -> 0.16713092 | I43: =('Measure List'!I43)*'Measures Weighted'!H43 -> 0.16713092 | J43: =('Measure List'!J43)*'Measures Weighted'!I43 -> 0.16713092 | L43: =MIN(C43,C43:J43) -> 0.16713092 | M43: =MAX(C43:J43) -> 0.16713092
A44: M9033 - Percent of emergency management agencies in the state that participate in health care preparedness coalitions supported through the federal Hospital Preparedness Program of the Office of the Assistant Secretary for Preparedness and Response | B44: 0.16713092 | C44: =('Measure List'!C44)*'Measures Weighted'!B44 -> 0.16713092 | D44: =('Measure List'!D44)*'Measures Weighted'!C44 -> 0.16713092 | E44: =('Measure List'!E44)*'Measures Weighted'!D44 -> 0.16713092 | F44: =('Measure List'!F44)*'Measures Weighted'!E44 -> 0.16713092 | G44: =('Measure List'!G44)*'Measures Weighted'!F44 -> 0.16713092 | H44: =('Measure List'!H44)*'Measures Weighted'!G44 -> 0.16713092 | I44: =('Measure List'!I44)*'Measures Weighted'!H44 -> 0.16713092 | J44: =('Measure List'!J44)*'Measures Weighted'!I44 -> 0.16713092 | L44: =MIN(C44,C44:J44) -> 0.16713092 | M44: =MAX(C44:J44) -> 0.16713092
A45: M9034 - Percent of local health departments in the state that participate in health care preparedness coalitions supported through the federal Hospital Preparedness Program of the Office of the Assistant Secretary for Preparedness and Response | B45: 0.16713092 | C45: =('Measure List'!C45)*'Measures Weighted'!B45 -> 0.16713092 | D45: =('Measure List'!D45)*'Measures Weighted'!C45 -> 0.16713092 | E45: =('Measure List'!E45)*'Measures Weighted'!D45 -> 0.16713092 | F45: =('Measure List'!F45)*'Measures Weighted'!E45 -> 0.16713092 | G45: =('Measure List'!G45)*'Measures Weighted'!F45 -> 0.16713092 | H45: =('Measure List'!H45)*'Measures Weighted'!G45 -> 0.16713092 | I45: =('Measure List'!I45)*'Measures Weighted'!H45 -> 0.16713092 | J45: =('Measure List'!J45)*'Measures Weighted'!I45 -> 0.16713092 | L45: =MIN(C45,C45:J45) -> 0.16713092 | M45: =MAX(C45:J45) -> 0.16713092
A46: Domain 2: Community Planning & Engagement Coordination
A47: Subdomain 2.2: Children & Other At-Risk Populations | C47: =SUBTOTAL(109,C48:C50,C51) -> 0.59548855 | D47: =SUBTOTAL(109,D48:D50,D51) -> 0.60040955 | E47: =SUBTOTAL(109,E48:E50,E51) -> 0.61515724 | F47: =SUBTOTAL(109,F48:F50,F51) -> 0.60546551 | G47: =SUBTOTAL(109,G48:G50,G51) -> 0.57893357 | H47: =SUBTOTAL(109,H48:H50,H51) -> 0.61812835 | I47: =SUBTOTAL(109,I48:I50,I51) -> 0.66326533 | J47: =SUBTOTAL(109,J48:J50,J51) -> 0.58784688
A48: M163 - Number of pediatricians per 100,000 population under 18 years old in the state | B48: 0.20408164 | C48: =('Measure List'!C48)*'Measures Weighted'!$B$48 -> 0.16015856 | D48: =('Measure List'!D48)*'Measures Weighted'!$B$48 -> 0.17462104 | E48: =('Measure List'!E48)*'Measures Weighted'!$B$48 -> 0.16551503 | F48: =('Measure List'!F48)*'Measures Weighted'!$B$48 -> 0.15105255 | G48: =('Measure List'!G48)*'Measures Weighted'!$B$48 -> 0.14837432 | H48: =('Measure List'!H48)*'Measures Weighted'!$B$48 -> 0.1708715 | I48: =('Measure List'!I48)*'Measures Weighted'!$B$48 -> 0.20408164 | J48: =('Measure List'!J48)*'Measures Weighted'!$B$48 -> 0.16444374 | L48: =MIN(C48,C48:J48) -> 0.14837432 | M48: =MAX(C48:J48) -> 0.20408164 | P48: 27.7 | Q48: 38.1 | R48: =Q48-P48 -> 10.4
A49: M164 - Number of obstetricians and gynecologists per 100,000 female population in the state | B49: 0.18367347 | C49: =('Measure List'!C49)*'Measures Weighted'!$B$49 -> 0.15981977 | D49: =('Measure List'!D49)*'Measures Weighted'!$B$49 -> 0.15027829 | E49: =('Measure List'!E49)*'Measures Weighted'!$B$49 -> 0.17413199 | F49: =('Measure List'!F49)*'Measures Weighted'!$B$49 -> 0.17890273 | G49: =('Measure List'!G49)*'Measures Weighted'!$B$49 -> 0.15504903 | H49: =('Measure List'!H49)*'Measures Weighted'!$B$49 -> 0.17174662 | I49: =('Measure List'!I49)*'Measures Weighted'!$B$49 -> 0.18367347 | J49: =('Measure List'!J49)*'Measures Weighted'!$B$49 -> 0.14789292 | L49: =MIN(C49,C49:J49) -> 0.14789292 | M49: =MAX(C49:J49) -> 0.18367347 | N49: 6.2 | O49: 7.7
A50: M170 - Percent of state children (0-18 years) who reside within 50 miles of a pediatric trauma center, including out-of-state centers | B50: 0.27551022 | C50: =('Measure List'!C50)*'Measures Weighted'!$B$50 -> 0.27551022 | D50: =('Measure List'!D50)*'Measures Weighted'!$B$50 -> 0.27551022 | E50: =('Measure List'!E50)*'Measures Weighted'!$B$50 -> 0.27551022 | F50: =('Measure List'!F50)*'Measures Weighted'!$B$50 -> 0.27551022 | G50: =('Measure List'!G50)*'Measures Weighted'!$B$50 -> 0.27551022 | H50: =('Measure List'!H50)*'Measures Weighted'!$B$50 -> 0.27551022 | I50: =('Measure List'!I50)*'Measures Weighted'!$B$50 -> 0.27551022 | J50: =('Measure List'!J50)*'Measures Weighted'!$B$50 -> 0.27551022 | L50: =MIN(C50,C50:J50) -> 0.27551022 | M50: =MAX(C50:J50) -> 0.27551022
A51: M53B - Percent of youth who missed one or more days of school in past month due to concerns about safety | B51: 0.33673468 | C51: =('Measure List'!C51)*'Measures Weighted'!B51 -> 0 | D51: =('Measure List'!D51)*'Measures Weighted'!C51 -> 0 | E51: =('Measure List'!E51)*'Measures Weighted'!D51 -> 0 | F51: =('Measure List'!F51)*'Measures Weighted'!E51 -> 0 | G51: =('Measure List'!G51)*'Measures Weighted'!F51 -> 0 | H51: =('Measure List'!H51)*'Measures Weighted'!G51 -> 0 | I51: =('Measure List'!I51)*'Measures Weighted'!H51 -> 0 | J51: =('Measure List'!J51)*'Measures Weighted'!I51 -> 0 | L51: =MIN(C51,C51:J51) -> 0 | M51: =MAX(C51:J51) -> 0
A52: Subdomain 2.3: Management of Volunteers during Emergencies | C52: =SUBTOTAL(109,C54:C58) -> 0.20546164 | D52: =SUBTOTAL(109,D54:D58) -> 0.20546164 | E52: =SUBTOTAL(109,E54:E58) -> 0.20546164 | F52: =SUBTOTAL(109,F54:F58) -> 0.20546164 | G52: =SUBTOTAL(109,G54:G58) -> 0.20546164 | H52: =SUBTOTAL(109,H54:H58) -> 0.20546164 | I52: =SUBTOTAL(109,I54:I58) -> 0.20546164 | J52: =SUBTOTAL(109,J54:J58) -> 0.20546164 | L52: =MIN(C52,C52:J52) -> 0.20546164 | M52: =MAX(C52:J52) -> 0.20546164
A53: M36* - State participates in Emergency System for Advance Registration of Volunteer Health Professionals (ESAR-VHP) Program and has a state volunteer registry | C53: =('Measure List'!C53)*'Measures Weighted'!B53 -> 0 | D53: 1 | E53: 1 | F53: 1 | G53: 1 | H53: 1 | I53: 1 | J53: 1 | L53: =MIN(C53,C53:J53) -> 0 | M53: =MAX(C53:J53) -> 1
A54: M266 - Percent of the state’s population who live in a county with a Community Emergency Response Teams (CERT) (SES) | B54: 0.20546164 | C54: =('Measure List'!C54)*'Measures Weighted'!$B$54 -> 0.20546164 | D54: =('Measure List'!D54)*'Measures Weighted'!$B$54 -> 0.20546164 | E54: =('Measure List'!E54)*'Measures Weighted'!$B$54 -> 0.20546164 | F54: =('Measure List'!F54)*'Measures Weighted'!$B$54 -> 0.20546164 | G54: =('Measure List'!G54)*'Measures Weighted'!$B$54 -> 0.20546164 | H54: =('Measure List'!H54)*'Measures Weighted'!$B$54 -> 0.20546164 | I54: =('Measure List'!I54)*'Measures Weighted'!$B$54 -> 0.20546164 | J54: =('Measure List'!J54)*'Measures Weighted'!$B$54 -> 0.20546164 | L54: =MIN(C54,C54:J54) -> 0.20546164 | M54: =MAX(C54:J54) -> 0.20546164
A55: M346 - Number of total Medical Reserve Corps members per 100,000 population in the state | B55: 0.21196358 | C55: =('Measure List'!C55)*'Measures Weighted'!B55 -> 0 | D55: =('Measure List'!D55)*'Measures Weighted'!C55 -> 0 | E55: =('Measure List'!E55)*'Measures Weighted'!D55 -> 0 | F55: =('Measure List'!F55)*'Measures Weighted'!E55 -> 0 | G55: =('Measure List'!G55)*'Measures Weighted'!F55 -> 0 | H55: =('Measure List'!H55)*'Measures Weighted'!G55 -> 0 | I55: =('Measure List'!I55)*'Measures Weighted'!H55 -> 0 | J55: =('Measure List'!J55)*'Measures Weighted'!I55 -> 0 | L55: =MIN(C55,C55:J55) -> 0 | M55: =MAX(C55:J55) -> 0
A56: M176 - Number of Medical Reserve Corps (MRC) members who are physicians per 100,000 population in the state | B56: 0.19505851 | C56: =('Measure List'!C56)*'Measures Weighted'!B56 -> 0 | D56: =('Measure List'!D56)*'Measures Weighted'!C56 -> 0 | E56: =('Measure List'!E56)*'Measures Weighted'!D56 -> 0 | F56: =('Measure List'!F56)*'Measures Weighted'!E56 -> 0 | G56: =('Measure List'!G56)*'Measures Weighted'!F56 -> 0 | H56: =('Measure List'!H56)*'Measures Weighted'!G56 -> 0 | I56: =('Measure List'!I56)*'Measures Weighted'!H56 -> 0 | J56: =('Measure List'!J56)*'Measures Weighted'!I56 -> 0 | L56: =MIN(C56,C56:J56) -> 0 | M56: =MAX(C56:J56) -> 0
A57: M179 - Number of Medical Reserve Corps (MRC) members who are nurses or advanced practice nurses per 100,000 population in the state | B57: 0.20806241 | C57: =('Measure List'!C57)*'Measures Weighted'!B57 -> 0 | D57: =('Measure List'!D57)*'Measures Weighted'!C57 -> 0 | E57: =('Measure List'!E57)*'Measures Weighted'!D57 -> 0 | F57: =('Measure List'!F57)*'Measures Weighted'!E57 -> 0 | G57: =('Measure List'!G57)*'Measures Weighted'!F57 -> 0 | H57: =('Measure List'!H57)*'Measures Weighted'!G57 -> 0 | I57: =('Measure List'!I57)*'Measures Weighted'!H57 -> 0 | J57: =('Measure List'!J57)*'Measures Weighted'!I57 -> 0 | L57: =MIN(C57,C57:J57) -> 0 | M57: =MAX(C57:J57) -> 0 | O57: Percentage 100
A58: M186 - Number of Medical Reserve Corps (MRC) members who are other health professionals per 100,000 population in the state | B58: 0.17945383 | C58: =('Measure List'!C58)*'Measures Weighted'!B58 -> 0 | D58: =('Measure List'!D58)*'Measures Weighted'!C58 -> 0 | E58: =('Measure List'!E58)*'Measures Weighted'!D58 -> 0 | F58: =('Measure List'!F58)*'Measures Weighted'!E58 -> 0 | G58: =('Measure List'!G58)*'Measures Weighted'!F58 -> 0 | H58: =('Measure List'!H58)*'Measures Weighted'!G58 -> 0 | I58: =('Measure List'!I58)*'Measures Weighted'!H58 -> 0 | J58: =('Measure List'!J58)*'Measures Weighted'!I58 -> 0 | L58: =MIN(C58,C58:J58) -> 0 | M58: =MAX(C58:J58) -> 0 | O58: 100
A59: Subdomain 2.4: Social Capital & Cohesion | C59: =SUBTOTAL(109,C60:C62) -> 0.8223647 | D59: =SUBTOTAL(109,D60:D62) -> 0.8858486 | E59: =SUBTOTAL(109,E60:E62) -> 0.9075749 | F59: =SUBTOTAL(109,F60:F62) -> 0.98812061 | G59: =SUBTOTAL(109,G60:G62) -> 0.90703327 | H59: =SUBTOTAL(109,H60:H62) -> 0.9885309 | I59: =SUBTOTAL(109,I60:I62) -> 0.77068838 | J59: =SUBTOTAL(109,J60:J62) -> 0.90673053
A60: M175 - Percent of voting-eligible population in the state participating in the highest office election | B60: 0.32394364 | C60: =('Measure List'!C60)*'Measures Weighted'!$B$60 -> 0.30904224 | D60: =('Measure List'!D60)*'Measures Weighted'!$B$60 -> 0.31811266 | E60: =('Measure List'!E60)*'Measures Weighted'!$B$60 -> 0.3132535 | F60: =('Measure List'!F60)*'Measures Weighted'!$B$60 -> 0.31390139 | G60: =('Measure List'!G60)*'Measures Weighted'!$B$60 -> 0.32070421 | H60: =('Measure List'!H60)*'Measures Weighted'!$B$60 -> 0.31422534 | I60: =('Measure List'!I60)*'Measures Weighted'!$B$60 -> 0.27502815 | J60: =('Measure List'!J60)*'Measures Weighted'!$B$60 -> 0.31228167 | L60: =MIN(C60,C60:J60) -> 0.27502815 | M60: =MAX(C60:J60) -> 0.32070421
A61: M188 - Percent of adults in the state who volunteer in their communities | B61: 0.33802816 | C61: =('Measure List'!C61)*'Measures Weighted'!$B$61 -> 0.24709124 | D61: =('Measure List'!D61)*'Measures Weighted'!$B$61 -> 0.28107777 | E61: =('Measure List'!E61)*'Measures Weighted'!$B$61 -> 0.2966932 | F61: =('Measure List'!F61)*'Measures Weighted'!$B$61 -> 0.33619105 | G61: =('Measure List'!G61)*'Measures Weighted'!$B$61 -> 0.33802816 | H61: =('Measure List'!H61)*'Measures Weighted'!$B$61 -> 0.33710961 | I61: =('Measure List'!I61)*'Measures Weighted'!$B$61 -> 0.26362522 | J61: =('Measure List'!J61)*'Measures Weighted'!$B$61 -> 0.31414574 | L61: =MIN(C61,C61:J61) -> 0.24709124 | M61: =MAX(C61:J61) -> 0.33802816 | N61: =MAX(C61:J61) -> 0.33802816 | O61: 17.1 | P61: 23.3
A62: M189 - Number of annual volunteer hours per state resident, 15 years and older | B62: 0.33802816 | C62: =('Measure List'!C62)*'Measures Weighted'!$B$62 -> 0.26623122 | D62: =('Measure List'!D62)*'Measures Weighted'!$B$62 -> 0.28665817 | E62: =('Measure List'!E62)*'Measures Weighted'!$B$62 -> 0.2976282 | F62: =('Measure List'!F62)*'Measures Weighted'!$B$62 -> 0.33802816 | G62: =('Measure List'!G62)*'Measures Weighted'!$B$62 -> 0.2483009 | H62: =('Measure List'!H62)*'Measures Weighted'!$B$62 -> 0.33719595 | I62: =('Measure List'!I62)*'Measures Weighted'!$B$62 -> 0.232035 | J62: =('Measure List'!J62)*'Measures Weighted'!$B$62 -> 0.28030312 | L62: =MIN(C62,C62:J62) -> 0.232035 | M62: =MAX(C62:J62) -> 0.33802816 | O62: 30.67 | P62: 44.68
A63: Domain 3: Incident & Information Management
A64: Subdomain 3.1: Incident Management | C64: =SUBTOTAL(109,C66:C71) -> 0.74117649 | D64: =SUBTOTAL(109,D66:D71) -> 0.74117649 | E64: =SUBTOTAL(109,E66:E71) -> 0.74117649 | F64: =SUBTOTAL(109,F66:F71) -> 0.74117649 | G64: =SUBTOTAL(109,G66:G71) -> 0.74117649 | H64: =SUBTOTAL(109,H66:H71) -> 0.74117649 | I64: =SUBTOTAL(109,I66:I71) -> 0.74117649 | J64: =SUBTOTAL(109,J66:J71) -> 0.74117649
A65: M10* - State public health laboratory uses a rapid method (e.g., Health Alert Network (HAN), blast e-mail or fax) to send messages to their sentinel clinical laboratories and other partners | C65: =('Measure List'!C65)*'Measures Weighted'!B65 -> 0 | D65: =('Measure List'!D65)*'Measures Weighted'!C65 -> 0 | E65: =('Measure List'!E65)*'Measures Weighted'!D65 -> 0 | F65: =('Measure List'!F65)*'Measures Weighted'!E65 -> 0 | G65: =('Measure List'!G65)*'Measures Weighted'!F65 -> 0 | H65: =('Measure List'!H65)*'Measures Weighted'!G65 -> 0 | I65: =('Measure List'!I65)*'Measures Weighted'!H65 -> 0 | J65: =('Measure List'!J65)*'Measures Weighted'!I65 -> 0 | L65: =MIN(C65,C65:J65) -> 0 | M65: =MAX(C65:J65) -> 0
A66: M84 - State all hazards emergency management program is accredited by the Emergency Management Accreditation Program (EMAP) | B66: 0.25882354 | C66: =('Measure List'!C66)*'Measures Weighted'!$B$66 -> 0.25882354 | D66: =('Measure List'!D66)*'Measures Weighted'!$B$66 -> 0.25882354 | E66: =('Measure List'!E66)*'Measures Weighted'!$B$66 -> 0.25882354 | F66: =('Measure List'!F66)*'Measures Weighted'!$B$66 -> 0.25882354 | G66: =('Measure List'!G66)*'Measures Weighted'!$B$66 -> 0.25882354 | H66: =('Measure List'!H66)*'Measures Weighted'!$B$66 -> 0.25882354 | I66: =('Measure List'!I66)*'Measures Weighted'!$B$66 -> 0.25882354 | J66: =('Measure List'!J66)*'Measures Weighted'!$B$66 -> 0.25882354 | L66: =MIN(C66,C66:J66) -> 0.25882354 | M66: =MAX(C66:J66) -> 0.25882354
A67: M107 - Percent of local health departments in the state with an emergency preparedness coordinator for states with local health departments | B67: 0.24705882 | C67: =('Measure List'!C67)*'Measures Weighted'!$B$67 -> 0.24705882 | D67: =('Measure List'!D67)*'Measures Weighted'!$B$67 -> 0.24705882 | E67: =('Measure List'!E67)*'Measures Weighted'!$B$67 -> 0.24705882 | F67: =('Measure List'!F67)*'Measures Weighted'!$B$67 -> 0.24705882 | G67: =('Measure List'!G67)*'Measures Weighted'!$B$67 -> 0.24705882 | H67: =('Measure List'!H67)*'Measures Weighted'!$B$67 -> 0.24705882 | I67: =('Measure List'!I67)*'Measures Weighted'!$B$67 -> 0.24705882 | J67: =('Measure List'!J67)*'Measures Weighted'!$B$67 -> 0.24705882 | L67: =MIN(C67,C67:J67) -> 0.24705882 | M67: =MAX(C67:J67) -> 0.24705882
A68: M229* - State public health laboratory has a 24/7/365 contact system in place to use in case of an emergency | B68: 0.25882354 | C68: =('Measure List'!C68)*'Measures Weighted'!B68 -> 0.25882354 | D68: 1 | E68: 1 | F68: 1 | G68: 1 | H68: 1 | I68: 1 | J68: 1 | L68: =MIN(C68,C68:J68) -> 0.25882354 | M68: =MAX(C68:J68) -> 1
A69: M150* - State uses a system for tracking hospital bed availability during emergencies | B69: 0.23529412 | C69: =('Measure List'!C69)*'Measures Weighted'!B69 -> 0.23529412 | D69: =('Measure List'!D69)*'Measures Weighted'!C69 -> 0.23529412 | E69: =('Measure List'!E69)*'Measures Weighted'!D69 -> 0.23529412 | F69: =('Measure List'!F69)*'Measures Weighted'!E69 -> 0.23529412 | G69: =('Measure List'!G69)*'Measures Weighted'!F69 -> 0.23529412 | H69: =('Measure List'!H69)*'Measures Weighted'!G69 -> 0.23529412 | I69: =('Measure List'!I69)*'Measures Weighted'!H69 -> 0.23529412 | J69: =('Measure List'!J69)*'Measures Weighted'!I69 -> 0.23529412 | L69: =MIN(C69,C69:J69) -> 0.23529412 | M69: =MAX(C69:J69) -> 0.23529412
A70: M701 - Average number of minutes for state health department staff with incident management lead roles to report for immediate emergency response duty | B70: 0.25882354 | C70: =('Measure List'!C70)*'Measures Weighted'!B70 -> 0 | D70: =('Measure List'!D70)*'Measures Weighted'!C70 -> 0 | E70: =('Measure List'!E70)*'Measures Weighted'!D70 -> 0 | F70: =('Measure List'!F70)*'Measures Weighted'!E70 -> 0 | G70: =('Measure List'!G70)*'Measures Weighted'!F70 -> 0 | H70: =('Measure List'!H70)*'Measures Weighted'!G70 -> 0 | I70: =('Measure List'!I70)*'Measures Weighted'!H70 -> 0 | J70: =('Measure List'!J70)*'Measures Weighted'!I70 -> 0 | L70: =MIN(C70,C70:J70) -> 0 | M70: =MAX(C70:J70) -> 0
A71: M344 - State has adopted the Nurse Licensure Compact (NLC) | B71: 0.23529412 | C71: =('Measure List'!C71)*'Measures Weighted'!B71 -> 0.23529412 | D71: =('Measure List'!D71)*'Measures Weighted'!C71 -> 0.23529412 | E71: =('Measure List'!E71)*'Measures Weighted'!D71 -> 0.23529412 | F71: =('Measure List'!F71)*'Measures Weighted'!E71 -> 0.23529412 | G71: =('Measure List'!G71)*'Measures Weighted'!F71 -> 0.23529412 | H71: =('Measure List'!H71)*'Measures Weighted'!G71 -> 0.23529412 | I71: =('Measure List'!I71)*'Measures Weighted'!H71 -> 0.23529412 | J71: =('Measure List'!J71)*'Measures Weighted'!I71 -> 0.23529412 | L71: =MIN(C71,C71:J71) -> 0.23529412 | M71: =MAX(C71:J71) -> 0.23529412
A72: M338* - State requires healthcare facilities to report healthcare-associated infections to the Centers for Disease Control and Prevention's (CDC's) National Health Safety Network (NHSN) or other systems | C72: =('Measure List'!C72)*'Measures Weighted'!B72 -> 0 | D72: =('Measure List'!D72)*'Measures Weighted'!C72 -> 0 | E72: =('Measure List'!E72)*'Measures Weighted'!D72 -> 0 | F72: =('Measure List'!F72)*'Measures Weighted'!E72 -> 0 | G72: =('Measure List'!G72)*'Measures Weighted'!F72 -> 0 | H72: =('Measure List'!H72)*'Measures Weighted'!G72 -> 0 | I72: =('Measure List'!I72)*'Measures Weighted'!H72 -> 0 | J72: =('Measure List'!J72)*'Measures Weighted'!I72 -> 0 | L72: =MIN(C72,C72:J72) -> 0 | M72: =MAX(C72:J72) -> 0
A73: M341* - State law includes a general provision regulating the release of personally identifiable information (PII) held by the health department | C73: =('Measure List'!C73)*'Measures Weighted'!B73 -> 0 | D73: =('Measure List'!D73)*'Measures Weighted'!C73 -> 0 | E73: =('Measure List'!E73)*'Measures Weighted'!D73 -> 0 | F73: =('Measure List'!F73)*'Measures Weighted'!E73 -> 0 | G73: =('Measure List'!G73)*'Measures Weighted'!F73 -> 0 | H73: =('Measure List'!H73)*'Measures Weighted'!G73 -> 0 | I73: =('Measure List'!I73)*'Measures Weighted'!H73 -> 0 | J73: =('Measure List'!J73)*'Measures Weighted'!I73 -> 0 | L73: =MIN(C73,C73:J73) -> 0 | M73: =MAX(C73:J73) -> 0
A74: M342* - State law requires healthcare facilities to report communicable diseases to a health department | C74: =('Measure List'!C74)*'Measures Weighted'!B74 -> 0 | D74: 1 | E74: 1 | F74: 1 | G74: 1 | H74: 1 | I74: 1 | J74: 1 | L74: =MIN(C74,C74:J74) -> 0 | M74: =MAX(C74:J74) -> 1
A75: M345* - State has adopted Emergency Management Assistance Compact (EMAC) legislation | C75: =('Measure List'!C75)*'Measures Weighted'!B75 -> 0 | D75: 1 | E75: 1 | F75: 1 | G75: 1 | H75: 1 | I75: 1 | J75: 1 | L75: =MIN(C75,C75:J75) -> 0 | M75: =MAX(C75:J75) -> 1
A76: Subdomain 3.2: Information Management | C76: =SUBTOTAL(109,C78:C81) -> 0.55683707 | D76: =SUBTOTAL(109,D78:D81) -> 0.68725241 | E76: =SUBTOTAL(109,E78:E81) -> 0.64916934 | F76: =SUBTOTAL(109,F78:F81) -> 0.49431311 | G76: =SUBTOTAL(109,G78:G81) -> 0.68220449 | H76: =SUBTOTAL(109,H78:H81) -> 0.53035145 | I76: =SUBTOTAL(109,I78:I81) -> 0.74824283 | J76: =SUBTOTAL(109,J78:J81) -> 0.50709266
A77: M64* - State has a public information and communication plan developed for a mass prophylaxis campaign | C77: =('Measure List'!C77)*'Measures Weighted'!B77 -> 0 | D77: =('Measure List'!D77)*'Measures Weighted'!C77 -> 0 | E77: =('Measure List'!E77)*'Measures Weighted'!D77 -> 0 | F77: =('Measure List'!F77)*'Measures Weighted'!E77 -> 0 | G77: =('Measure List'!G77)*'Measures Weighted'!F77 -> 0 | H77: =('Measure List'!H77)*'Measures Weighted'!G77 -> 0 | I77: =('Measure List'!I77)*'Measures Weighted'!H77 -> 0 | J77: =('Measure List'!J77)*'Measures Weighted'!I77 -> 0 | L77: =MIN(C77,C77:J77) -> 0 | M77: =MAX(C77:J77) -> 0
A78: M228 - Percent of households in the state with broadband in the home | B78: 0.25559106 | C78: =('Measure List'!C78)*'Measures Weighted'!$B$78 -> 0.22057509 | D78: =('Measure List'!D78)*'Measures Weighted'!$B$78 -> 0.21776359 | E78: =('Measure List'!E78)*'Measures Weighted'!$B$78 -> 0.22185304 | F78: =('Measure List'!F78)*'Measures Weighted'!$B$78 -> 0.21316295 | G78: =('Measure List'!G78)*'Measures Weighted'!$B$78 -> 0.24051119 | H78: =('Measure List'!H78)*'Measures Weighted'!$B$78 -> 0.21086263 | I78: =('Measure List'!I78)*'Measures Weighted'!$B$78 -> 0.22747605 | J78: =('Measure List'!J78)*'Measures Weighted'!$B$78 -> 0.2259425 | L78: =MIN(C78,C78:J78) -> 0.21086263 | M78: =MAX(C78:J78) -> 0.24051119
A79: M906 - Percent of hospitals in the state that have demonstrated meaningful use of certified electronic health record technology (CEHRT). This includes the demonstration of meaningful use through either the Medicare or Medicaid EHR Incentive Programs. Critical Access hospitals are facilities with no more than 25 beds and located in a rural area further than 35 miles from the nearest hospital, and/or are located in a mountainous region | B79: 0.23961662 | C79: =('Measure List'!C79)*'Measures Weighted'!$B$79 -> 0.055111822 | D79: =('Measure List'!D79)*'Measures Weighted'!$B$79 -> 0.18833866 | E79: =('Measure List'!E79)*'Measures Weighted'!$B$79 -> 0.14616614 | F79: =('Measure List'!F79)*'Measures Weighted'!$B$79 -> 0 | G79: =('Measure List'!G79)*'Measures Weighted'!$B$79 -> 0.16054313 | H79: =('Measure List'!H79)*'Measures Weighted'!$B$79 -> 0.038338659 | I79: =('Measure List'!I79)*'Measures Weighted'!$B$79 -> 0.23961662 | J79: =('Measure List'!J79)*'Measures Weighted'!$B$79 -> 0 | L79: =MIN(C79,C79:J79) -> 0 | M79: =MAX(C79:J79) -> 0.23961662
A80: M907 - Percent of hospitals in the state that have demonstrated meaningful use of certified electronic health record technology (CEHRT). This includes the demonstration of meaningful use through either the Medicare or Medicaid EHR Incentive Programs. Critical Access hospitals are facilities with no more than 25 beds and located in a rural area further than 35 miles from the nearest hospital, and/or are located in a mountainous region | B80: 0.22364219 | C80: =('Measure List'!C80)*'Measures Weighted'!B80 -> 0 | D80: =('Measure List'!D80)*'Measures Weighted'!C80 -> 0 | E80: =('Measure List'!E80)*'Measures Weighted'!D80 -> 0 | F80: =('Measure List'!F80)*'Measures Weighted'!E80 -> 0 | G80: =('Measure List'!G80)*'Measures Weighted'!F80 -> 0 | H80: =('Measure List'!H80)*'Measures Weighted'!G80 -> 0 | I80: =('Measure List'!I80)*'Measures Weighted'!H80 -> 0 | J80: =('Measure List'!J80)*'Measures Weighted'!I80 -> 0 | L80: =MIN(C80,C80:J80) -> 0 | M80: =MAX(C80:J80) -> 0
A81: M1001 - The state's 911 authorities are capable of processing and interpreting location and caller information using Next Generation 911 infrastructure. | B81: 0.28115016 | C81: =('Measure List'!C81)*'Measures Weighted'!$B$81 -> 0.28115016 | D81: =('Measure List'!D81)*'Measures Weighted'!$B$81 -> 0.28115016 | E81: =('Measure List'!E81)*'Measures Weighted'!$B$81 -> 0.28115016 | F81: =('Measure List'!F81)*'Measures Weighted'!$B$81 -> 0.28115016 | G81: =('Measure List'!G81)*'Measures Weighted'!$B$81 -> 0.28115016 | H81: =('Measure List'!H81)*'Measures Weighted'!$B$81 -> 0.28115016 | I81: =('Measure List'!I81)*'Measures Weighted'!$B$81 -> 0.28115016 | J81: =('Measure List'!J81)*'Measures Weighted'!$B$81 -> 0.28115016 | L81: =MIN(C81,C81:J81) -> 0.28115016 | M81: =MAX(C81:J81) -> 0.28115016
A82: Domain 4: Healthcare Delivery | L82: =MIN(C82,C82:J82) -> 0 | M82: =MAX(C82:J82) -> 0
A83: Subdomain 4.1: Prehospital Care | C83: =SUBTOTAL(109,C84:C88) -> 0.92914195 | D83: =SUBTOTAL(109,D84:D88) -> 0.88994559 | E83: =SUBTOTAL(109,E84:E88) -> 0.90277613 | F83: =SUBTOTAL(109,F84:F88) -> 0.95512291 | G83: =SUBTOTAL(109,G84:G88) -> 0.82612053 | H83: =SUBTOTAL(109,H84:H88) -> 0.90392743 | I83: =SUBTOTAL(109,I84:I88) -> 0.85964832 | J83: =SUBTOTAL(109,J84:J88) -> 0.8412756
A84: M140 - Number of emergency medical technicians (EMTs) and paramedics per 100,000 population in the state | B84: 0.24427481 | C84: =('Measure List'!C84)*'Measures Weighted'!$B$84 -> 0.24427481 | D84: =('Measure List'!D84)*'Measures Weighted'!$B$84 -> 0.16345683 | E84: =('Measure List'!E84)*'Measures Weighted'!$B$84 -> 0.20398908 | F84: =('Measure List'!F84)*'Measures Weighted'!$B$84 -> 0.19939772 | G84: =('Measure List'!G84)*'Measures Weighted'!$B$84 -> 0.14048603 | H84: =('Measure List'!H84)*'Measures Weighted'!$B$84 -> 0.19295469 | I84: =('Measure List'!I84)*'Measures Weighted'!$B$84 -> 0.1708523 | J84: =('Measure List'!J84)*'Measures Weighted'!$B$84 -> 0.16959171 | L84: =MIN(C84,C84:J84) -> 0.14048603 | M84: =MAX(C84:J84) -> 0.24427481 | O84: 50.15 | P84: 87.2
A85: M331 - Percent of local emergency medical services (EMS) agencies that submit National EMS Information System (NEMSIS) compliant data (e.g., Version 2 in earlier years, Version 3 in later years) to the state | B85: 0.27786261 | C85: =('Measure List'!C85)*'Measures Weighted'!$B$85 -> 0.27786261 | D85: =('Measure List'!D85)*'Measures Weighted'!$B$85 -> 0.27786261 | E85: =('Measure List'!E85)*'Measures Weighted'!$B$85 -> 0.27786261 | F85: =('Measure List'!F85)*'Measures Weighted'!$B$85 -> 0.27786261 | G85: =('Measure List'!G85)*'Measures Weighted'!$B$85 -> 0.27786261 | H85: =('Measure List'!H85)*'Measures Weighted'!$B$85 -> 0.27786261 | I85: =('Measure List'!I85)*'Measures Weighted'!$B$85 -> 0.27786261 | J85: =('Measure List'!J85)*'Measures Weighted'!$B$85 -> 0.27786261 | L85: =MIN(C85,C85:J85) -> 0.27786261 | M85: =MAX(C85:J85) -> 0.27786261
A86: M349 - State has adopted EMS Personnel Licensure Interstate CompAct (REPLICA) legislation | B86: 0.22900763 | C86: =('Measure List'!C86)*'Measures Weighted'!B86 -> 0.22900763 | D86: =('Measure List'!D86)*'Measures Weighted'!C86 -> 0.22900763 | E86: =('Measure List'!E86)*'Measures Weighted'!D86 -> 0.22900763 | F86: =('Measure List'!F86)*'Measures Weighted'!E86 -> 0.22900763 | G86: =('Measure List'!G86)*'Measures Weighted'!F86 -> 0.22900763 | H86: =('Measure List'!H86)*'Measures Weighted'!G86 -> 0.22900763 | I86: =('Measure List'!I86)*'Measures Weighted'!H86 -> 0.22900763 | J86: =('Measure List'!J86)*'Measures Weighted'!I86 -> 0.22900763 | L86: =MIN(C86,C86:J86) -> 0.22900763 | M86: =MAX(C86:J86) -> 0.22900763
A87: M350U - The average length of time in minutes between EMS notification and arrival at a fatal motor vehicle crash (MVC) in urban areas | B87: 0.12442748 | C87: =('Measure List'!C87)*'Measures Weighted'!$B$87 -> 0.10386989 | D87: =('Measure List'!D87)*'Measures Weighted'!$B$87 -> 0.11901758 | E87: =('Measure List'!E87)*'Measures Weighted'!$B$87 -> 0.10278791 | F87: =('Measure List'!F87)*'Measures Weighted'!$B$87 -> 0.12442748 | G87: =('Measure List'!G87)*'Measures Weighted'!$B$87 -> 0.098460002 | H87: =('Measure List'!H87)*'Measures Weighted'!$B$87 -> 0.11144374 | I87: =('Measure List'!I87)*'Measures Weighted'!$B$87 -> 0.10603385 | J87: =('Measure List'!J87)*'Measures Weighted'!$B$87 -> 0.089804178 | L87: =MIN(C87,C87:J87) -> 0.089804178 | M87: =MAX(C87:J87) -> 0.12442748 | O87: 8.3 | P87: 11.5
A88: M350R - The average length of time in minutes between EMS notification and arrival at a fatal motor vehicle crash (MVC) in rural areas | B88: 0.12442748 | C88: =('Measure List'!C88)*'Measures Weighted'!$B$88 -> 0.074127006 | D88: =('Measure List'!D88)*'Measures Weighted'!$B$88 -> 0.10060094 | E88: =('Measure List'!E88)*'Measures Weighted'!$B$88 -> 0.089128901 | F88: =('Measure List'!F88)*'Measures Weighted'!$B$88 -> 0.12442748 | G88: =('Measure List'!G88)*'Measures Weighted'!$B$88 -> 0.080304257 | H88: =('Measure List'!H88)*'Measures Weighted'!$B$88 -> 0.092658758 | I88: =('Measure List'!I88)*'Measures Weighted'!$B$88 -> 0.075891935 | J88: =('Measure List'!J88)*'Measures Weighted'!$B$88 -> 0.075009471 | L88: =MIN(C88,C88:J88) -> 0.074127006 | M88: =MAX(C88:J88) -> 0.12442748 | O88: 8.4 | P88: 14.1
A89: Subdomain 4.2: Hospital and Physician Services | C89: =SUBTOTAL(109,C90:C100) -> 0.7437208 | D89: =SUBTOTAL(109,D90:D100) -> 0.77842887 | E89: =SUBTOTAL(109,E90:E100) -> 0.75005234 | F89: =SUBTOTAL(109,F90:F100) -> 0.77317409 | G89: =SUBTOTAL(109,G90:G100) -> 0.86314872 | H89: =SUBTOTAL(109,H90:H100) -> 0.80210197 | I89: =SUBTOTAL(109,I90:I100) -> 0.78808865 | J89: =SUBTOTAL(109,J90:J100) -> 0.72042021
A90: M147 - Median time in minutes from hospital emergency department (ED) arrival to ED departure for patients admitted to hospitals in the state (identifier ED-1) | B90: 0.086186536 | C90: =('Measure List'!C90)*'Measures Weighted'!$B$90 -> 0.053320737 | D90: =('Measure List'!D90)*'Measures Weighted'!$B$90 -> 0.064352613 | E90: =('Measure List'!E90)*'Measures Weighted'!$B$90 -> 0.054469891 | F90: =('Measure List'!F90)*'Measures Weighted'!$B$90 -> 0.086186536 | G90: =('Measure List'!G90)*'Measures Weighted'!$B$90 -> 0.06642109 | H90: =('Measure List'!H90)*'Measures Weighted'!$B$90 -> 0.065961429 | I90: =('Measure List'!I90)*'Measures Weighted'!$B$90 -> 0.082279413 | J90: =('Measure List'!J90)*'Measures Weighted'!$B$90 -> 0.05424006 | L90: =MIN(C90,C90:J90) -> 0.053320737 | M90: =MAX(C90:J90) -> 0.086186536 | O90: 232 | P90: 375
A91: M152 - Percent of the state’s population who live within 50 miles of a trauma center, including out-of-state centers | B91: 0.11097992 | C91: =('Measure List'!C91)*'Measures Weighted'!$B$91 -> 0.082677813 | D91: =('Measure List'!D91)*'Measures Weighted'!$B$91 -> 0.081006429 | E91: =('Measure List'!E91)*'Measures Weighted'!$B$91 -> 0.087023413 | F91: =('Measure List'!F91)*'Measures Weighted'!$B$91 -> 0.055367393 | G91: =('Measure List'!G91)*'Measures Weighted'!$B$91 -> 0.11097992 | H91: =('Measure List'!H91)*'Measures Weighted'!$B$91 -> 0.077440809 | I91: =('Measure List'!I91)*'Measures Weighted'!$B$91 -> 0.057718474 | J91: =('Measure List'!J91)*'Measures Weighted'!$B$91 -> 0.087580541 | L91: =MIN(C91,C91:J91) -> 0.055367393 | M91: =MAX(C91:J91) -> 0.11097992 | O91: 49.69 | P91: 99.6
A92: M160 - Number of physicians and surgeons per 100,000 population in the state | B92: 0.089728445 | C92: =('Measure List'!C92)*'Measures Weighted'!$B$92 -> 0.072451892 | D92: =('Measure List'!D92)*'Measures Weighted'!$B$92 -> 0.070920818 | E92: =('Measure List'!E92)*'Measures Weighted'!$B$92 -> 0.070731797 | F92: =('Measure List'!F92)*'Measures Weighted'!$B$92 -> 0.071525687 | G92: =('Measure List'!G92)*'Measures Weighted'!$B$92 -> 0.084322434 | H92: =('Measure List'!H92)*'Measures Weighted'!$B$92 -> 0.075646353 | I92: =('Measure List'!I92)*'Measures Weighted'!$B$92 -> 0.089728445 | J92: =('Measure List'!J92)*'Measures Weighted'!$B$92 -> 0.066819055 | L92: =MIN(C92,C92:J92) -> 0.066819055 | M92: =MAX(C92:J92) -> 0.089728445 | O92: 353.5 | P92: 474.7
A93: M167 - Number of active registered nurse (RN) and licensed practical nurse (LPN/(EN) licenses per 100,000 population in the state | B93: 0.094450995 | C93: =('Measure List'!C93)*'Measures Weighted'!$B$93 -> 0.077635124 | D93: =('Measure List'!D93)*'Measures Weighted'!$B$93 -> 0.067070332 | E93: =('Measure List'!E93)*'Measures Weighted'!$B$93 -> 0.081070877 | F93: =('Measure List'!F93)*'Measures Weighted'!$B$93 -> 0.087842879 | G93: =('Measure List'!G93)*'Measures Weighted'!$B$93 -> 0.075861644 | H93: =('Measure List'!H93)*'Measures Weighted'!$B$93 -> 0.094257844 | I93: =('Measure List'!I93)*'Measures Weighted'!$B$93 -> 0.094450995 | J93: =('Measure List'!J93)*'Measures Weighted'!$B$93 -> 0.072437598 | L93: =MIN(C93,C93:J93) -> 0.067070332 | M93: =MAX(C93:J93) -> 0.094450995 | O93: 1145.9 | P93: 1613.7
A94: M168 - Percent of the state’s population living within 100 miles of a burn center, including out-of-state centers | B94: 0.11216056 | C94: =('Measure List'!C94)*'Measures Weighted'!$B$94 -> 0.083223138 | D94: =('Measure List'!D94)*'Measures Weighted'!$B$94 -> 0.08154073 | E94: =('Measure List'!E94)*'Measures Weighted'!$B$94 -> 0.0875974 | F94: =('Measure List'!F94)*'Measures Weighted'!$B$94 -> 0.055732584 | G94: =('Measure List'!G94)*'Measures Weighted'!$B$94 -> 0.11216056 | H94: =('Measure List'!H94)*'Measures Weighted'!$B$94 -> 0.077951592 | I94: =('Measure List'!I94)*'Measures Weighted'!$B$94 -> 0.058099172 | J94: =('Measure List'!J94)*'Measures Weighted'!$B$94 -> 0.088158203 | L94: =MIN(C94,C94:J94) -> 0.055732584 | M94: =MAX(C94:J94) -> 0.11216056 | O94: 0 | P94: 100
A95: M296 - Percent of hospitals in the state providing a specialty geriatric services program (includes general as well as specialized geriatric services, such as psychiatric geriatric services/Alzheimer care) | B95: 0.072018884 | C95: =('Measure List'!C95)*'Measures Weighted'!$B$95 -> 0.072018884 | D95: =('Measure List'!D95)*'Measures Weighted'!$B$95 -> 0.072018884 | E95: =('Measure List'!E95)*'Measures Weighted'!$B$95 -> 0.072018884 | F95: =('Measure List'!F95)*'Measures Weighted'!$B$95 -> 0.072018884 | G95: =('Measure List'!G95)*'Measures Weighted'!$B$95 -> 0.072018884 | H95: =('Measure List'!H95)*'Measures Weighted'!$B$95 -> 0.072018884 | I95: =('Measure List'!I95)*'Measures Weighted'!$B$95 -> 0.072018884 | J95: =('Measure List'!J95)*'Measures Weighted'!$B$95 -> 0.072018884 | L95: =MIN(C95,C95:J95) -> 0.072018884 | M95: =MAX(C95:J95) -> 0.072018884
A96: M297 - Percent of hospitals in the state providing palliative care programs (includes both palliative care program and/or palliative care inpatient unit, but excludes pain management program, patient-controlled analgesia, and hospice program) | B96: 0.069657609 | C96: =('Measure List'!C96)*'Measures Weighted'!B96 -> 0.069657609 | D96: =('Measure List'!D96)*'Measures Weighted'!C96 -> 0.069657609 | E96: =('Measure List'!E96)*'Measures Weighted'!D96 -> 0.069657609 | F96: =('Measure List'!F96)*'Measures Weighted'!E96 -> 0.069657609 | G96: =('Measure List'!G96)*'Measures Weighted'!F96 -> 0.069657609 | H96: =('Measure List'!H96)*'Measures Weighted'!G96 -> 0.069657609 | I96: =('Measure List'!I96)*'Measures Weighted'!H96 -> 0.069657609 | J96: =('Measure List'!J96)*'Measures Weighted'!I96 -> 0.069657609 | L96: =MIN(C96,C96:J96) -> 0.069657609 | M96: =MAX(C96:J96) -> 0.069657609
A97: M298 - Number of hospital airborne infection isolation room (AIIR) beds per 100,000 population in the state, including hospitals with AIIR rooms within 50 miles from neighboring states | B97: 0.11570247 | C97: =('Measure List'!C97)*'Measures Weighted'!$B$97 -> 0.087155132 | D97: =('Measure List'!D97)*'Measures Weighted'!$B$97 -> 0.11570247 | E97: =('Measure List'!E97)*'Measures Weighted'!$B$97 -> 0.08080007 | F97: =('Measure List'!F97)*'Measures Weighted'!$B$97 -> 0.097746901 | G97: =('Measure List'!G97)*'Measures Weighted'!$B$97 -> 0.11358412 | H97: =('Measure List'!H97)*'Measures Weighted'!$B$97 -> 0.11146576 | I97: =('Measure List'!I97)*'Measures Weighted'!$B$97 -> 0.090786596 | J97: =('Measure List'!J97)*'Measures Weighted'!$B$97 -> 0.063046247 | L97: =MIN(C97,C97:J97) -> 0.063046247 | M97: =MAX(C97:J97) -> 0.11570247 | O97: 6.25 | P97: 11.47
A98: M299 - Risk-adjusted 30-day survival rate (percent) among Medicare beneficiaries hospitalized in the state for heart attack, heart failure, or pneumonia | B98: 0.072018884 | C98: =('Measure List'!C98)*'Measures Weighted'!B98 -> 0 | D98: =('Measure List'!D98)*'Measures Weighted'!C98 -> 0 | E98: =('Measure List'!E98)*'Measures Weighted'!D98 -> 0 | F98: =('Measure List'!F98)*'Measures Weighted'!E98 -> 0 | G98: =('Measure List'!G98)*'Measures Weighted'!F98 -> 0 | H98: =('Measure List'!H98)*'Measures Weighted'!G98 -> 0 | I98: =('Measure List'!I98)*'Measures Weighted'!H98 -> 0 | J98: =('Measure List'!J98)*'Measures Weighted'!I98 -> 0 | L98: =MIN(C98,C98:J98) -> 0 | M98: =MAX(C98:J98) -> 0
A99: M300 - Percent of hospitals in the state with a top quality ranking (Grade A) on the Hospital Safety Score | B99: 0.094450995 | C99: =('Measure List'!C99)*'Measures Weighted'!$B$99 -> 0.094450995 | D99: =('Measure List'!D99)*'Measures Weighted'!C99 -> 0.094450995 | E99: =('Measure List'!E99)*'Measures Weighted'!D99 -> 0.094450995 | F99: =('Measure List'!F99)*'Measures Weighted'!E99 -> 0.094450995 | G99: =('Measure List'!G99)*'Measures Weighted'!F99 -> 0.094450995 | H99: =('Measure List'!H99)*'Measures Weighted'!G99 -> 0.094450995 | I99: =('Measure List'!I99)*'Measures Weighted'!H99 -> 0.094450995 | J99: =('Measure List'!J99)*'Measures Weighted'!I99 -> 0.094450995 | L99: =MIN(C99,C99:J99) -> 0.094450995 | M99: =MAX(C99:J99) -> 0.094450995
A100: M148 - Median time in minutes from hospital admission decision to emergency department (ED) departure for patients admitted to hospitals in the state (identifier ED2) | B100: 0.082644626 | C100: =('Measure List'!C100)*'Measures Weighted'!$B$100 -> 0.051129476 | D100: =('Measure List'!D100)*'Measures Weighted'!$B$100 -> 0.061707988 | E100: =('Measure List'!E100)*'Measures Weighted'!$B$100 -> 0.052231404 | F100: =('Measure List'!F100)*'Measures Weighted'!$B$100 -> 0.082644626 | G100: =('Measure List'!G100)*'Measures Weighted'!$B$100 -> 0.063691459 | H100: =('Measure List'!H100)*'Measures Weighted'!$B$100 -> 0.063250687 | I100: =('Measure List'!I100)*'Measures Weighted'!$B$100 -> 0.07889807 | J100: =('Measure List'!J100)*'Measures Weighted'!$B$100 -> 0.052011018 | L100: =MIN(C100,C100:J100) -> 0.051129476 | M100: =MAX(C100:J100) -> 0.082644626 | O100: 232 | P100: 375
A101: Subdomain 4.3: Long-Term Care | C101: =SUBTOTAL(109,C102:C107) -> 0.45232153 | D101: =SUBTOTAL(109,D102:D107) -> 0.42320162 | E101: =SUBTOTAL(109,E102:E107) -> 0.41243488 | F101: =SUBTOTAL(109,F102:F107) -> 0.40552785 | G101: =SUBTOTAL(109,G102:G107) -> 0.52142477 | H101: =SUBTOTAL(109,H102:H107) -> 0.39251096 | I101: =SUBTOTAL(109,I102:I107) -> 0.5632684 | J101: =SUBTOTAL(109,J102:J107) -> 0.54215842
A102: M308 - Average number of nurse (RN) staffing hours per resident per day in nursing homes in the state | B102: 0.12280702 | C102: =('Measure List'!C102)*'Measures Weighted'!$B$102 -> 0.027290449 | D102: =('Measure List'!D102)*'Measures Weighted'!$B$102 -> 0.021088074 | E102: =('Measure List'!E102)*'Measures Weighted'!$B$102 -> 0.023569024 | F102: =('Measure List'!F102)*'Measures Weighted'!$B$102 -> 0.023569024 | G102: =('Measure List'!G102)*'Measures Weighted'!$B$102 -> 0.037214248 | H102: =('Measure List'!H102)*'Measures Weighted'!$B$102 -> 0.019227361 | I102: =('Measure List'!I102)*'Measures Weighted'!$B$102 -> 0.12280702 | J102: =('Measure List'!J102)*'Measures Weighted'!$B$102 -> 0.031632111 | L102: =MIN(C102,C102:J102) -> 0.019227361 | M102: =MAX(C102:J102) -> 0.12280702 | N102: 0.31 | O102: 1.98
A103: M309 - Average number of nursing assistant (CNA) staffing hours per resident per day in nursing homes in the state | B103: 0.10526316 | C103: =('Measure List'!C103)*'Measures Weighted'!$B$103 -> 0.040820556 | D103: =('Measure List'!D103)*'Measures Weighted'!$B$103 -> 0.038955657 | E103: =('Measure List'!E103)*'Measures Weighted'!$B$103 -> 0.0029009532 | F103: =('Measure List'!F103)*'Measures Weighted'!$B$103 -> 0.0047658517 | G103: =('Measure List'!G103)*'Measures Weighted'!$B$103 -> 0.10526316 | H103: =('Measure List'!H103)*'Measures Weighted'!$B$103 -> 0.0031081641 | I103: =('Measure List'!I103)*'Measures Weighted'!$B$103 -> 0.0018648985 | J103: =('Measure List'!J103)*'Measures Weighted'!$B$103 -> 0.10526316 | L103: =MIN(C103,C103:J103) -> 0.0018648985 | M103: =MAX(C103:J103) -> 0.10526316 | N103: 0.09 | O103: 5.08 | P103: 0.09 | Q103: 5.08
A104: M307 - Percent of long-stay nursing home residents in the state that are assessed and appropriately given the seasonal influenza vaccine | B104: 0.15789473 | C104: =('Measure List'!C104)*'Measures Weighted'!$B$104 -> 0.15789473 | D104: =('Measure List'!D104)*'Measures Weighted'!$B$104 -> 0.15789473 | E104: =('Measure List'!E104)*'Measures Weighted'!$B$104 -> 0.15789473 | F104: =('Measure List'!F104)*'Measures Weighted'!$B$104 -> 0.15789473 | G104: =('Measure List'!G104)*'Measures Weighted'!$B$104 -> 0.15789473 | H104: =('Measure List'!H104)*'Measures Weighted'!$B$104 -> 0.15789473 | I104: =('Measure List'!I104)*'Measures Weighted'!$B$104 -> 0.15789473 | J104: =('Measure List'!J104)*'Measures Weighted'!$B$104 -> 0.15789473 | L104: =MIN(C104,C104:J104) -> 0.15789473 | M104: =MAX(C104:J104) -> 0.15789473
A105: M310 - Average number of licensed practical nurse (LPN) staffing hours per resident per day in nursing homes in the state | B105: 0.10526316 | C105: =('Measure List'!C105)*'Measures Weighted'!$B$105 -> 0.050877193 | D105: =('Measure List'!D105)*'Measures Weighted'!$B$105 -> 0.029824562 | E105: =('Measure List'!E105)*'Measures Weighted'!$B$105 -> 0.052631579 | F105: =('Measure List'!F105)*'Measures Weighted'!$B$105 -> 0.043859649 | G105: =('Measure List'!G105)*'Measures Weighted'!$B$105 -> 0.045614035 | H105: =('Measure List'!H105)*'Measures Weighted'!$B$105 -> 0.036842106 | I105: =('Measure List'!I105)*'Measures Weighted'!$B$105 -> 0.10526316 | J105: =('Measure List'!J105)*'Measures Weighted'!$B$105 -> 0.071929825 | L105: =MIN(C105,C105:J105) -> 0.029824562 | M105: =MAX(C105:J105) -> 0.10526316 | N105: 0.17 | O105: 0.6
...

Sheet Subdom 10 point
A1: State | B1: Year | C1: PHSEI | D1: BMLT | E1: CSCC | F1: ARP | G1: MVDE | H1: SCC | I1: INCM | J1: INFM | K1: PC | L1: HPS | M1: LTC | N1: MBH | O1: HC | P1: MMMDD | Q1: CUE | R1: FWS | S1: EM | T1: PEI | U1: WR | V1: National
A2: QLD | B2: 2019 | C2: ='Measures Weighted'!C5 -> 0.99999999 | D2: ='Measures Weighted'!C$19 -> 0.72770403 | E2: ='Measures Weighted'!C$39 -> 0.92111421 | F2: ='Measures Weighted'!C$47 -> 0.59548855 | G2: ='Measures Weighted'!C$52 -> 0.20546164 | H2: ='Measures Weighted'!C$59 -> 0.8223647 | I2: ='Measures Weighted'!C$64 -> 0.74117649 | J2: ='Measures Weighted'!C$76 -> 0.55683707 | K2: ='Measures Weighted'!C$83 -> 0.92914195 | L2: ='Measures Weighted'!C$89 -> 0.7437208 | M2: ='Measures Weighted'!C$101 -> 0.45232153 | N2: ='Measures Weighted'!C$108 -> 0.39750865 | O2: ='Measures Weighted'!C$112 -> 0.22428043 | P2: ='Measures Weighted'!C$117 -> 0.90695181 | Q2: ='Measures Weighted'!C$121 -> 0.89236181 | R2: ='Measures Weighted'!C$128 -> 0.7366621 | S2: ='Measures Weighted'!C$138 -> 0.70497087 | T2: ='Measures Weighted'!C$147 -> 0.38751473 | U2: ='Measures Weighted'!C$153 -> 0.8234065
A3: NSW | C3: ='Measures Weighted'!D5 -> 0.94086291 | D3: ='Measures Weighted'!D$19 -> 0.72770403 | E3: ='Measures Weighted'!D$39 -> 0.92061281 | F3: ='Measures Weighted'!D$47 -> 0.60040955 | G3: ='Measures Weighted'!D$52 -> 0.20546164 | H3: ='Measures Weighted'!D$59 -> 0.8858486 | I3: ='Measures Weighted'!D$64 -> 0.74117649 | J3: ='Measures Weighted'!D$76 -> 0.68725241 | K3: ='Measures Weighted'!D$83 -> 0.88994559 | L3: ='Measures Weighted'!D$89 -> 0.77842887 | M3: ='Measures Weighted'!$D$101 -> 0.42320162 | N3: ='Measures Weighted'!$D$108 -> 0.33502019 | O3: ='Measures Weighted'!$D$112 -> 0.21573641 | P3: ='Measures Weighted'!$D$117 -> 0.88696098 | Q3: ='Measures Weighted'!$D$121 -> 0.87336246 | R3: ='Measures Weighted'!$D$128 -> 0.79283447 | S3: ='Measures Weighted'!$D$138 -> 0.62372353 | T3: ='Measures Weighted'!$D$147 -> 0.38751473 | U3: ='Measures Weighted'!$D$153 -> 0.75438472
A4: VIC | C4: ='Measures Weighted'!E$5 -> 0.97573032 | D4: ='Measures Weighted'!E$19 -> 0.72770403 | E4: ='Measures Weighted'!E$39 -> 0.91208914 | F4: ='Measures Weighted'!E$47 -> 0.61515724 | G4: ='Measures Weighted'!E$52 -> 0.20546164 | H4: ='Measures Weighted'!E$59 -> 0.9075749 | I4: ='Measures Weighted'!E$64 -> 0.74117649 | J4: ='Measures Weighted'!E$76 -> 0.64916934 | K4: ='Measures Weighted'!E$83 -> 0.90277613 | L4: ='Measures Weighted'!E$89 -> 0.75005234 | M4: ='Measures Weighted'!$E$101 -> 0.41243488 | N4: ='Measures Weighted'!$E$108 -> 0.27395781 | O4: ='Measures Weighted'!$E$112 -> 0.16447232 | P4: ='Measures Weighted'!$E$117 -> 0.92439834 | Q4: ='Measures Weighted'!$E$121 -> 0.90901355 | R4: ='Measures Weighted'!$E$128 -> 0.73306131 | S4: ='Measures Weighted'!$E$138 -> 0.54850447 | T4: ='Measures Weighted'!$E$147 -> 0.38751473 | U4: ='Measures Weighted'!$E$153 -> 0.76834249
A5: TAS | C5: ='Measures Weighted'!F$5 -> 0.99999999 | D5: ='Measures Weighted'!F$19 -> 0.72770403 | E5: ='Measures Weighted'!F$39 -> 1 | F5: ='Measures Weighted'!F$47 -> 0.60546551 | G5: ='Measures Weighted'!F$52 -> 0.20546164 | H5: ='Measures Weighted'!F$59 -> 0.98812061 | I5: ='Measures Weighted'!F$64 -> 0.74117649 | J5: ='Measures Weighted'!F$76 -> 0.49431311 | K5: ='Measures Weighted'!F$83 -> 0.95512291 | L5: ='Measures Weighted'!F$89 -> 0.77317409 | M5: ='Measures Weighted'!$F$101 -> 0.40552785 | N5: ='Measures Weighted'!$F$108 -> 0.11517681 | O5: ='Measures Weighted'!$F$112 -> 0.14418028 | P5: ='Measures Weighted'!$F$117 -> 0.98073612 | Q5: ='Measures Weighted'!$F$121 -> 0.95205599 | R5: ='Measures Weighted'!$F$128 -> 0.80003605 | S5: ='Measures Weighted'!$F$138 -> 0.54739275 | T5: ='Measures Weighted'!$F$147 -> 0.38751473 | U5: ='Measures Weighted'!$F$153 -> 0.94266155
A6: ACT | C6: ='Measures Weighted'!G$5 -> 0.99999999 | D6: ='Measures Weighted'!G$19 -> 0.72770403 | E6: ='Measures Weighted'!G$39 -> 1 | F6: ='Measures Weighted'!G$47 -> 0.57893357 | G6: ='Measures Weighted'!G$52 -> 0.20546164 | H6: ='Measures Weighted'!G$59 -> 0.90703327 | I6: ='Measures Weighted'!G$64 -> 0.74117649 | J6: ='Measures Weighted'!G$76 -> 0.68220449 | K6: ='Measures Weighted'!G$83 -> 0.82612053 | L6: ='Measures Weighted'!G$89 -> 0.86314872 | M6: ='Measures Weighted'!$G$101 -> 0.52142477 | N6: ='Measures Weighted'!$G$108 -> 0.35414232 | O6: ='Measures Weighted'!$G$112 -> 0.1559283 | P6: ='Measures Weighted'!$G$117 -> 1 | Q6: ='Measures Weighted'!$G$121 -> 0.88983855 | R6: ='Measures Weighted'!$G$128 -> 0.77339019 | S6: ='Measures Weighted'!$G$138 -> 0.54534318 | T6: ='Measures Weighted'!$G$147 -> 0.38751473 | U6: ='Measures Weighted'!$G$153 -> 0.67482539
A7: SA | C7: ='Measures Weighted'!H$5 -> 0.99999999 | D7: ='Measures Weighted'!H$19 -> 0.72770403 | E7: ='Measures Weighted'!H$39 -> 0.93030641 | F7: ='Measures Weighted'!H$47 -> 0.61812835 | G7: ='Measures Weighted'!H$52 -> 0.20546164 | H7: ='Measures Weighted'!H$59 -> 0.9885309 | I7: ='Measures Weighted'!H$64 -> 0.74117649 | J7: ='Measures Weighted'!H$76 -> 0.53035145 | K7: ='Measures Weighted'!H$83 -> 0.90392743 | L7: ='Measures Weighted'!H$89 -> 0.80210197 | M7: ='Measures Weighted'!$H$101 -> 0.39251096 | N7: ='Measures Weighted'!$H$108 -> 0.2105615 | O7: ='Measures Weighted'!$H$112 -> 0.13435466 | P7: ='Measures Weighted'!$H$117 -> 0.90368058 | Q7: ='Measures Weighted'!$H$121 -> 0.9943116 | R7: ='Measures Weighted'!$H$128 -> 0.76978939 | S7: ='Measures Weighted'!$H$138 -> 0.54144067 | T7: ='Measures Weighted'!$H$147 -> 0.38751473 | U7: ='Measures Weighted'!$H$153 -> 0.75507898
A8: NT | C8: ='Measures Weighted'!I$5 -> 0.93258426 | D8: ='Measures Weighted'!I$19 -> 0.72770403 | E8: ='Measures Weighted'!I$39 -> 1 | F8: ='Measures Weighted'!I$47 -> 0.66326533 | G8: ='Measures Weighted'!I$52 -> 0.20546164 | H8: ='Measures Weighted'!I$59 -> 0.77068838 | I8: ='Measures Weighted'!I$64 -> 0.74117649 | J8: ='Measures Weighted'!I$76 -> 0.74824283 | K8: ='Measures Weighted'!I$83 -> 0.85964832 | L8: ='Measures Weighted'!I$89 -> 0.78808865 | M8: ='Measures Weighted'!$I$101 -> 0.5632684 | N8: ='Measures Weighted'!$I$108 -> 0.32623926 | O8: ='Measures Weighted'!$I$112 -> 0.27981654 | P8: ='Measures Weighted'!$I$117 -> 0.80917851 | Q8: ='Measures Weighted'!$I$121 -> 0.82815424 | R8: ='Measures Weighted'!$I$128 -> 0.84036493 | S8: ='Measures Weighted'!$I$138 -> 0.71439968 | T8: ='Measures Weighted'!$I$147 -> 0.38751473 | U8: ='Measures Weighted'!$I$153 -> 0.68350642
A9: WA | C9: ='Measures Weighted'!J$5 -> 0.96629212 | D9: ='Measures Weighted'!J$19 -> 0.72770403 | E9: ='Measures Weighted'!J$39 -> 0.93398329 | F9: ='Measures Weighted'!J$47 -> 0.58784688 | G9: ='Measures Weighted'!J$52 -> 0.20546164 | H9: ='Measures Weighted'!J$59 -> 0.90673053 | I9: ='Measures Weighted'!J$64 -> 0.74117649 | J9: ='Measures Weighted'!J$76 -> 0.50709266 | K9: ='Measures Weighted'!J$83 -> 0.8412756 | L9: ='Measures Weighted'!J$89 -> 0.72042021 | M9: ='Measures Weighted'!$J$101 -> 0.54215842 | N9: ='Measures Weighted'!$J$108 -> 0.20140671 | O9: ='Measures Weighted'!$J$112 -> 0.2082604 | P9: ='Measures Weighted'!$J$117 -> 0.89423037 | Q9: ='Measures Weighted'!$J$121 -> 0.88280127 | R9: ='Measures Weighted'!$J$128 -> 0.81587954 | S9: ='Measures Weighted'!$J$138 -> 0.564834 | T9: ='Measures Weighted'!$J$147 -> 0.38751473 | U9: ='Measures Weighted'!$J$153 -> 0.76451037

Sheet Subdomain
A1: State | B1: Year | C1: PHSEI | D1: BMLT | E1: CSCC | F1: ARP | G1: MVDE | H1: SCC | I1: INCM | J1: INFM | K1: PC | L1: HPS | M1: LTC | N1: MBH | O1: HC | P1: MMMDD | Q1: CUE | R1: FWS | S1: EM | T1: PEI | U1: WR
A2: QLD | B2: 2019 | C2: ='Subdom 10 point'!C2*10 -> 9.9999999 | D2: ='Subdom 10 point'!D2*10 -> 7.2770403 | E2: ='Subdom 10 point'!E2*10 -> 9.2111421 | F2: ='Subdom 10 point'!F2*10 -> 5.9548855 | G2: ='Subdom 10 point'!G2*10 -> 2.0546164 | H2: ='Subdom 10 point'!H2*10 -> 8.223647 | I2: ='Subdom 10 point'!I2*10 -> 7.4117649 | J2: ='Subdom 10 point'!J2*10 -> 5.5683707 | ... U2: ='Subdom 10 point'!U2*10 -> 8.234065
A3: NSW | B3: 2019 | C3: ='Subdom 10 point'!C3*10 -> 9.4086291 | D3: ='Subdom 10 point'!D3*10 -> 7.2770403 | E3: ='Subdom 10 point'!E3*10 -> 9.2061281 | F3: ='Subdom 10 point'!F3*10 -> 6.0040955 | G3: ='Subdom 10 point'!G3*10 -> 2.0546164 | H3: ='Subdom 10 point'!H3*10 -> 8.858486 | I3: ='Subdom 10 point'!I3*10 -> 7.4117649 | J3: ='Subdom 10 point'!J3*10 -> 6.8725241 | ... U3: ='Subdom 10 point'!U3*10 -> 7.5438472
A4: VIC | B4: 2019 | C4: ='Subdom 10 point'!C4*10 -> 9.7573032 | D4: ='Subdom 10 point'!D4*10 -> 7.2770403 | E4: ='Subdom 10 point'!E4*10 -> 9.1208914 | F4: ='Subdom 10 point'!F4*10 -> 6.1515724 | G4: ='Subdom 10 point'!G4*10 -> 2.0546164 | H4: ='Subdom 10 point'!H4*10 -> 9.075749 | I4: ='Subdom 10 point'!I4*10 -> 7.4117649 | J4: ='Subdom 10 point'!J4*10 -> 6.4916934 | ... U4: ='Subdom 10 point'!U4*10 -> 7.6834249
A5: TAS | B5: 2019 | C5: ='Subdom 10 point'!C5*10 -> 9.9999999 | D5: ='Subdom 10 point'!D5*10 -> 7.2770403 | E5: ='Subdom 10 point'!E5*10 -> 10 | F5: ='Subdom 10 point'!F5*10 -> 6.0546551 | G5: ='Subdom 10 point'!G5*10 -> 2.0546164 | H5: ='Subdom 10 point'!H5*10 -> 9.8812061 | I5: ='Subdom 10 point'!I5*10 -> 7.4117649 | J5: ='Subdom 10 point'!J5*10 -> 4.9431311 | ... U5: ='Subdom 10 point'!U5*10 -> 9.4266155
A6: ACT | B6: 2019 | C6: ='Subdom 10 point'!C6*10 -> 9.9999999 | D6: ='Subdom 10 point'!D6*10 -> 7.2770403 | E6: ='Subdom 10 point'!E6*10 -> 10 | F6: ='Subdom 10 point'!F6*10 -> 5.7893357 | G6: ='Subdom 10 point'!G6*10 -> 2.0546164 | H6: ='Subdom 10 point'!H6*10 -> 9.0703327 | I6: ='Subdom 10 point'!I6*10 -> 7.4117649 | J6: ='Subdom 10 point'!J6*10 -> 6.8220449 | ... U6: ='Subdom 10 point'!U6*10 -> 6.7482539
A7: SA | B7: 2019 | C7: ='Subdom 10 point'!C7*10 -> 9.9999999 | D7: ='Subdom 10 point'!D7*10 -> 7.2770403 | E7: ='Subdom 10 point'!E7*10 -> 9.3030641 | F7: ='Subdom 10 point'!F7*10 -> 6.1812835 | G7: ='Subdom 10 point'!G7*10 -> 2.0546164 | H7: ='Subdom 10 point'!H7*10 -> 9.885309 | I7: ='Subdom 10 point'!I7*10 -> 7.4117649 | J7: ='Subdom 10 point'!J7*10 -> 5.3035145 | ... U7: ='Subdom 10 point'!U7*10 -> 7.5507898
A8: NT | B8: 2019 | C8: ='Subdom 10 point'!C8*10 -> 9.3258426 | D8: ='Subdom 10 point'!D8*10 -> 7.2770403 | E8: ='Subdom 10 point'!E8*10 -> 10 | F8: ='Subdom 10 point'!F8*10 -> 6.6326533 | G8: ='Subdom 10 point'!G8*10 -> 2.0546164 | H8: ='Subdom 10 point'!H8*10 -> 7.7068838 | I8: ='Subdom 10 point'!I8*10 -> 7.4117649 | J8: ='Subdom 10 point'!J8*10 -> 7.4824283 | ... U8: ='Subdom 10 point'!U8*10 -> 6.8350642
A9: WA | B9: 2019 | C9: ='Subdom 10 point'!C9*10 -> 9.6629212 | D9: ='Subdom 10 point'!D9*10 -> 7.2770403 | E9: ='Subdom 10 point'!E9*10 -> 9.3398329 | F9: ='Subdom 10 point'!F9*10 -> 5.8784688 | G9: ='Subdom 10 point'!G9*10 -> 2.0546164 | H9: ='Subdom 10 point'!H9*10 -> 9.0673053 | I9: ='Subdom 10 point'!I9*10 -> 7.4117649 | J9: ='Subdom 10 point'!J9*10 -> 5.0709266 | ... U9: ='Subdom 10 point'!U9*10 -> 7.6451037
A11: QLD Total | B11: 2019 | C11: =(SUM(C2:D2)*Domain!$B$2)/Domain!$B$1 -> 6.677576 | E11: =((SUM(E2:H2)*Domain!$C$2))/Domain!$C$1 -> 4.7835267 | I11: =((SUM(I2:J2)*Domain!$D$2))/Domain!$D$1 -> 2.9789411 | K11: =((SUM(K2:O2)*Domain!$E$2))/Domain!$E$1 -> 5.4939467 | P11: =((SUM(P2:Q2)*Domain!$F$2))/Domain!$F$1 -> 7.665076 | R11: =((SUM(R2:U2)*Domain!$G$2))/(Domain!$G$1) -> 6.0610863
A12: NSW Total | B12: 2019 | C12: =(SUM(C3:D3)*Domain!$B$2)/Domain!$B$1 -> 6.4490112 | E12: =((SUM(E3:H3)*Domain!$C$2))/Domain!$C$1 -> 4.9111853 | I12: =((SUM(I3:J3)*Domain!$D$2))/Domain!$D$1 -> 3.2782443 | K12: =((SUM(K3:O3)*Domain!$E$2))/Domain!$E$1 -> 5.2846654 | P12: =((SUM(P3:Q3)*Domain!$F$2))/Domain!$F$1 -> 7.4989779 | R12: =((SUM(R3:U3)*Domain!$G$2))/(Domain!$G$1) -> 5.8460752
A13: VIC Total | B13: 2019 | C13: =(SUM(C4:D4)*Domain!$B$2)/Domain!$B$1 -> 6.5837738 | E13: =((SUM(E4:H4)*Domain!$C$2))/Domain!$C$1 -> 4.9637319 | I13: =((SUM(I4:J4)*Domain!$D$2))/Domain!$D$1 -> 3.1908437 | K13: =((SUM(K4:O4)*Domain!$E$2))/Domain!$E$1 -> 5.007387 | P13: =((SUM(P4:Q4)*Domain!$F$2))/Domain!$F$1 -> 7.8103347 | R13: =((SUM(R4:U4)*Domain!$G$2))/(Domain!$G$1) -> 5.5695115
A14: TAS Total | B14: 2019 | C14: =(SUM(C5:D5)*Domain!$B$2)/Domain!$B$1 -> 6.677576 | E14: =((SUM(E5:H5)*Domain!$C$2))/Domain!$C$1 -> 5.2622098 | I14: =((SUM(I5:J5)*Domain!$D$2))/Domain!$D$1 -> 2.8354486 | K14: =((SUM(K5:O5)*Domain!$E$2))/Domain!$E$1 -> 4.7863639 | P14: =((SUM(P5:Q5)*Domain!$F$2))/Domain!$F$1 -> 8.2336944 | R14: =((SUM(R5:U5)*Domain!$G$2))/(Domain!$G$1) -> 6.1183276
A15: ACT Total | B15: 2019 | C15: =(SUM(C6:D6)*Domain!$B$2)/Domain!$B$1 -> 6.677576 | E15: =((SUM(E6:H6)*Domain!$C$2))/Domain!$C$1 -> 5.0598855 | I15: =((SUM(I6:J6)*Domain!$D$2))/Domain!$D$1 -> 3.2666593 | K15: =((SUM(K6:O6)*Domain!$E$2))/Domain!$E$1 -> 5.4415293 | P15: =((SUM(P6:Q6)*Domain!$F$2))/Domain!$F$1 -> 8.0507122 | R15: =((SUM(R6:U6)*Domain!$G$2))/(Domain!$G$1) -> 5.4407529
A16: SA Total | B16: 2019 | C16: =(SUM(C7:D7)*Domain!$B$2)/Domain!$B$1 -> 6.677576 | E16: =((SUM(E7:H7)*Domain!$C$2))/Domain!$C$1 -> 5.1557633 | I16: =((SUM(I7:J7)*Domain!$D$2))/Domain!$D$1 -> 2.9181566 | K16: =((SUM(K7:O7)*Domain!$E$2))/Domain!$E$1 -> 4.886913 | P16: =((SUM(P7:Q7)*Domain!$F$2))/Domain!$F$1 -> 8.0854467 | R16: =((SUM(R7:U7)*Domain!$G$2))/(Domain!$G$1) -> 5.6069873
A17: NT Total | B17: 2019 | C17: =(SUM(C8:D8)*Domain!$B$2)/Domain!$B$1 -> 6.4170142 | E17: =((SUM(E8:H8)*Domain!$C$2))/Domain!$C$1 -> 4.9621009 | I17: =((SUM(I8:J8)*Domain!$D$2))/Domain!$D$1 -> 3.4182173 | K17: =((SUM(K8:O8)*Domain!$E$2))/Domain!$E$1 -> 5.6341223 | P17: =((SUM(P8:Q8)*Domain!$F$2))/Domain!$F$1 -> 6.9750375 | R17: =((SUM(R8:U8)*Domain!$G$2))/(Domain!$G$1) -> 5.9999204
A18: WA Total | B18: 2019 | C18: =(SUM(C9:D9)*Domain!$B$2)/Domain!$B$1 -> 6.5472951 | E18: =((SUM(E9:H9)*Domain!$C$2))/Domain!$C$1 -> 4.951962 | I18: =((SUM(I9:J9)*Domain!$D$2))/Domain!$D$1 -> 2.8647777 | K18: =((SUM(K9:O9)*Domain!$E$2))/Domain!$E$1 -> 5.0270427 | P18: =((SUM(P9:Q9)*Domain!$F$2))/Domain!$F$1 -> 7.5701548 | R18: =((SUM(R9:U9)*Domain!$G$2))/(Domain!$G$1) -> 5.7873078
D21: 1 | E21: 1 | F21: 1 | G21: 1 | H21: 1 | I21: 1 | J21: 1 | K21: 1 | L21: 1 | M21: 1 | N21: 1 | O21: 1 | P21: 1 | Q21: 1 | R21: 1 | S21: 1 | T21: 1 | U21: 1 | V21: 1
D22: PHSEI | E22: BMLT | F22: CSCC | G22: ARP | H22: MVDE | I22: SCC | J22: INCM | K22: INFM | L22: PC | M22: HPS | N22: LTC | O22: MBH | P22: HC | Q22: MMMDD | R22: CUE | S22: FWS | T22: EM | U22: PEI | V22: WR | Y22: =COUNT(D21:V21) -> 19
C23: State
C24: QLD | D24: =C2 -> 9.9999999 | E24: =D2 -> 7.2770403 | F24: =E2 -> 9.2111421 | G24: =F2 -> 5.9548855 | H24: =G2 -> 2.0546164 | I24: =H2 -> 8.223647 | J24: =I2 -> 7.4117649 | K24: =J2 -> 5.5683707 | ... V24: =U2 -> 8.234065
C25: NSW | D25: =C3 -> 9.4086291 | E25: =D3 -> 7.2770403 | F25: =E3 -> 9.2061281 | G25: =F3 -> 6.0040955 | H25: =G3 -> 2.0546164 | I25: =H3 -> 8.858486 | J25: =I3 -> 7.4117649 | K25: =J3 -> 6.8725241 | ... V25: =U3 -> 7.5438472
C26: VIC | D26: =C4 -> 9.7573032 | E26: =D4 -> 7.2770403 | F26: =E4 -> 9.1208914 | G26: =F4 -> 6.1515724 | H26: =G4 -> 2.0546164 | I26: =H4 -> 9.075749 | J26: =I4 -> 7.4117649 | K26: =J4 -> 6.4916934 | ... V26: =U4 -> 7.6834249
C27: TAS | D27: =C5 -> 9.9999999 | E27: =D5 -> 7.2770403 | F27: =E5 -> 10 | G27: =F5 -> 6.0546551 | H27: =G5 -> 2.0546164 | I27: =H5 -> 9.8812061 | J27: =I5 -> 7.4117649 | K27: =J5 -> 4.9431311 | ... V27: =U5 -> 9.4266155
C28: ACT | D28: =C6 -> 9.9999999 | E28: =D6 -> 7.2770403 | F28: =E6 -> 10 | G28: =F6 -> 5.7893357 | H28: =G6 -> 2.0546164 | I28: =H6 -> 9.0703327 | J28: =I6 -> 7.4117649 | K28: =J6 -> 6.8220449 | ... V28: =U6 -> 6.7482539
C29: SA | D29: =C7 -> 9.9999999 | E29: =D7 -> 7.2770403 | F29: =E7 -> 9.3030641 | G29: =F7 -> 6.1812835 | H29: =G7 -> 2.0546164 | I29: =H7 -> 9.885309 | J29: =I7 -> 7.4117649 | K29: =J7 -> 5.3035145 | ... V29: =U7 -> 7.5507898
C30: NT | D30: =C8 -> 9.3258426 | E30: =D8 -> 7.2770403 | F30: =E8 -> 10 | G30: =F8 -> 6.6326533 | H30: =G8 -> 2.0546164 | I30: =H8 -> 7.7068838 | J30: =I8 -> 7.4117649 | K30: =J8 -> 7.4824283 | ... V30: =U8 -> 6.8350642
C31: WA | D31: =C9 -> 9.6629212 | E31: =D9 -> 7.2770403 | F31: =E9 -> 9.3398329 | G31: =F9 -> 5.8784688 | H31: =G9 -> 2.0546164 | I31: =H9 -> 9.0673053 | J31: =I9 -> 7.4117649 | K31: =J9 -> 5.0709266 | ... V31: =U9 -> 7.6451037
C33: SD | D33: =STDEVA(D24:D31) -> 0.28058308 | E33: =STDEVA(E24:E31) -> 0 | F33: =STDEVA(F24:F31) -> 0.40068912 | G33: =STDEVA(G24:G31) -> 0.25855606 | H33: =STDEVA(H24:H31) -> 0 | I33: =STDEVA(I24:I31) -> 0.74294161 | J33: =STDEVA(J24:J31) -> 0 | K33: =STDEVA(K24:K31) -> 0.96284585 | ... V33: =STDEVA(V24:V31) -> 0.84259235
C34: Count | D34: =COUNT(D24:D31) -> 8 | E34: =COUNT(E24:E31) -> 8 | F34: =COUNT(F24:F31) -> 8 | G34: =COUNT(G24:G31) -> 8 | H34: =COUNT(H24:H31) -> 8 | I34: =COUNT(I24:I31) -> 8 | J34: =COUNT(J24:J31) -> 8 | K34: =COUNT(K24:K31) -> 8 | ... V34: =COUNT(V24:V31) -> 8
C35: 99 Cl | D35: 2.58 | E35: 2.58 | F35: 2.58 | G35: 2.58 | H35: 2.58 | I35: 2.58 | J35: 2.58 | K35: 2.58 | L35: 2.58 | M35: 2.58 | N35: 2.58 | O35: 2.58 | P35: 2.58 | Q35: 2.58 | R35: 2.58 | S35: 2.58 | T35: 2.58 | U35: 2.58 | V35: 2.58
C36: MoE | D36: =(D35*D33)/(D34^0.5) -> 0.25593884 | E36: =(E35*E33)/(E34^0.5) -> 0 | F36: =(F35*F33)/(F34^0.5) -> 0.36549569 | G36: =(G35*G33)/(G34^0.5) -> 0.2358465 | H36: =(H35*H33)/(H34^0.5) -> 0 | I36: =(I35*I33)/(I34^0.5) -> 0.67768738 | J36: =(J35*J33)/(J34^0.5) -> 0 | K36: =(K35*K33)/(K34^0.5) -> 0.87827693 | ... V36: =(V35*V33)/(V34^0.5) -> 0.76858556
C38: PHSEI | E38: BMLT | G38: CSCC | I38: ARP | K38: MVDE | M38: SCC | O38: INCM | Q38: INFM | S38: PC | U38: HPS | W38: LTC | Y38: MBH | AA38: HC | AC38: MMMDD | AE38: CUE | AG38: FWS | AI38: EM | AK38: PEI | AM38: WR
C39: Lower | D39: Upper | E39: Lower | F39: Upper | G39: Lower | H39: Upper | I39: Lower | J39: Upper | K39: Lower | L39: Upper | M39: Lower | N39: Upper | O39: Lower | P39: Upper | Q39: Lower | R39: Upper | S39: Lower | T39: Upper | U39: Lower | V39: Upper | W39: Lower | X39: Upper | Y39: Lower | Z39: Upper | AA39: Lower | AB39: Upper | AC39: Lower | AD39: Upper | AE39: Lower | AF39: Upper | AG39: Lower | AH39: Upper | AI39: Lower | AJ39: Upper | AK39: Lower | AL39: Upper | AM39: Lower | AN39: Upper | AP39: 2
B40: QLD | C40: =D24-$D$36 -> 9.744061 | D40: =D24+$D$36 -> 10.255939 | E40: =E24 -> 7.2770403 | F40: =$E$40 -> 7.2770403 | G40: =F24-$F$36 -> 8.8456464 | H40: =F24+$F$36 -> 9.5766378 | I40: =G24-$G$36 -> 5.719039 | J40: =G24+$G$36 -> 6.190732 | K40: =$H$24 -> 2.0546164 | L40: =$H$24 -> 2.0546164 | M40: =I24-$I$36 -> 7.5459596 | N40: =I24+$K$36 -> 9.1019239 | O40: =$J$24 -> 7.4117649 | P40: =$J$24 -> 7.4117649 | Q40: =K24-$K$36 -> 4.6900938 | R40: =K24+$K$36 -> 6.4466477 | S40: =L24-$L$36 -> 8.8910138 | T40: =L24+$L$36 -> 9.6918251 | U40: =M24-$M$36 -> 7.0407249 | V40: =M24+$M$36 -> 7.8336911 | W40: =N24-$N$36 -> 3.9040729 | X40: =N24+$N$36 -> 5.1423577 | Y40: =O24-$O$36 -> 3.1125621 | Z40: =O24+$O$36 -> 4.8376109 | AA40: =P24-$P$36 -> 1.7901188 | AB40: =P24+$P$36 -> 2.6954898 | AC40: =Q24-$Q$36 -> 8.5329738 | AD40: =Q24+$Q$36 -> 9.6060623 | AE40: =R24-$R$36 -> 8.4616487 | AF40: =R24+$R$36 -> 9.3855874 | AG40: =S24-$S$36 -> 7.0276572 | AH40: =S24+$S$36 -> 7.7055849 | AI40: =T24-$T$36 -> 6.3800217 | AJ40: =T24+$T$36 -> 7.7193957 | AK40: =$U$24 -> 3.8751473 | AL40: =$U$24 -> 3.8751473 | AM40: =V24-$V$36 -> 7.4654794 | AN40: =V24+$V$36 -> 9.0026505 | AP40: 2
B41: NSW | C41: =D25-$D$36 -> 9.1526902 | D41: =D25+$D$36 -> 9.6645679 | E41: =E25 -> 7.2770403 | F41: =$E$40 -> 7.2770403 | G41: =F25-$F$36 -> 8.8406324 | H41: =F25+$F$36 -> 9.5716238 | I41: =G25-$G$36 -> 5.768249 | J41: =G25+$G$36 -> 6.239942 | K41: =$H$24 -> 2.0546164 | L41: =$H$24 -> 2.0546164 | M41: =I25-$I$36 -> 8.1807986 | N41: =I25+$K$36 -> 9.7367629 | O41: =$J$24 -> 7.4117649 | P41: =$J$24 -> 7.4117649 | Q41: =K25-$K$36 -> 5.9942472 | R41: =K25+$K$36 -> 7.750801 | S41: =L25-$L$36 -> 8.4990502 | T41: =L25+$L$36 -> 9.2998615 | U41: =M25-$M$36 -> 7.3878056 | V41: =M25+$M$36 -> 8.1807719 | W41: =N25-$N$36 -> 3.6128738 | X41: =N25+$N$36 -> 4.8511586 | Y41: =O25-$O$36 -> 2.4876775 | Z41: =O25+$O$36 -> 4.2127263 | AA41: =P25-$P$36 -> 1.7046786 | AB41: =P25+$P$36 -> 2.6100497 | AC41: =Q25-$Q$36 -> 8.3330656 | AD41: =Q25+$Q$36 -> 9.4061541 | AE41: =R25-$R$36 -> 8.2716553 | AF41: =R25+$R$36 -> 9.195594 | AG41: =S25-$S$36 -> 7.5893808 | AH41: =S25+$S$36 -> 8.2673085 | AI41: =T25-$T$36 -> 5.5675483 | AJ41: =T25+$T$36 -> 6.9069222 | AK41: =$U$24 -> 3.8751473 | AL41: =$U$24 -> 3.8751473 | AM41: =V25-$V$36 -> 6.7752616 | AN41: =V25+$V$36 -> 8.3124327
B42: VIC | C42: =D26-$D$36 -> 9.5013644 | D42: =D26+$D$36 -> 10.013242 | E42: =E26 -> 7.2770403 | F42: =$E$40 -> 7.2770403 | G42: =F26-$F$36 -> 8.7553957 | H42: =F26+$F$36 -> 9.4863871 | I42: =G26-$G$36 -> 5.9157259 | J42: =G26+$G$36 -> 6.3874189 | K42: =$H$24 -> 2.0546164 | L42: =$H$24 -> 2.0546164 | M42: =I26-$I$36 -> 8.3980616 | N42: =I26+$K$36 -> 9.9540259 | O42: =$J$24 -> 7.4117649 | P42: =$J$24 -> 7.4117649 | Q42: =K26-$K$36 -> 5.6134165 | R42: =K26+$K$36 -> 7.3699704 | S42: =L26-$L$36 -> 8.6273557 | T42: =L26+$L$36 -> 9.4281669 | U42: =M26-$M$36 -> 7.1040402 | V42: =M26+$M$36 -> 7.8970065 | W42: =N26-$N$36 -> 3.5052064 | X42: =N26+$N$36 -> 4.7434913 | Y42: =O26-$O$36 -> 1.8770537 | Z42: =O26+$O$36 -> 3.6021025 | AA42: =P26-$P$36 -> 1.1920376 | AB42: =P26+$P$36 -> 2.0974087 | AC42: =Q26-$Q$36 -> 8.7074392 | AD42: =Q26+$Q$36 -> 9.7805277 | AE42: =R26-$R$36 -> 8.6281662 | AF42: =R26+$R$36 -> 9.5521048 | AG42: =S26-$S$36 -> 6.9916492 | AH42: =S26+$S$36 -> 7.669577 | AI42: =T26-$T$36 -> 4.8153577 | AJ42: =T26+$T$36 -> 6.1547316 | AK42: =$U$24 -> 3.8751473 | AL42: =$U$24 -> 3.8751473 | AM42: =V26-$V$36 -> 6.9148393 | AN42: =V26+$V$36 -> 8.4520104 | AP42: 22
B43: TAS | C43: =D27-$D$36 -> 9.744061 | D43: =D27+$D$36 -> 10.255939 | E43: =E27 -> 7.2770403 | F43: =$E$40 -> 7.2770403 | G43: =F27-$F$36 -> 9.6345043 | H43: =F27+$F$36 -> 10.365496 | I43: =G27-$G$36 -> 5.8188086 | J43: =G27+$G$36 -> 6.2905016 | K43: =$H$24 -> 2.0546164 | L43: =$H$24 -> 2.0546164 | M43: =I27-$I$36 -> 9.2035187 | N43: =I27+$K$36 -> 10.759483 | O43: =$J$24 -> 7.4117649 | P43: =$J$24 -> 7.4117649 | Q43: =K27-$K$36 -> 4.0648542 | R43: =K27+$K$36 -> 5.821408 | S43: =L27-$L$36 -> 9.1508234 | T43: =L27+$L$36 -> 9.9516347 | U43: =M27-$M$36 -> 7.3352578 | V43: =M27+$M$36 -> 8.1282241 | W43: =N27-$N$36 -> 3.4361361 | X43: =N27+$N$36 -> 4.6744209 | Y43: =O27-$O$36 -> 0.2892437 | Z43: =O27+$O$36 -> 2.0142925 | AA43: =P27-$P$36 -> 0.98911724 | AB43: =P27+$P$36 -> 1.8944883 | AC43: =Q27-$Q$36 -> 9.2708169 | AD43: =Q27+$Q$36 -> 10.343905 | AE43: =R27-$R$36 -> 9.0585905 | AF43: =R27+$R$36 -> 9.9825292 | AG43: =S27-$S$36 -> 7.6613966 | AH43: =S27+$S$36 -> 8.3393244 | AI43: =T27-$T$36 -> 4.8042405 | AJ43: =T27+$T$36 -> 6.1436144 | AK43: =$U$24 -> 3.8751473 | AL43: =$U$24 -> 3.8751473 | AM43: =V27-$V$36 -> 8.65803 | AN43: =V27+$V$36 -> 10.195201 | AP43: 2
B44: ACT | C44: =D28-$D$36 -> 9.744061 | D44: =D28+$D$36 -> 10.255939 | E44: =E28 -> 7.2770403 | F44: =$E$40 -> 7.2770403 | G44: =F28-$F$36 -> 9.6345043 | H44: =F28+$F$36 -> 10.365496 | I44: =G28-$G$36 -> 5.5534892 | J44: =G28+$G$36 -> 6.0251822 | K44: =$H$24 -> 2.0546164 | L44: =$H$24 -> 2.0546164 | M44: =I28-$I$36 -> 8.3926454 | N44: =I28+$K$36 -> 9.9486097 | O44: =$J$24 -> 7.4117649 | P44: =$J$24 -> 7.4117649 | Q44: =K28-$K$36 -> 5.943768 | R44: =K28+$K$36 -> 7.7003218 | S44: =L28-$L$36 -> 7.8607996 | T44: =L28+$L$36 -> 8.6616109 | U44: =M28-$M$36 -> 8.235004 | V44: =M28+$M$36 -> 9.0279703 | W44: =N28-$N$36 -> 4.5951053 | X44: =N28+$N$36 -> 5.8333901 | Y44: =O28-$O$36 -> 2.6788988 | Z44: =O28+$O$36 -> 4.4039476 | AA44: =P28-$P$36 -> 1.1065975 | AB44: =P28+$P$36 -> 2.0119685 | AC44: =Q28-$Q$36 -> 9.4634557 | AD44: =Q28+$Q$36 -> 10.536544 | AE44: =R28-$R$36 -> 8.4364162 | AF44: =R28+$R$36 -> 9.3603548 | AG44: =S28-$S$36 -> 7.394938 | AH44: =S28+$S$36 -> 8.0728658 | AI44: =T28-$T$36 -> 4.7837449 | AJ44: =T28+$T$36 -> 6.1231188 | AK44: =$U$24 -> 3.8751473 | AL44: =$U$24 -> 3.8751473 | AM44: =V28-$V$36 -> 5.9796683 | AN44: =V28+$V$36 -> 7.5168394 | AP44: 2
B45: SA | C45: =D29-$D$36 -> 9.744061 | D45: =D29+$D$36 -> 10.255939 | E45: =E29 -> 7.2770403 | F45: =$E$40 -> 7.2770403 | G45: =F29-$F$36 -> 8.9375684 | H45: =F29+$F$36 -> 9.6685598 | I45: =G29-$G$36 -> 5.945437 | J45: =G29+$G$36 -> 6.41713 | K45: =$H$24 -> 2.0546164 | L45: =$H$24 -> 2.0546164 | M45: =I29-$I$36 -> 9.2076216 | N45: =I29+$K$36 -> 10.763586 | O45: =$J$24 -> 7.4117649 | P45: =$J$24 -> 7.4117649 | Q45: =K29-$K$36 -> 4.4252376 | R45: =K29+$K$36 -> 6.1817914 | S45: =L29-$L$36 -> 8.6388686 | T45: =L29+$L$36 -> 9.4396799 | U45: =M29-$M$36 -> 7.6245365 | V45: =M29+$M$36 -> 8.4175028 | W45: =N29-$N$36 -> 3.3059672 | X45: =N29+$N$36 -> 4.544252 | Y45: =O29-$O$36 -> 1.2430906 | Z45: =O29+$O$36 -> 2.9681394 | AA45: =P29-$P$36 -> 0.89086105 | AB45: =P29+$P$36 -> 1.7962321 | AC45: =Q29-$Q$36 -> 8.5002615 | AD45: =Q29+$Q$36 -> 9.5733501 | AE45: =R29-$R$36 -> 9.4811467 | AF45: =R29+$R$36 -> 10.405085 | AG45: =S29-$S$36 -> 7.3589301 | AH45: =S29+$S$36 -> 8.0368578 | AI45: =T29-$T$36 -> 4.7447197 | AJ45: =T29+$T$36 -> 6.0840936 | AK45: =$U$24 -> 3.8751473 | AL45: =$U$24 -> 3.8751473 | AM45: =V29-$V$36 -> 6.7822042 | AN45: =V29+$V$36 -> 8.3193753 | AP45: 2
B46: NT | C46: =D30-$D$36 -> 9.0699037 | D46: =D30+$D$36 -> 9.5817814 | E46: =E30 -> 7.2770403 | F46: =$E$40 -> 7.2770403 | G46: =F30-$F$36 -> 9.6345043 | H46: =F30+$F$36 -> 10.365496 | I46: =G30-$G$36 -> 6.3968068 | J46: =G30+$G$36 -> 6.8684998 | K46: =$H$24 -> 2.0546164 | L46: =$H$24 -> 2.0546164 | M46: =I30-$I$36 -> 7.0291964 | N46: =I30+$K$36 -> 8.5851607 | O46: =$J$24 -> 7.4117649 | P46: =$J$24 -> 7.4117649 | Q46: =K30-$K$36 -> 6.6041513 | R46: =K30+$K$36 -> 8.3607052 | S46: =L30-$L$36 -> 8.1960776 | T46: =L30+$L$36 -> 8.9968889 | U46: =M30-$M$36 -> 7.4844034 | V46: =M30+$M$36 -> 8.2773697 | W46: =N30-$N$36 -> 5.0135416 | X46: =N30+$N$36 -> 6.2518264 | Y46: =O30-$O$36 -> 2.3998682 | Z46: =O30+$O$36 -> 4.1249169 | AA46: =P30-$P$36 -> 2.3454799 | AB46: =P30+$P$36 -> 3.2508509 | AC46: =Q30-$Q$36 -> 7.5552408 | AD46: =Q30+$Q$36 -> 8.6283294 | AE46: =R30-$R$36 -> 7.8195731 | AF46: =R30+$R$36 -> 8.7435117 | AG46: =S30-$S$36 -> 8.0646854 | AH46: =S30+$S$36 -> 8.7426131 | AI46: =T30-$T$36 -> 6.4743098 | AJ46: =T30+$T$36 -> 7.8136837 | AK46: =$U$24 -> 3.8751473 | AL46: =$U$24 -> 3.8751473 | AM46: =V30-$V$36 -> 6.0664787 | AN46: =V30+$V$36 -> 7.6036498 | AP46: 2
B47: WA | C47: =D31-$D$36 -> 9.4069824 | D47: =D31+$D$36 -> 9.91886 | E47: =E31 -> 7.2770403 | F47: =$E$40 -> 7.2770403 | G47: =F31-$F$36 -> 8.9743372 | H47: =F31+$F$36 -> 9.7053286 | I47: =G31-$G$36 -> 5.6426223 | J47: =G31+$G$36 -> 6.1143153 | K47: =$H$24 -> 2.0546164 | L47: =$H$24 -> 2.0546164 | M47: =I31-$I$36 -> 8.3896179 | N47: =I31+$K$36 -> 9.9455823 | O47: =$J$24 -> 7.4117649 | P47: =$J$24 -> 7.4117649 | Q47: =K31-$K$36 -> 4.1926497 | R47: =K31+$K$36 -> 5.9492036 | S47: =L31-$L$36 -> 8.0123503 | T47: =L31+$L$36 -> 8.8131616 | U47: =M31-$M$36 -> 6.8077189 | V47: =M31+$M$36 -> 7.6006852 | W47: =N31-$N$36 -> 4.8024418 | X47: =N31+$N$36 -> 6.0407266 | Y47: =O31-$O$36 -> 1.1515427 | Z47: =O31+$O$36 -> 2.8765915 | AA47: =P31-$P$36 -> 1.6299185 | AB47: =P31+$P$36 -> 2.5352895 | AC47: =Q31-$Q$36 -> 8.4057595 | AD47: =Q31+$Q$36 -> 9.478848 | AE47: =R31-$R$36 -> 8.3660434 | AF47: =R31+$R$36 -> 9.2899821 | AG47: =S31-$S$36 -> 7.8198315 | AH47: =S31+$S$36 -> 8.4977593 | AI47: =T31-$T$36 -> 4.978653 | AJ47: =T31+$T$36 -> 6.3180269 | AK47: =$U$24 -> 3.8751473 | AL47: =$U$24 -> 3.8751473 | AM47: =V31-$V$36 -> 6.8765181 | AN47: =V31+$V$36 -> 8.4136892 | AP47: 2

Sheet Domain
A1: Number of Measures | B1: 2 | C1: 5 | D1: 2 | E1: 5 | F1: 2 | G1: 4
A2: Weights | B2: 0.773 | C2: 0.94 | D2: 0.459 | E2: 1 | F2: 0.852 | G2: 0.914
A3: State | B3: HSS | C3: CPE | D3: IIM | E3: HD | F3: CM | G3: EOH
A4: QLD | B4: =Subdomain!C11 -> 6.677576 | C4: =Subdomain!E11 -> 4.7835267 | D4: =Subdomain!I11 -> 2.9789411 | E4: =Subdomain!K11 -> 5.4939467 | F4: =Subdomain!P11 -> 7.665076 | G4: =Subdomain!R11 -> 6.0610863
A5: NSW | B5: =Subdomain!C12 -> 6.4490112 | C5: =Subdomain!E12 -> 4.9111853 | D5: =Subdomain!I12 -> 3.2782443 | E5: =Subdomain!K12 -> 5.2846654 | F5: =Subdomain!P12 -> 7.4989779 | G5: =Subdomain!R12 -> 5.8460752
A6: VIC | B6: =Subdomain!C13 -> 6.5837738 | C6: =Subdomain!E13 -> 4.9637319 | D6: =Subdomain!I13 -> 3.1908437 | E6: =Subdomain!K13 -> 5.007387 | F6: =Subdomain!P13 -> 7.8103347 | G6: =Subdomain!R13 -> 5.5695115
A7: TAS | B7: =Subdomain!C14 -> 6.677576 | C7: =Subdomain!E14 -> 5.2622098 | D7: =Subdomain!I14 -> 2.8354486 | E7: =Subdomain!K14 -> 4.7863639 | F7: =Subdomain!P14 -> 8.2336944 | G7: =Subdomain!R14 -> 6.1183276
A8: ACT | B8: =Subdomain!C15 -> 6.677576 | C8: =Subdomain!E15 -> 5.0598855 | D8: =Subdomain!I15 -> 3.2666593 | E8: =Subdomain!K15 -> 5.4415293 | F8: =Subdomain!P15 -> 8.0507122 | G8: =Subdomain!R15 -> 5.4407529
A9: SA | B9: =Subdomain!C16 -> 6.677576 | C9: =Subdomain!E16 -> 5.1557633 | D9: =Subdomain!I16 -> 2.9181566 | E9: =Subdomain!K16 -> 4.886913 | F9: =Subdomain!P16 -> 8.0854467 | G9: =Subdomain!R16 -> 5.6069873
A10: NT | B10: =Subdomain!C17 -> 6.4170142 | C10: =Subdomain!E17 -> 4.9621009 | D10: =Subdomain!I17 -> 3.4182173 | E10: =Subdomain!K17 -> 5.6341223 | F10: =Subdomain!P17 -> 6.9750375 | G10: =Subdomain!R17 -> 5.9999204
A11: WA | B11: =Subdomain!C18 -> 6.5472951 | C11: =Subdomain!E18 -> 4.951962 | D11: =Subdomain!I18 -> 2.8647777 | E11: =Subdomain!K18 -> 5.0270427 | F11: =Subdomain!P18 -> 7.5701548 | G11: =Subdomain!R18 -> 5.7873078
A12: Weights Func Cap | B12: ='Foundational Capacities'!G3 -> 2.27 | C12: ='Foundational Capacities'!G4 -> 0.6 | D12: ='Foundational Capacities'!G7 -> 5.41 | E12: 0 | F12: ='Foundational Capacities'!G5 -> 1.48 | G12: ='Foundational Capacities'!G6 -> 0.86
A13: State Sum Weight | B13: 0.19 | C13: 0.19 | D13: 0.19 | E13: 0.19 | F13: 0.152 | G13: 0.088 | H13: State Average | I13: National Average | J13: Lower Cl | K13: Upper Cl | L13: SD | M13: 99% Cl | N13: MoE | O13: Count | AE13: SD | AF13: Count | AG13: 99 Cl | AH13: MoE
A14: QLD | B14: =B4+$B$12 -> 8.947576 | C14: =C4+$C$12 -> 5.3835267 | D14: =D4+$D$12 -> 8.3889411 | E14: =E4+$E$12 -> 5.4939467 | F14: =F4+$F$12 -> 9.145076 | G14: =G4+$G$12 -> 6.9210863 | H14: =((SUM(B14)*$B$13))+(SUM(C14)*$C$13)+(D14*$D$13)+(E14*$E$13)+(F14*$F$13)+(G14*$G$13) -> 7.3597654 | I14: =AVERAGE(H14:H21) -> 7.3384057 | J14: =I14-$N$14 -> 7.275051 | K14: =I14+$N$14 -> 7.4017604 | L14: =STDEVA(H14:H21) -> 0.069455068 | M14: 2.58 | N14: =(L14*M14)/(O14^0.5) -> 0.063354673 | O14: =COUNT(H14:H21) -> 8 | AE14: =STDEVA(H14:H21) -> 0.069455068 | AF14: =COUNT(H14:H21) -> 8 | AG14: 2.58 | AH14: =($AG$14*$AE$14)/($AF$14^0.5) -> 0.063354673
A15: NSW | B15: =B5+$B$12 -> 8.7190112 | C15: =C5+$C$12 -> 5.5111853 | D15: =D5+$D$12 -> 8.6882443 | E15: =E5+$E$12 -> 5.2846654 | F15: =F5+$F$12 -> 8.9789779 | G15: =G5+$G$12 -> 6.7060752 | H15: =((SUM(B15)*$B$13))+(SUM(C15)*$C$13)+(D15*$D$13)+(E15*$E$13)+(F15*$F$13)+(G15*$G$13) -> 7.3135294
A16: VIC | B16: =B6+$B$12 -> 8.8537738 | C16: =C6+$C$12 -> 5.5637319 | D16: =D6+$D$12 -> 8.6008437 | E16: =E6+$E$12 -> 5.007387 | F16: =F6+$F$12 -> 9.2903347 | G16: =G6+$G$12 -> 6.4295115 | H16: =((SUM(B16)*$B$13))+(SUM(C16)*$C$13)+(D16*$D$13)+(E16*$E$13)+(F16*$F$13)+(G16*$G$13) -> 7.3028178
A17: TAS | B17: =B7+$B$12 -> 8.947576 | C17: =C7+$C$12 -> 5.8622098 | D17: =D7+$D$12 -> 8.2454486 | E17: =E7+$E$12 -> 4.7863639 | F17: =F7+$F$12 -> 9.7136944 | G17: =G7+$G$12 -> 6.9783276 | H17: =((SUM(B17)*$B$13))+(SUM(C17)*$C$13)+(D17*$D$13)+(E17*$E$13)+(F17*$F$13)+(G17*$G$13) -> 7.380478
A18: ACT | B18: =B8+$B$12 -> 8.947576 | C18: =C8+$C$12 -> 5.6598855 | D18: =D8+$D$12 -> 8.6766593 | E18: =E8+$E$12 -> 5.4415293 | F18: =F8+$F$12 -> 9.5307122 | G18: =G8+$G$12 -> 6.3007529 | H18: =((SUM(B18)*$B$13))+(SUM(C18)*$C$13)+(D18*$D$13)+(E18*$E$13)+(F18*$F$13)+(G18*$G$13) -> 7.461008
A19: SA | B19: =B9+$B$12 -> 8.947576 | C19: =C9+$C$12 -> 5.7557633 | D19: =D9+$D$12 -> 8.3281566 | E19: =E9+$E$12 -> 4.886913 | F19: =F9+$F$12 -> 9.5654467 | G19: =G9+$G$12 -> 6.4669873 | H19: =((SUM(B19)*$B$13))+(SUM(C19)*$C$13)+(D19*$D$13)+(E19*$E$13)+(F19*$F$13)+(G19*$G$13) -> 7.3275405
A20: NT | B20: =B10+$B$12 -> 8.6870142 | C20: =C10+$C$12 -> 5.5621009 | D20: =D10+$D$12 -> 8.8282173 | E20: =E10+$E$12 -> 5.6341223 | F20: =F10+$F$12 -> 8.4550375 | G20: =G10+$G$12 -> 6.8599204 | H20: =((SUM(B20)*$B$13))+(SUM(C20)*$C$13)+(D20*$D$13)+(E20*$E$13)+(F20*$F$13)+(G20*$G$13) -> 7.3440151
A21: WA | B21: =B11+$B$12 -> 8.8172951 | C21: =C11+$C$12 -> 5.551962 | D21: =D11+$D$12 -> 8.2747777 | E21: =E11+$E$12 -> 5.0270427 | F21: =F11+$F$12 -> 9.0501548 | G21: =G11+$G$12 -> 6.6473078 | H21: =((SUM(B21)*$B$13))+(SUM(C21)*$C$13)+(D21*$D$13)+(E21*$E$13)+(F21*$F$13)+(G21*$G$13) -> 7.2180913
H30: Domain
G31: State | H31: HSS | I31: Lower Cl | J31: Upper Cl | K31: CPE | L31: Lower Cl | M31: Upper Cl | N31: IIM | O31: Lower Cl | P31: Upper Cl | Q31: HD | R31: Lower Cl | S31: Upper Cl | T31: CM | U31: Lower Cl | V31: Upper Cl | W31: EOH | X31: Lower Cl | Y31: Upper Cl | Z31: National Average | AA31: Lower Cl | AB31: Upper Cl
G32: QLD | H32: 8.947576 | I32: =H32-$H$44 -> 8.8486557 | J32: =H32+$H$44 -> 9.0464964 | K32: 5.3835267 | L32: =K32-$K$44 -> 5.2828182 | M32: =K32+$K$44 -> 5.4842352 | N32: 8.3889411 | O32: =N32-$N$44 -> 8.2288001 | P32: =N32+$N$44 -> 8.5490821 | Q32: 5.4939467 | R32: =Q32-$Q$44 -> 5.0645046 | S32: =Q32+$Q$44 -> 5.9233889 | T32: 9.145076 | U32: =T32-$T$44 -> 8.7494762 | V32: =T32+$T$44 -> 9.5406757 | W32: 6.9210863 | X32: =W32-$W$44 -> 6.6947249 | Y32: =W32+$W$44 -> 7.1474478 | Z32: =AVERAGE(H14:H21) -> 7.3384057 | AA32: =$Z$32-$AH$14 -> 7.275051 | AB32: =$Z$32+$AH$14 -> 7.4017604
G33: NSW | H33: 8.7190112 | I33: =H33-$H$44 -> 8.6200909 | J33: =H33+$H$44 -> 8.8179316 | K33: 5.433325 | L33: =K33-$K$44 -> 5.3326165 | M33: =K33+$K$44 -> 5.5340335 | N33: 8.2869535 | O33: =N33-$N$44 -> 8.1268125 | P33: =N33+$N$44 -> 8.4470945 | Q33: 4.9968442 | R33: =Q33-$Q$44 -> 4.5674021 | S33: =Q33+$Q$44 -> 5.4262864 | T33: 8.7472109 | U33: =T33-$T$44 -> 8.3516112 | V33: =T33+$T$44 -> 9.1428107 | W33: 6.7060752 | X33: =W33-$W$44 -> 6.4797138 | Y33: =W33+$W$44 -> 6.9324367
G34: VIC | H34: 8.8537738 | I34: =H34-$H$44 -> 8.7548534 | J34: =H34+$H$44 -> 8.9526941 | K34: 5.4560826 | L34: =K34-$K$44 -> 5.3553741 | M34: =K34+$K$44 -> 5.5567911 | N34: 8.1912503 | O34: =N34-$N$44 -> 8.0311093 | P34: =N34+$N$44 -> 8.3513913 | Q34: 4.5739153 | R34: =Q34-$Q$44 -> 4.1444732 | S34: =Q34+$Q$44 -> 5.0033575 | T34: 8.8033772 | U34: =T34-$T$44 -> 8.4077774 | V34: =T34+$T$44 -> 9.1989769 | W34: 6.4295115 | X34: =W34-$W$44 -> 6.2031501 | Y34: =W34+$W$44 -> 6.655873
G35: TAS | H35: 8.947576 | I35: =H35-$H$44 -> 8.8486557 | J35: =H35+$H$44 -> 9.0464964 | K35: 5.5892881 | L35: =K35-$K$44 -> 5.4885796 | M35: =K35+$K$44 -> 5.6899966 | N35: 8.0684624 | O35: =N35-$N$44 -> 7.9083214 | P35: =N35+$N$44 -> 8.2286034 | Q35: 4.1678497 | R35: =Q35-$Q$44 -> 3.7384075 | S35: =Q35+$Q$44 -> 4.5972918 | T35: 9.001331 | U35: =T35-$T$44 -> 8.6057313 | V35: =T35+$T$44 -> 9.3969308 | W35: 6.9783276 | X35: =W35-$W$44 -> 6.7519661 | Y35: =W35+$W$44 -> 7.2046891
G36: ACT | H36: 8.947576 | I36: =H36-$H$44 -> 8.8486557 | J36: =H36+$H$44 -> 9.0464964 | K36: 5.3869638 | L36: =K36-$K$44 -> 5.2862553 | M36: =K36+$K$44 -> 5.4876724 | N36: 8.4184877 | O36: =N36-$N$44 -> 8.2583467 | P36: =N36+$N$44 -> 8.5786288 | Q36: 4.5969164 | R36: =Q36-$Q$44 -> 4.1674743 | S36: =Q36+$Q$44 -> 5.0263586 | T36: 8.9659181 | U36: =T36-$T$44 -> 8.5703184 | V36: =T36+$T$44 -> 9.3615179 | W36: 6.3007529 | X36: =W36-$W$44 -> 6.0743914 | Y36: =W36+$W$44 -> 6.5271144
G37: SA | H37: 8.947576 | I37: =H37-$H$44 -> 8.8486557 | J37: =H37+$H$44 -> 9.0464964 | K37: 5.59665 | L37: =K37-$K$44 -> 5.4959414 | M37: =K37+$K$44 -> 5.6973585 | N37: 8.0575774 | O37: =N37-$N$44 -> 7.8974364 | P37: =N37+$N$44 -> 8.2177184 | Q37: 4.1035181 | R37: =Q37-$Q$44 -> 3.674076 | S37: =Q37+$Q$44 -> 4.5329603 | T37: 8.5772149 | U37: =T37-$T$44 -> 8.1816152 | V37: =T37+$T$44 -> 8.9728147 | W37: 6.4669873 | X37: =W37-$W$44 -> 6.2406258 | Y37: =W37+$W$44 -> 6.6933488
G38: NT | H38: 8.6870142 | I38: =H38-$H$44 -> 8.5880939 | J38: =H38+$H$44 -> 8.7859346 | K38: 5.2719635 | L38: =K38-$K$44 -> 5.171255 | M38: =K38+$K$44 -> 5.3726721 | N38: 8.0309149 | O38: =N38-$N$44 -> 7.8707739 | P38: =N38+$N$44 -> 8.1910559 | Q38: 4.823631 | R38: =Q38-$Q$44 -> 4.3941888 | S38: =Q38+$Q$44 -> 5.2530731 | T38: 7.8791734 | U38: =T38-$T$44 -> 7.4835737 | V38: =T38+$T$44 -> 8.2747732 | W38: 6.8599204 | X38: =W38-$W$44 -> 6.633559 | Y38: =W38+$W$44 -> 7.0862819
G39: WA | H39: 8.8172951 | I39: =H39-$H$44 -> 8.7183748 | J39: =H39+$H$44 -> 8.9162155 | K39: 5.3764289 | L39: =K39-$K$44 -> 5.2757204 | M39: =K39+$K$44 -> 5.4771374 | N39: 7.9469395 | O39: =N39-$N$44 -> 7.7867985 | P39: =N39+$N$44 -> 8.1070805 | Q39: 4.2583514 | R39: =Q39-$Q$44 -> 3.8289093 | S39: =Q39+$Q$44 -> 4.6877936 | T39: 8.1839847 | U39: =T39-$T$44 -> 7.7883849 | V39: =T39+$T$44 -> 8.5795844 | W39: 6.6473078 | X39: =W39-$W$44 -> 6.4209463 | Y39: =W39+$W$44 -> 6.8736692
G40: Averages | H40: =AVERAGE(H32:H39) -> 8.8584248 | I40: =H40-$H$44 -> 8.7595045 | J40: =H40+$H$44 -> 8.9573452 | K40: =AVERAGE(K32:K39) -> 5.4367786 | L40: =K40-$K$44 -> 5.3360701 | M40: =K40+$K$44 -> 5.5374871 | N40: =AVERAGE(N32:N39) -> 8.1736909 | O40: =N40-$N$44 -> 8.0135499 | P40: =N40+$N$44 -> 8.3338319 | Q40: =AVERAGE(Q32:Q39) -> 4.6268716 | R40: =Q40-$Q$44 -> 4.1974295 | S40: =Q40+$Q$44 -> 5.0563138 | T40: =AVERAGE(T32:T39) -> 8.6629108 | U40: =T40-$T$44 -> 8.267311 | V40: =T40+$T$44 -> 9.0585105 | W40: =AVERAGE(W32:W39) -> 6.6637461 | X40: =W40-$W$44 -> 6.4373847 | Y40: =W40+$W$44 -> 6.8901076
G41: SD | H41: =STDEVA(H32:H39) -> 0.10844536 | K41: =STDEVA(K32:K39) -> 0.11040569 | N41: =STDEVA(N32:N39) -> 0.17556092 | Q41: =STDEVA(Q32:Q39) -> 0.47079295 | T41: =STDEVA(T32:T39) -> 0.43369188 | W41: =STDEVA(W32:W39) -> 0.24815772
G42: Count | H42: =COUNT(H32:H39) -> 8 | K42: =COUNT(K32:K39) -> 8 | N42: =COUNT(N32:N39) -> 8 | Q42: =COUNT(Q32:Q39) -> 8 | T42: =COUNT(T32:T39) -> 8 | W42: =COUNT(W32:W39) -> 8
G43: 99 Cl | H43: 2.58 | K43: 2.58 | N43: 2.58 | Q43: 2.58 | T43: 2.58 | W43: 2.58
G44: MoE | H44: =(H43*H41)/(H42^0.5) -> 0.098920361 | K44: =(K43*K41)/(K42^0.5) -> 0.10070851 | N44: =(N43*N41)/(N42^0.5) -> 0.16014101 | Q44: =(Q43*Q41)/(Q42^0.5) -> 0.42944215 | T44: =(T43*T41)/(T42^0.5) -> 0.39559975 | W44: =(W43*W41)/(W42^0.5) -> 0.22636147
G45: State Summaries | H45: QLD | I45: NSW | J45: VIC | K45: TAS | L45: ACT | M45: SA | N45: NT | O45: WA
G46: SD | H46: =STDEVA($H32,$K32,$N32,$Q32,$T32,$W32) -> 1.6937801 | I46: =STDEVA($H33,$K33,$N33,$Q33,$T33,$W33) -> 1.6784306 | J46: =STDEVA($H34,$K34,$N34,$Q34,$T34,$W34) -> 1.8268523 | K46: =STDEVA($H35,$K35,$N35,$Q35,$T35,$W35) -> 1.9420187 | L46: =STDEVA($H36,$K36,$N36,$Q36,$T36,$W36) -> 1.9220961 | M46: =STDEVA($H37,$K37,$N37,$Q37,$T37,$W37) -> 1.8990405 | N46: =STDEVA($H38,$K38,$N38,$Q38,$T38,$W38) -> 1.5742112 | O46: =STDEVA($H39,$K39,$N39,$Q39,$T39,$W39) -> 1.7764768
G47: Count | H47: =COUNT(H32,K32,N32,Q32,T32,W32) -> 6 | I47: 6 | J47: 6 | K47: 6 | L47: 6 | M47: 6 | N47: 6 | O47: 6
G48: 99 Cl | H48: 2.58 | I48: 2.58 | J48: 2.58 | K48: 2.58 | L48: 2.58 | M48: 2.58 | N48: 2.58 | O48: 2.58
G49: MoE | H49: =(H48*H46)/(6^0.5) -> 1.7840257 | I49: =(I48*I46)/(6^0.5) -> 1.7678583 | J49: =(J48*J46)/(6^0.5) -> 1.9241881 | K49: =(K48*K46)/(6^0.5) -> 2.0454906 | L49: =(L48*L46)/(6^0.5) -> 2.0245065 | M49: =(M48*M46)/(6^0.5) -> 2.0002225 | N49: =(N48*N46)/(6^0.5) -> 1.6580861 | O49: =(O48*O46)/(6^0.5) -> 1.8711286
G51: Average | H51: Lower Cl | I51: Upper Cl
F52: QLD | G52: =H14 -> 7.3597654 | H52: =$G52-$H$49 -> 5.5757397 | I52: =$G52+$H$49 -> 9.143791
F53: NSW | G53: =H15 -> 7.3135294 | H53: =$G53-$I$49 -> 5.5456711 | I53: =$G53+$I$49 -> 9.0813878
F54: VIC | G54: =H16 -> 7.3028178 | H54: =G54-$J$49 -> 5.3786297 | I54: =G54+$J$49 -> 9.2270059
F55: TAS | G55: =H17 -> 7.380478 | H55: =$G$55-$K$49 -> 5.3349874 | I55: =$G$55+$K$49 -> 9.4259687
F56: ACT | G56: =H18 -> 7.461008 | H56: =$G$56-$L$49 -> 5.4365015 | I56: =$G$56+$L$49 -> 9.4855146
F57: SA | G57: =H19 -> 7.3275405 | H57: =$G$57-$M$49 -> 5.327318 | I57: =$G$57+$M$49 -> 9.327763
F58: NT | G58: =H20 -> 7.3440151 | H58: =$G$58-$N$49 -> 5.685929 | I58: =$G$58+$N$49 -> 9.0021012
F59: WA | G59: =H21 -> 7.2180913 | H59: =$G$59-$O$49 -> 5.3469628 | I59: =$G$59+$O$49 -> 9.0892199

Sheet Foundational Capacities
A2: Foundational Measures | B2: Score | D2: Delphi Weighting | F2: Coefficient | G2: Weighting
A3: M36 | B3: 1 | D3: FCHSS | E3: 0.227 | F3: =E3*1 -> 0.227 | G3: =F3*10 -> 2.27 | H3: FC = Functional Capacity
A4: M17 | B4: 1 | D4: FCCPE | E4: 0.06 | F4: =E4*1 -> 0.06 | G4: =F4*10 -> 0.6 | H4: HSS = Health Security Surveillance
A5: M19 | B5: 1 | D5: FCCM | E5: 0.148 | F5: =E5*1 -> 0.148 | G5: =F5*10 -> 1.48 | H5: CCPE = Community Planning and Engagement
A6: M20 | B6: 1 | D6: FCEOH | E6: 0.086 | F6: =E6*1 -> 0.086 | G6: =F6*10 -> 0.86 | H6: CM = Countermeasure Management
A7: M256 | B7: 1 | D7: FCIIM | E7: 0.541 | F7: =E7*1 -> 0.541 | G7: =F7*10 -> 5.41 | H7: EOH = Environmental and Occupational Health
A8: M289 | B8: 1 | H8: IIM= Incident and Information Management
A9: M801 | B9: 1 | H9: HCD = Health Care Delivery*
A10: M1 | B10: 1
A11: M10 | B11: 1
A12: M229 | B12: 1 | H12: * Healthcare Delivery does not incorporate the functional capacities
A13: M150 | B13: 1
A14: M338 | B14: 1
A15: M341 | B15: 1
A16: M342 | B16: 1
A17: M345 | B17: 1
A18: M64 | B18: 1
A19: M60 | B19: 1
A20: M196 | B20: 1
A21: M274 | B21: 1
A22: Total | B22: =SUM(B3:B21) -> 19

Sheet Sources
A5: Domain 1: Health Security Surveillance
A6: Subdomain 1.1: Health Surveillance & Epidemiological Investigation
A7: M17* - State health department participates in the Behavioral Risk Factor Surveillance System (BRFSS)
A8: M18 - Number of epidemiologists per 100,000 population in the state, by quintile
A9: M19* - State health department participates in the Epidemic Information Exchange (EpiX) System
A10: M20* - State health department participates in the National Electronic Disease Surveillance System (NEDSS)
A11: M22 - State health department has an electronic syndromic surveillance system that can report and exchange information
A12: M217 - State public health laboratory has implemented the laboratory information management system (LIMS) to exchange laboratory information and results electronically with hospitals, clinical labs, state epidemiology units, and federal agencies
A13: M220 - State has legal requirement for nongovernmental laboratories (e.g. clinical, hospital-based) in the state to send clinical isolates or specimens associated with reportable foodborne diseases to the state public health laboratory
A14: M256* - State public health laboratory participates in either of the following federal surveillance programs: Foodborne Diseases Active Surveillance Network (FoodNet) or National Molecular Subtyping Network for Foodborne Disease Surveillance (PulseNet)
A15: M23 - Percent of foodborne illness outbreaks reported to CDC by state and local public health departments for which a causative infectious agent is confirmed
A16: M289* - State health department participates in a broad prevention collaborative addressing health care-associated infections (HAIs)
... A157: M705 - Percent of employed population (16 and older) in the state who work from home

Sheet Sheet1
A1: Measures | C1: QLD | D1: NSW | E1: VIC | F1: TAS | G1: ACT | H1: SA | I1: NT | J1: WA
A3: Domain 1: Health Security Surveillance
A4: Subdomain 1.1: Health Surveillance & Epidemiological Investigation
A5: M17* - State health department participates in the Behavioral Risk Factor Surveillance System (BRFSS) | C5: 1 | D5: 1 | E5: 1 | F5: 1 | G5: 1 | H5: 1 | I5: 1
A6: Sources:
A7: AIHW (2017)
A8: Evaluation of the South Australian Monitoring and Surveillance System (SA Health 2017)
A9: QLD - QSAS Preventative Health Survey
A10: NSW - Adult Population Health Survey/Childrens
A11: *** Respective Health Surveys for State Governments ***
A16: M18 - Number of epidemiologists per 100,000 population in the state, by quintile | C16: 4 | D16: 4 | E16: 4 | F16: 4 | G16: 5 | H16: 5 | I16: 5 | J16: 4
A17: Sources:
A18: Not enough information (estimated based on population to be the same)
A20: M19* - State health department participates in the Epidemic Information Exchange (EpiX) System
A21: Sources:
A22: National Framework for Communicale Disease Control (2014) | C22: 1 | D22: 1 | E22: 1 | F22: 1 | G22: 1 | H22: 1 | I22: 1 | J22: 1
A23: Communicable Diseases Network Australia (2015)
A25: M20* - State health department participates in the National Electronic Disease Surveillance System (NEDSS) | C25: 1 | D25: 1 | E25: 1 | F25: 1 | G25: 1 | H25: 1 | I25: 1 | J25: 1
A26: Sources:
A27: NNDSS (National Notifiable Disease Surveillance System)
A29: M22 - State health department has an electronic syndromic surveillance system that can report and exchange information | C29: 1 | D29: 1 | E29: 1 | F29: 1 | G29: 1 | H29: 1 | I29: 1 | J29: 1
A30: Sources:
A31: https://www1.health.gov.au/internet/main/publishing.nsf/Content/cda-surveil-surv_sys.htm
A32: Multiple Surveillance Systems (CDI)
A34: M217 - State public health laboratory has implemented the laboratory information management system (LIMS) to exchange laboratory information and results electronically with hospitals, clinical labs, state epidemiology units, and federal agencies | C34: 1 | D34: 1 | E34: 1 | F34: * | G34: 1 | H34: 1 | I34: 1 | J34: 1
A35: Sources: ****
A36: QLD - AUSLAB
A37: NSW - HealthNET
A38: NSW Health Pathology integration with HealtheNet and My Health Records
A39: VIC - Northern Pathology Victoria
A40: TAS - ***
A41: SA - SAPathology
A42: ACT - Kestrel pathology laboratory software
A43: NT - Territory Pathology
A45: M220 - State has legal requirement for nongovernmental laboratories (e.g. clinical, hospital-based) in the state to send clinical isolates or specimens associated with reportable foodborne diseases to the state public health laboratory | C45: * | D45: * | E45: * | F45: * | G45: * | H45: * | I45: *
A46: Sources: ***
A47: QLD - Queensland Health Guideline for the investigation and management of suspected foodborne illness outbreaks December 2018
A49: M256* - State public health laboratory participates in either of the following federal surveillance programs: Foodborne Diseases Active Surveillance Network (FoodNet) or National Molecular Subtyping Network for Foodborne Disease Surveillance (PulseNet)
A50: Source:
A51: OzFoodNet | C51: 1 | D51: 1 | E51: 1 | F51: 1 | G51: 1 | H51: 1 | I51: 1
A53: M23 - Percent of foodborne illness outbreaks reported to CDC by state and local public health departments for which a causative infectious agent is confirmed
A54: Sources:
A55: OzFoodNetwork 2015 | C55: 100 | D55: 56.14 | E55: 82 | F55: 100 | G55: 100 | H55: 100 | I55: 50 | J55: 75
A57: M289* - State health department participates in a broad prevention collaborative addressing health care-associated infections (HAIs)
A58: Sources:
A59: National Health and Hospitals Network Act 2011 | C59: 1 | D59: 1 | E59: 1 | F59: 1 | G59: 1 | H59: 1 | I59: 1 | J59: 1
A60: National Health Reform Act 2011.
A61: Australian Comission on Safety and quality in healthcare
A63: M290 - State has a public health veterinarian | C63: 1 | D63: 1 | E63: 1 | F63: 1 | G63: 1 | H63: 1 | I63: 1 | J63: 1
A66: M265 - State uses an Electronic Death Registration System (EDRS)
A70: M801* - State public health laboratory participates in the Centers for Disease Control and Prevention (CDC) Influenza surveillance program, and/or the World Health Organization (WHO) Influenza Surveillance Network
A71: Sources:
A72: FluCAN (as part of the CDA) | C72: 1 | D72: 1 | E72: 1 | F72: 1 | G72: 1 | H72: 1 | I72: 1 | J72: 1
A73: https://www.who.int/initiatives/global-influenza-surveillance-and-response-system
A74: https://www1.health.gov.au/internet/main/publishing.nsf/Content/cda-surveil-ozflu-flucurr.htm
A76: M801* - State public health laboratory participates in the Centers for Disease Control and Prevention (CDC) Influenza surveillance program, and/or the World Health Organization (WHO) Influenza Surveillance Network | C76: 1 | D76: 1 | E76: 1 | F76: 1 | G76: 1 | H76: 1 | I76: 1 | J76: 1
A77: Sources:
A78: AIHR - Department of Health
A81: Subdomain 1.2: Biological Monitoring & Laboratory Testing
A82: M1* - Public Health Emergency Preparedness (PHEP) Cooperative Agreement-funded Laboratory Response Network chemical (LRN-C) laboratories collect, package, and ship samples properly during an LRN-C exercise | C82: 1 | D82: 1 | E82: 1 | F82: 1 | G82: 1 | H82: 1 | I82: 1 | J82: 1
A83: Sources:
A84: National Health Emergency Response Arragenements 2011
A86: M1314 - State public health chemical OR radiological terrorism/threat laboratory is accredited or certified by the College of American Pathologists (CAP) or Clinical Laboratory Improvement Amendments (CLIA) | C86: 1 | D86: 1 | E86: 1 | F86: 1 | G86: 1 | H86: 1 | I86: 1 | J86: 1
A87: Sources:
A88: NATA Approval
A89: NAPAAC accrediation
A91: M208 - State public health laboratory has a permit for the importation and transportation of materials, organisms, and vectors controlled by USDA/APHIS (U.S. Department of Agriculture/ Animal and Plant Health Inspection Service) | C91: 1 | D91: 1 | E91: 1 | F91: 1 | G91: 1 | H91: 1 | I91: 1 | J91: 1
A92: Sources: ****
A93: Department of Agriculture/Water/Environment Laboratory Stakeholders
A94: Department of Health (Accredited Oragnisations Gene Technology Regulator)
A96: M8 - State public health laboratory has a plan for a six to eight week surge in testing capacity to respond to an outbreak or other public health event, with enough staffing capacity to work five 12-hour days for six to eight weeks in response to an infectious disease outbreak, such as novel influenza A (H1N1) | C96: 0 | D96: 0 | E96: 0 | F96: 0 | G96: 0 | H96: 0 | I96: 0 | J96: 0
A97: Sources: ****
A98: Diaster plan - Time not stated
A100: M9 - State public health laboratory has a continuity of operations plan consistent with National Incident Management System (NIMS) guidelines | C100: 1 | D100: 1 | E100: 1 | F100: 1 | G100: 1 | H100: 1 | I100: 1 | J100: 1
A101: Sources: (Guidelines are there but not by NIMS)
A102: Australasian Inter-service Incident Management System (AIIMS),
A103: NSW - NSW Health Pathology Emergency Management Plan
A104: QLD - Disaster and Emergency Incident Plan
A105: State Disaster Plan
A106: M11 - State public health laboratory has a plan to receive specimens from sentinel clinical laboratories during nonbusiness hours | C106: 1 | D106: 1 | E106: 1 | F106: 1 | G106: 1 | H106: 1 | I106: 1 | J106: 1
A107: Sources: ****
A108: Australasian Health Facility Guidelines 550 Pathology Unit
A110: M12 - State public health laboratory has the capacity in place to assure the timely transportation (pick-up and delivery) of samples 24/7/365 days to the appropriate public health Laboratory Response Network (LRN) reference laboratory
A111: Sources:
A112: Australasian Health Facility Guidelines 550 Pathology Unit | C112: 1 | D112: 1 | E112: 1 | F112: 1 | G112: 1 | H112: 1 | I112: 1 | J112: 1
A114: M211 - Percent of 10 tests for infectious diseases that the state public health laboratory provides or assures, including the study of the characteristics of a disease or organism in blood tests for arbovirus, hepatitis C, Legionella, measles, mumps, Neisseria meningitides serotyping, Plasmodium identification, Salmonella serotyping, Shigella serotyping, and Varicella | C114: 100 | D114: 100 | E114: 100 | F114: 100 | G114: 100 | H114: 100 | I114: 100 | J114: 100
A115: Sources:
A116: Queensland Health - Communicable Disease control guidance
A117: NSW - Control Guidelines Infectious Disease
A118: Each respective state guidelines
A120: M216 - Percent of 15 tests for infectious diseases that the state public health laboratory provides or assures including: antimicrobial susceptibility testing confirmation for vancomycin resistant Staphylococcus aureus, Anaplasmosis (Anaplasma phagocytophilum), Babesiosis (Babesia sp.), botulinum toxin—mouse toxicity assay, Dengue Fever, Hantavirus serology, identification of unusual bacterial isolates, identification of fungal isolates, identification of parasites, Klebsiella pneumoniae Carbapenemase (blaKPC) by PCR, Legionella by culture or PCR, malaria by PCR, norovirus by PCR, Powassan virus, rabies
A121: Sources: ****
A124: M2 - Percent of Laboratory Response Network biological (LRN-B) proficiency tests successfully passed by Public Health Emergency Preparedness (PHEP) Cooperative Agreement-funded laboratories
A125: Source: ***
A126: National Pathology Accreditation Advisory Council (NPAAC) for laboratories
A127: Department of Health - Laboratory Proficiency Testing Requirements
A128: https://www1.health.gov.au/internet/main/publishing.nsf/Content/ohp-response-arrangement-nov11-l
A130: M3 - Percent of pulsed field gel electrophoresis (PFGE) subtyping data results for E. coli submitted to the CDC PulseNet national database within four working days of receiving samples from clinical laboratories
... A150: Sources: --- Data not available ---
A152: M288 - State public health laboratory provides or assures testing for soil | C152: 1 | D152: 1 | E152: 1 | F152: 1 | G152: 1 | H152: 1 | I152: 1 | J152: 1
...
