Workbook

Sheet All sonicated samples

Sheet average to ratio
A1: 175/125 | B1: av size (kbp)
A2: ='92'!K2 -> 0.4394937 | B2: ='92'!L2/1000 -> 0.091622034
A3: ='254'!K2 -> 0.62454472 | B3: ='254'!L2/1000 -> 0.25390561
A4: ='291'!K2 -> 0.6693846 | B4: ='291'!L2/1000 -> 0.29137629
A5: ='428'!K2 -> 0.77785832 | B5: ='428'!L2/1000 -> 0.42827508
A6: ='493'!K2 -> 0.81158982 | B6: ='493'!L2/1000 -> 0.49310276
A7: ='590'!K2 -> 0.8426028 | B7: ='590'!L2/1000 -> 0.59009271
A8: ='745'!K2 -> 0.87528929 | B8: ='745'!L2/1000 -> 0.74453729
A9: ='1274'!K2 -> 0.93017096 | B9: ='1274'!L2/1000 -> 1.27366
A10: ='6714'!K2 -> 0.97727681 | B10: ='6714'!L2/1000 -> 6.7136243
A11: ='15422'!K2 -> 0.98818615 | B11: ='15422'!L2/1000 -> 15.422121
A12: ='34625'!K2 -> 0.99389171 | B12: ='34625'!L2/1000 -> 34.6254
A13: ='41496'!K2 -> 0.99520312 | B13: ='41496'!L2/1000 -> 41.495703

Sheet 92
A1: Mean Size (bp) | B1: Concentration (pg/ul) | D1: 125 odds | E1: 175 odds | F1: [125] | G1: [175] | H1: 125 total | I1: 175 total | K1: 175/125 | L1: av size (bp)
A2: 3.04 | B2: 0.063330517 | D2: =IF((A2-125+1)/(A2) > 0, (A2-125+1)/(A2), 0) -> 0 | E2: =IF((A2-175+1)/(A2) > 0, (A2-175+1)/(A2), 0) -> 0 | F2: =D2*B2 -> 0 | G2: =E2*B2 -> 0 | H2: =SUM(F2:F10485) -> 158.67661 | I2: =SUM(G2:G10485) -> 69.737372 | K2: =I2/H2 -> 0.4394937 | L2: {=SUM(A2:A10000*B2:B10000)/SUM(B2:B10000)} -> 91.622034
A3: 3.42 | B3: 0.0724189 | D3: =IF((A3-125+1)/(A3) > 0, (A3-125+1)/(A3), 0) -> 0 | E3: =IF((A3-175+1)/(A3) > 0, (A3-175+1)/(A3), 0) -> 0 | F3: =D3*B3 -> 0 | G3: =E3*B3 -> 0
A4: 3.8 | B4: 0.094713933 | D4: =IF((A4-125+1)/(A4) > 0, (A4-125+1)/(A4), 0) -> 0 | E4: =IF((A4-175+1)/(A4) > 0, (A4-175+1)/(A4), 0) -> 0 | F4: =D4*B4 -> 0 | G4: =E4*B4 -> 0
A5: 4.18 | B5: 0.13358732 | D5: =IF((A5-125+1)/(A5) > 0, (A5-125+1)/(A5), 0) -> 0 | E5: =IF((A5-175+1)/(A5) > 0, (A5-175+1)/(A5), 0) -> 0 | F5: =D5*B5 -> 0 | G5: =E5*B5 -> 0
A6: 4.57 | B6: 0.15128757 | D6: =IF((A6-125+1)/(A6) > 0, (A6-125+1)/(A6), 0) -> 0 | E6: =IF((A6-175+1)/(A6) > 0, (A6-175+1)/(A6), 0) -> 0 | F6: =D6*B6 -> 0 | G6: =E6*B6 -> 0
A7: 4.95 | B7: 0.14799217 | D7: =IF((A7-125+1)/(A7) > 0, (A7-125+1)/(A7), 0) -> 0 | E7: =IF((A7-175+1)/(A7) > 0, (A7-175+1)/(A7), 0) -> 0 | F7: =D7*B7 -> 0 | G7: =E7*B7 -> 0
A8: 5.33 | B8: 0.15634595 | D8: =IF((A8-125+1)/(A8) > 0, (A8-125+1)/(A8), 0) -> 0 | E8: =IF((A8-175+1)/(A8) > 0, (A8-175+1)/(A8), 0) -> 0 | F8: =D8*B8 -> 0 | G8: =E8*B8 -> 0
A9: 5.71 | B9: 0.20951417 | D9: =IF((A9-125+1)/(A9) > 0, (A9-125+1)/(A9), 0) -> 0 | E9: =IF((A9-175+1)/(A9) > 0, (A9-175+1)/(A9), 0) -> 0 | F9: =D9*B9 -> 0 | G9: =E9*B9 -> 0
A10: 6.09 | B10: 0.30485833 | D10: =IF((A10-125+1)/(A10) > 0, (A10-125+1)/(A10), 0) -> 0 | E10: =IF((A10-175+1)/(A10) > 0, (A10-175+1)/(A10), 0) -> 0 | F10: =D10*B10 -> 0 | G10: =E10*B10 -> 0
A11: 6.47 | B11: 0.36568917 | D11: =IF((A11-125+1)/(A11) > 0, (A11-125+1)/(A11), 0) -> 0 | E11: =IF((A11-175+1)/(A11) > 0, (A11-175+1)/(A11), 0) -> 0 | F11: =D11*B11 -> 0 | G11: =E11*B11 -> 0
A12: 6.85 | B12: 0.403122 | D12: =IF((A12-125+1)/(A12) > 0, (A12-125+1)/(A12), 0) -> 0 | E12: =IF((A12-175+1)/(A12) > 0, (A12-175+1)/(A12), 0) -> 0 | F12: =D12*B12 -> 0 | G12: =E12*B12 -> 0
A13: 7.23 | B13: 0.41609067 | D13: =IF((A13-125+1)/(A13) > 0, (A13-125+1)/(A13), 0) -> 0 | E13: =IF((A13-175+1)/(A13) > 0, (A13-175+1)/(A13), 0) -> 0 | F13: =D13*B13 -> 0 | G13: =E13*B13 -> 0
A14: 7.61 | B14: 0.40714167 | D14: =IF((A14-125+1)/(A14) > 0, (A14-125+1)/(A14), 0) -> 0 | E14: =IF((A14-175+1)/(A14) > 0, (A14-175+1)/(A14), 0) -> 0 | F14: =D14*B14 -> 0 | G14: =E14*B14 -> 0
... A693: 350.31 | B693: 0.61362233 | D693: =IF((A693-125+1)/(A693) > 0, (A693-125+1)/(A693), 0) -> 0.6460278 | E693: =IF((A693-175+1)/(A693) > 0, (A693-175+1)/(A693), 0) -> 0.50329708 | F693: =D693*B693 -> 0.39641709 | G693: =E693*B693 -> 0.30883433

Sheet 254
A1: Mean Size (bp) | B1: Concentration (pg/ul) | D1: 125 odds | E1: 175 odds | F1: [125] | G1: [175] | H1: 125 total | I1: 175 total | K1: 175/125 | L1: av size (bp)
A2: 1 | B2: 0.0203 | D2: =IF((A2-125+1)/(A2) > 0, (A2-125+1)/(A2), 0) -> 0 | E2: =IF((A2-175+1)/(A2) > 0, (A2-175+1)/(A2), 0) -> 0 | F2: =D2*B2 -> 0 | G2: =E2*B2 -> 0 | H2: =SUM(F2:F10485) -> 823.46096 | I2: =SUM(G2:G10485) -> 514.28819 | K2: =I2/H2 -> 0.62454472 | L2: {=SUM(A2:A1319*B2:B1319)/SUM(B2:B1319)} -> 253.90561
A3: 1.35 | B3: 0.034711667 | D3: =IF((A3-125+1)/(A3) > 0, (A3-125+1)/(A3), 0) -> 0 | E3: =IF((A3-175+1)/(A3) > 0, (A3-175+1)/(A3), 0) -> 0 | F3: =D3*B3 -> 0 | G3: =E3*B3 -> 0
A4: 1.71 | B4: 0.0622612 | D4: =IF((A4-125+1)/(A4) > 0, (A4-125+1)/(A4), 0) -> 0 | E4: =IF((A4-175+1)/(A4) > 0, (A4-175+1)/(A4), 0) -> 0 | F4: =D4*B4 -> 0 | G4: =E4*B4 -> 0
A5: 2.06 | B5: 0.076214967 | D5: =IF((A5-125+1)/(A5) > 0, (A5-125+1)/(A5), 0) -> 0 | E5: =IF((A5-175+1)/(A5) > 0, (A5-175+1)/(A5), 0) -> 0 | F5: =D5*B5 -> 0 | G5: =E5*B5 -> 0
A6: 2.42 | B6: 0.080108067 | D6: =IF((A6-125+1)/(A6) > 0, (A6-125+1)/(A6), 0) -> 0 | E6: =IF((A6-175+1)/(A6) > 0, (A6-175+1)/(A6), 0) -> 0 | F6: =D6*B6 -> 0 | G6: =E6*B6 -> 0
A7: 2.77 | B7: 0.080065967 | D7: =IF((A7-125+1)/(A7) > 0, (A7-125+1)/(A7), 0) -> 0 | E7: =IF((A7-175+1)/(A7) > 0, (A7-175+1)/(A7), 0) -> 0 | F7: =D7*B7 -> 0 | G7: =E7*B7 -> 0
A8: 3.12 | B8: 0.077268867 | D8: =IF((A8-125+1)/(A8) > 0, (A8-125+1)/(A8), 0) -> 0 | E8: =IF((A8-175+1)/(A8) > 0, (A8-175+1)/(A8), 0) -> 0 | F8: =D8*B8 -> 0 | G8: =E8*B8 -> 0
A9: 3.48 | B9: 0.0780699 | D9: =IF((A9-125+1)/(A9) > 0, (A9-125+1)/(A9), 0) -> 0 | E9: =IF((A9-175+1)/(A9) > 0, (A9-175+1)/(A9), 0) -> 0 | F9: =D9*B9 -> 0 | G9: =E9*B9 -> 0
A10: 3.83 | B10: 0.087534367 | D10: =IF((A10-125+1)/(A10) > 0, (A10-125+1)/(A10), 0) -> 0 | E10: =IF((A10-175+1)/(A10) > 0, (A10-175+1)/(A10), 0) -> 0 | F10: =D10*B10 -> 0 | G10: =E10*B10 -> 0
A11: 4.19 | B11: 0.084256 | D11: =IF((A11-125+1)/(A11) > 0, (A11-125+1)/(A11), 0) -> 0 | E11: =IF((A11-175+1)/(A11) > 0, (A11-175+1)/(A11), 0) -> 0 | F11: =D11*B11 -> 0 | G11: =E11*B11 -> 0
A12: 4.54 | B12: 0.0655084 | D12: =IF((A12-125+1)/(A12) > 0, (A12-125+1)/(A12), 0) -> 0 | E12: =IF((A12-175+1)/(A12) > 0, (A12-175+1)/(A12), 0) -> 0 | F12: =D12*B12 -> 0 | G12: =E12*B12 -> 0
A13: 4.9 | B13: 0.049488533 | D13: =IF((A13-125+1)/(A13) > 0, (A13-125+1)/(A13), 0) -> 0 | E13: =IF((A13-175+1)/(A13) > 0, (A13-175+1)/(A13), 0) -> 0 | F13: =D13*B13 -> 0 | G13: =E13*B13 -> 0
A14: 5.25 | B14: 0.044016967 | D14: =IF((A14-125+1)/(A14) > 0, (A14-125+1)/(A14), 0) -> 0 | E14: =IF((A14-175+1)/(A14) > 0, (A14-175+1)/(A14), 0) -> 0 | F14: =D14*B14 -> 0 | G14: =E14*B14 -> 0
... A1169: 2547 | B1169: 0.04 | D1169: =IF((A1169-125+1)/(A1169) > 0, (A1169-125+1)/(A1169), 0) -> 0.95131527 | E1169: =IF((A1169-175+1)/(A1169) > 0, (A1169-175+1)/(A1169), 0) -> 0.93168433 | F1169: =D1169*B1169 -> 0.038052611 | G1169: =E1169*B1169 -> 0.037267373

Sheet 291
A1: Mean Size (bp) | B1: Concentration (pg/ul) | D1: 125 odds | E1: 175 odds | F1: [125] | G1: [175] | H1: 125 total | I1: 175 total | K1: 175/125 | L1: av size (bp)
A2: 1 | B2: 0.013148936 | D2: =IF((A2-125+1)/(A2) > 0, (A2-125+1)/(A2), 0) -> 0 | E2: =IF((A2-175+1)/(A2) > 0, (A2-175+1)/(A2), 0) -> 0 | F2: =D2*B2 -> 0 | G2: =E2*B2 -> 0 | H2: =SUM(F2:F10485) -> 1051.8791 | I2: =SUM(G2:G10485) -> 704.1117 | K2: =I2/H2 -> 0.6693846 | L2: {=SUM(A2:A1154*B2:B1154)/SUM(B2:B1154)} -> 291.37629
A3: 1.47 | B3: 0.027148936 | D3: =IF((A3-125+1)/(A3) > 0, (A3-125+1)/(A3), 0) -> 0 | E3: =IF((A3-175+1)/(A3) > 0, (A3-175+1)/(A3), 0) -> 0 | F3: =D3*B3 -> 0 | G3: =E3*B3 -> 0
A4: 1.94 | B4: 0.037021277 | D4: =IF((A4-125+1)/(A4) > 0, (A4-125+1)/(A4), 0) -> 0 | E4: =IF((A4-175+1)/(A4) > 0, (A4-175+1)/(A4), 0) -> 0 | F4: =D4*B4 -> 0 | G4: =E4*B4 -> 0
A5: 2.42 | B5: 0.036085106 | D5: =IF((A5-125+1)/(A5) > 0, (A5-125+1)/(A5), 0) -> 0 | E5: =IF((A5-175+1)/(A5) > 0, (A5-175+1)/(A5), 0) -> 0 | F5: =D5*B5 -> 0 | G5: =E5*B5 -> 0
A6: 2.89 | B6: 0.026510638 | D6: =IF((A6-125+1)/(A6) > 0, (A6-125+1)/(A6), 0) -> 0 | E6: =IF((A6-175+1)/(A6) > 0, (A6-175+1)/(A6), 0) -> 0 | F6: =D6*B6 -> 0 | G6: =E6*B6 -> 0
A7: 3.36 | B7: 0.044998851 | D7: =IF((A7-125+1)/(A7) > 0, (A7-125+1)/(A7), 0) -> 0 | E7: =IF((A7-175+1)/(A7) > 0, (A7-175+1)/(A7), 0) -> 0 | F7: =D7*B7 -> 0 | G7: =E7*B7 -> 0
A8: 3.83 | B8: 0.065570043 | D8: =IF((A8-125+1)/(A8) > 0, (A8-125+1)/(A8), 0) -> 0 | E8: =IF((A8-175+1)/(A8) > 0, (A8-175+1)/(A8), 0) -> 0 | F8: =D8*B8 -> 0 | G8: =E8*B8 -> 0
A9: 4.31 | B9: 0.087188766 | D9: =IF((A9-125+1)/(A9) > 0, (A9-125+1)/(A9), 0) -> 0 | E9: =IF((A9-175+1)/(A9) > 0, (A9-175+1)/(A9), 0) -> 0 | F9: =D9*B9 -> 0 | G9: =E9*B9 -> 0
A10: 4.78 | B10: 0.10456311 | D10: =IF((A10-125+1)/(A10) > 0, (A10-125+1)/(A10), 0) -> 0 | E10: =IF((A10-175+1)/(A10) > 0, (A10-175+1)/(A10), 0) -> 0 | F10: =D10*B10 -> 0 | G10: =E10*B10 -> 0
A11: 5.25 | B11: 0.10986438 | D11: =IF((A11-125+1)/(A11) > 0, (A11-125+1)/(A11), 0) -> 0 | E11: =IF((A11-175+1)/(A11) > 0, (A11-175+1)/(A11), 0) -> 0 | F11: =D11*B11 -> 0 | G11: =E11*B11 -> 0
A12: 5.72 | B12: 0.096725234 | D12: =IF((A12-125+1)/(A12) > 0, (A12-125+1)/(A12), 0) -> 0 | E12: =IF((A12-175+1)/(A12) > 0, (A12-175+1)/(A12), 0) -> 0 | F12: =D12*B12 -> 0 | G12: =E12*B12 -> 0
A13: 6.19 | B13: 0.061985532 | D13: =IF((A13-125+1)/(A13) > 0, (A13-125+1)/(A13), 0) -> 0 | E13: =IF((A13-175+1)/(A13) > 0, (A13-175+1)/(A13), 0) -> 0 | F13: =D13*B13 -> 0 | G13: =E13*B13 -> 0
A14: 6.67 | B14: 0.035148936 | D14: =IF((A14-125+1)/(A14) > 0, (A14-125+1)/(A14), 0) -> 0 | E14: =IF((A14-175+1)/(A14) > 0, (A14-175+1)/(A14), 0) -> 0 | F14: =D14*B14 -> 0 | G14: =E14*B14 -> 0
... A1135: 2676 | B1135: 0.06 | D1135: =IF((A1135-125+1)/(A1135) > 0, (A1135-125+1)/(A1135), 0) -> 0.95366218 | E1135: =IF((A1135-175+1)/(A1135) > 0, (A1135-175+1)/(A1135), 0) -> 0.93497758 | F1135: =D1135*B1135 -> 0.057219731 | G1135: =E1135*B1135 -> 0.056098655

Sheet 428
A1: Mean Size (bp) | B1: Concentration (pg/ul) | D1: 125 odds | E1: 175 odds | F1: [125] | G1: [175] | H1: 125 total | I1: 175 total | K1: 175/125 | L1: av size (bp)
A2: 1 | B2: 0.012421525 | D2: =IF((A2-125+1)/(A2) > 0, (A2-125+1)/(A2), 0) -> 0 | E2: =IF((A2-175+1)/(A2) > 0, (A2-175+1)/(A2), 0) -> 0 | F2: =D2*B2 -> 0 | G2: =E2*B2 -> 0 | H2: =SUM(F2:F10485) -> 1312.1307 | I2: =SUM(G2:G10485) -> 1020.6517 | K2: =I2/H2 -> 0.77785832 | L2: {=SUM(A2:A1252*B2:B1252)/SUM(B2:B1252)} -> 428.27508
A3: 2.13 | B3: 0.046077534 | D3: =IF((A3-125+1)/(A3) > 0, (A3-125+1)/(A3), 0) -> 0 | E3: =IF((A3-175+1)/(A3) > 0, (A3-175+1)/(A3), 0) -> 0 | F3: =D3*B3 -> 0 | G3: =E3*B3 -> 0
A4: 3.27 | B4: 0.065752018 | D4: =IF((A4-125+1)/(A4) > 0, (A4-125+1)/(A4), 0) -> 0 | E4: =IF((A4-175+1)/(A4) > 0, (A4-175+1)/(A4), 0) -> 0 | F4: =D4*B4 -> 0 | G4: =E4*B4 -> 0
A5: 4.4 | B5: 0.073630314 | D5: =IF((A5-125+1)/(A5) > 0, (A5-125+1)/(A5), 0) -> 0 | E5: =IF((A5-175+1)/(A5) > 0, (A5-175+1)/(A5), 0) -> 0 | F5: =D5*B5 -> 0 | G5: =E5*B5 -> 0
A6: 5.53 | B6: 0.071178565 | D6: =IF((A6-125+1)/(A6) > 0, (A6-125+1)/(A6), 0) -> 0 | E6: =IF((A6-175+1)/(A6) > 0, (A6-175+1)/(A6), 0) -> 0 | F6: =D6*B6 -> 0 | G6: =E6*B6 -> 0
A7: 6.67 | B7: 0.070700359 | D7: =IF((A7-125+1)/(A7) > 0, (A7-125+1)/(A7), 0) -> 0 | E7: =IF((A7-175+1)/(A7) > 0, (A7-175+1)/(A7), 0) -> 0 | F7: =D7*B7 -> 0 | G7: =E7*B7 -> 0
A8: 7.8 | B8: 0.072093363 | D8: =IF((A8-125+1)/(A8) > 0, (A8-125+1)/(A8), 0) -> 0 | E8: =IF((A8-175+1)/(A8) > 0, (A8-175+1)/(A8), 0) -> 0 | F8: =D8*B8 -> 0 | G8: =E8*B8 -> 0
A9: 8.93 | B9: 0.072125202 | D9: =IF((A9-125+1)/(A9) > 0, (A9-125+1)/(A9), 0) -> 0 | E9: =IF((A9-175+1)/(A9) > 0, (A9-175+1)/(A9), 0) -> 0 | F9: =D9*B9 -> 0 | G9: =E9*B9 -> 0
A10: 10.07 | B10: 0.074003453 | D10: =IF((A10-125+1)/(A10) > 0, (A10-125+1)/(A10), 0) -> 0 | E10: =IF((A10-175+1)/(A10) > 0, (A10-175+1)/(A10), 0) -> 0 | F10: =D10*B10 -> 0 | G10: =E10*B10 -> 0
A11: 11.2 | B11: 0.093920717 | D11: =IF((A11-125+1)/(A11) > 0, (A11-125+1)/(A11), 0) -> 0 | E11: =IF((A11-175+1)/(A11) > 0, (A11-175+1)/(A11), 0) -> 0 | F11: =D11*B11 -> 0 | G11: =E11*B11 -> 0
A12: 12.33 | B12: 0.10490441 | D12: =IF((A12-125+1)/(A12) > 0, (A12-125+1)/(A12), 0) -> 0 | E12: =IF((A12-175+1)/(A12) > 0, (A12-175+1)/(A12), 0) -> 0 | F12: =D12*B12 -> 0 | G12: =E12*B12 -> 0
A13: 13.47 | B13: 0.11588811 | D13: =IF((A13-125+1)/(A13) > 0, (A13-125+1)/(A13), 0) -> 0 | E13: =IF((A13-175+1)/(A13) > 0, (A13-175+1)/(A13), 0) -> 0 | F13: =D13*B13 -> 0 | G13: =E13*B13 -> 0
A14: 14.6 | B14: 0.1268718 | D14: =IF((A14-125+1)/(A14) > 0, (A14-125+1)/(A14), 0) -> 0 | E14: =IF((A14-175+1)/(A14) > 0, (A14-175+1)/(A14), 0) -> 0 | F14: =D14*B14 -> 0 | G14: =E14*B14 -> 0
... A1091: 2902.5 | B1091: 0.15 | D1091: =IF((A1091-125+1)/(A1091) > 0, (A1091-125+1)/(A1091), 0) -> 0.95727821 | E1091: =IF((A1091-175+1)/(A1091) > 0, (A1091-175+1)/(A1091), 0) -> 0.94005168 | F1091: =D1091*B1091 -> 0.14359173 | G1091: =E1091*B1091 -> 0.14100775

Sheet 493
A1: Mean Size (bp) | B1: Concentration (pg/ul) | D1: 125 odds | E1: 175 odds | F1: [125] | G1: [175] | H1: 125 total | I1: 175 total | K1: 175/125 | L1: av size (bp)
A2: 1 | B2: 0.0013601533 | D2: =IF((A2-125+1)/(A2) > 0, (A2-125+1)/(A2), 0) -> 0 | E2: =IF((A2-175+1)/(A2) > 0, (A2-175+1)/(A2), 0) -> 0 | F2: =D2*B2 -> 0 | G2: =E2*B2 -> 0 | H2: =SUM(F2:F10485) -> 1661.9299 | I2: =SUM(G2:G10485) -> 1348.8054 | K2: =I2/H2 -> 0.81158982 | L2: {=SUM(A2:A1285*B2:B1285)/SUM(B2:B1285)} -> 493.10276
A3: 1.55 | B3: 0.022643678 | D3: =IF((A3-125+1)/(A3) > 0, (A3-125+1)/(A3), 0) -> 0 | E3: =IF((A3-175+1)/(A3) > 0, (A3-175+1)/(A3), 0) -> 0 | F3: =D3*B3 -> 0 | G3: =E3*B3 -> 0
A4: 2.1 | B4: 0.041144521 | D4: =IF((A4-125+1)/(A4) > 0, (A4-125+1)/(A4), 0) -> 0 | E4: =IF((A4-175+1)/(A4) > 0, (A4-175+1)/(A4), 0) -> 0 | F4: =D4*B4 -> 0 | G4: =E4*B4 -> 0
A5: 2.65 | B5: 0.058833908 | D5: =IF((A5-125+1)/(A5) > 0, (A5-125+1)/(A5), 0) -> 0 | E5: =IF((A5-175+1)/(A5) > 0, (A5-175+1)/(A5), 0) -> 0 | F5: =D5*B5 -> 0 | G5: =E5*B5 -> 0
A6: 3.19 | B6: 0.075895747 | D6: =IF((A6-125+1)/(A6) > 0, (A6-125+1)/(A6), 0) -> 0 | E6: =IF((A6-175+1)/(A6) > 0, (A6-175+1)/(A6), 0) -> 0 | F6: =D6*B6 -> 0 | G6: =E6*B6 -> 0
A7: 3.74 | B7: 0.070531341 | D7: =IF((A7-125+1)/(A7) > 0, (A7-125+1)/(A7), 0) -> 0 | E7: =IF((A7-175+1)/(A7) > 0, (A7-175+1)/(A7), 0) -> 0 | F7: =D7*B7 -> 0 | G7: =E7*B7 -> 0
A8: 4.29 | B8: 0.052656628 | D8: =IF((A8-125+1)/(A8) > 0, (A8-125+1)/(A8), 0) -> 0 | E8: =IF((A8-175+1)/(A8) > 0, (A8-175+1)/(A8), 0) -> 0 | F8: =D8*B8 -> 0 | G8: =E8*B8 -> 0
A9: 4.84 | B9: 0.032443295 | D9: =IF((A9-125+1)/(A9) > 0, (A9-125+1)/(A9), 0) -> 0 | E9: =IF((A9-175+1)/(A9) > 0, (A9-175+1)/(A9), 0) -> 0 | F9: =D9*B9 -> 0 | G9: =E9*B9 -> 0
A10: 5.39 | B10: 0.024291188 | D10: =IF((A10-125+1)/(A10) > 0, (A10-125+1)/(A10), 0) -> 0 | E10: =IF((A10-175+1)/(A10) > 0, (A10-175+1)/(A10), 0) -> 0 | F10: =D10*B10 -> 0 | G10: =E10*B10 -> 0
A11: 5.94 | B11: 0.029233716 | D11: =IF((A11-125+1)/(A11) > 0, (A11-125+1)/(A11), 0) -> 0 | E11: =IF((A11-175+1)/(A11) > 0, (A11-175+1)/(A11), 0) -> 0 | F11: =D11*B11 -> 0 | G11: =E11*B11 -> 0
A12: 6.48 | B12: 0.036436782 | D12: =IF((A12-125+1)/(A12) > 0, (A12-125+1)/(A12), 0) -> 0 | E12: =IF((A12-175+1)/(A12) > 0, (A12-175+1)/(A12), 0) -> 0 | F12: =D12*B12 -> 0 | G12: =E12*B12 -> 0
A13: 7.03 | B13: 0.029386973 | D13: =IF((A13-125+1)/(A13) > 0, (A13-125+1)/(A13), 0) -> 0 | E13: =IF((A13-175+1)/(A13) > 0, (A13-175+1)/(A13), 0) -> 0 | F13: =D13*B13 -> 0 | G13: =E13*B13 -> 0
A14: 7.58 | B14: 0.021149425 | D14: =IF((A14-125+1)/(A14) > 0, (A14-125+1)/(A14), 0) -> 0 | E14: =IF((A14-175+1)/(A14) > 0, (A14-175+1)/(A14), 0) -> 0 | F14: =D14*B14 -> 0 | G14: =E14*B14 -> 0
... A1113: 3006.5 | B1113: 0.19 | D1113: =IF((A1113-125+1)/(A1113) > 0, (A1113-125+1)/(A1113), 0) -> 0.95875603 | E1113: =IF((A1113-175+1)/(A1113) > 0, (A1113-175+1)/(A1113), 0) -> 0.94212539 | F1113: =D1113*B1113 -> 0.18216365 | G1113: =E1113*B1113 -> 0.17900383

Sheet 590
A1: Mean Size (bp) | B1: Concentration (pg/ul) | D1: 125 odds | E1: 175 odds | F1: [125] | G1: [175] | H1: 125 total | I1: 175 total | K1: 175/125 | L1: av size (bp)
A2: 1 | B2: 0.06148855 | D2: =IF((A2-125+1)/(A2) > 0, (A2-125+1)/(A2), 0) -> 0 | E2: =IF((A2-175+1)/(A2) > 0, (A2-175+1)/(A2), 0) -> 0 | F2: =D2*B2 -> 0 | G2: =E2*B2 -> 0 | H2: =SUM(F2:F10485) -> 1699.2308 | I2: =SUM(G2:G10485) -> 1431.7766 | K2: =I2/H2 -> 0.8426028 | L2: {=SUM(A63:A1268*B63:B1268)/SUM(B63:B1268)} -> 590.09271
A3: 1.76 | B3: 0.1132764 | D3: =IF((A3-125+1)/(A3) > 0, (A3-125+1)/(A3), 0) -> 0 | E3: =IF((A3-175+1)/(A3) > 0, (A3-175+1)/(A3), 0) -> 0 | F3: =D3*B3 -> 0 | G3: =E3*B3 -> 0
A4: 2.51 | B4: 0.12556203 | D4: =IF((A4-125+1)/(A4) > 0, (A4-125+1)/(A4), 0) -> 0 | E4: =IF((A4-175+1)/(A4) > 0, (A4-175+1)/(A4), 0) -> 0 | F4: =D4*B4 -> 0 | G4: =E4*B4 -> 0
A5: 3.27 | B5: 0.09362074 | D5: =IF((A5-125+1)/(A5) > 0, (A5-125+1)/(A5), 0) -> 0 | E5: =IF((A5-175+1)/(A5) > 0, (A5-175+1)/(A5), 0) -> 0 | F5: =D5*B5 -> 0 | G5: =E5*B5 -> 0
A6: 4.02 | B6: 0.063744305 | D6: =IF((A6-125+1)/(A6) > 0, (A6-125+1)/(A6), 0) -> 0 | E6: =IF((A6-175+1)/(A6) > 0, (A6-175+1)/(A6), 0) -> 0 | F6: =D6*B6 -> 0 | G6: =E6*B6 -> 0
A7: 4.78 | B7: 0.033392624 | D7: =IF((A7-125+1)/(A7) > 0, (A7-125+1)/(A7), 0) -> 0 | E7: =IF((A7-175+1)/(A7) > 0, (A7-175+1)/(A7), 0) -> 0 | F7: =D7*B7 -> 0 | G7: =E7*B7 -> 0
A8: 5.53 | B8: 0.010654276 | D8: =IF((A8-125+1)/(A8) > 0, (A8-125+1)/(A8), 0) -> 0 | E8: =IF((A8-175+1)/(A8) > 0, (A8-175+1)/(A8), 0) -> 0 | F8: =D8*B8 -> 0 | G8: =E8*B8 -> 0
A9: 6.29 | B9: 0.0078408094 | D9: =IF((A9-125+1)/(A9) > 0, (A9-125+1)/(A9), 0) -> 0 | E9: =IF((A9-175+1)/(A9) > 0, (A9-175+1)/(A9), 0) -> 0 | F9: =D9*B9 -> 0 | G9: =E9*B9 -> 0
A10: 7.04 | B10: 0.023015082 | D10: =IF((A10-125+1)/(A10) > 0, (A10-125+1)/(A10), 0) -> 0 | E10: =IF((A10-175+1)/(A10) > 0, (A10-175+1)/(A10), 0) -> 0 | F10: =D10*B10 -> 0 | G10: =E10*B10 -> 0
A11: 7.8 | B11: 0.046076286 | D11: =IF((A11-125+1)/(A11) > 0, (A11-125+1)/(A11), 0) -> 0 | E11: =IF((A11-175+1)/(A11) > 0, (A11-175+1)/(A11), 0) -> 0 | F11: =D11*B11 -> 0 | G11: =E11*B11 -> 0
A12: 8.56 | B12: 0.073932929 | D12: =IF((A12-125+1)/(A12) > 0, (A12-125+1)/(A12), 0) -> 0 | E12: =IF((A12-175+1)/(A12) > 0, (A12-175+1)/(A12), 0) -> 0 | F12: =D12*B12 -> 0 | G12: =E12*B12 -> 0
A13: 9.31 | B13: 0.064805258 | D13: =IF((A13-125+1)/(A13) > 0, (A13-125+1)/(A13), 0) -> 0 | E13: =IF((A13-175+1)/(A13) > 0, (A13-175+1)/(A13), 0) -> 0 | F13: =D13*B13 -> 0 | G13: =E13*B13 -> 0
A14: 10.07 | B14: 0.052597948 | D14: =IF((A14-125+1)/(A14) > 0, (A14-125+1)/(A14), 0) -> 0 | E14: =IF((A14-175+1)/(A14) > 0, (A14-175+1)/(A14), 0) -> 0 | F14: =D14*B14 -> 0 | G14: =E14*B14 -> 0
... A1095: 3669 | B1095: 0.21 | D1095: =IF((A1095-125+1)/(A1095) > 0, (A1095-125+1)/(A1095), 0) -> 0.96620333 | E1095: =IF((A1095-175+1)/(A1095) > 0, (A1095-175+1)/(A1095), 0) -> 0.95257563 | F1095: =D1095*B1095 -> 0.2029027 | G1095: =E1095*B1095 -> 0.20004088

Sheet 745
A1: Mean Size (bp) | B1: Concentration (pg/ul) | D1: 125 odds | E1: 175 odds | F1: [125] | G1: [175] | H1: 125 total | I1: 175 total | K1: 175/125 | L1: av size (bp)
A2: 1 | B2: 0.011645675 | D2: =IF((A2-125+1)/(A2) > 0, (A2-125+1)/(A2), 0) -> 0 | E2: =IF((A2-175+1)/(A2) > 0, (A2-175+1)/(A2), 0) -> 0 | F2: =D2*B2 -> 0 | G2: =E2*B2 -> 0 | H2: =SUM(F2:F10485) -> 1723.23 | I2: =SUM(G2:G10485) -> 1508.3248 | K2: =I2/H2 -> 0.87528929 | L2: {=SUM(A55:A1260*B55:B1260)/SUM(B55:B1260)} -> 744.53729
A3: 1.92 | B3: 0.016939163 | D3: =IF((A3-125+1)/(A3) > 0, (A3-125+1)/(A3), 0) -> 0 | E3: =IF((A3-175+1)/(A3) > 0, (A3-175+1)/(A3), 0) -> 0 | F3: =D3*B3 -> 0 | G3: =E3*B3 -> 0
A4: 2.84 | B4: 0.021562247 | D4: =IF((A4-125+1)/(A4) > 0, (A4-125+1)/(A4), 0) -> 0 | E4: =IF((A4-175+1)/(A4) > 0, (A4-175+1)/(A4), 0) -> 0 | F4: =D4*B4 -> 0 | G4: =E4*B4 -> 0
A5: 3.76 | B5: 0.042721567 | D5: =IF((A5-125+1)/(A5) > 0, (A5-125+1)/(A5), 0) -> 0 | E5: =IF((A5-175+1)/(A5) > 0, (A5-175+1)/(A5), 0) -> 0 | F5: =D5*B5 -> 0 | G5: =E5*B5 -> 0
A6: 4.68 | B6: 0.085790635 | D6: =IF((A6-125+1)/(A6) > 0, (A6-125+1)/(A6), 0) -> 0 | E6: =IF((A6-175+1)/(A6) > 0, (A6-175+1)/(A6), 0) -> 0 | F6: =D6*B6 -> 0 | G6: =E6*B6 -> 0
A7: 5.59 | B7: 0.10621017 | D7: =IF((A7-125+1)/(A7) > 0, (A7-125+1)/(A7), 0) -> 0 | E7: =IF((A7-175+1)/(A7) > 0, (A7-175+1)/(A7), 0) -> 0 | F7: =D7*B7 -> 0 | G7: =E7*B7 -> 0
A8: 6.51 | B8: 0.15062329 | D8: =IF((A8-125+1)/(A8) > 0, (A8-125+1)/(A8), 0) -> 0 | E8: =IF((A8-175+1)/(A8) > 0, (A8-175+1)/(A8), 0) -> 0 | F8: =D8*B8 -> 0 | G8: =E8*B8 -> 0
A9: 7.43 | B9: 0.1916076 | D9: =IF((A9-125+1)/(A9) > 0, (A9-125+1)/(A9), 0) -> 0 | E9: =IF((A9-175+1)/(A9) > 0, (A9-175+1)/(A9), 0) -> 0 | F9: =D9*B9 -> 0 | G9: =E9*B9 -> 0
A10: 8.35 | B10: 0.18921687 | D10: =IF((A10-125+1)/(A10) > 0, (A10-125+1)/(A10), 0) -> 0 | E10: =IF((A10-175+1)/(A10) > 0, (A10-175+1)/(A10), 0) -> 0 | F10: =D10*B10 -> 0 | G10: =E10*B10 -> 0
A11: 9.27 | B11: 0.11415776 | D11: =IF((A11-125+1)/(A11) > 0, (A11-125+1)/(A11), 0) -> 0 | E11: =IF((A11-175+1)/(A11) > 0, (A11-175+1)/(A11), 0) -> 0 | F11: =D11*B11 -> 0 | G11: =E11*B11 -> 0
A12: 10.19 | B12: 0.081205602 | D12: =IF((A12-125+1)/(A12) > 0, (A12-125+1)/(A12), 0) -> 0 | E12: =IF((A12-175+1)/(A12) > 0, (A12-175+1)/(A12), 0) -> 0 | F12: =D12*B12 -> 0 | G12: =E12*B12 -> 0
A13: 11.11 | B13: 0.088990456 | D13: =IF((A13-125+1)/(A13) > 0, (A13-125+1)/(A13), 0) -> 0 | E13: =IF((A13-175+1)/(A13) > 0, (A13-175+1)/(A13), 0) -> 0 | F13: =D13*B13 -> 0 | G13: =E13*B13 -> 0
A14: 12.03 | B14: 0.10448693 | D14: =IF((A14-125+1)/(A14) > 0, (A14-125+1)/(A14), 0) -> 0 | E14: =IF((A14-175+1)/(A14) > 0, (A14-175+1)/(A14), 0) -> 0 | F14: =D14*B14 -> 0 | G14: =E14*B14 -> 0
... A1077: 3805 | B1077: 0.3 | D1077: =IF((A1077-125+1)/(A1077) > 0, (A1077-125+1)/(A1077), 0) -> 0.9674113 | E1077: =IF((A1077-175+1)/(A1077) > 0, (A1077-175+1)/(A1077), 0) -> 0.9542707 | F1077: =D1077*B1077 -> 0.29022339 | G1077: =E1077*B1077 -> 0.28628121

Sheet 1274
A1: Mean Size (bp) | B1: Concentration (pg/ul) | D1: 125 odds | E1: 175 odds | F1: [125] | G1: [175] | H1: 125 total | I1: 175 total | K1: 175/125 | L1: av size (bp)
A2: 1 | B2: 0.028992537 | D2: =IF((A2-125+1)/(A2) > 0, (A2-125+1)/(A2), 0) -> 0 | E2: =IF((A2-175+1)/(A2) > 0, (A2-175+1)/(A2), 0) -> 0 | F2: =D2*B2 -> 0 | G2: =E2*B2 -> 0 | H2: =SUM(F2:F10485) -> 1551.3666 | I2: =SUM(G2:G10485) -> 1443.0362 | K2: =I2/H2 -> 0.93017096 | L2: {=SUM(A34:A1239*B34:B1239)/SUM(B34:B1239)} -> 1273.66
A3: 3.43 | B3: 0.034634328 | D3: =IF((A3-125+1)/(A3) > 0, (A3-125+1)/(A3), 0) -> 0 | E3: =IF((A3-175+1)/(A3) > 0, (A3-175+1)/(A3), 0) -> 0 | F3: =D3*B3 -> 0 | G3: =E3*B3 -> 0
A4: 5.86 | B4: 0.040276119 | D4: =IF((A4-125+1)/(A4) > 0, (A4-125+1)/(A4), 0) -> 0 | E4: =IF((A4-175+1)/(A4) > 0, (A4-175+1)/(A4), 0) -> 0 | F4: =D4*B4 -> 0 | G4: =E4*B4 -> 0
A5: 8.29 | B5: 0.04591791 | D5: =IF((A5-125+1)/(A5) > 0, (A5-125+1)/(A5), 0) -> 0 | E5: =IF((A5-175+1)/(A5) > 0, (A5-175+1)/(A5), 0) -> 0 | F5: =D5*B5 -> 0 | G5: =E5*B5 -> 0
A6: 10.71 | B6: 0.051559701 | D6: =IF((A6-125+1)/(A6) > 0, (A6-125+1)/(A6), 0) -> 0 | E6: =IF((A6-175+1)/(A6) > 0, (A6-175+1)/(A6), 0) -> 0 | F6: =D6*B6 -> 0 | G6: =E6*B6 -> 0
A7: 13.14 | B7: 0.057201493 | D7: =IF((A7-125+1)/(A7) > 0, (A7-125+1)/(A7), 0) -> 0 | E7: =IF((A7-175+1)/(A7) > 0, (A7-175+1)/(A7), 0) -> 0 | F7: =D7*B7 -> 0 | G7: =E7*B7 -> 0
A8: 15.57 | B8: 0.062843284 | D8: =IF((A8-125+1)/(A8) > 0, (A8-125+1)/(A8), 0) -> 0 | E8: =IF((A8-175+1)/(A8) > 0, (A8-175+1)/(A8), 0) -> 0 | F8: =D8*B8 -> 0 | G8: =E8*B8 -> 0
A9: 18 | B9: 0.068485075 | D9: =IF((A9-125+1)/(A9) > 0, (A9-125+1)/(A9), 0) -> 0 | E9: =IF((A9-175+1)/(A9) > 0, (A9-175+1)/(A9), 0) -> 0 | F9: =D9*B9 -> 0 | G9: =E9*B9 -> 0
A10: 20.43 | B10: 0.074126866 | D10: =IF((A10-125+1)/(A10) > 0, (A10-125+1)/(A10), 0) -> 0 | E10: =IF((A10-175+1)/(A10) > 0, (A10-175+1)/(A10), 0) -> 0 | F10: =D10*B10 -> 0 | G10: =E10*B10 -> 0
A11: 22.86 | B11: 0.079768657 | D11: =IF((A11-125+1)/(A11) > 0, (A11-125+1)/(A11), 0) -> 0 | E11: =IF((A11-175+1)/(A11) > 0, (A11-175+1)/(A11), 0) -> 0 | F11: =D11*B11 -> 0 | G11: =E11*B11 -> 0
A12: 25.29 | B12: 0.085410448 | D12: =IF((A12-125+1)/(A12) > 0, (A12-125+1)/(A12), 0) -> 0 | E12: =IF((A12-175+1)/(A12) > 0, (A12-175+1)/(A12), 0) -> 0 | F12: =D12*B12 -> 0 | G12: =E12*B12 -> 0
A13: 27.71 | B13: 0.091052239 | D13: =IF((A13-125+1)/(A13) > 0, (A13-125+1)/(A13), 0) -> 0 | E13: =IF((A13-175+1)/(A13) > 0, (A13-175+1)/(A13), 0) -> 0 | F13: =D13*B13 -> 0 | G13: =E13*B13 -> 0
A14: 30.14 | B14: 0.09669403 | D14: =IF((A14-125+1)/(A14) > 0, (A14-125+1)/(A14), 0) -> 0 | E14: =IF((A14-175+1)/(A14) > 0, (A14-175+1)/(A14), 0) -> 0 | F14: =D14*B14 -> 0 | G14: =E14*B14 -> 0
... A1109: 6305 | B1109: 0.4 | D1109: =IF((A1109-125+1)/(A1109) > 0, (A1109-125+1)/(A1109), 0) -> 0.98033307 | E1109: =IF((A1109-175+1)/(A1109) > 0, (A1109-175+1)/(A1109), 0) -> 0.97240285 | F1109: =D1109*B1109 -> 0.39213323 | G1109: =E1109*B1109 -> 0.38896114

Sheet 6714
A1: Mean Size (bp) | B1: Concentration (pg/ul) | D1: 125 odds | E1: 175 odds | F1: [125] | G1: [175] | H1: 125 total | I1: 175 total | K1: 175/125 | L1: av size (bp)
A2: 120.43478 | B2: 0.12796875 | D2: =IF((A2-125+1)/(A2) > 0, (A2-125+1)/(A2), 0) -> 0 | E2: =IF((A2-175+1)/(A2) > 0, (A2-175+1)/(A2), 0) -> 0 | F2: =D2*B2 -> 0 | G2: =E2*B2 -> 0 | H2: =SUM(F2:F10485) -> 2163.0004 | I2: =SUM(G2:G10485) -> 2113.8501 | K2: =I2/H2 -> 0.97727681 | L2: {=SUM(A2:A2078*B2:B2078)/SUM(B2:B2078)} -> 6713.6243
A3: 120.86957 | B3: 0.1240625 | D3: =IF((A3-125+1)/(A3) > 0, (A3-125+1)/(A3), 0) -> 0 | E3: =IF((A3-175+1)/(A3) > 0, (A3-175+1)/(A3), 0) -> 0 | F3: =D3*B3 -> 0 | G3: =E3*B3 -> 0
A4: 121.30435 | B4: 0.1196875 | D4: =IF((A4-125+1)/(A4) > 0, (A4-125+1)/(A4), 0) -> 0 | E4: =IF((A4-175+1)/(A4) > 0, (A4-175+1)/(A4), 0) -> 0 | F4: =D4*B4 -> 0 | G4: =E4*B4 -> 0
A5: 121.73913 | B5: 0.1159375 | D5: =IF((A5-125+1)/(A5) > 0, (A5-125+1)/(A5), 0) -> 0 | E5: =IF((A5-175+1)/(A5) > 0, (A5-175+1)/(A5), 0) -> 0 | F5: =D5*B5 -> 0 | G5: =E5*B5 -> 0
A6: 122.17391 | B6: 0.111875 | D6: =IF((A6-125+1)/(A6) > 0, (A6-125+1)/(A6), 0) -> 0 | E6: =IF((A6-175+1)/(A6) > 0, (A6-175+1)/(A6), 0) -> 0 | F6: =D6*B6 -> 0 | G6: =E6*B6 -> 0
A7: 122.6087 | B7: 0.1075 | D7: =IF((A7-125+1)/(A7) > 0, (A7-125+1)/(A7), 0) -> 0 | E7: =IF((A7-175+1)/(A7) > 0, (A7-175+1)/(A7), 0) -> 0 | F7: =D7*B7 -> 0 | G7: =E7*B7 -> 0
A8: 123.04348 | B8: 0.1034375 | D8: =IF((A8-125+1)/(A8) > 0, (A8-125+1)/(A8), 0) -> 0 | E8: =IF((A8-175+1)/(A8) > 0, (A8-175+1)/(A8), 0) -> 0 | F8: =D8*B8 -> 0 | G8: =E8*B8 -> 0
A9: 123.47826 | B9: 0.0990625 | D9: =IF((A9-125+1)/(A9) > 0, (A9-125+1)/(A9), 0) -> 0 | E9: =IF((A9-175+1)/(A9) > 0, (A9-175+1)/(A9), 0) -> 0 | F9: =D9*B9 -> 0 | G9: =E9*B9 -> 0
A10: 123.91304 | B10: 0.09453125 | D10: =IF((A10-125+1)/(A10) > 0, (A10-125+1)/(A10), 0) -> 0 | E10: =IF((A10-175+1)/(A10) > 0, (A10-175+1)/(A10), 0) -> 0 | F10: =D10*B10 -> 0 | G10: =E10*B10 -> 0
A11: 124.34783 | B11: 0.09046875 | D11: =IF((A11-125+1)/(A11) > 0, (A11-125+1)/(A11), 0) -> 0.0027972028 | E11: =IF((A11-175+1)/(A11) > 0, (A11-175+1)/(A11), 0) -> 0 | F11: =D11*B11 -> 0.00025305944 | G11: =E11*B11 -> 0
A12: 124.78261 | B12: 0.0865625 | D12: =IF((A12-125+1)/(A12) > 0, (A12-125+1)/(A12), 0) -> 0.006271777 | E12: =IF((A12-175+1)/(A12) > 0, (A12-175+1)/(A12), 0) -> 0 | F12: =D12*B12 -> 0.0005429007 | G12: =E12*B12 -> 0
A13: 125.21739 | B13: 0.0828125 | D13: =IF((A13-125+1)/(A13) > 0, (A13-125+1)/(A13), 0) -> 0.0097222222 | E13: =IF((A13-175+1)/(A13) > 0, (A13-175+1)/(A13), 0) -> 0 | F13: =D13*B13 -> 0.00080512153 | G13: =E13*B13 -> 0
A14: 125.65217 | B14: 0.079375 | D14: =IF((A14-125+1)/(A14) > 0, (A14-125+1)/(A14), 0) -> 0.013148789 | E14: =IF((A14-175+1)/(A14) > 0, (A14-175+1)/(A14), 0) -> 0 | F14: =D14*B14 -> 0.0010436851 | G14: =E14*B14 -> 0
... A2078: 71090 | B2078: 0.14640625 | D2078: =IF((A2078-125+1)/(A2078) > 0, (A2078-125+1)/(A2078), 0) -> 0.99825573 | E2078: =IF((A2078-175+1)/(A2078) > 0, (A2078-175+1)/(A2078), 0) -> 0.9975524 | F2078: =D2078*B2078 -> 0.14615088 | G2078: =E2078*B2078 -> 0.14604791

Sheet 15422
A1: Mean Size (bp) | B1: Concentration (pg/ul) | D1: 125 odds | E1: 175 odds | F1: [125] | G1: [175] | H1: 125 total | I1: 175 total | K1: 175/125 | L1: av size (bp)
A2: 550 | B2: 0.0565 | D2: =IF((A2-125+1)/(A2) > 0, (A2-125+1)/(A2), 0) -> 0.77454545 | E2: =IF((A2-175+1)/(A2) > 0, (A2-175+1)/(A2), 0) -> 0.68363636 | F2: =D2*B2 -> 0.043761818 | G2: =E2*B2 -> 0.038625455 | H2: =SUM(F2:F10485) -> 2177.2795 | I2: =SUM(G2:G10485) -> 2151.5574 | K2: =I2/H2 -> 0.98818615 | L2: {=SUM(A2:A1495*B2:B1495)/SUM(B2:B1495)} -> 15422.121
A3: 550.76923 | B3: 0.056333333 | D3: =IF((A3-125+1)/(A3) > 0, (A3-125+1)/(A3), 0) -> 0.77486034 | E3: =IF((A3-175+1)/(A3) > 0, (A3-175+1)/(A3), 0) -> 0.68407821 | F3: =D3*B3 -> 0.043650466 | G3: =E3*B3 -> 0.038536406
A4: 551.53846 | B4: 0.055333333 | D4: =IF((A4-125+1)/(A4) > 0, (A4-125+1)/(A4), 0) -> 0.77517434 | E4: =IF((A4-175+1)/(A4) > 0, (A4-175+1)/(A4), 0) -> 0.68451883 | F4: =D4*B4 -> 0.04289298 | G4: =E4*B4 -> 0.037876709
A5: 552.30769 | B5: 0.0535 | D5: =IF((A5-125+1)/(A5) > 0, (A5-125+1)/(A5), 0) -> 0.77548747 | E5: =IF((A5-175+1)/(A5) > 0, (A5-175+1)/(A5), 0) -> 0.68495822 | F5: =D5*B5 -> 0.041488579 | G5: =E5*B5 -> 0.036645265
A6: 553.07692 | B6: 0.052 | D6: =IF((A6-125+1)/(A6) > 0, (A6-125+1)/(A6), 0) -> 0.77579972 | E6: =IF((A6-175+1)/(A6) > 0, (A6-175+1)/(A6), 0) -> 0.68539638 | F6: =D6*B6 -> 0.040341586 | G6: =E6*B6 -> 0.035640612
A7: 553.84615 | B7: 0.050166667 | D7: =IF((A7-125+1)/(A7) > 0, (A7-125+1)/(A7), 0) -> 0.77611111 | E7: =IF((A7-175+1)/(A7) > 0, (A7-175+1)/(A7), 0) -> 0.68583333 | F7: =D7*B7 -> 0.038934907 | G7: =E7*B7 -> 0.034405972
A8: 554.61538 | B8: 0.049666667 | D8: =IF((A8-125+1)/(A8) > 0, (A8-125+1)/(A8), 0) -> 0.77642164 | E8: =IF((A8-175+1)/(A8) > 0, (A8-175+1)/(A8), 0) -> 0.68626907 | F8: =D8*B8 -> 0.038562275 | G8: =E8*B8 -> 0.034084697
A9: 555.38462 | B9: 0.0495 | D9: =IF((A9-125+1)/(A9) > 0, (A9-125+1)/(A9), 0) -> 0.7767313 | E9: =IF((A9-175+1)/(A9) > 0, (A9-175+1)/(A9), 0) -> 0.6867036 | F9: =D9*B9 -> 0.038448199 | G9: =E9*B9 -> 0.033991828
A10: 556.15385 | B10: 0.050666667 | D10: =IF((A10-125+1)/(A10) > 0, (A10-125+1)/(A10), 0) -> 0.77704011 | E10: =IF((A10-175+1)/(A10) > 0, (A10-175+1)/(A10), 0) -> 0.68713693 | F10: =D10*B10 -> 0.039370032 | G10: =E10*B10 -> 0.034814938
A11: 556.92308 | B11: 0.0525 | D11: =IF((A11-125+1)/(A11) > 0, (A11-125+1)/(A11), 0) -> 0.77734807 | E11: =IF((A11-175+1)/(A11) > 0, (A11-175+1)/(A11), 0) -> 0.68756906 | F11: =D11*B11 -> 0.040810773 | G11: =E11*B11 -> 0.036097376
A12: 557.69231 | B12: 0.0545 | D12: =IF((A12-125+1)/(A12) > 0, (A12-125+1)/(A12), 0) -> 0.77765517 | E12: =IF((A12-175+1)/(A12) > 0, (A12-175+1)/(A12), 0) -> 0.688 | F12: =D12*B12 -> 0.042382207 | G12: =E12*B12 -> 0.037496
A13: 558.46154 | B13: 0.057 | D13: =IF((A13-125+1)/(A13) > 0, (A13-125+1)/(A13), 0) -> 0.77796143 | E13: =IF((A13-175+1)/(A13) > 0, (A13-175+1)/(A13), 0) -> 0.68842975 | F13: =D13*B13 -> 0.044343802 | G13: =E13*B13 -> 0.039240496
A14: 559.23077 | B14: 0.059666667 | D14: =IF((A14-125+1)/(A14) > 0, (A14-125+1)/(A14), 0) -> 0.77826685 | E14: =IF((A14-175+1)/(A14) > 0, (A14-175+1)/(A14), 0) -> 0.68885832 | F14: =D14*B14 -> 0.046436589 | G14: =E14*B14 -> 0.04110188
... A1495: 152910 | B1495: 0.097833333 | D1495: =IF((A1495-125+1)/(A1495) > 0, (A1495-125+1)/(A1495), 0) -> 0.99918907 | E1495: =IF((A1495-175+1)/(A1495) > 0, (A1495-175+1)/(A1495), 0) -> 0.99886208 | F1495: =D1495*B1495 -> 0.097753997 | G1495: =E1495*B1495 -> 0.097722006

Sheet 34625
A1: Mean Size (bp) | B1: Concentration (pg/ul) | D1: 125 odds | E1: 175 odds | F1: [125] | G1: [175] | H1: 125 total | I1: 175 total | K1: 175/125 | L1: av size (bp)
A2: 660.76923 | B2: 0.090384615 | D2: =IF((A2-125+1)/(A2) > 0, (A2-125+1)/(A2), 0) -> 0.81233993 | E2: =IF((A2-175+1)/(A2) > 0, (A2-175+1)/(A2), 0) -> 0.73667055 | F2: =D2*B2 -> 0.073423032 | G2: =E2*B2 -> 0.066583684 | H2: =SUM(F2:F10485) -> 2165.9714 | I2: =SUM(G2:G10485) -> 2152.741 | K2: =I2/H2 -> 0.99389171 | L2: {=SUM(A2:A1495*B2:B1495)/SUM(B2:B1495)} -> 34625.4
A3: 661.53846 | B3: 0.094038462 | D3: =IF((A3-125+1)/(A3) > 0, (A3-125+1)/(A3), 0) -> 0.81255814 | E3: =IF((A3-175+1)/(A3) > 0, (A3-175+1)/(A3), 0) -> 0.73697674 | F3: =D3*B3 -> 0.076411717 | G3: =E3*B3 -> 0.069304159
A4: 662.30769 | B4: 0.10019231 | D4: =IF((A4-125+1)/(A4) > 0, (A4-125+1)/(A4), 0) -> 0.81277584 | E4: =IF((A4-175+1)/(A4) > 0, (A4-175+1)/(A4), 0) -> 0.73728223 | F4: =D4*B4 -> 0.081433887 | G4: =E4*B4 -> 0.073870008
A5: 663.07692 | B5: 0.10807692 | D5: =IF((A5-125+1)/(A5) > 0, (A5-125+1)/(A5), 0) -> 0.81299304 | E5: =IF((A5-175+1)/(A5) > 0, (A5-175+1)/(A5), 0) -> 0.73758701 | F5: =D5*B5 -> 0.087865786 | G5: =E5*B5 -> 0.079716134
A6: 663.84615 | B6: 0.11692308 | D6: =IF((A6-125+1)/(A6) > 0, (A6-125+1)/(A6), 0) -> 0.81320973 | E6: =IF((A6-175+1)/(A6) > 0, (A6-175+1)/(A6), 0) -> 0.73789108 | F6: =D6*B6 -> 0.095082984 | G6: =E6*B6 -> 0.086276495
A7: 664.61538 | B7: 0.12538462 | D7: =IF((A7-125+1)/(A7) > 0, (A7-125+1)/(A7), 0) -> 0.81342593 | E7: =IF((A7-175+1)/(A7) > 0, (A7-175+1)/(A7), 0) -> 0.73819444 | F7: =D7*B7 -> 0.1019911 | G7: =E7*B7 -> 0.092558227
A8: 665.38462 | B8: 0.13346154 | D8: =IF((A8-125+1)/(A8) > 0, (A8-125+1)/(A8), 0) -> 0.81364162 | E8: =IF((A8-175+1)/(A8) > 0, (A8-175+1)/(A8), 0) -> 0.73849711 | F8: =D8*B8 -> 0.10858986 | G8: =E8*B8 -> 0.09856096
A9: 666.15385 | B9: 0.14096154 | D9: =IF((A9-125+1)/(A9) > 0, (A9-125+1)/(A9), 0) -> 0.81385681 | E9: =IF((A9-175+1)/(A9) > 0, (A9-175+1)/(A9), 0) -> 0.73879908 | F9: =D9*B9 -> 0.11472251 | G9: =E9*B9 -> 0.10414225
A10: 666.92308 | B10: 0.14807692 | D10: =IF((A10-125+1)/(A10) > 0, (A10-125+1)/(A10), 0) -> 0.81407151 | E10: =IF((A10-175+1)/(A10) > 0, (A10-175+1)/(A10), 0) -> 0.73910035 | F10: =D10*B10 -> 0.1205452 | G10: =E10*B10 -> 0.10944371
A11: 667.69231 | B11: 0.15442308 | D11: =IF((A11-125+1)/(A11) > 0, (A11-125+1)/(A11), 0) -> 0.81428571 | E11: =IF((A11-175+1)/(A11) > 0, (A11-175+1)/(A11), 0) -> 0.73940092 | F11: =D11*B11 -> 0.12574451 | G11: =E11*B11 -> 0.11418057
A12: 668.46154 | B12: 0.16019231 | D12: =IF((A12-125+1)/(A12) > 0, (A12-125+1)/(A12), 0) -> 0.81449942 | E12: =IF((A12-175+1)/(A12) > 0, (A12-175+1)/(A12), 0) -> 0.73970081 | F12: =D12*B12 -> 0.13047654 | G12: =E12*B12 -> 0.11849438
A13: 669.23077 | B13: 0.16480769 | D13: =IF((A13-125+1)/(A13) > 0, (A13-125+1)/(A13), 0) -> 0.81471264 | E13: =IF((A13-175+1)/(A13) > 0, (A13-175+1)/(A13), 0) -> 0.74 | F13: =D13*B13 -> 0.13427091 | G13: =E13*B13 -> 0.12195769
A14: 670 | B14: 0.16884615 | D14: =IF((A14-125+1)/(A14) > 0, (A14-125+1)/(A14), 0) -> 0.81492537 | E14: =IF((A14-175+1)/(A14) > 0, (A14-175+1)/(A14), 0) -> 0.74029851 | F14: =D14*B14 -> 0.13759701 | G14: =E14*B14 -> 0.12499656
... A1474: 186180 | B1474: 0.1225 | D1474: =IF((A1474-125+1)/(A1474) > 0, (A1474-125+1)/(A1474), 0) -> 0.99933398 | E1474: =IF((A1474-175+1)/(A1474) > 0, (A1474-175+1)/(A1474), 0) -> 0.99906542 | F1474: =D1474*B1474 -> 0.12241841 | G1474: =E1474*B1474 -> 0.12238551

Sheet 41496
A1: Mean Size (bp) | B1: Concentration (pg/ul) | D1: 125 odds | E1: 175 odds | F1: [125] | G1: [175] | H1: 125 total | I1: 175 total | K1: 175/125 | L1: av size (bp)
A2: 680.76923 | B2: 0.15975 | D2: =IF((A2-125+1)/(A2) > 0, (A2-125+1)/(A2), 0) -> 0.81785311 | E2: =IF((A2-175+1)/(A2) > 0, (A2-175+1)/(A2), 0) -> 0.74440678 | F2: =D2*B2 -> 0.13065203 | G2: =E2*B2 -> 0.11891898 | H2: =SUM(F2:F10485) -> 2207.6008 | I2: =SUM(G2:G10485) -> 2197.0112 | K2: =I2/H2 -> 0.99520312 | L2: {=SUM(A2:A2078*B2:B2078)/SUM(B2:B2078)} -> 41495.703
A3: 681.53846 | B3: 0.16025 | D3: =IF((A3-125+1)/(A3) > 0, (A3-125+1)/(A3), 0) -> 0.81805869 | E3: =IF((A3-175+1)/(A3) > 0, (A3-175+1)/(A3), 0) -> 0.74469526 | F3: =D3*B3 -> 0.13109391 | G3: =E3*B3 -> 0.11933742
A4: 682.30769 | B4: 0.16125 | D4: =IF((A4-125+1)/(A4) > 0, (A4-125+1)/(A4), 0) -> 0.81826381 | E4: =IF((A4-175+1)/(A4) > 0, (A4-175+1)/(A4), 0) -> 0.74498309 | F4: =D4*B4 -> 0.13194504 | G4: =E4*B4 -> 0.12012852
A5: 683.07692 | B5: 0.1615 | D5: =IF((A5-125+1)/(A5) > 0, (A5-125+1)/(A5), 0) -> 0.81846847 | E5: =IF((A5-175+1)/(A5) > 0, (A5-175+1)/(A5), 0) -> 0.74527027 | F5: =D5*B5 -> 0.13218266 | G5: =E5*B5 -> 0.12036115
A6: 683.84615 | B6: 0.1605 | D6: =IF((A6-125+1)/(A6) > 0, (A6-125+1)/(A6), 0) -> 0.81867267 | E6: =IF((A6-175+1)/(A6) > 0, (A6-175+1)/(A6), 0) -> 0.74555681 | F6: =D6*B6 -> 0.13139696 | G6: =E6*B6 -> 0.11966187
A7: 684.61538 | B7: 0.1585 | D7: =IF((A7-125+1)/(A7) > 0, (A7-125+1)/(A7), 0) -> 0.8188764 | E7: =IF((A7-175+1)/(A7) > 0, (A7-175+1)/(A7), 0) -> 0.7458427 | F7: =D7*B7 -> 0.12979191 | G7: =E7*B7 -> 0.11821607
A8: 685.38462 | B8: 0.156 | D8: =IF((A8-125+1)/(A8) > 0, (A8-125+1)/(A8), 0) -> 0.81907969 | E8: =IF((A8-175+1)/(A8) > 0, (A8-175+1)/(A8), 0) -> 0.74612795 | F8: =D8*B8 -> 0.12777643 | G8: =E8*B8 -> 0.11639596
A9: 686.15385 | B9: 0.15225 | D9: =IF((A9-125+1)/(A9) > 0, (A9-125+1)/(A9), 0) -> 0.81928251 | E9: =IF((A9-175+1)/(A9) > 0, (A9-175+1)/(A9), 0) -> 0.74641256 | F9: =D9*B9 -> 0.12473576 | G9: =E9*B9 -> 0.11364131
A10: 686.92308 | B10: 0.1485 | D10: =IF((A10-125+1)/(A10) > 0, (A10-125+1)/(A10), 0) -> 0.81948488 | E10: =IF((A10-175+1)/(A10) > 0, (A10-175+1)/(A10), 0) -> 0.74669653 | F10: =D10*B10 -> 0.12169351 | G10: =E10*B10 -> 0.11088443
A11: 687.69231 | B11: 0.1445 | D11: =IF((A11-125+1)/(A11) > 0, (A11-125+1)/(A11), 0) -> 0.8196868 | E11: =IF((A11-175+1)/(A11) > 0, (A11-175+1)/(A11), 0) -> 0.74697987 | F11: =D11*B11 -> 0.11844474 | G11: =E11*B11 -> 0.10793859
A12: 688.46154 | B12: 0.13925 | D12: =IF((A12-125+1)/(A12) > 0, (A12-125+1)/(A12), 0) -> 0.81988827 | E12: =IF((A12-175+1)/(A12) > 0, (A12-175+1)/(A12), 0) -> 0.74726257 | F12: =D12*B12 -> 0.11416944 | G12: =E12*B12 -> 0.10405631
A13: 689.23077 | B13: 0.134 | D13: =IF((A13-125+1)/(A13) > 0, (A13-125+1)/(A13), 0) -> 0.82008929 | E13: =IF((A13-175+1)/(A13) > 0, (A13-175+1)/(A13), 0) -> 0.74754464 | F13: =D13*B13 -> 0.10989196 | G13: =E13*B13 -> 0.10017098
A14: 690 | B14: 0.12975 | D14: =IF((A14-125+1)/(A14) > 0, (A14-125+1)/(A14), 0) -> 0.82028986 | E14: =IF((A14-175+1)/(A14) > 0, (A14-175+1)/(A14), 0) -> 0.74782609 | F14: =D14*B14 -> 0.10643261 | G14: =E14*B14 -> 0.097030435
... A1338: 155910 | B1338: 0.1745 | D1338: =IF((A1338-125+1)/(A1338) > 0, (A1338-125+1)/(A1338), 0) -> 0.99920467 | E1338: =IF((A1338-175+1)/(A1338) > 0, (A1338-175+1)/(A1338), 0) -> 0.99888397 | F1338: =D1338*B1338 -> 0.17436121 | G1338: =E1338*B1338 -> 0.17430525
