Workbook

Sheet MASTER COPY(SA)
A1: Observation Table
A3: Sive Dia. (mm) | B3: Retained on each Sive (gm) | C3: % Retain | D3: Cum %Retain | E3: Cum %Passing (N)
A4: 4.75 | B4: 32 | C4: =(B4/B$13)*100 -> 8 | D4: =C$4 -> 8 | E4: =100-D4 -> 92
A5: 2.36 | B5: 68 | C5: =(B5/B$13)*100 -> 17 | D5: =D4+C5 -> 25 | E5: =100-D5 -> 75 | F5: =B4+B5 -> 100 | G5: =F5/4 -> 25
A6: 1.18 | B6: 77 | C6: =(B6/B$13)*100 -> 19.25 | D6: =D5+C6 -> 44.25 | E6: =100-D6 -> 55.75
A7: 0.6 | B7: 70 | C7: =(B7/B$13)*100 -> 17.5 | D7: =D6+C7 -> 61.75 | E7: =100-D7 -> 38.25
A8: 0.425 | B8: 53 | C8: =(B8/B$13)*100 -> 13.25 | D8: =D7+C8 -> 75 | E8: =100-D8 -> 25 | F8: =B6+B7+B8 -> 200 | G8: =F8/4 -> 50
A9: 0.3 | B9: 38 | C9: =(B9/B$13)*100 -> 9.5 | D9: =D8+C9 -> 84.5 | E9: =100-D9 -> 15.5
A10: 0.15 | B10: 34 | C10: =(B10/B$13)*100 -> 8.5 | D10: =D9+C10 -> 93 | E10: =100-D10 -> 7
A11: 0.075 | B11: 23 | C11: =(B11/B$13)*100 -> 5.75 | D11: =D10+C11 -> 98.75 | E11: =100-D11 -> 1.25 | F11: =B9+B10+B11 -> 95 | G11: =F11/4 -> 23.75
A12: Reciver | B12: 5 | C12: =(B12/B$13)*100 -> 1.25 | D12: =D11+C12 -> 100 | E12: =100-D12 -> 0 | F12: =B12 -> 5 | G12: =F12/4 -> 1.25
A13: Total | B13: =SUM(B4:B12) -> 400 | F13: =F5+F8+F11+F12 -> 400
B16: D60 | C16: 1.5 | E16: Cu | F16: =C16/C18 -> 8.3333333
B17: D30 | C17: 0.55 | E17: Cc | F17: =(C17*C17)/(C16*C18) -> 1.1203704
B18: D10 | C18: 0.18

Sheet Proctor
H2: STANDARD PROCTOR TEST
B4: Height of mould, H (cm) | C4: 12.5
B5: Diameter of Mould, D (cm) | C5: 10
B8: Observation Table
B10: Sample No. | C10: 1 | D10: 2 | E10: 3 | F10: 4 | G10: 5 | H10: 6
B11: Mass of mould, W1 (g) | C11: 3822 | D11: 3822 | E11: 3822 | F11: 3822 | G11: 3822 | H11: 3822
B12: Mass of mould + Compacted Soil, W2 (g) | C12: 5539 | D12: 5605 | E12: 5680 | F12: 5780 | G12: 5786 | H12: 5844
B13: Mass of compacted soil, W3 (g) | C13: =C12-C11 -> 1717 | D13: =D12-D11 -> 1783 | E13: =E12-E11 -> 1858 | F13: =F12-F11 -> 1958 | G13: =G12-G11 -> 1964 | H13: 1970
B14: Volume of mould, V (cc) | C14: =3.14/4*$C$5*$C$5*$C$4 -> 981.25 | D14: =3.14/4*$C$5*$C$5*$C$4 -> 981.25 | E14: =3.14/4*$C$5*$C$5*$C$4 -> 981.25 | F14: =3.14/4*$C$5*$C$5*$C$4 -> 981.25 | G14: =3.14/4*$C$5*$C$5*$C$4 -> 981.25 | H14: =3.14/4*$C$5*$C$5*$C$4 -> 981.25
B15: Bulk density, Ƴb (g/cc) | C15: =C13/C14 -> 1.7498089 | D15: =D13/D14 -> 1.8170701 | E15: =E13/E14 -> 1.8935032 | F15: =F13/F14 -> 1.995414 | G15: =G13/G14 -> 2.0015287 | H15: =H13/H14 -> 2.0076433
B16: Dry density, Ƴd (g/cc) | C16: =C15/(1+(C25/100)) -> 1.687995 | D16: =D15/(1+(D25/100)) -> 1.7035032 | E16: =E15/(1+(E25/100)) -> 1.7294763 | F16: =F15/(1+(F25/100)) -> 1.7790438 | G16: =G15/(1+(G25/100)) -> 1.7291046 | H16: =H15/(1+(H25/100)) -> 1.717841
B18: Water Content
B20: Mass of Empty container, W4 (gm) | C20: 80 | D20: 76 | E20: 83.1 | F20: 38.1 | G20: 77.4 | H20: 52.5
B21: Mass of Empty container + Wet Soil, W5 (gm) | C21: 153.6 | D21: 141.6 | E21: 148.9 | F21: 121.1 | G21: 166.3 | H21: 157.8
B22: Mass of Empty container + Dry Soil, W6 (gm) | C22: 151 | D22: 137.5 | E22: 143.2 | F22: 112.1 | G22: 154.2 | H22: 142.6
B23: Mass of Water, W7 (gm) | C23: =C21-C22 -> 2.6 | D23: =D21-D22 -> 4.1 | E23: =E21-E22 -> 5.7 | F23: =F21-F22 -> 9 | G23: =G21-G22 -> 12.1 | H23: =H21-H22 -> 15.2
B24: Mass of Dry Soil, W8 (gm) | C24: =C22-C20 -> 71 | D24: =D22-D20 -> 61.5 | E24: =E22-E20 -> 60.1 | F24: =F22-F20 -> 74 | G24: =G22-G20 -> 76.8 | H24: =H22-H20 -> 90.1
B25: Water Content, %W | C25: =(C23/C24)*100 -> 3.6619718 | D25: =(D23/D24)*100 -> 6.6666667 | E25: =(E23/E24)*100 -> 9.484193 | F25: =(F23/F24)*100 -> 12.162162 | G25: =(G23/G24)*100 -> 15.755208 | H25: =(H23/H24)*100 -> 16.870144

Sheet J DST
B2: AT OMC-3%
B5: Observation Table
B6: Mould size
B7: Length of specimen, L | D7: 6 | E7: cm
B8: Width of specimen, B | D8: 6 | E8: cm
B9: Thickness of specimen | D9: 2 | E9: cm
B10: Unit Weight of sample remoulded sample, ϒ | D10: 2.015 | E10: g/cc
B11: Proving Ring Constant | D11: 0.254 | E11: kg/div
B12: Rate of Strain | D12: 0.25 | E12: mm/min
B13: L.C of Dial Guage | D13: 0.001 | E13: cm
B14: Volume of mould | D14: =(D7*D8*D9) -> 72 | E14: cm3
B15: Mass of soil sample required | D15: =(D10*D14) -> 145.08 | E15: gm
B17: DIAL GAUGE READING | C17: DISPLACEMENT (cm) | D17: CHANGE IN LENGTH (cm) | E17: AREA (cm2) | F17: 0.5 kg/cm2 | I17: 1.0 kg/cm2 | L17: 1.5kg/cm2
F18: PROVING RING READING | G18: SHEAR LOAD | H18: SHEAR STRESS (kg/cm2) | I18: PROVING RING READING | J18: SHEAR LOAD | K18: SHEAR STRESS (kg/cm2) | L18: PROVING RING READING | M18: SHEAR LOAD | N18: SHEAR STRESS (kg/cm2)
B19: 50 | C19: 0.05 | D19: =6-C19 -> 5.95 | E19: =D19*6 -> 35.7 | F19: 68 | G19: =F19*$D$11 -> 17.272 | H19: =G19/E19 -> 0.48380952 | I19: 74 | J19: =I19*$D$11 -> 18.796 | K19: =J19/E19 -> 0.5264986 | L19: 55 | M19: =L19*$D$11 -> 13.97 | N19: =M19/E19 -> 0.39131653
B20: 100 | C20: 0.1 | D20: =6-C20 -> 5.9 | E20: =D20*6 -> 35.4 | F20: 88 | G20: =F20*$D$11 -> 22.352 | H20: =G20/E20 -> 0.63141243 | I20: 101 | J20: =I20*$D$11 -> 25.654 | K20: =J20/E20 -> 0.72468927 | L20: 80 | M20: =L20*$D$11 -> 20.32 | N20: =M20/E20 -> 0.5740113
B21: 150 | C21: 0.15 | D21: =6-C21 -> 5.85 | E21: =D21*6 -> 35.1 | F21: 101 | G21: =F21*$D$11 -> 25.654 | H21: =G21/E21 -> 0.73088319 | I21: 113 | J21: =I21*$D$11 -> 28.702 | K21: =J21/E21 -> 0.8177208 | L21: 105 | M21: =L21*$D$11 -> 26.67 | N21: =M21/E21 -> 0.75982906
B22: 200 | C22: 0.2 | D22: =6-C22 -> 5.8 | E22: =D22*6 -> 34.8 | F22: 111 | G22: =F22*$D$11 -> 28.194 | H22: =G22/E22 -> 0.81017241 | I22: 121 | J22: =I22*$D$11 -> 30.734 | K22: =J22/E22 -> 0.88316092 | L22: 120 | M22: =L22*$D$11 -> 30.48 | N22: =M22/E22 -> 0.87586207
B23: 250 | C23: 0.25 | D23: =6-C23 -> 5.75 | E23: =D23*6 -> 34.5 | F23: 117 | G23: =F23*$D$11 -> 29.718 | H23: =G23/E23 -> 0.8613913 | I23: 128 | J23: =I23*$D$11 -> 32.512 | K23: =J23/E23 -> 0.94237681 | L23: 136 | M23: =L23*$D$11 -> 34.544 | N23: =M23/E23 -> 1.0012754
B24: 300 | C24: 0.3 | D24: =6-C24 -> 5.7 | E24: =D24*6 -> 34.2 | F24: 119 | G24: =F24*$D$11 -> 30.226 | H24: =G24/E24 -> 0.88380117 | I24: 132 | J24: =I24*$D$11 -> 33.528 | K24: =J24/E24 -> 0.98035088 | L24: 145 | M24: =L24*$D$11 -> 36.83 | N24: =M24/E24 -> 1.0769006
B25: 350 | C25: 0.35 | D25: =6-C25 -> 5.65 | E25: =D25*6 -> 33.9 | F25: 119 | G25: =F25*$D$11 -> 30.226 | H25: =G25/E25 -> 0.89162242 | I25: 135 | J25: =I25*$D$11 -> 34.29 | K25: =J25/E25 -> 1.0115044 | L25: 158 | M25: =L25*$D$11 -> 40.132 | N25: =M25/E25 -> 1.1838348
B26: 400 | C26: 0.4 | D26: =6-C26 -> 5.6 | E26: =D26*6 -> 33.6 | F26: 119 | G26: =F26*$D$11 -> 30.226 | H26: =G26/E26 -> 0.89958333 | I26: 137 | J26: =I26*$D$11 -> 34.798 | K26: =J26/E26 -> 1.0356548 | L26: 168 | M26: =L26*$D$11 -> 42.672 | N26: =M26/E26 -> 1.27
B27: 450 | C27: 0.45 | D27: =6-C27 -> 5.55 | E27: =D27*6 -> 33.3 | F27: - | G27: - | H27: - | I27: 137 | J27: =I27*$D$11 -> 34.798 | K27: =J27/E27 -> 1.044985 | L27: 175 | M27: =L27*$D$11 -> 44.45 | N27: =M27/E27 -> 1.3348348
B28: 500 | C28: 0.5 | D28: =6-C28 -> 5.5 | E28: =D28*6 -> 33 | F28: - | G28: - | H28: - | I28: 137 | J28: =I28*$D$11 -> 34.798 | K28: =J28/E28 -> 1.0544848 | L28: 180 | M28: =L28*$D$11 -> 45.72 | N28: =M28/E28 -> 1.3854545
B29: 550 | C29: 0.55 | D29: =6-C29 -> 5.45 | E29: =D29*6 -> 32.7 | F29: - | G29: - | H29: - | I29: - | J29: - | K29: - | L29: 182 | M29: =L29*$D$11 -> 46.228 | N29: =M29/E29 -> 1.4137003
B30: 600 | C30: 0.6 | D30: =6-C30 -> 5.4 | E30: =D30*6 -> 32.4 | F30: - | G30: - | H30: - | I30: - | J30: - | K30: - | L30: 182 | M30: =L30*$D$11 -> 46.228 | N30: =M30/E30 -> 1.4267901
B31: 650 | C31: 0.65 | D31: =6-C31 -> 5.35 | E31: =D31*6 -> 32.1 | F31: - | G31: - | H31: - | I31: - | J31: - | K31: - | L31: 182 | M31: =L31*$D$11 -> 46.228 | N31: =M31/E31 -> 1.4401246
G32: τ = | H32: =MAX(H19:H31) -> 0.89958333 | J32: τ = | K32: =MAX(K19:K28) -> 1.0544848 | M32: τ = | N32: =MAX(N19:N31) -> 1.4401246
C35: σ | D35: τ | F35: slope | G35: 0.5405
F36: phi | G36: =DEGREES((ATAN(G35))) -> 28.391222
C37: 0.5 | D37: =H32 -> 0.89958333 | F37: Cu | G37: 0.5909 | H37: kN/m2
C38: 1 | D38: =K32 -> 1.0544848
C39: 1.5 | D39: =N32 -> 1.4401246
B42: AT OMC
B45: Observation Table
B46: Mould size
B47: Length of specimen, L | D47: 6 | E47: cm
B48: Width of specimen, B | D48: 6 | E48: cm
B49: Thickness of specimen | D49: 2 | E49: cm
B50: Unit Weight of sample remoulded sample, ϒ | D50: 2.015 | E50: g/cc
B51: Proving Ring Constant | D51: 0.254 | E51: kg/div
B52: Rate of Strain | D52: 0.25 | E52: mm/min
B53: L.C of Dial Guage | D53: 0.001 | E53: cm
B54: Volume of mould | D54: =(D47*D48*D49) -> 72 | E54: cm3
B55: Mass of soil sample required | D55: =(D50*D54) -> 145.08 | E55: gm
B57: DIAL GAUGE READING | C57: DISPLACEMENT (cm) | D57: CHANGE IN LENGTH (cm) | E57: AREA (cm2) | F57: 0.5 kg/cm2 | I57: 1.0 kg/cm2 | L57: 1.5kg/cm2
F58: PROVING RING READING | G58: SHEAR LOAD | H58: SHEAR STRESS (kg/cm2) | I58: PROVING RING READING | J58: SHEAR LOAD | K58: SHEAR STRESS (kg/cm2) | L58: PROVING RING READING | M58: SHEAR LOAD | N58: SHEAR STRESS (kg/cm2)
B59: 50 | C59: 0.05 | D59: =6-C59 -> 5.95 | E59: =D59*6 -> 35.7 | F59: 28 | G59: =F59*$D$11 -> 7.112 | H59: =G59/E59 -> 0.19921569 | I59: 45 | J59: =I59*$D$11 -> 11.43 | K59: =J59/E59 -> 0.32016807 | L59: 80 | M59: =L59*$D$11 -> 20.32 | N59: =M59/E59 -> 0.56918768
B60: 100 | C60: 0.1 | D60: =6-C60 -> 5.9 | E60: =D60*6 -> 35.4 | F60: 40 | G60: =F60*$D$11 -> 10.16 | H60: =G60/E60 -> 0.28700565 | I60: 68 | J60: =I60*$D$11 -> 17.272 | K60: =J60/E60 -> 0.4879096 | L60: 99 | M60: =L60*$D$11 -> 25.146 | N60: =M60/E60 -> 0.71033898
B61: 150 | C61: 0.15 | D61: =6-C61 -> 5.85 | E61: =D61*6 -> 35.1 | F61: 49 | G61: =F61*$D$11 -> 12.446 | H61: =G61/E61 -> 0.35458689 | I61: 84 | J61: =I61*$D$11 -> 21.336 | K61: =J61/E61 -> 0.60786325 | L61: 113 | M61: =L61*$D$11 -> 28.702 | N61: =M61/E61 -> 0.8177208
B62: 200 | C62: 0.2 | D62: =6-C62 -> 5.8 | E62: =D62*6 -> 34.8 | F62: 56 | G62: =F62*$D$11 -> 14.224 | H62: =G62/E62 -> 0.40873563 | I62: 95 | J62: =I62*$D$11 -> 24.13 | K62: =J62/E62 -> 0.6933908 | L62: 129 | M62: =L62*$D$11 -> 32.766 | N62: =M62/E62 -> 0.94155172
B63: 250 | C63: 0.25 | D63: =6-C63 -> 5.75 | E63: =D63*6 -> 34.5 | F63: 60 | G63: =F63*$D$11 -> 15.24 | H63: =G63/E63 -> 0.44173913 | I63: 104 | J63: =I63*$D$11 -> 26.416 | K63: =J63/E63 -> 0.76568116 | L63: 139 | M63: =L63*$D$11 -> 35.306 | N63: =M63/E63 -> 1.0233623
B64: 300 | C64: 0.3 | D64: =6-C64 -> 5.7 | E64: =D64*6 -> 34.2 | F64: 64 | G64: =F64*$D$11 -> 16.256 | H64: =G64/E64 -> 0.47532164 | I64: 110 | J64: =I64*$D$11 -> 27.94 | K64: =J64/E64 -> 0.81695906 | L64: 151 | M64: =L64*$D$11 -> 38.354 | N64: =M64/E64 -> 1.121462
B65: 350 | C65: 0.35 | D65: =6-C65 -> 5.65 | E65: =D65*6 -> 33.9 | F65: 67 | G65: =F65*$D$11 -> 17.018 | H65: =G65/E65 -> 0.5020059 | I65: 115 | J65: =I65*$D$11 -> 29.21 | K65: =J65/E65 -> 0.86165192 | L65: 163 | M65: =L65*$D$11 -> 41.402 | N65: =M65/E65 -> 1.2212979
B66: 400 | C66: 0.4 | D66: =6-C66 -> 5.6 | E66: =D66*6 -> 33.6 | F66: 71 | G66: =F66*$D$11 -> 18.034 | H66: =G66/E66 -> 0.53672619 | I66: 117 | J66: =I66*$D$11 -> 29.718 | K66: =J66/E66 -> 0.88446429 | L66: 169 | M66: =L66*$D$11 -> 42.926 | N66: =M66/E66 -> 1.2775595
B67: 450 | C67: 0.45 | D67: =6-C67 -> 5.55 | E67: =D67*6 -> 33.3 | F67: 77 | G67: =F67*$D$11 -> 19.558 | H67: =G67/E67 -> 0.58732733 | I67: 114 | J67: =I67*$D$11 -> 28.956 | K67: =J67/E67 -> 0.86954955 | L67: 173 | M67: =L67*$D$11 -> 43.942 | N67: =M67/E67 -> 1.3195796
B68: 500 | C68: 0.5 | D68: =6-C68 -> 5.5 | E68: =D68*6 -> 33 | F68: 80 | G68: =F68*$D$11 -> 20.32 | H68: =G68/E68 -> 0.61575758 | I68: 110 | J68: =I68*$D$11 -> 27.94 | K68: =J68/E68 -> 0.84666667 | L68: 177 | M68: =L68*$D$11 -> 44.958 | N68: =M68/E68 -> 1.3623636
B69: 550 | C69: 0.55 | D69: =6-C69 -> 5.45 | E69: =D69*6 -> 32.7 | F69: 84 | G69: =F69*$D$11 -> 21.336 | H69: =G69/E69 -> 0.65247706 | I69: - | J69: - | K69: - | L69: 179 | M69: =L69*$D$11 -> 45.466 | N69: =M69/E69 -> 1.3903976
B70: 600 | C70: 0.6 | D70: =6-C70 -> 5.4 | E70: =D70*6 -> 32.4 | F70: 85 | G70: =F70*$D$11 -> 21.59 | H70: =G70/E70 -> 0.66635802 | I70: - | J70: - | K70: - | L70: 179 | M70: =L70*$D$11 -> 45.466 | N70: =M70/E70 -> 1.4032716
B71: 650 | C71: 0.65 | D71: =6-C71 -> 5.35 | E71: =D71*6 -> 32.1 | F71: 86 | G71: =F71*$D$11 -> 21.844 | H71: =G71/E71 -> 0.68049844 | I71: - | J71: - | K71: - | L71: 178 | M71: =L71*$D$11 -> 45.212 | N71: =M71/E71 -> 1.4084735
B72: 700 | C72: 0.7 | D72: =6-C72 -> 5.3 | E72: =D72*6 -> 31.8 | F72: - | G72: - | H72: - | I72: - | J72: - | K72: - | L72: 178 | M72: =L72*$D$11 -> 45.212 | N72: =M72/E72 -> 1.421761
G73: τ = | H73: =MAX(H59:H71) -> 0.68049844 | J73: τ = | K73: =MAX(K59:K68) -> 0.88446429 | M73: τ = | N73: =MAX(N59:N72) -> 1.421761
C76: σ | D76: τ | F76: slope | G76: 0.7413
F77: phi | G77: =DEGREES((ATAN(G76))) -> 36.54954
C78: 0.5 | D78: =H73 -> 0.68049844 | F78: Cu | G78: 25.43 | H78: kN/m2
C79: 1 | D79: =K73 -> 0.88446429
C80: 1.5 | D80: =N73 -> 1.421761
B84: AT OMC+3%
B88: Observation Table
B89: Mould size
B90: Length of specimen, L | D90: 6 | E90: cm
B91: Width of specimen, B | D91: 6 | E91: cm
B92: Thickness of specimen | D92: 2 | E92: cm
B93: Unit Weight of sample remoulded sample, ϒ | D93: 2.015 | E93: g/cc
B94: Proving Ring Constant | D94: 0.254 | E94: kg/div
B95: Rate of Strain | D95: 0.125 | E95: mm/min
B96: L.C of Dial Guage | D96: 0.001 | E96: cm
B97: Volume of mould | D97: =(D90*D91*D92) -> 72 | E97: cm3
B98: Mass of soil sample required | D98: =(D93*D97) -> 145.08 | E98: gm
B100: DIAL GAUGE READING | C100: DISPLACEMENT (cm) | D100: CHANGE IN LENGTH (cm) | E100: AREA (cm2) | F100: 0.5 kg/cm2 | I100: 1.0 kg/cm2 | L100: 1.5kg/cm2
F101: PROVING RING READING | G101: SHEAR LOAD | H101: SHEAR STRESS (kg/cm2) | I101: PROVING RING READING | J101: SHEAR LOAD | K101: SHEAR STRESS (kg/cm2) | L101: PROVING RING READING | M101: SHEAR LOAD | N101: SHEAR STRESS (kg/cm2)
B102: 50 | C102: 0.05 | D102: =6-C102 -> 5.95 | E102: =D102*6 -> 35.7 | F102: 18 | G102: =F102*$D$11 -> 4.572 | H102: =G102/E102 -> 0.12806723 | I102: 31 | J102: =I102*$D$11 -> 7.874 | K102: =J102/E102 -> 0.22056022 | L102: 42 | M102: =L102*$D$11 -> 10.668 | N102: =M102/E102 -> 0.29882353
B103: 100 | C103: 0.1 | D103: =6-C103 -> 5.9 | E103: =D103*6 -> 35.4 | F103: 25 | G103: =F103*$D$11 -> 6.35 | H103: =G103/E103 -> 0.17937853 | I103: 38 | J103: =I103*$D$11 -> 9.652 | K103: =J103/E103 -> 0.27265537 | L103: 49 | M103: =L103*$D$11 -> 12.446 | N103: =M103/E103 -> 0.35158192
B104: 150 | C104: 0.15 | D104: =6-C104 -> 5.85 | E104: =D104*6 -> 35.1 | F104: 30 | G104: =F104*$D$11 -> 7.62 | H104: =G104/E104 -> 0.21709402 | I104: 43 | J104: =I104*$D$11 -> 10.922 | K104: =J104/E104 -> 0.31116809 | L104: 55 | M104: =L104*$D$11 -> 13.97 | N104: =M104/E104 -> 0.3980057
B105: 200 | C105: 0.2 | D105: =6-C105 -> 5.8 | E105: =D105*6 -> 34.8 | F105: 35 | G105: =F105*$D$11 -> 8.89 | H105: =G105/E105 -> 0.25545977 | I105: 49 | J105: =I105*$D$11 -> 12.446 | K105: =J105/E105 -> 0.35764368 | L105: 62 | M105: =L105*$D$11 -> 15.748 | N105: =M105/E105 -> 0.45252874
B106: 250 | C106: 0.25 | D106: =6-C106 -> 5.75 | E106: =D106*6 -> 34.5 | F106: 39 | G106: =F106*$D$11 -> 9.906 | H106: =G106/E106 -> 0.28713043 | I106: 55 | J106: =I106*$D$11 -> 13.97 | K106: =J106/E106 -> 0.40492754 | L106: 69 | M106: =L106*$D$11 -> 17.526 | N106: =M106/E106 -> 0.508
B107: 300 | C107: 0.3 | D107: =6-C107 -> 5.7 | E107: =D107*6 -> 34.2 | F107: 41 | G107: =F107*$D$11 -> 10.414 | H107: =G107/E107 -> 0.30450292 | I107: 61 | J107: =I107*$D$11 -> 15.494 | K107: =J107/E107 -> 0.45304094 | L107: 74 | M107: =L107*$D$11 -> 18.796 | N107: =M107/E107 -> 0.54959064
B108: 350 | C108: 0.35 | D108: =6-C108 -> 5.65 | E108: =D108*6 -> 33.9 | F108: 43 | G108: =F108*$D$11 -> 10.922 | H108: =G108/E108 -> 0.32218289 | I108: 64 | J108: =I108*$D$11 -> 16.256 | K108: =J108/E108 -> 0.47952802 | L108: 77 | M108: =L108*$D$11 -> 19.558 | N108: =M108/E108 -> 0.57693215
B109: 400 | C109: 0.4 | D109: =6-C109 -> 5.6 | E109: =D109*6 -> 33.6 | F109: 45 | G109: =F109*$D$11 -> 11.43 | H109: =G109/E109 -> 0.34017857 | I109: 69 | J109: =I109*$D$11 -> 17.526 | K109: =J109/E109 -> 0.52160714 | L109: 81 | M109: =L109*$D$11 -> 20.574 | N109: =M109/E109 -> 0.61232143
B110: 450 | C110: 0.45 | D110: =6-C110 -> 5.55 | E110: =D110*6 -> 33.3 | F110: 46 | G110: =F110*$D$11 -> 11.684 | H110: =G110/E110 -> 0.35087087 | I110: 74 | J110: =I110*$D$11 -> 18.796 | K110: =J110/E110 -> 0.56444444 | L110: 85 | M110: =L110*$D$11 -> 21.59 | N110: =M110/E110 -> 0.64834835
B111: 500 | C111: 0.5 | D111: =6-C111 -> 5.5 | E111: =D111*6 -> 33 | F111: 48 | G111: =F111*$D$11 -> 12.192 | H111: =G111/E111 -> 0.36945455 | I111: 78 | J111: =I111*$D$11 -> 19.812 | K111: =J111/E111 -> 0.60036364 | L111: 89 | M111: =L111*$D$11 -> 22.606 | N111: =M111/E111 -> 0.6850303
B112: 550 | C112: 0.55 | D112: =6-C112 -> 5.45 | E112: =D112*6 -> 32.7 | F112: 49 | G112: =F112*$D$11 -> 12.446 | H112: =G112/E112 -> 0.38061162 | I112: 83 | J112: =I112*$D$11 -> 21.082 | K112: =J112/E112 -> 0.64470948 | L112: 93 | M112: =L112*$D$11 -> 23.622 | N112: =M112/E112 -> 0.72238532
B113: 600 | C113: 0.6 | D113: =6-C113 -> 5.4 | E113: =D113*6 -> 32.4 | F113: 50 | G113: =F113*$D$11 -> 12.7 | H113: =G113/E113 -> 0.39197531 | I113: 87 | J113: =I113*$D$11 -> 22.098 | K113: =J113/E113 -> 0.68203704 | L113: 97 | M113: =L113*$D$11 -> 24.638 | N113: =M113/E113 -> 0.7604321
... B117: 800 | C117: 0.8 | D117: =6-C117 -> 5.2 | E117: =D117*6 -> 31.2 | F117: 52 | G117: =F117*$D$11 -> 13.208 | H117: =G117/E117 -> 0.42333333 | I117: 98 | J117: =I117*$D$11 -> 24.892 | K117: =J117/E117 -> 0.79782051 | L117: 113 | M117: =L117*$D$11 -> 28.702 | N117: =M117/E117 -> 0.9199359
B118: 850 | C118: 0.85 | D118: =6-C118 -> 5.15 | E118: =D118*6 -> 30.9 | I118: 98 | J118: =I118*$D$11 -> 24.892 | K118: =J118/E118 -> 0.80556634 | L118: 117 | M118: =L118*$D$11 -> 29.718 | N118: =M118/E118 -> 0.96174757
B119: 900 | C119: 0.9 | D119: =6-C119 -> 5.1 | E119: =D119*6 -> 30.6 | I119: 99 | J119: =I119*$D$11 -> 25.146 | K119: =J119/E119 -> 0.82176471 | L119: 119 | M119: =L119*$D$11 -> 30.226 | N119: =M119/E119 -> 0.98777778
B120: 950 | C120: 0.95 | D120: =6-C120 -> 5.05 | E120: =D120*6 -> 30.3 | I120: 101 | J120: =I120*$D$11 -> 25.654 | K120: =J120/E120 -> 0.84666667 | L120: 120 | M120: =L120*$D$11 -> 30.48 | N120: =M120/E120 -> 1.0059406
B121: 1000 | C121: 1 | D121: =6-C121 -> 5 | E121: =D121*6 -> 30 | I121: 102 | J121: =I121*$D$11 -> 25.908 | K121: =J121/E121 -> 0.8636 | L121: 121 | M121: =L121*$D$11 -> 30.734 | N121: =M121/E121 -> 1.0244667
B122: 1050 | C122: 1.05 | D122: =6-C122 -> 4.95 | E122: =D122*6 -> 29.7 | I122: 103 | J122: =I122*$D$11 -> 26.162 | K122: =J122/E122 -> 0.88087542 | L122: 122 | M122: =L122*$D$11 -> 30.988 | N122: =M122/E122 -> 1.043367
B123: 1100 | C123: 1.1 | D123: =6-C123 -> 4.9 | E123: =D123*6 -> 29.4 | I123: 105 | J123: =I123*$D$11 -> 26.67 | K123: =J123/E123 -> 0.90714286 | L123: 122 | M123: =L123*$D$11 -> 30.988 | N123: =M123/E123 -> 1.0540136
...

Sheet J CBR
C2: proving ring constant | F2: 0.254
C3: load at 2.5 mm | F3: 1370 | G3: Kg
C4: load at 5mm | F4: 2055 | G4: Kg
C6: Unsoaked Condition (50%SAND+50%FINES)
C7: Dial Guige (mm) | D7: P.R.R. AT OMC-3% | E7: Load(kg) | F7: P.R.R. AT OMC | G7: Load(kg) | H7: P.R.R. AT OMC+3% | I7: Load(kg)
C8: 0 | D8: 0 | E8: =D8*$F$2 -> 0 | F8: 0 | G8: =F8*$F$2 -> 0
C9: 0.5 | D9: 57 | E9: =D9*$F$2 -> 14.478 | F9: 33 | G9: =F9*$F$2 -> 8.382
C10: 1 | D10: 119 | E10: =D10*$F$2 -> 30.226 | F10: 52 | G10: =F10*$F$2 -> 13.208
C11: 1.5 | D11: 185 | E11: =D11*$F$2 -> 46.99 | F11: 70 | G11: =F11*$F$2 -> 17.78
C12: 2 | D12: 250 | E12: =D12*$F$2 -> 63.5 | F12: 88 | G12: =F12*$F$2 -> 22.352
C13: 2.5 | D13: 329 | E13: =D13*$F$2 -> 83.566 | F13: 107 | G13: =F13*$F$2 -> 27.178
C14: 3 | D14: 408 | E14: =D14*$F$2 -> 103.632 | F14: 124 | G14: =F14*$F$2 -> 31.496 | K14: 2.5 | L14: =(E13/1370)*100 -> 6.099708
C15: 3.5 | D15: 482 | E15: =D15*$F$2 -> 122.428 | F15: 141 | G15: =F15*$F$2 -> 35.814 | K15: 5
C16: 4 | D16: 555 | E16: =D16*$F$2 -> 140.97 | F16: 158 | G16: =F16*$F$2 -> 40.132
C17: 4.5 | D17: 621 | E17: =D17*$F$2 -> 157.734 | F17: 172 | G17: =F17*$F$2 -> 43.688
C18: 5 | D18: 684 | E18: =D18*$F$2 -> 173.736 | F18: 189 | G18: =F18*$F$2 -> 48.006
C19: 5.5 | D19: 742 | E19: =D19*$F$2 -> 188.468 | F19: 204 | G19: =F19*$F$2 -> 51.816
C20: 6 | D20: 805 | E20: =D20*$F$2 -> 204.47 | F20: 220 | G20: =F20*$F$2 -> 55.88
C22: %CBR
C23: 2.5mm | E23: =(E13/F3)*100 -> 6.099708 | G23: =(G13/F3)*100 -> 1.9837956 | I23: =(I13/F3)*100 -> 0
C24: 5.0mm | E24: =(E18/F4)*100 -> 8.4543066 | G24: =(G18/F4)*100 -> 2.3360584 | I24: =(I18/F4)*100 -> 0
C26: Unsoaked Condition (65%SAND+35%FINES)
C27: Dial Guige (mm) | D27: P.R.R. AT OMC-3% | E27: Load(kg) | F27: P.R.R. AT OMC | G27: Load(kg) | H27: P.R.R. AT OMC+3% | I27: Load(kg)
C28: 0 | D28: 0 | E28: =D28*$F$2 -> 0 | F28: 0 | G28: =F28*$F$2 -> 0 | H28: 0 | I28: =H28*$F$2 -> 0
C29: 0.5 | D29: 0.8 | E29: =D29*$F$2 -> 0.2032 | F29: 0.3 | G29: =F29*$F$2 -> 0.0762 | H29: 0.2 | I29: =H29*$F$2 -> 0.0508
C30: 1 | D30: 1.5 | E30: =D30*$F$2 -> 0.381 | F30: 1 | G30: =F30*$F$2 -> 0.254 | H30: 0.4 | I30: =H30*$F$2 -> 0.1016
C31: 1.5 | D31: 2.4 | E31: =D31*$F$2 -> 0.6096 | F31: 1.9 | G31: =F31*$F$2 -> 0.4826 | H31: 0.8 | I31: =H31*$F$2 -> 0.2032
C32: 2 | D32: 3.2 | E32: =D32*$F$2 -> 0.8128 | F32: 2.6 | G32: =F32*$F$2 -> 0.6604 | H32: 1.3 | I32: =H32*$F$2 -> 0.3302
C33: 2.5 | D33: 3.8 | E33: =D33*$F$2 -> 0.9652 | F33: 3 | G33: =F33*$F$2 -> 0.762 | H33: 1.7 | I33: =H33*$F$2 -> 0.4318
C34: 3 | D34: 3.9 | E34: =D34*$F$2 -> 0.9906 | F34: 3.3 | G34: =F34*$F$2 -> 0.8382 | H34: 2.2 | I34: =H34*$F$2 -> 0.5588
C35: 3.5 | D35: 4.1 | E35: =D35*$F$2 -> 1.0414 | F35: 3.8 | G35: =F35*$F$2 -> 0.9652 | H35: 2.65 | I35: =H35*$F$2 -> 0.6731
C36: 4 | D36: 4.2 | E36: =D36*$F$2 -> 1.0668 | F36: 3.7 | G36: =F36*$F$2 -> 0.9398 | H36: 2.95 | I36: =H36*$F$2 -> 0.7493
C37: 4.5 | D37: 4 | E37: =D37*$F$2 -> 1.016 | F37: 3.5 | G37: =F37*$F$2 -> 0.889 | H37: 3.1 | I37: =H37*$F$2 -> 0.7874
C38: 5 | D38: 3.9 | E38: =D38*$F$2 -> 0.9906 | F38: 3.3 | G38: =F38*$F$2 -> 0.8382 | H38: 3.2 | I38: =H38*$F$2 -> 0.8128
C39: 5.5 | D39: 3.8 | E39: =D39*$F$2 -> 0.9652 | F39: 3 | G39: =F39*$F$2 -> 0.762 | H39: 3.3 | I39: =H39*$F$2 -> 0.8382
C40: 6 | D40: 3.6 | E40: =D40*$F$2 -> 0.9144 | F40: 2.9 | G40: =F40*$F$2 -> 0.7366 | H40: 3.3 | I40: =H40*$F$2 -> 0.8382
C43: %CBR
C44: 2.5mm | D44: =(E33/F3)*100 -> 0.070452555
C45: 5.0mm | D45: =(E38/F4)*100 -> 0.04820438

Sheet Trial sheet
K2: DIRECT SHEAR TEST
D4: 0.35
C7: Observation Table
C8: Mould size
C9: Length of specimen, L | E9: 6 | F9: cm
C10: Width of specimen, B | E10: 6 | F10: cm
C11: Thickness of specimen | E11: 2 | F11: cm
C12: Unit Weight of sample remoulded sample, ϒ | E12: 1.72 | F12: g/cc
C13: Proving Ring Constant | E13: 0.254 | F13: kg/div
C14: Rate of Strain | E14: 1.25 | F14: mm/min
C15: L.C of Dial Guage | E15: 0.001 | F15: cm
C16: Volume of mould | E16: =(E9*E10*E11) -> 72 | F16: cm3
C17: Mass of soil sample required | E17: =(E12*E16) -> 123.84 | F17: gm
C20: DIAL GAUGE READING | D20: DISPLACEMENT (mm) | E20: CHANGE IN LENGTH (mm) | F20: AREA (mm2) | G20: 0.65 kg/cm2 | J20: 1.15 kg/cm2 | M20: 1.65kg/cm2
G21: PROVING RING READING | H21: SHEAR LOAD | I21: SHEAR STRESS (kg/cm2) | J21: PROVING RING READING | K21: SHEAR LOAD | L21: SHEAR STRESS (kg/cm2) | M21: PROVING RING READING | N21: SHEAR LOAD | O21: SHEAR STRESS (kg/cm2)
C22: 0 | D22: 0 | E22: =($E$9-D22) -> 6 | F22: =E22*$E$9 -> 36 | G22: 0 | H22: =G22*$E$13 -> 0 | I22: =H22/F22 -> 0 | J22: 0 | K22: =J22*$E$13 -> 0 | L22: =K22/F22 -> 0 | M22: 0 | N22: =M22*$E$13 -> 0 | O22: =N22/F22 -> 0
C23: 50 | D23: 0.05 | E23: =($E$9-D23) -> 5.95 | F23: =$E$9*E23 -> 35.7 | G23: 64 | H23: =G23*$E$13 -> 16.256 | I23: =H23/F23 -> 0.45535014 | J23: 97 | K23: =J23*$E$13 -> 24.638 | L23: =K23/F23 -> 0.69014006 | M23: 119 | N23: =M23*$E$13 -> 30.226 | O23: =N23/F23 -> 0.84666667
C24: 100 | D24: 0.1 | E24: =($E$9-D24) -> 5.9 | F24: =$E$9*E24 -> 35.4 | G24: 87 | H24: =G24*$E$13 -> 22.098 | I24: =H24/F24 -> 0.62423729 | J24: 124 | K24: =J24*$E$13 -> 31.496 | L24: =K24/F24 -> 0.88971751 | M24: 143 | N24: =M24*$E$13 -> 36.322 | O24: =N24/F24 -> 1.0260452
C25: 150 | D25: 0.15 | E25: =($E$9-D25) -> 5.85 | F25: =$E$9*E25 -> 35.1 | G25: 99 | H25: =G25*$E$13 -> 25.146 | I25: =H25/F25 -> 0.71641026 | J25: 144 | K25: =J25*$E$13 -> 36.576 | L25: =K25/F25 -> 1.0420513 | M25: 161 | N25: =M25*$E$13 -> 40.894 | O25: =N25/F25 -> 1.1650712
C26: 200 | D26: 0.2 | E26: =($E$9-D26) -> 5.8 | F26: =$E$9*E26 -> 34.8 | G26: 106 | H26: =G26*$E$13 -> 26.924 | I26: =H26/F26 -> 0.77367816 | J26: 157 | K26: =J26*$E$13 -> 39.878 | L26: =K26/F26 -> 1.1459195 | M26: 173 | N26: =M26*$E$13 -> 43.942 | O26: =N26/F26 -> 1.2627011
C27: 250 | D27: 0.25 | E27: =($E$9-D27) -> 5.75 | F27: =$E$9*E27 -> 34.5 | G27: 108 | H27: =G27*$E$13 -> 27.432 | I27: =H27/F27 -> 0.79513043 | J27: 162 | K27: =J27*$E$13 -> 41.148 | L27: =K27/F27 -> 1.1926957 | M27: 187 | N27: =M27*$E$13 -> 47.498 | O27: =N27/F27 -> 1.3767536
C28: 300 | D28: 0.3 | E28: =($E$9-D28) -> 5.7 | F28: =$E$9*E28 -> 34.2 | G28: 104 | H28: =G28*$E$13 -> 26.416 | I28: =H28/F28 -> 0.77239766 | J28: 163 | K28: =J28*$E$13 -> 41.402 | L28: =K28/F28 -> 1.2105848 | M28: 195 | N28: =M28*$E$13 -> 49.53 | O28: =N28/F28 -> 1.4482456
C29: 350 | D29: 0.35 | E29: =($E$9-D29) -> 5.65 | F29: =$E$9*E29 -> 33.9 | G29: 94 | H29: =G29*$E$13 -> 23.876 | I29: =H29/F29 -> 0.70430678 | J29: 160 | K29: =J29*$E$13 -> 40.64 | L29: =K29/F29 -> 1.1988201 | M29: 198 | N29: =M29*$E$13 -> 50.292 | O29: =N29/F29 -> 1.4835398
C30: 400 | D30: 0.4 | E30: =($E$9-D30) -> 5.6 | F30: =$E$9*E30 -> 33.6 | J30: 154 | K30: =J30*$E$13 -> 39.116 | L30: =K30/F30 -> 1.1641667 | M30: 189 | N30: =M30*$E$13 -> 48.006 | O30: =N30/F30 -> 1.42875
C31: 450 | D31: 0.45 | E31: =($E$9-D31) -> 5.55 | F31: =$E$9*E31 -> 33.3 | M31: 177 | N31: =M31*$E$13 -> 44.958 | O31: =N31/F31 -> 1.3500901
H32: τ = | I32: =MAX(I22:I31) -> 0.79513043 | K32: τ = | L32: =MAX(L22:L31) -> 1.2105848 | N32: τ = | O32: =MAX(O22:O31) -> 1.4835398
C35: σ | D35: τ
C36: 0 | D36: 0 | F36: slope | G36: 0.9031
C37: 0.65 | D37: =I32 -> 0.79513043 | F37: phi | G37: =DEGREES((ATAN(G36))) -> 42.085192
C38: 1.15 | D38: =L32 -> 1.2105848
C39: 1.65 | D39: =O32 -> 1.4835398
E44: 0.6
C46: Observation Table
C47: Mould size
C48: Length of specimen, L | E48: 6 | F48: cm
C49: Width of specimen, B | E49: 6 | F49: cm
C50: Thickness of specimen | E50: 2 | F50: cm
C51: Unit Weight of sample remoulded sample, ϒ | E51: 1.72 | F51: g/cc
C52: Proving Ring Constant | E52: 0.254 | F52: kg/div
C53: Rate of Strain | E53: 0.25 | F53: mm/min
C54: L.C of Dial Guage | E54: 0.001 | F54: cm
C55: Volume of mould | E55: =(E48*E49*E50) -> 72 | F55: cm3
C56: Mass of soil sample required | E56: =(E51*E55) -> 123.84 | F56: gm
C58: DIAL GAUGE READING | D58: DISPLACEMENT (cm) | E58: CHANGE IN LENGTH (cm) | F58: AREA (cm2) | G58: 0.5 kg/cm2 | J58: 1.0 kg/cm2 | M58: 1.5kg/cm2
G59: PROVING RING READING | H59: SHEAR LOAD | I59: SHEAR STRESS (kg/cm2) | J59: PROVING RING READING | K59: SHEAR LOAD | L59: SHEAR STRESS (kg/cm2) | M59: PROVING RING READING | N59: SHEAR LOAD | O59: SHEAR STRESS (kg/cm2)
C60: 0 | D60: 0 | E60: =($E$9-D60) -> 6 | F60: =E60*$E$9 -> 36 | G60: 0 | H60: =G60*$E$13 -> 0 | I60: =H60/F60 -> 0 | J60: 0 | K60: =J60*$E$13 -> 0 | L60: =K60/F60 -> 0 | M60: 0 | N60: =M60*$E$13 -> 0 | O60: =N60/F60 -> 0
C61: 50 | D61: 0.05 | E61: =($E$9-D61) -> 5.95 | F61: =$E$9*E61 -> 35.7 | G61: 28 | H61: =G61*$E$13 -> 7.112 | I61: =H61/F61 -> 0.19921569 | J61: 40 | K61: =J61*$E$13 -> 10.16 | L61: =K61/F61 -> 0.28459384 | M61: 62 | N61: =M61*$E$13 -> 15.748 | O61: =N61/F61 -> 0.44112045
C62: 100 | D62: 0.1 | E62: =($E$9-D62) -> 5.9 | F62: =$E$9*E62 -> 35.4 | G62: 37 | H62: =G62*$E$13 -> 9.398 | I62: =H62/F62 -> 0.26548023 | J62: 61 | K62: =J62*$E$13 -> 15.494 | L62: =K62/F62 -> 0.43768362 | M62: 85 | N62: =M62*$E$13 -> 21.59 | O62: =N62/F62 -> 0.60988701
C63: 150 | D63: 0.15 | E63: =($E$9-D63) -> 5.85 | F63: =$E$9*E63 -> 35.1 | G63: 45 | H63: =G63*$E$13 -> 11.43 | I63: =H63/F63 -> 0.32564103 | J63: 78 | K63: =J63*$E$13 -> 19.812 | L63: =K63/F63 -> 0.56444444 | M63: 102 | N63: =M63*$E$13 -> 25.908 | O63: =N63/F63 -> 0.73811966
C64: 200 | D64: 0.2 | E64: =($E$9-D64) -> 5.8 | F64: =$E$9*E64 -> 34.8 | G64: 49 | H64: =G64*$E$13 -> 12.446 | I64: =H64/F64 -> 0.35764368 | J64: 87 | K64: =J64*$E$13 -> 22.098 | L64: =K64/F64 -> 0.635 | M64: 121 | N64: =M64*$E$13 -> 30.734 | O64: =N64/F64 -> 0.88316092
C65: 250 | D65: 0.25 | E65: =($E$9-D65) -> 5.75 | F65: =$E$9*E65 -> 34.5 | G65: 52 | H65: =G65*$E$13 -> 13.208 | I65: =H65/F65 -> 0.38284058 | J65: 102 | K65: =J65*$E$13 -> 25.908 | L65: =K65/F65 -> 0.75095652 | M65: 134 | N65: =M65*$E$13 -> 34.036 | O65: =N65/F65 -> 0.98655072
C66: 300 | D66: 0.3 | E66: =($E$9-D66) -> 5.7 | F66: =$E$9*E66 -> 34.2 | G66: 59 | H66: =G66*$E$13 -> 14.986 | I66: =H66/F66 -> 0.43818713 | J66: 115 | K66: =J66*$E$13 -> 29.21 | L66: =K66/F66 -> 0.85409357 | M66: 146 | N66: =M66*$E$13 -> 37.084 | O66: =N66/F66 -> 1.0843275
C67: 350 | D67: 0.35 | E67: =($E$9-D67) -> 5.65 | F67: =$E$9*E67 -> 33.9 | G67: 47 | H67: =G67*$E$13 -> 11.938 | I67: =H67/F67 -> 0.35215339 | J67: 104 | K67: =J67*$E$13 -> 26.416 | L67: =K67/F67 -> 0.77923304 | M67: 157 | N67: =M67*$E$13 -> 39.878 | O67: =N67/F67 -> 1.1763422
C68: 400 | D68: 0.4 | E68: =($E$9-D68) -> 5.6 | F68: =$E$9*E68 -> 33.6 | G68: 39 | H68: =G68*$E$13 -> 9.906 | I68: =H68/F68 -> 0.29482143 | J68: 91 | K68: =J68*$E$13 -> 23.114 | L68: =K68/F68 -> 0.68791667 | M68: 131 | N68: =M68*$E$13 -> 33.274 | O68: =N68/F68 -> 0.99029762
C81: σ | D81: τ | F81: slope | G81: 0.8108
C82: 0 | D82: 0 | F82: phi | G82: =DEGREES((ATAN(G81))) -> 39.035139
C83: 0.5 | D83: =MAX(I60:I68) -> 0.43818713
C84: 1 | D84: =MAX(L60:L68) -> 0.85409357
C85: 1.5 | D85: =MAX(O60:O68) -> 1.1763422
E92: 0.8

Sheet SG
E2: SPECIFIC GRAVITY TEST
B6: Sr No. | C6: Description | D6: 1
B8: 1 | C8: Weight of pycnometer (W1 gm) | D8: 672 | E8: 672
B9: 2 | C9: Weight of pycnometer + dry sand (W2 gm) | D9: 872 | E9: 872
B10: 3 | C10: Weight of pycnometer + sand + water (W3 gm) | D10: 1682 | E10: 1683
B11: 4 | C11: Weight of pycnometer + water (W4 gm) | D11: 1558 | E11: 1560
B12: 5 | C12: Specific gravity G | D12: =(D9-D8)/((D11-D8)-(D10-D9)) -> 2.6315789 | E12: =(E9-E8)/((E11-E8)-(E10-E9)) -> 2.5974026

Sheet Sieve Analysis
A1: B | I1: SIEVE ANALYSIS
A3: Sieve Dia. (mm) | B3: Retained on each Sieve (gm) | C3: % Retain | D3: Cum %Retain | E3: Cum %Passing (N)
A4: 4.75 | B4: 39.6 | C4: =(B4/B$13)*100 -> 9.9 | D4: =C$4 -> 9.9 | E4: =100-D4 -> 90.1
A5: 2.36 | B5: 25.4 | C5: =(B5/B$13)*100 -> 6.35 | D5: =D4+C5 -> 16.25 | E5: =100-D5 -> 83.75 | F5: =B4+B5 -> 65 | G5: =F5/4 -> 16.25
A6: 1.18 | B6: 124.6 | C6: =(B6/B$13)*100 -> 31.15 | D6: =D5+C6 -> 47.4 | E6: =100-D6 -> 52.6
A7: 0.6 | B7: 112.8 | C7: =(B7/B$13)*100 -> 28.2 | D7: =D6+C7 -> 75.6 | E7: =100-D7 -> 24.4
A8: 0.425 | B8: 69.3 | C8: =(B8/B$13)*100 -> 17.325 | D8: =D7+C8 -> 92.925 | E8: =100-D8 -> 7.075 | F8: =B6+B7+B8 -> 306.7 | G8: =F8/4 -> 76.675
A9: 0.3 | B9: 22.9 | C9: =(B9/B$13)*100 -> 5.725 | D9: =D8+C9 -> 98.65 | E9: =100-D9 -> 1.35
A10: 0.15 | B10: 3.4 | C10: =(B10/B$13)*100 -> 0.85 | D10: =D9+C10 -> 99.5 | E10: =100-D10 -> 0.5
A11: 0.075 | B11: 1.5 | C11: =(B11/B$13)*100 -> 0.375 | D11: =D10+C11 -> 99.875 | E11: =100-D11 -> 0.125 | F11: =B9+B10+B11 -> 27.8 | G11: =F11/4 -> 6.95
A12: Receiver | B12: 0.5 | C12: =(B12/B$13)*100 -> 0.125 | D12: =D11+C12 -> 100 | E12: =100-D12 -> 0 | F12: =B12 -> 0.5 | G12: =F12/4 -> 0.125
A13: Total | B13: =SUM(B4:B12) -> 400 | F13: =F5+F8+F11+F12 -> 400
B16: D60 | C16: 1.4 | E16: Cu | F16: =C16/C18 -> 3.0434783
B17: D30 | C17: 0.7 | E17: Cc | F17: =(C17*C17)/(C16*C18) -> 0.76086957
B18: D10 | C18: 0.46
F19: add. Coarse | G19: 0.27
F20: bodeli | G20: 2.25
F21: add. Fine | G21: 0.48
F22: total | G22: =G19+G20+G21 -> 3

Sheet Relative Density
F1: RELATIVE DENSITY TEST
B2: Relative Density Test
B3: Mould Dimension
B4: Diameter, D | C4: cm | D4: 15
B5: Height, H | C5: cm | D5: 16.5
B6: Empty Mould weight, W1 | C6: gm | D6: 10947
B7: Initial Sample State
B8: (Mould + Sample) weight, W2 | C8: gm | D8: 15414
B9: Weights of sample, W3 | C9: gm | D9: =D8-D6 -> 4467
B10: Initial Height, H1 | C10: cm | D10: =D5 -> 16.5
B11: Volume of Sample, V1 | C11: cm3 | D11: =(3.14/4)*D4*D4*D10 -> 2914.3125 | G11: Yd(60%) = | H11: 1.72 | I11: gm/cc | K11: weight of sand | L11: Kg
B12: MINIMUM DENSITY, Ƴmin | C12: gm/cm3 | D12: =D9/D11 -> 1.53278 | K12: 0.3 m
B13: Final Sample State | K13: 0.5 m | L13: =(H11*120*120*50)/1000 -> 1238.4
B14: (Mould + Sample) weight, W4 | C14: gm | D14: 15414 | K14: 0.8 m
B15: Weights of sample, W5 | C15: gm | D15: =D14-D6 -> 4467 | G15: for 5cm layer | H15: =L13/10 -> 123.84 | I15: Kg
B16: Change in Height, h | C16: cm | D16: 3.1 | G16: for 10cm layer | H16: =H15*2 -> 247.68 | I16: Kg
B17: Final Height, H2 | C17: cm | D17: =D5-D16 -> 13.4 | G17: for 15cm layer | H17: =H15*3 -> 371.52 | I17: Kg
B18: Volume of Sample, V2 | C18: cm3 | D18: =(3.14/4)*D4*D4*D17 -> 2366.775
B19: MAXIMUM DENSITY, Ƴmax | C19: gm/cm3 | D19: =D15/D18 -> 1.8873784

Sheet  P DST
K2: DIRECT SHEAR TEST
C7: 35% Rd
C11: Observation Table
C12: Mould size
C13: Length of specimen, L | E13: 6 | F13: cm
C14: Width of specimen, B | E14: 6 | F14: cm
C15: Thickness of specimen | E15: 2 | F15: cm
C16: Unit Weight of sample remoulded sample, ϒ | E16: 1.639 | F16: g/cc
C17: Proving Ring Constant | E17: 0.254 | F17: kg/div
C18: Rate of Strain | E18: 0.125 | F18: mm/min
C19: L.C of Dial Guage | E19: 0.001 | F19: cm
C20: Volume of mould | E20: =(E13*E14*E15) -> 72 | F20: cm3
C21: Mass of soil sample required | E21: =(E16*E20) -> 118.008 | F21: gm
C23: DIAL GAUGE READING | D23: DISPLACEMENT (cm) | E23: CHANGE IN LENGTH (cm) | F23: AREA (cm2) | G23: 0.65 kg/cm2 | J23: 1.15 kg/cm2 | M23: 1.65kg/cm2
G24: PROVING RING READING | H24: SHEAR LOAD | I24: SHEAR STRESS (kg/cm2) | J24: PROVING RING READING | K24: SHEAR LOAD | L24: SHEAR STRESS (kg/cm2) | M24: PROVING RING READING | N24: SHEAR LOAD | O24: SHEAR STRESS (kg/cm2)
C25: 0 | D25: 0 | E25: =($E$13-D25) -> 6 | F25: =E25*$E$13 -> 36 | G25: 0 | H25: =G25*$E$17 -> 0 | I25: =H25/F25 -> 0 | J25: 0 | K25: =J25*$E$17 -> 0 | L25: =K25/F25 -> 0 | M25: 0 | N25: =M25*$E$17 -> 0 | O25: =N25/F25 -> 0
C26: 50 | D26: 0.05 | E26: =($E$13-D26) -> 5.95 | F26: =E26*$E$13 -> 35.7 | G26: 38 | H26: =G26*$E$17 -> 9.652 | I26: =H26/F26 -> 0.27036415 | J26: 44 | K26: =J26*$E$17 -> 11.176 | L26: =K26/F26 -> 0.31305322 | M26: 53 | N26: =M26*$E$17 -> 13.462 | O26: =N26/F26 -> 0.37708683
C27: 100 | D27: 0.1 | E27: =($E$13-D27) -> 5.9 | F27: =E27*$E$13 -> 35.4 | G27: 53 | H27: =G27*$E$17 -> 13.462 | I27: =H27/F27 -> 0.38028249 | J27: 65 | K27: =J27*$E$17 -> 16.51 | L27: =K27/F27 -> 0.46638418 | M27: 79 | N27: =M27*$E$17 -> 20.066 | O27: =N27/F27 -> 0.56683616
C28: 150 | D28: 0.15 | E28: =($E$13-D28) -> 5.85 | F28: =E28*$E$13 -> 35.1 | G28: 65 | H28: =G28*$E$17 -> 16.51 | I28: =H28/F28 -> 0.47037037 | J28: 81 | K28: =J28*$E$17 -> 20.574 | L28: =K28/F28 -> 0.58615385 | M28: 104 | N28: =M28*$E$17 -> 26.416 | O28: =N28/F28 -> 0.75259259
C29: 200 | D29: 0.2 | E29: =($E$13-D29) -> 5.8 | F29: =E29*$E$13 -> 34.8 | G29: 78 | H29: =G29*$E$17 -> 19.812 | I29: =H29/F29 -> 0.56931034 | J29: 95 | K29: =J29*$E$17 -> 24.13 | L29: =K29/F29 -> 0.6933908 | M29: 121 | N29: =M29*$E$17 -> 30.734 | O29: =N29/F29 -> 0.88316092
C30: 250 | D30: 0.25 | E30: =($E$13-D30) -> 5.75 | F30: =E30*$E$13 -> 34.5 | G30: 80 | H30: =G30*$E$17 -> 20.32 | I30: =H30/F30 -> 0.58898551 | J30: 107 | K30: =J30*$E$17 -> 27.178 | L30: =K30/F30 -> 0.78776812 | M30: 135 | N30: =M30*$E$17 -> 34.29 | O30: =N30/F30 -> 0.99391304
C31: 300 | D31: 0.3 | E31: =($E$13-D31) -> 5.7 | F31: =E31*$E$13 -> 34.2 | G31: 73 | H31: =G31*$E$17 -> 18.542 | I31: =H31/F31 -> 0.54216374 | J31: 111 | K31: =J31*$E$17 -> 28.194 | L31: =K31/F31 -> 0.82438596 | M31: 147 | N31: =M31*$E$17 -> 37.338 | O31: =N31/F31 -> 1.0917544
C32: 350 | D32: 0.35 | E32: =($E$13-D32) -> 5.65 | F32: =E32*$E$13 -> 33.9 | J32: 109 | K32: =J32*$E$17 -> 27.686 | L32: =K32/F32 -> 0.81669617 | M32: 153 | N32: =M32*$E$17 -> 38.862 | O32: =N32/F32 -> 1.1463717
C33: 400 | D33: 0.4 | E33: =($E$13-D33) -> 5.6 | F33: =E33*$E$13 -> 33.6 | J33: 97 | K33: =J33*$E$17 -> 24.638 | L33: =K33/F33 -> 0.73327381 | M33: 151 | N33: =M33*$E$17 -> 38.354 | O33: =N33/F33 -> 1.1414881
C34: 450 | D34: 0.45 | E34: =($E$13-D34) -> 5.55 | F34: =E34*$E$13 -> 33.3 | M34: 144 | N34: =M34*$E$17 -> 36.576 | O34: =N34/F34 -> 1.0983784
H35: τ = | I35: =MAX(I25:I34) -> 0.58898551 | K35: τ = | L35: =MAX(L25:L34) -> 0.82438596 | N35: τ = | O35: =MAX(O25:O34) -> 1.1463717
C38: σ | D38: τ
C39: 0 | D39: 0 | F39: slope | G39: 0.6801
C40: 0.65 | D40: =I35 -> 0.58898551 | F40: phi | G40: =DEGREES((ATAN(G39))) -> 34.21962
C41: 1.15 | D41: =L35 -> 0.82438596
C42: 1.65 | D42: =O35 -> 1.1463717
C49: 60% Rd
C53: Observation Table
C54: Mould size
C55: Length of specimen, L | E55: 6 | F55: cm
C56: Width of specimen, B | E56: 6 | F56: cm
C57: Thickness of specimen | E57: 2 | F57: cm
C58: Unit Weight of sample remoulded sample, ϒ | E58: 1.72 | F58: g/cc
C59: Proving Ring Constant | E59: 0.254 | F59: kg/div
C60: Rate of Strain | E60: 0.125 | F60: mm/min
C61: L.C of Dial Guage | E61: 0.001 | F61: cm
C62: Volume of mould | E62: =(E55*E56*E57) -> 72 | F62: cm3
C63: Mass of soil sample required | E63: =(E58*E62) -> 123.84 | F63: gm
C65: DIAL GAUGE READING | D65: DISPLACEMENT (cm) | E65: CHANGE IN LENGTH (cm) | F65: AREA (cm2) | G65: 0.5 kg/cm2 | J65: 1.0 kg/cm2 | M65: 1.5kg/cm2
G66: PROVING RING READING | H66: SHEAR LOAD | I66: SHEAR STRESS (kg/cm2) | J66: PROVING RING READING | K66: SHEAR LOAD | L66: SHEAR STRESS (kg/cm2) | M66: PROVING RING READING | N66: SHEAR LOAD | O66: SHEAR STRESS (kg/cm2)
C67: 0 | D67: 0 | E67: =($E$13-D67) -> 6 | F67: =E67*$E$13 -> 36 | G67: 0 | H67: =G67*$E$17 -> 0 | I67: =H67/F67 -> 0 | J67: 0 | K67: =J67*$E$17 -> 0 | L67: =K67/F67 -> 0 | M67: 0 | N67: =M67*$E$17 -> 0 | O67: =N67/F67 -> 0
C68: 50 | D68: 0.05 | E68: =($E$13-D68) -> 5.95 | F68: =E68*$E$13 -> 35.7 | G68: 64 | H68: =G68*$E$17 -> 16.256 | I68: =H68/F68 -> 0.45535014 | J68: 97 | K68: =J68*$E$17 -> 24.638 | L68: =K68/F68 -> 0.69014006 | M68: 119 | N68: =M68*$E$17 -> 30.226 | O68: =N68/F68 -> 0.84666667
C69: 100 | D69: 0.1 | E69: =($E$13-D69) -> 5.9 | F69: =E69*$E$13 -> 35.4 | G69: 87 | H69: =G69*$E$17 -> 22.098 | I69: =H69/F69 -> 0.62423729 | J69: 124 | K69: =J69*$E$17 -> 31.496 | L69: =K69/F69 -> 0.88971751 | M69: 143 | N69: =M69*$E$17 -> 36.322 | O69: =N69/F69 -> 1.0260452
C70: 150 | D70: 0.15 | E70: =($E$13-D70) -> 5.85 | F70: =E70*$E$13 -> 35.1 | G70: 99 | H70: =G70*$E$17 -> 25.146 | I70: =H70/F70 -> 0.71641026 | J70: 144 | K70: =J70*$E$17 -> 36.576 | L70: =K70/F70 -> 1.0420513 | M70: 161 | N70: =M70*$E$17 -> 40.894 | O70: =N70/F70 -> 1.1650712
C71: 200 | D71: 0.2 | E71: =($E$13-D71) -> 5.8 | F71: =E71*$E$13 -> 34.8 | G71: 106 | H71: =G71*$E$17 -> 26.924 | I71: =H71/F71 -> 0.77367816 | J71: 157 | K71: =J71*$E$17 -> 39.878 | L71: =K71/F71 -> 1.1459195 | M71: 173 | N71: =M71*$E$17 -> 43.942 | O71: =N71/F71 -> 1.2627011
C72: 250 | D72: 0.25 | E72: =($E$13-D72) -> 5.75 | F72: =E72*$E$13 -> 34.5 | G72: 108 | H72: =G72*$E$17 -> 27.432 | I72: =H72/F72 -> 0.79513043 | J72: 162 | K72: =J72*$E$17 -> 41.148 | L72: =K72/F72 -> 1.1926957 | M72: 187 | N72: =M72*$E$17 -> 47.498 | O72: =N72/F72 -> 1.3767536
C73: 300 | D73: 0.3 | E73: =($E$13-D73) -> 5.7 | F73: =E73*$E$13 -> 34.2 | G73: 104 | H73: =G73*$E$17 -> 26.416 | I73: =H73/F73 -> 0.77239766 | J73: 163 | K73: =J73*$E$17 -> 41.402 | L73: =K73/F73 -> 1.2105848 | M73: 195 | N73: =M73*$E$17 -> 49.53 | O73: =N73/F73 -> 1.4482456
C74: 350 | D74: 0.35 | E74: =($E$13-D74) -> 5.65 | F74: =E74*$E$13 -> 33.9 | G74: 94 | H74: =G74*$E$17 -> 23.876 | I74: =H74/F74 -> 0.70430678 | J74: 160 | K74: =J74*$E$17 -> 40.64 | L74: =K74/F74 -> 1.1988201 | M74: 198 | N74: =M74*$E$17 -> 50.292 | O74: =N74/F74 -> 1.4835398
C75: 400 | D75: 0.4 | E75: =($E$13-D75) -> 5.6 | F75: =E75*$E$13 -> 33.6 | J75: 154 | K75: =J75*$E$17 -> 39.116 | L75: =K75/F75 -> 1.1641667 | M75: 189 | N75: =M75*$E$17 -> 48.006 | O75: =N75/F75 -> 1.42875
C76: 450 | D76: 0.45 | E76: =($E$13-D76) -> 5.55 | F76: =E76*$E$13 -> 33.3 | M76: 177 | N76: =M76*$E$17 -> 44.958 | O76: =N76/F76 -> 1.3500901
H77: τ = | I77: =MAX(I67:I76) -> 0.79513043 | K77: τ = | L77: =MAX(L67:L76) -> 1.2105848 | N77: τ = | O77: =MAX(O67:O76) -> 1.4835398
C80: σ | D80: τ
C81: 0 | D81: 0 | F81: slope | G81: 0.9031
C82: 0.65 | D82: =I77 -> 0.79513043 | F82: phi | G82: =DEGREES((ATAN(G81))) -> 42.085192
C83: 1.15 | D83: =L77 -> 1.2105848
C84: 1.65 | D84: =O77 -> 1.4835398
C90: 80% Rd
C94: Observation Table
C95: Mould size
C96: Length of specimen, L | E96: 6 | F96: cm
C97: Width of specimen, B | E97: 6 | F97: cm
C98: Thickness of specimen | E98: 2 | F98: cm
C99: Unit Weight of sample remoulded sample, ϒ | E99: 1.805 | F99: g/cc
C100: Proving Ring Constant | E100: 0.254 | F100: kg/div
C101: Rate of Strain | E101: 0.125 | F101: mm/min
C102: L.C of Dial Guage | E102: 0.001 | F102: cm
C103: Volume of mould | E103: =(E96*E97*E98) -> 72 | F103: cm3
C104: Mass of soil sample required | E104: =(E99*E103) -> 129.96 | F104: gm
C106: DIAL GAUGE READING | D106: DISPLACEMENT (cm) | E106: CHANGE IN LENGTH (cm) | F106: AREA (cm2) | G106: 0.65 kg/cm2 | J106: 1.15kg/cm2 | M106: 1.65kg/cm2
G107: PROVING RING READING | H107: SHEAR LOAD | I107: SHEAR STRESS (kg/cm2) | J107: PROVING RING READING | K107: SHEAR LOAD | L107: SHEAR STRESS (kg/cm2) | M107: PROVING RING READING | N107: SHEAR LOAD | O107: SHEAR STRESS (kg/cm2)
C108: 0 | D108: 0 | E108: =($E$13-D108) -> 6 | F108: =E108*$E$13 -> 36 | G108: 0 | H108: =G108*$E$17 -> 0 | I108: =H108/F108 -> 0 | J108: 0 | K108: =J108*$E$17 -> 0 | L108: =K108/F108 -> 0 | M108: 0 | N108: =M108*$E$17 -> 0 | O108: =N108/F108 -> 0
C109: 50 | D109: 0.05 | E109: =($E$13-D109) -> 5.95 | F109: =E109*$E$13 -> 35.7 | G109: 89 | H109: =G109*$E$17 -> 22.606 | I109: =H109/F109 -> 0.63322129 | J109: 101 | K109: =J109*$E$17 -> 25.654 | L109: =K109/F109 -> 0.71859944 | M109: 114 | N109: =M109*$E$17 -> 28.956 | O109: =N109/F109 -> 0.81109244
C110: 100 | D110: 0.1 | E110: =($E$13-D110) -> 5.9 | F110: =E110*$E$13 -> 35.4 | G110: 101 | H110: =G110*$E$17 -> 25.654 | I110: =H110/F110 -> 0.72468927 | J110: 131 | K110: =J110*$E$17 -> 33.274 | L110: =K110/F110 -> 0.9399435 | M110: 143 | N110: =M110*$E$17 -> 36.322 | O110: =N110/F110 -> 1.0260452
C111: 150 | D111: 0.15 | E111: =($E$13-D111) -> 5.85 | F111: =E111*$E$13 -> 35.1 | G111: 114 | H111: =G111*$E$17 -> 28.956 | I111: =H111/F111 -> 0.82495726 | J111: 159 | K111: =J111*$E$17 -> 40.386 | L111: =K111/F111 -> 1.1505983 | M111: 168 | N111: =M111*$E$17 -> 42.672 | O111: =N111/F111 -> 1.2157265
C112: 200 | D112: 0.2 | E112: =($E$13-D112) -> 5.8 | F112: =E112*$E$13 -> 34.8 | G112: 117 | H112: =G112*$E$17 -> 29.718 | I112: =H112/F112 -> 0.85396552 | J112: 175 | K112: =J112*$E$17 -> 44.45 | L112: =K112/F112 -> 1.2772989 | M112: 180 | N112: =M112*$E$17 -> 45.72 | O112: =N112/F112 -> 1.3137931
C113: 250 | D113: 0.25 | E113: =($E$13-D113) -> 5.75 | F113: =E113*$E$13 -> 34.5 | G113: 117 | H113: =G113*$E$17 -> 29.718 | I113: =H113/F113 -> 0.8613913 | J113: 184 | K113: =J113*$E$17 -> 46.736 | L113: =K113/F113 -> 1.3546667 | M113: 209 | N113: =M113*$E$17 -> 53.086 | O113: =N113/F113 -> 1.5387246
C114: 300 | D114: 0.3 | E114: =($E$13-D114) -> 5.7 | F114: =E114*$E$13 -> 34.2 | G114: 117 | H114: =G114*$E$17 -> 29.718 | I114: =H114/F114 -> 0.86894737 | J114: 187 | K114: =J114*$E$17 -> 47.498 | L114: =K114/F114 -> 1.3888304 | M114: 218 | N114: =M114*$E$17 -> 55.372 | O114: =N114/F114 -> 1.6190643
C115: 350 | D115: 0.35 | E115: =($E$13-D115) -> 5.65 | F115: =E115*$E$13 -> 33.9 | J115: 183 | K115: =J115*$E$17 -> 46.482 | L115: =K115/F115 -> 1.3711504 | M115: 221 | N115: =M115*$E$17 -> 56.134 | O115: =N115/F115 -> 1.6558702
C116: 400 | D116: 0.4 | E116: =($E$13-D116) -> 5.6 | F116: =E116*$E$13 -> 33.6 | M116: 220 | N116: =M116*$E$17 -> 55.88 | O116: =N116/F116 -> 1.6630952
C117: 450 | D117: 0.45 | E117: =($E$13-D117) -> 5.55 | F117: =E117*$E$13 -> 33.3
H118: τ = | I118: =MAX(I108:I117) -> 0.86894737 | K118: τ = | L118: =MAX(L108:L117) -> 1.3888304 | N118: τ = | O118: =MAX(O108:O117) -> 1.6630952
C121: σ | D121: τ
C122: 0 | D122: 0 | F122: slope | G122: 1.0218
C123: 0.65 | D123: =I118 -> 0.86894737 | F123: phi | G123: =DEGREES((ATAN(G122))) -> 45.617766
C124: 1.15 | D124: =L118 -> 1.3888304
C125: 1.65 | D125: =O118 -> 1.6630952

Sheet Pull-out(A)
K1: PULLOUT TEST (A)
C2: 60 | D2: %Rd
C3: Φ | D3: 42.09 | F3: m | G3: 0.4127
C4: Ƴ (kN/m3) | D4: 17.2 | F4: Ku | G4: 0.954
B9: SR. NO. | C9: Relative Density % Dr | D9: Plate Width, B (m) | E9: Plate Length, L (m) | F9: Dry Density, Ƴ kN/m3 | G9: Frictional Angle, Φ (deg) | H9: Embedment Depth, H (m) | I9: Embedment Ratio, (H/B) | J9: Type of Anchor S/D | K9: Breakout Factor, Nq | L9: Uplift Load, Qu (kN)
B10: 1 | C10: =$C$2 -> 60 | D10: 0.15 | E10: 0.15 | F10: =$D$4 -> 17.2 | G10: =$D$3 -> 42.09 | H10: 0.3 | I10: =H10/D10 -> 2 | J10: S | K10: =1+((1+2*$G$3*(H10/D10))*(D10/E10)+1)*(H10/D10)*$G$4*TAN(RADIANS(G10)) -> 7.2918088 | L10: =K10*F10*D10*E10*H10 -> 0.846579
B11: 2 | C11: =$C$2 -> 60 | D11: 0.15 | E11: 0.15 | F11: =$D$4 -> 17.2 | G11: =$D$3 -> 42.09 | H11: 0.5 | I11: =H11/D11 -> 3.3333333 | J11: S | K11: =1+((1+2*$G$3*(H11/D11))*(D11/E11)+1)*(H11/D11)*$G$4*TAN(RADIANS(G11)) -> 14.647457 | L11: =K11*F11*D11*E11*H11 -> 2.8342829 | AF11: Φ | AG11: m
B12: 3 | C12: =$C$2 -> 60 | D12: 0.15 | E12: 0.15 | F12: =$D$4 -> 17.2 | G12: =$D$3 -> 42.09 | H12: 0.8 | I12: =H12/D12 -> 5.3333333 | J12: S | K12: =1+((1+2*$G$3*(H12/D12))*(D12/E12)+1)*(H12/D12)*$G$4*TAN(RADIANS(G12)) -> 30.422591 | L12: =K12*F12*D12*E12*H12 -> 9.4188343 | AF12: 20 | AG12: 0.05
B13: 4 | C13: =$C$2 -> 60 | D13: 0.3 | E13: 0.3 | F13: =$D$4 -> 17.2 | G13: =$D$3 -> 42.09 | H13: 0.3 | I13: =H13/D13 -> 1 | J13: S | K13: =1+((1+2*$G$3*(H13/D13))*(D13/E13)+1)*(H13/D13)*$G$4*TAN(RADIANS(G13)) -> 3.434655 | L13: =K13*F13*D13*E13*H13 -> 1.5950538 | AF13: 25 | AG13: 0.1
B14: 5 | C14: =$C$2 -> 60 | D14: 0.3 | E14: 0.3 | F14: =$D$4 -> 17.2 | G14: =$D$3 -> 42.09 | H14: 0.5 | I14: =H14/D14 -> 1.6666667 | J14: S | K14: =1+((1+2*$G$3*(H14/D14))*(D14/E14)+1)*(H14/D14)*$G$4*TAN(RADIANS(G14)) -> 5.8480354 | L14: =K14*F14*D14*E14*H14 -> 4.5263794 | AF14: 30 | AG14: 0.15
B15: 6 | C15: =$C$2 -> 60 | D15: 0.3 | E15: 0.3 | F15: =$D$4 -> 17.2 | G15: =$D$3 -> 42.09 | H15: 0.8 | I15: =H15/D15 -> 2.6666667 | J15: S | K15: =1+((1+2*$G$3*(H15/D15))*(D15/E15)+1)*(H15/D15)*$G$4*TAN(RADIANS(G15)) -> 10.653522 | L15: =K15*F15*D15*E15*H15 -> 13.193321 | AF15: 35 | AG15: 0.25
AF16: 40 | AG16: 0.35
AF17: 45 | AG17: 0.5
AF18: 48 | AG18: 0.6
C19: 35 | D19: %Rd
C20: Φ (°) | D20: 34.22 | F20: m | G20: 0.2344
C21: Ƴ (kN/m3) | D21: 16.39 | F21: Ku | G21: 0.927
B26: SR. NO. | C26: Relative Density % Dr | D26: Plate Width, B (m) | E26: Plate Length, L (m) | F26: Dry Density, Ƴ kN/m3 | G26: Frictional Angle, Φ (deg) | H26: Embedment Depth, H (m) | I26: Embedment Ratio, (H/B) | J26: Type of Anchor S/D | K26: Breakout Factor, Nq | L26: Uplift Load, Qu (kN)
B27: 1 | C27: =$C$19 -> 35 | D27: 0.15 | E27: 0.15 | F27: =$D$21 -> 16.39 | G27: =$D$20 -> 34.22 | H27: 0.3 | I27: =H27/D27 -> 2 | J27: S | K27: =1+((1+2*$G$20*(H27/D27))*(D27/E27)+1)*(H27/D27)*$G$21*TAN(RADIANS(G27)) -> 4.7040885 | L27: =K27*F27*D27*E27*H27 -> 0.52042508
B28: 2 | C28: =$C$19 -> 35 | D28: 0.15 | E28: 0.15 | F28: =$D$21 -> 16.39 | G28: =$D$20 -> 34.22 | H28: 0.5 | I28: =H28/D28 -> 3.3333333 | J28: S | K28: =1+((1+2*$G$20*(H28/D28))*(D28/E28)+1)*(H28/D28)*$G$21*TAN(RADIANS(G28)) -> 8.4870829 | L28: =K28*F28*D28*E28*H28 -> 1.564912
B29: 3 | C29: =$C$19 -> 35 | D29: 0.15 | E29: 0.15 | F29: =$D$21 -> 16.39 | G29: =$D$20 -> 34.22 | H29: 0.8 | I29: =H29/D29 -> 5.3333333 | J29: S | K29: =1+((1+2*$G$20*(H29/D29))*(D29/E29)+1)*(H29/D29)*$G$21*TAN(RADIANS(G29)) -> 16.131977 | L29: =K29*F29*D29*E29*H29 -> 4.759256
B30: 4 | C30: =$C$19 -> 35 | D30: 0.3 | E30: 0.3 | F30: =$D$21 -> 16.39 | G30: =$D$20 -> 34.22 | H30: 0.3 | I30: =H30/D30 -> 1 | J30: S | K30: =1+((1+2*$G$20*(H30/D30))*(D30/E30)+1)*(H30/D30)*$G$21*TAN(RADIANS(G30)) -> 2.5564838 | L30: =K30*F30*D30*E30*H30 -> 1.1313208
B31: 5 | C31: =$C$19 -> 35 | D31: 0.3 | E31: 0.3 | F31: =$D$21 -> 16.39 | G31: =$D$20 -> 34.22 | H31: 0.5 | I31: =H31/D31 -> 1.6666667 | J31: S | K31: =1+((1+2*$G$20*(H31/D31))*(D31/E31)+1)*(H31/D31)*$G$21*TAN(RADIANS(G31)) -> 3.9225402 | L31: =K31*F31*D31*E31*H31 -> 2.8930695
B32: 6 | C32: =$C$19 -> 35 | D32: 0.3 | E32: 0.3 | F32: =$D$21 -> 16.39 | G32: =$D$20 -> 34.22 | H32: 0.8 | I32: =H32/D32 -> 2.6666667 | J32: S | K32: =1+((1+2*$G$20*(H32/D32))*(D32/E32)+1)*(H32/D32)*$G$21*TAN(RADIANS(G32)) -> 6.4642255 | L32: =K32*F32*D32*E32*H32 -> 7.6283032
C36: 80 | D36: %Rd
C37: Φ | D37: 45.62 | F37: m | G37: 0.512
C38: Ƴ (kN/m3) | D38: 18.05 | F38: Ku | G38: 0.96
B43: SR. NO. | C43: Relative Density % Dr | D43: Plate Width, B (m) | E43: Plate Length, L (m) | F43: Dry Density, Ƴ kN/m3 | G43: Frictional Angle, Φ (deg) | H43: Embedment Depth, H (m) | I43: Embedment Ratio, (H/B) | J43: Type of Anchor S/D | K43: Breakout Factor, Nq | L43: Uplift Load, Qu (kN)
B44: 1 | C44: 80 | D44: 0.15 | E44: 0.15 | F44: =$D$38 -> 18.05 | G44: =$D$37 -> 45.62 | H44: 0.3 | I44: =H44/D44 -> 2 | J44: S | K44: =1+((1+2*$G$37*(H44/D44))*(D44/E44)+1)*(H44/D44)*$G$38*TAN(RADIANS(G44)) -> 8.9422125 | L44: =K44*F44*D44*E44*H44 -> 1.0894968
B45: 2 | C45: 80 | D45: 0.15 | E45: 0.15 | F45: =$D$38 -> 18.05 | G45: =$D$37 -> 45.62 | H45: 0.5 | I45: =H45/D45 -> 3.3333333 | J45: S | K45: =1+((1+2*$G$37*(H45/D45))*(D45/E45)+1)*(H45/D45)*$G$38*TAN(RADIANS(G45)) -> 18.701681 | L45: =K45*F45*D45*E45*H45 -> 3.7976102
B46: 3 | C46: 80 | D46: 0.15 | E46: 0.15 | F46: =$D$38 -> 18.05 | G46: =$D$37 -> 45.62 | H46: 0.8 | I46: =H46/D46 -> 5.3333333 | J46: S | K46: =1+((1+2*$G$37*(H46/D46))*(D46/E46)+1)*(H46/D46)*$G$38*TAN(RADIANS(G46)) -> 40.037875 | L46: =K46*F46*D46*E46*H46 -> 13.008306
B47: 4 | C47: 80 | D47: 0.3 | E47: 0.3 | F47: =$D$38 -> 18.05 | G47: =$D$37 -> 45.62 | H47: 0.3 | I47: =H47/D47 -> 1 | J47: S | K47: =1+((1+2*$G$37*(H47/D47))*(D47/E47)+1)*(H47/D47)*$G$38*TAN(RADIANS(G47)) -> 3.9665576 | L47: =K47*F47*D47*E47*H47 -> 1.9331019
B48: 5 | C48: 80 | D48: 0.3 | E48: 0.3 | F48: =$D$38 -> 18.05 | G48: =$D$37 -> 45.62 | H48: 0.5 | I48: =H48/D48 -> 1.6666667 | J48: S | K48: =1+((1+2*$G$37*(H48/D48))*(D48/E48)+1)*(H48/D48)*$G$38*TAN(RADIANS(G48)) -> 7.0604279 | L48: =K48*F48*D48*E48*H48 -> 5.7348325
B49: 6 | C49: 80 | D49: 0.3 | E49: 0.3 | F49: =$D$38 -> 18.05 | G49: =$D$37 -> 45.62 | H49: 0.8 | I49: =H49/D49 -> 2.6666667 | J49: S | K49: =1+((1+2*$G$37*(H49/D49))*(D49/E49)+1)*(H49/D49)*$G$38*TAN(RADIANS(G49)) -> 13.375481 | L49: =K49*F49*D49*E49*H49 -> 17.382775

Sheet Pull-out(E)
E1: PULLOUT TEST (E)
B5: PLATE SIZE | D5: 0.3 * 0.3 | E5: m2 | H5: PLATE SIZE | J5: 0.3 * 0.3 | K5: m2 | N5: PLATE SIZE | P5: 0.3 * 0.3 | Q5: m2 | T5: PLATE SIZE | V5: 0.15 * 0.15 | W5: m2 | Z5: PLATE SIZE | AB5: 0.15 * 0.15 | AC5: m2 | AF5: PLATE SIZE | AH5: 0.15 * 0.15 | AI5: m2
B6: RELATIVE DENSITY | D6: 35 | E6: % | H6: RELATIVE DENSITY | J6: 35 | K6: % | N6: RELATIVE DENSITY | P6: 35 | Q6: % | T6: RELATIVE DENSITY | V6: 35 | W6: % | Z6: RELATIVE DENSITY | AB6: 35 | AC6: % | AF6: RELATIVE DENSITY | AH6: 35 | AI6: %
B7: EMBEDMENT DEPTH | D7: 0.3 | E7: m | H7: EMBEDMENT DEPTH | J7: 0.5 | K7: m | N7: EMBEDMENT DEPTH | P7: 0.8 | Q7: m | T7: EMBEDMENT DEPTH | V7: 0.3 | W7: m | Z7: EMBEDMENT DEPTH | AB7: 0.5 | AC7: m | AF7: EMBEDMENT DEPTH | AH7: 0.8 | AI7: m
B9: Proving Ring Unit | C9: 5.55 | D9: Kg/div | H9: Proving Ring Unit | I9: 5.55 | J9: Kg/div | N9: Proving Ring Unit | O9: 5.55 | P9: Kg/div | T9: Proving Ring Unit | U9: 5.55 | V9: Kg/div | Z9: Proving Ring Unit | AA9: 5.55 | AB9: Kg/div | AF9: Proving Ring Unit | AG9: 5.55 | AH9: Kg/div
B10: L.c. of Dial Gauge | C10: 0.001 | D10: cm | H10: L.c. of Dial Gauge | I10: 0.001 | J10: cm | N10: L.c. of Dial Gauge | O10: 0.001 | P10: cm | T10: L.c. of Dial Gauge | U10: 0.001 | V10: cm | Z10: L.c. of Dial Gauge | AA10: 0.001 | AB10: cm | AF10: L.c. of Dial Gauge | AG10: 0.001 | AH10: cm
B13: DIAL GAUGE READING | C13: DISPLACEMENT (cm) | D13: PROVING RING READING | E13: UPLIFT LOAD (Kg) | H13: DIAL GAUGE READING | I13: DISPLACEMENT (cm) | J13: PROVING RING READING | K13: UPLIFT LOAD (Kg) | N13: DIAL GAUGE READING | O13: DISPLACEMENT (cm) | P13: PROVING RING READING | Q13: UPLIFT LOAD (Kg) | T13: DIAL GAUGE READING | U13: DISPLACEMENT (cm) | V13: PROVING RING READING | W13: UPLIFT LOAD (kg) | Z13: DIAL GAUGE READING | AA13: DISPLACEMENT (cm) | AB13: PROVING RING READING | AC13: UPLIFT LOAD (kg) | AF13: DIAL GAUGE READING | AG13: DISPLACEMENT (cm) | AH13: PROVING RING READING | AI13: UPLIFT LOAD (kg) | AL13: SR. NO. | AM13: ANCHOR WIDTH, B | AN13: %Rd | AO13: EMBEDMENT DEPTH, H | AP13: H/B | AQ13: Ƴ kN/m3 | AR13: Peak Load Qu, kN | AS13: Corresponding Displacement, δ | AT13: Strain
B14: 0 | C14: =B14*$C$10 -> 0 | D14: 0 | E14: =D14*$C$9 -> 0 | H14: 0 | I14: =H14*$C$10 -> 0 | J14: 0 | K14: =J14*$I$9 -> 0 | N14: 0 | O14: =N14*$C$10 -> 0 | P14: 0 | Q14: =P14*$I$9 -> 0 | T14: 0 | U14: =T14*$C$10 -> 0 | V14: 0 | W14: =V14*$C$9 -> 0 | Z14: 0 | AA14: =Z14*$C$10 -> 0 | AB14: 0 | AC14: =AB14*$I$9 -> 0 | AF14: 0 | AG14: =AF14*$C$10 -> 0 | AH14: 0 | AI14: =AH14*$I$9 -> 0 | AL14: 1 | AM14: 0.15 | AN14: 0.35 | AO14: 0.3 | AP14: =AO14/$AM$14 -> 2 | AQ14: 16.39 | AR14: =W100/100 -> 0.4995 | AS14: =U100 -> 0.16 | AT14: =AS14/AO14 -> 0.53333333
B15: 20 | C15: =B15*$C$10 -> 0.02 | D15: 7 | E15: =D15*$C$9 -> 38.85 | H15: 20 | I15: =H15*$C$10 -> 0.02 | J15: 8 | K15: =J15*$I$9 -> 44.4 | N15: 20 | O15: =N15*$C$10 -> 0.02 | P15: 16 | Q15: =P15*$I$9 -> 88.8 | T15: 20 | U15: =T15*$C$10 -> 0.02 | V15: 1 | W15: =V15*$C$9 -> 5.55 | Z15: 20 | AA15: =Z15*$C$10 -> 0.02 | AB15: 2 | AC15: =AB15*$I$9 -> 11.1 | AF15: 20 | AG15: =AF15*$C$10 -> 0.02 | AH15: 7 | AI15: =AH15*$I$9 -> 38.85 | AL15: 2 | AO15: 0.5 | AP15: =AO15/$AM$14 -> 3.3333333 | AQ15: 16.39 | AR15: =AC100/100 -> 1.554 | AS15: =AA100 -> 0.48 | AT15: =AS15/AO15 -> 0.96
B16: 40 | C16: =B16*$C$10 -> 0.04 | D16: 12 | E16: =D16*$C$9 -> 66.6 | H16: 40 | I16: =H16*$C$10 -> 0.04 | J16: 14 | K16: =J16*$I$9 -> 77.7 | N16: 40 | O16: =N16*$C$10 -> 0.04 | P16: 55 | Q16: =P16*$I$9 -> 305.25 | T16: 40 | U16: =T16*$C$10 -> 0.04 | V16: 3 | W16: =V16*$C$9 -> 16.65 | Z16: 40 | AA16: =Z16*$C$10 -> 0.04 | AB16: 4 | AC16: =AB16*$I$9 -> 22.2 | AF16: 40 | AG16: =AF16*$C$10 -> 0.04 | AH16: 9 | AI16: =AH16*$I$9 -> 49.95 | AL16: 3 | AO16: 0.8 | AP16: =AO16/$AM$14 -> 5.3333333 | AQ16: 16.39 | AR16: =AI100/100 -> 4.2735 | AS16: =AG100 -> 1.46 | AT16: =AS16/AO16 -> 1.825
B17: 60 | C17: =B17*$C$10 -> 0.06 | D17: 19 | E17: =D17*$C$9 -> 105.45 | H17: 60 | I17: =H17*$C$10 -> 0.06 | J17: 27 | K17: =J17*$I$9 -> 149.85 | N17: 60 | O17: =N17*$C$10 -> 0.06 | P17: 63 | Q17: =P17*$I$9 -> 349.65 | T17: 60 | U17: =T17*$C$10 -> 0.06 | V17: 5 | W17: =V17*$C$9 -> 27.75 | Z17: 60 | AA17: =Z17*$C$10 -> 0.06 | AB17: 11 | AC17: =AB17*$I$9 -> 61.05 | AF17: 60 | AG17: =AF17*$C$10 -> 0.06 | AH17: 14 | AI17: =AH17*$I$9 -> 77.7 | AL17: 4 | AN17: 0.6 | AO17: 0.3 | AP17: =AO17/$AM$14 -> 2 | AQ17: 17.2 | AR17: =AC210/100 -> 1.9425 | AS17: =AA210 -> 0.5 | AT17: =AS17/AO17 -> 1.6666667
B18: 80 | C18: =B18*$C$10 -> 0.08 | D18: 19 | E18: =D18*$C$9 -> 105.45 | H18: 80 | I18: =H18*$C$10 -> 0.08 | J18: 36 | K18: =J18*$I$9 -> 199.8 | N18: 80 | O18: =N18*$C$10 -> 0.08 | P18: 72 | Q18: =P18*$I$9 -> 399.6 | T18: 80 | U18: =T18*$C$10 -> 0.08 | V18: 6 | W18: =V18*$C$9 -> 33.3 | Z18: 80 | AA18: =Z18*$C$10 -> 0.08 | AB18: 13 | AC18: =AB18*$I$9 -> 72.15 | AF18: 80 | AG18: =AF18*$C$10 -> 0.08 | AH18: 17 | AI18: =AH18*$I$9 -> 94.35 | AL18: 5 | AO18: 0.5 | AP18: =AO18/$AM$14 -> 3.3333333 | AQ18: 17.2 | AR18: =AI210/100 -> 7.215 | AS18: =AG210 -> 1.64 | AT18: =AS18/AO18 -> 3.28
B19: 100 | C19: =B19*$C$10 -> 0.1 | D19: 20 | E19: =D19*$C$9 -> 111 | H19: 100 | I19: =H19*$C$10 -> 0.1 | J19: 40 | K19: =J19*$I$9 -> 222 | N19: 100 | O19: =N19*$C$10 -> 0.1 | P19: 77 | Q19: =P19*$I$9 -> 427.35 | T19: 100 | U19: =T19*$C$10 -> 0.1 | V19: 7 | W19: =V19*$C$9 -> 38.85 | Z19: 100 | AA19: =Z19*$C$10 -> 0.1 | AB19: 16 | AC19: =AB19*$I$9 -> 88.8 | AF19: 100 | AG19: =AF19*$C$10 -> 0.1 | AH19: 20 | AI19: =AH19*$I$9 -> 111 | AL19: 6 | AO19: 0.8 | AP19: =AO19/$AM$14 -> 5.3333333 | AQ19: 17.2 | AR19: =W327/100 -> 0.666 | AS19: =U327 -> 0.24 | AT19: =AS19/AO19 -> 0.3
B20: 120 | C20: =B20*$C$10 -> 0.12 | D20: 20 | E20: =D20*$C$9 -> 111 | H20: 120 | I20: =H20*$C$10 -> 0.12 | J20: 41 | K20: =J20*$I$9 -> 227.55 | N20: 120 | O20: =N20*$C$10 -> 0.12 | P20: 80 | Q20: =P20*$I$9 -> 444 | T20: 120 | U20: =T20*$C$10 -> 0.12 | V20: 8 | W20: =V20*$C$9 -> 44.4 | Z20: 120 | AA20: =Z20*$C$10 -> 0.12 | AB20: 18 | AC20: =AB20*$I$9 -> 99.9 | AF20: 120 | AG20: =AF20*$C$10 -> 0.12 | AH20: 22 | AI20: =AH20*$I$9 -> 122.1 | AL20: 7 | AN20: 0.8 | AO20: 0.3 | AP20: =AO20/$AM$14 -> 2 | AQ20: 18.05 | AR20: =AC327/100 -> 2.442 | AS20: =AA327 -> 0.52 | AT20: =AS20/AO20 -> 1.7333333
B21: 140 | C21: =B21*$C$10 -> 0.14 | D21: 20 | E21: =D21*$C$9 -> 111 | H21: 140 | I21: =H21*$C$10 -> 0.14 | J21: 43 | K21: =J21*$I$9 -> 238.65 | N21: 140 | O21: =N21*$C$10 -> 0.14 | P21: 83 | Q21: =P21*$I$9 -> 460.65 | T21: 140 | U21: =T21*$C$10 -> 0.14 | V21: 9 | W21: =V21*$C$9 -> 49.95 | Z21: 140 | AA21: =Z21*$C$10 -> 0.14 | AB21: 19 | AC21: =AB21*$I$9 -> 105.45 | AF21: 140 | AG21: =AF21*$C$10 -> 0.14 | AH21: 24 | AI21: =AH21*$I$9 -> 133.2 | AL21: 8 | AO21: 0.5 | AP21: =AO21/$AM$14 -> 3.3333333 | AQ21: 18.05 | AR21: =AI327/100 -> 10.101 | AS21: =AG327 -> 1.75 | AT21: =AS21/AO21 -> 3.5
H22: 160 | I22: =H22*$C$10 -> 0.16 | J22: 45 | K22: =J22*$I$9 -> 249.75 | N22: 160 | O22: =N22*$C$10 -> 0.16 | P22: 85 | Q22: =P22*$I$9 -> 471.75 | T22: 160 | U22: =T22*$C$10 -> 0.16 | V22: 9 | W22: =V22*$C$9 -> 49.95 | Z22: 160 | AA22: =Z22*$C$10 -> 0.16 | AB22: 21 | AC22: =AB22*$I$9 -> 116.55 | AF22: 160 | AG22: =AF22*$C$10 -> 0.16 | AH22: 27 | AI22: =AH22*$I$9 -> 149.85 | AL22: 9 | AO22: 0.8 | AP22: =AO22/$AM$14 -> 5.3333333 | AQ22: 18.05 | AR22: =K100/100 -> 2.886 | AS22: =I100 -> 0.46 | AT22: =AS22/AO22 -> 0.575
H23: 180 | I23: =H23*$C$10 -> 0.18 | J23: 45 | K23: =J23*$I$9 -> 249.75 | N23: 180 | O23: =N23*$C$10 -> 0.18 | P23: 88 | Q23: =P23*$I$9 -> 488.4 | Z23: 180 | AA23: =Z23*$C$10 -> 0.18 | AB23: 22 | AC23: =AB23*$I$9 -> 122.1 | AF23: 180 | AG23: =AF23*$C$10 -> 0.18 | AH23: 28 | AI23: =AH23*$I$9 -> 155.4 | AL23: 10 | AM23: 0.3 | AN23: 0.35 | AO23: 0.3 | AP23: =AO23/$AM$23 -> 1 | AQ23: 16.39 | AR23: =Q100/100 -> 6.993 | AS23: =O100 -> 0.98 | AT23: =AS23/AO23 -> 3.2666667
H24: 200 | I24: =H24*$C$10 -> 0.2 | J24: 46 | K24: =J24*$I$9 -> 255.3 | N24: 200 | O24: =N24*$C$10 -> 0.2 | P24: 90 | Q24: =P24*$I$9 -> 499.5 | Z24: 200 | AA24: =Z24*$C$10 -> 0.2 | AB24: 22 | AC24: =AB24*$I$9 -> 122.1 | AF24: 200 | AG24: =AF24*$C$10 -> 0.2 | AH24: 30 | AI24: =AH24*$I$9 -> 166.5 | AL24: 11 | AO24: 0.5 | AP24: =AO24/$AM$23 -> 1.6666667 | AQ24: 16.39 | AR24: =E210/100 -> 1.332 | AS24: =C210 -> 0.16 | AT24: =AS24/AO24 -> 0.32
H25: 220 | I25: =H25*$C$10 -> 0.22 | J25: 46 | K25: =J25*$I$9 -> 255.3 | N25: 220 | O25: =N25*$C$10 -> 0.22 | P25: 92 | Q25: =P25*$I$9 -> 510.6 | Z25: 220 | AA25: =Z25*$C$10 -> 0.22 | AB25: 23 | AC25: =AB25*$I$9 -> 127.65 | AF25: 220 | AG25: =AF25*$C$10 -> 0.22 | AH25: 32 | AI25: =AH25*$I$9 -> 177.6 | AL25: 12 | AO25: 0.8 | AP25: =AO25/$AM$23 -> 2.6666667 | AQ25: 16.39 | AR25: =K210/100 -> 3.219 | AS25: =I210 -> 0.48 | AT25: =AS25/AO25 -> 0.6
H26: 240 | I26: =H26*$C$10 -> 0.24 | J26: 47 | K26: =J26*$I$9 -> 260.85 | N26: 240 | O26: =N26*$C$10 -> 0.24 | P26: 94 | Q26: =P26*$I$9 -> 521.7 | Z26: 240 | AA26: =Z26*$C$10 -> 0.24 | AB26: 23 | AC26: =AB26*$I$9 -> 127.65 | AF26: 240 | AG26: =AF26*$C$10 -> 0.24 | AH26: 34 | AI26: =AH26*$I$9 -> 188.7 | AL26: 13 | AN26: 0.6 | AO26: 0.3 | AP26: =AO26/$AM$23 -> 1 | AQ26: 17.2 | AR26: =Q210/100 -> 9.1575 | AS26: =O210 -> 1.02 | AT26: =AS26/AO26 -> 3.4
H27: 260 | I27: =H27*$C$10 -> 0.26 | J27: 48 | K27: =J27*$I$9 -> 266.4 | N27: 260 | O27: =N27*$C$10 -> 0.26 | P27: 95 | Q27: =P27*$I$9 -> 527.25 | Z27: 260 | AA27: =Z27*$C$10 -> 0.26 | AB27: 24 | AC27: =AB27*$I$9 -> 133.2 | AF27: 260 | AG27: =AF27*$C$10 -> 0.26 | AH27: 36 | AI27: =AH27*$I$9 -> 199.8 | AL27: 14 | AO27: 0.5 | AP27: =AO27/$AM$23 -> 1.6666667 | AQ27: 17.2 | AR27: =K327/100 -> 4.107 | AS27: =I327 -> 0.5 | AT27: =AS27/AO27 -> 1
H28: 280 | I28: =H28*$C$10 -> 0.28 | J28: 48 | K28: =J28*$I$9 -> 266.4 | N28: 280 | O28: =N28*$C$10 -> 0.28 | P28: 97 | Q28: =P28*$I$9 -> 538.35 | Z28: 280 | AA28: =Z28*$C$10 -> 0.28 | AB28: 25 | AC28: =AB28*$I$9 -> 138.75 | AF28: 280 | AG28: =AF28*$C$10 -> 0.28 | AH28: 38 | AI28: =AH28*$I$9 -> 210.9 | AL28: 15 | AO28: 0.8 | AP28: =AO28/$AM$23 -> 2.6666667 | AQ28: 17.2 | AR28: =Q327/100 -> 12.987 | AS28: =O327 -> 1.08 | AT28: =AS28/AO28 -> 1.35
H29: 300 | I29: =H29*$C$10 -> 0.3 | J29: 48 | K29: =J29*$I$9 -> 266.4 | N29: 300 | O29: =N29*$C$10 -> 0.3 | P29: 99 | Q29: =P29*$I$9 -> 549.45 | Z29: 300 | AA29: =Z29*$C$10 -> 0.3 | AB29: 25 | AC29: =AB29*$I$9 -> 138.75 | AF29: 300 | AG29: =AF29*$C$10 -> 0.3 | AH29: 40 | AI29: =AH29*$I$9 -> 222 | AL29: 16 | AN29: 0.8 | AO29: 0.3 | AP29: =AO29/$AM$23 -> 1 | AQ29: 18.05
H30: 320 | I30: =H30*$C$10 -> 0.32 | J30: 49 | K30: =J30*$I$9 -> 271.95 | N30: 320 | O30: =N30*$C$10 -> 0.32 | P30: 101 | Q30: =P30*$I$9 -> 560.55 | Z30: 320 | AA30: =Z30*$C$10 -> 0.32 | AB30: 25 | AC30: =AB30*$I$9 -> 138.75 | AF30: 320 | AG30: =AF30*$C$10 -> 0.32 | AH30: 41 | AI30: =AH30*$I$9 -> 227.55 | AL30: 17 | AO30: 0.5 | AP30: =AO30/$AM$23 -> 1.6666667 | AQ30: 18.05
H31: 340 | I31: =H31*$C$10 -> 0.34 | J31: 49 | K31: =J31*$I$9 -> 271.95 | N31: 340 | O31: =N31*$C$10 -> 0.34 | P31: 102 | Q31: =P31*$I$9 -> 566.1 | Z31: 340 | AA31: =Z31*$C$10 -> 0.34 | AB31: 26 | AC31: =AB31*$I$9 -> 144.3 | AF31: 340 | AG31: =AF31*$C$10 -> 0.34 | AH31: 43 | AI31: =AH31*$I$9 -> 238.65 | AL31: 18 | AO31: 0.8 | AP31: =AO31/$AM$23 -> 2.6666667 | AQ31: 18.05
H32: 360 | I32: =H32*$C$10 -> 0.36 | J32: 50 | K32: =J32*$I$9 -> 277.5 | N32: 360 | O32: =N32*$C$10 -> 0.36 | P32: 103 | Q32: =P32*$I$9 -> 571.65 | Z32: 360 | AA32: =Z32*$C$10 -> 0.36 | AB32: 26 | AC32: =AB32*$I$9 -> 144.3 | AF32: 360 | AG32: =AF32*$C$10 -> 0.36 | AH32: 44 | AI32: =AH32*$I$9 -> 244.2
H33: 380 | I33: =H33*$C$10 -> 0.38 | J33: 50 | K33: =J33*$I$9 -> 277.5 | N33: 380 | O33: =N33*$C$10 -> 0.38 | P33: 105 | Q33: =P33*$I$9 -> 582.75 | Z33: 380 | AA33: =Z33*$C$10 -> 0.38 | AB33: 27 | AC33: =AB33*$I$9 -> 149.85 | AF33: 380 | AG33: =AF33*$C$10 -> 0.38 | AH33: 45 | AI33: =AH33*$I$9 -> 249.75
H34: 400 | I34: =H34*$C$10 -> 0.4 | J34: 51 | K34: =J34*$I$9 -> 283.05 | N34: 400 | O34: =N34*$C$10 -> 0.4 | P34: 106 | Q34: =P34*$I$9 -> 588.3 | Z34: 400 | AA34: =Z34*$C$10 -> 0.4 | AB34: 27 | AC34: =AB34*$I$9 -> 149.85 | AF34: 400 | AG34: =AF34*$C$10 -> 0.4 | AH34: 46 | AI34: =AH34*$I$9 -> 255.3
H35: 420 | I35: =H35*$C$10 -> 0.42 | J35: 51 | K35: =J35*$I$9 -> 283.05 | N35: 420 | O35: =N35*$C$10 -> 0.42 | P35: 107 | Q35: =P35*$I$9 -> 593.85 | Z35: 420 | AA35: =Z35*$C$10 -> 0.42 | AB35: 27 | AC35: =AB35*$I$9 -> 149.85 | AF35: 420 | AG35: =AF35*$C$10 -> 0.42 | AH35: 48 | AI35: =AH35*$I$9 -> 266.4
H36: 440 | I36: =H36*$C$10 -> 0.44 | J36: 52 | K36: =J36*$I$9 -> 288.6 | N36: 440 | O36: =N36*$C$10 -> 0.44 | P36: 107 | Q36: =P36*$I$9 -> 593.85 | Z36: 440 | AA36: =Z36*$C$10 -> 0.44 | AB36: 27 | AC36: =AB36*$I$9 -> 149.85 | AF36: 440 | AG36: =AF36*$C$10 -> 0.44 | AH36: 49 | AI36: =AH36*$I$9 -> 271.95
H37: 460 | I37: =H37*$C$10 -> 0.46 | J37: 52 | K37: =J37*$I$9 -> 288.6 | N37: 460 | O37: =N37*$C$10 -> 0.46 | P37: 109 | Q37: =P37*$I$9 -> 604.95 | Z37: 460 | AA37: =Z37*$C$10 -> 0.46 | AB37: 28 | AC37: =AB37*$I$9 -> 155.4 | AF37: 460 | AG37: =AF37*$C$10 -> 0.46 | AH37: 50 | AI37: =AH37*$I$9 -> 277.5
N38: 480 | O38: =N38*$C$10 -> 0.48 | P38: 110 | Q38: =P38*$I$9 -> 610.5 | Z38: 480 | AA38: =Z38*$C$10 -> 0.48 | AB38: 28 | AC38: =AB38*$I$9 -> 155.4 | AF38: 480 | AG38: =AF38*$C$10 -> 0.48 | AH38: 51 | AI38: =AH38*$I$9 -> 283.05
N39: 500 | O39: =N39*$C$10 -> 0.5 | P39: 110 | Q39: =P39*$I$9 -> 610.5 | AF39: 500 | AG39: =AF39*$C$10 -> 0.5 | AH39: 52 | AI39: =AH39*$I$9 -> 288.6
N40: 520 | O40: =N40*$C$10 -> 0.52 | P40: 111 | Q40: =P40*$C$9 -> 616.05 | AF40: 520 | AG40: =AF40*$C$10 -> 0.52 | AH40: 53 | AI40: =AH40*$C$9 -> 294.15
N41: 540 | O41: =N41*$C$10 -> 0.54 | P41: 112 | Q41: =P41*$C$9 -> 621.6 | AF41: 540 | AG41: =AF41*$C$10 -> 0.54 | AH41: 54 | AI41: =AH41*$C$9 -> 299.7
N42: 550 | O42: =N42*$C$10 -> 0.55 | P42: 112 | Q42: =P42*$C$9 -> 621.6 | AF42: 550 | AG42: =AF42*$C$10 -> 0.55 | AH42: 54 | AI42: =AH42*$C$9 -> 299.7
N43: 560 | O43: =N43*$C$10 -> 0.56 | P43: 113 | Q43: =P43*$C$9 -> 627.15 | AF43: 560 | AG43: =AF43*$C$10 -> 0.56 | AH43: 55 | AI43: =AH43*$C$9 -> 305.25
N44: 580 | O44: =N44*$C$10 -> 0.58 | P44: 114 | Q44: =P44*$C$9 -> 632.7 | AF44: 580 | AG44: =AF44*$C$10 -> 0.58 | AH44: 55 | AI44: =AH44*$C$9 -> 305.25
N45: 600 | O45: =N45*$C$10 -> 0.6 | P45: 115 | Q45: =P45*$C$9 -> 638.25 | AF45: 600 | AG45: =AF45*$C$10 -> 0.6 | AH45: 56 | AI45: =AH45*$C$9 -> 310.8
N46: 620 | O46: =N46*$C$10 -> 0.62 | P46: 115 | Q46: =P46*$C$9 -> 638.25 | AF46: 620 | AG46: =AF46*$C$10 -> 0.62 | AH46: 56 | AI46: =AH46*$C$9 -> 310.8
N47: 640 | O47: =N47*$C$10 -> 0.64 | P47: 116 | Q47: =P47*$C$9 -> 643.8 | AF47: 640 | AG47: =AF47*$C$10 -> 0.64 | AH47: 57 | AI47: =AH47*$C$9 -> 316.35
N48: 650 | O48: =N48*$C$10 -> 0.65 | P48: 116 | Q48: =P48*$C$9 -> 643.8 | AF48: 650 | AG48: =AF48*$C$10 -> 0.65 | AH48: 58 | AI48: =AH48*$C$9 -> 321.9
N49: 660 | O49: =N49*$C$10 -> 0.66 | P49: 117 | Q49: =P49*$C$9 -> 649.35 | AF49: 660 | AG49: =AF49*$C$10 -> 0.66 | AH49: 58 | AI49: =AH49*$C$9 -> 321.9
N50: 680 | O50: =N50*$C$10 -> 0.68 | P50: 117 | Q50: =P50*$C$9 -> 649.35 | AF50: 680 | AG50: =AF50*$C$10 -> 0.68 | AH50: 59 | AI50: =AH50*$C$9 -> 327.45
N51: 700 | O51: =N51*$C$10 -> 0.7 | P51: 118 | Q51: =P51*$C$9 -> 654.9 | AF51: 700 | AG51: =AF51*$C$10 -> 0.7 | AH51: 59 | AI51: =AH51*$C$9 -> 327.45
... N69: 1000 | O69: =N69*$C$10 -> 1 | P69: 125 | Q69: =P69*$C$9 -> 693.75 | AF69: 1000 | AG69: =AF69*$C$10 -> 1 | AH69: 66 | AI69: =AH69*$C$9 -> 366.3
AF70: 1020 | AG70: =AF70*$C$10 -> 1.02 | AH70: 66 | AI70: =AH70*$C$9 -> 366.3
AF71: 1040 | AG71: =AF71*$C$10 -> 1.04 | AH71: 66 | AI71: =AH71*$C$9 -> 366.3
AF72: 1050 | AG72: =AF72*$C$10 -> 1.05 | AH72: 66 | AI72: =AH72*$C$9 -> 366.3
AF73: 1060 | AG73: =AF73*$C$10 -> 1.06 | AH73: 67 | AI73: =AH73*$C$9 -> 371.85
AF74: 1080 | AG74: =AF74*$C$10 -> 1.08 | AH74: 67 | AI74: =AH74*$C$9 -> 371.85
AF75: 1100 | AG75: =AF75*$C$10 -> 1.1 | AH75: 68 | AI75: =AH75*$C$9 -> 377.4
AF76: 1120 | AG76: =AF76*$C$10 -> 1.12 | AH76: 68 | AI76: =AH76*$C$9 -> 377.4
AF77: 1140 | AG77: =AF77*$C$10 -> 1.14 | AH77: 68 | AI77: =AH77*$C$9 -> 377.4
AF78: 1150 | AG78: =AF78*$C$10 -> 1.15 | AH78: 69 | AI78: =AH78*$C$9 -> 382.95
AF79: 1160 | AG79: =AF79*$C$10 -> 1.16 | AH79: 69 | AI79: =AH79*$C$9 -> 382.95
AF80: 1180 | AG80: =AF80*$C$10 -> 1.18 | AH80: 69 | AI80: =AH80*$C$9 -> 382.95
AF81: 1200 | AG81: =AF81*$C$10 -> 1.2 | AH81: 70 | AI81: =AH81*$C$9 -> 388.5
... AF98: 1480 | AG98: =AF98*$C$10 -> 1.48 | AH98: 76 | AI98: =AH98*$C$9 -> 421.8
B100: δ | C100: 0.14 | D100: Qu | E100: =MAX(E14:E26) -> 111 | H100: δ | I100: 0.46 | J100: Qu | K100: =MAX(K14:K37) -> 288.6 | N100: δ | O100: 0.98 | P100: Qu | Q100: =MAX(Q14:Q69) -> 699.3 | T100: δ | U100: 0.16 | V100: Qu | W100: =MAX(W14:W22) -> 49.95 | Z100: δ | AA100: 0.48 | AB100: Qu | AC100: =MAX(AC14:AC38) -> 155.4 | AF100: δ | AG100: 1.46 | AH100: Qu | AI100: =MAX(AI14:AI98) -> 427.35
B102: Strain | C102: =C100/D7 -> 0.46666667 | H102: Strain | I102: =I100/J7 -> 0.92 | N102: Strain | O102: =O100/P7 -> 1.225 | T102: Strain | U102: =U100/V7 -> 0.53333333 | Z102: Strain | AA102: =AA100/AB7 -> 0.96 | AF102: Strain | AG102: =AG100/AH7 -> 1.825
B106: PLATE SIZE | D106: 0.3 * 0.3 | E106: m2 | H106: PLATE SIZE | J106: 0.3 * 0.3 | K106: m2 | N106: PLATE SIZE | P106: 0.3 * 0.3 | Q106: m2 | T106: PLATE SIZE | V106: 0.15 * 0.15 | W106: m2 | Z106: PLATE SIZE | AB106: 0.15 * 0.15 | AC106: m2 | AF106: PLATE SIZE | AH106: 0.15 * 0.15 | AI106: m2
B107: RELATIVE DENSITY | D107: 60 | E107: % | H107: RELATIVE DENSITY | J107: 60 | K107: % | N107: RELATIVE DENSITY | P107: 60 | Q107: % | T107: RELATIVE DENSITY | V107: 60 | W107: % | Z107: RELATIVE DENSITY | AB107: 60 | AC107: % | AF107: RELATIVE DENSITY | AH107: 60 | AI107: %
B108: EMBEDMENT DEPTH | D108: 0.3 | E108: m | H108: EMBEDMENT DEPTH | J108: 0.5 | K108: m | N108: EMBEDMENT DEPTH | P108: 0.8 | Q108: m | T108: EMBEDMENT DEPTH | V108: 0.3 | W108: m | Z108: EMBEDMENT DEPTH | AB108: 0.5 | AC108: m | AF108: EMBEDMENT DEPTH | AH108: 0.8 | AI108: m
B110: Proving Ring Unit | C110: 5.55 | D110: Kg/div | H110: Proving Ring Unit | I110: 5.55 | J110: Kg/div | N110: Proving Ring Unit | O110: 5.55 | P110: Kg/div | T110: Proving Ring Unit | U110: 5.55 | V110: Kg/div | Z110: Proving Ring Unit | AA110: 5.55 | AB110: Kg/div | AF110: Proving Ring Unit | AG110: 5.55 | AH110: Kg/div
B111: L.c. of Dial Gauge | C111: 0.001 | D111: cm | H111: L.c. of Dial Gauge | I111: 0.001 | J111: cm | N111: L.c. of Dial Gauge | O111: 0.001 | P111: cm | T111: L.c. of Dial Gauge | U111: 0.001 | V111: cm | Z111: L.c. of Dial Gauge | AA111: 0.001 | AB111: cm | AF111: L.c. of Dial Gauge | AG111: 0.001 | AH111: cm
B114: DIAL GAUGE READING | C114: DISPLACEMENT (cm) | D114: PROVING RING READING | E114: UPLIFT LOAD (Kg) | H114: DIAL GAUGE READING | I114: DISPLACEMENT (cm) | J114: PROVING RING READING | K114: UPLIFT LOAD (Kg) | N114: DIAL GAUGE READING | O114: DISPLACEMENT (cm) | P114: PROVING RING READING | Q114: UPLIFT LOAD (Kg) | T114: DIAL GAUGE READING | U114: DISPLACEMENT (cm) | V114: PROVING RING READING | W114: UPLIFT LOAD (Kg) | Z114: DIAL GAUGE READING | AA114: DISPLACEMENT (cm) | AB114: PROVING RING READING | AC114: UPLIFT LOAD (Kg) | AF114: DIAL GAUGE READING | AG114: DISPLACEMENT (cm) | AH114: PROVING RING READING | AI114: UPLIFT LOAD (Kg)
B115: 0 | C115: =B115*$C$10 -> 0 | D115: 0 | E115: =D115*$I$9 -> 0 | H115: 0 | I115: =H115*$C$10 -> 0 | J115: 0 | K115: =J115*$I$9 -> 0 | N115: 0 | O115: =N115*$C$10 -> 0 | P115: 0 | Q115: =P115*$I$9 -> 0 | T115: 0 | U115: =T115*$C$10 -> 0 | V115: 0 | W115: =V115*$I$9 -> 0 | Z115: 0 | AA115: =Z115*$C$10 -> 0 | AB115: 0 | AC115: =AB115*$I$9 -> 0 | AF115: 0 | AG115: =AF115*$C$10 -> 0 | AH115: 0 | AI115: =AH115*$I$9 -> 0
B116: 20 | C116: =B116*$C$10 -> 0.02 | D116: 8 | E116: =D116*$I$9 -> 44.4 | H116: 20 | I116: =H116*$C$10 -> 0.02 | J116: 9 | K116: =J116*$I$9 -> 49.95 | N116: 20 | O116: =N116*$C$10 -> 0.02 | P116: 19 | Q116: =P116*$I$9 -> 105.45 | T116: 20 | U116: =T116*$C$10 -> 0.02 | V116: 1 | W116: =V116*$I$9 -> 5.55 | Z116: 20 | AA116: =Z116*$C$10 -> 0.02 | AB116: 3 | AC116: =AB116*$I$9 -> 16.65 | AF116: 20 | AG116: =AF116*$C$10 -> 0.02 | AH116: 12 | AI116: =AH116*$I$9 -> 66.6
B117: 40 | C117: =B117*$C$10 -> 0.04 | D117: 13 | E117: =D117*$I$9 -> 72.15 | H117: 40 | I117: =H117*$C$10 -> 0.04 | J117: 15 | K117: =J117*$I$9 -> 83.25 | N117: 40 | O117: =N117*$C$10 -> 0.04 | P117: 61 | Q117: =P117*$I$9 -> 338.55 | T117: 40 | U117: =T117*$C$10 -> 0.04 | V117: 4 | W117: =V117*$I$9 -> 22.2 | Z117: 40 | AA117: =Z117*$C$10 -> 0.04 | AB117: 9 | AC117: =AB117*$I$9 -> 49.95 | AF117: 40 | AG117: =AF117*$C$10 -> 0.04 | AH117: 22 | AI117: =AH117*$I$9 -> 122.1
B118: 60 | C118: =B118*$C$10 -> 0.06 | D118: 21 | E118: =D118*$I$9 -> 116.55 | H118: 60 | I118: =H118*$C$10 -> 0.06 | J118: 29 | K118: =J118*$I$9 -> 160.95 | N118: 60 | O118: =N118*$C$10 -> 0.06 | P118: 91 | Q118: =P118*$I$9 -> 505.05 | T118: 60 | U118: =T118*$C$10 -> 0.06 | V118: 6 | W118: =V118*$I$9 -> 33.3 | Z118: 60 | AA118: =Z118*$C$10 -> 0.06 | AB118: 15 | AC118: =AB118*$I$9 -> 83.25 | AF118: 60 | AG118: =AF118*$C$10 -> 0.06 | AH118: 35 | AI118: =AH118*$I$9 -> 194.25
B119: 80 | C119: =B119*$C$10 -> 0.08 | D119: 21 | E119: =D119*$I$9 -> 116.55 | H119: 80 | I119: =H119*$C$10 -> 0.08 | J119: 36 | K119: =J119*$I$9 -> 199.8 | N119: 80 | O119: =N119*$C$10 -> 0.08 | P119: 98 | Q119: =P119*$I$9 -> 543.9 | T119: 80 | U119: =T119*$C$10 -> 0.08 | V119: 8 | W119: =V119*$I$9 -> 44.4 | Z119: 80 | AA119: =Z119*$C$10 -> 0.08 | AB119: 17 | AC119: =AB119*$I$9 -> 94.35 | AF119: 80 | AG119: =AF119*$C$10 -> 0.08 | AH119: 45 | AI119: =AH119*$I$9 -> 249.75
B120: 100 | C120: =B120*$C$10 -> 0.1 | D120: 22 | E120: =D120*$I$9 -> 122.1 | H120: 100 | I120: =H120*$C$10 -> 0.1 | J120: 41 | K120: =J120*$I$9 -> 227.55 | N120: 100 | O120: =N120*$C$10 -> 0.1 | P120: 105 | Q120: =P120*$I$9 -> 582.75 | T120: 100 | U120: =T120*$C$10 -> 0.1 | V120: 10 | W120: =V120*$I$9 -> 55.5 | Z120: 100 | AA120: =Z120*$C$10 -> 0.1 | AB120: 18 | AC120: =AB120*$I$9 -> 99.9 | AF120: 100 | AG120: =AF120*$C$10 -> 0.1 | AH120: 54 | AI120: =AH120*$I$9 -> 299.7
B121: 120 | C121: =B121*$C$10 -> 0.12 | D121: 23 | E121: =D121*$I$9 -> 127.65 | H121: 120 | I121: =H121*$C$10 -> 0.12 | J121: 43 | K121: =J121*$I$9 -> 238.65 | N121: 120 | O121: =N121*$C$10 -> 0.12 | P121: 111 | Q121: =P121*$I$9 -> 616.05 | T121: 120 | U121: =T121*$C$10 -> 0.12 | V121: 10 | W121: =V121*$I$9 -> 55.5 | Z121: 120 | AA121: =Z121*$C$10 -> 0.12 | AB121: 20 | AC121: =AB121*$I$9 -> 111 | AF121: 120 | AG121: =AF121*$C$10 -> 0.12 | AH121: 60 | AI121: =AH121*$I$9 -> 333
B122: 140 | C122: =B122*$C$10 -> 0.14 | D122: 24 | E122: =D122*$I$9 -> 133.2 | H122: 140 | I122: =H122*$C$10 -> 0.14 | J122: 45 | K122: =J122*$I$9 -> 249.75 | N122: 140 | O122: =N122*$C$10 -> 0.14 | P122: 117 | Q122: =P122*$I$9 -> 649.35 | T122: 140 | U122: =T122*$C$10 -> 0.14 | V122: 10 | W122: =V122*$I$9 -> 55.5 | Z122: 140 | AA122: =Z122*$C$10 -> 0.14 | AB122: 22 | AC122: =AB122*$I$9 -> 122.1 | AF122: 140 | AG122: =AF122*$C$10 -> 0.14 | AH122: 65 | AI122: =AH122*$I$9 -> 360.75
B123: 160 | C123: =B123*$C$10 -> 0.16 | D123: 24 | E123: =D123*$I$9 -> 133.2 | H123: 160 | I123: =H123*$C$10 -> 0.16 | J123: 47 | K123: =J123*$I$9 -> 260.85 | N123: 160 | O123: =N123*$C$10 -> 0.16 | P123: 124 | Q123: =P123*$I$9 -> 688.2 | T123: 160 | U123: =T123*$C$10 -> 0.16 | V123: 11 | W123: =V123*$I$9 -> 61.05 | Z123: 160 | AA123: =Z123*$C$10 -> 0.16 | AB123: 24 | AC123: =AB123*$I$9 -> 133.2 | AF123: 160 | AG123: =AF123*$C$10 -> 0.16 | AH123: 70 | AI123: =AH123*$I$9 -> 388.5
H124: 180 | I124: =H124*$C$10 -> 0.18 | J124: 49 | K124: =J124*$I$9 -> 271.95 | N124: 180 | O124: =N124*$C$10 -> 0.18 | P124: 130 | Q124: =P124*$I$9 -> 721.5 | T124: 180 | U124: =T124*$C$10 -> 0.18 | V124: 11 | W124: =V124*$I$9 -> 61.05 | Z124: 180 | AA124: =Z124*$C$10 -> 0.18 | AB124: 25 | AC124: =AB124*$I$9 -> 138.75 | AF124: 180 | AG124: =AF124*$C$10 -> 0.18 | AH124: 74 | AI124: =AH124*$I$9 -> 410.7
H125: 200 | I125: =H125*$C$10 -> 0.2 | J125: 50 | K125: =J125*$I$9 -> 277.5 | N125: 200 | O125: =N125*$C$10 -> 0.2 | P125: 133 | Q125: =P125*$I$9 -> 738.15 | Z125: 200 | AA125: =Z125*$C$10 -> 0.2 | AB125: 26 | AC125: =AB125*$I$9 -> 144.3 | AF125: 200 | AG125: =AF125*$C$10 -> 0.2 | AH125: 77 | AI125: =AH125*$I$9 -> 427.35
H126: 220 | I126: =H126*$C$10 -> 0.22 | J126: 51 | K126: =J126*$I$9 -> 283.05 | N126: 220 | O126: =N126*$C$10 -> 0.22 | P126: 135 | Q126: =P126*$I$9 -> 749.25 | Z126: 220 | AA126: =Z126*$C$10 -> 0.22 | AB126: 27 | AC126: =AB126*$I$9 -> 149.85 | AF126: 220 | AG126: =AF126*$C$10 -> 0.22 | AH126: 80 | AI126: =AH126*$I$9 -> 444
H127: 240 | I127: =H127*$C$10 -> 0.24 | J127: 52 | K127: =J127*$I$9 -> 288.6 | N127: 240 | O127: =N127*$C$10 -> 0.24 | P127: 138 | Q127: =P127*$I$9 -> 765.9 | Z127: 240 | AA127: =Z127*$C$10 -> 0.24 | AB127: 28 | AC127: =AB127*$I$9 -> 155.4 | AF127: 240 | AG127: =AF127*$C$10 -> 0.24 | AH127: 84 | AI127: =AH127*$I$9 -> 466.2
H128: 260 | I128: =H128*$C$10 -> 0.26 | J128: 53 | K128: =J128*$I$9 -> 294.15 | N128: 260 | O128: =N128*$C$10 -> 0.26 | P128: 140 | Q128: =P128*$I$9 -> 777 | Z128: 260 | AA128: =Z128*$C$10 -> 0.26 | AB128: 29 | AC128: =AB128*$I$9 -> 160.95 | AF128: 260 | AG128: =AF128*$C$10 -> 0.26 | AH128: 86 | AI128: =AH128*$I$9 -> 477.3
H129: 280 | I129: =H129*$C$10 -> 0.28 | J129: 53 | K129: =J129*$I$9 -> 294.15 | N129: 280 | O129: =N129*$C$10 -> 0.28 | P129: 142 | Q129: =P129*$I$9 -> 788.1 | Z129: 280 | AA129: =Z129*$C$10 -> 0.28 | AB129: 29 | AC129: =AB129*$I$9 -> 160.95 | AF129: 280 | AG129: =AF129*$C$10 -> 0.28 | AH129: 89 | AI129: =AH129*$I$9 -> 493.95
H130: 300 | I130: =H130*$C$10 -> 0.3 | J130: 54 | K130: =J130*$I$9 -> 299.7 | N130: 300 | O130: =N130*$C$10 -> 0.3 | P130: 143 | Q130: =P130*$I$9 -> 793.65 | Z130: 300 | AA130: =Z130*$C$10 -> 0.3 | AB130: 30 | AC130: =AB130*$I$9 -> 166.5 | AF130: 300 | AG130: =AF130*$C$10 -> 0.3 | AH130: 91 | AI130: =AH130*$I$9 -> 505.05
H131: 320 | I131: =H131*$C$10 -> 0.32 | J131: 55 | K131: =J131*$I$9 -> 305.25 | N131: 320 | O131: =N131*$C$10 -> 0.32 | P131: 144 | Q131: =P131*$I$9 -> 799.2 | Z131: 320 | AA131: =Z131*$C$10 -> 0.32 | AB131: 30 | AC131: =AB131*$I$9 -> 166.5 | AF131: 320 | AG131: =AF131*$C$10 -> 0.32 | AH131: 92 | AI131: =AH131*$I$9 -> 510.6
H132: 340 | I132: =H132*$C$10 -> 0.34 | J132: 55 | K132: =J132*$I$9 -> 305.25 | N132: 340 | O132: =N132*$C$10 -> 0.34 | P132: 146 | Q132: =P132*$I$9 -> 810.3 | Z132: 340 | AA132: =Z132*$C$10 -> 0.34 | AB132: 30 | AC132: =AB132*$I$9 -> 166.5 | AF132: 340 | AG132: =AF132*$C$10 -> 0.34 | AH132: 94 | AI132: =AH132*$I$9 -> 521.7
H133: 360 | I133: =H133*$C$10 -> 0.36 | J133: 55 | K133: =J133*$I$9 -> 305.25 | N133: 360 | O133: =N133*$C$10 -> 0.36 | P133: 147 | Q133: =P133*$I$9 -> 815.85 | Z133: 360 | AA133: =Z133*$C$10 -> 0.36 | AB133: 31 | AC133: =AB133*$I$9 -> 172.05 | AF133: 360 | AG133: =AF133*$C$10 -> 0.36 | AH133: 96 | AI133: =AH133*$I$9 -> 532.8
H134: 380 | I134: =H134*$C$10 -> 0.38 | J134: 55 | K134: =J134*$I$9 -> 305.25 | N134: 380 | O134: =N134*$C$10 -> 0.38 | P134: 150 | Q134: =P134*$I$9 -> 832.5 | Z134: 380 | AA134: =Z134*$C$10 -> 0.38 | AB134: 32 | AC134: =AB134*$I$9 -> 177.6 | AF134: 380 | AG134: =AF134*$C$10 -> 0.38 | AH134: 98 | AI134: =AH134*$I$9 -> 543.9
H135: 400 | I135: =H135*$C$10 -> 0.4 | J135: 56 | K135: =J135*$I$9 -> 310.8 | N135: 400 | O135: =N135*$C$10 -> 0.4 | P135: 151 | Q135: =P135*$I$9 -> 838.05 | Z135: 400 | AA135: =Z135*$C$10 -> 0.4 | AB135: 32 | AC135: =AB135*$I$9 -> 177.6 | AF135: 400 | AG135: =AF135*$C$10 -> 0.4 | AH135: 99 | AI135: =AH135*$I$9 -> 549.45
H136: 420 | I136: =H136*$C$10 -> 0.42 | J136: 56 | K136: =J136*$I$9 -> 310.8 | N136: 420 | O136: =N136*$C$10 -> 0.42 | P136: 152 | Q136: =P136*$I$9 -> 843.6 | Z136: 420 | AA136: =Z136*$C$10 -> 0.42 | AB136: 33 | AC136: =AB136*$I$9 -> 183.15 | AF136: 420 | AG136: =AF136*$C$10 -> 0.42 | AH136: 100 | AI136: =AH136*$I$9 -> 555
... H140: 500 | I140: =H140*$C$10 -> 0.5 | J140: 57 | K140: =J140*$I$9 -> 316.35 | N140: 500 | O140: =N140*$C$10 -> 0.5 | P140: 155 | Q140: =P140*$I$9 -> 860.25 | Z140: 500 | AA140: =Z140*$C$10 -> 0.5 | AB140: 35 | AC140: =AB140*$I$9 -> 194.25 | AF140: 500 | AG140: =AF140*$C$10 -> 0.5 | AH140: 105 | AI140: =AH140*$I$9 -> 582.75
N141: 520 | O141: =N141*$C$10 -> 0.52 | P141: 155 | Q141: =P141*$C$9 -> 860.25 | AF141: 520 | AG141: =AF141*$C$10 -> 0.52 | AH141: 106 | AI141: =AH141*$C$9 -> 588.3
N142: 540 | O142: =N142*$C$10 -> 0.54 | P142: 156 | Q142: =P142*$C$9 -> 865.8 | AF142: 540 | AG142: =AF142*$C$10 -> 0.54 | AH142: 107 | AI142: =AH142*$C$9 -> 593.85
N143: 550 | O143: =N143*$C$10 -> 0.55 | P143: 156 | Q143: =P143*$C$9 -> 865.8 | AF143: 550 | AG143: =AF143*$C$10 -> 0.55 | AH143: 107 | AI143: =AH143*$C$9 -> 593.85
N144: 560 | O144: =N144*$C$10 -> 0.56 | P144: 157 | Q144: =P144*$C$9 -> 871.35 | AF144: 560 | AG144: =AF144*$C$10 -> 0.56 | AH144: 108 | AI144: =AH144*$C$9 -> 599.4
N145: 580 | O145: =N145*$C$10 -> 0.58 | P145: 157 | Q145: =P145*$C$9 -> 871.35 | AF145: 580 | AG145: =AF145*$C$10 -> 0.58 | AH145: 109 | AI145: =AH145*$C$9 -> 604.95
N146: 600 | O146: =N146*$C$10 -> 0.6 | P146: 158 | Q146: =P146*$C$9 -> 876.9 | AF146: 600 | AG146: =AF146*$C$10 -> 0.6 | AH146: 110 | AI146: =AH146*$C$9 -> 610.5
N147: 620 | O147: =N147*$C$10 -> 0.62 | P147: 158 | Q147: =P147*$C$9 -> 876.9 | AF147: 620 | AG147: =AF147*$C$10 -> 0.62 | AH147: 111 | AI147: =AH147*$C$9 -> 616.05
N148: 640 | O148: =N148*$C$10 -> 0.64 | P148: 158 | Q148: =P148*$C$9 -> 876.9 | AF148: 640 | AG148: =AF148*$C$10 -> 0.64 | AH148: 112 | AI148: =AH148*$C$9 -> 621.6
N149: 650 | O149: =N149*$C$10 -> 0.65 | P149: 159 | Q149: =P149*$C$9 -> 882.45 | AF149: 650 | AG149: =AF149*$C$10 -> 0.65 | AH149: 112 | AI149: =AH149*$C$9 -> 621.6
N150: 660 | O150: =N150*$C$10 -> 0.66 | P150: 159 | Q150: =P150*$C$9 -> 882.45 | AF150: 660 | AG150: =AF150*$C$10 -> 0.66 | AH150: 112 | AI150: =AH150*$C$9 -> 621.6
...

Sheet LOAD-DISP
J2: LOAD-DISPLACEMENT FOR DIFFERENT %Rd
C8: PLATE SIZE | D8: DEPTH | L8: PLATE SIZE | M8: DEPTH | T8: PLATE SIZE | U8: DEPTH
C9: 0.3 | D9: 0.3 | L9: 0.3 | M9: 0.5 | T9: 0.3 | U9: 0.8
B31: PLATE SIZE | C31: DEPTH | K31: PLATE SIZE | L31: DEPTH | T31: PLATE SIZE | U31: DEPTH
B32: 0.15 | C32: 0.3 | K32: 0.15 | L32: 0.5 | T32: 0.15 | U32: 0.8
K55: LOAD-DISPLACEMENT FOR DIFFERENT SIZE OF PLATE
D57: %Rd | E57: DEPTH | M57: %Rd | N57: DEPTH | V57: %Rd | W57: DEPTH
D58: 0.3 | E58: 0.3 | M58: 0.3 | N58: 0.5 | V58: 0.3 | W58: 0.8
C79: %Rd | D79: DEPTH | L79: %Rd | M79: DEPTH | U79: %Rd | V79: DEPTH
C80: 0.6 | D80: 0.3 | L80: 0.6 | M80: 0.5 | U80: 0.6 | V80: 0.8
C100: %Rd | D100: DEPTH | L100: %Rd | M100: DEPTH | U100: %Rd | V100: DEPTH
C101: 0.8 | D101: 0.3 | L101: 0.8 | M101: 0.5 | U101: 0.8 | V101: 0.5
H124: LOAD-DISPLACEMENT FOR DIFFERENT EMBEDMENT RATIO
C126: PLATE SIZE | D126: 0.15*0.15 | E126: m2 | K126: PLATE SIZE | L126: 0.15*0.15 | M126: m2 | R126: PLATE SIZE | S126: 0.15*0.15 | T126: m2
C127: %Rd | D127: 0.35 | K127: %Rd | L127: 0.6 | R127: %Rd | S127: 0.8
C146: PLATE SIZE | D146: 0.30*0.30 | E146: m2 | J146: PLATE SIZE | K146: 0.30*0.30 | L146: m2 | R146: PLATE SIZE | S146: 0.30*0.30 | T146: m2
C147: %Rd | D147: 0.35 | J147: %Rd | K147: 0.6 | R147: %Rd | S147: 0.8

Sheet Result Comparison
B2: COMPARISON OF ANALYTICAL-EXPERIMENTAL RESULTS
B6: SR. NO. | C6: Relative Density % Rd | D6: Plate Size (m2) | F6: Embedment Depth, H (m) | G6: Embedment Ratio, H/B | H6: Analytical Result (KN) | I6: Experimental Result (KN) | K6: Differnce (%)
D7: B | E7: L
B8: 1 | C8: 35 | D8: 0.15 | E8: 0.15 | F8: 0.3 | G8: =F8/$D$8 -> 2 | H8: ='Pull-out(A)'!L27 -> 0.52042508 | I8: ='Pull-out(E)'!W100/100 -> 0.4995 | K8: =(100*(H8-I8)/H8) -> 4.0207664
B9: 2 | F9: 0.5 | G9: =F9/$D$8 -> 3.3333333 | H9: ='Pull-out(A)'!L28 -> 1.564912 | I9: ='Pull-out(E)'!AC100/100 -> 1.554 | K9: =(100*(H9-I9)/H9) -> 0.69729128
B10: 3 | F10: 0.8 | G10: =F10/$D$8 -> 5.3333333 | H10: ='Pull-out(A)'!L29 -> 4.759256 | I10: ='Pull-out(E)'!AI100/100 -> 4.2735 | K10: =(100*(H10-I10)/H10) -> 10.206552
B11: 4 | D11: 0.3 | E11: 0.3 | F11: 0.3 | G11: =F11/$D$11 -> 1 | H11: ='Pull-out(A)'!L30 -> 1.1313208 | I11: ='Pull-out(E)'!E100/100 -> 1.11 | K11: =(100*(H11-I11)/H11) -> 1.8845928
B12: 5 | F12: 0.5 | G12: =F12/$D$11 -> 1.6666667 | H12: ='Pull-out(A)'!L31 -> 2.8930695 | I12: ='Pull-out(E)'!K100/100 -> 2.886 | K12: =(100*(H12-I12)/H12) -> 0.24436098
B13: 6 | F13: 0.8 | G13: =F13/$D$11 -> 2.6666667 | H13: ='Pull-out(A)'!L32 -> 7.6283032 | I13: ='Pull-out(E)'!Q100/100 -> 6.993 | K13: =(100*(H13-I13)/H13) -> 8.328238
B14: 7 | C14: 60 | D14: 0.15 | E14: 0.15 | F14: 0.3 | G14: =F14/$D$14 -> 2 | H14: ='Pull-out(A)'!L10 -> 0.846579 | I14: ='Pull-out(E)'!W210/100 -> 0.6105 | K14: =(100*(H14-I14)/H14) -> 27.886234
B15: 8 | F15: 0.5 | G15: =F15/$D$14 -> 3.3333333 | H15: ='Pull-out(A)'!L11 -> 2.8342829 | I15: ='Pull-out(E)'!AC210/100 -> 1.9425 | K15: =(100*(H15-I15)/H15) -> 31.464145
B16: 9 | F16: 0.8 | G16: =F16/$D$14 -> 5.3333333 | H16: ='Pull-out(A)'!L12 -> 9.4188343 | I16: ='Pull-out(E)'!AI210/100 -> 7.215 | K16: =(100*(H16-I16)/H16) -> 23.398164
B17: 10 | D17: 0.3 | E17: 0.3 | F17: 0.3 | G17: =F17/$D$17 -> 1 | H17: ='Pull-out(A)'!L13 -> 1.5950538 | I17: ='Pull-out(E)'!E210/100 -> 1.332 | K17: =(100*(H17-I17)/H17) -> 16.491843
B18: 11 | F18: 0.5 | G18: =F18/$D$17 -> 1.6666667 | H18: ='Pull-out(A)'!L14 -> 4.5263794 | I18: ='Pull-out(E)'!K210/100 -> 3.219 | K18: =(100*(H18-I18)/H18) -> 28.883558
B19: 12 | F19: 0.8 | G19: =F19/$D$17 -> 2.6666667 | H19: ='Pull-out(A)'!L15 -> 13.193321 | I19: ='Pull-out(E)'!Q210/100 -> 9.1575 | K19: =(100*(H19-I19)/H19) -> 30.589882
B20: 13 | C20: 80 | D20: 0.15 | E20: 0.15 | F20: 0.3 | G20: =F20/$D$20 -> 2 | H20: ='Pull-out(A)'!L44 -> 1.0894968 | I20: ='Pull-out(E)'!W327/100 -> 0.666 | K20: =(100*(H20-I20)/H20) -> 38.870863
B21: 14 | F21: 0.5 | G21: =F21/$D$20 -> 3.3333333 | H21: ='Pull-out(A)'!L45 -> 3.7976102 | I21: ='Pull-out(E)'!AC327/100 -> 2.442 | K21: =(100*(H21-I21)/H21) -> 35.696401
B22: 15 | F22: 0.8 | G22: =F22/$D$20 -> 5.3333333 | H22: ='Pull-out(A)'!L46 -> 13.008306 | I22: ='Pull-out(E)'!AI327/100 -> 10.101 | K22: =(100*(H22-I22)/H22) -> 22.349611
B23: 16 | D23: 0.3 | E23: 0.3 | F23: 0.3 | G23: =F23/$D$23 -> 1 | H23: ='Pull-out(A)'!L47 -> 1.9331019 | I23: ='Pull-out(E)'!E327/100 -> 1.443 | K23: =(100*(H23-I23)/H23) -> 25.353132
B24: 17 | F24: 0.5 | G24: =F24/$D$23 -> 1.6666667 | H24: ='Pull-out(A)'!L48 -> 5.7348325 | I24: ='Pull-out(E)'!K327/100 -> 4.107 | K24: =(100*(H24-I24)/H24) -> 28.385006
B25: 18 | F25: 0.8 | G25: =F25/$D$23 -> 2.6666667 | H25: ='Pull-out(A)'!L49 -> 17.382775 | I25: ='Pull-out(E)'!Q327/100 -> 12.987 | K25: =(100*(H25-I25)/H25) -> 25.288108
E30: UPLIFT LOAD-EMBEDMENT RATIO FOR ANALYTICAL & EXPERIMENTAL RESULTS
D32: PLATE SIZE= 0.15cm*0.15cm | M32: PLATE SIZE= 0.30cm*0.30cm
B33: %Rd
B42: 0.35
B59: 0.6
B75: 0.8

Sheet Graph
B6: SR NO. | C6: %Rd | D6: Ƴ, kN/m3 | E6: Φ, ° | F6: WIDTH B, m | G6: LENGTH L, m | H6: DEPTH H, m | I6: H/B | J6: Nq | K6: Qu, kN | L6: Nq | M6: Qu, kN | N6: CORRESPONDING DISPLACEMENT, cm | O6: strain
J7: ANALYTICAL | L7: EXPERIMENTAL
B8: 1 | C8: 35 | D8: 16.39 | E8: 34.22 | F8: 0.15 | G8: 0.15 | H8: 0.3 | I8: =H8/$F$8 -> 2 | J8: =K8/($D$8*$F$8*$G$8*H8) -> 4.7040885 | K8: ='Result Comparison'!H8 -> 0.52042508 | L8: =M8/($D$8*$F$8*H8*$G$8) -> 4.5149481 | M8: ='Result Comparison'!I8 -> 0.4995 | N8: ='Pull-out(E)'!U100 -> 0.16 | O8: =N8/H8 -> 0.53333333
B9: 2 | H9: 0.5 | I9: =H9/$F$8 -> 3.3333333 | J9: =K9/($D$8*$F$8*$G$8*H9) -> 8.4870829 | K9: ='Result Comparison'!H9 -> 1.564912 | L9: =M9/($D$8*$F$8*H9*$G$8) -> 8.4279032 | M9: ='Result Comparison'!I9 -> 1.554 | N9: ='Pull-out(E)'!AA100 -> 0.48 | O9: =N9/H9 -> 0.96
B10: 3 | H10: 0.8 | I10: =H10/$F$8 -> 5.3333333 | J10: =K10/($D$8*$F$8*$G$8*H10) -> 16.131977 | K10: ='Result Comparison'!H10 -> 4.759256 | L10: =M10/($D$8*$F$8*H10*$G$8) -> 14.485459 | M10: ='Result Comparison'!I10 -> 4.2735 | N10: ='Pull-out(E)'!AG100 -> 1.46 | O10: =N10/H10 -> 1.825
B11: 4 | F11: 0.3 | G11: 0.3 | H11: 0.3 | I11: =H11/$F$11 -> 1 | J11: =K11/($D$8*$F$11*$G$11*H11) -> 2.5564838 | K11: ='Result Comparison'!H11 -> 1.1313208 | L11: =M11/($D$8*$F$11*H11*$G$11) -> 2.5083045 | M11: ='Result Comparison'!I11 -> 1.11 | N11: ='Pull-out(E)'!C100 -> 0.14 | O11: =N11/H11 -> 0.46666667
B12: 5 | H12: 0.5 | I12: =H12/$F$11 -> 1.6666667 | J12: =K12/($D$8*$F$11*$G$11*H12) -> 3.9225402 | K12: ='Result Comparison'!H12 -> 2.8930695 | L12: =M12/($D$8*$F$11*H12*$G$11) -> 3.9129551 | M12: ='Result Comparison'!I12 -> 2.886 | N12: ='Pull-out(E)'!I100 -> 0.46 | O12: =N12/H12 -> 0.92
B13: 6 | H13: 0.8 | I13: =H13/$F$11 -> 2.6666667 | J13: =K13/($D$8*$F$11*$G$11*H13) -> 6.4642255 | K13: ='Result Comparison'!H13 -> 7.6283032 | L13: =M13/($D$8*$F$11*H13*$G$11) -> 5.9258694 | M13: ='Result Comparison'!I13 -> 6.993 | N13: ='Pull-out(E)'!O100 -> 0.98 | O13: =N13/H13 -> 1.225
B14: 7 | C14: 60 | D14: 17.2 | E14: 42.09 | F14: 0.15 | G14: 0.15 | H14: 0.3 | I14: =H14/$F$14 -> 2 | J14: =K14/($D$14*$F$14*$G$14*H14) -> 7.2918088 | K14: ='Result Comparison'!H14 -> 0.846579 | L14: =M14/($D$14*$F$14*H14*$G$14) -> 5.2583979 | M14: ='Result Comparison'!I14 -> 0.6105 | N14: ='Pull-out(E)'!U210 -> 0.18 | O14: =N14/H14 -> 0.6
B15: 8 | H15: 0.5 | I15: =H15/$F$14 -> 3.3333333 | J15: =K15/($D$14*$F$14*$G$14*H15) -> 14.647457 | K15: ='Result Comparison'!H15 -> 2.8342829 | L15: =M15/($D$14*$F$14*H15*$G$14) -> 10.03876 | M15: ='Result Comparison'!I15 -> 1.9425 | N15: ='Pull-out(E)'!AA210 -> 0.5 | O15: =N15/H15 -> 1
B16: 9 | H16: 0.8 | I16: =H16/$F$14 -> 5.3333333 | J16: =K16/($D$14*$F$14*$G$14*H16) -> 30.422591 | K16: ='Result Comparison'!H16 -> 9.4188343 | L16: =M16/($D$14*$F$14*H16*$G$14) -> 23.304264 | M16: ='Result Comparison'!I16 -> 7.215 | N16: ='Pull-out(E)'!AG210 -> 1.64 | O16: =N16/H16 -> 2.05
B17: 10 | F17: 0.3 | G17: 0.3 | H17: 0.3 | I17: =H17/$F$17 -> 1 | J17: =K17/($D$14*$F$17*$G$17*H17) -> 3.434655 | K17: ='Result Comparison'!H17 -> 1.5950538 | L17: =M17/($D$14*$F$17*H17*$G$17) -> 2.8682171 | M17: ='Result Comparison'!I17 -> 1.332 | N17: ='Pull-out(E)'!C210 -> 0.16 | O17: =N17/H17 -> 0.53333333
B18: 11 | H18: 0.5 | I18: =H18/$F$17 -> 1.6666667 | J18: =K18/($D$14*$F$17*$G$17*H18) -> 5.8480354 | K18: ='Result Comparison'!H18 -> 4.5263794 | L18: =M18/($D$14*$F$17*H18*$G$17) -> 4.1589147 | M18: ='Result Comparison'!I18 -> 3.219 | N18: ='Pull-out(E)'!I210 -> 0.48 | O18: =N18/H18 -> 0.96
B19: 12 | H19: 0.8 | I19: =H19/$F$17 -> 2.6666667 | J19: =K19/($D$14*$F$17*$G$17*H19) -> 10.653522 | K19: ='Result Comparison'!H19 -> 13.193321 | L19: =M19/($D$14*$F$17*H19*$G$17) -> 7.3946221 | M19: ='Result Comparison'!I19 -> 9.1575 | N19: ='Pull-out(E)'!O210 -> 1.02 | O19: =N19/H19 -> 1.275
B20: 13 | C20: 80 | D20: 18.05 | E20: 45.62 | F20: 0.15 | G20: 0.15 | H20: 0.3 | I20: =H20/$F$20 -> 2 | J20: =K20/($D$20*$F$20*$G$20*H20) -> 8.9422125 | K20: ='Result Comparison'!H20 -> 1.0894968 | L20: =M20/($D$20*$F$20*H20*$G$20) -> 5.4662973 | M20: ='Result Comparison'!I20 -> 0.666 | N20: ='Pull-out(E)'!U327 -> 0.24 | O20: =N20/H20 -> 0.8
B21: 14 | H21: 0.5 | I21: =H21/$F$20 -> 3.3333333 | J21: =K21/($D$20*$F$20*$G$20*H21) -> 18.701681 | K21: ='Result Comparison'!H21 -> 3.7976102 | L21: =M21/($D$20*$F$20*H21*$G$20) -> 12.025854 | M21: ='Result Comparison'!I21 -> 2.442 | N21: ='Pull-out(E)'!AA327 -> 0.52 | O21: =N21/H21 -> 1.04
B22: 15 | H22: 0.8 | I22: =H22/$F$20 -> 5.3333333 | J22: =K22/($D$20*$F$20*$G$20*H22) -> 40.037875 | K22: ='Result Comparison'!H22 -> 13.008306 | L22: =M22/($D$20*$F$20*H22*$G$20) -> 31.089566 | M22: ='Result Comparison'!I22 -> 10.101 | N22: ='Pull-out(E)'!AG327 -> 1.75 | O22: =N22/H22 -> 2.1875
B23: 16 | F23: 0.3 | G23: 0.3 | H23: 0.3 | I23: =H23/$F$23 -> 1 | J23: =K23/($D$20*$F$23*$G$23*H23) -> 3.9665576 | K23: ='Result Comparison'!H23 -> 1.9331019 | L23: =M23/($D$20*$F$23*H23*$G$23) -> 2.960911 | M23: ='Result Comparison'!I23 -> 1.443 | N23: ='Pull-out(E)'!C327 -> 0.22 | O23: =N23/H23 -> 0.73333333
B24: 17 | H24: 0.5 | I24: =H24/$F$23 -> 1.6666667 | J24: =K24/($D$20*$F$23*$G$23*H24) -> 7.0604279 | K24: ='Result Comparison'!H24 -> 5.7348325 | L24: =M24/($D$20*$F$23*H24*$G$23) -> 5.056325 | M24: ='Result Comparison'!I24 -> 4.107 | N24: ='Pull-out(E)'!I327 -> 0.5 | O24: =N24/H24 -> 1
B25: 18 | H25: 0.8 | I25: =H25/$F$23 -> 2.6666667 | J25: =K25/($D$20*$F$23*$G$23*H25) -> 13.375481 | K25: ='Result Comparison'!H25 -> 17.382775 | L25: =M25/($D$20*$F$23*H25*$G$23) -> 9.9930748 | M25: ='Result Comparison'!I25 -> 12.987 | N25: ='Pull-out(E)'!O327 -> 1.08 | O25: =N25/H25 -> 1.35
F29: UPLIFT LOAD-EMBEDMENT RATIO FOR DIFF PHI(in °) VALUE
D31: ANALYTICAL | N31: EXPERIMENTAL
E64: BREAKOUT FACTOR-EMBEDMENT RATIO FOR DIFF PHI(in °) VALUE
E66: ANALYTICAL | O66: EXPERIMENTAL

Sheet proposed angle
E2: Proposed failure angle from peak uplift load
B13: Φ, ° | C13: Dry unit weight, γ (kN/m3) | D13: Embedment Depth,H (m) | E13: Width, B | F13: θ(°) | G13: B1 | H13: B2 | I13: Volume (m3) | J13: Dead Weight (kN) | K13: θavg
B14: 34.22 | C14: 16.39 | D14: 0.3 | E14: 0.15 | F14: 27.45669 | G14: =($E$14+(D14*TAN(RADIANS(F14))*2)) -> 0.46176401 | H14: =E14 -> 0.15 | I14: =((G14*G14)+($H$14*$H$14)+(G14*$H$14))*D14/3 -> 0.03049906 | J14: =I14*$C$14 -> 0.49987959 | K14: =AVERAGE(F14:F16) -> 26.683786
D15: 0.5 | F15: 27.337923 | G15: =($E$14+(D15*TAN(RADIANS(F15))*2)) -> 0.66697698 | I15: =((G15*G15)+($H$14*$H$14)+(G15*$H$14))*D15/3 -> 0.094567474 | J15: =I15*$C$14 -> 1.5499609
D16: 0.8 | F16: 25.256745 | G16: =($E$14+(D16*TAN(RADIANS(F16))*2)) -> 0.90483924 | I16: =((G16*G16)+($H$14*$H$14)+(G16*$H$14))*D16/3 -> 0.26052265 | J16: =I16*$C$14 -> 4.2699663
B17: 42.09 | C17: 17.2 | D17: 0.3 | F17: 30.687287 | G17: =($E$14+(D17*TAN(RADIANS(F17))*2)) -> 0.50607389 | I17: =((G17*G17)+($H$14*$H$14)+(G17*$H$14))*D17/3 -> 0.035452187 | J17: =I17*$C$17 -> 0.60977761 | K17: =AVERAGE(F17:F19) -> 31.234841
D18: 0.5 | F18: 30.426216 | G18: =($E$14+(D18*TAN(RADIANS(F18))*2)) -> 0.73731173 | I18: =((G18*G18)+($H$14*$H$14)+(G18*$H$14))*D18/3 -> 0.11278756 | J18: =I18*$C$17 -> 1.939946
D19: 0.8 | F19: 32.591018 | G19: =($E$14+(D19*TAN(RADIANS(F19))*2)) -> 1.1728893 | I19: =((G19*G19)+($H$14*$H$14)+(G19*$H$14))*D19/3 -> 0.41976074 | J19: =I19*$C$17 -> 7.2198847
B20: 45.62 | C20: 18.05 | D20: 0.3 | F20: 31.668866 | G20: =($E$14+(D20*TAN(RADIANS(F20))*2)) -> 0.52011731 | I20: =((G20*G20)+($H$14*$H$14)+(G20*$H$14))*D20/3 -> 0.037103961 | J20: =I20*$C$20 -> 0.66972649 | K20: =AVERAGE(F20:F22) -> 34.204308
D21: 0.5 | F21: 33.670384 | G21: =($E$14+(D21*TAN(RADIANS(F21))*2)) -> 0.81617055 | I21: =((G21*G21)+($H$14*$H$14)+(G21*$H$14))*D21/3 -> 0.13517666 | J21: =I21*$C$20 -> 2.4399387
D22: 0.8 | F22: 37.273673 | G22: =($E$14+(D22*TAN(RADIANS(F22))*2)) -> 1.3677119 | I22: =((G22*G22)+($H$14*$H$14)+(G22*$H$14))*D22/3 -> 0.55954472 | J22: =I22*$C$20 -> 10.099782
B23: 34.22 | C23: 16.39 | D23: 0.3 | E23: 0.3 | F23: 38.709775 | G23: =($E$14+(D23*TAN(RADIANS(F23))*2)) -> 0.63085873 | H23: =E23 -> 0.3 | I23: =((G23*G23)+($H$23*$H$23)+(G23*$H$23))*D23/3 -> 0.067724036 | J23: =I23*$C$23 -> 1.109997 | K23: =AVERAGE(F23:F25) -> 34.630168
D24: 0.5 | F24: 34.809081 | G24: =($E$14+(D24*TAN(RADIANS(F24))*2)) -> 0.84525318 | I24: =((G24*G24)+($H$23*$H$23)+(G24*$H$23))*D24/3 -> 0.17633815 | J24: =I24*$C$23 -> 2.8901823
D25: 0.8 | F25: 30.371648 | G25: =($E$14+(D25*TAN(RADIANS(F25))*2)) -> 1.0876505 | I25: =((G25*G25)+($H$23*$H$23)+(G25*$H$23))*D25/3 -> 0.42647433 | J25: =I25*$C$23 -> 6.9899142
B26: 42.09 | C26: 17.2 | D26: 0.3 | F26: 41.996371 | G26: =($E$14+(D26*TAN(RADIANS(F26))*2)) -> 0.69017361 | I26: =((G26*G26)+($H$23*$H$23)+(G26*$H$23))*D26/3 -> 0.07733917 | J26: =I26*$C$26 -> 1.3302337 | K26: =AVERAGE(F26:F28) -> 37.425388
D27: 0.5 | F27: 36.037262 | G27: =($E$14+(D27*TAN(RADIANS(F27))*2)) -> 0.87753663 | I27: =((G27*G27)+($H$23*$H$23)+(G27*$H$23))*D27/3 -> 0.18722192 | J27: =I27*$C$26 -> 3.220217
D28: 0.8 | F28: 34.242532 | G28: =($E$14+(D28*TAN(RADIANS(F28))*2)) -> 1.239096 | I28: =((G28*G28)+($H$23*$H$23)+(G28*$H$23))*D28/3 -> 0.53255673 | J28: =I28*$C$26 -> 9.1599758
B29: 45.62 | C29: 18.05 | D29: 0.3 | F29: 42.755382 | G29: =($E$14+(D29*TAN(RADIANS(F29))*2)) -> 0.70473882 | I29: =((G29*G29)+($H$23*$H$23)+(G29*$H$23))*D29/3 -> 0.079807845 | J29: =I29*$C$29 -> 1.4405316 | K29: =AVERAGE(F29:F31) -> 40.780363
D30: 0.5 | F30: 40.018307 | G30: =($E$14+(D30*TAN(RADIANS(F30))*2)) -> 0.98964427 | I30: =((G30*G30)+($H$23*$H$23)+(G30*$H$23))*D30/3 -> 0.22771484 | J30: =I30*$C$29 -> 4.1102529
D31: 0.8 | F31: 39.567401 | G31: =($E$14+(D31*TAN(RADIANS(F31))*2)) -> 1.4721025 | I31: =((G31*G31)+($H$23*$H$23)+(G31*$H$23))*D31/3 -> 0.71965771 | J31: =I31*$C$29 -> 12.989822
D35: 15cm | E35: 30cm | G35: avg | J35: ans
D36: 0.6461 | E36: 4.4485 | G36: =AVERAGE(D36:D37) -> 0.5774 | J36: =0.5774*45.62+10.69 -> 37.030988
D37: 0.5087 | E37: 16.937 | G37: =AVERAGE(E36:E37) -> 10.69275

Sheet Shrinkage Limit
A1: Observation Table
A3: Weight of empty Shrinkage Dish, W1 (gm) | B3: 64.5
A4: Weight of empty Shrinkage Dish + Weight of Wet Soil, W2 (gm) | B4: 101.4
A5: Weight of empty Shrinkage Dish + Weight of Dry Soil, W3 (gm) | B5: 85.7
A6: Weight of empty Shrinkage Dish + Mercury | B6: 386.2
A7: Weight of mercury in Shrinkage dish,W4 (gm) | B7: =B6-B3 -> 321.7
A8: Volume of dish, V1 (cc) | B8: =B7/13.6 -> 23.654412
A9: Weight of displaced Mercury, W5 (gm) | B9: 135.9
A10: Volume of Dry soil, V2 (cc) | B10: =B9/13.6 -> 9.9926471
A12: Shrinkage Limit | B12: =(((B4-B5)-(B8-B10))/(B5-B3))*1*100 -> 9.6143174

Sheet Consolidation
B2: Bore Hole No.= | E2: BH-1 | G2: pi (kg/cm2) | H2: Void Ratio
B3: Depth (m) = | E3: 3.75
B4: Specific Gravity = | E4: 2.66 | G4: =C15 -> 0.1 | H4: =I15 -> 0.60317425
B5: Diameter of Ring (mm) = | E5: 60 | G5: =C16 -> 0.25 | H5: =I16 -> 0.59425421
B6: Ht. of sample (mm) = | E6: 20 | G6: =C17 -> 0.5 | H6: =I17 -> 0.58290144
B7: Final Wet Wt. of Soil (gm) = | G7: =C18 -> 1 | H7: =I18 -> 0.5674941
B8: Final Dry Wt. of Soil (gm) = | E8: 92.7 | G8: =C19 -> 2 | H8: =I19 -> 0.54641037
B9: Water Content (%) = | G9: =C20 -> 4 | H9: =I20 -> 0.52159644
B10: Ht. of Solids (mm) = | E10: =E8/E4/(0.785*E5*E5)*1000 -> 12.331785 | G10: =C21 -> 8 | H10: =I21 -> 0.49532287
B11: Least Count of Dial Gauge = | E11: 0.002 | G11: =C22 -> 0.1 | H11: =I22 -> 0.53019212
B13: pi (kg/cm2) | C13: pf (kg/cm2) | D13: dp | E13: Initial Dial Reading | F13: Final dial Reading | G13: Initial Ht. (mm) | H13: Final Ht. (mm) | I13: Final Void ratio | J13: Change in Void Ratio | K13: Initial Void ratio | L13: Cc
B15: 0 | C15: =B16 -> 0.1 | D15: =C15-B15 -> 0.1 | E15: 2500 | F15: =E16 -> 2385 | G15: =E6 -> 20 | H15: =G15-(E15-F15)*E$11 -> 19.77 | I15: =H15/E$10-1 -> 0.60317425 | J15: =-(G15-H15)/E$10 -> -0.01865099 | K15: =G15/E10-1 -> 0.62182524
B16: 0.1 | C16: =B17 -> 0.25 | D16: =C16-B16 -> 0.15 | E16: 2385 | F16: =E17 -> 2330 | G16: =H15 -> 19.77 | H16: =G16-(E16-F16)*E$11 -> 19.66 | I16: =H16/E$10-1 -> 0.59425421 | J16: =-(G16-H16)/E$10 -> -0.0089200388 | K16: =I16-J16 -> 0.60317425 | L16: =-J16/LOG10(C16/B16) -> 0.022415537
B17: 0.25 | C17: =B18 -> 0.5 | D17: =C17-B17 -> 0.25 | E17: 2330 | F17: =E18 -> 2260 | G17: =H16 -> 19.66 | H17: =G17-(E17-F17)*E$11 -> 19.52 | I17: =H17/E$10-1 -> 0.58290144 | J17: =-(G17-H17)/E$10 -> -0.011352777 | K17: =I17-J17 -> 0.59425421 | L17: =-J17/LOG10(C17/B17) -> 0.037713108
B18: 0.5 | C18: =B19 -> 1 | D18: =C18-B18 -> 0.5 | E18: 2260 | F18: =E19 -> 2165 | G18: =H17 -> 19.52 | H18: =G18-(E18-F18)*E$11 -> 19.33 | I18: =H18/E$10-1 -> 0.5674941 | J18: =-(G18-H18)/E$10 -> -0.01540734 | K18: =I18-J18 -> 0.58290144 | L18: =-J18/LOG10(C18/B18) -> 0.051182075
B19: 1 | C19: =B20 -> 2 | D19: =C19-B19 -> 1 | E19: 2165 | F19: =E20 -> 2035 | G19: =H18 -> 19.33 | H19: =G19-(E19-F19)*E$11 -> 19.07 | I19: =H19/E$10-1 -> 0.54641037 | J19: =-(G19-H19)/E$10 -> -0.021083728 | K19: =I19-J19 -> 0.5674941 | L19: =-J19/LOG10(C19/B19) -> 0.070038629
B20: 2 | C20: =B21 -> 4 | D20: =C20-B20 -> 2 | E20: 2035 | F20: =E21 -> 1882 | G20: =H19 -> 19.07 | H20: =G20-(E20-F20)*E$11 -> 18.764 | I20: =H20/E$10-1 -> 0.52159644 | J20: =-(G20-H20)/E$10 -> -0.024813926 | K20: =I20-J20 -> 0.54641037 | L20: =-J20/LOG10(C20/B20) -> 0.082430079
B21: 4 | C21: =B22 -> 8 | D21: =C21-B21 -> 4 | E21: 1882 | F21: =E22 -> 1720 | G21: =H20 -> 18.764 | H21: =G21-(E21-F21)*E$11 -> 18.44 | I21: =H21/E$10-1 -> 0.49532287 | J21: =-(G21-H21)/E$10 -> -0.026273569 | K21: =I21-J21 -> 0.52159644 | L21: =-J21/LOG10(C21/B21) -> 0.087278907
B22: 8 | C22: 0.1 | D22: =C22-B22 -> -7.9 | E22: 1720 | F22: 1935 | G22: =H21 -> 18.44 | H22: =G22-(E22-F22)*E$11 -> 18.87 | I22: =H22/E$10-1 -> 0.53019212 | J22: =-(G22-H22)/E$10 -> 0.034869243 | K22: =I22-J22 -> 0.49532287 | L22: =-J22/LOG10(C22/B22) -> 0.018322435
C27: Name of Project : | E27: Surat Lignite Power Plant, Village Mosali, | J27: Bore Hole No.= | L27: BH-22
E28: New Expansion | J28: Depth (m) = | L28: 7.5
J29: Compression Index | L29: 0.08

Sheet Specific Gravity
A1: Observation Table
A3: Weight of empty Bottle, m1 (gm) | B3: 27.8
A4: Weight of empty Bottle + Dry Soil, m2 (gm) | B4: 37.8
A5: Weight of empty Bottle + Dry Soil + Water, m3 (gm) | B5: 87.1
A6: Weight of empty Bottle + Water, m4 (gm) | B6: 80.7
A8: Specific Gravity | B8: =(B4-B3)/((B6-B3)-(B5-B4)) -> 2.7777778

Sheet Free Swell
A1: Observation Table
A3: Volume of Soil in Water | B3: 25
A4: Volume of Soil in Carosin | B4: 12
A6: % Free Swell | B6: =((B3-B4)/B4)*100 -> 108.33333

Sheet Permeability
B2: Constant Head Permeability Test | F2: Falling Head Permeability Test | K2: Typical value of K | L2: Coefficient of permeaility (K) (cm/sec)
K4: Clean Graval | L4: 1.0 & greater
B5: Sample No. | D5: coarse sand 1 | F5: SAMPLE NO :- | H5: Fine sand | K5: Clean sand (Coarse) | L5: 1.0 - 1*10-2
K6: Sand (mixed) | L6: 1*10-2 - 5-10-2
B7: Specific Gravity | D7: 2.61 | F7: SPECIFIC GRAVITY :- | H7: 2.61 | K7: Fine Sand | L7: 5*10-2 - 1*10-3
K8: Silty Sand | L8: 2*10-3 - 1*10-4
B9: Dry Density | F9: Dry Density | K9: Silt | L9: 5*10-4 - 1*10-5
K10: Clay | L10: 1*10-6 & greater
B11: Hydraulic head (h) | C11: cm | D11: 112
B12: Length of the sample (L) | C12: cm | D12: 12.5 | F12: Length of the sample (L) :- | H12: cm | I12: 12.5
B13: Hydraulic gradient
B14: Diameter of sample | C14: cm | D14: 10 | F14: Diameter of sample :- | H14: cm | I14: 10
B15: c/s area of smple (A) | C15: cm2 | D15: =(3.14/4)*D14^2 -> 78.5 | F15: c/s area of smple (A) :- | H15: cm2 | I15: =(3.14/4)*I14^2 -> 78.5
F16: Diameter of pipe :- | H16: cm | I16: 0.78
F17: c/s area of pipe (a) :- | H17: cm2 | I17: =(3.14/4)*I16^2 -> 0.477594
B18: Test temperature | C18: .C
F19: Test temperature :- | H19: .C
B21: Time interval (t) | C21: Quantity of flow (Q) | D21: Coefficient of permeaility (K)
B22: (sec) | C22: (ml) | D22: (cm/sec)
B23: 5 | C23: 48 | D23: =(C23*$D$12)/(B23*$D$11*$D$15) -> 0.013648772 | F23: Time interval (t) | G23: Initial Head (h1) | H23: Final Head (h2) | I23: Quantity of flow (Q) | J23: Coefficient of permeaility (K)
B24: 10 | C24: 79 | D24: =(C24*$D$12)/(B24*$D$11*$D$15) -> 0.011231802 | F24: (sec) | G24: (cm) | H24: (cm) | I24: (ml) | J24: (cm/sec)
B25: 15 | C25: 108 | D25: =(C25*$D$12)/(B25*$D$11*$D$15) -> 0.010236579 | F25: 60 | G25: 185 | H25: 170.8 | I25: 6 | J25: =2.303*($I$17*$I$12/($I$15*F25))*LOG10(G25/H25) -> 0.00010124401
B26: 20 | C26: 132 | D26: =(C26*$D$12)/(B26*$D$11*$D$15) -> 0.0093835305 | F26: 60 | G26: 185 | H26: 170.8 | I26: 6 | J26: =2.303*($I$17*$I$12/($I$15*F26))*LOG10(G26/H26) -> 0.00010124401
B27: 25 | C27: 154 | D27: =(C27*$D$12)/(B27*$D$11*$D$15) -> 0.0087579618 | F27: 60 | G27: 185 | H27: 170.9 | I27: 7 | J27: =2.303*($I$17*$I$12/($I$15*F27))*LOG10(G27/H27) -> 0.000100502
F28: 90 | G28: 185.8 | H28: 168.5 | I28: 10 | J28: =2.303*($I$17*$I$12/($I$15*F28))*LOG10(G28/H28) -> 8.2601021e-05
F29: 90 | G29: 185 | H29: 167.3 | I29: 9.5 | J29: =2.303*($I$17*$I$12/($I$15*F29))*LOG10(G29/H29) -> 8.4994611e-05
B30: Avg K | F30: 90 | G30: 185 | H30: 167.2 | I30: 10 | J30: =2.303*($I$17*$I$12/($I$15*F30))*LOG10(G30/H30) -> 8.5499934e-05
B31: (cm/sec) | F31: 120 | G31: 185 | H31: 163.2 | I31: 12 | J31: =2.303*($I$17*$I$12/($I$15*F31))*LOG10(G31/H31) -> 7.9473502e-05
B32: =AVERAGE(D23,D24,D25,D26,D27) -> 0.010651729 | F32: 120 | G32: 185 | H32: 163.5 | I32: 12.5 | J32: =2.303*($I$17*$I$12/($I$15*F32))*LOG10(G32/H32) -> 7.830938e-05
H35: Avg K
H36: (cm/sec)
H37: =AVERAGE(J25,J26,J27,J28,J29,J30,J31,J32) -> 8.923356e-05

Sheet Standard Proctor Test 
A1: Observation Table
A3: Density | B3: 1 | C3: 2 | D3: 3 | E3: 4
A4: Mass of mould + Compacted Soil (g) | B4: 3808 | C4: 3940 | D4: 3974 | E4: 3950
A5: Mass of mould (g) | B5: 2105 | C5: 2105 | D5: 2105 | E5: 2105
A6: Mass of compacted soil (g) | B6: =B4-B5 -> 1703 | C6: =C4-C5 -> 1835 | D6: =D4-D5 -> 1869 | E6: =E4-E5 -> 1845
A7: Volume of mould (cc) | B7: 1000 | C7: 1000 | D7: 1000 | E7: 1000
A8: Bulk density g/cc | B8: =B6/B7 -> 1.703 | C8: =C6/C7 -> 1.835 | D8: =D6/D7 -> 1.869 | E8: =E6/E7 -> 1.845
A9: Dry density g/cc | B9: =B8/(1+B17) -> 1.3785254 | C9: =C8/(1+C17) -> 1.4588126 | D9: =D8/(1+D17) -> 1.4397502 | E9: =E8/(1+E17) -> 1.3778307
A11: Water Content
A12: Mass of Empty container (M1, gm) | B12: 80.8 | C12: 58.2 | D12: 77.3 | E12: 50.4
A13: Mass of Empty container + Wet Soil (M2, gm) | B13: 254 | C13: 206 | D13: 231 | E13: 253
A14: Mass of Empty container + Dry Soil (M3, gm) | B14: 221 | C14: 175.7 | D14: 195.7 | E14: 201.7
A15: Mass of Water, M4 = M2 - M3 | B15: =B13-B14 -> 33 | C15: =C13-C14 -> 30.3 | D15: =D13-D14 -> 35.3 | E15: =E13-E14 -> 51.3
A16: Mass of Dry Soil, M5 = M3 - M1 | B16: =B14-B12 -> 140.2 | C16: =C14-C12 -> 117.5 | D16: =D14-D12 -> 118.4 | E16: =E14-E12 -> 151.3
B17: =B15/B16 -> 0.23537803 | C17: =C15/C16 -> 0.25787234 | D17: =D15/D16 -> 0.29814189 | E17: =E15/E16 -> 0.33906147
A18: Water Content, W = (M4/M5)*100 | B18: =(B15/B16)*100 -> 23.537803 | C18: =(C15/C16)*100 -> 25.787234 | D18: =(D15/D16)*100 -> 29.814189 | E18: =(E15/E16)*100 -> 33.906147

Sheet Unconfine Compressive Strength
A2: Observation Table
A4: Initial diameter of speciment (D0) | B4: 3.8 | C4: cm | D4: Cu= | E4: =MAX(F12:F30) -> 2.1925619 | F4: kg/cm2
A5: Initial length of speciment (L0) | B5: 7.6 | C5: cm
A6: Initial Area (A0) | B6: =(3.14/4)*(B4*B4) -> 11.3354
A7: Initial Density | B7: 1.461 | C7: gm/cc
A8: Initial Water Content | B8: 26 | C8: %
A9: Proving Ring Constant | B9: 0.254 | C9: kg/div
A11: Dial guge reading | B11: Proving ring | C11: Deformation in mm | D11: Strain, ɛ (%) | E11: Area | F11: Stress
A12: 50 | B12: 7 | C12: =A12/100 -> 0.5 | D12: =(C12/10)/$B$5 -> 0.0065789474 | E12: =$B$6/(1-D12) -> 11.410469 | F12: =(B12*$B$9)/E12 -> 0.15582182
A13: 100 | B13: 24 | C13: =A13/100 -> 1 | D13: =(C13/10)/$B$5 -> 0.013157895 | E13: =$B$6/(1-D13) -> 11.486539 | F13: =(B13*$B$9)/E13 -> 0.53070818
A14: 150 | B14: 44 | C14: =A14/100 -> 1.5 | D14: =(C14/10)/$B$5 -> 0.019736842 | E14: =$B$6/(1-D14) -> 11.56363 | F14: =(B14*$B$9)/E14 -> 0.96647856
A15: 200 | B15: 62 | C15: =A15/100 -> 2 | D15: =(C15/10)/$B$5 -> 0.026315789 | E15: =$B$6/(1-D15) -> 11.641762 | F15: =(B15*$B$9)/E15 -> 1.3527162
A16: 250 | B16: 72 | C16: =A16/100 -> 2.5 | D16: =(C16/10)/$B$5 -> 0.032894737 | E16: =$B$6/(1-D16) -> 11.720958 | F16: =(B16*$B$9)/E16 -> 1.560282
A17: 300 | B17: 80 | C17: =A17/100 -> 3 | D17: =(C17/10)/$B$5 -> 0.039473684 | E17: =$B$6/(1-D17) -> 11.801238 | F17: =(B17*$B$9)/E17 -> 1.7218532
A18: 350 | B18: 86 | C18: =A18/100 -> 3.5 | D18: =(C18/10)/$B$5 -> 0.046052632 | E18: =$B$6/(1-D18) -> 11.882626 | F18: =(B18*$B$9)/E18 -> 1.8383142
A19: 400 | B19: 91 | C19: =A19/100 -> 4 | D19: =(C19/10)/$B$5 -> 0.052631579 | E19: =$B$6/(1-D19) -> 11.965144 | F19: =(B19*$B$9)/E19 -> 1.9317778
A20: 450 | B20: 95 | C20: =A20/100 -> 4.5 | D20: =(C20/10)/$B$5 -> 0.059210526 | E20: =$B$6/(1-D20) -> 12.048817 | F20: =(B20*$B$9)/E20 -> 2.0026863
A21: 500 | B21: 99 | C21: =A21/100 -> 5 | D21: =(C21/10)/$B$5 -> 0.065789474 | E21: =$B$6/(1-D21) -> 12.133668 | F21: =(B21*$B$9)/E21 -> 2.0724154
A22: 550 | B22: 102 | C22: =A22/100 -> 5.5 | D22: =(C22/10)/$B$5 -> 0.072368421 | E22: =$B$6/(1-D22) -> 12.219722 | F22: =(B22*$B$9)/E22 -> 2.1201792
A23: 600 | B23: 105 | C23: =A23/100 -> 6 | D23: =(C23/10)/$B$5 -> 0.078947368 | E23: =$B$6/(1-D23) -> 12.307006 | F23: =(B23*$B$9)/E23 -> 2.1670584
... A26: 750 | B26: 106 | C26: =A26/100 -> 7.5 | D26: =(C26/10)/$B$5 -> 0.098684211 | E26: =$B$6/(1-D26) -> 12.576502 | F26: =(B26*$B$9)/E26 -> 2.1408178
A27: 800 | C27: =A27/100 -> 8 | D27: =(C27/10)/$B$5 -> 0.10526316 | E27: =$B$6/(1-D27) -> 12.668976 | F27: =(B27*$B$9)/E27 -> 0
A28: 850 | C28: =A28/100 -> 8.5 | D28: =(C28/10)/$B$5 -> 0.11184211 | E28: =$B$6/(1-D28) -> 12.762821 | F28: =(B28*$B$9)/E28 -> 0
A29: 900 | C29: =A29/100 -> 9 | D29: =(C29/10)/$B$5 -> 0.11842105 | E29: =$B$6/(1-D29) -> 12.858066 | F29: =(B29*$B$9)/E29 -> 0
A30: 1000 | C30: =A30/100 -> 10 | D30: =(C30/10)/$B$5 -> 0.13157895 | E30: =$B$6/(1-D30) -> 13.052885 | F30: =(B30*$B$9)/E30 -> 0

Sheet Direct Shear Test
A1: Observation Table
A3: Length of specimen | B3: 6 | C3: cm | E3: Weight of sample | F3: =B3*B4*B5*B6 -> 105.12
A4: Width of specimen | B4: 6 | C4: cm | E4: % water added | F4: 26 | G4: %
A5: Thickness of specimen | B5: 2 | C5: cm | E5: Volume of Water | F5: =F3*F4/100 -> 27.3312 | G5: ml
A6: Unit weight of remoulded sample | B6: 1.46
A7: Proving ring constant | B7: 0.254 | C7: kg/div
A8: Rate of strain | B8: 1.25
A9: List Count of Dial gauge | B9: 0.001
B11: Proving Ring Readings | E11: Stress,kg/cm2
A12: Dialgauge reading | B12: 0.65 | C12: 1.15 | D12: 1.65 | E12: 0.65 | F12: 1.15 | G12: 1.65
A13: 50 | B13: 17 | C13: 52 | D13: 116 | E13: =(B13*$B$7)/($B$4*($B$3-(A13*$B$9))) -> 0.12095238 | F13: =(C13*$B$7)/($B$4*($B$3-(B13*$B$9))) -> 0.36793136 | G13: =(D13*$B$7)/($B$4*($B$3-(C13*$B$9))) -> 0.82559964
A14: 100 | B14: 31 | C14: 76 | D14: 170 | E14: =(B14*$B$7)/($B$4*($B$3-(A14*$B$9))) -> 0.22242938 | F14: =(C14*$B$7)/($B$4*($B$3-(B14*$B$9))) -> 0.53900709 | G14: =(D14*$B$7)/($B$4*($B$3-(C14*$B$9))) -> 1.2148323
A15: 150 | B15: 55 | C15: 92 | D15: 195 | E15: =(B15*$B$7)/($B$4*($B$3-(A15*$B$9))) -> 0.3980057 | F15: =(C15*$B$7)/($B$4*($B$3-(B15*$B$9))) -> 0.65511634 | G15: =(D15*$B$7)/($B$4*($B$3-(C15*$B$9))) -> 1.397258
A16: 200 | B16: 71 | C16: 100 | D16: 211 | E16: =(B16*$B$7)/($B$4*($B$3-(A16*$B$9))) -> 0.51821839 | F16: =(C16*$B$7)/($B$4*($B$3-(B16*$B$9))) -> 0.71400461 | G16: =(D16*$B$7)/($B$4*($B$3-(C16*$B$9))) -> 1.5139548
A17: 250 | B17: 85 | C17: 101 | D17: 223 | E17: =(B17*$B$7)/($B$4*($B$3-(A17*$B$9))) -> 0.6257971 | F17: =(C17*$B$7)/($B$4*($B$3-(B17*$B$9))) -> 0.72285151 | G17: =(D17*$B$7)/($B$4*($B$3-(C17*$B$9))) -> 1.6003277
A18: 300 | B18: 57 | C18: 101 | D18: 231 | E18: =(B18*$B$7)/($B$4*($B$3-(A18*$B$9))) -> 0.42333333 | F18: =(C18*$B$7)/($B$4*($B$3-(B18*$B$9))) -> 0.71944585 | G18: =(D18*$B$7)/($B$4*($B$3-(C18*$B$9))) -> 1.6577386
A19: 350 | B19: 86 | C19: 103 | D19: 232 | E19: =(B19*$B$7)/($B$4*($B$3-(A19*$B$9))) -> 0.64436578 | F19: =(C19*$B$7)/($B$4*($B$3-(B19*$B$9))) -> 0.73729005 | G19: =(D19*$B$7)/($B$4*($B$3-(C19*$B$9))) -> 1.6654796
A20: 400 | E20: =(B20*$B$7)/($B$4*($B$3-(A20*$B$9))) -> 0 | F20: =(C20*$B$7)/($B$4*($B$3-(B20*$B$9))) -> 0 | G20: =(D20*$B$7)/($B$4*($B$3-(C20*$B$9))) -> 0
A21: 450 | E21: =(B21*$B$7)/($B$4*($B$3-(A21*$B$9))) -> 0 | F21: =(C21*$B$7)/($B$4*($B$3-(B21*$B$9))) -> 0 | G21: =(D21*$B$7)/($B$4*($B$3-(C21*$B$9))) -> 0
A22: 500 | E22: =(B22*$B$7)/($B$4*($B$3-(A22*$B$9))) -> 0 | F22: =(C22*$B$7)/($B$4*($B$3-(B22*$B$9))) -> 0 | G22: =(D22*$B$7)/($B$4*($B$3-(C22*$B$9))) -> 0
A23: 550 | E23: =(B23*$B$7)/($B$4*($B$3-(A23*$B$9))) -> 0 | F23: =(C23*$B$7)/($B$4*($B$3-(B23*$B$9))) -> 0 | G23: =(D23*$B$7)/($B$4*($B$3-(C23*$B$9))) -> 0
A24: 600 | E24: =(B24*$B$7)/($B$4*($B$3-(A24*$B$9))) -> 0 | F24: =(C24*$B$7)/($B$4*($B$3-(B24*$B$9))) -> 0 | G24: =(D24*$B$7)/($B$4*($B$3-(C24*$B$9))) -> 0
A25: 650 | E25: =(B25*$B$7)/($B$4*($B$3-(A25*$B$9))) -> 0 | F25: =(C25*$B$7)/($B$4*($B$3-(B25*$B$9))) -> 0 | G25: =(D25*$B$7)/($B$4*($B$3-(C25*$B$9))) -> 0
A26: 700 | E26: =(B26*$B$7)/($B$4*($B$3-(A26*$B$9))) -> 0 | F26: =(C26*$B$7)/($B$4*($B$3-(B26*$B$9))) -> 0 | G26: =(D26*$B$7)/($B$4*($B$3-(C26*$B$9))) -> 0
A27: 750 | E27: =(B27*$B$7)/($B$4*($B$3-(A27*$B$9))) -> 0 | F27: =(C27*$B$7)/($B$4*($B$3-(B27*$B$9))) -> 0 | G27: =(D27*$B$7)/($B$4*($B$3-(C27*$B$9))) -> 0
A28: 800 | E28: =(B28*$B$7)/($B$4*($B$3-(A28*$B$9))) -> 0 | F28: =(C28*$B$7)/($B$4*($B$3-(B28*$B$9))) -> 0 | G28: =(D28*$B$7)/($B$4*($B$3-(C28*$B$9))) -> 0
A29: 850 | E29: =(B29*$B$7)/($B$4*($B$3-(A29*$B$9))) -> 0 | F29: =(C29*$B$7)/($B$4*($B$3-(B29*$B$9))) -> 0 | G29: =(D29*$B$7)/($B$4*($B$3-(C29*$B$9))) -> 0
A30: 900 | E30: =(B30*$B$7)/($B$4*($B$3-(A30*$B$9))) -> 0 | F30: =(C30*$B$7)/($B$4*($B$3-(B30*$B$9))) -> 0 | G30: =(D30*$B$7)/($B$4*($B$3-(C30*$B$9))) -> 0
A31: 1000 | E31: =(B31*$B$7)/($B$4*($B$3-(A31*$B$9))) -> 0 | F31: =(C31*$B$7)/($B$4*($B$3-(B31*$B$9))) -> 0 | G31: =(D31*$B$7)/($B$4*($B$3-(C31*$B$9))) -> 0
E32: =MAX(E13:E31) -> 0.64436578 | F32: =MAX(F13:F31) -> 0.73729005 | G32: =MAX(G13:G31) -> 1.6654796
