Workbook

Sheet MASTER COPY(SA)
A1: Observation Table
A3: Sive Dia. (mm) | B3: Retained on each Sive (gm) | C3: % Retain | D3: Cum %Retain | E3: Cum %Passing (N)
A4: 4.75 | B4: 32 | C4: =(B4/B$13)*100 -> 8 | D4: =C$4 -> 8 | E4: =100-D4 -> 92
A5: 2.36 | B5: 68 | C5: =(B5/B$13)*100 -> 17 | D5: =D4+C5 -> 25 | E5: =100-D5 -> 75 | F5: =B4+B5 -> 100 | G5: =F5/4 -> 25
A6: 1.18 | B6: 77 | C6: =(B6/B$13)*100 -> 19.25 | D6: =D5+C6 -> 44.25 | E6: =100-D6 -> 55.75
A7: 0.6 | B7: 70 | C7: =(B7/B$13)*100 -> 17.5 | D7: =D6+C7 -> 61.75 | E7: =100-D7 -> 38.25
A8: 0.425 | B8: 53 | C8: =(B8/B$13)*100 -> 13.25 | D8: =D7+C8 -> 75 | E8: =100-D8 -> 25 | F8: =B6+B7+B8 -> 200 | G8: =F8/4 -> 50
A9: 0.3 | B9: 38 | C9: =(B9/B$13)*100 -> 9.5 | D9: =D8+C9 -> 84.5 | E9: =100-D9 -> 15.5
A10: 0.15 | B10: 34 | C10: =(B10/B$13)*100 -> 8.5 | D10: =D9+C10 -> 93 | E10: =100-D10 -> 7
A11: 0.075 | B11: 23 | C11: =(B11/B$13)*100 -> 5.75 | D11: =D10+C11 -> 98.75 | E11: =100-D11 -> 1.25 | F11: =B9+B10+B11 -> 95 | G11: =F11/4 -> 23.75
A12: Reciver | B12: 5 | C12: =(B12/B$13)*100 -> 1.25 | D12: =D11+C12 -> 100 | E12: =100-D12 -> 0 | F12: =B12 -> 5 | G12: =F12/4 -> 1.25
A13: Total | B13: =SUM(B4:B12) -> 400 | F13: =F5+F8+F11+F12 -> 400
B16: D60 | C16: 1.5 | E16: Cu | F16: =C16/C18 -> 8.3333333
B17: D30 | C17: 0.55 | E17: Cc | F17: =(C17*C17)/(C16*C18) -> 1.1203704
B18: D10 | C18: 0.18

Sheet Proctor
H2: STANDARD PROCTOR TEST
B4: Height of mould, H (cm) | C4: 12.5
B5: Diameter of Mould, D (cm) | C5: 10
B8: Observation Table
B10: Sample No. | C10: 1 | D10: 2 | E10: 3 | F10: 4 | G10: 5 | H10: 6
B11: Mass of mould, W1 (g) | C11: 3822 | D11: 3822 | E11: 3822 | F11: 3822 | G11: 3822 | H11: 3822
B12: Mass of mould + Compacted Soil, W2 (g) | C12: 5539 | D12: 5605 | E12: 5680 | F12: 5780 | G12: 5786 | H12: 5844
B13: Mass of compacted soil, W3 (g) | C13: =C12-C11 -> 1717 | D13: =D12-D11 -> 1783 | E13: =E12-E11 -> 1858 | F13: =F12-F11 -> 1958 | G13: =G12-G11 -> 1964 | H13: 1970
B14: Volume of mould, V (cc) | C14: =3.14/4*$C$5*$C$5*$C$4 -> 981.25 | D14: =3.14/4*$C$5*$C$5*$C$4 -> 981.25 | E14: =3.14/4*$C$5*$C$5*$C$4 -> 981.25 | F14: =3.14/4*$C$5*$C$5*$C$4 -> 981.25 | G14: =3.14/4*$C$5*$C$5*$C$4 -> 981.25 | H14: =3.14/4*$C$5*$C$5*$C$4 -> 981.25
B15: Bulk density, Ƴb (g/cc) | C15: =C13/C14 -> 1.7498089 | D15: =D13/D14 -> 1.8170701 | E15: =E13/E14 -> 1.8935032 | F15: =F13/F14 -> 1.995414 | G15: =G13/G14 -> 2.0015287 | H15: =H13/H14 -> 2.0076433
B16: Dry density, Ƴd (g/cc) | C16: =C15/(1+(C25/100)) -> 1.687995 | D16: =D15/(1+(D25/100)) -> 1.7035032 | E16: =E15/(1+(E25/100)) -> 1.7294763 | F16: =F15/(1+(F25/100)) -> 1.7790438 | G16: =G15/(1+(G25/100)) -> 1.7291046 | H16: =H15/(1+(H25/100)) -> 1.717841
B18: Water Content
B20: Mass of Empty container, W4 (gm) | C20: 80 | D20: 76 | E20: 83.1 | F20: 38.1 | G20: 77.4 | H20: 52.5
B21: Mass of Empty container + Wet Soil, W5 (gm) | C21: 153.6 | D21: 141.6 | E21: 148.9 | F21: 121.1 | G21: 166.3 | H21: 157.8
B22: Mass of Empty container + Dry Soil, W6 (gm) | C22: 151 | D22: 137.5 | E22: 143.2 | F22: 112.1 | G22: 154.2 | H22: 142.6
B23: Mass of Water, W7 (gm) | C23: =C21-C22 -> 2.6 | D23: =D21-D22 -> 4.1 | E23: =E21-E22 -> 5.7 | F23: =F21-F22 -> 9 | G23: =G21-G22 -> 12.1 | H23: =H21-H22 -> 15.2
B24: Mass of Dry Soil, W8 (gm) | C24: =C22-C20 -> 71 | D24: =D22-D20 -> 61.5 | E24: =E22-E20 -> 60.1 | F24: =F22-F20 -> 74 | G24: =G22-G20 -> 76.8 | H24: =H22-H20 -> 90.1
B25: Water Content, %W | C25: =(C23/C24)*100 -> 3.6619718 | D25: =(D23/D24)*100 -> 6.6666667 | E25: =(E23/E24)*100 -> 9.484193 | F25: =(F23/F24)*100 -> 12.162162 | G25: =(G23/G24)*100 -> 15.755208 | H25: =(H23/H24)*100 -> 16.870144

Sheet J DST
B2: AT OMC-3%
B5: Observation Table
B6: Mould size
B7: Length of specimen, L | D7: 6 | E7: cm
B8: Width of specimen, B | D8: 6 | E8: cm
B9: Thickness of specimen | D9: 2 | E9: cm
B10: Unit Weight of sample remoulded sample, ϒ | D10: 2.015 | E10: g/cc
B11: Proving Ring Constant | D11: 0.254 | E11: kg/div
B12: Rate of Strain | D12: 0.25 | E12: mm/min
B13: L.C of Dial Guage | D13: 0.001 | E13: cm
B14: Volume of mould | D14: =(D7*D8*D9) -> 72 | E14: cm3
B15: Mass of soil sample required | D15: =(D10*D14) -> 145.08 | E15: gm
B17: DIAL GAUGE READING | C17: DISPLACEMENT (cm) | D17: CHANGE IN LENGTH (cm) | E17: AREA (cm2) | F17: 0.5 kg/cm2 | I17: 1.0 kg/cm2 | L17: 1.5kg/cm2
F18: PROVING RING READING | G18: SHEAR LOAD | H18: SHEAR STRESS (kg/cm2) | I18: PROVING RING READING | J18: SHEAR LOAD | K18: SHEAR STRESS (kg/cm2) | L18: PROVING RING READING | M18: SHEAR LOAD | N18: SHEAR STRESS (kg/cm2)
B19: 50 | C19: 0.05 | D19: =6-C19 -> 5.95 | E19: =D19*6 -> 35.7 | F19: 68 | G19: =F19*$D$11 -> 17.272 | H19: =G19/E19 -> 0.48380952 | I19: 74 | J19: =I19*$D$11 -> 18.796 | K19: =J19/E19 -> 0.5264986 | L19: 55 | M19: =L19*$D$11 -> 13.97 | N19: =M19/E19 -> 0.39131653
B20: 100 | C20: 0.1 | D20: =6-C20 -> 5.9 | E20: =D20*6 -> 35.4 | F20: 88 | G20: =F20*$D$11 -> 22.352 | H20: =G20/E20 -> 0.63141243 | I20: 101 | J20: =I20*$D$11 -> 25.654 | K20: =J20/E20 -> 0.72468927 | L20: 80 | M20: =L20*$D$11 -> 20.32 | N20: =M20/E20 -> 0.5740113
B21: 150 | C21: 0.15 | D21: =6-C21 -> 5.85 | E21: =D21*6 -> 35.1 | F21: 101 | G21: =F21*$D$11 -> 25.654 | H21: =G21/E21 -> 0.73088319 | I21: 113 | J21: =I21*$D$11 -> 28.702 | K21: =J21/E21 -> 0.8177208 | L21: 105 | M21: =L21*$D$11 -> 26.67 | N21: =M21/E21 -> 0.75982906
B22: 200 | C22: 0.2 | D22: =6-C22 -> 5.8 | E22: =D22*6 -> 34.8 | F22: 111 | G22: =F22*$D$11 -> 28.194 | H22: =G22/E22 -> 0.81017241 | I22: 121 | J22: =I22*$D$11 -> 30.734 | K22: =J22/E22 -> 0.88316092 | L22: 120 | M22: =L22*$D$11 -> 30.48 | N22: =M22/E22 -> 0.87586207
B23: 250 | C23: 0.25 | D23: =6-C23 -> 5.75 | E23: =D23*6 -> 34.5 | F23: 117 | G23: =F23*$D$11 -> 29.718 | H23: =G23/E23 -> 0.8613913 | I23: 128 | J23: =I23*$D$11 -> 32.512 | K23: =J23/E23 -> 0.94237681 | L23: 136 | M23: =L23*$D$11 -> 34.544 | N23: =M23/E23 -> 1.0012754
B24: 300 | C24: 0.3 | D24: =6-C24 -> 5.7 | E24: =D24*6 -> 34.2 | F24: 119 | G24: =F24*$D$11 -> 30.226 | H24: =G24/E24 -> 0.88380117 | I24: 132 | J24: =I24*$D$11 -> 33.528 | K24: =J24/E24 -> 0.98035088 | L24: 145 | M24: =L24*$D$11 -> 36.83 | N24: =M24/E24 -> 1.0769006
B25: 350 | C25: 0.35 | D25: =6-C25 -> 5.65 | E25: =D25*6 -> 33.9 | F25: 119 | G25: =F25*$D$11 -> 30.226 | H25: =G25/E25 -> 0.89162242 | I25: 135 | J25: =I25*$D$11 -> 34.29 | K25: =J25/E25 -> 1.0115044 | L25: 158 | M25: =L25*$D$11 -> 40.132 | N25: =M25/E25 -> 1.1838348
B26: 400 | C26: 0.4 | D26: =6-C26 -> 5.6 | E26: =D26*6 -> 33.6 | F26: 119 | G26: =F26*$D$11 -> 30.226 | H26: =G26/E26 -> 0.89958333 | I26: 137 | J26: =I26*$D$11 -> 34.798 | K26: =J26/E26 -> 1.0356548 | L26: 168 | M26: =L26*$D$11 -> 42.672 | N26: =M26/E26 -> 1.27
B27: 450 | C27: 0.45 | D27: =6-C27 -> 5.55 | E27: =D27*6 -> 33.3 | F27: - | G27: - | H27: - | I27: 137 | J27: =I27*$D$11 -> 34.798 | K27: =J27/E27 -> 1.044985 | L27: 175 | M27: =L27*$D$11 -> 44.45 | N27: =M27/E27 -> 1.3348348
B28: 500 | C28: 0.5 | D28: =6-C28 -> 5.5 | E28: =D28*6 -> 33 | F28: - | G28: - | H28: - | I28: 137 | J28: =I28*$D$11 -> 34.798 | K28: =J28/E28 -> 1.0544848 | L28: 180 | M28: =L28*$D$11 -> 45.72 | N28: =M28/E28 -> 1.3854545
B29: 550 | C29: 0.55 | D29: =6-C29 -> 5.45 | E29: =D29*6 -> 32.7 | F29: - | G29: - | H29: - | I29: - | J29: - | K29: - | L29: 182 | M29: =L29*$D$11 -> 46.228 | N29: =M29/E29 -> 1.4137003
B30: 600 | C30: 0.6 | D30: =6-C30 -> 5.4 | E30: =D30*6 -> 32.4 | F30: - | G30: - | H30: - | I30: - | J30: - | K30: - | L30: 182 | M30: =L30*$D$11 -> 46.228 | N30: =M30/E30 -> 1.4267901
B31: 650 | C31: 0.65 | D31: =6-C31 -> 5.35 | E31: =D31*6 -> 32.1 | F31: - | G31: - | H31: - | I31: - | J31: - | K31: - | L31: 182 | M31: =L31*$D$11 -> 46.228 | N31: =M31/E31 -> 1.4401246
G32: τ = | H32: =MAX(H19:H31) -> 0.89958333 | J32: τ = | K32: =MAX(K19:K28) -> 1.0544848 | M32: τ = | N32: =MAX(N19:N31) -> 1.4401246
C35: σ | D35: τ | F35: slope | G35: 0.5405
F36: phi | G36: =DEGREES((ATAN(G35))) -> 28.391222
C37: 0.5 | D37: =H32 -> 0.89958333 | F37: Cu | G37: 0.5909 | H37: kN/m2
C38: 1 | D38: =K32 -> 1.0544848
C39: 1.5 | D39: =N32 -> 1.4401246
B42: AT OMC
B45: Observation Table
B46: Mould size
B47: Length of specimen, L | D47: 6 | E47: cm
B48: Width of specimen, B | D48: 6 | E48: cm
B49: Thickness of specimen | D49: 2 | E49: cm
B50: Unit Weight of sample remoulded sample, ϒ | D50: 2.015 | E50: g/cc
...

Sheet J CBR
C2: proving ring constant | F2: 0.254
C3: load at 2.5 mm | F3: 1370 | G3: Kg
C4: load at 5mm | F4: 2055 | G4: Kg
C6: Unsoaked Condition (50%SAND+50%FINES)
C7: Dial Guige (mm) | D7: P.R.R. AT OMC-3% | E7: Load(kg) | F7: P.R.R. AT OMC | G7: Load(kg) | H7: P.R.R. AT OMC+3% | I7: Load(kg)
C8: 0 | D8: 0 | E8: =D8*$F$2 -> 0 | F8: 0 | G8: =F8*$F$2 -> 0
C9: 0.5 | D9: 57 | E9: =D9*$F$2 -> 14.478 | F9: 33 | G9: =F9*$F$2 -> 8.382
C10: 1 | D10: 119 | E10: =D10*$F$2 -> 30.226 | F10: 52 | G10: =F10*$F$2 -> 13.208
C11: 1.5 | D11: 185 | E11: =D11*$F$2 -> 46.99 | F11: 70 | G11: =F11*$F$2 -> 17.78
C12: 2 | D12: 250 | E12: =D12*$F$2 -> 63.5 | F12: 88 | G12: =F12*$F$2 -> 22.352
C13: 2.5 | D13: 329 | E13: =D13*$F$2 -> 83.566 | F13: 107 | G13: =F13*$F$2 -> 27.178
C14: 3 | D14: 408 | E14: =D14*$F$2 -> 103.632 | F14: 124 | G14: =F14*$F$2 -> 31.496 | K14: 2.5 | L14: =(E13/1370)*100 -> 6.099708
C15: 3.5 | D15: 482 | E15: =D15*$F$2 -> 122.428 | F15: 141 | G15: =F15*$F$2 -> 35.814 | K15: 5
C16: 4 | D16: 555 | E16: =D16*$F$2 -> 140.97 | F16: 158 | G16: =F16*$F$2 -> 40.132
C17: 4.5 | D17: 621 | E17: =D17*$F$2 -> 157.734 | F17: 172 | G17: =F17*$F$2 -> 43.688
C18: 5 | D18: 684 | E18: =D18*$F$2 -> 173.736 | F18: 189 | G18: =F18*$F$2 -> 48.006
C19: 5.5 | D19: 742 | E19: =D19*$F$2 -> 188.468 | F19: 204 | G19: =F19*$F$2 -> 51.816
C20: 6 | D20: 805 | E20: =D20*$F$2 -> 204.47 | F20: 220 | G20: =F20*$F$2 -> 55.88
C22: %CBR
C23: 2.5mm | E23: =(E13/F3)*100 -> 6.099708 | G23: =(G13/F3)*100 -> 1.9837956 | I23: =(I13/F3)*100 -> 0
C24: 5.0mm | E24: =(E18/F4)*100 -> 8.4543066 | G24: =(G18/F4)*100 -> 2.3360584 | I24: =(I18/F4)*100 -> 0
C26: Unsoaked Condition (65%SAND+35%FINES)
C27: Dial Guige (mm) | D27: P.R.R. AT OMC-3% | E27: Load(kg) | F27: P.R.R. AT OMC | G27: Load(kg) | H27: P.R.R. AT OMC+3% | I27: Load(kg)
C28: 0 | D28: 0 | E28: =D28*$F$2 -> 0 | F28: 0 | G28: =F28*$F$2 -> 0 | H28: 0 | I28: =H28*$F$2 -> 0
C29: 0.5 | D29: 0.8 | E29: =D29*$F$2 -> 0.2032 | F29: 0.3 | G29: =F29*$F$2 -> 0.0762 | H29: 0.2 | I29: =H29*$F$2 -> 0.0508
C30: 1 | D30: 1.5 | E30: =D30*$F$2 -> 0.381 | F30: 1 | G30: =F30*$F$2 -> 0.254 | H30: 0.4 | I30: =H30*$F$2 -> 0.1016
C31: 1.5 | D31: 2.4 | E31: =D31*$F$2 -> 0.6096 | F31: 1.9 | G31: =F31*$F$2 -> 0.4826 | H31: 0.8 | I31: =H31*$F$2 -> 0.2032
C32: 2 | D32: 3.2 | E32: =D32*$F$2 -> 0.8128 | F32: 2.6 | G32: =F32*$F$2 -> 0.6604 | H32: 1.3 | I32: =H32*$F$2 -> 0.3302
C33: 2.5 | D33: 3.8 | E33: =D33*$F$2 -> 0.9652 | F33: 3 | G33: =F33*$F$2 -> 0.762 | H33: 1.7 | I33: =H33*$F$2 -> 0.4318
C34: 3 | D34: 3.9 | E34: =D34*$F$2 -> 0.9906 | F34: 3.3 | G34: =F34*$F$2 -> 0.8382 | H34: 2.2 | I34: =H34*$F$2 -> 0.5588
C35: 3.5 | D35: 4.1 | E35: =D35*$F$2 -> 1.0414 | F35: 3.8 | G35: =F35*$F$2 -> 0.9652 | H35: 2.65 | I35: =H35*$F$2 -> 0.6731
C36: 4 | D36: 4.2 | E36: =D36*$F$2 -> 1.0668 | F36: 3.7 | G36: =F36*$F$2 -> 0.9398 | H36: 2.95 | I36: =H36*$F$2 -> 0.7493
C37: 4.5 | D37: 4 | E37: =D37*$F$2 -> 1.016 | F37: 3.5 | G37: =F37*$F$2 -> 0.889 | H37: 3.1 | I37: =H37*$F$2 -> 0.7874
C38: 5 | D38: 3.9 | E38: =D38*$F$2 -> 0.9906 | F38: 3.3 | G38: =F38*$F$2 -> 0.8382 | H38: 3.2 | I38: =H38*$F$2 -> 0.8128
C39: 5.5 | D39: 3.8 | E39: =D39*$F$2 -> 0.9652 | F39: 3 | G39: =F39*$F$2 -> 0.762 | H39: 3.3 | I39: =H39*$F$2 -> 0.8382
C40: 6 | D40: 3.6 | E40: =D40*$F$2 -> 0.9144 | F40: 2.9 | G40: =F40*$F$2 -> 0.7366 | H40: 3.3 | I40: =H40*$F$2 -> 0.8382
C43: %CBR
C44: 2.5mm | D44: =(E33/F3)*100 -> 0.070452555
C45: 5.0mm | D45: =(E38/F4)*100 -> 0.04820438

Sheet Trial sheet
K2: DIRECT SHEAR TEST
D4: 0.35
C7: Observation Table
C8: Mould size
C9: Length of specimen, L | E9: 6 | F9: cm
C10: Width of specimen, B | E10: 6 | F10: cm
C11: Thickness of specimen | E11: 2 | F11: cm
C12: Unit Weight of sample remoulded sample, ϒ | E12: 1.72 | F12: g/cc
C13: Proving Ring Constant | E13: 0.254 | F13: kg/div
C14: Rate of Strain | E14: 1.25 | F14: mm/min
C15: L.C of Dial Guage | E15: 0.001 | F15: cm
C16: Volume of mould | E16: =(E9*E10*E11) -> 72 | F16: cm3
C17: Mass of soil sample required | E17: =(E12*E16) -> 123.84 | F17: gm
C20: DIAL GAUGE READING | D20: DISPLACEMENT (mm) | E20: CHANGE IN LENGTH (mm) | F20: AREA (mm2) | G20: 0.65 kg/cm2 | J20: 1.15 kg/cm2 | M20: 1.65kg/cm2
G21: PROVING RING READING | H21: SHEAR LOAD | I21: SHEAR STRESS (kg/cm2) | J21: PROVING RING READING | K21: SHEAR LOAD | L21: SHEAR STRESS (kg/cm2) | M21: PROVING RING READING | N21: SHEAR LOAD | O21: SHEAR STRESS (kg/cm2)
C22: 0 | D22: 0 | E22: =($E$9-D22) -> 6 | F22: =E22*$E$9 -> 36 | G22: 0 | H22: =G22*$E$13 -> 0 | I22: =H22/F22 -> 0 | J22: 0 | K22: =J22*$E$13 -> 0 | L22: =K22/F22 -> 0 | M22: 0 | N22: =M22*$E$13 -> 0 | O22: =N22/F22 -> 0
C23: 50 | D23: 0.05 | E23: =($E$9-D23) -> 5.95 | F23: =$E$9*E23 -> 35.7 | G23: 64 | H23: =G23*$E$13 -> 16.256 | I23: =H23/F23 -> 0.45535014 | J23: 97 | K23: =J23*$E$13 -> 24.638 | L23: =K23/F23 -> 0.69014006 | M23: 119 | N23: =M23*$E$13 -> 30.226 | O23: =N23/F23 -> 0.84666667
C24: 100 | D24: 0.1 | E24: =($E$9-D24) -> 5.9 | F24: =$E$9*E24 -> 35.4 | G24: 87 | H24: =G24*$E$13 -> 22.098 | I24: =H24/F24 -> 0.62423729 | J24: 124 | K24: =J24*$E$13 -> 31.496 | L24: =K24/F24 -> 0.88971751 | M24: 143 | N24: =M24*$E$13 -> 36.322 | O24: =N24/F24 -> 1.0260452
C25: 150 | D25: 0.15 | E25: =($E$9-D25) -> 5.85 | F25: =$E$9*E25 -> 35.1 | G25: 99 | H25: =G25*$E$13 -> 25.146 | I25: =H25/F25 -> 0.71641026 | J25: 144 | K25: =J25*$E$13 -> 36.576 | L25: =K25/F25 -> 1.0420513 | M25: 161 | N25: =M25*$E$13 -> 40.894 | O25: =N25/F25 -> 1.1650712
C26: 200 | D26: 0.2 | E26: =($E$9-D26) -> 5.8 | F26: =$E$9*E26 -> 34.8 | G26: 106 | H26: =G26*$E$13 -> 26.924 | I26: =H26/F26 -> 0.77367816 | J26: 157 | K26: =J26*$E$13 -> 39.878 | L26: =K26/F26 -> 1.1459195 | M26: 173 | N26: =M26*$E$13 -> 43.942 | O26: =N26/F26 -> 1.2627011
C27: 250 | D27: 0.25 | E27: =($E$9-D27) -> 5.75 | F27: =$E$9*E27 -> 34.5 | G27: 108 | H27: =G27*$E$13 -> 27.432 | I27: =H27/F27 -> 0.79513043 | J27: 162 | K27: =J27*$E$13 -> 41.148 | L27: =K27/F27 -> 1.1926957 | M27: 187 | N27: =M27*$E$13 -> 47.498 | O27: =N27/F27 -> 1.3767536
C28: 300 | D28: 0.3 | E28: =($E$9-D28) -> 5.7 | F28: =$E$9*E28 -> 34.2 | G28: 104 | H28: =G28*$E$13 -> 26.416 | I28: =H28/F28 -> 0.77239766 | J28: 163 | K28: =J28*$E$13 -> 41.402 | L28: =K28/F28 -> 1.2105848 | M28: 195 | N28: =M28*$E$13 -> 49.53 | O28: =N28/F28 -> 1.4482456
C29: 350 | D29: 0.35 | E29: =($E$9-D29) -> 5.65 | F29: =$E$9*E29 -> 33.9 | G29: 94 | H29: =G29*$E$13 -> 23.876 | I29: =H29/F29 -> 0.70430678 | J29: 160 | K29: =J29*$E$13 -> 40.64 | L29: =K29/F29 -> 1.1988201 | M29: 198 | N29: =M29*$E$13 -> 50.292 | O29: =N29/F29 -> 1.4835398
C30: 400 | D30: 0.4 | E30: =($E$9-D30) -> 5.6 | F30: =$E$9*E30 -> 33.6 | J30: 154 | K30: =J30*$E$13 -> 39.116 | L30: =K30/F30 -> 1.1641667 | M30: 189 | N30: =M30*$E$13 -> 48.006 | O30: =N30/F30 -> 1.42875
C31: 450 | D31: 0.45 | E31: =($E$9-D31) -> 5.55 | F31: =$E$9*E31 -> 33.3 | M31: 177 | N31: =M31*$E$13 -> 44.958 | O31: =N31/F31 -> 1.3500901
H32: τ = | I32: =MAX(I22:I31) -> 0.79513043 | K32: τ = | L32: =MAX(L22:L31) -> 1.2105848 | N32: τ = | O32: =MAX(O22:O31) -> 1.4835398
C35: σ | D35: τ
C36: 0 | D36: 0 | F36: slope | G36: 0.9031
C37: 0.65 | D37: =I32 -> 0.79513043 | F37: phi | G37: =DEGREES((ATAN(G36))) -> 42.085192
C38: 1.15 | D38: =L32 -> 1.2105848
C39: 1.65 | D39: =O32 -> 1.4835398
E44: 0.6
C46: Observation Table
C47: Mould size
C48: Length of specimen, L | E48: 6 | F48: cm
C49: Width of specimen, B | E49: 6 | F49: cm
C50: Thickness of specimen | E50: 2 | F50: cm
C51: Unit Weight of sample remoulded sample, ϒ | E51: 1.72 | F51: g/cc
C52: Proving Ring Constant | E52: 0.254 | F52: kg/div
C53: Rate of Strain | E53: 0.25 | F53: mm/min
...

Sheet SG
E2: SPECIFIC GRAVITY TEST
B6: Sr No. | C6: Description | D6: 1
B8: 1 | C8: Weight of pycnometer (W1 gm) | D8: 672 | E8: 672
B9: 2 | C9: Weight of pycnometer + dry sand (W2 gm) | D9: 872 | E9: 872
B10: 3 | C10: Weight of pycnometer + sand + water (W3 gm) | D10: 1682 | E10: 1683
B11: 4 | C11: Weight of pycnometer + water (W4 gm) | D11: 1558 | E11: 1560
B12: 5 | C12: Specific gravity G | D12: =(D9-D8)/((D11-D8)-(D10-D9)) -> 2.6315789 | E12: =(E9-E8)/((E11-E8)-(E10-E9)) -> 2.5974026

Sheet Sieve Analysis
A1: B | I1: SIEVE ANALYSIS
A3: Sieve Dia. (mm) | B3: Retained on each Sieve (gm) | C3: % Retain | D3: Cum %Retain | E3: Cum %Passing (N)
A4: 4.75 | B4: 39.6 | C4: =(B4/B$13)*100 -> 9.9 | D4: =C$4 -> 9.9 | E4: =100-D4 -> 90.1
A5: 2.36 | B5: 25.4 | C5: =(B5/B$13)*100 -> 6.35 | D5: =D4+C5 -> 16.25 | E5: =100-D5 -> 83.75 | F5: =B4+B5 -> 65 | G5: =F5/4 -> 16.25
A6: 1.18 | B6: 124.6 | C6: =(B6/B$13)*100 -> 31.15 | D6: =D5+C6 -> 47.4 | E6: =100-D6 -> 52.6
A7: 0.6 | B7: 112.8 | C7: =(B7/B$13)*100 -> 28.2 | D7: =D6+C7 -> 75.6 | E7: =100-D7 -> 24.4
A8: 0.425 | B8: 69.3 | C8: =(B8/B$13)*100 -> 17.325 | D8: =D7+C8 -> 92.925 | E8: =100-D8 -> 7.075 | F8: =B6+B7+B8 -> 306.7 | G8: =F8/4 -> 76.675
A9: 0.3 | B9: 22.9 | C9: =(B9/B$13)*100 -> 5.725 | D9: =D8+C9 -> 98.65 | E9: =100-D9 -> 1.35
A10: 0.15 | B10: 3.4 | C10: =(B10/B$13)*100 -> 0.85 | D10: =D9+C10 -> 99.5 | E10: =100-D10 -> 0.5
A11: 0.075 | B11: 1.5 | C11: =(B11/B$13)*100 -> 0.375 | D11: =D10+C11 -> 99.875 | E11: =100-D11 -> 0.125 | F11: =B9+B10+B11 -> 27.8 | G11: =F11/4 -> 6.95
A12: Receiver | B12: 0.5 | C12: =(B12/B$13)*100 -> 0.125 | D12: =D11+C12 -> 100 | E12: =100-D12 -> 0 | F12: =B12 -> 0.5 | G12: =F12/4 -> 0.125
A13: Total | B13: =SUM(B4:B12) -> 400 | F13: =F5+F8+F11+F12 -> 400
B16: D60 | C16: 1.4 | E16: Cu | F16: =C16/C18 -> 3.0434783
B17: D30 | C17: 0.7 | E17: Cc | F17: =(C17*C17)/(C16*C18) -> 0.76086957
B18: D10 | C18: 0.46
F19: add. Coarse | G19: 0.27
F20: bodeli | G20: 2.25
F21: add. Fine | G21: 0.48
F22: total | G22: =G19+G20+G21 -> 3

Sheet Relative Density
F1: RELATIVE DENSITY TEST
B2: Relative Density Test
B3: Mould Dimension
B4: Diameter, D | C4: cm | D4: 15
B5: Height, H | C5: cm | D5: 16.5
B6: Empty Mould weight, W1 | C6: gm | D6: 10947
B7: Initial Sample State
B8: (Mould + Sample) weight, W2 | C8: gm | D8: 15414
B9: Weights of sample, W3 | C9: gm | D9: =D8-D6 -> 4467
B10: Initial Height, H1 | C10: cm | D10: =D5 -> 16.5
B11: Volume of Sample, V1 | C11: cm3 | D11: =(3.14/4)*D4*D4*D10 -> 2914.3125 | G11: Yd(60%) = | H11: 1.72 | I11: gm/cc | K11: weight of sand | L11: Kg
B12: MINIMUM DENSITY, Ƴmin | C12: gm/cm3 | D12: =D9/D11 -> 1.53278 | K12: 0.3 m
B13: Final Sample State | K13: 0.5 m | L13: =(H11*120*120*50)/1000 -> 1238.4
B14: (Mould + Sample) weight, W4 | C14: gm | D14: 15414 | K14: 0.8 m
B15: Weights of sample, W5 | C15: gm | D15: =D14-D6 -> 4467 | G15: for 5cm layer | H15: =L13/10 -> 123.84 | I15: Kg
B16: Change in Height, h | C16: cm | D16: 3.1 | G16: for 10cm layer | H16: =H15*2 -> 247.68 | I16: Kg
B17: Final Height, H2 | C17: cm | D17: =D5-D16 -> 13.4 | G17: for 15cm layer | H17: =H15*3 -> 371.52 | I17: Kg
B18: Volume of Sample, V2 | C18: cm3 | D18: =(3.14/4)*D4*D4*D17 -> 2366.775
B19: MAXIMUM DENSITY, Ƴmax | C19: gm/cm3 | D19: =D15/D18 -> 1.8873784

Sheet  P DST
K2: DIRECT SHEAR TEST
C7: 35% Rd
C11: Observation Table
C12: Mould size
C13: Length of specimen, L | E13: 6 | F13: cm
C14: Width of specimen, B | E14: 6 | F14: cm
C15: Thickness of specimen | E15: 2 | F15: cm
C16: Unit Weight of sample remoulded sample, ϒ | E16: 1.639 | F16: g/cc
C17: Proving Ring Constant | E17: 0.254 | F17: kg/div
C18: Rate of Strain | E18: 0.125 | F18: mm/min
C19: L.C of Dial Guage | E19: 0.001 | F19: cm
C20: Volume of mould | E20: =(E13*E14*E15) -> 72 | F20: cm3
C21: Mass of soil sample required | E21: =(E16*E20) -> 118.008 | F21: gm
C23: DIAL GAUGE READING | D23: DISPLACEMENT (cm) | E23: CHANGE IN LENGTH (cm) | F23: AREA (cm2) | G23: 0.65 kg/cm2 | J23: 1.15 kg/cm2 | M23: 1.65kg/cm2
G24: PROVING RING READING | H24: SHEAR LOAD | I24: SHEAR STRESS (kg/cm2) | J24: PROVING RING READING | K24: SHEAR LOAD | L24: SHEAR STRESS (kg/cm2) | M24: PROVING RING READING | N24: SHEAR LOAD | O24: SHEAR STRESS (kg/cm2)
C25: 0 | D25: 0 | E25: =($E$13-D25) -> 6 | F25: =E25*$E$13 -> 36 | G25: 0 | H25: =G25*$E$17 -> 0 | I25: =H25/F25 -> 0 | J25: 0 | K25: =J25*$E$17 -> 0 | L25: =K25/F25 -> 0 | M25: 0 | N25: =M25*$E$17 -> 0 | O25: =N25/F25 -> 0
C26: 50 | D26: 0.05 | E26: =($E$13-D26) -> 5.95 | F26: =E26*$E$13 -> 35.7 | G26: 38 | H26: =G26*$E$17 -> 9.652 | I26: =H26/F26 -> 0.27036415 | J26: 44 | K26: =J26*$E$17 -> 11.176 | L26: =K26/F26 -> 0.31305322 | M26: 53 | N26: =M26*$E$17 -> 13.462 | O26: =N26/F26 -> 0.37708683
C27: 100 | D27: 0.1 | E27: =($E$13-D27) -> 5.9 | F27: =E27*$E$13 -> 35.4 | G27: 53 | H27: =G27*$E$17 -> 13.462 | I27: =H27/F27 -> 0.38028249 | J27: 65 | K27: =J27*$E$17 -> 16.51 | L27: =K27/F27 -> 0.46638418 | M27: 79 | N27: =M27*$E$17 -> 20.066 | O27: =N27/F27 -> 0.56683616
C28: 150 | D28: 0.15 | E28: =($E$13-D28) -> 5.85 | F28: =E28*$E$13 -> 35.1 | G28: 65 | H28: =G28*$E$17 -> 16.51 | I28: =H28/F28 -> 0.47037037 | J28: 81 | K28: =J28*$E$17 -> 20.574 | L28: =K28/F28 -> 0.58615385 | M28: 104 | N28: =M28*$E$17 -> 26.416 | O28: =N28/F28 -> 0.75259259
C29: 200 | D29: 0.2 | E29: =($E$13-D29) -> 5.8 | F29: =E29*$E$13 -> 34.8 | G29: 78 | H29: =G29*$E$17 -> 19.812 | I29: =H29/F29 -> 0.56931034 | J29: 95 | K29: =J29*$E$17 -> 24.13 | L29: =K29/F29 -> 0.6933908 | M29: 121 | N29: =M29*$E$17 -> 30.734 | O29: =N29/F29 -> 0.88316092
C30: 250 | D30: 0.25 | E30: =($E$13-D30) -> 5.75 | F30: =E30*$E$13 -> 34.5 | G30: 80 | H30: =G30*$E$17 -> 20.32 | I30: =H30/F30 -> 0.58898551 | J30: 107 | K30: =J30*$E$17 -> 27.178 | L30: =K30/F30 -> 0.78776812 | M30: 135 | N30: =M30*$E$17 -> 34.29 | O30: =N30/F30 -> 0.99391304
C31: 300 | D31: 0.3 | E31: =($E$13-D31) -> 5.7 | F31: =E31*$E$13 -> 34.2 | G31: 73 | H31: =G31*$E$17 -> 18.542 | I31: =H31/F31 -> 0.54216374 | J31: 111 | K31: =J31*$E$17 -> 28.194 | L31: =K31/F31 -> 0.82438596 | M31: 147 | N31: =M31*$E$17 -> 37.338 | O31: =N31/F31 -> 1.0917544
C32: 350 | D32: 0.35 | E32: =($E$13-D32) -> 5.65 | F32: =E32*$E$13 -> 33.9 | J32: 109 | K32: =J32*$E$17 -> 27.686 | L32: =K32/F32 -> 0.81669617 | M32: 153 | N32: =M32*$E$17 -> 38.862 | O32: =N32/F32 -> 1.1463717
C33: 400 | D33: 0.4 | E33: =($E$13-D33) -> 5.6 | F33: =E33*$E$13 -> 33.6 | J33: 97 | K33: =J33*$E$17 -> 24.638 | L33: =K33/F33 -> 0.73327381 | M33: 151 | N33: =M33*$E$17 -> 38.354 | O33: =N33/F33 -> 1.1414881
C34: 450 | D34: 0.45 | E34: =($E$13-D34) -> 5.55 | F34: =E34*$E$13 -> 33.3 | M34: 144 | N34: =M34*$E$17 -> 36.576 | O34: =N34/F34 -> 1.0983784
H35: τ = | I35: =MAX(I25:I34) -> 0.58898551 | K35: τ = | L35: =MAX(L25:L34) -> 0.82438596 | N35: τ = | O35: =MAX(O25:O34) -> 1.1463717
C38: σ | D38: τ
C39: 0 | D39: 0 | F39: slope | G39: 0.6801
C40: 0.65 | D40: =I35 -> 0.58898551 | F40: phi | G40: =DEGREES((ATAN(G39))) -> 34.21962
C41: 1.15 | D41: =L35 -> 0.82438596
C42: 1.65 | D42: =O35 -> 1.1463717
C49: 60% Rd
C53: Observation Table
C54: Mould size
C55: Length of specimen, L | E55: 6 | F55: cm
C56: Width of specimen, B | E56: 6 | F56: cm
C57: Thickness of specimen | E57: 2 | F57: cm
C58: Unit Weight of sample remoulded sample, ϒ | E58: 1.72 | F58: g/cc
C59: Proving Ring Constant | E59: 0.254 | F59: kg/div
C60: Rate of Strain | E60: 0.125 | F60: mm/min
...

Sheet Pull-out(A)
K1: PULLOUT TEST (A)
C2: 60 | D2: %Rd
C3: Φ | D3: 42.09 | F3: m | G3: 0.4127
C4: Ƴ (kN/m3) | D4: 17.2 | F4: Ku | G4: 0.954
B9: SR. NO. | C9: Relative Density % Dr | D9: Plate Width, B (m) | E9: Plate Length, L (m) | F9: Dry Density, Ƴ kN/m3 | G9: Frictional Angle, Φ (deg) | H9: Embedment Depth, H (m) | I9: Embedment Ratio, (H/B) | J9: Type of Anchor S/D | K9: Breakout Factor, Nq | L9: Uplift Load, Qu (kN)
B10: 1 | C10: =$C$2 -> 60 | D10: 0.15 | E10: 0.15 | F10: =$D$4 -> 17.2 | G10: =$D$3 -> 42.09 | H10: 0.3 | I10: =H10/D10 -> 2 | J10: S | K10: =1+((1+2*$G$3*(H10/D10))*(D10/E10)+1)*(H10/D10)*$G$4*TAN(RADIANS(G10)) -> 7.2918088 | L10: =K10*F10*D10*E10*H10 -> 0.846579
B11: 2 | C11: =$C$2 -> 60 | D11: 0.15 | E11: 0.15 | F11: =$D$4 -> 17.2 | G11: =$D$3 -> 42.09 | H11: 0.5 | I11: =H11/D11 -> 3.3333333 | J11: S | K11: =1+((1+2*$G$3*(H11/D11))*(D11/E11)+1)*(H11/D11)*$G$4*TAN(RADIANS(G11)) -> 14.647457 | L11: =K11*F11*D11*E11*H11 -> 2.8342829 | AF11: Φ | AG11: m
B12: 3 | C12: =$C$2 -> 60 | D12: 0.15 | E12: 0.15 | F12: =$D$4 -> 17.2 | G12: =$D$3 -> 42.09 | H12: 0.8 | I12: =H12/D12 -> 5.3333333 | J12: S | K12: =1+((1+2*$G$3*(H12/D12))*(D12/E12)+1)*(H12/D12)*$G$4*TAN(RADIANS(G12)) -> 30.422591 | L12: =K12*F12*D12*E12*H12 -> 9.4188343 | AF12: 20 | AG12: 0.05
B13: 4 | C13: =$C$2 -> 60 | D13: 0.3 | E13: 0.3 | F13: =$D$4 -> 17.2 | G13: =$D$3 -> 42.09 | H13: 0.3 | I13: =H13/D13 -> 1 | J13: S | K13: =1+((1+2*$G$3*(H13/D13))*(D13/E13)+1)*(H13/D13)*$G$4*TAN(RADIANS(G13)) -> 3.434655 | L13: =K13*F13*D13*E13*H13 -> 1.5950538 | AF13: 25 | AG13: 0.1
B14: 5 | C14: =$C$2 -> 60 | D14: 0.3 | E14: 0.3 | F14: =$D$4 -> 17.2 | G14: =$D$3 -> 42.09 | H14: 0.5 | I14: =H14/D14 -> 1.6666667 | J14: S | K14: =1+((1+2*$G$3*(H14/D14))*(D14/E14)+1)*(H14/D14)*$G$4*TAN(RADIANS(G14)) -> 5.8480354 | L14: =K14*F14*D14*E14*H14 -> 4.5263794 | AF14: 30 | AG14: 0.15
B15: 6 | C15: =$C$2 -> 60 | D15: 0.3 | E15: 0.3 | F15: =$D$4 -> 17.2 | G15: =$D$3 -> 42.09 | H15: 0.8 | I15: =H15/D15 -> 2.6666667 | J15: S | K15: =1+((1+2*$G$3*(H15/D15))*(D15/E15)+1)*(H15/D15)*$G$4*TAN(RADIANS(G15)) -> 10.653522 | L15: =K15*F15*D15*E15*H15 -> 13.193321 | AF15: 35 | AG15: 0.25
AF16: 40 | AG16: 0.35
AF17: 45 | AG17: 0.5
AF18: 48 | AG18: 0.6
C19: 35 | D19: %Rd
C20: Φ (°) | D20: 34.22 | F20: m | G20: 0.2344
C21: Ƴ (kN/m3) | D21: 16.39 | F21: Ku | G21: 0.927
B26: SR. NO. | C26: Relative Density % Dr | D26: Plate Width, B (m) | E26: Plate Length, L (m) | F26: Dry Density, Ƴ kN/m3 | G26: Frictional Angle, Φ (deg) | H26: Embedment Depth, H (m) | I26: Embedment Ratio, (H/B) | J26: Type of Anchor S/D | K26: Breakout Factor, Nq | L26: Uplift Load, Qu (kN)
B27: 1 | C27: =$C$19 -> 35 | D27: 0.15 | E27: 0.15 | F27: =$D$21 -> 16.39 | G27: =$D$20 -> 34.22 | H27: 0.3 | I27: =H27/D27 -> 2 | J27: S | K27: =1+((1+2*$G$20*(H27/D27))*(D27/E27)+1)*(H27/D27)*$G$21*TAN(RADIANS(G27)) -> 4.7040885 | L27: =K27*F27*D27*E27*H27 -> 0.52042508
B28: 2 | C28: =$C$19 -> 35 | D28: 0.15 | E28: 0.15 | F28: =$D$21 -> 16.39 | G28: =$D$20 -> 34.22 | H28: 0.5 | I28: =H28/D28 -> 3.3333333 | J28: S | K28: =1+((1+2*$G$20*(H28/D28))*(D28/E28)+1)*(H28/D28)*$G$21*TAN(RADIANS(G28)) -> 8.4870829 | L28: =K28*F28*D28*E28*H28 -> 1.564912
B29: 3 | C29: =$C$19 -> 35 | D29: 0.15 | E29: 0.15 | F29: =$D$21 -> 16.39 | G29: =$D$20 -> 34.22 | H29: 0.8 | I29: =H29/D29 -> 5.3333333 | J29: S | K29: =1+((1+2*$G$20*(H29/D29))*(D29/E29)+1)*(H29/D29)*$G$21*TAN(RADIANS(G29)) -> 16.131977 | L29: =K29*F29*D29*E29*H29 -> 4.759256
B30: 4 | C30: =$C$19 -> 35 | D30: 0.3 | E30: 0.3 | F30: =$D$21 -> 16.39 | G30: =$D$20 -> 34.22 | H30: 0.3 | I30: =H30/D30 -> 1 | J30: S | K30: =1+((1+2*$G$20*(H30/D30))*(D30/E30)+1)*(H30/D30)*$G$21*TAN(RADIANS(G30)) -> 2.5564838 | L30: =K30*F30*D30*E30*H30 -> 1.1313208
B31: 5 | C31: =$C$19 -> 35 | D31: 0.3 | E31: 0.3 | F31: =$D$21 -> 16.39 | G31: =$D$20 -> 34.22 | H31: 0.5 | I31: =H31/D31 -> 1.6666667 | J31: S | K31: =1+((1+2*$G$20*(H31/D31))*(D31/E31)+1)*(H31/D31)*$G$21*TAN(RADIANS(G31)) -> 3.9225402 | L31: =K31*F31*D31*E31*H31 -> 2.8930695
B32: 6 | C32: =$C$19 -> 35 | D32: 0.3 | E32: 0.3 | F32: =$D$21 -> 16.39 | G32: =$D$20 -> 34.22 | H32: 0.8 | I32: =H32/D32 -> 2.6666667 | J32: S | K32: =1+((1+2*$G$20*(H32/D32))*(D32/E32)+1)*(H32/D32)*$G$21*TAN(RADIANS(G32)) -> 6.4642255 | L32: =K32*F32*D32*E32*H32 -> 7.6283032
C36: 80 | D36: %Rd
C37: Φ | D37: 45.62 | F37: m | G37: 0.512
C38: Ƴ (kN/m3) | D38: 18.05 | F38: Ku | G38: 0.96
B43: SR. NO. | C43: Relative Density % Dr | D43: Plate Width, B (m) | E43: Plate Length, L (m) | F43: Dry Density, Ƴ kN/m3 | G43: Frictional Angle, Φ (deg) | H43: Embedment Depth, H (m) | I43: Embedment Ratio, (H/B) | J43: Type of Anchor S/D | K43: Breakout Factor, Nq | L43: Uplift Load, Qu (kN)
B44: 1 | C44: 80 | D44: 0.15 | E44: 0.15 | F44: =$D$38 -> 18.05 | G44: =$D$37 -> 45.62 | H44: 0.3 | I44: =H44/D44 -> 2 | J44: S | K44: =1+((1+2*$G$37*(H44/D44))*(D44/E44)+1)*(H44/D44)*$G$38*TAN(RADIANS(G44)) -> 8.9422125 | L44: =K44*F44*D44*E44*H44 -> 1.0894968
B45: 2 | C45: 80 | D45: 0.15 | E45: 0.15 | F45: =$D$38 -> 18.05 | G45: =$D$37 -> 45.62 | H45: 0.5 | I45: =H45/D45 -> 3.3333333 | J45: S | K45: =1+((1+2*$G$37*(H45/D45))*(D45/E45)+1)*(H45/D45)*$G$38*TAN(RADIANS(G45)) -> 18.701681 | L45: =K45*F45*D45*E45*H45 -> 3.7976102
B46: 3 | C46: 80 | D46: 0.15 | E46: 0.15 | F46: =$D$38 -> 18.05 | G46: =$D$37 -> 45.62 | H46: 0.8 | I46: =H46/D46 -> 5.3333333 | J46: S | K46: =1+((1+2*$G$37*(H46/D46))*(D46/E46)+1)*(H46/D46)*$G$38*TAN(RADIANS(G46)) -> 40.037875 | L46: =K46*F46*D46*E46*H46 -> 13.008306
B47: 4 | C47: 80 | D47: 0.3 | E47: 0.3 | F47: =$D$38 -> 18.05 | G47: =$D$37 -> 45.62 | H47: 0.3 | I47: =H47/D47 -> 1 | J47: S | K47: =1+((1+2*$G$37*(H47/D47))*(D47/E47)+1)*(H47/D47)*$G$38*TAN(RADIANS(G47)) -> 3.9665576 | L47: =K47*F47*D47*E47*H47 -> 1.9331019
B48: 5 | C48: 80 | D48: 0.3 | E48: 0.3 | F48: =$D$38 -> 18.05 | G48: =$D$37 -> 45.62 | H48: 0.5 | I48: =H48/D48 -> 1.6666667 | J48: S | K48: =1+((1+2*$G$37*(H48/D48))*(D48/E48)+1)*(H48/D48)*$G$38*TAN(RADIANS(G48)) -> 7.0604279 | L48: =K48*F48*D48*E48*H48 -> 5.7348325
B49: 6 | C49: 80 | D49: 0.3 | E49: 0.3 | F49: =$D$38 -> 18.05 | G49: =$D$37 -> 45.62 | H49: 0.8 | I49: =H49/D49 -> 2.6666667 | J49: S | K49: =1+((1+2*$G$37*(H49/D49))*(D49/E49)+1)*(H49/D49)*$G$38*TAN(RADIANS(G49)) -> 13.375481 | L49: =K49*F49*D49*E49*H49 -> 17.382775

Sheet Pull-out(E)
E1: PULLOUT TEST (E)
B5: PLATE SIZE | D5: 0.3 * 0.3 | E5: m2 | H5: PLATE SIZE | J5: 0.3 * 0.3 | K5: m2 | N5: PLATE SIZE | P5: 0.3 * 0.3 | Q5: m2 | T5: PLATE SIZE | V5: 0.15 * 0.15 | W5: m2 | Z5: PLATE SIZE | AB5: 0.15 * 0.15 | AC5: m2 | AF5: PLATE SIZE | AH5: 0.15 * 0.15 | AI5: m2
B6: RELATIVE DENSITY | D6: 35 | E6: % | H6: RELATIVE DENSITY | J6: 35 | K6: % | N6: RELATIVE DENSITY | P6: 35 | Q6: % | T6: RELATIVE DENSITY | V6: 35 | W6: % | Z6: RELATIVE DENSITY | AB6: 35 | AC6: % | AF6: RELATIVE DENSITY | AH6: 35 | AI6: %
B7: EMBEDMENT DEPTH | D7: 0.3 | E7: m | H7: EMBEDMENT DEPTH | J7: 0.5 | K7: m | N7: EMBEDMENT DEPTH | P7: 0.8 | Q7: m | T7: EMBEDMENT DEPTH | V7: 0.3 | W7: m | Z7: EMBEDMENT DEPTH | AB7: 0.5 | AC7: m | AF7: EMBEDMENT DEPTH | AH7: 0.8 | AI7: m
B9: Proving Ring Unit | C9: 5.55 | D9: Kg/div | H9: Proving Ring Unit | I9: 5.55 | J9: Kg/div | N9: Proving Ring Unit | O9: 5.55 | P9: Kg/div | T9: Proving Ring Unit | U9: 5.55 | V9: Kg/div | Z9: Proving Ring Unit | AA9: 5.55 | AB9: Kg/div | AF9: Proving Ring Unit | AG9: 5.55 | AH9: Kg/div
B10: L.c. of Dial Gauge | C10: 0.001 | D10: cm | H10: L.c. of Dial Gauge | I10: 0.001 | J10: cm | N10: L.c. of Dial Gauge | O10: 0.001 | P10: cm | T10: L.c. of Dial Gauge | U10: 0.001 | V10: cm | Z10: L.c. of Dial Gauge | AA10: 0.001 | AB10: cm | AF10: L.c. of Dial Gauge | AG10: 0.001 | AH10: cm
B13: DIAL GAUGE READING | C13: DISPLACEMENT (cm) | D13: PROVING RING READING | E13: UPLIFT LOAD (Kg) | H13: DIAL GAUGE READING | I13: DISPLACEMENT (cm) | J13: PROVING RING READING | K13: UPLIFT LOAD (Kg) | N13: DIAL GAUGE READING | O13: DISPLACEMENT (cm) | P13: PROVING RING READING | Q13: UPLIFT LOAD (Kg) | T13: DIAL GAUGE READING | U13: DISPLACEMENT (cm) | V13: PROVING RING READING | W13: UPLIFT LOAD (kg) | Z13: DIAL GAUGE READING | AA13: DISPLACEMENT (cm) | AB13: PROVING RING READING | AC13: UPLIFT LOAD (kg) | AF13: DIAL GAUGE READING | AG13: DISPLACEMENT (cm) | AH13: PROVING RING READING | AI13: UPLIFT LOAD (kg) | AL13: SR. NO. | AM13: ANCHOR WIDTH, B | AN13: %Rd | AO13: EMBEDMENT DEPTH, H | AP13: H/B | AQ13: Ƴ kN/m3 | AR13: Peak Load Qu, kN | AS13: Corresponding Displacement, δ | AT13: Strain
B14: 0 | C14: =B14*$C$10 -> 0 | D14: 0 | E14: =D14*$C$9 -> 0 | H14: 0 | I14: =H14*$C$10 -> 0 | J14: 0 | K14: =J14*$I$9 -> 0 | N14: 0 | O14: =N14*$C$10 -> 0 | P14: 0 | Q14: =P14*$I$9 -> 0 | T14: 0 | U14: =T14*$C$10 -> 0 | V14: 0 | W14: =V14*$C$9 -> 0 | Z14: 0 | AA14: =Z14*$C$10 -> 0 | AB14: 0 | AC14: =AB14*$I$9 -> 0 | AF14: 0 | AG14: =AF14*$C$10 -> 0 | AH14: 0 | AI14: =AH14*$I$9 -> 0 | AL14: 1 | AM14: 0.15 | AN14: 0.35 | AO14: 0.3 | AP14: =AO14/$AM$14 -> 2 | AQ14: 16.39 | AR14: =W100/100 -> 0.4995 | AS14: =U100 -> 0.16 | AT14: =AS14/AO14 -> 0.53333333
B15: 20 | C15: =B15*$C$10 -> 0.02 | D15: 7 | E15: =D15*$C$9 -> 38.85 | H15: 20 | I15: =H15*$C$10 -> 0.02 | J15: 8 | K15: =J15*$I$9 -> 44.4 | N15: 20 | O15: =N15*$C$10 -> 0.02 | P15: 16 | Q15: =P15*$I$9 -> 88.8 | T15: 20 | U15: =T15*$C$10 -> 0.02 | V15: 1 | W15: =V15*$C$9 -> 5.55 | Z15: 20 | AA15: =Z15*$C$10 -> 0.02 | AB15: 2 | AC15: =AB15*$I$9 -> 11.1 | AF15: 20 | AG15: =AF15*$C$10 -> 0.02 | AH15: 7 | AI15: =AH15*$I$9 -> 38.85 | AL15: 2 | AO15: 0.5 | AP15: =AO15/$AM$14 -> 3.3333333 | AQ15: 16.39 | AR15: =AC100/100 -> 1.554 | AS15: =AA100 -> 0.48 | AT15: =AS15/AO15 -> 0.96
B16: 40 | C16: =B16*$C$10 -> 0.04 | D16: 12 | E16: =D16*$C$9 -> 66.6 | H16: 40 | I16: =H16*$C$10 -> 0.04 | J16: 14 | K16: =J16*$I$9 -> 77.7 | N16: 40 | O16: =N16*$C$10 -> 0.04 | P16: 55 | Q16: =P16*$I$9 -> 305.25 | T16: 40 | U16: =T16*$C$10 -> 0.04 | V16: 3 | W16: =V16*$C$9 -> 16.65 | Z16: 40 | AA16: =Z16*$C$10 -> 0.04 | AB16: 4 | AC16: =AB16*$I$9 -> 22.2 | AF16: 40 | AG16: =AF16*$C$10 -> 0.04 | AH16: 9 | AI16: =AH16*$I$9 -> 49.95 | AL16: 3 | AO16: 0.8 | AP16: =AO16/$AM$14 -> 5.3333333 | AQ16: 16.39 | AR16: =AI100/100 -> 4.2735 | AS16: =AG100 -> 1.46 | AT16: =AS16/AO16 -> 1.825
B17: 60 | C17: =B17*$C$10 -> 0.06 | D17: 19 | E17: =D17*$C$9 -> 105.45 | H17: 60 | I17: =H17*$C$10 -> 0.06 | J17: 27 | K17: =J17*$I$9 -> 149.85 | N17: 60 | O17: =N17*$C$10 -> 0.06 | P17: 63 | Q17: =P17*$I$9 -> 349.65 | T17: 60 | U17: =T17*$C$10 -> 0.06 | V17: 5 | W17: =V17*$C$9 -> 27.75 | Z17: 60 | AA17: =Z17*$C$10 -> 0.06 | AB17: 11 | AC17: =AB17*$I$9 -> 61.05 | AF17: 60 | AG17: =AF17*$C$10 -> 0.06 | AH17: 14 | AI17: =AH17*$I$9 -> 77.7 | AL17: 4 | AN17: 0.6 | AO17: 0.3 | AP17: =AO17/$AM$14 -> 2 | AQ17: 17.2 | AR17: =AC210/100 -> 1.9425 | AS17: =AA210 -> 0.5 | AT17: =AS17/AO17 -> 1.6666667
B18: 80 | C18: =B18*$C$10 -> 0.08 | D18: 19 | E18: =D18*$C$9 -> 105.45 | H18: 80 | I18: =H18*$C$10 -> 0.08 | J18: 36 | K18: =J18*$I$9 -> 199.8 | N18: 80 | O18: =N18*$C$10 -> 0.08 | P18: 72 | Q18: =P18*$I$9 -> 399.6 | T18: 80 | U18: =T18*$C$10 -> 0.08 | V18: 6 | W18: =V18*$C$9 -> 33.3 | Z18: 80 | AA18: =Z18*$C$10 -> 0.08 | AB18: 13 | AC18: =AB18*$I$9 -> 72.15 | AF18: 80 | AG18: =AF18*$C$10 -> 0.08 | AH18: 17 | AI18: =AH18*$I$9 -> 94.35 | AL18: 5 | AO18: 0.5 | AP18: =AO18/$AM$14 -> 3.3333333 | AQ18: 17.2 | AR18: =AI210/100 -> 7.215 | AS18: =AG210 -> 1.64 | AT18: =AS18/AO18 -> 3.28
B19: 100 | C19: =B19*$C$10 -> 0.1 | D19: 20 | E19: =D19*$C$9 -> 111 | H19: 100 | I19: =H19*$C$10 -> 0.1 | J19: 40 | K19: =J19*$I$9 -> 222 | N19: 100 | O19: =N19*$C$10 -> 0.1 | P19: 77 | Q19: =P19*$I$9 -> 427.35 | T19: 100 | U19: =T19*$C$10 -> 0.1 | V19: 7 | W19: =V19*$C$9 -> 38.85 | Z19: 100 | AA19: =Z19*$C$10 -> 0.1 | AB19: 16 | AC19: =AB19*$I$9 -> 88.8 | AF19: 100 | AG19: =AF19*$C$10 -> 0.1 | AH19: 20 | AI19: =AH19*$I$9 -> 111 | AL19: 6 | AO19: 0.8 | AP19: =AO19/$AM$14 -> 5.3333333 | AQ19: 17.2 | AR19: =W327/100 -> 0.666 | AS19: =U327 -> 0.24 | AT19: =AS19/AO19 -> 0.3
B20: 120 | C20: =B20*$C$10 -> 0.12 | D20: 20 | E20: =D20*$C$9 -> 111 | H20: 120 | I20: =H20*$C$10 -> 0.12 | J20: 41 | K20: =J20*$I$9 -> 227.55 | N20: 120 | O20: =N20*$C$10 -> 0.12 | P20: 80 | Q20: =P20*$I$9 -> 444 | T20: 120 | U20: =T20*$C$10 -> 0.12 | V20: 8 | W20: =V20*$C$9 -> 44.4 | Z20: 120 | AA20: =Z20*$C$10 -> 0.12 | AB20: 18 | AC20: =AB20*$I$9 -> 99.9 | AF20: 120 | AG20: =AF20*$C$10 -> 0.12 | AH20: 22 | AI20: =AH20*$I$9 -> 122.1 | AL20: 7 | AN20: 0.8 | AO20: 0.3 | AP20: =AO20/$AM$14 -> 2 | AQ20: 18.05 | AR20: =AC327/100 -> 2.442 | AS20: =AA327 -> 0.52 | AT20: =AS20/AO20 -> 1.7333333
B21: 140 | C21: =B21*$C$10 -> 0.14 | D21: 20 | E21: =D21*$C$9 -> 111 | H21: 140 | I21: =H21*$C$10 -> 0.14 | J21: 43 | K21: =J21*$I$9 -> 238.65 | N21: 140 | O21: =N21*$C$10 -> 0.14 | P21: 83 | Q21: =P21*$I$9 -> 460.65 | T21: 140 | U21: =T21*$C$10 -> 0.14 | V21: 9 | W21: =V21*$C$9 -> 49.95 | Z21: 140 | AA21: =Z21*$C$10 -> 0.14 | AB21: 19 | AC21: =AB21*$I$9 -> 105.45 | AF21: 140 | AG21: =AF21*$C$10 -> 0.14 | AH21: 24 | AI21: =AH21*$I$9 -> 133.2 | AL21: 8 | AO21: 0.5 | AP21: =AO21/$AM$14 -> 3.3333333 | AQ21: 18.05 | AR21: =AI327/100 -> 10.101 | AS21: =AG327 -> 1.75 | AT21: =AS21/AO21 -> 3.5
H22: 160 | I22: =H22*$C$10 -> 0.16 | J22: 45 | K22: =J22*$I$9 -> 249.75 | N22: 160 | O22: =N22*$C$10 -> 0.16 | P22: 85 | Q22: =P22*$I$9 -> 471.75 | T22: 160 | U22: =T22*$C$10 -> 0.16 | V22: 9 | W22: =V22*$C$9 -> 49.95 | Z22: 160 | AA22: =Z22*$C$10 -> 0.16 | AB22: 21 | AC22: =AB22*$I$9 -> 116.55 | AF22: 160 | AG22: =AF22*$C$10 -> 0.16 | AH22: 27 | AI22: =AH22*$I$9 -> 149.85 | AL22: 9 | AO22: 0.8 | AP22: =AO22/$AM$14 -> 5.3333333 | AQ22: 18.05 | AR22: =K100/100 -> 2.886 | AS22: =I100 -> 0.46 | AT22: =AS22/AO22 -> 0.575
H23: 180 | I23: =H23*$C$10 -> 0.18 | J23: 45 | K23: =J23*$I$9 -> 249.75 | N23: 180 | O23: =N23*$C$10 -> 0.18 | P23: 88 | Q23: =P23*$I$9 -> 488.4 | Z23: 180 | AA23: =Z23*$C$10 -> 0.18 | AB23: 22 | AC23: =AB23*$I$9 -> 122.1 | AF23: 180 | AG23: =AF23*$C$10 -> 0.18 | AH23: 28 | AI23: =AH23*$I$9 -> 155.4 | AL23: 10 | AM23: 0.3 | AN23: 0.35 | AO23: 0.3 | AP23: =AO23/$AM$23 -> 1 | AQ23: 16.39 | AR23: =Q100/100 -> 6.993 | AS23: =O100 -> 0.98 | AT23: =AS23/AO23 -> 3.2666667
H24: 200 | I24: =H24*$C$10 -> 0.2 | J24: 46 | K24: =J24*$I$9 -> 255.3 | N24: 200 | O24: =N24*$C$10 -> 0.2 | P24: 90 | Q24: =P24*$I$9 -> 499.5 | Z24: 200 | AA24: =Z24*$C$10 -> 0.2 | AB24: 22 | AC24: =AB24*$I$9 -> 122.1 | AF24: 200 | AG24: =AF24*$C$10 -> 0.2 | AH24: 30 | AI24: =AH24*$I$9 -> 166.5 | AL24: 11 | AO24: 0.5 | AP24: =AO24/$AM$23 -> 1.6666667 | AQ24: 16.39 | AR24: =E210/100 -> 1.332 | AS24: =C210 -> 0.16 | AT24: =AS24/AO24 -> 0.32
H25: 220 | I25: =H25*$C$10 -> 0.22 | J25: 46 | K25: =J25*$I$9 -> 255.3 | N25: 220 | O25: =N25*$C$10 -> 0.22 | P25: 92 | Q25: =P25*$I$9 -> 510.6 | Z25: 220 | AA25: =Z25*$C$10 -> 0.22 | AB25: 23 | AC25: =AB25*$I$9 -> 127.65 | AF25: 220 | AG25: =AF25*$C$10 -> 0.22 | AH25: 32 | AI25: =AH25*$I$9 -> 177.6 | AL25: 12 | AO25: 0.8 | AP25: =AO25/$AM$23 -> 2.6666667 | AQ25: 16.39 | AR25: =K210/100 -> 3.219 | AS25: =I210 -> 0.48 | AT25: =AS25/AO25 -> 0.6
H26: 240 | I26: =H26*$C$10 -> 0.24 | J26: 47 | K26: =J26*$I$9 -> 260.85 | N26: 240 | O26: =N26*$C$10 -> 0.24 | P26: 94 | Q26: =P26*$I$9 -> 521.7 | Z26: 240 | AA26: =Z26*$C$10 -> 0.24 | AB26: 23 | AC26: =AB26*$I$9 -> 127.65 | AF26: 240 | AG26: =AF26*$C$10 -> 0.24 | AH26: 34 | AI26: =AH26*$I$9 -> 188.7 | AL26: 13 | AN26: 0.6 | AO26: 0.3 | AP26: =AO26/$AM$23 -> 1 | AQ26: 17.2 | AR26: =Q210/100 -> 9.1575 | AS26: =O210 -> 1.02 | AT26: =AS26/AO26 -> 3.4
H27: 260 | I27: =H27*$C$10 -> 0.26 | J27: 48 | K27: =J27*$I$9 -> 266.4 | N27: 260 | O27: =N27*$C$10 -> 0.26 | P27: 95 | Q27: =P27*$I$9 -> 527.25 | Z27: 260 | AA27: =Z27*$C$10 -> 0.26 | AB27: 24 | AC27: =AB27*$I$9 -> 133.2 | AF27: 260 | AG27: =AF27*$C$10 -> 0.26 | AH27: 36 | AI27: =AH27*$I$9 -> 199.8 | AL27: 14 | AO27: 0.5 | AP27: =AO27/$AM$23 -> 1.6666667 | AQ27: 17.2 | AR27: =K327/100 -> 4.107 | AS27: =I327 -> 0.5 | AT27: =AS27/AO27 -> 1
H28: 280 | I28: =H28*$C$10 -> 0.28 | J28: 48 | K28: =J28*$I$9 -> 266.4 | N28: 280 | O28: =N28*$C$10 -> 0.28 | P28: 97 | Q28: =P28*$I$9 -> 538.35 | Z28: 280 | AA28: =Z28*$C$10 -> 0.28 | AB28: 25 | AC28: =AB28*$I$9 -> 138.75 | AF28: 280 | AG28: =AF28*$C$10 -> 0.28 | AH28: 38 | AI28: =AH28*$I$9 -> 210.9 | AL28: 15 | AO28: 0.8 | AP28: =AO28/$AM$23 -> 2.6666667 | AQ28: 17.2 | AR28: =Q327/100 -> 12.987 | AS28: =O327 -> 1.08 | AT28: =AS28/AO28 -> 1.35
H29: 300 | I29: =H29*$C$10 -> 0.3 | J29: 48 | K29: =J29*$I$9 -> 266.4 | N29: 300 | O29: =N29*$C$10 -> 0.3 | P29: 99 | Q29: =P29*$I$9 -> 549.45 | Z29: 300 | AA29: =Z29*$C$10 -> 0.3 | AB29: 25 | AC29: =AB29*$I$9 -> 138.75 | AF29: 300 | AG29: =AF29*$C$10 -> 0.3 | AH29: 40 | AI29: =AH29*$I$9 -> 222 | AL29: 16 | AN29: 0.8 | AO29: 0.3 | AP29: =AO29/$AM$23 -> 1 | AQ29: 18.05
H30: 320 | I30: =H30*$C$10 -> 0.32 | J30: 49 | K30: =J30*$I$9 -> 271.95 | N30: 320 | O30: =N30*$C$10 -> 0.32 | P30: 101 | Q30: =P30*$I$9 -> 560.55 | Z30: 320 | AA30: =Z30*$C$10 -> 0.32 | AB30: 25 | AC30: =AB30*$I$9 -> 138.75 | AF30: 320 | AG30: =AF30*$C$10 -> 0.32 | AH30: 41 | AI30: =AH30*$I$9 -> 227.55 | AL30: 17 | AO30: 0.5 | AP30: =AO30/$AM$23 -> 1.6666667 | AQ30: 18.05
H31: 340 | I31: =H31*$C$10 -> 0.34 | J31: 49 | K31: =J31*$I$9 -> 271.95 | N31: 340 | O31: =N31*$C$10 -> 0.34 | P31: 102 | Q31: =P31*$I$9 -> 566.1 | Z31: 340 | AA31: =Z31*$C$10 -> 0.34 | AB31: 26 | AC31: =AB31*$I$9 -> 144.3 | AF31: 340 | AG31: =AF31*$C$10 -> 0.34 | AH31: 43 | AI31: =AH31*$I$9 -> 238.65 | AL31: 18 | AO31: 0.8 | AP31: =AO31/$AM$23 -> 2.6666667 | AQ31: 18.05
H32: 360 | I32: =H32*$C$10 -> 0.36 | J32: 50 | K32: =J32*$I$9 -> 277.5 | N32: 360 | O32: =N32*$C$10 -> 0.36 | P32: 103 | Q32: =P32*$I$9 -> 571.65 | Z32: 360 | AA32: =Z32*$C$10 -> 0.36 | AB32: 26 | AC32: =AB32*$I$9 -> 144.3 | AF32: 360 | AG32: =AF32*$C$10 -> 0.36 | AH32: 44 | AI32: =AH32*$I$9 -> 244.2
H33: 380 | I33: =H33*$C$10 -> 0.38 | J33: 50 | K33: =J33*$I$9 -> 277.5 | N33: 380 | O33: =N33*$C$10 -> 0.38 | P33: 105 | Q33: =P33*$I$9 -> 582.75 | Z33: 380 | AA33: =Z33*$C$10 -> 0.38 | AB33: 27 | AC33: =AB33*$I$9 -> 149.85 | AF33: 380 | AG33: =AF33*$C$10 -> 0.38 | AH33: 45 | AI33: =AH33*$I$9 -> 249.75
H34: 400 | I34: =H34*$C$10 -> 0.4 | J34: 51 | K34: =J34*$I$9 -> 283.05 | N34: 400 | O34: =N34*$C$10 -> 0.4 | P34: 106 | Q34: =P34*$I$9 -> 588.3 | Z34: 400 | AA34: =Z34*$C$10 -> 0.4 | AB34: 27 | AC34: =AB34*$I$9 -> 149.85 | AF34: 400 | AG34: =AF34*$C$10 -> 0.4 | AH34: 46 | AI34: =AH34*$I$9 -> 255.3
H35: 420 | I35: =H35*$C$10 -> 0.42 | J35: 51 | K35: =J35*$I$9 -> 283.05 | N35: 420 | O35: =N35*$C$10 -> 0.42 | P35: 107 | Q35: =P35*$I$9 -> 593.85 | Z35: 420 | AA35: =Z35*$C$10 -> 0.42 | AB35: 27 | AC35: =AB35*$I$9 -> 149.85 | AF35: 420 | AG35: =AF35*$C$10 -> 0.42 | AH35: 48 | AI35: =AH35*$I$9 -> 266.4
H36: 440 | I36: =H36*$C$10 -> 0.44 | J36: 52 | K36: =J36*$I$9 -> 288.6 | N36: 440 | O36: =N36*$C$10 -> 0.44 | P36: 107 | Q36: =P36*$I$9 -> 593.85 | Z36: 440 | AA36: =Z36*$C$10 -> 0.44 | AB36: 27 | AC36: =AB36*$I$9 -> 149.85 | AF36: 440 | AG36: =AF36*$C$10 -> 0.44 | AH36: 49 | AI36: =AH36*$I$9 -> 271.95
H37: 460 | I37: =H37*$C$10 -> 0.46 | J37: 52 | K37: =J37*$I$9 -> 288.6 | N37: 460 | O37: =N37*$C$10 -> 0.46 | P37: 109 | Q37: =P37*$I$9 -> 604.95 | Z37: 460 | AA37: =Z37*$C$10 -> 0.46 | AB37: 28 | AC37: =AB37*$I$9 -> 155.4 | AF37: 460 | AG37: =AF37*$C$10 -> 0.46 | AH37: 50 | AI37: =AH37*$I$9 -> 277.5
N38: 480 | O38: =N38*$C$10 -> 0.48 | P38: 110 | Q38: =P38*$I$9 -> 610.5 | Z38: 480 | AA38: =Z38*$C$10 -> 0.48 | AB38: 28 | AC38: =AB38*$I$9 -> 155.4 | AF38: 480 | AG38: =AF38*$C$10 -> 0.48 | AH38: 51 | AI38: =AH38*$I$9 -> 283.05
N39: 500 | O39: =N39*$C$10 -> 0.5 | P39: 110 | Q39: =P39*$I$9 -> 610.5 | AF39: 500 | AG39: =AF39*$C$10 -> 0.5 | AH39: 52 | AI39: =AH39*$I$9 -> 288.6
N40: 520 | O40: =N40*$C$10 -> 0.52 | P40: 111 | Q40: =P40*$C$9 -> 616.05 | AF40: 520 | AG40: =AF40*$C$10 -> 0.52 | AH40: 53 | AI40: =AH40*$C$9 -> 294.15
N41: 540 | O41: =N41*$C$10 -> 0.54 | P41: 112 | Q41: =P41*$C$9 -> 621.6 | AF41: 540 | AG41: =AF41*$C$10 -> 0.54 | AH41: 54 | AI41: =AH41*$C$9 -> 299.7
N42: 550 | O42: =N42*$C$10 -> 0.55 | P42: 112 | Q42: =P42*$C$9 -> 621.6 | AF42: 550 | AG42: =AF42*$C$10 -> 0.55 | AH42: 54 | AI42: =AH42*$C$9 -> 299.7
N43: 560 | O43: =N43*$C$10 -> 0.56 | P43: 113 | Q43: =P43*$C$9 -> 627.15 | AF43: 560 | AG43: =AF43*$C$10 -> 0.56 | AH43: 55 | AI43: =AH43*$C$9 -> 305.25
N44: 580 | O44: =N44*$C$10 -> 0.58 | P44: 114 | Q44: =P44*$C$9 -> 632.7 | AF44: 580 | AG44: =AF44*$C$10 -> 0.58 | AH44: 55 | AI44: =AH44*$C$9 -> 305.25
N45: 600 | O45: =N45*$C$10 -> 0.6 | P45: 115 | Q45: =P45*$C$9 -> 638.25 | AF45: 600 | AG45: =AF45*$C$10 -> 0.6 | AH45: 56 | AI45: =AH45*$C$9 -> 310.8
N46: 620 | O46: =N46*$C$10 -> 0.62 | P46: 115 | Q46: =P46*$C$9 -> 638.25 | AF46: 620 | AG46: =AF46*$C$10 -> 0.62 | AH46: 56 | AI46: =AH46*$C$9 -> 310.8
...

Sheet LOAD-DISP
J2: LOAD-DISPLACEMENT FOR DIFFERENT %Rd
C8: PLATE SIZE | D8: DEPTH | L8: PLATE SIZE | M8: DEPTH | T8: PLATE SIZE | U8: DEPTH
C9: 0.3 | D9: 0.3 | L9: 0.3 | M9: 0.5 | T9: 0.3 | U9: 0.8
B31: PLATE SIZE | C31: DEPTH | K31: PLATE SIZE | L31: DEPTH | T31: PLATE SIZE | U31: DEPTH
B32: 0.15 | C32: 0.3 | K32: 0.15 | L32: 0.5 | T32: 0.15 | U32: 0.8
K55: LOAD-DISPLACEMENT FOR DIFFERENT SIZE OF PLATE
D57: %Rd | E57: DEPTH | M57: %Rd | N57: DEPTH | V57: %Rd | W57: DEPTH
D58: 0.3 | E58: 0.3 | M58: 0.3 | N58: 0.5 | V58: 0.3 | W58: 0.8
C79: %Rd | D79: DEPTH | L79: %Rd | M79: DEPTH | U79: %Rd | V79: DEPTH
C80: 0.6 | D80: 0.3 | L80: 0.6 | M80: 0.5 | U80: 0.6 | V80: 0.8
C100: %Rd | D100: DEPTH | L100: %Rd | M100: DEPTH | U100: %Rd | V100: DEPTH
C101: 0.8 | D101: 0.3 | L101: 0.8 | M101: 0.5 | U101: 0.8 | V101: 0.5
H124: LOAD-DISPLACEMENT FOR DIFFERENT EMBEDMENT RATIO
C126: PLATE SIZE | D126: 0.15*0.15 | E126: m2 | K126: PLATE SIZE | L126: 0.15*0.15 | M126: m2 | R126: PLATE SIZE | S126: 0.15*0.15 | T126: m2
C127: %Rd | D127: 0.35 | K127: %Rd | L127: 0.6 | R127: %Rd | S127: 0.8
C146: PLATE SIZE | D146: 0.30*0.30 | E146: m2 | J146: PLATE SIZE | K146: 0.30*0.30 | L146: m2 | R146: PLATE SIZE | S146: 0.30*0.30 | T146: m2
C147: %Rd | D147: 0.35 | J147: %Rd | K147: 0.6 | R147: %Rd | S147: 0.8

Sheet Result Comparison
B2: COMPARISON OF ANALYTICAL-EXPERIMENTAL RESULTS
B6: SR. NO. | C6: Relative Density % Rd | D6: Plate Size (m2) | F6: Embedment Depth, H (m) | G6: Embedment Ratio, H/B | H6: Analytical Result (KN) | I6: Experimental Result (KN) | K6: Differnce (%)
D7: B | E7: L
B8: 1 | C8: 35 | D8: 0.15 | E8: 0.15 | F8: 0.3 | G8: =F8/$D$8 -> 2 | H8: ='Pull-out(A)'!L27 -> 0.52042508 | I8: ='Pull-out(E)'!W100/100 -> 0.4995 | K8: =(100*(H8-I8)/H8) -> 4.0207664
B9: 2 | F9: 0.5 | G9: =F9/$D$8 -> 3.3333333 | H9: ='Pull-out(A)'!L28 -> 1.564912 | I9: ='Pull-out(E)'!AC100/100 -> 1.554 | K9: =(100*(H9-I9)/H9) -> 0.69729128
B10: 3 | F10: 0.8 | G10: =F10/$D$8 -> 5.3333333 | H10: ='Pull-out(A)'!L29 -> 4.759256 | I10: ='Pull-out(E)'!AI100/100 -> 4.2735 | K10: =(100*(H10-I10)/H10) -> 10.206552
B11: 4 | D11: 0.3 | E11: 0.3 | F11: 0.3 | G11: =F11/$D$11 -> 1 | H11: ='Pull-out(A)'!L30 -> 1.1313208 | I11: ='Pull-out(E)'!E100/100 -> 1.11 | K11: =(100*(H11-I11)/H11) -> 1.8845928
B12: 5 | F12: 0.5 | G12: =F12/$D$11 -> 1.6666667 | H12: ='Pull-out(A)'!L31 -> 2.8930695 | I12: ='Pull-out(E)'!K100/100 -> 2.886 | K12: =(100*(H12-I12)/H12) -> 0.24436098
B13: 6 | F13: 0.8 | G13: =F13/$D$11 -> 2.6666667 | H13: ='Pull-out(A)'!L32 -> 7.6283032 | I13: ='Pull-out(E)'!Q100/100 -> 6.993 | K13: =(100*(H13-I13)/H13) -> 8.328238
B14: 7 | C14: 60 | D14: 0.15 | E14: 0.15 | F14: 0.3 | G14: =F14/$D$14 -> 2 | H14: ='Pull-out(A)'!L10 -> 0.846579 | I14: ='Pull-out(E)'!W210/100 -> 0.6105 | K14: =(100*(H14-I14)/H14) -> 27.886234
B15: 8 | F15: 0.5 | G15: =F15/$D$14 -> 3.3333333 | H15: ='Pull-out(A)'!L11 -> 2.8342829 | I15: ='Pull-out(E)'!AC210/100 -> 1.9425 | K15: =(100*(H15-I15)/H15) -> 31.464145
B16: 9 | F16: 0.8 | G16: =F16/$D$14 -> 5.3333333 | H16: ='Pull-out(A)'!L12 -> 9.4188343 | I16: ='Pull-out(E)'!AI210/100 -> 7.215 | K16: =(100*(H16-I16)/H16) -> 23.398164
B17: 10 | D17: 0.3 | E17: 0.3 | F17: 0.3 | G17: =F17/$D$17 -> 1 | H17: ='Pull-out(A)'!L13 -> 1.5950538 | I17: ='Pull-out(E)'!E210/100 -> 1.332 | K17: =(100*(H17-I17)/H17) -> 16.491843
B18: 11 | F18: 0.5 | G18: =F18/$D$17 -> 1.6666667 | H18: ='Pull-out(A)'!L14 -> 4.5263794 | I18: ='Pull-out(E)'!K210/100 -> 3.219 | K18: =(100*(H18-I18)/H18) -> 28.883558
B19: 12 | F19: 0.8 | G19: =F19/$D$17 -> 2.6666667 | H19: ='Pull-out(A)'!L15 -> 13.193321 | I19: ='Pull-out(E)'!Q210/100 -> 9.1575 | K19: =(100*(H19-I19)/H19) -> 30.589882
B20: 13 | C20: 80 | D20: 0.15 | E20: 0.15 | F20: 0.3 | G20: =F20/$D$20 -> 2 | H20: ='Pull-out(A)'!L44 -> 1.0894968 | I20: ='Pull-out(E)'!W327/100 -> 0.666 | K20: =(100*(H20-I20)/H20) -> 38.870863
B21: 14 | F21: 0.5 | G21: =F21/$D$20 -> 3.3333333 | H21: ='Pull-out(A)'!L45 -> 3.7976102 | I21: ='Pull-out(E)'!AC327/100 -> 2.442 | K21: =(100*(H21-I21)/H21) -> 35.696401
B22: 15 | F22: 0.8 | G22: =F22/$D$20 -> 5.3333333 | H22: ='Pull-out(A)'!L46 -> 13.008306 | I22: ='Pull-out(E)'!AI327/100 -> 10.101 | K22: =(100*(H22-I22)/H22) -> 22.349611
B23: 16 | D23: 0.3 | E23: 0.3 | F23: 0.3 | G23: =F23/$D$23 -> 1 | H23: ='Pull-out(A)'!L47 -> 1.9331019 | I23: ='Pull-out(E)'!E327/100 -> 1.443 | K23: =(100*(H23-I23)/H23) -> 25.353132
B24: 17 | F24: 0.5 | G24: =F24/$D$23 -> 1.6666667 | H24: ='Pull-out(A)'!L48 -> 5.7348325 | I24: ='Pull-out(E)'!K327/100 -> 4.107 | K24: =(100*(H24-I24)/H24) -> 28.385006
B25: 18 | F25: 0.8 | G25: =F25/$D$23 -> 2.6666667 | H25: ='Pull-out(A)'!L49 -> 17.382775 | I25: ='Pull-out(E)'!Q327/100 -> 12.987 | K25: =(100*(H25-I25)/H25) -> 25.288108
E30: UPLIFT LOAD-EMBEDMENT RATIO FOR ANALYTICAL & EXPERIMENTAL RESULTS
D32: PLATE SIZE= 0.15cm*0.15cm | M32: PLATE SIZE= 0.30cm*0.30cm
B33: %Rd
B42: 0.35
B59: 0.6
B75: 0.8

Sheet Graph
B6: SR NO. | C6: %Rd | D6: Ƴ, kN/m3 | E6: Φ, ° | F6: WIDTH B, m | G6: LENGTH L, m | H6: DEPTH H, m | I6: H/B | J6: Nq | K6: Qu, kN | L6: Nq | M6: Qu, kN | N6: CORRESPONDING DISPLACEMENT, cm | O6: strain
J7: ANALYTICAL | L7: EXPERIMENTAL
B8: 1 | C8: 35 | D8: 16.39 | E8: 34.22 | F8: 0.15 | G8: 0.15 | H8: 0.3 | I8: =H8/$F$8 -> 2 | J8: =K8/($D$8*$F$8*$G$8*H8) -> 4.7040885 | K8: ='Result Comparison'!H8 -> 0.52042508 | L8: =M8/($D$8*$F$8*H8*$G$8) -> 4.5149481 | M8: ='Result Comparison'!I8 -> 0.4995 | N8: ='Pull-out(E)'!U100 -> 0.16 | O8: =N8/H8 -> 0.53333333
B9: 2 | H9: 0.5 | I9: =H9/$F$8 -> 3.3333333 | J9: =K9/($D$8*$F$8*$G$8*H9) -> 8.4870829 | K9: ='Result Comparison'!H9 -> 1.564912 | L9: =M9/($D$8*$F$8*H9*$G$8) -> 8.4279032 | M9: ='Result Comparison'!I9 -> 1.554 | N9: ='Pull-out(E)'!AA100 -> 0.48 | O9: =N9/H9 -> 0.96
B10: 3 | H10: 0.8 | I10: =H10/$F$8 -> 5.3333333 | J10: =K10/($D$8*$F$8*$G$8*H10) -> 16.131977 | K10: ='Result Comparison'!H10 -> 4.759256 | L10: =M10/($D$8*$F$8*H10*$G$8) -> 14.485459 | M10: ='Result Comparison'!I10 -> 4.2735 | N10: ='Pull-out(E)'!AG100 -> 1.46 | O10: =N10/H10 -> 1.825
B11: 4 | F11: 0.3 | G11: 0.3 | H11: 0.3 | I11: =H11/$F$11 -> 1 | J11: =K11/($D$8*$F$11*$G$11*H11) -> 2.5564838 | K11: ='Result Comparison'!H11 -> 1.1313208 | L11: =M11/($D$8*$F$11*H11*$G$11) -> 2.5083045 | M11: ='Result Comparison'!I11 -> 1.11 | N11: ='Pull-out(E)'!C100 -> 0.14 | O11: =N11/H11 -> 0.46666667
B12: 5 | H12: 0.5 | I12: =H12/$F$11 -> 1.6666667 | J12: =K12/($D$8*$F$11*$G$11*H12) -> 3.9225402 | K12: ='Result Comparison'!H12 -> 2.8930695 | L12: =M12/($D$8*$F$11*H12*$G$11) -> 3.9129551 | M12: ='Result Comparison'!I12 -> 2.886 | N12: ='Pull-out(E)'!I100 -> 0.46 | O12: =N12/H12 -> 0.92
B13: 6 | H13: 0.8 | I13: =H13/$F$11 -> 2.6666667 | J13: =K13/($D$8*$F$11*$G$11*H13) -> 6.4642255 | K13: ='Result Comparison'!H13 -> 7.6283032 | L13: =M13/($D$8*$F$11*H13*$G$11) -> 5.9258694 | M13: ='Result Comparison'!I13 -> 6.993 | N13: ='Pull-out(E)'!O100 -> 0.98 | O13: =N13/H13 -> 1.225
B14: 7 | C14: 60 | D14: 17.2 | E14: 42.09 | F14: 0.15 | G14: 0.15 | H14: 0.3 | I14: =H14/$F$14 -> 2 | J14: =K14/($D$14*$F$14*$G$14*H14) -> 7.2918088 | K14: ='Result Comparison'!H14 -> 0.846579 | L14: =M14/($D$14*$F$14*H14*$G$14) -> 5.2583979 | M14: ='Result Comparison'!I14 -> 0.6105 | N14: ='Pull-out(E)'!U210 -> 0.18 | O14: =N14/H14 -> 0.6
B15: 8 | H15: 0.5 | I15: =H15/$F$14 -> 3.3333333 | J15: =K15/($D$14*$F$14*$G$14*H15) -> 14.647457 | K15: ='Result Comparison'!H15 -> 2.8342829 | L15: =M15/($D$14*$F$14*H15*$G$14) -> 10.03876 | M15: ='Result Comparison'!I15 -> 1.9425 | N15: ='Pull-out(E)'!AA210 -> 0.5 | O15: =N15/H15 -> 1
B16: 9 | H16: 0.8 | I16: =H16/$F$14 -> 5.3333333 | J16: =K16/($D$14*$F$14*$G$14*H16) -> 30.422591 | K16: ='Result Comparison'!H16 -> 9.4188343 | L16: =M16/($D$14*$F$14*H16*$G$14) -> 23.304264 | M16: ='Result Comparison'!I16 -> 7.215 | N16: ='Pull-out(E)'!AG210 -> 1.64 | O16: =N16/H16 -> 2.05
B17: 10 | F17: 0.3 | G17: 0.3 | H17: 0.3 | I17: =H17/$F$17 -> 1 | J17: =K17/($D$14*$F$17*$G$17*H17) -> 3.434655 | K17: ='Result Comparison'!H17 -> 1.5950538 | L17: =M17/($D$14*$F$17*H17*$G$17) -> 2.8682171 | M17: ='Result Comparison'!I17 -> 1.332 | N17: ='Pull-out(E)'!C210 -> 0.16 | O17: =N17/H17 -> 0.53333333
B18: 11 | H18: 0.5 | I18: =H18/$F$17 -> 1.6666667 | J18: =K18/($D$14*$F$17*$G$17*H18) -> 5.8480354 | K18: ='Result Comparison'!H18 -> 4.5263794 | L18: =M18/($D$14*$F$17*H18*$G$17) -> 4.1589147 | M18: ='Result Comparison'!I18 -> 3.219 | N18: ='Pull-out(E)'!I210 -> 0.48 | O18: =N18/H18 -> 0.96
B19: 12 | H19: 0.8 | I19: =H19/$F$17 -> 2.6666667 | J19: =K19/($D$14*$F$17*$G$17*H19) -> 10.653522 | K19: ='Result Comparison'!H19 -> 13.193321 | L19: =M19/($D$14*$F$17*H19*$G$17) -> 7.3946221 | M19: ='Result Comparison'!I19 -> 9.1575 | N19: ='Pull-out(E)'!O210 -> 1.02 | O19: =N19/H19 -> 1.275
B20: 13 | C20: 80 | D20: 18.05 | E20: 45.62 | F20: 0.15 | G20: 0.15 | H20: 0.3 | I20: =H20/$F$20 -> 2 | J20: =K20/($D$20*$F$20*$G$20*H20) -> 8.9422125 | K20: ='Result Comparison'!H20 -> 1.0894968 | L20: =M20/($D$20*$F$20*H20*$G$20) -> 5.4662973 | M20: ='Result Comparison'!I20 -> 0.666 | N20: ='Pull-out(E)'!U327 -> 0.24 | O20: =N20/H20 -> 0.8
B21: 14 | H21: 0.5 | I21: =H21/$F$20 -> 3.3333333 | J21: =K21/($D$20*$F$20*$G$20*H21) -> 18.701681 | K21: ='Result Comparison'!H21 -> 3.7976102 | L21: =M21/($D$20*$F$20*H21*$G$20) -> 12.025854 | M21: ='Result Comparison'!I21 -> 2.442 | N21: ='Pull-out(E)'!AA327 -> 0.52 | O21: =N21/H21 -> 1.04
B22: 15 | H22: 0.8 | I22: =H22/$F$20 -> 5.3333333 | J22: =K22/($D$20*$F$20*$G$20*H22) -> 40.037875 | K22: ='Result Comparison'!H22 -> 13.008306 | L22: =M22/($D$20*$F$20*H22*$G$20) -> 31.089566 | M22: ='Result Comparison'!I22 -> 10.101 | N22: ='Pull-out(E)'!AG327 -> 1.75 | O22: =N22/H22 -> 2.1875
B23: 16 | F23: 0.3 | G23: 0.3 | H23: 0.3 | I23: =H23/$F$23 -> 1 | J23: =K23/($D$20*$F$23*$G$23*H23) -> 3.9665576 | K23: ='Result Comparison'!H23 -> 1.9331019 | L23: =M23/($D$20*$F$23*H23*$G$23) -> 2.960911 | M23: ='Result Comparison'!I23 -> 1.443 | N23: ='Pull-out(E)'!C327 -> 0.22 | O23: =N23/H23 -> 0.73333333
B24: 17 | H24: 0.5 | I24: =H24/$F$23 -> 1.6666667 | J24: =K24/($D$20*$F$23*$G$23*H24) -> 7.0604279 | K24: ='Result Comparison'!H24 -> 5.7348325 | L24: =M24/($D$20*$F$23*H24*$G$23) -> 5.056325 | M24: ='Result Comparison'!I24 -> 4.107 | N24: ='Pull-out(E)'!I327 -> 0.5 | O24: =N24/H24 -> 1
B25: 18 | H25: 0.8 | I25: =H25/$F$23 -> 2.6666667 | J25: =K25/($D$20*$F$23*$G$23*H25) -> 13.375481 | K25: ='Result Comparison'!H25 -> 17.382775 | L25: =M25/($D$20*$F$23*H25*$G$23) -> 9.9930748 | M25: ='Result Comparison'!I25 -> 12.987 | N25: ='Pull-out(E)'!O327 -> 1.08 | O25: =N25/H25 -> 1.35
F29: UPLIFT LOAD-EMBEDMENT RATIO FOR DIFF PHI(in °) VALUE
D31: ANALYTICAL | N31: EXPERIMENTAL
E64: BREAKOUT FACTOR-EMBEDMENT RATIO FOR DIFF PHI(in °) VALUE
E66: ANALYTICAL | O66: EXPERIMENTAL

Sheet proposed angle
E2: Proposed failure angle from peak uplift load
B13: Φ, ° | C13: Dry unit weight, γ (kN/m3) | D13: Embedment Depth,H (m) | E13: Width, B | F13: θ(°) | G13: B1 | H13: B2 | I13: Volume (m3) | J13: Dead Weight (kN) | K13: θavg
B14: 34.22 | C14: 16.39 | D14: 0.3 | E14: 0.15 | F14: 27.45669 | G14: =($E$14+(D14*TAN(RADIANS(F14))*2)) -> 0.46176401 | H14: =E14 -> 0.15 | I14: =((G14*G14)+($H$14*$H$14)+(G14*$H$14))*D14/3 -> 0.03049906 | J14: =I14*$C$14 -> 0.49987959 | K14: =AVERAGE(F14:F16) -> 26.683786
D15: 0.5 | F15: 27.337923 | G15: =($E$14+(D15*TAN(RADIANS(F15))*2)) -> 0.66697698 | I15: =((G15*G15)+($H$14*$H$14)+(G15*$H$14))*D15/3 -> 0.094567474 | J15: =I15*$C$14 -> 1.5499609
D16: 0.8 | F16: 25.256745 | G16: =($E$14+(D16*TAN(RADIANS(F16))*2)) -> 0.90483924 | I16: =((G16*G16)+($H$14*$H$14)+(G16*$H$14))*D16/3 -> 0.26052265 | J16: =I16*$C$14 -> 4.2699663
B17: 42.09 | C17: 17.2 | D17: 0.3 | F17: 30.687287 | G17: =($E$14+(D17*TAN(RADIANS(F17))*2)) -> 0.50607389 | I17: =((G17*G17)+($H$14*$H$14)+(G17*$H$14))*D17/3 -> 0.035452187 | J17: =I17*$C$17 -> 0.60977761 | K17: =AVERAGE(F17:F19) -> 31.234841
D18: 0.5 | F18: 30.426216 | G18: =($E$14+(D18*TAN(RADIANS(F18))*2)) -> 0.73731173 | I18: =((G18*G18)+($H$14*$H$14)+(G18*$H$14))*D18/3 -> 0.11278756 | J18: =I18*$C$17 -> 1.939946
D19: 0.8 | F19: 32.591018 | G19: =($E$14+(D19*TAN(RADIANS(F19))*2)) -> 1.1728893 | I19: =((G19*G19)+($H$14*$H$14)+(G19*$H$14))*D19/3 -> 0.41976074 | J19: =I19*$C$17 -> 7.2198847
B20: 45.62 | C20: 18.05 | D20: 0.3 | F20: 31.668866 | G20: =($E$14+(D20*TAN(RADIANS(F20))*2)) -> 0.52011731 | I20: =((G20*G20)+($H$14*$H$14)+(G20*$H$14))*D20/3 -> 0.037103961 | J20: =I20*$C$20 -> 0.66972649 | K20: =AVERAGE(F20:F22) -> 34.204308
D21: 0.5 | F21: 33.670384 | G21: =($E$14+(D21*TAN(RADIANS(F21))*2)) -> 0.81617055 | I21: =((G21*G21)+($H$14*$H$14)+(G21*$H$14))*D21/3 -> 0.13517666 | J21: =I21*$C$20 -> 2.4399387
D22: 0.8 | F22: 37.273673 | G22: =($E$14+(D22*TAN(RADIANS(F22))*2)) -> 1.3677119 | I22: =((G22*G22)+($H$14*$H$14)+(G22*$H$14))*D22/3 -> 0.55954472 | J22: =I22*$C$20 -> 10.099782
B23: 34.22 | C23: 16.39 | D23: 0.3 | E23: 0.3 | F23: 38.709775 | G23: =($E$14+(D23*TAN(RADIANS(F23))*2)) -> 0.63085873 | H23: =E23 -> 0.3 | I23: =((G23*G23)+($H$23*$H$23)+(G23*$H$23))*D23/3 -> 0.067724036 | J23: =I23*$C$23 -> 1.109997 | K23: =AVERAGE(F23:F25) -> 34.630168
D24: 0.5 | F24: 34.809081 | G24: =($E$14+(D24*TAN(RADIANS(F24))*2)) -> 0.84525318 | I24: =((G24*G24)+($H$23*$H$23)+(G24*$H$23))*D24/3 -> 0.17633815 | J24: =I24*$C$23 -> 2.8901823
D25: 0.8 | F25: 30.371648 | G25: =($E$14+(D25*TAN(RADIANS(F25))*2)) -> 1.0876505 | I25: =((G25*G25)+($H$23*$H$23)+(G25*$H$23))*D25/3 -> 0.42647433 | J25: =I25*$C$23 -> 6.9899142
B26: 42.09 | C26: 17.2 | D26: 0.3 | F26: 41.996371 | G26: =($E$14+(D26*TAN(RADIANS(F26))*2)) -> 0.69017361 | I26: =((G26*G26)+($H$23*$H$23)+(G26*$H$23))*D26/3 -> 0.07733917 | J26: =I26*$C$26 -> 1.3302337 | K26: =AVERAGE(F26:F28) -> 37.425388
D27: 0.5 | F27: 36.037262 | G27: =($E$14+(D27*TAN(RADIANS(F27))*2)) -> 0.87753663 | I27: =((G27*G27)+($H$23*$H$23)+(G27*$H$23))*D27/3 -> 0.18722192 | J27: =I27*$C$26 -> 3.220217
D28: 0.8 | F28: 34.242532 | G28: =($E$14+(D28*TAN(RADIANS(F28))*2)) -> 1.239096 | I28: =((G28*G28)+($H$23*$H$23)+(G28*$H$23))*D28/3 -> 0.53255673 | J28: =I28*$C$26 -> 9.1599758
B29: 45.62 | C29: 18.05 | D29: 0.3 | F29: 42.755382 | G29: =($E$14+(D29*TAN(RADIANS(F29))*2)) -> 0.70473882 | I29: =((G29*G29)+($H$23*$H$23)+(G29*$H$23))*D29/3 -> 0.079807845 | J29: =I29*$C$29 -> 1.4405316 | K29: =AVERAGE(F29:F31) -> 40.780363
D30: 0.5 | F30: 40.018307 | G30: =($E$14+(D30*TAN(RADIANS(F30))*2)) -> 0.98964427 | I30: =((G30*G30)+($H$23*$H$23)+(G30*$H$23))*D30/3 -> 0.22771484 | J30: =I30*$C$29 -> 4.1102529
D31: 0.8 | F31: 39.567401 | G31: =($E$14+(D31*TAN(RADIANS(F31))*2)) -> 1.4721025 | I31: =((G31*G31)+($H$23*$H$23)+(G31*$H$23))*D31/3 -> 0.71965771 | J31: =I31*$C$29 -> 12.989822
D35: 15cm | E35: 30cm | G35: avg | J35: ans
D36: 0.6461 | E36: 4.4485 | G36: =AVERAGE(D36:D37) -> 0.5774 | J36: =0.5774*45.62+10.69 -> 37.030988
D37: 0.5087 | E37: 16.937 | G37: =AVERAGE(E36:E37) -> 10.69275

Sheet Shrinkage Limit
A1: Observation Table
A3: Weight of empty Shrinkage Dish, W1 (gm) | B3: 64.5
A4: Weight of empty Shrinkage Dish + Weight of Wet Soil, W2 (gm) | B4: 101.4
A5: Weight of empty Shrinkage Dish + Weight of Dry Soil, W3 (gm) | B5: 85.7
A6: Weight of empty Shrinkage Dish + Mercury | B6: 386.2
A7: Weight of mercury in Shrinkage dish,W4 (gm) | B7: =B6-B3 -> 321.7
A8: Volume of dish, V1 (cc) | B8: =B7/13.6 -> 23.654412
A9: Weight of displaced Mercury, W5 (gm) | B9: 135.9
A10: Volume of Dry soil, V2 (cc) | B10: =B9/13.6 -> 9.9926471
A12: Shrinkage Limit | B12: =(((B4-B5)-(B8-B10))/(B5-B3))*1*100 -> 9.6143174

Sheet Consolidation
B2: Bore Hole No.= | E2: BH-1 | G2: pi (kg/cm2) | H2: Void Ratio
B3: Depth (m) = | E3: 3.75
B4: Specific Gravity = | E4: 2.66 | G4: =C15 -> 0.1 | H4: =I15 -> 0.60317425
B5: Diameter of Ring (mm) = | E5: 60 | G5: =C16 -> 0.25 | H5: =I16 -> 0.59425421
B6: Ht. of sample (mm) = | E6: 20 | G6: =C17 -> 0.5 | H6: =I17 -> 0.58290144
