Workbook

Sheet Base de datos CefUAQ
A1: Id | B1: Instructivo | C1: Edad_R | D1: Genero_R | E1: Trazado_ante | F1: Programa | G1: Cef_UAQ | H1: Trazado | I1: preferencia_trazado | J1: Suficiente_CefUAQ | K1: Formacion | L1: Dominio_técnica | M1: Reafirmo | N1: Describir | O1: Difucultad | P1: Recurso | Q1: Que_recurso | R1: Cambio | S1: Otro: | T1: Quedar | U1: porqué? | V1: venta | W1: Porqué? | X1: Confianza | Y1: Porqué? | Z1: LBCA-Man-R1 | AA1: LBCA-Man-R2 | AB1: LBCP-Man-R1 | AC1: LBCP-Man-R2 | AD1: LRM-Man-R1 | AE1: LRM-Man-R2 | AF1: LCM-Man-R1 | AG1: LCM-Man-R2 | AH1: AFP-Man-R1 | AI1: AFP-Man-R2 | AJ1: AFA-Man-R1 | AK1: AFA-Man-R2 | AL1: Silla-Man-R1 | AM1: Silla-Man-R2 | AN1: Arti-Man-R1 | AO1: Arti-Man-R2 | AP1: Goni-Man-R1 | AQ1: Goni-Man-R2 | AR1: EJ-Man-R1 | AS1: EJ-Man-R2 | AT1: EJL-Man-R1 | AU1: EJL-Man-R2 | AV1: LBCA-CU-R1 | AW1: LBCA-CU-R2 | AX1: LBCP-CU-R1 | AY1: LBCP-CU-R2 | AZ1: LRM-CU-R1 | BA1: LRM-CU-R2 | BB1: LCM-CU-R1 | BC1: LCM-CU-R2 | BD1: AFP-CU-R1 | BE1: AFP-CU-R2 | BF1: AFA-CU-R1 | BG1: AFA-CU-R2 | BH1: 2 | BI1: Silla-CU-R2 | BJ1: Arti-CU-R1 | BK1: Arti-CU-R2 | BL1: Goni-CU-R1 | BM1: Goni-CU-R2 | BN1: EJ-CU-R1 | BO1: EJ-CU-R2 | BP1: EJL-CU-R1 | BQ1: EJL-CU-R2
A2: 1 | B2: 0 | C2: 22 | D2: 0 | E2: 0 | F2: 99 | G2: 99 | H2: 3 | I2: Reduce tiempos | J2: 3 | K2: 3 | L2: 2 | M2: 3 | N2: Facilitó la colocación de puntos | O2: 3 | P2: 0 | Q2: 99 | R2: 1 | S2: 99 | T2: 2 | U2: No conozco otras aplicaciones | V2: 99 | W2: 99 | X2: 3 | Y2: Las medidas que da, están cerca de los rangos | Z2: 67 | AA2: 71 | AB2: 32 | AC2: 31 | AD2: 40 | AE2: 44 | AF2: 71 | AG2: 71 | AH2: 77 | AI2: 78 | AJ2: 110 | AK2: 111 | AL2: 122 | AM2: 121 | AN2: 142 | AO2: 142 | AP2: 138 | AQ2: 138 | AR2: 75 | AS2: 73 | AT2: 54 | AU2: 54 | AV2: 71 | AW2: 62 | AX2: 32 | AY2: 32 | AZ2: 44 | BA2: 44 | BB2: 71 | BC2: 71 | BD2: 77 | BE2: 76 | BF2: 111 | BG2: 112 | BH2: 121 | BI2: 122 | BJ2: 143 | BK2: 143 | BL2: 139 | BM2: 139 | BN2: 75 | BO2: 73 | BP2: 54 | BQ2: 54
A3: 2 | B3: 1 | C3: 23 | D3: 0 | E3: 0 | F3: 99 | G3: 99 | H3: 3 | I3: Es más rápido, sólo colocas los puntos y la palicación te arroja datos rápidos y exactos | J3: 4 | K3: 3 | L3: 4 | M3: 3 | N3: Me ayudó a identificar los puntos y las medidas y me especifico de cuál se trataba, se podía aumentar o dismunuir el tamaño para ver mejor | O3: 0 | P3: 99 | Q3: 99 | R3: 2 | S3: 99 | T3: 3 | U3: Ayudaría a aprender a los alumos, facilitar y agilizar diagnósticos y abrir a los alumnos a otras opciones | V3: 300 | W3: Es un precio racional por la facilidad y agilidad | X3: 3 | Y3: 99 | Z3: 69 | AA3: 70 | AB3: 30 | AC3: 29 | AD3: 33 | AE3: 33 | AF3: 65 | AG3: 67 | AH3: 69 | AI3: 70 | AJ3: 115 | AK3: 110 | AL3: 115 | AM3: 115 | AN3: 140 | AO3: 142 | AP3: 140 | AQ3: 140 | AR3: 70 | AS3: 70 | AT3: 55 | AU3: 55 | AV3: 70 | AW3: 60 | AX3: 30 | AY3: 30 | AZ3: 40 | BA3: 40 | BB3: 70 | BC3: 70 | BD3: 75 | BE3: 75 | BF3: 110 | BG3: 110 | BH3: 120 | BI3: 120 | BJ3: 140 | BK3: 140 | BL3: 135 | BM3: 135 | BN3: 70 | BO3: 70 | BP3: 50 | BQ3: 50
A4: 3 | B4: 1 | C4: 24 | D4: 1 | E4: 0 | F4: 99 | G4: 99 | H4: 3 | I4: Más rápido | J4: 3 | K4: 3 | L4: 3 | M4: 3 | N4: Más rápido | O4: 0 | P4: 0 | Q4: 99 | R4: 99 | S4: 99 | T4: 3 | U4: Es muy fácil | V4: 100 | W4: 99 | X4: 2 | Y4: 99 | Z4: 75 | AA4: 73 | AB4: 29 | AC4: 35 | AD4: 46 | AE4: 45 | AF4: 76 | AG4: 74 | AH4: 82 | AI4: 79 | AJ4: 120 | AK4: 108 | AL4: 121 | AM4: 122 | AN4: 145 | AO4: 140 | AP4: 139 | AQ4: 139 | AR4: 80 | AS4: 75 | AT4: 50 | AU4: 60 | AV4: 75 | AW4: 65 | AX4: 35 | AY4: 35 | AZ4: 45 | BA4: 45 | BB4: 75 | BC4: 75 | BD4: 80 | BE4: 80 | BF4: 115 | BG4: 115 | BH4: 125 | BI4: 125 | BJ4: 145 | BK4: 145 | BL4: 140 | BM4: 140 | BN4: 80 | BO4: 75 | BP4: 60 | BQ4: 60
A5: 4 | B5: 1 | C5: 23 | D5: 0 | E5: 0 | F5: 99 | G5: 99 | H5: 3 | I5: Es más ágil, en automático nos da las medidas | J5: 3 | K5: 3 | L5: 3 | M5: 3 | N5: Mejoro en el sentido de ya haberse hecho antes y se tenía previo conocimiento | O5: 1 | P5: 0 | Q5: 99 | R5: 99 | S5: 99 | T5: 3 | U5: Poque hay que ir a la vanguardia, trabajar con la tecnología para ir avanzando | V5: 99 | W5: Realmente no sé, porque no tengo una comparativa con otros programas | X5: 3 | Y5: 99 | Z5: 74.5 | AA5: 68 | AB5: 34 | AC5: 31 | AD5: 43 | AE5: 50 | AF5: 70 | AG5: 74 | AH5: 78 | AI5: 74 | AJ5: 110 | AK5: 115 | AL5: 124 | AM5: 125 | AN5: 142 | AO5: 145 | AP5: 136 | AQ5: 136 | AR5: 75 | AS5: 71 | AT5: 60 | AU5: 50 | AV5: 72 | AW5: 61 | AX5: 32 | AY5: 32 | AZ5: 44 | BA5: 42 | BB5: 72 | BC5: 72 | BD5: 78 | BE5: 77 | BF5: 110 | BG5: 110 | BH5: 122 | BI5: 122 | BJ5: 142 | BK5: 142 | BL5: 145 | BM5: 145 | BN5: 74 | BO5: 72 | BP5: 54 | BQ5: 54
A6: 5 | B6: 1 | C6: 25 | D6: 1 | E6: 0 | F6: 99 | G6: 99 | H6: 3 | I6: Simplifico mucho el trazado y materiales | J6: 4 | K6: 3 | L6: 3 | M6: 3 | N6: Mejoro, se entienede bien el trazado | O6: 3 | P6: 0 | Q6: 99 | R6: 0 | S6: 99 | T6: 3 | U6: Sería útil para la practica y enseñanza | V6: 99 | W6: No lo sé ya que no tengo un punto de referencia con otra aplicación | X6: 2 | Y6: Creo que sí, sin embargo no me queda la certeza de las proporciones, ya que hay varios factores, donde se involucran desde la forma radiográfica hasta las dimensiones, al momento de capturar la imagen para ponerla al programa | Z6: 73 | AA6: 73 | AB6: 33 | AC6: 32 | AD6: 42 | AE6: 47 | AF6: 75 | AG6: 70 | AH6: 70 | AI6: 75 | AJ6: 110 | AK6: 120 | AL6: 122 | AM6: 121 | AN6: 138 | AO6: 136 | AP6: 140 | AQ6: 140 | AR6: 76 | AS6: 73 | AT6: 54 | AU6: 55 | AV6: 70 | AW6: 60 | AX6: 30 | AY6: 30 | AZ6: 45 | BA6: 45 | BB6: 70 | BC6: 70 | BD6: 75 | BE6: 75 | BF6: 112 | BG6: 112 | BH6: 120 | BI6: 125 | BJ6: 140 | BK6: 140 | BL6: 130 | BM6: 130 | BN6: 78 | BO6: 74 | BP6: 54 | BQ6: 54
A7: 6 | B7: 1 | C7: 25 | D7: 1 | E7: 0 | F7: 99 | G7: 99 | H7: 3 | I7: Es más fácil | J7: 4 | K7: 3 | L7: 4 | M7: 3 | N7: Mejoró y lo facilitó | O7: 99 | P7: 0 | Q7: 99 | R7: 3 | S7: No | T7: 3 | U7: Si está bien porque facilita el trabajo pero sigo pensando que la manera manual ayuda a reforzar el conocimiento | V7: 99 | W7: No sé | X7: 3 | Y7: Porque los resultados fueron correctos | Z7: 68 | AA7: 75 | AB7: 31 | AC7: 34 | AD7: 44 | AE7: 44 | AF7: 76 | AG7: 71 | AH7: 84 | AI7: 77 | AJ7: 120 | AK7: 118 | AL7: 121 | AM7: 122 | AN7: 143 | AO7: 142 | AP7: 135 | AQ7: 135 | AR7: 78 | AS7: 70 | AT7: 50 | AU7: 55 | AV7: 70 | AW7: 65 | AX7: 34 | AY7: 35 | AZ7: 45 | BA7: 46 | BB7: 75 | BC7: 75 | BD7: 80 | BE7: 76 | BF7: 115 | BG7: 115 | BH7: 125 | BI7: 120 | BJ7: 145 | BK7: 145 | BL7: 140 | BM7: 140 | BN7: 75 | BO7: 65 | BP7: 50 | BQ7: 50
A8: 7 | B8: 1 | C8: 23 | D8: 0 | E8: 0 | F8: 99 | G8: 99 | H8: 3 | I8: Es más rápido y ahorra el uso de otros materiales (lapíz, reglas, etc) | J8: 3 | K8: 3 | L8: 2 | M8: 3 | N8: Mejoró | O8: 0, 3 | P8: 0 | Q8: 99 | R8: 99 | S8: 99 | T8: 3 | U8: Porqué es un método más visual y ayuda a reafirmar lo aprendido en clase, haciendolo más sencillo | V8: 99 | W8: No sé | X8: 3 | Y8: Porque las medidas son más exactas con la simple ubicación de los puntos adecuadamente | Z8: 72 | AA8: 70 | AB8: 32 | AC8: 30 | AD8: 41 | AE8: 50 | AF8: 71 | AG8: 71 | AH8: 68 | AI8: 80 | AJ8: 100 | AK8: 104 | AL8: 125 | AM8: 125 | AN8: 140 | AO8: 140 | AP8: 142 | AQ8: 142 | AR8: 74 | AS8: 74 | AT8: 55 | AU8: 54 | AV8: 71 | AW8: 60 | AX8: 32 | AY8: 32 | AZ8: 43 | BA8: 42 | BB8: 70 | BC8: 70 | BD8: 78 | BE8: 80 | BF8: 120 | BG8: 120 | BH8: 121 | BI8: 121 | BJ8: 142 | BK8: 142 | BL8: 143 | BM8: 145 | BN8: 70 | BO8: 80 | BP8: 55 | BQ8: 55
A9: 8 | B9: 1 | C9: 22 | D9: 1 | E9: 0 | F9: 99 | G9: 99 | H9: 3 | I9: Es más preciso y más fácil y te da la medida con sólo mover el punto | J9: 4 | K9: 3 | L9: 4 | M9: 3 | N9: Mejoró al ubicar los puntos | O9: 3 | P9: 0 | Q9: 99 | R9: 3 | S9: Poder seleccuonar entre los diferentes elementos (puntos, margen, hoja) más facilmente | T9: 3 | U9: Es una manera para aprender y comprender más fácil el trazado | V9: 500 | W9: Se necesita complejidad en programación y en las mediciones | X9: 3 | Y9: Son mediciones exactas | Z9: 70 | AA9: 72 | AB9: 33 | AC9: 29 | AD9: 45 | AE9: 43 | AF9: 68 | AG9: 70 | AH9: 80 | AI9: 81 | AJ9: 110 | AK9: 110 | AL9: 120 | AM9: 120 | AN9: 145 | AO9: 145 | AP9: 135 | AQ9: 135 | AR9: 75 | AS9: 75 | AT9: 60 | AU9: 50 | AV9: 70 | AW9: 62 | AX9: 30 | AY9: 30 | AZ9: 45 | BA9: 45 | BB9: 71 | BC9: 71 | BD9: 77 | BE9: 75 | BF9: 110 | BG9: 110 | BH9: 122 | BI9: 122 | BJ9: 143 | BK9: 144 | BL9: 137 | BM9: 137 | BN9: 80 | BO9: 72 | BP9: 52 | BQ9: 52
A10: 9 | B10: 0 | C10: 22 | D10: 0 | E10: 0 | F10: 99 | G10: 99 | H10: 3 | I10: Creo que es más rápido | J10: 4 | K10: 3 | L10: 2 | M10: 3 | N10: Mejoró | O10: 1 | P10: 0 | Q10: 99 | R10: 99 | S10: 99 | T10: 3 | U10: Es un recurso útil para un diagnóstico rápido y tal vez más certero | V10: 99 | W10: No sé, creo que hay mucho trabajo detrás pero no sé cuánto, pero creo que principalmente los ortodoncistas lo comprarían | X10: 2 | Y10: Habría que comprarlo con los resultados manuales y ver cuál es más acertado | Z10: 73 | AA10: 66 | AB10: 34 | AC10: 32 | AD10: 34 | AE10: 40 | AF10: 72 | AG10: 69 | AH10: 79 | AI10: 78 | AJ10: 108 | AK10: 111 | AL10: 123 | AM10: 124 | AN10: 142 | AO10: 148 | AP10: 140 | AQ10: 140 | AR10: 72 | AS10: 73 | AT10: 50 | AU10: 52 | AV10: 75 | AW10: 60 | AX10: 32 | AY10: 32 | AZ10: 46 | BA10: 46 | BB10: 72 | BC10: 72 | BD10: 80 | BE10: 76 | BF10: 100 | BG10: 100 | BH10: 120 | BI10: 121 | BJ10: 145 | BK10: 145 | BL10: 135 | BM10: 135 | BN10: 74 | BO10: 70 | BP10: 54 | BQ10: 54
A11: 10 | B11: 1 | C11: 26 | D11: 0 | E11: 0 | F11: 99 | G11: 99 | H11: 3 | I11: Es más rápido, no se necesitan materiales extra | J11: 4 | K11: 3 | L11: 3 | M11: 3 | N11: 99 | O11: 99 | P11: 0 | Q11: 99 | R11: 99 | S11: 99 | T11: 3 | U11: Se puede analizar a un paciente en un par de minutos, agiliza el diagnóstico | V11: 99 | W11: sí pagaría lo que me pidieran, ahorra bastante tiempo | X11: 3 | Y11: Porque creo que los datos que arroja al medir puesen ser mucho más exactos que manualmente | Z11: 69 | AA11: 69 | AB11: 33 | AC11: 35 | AD11: 40 | AE11: 51 | AF11: 67 | AG11: 71 | AH11: 81 | AI11: 80 | AJ11: 110 | AK11: 115 | AL11: 125 | AM11: 125 | AN11: 148 | AO11: 145 | AS11: 78 | AT11: 52 | AU11: 56 | AV11: 70 | AW11: 65 | AX11: 35 | AY11: 35 | AZ11: 45 | BA11: 45 | BB11: 75 | BC11: 75 | BD11: 85 | BE11: 77 | BF11: 115 | BG11: 115 | BI11: 121 | BJ11: 143 | BK11: 143 | BL11: 140 | BM11: 140 | BN11: 72 | BO11: 73
A12: 11 | B12: 0 | C12: 23 | D12: 0 | E12: 0 | F12: 99 | G12: 99 | H12: 3 | I12: Es muy práctico y rápido | J12: 4 | K12: 3 | L12: 99 | M12: 3 | N12: Mejoró el aprendizaje | O12: 4 | P12: 0 | Q12: 99 | R12: 3 | S12: Ninguno | T12: 3 | U12: Es una buena herramienta, muy útil y práctica, ahorraria el trabajo y el tiempo | V12: 99 | W12: No sé | X12: 3 | Y12: 99 | Z12: 73 | AA12: 75 | AB12: 32 | AC12: 33 | AD12: 41 | AE12: 39 | AF12: 75 | AG12: 69 | AH12: 83 | AI12: 81 | AJ12: 115 | AK12: 100 | AL12: 122 | AM12: 121 | AN12: 145 | AO12: 140 | AP12: 140 | AQ12: 140 | AR12: 74 | AS12: 74 | AT12: 55 | AU12: 50 | AV12: 75 | AW12: 61 | AX12: 32 | AY12: 32 | AZ12: 44 | BA12: 44 | BB12: 70 | BC12: 70 | BD12: 75 | BE12: 75 | BF12: 111 | BG12: 110 | BH12: 125 | BI12: 120 | BJ12: 144 | BK12: 144 | BL12: 145 | BM12: 145 | BN12: 75 | BO12: 75 | BP12: 58 | BQ12: 58 | BU12: <<<<<<<<<<<<<<<<<<<
A13: 12 | B13: 0 | C13: 23 | D13: 0 | E13: 0 | F13: 99 | G13: 99 | H13: 99 | I13: 99 | J13: 4 | K13: 3 | L13: 2 | M13: 3 | N13: Mejoró ya que se refuerza el conocimeinto en los ángulos, si tenías duda de ángulos aquí te muestra como | O13: 1 | P13: 0 | Q13: 99 | R13: 3 | S13: No | T13: 3 | U13: Estamos en un mundo dónde la tecnológía ya es parte escencial de la vida y hay que utilizarse | V13: 1000 | W13: La verdad no sé en cuanto se cotice uno | X13: 2 | Y13: Ya que depende en parte de donde ubiquemos los puntos, pero facilita y mejora el tiempo de medición | Z13: 74 | AA13: 74 | AB13: 31 | AC13: 31 | AD13: 38 | AE13: 45 | AF13: 72 | AG13: 74 | AH13: 72 | AI13: 78 | AJ13: 108 | AK13: 114 | AL13: 120 | AM13: 120 | AN13: 143 | AO13: 145 | AP13: 139 | AQ13: 140 | AR13: 78 | AS13: 72 | AT13: 54 | AU13: 55 | AV13: 70 | AW13: 60 | AX13: 30 | AY13: 30 | AZ13: 50 | BA13: 50 | BB13: 71 | BC13: 71 | BD13: 70 | BE13: 77 | BF13: 110 | BG13: 110 | BH13: 122 | BI13: 122 | BJ13: 143 | BK13: 143 | BL13: 130 | BM13: 130 | BN13: 70 | BO13: 72 | BP13: 55 | BQ13: 55
A14: 13 | B14: 0 | C14: 23 | D14: 0 | E14: 0 | F14: 99 | G14: 99 | H14: 4 | I14: Es sencillo, pero después de aprender a utilizarlo | J14: 4 | K14: 3 | L14: 4 | M14: 3 | N14: Es bueno pero considero que realizarlo primero manualmente te da una idea más clara d como funciona el programa y de donde salen las medidas | O14: 5* | P14: 0 | Q14: 99 | R14: 99 | S14: 99 | T14: 3 | U14: Sí estaría de acuerdo porque es eficiente, pero creo que debería seguirse enseñando la técnica manual primero | V14: 99 | W14: No lo sé, tendría que ver cuánto está el rango de precios de los sofware de ortodoncia | X14: 3 | Y14: Porque es digital | Z14: 70 | AA14: 73 | AB14: 33 | AC14: 33 | AD14: 47 | AE14: 48 | AF14: 70 | AG14: 72 | AH14: 78 | AI14: 82 | AJ14: 110 | AK14: 111 | AL14: 125 | AM14: 125 | AN14: 142 | AO14: 140 | AP14: 140 | AQ14: 140 | AR14: 75 | AS14: 73 | AT14: 55 | AU14: 54 | AV14: 71 | AW14: 61 | AX14: 35 | AY14: 33 | AZ14: 45 | BA14: 46 | BB14: 69 | BC14: 68 | BD14: 80 | BE14: 77 | BF14: 116 | BG14: 118 | BH14: 121 | BI14: 125 | BJ14: 140 | BK14: 140 | BL14: 140 | BM14: 140 | BN14: 76 | BO14: 73 | BP14: 52 | BQ14: 52
A15: ref | B15: no | D15: femenino | E15: no | F15: no hay | G15: Completamente incomparable | H15: ninguno | J15: Totalmente en desacuerdo | K15: No | L15: Muy deficiente | M15: No | O15: Ubicación de la radiografía | P15: No | R15: Diseño | T15: No | X15: 3 | Z15: 72 | AA15: 68 | AB15: 32 | AC15: 32 | AD15: 39 | AE15: 43 | AF15: 73 | AG15: 73 | AH15: 79 | AI15: 78 | AJ15: 117 | AK15: 110 | AL15: 122 | AM15: 121 | AN15: 145 | AO15: 142 | AP15: 139 | AQ15: 139 | AR15: 74 | AS15: 74 | AT15: 53 | AU15: 58 | AV15: 70 | AW15: 60 | AX15: 32 | AY15: 32 | AZ15: 44 | BA15: 44 | BB15: 71 | BC15: 70 | BD15: 77 | BE15: 76 | BF15: 112 | BG15: 112 | BH15: 120 | BI15: 120 | BJ15: 145 | BK15: 145 | BL15: 142 | BM15: 142 | BN15: 75 | BO15: 72 | BP15: 55 | BQ15: 55
O16: *No tenía instruciones, al inicio no sabía como usarla | X16: no
Y17: Promedio | Z17: =AVERAGE(Z2:Z15) -> 71.392857 | AA17: =AVERAGE(AA2:AA15) -> 71.214286 | AB17: =AVERAGE(AB2:AB15) -> 32.071429 | AC17: =AVERAGE(AC2:AC15) -> 31.928571 | AD17: =AVERAGE(AD2:AD15) -> 40.928571 | AE17: =AVERAGE(AE2:AE15) -> 44.428571 | AF17: =AVERAGE(AF2:AF15) -> 71.5 | AG17: =AVERAGE(AG2:AG15) -> 71.142857 | ... BQ17: =AVERAGE(BQ2:BQ15) -> 54.076923
Y18: desviación estandar | Z18: =STDEV(Z2:Z15) -> 2.5433062 | AA18: =STDEV(AA2:AA15) -> 2.8059983 | AB18: =STDEV(AB2:AB15) -> 1.4392458 | AC18: =STDEV(AC2:AC15) -> 1.9400351 | AD18: =STDEV(AD2:AD15) -> 4.1037372 | AE18: =STDEV(AE2:AE15) -> 4.8787496 | AF18: =STDEV(AF2:AF15) -> 3.3684052 | AG18: =STDEV(AG2:AG15) -> 2.1070264 | ... BQ18: =STDEV(BQ2:BQ15) -> 2.8125178

Sheet Variables
A1: Variable | B1: Significado
A2: ='Base de datos CefUAQ'!A1 -> Id | B2: Identificador
A3: ='Base de datos CefUAQ'!B1 -> Instructivo | B3: Si el alumno tuvo instructivo para usar el programa 0= No tuvo 1= Si tuvo
A4: ='Base de datos CefUAQ'!C1 -> Edad_R | B4: edad en años de quien responde
A5: ='Base de datos CefUAQ'!D1 -> Genero_R | B5: Género de quien responde 0= Femenino 1= Masculino
A6: ='Base de datos CefUAQ'!E1 -> Trazado_ante | B6: Si se habia realizado antes de la clase de ortodoncia un razado 0= No, 1= si, 2= no sé 3=Indiferente
A7: Programa | B7: Programa en que se había realizado el trazado 0= No hay, 1= No me acuerdo 2= especifique
A8: ='Base de datos CefUAQ'!G1 -> Cef_UAQ | B8: Como es CefUAQ con respecto a otra aplicación 0= Completamente incomparable, 1= no comparable, 2= medianamente comparable, 3= Comparable, 4=Toatlmente comparable, 99= No podría responder
A9: ='Base de datos CefUAQ'!H1 -> Trazado | B9: Qúe tipo de trazado gusto mas? 0= ninguno, 1= manual,2= Algún otro utilizado anteriormente, 3=CefUAQ, 4=Indiferente
A10: ='Base de datos CefUAQ'!I1 -> preferencia_trazado | B10: Pórqué se prefiere este métdo de trazado, abierta
A11: ='Base de datos CefUAQ'!J1 -> Suficiente_CefUAQ | B11: La aplicación es suficiente para realizar un trazado cefalométrico. 0= Totalmente en desacuerdo, 1= En Desacuerdo, 2= indiferente, 3= De acuerdo, 4= totalmente De acuerdo
A12: ='Base de datos CefUAQ'!K1 -> Formacion | B12: Consideras que la aplicación CefUAQ podría ser utilizada en tú formación profesional como odontólogo? 0= No, 1= Me es indiferente, 2= No sé 3= Sí
A13: ='Base de datos CefUAQ'!L1 -> Dominio_técnica | B13: Cómo consideras que fue tú dominio de la técnica 0=Muy deficiente, 1= Deficiente, 2=Suficiente, 3= Muy bueno , 4= Execelente
A14: ='Base de datos CefUAQ'!M1 -> Reafirmo | B14: Consideras que la aplicación CefUAQ reafirmo el conocimiento? 0= No, 1= Me es indiferente, 2= No sé 3= Sí
A15: ='Base de datos CefUAQ'!N1 -> Describir | B15: En qué manera lo reafirmo? Abierta
A16: ='Base de datos CefUAQ'!O1 -> Difucultad | B16: Qué es lo que más se te dificultó del trazado cefalométrico, con la aplicación CefUAQ? 0=Ubicación de la radiografía, 1=Ubicación de los puntos, 2=Cálculo de distancias y los ángulos, 3=Proporciones, 4=Utilización de la aplicación, 5= Otro
A17: ='Base de datos CefUAQ'!P1 -> Recurso | B17: crees que a la aplicación le falto algún recurso para mejorar el aprendizaje del trazado? 0= No, 1= si, 2= no sé 99=Indiferente
A18: ='Base de datos CefUAQ'!Q1 -> Que_recurso | B18: Qué recurso?
A19: ='Base de datos CefUAQ'!R1 -> Cambio | B19: Cambiarias algo de la aplicación para hacerla mejor? 0=Diseño, 1=Colores, 2=Menús, 4=otro
A20: ='Base de datos CefUAQ'!T1 -> Quedar | B20: Si se pudiera quedar la aplicación para siempre en la facultad, estarías de acuerdo? 0= No, 1= Me es indiferente, 2= No sé 3= Sí
A21: ='Base de datos CefUAQ'!U1 -> porqué? | B21: Porqué? Abierta
A22: ='Base de datos CefUAQ'!V1 -> venta | B22: Si la aplicación se vendiese, cuánto estarías dispuesto a pagar por ella? Abierta
A23: ='Base de datos CefUAQ'!X1 -> Confianza | B23: Confiás en el di´gnostico del programa? 0= No, 1= Me es indiferente, 2= No sé 3= Sí
A24: ='Base de datos CefUAQ'!Y1 -> Porqué? | B24: Pórque?
A25: 99 | B25: Pregunta vacía

Sheet Hoja1
B1: Tabla 1 | C1: Comparación de medidas y desviación estándar en el método manual
C2: Manual R1 | E2: Manual R2 | G2: CefUAQ R1 | I2: CefUAQ R2
B3: Medidas | C3: media | D3: DesvEst | E3: media | F3: DesvEst | G3: media | H3: DesvEst | I3: media | J3: DesvEst
A4: Lineales | B4: LBCA | C4: ='Base de datos CefUAQ'!Z17 -> 71.392857 | D4: ='Base de datos CefUAQ'!Z18 -> 2.5433062 | E4: ='Base de datos CefUAQ'!AA17 -> 71.214286 | F4: ='Base de datos CefUAQ'!AA18 -> 2.8059983 | G4: ='Base de datos CefUAQ'!AV17 -> 71.428571 | H4: ='Base de datos CefUAQ'!AV18 -> 2.0272864 | I4: ='Base de datos CefUAQ'!AW17 -> 61.571429 | J4: ='Base de datos CefUAQ'!AW18 -> 1.9889806
B5: LBCP | C5: ='Base de datos CefUAQ'!AB17 -> 32.071429 | D5: ='Base de datos CefUAQ'!AB18 -> 1.4392458 | E5: ='Base de datos CefUAQ'!AC17 -> 31.928571 | F5: ='Base de datos CefUAQ'!AC18 -> 1.9400351 | G5: ='Base de datos CefUAQ'!AX17 -> 32.214286 | H5: ='Base de datos CefUAQ'!AX18 -> 1.8883681 | I5: ='Base de datos CefUAQ'!AY17 -> 32.142857 | J5: ='Base de datos CefUAQ'!AY18 -> 1.8337495
B6: LRM | C6: ='Base de datos CefUAQ'!AD17 -> 40.928571 | D6: ='Base de datos CefUAQ'!AD18 -> 4.1037372 | E6: ='Base de datos CefUAQ'!AE17 -> 44.428571 | F6: ='Base de datos CefUAQ'!AE18 -> 4.8787496 | G6: ='Base de datos CefUAQ'!AZ17 -> 44.642857 | H6: ='Base de datos CefUAQ'!AZ18 -> 2.0978796 | I6: ='Base de datos CefUAQ'!BA17 -> 44.571429 | J6: ='Base de datos CefUAQ'!BA18 -> 2.3440362
B7: LCM | C7: ='Base de datos CefUAQ'!AF17 -> 71.5 | D7: ='Base de datos CefUAQ'!AF18 -> 3.3684052 | E7: ='Base de datos CefUAQ'!AG17 -> 71.142857 | F7: ='Base de datos CefUAQ'!AG18 -> 2.1070264 | G7: ='Base de datos CefUAQ'!BB17 -> 71.571429 | H7: ='Base de datos CefUAQ'!BB18 -> 2.0272864 | I7: ='Base de datos CefUAQ'!BC17 -> 71.428571 | J7: ='Base de datos CefUAQ'!BC18 -> 2.1737697
B8: AFP | C8: ='Base de datos CefUAQ'!AH17 -> 77.142857 | D8: ='Base de datos CefUAQ'!AH18 -> 5.2894255 | E8: ='Base de datos CefUAQ'!AI17 -> 77.928571 | F8: ='Base de datos CefUAQ'!AI18 -> 3.1976983 | G8: ='Base de datos CefUAQ'!BD17 -> 77.642857 | H8: ='Base de datos CefUAQ'!BD18 -> 3.4775576 | I8: ='Base de datos CefUAQ'!BE17 -> 76.571429 | J8: ='Base de datos CefUAQ'!BE18 -> 1.6508406
B9: AFA | C9: ='Base de datos CefUAQ'!AJ17 -> 111.64286 | D9: ='Base de datos CefUAQ'!AJ18 -> 5.3292681 | E9: ='Base de datos CefUAQ'!AK17 -> 111.21429 | F9: ='Base de datos CefUAQ'!AK18 -> 5.2061882 | G9: ='Base de datos CefUAQ'!BF17 -> 111.92857 | H9: ='Base de datos CefUAQ'!BF18 -> 4.5482758 | I9: ='Base de datos CefUAQ'!BG17 -> 112.07143 | J9: ='Base de datos CefUAQ'!BG18 -> 4.7306576
A10: Angulares | B10: silla | C10: ='Base de datos CefUAQ'!AL17 -> 121.92857 | D10: ='Base de datos CefUAQ'!AL18 -> 2.6447127 | E10: ='Base de datos CefUAQ'!AM17 -> 121.92857 | F10: ='Base de datos CefUAQ'!AM18 -> 2.7863482 | G10: ='Base de datos CefUAQ'!BH17 -> 121.84615 | H10: ='Base de datos CefUAQ'!BH18 -> 1.9513309 | I10: ='Base de datos CefUAQ'!BI17 -> 121.85714 | J10: ='Base de datos CefUAQ'!BI18 -> 1.8752289
B11: Articulare | C11: ='Base de datos CefUAQ'!AN17 -> 142.85714 | D11: ='Base de datos CefUAQ'!AN18 -> 2.5975474 | E11: ='Base de datos CefUAQ'!AO17 -> 142.28571 | F11: ='Base de datos CefUAQ'!AO18 -> 3.0741746 | G11: ='Base de datos CefUAQ'!BJ17 -> 142.85714 | H11: ='Base de datos CefUAQ'!BJ18 -> 1.8752289 | I11: ='Base de datos CefUAQ'!BK17 -> 142.92857 | J11: ='Base de datos CefUAQ'!BK18 -> 1.8999711
B12: Goniaco | C12: ='Base de datos CefUAQ'!AP17 -> 138.69231 | D12: ='Base de datos CefUAQ'!AP18 -> 2.136376 | E12: ='Base de datos CefUAQ'!AQ17 -> 138.76923 | F12: ='Base de datos CefUAQ'!AQ18 -> 2.1661735 | G12: ='Base de datos CefUAQ'!BL17 -> 138.64286 | H12: ='Base de datos CefUAQ'!BL18 -> 4.781489 | I12: ='Base de datos CefUAQ'!BM17 -> 138.78571 | J12: ='Base de datos CefUAQ'!BM18 -> 4.9486373
B13: Eje Jaraback | C13: ='Base de datos CefUAQ'!AR17 -> 75.076923 | D13: ='Base de datos CefUAQ'!AR18 -> 2.5968423 | E13: ='Base de datos CefUAQ'!AS17 -> 73.214286 | F13: ='Base de datos CefUAQ'!AS18 -> 2.1187286 | G13: ='Base de datos CefUAQ'!BN17 -> 74.571429 | H13: ='Base de datos CefUAQ'!BN18 -> 3.321591 | I13: ='Base de datos CefUAQ'!BO17 -> 72.571429 | J13: ='Base de datos CefUAQ'!BO18 -> 3.2983512
B14: Eje Jaraback LRM | C14: ='Base de datos CefUAQ'!AT17 -> 54.071429 | D14: ='Base de datos CefUAQ'!AT18 -> 3.1492193 | E14: ='Base de datos CefUAQ'!AU17 -> 54.142857 | F14: ='Base de datos CefUAQ'!AU18 -> 2.9314513 | G14: ='Base de datos CefUAQ'!BP17 -> 54.076923 | H14: ='Base de datos CefUAQ'!BP18 -> 2.8125178 | I14: ='Base de datos CefUAQ'!BQ17 -> 54.076923 | J14: ='Base de datos CefUAQ'!BQ18 -> 2.8125178
