Workbook

Sheet Data and Sim Results

Sheet Exercise 1 Results
B1: Horizon | C1: Welfare | D1: alpha 𝛼 | E1: beta 𝛽 | F1: delta δ | G1: epsilon ε
A2: Case 1 | B2: 2020-2040 | C2: 14.472154 | D2: 1.2653753e-12 | E2: 0.99909677 | F2: 8.245557e-13 | G2: 7.757306e-13
A4: Case 2 | B4: 2020-2030 | C4: 8.3477415 | D4: 2.2414689e-13 | E4: 1 | F4: 2.0402851e-13 | G4: 3.2493612e-13
B5: 2031-2040 | C5: 6.122069 | D5: 3.357613e-13 | E5: 0.99953728 | F5: 3.1228155e-09 | G5: 3.3483732e-14
A6: Case 3 | B6: 2020-2025 | C6: 5.377314 | D6: 2.1013541e-06 | E6: 0.99910087 | F6: 0 | G6: 0
B7: 2026-2040 | C7: 9.0948067 | D7: 2.2882003e-09 | E7: 0.99910313 | F7: 4.3343378e-12 | G7: 2.8129172e-13
A8: Case 4 | B8: 2020-2035 | C8: 11.021234 | D8: 1.2544629e-08 | E8: 0.99915029 | F8: 5.3596558e-11 | G8: 5.4854734e-12
B9: 2036-2040 | C9: 3.4508758 | D9: 2.2548539e-07 | E9: 0.99901958 | F9: 2.8299964e-07 | G9: 4.7056052e-17
A11: W = AT^α (1/P)^β (1/C)^δ S^ε

Sheet Data and Calcs
B1: Data
B2: Remarks | C2: Policy | D2: Property | E2: 2020 | F2: =E2+1 -> 2021 | G2: =F2+1 -> 2022 | H2: =G2+1 -> 2023 | I2: =H2+1 -> 2024 | J2: =I2+1 -> 2025 | K2: =J2+1 -> 2026 | L2: =K2+1 -> 2027 | M2: =L2+1 -> 2028 | ... Y2: =X2+1 -> 2040 | AA2: Ave
B3: - | C3: Market-based scenario | D3: AT | E3: 0.5409863 | F3: 0.52254669 | G3: 0.48078029 | H3: 0.43327163 | I3: 0.39909746 | J3: 0.38047848 | K3: 0.34394265 | L3: 0.32268204 | M3: 0.31115174 | N3: 0.30168785 | O3: 0.29649479 | P3: 0.29905931 | Q3: 0.29453104 | R3: 0.2852149 | S3: 0.28371509 | T3: 0.29229762 | U3: 0.29208443 | V3: 0.28793595 | W3: 0.29099307 | X3: 0.29511078 | Y3: 0.29081024 | AA3: =AVERAGE(E3:Y3) -> 0.34499392
B4: P/kWh | C4: Market-based scenario | D4: P | E4: 3.3021268 | F4: 3.4408177 | G4: 3.3939207 | H4: 3.5926519 | I4: 3.5238919 | J4: 3.6959162 | K4: 3.6618677 | L4: 3.7189375 | M4: 3.9726815 | N4: 3.9416892 | O4: 3.8644147 | P4: 3.933089 | Q4: 3.9920543 | R4: 3.9097136 | S4: 3.8731113 | T4: 4.0701017 | U4: 3.9229911 | V4: 3.8282907 | W4: 3.9341541 | X4: 4.1441428 | Y4: 3.7991727 | AA4: =AVERAGE(E4:Y4) -> 3.7864637 | AC4: Global | AD4: min | AE4: max
B5: tonCO2/GWh | C5: Market-based scenario | D5: C | E5: 853.72571 | F5: 910.45792 | G5: 942.73184 | H5: 974.42629 | I5: 996.01262 | J5: 1007.5811 | K5: 1031.3199 | L5: 1040.9525 | M5: 1047.6806 | N5: 1048.2195 | O5: 1047.5245 | P5: 1038.2124 | Q5: 1037.3614 | R5: 1040.6312 | S5: 1033.9046 | T5: 1018.1143 | U5: 1012.3523 | V5: 1012.5493 | W5: 1000.9351 | X5: 991.36733 | Y5: 989.6671 | AA5: =AVERAGE(E5:Y5) -> 1003.6061 | AC5: AT | AD5: =MIN(E17:Y17,E21:Y21,E25:Y25) -> 0.28371509 | AE5: =MAX(E17:Y17,E21:Y21,E25:Y25) -> 0.71824749
B6: % | C6: Market-based scenario | D6: S | E6: 25.079932 | F6: 25.535734 | G6: 25.047372 | H6: 25.22855 | I6: 25.259158 | J6: 25.836763 | K6: 26.244161 | L6: 28.277676 | M6: 26.514502 | N6: 25.041557 | O6: 25.370506 | P6: 25.051179 | Q6: 25.038559 | R6: 25.11021 | S6: 25.005362 | T6: 25.303448 | U6: 25.006219 | V6: 25.028859 | W6: 25.316871 | X6: 25.010548 | Y6: 25.269749 | AA6: =AVERAGE(E6:Y6) -> 25.456043 | AC6: 1 / P | AD6: =MIN(E18:Y18,E22:Y22,E26:Y26) -> 0.14845135 | AE6: =MAX(E18:Y18,E22:Y22,E26:Y26) -> 0.30283513
B7: - | C7: Policy of 100% SCC | D7: AT | E7: 0.55125338 | F7: 0.71740618 | G7: 0.71824749 | H7: 0.71497301 | I7: 0.69555079 | J7: 0.68472012 | K7: 0.66756699 | L7: 0.64873304 | M7: 0.64585611 | N7: 0.64636332 | O7: 0.65452674 | P7: 0.65132415 | Q7: 0.65407934 | R7: 0.65344524 | S7: 0.65427832 | T7: 0.6562138 | U7: 0.65652135 | V7: 0.65913813 | W7: 0.65736508 | X7: 0.66088063 | Y7: 0.66240524 | AA7: =AVERAGE(E7:Y7) -> 0.66242135 | AC7: 1 / CO | AD7: =MIN(E19:Y19,E23:Y23,E27:Y27) -> 0.00095399869 | AE7: =MAX(E19:Y19,E23:Y23,E27:Y27) -> 0.0026289202
B8: P/kWh | C8: Policy of 100% SCC | D8: P | E8: 5.4047155 | F8: 4.9909348 | G8: 4.1943883 | H8: 4.0092723 | I8: 3.7730202 | J8: 4.0292679 | K8: 5.0105478 | L8: 5.1188522 | M8: 5.4098599 | N8: 5.4212792 | O8: 5.2205197 | P8: 5.3868633 | Q8: 5.5429697 | R8: 5.6629818 | S8: 5.6344493 | T8: 5.854246 | U8: 6.203606 | V8: 6.3618811 | W8: 6.0897308 | X8: 6.3538813 | Y8: 6.7362136 | AA8: =AVERAGE(E8:Y8) -> 5.3528324 | AC8: Q | AD8: =MIN(E20:Y20,E24:Y24,E28:Y28) -> 24.996632 | AE8: =MAX(E20:Y20,E24:Y24,E28:Y28) -> 28.277676
B9: tonCO2/GWh | C9: Policy of 100% SCC | D9: C | E9: 656.68126 | F9: 512.1276 | G9: 498.68672 | H9: 479.21304 | I9: 486.71871 | J9: 480.30365 | K9: 478.97672 | L9: 474.97689 | M9: 468.81805 | N9: 462.89653 | O9: 446.86199 | P9: 439.13921 | Q9: 429.00053 | R9: 423.13594 | S9: 415.82889 | T9: 407.72011 | U9: 402.14541 | V9: 395.93053 | W9: 394.04158 | X9: 387.78223 | Y9: 380.38431 | AA9: =AVERAGE(E9:Y9) -> 453.39857
B10: % | C10: Policy of 100% SCC | D10: S | E10: 25.079932 | F10: 25.535734 | G10: 25.047372 | H10: 25.22855 | I10: 25.12087 | J10: 25.042661 | K10: 25.039765 | L10: 25.057931 | M10: 25.058016 | N10: 25.041557 | O10: 25.048295 | P10: 25.051179 | Q10: 25.038559 | R10: 25.014763 | S10: 25.005362 | T10: 25.037934 | U10: 25.04886 | V10: 25.028859 | W10: 25.038528 | X10: 25.048982 | Y10: 25.009511 | AA10: =AVERAGE(E10:Y10) -> 25.077296
B11: - | C11: Policy of 50% SCC | D11: AT | E11: 0.54672655 | F11: 0.6748113 | G11: 0.67682609 | H11: 0.68665206 | I11: 0.66187682 | J11: 0.64262967 | K11: 0.62189652 | L11: 0.61351112 | M11: 0.61046521 | N11: 0.61262646 | O11: 0.6156666 | P11: 0.61318785 | Q11: 0.60594225 | R11: 0.6042299 | S11: 0.59823211 | T11: 0.59654731 | U11: 0.5982938 | V11: 0.59097009 | W11: 0.58664905 | X11: 0.58641804 | Y11: 0.58309827 | AA11: =AVERAGE(E11:Y11) -> 0.61558367
B12: P/kWh | C12: Policy of 50% SCC | D12: P | E12: 4.4253843 | F12: 4.3773839 | G12: 4.1244893 | H12: 3.8885784 | I12: 3.5785401 | J12: 3.9309761 | K12: 4.1172736 | L12: 4.2343003 | M12: 4.4823608 | N12: 4.4791666 | O12: 4.4426624 | P12: 5.00777 | Q12: 4.6839629 | R12: 5.3964946 | S12: 4.7591188 | T12: 5.1452542 | U12: 5.2295123 | V12: 4.6278723 | W12: 4.7877218 | X12: 4.8961358 | Y12: 5.1338818 | AA12: =AVERAGE(E12:Y12) -> 4.5594686
B13: tonCO2/GWh | C13: Policy of 50% SCC | D13: C | E13: 661.01426 | F13: 559.62707 | G13: 533.81987 | H13: 496.98687 | I13: 507.31734 | J13: 510.59988 | K13: 517.97324 | L13: 519.84723 | M13: 520.96167 | N13: 520.9983 | O13: 516.96532 | P13: 514.48375 | Q13: 516.20615 | R13: 516.32299 | S13: 517.22991 | T13: 514.50216 | U13: 512.41827 | V13: 515.36389 | W13: 514.70519 | X13: 512.85973 | Y13: 508.88209 | AA13: =AVERAGE(E13:Y13) -> 524.24215
B14: % | C14: Policy of 50% SCC | D14: S | E14: 24.996632 | F14: 25.45636 | G14: 25.7288 | H14: 25.156229 | I14: 25.190014 | J14: 25.108836 | K14: 25.546879 | L14: 25.179431 | M14: 25.291054 | N14: 25.209205 | O14: 25.155699 | P14: 25.412364 | Q14: 25.038559 | R14: 25.11021 | S14: 25.05131 | T14: 25.303448 | U14: 25.006219 | V14: 25.193503 | W14: 25.356634 | X14: 25.010548 | Y14: 25.009511 | AA14: =AVERAGE(E14:Y14) -> 25.214831
B16: Calculations
B17: Transformation | C17: Market-based scenario | D17: AT | E17: =E3 -> 0.5409863 | F17: =F3 -> 0.52254669 | G17: =G3 -> 0.48078029 | H17: =H3 -> 0.43327163 | I17: =I3 -> 0.39909746 | J17: =J3 -> 0.38047848 | K17: =K3 -> 0.34394265 | L17: =L3 -> 0.32268204 | ... Y17: =Y3 -> 0.29081024
B18: Transformation | C18: Market-based scenario | D18: 1 / P | E18: =1 / E4 -> 0.30283513 | F18: =1 / F4 -> 0.29062859 | G18: =1 / G4 -> 0.29464448 | H18: =1 / H4 -> 0.27834592 | I18: =1 / I4 -> 0.28377715 | J18: =1 / J4 -> 0.27056891 | K18: =1 / K4 -> 0.27308469 | L18: =1 / L4 -> 0.268894 | ... Y18: =1 / Y4 -> 0.2632152
B19: Transformation | C19: Market-based scenario | D19: 1 / C | E19: =1 / E5 -> 0.0011713364 | F19: =1 / F5 -> 0.0010983484 | G19: =1 / G5 -> 0.001060747 | H19: =1 / H5 -> 0.0010262449 | I19: =1 / I5 -> 0.0010040033 | J19: =1 / J5 -> 0.00099247596 | K19: =1 / K5 -> 0.00096963122 | L19: =1 / L5 -> 0.00096065864 | ... Y19: =1 / Y5 -> 0.0010104408
B20: Transformation | C20: Market-based scenario | D20: S | E20: =E6 -> 25.079932 | F20: =F6 -> 25.535734 | G20: =G6 -> 25.047372 | H20: =H6 -> 25.22855 | I20: =I6 -> 25.259158 | J20: =J6 -> 25.836763 | K20: =K6 -> 26.244161 | L20: =L6 -> 28.277676 | ... Y20: =Y6 -> 25.269749
B21: Transformation | C21: Policy of 100% SCC | D21: AT | E21: =E7 -> 0.55125338 | F21: =F7 -> 0.71740618 | G21: =G7 -> 0.71824749 | H21: =H7 -> 0.71497301 | I21: =I7 -> 0.69555079 | J21: =J7 -> 0.68472012 | K21: =K7 -> 0.66756699 | L21: =L7 -> 0.64873304 | ... Y21: =Y7 -> 0.66240524
B22: Transformation | C22: Policy of 100% SCC | D22: 1 / P | E22: =1 / E8 -> 0.18502362 | F22: =1 / F8 -> 0.20036327 | G22: =1 / G8 -> 0.23841379 | H22: =1 / H8 -> 0.24942182 | I22: =1 / I8 -> 0.26503967 | J22: =1 / J8 -> 0.24818404 | K22: =1 / K8 -> 0.19957898 | L22: =1 / L8 -> 0.19535629 | ... Y22: =1 / Y8 -> 0.14845135
B23: Transformation | C23: Policy of 100% SCC | D23: 1 / C | E23: =1 / E9 -> 0.0015228088 | F23: =1 / F9 -> 0.0019526384 | G23: =1 / G9 -> 0.002005267 | H23: =1 / H9 -> 0.0020867546 | I23: =1 / I9 -> 0.0020545748 | J23: =1 / J9 -> 0.0020820162 | K23: =1 / K9 -> 0.0020877841 | L23: =1 / L9 -> 0.0021053656 | ... Y23: =1 / Y9 -> 0.0026289202
B24: Transformation | C24: Policy of 100% SCC | D24: S | E24: =E10 -> 25.079932 | F24: =F10 -> 25.535734 | G24: =G10 -> 25.047372 | H24: =H10 -> 25.22855 | I24: =I10 -> 25.12087 | J24: =J10 -> 25.042661 | K24: =K10 -> 25.039765 | L24: =L10 -> 25.057931 | ... Y24: =Y10 -> 25.009511
B25: Transformation | C25: Policy of 50% SCC | D25: AT | E25: =E11 -> 0.54672655 | F25: =F11 -> 0.6748113 | G25: =G11 -> 0.67682609 | H25: =H11 -> 0.68665206 | I25: =I11 -> 0.66187682 | J25: =J11 -> 0.64262967 | K25: =K11 -> 0.62189652 | L25: =L11 -> 0.61351112 | ... Y25: =Y11 -> 0.58309827
B26: Transformation | C26: Policy of 50% SCC | D26: 1 / P | E26: =1 / E12 -> 0.22596907 | F26: =1 / F12 -> 0.22844695 | G26: =1 / G12 -> 0.24245426 | H26: =1 / H12 -> 0.25716339 | I26: =1 / I12 -> 0.27944356 | J26: =1 / J12 -> 0.25438974 | K26: =1 / K12 -> 0.24287917 | L26: =1 / L12 -> 0.23616653 | ... Y26: =1 / Y12 -> 0.19478438
B27: Transformation | C27: Policy of 50% SCC | D27: 1 / C | E27: =1 / E13 -> 0.0015128267 | F27: =1 / F13 -> 0.0017869043 | G27: =1 / G13 -> 0.0018732911 | H27: =1 / H13 -> 0.0020121256 | I27: =1 / I13 -> 0.0019711528 | J27: =1 / J13 -> 0.0019584807 | K27: =1 / K13 -> 0.0019306017 | L27: =1 / L13 -> 0.0019236421 | ... Y27: =1 / Y13 -> 0.0019650917
B28: Transformation | C28: Policy of 50% SCC | D28: S | E28: =E14 -> 24.996632 | F28: =F14 -> 25.45636 | G28: =G14 -> 25.7288 | H28: =H14 -> 25.156229 | I28: =I14 -> 25.190014 | J28: =J14 -> 25.108836 | K28: =K14 -> 25.546879 | L28: =L14 -> 25.179431 | ... Y28: =Y14 -> 25.009511
AA29: ave
B30: Normalized (Global Min Max) | C30: Market-based scenario | D30: AT | E30: =(E17-$AD$5) / ($AE$5-$AD$5) -> 0.5920645 | F30: =(F17-$AD$5) / ($AE$5-$AD$5) -> 0.54962899 | G30: =(G17-$AD$5) / ($AE$5-$AD$5) -> 0.45351095 | H30: =(H17-$AD$5) / ($AE$5-$AD$5) -> 0.3441781 | I30: =(I17-$AD$5) / ($AE$5-$AD$5) -> 0.26553227 | J30: =(J17-$AD$5) / ($AE$5-$AD$5) -> 0.22268394 | K30: =(K17-$AD$5) / ($AE$5-$AD$5) -> 0.13860315 | L30: =(L17-$AD$5) / ($AE$5-$AD$5) -> 0.089675582 | ... Y30: =(Y17-$AD$5) / ($AE$5-$AD$5) -> 0.016328243 | AA30: =AVERAGE(E30:Y30) -> 0.14102246
B31: Normalized (Global Min Max) | C31: Market-based scenario | D31: 1 / P | E31: =(E18-$AD$6) / ($AE$6-$AD$6) -> 1 | F31: =(F18-$AD$6) / ($AE$6-$AD$6) -> 0.92093376 | G31: =(G18-$AD$6) / ($AE$6-$AD$6) -> 0.94694614 | H31: =(H18-$AD$6) / ($AE$6-$AD$6) -> 0.84137446 | I31: =(I18-$AD$6) / ($AE$6-$AD$6) -> 0.87655452 | J31: =(J18-$AD$6) / ($AE$6-$AD$6) -> 0.79099991 | K31: =(K18-$AD$6) / ($AE$6-$AD$6) -> 0.80729554 | L31: =(L18-$AD$6) / ($AE$6-$AD$6) -> 0.78015095 | ... Y31: =(Y18-$AD$6) / ($AE$6-$AD$6) -> 0.74336728 | AA31: =AVERAGE(E31:Y31) -> 0.75529842
B32: Normalized (Global Min Max) | C32: Market-based scenario | D32: 1 / C | E32: =(E19-$AD$7) / ($AE$7-$AD$7) -> 0.12975994 | F32: =(F19-$AD$7) / ($AE$7-$AD$7) -> 0.086182965 | G32: =(G19-$AD$7) / ($AE$7-$AD$7) -> 0.063733339 | H32: =(H19-$AD$7) / ($AE$7-$AD$7) -> 0.04313408 | I32: =(I19-$AD$7) / ($AE$7-$AD$7) -> 0.029854922 | J32: =(J19-$AD$7) / ($AE$7-$AD$7) -> 0.022972581 | K32: =(K19-$AD$7) / ($AE$7-$AD$7) -> 0.0093332874 | L32: =(L19-$AD$7) / ($AE$7-$AD$7) -> 0.003976276 | ... Y32: =(Y19-$AD$7) / ($AE$7-$AD$7) -> 0.033698351 | AA32: =AVERAGE(E32:Y32) -> 0.026831697
B33: Normalized (Global Min Max) | C33: Market-based scenario | D33: S | E33: =(E20-$AD$8) / ($AE$8-$AD$8) -> 0.025388091 | F33: =(F20-$AD$8) / ($AE$8-$AD$8) -> 0.16430799 | G33: =(G20-$AD$8) / ($AE$8-$AD$8) -> 0.01546458 | H33: =(H20-$AD$8) / ($AE$8-$AD$8) -> 0.07068405 | I33: =(I20-$AD$8) / ($AE$8-$AD$8) -> 0.080012875 | J33: =(J20-$AD$8) / ($AE$8-$AD$8) -> 0.25605602 | K33: =(K20-$AD$8) / ($AE$8-$AD$8) -> 0.38022317 | L33: =(L20-$AD$8) / ($AE$8-$AD$8) -> 1 | ... Y33: =(Y20-$AD$8) / ($AE$8-$AD$8) -> 0.083240772 | AA33: =AVERAGE(E33:Y33) -> 0.14001985
B34: Normalized (Global Min Max) | C34: Policy of 100% SCC | D34: AT | E34: =(E21-$AD$5) / ($AE$5-$AD$5) -> 0.61569239 | F34: =(F21-$AD$5) / ($AE$5-$AD$5) -> 0.99806388 | G34: =(G21-$AD$5) / ($AE$5-$AD$5) -> 1 | H34: =(H21-$AD$5) / ($AE$5-$AD$5) -> 0.99246437 | I34: =(I21-$AD$5) / ($AE$5-$AD$5) -> 0.94776753 | J34: =(J21-$AD$5) / ($AE$5-$AD$5) -> 0.92284266 | K34: =(K21-$AD$5) / ($AE$5-$AD$5) -> 0.88336773 | L34: =(L21-$AD$5) / ($AE$5-$AD$5) -> 0.84002471 | ... Y34: =(Y21-$AD$5) / ($AE$5-$AD$5) -> 0.87148889 | AA34: =AVERAGE(E34:Y34) -> 0.87152596
B35: Normalized (Global Min Max) | C35: Policy of 100% SCC | D35: 1 / P | E35: =(E22-$AD$6) / ($AE$6-$AD$6) -> 0.2368919 | F35: =(F22-$AD$6) / ($AE$6-$AD$6) -> 0.3362524 | G35: =(G22-$AD$6) / ($AE$6-$AD$6) -> 0.58271947 | H35: =(H22-$AD$6) / ($AE$6-$AD$6) -> 0.65402252 | I35: =(I22-$AD$6) / ($AE$6-$AD$6) -> 0.75518499 | J35: =(J22-$AD$6) / ($AE$6-$AD$6) -> 0.64600499 | K35: =(K22-$AD$6) / ($AE$6-$AD$6) -> 0.33117226 | L35: =(L22-$AD$6) / ($AE$6-$AD$6) -> 0.30382041 | ... Y35: =(Y22-$AD$6) / ($AE$6-$AD$6) -> 0 | AA35: =AVERAGE(E35:Y35) -> 0.27887113
B36: Normalized (Global Min Max) | C36: Policy of 100% SCC | D36: 1 / C | E36: =(E23-$AD$7) / ($AE$7-$AD$7) -> 0.33960404 | F36: =(F23-$AD$7) / ($AE$7-$AD$7) -> 0.59623072 | G36: =(G23-$AD$7) / ($AE$7-$AD$7) -> 0.62765226 | H36: =(H23-$AD$7) / ($AE$7-$AD$7) -> 0.67630384 | I36: =(I23-$AD$7) / ($AE$7-$AD$7) -> 0.65709114 | J36: =(J23-$AD$7) / ($AE$7-$AD$7) -> 0.67347485 | K36: =(K23-$AD$7) / ($AE$7-$AD$7) -> 0.67691855 | L36: =(L23-$AD$7) / ($AE$7-$AD$7) -> 0.68741543 | ... Y36: =(Y23-$AD$7) / ($AE$7-$AD$7) -> 1 | AA36: =AVERAGE(E36:Y36) -> 0.76709303
B37: Normalized (Global Min Max) | C37: Policy of 100% SCC | D37: S | E37: =(E24-$AD$8) / ($AE$8-$AD$8) -> 0.025388091 | F37: =(F24-$AD$8) / ($AE$8-$AD$8) -> 0.16430799 | G37: =(G24-$AD$8) / ($AE$8-$AD$8) -> 0.01546458 | H37: =(H24-$AD$8) / ($AE$8-$AD$8) -> 0.07068405 | I37: =(I24-$AD$8) / ($AE$8-$AD$8) -> 0.03786532 | J37: =(J24-$AD$8) / ($AE$8-$AD$8) -> 0.014028653 | K37: =(K24-$AD$8) / ($AE$8-$AD$8) -> 0.013146028 | L37: =(L24-$AD$8) / ($AE$8-$AD$8) -> 0.018682633 | ... Y37: =(Y24-$AD$8) / ($AE$8-$AD$8) -> 0.0039253214 | AA37: =AVERAGE(E37:Y37) -> 0.024584833
B38: Normalized (Global Min Max) | C38: Policy of 50% SCC | D38: AT | E38: =(E25-$AD$5) / ($AE$5-$AD$5) -> 0.60527469 | F38: =(F25-$AD$5) / ($AE$5-$AD$5) -> 0.90003924 | G38: =(G25-$AD$5) / ($AE$5-$AD$5) -> 0.90467593 | H38: =(H25-$AD$5) / ($AE$5-$AD$5) -> 0.92728868 | I38: =(I25-$AD$5) / ($AE$5-$AD$5) -> 0.87027282 | J38: =(J25-$AD$5) / ($AE$5-$AD$5) -> 0.82597887 | K38: =(K25-$AD$5) / ($AE$5-$AD$5) -> 0.77826518 | L38: =(L25-$AD$5) / ($AE$5-$AD$5) -> 0.75896765 | ... Y38: =(Y25-$AD$5) / ($AE$5-$AD$5) -> 0.68897781 | AA38: =AVERAGE(E38:Y38) -> 0.76373726
B39: Normalized (Global Min Max) | C39: Policy of 50% SCC | D39: 1 / P | E39: =(E26-$AD$6) / ($AE$6-$AD$6) -> 0.50211054 | F39: =(F26-$AD$6) / ($AE$6-$AD$6) -> 0.51816065 | G39: =(G26-$AD$6) / ($AE$6-$AD$6) -> 0.6088911 | H39: =(H26-$AD$6) / ($AE$6-$AD$6) -> 0.7041675 | I39: =(I26-$AD$6) / ($AE$6-$AD$6) -> 0.84848428 | J39: =(J26-$AD$6) / ($AE$6-$AD$6) -> 0.68620157 | K39: =(K26-$AD$6) / ($AE$6-$AD$6) -> 0.61164341 | L39: =(L26-$AD$6) / ($AE$6-$AD$6) -> 0.56816316 | ... Y39: =(Y26-$AD$6) / ($AE$6-$AD$6) -> 0.30011594 | AA39: =AVERAGE(E39:Y39) -> 0.47471143
B40: Normalized (Global Min Max) | C40: Policy of 50% SCC | D40: 1 / C | E40: =(E27-$AD$7) / ($AE$7-$AD$7) -> 0.33364427 | F40: =(F27-$AD$7) / ($AE$7-$AD$7) -> 0.49728036 | G40: =(G27-$AD$7) / ($AE$7-$AD$7) -> 0.54885699 | H40: =(H27-$AD$7) / ($AE$7-$AD$7) -> 0.63174714 | I40: =(I27-$AD$7) / ($AE$7-$AD$7) -> 0.60728464 | J40: =(J27-$AD$7) / ($AE$7-$AD$7) -> 0.59971882 | K40: =(K27-$AD$7) / ($AE$7-$AD$7) -> 0.58307387 | L40: =(L27-$AD$7) / ($AE$7-$AD$7) -> 0.57891869 | ... Y40: =(Y27-$AD$7) / ($AE$7-$AD$7) -> 0.60366592 | AA40: =AVERAGE(E40:Y40) -> 0.57295444
B41: Normalized (Global Min Max) | C41: Policy of 50% SCC | D41: S | E41: =(E28-$AD$8) / ($AE$8-$AD$8) -> 0 | F41: =(F28-$AD$8) / ($AE$8-$AD$8) -> 0.14011625 | G41: =(G28-$AD$8) / ($AE$8-$AD$8) -> 0.22315101 | H41: =(H28-$AD$8) / ($AE$8-$AD$8) -> 0.048642035 | I41: =(I28-$AD$8) / ($AE$8-$AD$8) -> 0.058939097 | J41: =(J28-$AD$8) / ($AE$8-$AD$8) -> 0.034197599 | K41: =(K28-$AD$8) / ($AE$8-$AD$8) -> 0.16770483 | L41: =(L28-$AD$8) / ($AE$8-$AD$8) -> 0.055713477 | ... Y41: =(Y28-$AD$8) / ($AE$8-$AD$8) -> 0.0039253214 | AA41: =AVERAGE(E41:Y41) -> 0.066502751
C44: W = AT^α (1/P)^β (1/C)^δ S^ε
D46: α | E46: β | F46: δ | G46: ε
C47: Secretary 1 | D47: 0.42 | E47: 0.12 | F47: 0.18 | G47: 0.28
C48: Secretary 2 | D48: 0.25 | E48: 0.25 | F48: 0.25 | G48: 0.25
C49: Secretary 3 | D49: 1.2653753e-12 | E49: 0.99909677 | F49: 8.245557e-13 | G49: 7.757306e-13
B51: Calculation Method 1
B52: Secretary 1 | C52: Market-based scenario | D52: W | E52: =E30^$D$47 * E31^$E$47 * E32^$F$47 * E33^$G$47 -> 0.19863543 | F52: =F30^$D$47 * F31^$E$47 * F32^$F$47 * F33^$G$47 -> 0.29874245 | G52: =G30^$D$47 * G31^$E$47 * G32^$F$47 * G33^$G$47 -> 0.13512216 | H52: =H30^$D$47 * H31^$E$47 * H32^$F$47 * H33^$G$47 -> 0.16924871 | I52: =I30^$D$47 * I31^$E$47 * I32^$F$47 * I33^$G$47 -> 0.14779181 | J52: =J30^$D$47 * J31^$E$47 * J32^$F$47 * J33^$G$47 -> 0.17912742 | K52: =K30^$D$47 * K31^$E$47 * K32^$F$47 * K33^$G$47 -> 0.13976732 | L52: =L30^$D$47 * L31^$E$47 * L32^$F$47 * L33^$G$47 -> 0.1303438 | ... Y52: =Y30^$D$47 * Y31^$E$47 * Y32^$F$47 * Y33^$G$47 -> 0.046413322 | AA52: =AVERAGE(E52:Y52) -> 0.08319199
B53: Secretary 1 | C53: Policy of 100% SCC | D53: W | E53: =E34^$D$47 * E35^$E$47 * E36^$F$47 * E37^$G$47 -> 0.20199952 | F53: =F34^$D$47 * F35^$E$47 * F36^$F$47 * F37^$G$47 -> 0.48173185 | G53: =G34^$D$47 * G35^$E$47 * G36^$F$47 * G37^$G$47 -> 0.2682003 | H53: =H34^$D$47 * H35^$E$47 * H36^$F$47 * H37^$G$47 -> 0.42046217 | I53: =I34^$D$47 * I35^$E$47 * I36^$F$47 * I37^$G$47 -> 0.35047854 | J53: =J34^$D$47 * J35^$E$47 * J36^$F$47 * J37^$G$47 -> 0.25872848 | K53: =K34^$D$47 * K35^$E$47 * K36^$F$47 * K37^$G$47 -> 0.23043315 | L53: =L34^$D$47 * L35^$E$47 * L36^$F$47 * L37^$G$47 -> 0.24706933 | ... Y53: =Y34^$D$47 * Y35^$E$47 * Y36^$F$47 * Y37^$G$47 -> 0 | AA53: =AVERAGE(E53:Y53) -> 0.23615465
B54: Secretary 1 | C54: Policy of 50% SCC | D54: W | E54: =E38^$D$47 * E39^$E$47 * E40^$F$47 * E41^$G$47 -> 0 | F54: =F38^$D$47 * F39^$E$47 * F40^$F$47 * F41^$G$47 -> 0.44970794 | G54: =G38^$D$47 * G39^$E$47 * G40^$F$47 * G41^$G$47 -> 0.53282202 | H54: =H38^$D$47 * H39^$E$47 * H40^$F$47 * H41^$G$47 -> 0.36678577 | I54: =I38^$D$47 * I39^$E$47 * I40^$F$47 * I41^$G$47 -> 0.38266269 | J54: =J38^$D$47 * J39^$E$47 * J40^$F$47 * J41^$G$47 -> 0.3126443 | K54: =K38^$D$47 * K39^$E$47 * K40^$F$47 * K41^$G$47 -> 0.46704249 | L54: =L38^$D$47 * L39^$E$47 * L40^$F$47 * L41^$G$47 -> 0.33602422 | ... Y54: =Y38^$D$47 * Y39^$E$47 * Y40^$F$47 * Y41^$G$47 -> 0.14326805 | AA54: =AVERAGE(E54:Y54) -> 0.30778437
B56: Secretary 2 | C56: Market-based scenario | D56: W | E56: =E30^$D$48 * E31^$E$48 * E32^$F$48 * E33^$G$48 -> 0.21015268 | F56: =F30^$D$48 * F31^$E$48 * F32^$F$48 * F33^$G$48 -> 0.29096753 | G56: =G30^$D$48 * G31^$E$48 * G32^$F$48 * G33^$G$48 -> 0.14343478 | H56: =H30^$D$48 * H31^$E$48 * H32^$F$48 * H33^$G$48 -> 0.17237673 | I56: =I30^$D$48 * I31^$E$48 * I32^$F$48 * I33^$G$48 -> 0.15355643 | J56: =J30^$D$48 * J31^$E$48 * J32^$F$48 * J33^$G$48 -> 0.17941243 | K56: =K30^$D$48 * K31^$E$48 * K32^$F$48 * K33^$G$48 -> 0.14116262 | L56: =L30^$D$48 * L31^$E$48 * L32^$F$48 * L33^$G$48 -> 0.12914641 | ... Y56: =Y30^$D$48 * Y31^$E$48 * Y32^$F$48 * Y33^$G$48 -> 0.076387432 | AA56: =AVERAGE(E56:Y56) -> 0.091228477
B57: Secretary 2 | C57: Policy of 100% SCC | D57: W | E57: =E34^$D$48 * E35^$E$48 * E36^$F$48 * E37^$G$48 -> 0.18831253 | F57: =F34^$D$48 * F35^$E$48 * F36^$F$48 * F37^$G$48 -> 0.42581817 | G57: =G34^$D$48 * G35^$E$48 * G36^$F$48 * G37^$G$48 -> 0.27423898 | H57: =H34^$D$48 * H35^$E$48 * H36^$F$48 * H37^$G$48 -> 0.41970363 | I57: =I34^$D$48 * I35^$E$48 * I36^$F$48 * I37^$G$48 -> 0.36530499 | J57: =J34^$D$48 * J35^$E$48 * J36^$F$48 * J37^$G$48 -> 0.27395247 | K57: =K34^$D$48 * K35^$E$48 * K36^$F$48 * K37^$G$48 -> 0.225882 | L57: =L34^$D$48 * L35^$E$48 * L36^$F$48 * L37^$G$48 -> 0.23927184 | ... Y57: =Y34^$D$48 * Y35^$E$48 * Y36^$F$48 * Y37^$G$48 -> 0 | AA57: =AVERAGE(E57:Y57) -> 0.22295497
B58: Secretary 2 | C58: Policy of 50% SCC | D58: W | E58: =E38^$D$48 * E39^$E$48 * E40^$F$48 * E41^$G$48 -> 0 | F58: =F38^$D$48 * F39^$E$48 * F40^$F$48 * F41^$G$48 -> 0.42457452 | G58: =G38^$D$48 * G39^$E$48 * G40^$F$48 * G41^$G$48 -> 0.50965076 | H58: =H38^$D$48 * H39^$E$48 * H40^$F$48 * H41^$G$48 -> 0.37636696 | I58: =I38^$D$48 * I39^$E$48 * I40^$F$48 * I41^$G$48 -> 0.403203 | J58: =J38^$D$48 * J39^$E$48 * J40^$F$48 * J41^$G$48 -> 0.328353 | K58: =K38^$D$48 * K39^$E$48 * K40^$F$48 * K41^$G$48 -> 0.46448721 | L58: =L38^$D$48 * L39^$E$48 * L40^$F$48 * L41^$G$48 -> 0.34341443 | ... Y58: =Y38^$D$48 * Y39^$E$48 * Y40^$F$48 * Y41^$G$48 -> 0.14877897 | AA58: =AVERAGE(E58:Y58) -> 0.30533448
B60: Secretary 3 | C60: Market-based scenario | D60: W | E60: =E30^$D$49 * E31^$E$49 * E32^$F$49 * E33^$G$49 -> 1 | F60: =F30^$D$49 * F31^$E$49 * F32^$F$49 * F33^$G$49 -> 0.92100228 | G60: =G30^$D$49 * G31^$E$49 * G32^$F$49 * G33^$G$49 -> 0.94699277 | H60: =H30^$D$49 * H31^$E$49 * H32^$F$49 * H33^$G$49 -> 0.84150573 | I60: =I30^$D$49 * I31^$E$49 * I32^$F$49 * I33^$G$49 -> 0.87665884 | J60: =J30^$D$49 * J31^$E$49 * J32^$F$49 * J33^$G$49 -> 0.79116744 | K60: =K30^$D$49 * K31^$E$49 * K32^$F$49 * K33^$G$49 -> 0.80745164 | L60: =L30^$D$49 * L31^$E$49 * L32^$F$49 * L33^$G$49 -> 0.78032591 | ... Y60: =Y30^$D$49 * Y31^$E$49 * Y32^$F$49 * Y33^$G$49 -> 0.74356643 | AA60: =AVERAGE(E60:Y60) -> 0.68915021
B61: Secretary 3 | C61: Policy of 100% SCC | D61: W | E61: =E34^$D$49 * E35^$E$49 * E36^$F$49 * E37^$G$49 -> 0.23720025 | F61: =F34^$D$49 * F35^$E$49 * F36^$F$49 * F37^$G$49 -> 0.33658358 | G61: =G34^$D$49 * G35^$E$49 * G36^$F$49 * G37^$G$49 -> 0.58300379 | H61: =H34^$D$49 * H35^$E$49 * H36^$F$49 * H37^$G$49 -> 0.6542734 | I61: =I34^$D$49 * I35^$E$49 * I36^$F$49 * I37^$G$49 -> 0.75537655 | J61: =J34^$D$49 * J35^$E$49 * J36^$F$49 * J37^$G$49 -> 0.64625999 | K61: =K34^$D$49 * K35^$E$49 * K36^$F$49 * K37^$G$49 -> 0.331503 | L61: =L34^$D$49 * L35^$E$49 * L36^$F$49 * L37^$G$49 -> 0.30414751 | ... Y61: =Y34^$D$49 * Y35^$E$49 * Y36^$F$49 * Y37^$G$49 -> 0 | AA61: =AVERAGE(E61:Y61) -> 0.27912498
B62: Secretary 3 | C62: Policy of 50% SCC | D62: W | E62: =E38^$D$49 * E39^$E$49 * E40^$F$49 * E41^$G$49 -> 0 | F62: =F38^$D$49 * F39^$E$49 * F40^$F$49 * F41^$G$49 -> 0.51846845 | G62: =G38^$D$49 * G39^$E$49 * G40^$F$49 * G41^$G$49 -> 0.60916401 | H62: =H38^$D$49 * H39^$E$49 * H40^$F$49 * H41^$G$49 -> 0.70439061 | I62: =I38^$D$49 * I39^$E$49 * I40^$F$49 * I41^$G$49 -> 0.84861021 | J62: =J38^$D$49 * J39^$E$49 * J40^$F$49 * J41^$G$49 -> 0.68643502 | K62: =K38^$D$49 * K39^$E$49 * K40^$F$49 * K41^$G$49 -> 0.61191506 | L62: =L38^$D$49 * L39^$E$49 * L40^$F$49 * L41^$G$49 -> 0.56845336 | ... Y62: =Y38^$D$49 * Y39^$E$49 * Y40^$F$49 * Y41^$G$49 -> 0.30044238 | AA62: =AVERAGE(E62:Y62) -> 0.45108419
B64: Calculation Method 2
B65: Secretary 1 | C65: Market-based scenario | D65: W | E65: =AA30^$D$47 * AA31^$E$47 * AA32^$F$47 * AA33^$G$47 -> 0.12769241
B66: Secretary 1 | C66: Policy of 100% SCC | D66: W | E66: =AA34^$D$47 * AA35^$E$47 * AA36^$F$47 * AA37^$G$47 -> 0.27354303
B67: Secretary 1 | C67: Policy of 50% SCC | D67: W | E67: =AA38^$D$47 * AA39^$E$47 * AA40^$F$47 * AA41^$G$47 -> 0.34583165
B69: Secretary 2 | C69: Market-based scenario | D69: W | E69: =AA30^$D$48 * AA31^$E$48 * AA32^$F$48 * AA33^$G$48 -> 0.14143639
B70: Secretary 2 | C70: Policy of 100% SCC | D70: W | E70: =AA34^$D$48 * AA35^$E$48 * AA36^$F$48 * AA37^$G$48 -> 0.26019551
B71: Secretary 2 | C71: Policy of 50% SCC | D71: W | E71: =AA38^$D$48 * AA39^$E$48 * AA40^$F$48 * AA41^$G$48 -> 0.34283357
B73: Secretary 3 | C73: Market-based scenario | D73: W | E73: =AA30^$D$49 * AA31^$E$49 * AA32^$F$49 * AA33^$G$49 -> 0.7554899
B74: Secretary 3 | C74: Policy of 100% SCC | D74: W | E74: =AA34^$D$49 * AA35^$E$49 * AA36^$F$49 * AA37^$G$49 -> 0.27919298
B75: Secretary 3 | C75: Policy of 50% SCC | D75: W | E75: =AA38^$D$49 * AA39^$E$49 * AA40^$F$49 * AA41^$G$49 -> 0.47503099

Sheet Exercise 2 Results
A1: Market-based scenario vs Policy of 100% SCC
A3: Method 1
B5: Policy of 100% SCC | C5: Market-based scenario | H5: AT | I5: P | J5: C | K5: S
A6: Secretary 1 | B6: ='Data and Calcs'!AA53 -> 0.23615465 | C6: ='Data and Calcs'!AA52 -> 0.08319199 | G6: Secretary 1 | H6: ='Data and Calcs'!D47 -> 0.42 | I6: ='Data and Calcs'!E47 -> 0.12 | J6: ='Data and Calcs'!F47 -> 0.18 | K6: ='Data and Calcs'!G47 -> 0.28
A7: Secretary 2 | B7: ='Data and Calcs'!AA57 -> 0.22295497 | C7: ='Data and Calcs'!AA56 -> 0.091228477 | G7: Secretary 2 | H7: ='Data and Calcs'!D48 -> 0.25 | I7: ='Data and Calcs'!E48 -> 0.25 | J7: ='Data and Calcs'!F48 -> 0.25 | K7: ='Data and Calcs'!G48 -> 0.25
A8: Secretary 3 | B8: ='Data and Calcs'!AA61 -> 0.27912498 | C8: ='Data and Calcs'!AA60 -> 0.68915021 | G8: Secretary 3 | H8: ='Data and Calcs'!D49 -> 1.2653753e-12 | I8: ='Data and Calcs'!E49 -> 0.99909677 | J8: ='Data and Calcs'!F49 -> 8.245557e-13 | K8: ='Data and Calcs'!G49 -> 7.757306e-13
A10: Method 2
B12: Policy of 100% SCC | C12: Market-based scenario
A13: Secretary 1 | B13: ='Data and Calcs'!E66 -> 0.27354303 | C13: ='Data and Calcs'!E65 -> 0.12769241
A14: Secretary 2 | B14: ='Data and Calcs'!E70 -> 0.26019551 | C14: ='Data and Calcs'!E69 -> 0.14143639
A15: Secretary 3 | B15: ='Data and Calcs'!E74 -> 0.27919298 | C15: ='Data and Calcs'!E73 -> 0.7554899
A18: Market-based scenario vs Policy of 50% SCC
A20: Method 1
B22: Policy of 100% SCC | C22: Market-based scenario
A23: Secretary 1 | B23: ='Data and Calcs'!AA54 -> 0.30778437 | C23: ='Data and Calcs'!AA52 -> 0.08319199
A24: Secretary 2 | B24: ='Data and Calcs'!AA58 -> 0.30533448 | C24: ='Data and Calcs'!AA56 -> 0.091228477
A25: Secretary 3 | B25: ='Data and Calcs'!AA62 -> 0.45108419 | C25: ='Data and Calcs'!AA60 -> 0.68915021
A27: Method 2
B29: Policy of 100% SCC | C29: Market-based scenario
A30: Secretary 1 | B30: ='Data and Calcs'!E67 -> 0.34583165 | C30: ='Data and Calcs'!E65 -> 0.12769241
A31: Secretary 2 | B31: ='Data and Calcs'!E71 -> 0.34283357 | C31: ='Data and Calcs'!E69 -> 0.14143639
A32: Secretary 3 | B32: ='Data and Calcs'!E75 -> 0.47503099 | C32: ='Data and Calcs'!E73 -> 0.7554899

Sheet Visualization

Sheet Figure 7_Trilemma Paper
A1: Comparison Policy of 100% SCC vs Market-based scenario
C3: 2020 | D3: 2021 | E3: 2022 | F3: 2023 | G3: 2024 | H3: 2025 | I3: 2026 | J3: 2027 | K3: 2028 | L3: 2029 | M3: 2030 | N3: 2031 | O3: 2032 | P3: 2033 | Q3: 2034 | R3: 2035 | S3: 2036 | T3: 2037 | U3: 2038 | V3: 2039 | W3: 2040
A4: Policy of 100% SCC | B4: AT | C4: =SUMIFS('Data and Calcs'!E$3:E$14,'Data and Calcs'!$C$3:$C$14,$A4,'Data and Calcs'!$D$3:$D$14,$B4) -> 0.55125338 | D4: =SUMIFS('Data and Calcs'!F$3:F$14,'Data and Calcs'!$C$3:$C$14,$A4,'Data and Calcs'!$D$3:$D$14,$B4) -> 0.71740618 | E4: =SUMIFS('Data and Calcs'!G$3:G$14,'Data and Calcs'!$C$3:$C$14,$A4,'Data and Calcs'!$D$3:$D$14,$B4) -> 0.71824749 | F4: =SUMIFS('Data and Calcs'!H$3:H$14,'Data and Calcs'!$C$3:$C$14,$A4,'Data and Calcs'!$D$3:$D$14,$B4) -> 0.71497301 | G4: =SUMIFS('Data and Calcs'!I$3:I$14,'Data and Calcs'!$C$3:$C$14,$A4,'Data and Calcs'!$D$3:$D$14,$B4) -> 0.69555079 | H4: =SUMIFS('Data and Calcs'!J$3:J$14,'Data and Calcs'!$C$3:$C$14,$A4,'Data and Calcs'!$D$3:$D$14,$B4) -> 0.68472012 | I4: =SUMIFS('Data and Calcs'!K$3:K$14,'Data and Calcs'!$C$3:$C$14,$A4,'Data and Calcs'!$D$3:$D$14,$B4) -> 0.66756699 | J4: =SUMIFS('Data and Calcs'!L$3:L$14,'Data and Calcs'!$C$3:$C$14,$A4,'Data and Calcs'!$D$3:$D$14,$B4) -> 0.64873304 | ... W4: =SUMIFS('Data and Calcs'!Y$3:Y$14,'Data and Calcs'!$C$3:$C$14,$A4,'Data and Calcs'!$D$3:$D$14,$B4) -> 0.66240524
A5: Market-based scenario | B5: AT | C5: =SUMIFS('Data and Calcs'!E$3:E$14,'Data and Calcs'!$C$3:$C$14,$A5,'Data and Calcs'!$D$3:$D$14,$B5) -> 0.5409863 | D5: =SUMIFS('Data and Calcs'!F$3:F$14,'Data and Calcs'!$C$3:$C$14,$A5,'Data and Calcs'!$D$3:$D$14,$B5) -> 0.52254669 | E5: =SUMIFS('Data and Calcs'!G$3:G$14,'Data and Calcs'!$C$3:$C$14,$A5,'Data and Calcs'!$D$3:$D$14,$B5) -> 0.48078029 | F5: =SUMIFS('Data and Calcs'!H$3:H$14,'Data and Calcs'!$C$3:$C$14,$A5,'Data and Calcs'!$D$3:$D$14,$B5) -> 0.43327163 | G5: =SUMIFS('Data and Calcs'!I$3:I$14,'Data and Calcs'!$C$3:$C$14,$A5,'Data and Calcs'!$D$3:$D$14,$B5) -> 0.39909746 | H5: =SUMIFS('Data and Calcs'!J$3:J$14,'Data and Calcs'!$C$3:$C$14,$A5,'Data and Calcs'!$D$3:$D$14,$B5) -> 0.38047848 | I5: =SUMIFS('Data and Calcs'!K$3:K$14,'Data and Calcs'!$C$3:$C$14,$A5,'Data and Calcs'!$D$3:$D$14,$B5) -> 0.34394265 | J5: =SUMIFS('Data and Calcs'!L$3:L$14,'Data and Calcs'!$C$3:$C$14,$A5,'Data and Calcs'!$D$3:$D$14,$B5) -> 0.32268204 | ... W5: =SUMIFS('Data and Calcs'!Y$3:Y$14,'Data and Calcs'!$C$3:$C$14,$A5,'Data and Calcs'!$D$3:$D$14,$B5) -> 0.29081024
A6: Policy of 100% SCC | B6: P | C6: =SUMIFS('Data and Calcs'!E$3:E$14,'Data and Calcs'!$C$3:$C$14,$A6,'Data and Calcs'!$D$3:$D$14,$B6) -> 5.4047155 | D6: =SUMIFS('Data and Calcs'!F$3:F$14,'Data and Calcs'!$C$3:$C$14,$A6,'Data and Calcs'!$D$3:$D$14,$B6) -> 4.9909348 | E6: =SUMIFS('Data and Calcs'!G$3:G$14,'Data and Calcs'!$C$3:$C$14,$A6,'Data and Calcs'!$D$3:$D$14,$B6) -> 4.1943883 | F6: =SUMIFS('Data and Calcs'!H$3:H$14,'Data and Calcs'!$C$3:$C$14,$A6,'Data and Calcs'!$D$3:$D$14,$B6) -> 4.0092723 | G6: =SUMIFS('Data and Calcs'!I$3:I$14,'Data and Calcs'!$C$3:$C$14,$A6,'Data and Calcs'!$D$3:$D$14,$B6) -> 3.7730202 | H6: =SUMIFS('Data and Calcs'!J$3:J$14,'Data and Calcs'!$C$3:$C$14,$A6,'Data and Calcs'!$D$3:$D$14,$B6) -> 4.0292679 | I6: =SUMIFS('Data and Calcs'!K$3:K$14,'Data and Calcs'!$C$3:$C$14,$A6,'Data and Calcs'!$D$3:$D$14,$B6) -> 5.0105478 | J6: =SUMIFS('Data and Calcs'!L$3:L$14,'Data and Calcs'!$C$3:$C$14,$A6,'Data and Calcs'!$D$3:$D$14,$B6) -> 5.1188522 | ... W6: =SUMIFS('Data and Calcs'!Y$3:Y$14,'Data and Calcs'!$C$3:$C$14,$A6,'Data and Calcs'!$D$3:$D$14,$B6) -> 6.7362136
A7: Market-based scenario | B7: P | C7: =SUMIFS('Data and Calcs'!E$3:E$14,'Data and Calcs'!$C$3:$C$14,$A7,'Data and Calcs'!$D$3:$D$14,$B7) -> 3.3021268 | D7: =SUMIFS('Data and Calcs'!F$3:F$14,'Data and Calcs'!$C$3:$C$14,$A7,'Data and Calcs'!$D$3:$D$14,$B7) -> 3.4408177 | E7: =SUMIFS('Data and Calcs'!G$3:G$14,'Data and Calcs'!$C$3:$C$14,$A7,'Data and Calcs'!$D$3:$D$14,$B7) -> 3.3939207 | F7: =SUMIFS('Data and Calcs'!H$3:H$14,'Data and Calcs'!$C$3:$C$14,$A7,'Data and Calcs'!$D$3:$D$14,$B7) -> 3.5926519 | G7: =SUMIFS('Data and Calcs'!I$3:I$14,'Data and Calcs'!$C$3:$C$14,$A7,'Data and Calcs'!$D$3:$D$14,$B7) -> 3.5238919 | H7: =SUMIFS('Data and Calcs'!J$3:J$14,'Data and Calcs'!$C$3:$C$14,$A7,'Data and Calcs'!$D$3:$D$14,$B7) -> 3.6959162 | I7: =SUMIFS('Data and Calcs'!K$3:K$14,'Data and Calcs'!$C$3:$C$14,$A7,'Data and Calcs'!$D$3:$D$14,$B7) -> 3.6618677 | J7: =SUMIFS('Data and Calcs'!L$3:L$14,'Data and Calcs'!$C$3:$C$14,$A7,'Data and Calcs'!$D$3:$D$14,$B7) -> 3.7189375 | ... W7: =SUMIFS('Data and Calcs'!Y$3:Y$14,'Data and Calcs'!$C$3:$C$14,$A7,'Data and Calcs'!$D$3:$D$14,$B7) -> 3.7991727
A8: Policy of 100% SCC | B8: C | C8: =SUMIFS('Data and Calcs'!E$3:E$14,'Data and Calcs'!$C$3:$C$14,$A8,'Data and Calcs'!$D$3:$D$14,$B8) -> 656.68126 | D8: =SUMIFS('Data and Calcs'!F$3:F$14,'Data and Calcs'!$C$3:$C$14,$A8,'Data and Calcs'!$D$3:$D$14,$B8) -> 512.1276 | E8: =SUMIFS('Data and Calcs'!G$3:G$14,'Data and Calcs'!$C$3:$C$14,$A8,'Data and Calcs'!$D$3:$D$14,$B8) -> 498.68672 | F8: =SUMIFS('Data and Calcs'!H$3:H$14,'Data and Calcs'!$C$3:$C$14,$A8,'Data and Calcs'!$D$3:$D$14,$B8) -> 479.21304 | G8: =SUMIFS('Data and Calcs'!I$3:I$14,'Data and Calcs'!$C$3:$C$14,$A8,'Data and Calcs'!$D$3:$D$14,$B8) -> 486.71871 | H8: =SUMIFS('Data and Calcs'!J$3:J$14,'Data and Calcs'!$C$3:$C$14,$A8,'Data and Calcs'!$D$3:$D$14,$B8) -> 480.30365 | I8: =SUMIFS('Data and Calcs'!K$3:K$14,'Data and Calcs'!$C$3:$C$14,$A8,'Data and Calcs'!$D$3:$D$14,$B8) -> 478.97672 | J8: =SUMIFS('Data and Calcs'!L$3:L$14,'Data and Calcs'!$C$3:$C$14,$A8,'Data and Calcs'!$D$3:$D$14,$B8) -> 474.97689 | ... W8: =SUMIFS('Data and Calcs'!Y$3:Y$14,'Data and Calcs'!$C$3:$C$14,$A8,'Data and Calcs'!$D$3:$D$14,$B8) -> 380.38431
A9: Market-based scenario | B9: C | C9: =SUMIFS('Data and Calcs'!E$3:E$14,'Data and Calcs'!$C$3:$C$14,$A9,'Data and Calcs'!$D$3:$D$14,$B9) -> 853.72571 | D9: =SUMIFS('Data and Calcs'!F$3:F$14,'Data and Calcs'!$C$3:$C$14,$A9,'Data and Calcs'!$D$3:$D$14,$B9) -> 910.45792 | E9: =SUMIFS('Data and Calcs'!G$3:G$14,'Data and Calcs'!$C$3:$C$14,$A9,'Data and Calcs'!$D$3:$D$14,$B9) -> 942.73184 | F9: =SUMIFS('Data and Calcs'!H$3:H$14,'Data and Calcs'!$C$3:$C$14,$A9,'Data and Calcs'!$D$3:$D$14,$B9) -> 974.42629 | G9: =SUMIFS('Data and Calcs'!I$3:I$14,'Data and Calcs'!$C$3:$C$14,$A9,'Data and Calcs'!$D$3:$D$14,$B9) -> 996.01262 | H9: =SUMIFS('Data and Calcs'!J$3:J$14,'Data and Calcs'!$C$3:$C$14,$A9,'Data and Calcs'!$D$3:$D$14,$B9) -> 1007.5811 | I9: =SUMIFS('Data and Calcs'!K$3:K$14,'Data and Calcs'!$C$3:$C$14,$A9,'Data and Calcs'!$D$3:$D$14,$B9) -> 1031.3199 | J9: =SUMIFS('Data and Calcs'!L$3:L$14,'Data and Calcs'!$C$3:$C$14,$A9,'Data and Calcs'!$D$3:$D$14,$B9) -> 1040.9525 | ... W9: =SUMIFS('Data and Calcs'!Y$3:Y$14,'Data and Calcs'!$C$3:$C$14,$A9,'Data and Calcs'!$D$3:$D$14,$B9) -> 989.6671
A10: Policy of 100% SCC | B10: S | C10: =SUMIFS('Data and Calcs'!E$3:E$14,'Data and Calcs'!$C$3:$C$14,$A10,'Data and Calcs'!$D$3:$D$14,$B10) -> 25.079932 | D10: =SUMIFS('Data and Calcs'!F$3:F$14,'Data and Calcs'!$C$3:$C$14,$A10,'Data and Calcs'!$D$3:$D$14,$B10) -> 25.535734 | E10: =SUMIFS('Data and Calcs'!G$3:G$14,'Data and Calcs'!$C$3:$C$14,$A10,'Data and Calcs'!$D$3:$D$14,$B10) -> 25.047372 | F10: =SUMIFS('Data and Calcs'!H$3:H$14,'Data and Calcs'!$C$3:$C$14,$A10,'Data and Calcs'!$D$3:$D$14,$B10) -> 25.22855 | G10: =SUMIFS('Data and Calcs'!I$3:I$14,'Data and Calcs'!$C$3:$C$14,$A10,'Data and Calcs'!$D$3:$D$14,$B10) -> 25.12087 | H10: =SUMIFS('Data and Calcs'!J$3:J$14,'Data and Calcs'!$C$3:$C$14,$A10,'Data and Calcs'!$D$3:$D$14,$B10) -> 25.042661 | I10: =SUMIFS('Data and Calcs'!K$3:K$14,'Data and Calcs'!$C$3:$C$14,$A10,'Data and Calcs'!$D$3:$D$14,$B10) -> 25.039765 | J10: =SUMIFS('Data and Calcs'!L$3:L$14,'Data and Calcs'!$C$3:$C$14,$A10,'Data and Calcs'!$D$3:$D$14,$B10) -> 25.057931 | ... W10: =SUMIFS('Data and Calcs'!Y$3:Y$14,'Data and Calcs'!$C$3:$C$14,$A10,'Data and Calcs'!$D$3:$D$14,$B10) -> 25.009511
A11: Market-based scenario | B11: S | C11: =SUMIFS('Data and Calcs'!E$3:E$14,'Data and Calcs'!$C$3:$C$14,$A11,'Data and Calcs'!$D$3:$D$14,$B11) -> 25.079932 | D11: =SUMIFS('Data and Calcs'!F$3:F$14,'Data and Calcs'!$C$3:$C$14,$A11,'Data and Calcs'!$D$3:$D$14,$B11) -> 25.535734 | E11: =SUMIFS('Data and Calcs'!G$3:G$14,'Data and Calcs'!$C$3:$C$14,$A11,'Data and Calcs'!$D$3:$D$14,$B11) -> 25.047372 | F11: =SUMIFS('Data and Calcs'!H$3:H$14,'Data and Calcs'!$C$3:$C$14,$A11,'Data and Calcs'!$D$3:$D$14,$B11) -> 25.22855 | G11: =SUMIFS('Data and Calcs'!I$3:I$14,'Data and Calcs'!$C$3:$C$14,$A11,'Data and Calcs'!$D$3:$D$14,$B11) -> 25.259158 | H11: =SUMIFS('Data and Calcs'!J$3:J$14,'Data and Calcs'!$C$3:$C$14,$A11,'Data and Calcs'!$D$3:$D$14,$B11) -> 25.836763 | I11: =SUMIFS('Data and Calcs'!K$3:K$14,'Data and Calcs'!$C$3:$C$14,$A11,'Data and Calcs'!$D$3:$D$14,$B11) -> 26.244161 | J11: =SUMIFS('Data and Calcs'!L$3:L$14,'Data and Calcs'!$C$3:$C$14,$A11,'Data and Calcs'!$D$3:$D$14,$B11) -> 28.277676 | ... W11: =SUMIFS('Data and Calcs'!Y$3:Y$14,'Data and Calcs'!$C$3:$C$14,$A11,'Data and Calcs'!$D$3:$D$14,$B11) -> 25.269749

Sheet Compare 50%SCC vs MarketBased
A1: Comparison Policy of 50% SCC vs Market-based scenario
C3: 2020 | D3: 2021 | E3: 2022 | F3: 2023 | G3: 2024 | H3: 2025 | I3: 2026 | J3: 2027 | K3: 2028 | L3: 2029 | M3: 2030 | N3: 2031 | O3: 2032 | P3: 2033 | Q3: 2034 | R3: 2035 | S3: 2036 | T3: 2037 | U3: 2038 | V3: 2039 | W3: 2040
A4: Policy of 50% SCC | B4: AT | C4: =SUMIFS('Data and Calcs'!E$3:E$14,'Data and Calcs'!$C$3:$C$14,$A4,'Data and Calcs'!$D$3:$D$14,$B4) -> 0.54672655 | D4: =SUMIFS('Data and Calcs'!F$3:F$14,'Data and Calcs'!$C$3:$C$14,$A4,'Data and Calcs'!$D$3:$D$14,$B4) -> 0.6748113 | E4: =SUMIFS('Data and Calcs'!G$3:G$14,'Data and Calcs'!$C$3:$C$14,$A4,'Data and Calcs'!$D$3:$D$14,$B4) -> 0.67682609 | F4: =SUMIFS('Data and Calcs'!H$3:H$14,'Data and Calcs'!$C$3:$C$14,$A4,'Data and Calcs'!$D$3:$D$14,$B4) -> 0.68665206 | G4: =SUMIFS('Data and Calcs'!I$3:I$14,'Data and Calcs'!$C$3:$C$14,$A4,'Data and Calcs'!$D$3:$D$14,$B4) -> 0.66187682 | H4: =SUMIFS('Data and Calcs'!J$3:J$14,'Data and Calcs'!$C$3:$C$14,$A4,'Data and Calcs'!$D$3:$D$14,$B4) -> 0.64262967 | I4: =SUMIFS('Data and Calcs'!K$3:K$14,'Data and Calcs'!$C$3:$C$14,$A4,'Data and Calcs'!$D$3:$D$14,$B4) -> 0.62189652 | J4: =SUMIFS('Data and Calcs'!L$3:L$14,'Data and Calcs'!$C$3:$C$14,$A4,'Data and Calcs'!$D$3:$D$14,$B4) -> 0.61351112 | ... W4: =SUMIFS('Data and Calcs'!Y$3:Y$14,'Data and Calcs'!$C$3:$C$14,$A4,'Data and Calcs'!$D$3:$D$14,$B4) -> 0.58309827
A5: Market-based scenario | B5: AT | C5: =SUMIFS('Data and Calcs'!E$3:E$14,'Data and Calcs'!$C$3:$C$14,$A5,'Data and Calcs'!$D$3:$D$14,$B5) -> 0.5409863 | D5: =SUMIFS('Data and Calcs'!F$3:F$14,'Data and Calcs'!$C$3:$C$14,$A5,'Data and Calcs'!$D$3:$D$14,$B5) -> 0.52254669 | E5: =SUMIFS('Data and Calcs'!G$3:G$14,'Data and Calcs'!$C$3:$C$14,$A5,'Data and Calcs'!$D$3:$D$14,$B5) -> 0.48078029 | F5: =SUMIFS('Data and Calcs'!H$3:H$14,'Data and Calcs'!$C$3:$C$14,$A5,'Data and Calcs'!$D$3:$D$14,$B5) -> 0.43327163 | G5: =SUMIFS('Data and Calcs'!I$3:I$14,'Data and Calcs'!$C$3:$C$14,$A5,'Data and Calcs'!$D$3:$D$14,$B5) -> 0.39909746 | H5: =SUMIFS('Data and Calcs'!J$3:J$14,'Data and Calcs'!$C$3:$C$14,$A5,'Data and Calcs'!$D$3:$D$14,$B5) -> 0.38047848 | I5: =SUMIFS('Data and Calcs'!K$3:K$14,'Data and Calcs'!$C$3:$C$14,$A5,'Data and Calcs'!$D$3:$D$14,$B5) -> 0.34394265 | J5: =SUMIFS('Data and Calcs'!L$3:L$14,'Data and Calcs'!$C$3:$C$14,$A5,'Data and Calcs'!$D$3:$D$14,$B5) -> 0.32268204 | ... W5: =SUMIFS('Data and Calcs'!Y$3:Y$14,'Data and Calcs'!$C$3:$C$14,$A5,'Data and Calcs'!$D$3:$D$14,$B5) -> 0.29081024
A6: Policy of 50% SCC | B6: P | C6: =SUMIFS('Data and Calcs'!E$3:E$14,'Data and Calcs'!$C$3:$C$14,$A6,'Data and Calcs'!$D$3:$D$14,$B6) -> 4.4253843 | D6: =SUMIFS('Data and Calcs'!F$3:F$14,'Data and Calcs'!$C$3:$C$14,$A6,'Data and Calcs'!$D$3:$D$14,$B6) -> 4.3773839 | E6: =SUMIFS('Data and Calcs'!G$3:G$14,'Data and Calcs'!$C$3:$C$14,$A6,'Data and Calcs'!$D$3:$D$14,$B6) -> 4.1244893 | F6: =SUMIFS('Data and Calcs'!H$3:H$14,'Data and Calcs'!$C$3:$C$14,$A6,'Data and Calcs'!$D$3:$D$14,$B6) -> 3.8885784 | G6: =SUMIFS('Data and Calcs'!I$3:I$14,'Data and Calcs'!$C$3:$C$14,$A6,'Data and Calcs'!$D$3:$D$14,$B6) -> 3.5785401 | H6: =SUMIFS('Data and Calcs'!J$3:J$14,'Data and Calcs'!$C$3:$C$14,$A6,'Data and Calcs'!$D$3:$D$14,$B6) -> 3.9309761 | I6: =SUMIFS('Data and Calcs'!K$3:K$14,'Data and Calcs'!$C$3:$C$14,$A6,'Data and Calcs'!$D$3:$D$14,$B6) -> 4.1172736 | J6: =SUMIFS('Data and Calcs'!L$3:L$14,'Data and Calcs'!$C$3:$C$14,$A6,'Data and Calcs'!$D$3:$D$14,$B6) -> 4.2343003 | ... W6: =SUMIFS('Data and Calcs'!Y$3:Y$14,'Data and Calcs'!$C$3:$C$14,$A6,'Data and Calcs'!$D$3:$D$14,$B6) -> 5.1338818
A7: Market-based scenario | B7: P | C7: =SUMIFS('Data and Calcs'!E$3:E$14,'Data and Calcs'!$C$3:$C$14,$A7,'Data and Calcs'!$D$3:$D$14,$B7) -> 3.3021268 | D7: =SUMIFS('Data and Calcs'!F$3:F$14,'Data and Calcs'!$C$3:$C$14,$A7,'Data and Calcs'!$D$3:$D$14,$B7) -> 3.4408177 | E7: =SUMIFS('Data and Calcs'!G$3:G$14,'Data and Calcs'!$C$3:$C$14,$A7,'Data and Calcs'!$D$3:$D$14,$B7) -> 3.3939207 | F7: =SUMIFS('Data and Calcs'!H$3:H$14,'Data and Calcs'!$C$3:$C$14,$A7,'Data and Calcs'!$D$3:$D$14,$B7) -> 3.5926519 | G7: =SUMIFS('Data and Calcs'!I$3:I$14,'Data and Calcs'!$C$3:$C$14,$A7,'Data and Calcs'!$D$3:$D$14,$B7) -> 3.5238919 | H7: =SUMIFS('Data and Calcs'!J$3:J$14,'Data and Calcs'!$C$3:$C$14,$A7,'Data and Calcs'!$D$3:$D$14,$B7) -> 3.6959162 | I7: =SUMIFS('Data and Calcs'!K$3:K$14,'Data and Calcs'!$C$3:$C$14,$A7,'Data and Calcs'!$D$3:$D$14,$B7) -> 3.6618677 | J7: =SUMIFS('Data and Calcs'!L$3:L$14,'Data and Calcs'!$C$3:$C$14,$A7,'Data and Calcs'!$D$3:$D$14,$B7) -> 3.7189375 | ... W7: =SUMIFS('Data and Calcs'!Y$3:Y$14,'Data and Calcs'!$C$3:$C$14,$A7,'Data and Calcs'!$D$3:$D$14,$B7) -> 3.7991727
A8: Policy of 50% SCC | B8: C | C8: =SUMIFS('Data and Calcs'!E$3:E$14,'Data and Calcs'!$C$3:$C$14,$A8,'Data and Calcs'!$D$3:$D$14,$B8) -> 661.01426 | D8: =SUMIFS('Data and Calcs'!F$3:F$14,'Data and Calcs'!$C$3:$C$14,$A8,'Data and Calcs'!$D$3:$D$14,$B8) -> 559.62707 | E8: =SUMIFS('Data and Calcs'!G$3:G$14,'Data and Calcs'!$C$3:$C$14,$A8,'Data and Calcs'!$D$3:$D$14,$B8) -> 533.81987 | F8: =SUMIFS('Data and Calcs'!H$3:H$14,'Data and Calcs'!$C$3:$C$14,$A8,'Data and Calcs'!$D$3:$D$14,$B8) -> 496.98687 | G8: =SUMIFS('Data and Calcs'!I$3:I$14,'Data and Calcs'!$C$3:$C$14,$A8,'Data and Calcs'!$D$3:$D$14,$B8) -> 507.31734 | H8: =SUMIFS('Data and Calcs'!J$3:J$14,'Data and Calcs'!$C$3:$C$14,$A8,'Data and Calcs'!$D$3:$D$14,$B8) -> 510.59988 | I8: =SUMIFS('Data and Calcs'!K$3:K$14,'Data and Calcs'!$C$3:$C$14,$A8,'Data and Calcs'!$D$3:$D$14,$B8) -> 517.97324 | J8: =SUMIFS('Data and Calcs'!L$3:L$14,'Data and Calcs'!$C$3:$C$14,$A8,'Data and Calcs'!$D$3:$D$14,$B8) -> 519.84723 | ... W8: =SUMIFS('Data and Calcs'!Y$3:Y$14,'Data and Calcs'!$C$3:$C$14,$A8,'Data and Calcs'!$D$3:$D$14,$B8) -> 508.88209
A9: Market-based scenario | B9: C | C9: =SUMIFS('Data and Calcs'!E$3:E$14,'Data and Calcs'!$C$3:$C$14,$A9,'Data and Calcs'!$D$3:$D$14,$B9) -> 853.72571 | D9: =SUMIFS('Data and Calcs'!F$3:F$14,'Data and Calcs'!$C$3:$C$14,$A9,'Data and Calcs'!$D$3:$D$14,$B9) -> 910.45792 | E9: =SUMIFS('Data and Calcs'!G$3:G$14,'Data and Calcs'!$C$3:$C$14,$A9,'Data and Calcs'!$D$3:$D$14,$B9) -> 942.73184 | F9: =SUMIFS('Data and Calcs'!H$3:H$14,'Data and Calcs'!$C$3:$C$14,$A9,'Data and Calcs'!$D$3:$D$14,$B9) -> 974.42629 | G9: =SUMIFS('Data and Calcs'!I$3:I$14,'Data and Calcs'!$C$3:$C$14,$A9,'Data and Calcs'!$D$3:$D$14,$B9) -> 996.01262 | H9: =SUMIFS('Data and Calcs'!J$3:J$14,'Data and Calcs'!$C$3:$C$14,$A9,'Data and Calcs'!$D$3:$D$14,$B9) -> 1007.5811 | I9: =SUMIFS('Data and Calcs'!K$3:K$14,'Data and Calcs'!$C$3:$C$14,$A9,'Data and Calcs'!$D$3:$D$14,$B9) -> 1031.3199 | J9: =SUMIFS('Data and Calcs'!L$3:L$14,'Data and Calcs'!$C$3:$C$14,$A9,'Data and Calcs'!$D$3:$D$14,$B9) -> 1040.9525 | ... W9: =SUMIFS('Data and Calcs'!Y$3:Y$14,'Data and Calcs'!$C$3:$C$14,$A9,'Data and Calcs'!$D$3:$D$14,$B9) -> 989.6671
A10: Policy of 50% SCC | B10: S | C10: =SUMIFS('Data and Calcs'!E$3:E$14,'Data and Calcs'!$C$3:$C$14,$A10,'Data and Calcs'!$D$3:$D$14,$B10) -> 24.996632 | D10: =SUMIFS('Data and Calcs'!F$3:F$14,'Data and Calcs'!$C$3:$C$14,$A10,'Data and Calcs'!$D$3:$D$14,$B10) -> 25.45636 | E10: =SUMIFS('Data and Calcs'!G$3:G$14,'Data and Calcs'!$C$3:$C$14,$A10,'Data and Calcs'!$D$3:$D$14,$B10) -> 25.7288 | F10: =SUMIFS('Data and Calcs'!H$3:H$14,'Data and Calcs'!$C$3:$C$14,$A10,'Data and Calcs'!$D$3:$D$14,$B10) -> 25.156229 | G10: =SUMIFS('Data and Calcs'!I$3:I$14,'Data and Calcs'!$C$3:$C$14,$A10,'Data and Calcs'!$D$3:$D$14,$B10) -> 25.190014 | H10: =SUMIFS('Data and Calcs'!J$3:J$14,'Data and Calcs'!$C$3:$C$14,$A10,'Data and Calcs'!$D$3:$D$14,$B10) -> 25.108836 | I10: =SUMIFS('Data and Calcs'!K$3:K$14,'Data and Calcs'!$C$3:$C$14,$A10,'Data and Calcs'!$D$3:$D$14,$B10) -> 25.546879 | J10: =SUMIFS('Data and Calcs'!L$3:L$14,'Data and Calcs'!$C$3:$C$14,$A10,'Data and Calcs'!$D$3:$D$14,$B10) -> 25.179431 | ... W10: =SUMIFS('Data and Calcs'!Y$3:Y$14,'Data and Calcs'!$C$3:$C$14,$A10,'Data and Calcs'!$D$3:$D$14,$B10) -> 25.009511
A11: Market-based scenario | B11: S | C11: =SUMIFS('Data and Calcs'!E$3:E$14,'Data and Calcs'!$C$3:$C$14,$A11,'Data and Calcs'!$D$3:$D$14,$B11) -> 25.079932 | D11: =SUMIFS('Data and Calcs'!F$3:F$14,'Data and Calcs'!$C$3:$C$14,$A11,'Data and Calcs'!$D$3:$D$14,$B11) -> 25.535734 | E11: =SUMIFS('Data and Calcs'!G$3:G$14,'Data and Calcs'!$C$3:$C$14,$A11,'Data and Calcs'!$D$3:$D$14,$B11) -> 25.047372 | F11: =SUMIFS('Data and Calcs'!H$3:H$14,'Data and Calcs'!$C$3:$C$14,$A11,'Data and Calcs'!$D$3:$D$14,$B11) -> 25.22855 | G11: =SUMIFS('Data and Calcs'!I$3:I$14,'Data and Calcs'!$C$3:$C$14,$A11,'Data and Calcs'!$D$3:$D$14,$B11) -> 25.259158 | H11: =SUMIFS('Data and Calcs'!J$3:J$14,'Data and Calcs'!$C$3:$C$14,$A11,'Data and Calcs'!$D$3:$D$14,$B11) -> 25.836763 | I11: =SUMIFS('Data and Calcs'!K$3:K$14,'Data and Calcs'!$C$3:$C$14,$A11,'Data and Calcs'!$D$3:$D$14,$B11) -> 26.244161 | J11: =SUMIFS('Data and Calcs'!L$3:L$14,'Data and Calcs'!$C$3:$C$14,$A11,'Data and Calcs'!$D$3:$D$14,$B11) -> 28.277676 | ... W11: =SUMIFS('Data and Calcs'!Y$3:Y$14,'Data and Calcs'!$C$3:$C$14,$A11,'Data and Calcs'!$D$3:$D$14,$B11) -> 25.269749

Sheet Policy of 100% SCC
C2: 2020 | D2: 2021 | E2: 2022 | F2: 2023 | G2: 2024 | H2: 2025 | I2: 2026 | J2: 2027 | K2: 2028 | L2: 2029 | M2: 2030 | N2: 2031 | O2: 2032 | P2: 2033 | Q2: 2034 | R2: 2035 | S2: 2036 | T2: 2037 | U2: 2038 | V2: 2039 | W2: 2040
A3: Policy of 100% SCC | B3: AT | C3: =SUMIFS('Data and Calcs'!E$3:E$14,'Data and Calcs'!$C$3:$C$14,'Policy of 100% SCC'!$A3,'Data and Calcs'!$D$3:$D$14,'Policy of 100% SCC'!$B3) -> 0.55125338 | D3: =SUMIFS('Data and Calcs'!F$3:F$14,'Data and Calcs'!$C$3:$C$14,'Policy of 100% SCC'!$A3,'Data and Calcs'!$D$3:$D$14,'Policy of 100% SCC'!$B3) -> 0.71740618 | E3: =SUMIFS('Data and Calcs'!G$3:G$14,'Data and Calcs'!$C$3:$C$14,'Policy of 100% SCC'!$A3,'Data and Calcs'!$D$3:$D$14,'Policy of 100% SCC'!$B3) -> 0.71824749 | F3: =SUMIFS('Data and Calcs'!H$3:H$14,'Data and Calcs'!$C$3:$C$14,'Policy of 100% SCC'!$A3,'Data and Calcs'!$D$3:$D$14,'Policy of 100% SCC'!$B3) -> 0.71497301 | G3: =SUMIFS('Data and Calcs'!I$3:I$14,'Data and Calcs'!$C$3:$C$14,'Policy of 100% SCC'!$A3,'Data and Calcs'!$D$3:$D$14,'Policy of 100% SCC'!$B3) -> 0.69555079 | H3: =SUMIFS('Data and Calcs'!J$3:J$14,'Data and Calcs'!$C$3:$C$14,'Policy of 100% SCC'!$A3,'Data and Calcs'!$D$3:$D$14,'Policy of 100% SCC'!$B3) -> 0.68472012 | I3: =SUMIFS('Data and Calcs'!K$3:K$14,'Data and Calcs'!$C$3:$C$14,'Policy of 100% SCC'!$A3,'Data and Calcs'!$D$3:$D$14,'Policy of 100% SCC'!$B3) -> 0.66756699 | J3: =SUMIFS('Data and Calcs'!L$3:L$14,'Data and Calcs'!$C$3:$C$14,'Policy of 100% SCC'!$A3,'Data and Calcs'!$D$3:$D$14,'Policy of 100% SCC'!$B3) -> 0.64873304 | ... W3: =SUMIFS('Data and Calcs'!Y$3:Y$14,'Data and Calcs'!$C$3:$C$14,'Policy of 100% SCC'!$A3,'Data and Calcs'!$D$3:$D$14,'Policy of 100% SCC'!$B3) -> 0.66240524
A4: Policy of 100% SCC | B4: P | C4: =SUMIFS('Data and Calcs'!E$3:E$14,'Data and Calcs'!$C$3:$C$14,'Policy of 100% SCC'!$A4,'Data and Calcs'!$D$3:$D$14,'Policy of 100% SCC'!$B4) -> 5.4047155 | D4: =SUMIFS('Data and Calcs'!F$3:F$14,'Data and Calcs'!$C$3:$C$14,'Policy of 100% SCC'!$A4,'Data and Calcs'!$D$3:$D$14,'Policy of 100% SCC'!$B4) -> 4.9909348 | E4: =SUMIFS('Data and Calcs'!G$3:G$14,'Data and Calcs'!$C$3:$C$14,'Policy of 100% SCC'!$A4,'Data and Calcs'!$D$3:$D$14,'Policy of 100% SCC'!$B4) -> 4.1943883 | F4: =SUMIFS('Data and Calcs'!H$3:H$14,'Data and Calcs'!$C$3:$C$14,'Policy of 100% SCC'!$A4,'Data and Calcs'!$D$3:$D$14,'Policy of 100% SCC'!$B4) -> 4.0092723 | G4: =SUMIFS('Data and Calcs'!I$3:I$14,'Data and Calcs'!$C$3:$C$14,'Policy of 100% SCC'!$A4,'Data and Calcs'!$D$3:$D$14,'Policy of 100% SCC'!$B4) -> 3.7730202 | H4: =SUMIFS('Data and Calcs'!J$3:J$14,'Data and Calcs'!$C$3:$C$14,'Policy of 100% SCC'!$A4,'Data and Calcs'!$D$3:$D$14,'Policy of 100% SCC'!$B4) -> 4.0292679 | I4: =SUMIFS('Data and Calcs'!K$3:K$14,'Data and Calcs'!$C$3:$C$14,'Policy of 100% SCC'!$A4,'Data and Calcs'!$D$3:$D$14,'Policy of 100% SCC'!$B4) -> 5.0105478 | J4: =SUMIFS('Data and Calcs'!L$3:L$14,'Data and Calcs'!$C$3:$C$14,'Policy of 100% SCC'!$A4,'Data and Calcs'!$D$3:$D$14,'Policy of 100% SCC'!$B4) -> 5.1188522 | ... W4: =SUMIFS('Data and Calcs'!Y$3:Y$14,'Data and Calcs'!$C$3:$C$14,'Policy of 100% SCC'!$A4,'Data and Calcs'!$D$3:$D$14,'Policy of 100% SCC'!$B4) -> 6.7362136
A5: Policy of 100% SCC | B5: C | C5: =SUMIFS('Data and Calcs'!E$3:E$14,'Data and Calcs'!$C$3:$C$14,'Policy of 100% SCC'!$A5,'Data and Calcs'!$D$3:$D$14,'Policy of 100% SCC'!$B5) -> 656.68126 | D5: =SUMIFS('Data and Calcs'!F$3:F$14,'Data and Calcs'!$C$3:$C$14,'Policy of 100% SCC'!$A5,'Data and Calcs'!$D$3:$D$14,'Policy of 100% SCC'!$B5) -> 512.1276 | E5: =SUMIFS('Data and Calcs'!G$3:G$14,'Data and Calcs'!$C$3:$C$14,'Policy of 100% SCC'!$A5,'Data and Calcs'!$D$3:$D$14,'Policy of 100% SCC'!$B5) -> 498.68672 | F5: =SUMIFS('Data and Calcs'!H$3:H$14,'Data and Calcs'!$C$3:$C$14,'Policy of 100% SCC'!$A5,'Data and Calcs'!$D$3:$D$14,'Policy of 100% SCC'!$B5) -> 479.21304 | G5: =SUMIFS('Data and Calcs'!I$3:I$14,'Data and Calcs'!$C$3:$C$14,'Policy of 100% SCC'!$A5,'Data and Calcs'!$D$3:$D$14,'Policy of 100% SCC'!$B5) -> 486.71871 | H5: =SUMIFS('Data and Calcs'!J$3:J$14,'Data and Calcs'!$C$3:$C$14,'Policy of 100% SCC'!$A5,'Data and Calcs'!$D$3:$D$14,'Policy of 100% SCC'!$B5) -> 480.30365 | I5: =SUMIFS('Data and Calcs'!K$3:K$14,'Data and Calcs'!$C$3:$C$14,'Policy of 100% SCC'!$A5,'Data and Calcs'!$D$3:$D$14,'Policy of 100% SCC'!$B5) -> 478.97672 | J5: =SUMIFS('Data and Calcs'!L$3:L$14,'Data and Calcs'!$C$3:$C$14,'Policy of 100% SCC'!$A5,'Data and Calcs'!$D$3:$D$14,'Policy of 100% SCC'!$B5) -> 474.97689 | ... W5: =SUMIFS('Data and Calcs'!Y$3:Y$14,'Data and Calcs'!$C$3:$C$14,'Policy of 100% SCC'!$A5,'Data and Calcs'!$D$3:$D$14,'Policy of 100% SCC'!$B5) -> 380.38431
A6: Policy of 100% SCC | B6: S | C6: =SUMIFS('Data and Calcs'!E$3:E$14,'Data and Calcs'!$C$3:$C$14,'Policy of 100% SCC'!$A6,'Data and Calcs'!$D$3:$D$14,'Policy of 100% SCC'!$B6) -> 25.079932 | D6: =SUMIFS('Data and Calcs'!F$3:F$14,'Data and Calcs'!$C$3:$C$14,'Policy of 100% SCC'!$A6,'Data and Calcs'!$D$3:$D$14,'Policy of 100% SCC'!$B6) -> 25.535734 | E6: =SUMIFS('Data and Calcs'!G$3:G$14,'Data and Calcs'!$C$3:$C$14,'Policy of 100% SCC'!$A6,'Data and Calcs'!$D$3:$D$14,'Policy of 100% SCC'!$B6) -> 25.047372 | F6: =SUMIFS('Data and Calcs'!H$3:H$14,'Data and Calcs'!$C$3:$C$14,'Policy of 100% SCC'!$A6,'Data and Calcs'!$D$3:$D$14,'Policy of 100% SCC'!$B6) -> 25.22855 | G6: =SUMIFS('Data and Calcs'!I$3:I$14,'Data and Calcs'!$C$3:$C$14,'Policy of 100% SCC'!$A6,'Data and Calcs'!$D$3:$D$14,'Policy of 100% SCC'!$B6) -> 25.12087 | H6: =SUMIFS('Data and Calcs'!J$3:J$14,'Data and Calcs'!$C$3:$C$14,'Policy of 100% SCC'!$A6,'Data and Calcs'!$D$3:$D$14,'Policy of 100% SCC'!$B6) -> 25.042661 | I6: =SUMIFS('Data and Calcs'!K$3:K$14,'Data and Calcs'!$C$3:$C$14,'Policy of 100% SCC'!$A6,'Data and Calcs'!$D$3:$D$14,'Policy of 100% SCC'!$B6) -> 25.039765 | J6: =SUMIFS('Data and Calcs'!L$3:L$14,'Data and Calcs'!$C$3:$C$14,'Policy of 100% SCC'!$A6,'Data and Calcs'!$D$3:$D$14,'Policy of 100% SCC'!$B6) -> 25.057931 | ... W6: =SUMIFS('Data and Calcs'!Y$3:Y$14,'Data and Calcs'!$C$3:$C$14,'Policy of 100% SCC'!$A6,'Data and Calcs'!$D$3:$D$14,'Policy of 100% SCC'!$B6) -> 25.009511
A8: Policy of 100% SCC | B8: AT | C8: =SUMIFS('Data and Calcs'!E$30:E$41,'Data and Calcs'!$C$3:$C$14,'Policy of 100% SCC'!$A8,'Data and Calcs'!$D$3:$D$14,'Policy of 100% SCC'!$B8) -> 0.61569239 | D8: =SUMIFS('Data and Calcs'!F$30:F$41,'Data and Calcs'!$C$3:$C$14,'Policy of 100% SCC'!$A8,'Data and Calcs'!$D$3:$D$14,'Policy of 100% SCC'!$B8) -> 0.99806388 | E8: =SUMIFS('Data and Calcs'!G$30:G$41,'Data and Calcs'!$C$3:$C$14,'Policy of 100% SCC'!$A8,'Data and Calcs'!$D$3:$D$14,'Policy of 100% SCC'!$B8) -> 1 | F8: =SUMIFS('Data and Calcs'!H$30:H$41,'Data and Calcs'!$C$3:$C$14,'Policy of 100% SCC'!$A8,'Data and Calcs'!$D$3:$D$14,'Policy of 100% SCC'!$B8) -> 0.99246437 | G8: =SUMIFS('Data and Calcs'!I$30:I$41,'Data and Calcs'!$C$3:$C$14,'Policy of 100% SCC'!$A8,'Data and Calcs'!$D$3:$D$14,'Policy of 100% SCC'!$B8) -> 0.94776753 | H8: =SUMIFS('Data and Calcs'!J$30:J$41,'Data and Calcs'!$C$3:$C$14,'Policy of 100% SCC'!$A8,'Data and Calcs'!$D$3:$D$14,'Policy of 100% SCC'!$B8) -> 0.92284266 | I8: =SUMIFS('Data and Calcs'!K$30:K$41,'Data and Calcs'!$C$3:$C$14,'Policy of 100% SCC'!$A8,'Data and Calcs'!$D$3:$D$14,'Policy of 100% SCC'!$B8) -> 0.88336773 | J8: =SUMIFS('Data and Calcs'!L$30:L$41,'Data and Calcs'!$C$3:$C$14,'Policy of 100% SCC'!$A8,'Data and Calcs'!$D$3:$D$14,'Policy of 100% SCC'!$B8) -> 0.84002471 | ... W8: =SUMIFS('Data and Calcs'!Y$30:Y$41,'Data and Calcs'!$C$3:$C$14,'Policy of 100% SCC'!$A8,'Data and Calcs'!$D$3:$D$14,'Policy of 100% SCC'!$B8) -> 0.87148889
A9: Policy of 100% SCC | B9: P | C9: =SUMIFS('Data and Calcs'!E$30:E$41,'Data and Calcs'!$C$3:$C$14,'Policy of 100% SCC'!$A9,'Data and Calcs'!$D$3:$D$14,'Policy of 100% SCC'!$B9) -> 0.2368919 | D9: =SUMIFS('Data and Calcs'!F$30:F$41,'Data and Calcs'!$C$3:$C$14,'Policy of 100% SCC'!$A9,'Data and Calcs'!$D$3:$D$14,'Policy of 100% SCC'!$B9) -> 0.3362524 | E9: =SUMIFS('Data and Calcs'!G$30:G$41,'Data and Calcs'!$C$3:$C$14,'Policy of 100% SCC'!$A9,'Data and Calcs'!$D$3:$D$14,'Policy of 100% SCC'!$B9) -> 0.58271947 | F9: =SUMIFS('Data and Calcs'!H$30:H$41,'Data and Calcs'!$C$3:$C$14,'Policy of 100% SCC'!$A9,'Data and Calcs'!$D$3:$D$14,'Policy of 100% SCC'!$B9) -> 0.65402252 | G9: =SUMIFS('Data and Calcs'!I$30:I$41,'Data and Calcs'!$C$3:$C$14,'Policy of 100% SCC'!$A9,'Data and Calcs'!$D$3:$D$14,'Policy of 100% SCC'!$B9) -> 0.75518499 | H9: =SUMIFS('Data and Calcs'!J$30:J$41,'Data and Calcs'!$C$3:$C$14,'Policy of 100% SCC'!$A9,'Data and Calcs'!$D$3:$D$14,'Policy of 100% SCC'!$B9) -> 0.64600499 | I9: =SUMIFS('Data and Calcs'!K$30:K$41,'Data and Calcs'!$C$3:$C$14,'Policy of 100% SCC'!$A9,'Data and Calcs'!$D$3:$D$14,'Policy of 100% SCC'!$B9) -> 0.33117226 | J9: =SUMIFS('Data and Calcs'!L$30:L$41,'Data and Calcs'!$C$3:$C$14,'Policy of 100% SCC'!$A9,'Data and Calcs'!$D$3:$D$14,'Policy of 100% SCC'!$B9) -> 0.30382041 | ... W9: =SUMIFS('Data and Calcs'!Y$30:Y$41,'Data and Calcs'!$C$3:$C$14,'Policy of 100% SCC'!$A9,'Data and Calcs'!$D$3:$D$14,'Policy of 100% SCC'!$B9) -> 0
A10: Policy of 100% SCC | B10: C | C10: =SUMIFS('Data and Calcs'!E$30:E$41,'Data and Calcs'!$C$3:$C$14,'Policy of 100% SCC'!$A10,'Data and Calcs'!$D$3:$D$14,'Policy of 100% SCC'!$B10) -> 0.33960404 | D10: =SUMIFS('Data and Calcs'!F$30:F$41,'Data and Calcs'!$C$3:$C$14,'Policy of 100% SCC'!$A10,'Data and Calcs'!$D$3:$D$14,'Policy of 100% SCC'!$B10) -> 0.59623072 | E10: =SUMIFS('Data and Calcs'!G$30:G$41,'Data and Calcs'!$C$3:$C$14,'Policy of 100% SCC'!$A10,'Data and Calcs'!$D$3:$D$14,'Policy of 100% SCC'!$B10) -> 0.62765226 | F10: =SUMIFS('Data and Calcs'!H$30:H$41,'Data and Calcs'!$C$3:$C$14,'Policy of 100% SCC'!$A10,'Data and Calcs'!$D$3:$D$14,'Policy of 100% SCC'!$B10) -> 0.67630384 | G10: =SUMIFS('Data and Calcs'!I$30:I$41,'Data and Calcs'!$C$3:$C$14,'Policy of 100% SCC'!$A10,'Data and Calcs'!$D$3:$D$14,'Policy of 100% SCC'!$B10) -> 0.65709114 | H10: =SUMIFS('Data and Calcs'!J$30:J$41,'Data and Calcs'!$C$3:$C$14,'Policy of 100% SCC'!$A10,'Data and Calcs'!$D$3:$D$14,'Policy of 100% SCC'!$B10) -> 0.67347485 | I10: =SUMIFS('Data and Calcs'!K$30:K$41,'Data and Calcs'!$C$3:$C$14,'Policy of 100% SCC'!$A10,'Data and Calcs'!$D$3:$D$14,'Policy of 100% SCC'!$B10) -> 0.67691855 | J10: =SUMIFS('Data and Calcs'!L$30:L$41,'Data and Calcs'!$C$3:$C$14,'Policy of 100% SCC'!$A10,'Data and Calcs'!$D$3:$D$14,'Policy of 100% SCC'!$B10) -> 0.68741543 | ... W10: =SUMIFS('Data and Calcs'!Y$30:Y$41,'Data and Calcs'!$C$3:$C$14,'Policy of 100% SCC'!$A10,'Data and Calcs'!$D$3:$D$14,'Policy of 100% SCC'!$B10) -> 1
A11: Policy of 100% SCC | B11: S | C11: =SUMIFS('Data and Calcs'!E$30:E$41,'Data and Calcs'!$C$3:$C$14,'Policy of 100% SCC'!$A11,'Data and Calcs'!$D$3:$D$14,'Policy of 100% SCC'!$B11) -> 0.025388091 | D11: =SUMIFS('Data and Calcs'!F$30:F$41,'Data and Calcs'!$C$3:$C$14,'Policy of 100% SCC'!$A11,'Data and Calcs'!$D$3:$D$14,'Policy of 100% SCC'!$B11) -> 0.16430799 | E11: =SUMIFS('Data and Calcs'!G$30:G$41,'Data and Calcs'!$C$3:$C$14,'Policy of 100% SCC'!$A11,'Data and Calcs'!$D$3:$D$14,'Policy of 100% SCC'!$B11) -> 0.01546458 | F11: =SUMIFS('Data and Calcs'!H$30:H$41,'Data and Calcs'!$C$3:$C$14,'Policy of 100% SCC'!$A11,'Data and Calcs'!$D$3:$D$14,'Policy of 100% SCC'!$B11) -> 0.07068405 | G11: =SUMIFS('Data and Calcs'!I$30:I$41,'Data and Calcs'!$C$3:$C$14,'Policy of 100% SCC'!$A11,'Data and Calcs'!$D$3:$D$14,'Policy of 100% SCC'!$B11) -> 0.03786532 | H11: =SUMIFS('Data and Calcs'!J$30:J$41,'Data and Calcs'!$C$3:$C$14,'Policy of 100% SCC'!$A11,'Data and Calcs'!$D$3:$D$14,'Policy of 100% SCC'!$B11) -> 0.014028653 | I11: =SUMIFS('Data and Calcs'!K$30:K$41,'Data and Calcs'!$C$3:$C$14,'Policy of 100% SCC'!$A11,'Data and Calcs'!$D$3:$D$14,'Policy of 100% SCC'!$B11) -> 0.013146028 | J11: =SUMIFS('Data and Calcs'!L$30:L$41,'Data and Calcs'!$C$3:$C$14,'Policy of 100% SCC'!$A11,'Data and Calcs'!$D$3:$D$14,'Policy of 100% SCC'!$B11) -> 0.018682633 | ... W11: =SUMIFS('Data and Calcs'!Y$30:Y$41,'Data and Calcs'!$C$3:$C$14,'Policy of 100% SCC'!$A11,'Data and Calcs'!$D$3:$D$14,'Policy of 100% SCC'!$B11) -> 0.0039253214

Sheet Figure 6_Trilemma Paper
C2: 2020 | D2: 2021 | E2: 2022 | F2: 2023 | G2: 2024 | H2: 2025 | I2: 2026 | J2: 2027 | K2: 2028 | L2: 2029 | M2: 2030 | N2: 2031 | O2: 2032 | P2: 2033 | Q2: 2034 | R2: 2035 | S2: 2036 | T2: 2037 | U2: 2038 | V2: 2039 | W2: 2040
A3: Market-based scenario | B3: AT | C3: =SUMIFS('Data and Calcs'!E$3:E$14,'Data and Calcs'!$C$3:$C$14,'Figure 6_Trilemma Paper'!$A3,'Data and Calcs'!$D$3:$D$14,'Figure 6_Trilemma Paper'!$B3) -> 0.5409863 | D3: =SUMIFS('Data and Calcs'!F$3:F$14,'Data and Calcs'!$C$3:$C$14,'Figure 6_Trilemma Paper'!$A3,'Data and Calcs'!$D$3:$D$14,'Figure 6_Trilemma Paper'!$B3) -> 0.52254669 | E3: =SUMIFS('Data and Calcs'!G$3:G$14,'Data and Calcs'!$C$3:$C$14,'Figure 6_Trilemma Paper'!$A3,'Data and Calcs'!$D$3:$D$14,'Figure 6_Trilemma Paper'!$B3) -> 0.48078029 | F3: =SUMIFS('Data and Calcs'!H$3:H$14,'Data and Calcs'!$C$3:$C$14,'Figure 6_Trilemma Paper'!$A3,'Data and Calcs'!$D$3:$D$14,'Figure 6_Trilemma Paper'!$B3) -> 0.43327163 | G3: =SUMIFS('Data and Calcs'!I$3:I$14,'Data and Calcs'!$C$3:$C$14,'Figure 6_Trilemma Paper'!$A3,'Data and Calcs'!$D$3:$D$14,'Figure 6_Trilemma Paper'!$B3) -> 0.39909746 | H3: =SUMIFS('Data and Calcs'!J$3:J$14,'Data and Calcs'!$C$3:$C$14,'Figure 6_Trilemma Paper'!$A3,'Data and Calcs'!$D$3:$D$14,'Figure 6_Trilemma Paper'!$B3) -> 0.38047848 | I3: =SUMIFS('Data and Calcs'!K$3:K$14,'Data and Calcs'!$C$3:$C$14,'Figure 6_Trilemma Paper'!$A3,'Data and Calcs'!$D$3:$D$14,'Figure 6_Trilemma Paper'!$B3) -> 0.34394265 | J3: =SUMIFS('Data and Calcs'!L$3:L$14,'Data and Calcs'!$C$3:$C$14,'Figure 6_Trilemma Paper'!$A3,'Data and Calcs'!$D$3:$D$14,'Figure 6_Trilemma Paper'!$B3) -> 0.32268204 | ... W3: =SUMIFS('Data and Calcs'!Y$3:Y$14,'Data and Calcs'!$C$3:$C$14,'Figure 6_Trilemma Paper'!$A3,'Data and Calcs'!$D$3:$D$14,'Figure 6_Trilemma Paper'!$B3) -> 0.29081024
A4: Market-based scenario | B4: P | C4: =SUMIFS('Data and Calcs'!E$3:E$14,'Data and Calcs'!$C$3:$C$14,'Figure 6_Trilemma Paper'!$A4,'Data and Calcs'!$D$3:$D$14,'Figure 6_Trilemma Paper'!$B4) -> 3.3021268 | D4: =SUMIFS('Data and Calcs'!F$3:F$14,'Data and Calcs'!$C$3:$C$14,'Figure 6_Trilemma Paper'!$A4,'Data and Calcs'!$D$3:$D$14,'Figure 6_Trilemma Paper'!$B4) -> 3.4408177 | E4: =SUMIFS('Data and Calcs'!G$3:G$14,'Data and Calcs'!$C$3:$C$14,'Figure 6_Trilemma Paper'!$A4,'Data and Calcs'!$D$3:$D$14,'Figure 6_Trilemma Paper'!$B4) -> 3.3939207 | F4: =SUMIFS('Data and Calcs'!H$3:H$14,'Data and Calcs'!$C$3:$C$14,'Figure 6_Trilemma Paper'!$A4,'Data and Calcs'!$D$3:$D$14,'Figure 6_Trilemma Paper'!$B4) -> 3.5926519 | G4: =SUMIFS('Data and Calcs'!I$3:I$14,'Data and Calcs'!$C$3:$C$14,'Figure 6_Trilemma Paper'!$A4,'Data and Calcs'!$D$3:$D$14,'Figure 6_Trilemma Paper'!$B4) -> 3.5238919 | H4: =SUMIFS('Data and Calcs'!J$3:J$14,'Data and Calcs'!$C$3:$C$14,'Figure 6_Trilemma Paper'!$A4,'Data and Calcs'!$D$3:$D$14,'Figure 6_Trilemma Paper'!$B4) -> 3.6959162 | I4: =SUMIFS('Data and Calcs'!K$3:K$14,'Data and Calcs'!$C$3:$C$14,'Figure 6_Trilemma Paper'!$A4,'Data and Calcs'!$D$3:$D$14,'Figure 6_Trilemma Paper'!$B4) -> 3.6618677 | J4: =SUMIFS('Data and Calcs'!L$3:L$14,'Data and Calcs'!$C$3:$C$14,'Figure 6_Trilemma Paper'!$A4,'Data and Calcs'!$D$3:$D$14,'Figure 6_Trilemma Paper'!$B4) -> 3.7189375 | ... W4: =SUMIFS('Data and Calcs'!Y$3:Y$14,'Data and Calcs'!$C$3:$C$14,'Figure 6_Trilemma Paper'!$A4,'Data and Calcs'!$D$3:$D$14,'Figure 6_Trilemma Paper'!$B4) -> 3.7991727
A5: Market-based scenario | B5: C | C5: =SUMIFS('Data and Calcs'!E$3:E$14,'Data and Calcs'!$C$3:$C$14,'Figure 6_Trilemma Paper'!$A5,'Data and Calcs'!$D$3:$D$14,'Figure 6_Trilemma Paper'!$B5) -> 853.72571 | D5: =SUMIFS('Data and Calcs'!F$3:F$14,'Data and Calcs'!$C$3:$C$14,'Figure 6_Trilemma Paper'!$A5,'Data and Calcs'!$D$3:$D$14,'Figure 6_Trilemma Paper'!$B5) -> 910.45792 | E5: =SUMIFS('Data and Calcs'!G$3:G$14,'Data and Calcs'!$C$3:$C$14,'Figure 6_Trilemma Paper'!$A5,'Data and Calcs'!$D$3:$D$14,'Figure 6_Trilemma Paper'!$B5) -> 942.73184 | F5: =SUMIFS('Data and Calcs'!H$3:H$14,'Data and Calcs'!$C$3:$C$14,'Figure 6_Trilemma Paper'!$A5,'Data and Calcs'!$D$3:$D$14,'Figure 6_Trilemma Paper'!$B5) -> 974.42629 | G5: =SUMIFS('Data and Calcs'!I$3:I$14,'Data and Calcs'!$C$3:$C$14,'Figure 6_Trilemma Paper'!$A5,'Data and Calcs'!$D$3:$D$14,'Figure 6_Trilemma Paper'!$B5) -> 996.01262 | H5: =SUMIFS('Data and Calcs'!J$3:J$14,'Data and Calcs'!$C$3:$C$14,'Figure 6_Trilemma Paper'!$A5,'Data and Calcs'!$D$3:$D$14,'Figure 6_Trilemma Paper'!$B5) -> 1007.5811 | I5: =SUMIFS('Data and Calcs'!K$3:K$14,'Data and Calcs'!$C$3:$C$14,'Figure 6_Trilemma Paper'!$A5,'Data and Calcs'!$D$3:$D$14,'Figure 6_Trilemma Paper'!$B5) -> 1031.3199 | J5: =SUMIFS('Data and Calcs'!L$3:L$14,'Data and Calcs'!$C$3:$C$14,'Figure 6_Trilemma Paper'!$A5,'Data and Calcs'!$D$3:$D$14,'Figure 6_Trilemma Paper'!$B5) -> 1040.9525 | ... W5: =SUMIFS('Data and Calcs'!Y$3:Y$14,'Data and Calcs'!$C$3:$C$14,'Figure 6_Trilemma Paper'!$A5,'Data and Calcs'!$D$3:$D$14,'Figure 6_Trilemma Paper'!$B5) -> 989.6671
A6: Market-based scenario | B6: S | C6: =SUMIFS('Data and Calcs'!E$3:E$14,'Data and Calcs'!$C$3:$C$14,'Figure 6_Trilemma Paper'!$A6,'Data and Calcs'!$D$3:$D$14,'Figure 6_Trilemma Paper'!$B6) -> 25.079932 | D6: =SUMIFS('Data and Calcs'!F$3:F$14,'Data and Calcs'!$C$3:$C$14,'Figure 6_Trilemma Paper'!$A6,'Data and Calcs'!$D$3:$D$14,'Figure 6_Trilemma Paper'!$B6) -> 25.535734 | E6: =SUMIFS('Data and Calcs'!G$3:G$14,'Data and Calcs'!$C$3:$C$14,'Figure 6_Trilemma Paper'!$A6,'Data and Calcs'!$D$3:$D$14,'Figure 6_Trilemma Paper'!$B6) -> 25.047372 | F6: =SUMIFS('Data and Calcs'!H$3:H$14,'Data and Calcs'!$C$3:$C$14,'Figure 6_Trilemma Paper'!$A6,'Data and Calcs'!$D$3:$D$14,'Figure 6_Trilemma Paper'!$B6) -> 25.22855 | G6: =SUMIFS('Data and Calcs'!I$3:I$14,'Data and Calcs'!$C$3:$C$14,'Figure 6_Trilemma Paper'!$A6,'Data and Calcs'!$D$3:$D$14,'Figure 6_Trilemma Paper'!$B6) -> 25.259158 | H6: =SUMIFS('Data and Calcs'!J$3:J$14,'Data and Calcs'!$C$3:$C$14,'Figure 6_Trilemma Paper'!$A6,'Data and Calcs'!$D$3:$D$14,'Figure 6_Trilemma Paper'!$B6) -> 25.836763 | I6: =SUMIFS('Data and Calcs'!K$3:K$14,'Data and Calcs'!$C$3:$C$14,'Figure 6_Trilemma Paper'!$A6,'Data and Calcs'!$D$3:$D$14,'Figure 6_Trilemma Paper'!$B6) -> 26.244161 | J6: =SUMIFS('Data and Calcs'!L$3:L$14,'Data and Calcs'!$C$3:$C$14,'Figure 6_Trilemma Paper'!$A6,'Data and Calcs'!$D$3:$D$14,'Figure 6_Trilemma Paper'!$B6) -> 28.277676 | ... W6: =SUMIFS('Data and Calcs'!Y$3:Y$14,'Data and Calcs'!$C$3:$C$14,'Figure 6_Trilemma Paper'!$A6,'Data and Calcs'!$D$3:$D$14,'Figure 6_Trilemma Paper'!$B6) -> 25.269749
A8: Market-based scenario | B8: AT | C8: =SUMIFS('Data and Calcs'!E$30:E$41,'Data and Calcs'!$C$3:$C$14,'Figure 6_Trilemma Paper'!$A8,'Data and Calcs'!$D$3:$D$14,'Figure 6_Trilemma Paper'!$B8) -> 0.5920645 | D8: =SUMIFS('Data and Calcs'!F$30:F$41,'Data and Calcs'!$C$3:$C$14,'Figure 6_Trilemma Paper'!$A8,'Data and Calcs'!$D$3:$D$14,'Figure 6_Trilemma Paper'!$B8) -> 0.54962899 | E8: =SUMIFS('Data and Calcs'!G$30:G$41,'Data and Calcs'!$C$3:$C$14,'Figure 6_Trilemma Paper'!$A8,'Data and Calcs'!$D$3:$D$14,'Figure 6_Trilemma Paper'!$B8) -> 0.45351095 | F8: =SUMIFS('Data and Calcs'!H$30:H$41,'Data and Calcs'!$C$3:$C$14,'Figure 6_Trilemma Paper'!$A8,'Data and Calcs'!$D$3:$D$14,'Figure 6_Trilemma Paper'!$B8) -> 0.3441781 | G8: =SUMIFS('Data and Calcs'!I$30:I$41,'Data and Calcs'!$C$3:$C$14,'Figure 6_Trilemma Paper'!$A8,'Data and Calcs'!$D$3:$D$14,'Figure 6_Trilemma Paper'!$B8) -> 0.26553227 | H8: =SUMIFS('Data and Calcs'!J$30:J$41,'Data and Calcs'!$C$3:$C$14,'Figure 6_Trilemma Paper'!$A8,'Data and Calcs'!$D$3:$D$14,'Figure 6_Trilemma Paper'!$B8) -> 0.22268394 | I8: =SUMIFS('Data and Calcs'!K$30:K$41,'Data and Calcs'!$C$3:$C$14,'Figure 6_Trilemma Paper'!$A8,'Data and Calcs'!$D$3:$D$14,'Figure 6_Trilemma Paper'!$B8) -> 0.13860315 | J8: =SUMIFS('Data and Calcs'!L$30:L$41,'Data and Calcs'!$C$3:$C$14,'Figure 6_Trilemma Paper'!$A8,'Data and Calcs'!$D$3:$D$14,'Figure 6_Trilemma Paper'!$B8) -> 0.089675582 | ... W8: =SUMIFS('Data and Calcs'!Y$30:Y$41,'Data and Calcs'!$C$3:$C$14,'Figure 6_Trilemma Paper'!$A8,'Data and Calcs'!$D$3:$D$14,'Figure 6_Trilemma Paper'!$B8) -> 0.016328243
A9: Market-based scenario | B9: P | C9: =SUMIFS('Data and Calcs'!E$30:E$41,'Data and Calcs'!$C$3:$C$14,'Figure 6_Trilemma Paper'!$A9,'Data and Calcs'!$D$3:$D$14,'Figure 6_Trilemma Paper'!$B9) -> 1 | D9: =SUMIFS('Data and Calcs'!F$30:F$41,'Data and Calcs'!$C$3:$C$14,'Figure 6_Trilemma Paper'!$A9,'Data and Calcs'!$D$3:$D$14,'Figure 6_Trilemma Paper'!$B9) -> 0.92093376 | E9: =SUMIFS('Data and Calcs'!G$30:G$41,'Data and Calcs'!$C$3:$C$14,'Figure 6_Trilemma Paper'!$A9,'Data and Calcs'!$D$3:$D$14,'Figure 6_Trilemma Paper'!$B9) -> 0.94694614 | F9: =SUMIFS('Data and Calcs'!H$30:H$41,'Data and Calcs'!$C$3:$C$14,'Figure 6_Trilemma Paper'!$A9,'Data and Calcs'!$D$3:$D$14,'Figure 6_Trilemma Paper'!$B9) -> 0.84137446 | G9: =SUMIFS('Data and Calcs'!I$30:I$41,'Data and Calcs'!$C$3:$C$14,'Figure 6_Trilemma Paper'!$A9,'Data and Calcs'!$D$3:$D$14,'Figure 6_Trilemma Paper'!$B9) -> 0.87655452 | H9: =SUMIFS('Data and Calcs'!J$30:J$41,'Data and Calcs'!$C$3:$C$14,'Figure 6_Trilemma Paper'!$A9,'Data and Calcs'!$D$3:$D$14,'Figure 6_Trilemma Paper'!$B9) -> 0.79099991 | I9: =SUMIFS('Data and Calcs'!K$30:K$41,'Data and Calcs'!$C$3:$C$14,'Figure 6_Trilemma Paper'!$A9,'Data and Calcs'!$D$3:$D$14,'Figure 6_Trilemma Paper'!$B9) -> 0.80729554 | J9: =SUMIFS('Data and Calcs'!L$30:L$41,'Data and Calcs'!$C$3:$C$14,'Figure 6_Trilemma Paper'!$A9,'Data and Calcs'!$D$3:$D$14,'Figure 6_Trilemma Paper'!$B9) -> 0.78015095 | ... W9: =SUMIFS('Data and Calcs'!Y$30:Y$41,'Data and Calcs'!$C$3:$C$14,'Figure 6_Trilemma Paper'!$A9,'Data and Calcs'!$D$3:$D$14,'Figure 6_Trilemma Paper'!$B9) -> 0.74336728
A10: Market-based scenario | B10: C | C10: =SUMIFS('Data and Calcs'!E$30:E$41,'Data and Calcs'!$C$3:$C$14,'Figure 6_Trilemma Paper'!$A10,'Data and Calcs'!$D$3:$D$14,'Figure 6_Trilemma Paper'!$B10) -> 0.12975994 | D10: =SUMIFS('Data and Calcs'!F$30:F$41,'Data and Calcs'!$C$3:$C$14,'Figure 6_Trilemma Paper'!$A10,'Data and Calcs'!$D$3:$D$14,'Figure 6_Trilemma Paper'!$B10) -> 0.086182965 | E10: =SUMIFS('Data and Calcs'!G$30:G$41,'Data and Calcs'!$C$3:$C$14,'Figure 6_Trilemma Paper'!$A10,'Data and Calcs'!$D$3:$D$14,'Figure 6_Trilemma Paper'!$B10) -> 0.063733339 | F10: =SUMIFS('Data and Calcs'!H$30:H$41,'Data and Calcs'!$C$3:$C$14,'Figure 6_Trilemma Paper'!$A10,'Data and Calcs'!$D$3:$D$14,'Figure 6_Trilemma Paper'!$B10) -> 0.04313408 | G10: =SUMIFS('Data and Calcs'!I$30:I$41,'Data and Calcs'!$C$3:$C$14,'Figure 6_Trilemma Paper'!$A10,'Data and Calcs'!$D$3:$D$14,'Figure 6_Trilemma Paper'!$B10) -> 0.029854922 | H10: =SUMIFS('Data and Calcs'!J$30:J$41,'Data and Calcs'!$C$3:$C$14,'Figure 6_Trilemma Paper'!$A10,'Data and Calcs'!$D$3:$D$14,'Figure 6_Trilemma Paper'!$B10) -> 0.022972581 | I10: =SUMIFS('Data and Calcs'!K$30:K$41,'Data and Calcs'!$C$3:$C$14,'Figure 6_Trilemma Paper'!$A10,'Data and Calcs'!$D$3:$D$14,'Figure 6_Trilemma Paper'!$B10) -> 0.0093332874 | J10: =SUMIFS('Data and Calcs'!L$30:L$41,'Data and Calcs'!$C$3:$C$14,'Figure 6_Trilemma Paper'!$A10,'Data and Calcs'!$D$3:$D$14,'Figure 6_Trilemma Paper'!$B10) -> 0.003976276 | ... W10: =SUMIFS('Data and Calcs'!Y$30:Y$41,'Data and Calcs'!$C$3:$C$14,'Figure 6_Trilemma Paper'!$A10,'Data and Calcs'!$D$3:$D$14,'Figure 6_Trilemma Paper'!$B10) -> 0.033698351
A11: Market-based scenario | B11: S | C11: =SUMIFS('Data and Calcs'!E$30:E$41,'Data and Calcs'!$C$3:$C$14,'Figure 6_Trilemma Paper'!$A11,'Data and Calcs'!$D$3:$D$14,'Figure 6_Trilemma Paper'!$B11) -> 0.025388091 | D11: =SUMIFS('Data and Calcs'!F$30:F$41,'Data and Calcs'!$C$3:$C$14,'Figure 6_Trilemma Paper'!$A11,'Data and Calcs'!$D$3:$D$14,'Figure 6_Trilemma Paper'!$B11) -> 0.16430799 | E11: =SUMIFS('Data and Calcs'!G$30:G$41,'Data and Calcs'!$C$3:$C$14,'Figure 6_Trilemma Paper'!$A11,'Data and Calcs'!$D$3:$D$14,'Figure 6_Trilemma Paper'!$B11) -> 0.01546458 | F11: =SUMIFS('Data and Calcs'!H$30:H$41,'Data and Calcs'!$C$3:$C$14,'Figure 6_Trilemma Paper'!$A11,'Data and Calcs'!$D$3:$D$14,'Figure 6_Trilemma Paper'!$B11) -> 0.07068405 | G11: =SUMIFS('Data and Calcs'!I$30:I$41,'Data and Calcs'!$C$3:$C$14,'Figure 6_Trilemma Paper'!$A11,'Data and Calcs'!$D$3:$D$14,'Figure 6_Trilemma Paper'!$B11) -> 0.080012875 | H11: =SUMIFS('Data and Calcs'!J$30:J$41,'Data and Calcs'!$C$3:$C$14,'Figure 6_Trilemma Paper'!$A11,'Data and Calcs'!$D$3:$D$14,'Figure 6_Trilemma Paper'!$B11) -> 0.25605602 | I11: =SUMIFS('Data and Calcs'!K$30:K$41,'Data and Calcs'!$C$3:$C$14,'Figure 6_Trilemma Paper'!$A11,'Data and Calcs'!$D$3:$D$14,'Figure 6_Trilemma Paper'!$B11) -> 0.38022317 | J11: =SUMIFS('Data and Calcs'!L$30:L$41,'Data and Calcs'!$C$3:$C$14,'Figure 6_Trilemma Paper'!$A11,'Data and Calcs'!$D$3:$D$14,'Figure 6_Trilemma Paper'!$B11) -> 1 | ... W11: =SUMIFS('Data and Calcs'!Y$30:Y$41,'Data and Calcs'!$C$3:$C$14,'Figure 6_Trilemma Paper'!$A11,'Data and Calcs'!$D$3:$D$14,'Figure 6_Trilemma Paper'!$B11) -> 0.083240772

Sheet Policy of 50% SCC
C2: 2020 | D2: 2021 | E2: 2022 | F2: 2023 | G2: 2024 | H2: 2025 | I2: 2026 | J2: 2027 | K2: 2028 | L2: 2029 | M2: 2030 | N2: 2031 | O2: 2032 | P2: 2033 | Q2: 2034 | R2: 2035 | S2: 2036 | T2: 2037 | U2: 2038 | V2: 2039 | W2: 2040
A3: Policy of 50% SCC | B3: AT | C3: =SUMIFS('Data and Calcs'!E$3:E$14,'Data and Calcs'!$C$3:$C$14,'Policy of 50% SCC'!$A3,'Data and Calcs'!$D$3:$D$14,'Policy of 50% SCC'!$B3) -> 0.54672655 | D3: =SUMIFS('Data and Calcs'!F$3:F$14,'Data and Calcs'!$C$3:$C$14,'Policy of 50% SCC'!$A3,'Data and Calcs'!$D$3:$D$14,'Policy of 50% SCC'!$B3) -> 0.6748113 | E3: =SUMIFS('Data and Calcs'!G$3:G$14,'Data and Calcs'!$C$3:$C$14,'Policy of 50% SCC'!$A3,'Data and Calcs'!$D$3:$D$14,'Policy of 50% SCC'!$B3) -> 0.67682609 | F3: =SUMIFS('Data and Calcs'!H$3:H$14,'Data and Calcs'!$C$3:$C$14,'Policy of 50% SCC'!$A3,'Data and Calcs'!$D$3:$D$14,'Policy of 50% SCC'!$B3) -> 0.68665206 | G3: =SUMIFS('Data and Calcs'!I$3:I$14,'Data and Calcs'!$C$3:$C$14,'Policy of 50% SCC'!$A3,'Data and Calcs'!$D$3:$D$14,'Policy of 50% SCC'!$B3) -> 0.66187682 | H3: =SUMIFS('Data and Calcs'!J$3:J$14,'Data and Calcs'!$C$3:$C$14,'Policy of 50% SCC'!$A3,'Data and Calcs'!$D$3:$D$14,'Policy of 50% SCC'!$B3) -> 0.64262967 | I3: =SUMIFS('Data and Calcs'!K$3:K$14,'Data and Calcs'!$C$3:$C$14,'Policy of 50% SCC'!$A3,'Data and Calcs'!$D$3:$D$14,'Policy of 50% SCC'!$B3) -> 0.62189652 | J3: =SUMIFS('Data and Calcs'!L$3:L$14,'Data and Calcs'!$C$3:$C$14,'Policy of 50% SCC'!$A3,'Data and Calcs'!$D$3:$D$14,'Policy of 50% SCC'!$B3) -> 0.61351112 | ... W3: =SUMIFS('Data and Calcs'!Y$3:Y$14,'Data and Calcs'!$C$3:$C$14,'Policy of 50% SCC'!$A3,'Data and Calcs'!$D$3:$D$14,'Policy of 50% SCC'!$B3) -> 0.58309827
A4: Policy of 50% SCC | B4: P | C4: =SUMIFS('Data and Calcs'!E$3:E$14,'Data and Calcs'!$C$3:$C$14,'Policy of 50% SCC'!$A4,'Data and Calcs'!$D$3:$D$14,'Policy of 50% SCC'!$B4) -> 4.4253843 | D4: =SUMIFS('Data and Calcs'!F$3:F$14,'Data and Calcs'!$C$3:$C$14,'Policy of 50% SCC'!$A4,'Data and Calcs'!$D$3:$D$14,'Policy of 50% SCC'!$B4) -> 4.3773839 | E4: =SUMIFS('Data and Calcs'!G$3:G$14,'Data and Calcs'!$C$3:$C$14,'Policy of 50% SCC'!$A4,'Data and Calcs'!$D$3:$D$14,'Policy of 50% SCC'!$B4) -> 4.1244893 | F4: =SUMIFS('Data and Calcs'!H$3:H$14,'Data and Calcs'!$C$3:$C$14,'Policy of 50% SCC'!$A4,'Data and Calcs'!$D$3:$D$14,'Policy of 50% SCC'!$B4) -> 3.8885784 | G4: =SUMIFS('Data and Calcs'!I$3:I$14,'Data and Calcs'!$C$3:$C$14,'Policy of 50% SCC'!$A4,'Data and Calcs'!$D$3:$D$14,'Policy of 50% SCC'!$B4) -> 3.5785401 | H4: =SUMIFS('Data and Calcs'!J$3:J$14,'Data and Calcs'!$C$3:$C$14,'Policy of 50% SCC'!$A4,'Data and Calcs'!$D$3:$D$14,'Policy of 50% SCC'!$B4) -> 3.9309761 | I4: =SUMIFS('Data and Calcs'!K$3:K$14,'Data and Calcs'!$C$3:$C$14,'Policy of 50% SCC'!$A4,'Data and Calcs'!$D$3:$D$14,'Policy of 50% SCC'!$B4) -> 4.1172736 | J4: =SUMIFS('Data and Calcs'!L$3:L$14,'Data and Calcs'!$C$3:$C$14,'Policy of 50% SCC'!$A4,'Data and Calcs'!$D$3:$D$14,'Policy of 50% SCC'!$B4) -> 4.2343003 | ... W4: =SUMIFS('Data and Calcs'!Y$3:Y$14,'Data and Calcs'!$C$3:$C$14,'Policy of 50% SCC'!$A4,'Data and Calcs'!$D$3:$D$14,'Policy of 50% SCC'!$B4) -> 5.1338818
A5: Policy of 50% SCC | B5: C | C5: =SUMIFS('Data and Calcs'!E$3:E$14,'Data and Calcs'!$C$3:$C$14,'Policy of 50% SCC'!$A5,'Data and Calcs'!$D$3:$D$14,'Policy of 50% SCC'!$B5) -> 661.01426 | D5: =SUMIFS('Data and Calcs'!F$3:F$14,'Data and Calcs'!$C$3:$C$14,'Policy of 50% SCC'!$A5,'Data and Calcs'!$D$3:$D$14,'Policy of 50% SCC'!$B5) -> 559.62707 | E5: =SUMIFS('Data and Calcs'!G$3:G$14,'Data and Calcs'!$C$3:$C$14,'Policy of 50% SCC'!$A5,'Data and Calcs'!$D$3:$D$14,'Policy of 50% SCC'!$B5) -> 533.81987 | F5: =SUMIFS('Data and Calcs'!H$3:H$14,'Data and Calcs'!$C$3:$C$14,'Policy of 50% SCC'!$A5,'Data and Calcs'!$D$3:$D$14,'Policy of 50% SCC'!$B5) -> 496.98687 | G5: =SUMIFS('Data and Calcs'!I$3:I$14,'Data and Calcs'!$C$3:$C$14,'Policy of 50% SCC'!$A5,'Data and Calcs'!$D$3:$D$14,'Policy of 50% SCC'!$B5) -> 507.31734 | H5: =SUMIFS('Data and Calcs'!J$3:J$14,'Data and Calcs'!$C$3:$C$14,'Policy of 50% SCC'!$A5,'Data and Calcs'!$D$3:$D$14,'Policy of 50% SCC'!$B5) -> 510.59988 | I5: =SUMIFS('Data and Calcs'!K$3:K$14,'Data and Calcs'!$C$3:$C$14,'Policy of 50% SCC'!$A5,'Data and Calcs'!$D$3:$D$14,'Policy of 50% SCC'!$B5) -> 517.97324 | J5: =SUMIFS('Data and Calcs'!L$3:L$14,'Data and Calcs'!$C$3:$C$14,'Policy of 50% SCC'!$A5,'Data and Calcs'!$D$3:$D$14,'Policy of 50% SCC'!$B5) -> 519.84723 | ... W5: =SUMIFS('Data and Calcs'!Y$3:Y$14,'Data and Calcs'!$C$3:$C$14,'Policy of 50% SCC'!$A5,'Data and Calcs'!$D$3:$D$14,'Policy of 50% SCC'!$B5) -> 508.88209
A6: Policy of 50% SCC | B6: S | C6: =SUMIFS('Data and Calcs'!E$3:E$14,'Data and Calcs'!$C$3:$C$14,'Policy of 50% SCC'!$A6,'Data and Calcs'!$D$3:$D$14,'Policy of 50% SCC'!$B6) -> 24.996632 | D6: =SUMIFS('Data and Calcs'!F$3:F$14,'Data and Calcs'!$C$3:$C$14,'Policy of 50% SCC'!$A6,'Data and Calcs'!$D$3:$D$14,'Policy of 50% SCC'!$B6) -> 25.45636 | E6: =SUMIFS('Data and Calcs'!G$3:G$14,'Data and Calcs'!$C$3:$C$14,'Policy of 50% SCC'!$A6,'Data and Calcs'!$D$3:$D$14,'Policy of 50% SCC'!$B6) -> 25.7288 | F6: =SUMIFS('Data and Calcs'!H$3:H$14,'Data and Calcs'!$C$3:$C$14,'Policy of 50% SCC'!$A6,'Data and Calcs'!$D$3:$D$14,'Policy of 50% SCC'!$B6) -> 25.156229 | G6: =SUMIFS('Data and Calcs'!I$3:I$14,'Data and Calcs'!$C$3:$C$14,'Policy of 50% SCC'!$A6,'Data and Calcs'!$D$3:$D$14,'Policy of 50% SCC'!$B6) -> 25.190014 | H6: =SUMIFS('Data and Calcs'!J$3:J$14,'Data and Calcs'!$C$3:$C$14,'Policy of 50% SCC'!$A6,'Data and Calcs'!$D$3:$D$14,'Policy of 50% SCC'!$B6) -> 25.108836 | I6: =SUMIFS('Data and Calcs'!K$3:K$14,'Data and Calcs'!$C$3:$C$14,'Policy of 50% SCC'!$A6,'Data and Calcs'!$D$3:$D$14,'Policy of 50% SCC'!$B6) -> 25.546879 | J6: =SUMIFS('Data and Calcs'!L$3:L$14,'Data and Calcs'!$C$3:$C$14,'Policy of 50% SCC'!$A6,'Data and Calcs'!$D$3:$D$14,'Policy of 50% SCC'!$B6) -> 25.179431 | ... W6: =SUMIFS('Data and Calcs'!Y$3:Y$14,'Data and Calcs'!$C$3:$C$14,'Policy of 50% SCC'!$A6,'Data and Calcs'!$D$3:$D$14,'Policy of 50% SCC'!$B6) -> 25.009511
A8: Policy of 50% SCC | B8: AT | C8: =SUMIFS('Data and Calcs'!E$30:E$41,'Data and Calcs'!$C$3:$C$14,'Policy of 50% SCC'!$A8,'Data and Calcs'!$D$3:$D$14,'Policy of 50% SCC'!$B8) -> 0.60527469 | D8: =SUMIFS('Data and Calcs'!F$30:F$41,'Data and Calcs'!$C$3:$C$14,'Policy of 50% SCC'!$A8,'Data and Calcs'!$D$3:$D$14,'Policy of 50% SCC'!$B8) -> 0.90003924 | E8: =SUMIFS('Data and Calcs'!G$30:G$41,'Data and Calcs'!$C$3:$C$14,'Policy of 50% SCC'!$A8,'Data and Calcs'!$D$3:$D$14,'Policy of 50% SCC'!$B8) -> 0.90467593 | F8: =SUMIFS('Data and Calcs'!H$30:H$41,'Data and Calcs'!$C$3:$C$14,'Policy of 50% SCC'!$A8,'Data and Calcs'!$D$3:$D$14,'Policy of 50% SCC'!$B8) -> 0.92728868 | G8: =SUMIFS('Data and Calcs'!I$30:I$41,'Data and Calcs'!$C$3:$C$14,'Policy of 50% SCC'!$A8,'Data and Calcs'!$D$3:$D$14,'Policy of 50% SCC'!$B8) -> 0.87027282 | H8: =SUMIFS('Data and Calcs'!J$30:J$41,'Data and Calcs'!$C$3:$C$14,'Policy of 50% SCC'!$A8,'Data and Calcs'!$D$3:$D$14,'Policy of 50% SCC'!$B8) -> 0.82597887 | I8: =SUMIFS('Data and Calcs'!K$30:K$41,'Data and Calcs'!$C$3:$C$14,'Policy of 50% SCC'!$A8,'Data and Calcs'!$D$3:$D$14,'Policy of 50% SCC'!$B8) -> 0.77826518 | J8: =SUMIFS('Data and Calcs'!L$30:L$41,'Data and Calcs'!$C$3:$C$14,'Policy of 50% SCC'!$A8,'Data and Calcs'!$D$3:$D$14,'Policy of 50% SCC'!$B8) -> 0.75896765 | ... W8: =SUMIFS('Data and Calcs'!Y$30:Y$41,'Data and Calcs'!$C$3:$C$14,'Policy of 50% SCC'!$A8,'Data and Calcs'!$D$3:$D$14,'Policy of 50% SCC'!$B8) -> 0.68897781
A9: Policy of 50% SCC | B9: P | C9: =SUMIFS('Data and Calcs'!E$30:E$41,'Data and Calcs'!$C$3:$C$14,'Policy of 50% SCC'!$A9,'Data and Calcs'!$D$3:$D$14,'Policy of 50% SCC'!$B9) -> 0.50211054 | D9: =SUMIFS('Data and Calcs'!F$30:F$41,'Data and Calcs'!$C$3:$C$14,'Policy of 50% SCC'!$A9,'Data and Calcs'!$D$3:$D$14,'Policy of 50% SCC'!$B9) -> 0.51816065 | E9: =SUMIFS('Data and Calcs'!G$30:G$41,'Data and Calcs'!$C$3:$C$14,'Policy of 50% SCC'!$A9,'Data and Calcs'!$D$3:$D$14,'Policy of 50% SCC'!$B9) -> 0.6088911 | F9: =SUMIFS('Data and Calcs'!H$30:H$41,'Data and Calcs'!$C$3:$C$14,'Policy of 50% SCC'!$A9,'Data and Calcs'!$D$3:$D$14,'Policy of 50% SCC'!$B9) -> 0.7041675 | G9: =SUMIFS('Data and Calcs'!I$30:I$41,'Data and Calcs'!$C$3:$C$14,'Policy of 50% SCC'!$A9,'Data and Calcs'!$D$3:$D$14,'Policy of 50% SCC'!$B9) -> 0.84848428 | H9: =SUMIFS('Data and Calcs'!J$30:J$41,'Data and Calcs'!$C$3:$C$14,'Policy of 50% SCC'!$A9,'Data and Calcs'!$D$3:$D$14,'Policy of 50% SCC'!$B9) -> 0.68620157 | I9: =SUMIFS('Data and Calcs'!K$30:K$41,'Data and Calcs'!$C$3:$C$14,'Policy of 50% SCC'!$A9,'Data and Calcs'!$D$3:$D$14,'Policy of 50% SCC'!$B9) -> 0.61164341 | J9: =SUMIFS('Data and Calcs'!L$30:L$41,'Data and Calcs'!$C$3:$C$14,'Policy of 50% SCC'!$A9,'Data and Calcs'!$D$3:$D$14,'Policy of 50% SCC'!$B9) -> 0.56816316 | ... W9: =SUMIFS('Data and Calcs'!Y$30:Y$41,'Data and Calcs'!$C$3:$C$14,'Policy of 50% SCC'!$A9,'Data and Calcs'!$D$3:$D$14,'Policy of 50% SCC'!$B9) -> 0.30011594
A10: Policy of 50% SCC | B10: C | C10: =SUMIFS('Data and Calcs'!E$30:E$41,'Data and Calcs'!$C$3:$C$14,'Policy of 50% SCC'!$A10,'Data and Calcs'!$D$3:$D$14,'Policy of 50% SCC'!$B10) -> 0.33364427 | D10: =SUMIFS('Data and Calcs'!F$30:F$41,'Data and Calcs'!$C$3:$C$14,'Policy of 50% SCC'!$A10,'Data and Calcs'!$D$3:$D$14,'Policy of 50% SCC'!$B10) -> 0.49728036 | E10: =SUMIFS('Data and Calcs'!G$30:G$41,'Data and Calcs'!$C$3:$C$14,'Policy of 50% SCC'!$A10,'Data and Calcs'!$D$3:$D$14,'Policy of 50% SCC'!$B10) -> 0.54885699 | F10: =SUMIFS('Data and Calcs'!H$30:H$41,'Data and Calcs'!$C$3:$C$14,'Policy of 50% SCC'!$A10,'Data and Calcs'!$D$3:$D$14,'Policy of 50% SCC'!$B10) -> 0.63174714 | G10: =SUMIFS('Data and Calcs'!I$30:I$41,'Data and Calcs'!$C$3:$C$14,'Policy of 50% SCC'!$A10,'Data and Calcs'!$D$3:$D$14,'Policy of 50% SCC'!$B10) -> 0.60728464 | H10: =SUMIFS('Data and Calcs'!J$30:J$41,'Data and Calcs'!$C$3:$C$14,'Policy of 50% SCC'!$A10,'Data and Calcs'!$D$3:$D$14,'Policy of 50% SCC'!$B10) -> 0.59971882 | I10: =SUMIFS('Data and Calcs'!K$30:K$41,'Data and Calcs'!$C$3:$C$14,'Policy of 50% SCC'!$A10,'Data and Calcs'!$D$3:$D$14,'Policy of 50% SCC'!$B10) -> 0.58307387 | J10: =SUMIFS('Data and Calcs'!L$30:L$41,'Data and Calcs'!$C$3:$C$14,'Policy of 50% SCC'!$A10,'Data and Calcs'!$D$3:$D$14,'Policy of 50% SCC'!$B10) -> 0.57891869 | ... W10: =SUMIFS('Data and Calcs'!Y$30:Y$41,'Data and Calcs'!$C$3:$C$14,'Policy of 50% SCC'!$A10,'Data and Calcs'!$D$3:$D$14,'Policy of 50% SCC'!$B10) -> 0.60366592
A11: Policy of 50% SCC | B11: S | C11: =SUMIFS('Data and Calcs'!E$30:E$41,'Data and Calcs'!$C$3:$C$14,'Policy of 50% SCC'!$A11,'Data and Calcs'!$D$3:$D$14,'Policy of 50% SCC'!$B11) -> 0 | D11: =SUMIFS('Data and Calcs'!F$30:F$41,'Data and Calcs'!$C$3:$C$14,'Policy of 50% SCC'!$A11,'Data and Calcs'!$D$3:$D$14,'Policy of 50% SCC'!$B11) -> 0.14011625 | E11: =SUMIFS('Data and Calcs'!G$30:G$41,'Data and Calcs'!$C$3:$C$14,'Policy of 50% SCC'!$A11,'Data and Calcs'!$D$3:$D$14,'Policy of 50% SCC'!$B11) -> 0.22315101 | F11: =SUMIFS('Data and Calcs'!H$30:H$41,'Data and Calcs'!$C$3:$C$14,'Policy of 50% SCC'!$A11,'Data and Calcs'!$D$3:$D$14,'Policy of 50% SCC'!$B11) -> 0.048642035 | G11: =SUMIFS('Data and Calcs'!I$30:I$41,'Data and Calcs'!$C$3:$C$14,'Policy of 50% SCC'!$A11,'Data and Calcs'!$D$3:$D$14,'Policy of 50% SCC'!$B11) -> 0.058939097 | H11: =SUMIFS('Data and Calcs'!J$30:J$41,'Data and Calcs'!$C$3:$C$14,'Policy of 50% SCC'!$A11,'Data and Calcs'!$D$3:$D$14,'Policy of 50% SCC'!$B11) -> 0.034197599 | I11: =SUMIFS('Data and Calcs'!K$30:K$41,'Data and Calcs'!$C$3:$C$14,'Policy of 50% SCC'!$A11,'Data and Calcs'!$D$3:$D$14,'Policy of 50% SCC'!$B11) -> 0.16770483 | J11: =SUMIFS('Data and Calcs'!L$30:L$41,'Data and Calcs'!$C$3:$C$14,'Policy of 50% SCC'!$A11,'Data and Calcs'!$D$3:$D$14,'Policy of 50% SCC'!$B11) -> 0.055713477 | ... W11: =SUMIFS('Data and Calcs'!Y$30:Y$41,'Data and Calcs'!$C$3:$C$14,'Policy of 50% SCC'!$A11,'Data and Calcs'!$D$3:$D$14,'Policy of 50% SCC'!$B11) -> 0.0039253214
