Workbook
Name dose: Calculator!$B$5
Name E_ratio: Calculator!$F$2
Name intercept: sample!$G$21
Name lambda: constants!$B$1
Name lower_90: sample!$P$11
Name lower_95: sample!$P$5
Name ME_90: sample!$R$8
Name ME_95: sample!$R$2
Name mean_x: sample!$B$346
Name MSE: sample!$G$8
Name observations: sample!$G$9
Name PCR: Calculator!$J$25
Name perfdur: Calculator!$B$9
Name predicted_y: sample!$N$2
Name SE_of_prediction: sample!$P$2
Name sens: Calculator!$B$10
Name slope: sample!$G$22
Name SS: sample!$C$352
Name sum_p1: Calculator!$J$26
Name sum_v1: Calculator!$B$2
Name sum_v2: Calculator!$B$3
Name t_value_90: sample!$O$8
Name t_value_95: sample!$O$2
Name target_PV_ratio: Calculator!$B$7
Name upper_90: sample!$P$10
Name upper_95: sample!$P$4
Name v_delay: Calculator!$B$4
Name vcr: Calculator!$F$3
Name ventdur: Calculator!$B$8
Name x_value: sample!$M$2

Sheet Calculator
A1: USER INPUTS | E1: DERIVED | I1: PREDICTION
A2: Summed counts v1 | B2: 2000000 | E2: E_ratio | F2: =sum_v1/sum_v2 -> 2
A3: Summed counts v2 | B3: 1000000 | E3: VCR (cps) | F3: =(sum_v1/ventdur)*EXP(-lambda*v_delay) -> 1666.6667
A4: Delay since vent (min) | B4: 0
A5: MAA dose (MBq) | B5: 100
A7: Minimum P/V ratio | B7: 3 | E7: =IF(AND(sample!B349<=Calculator!F2,Calculator!F2<=sample!B350),"","CAUTION: ratio falls outside range of values used to build model")
A8: V SPECT duration (s) | B8: 1200
A9: P SPECT duration (s) | B9: 600
A10: Sensitivity (cps/MBq) | B10: 133
I21: ="Given current ventilation count rate of " & ROUND(vcr,0) & " cps, an MAA dose of " & ROUND(dose,0) & " MBq" -> Given current ventilation count rate of 1667 cps, an MAA dose of 100 MBq
I22: administered now is projected to result in:
K23: 90% PI | N23: 95% PI
J24: predicted | K24: (LL | L24: – | M24: UL) | N24: (LL | O24: – | P24: UL)
I25: PCR (cps) | J25: =predicted_y*dose*sens -> 4808.8544 | K25: =lower_90*sens*dose -> 4083.0671 | L25: – | M25: =upper_90*sens*dose -> 5534.6417 | N25: =lower_95*sens*dose -> 3943.3008 | O25: – | P25: =upper_95*sens*dose -> 5674.408
I26: Summed counts p1 | J26: =PCR*perfdur -> 2885312.6 | K26: =K25*perfdur -> 2449840.3 | L26: – | M26: =M25*perfdur -> 3320785 | N26: =N25*perfdur -> 2365980.5 | O26: – | P26: =P25*perfdur -> 3404644.8
I27: PVCR (cps) | J27: =vcr+PCR -> 6475.5211 | K27: =K25+vcr -> 5749.7338 | L27: – | M27: =M25+$F$3 -> 7201.3084 | N27: =N25+vcr -> 5609.9675 | O27: – | P27: =P25+vcr -> 7341.0747
I28: Summed PV counts pv1 | J28: =sum_p1+sum_v1 -> 4885312.6 | K28: =K26+sum_v1 -> 4449840.3 | L28: – | M28: =M26+sum_v1 -> 5320785 | N28: =N26+sum_v1 -> 4365980.5 | O28: – | P28: =P26+sum_v1 -> 5404644.8
I29: P/V Ratio | J29: =PCR/vcr -> 2.8853126 | K29: =K25/vcr -> 2.4498403 | L29: – | M29: =M25/vcr -> 3.320785 | N29: =N25/vcr -> 2.3659805 | O29: – | P29: =P25/vcr -> 3.4046448
I30: PV/V Ratio | J30: =(PCR+vcr)/vcr -> 3.8853126 | K30: =(K25+vcr)/vcr -> 3.4498403 | L30: – | M30: =(M25+vcr)/vcr -> 4.320785 | N30: =(N25+vcr)/vcr -> 3.3659805 | O30: – | P30: =(P25+vcr)/vcr -> 4.4046448

Sheet sample
B1: E_ratio | C1: (x - x̄)^2 | D1: p_rate | F1: Summary of simple linear regression | K1: 0.95 | M1: x value | N1: predicted y | O1: t-value | P1: SE of prediction | R1: ME | S1: Takes inputs from Calculator
B2: 1.7253513 | C2: =POWER(B2-$B$346,2) -> 0.010144382 | D2: 0.30748269 | M2: =E_ratio -> 2 | N2: =intercept+slope*x_value -> 0.361568 | O2: =_xlfn.T.INV.2T(0.05,observations-2) -> 1.9669657 | P2: =SQRT(MSE*(1 + (1/observations)+(x_value-mean_x)^2/SS)) -> 0.033086096 | R2: =t_value_95*SE_of_prediction -> 0.065079218
B3: 1.5716935 | C3: =POWER(B3-$B$346,2) -> 0.064707727 | D3: 0.26799867 | F3: Regression Statistics
B4: 1.5910358 | C4: =POWER(B4-$B$346,2) -> 0.055241367 | D4: 0.24700214 | F4: Multiple R | G4: =SQRT(G5) -> 0.86986539 | N4: 0.95 | O4: Upper | P4: =predicted_y+ME_95 -> 0.42664722
B5: 1.9479899 | C5: =POWER(B5-$B$346,2) -> 0.014864305 | D5: 0.33992444 | F5: Multiple R Square | G5: 0.7566658 | N5: 0.95 | O5: Lower | P5: =predicted_y-ME_95 -> 0.29648878
B6: 1.5941723 | C6: =POWER(B6-$B$346,2) -> 0.053776853 | D6: 0.25460382 | F6: Adjusted R Square | G6: 0.7559501
B7: 1.8830467 | C7: =POWER(B7-$B$346,2) -> 0.003246277 | D7: 0.39124803 | F7: Residual Standard Error | G7: 0.03310119 | K7: 0.9 | M7: x value | N7: predicted y | O7: t-value | P7: SE of prediction | R7: ME
B8: 1.8822452 | C8: =POWER(B8-$B$346,2) -> 0.00315558 | D8: 0.36143857 | F8: MSE | G8: 0.0010892814 | M8: =x_value -> 2 | N8: =predicted_y -> 0.361568 | O8: =_xlfn.T.INV.2T(0.1,observations-2) -> 1.6493476 | P8: =SE_of_prediction -> 0.033086096 | R8: =t_value_90*SE_of_prediction -> 0.054570474
B9: 1.917695 | C9: =POWER(B9-$B$346,2) -> 0.0083950342 | D9: 0.30117518 | F9: Observations | G9: 342
B10: 1.9928156 | C10: =POWER(B10-$B$346,2) -> 0.0278039 | D10: 0.38300706 | N10: 0.9 | O10: Upper | P10: =predicted_y+ME_90 -> 0.41613847
B11: 1.7965941 | C11: =POWER(B11-$B$346,2) -> 0.00086886637 | D11: 0.32918319 | F11: Residuals: | N11: 0.9 | O11: Lower | P11: =predicted_y-ME_90 -> 0.30699753
B12: 2.4575247 | C12: =POWER(B12-$B$346,2) -> 0.39873431 | D12: 0.41032273 | F12: Min | G12: 1Q | H12: Median | I12: 3Q | J12: Max
B13: 2.3620358 | C13: =POWER(B13-$B$346,2) -> 0.28725866 | D13: 0.46723347 | F13: -0.10171 | G13: -0.023247 | H13: 0.002368 | I13: 0.02397 | J13: 0.081244
B14: 2.0128101 | C14: =POWER(B14-$B$346,2) -> 0.034871618 | D14: 0.34457912
B15: 1.9711935 | C15: =POWER(B15-$B$346,2) -> 0.021060638 | D15: 0.3160585 | G15: df | H15: F | J15: Significance F
B16: 1.7037419 | C16: =POWER(B16-$B$346,2) -> 0.014964323 | D16: 0.26472719 | F16: Regression | G16: 1 | H16: 1057.255 | J16: < 2.2e-16 | K16: ***
B17: 1.9077891 | C17: =POWER(B17-$B$346,2) -> 0.0066779068 | D17: 0.31917231 | F17: Residual | G17: 340
B18: 2.1369306 | C18: =POWER(B18-$B$346,2) -> 0.096633957 | D18: 0.40687766 | F18: Total | G18: 341
B19: 1.8013153 | C19: =POWER(B19-$B$346,2) -> 0.0006128265 | D19: 0.27077244
B20: 1.5836425 | C20: =POWER(B20-$B$346,2) -> 0.058771415 | D20: 0.20927092 | G20: Coefficients | H20: Est. Standard Error | I20: t value | J20: Pr(>|t|)
B21: 1.8641156 | C21: =POWER(B21-$B$346,2) -> 0.0014474199 | D21: 0.32114821 | F21: Intercept | G21: -0.197581 | H21: 0.015802622 | I21: -12.50305 | J21: 9.015963e-30 | K21: ***
B22: 1.8199097 | C22: =POWER(B22-$B$346,2) -> 3.7956748e-05 | D22: 0.31781035 | F22: E_ratio | G22: 0.2795745 | H22: 0.008598203 | I22: 32.51546 | J22: 2.241628e-106 | K22: ***
B23: 1.9292985 | C23: =POWER(B23-$B$346,2) -> 0.010656002 | D23: 0.35409357
B24: 1.9683317 | C24: =POWER(B24-$B$346,2) -> 0.020238227 | D24: 0.38052347 | F24: Signif. codes: 0 ‘***’ 0.001 ‘**’ 0.01 ‘*’ 0.05 ‘.’ 0.1 ‘ ’ 1
B25: 1.6852488 | C25: =POWER(B25-$B$346,2) -> 0.019830774 | D25: 0.26271869
B26: 1.7416085 | C26: =POWER(B26-$B$346,2) -> 0.0071338557 | D26: 0.30376551
B27: 1.9257972 | C27: =POWER(B27-$B$346,2) -> 0.0099453826 | D27: 0.31069968
B28: 1.7485073 | C28: =POWER(B28-$B$346,2) -> 0.0060160718 | D28: 0.26422818
B29: 2.1624763 | C29: =POWER(B29-$B$346,2) -> 0.1131688 | D29: 0.37610601
B30: 1.8566887 | C30: =POWER(B30-$B$346,2) -> 0.00093746484 | D30: 0.31780537
B31: 2.1347666 | C31: =POWER(B31-$B$346,2) -> 0.095293215 | D31: 0.42759817
B32: 1.880595 | C32: =POWER(B32-$B$346,2) -> 0.0029729073 | D32: 0.33964449
B33: 2.1165165 | C33: =POWER(B33-$B$346,2) -> 0.084358787 | D33: 0.36350304
B34: 1.9717538 | C34: =POWER(B34-$B$346,2) -> 0.021223583 | D34: 0.34954998
B35: 1.8102509 | C35: =POWER(B35-$B$346,2) -> 0.00025026293 | D35: 0.31909516
B36: 1.6206361 | C36: =POWER(B36-$B$346,2) -> 0.042203361 | D36: 0.25036858
... B343: 1.5537539 | C343: =POWER(B343-$B$346,2) -> 0.074156409 | D343: 0.26005854
A346: mean | B346: =AVERAGE(B2:B343) -> 1.8260706
A347: SD | B347: =_xlfn.STDEV.S(B2:B343) -> 0.20847728
A349: min | B349: =MIN(B2:B343) -> 1.3703801
A350: max | B350: =MAX(B2:B343) -> 2.7463742
B352: SS | C352: =SUM(C2:C343) -> 14.820807

Sheet raw
A1: E_ratio | B1: p_rate | C1: p_rate_norm | D1: p_rate_pred | E1: p_rate_pred_l90 | F1: p_rate_pred_u90 | G1: p_rate_pred_l95 | H1: p_rate_pred_u95 | I1: p_rate_norm_adj | J1: p_rate_norm_adj_l90 | K1: p_rate_norm_adj_u90 | L1: p_rate_norm_adj_l95 | M1: p_rate_norm_adj_u95 | N1: PVR_norm | O1: PVR_pred | P1: PVR_l90adj | Q1: PVR_u90adj | R1: PVR_l95adj | S1: PVR_u95adj
A2: =sample!B2 -> 1.7253513 | B2: 0.30748269 | C2: =B2*sens*dose -> 4089.5197 | D2: =(intercept+A2*slope) -> 0.28478323 | E2: =D2-(t_value_90*(SQRT(MSE*(1 + (1/observations)+(A2-mean_x)^2/SS)))) -> 0.2302496 | F2: =D2+(t_value_90*(SQRT(MSE*(1 + (1/observations)+(A2-mean_x)^2/SS)))) -> 0.33931685 | G2: =D2-(t_value_95*(SQRT(MSE*(1 + (1/observations)+(A2-mean_x)^2/SS)))) -> 0.21974795 | H2: =D2+(t_value_95*(SQRT(MSE*(1 + (1/observations)+(A2-mean_x)^2/SS)))) -> 0.3498185 | I2: =D2*sens*dose -> 3787.6169 | J2: =E2*dose*sens -> 3062.3197 | K2: =F2*dose*sens -> 4512.9142 | L2: =G2*dose*sens -> 2922.6478 | M2: =H2*dose*sens -> 4652.5861 | N2: =C2/vcr -> 2.4537118 | O2: =I2/vcr -> 2.2725702 | P2: =J2/vcr -> 1.8373918 | Q2: =K2/vcr -> 2.7077485 | R2: =L2/vcr -> 1.7535887 | S2: =M2/vcr -> 2.7915516 | T2: Based on original data
A3: =sample!B3 -> 1.5716935 | B3: 0.26799867 | C3: =B3*sens*dose -> 3564.3822 | D3: =(intercept+A3*slope) -> 0.24182442 | E3: =D3-(t_value_90*(SQRT(MSE*(1 + (1/observations)+(A3-mean_x)^2/SS)))) -> 0.18719086 | F3: =D3+(t_value_90*(SQRT(MSE*(1 + (1/observations)+(A3-mean_x)^2/SS)))) -> 0.29645798 | G3: =D3-(t_value_95*(SQRT(MSE*(1 + (1/observations)+(A3-mean_x)^2/SS)))) -> 0.17666997 | H3: =D3+(t_value_95*(SQRT(MSE*(1 + (1/observations)+(A3-mean_x)^2/SS)))) -> 0.30697887 | I3: =D3*sens*dose -> 3216.2648 | J3: =E3*dose*sens -> 2489.6385 | K3: =F3*dose*sens -> 3942.8911 | L3: =G3*dose*sens -> 2349.7106 | M3: =H3*dose*sens -> 4082.819 | N3: =C3/vcr -> 2.1386293 | O3: =I3/vcr -> 1.9297589 | P3: =J3/vcr -> 1.4937831 | Q3: =K3/vcr -> 2.3657347 | R3: =L3/vcr -> 1.4098264 | S3: =M3/vcr -> 2.4496914
A4: =sample!B4 -> 1.5910358 | B4: 0.24700214 | C4: =B4*sens*dose -> 3285.1284 | D4: =(intercept+A4*slope) -> 0.24723204 | E4: =D4-(t_value_90*(SQRT(MSE*(1 + (1/observations)+(A4-mean_x)^2/SS)))) -> 0.1926158 | F4: =D4+(t_value_90*(SQRT(MSE*(1 + (1/observations)+(A4-mean_x)^2/SS)))) -> 0.30184827 | G4: =D4-(t_value_95*(SQRT(MSE*(1 + (1/observations)+(A4-mean_x)^2/SS)))) -> 0.18209825 | H4: =D4+(t_value_95*(SQRT(MSE*(1 + (1/observations)+(A4-mean_x)^2/SS)))) -> 0.31236583 | I4: =D4*sens*dose -> 3288.1861 | J4: =E4*dose*sens -> 2561.7902 | K4: =F4*dose*sens -> 4014.582 | L4: =G4*dose*sens -> 2421.9067 | M4: =H4*dose*sens -> 4154.4655 | N4: =C4/vcr -> 1.971077 | O4: =I4/vcr -> 1.9729117 | P4: =J4/vcr -> 1.5370741 | Q4: =K4/vcr -> 2.4087492 | R4: =L4/vcr -> 1.453144 | S4: =M4/vcr -> 2.4926793
A5: =sample!B5 -> 1.9479899 | B5: 0.33992444 | C5: =B5*sens*dose -> 4520.995 | D5: =(intercept+A5*slope) -> 0.3470273 | E5: =D5-(t_value_90*(SQRT(MSE*(1 + (1/observations)+(A5-mean_x)^2/SS)))) -> 0.29248502 | F5: =D5+(t_value_90*(SQRT(MSE*(1 + (1/observations)+(A5-mean_x)^2/SS)))) -> 0.40156957 | G5: =D5-(t_value_95*(SQRT(MSE*(1 + (1/observations)+(A5-mean_x)^2/SS)))) -> 0.2819817 | H5: =D5+(t_value_95*(SQRT(MSE*(1 + (1/observations)+(A5-mean_x)^2/SS)))) -> 0.41207289 | I5: =D5*sens*dose -> 4615.463 | J5: =E5*dose*sens -> 3890.0507 | K5: =F5*dose*sens -> 5340.8753 | L5: =G5*dose*sens -> 3750.3567 | M5: =H5*dose*sens -> 5480.5694 | N5: =C5/vcr -> 2.712597 | O5: =I5/vcr -> 2.7692778 | P5: =J5/vcr -> 2.3340304 | Q5: =K5/vcr -> 3.2045252 | R5: =L5/vcr -> 2.250214 | S5: =M5/vcr -> 3.2883417
A6: =sample!B6 -> 1.5941723 | B6: 0.25460382 | C6: =B6*sens*dose -> 3386.2308 | D6: =(intercept+A6*slope) -> 0.24810891 | E6: =D6-(t_value_90*(SQRT(MSE*(1 + (1/observations)+(A6-mean_x)^2/SS)))) -> 0.19349536 | F6: =D6+(t_value_90*(SQRT(MSE*(1 + (1/observations)+(A6-mean_x)^2/SS)))) -> 0.30272246 | G6: =D6-(t_value_95*(SQRT(MSE*(1 + (1/observations)+(A6-mean_x)^2/SS)))) -> 0.18297832 | H6: =D6+(t_value_95*(SQRT(MSE*(1 + (1/observations)+(A6-mean_x)^2/SS)))) -> 0.3132395 | I6: =D6*sens*dose -> 3299.8485 | J6: =E6*dose*sens -> 2573.4883 | K6: =F6*dose*sens -> 4026.2088 | L6: =G6*dose*sens -> 2433.6116 | M6: =H6*dose*sens -> 4166.0854 | N6: =C6/vcr -> 2.0317385 | O6: =I6/vcr -> 1.9799091 | P6: =J6/vcr -> 1.544093 | Q6: =K6/vcr -> 2.4157253 | R6: =L6/vcr -> 1.460167 | S6: =M6/vcr -> 2.4996512
A7: =sample!B7 -> 1.8830467 | B7: 0.39124803 | C7: =B7*sens*dose -> 5203.5987 | D7: =(intercept+A7*slope) -> 0.32887085 | E7: =D7-(t_value_90*(SQRT(MSE*(1 + (1/observations)+(A7-mean_x)^2/SS)))) -> 0.27434987 | F7: =D7+(t_value_90*(SQRT(MSE*(1 + (1/observations)+(A7-mean_x)^2/SS)))) -> 0.38339183 | G7: =D7-(t_value_95*(SQRT(MSE*(1 + (1/observations)+(A7-mean_x)^2/SS)))) -> 0.26385066 | H7: =D7+(t_value_95*(SQRT(MSE*(1 + (1/observations)+(A7-mean_x)^2/SS)))) -> 0.39389104 | I7: =D7*sens*dose -> 4373.9823 | J7: =E7*dose*sens -> 3648.8532 | K7: =F7*dose*sens -> 5099.1113 | L7: =G7*dose*sens -> 3509.2137 | M7: =H7*dose*sens -> 5238.7509 | N7: =C7/vcr -> 3.1221592 | O7: =I7/vcr -> 2.6243894 | P7: =J7/vcr -> 2.1893119 | Q7: =K7/vcr -> 3.0594668 | R7: =L7/vcr -> 2.1055282 | S7: =M7/vcr -> 3.1432505
A8: =sample!B8 -> 1.8822452 | B8: 0.36143857 | C8: =B8*sens*dose -> 4807.133 | D8: =(intercept+A8*slope) -> 0.32864675 | E8: =D8-(t_value_90*(SQRT(MSE*(1 + (1/observations)+(A8-mean_x)^2/SS)))) -> 0.27412594 | F8: =D8+(t_value_90*(SQRT(MSE*(1 + (1/observations)+(A8-mean_x)^2/SS)))) -> 0.38316757 | G8: =D8-(t_value_95*(SQRT(MSE*(1 + (1/observations)+(A8-mean_x)^2/SS)))) -> 0.26362676 | H8: =D8+(t_value_95*(SQRT(MSE*(1 + (1/observations)+(A8-mean_x)^2/SS)))) -> 0.39366675 | I8: =D8*sens*dose -> 4371.0018 | J8: =E8*dose*sens -> 3645.875 | K8: =F8*dose*sens -> 5096.1286 | L8: =G8*dose*sens -> 3506.2359 | M8: =H8*dose*sens -> 5235.7677 | N8: =C8/vcr -> 2.8842798 | O8: =I8/vcr -> 2.6226011 | P8: =J8/vcr -> 2.187525 | Q8: =K8/vcr -> 3.0576772 | R8: =L8/vcr -> 2.1037415 | S8: =M8/vcr -> 3.1414606
A9: =sample!B9 -> 1.917695 | B9: 0.30117518 | C9: =B9*sens*dose -> 4005.6298 | D9: =(intercept+A9*slope) -> 0.33855763 | E9: =D9-(t_value_90*(SQRT(MSE*(1 + (1/observations)+(A9-mean_x)^2/SS)))) -> 0.28402721 | F9: =D9+(t_value_90*(SQRT(MSE*(1 + (1/observations)+(A9-mean_x)^2/SS)))) -> 0.39308805 | G9: =D9-(t_value_95*(SQRT(MSE*(1 + (1/observations)+(A9-mean_x)^2/SS)))) -> 0.27352618 | H9: =D9+(t_value_95*(SQRT(MSE*(1 + (1/observations)+(A9-mean_x)^2/SS)))) -> 0.40358908 | I9: =D9*sens*dose -> 4502.8165 | J9: =E9*dose*sens -> 3777.5619 | K9: =F9*dose*sens -> 5228.0711 | L9: =G9*dose*sens -> 3637.8982 | M9: =H9*dose*sens -> 5367.7348 | N9: =C9/vcr -> 2.4033779 | O9: =I9/vcr -> 2.7016899 | P9: =J9/vcr -> 2.2665372 | Q9: =K9/vcr -> 3.1368427 | R9: =L9/vcr -> 2.1827389 | S9: =M9/vcr -> 3.2206409
A10: =sample!B10 -> 1.9928156 | B10: 0.38300706 | C10: =B10*sens*dose -> 5093.9939 | D10: =(intercept+A10*slope) -> 0.35955944 | E10: =D10-(t_value_90*(SQRT(MSE*(1 + (1/observations)+(A10-mean_x)^2/SS)))) -> 0.30499345 | F10: =D10+(t_value_90*(SQRT(MSE*(1 + (1/observations)+(A10-mean_x)^2/SS)))) -> 0.41412543 | G10: =D10-(t_value_95*(SQRT(MSE*(1 + (1/observations)+(A10-mean_x)^2/SS)))) -> 0.29448556 | H10: =D10+(t_value_95*(SQRT(MSE*(1 + (1/observations)+(A10-mean_x)^2/SS)))) -> 0.42463331 | I10: =D10*sens*dose -> 4782.1405 | J10: =E10*dose*sens -> 4056.4128 | K10: =F10*dose*sens -> 5507.8682 | L10: =G10*dose*sens -> 3916.658 | M10: =H10*dose*sens -> 5647.623 | N10: =C10/vcr -> 3.0563964 | O10: =I10/vcr -> 2.8692843 | P10: =J10/vcr -> 2.4338477 | Q10: =K10/vcr -> 3.3047209 | R10: =L10/vcr -> 2.3499948 | S10: =M10/vcr -> 3.3885738
A11: =sample!B11 -> 1.7965941 | B11: 0.32918319 | C11: =B11*sens*dose -> 4378.1365 | D11: =(intercept+A11*slope) -> 0.30470089 | E11: =D11-(t_value_90*(SQRT(MSE*(1 + (1/observations)+(A11-mean_x)^2/SS)))) -> 0.25018427 | F11: =D11+(t_value_90*(SQRT(MSE*(1 + (1/observations)+(A11-mean_x)^2/SS)))) -> 0.35921751 | G11: =D11-(t_value_95*(SQRT(MSE*(1 + (1/observations)+(A11-mean_x)^2/SS)))) -> 0.2396859 | H11: =D11+(t_value_95*(SQRT(MSE*(1 + (1/observations)+(A11-mean_x)^2/SS)))) -> 0.36971589 | I11: =D11*sens*dose -> 4052.5219 | J11: =E11*dose*sens -> 3327.4508 | K11: =F11*dose*sens -> 4777.5929 | L11: =G11*dose*sens -> 3187.8224 | M11: =H11*dose*sens -> 4917.2213 | N11: =C11/vcr -> 2.6268819 | O11: =I11/vcr -> 2.4315131 | P11: =J11/vcr -> 1.9964705 | Q11: =K11/vcr -> 2.8665558 | R11: =L11/vcr -> 1.9126935 | S11: =M11/vcr -> 2.9503328
A12: =sample!B12 -> 2.4575247 | B12: 0.41032273 | C12: =B12*sens*dose -> 5457.2923 | D12: =(intercept+A12*slope) -> 0.48948025 | E12: =D12-(t_value_90*(SQRT(MSE*(1 + (1/observations)+(A12-mean_x)^2/SS)))) -> 0.43423887 | F12: =D12+(t_value_90*(SQRT(MSE*(1 + (1/observations)+(A12-mean_x)^2/SS)))) -> 0.54472163 | G12: =D12-(t_value_95*(SQRT(MSE*(1 + (1/observations)+(A12-mean_x)^2/SS)))) -> 0.42360093 | H12: =D12+(t_value_95*(SQRT(MSE*(1 + (1/observations)+(A12-mean_x)^2/SS)))) -> 0.55535957 | I12: =D12*sens*dose -> 6510.0874 | J12: =E12*dose*sens -> 5775.377 | K12: =F12*dose*sens -> 7244.7977 | L12: =G12*dose*sens -> 5633.8924 | M12: =H12*dose*sens -> 7386.2823 | N12: =C12/vcr -> 3.2743754 | O12: =I12/vcr -> 3.9060524 | P12: =J12/vcr -> 3.4652262 | Q12: =K12/vcr -> 4.3468786 | R12: =L12/vcr -> 3.3803354 | S12: =M12/vcr -> 4.4317694
A13: =sample!B13 -> 2.3620358 | B13: 0.46723347 | C13: =B13*sens*dose -> 6214.2051 | D13: =(intercept+A13*slope) -> 0.46278398 | E13: =D13-(t_value_90*(SQRT(MSE*(1 + (1/observations)+(A13-mean_x)^2/SS)))) -> 0.4077447 | F13: =D13+(t_value_90*(SQRT(MSE*(1 + (1/observations)+(A13-mean_x)^2/SS)))) -> 0.51782325 | G13: =D13-(t_value_95*(SQRT(MSE*(1 + (1/observations)+(A13-mean_x)^2/SS)))) -> 0.39714568 | H13: =D13+(t_value_95*(SQRT(MSE*(1 + (1/observations)+(A13-mean_x)^2/SS)))) -> 0.52842227 | I13: =D13*sens*dose -> 6155.0269 | J13: =E13*dose*sens -> 5423.0045 | K13: =F13*dose*sens -> 6887.0492 | L13: =G13*dose*sens -> 5282.0375 | M13: =H13*dose*sens -> 7028.0162 | N13: =C13/vcr -> 3.7285231 | O13: =I13/vcr -> 3.6930161 | P13: =J13/vcr -> 3.2538027 | Q13: =K13/vcr -> 4.1322295 | R13: =L13/vcr -> 3.1692225 | S13: =M13/vcr -> 4.2168097
A14: =sample!B14 -> 2.0128101 | B14: 0.34457912 | C14: =B14*sens*dose -> 4582.9023 | D14: =(intercept+A14*slope) -> 0.36514937 | E14: =D14-(t_value_90*(SQRT(MSE*(1 + (1/observations)+(A14-mean_x)^2/SS)))) -> 0.31057043 | F14: =D14+(t_value_90*(SQRT(MSE*(1 + (1/observations)+(A14-mean_x)^2/SS)))) -> 0.4197283 | G14: =D14-(t_value_95*(SQRT(MSE*(1 + (1/observations)+(A14-mean_x)^2/SS)))) -> 0.30006006 | H14: =D14+(t_value_95*(SQRT(MSE*(1 + (1/observations)+(A14-mean_x)^2/SS)))) -> 0.43023868 | I14: =D14*sens*dose -> 4856.4866 | J14: =E14*dose*sens -> 4130.5867 | K14: =F14*dose*sens -> 5582.3864 | L14: =G14*dose*sens -> 3990.7987 | M14: =H14*dose*sens -> 5722.1744 | N14: =C14/vcr -> 2.7497414 | O14: =I14/vcr -> 2.9138919 | P14: =J14/vcr -> 2.478352 | Q14: =K14/vcr -> 3.3494319 | R14: =L14/vcr -> 2.3944792 | S14: =M14/vcr -> 3.4333046
... A343: =sample!B343 -> 1.5537539 | B343: 0.26005854 | C343: =B343*sens*dose -> 3458.7786 | D343: =(intercept+A343*slope) -> 0.23680896 | E343: =D343-(t_value_90*(SQRT(MSE*(1 + (1/observations)+(A343-mean_x)^2/SS)))) -> 0.18215812 | F343: =D343+(t_value_90*(SQRT(MSE*(1 + (1/observations)+(A343-mean_x)^2/SS)))) -> 0.29145981 | G343: =D343-(t_value_95*(SQRT(MSE*(1 + (1/observations)+(A343-mean_x)^2/SS)))) -> 0.1716339 | H343: =D343+(t_value_95*(SQRT(MSE*(1 + (1/observations)+(A343-mean_x)^2/SS)))) -> 0.30198403 | I343: =D343*sens*dose -> 3149.5592 | J343: =E343*dose*sens -> 2422.703 | K343: =F343*dose*sens -> 3876.4155 | L343: =G343*dose*sens -> 2282.7308 | M343: =H343*dose*sens -> 4016.3876 | N343: =C343/vcr -> 2.0752672 | O343: =I343/vcr -> 1.8897355 | P343: =J343/vcr -> 1.4536218 | Q343: =K343/vcr -> 2.3258493 | R343: =L343/vcr -> 1.3696385 | S343: =M343/vcr -> 2.4098326
A344: 1.3 | D344: =(intercept+A344*slope) -> 0.16586585 | E344: =D344-(t_value_90*(SQRT(MSE*(1 + (1/observations)+(A344-mean_x)^2/SS)))) -> 0.11084566 | F344: =D344+(t_value_90*(SQRT(MSE*(1 + (1/observations)+(A344-mean_x)^2/SS)))) -> 0.22088604 | G344: =D344-(t_value_95*(SQRT(MSE*(1 + (1/observations)+(A344-mean_x)^2/SS)))) -> 0.10025032 | H344: =D344+(t_value_95*(SQRT(MSE*(1 + (1/observations)+(A344-mean_x)^2/SS)))) -> 0.23148138 | I344: =D344*sens*dose -> 2206.0158 | J344: =E344*dose*sens -> 1474.2473 | K344: =F344*dose*sens -> 2937.7843 | L344: =G344*dose*sens -> 1333.3292 | M344: =H344*dose*sens -> 3078.7024 | O344: =I344/vcr -> 1.3236095 | P344: =J344/vcr -> 0.8845484 | Q344: =K344/vcr -> 1.7626706 | R344: =L344/vcr -> 0.79999755 | S344: =M344/vcr -> 1.8472214 | T344: Dummy values
A345: 2.8 | D345: =(intercept+A345*slope) -> 0.5852276 | E345: =D345-(t_value_90*(SQRT(MSE*(1 + (1/observations)+(A345-mean_x)^2/SS)))) -> 0.52900006 | F345: =D345+(t_value_90*(SQRT(MSE*(1 + (1/observations)+(A345-mean_x)^2/SS)))) -> 0.64145514 | G345: =D345-(t_value_95*(SQRT(MSE*(1 + (1/observations)+(A345-mean_x)^2/SS)))) -> 0.51817222 | H345: =D345+(t_value_95*(SQRT(MSE*(1 + (1/observations)+(A345-mean_x)^2/SS)))) -> 0.65228298 | I345: =D345*sens*dose -> 7783.5271 | J345: =E345*dose*sens -> 7035.7008 | K345: =F345*dose*sens -> 8531.3533 | L345: =G345*dose*sens -> 6891.6905 | M345: =H345*dose*sens -> 8675.3637 | O345: =I345/vcr -> 4.6701162 | P345: =J345/vcr -> 4.2214205 | Q345: =K345/vcr -> 5.118812 | R345: =L345/vcr -> 4.1350143 | S345: =M345/vcr -> 5.2052182
A346: =E_ratio -> 2 | D346: =(intercept+A346*slope) -> 0.361568 | E346: =D346-(t_value_90*(SQRT(MSE*(1 + (1/observations)+(A346-mean_x)^2/SS)))) -> 0.30699753 | F346: =D346+(t_value_90*(SQRT(MSE*(1 + (1/observations)+(A346-mean_x)^2/SS)))) -> 0.41613847 | G346: =D346-(t_value_95*(SQRT(MSE*(1 + (1/observations)+(A346-mean_x)^2/SS)))) -> 0.29648878 | H346: =D346+(t_value_95*(SQRT(MSE*(1 + (1/observations)+(A346-mean_x)^2/SS)))) -> 0.42664722 | I346: =D346*sens*dose -> 4808.8544 | J346: =E346*dose*sens -> 4083.0671 | K346: =F346*dose*sens -> 5534.6417 | L346: =G346*dose*sens -> 3943.3008 | M346: =H346*dose*sens -> 5674.408 | O346: =I346/vcr -> 2.8853126 | P346: =J346/vcr -> 2.4498403 | Q346: =K346/vcr -> 3.320785 | R346: =L346/vcr -> 2.3659805 | S346: =M346/vcr -> 3.4046448 | T346: New prediction
A347: =A346-0.03 -> 1.97 | O347: =Calculator!$K$29 -> 2.4498403 | T347: lower 90 bar
A348: =A346+0.03 -> 2.03 | O348: =O347 -> 2.4498403
A349: =A346-0.04 -> 1.96 | O349: =Calculator!N29 -> 2.3659805 | T349: lower 95 bar
A350: =A346+0.04 -> 2.04 | O350: =O349 -> 2.3659805
A351: =A347 -> 1.97 | O351: =Calculator!M29 -> 3.320785 | T351: upper 90 bar
A352: =A348 -> 2.03 | O352: =O351 -> 3.320785
A353: =A349 -> 1.96 | O353: =Calculator!P29 -> 3.4046448 | T353: upper 95 bar
A354: =A350 -> 2.04 | O354: =O353 -> 3.4046448
A355: =A346 -> 2 | O355: =O349 -> 2.3659805 | T355: vertical line
A356: =A346 -> 2 | O356: =O353 -> 3.4046448
A357: 1 | O357: =Calculator!target_PV_ratio -> 3 | T357: horizontal line
A358: 3 | O358: =Calculator!target_PV_ratio -> 3

Sheet constants
A1: lambda | B1: =LN(2)/(60*6.0067) -> 0.0019232612
