Workbook

Sheet Thermal model MaA0d
A1: Madrid | B1: Alternating | C1: 0 days dark
A2: parameters | B2: natural (hºC) | C2: logarithmic | D2: natural (dºC)
A3: fiT(50) | B3: =24*D3 -> 378.7816 | C3: =AQ21 -> 2.758906 | D3: =EXP(C3) -> 15.782567
A4: sigfiT | B4: =10^C4 -> 2.7338492 | C4: =AQ20 -> 0.43677456
A5: Tb | B5: ='Tb MaA0d'!$G$26 -> 16.654731
A6: To | B6: 25
D8: 15/20 | J8: 20/25 | P8: 25/30 | V8: 15/25 | AB8: 20/30 | AH8: 15/30
A9: Exp. Temp. | D9: 17.5 | J9: 22.5 | P9: 27.5 | V9: 20 | AB9: 25 | AH9: 22.5
A10: Time | B10: Thermtime | C10: log Th.t | D10: Acc. Germ | I10: log Th.t | J10: Acc. Germ | O10: log Th.t | P10: Acc. Germ | U10: log Th.t | V10: Acc. Germ | AA10: log Th.t | AB10: Acc. Germ | AG10: log Th.t | AH10: Acc. Germ
A11: (d) | B11: (ºh) | C11: (logºh) | D11: (%) | E11: Prop | F11: Corr | G11: Logit | I11: (logºh) | J11: (%) | K11: Prop | L11: Corr | M11: Logit | O11: (logºh) | P11: (%) | Q11: Prop | R11: Corr | S11: Logit | U11: (logºh) | V11: (%) | W11: Prop | X11: Corr | Y11: Logit | AA11: (logºh) | AB11: (%) | AC11: Prop | AD11: Corr | AE11: Logit | AG11: (logºh) | AH11: (%) | AI11: Prop | AJ11: Corr | AK11: Logit
A12: 1 | B12: =A12*24 -> 24 | C12: =LOG(($D$9-$B$5)*$B12) -> 1.3072059 | D12: 0 | I12: =LOG((J$9-$B$5)*$B12) -> 2.1470157 | J12: 0 | O12: =LOG((P$9-$B$5)*$B12) -> 2.4154516 | P12: 0 | U12: =LOG((V$9-$B$5)*$B12) -> 1.9046422 | V12: 0.04 | W12: =(V12/1) -> 0.04 | X12: =(W12-W$12)/(1-W$12) -> 0 | AA12: =LOG((AB$9-$B$5)*$B12) -> 2.3016516 | AB12: 0.08 | AC12: =(AB12/1) -> 0.08 | AD12: =(AC12-AC$12)/(1-AC$12) -> 0 | AG12: =LOG((AH$9-$B$5)*$B12) -> 2.1470157 | AH12: 0.05 | AI12: =(AH12/1) -> 0.05 | AJ12: =(AI12-AI$12)/(1-AI$12) -> 0
A13: 2 | B13: =A13*24 -> 48 | C13: =LOG(($D$9-$B$5)*$B13) -> 1.6082359 | D13: 0 | I13: =LOG((J$9-$B$5)*$B13) -> 2.4480457 | J13: 0 | O13: =LOG((P$9-$B$5)*$B13) -> 2.7164815 | P13: 0.060606061 | Q13: =(P13/1) -> 0.060606061 | R13: =(Q13-Q$13)/(1-Q$13) -> 0 | U13: =LOG((V$9-$B$5)*$B13) -> 2.2056722 | V13: 0.20333333 | W13: =(V13/1) -> 0.20333333 | X13: =(W13-W$12)/(1-W$12) -> 0.17013889 | Y13: =LN(X13/(1-W13)) -> -1.5438213 | AA13: =LOG((AB$9-$B$5)*$B13) -> 2.6026816 | AB13: 0.205 | AC13: =(AB13/1) -> 0.205 | AD13: =(AC13-AC$12)/(1-AC$12) -> 0.13586957 | AE13: =LN(AD13/(1-AC13)) -> -1.7666468 | AG13: =LOG((AH$9-$B$5)*$B13) -> 2.4480457 | AH13: 0.2701 | AI13: =(AH13/1) -> 0.2701 | AJ13: =(AI13-AI$12)/(1-AI$12) -> 0.23168421 | AK13: =LN(AJ13/(1-AI13)) -> -1.1475323
A14: 3 | B14: =A14*24 -> 72 | C14: =LOG(($D$9-$B$5)*$B14) -> 1.7843272 | D14: 0 | I14: =LOG((J$9-$B$5)*$B14) -> 2.624137 | J14: 0.029411765 | K14: =(J14/1) -> 0.029411765 | L14: =(K14-K$14)/(1-K$14) -> 0 | O14: =LOG((P$9-$B$5)*$B14) -> 2.8925728 | P14: 0.307 | Q14: =(P14/1) -> 0.307 | R14: =(Q14-Q$13)/(1-Q$13) -> 0.26229032 | S14: =LN(R14/(1-Q14)) -> -0.97157801 | U14: =LOG((V$9-$B$5)*$B14) -> 2.3817635 | V14: 0.28282828 | W14: =(V14/1) -> 0.28282828 | X14: =(W14-W$12)/(1-W$12) -> 0.25294613 | Y14: =LN(X14/(1-W14)) -> -1.0421388 | AA14: =LOG((AB$9-$B$5)*$B14) -> 2.7787728 | AB14: 0.53 | AC14: =(AB14/1) -> 0.53 | AD14: =(AC14-AC$12)/(1-AC$12) -> 0.48913043 | AE14: =LN(AD14/(1-AC14)) -> 0.039896497 | AG14: =LOG((AH$9-$B$5)*$B14) -> 2.624137 | AH14: 0.3347 | AI14: =(AH14/1) -> 0.3347 | AJ14: =(AI14-AI$12)/(1-AI$12) -> 0.29968421 | AK14: =LN(AJ14/(1-AI14)) -> -0.79750878
A15: 4 | B15: =A15*24 -> 96 | C15: =LOG(($D$9-$B$5)*$B15) -> 1.9092659 | D15: 0 | I15: =LOG((J$9-$B$5)*$B15) -> 2.7490757 | J15: 0.19066667 | K15: =(J15/1) -> 0.19066667 | L15: =(K15-K$14)/(1-K$14) -> 0.16614141 | M15: =LN(L15/(1-K15)) -> -1.5833715 | O15: =LOG((P$9-$B$5)*$B15) -> 3.0175115 | P15: 0.4344 | Q15: =(P15/1) -> 0.4344 | R15: =(Q15-Q$13)/(1-Q$13) -> 0.39790968 | S15: =LN(R15/(1-Q15)) -> -0.35166208 | U15: =LOG((V$9-$B$5)*$B15) -> 2.5067022 | V15: 0.3466 | W15: =(V15/1) -> 0.3466 | X15: =(W15-W$12)/(1-W$12) -> 0.319375 | Y15: =LN(X15/(1-W15)) -> -0.71582354 | AA15: =LOG((AB$9-$B$5)*$B15) -> 2.9037115 | AB15: 0.59 | AC15: =(AB15/1) -> 0.59 | AD15: =(AC15-AC$12)/(1-AC$12) -> 0.55434783 | AE15: =LN(AD15/(1-AC15)) -> 0.30163517 | AG15: =LOG((AH$9-$B$5)*$B15) -> 2.7490757 | AH15: 0.38886667 | AI15: =(AH15/1) -> 0.38886667 | AJ15: =(AI15-AI$12)/(1-AI$12) -> 0.35670175 | AK15: =LN(AJ15/(1-AI15)) -> -0.53841515 | AP15: Slope: | AQ15: =SLOPE(AQ25:AQ89,AP25:AP89) -> 4.1527129
A16: 5 | B16: =A16*24 -> 120 | C16: =LOG(($D$9-$B$5)*$B16) -> 2.006176 | D16: 0 | I16: =LOG((J$9-$B$5)*$B16) -> 2.8459857 | J16: 0.37 | K16: =(J16/1) -> 0.37 | L16: =(K16-K$14)/(1-K$14) -> 0.35090909 | M16: =LN(L16/(1-K16)) -> -0.58519263 | O16: =LOG((P$9-$B$5)*$B16) -> 3.1144216 | P16: 0.4933 | Q16: =(P16/1) -> 0.4933 | R16: =(Q16-Q$13)/(1-Q$13) -> 0.46060968 | S16: =LN(R16/(1-Q16)) -> -0.095368115 | U16: =LOG((V$9-$B$5)*$B16) -> 2.6036122 | V16: 0.3922 | W16: =(V16/1) -> 0.3922 | X16: =(W16-W$12)/(1-W$12) -> 0.366875 | Y16: =LN(X16/(1-W16)) -> -0.50482469 | AA16: =LOG((AB$9-$B$5)*$B16) -> 3.0006216 | AB16: 0.617 | AC16: =(AB16/1) -> 0.617 | AD16: =(AC16-AC$12)/(1-AC$12) -> 0.58369565 | AE16: =LN(AD16/(1-AC16)) -> 0.42134471 | AG16: =LOG((AH$9-$B$5)*$B16) -> 2.8459857 | AH16: 0.48 | AI16: =(AH16/1) -> 0.48 | AJ16: =(AI16-AI$12)/(1-AI$12) -> 0.45263158 | AK16: =LN(AJ16/(1-AI16)) -> -0.13875031 | AP16: Intercept: | AQ16: =INTERCEPT(AQ25:AQ89,AP25:AP89) -> -11.456944
A17: 6 | B17: =A17*24 -> 144 | C17: =LOG(($D$9-$B$5)*$B17) -> 2.0853572 | D17: 0 | I17: =LOG((J$9-$B$5)*$B17) -> 2.925167 | J17: 0.645 | K17: =(J17/1) -> 0.645 | L17: =(K17-K$14)/(1-K$14) -> 0.63424242 | M17: =LN(L17/(1-K17)) -> 0.58031346 | O17: =LOG((P$9-$B$5)*$B17) -> 3.1936028 | P17: 0.5344 | Q17: =(P17/1) -> 0.5344 | R17: =(Q17-Q$13)/(1-Q$13) -> 0.50436129 | S17: =LN(R17/(1-Q17)) -> 0.079965961 | U17: =LOG((V$9-$B$5)*$B17) -> 2.6827935 | V17: 0.4233 | W17: =(V17/1) -> 0.4233 | X17: =(W17-W$12)/(1-W$12) -> 0.39927083 | Y17: =LN(X17/(1-W17)) -> -0.36768223 | AA17: =LOG((AB$9-$B$5)*$B17) -> 3.0798028 | AB17: 0.74747475 | AC17: =(AB17/1) -> 0.74747475 | AD17: =(AC17-AC$12)/(1-AC$12) -> 0.72551603 | AE17: =LN(AD17/(1-AC17)) -> 1.0553719 | AG17: =LOG((AH$9-$B$5)*$B17) -> 2.925167 | AH17: 0.53856667 | AI17: =(AH17/1) -> 0.53856667 | AJ17: =(AI17-AI$12)/(1-AI$12) -> 0.5142807 | AK17: =LN(AJ17/(1-AI17)) -> 0.10843164
A18: 7 | B18: =A18*24 -> 168 | C18: =LOG(($D$9-$B$5)*$B18) -> 2.152304 | D18: 0 | I18: =LOG((J$9-$B$5)*$B18) -> 2.9921137 | J18: 0.7245 | K18: =(J18/1) -> 0.7245 | L18: =(K18-K$14)/(1-K$14) -> 0.71615152 | M18: =LN(L18/(1-K18)) -> 0.95530413 | O18: =LOG((P$9-$B$5)*$B18) -> 3.2605496 | P18: 0.5966 | Q18: =(P18/1) -> 0.5966 | R18: =(Q18-Q$13)/(1-Q$13) -> 0.57057419 | S18: =LN(R18/(1-Q18)) -> 0.34671459 | U18: =LOG((V$9-$B$5)*$B18) -> 2.7497403 | V18: 0.4789 | W18: =(V18/1) -> 0.4789 | X18: =(W18-W$12)/(1-W$12) -> 0.4571875 | Y18: =LN(X18/(1-W18)) -> -0.13084837 | AA18: =LOG((AB$9-$B$5)*$B18) -> 3.1467496 | AB18: 0.7979798 | AC18: =(AB18/1) -> 0.7979798 | AD18: =(AC18-AC$12)/(1-AC$12) -> 0.78041282 | AE18: =LN(AD18/(1-AC18)) -> 1.3514553 | AG18: =LOG((AH$9-$B$5)*$B18) -> 2.9921137 | AH18: 0.61406667 | AI18: =(AH18/1) -> 0.61406667 | AJ18: =(AI18-AI$12)/(1-AI$12) -> 0.59375439 | AK18: =LN(AJ18/(1-AI18)) -> 0.4308011 | AP18: Log (C%): | AQ18: =(AQ17-AQ16)/AQ15 -> 2.758906
A19: 8 | B19: =A19*24 -> 192 | C19: =LOG(($D$9-$B$5)*$B19) -> 2.2102959 | D19: 0.02020202 | E19: =(D19/1) -> 0.02020202 | F19: =(E19-E$19)/(1-E$19) -> 0 | I19: =LOG((J$9-$B$5)*$B19) -> 3.0501057 | J19: 0.7655 | K19: =(J19/1) -> 0.7655 | L19: =(K19-K$14)/(1-K$14) -> 0.75839394 | M19: =LN(L19/(1-K19)) -> 1.1737474 | O19: =LOG((P$9-$B$5)*$B19) -> 3.3185415 | P19: 0.6355 | Q19: =(P19/1) -> 0.6355 | R19: =(Q19-Q$13)/(1-Q$13) -> 0.61198387 | S19: =LN(R19/(1-Q19)) -> 0.51817938 | U19: =LOG((V$9-$B$5)*$B19) -> 2.8077322 | V19: 0.5238 | W19: =(V19/1) -> 0.5238 | X19: =(W19-W$12)/(1-W$12) -> 0.50395833 | Y19: =LN(X19/(1-W19)) -> 0.056655659 | AA19: =LOG((AB$9-$B$5)*$B19) -> 3.2047415 | AB19: 0.80808081 | AC19: =(AB19/1) -> 0.80808081 | AD19: =(AC19-AC$12)/(1-AC$12) -> 0.79139218 | AE19: =LN(AD19/(1-AC19)) -> 1.4167192 | AG19: =LOG((AH$9-$B$5)*$B19) -> 3.0501057 | AH19: 0.66956667 | AI19: =(AH19/1) -> 0.66956667 | AJ19: =(AI19-AI$12)/(1-AI$12) -> 0.65217544 | AK19: =LN(AJ19/(1-AI19)) -> 0.67990868 | AP19: LC50: | AQ19: =10^AQ18 -> 573.99215
A20: 9 | B20: =A20*24 -> 216 | C20: =LOG(($D$9-$B$5)*$B20) -> 2.2614485 | D20: 0.042 | E20: =(D20/1) -> 0.042 | F20: =(E20-E$19)/(1-E$19) -> 0.022247423 | G20: =LN(F20/(1-E20)) -> -3.7626216 | I20: =LOG((J$9-$B$5)*$B20) -> 3.1012582 | J20: 0.8022 | K20: =(J20/1) -> 0.8022 | L20: =(K20-K$14)/(1-K$14) -> 0.79620606 | M20: =LN(L20/(1-K20)) -> 1.3926016 | O20: =LOG((P$9-$B$5)*$B20) -> 3.3696941 | P20: 0.7233 | Q20: =(P20/1) -> 0.7233 | R20: =(Q20-Q$13)/(1-Q$13) -> 0.70544839 | S20: =LN(R20/(1-Q20)) -> 0.93589972 | U20: =LOG((V$9-$B$5)*$B20) -> 2.8588847 | V20: 0.5964 | W20: =(V20/1) -> 0.5964 | X20: =(W20-W$12)/(1-W$12) -> 0.57958333 | Y20: =LN(X20/(1-W20)) -> 0.36188517 | AA20: =LOG((AB$9-$B$5)*$B20) -> 3.2558941 | AB20: 0.83765556 | AC20: =(AB20/1) -> 0.83765556 | AD20: =(AC20-AC$12)/(1-AC$12) -> 0.82353865 | AE20: =LN(AD20/(1-AC20)) -> 1.6238902 | AG20: =LOG((AH$9-$B$5)*$B20) -> 3.1012582 | AH20: 0.7347 | AI20: =(AH20/1) -> 0.7347 | AJ20: =(AI20-AI$12)/(1-AI$12) -> 0.72073684 | AK20: =LN(AJ20/(1-AI20)) -> 0.99941282 | AP20: sigma | AQ20: =PI()/(AQ15*SQRT(3)) -> 0.43677456
A21: 10 | B21: =A21*24 -> 240 | C21: =LOG(($D$9-$B$5)*$B21) -> 2.3072059 | D21: 0.0695 | E21: =(D21/1) -> 0.0695 | F21: =(E21-E$19)/(1-E$19) -> 0.050314433 | G21: =LN(F21/(1-E21)) -> -2.9174301 | I21: =LOG((J$9-$B$5)*$B21) -> 3.1470157 | J21: 0.8349 | K21: =(J21/1) -> 0.8349 | L21: =(K21-K$14)/(1-K$14) -> 0.82989697 | M21: =LN(L21/(1-K21)) -> 1.6147502 | O21: =LOG((P$9-$B$5)*$B21) -> 3.4154516 | P21: 0.7677 | Q21: =(P21/1) -> 0.7677 | R21: =(Q21-Q$13)/(1-Q$13) -> 0.7527129 | S21: =LN(R21/(1-Q21)) -> 1.1756542 | U21: =LOG((V$9-$B$5)*$B21) -> 2.9046422 | V21: 0.6233 | W21: =(V21/1) -> 0.6233 | X21: =(W21-W$12)/(1-W$12) -> 0.60760417 | Y21: =LN(X21/(1-W21)) -> 0.47807451 | AA21: =LOG((AB$9-$B$5)*$B21) -> 3.3016516 | AB21: 0.85858586 | AC21: =(AB21/1) -> 0.85858586 | AD21: =(AC21-AC$12)/(1-AC$12) -> 0.84628898 | AE21: =LN(AD21/(1-AC21)) -> 1.7891681 | AG21: =LOG((AH$9-$B$5)*$B21) -> 3.1470157 | AH21: 0.77386667 | AI21: =(AH21/1) -> 0.77386667 | AJ21: =(AI21-AI$12)/(1-AI$12) -> 0.76196491 | AK21: =LN(AJ21/(1-AI21)) -> 1.2147757 | AO21: =24*D3 -> 378.7816 | AP21: logfi50 | AQ21: =-AQ16/AQ15 -> 2.758906
A22: 11 | B22: =A22*24 -> 264 | C22: =LOG(($D$9-$B$5)*$B22) -> 2.3485986 | D22: 0.1311 | E22: =(D22/1) -> 0.1311 | F22: =(E22-E$19)/(1-E$19) -> 0.11318454 | G22: =LN(F22/(1-E22)) -> -2.0382085 | I22: =LOG((J$9-$B$5)*$B22) -> 3.1884084 | J22: 0.844 | K22: =(J22/1) -> 0.844 | L22: =(K22-K$14)/(1-K$14) -> 0.83927273 | M22: =LN(L22/(1-K22)) -> 1.6826797 | O22: =LOG((P$9-$B$5)*$B22) -> 3.4568442 | P22: 0.8122 | Q22: =(P22/1) -> 0.8122 | R22: =(Q22-Q$13)/(1-Q$13) -> 0.80008387 | S22: =LN(R22/(1-Q22)) -> 1.449339 | U22: =LOG((V$9-$B$5)*$B22) -> 2.9460349 | V22: 0.6977 | W22: =(V22/1) -> 0.6977 | X22: =(W22-W$12)/(1-W$12) -> 0.68510417 | Y22: =LN(X22/(1-W22)) -> 0.81815099 | AA22: =LOG((AB$9-$B$5)*$B22) -> 3.3430442 | AB22: 0.8989899 | AC22: =(AB22/1) -> 0.8989899 | AD22: =(AC22-AC$12)/(1-AC$12) -> 0.89020641 | AE22: =LN(AD22/(1-AC22)) -> 2.1762328 | AG22: =LOG((AH$9-$B$5)*$B22) -> 3.1884084 | AH22: 0.85 | AI22: =(AH22/1) -> 0.85 | AJ22: =(AI22-AI$12)/(1-AI$12) -> 0.84210526 | AK22: =LN(AJ22/(1-AI22)) -> 1.7252697
A23: 12 | B23: =A23*24 -> 288 | C23: =LOG(($D$9-$B$5)*$B23) -> 2.3863872 | D23: 0.152 | E23: =(D23/1) -> 0.152 | F23: =(E23-E$19)/(1-E$19) -> 0.13451546 | G23: =LN(F23/(1-E23)) -> -1.8412015 | I23: =LOG((J$9-$B$5)*$B23) -> 3.226197 | J23: 0.8455 | K23: =(J23/1) -> 0.8455 | L23: =(K23-K$14)/(1-K$14) -> 0.84081818 | M23: =LN(L23/(1-K23)) -> 1.6941813 | O23: =LOG((P$9-$B$5)*$B23) -> 3.4946328 | P23: 0.8345 | Q23: =(P23/1) -> 0.8345 | R23: =(Q23-Q$13)/(1-Q$13) -> 0.82382258 | S23: =LN(R23/(1-Q23)) -> 1.604984 | U23: =LOG((V$9-$B$5)*$B23) -> 2.9838235 | V23: 0.7456 | W23: =(V23/1) -> 0.7456 | X23: =(W23-W$12)/(1-W$12) -> 0.735 | Y23: =LN(X23/(1-W23)) -> 1.0609627 | AA23: =LOG((AB$9-$B$5)*$B23) -> 3.3808328 | AB23: 0.949 | AC23: =(AB23/1) -> 0.949 | AD23: =(AC23-AC$12)/(1-AC$12) -> 0.94456522 | AE23: =LN(AD23/(1-AC23)) -> 2.9188991 | AG23: =LOG((AH$9-$B$5)*$B23) -> 3.226197 | AH23: 0.89533333 | AI23: =(AH23/1) -> 0.89533333 | AJ23: =(AI23-AI$12)/(1-AI$12) -> 0.88982456 | AK23: =LN(AJ23/(1-AI23)) -> 2.1402436
A24: 13 | B24: =A24*24 -> 312 | C24: =LOG(($D$9-$B$5)*$B24) -> 2.4211493 | D24: 0.1932 | E24: =(D24/1) -> 0.1932 | F24: =(E24-E$19)/(1-E$19) -> 0.17656495 | G24: =LN(F24/(1-E24)) -> -1.519387 | I24: =LOG((J$9-$B$5)*$B24) -> 3.2609591 | J24: 0.8677 | K24: =(J24/1) -> 0.8677 | L24: =(K24-K$14)/(1-K$14) -> 0.86369091 | M24: =LN(L24/(1-K24)) -> 1.8761429 | O24: =LOG((P$9-$B$5)*$B24) -> 3.5293949 | P24: 0.8677 | Q24: =(P24/1) -> 0.8677 | R24: =(Q24-Q$13)/(1-Q$13) -> 0.85916452 | S24: =LN(R24/(1-Q24)) -> 1.8708884 | U24: =LOG((V$9-$B$5)*$B24) -> 3.0185856 | V24: 0.8122 | W24: =(V24/1) -> 0.8122 | X24: =(W24-W$12)/(1-W$12) -> 0.804375 | Y24: =LN(X24/(1-W24)) -> 1.454688 | AA24: =LOG((AB$9-$B$5)*$B24) -> 3.4155949 | AB24: 0.949 | AG24: =LOG((AH$9-$B$5)*$B24) -> 3.2609591 | AH24: 0.93076465 | AI24: =(AH24/1) -> 0.93076465 | AJ24: =(AI24-AI$12)/(1-AI$12) -> 0.92712068 | AK24: =LN(AJ24/(1-AI24)) -> 2.5945721 | AP24: (logºh) | AQ24: Logit
A25: 14 | B25: =A25*24 -> 336 | C25: =LOG(($D$9-$B$5)*$B25) -> 2.453334 | D25: 0.2362 | E25: =(D25/1) -> 0.2362 | F25: =(E25-E$19)/(1-E$19) -> 0.22045155 | G25: =LN(F25/(1-E25)) -> -1.242628 | I25: =LOG((J$9-$B$5)*$B25) -> 3.2931437 | J25: 0.8922 | K25: =(J25/1) -> 0.8922 | L25: =(K25-K$14)/(1-K$14) -> 0.88893333 | M25: =LN(L25/(1-K25)) -> 2.1097446 | O25: =LOG((P$9-$B$5)*$B25) -> 3.5615796 | P25: 0.9011 | Q25: =(P25/1) -> 0.9011 | R25: =(Q25-Q$13)/(1-Q$13) -> 0.89471935 | S25: =LN(R25/(1-Q25)) -> 2.2024009 | U25: =LOG((V$9-$B$5)*$B25) -> 3.0507703 | V25: 0.8455 | W25: =(V25/1) -> 0.8455 | X25: =(W25-W$12)/(1-W$12) -> 0.8390625 | Y25: =LN(X25/(1-W25)) -> 1.6920911 | AA25: =LOG((AB$9-$B$5)*$B25) -> 3.4477796 | AB25: 0.949 | AG25: =LOG((AH$9-$B$5)*$B25) -> 3.2931437 | AH25: 0.93873131 | AI25: =(AH25/1) -> 0.93873131 | AJ25: =(AI25-AI$12)/(1-AI$12) -> 0.93550665 | AK25: =LN(AJ25/(1-AI25)) -> 2.7258194 | AO25: 17,5ºc | AP25: 2.2375437 | AQ25: -3.76
A26: 15 | B26: =A26*24 -> 360 | C26: =LOG(($D$9-$B$5)*$B26) -> 2.4832972 | D26: 0.34343434 | E26: =(D26/1) -> 0.34343434 | F26: =(E26-E$19)/(1-E$19) -> 0.32989691 | G26: =LN(F26/(1-E26)) -> -0.6882425 | I26: =LOG((J$9-$B$5)*$B26) -> 3.323107 | J26: 0.9234 | K26: =(J26/1) -> 0.9234 | L26: =(K26-K$14)/(1-K$14) -> 0.92107879 | M26: =LN(L26/(1-K26)) -> 2.4869485 | O26: =LOG((P$9-$B$5)*$B26) -> 3.5915428 | P26: 0.9344 | Q26: =(P26/1) -> 0.9344 | R26: =(Q26-Q$13)/(1-Q$13) -> 0.93016774 | S26: =LN(R26/(1-Q26)) -> 2.6517892 | U26: =LOG((V$9-$B$5)*$B26) -> 3.0807335 | V26: 0.8677 | W26: =(V26/1) -> 0.8677 | X26: =(W26-W$12)/(1-W$12) -> 0.8621875 | Y26: =LN(X26/(1-W26)) -> 1.8744007 | AA26: =LOG((AB$9-$B$5)*$B26) -> 3.4777428 | AB26: 0.949 | AG26: =LOG((AH$9-$B$5)*$B26) -> 3.323107 | AH26: 0.95959596 | AI26: =(AH26/1) -> 0.95959596 | AJ26: =(AI26-AI$12)/(1-AI$12) -> 0.95746943 | AK26: =LN(AJ26/(1-AI26)) -> 3.165364 | AP26: 2.2833012 | AQ26: -2.9174301
A27: 16 | B27: =A27*24 -> 384 | C27: =LOG(($D$9-$B$5)*$B27) -> 2.5113259 | D27: 0.43434343 | E27: =(D27/1) -> 0.43434343 | F27: =(E27-E$19)/(1-E$19) -> 0.42268041 | G27: =LN(F27/(1-E27)) -> -0.29137075 | I27: =LOG((J$9-$B$5)*$B27) -> 3.3511357 | J27: 0.967 | K27: =(J27/1) -> 0.967 | L27: =(K27-K$14)/(1-K$14) -> 0.966 | M27: =LN(L27/(1-K27)) -> 3.3766563 | O27: =LOG((P$9-$B$5)*$B27) -> 3.6195715 | P27: 0.9344 | U27: =LOG((V$9-$B$5)*$B27) -> 3.1087622 | V27: 0.9136 | W27: =(V27/1) -> 0.9136 | X27: =(W27-W$12)/(1-W$12) -> 0.91 | Y27: =LN(X27/(1-W27)) -> 2.3544569 | AA27: =LOG((AB$9-$B$5)*$B27) -> 3.5057715 | AB27: 0.949 | AG27: =LOG((AH$9-$B$5)*$B27) -> 3.3511357 | AH27: 0.96969697 | AP27: 2.3246939 | AQ27: -2.0382085
A28: 17 | B28: =A28*24 -> 408 | C28: =LOG(($D$9-$B$5)*$B28) -> 2.5376549 | D28: 0.47 | E28: =(D28/1) -> 0.47 | F28: =(E28-E$19)/(1-E$19) -> 0.45907216 | G28: =LN(F28/(1-E28)) -> -0.14366959 | I28: =LOG((J$9-$B$5)*$B28) -> 3.3774646 | J28: 0.967 | K28: =(J28/1) -> 0.967 | L28: =(K28-K$14)/(1-K$14) -> 0.966 | M28: =LN(L28/(1-K28)) -> 3.3766563 | O28: =LOG((P$9-$B$5)*$B28) -> 3.6459005 | P28: 0.9344 | U28: =LOG((V$9-$B$5)*$B28) -> 3.1350911 | V28: 0.9136 | AA28: =LOG((AB$9-$B$5)*$B28) -> 3.5321005 | AB28: 0.949 | AG28: =LOG((AH$9-$B$5)*$B28) -> 3.3774646 | AH28: 0.96969697 | AP28: 2.3624825 | AQ28: -1.8412015
A29: 18 | B29: =A29*24 -> 432 | C29: =LOG(($D$9-$B$5)*$B29) -> 2.5624785 | D29: 0.54 | E29: =(D29/1) -> 0.54 | F29: =(E29-E$19)/(1-E$19) -> 0.53051546 | G29: =LN(F29/(1-E29)) -> 0.14262262 | I29: =LOG((J$9-$B$5)*$B29) -> 3.4022882 | J29: 0.967 | K29: =(J29/1) -> 0.967 | L29: =(K29-K$14)/(1-K$14) -> 0.966 | M29: =LN(L29/(1-K29)) -> 3.3766563 | O29: =LOG((P$9-$B$5)*$B29) -> 3.6707241 | P29: 0.9344 | U29: =LOG((V$9-$B$5)*$B29) -> 3.1599147 | V29: 0.9136 | AA29: =LOG((AB$9-$B$5)*$B29) -> 3.5569241 | AB29: 0.949 | AG29: =LOG((AH$9-$B$5)*$B29) -> 3.4022882 | AH29: 0.96969697 | AP29: 2.3972446 | AQ29: -1.519387
A30: 19 | B30: =A30*24 -> 456 | C30: =LOG(($D$9-$B$5)*$B30) -> 2.5859595 | D30: 0.61 | E30: =(D30/1) -> 0.61 | F30: =(E30-E$19)/(1-E$19) -> 0.60195876 | G30: =LN(F30/(1-E30)) -> 0.4340422 | I30: =LOG((J$9-$B$5)*$B30) -> 3.4257693 | J30: 0.967 | K30: =(J30/1) -> 0.967 | L30: =(K30-K$14)/(1-K$14) -> 0.966 | M30: =LN(L30/(1-K30)) -> 3.3766563 | O30: =LOG((P$9-$B$5)*$B30) -> 3.6942052 | P30: 0.9344 | U30: =LOG((V$9-$B$5)*$B30) -> 3.1833958 | V30: 0.9136 | AA30: =LOG((AB$9-$B$5)*$B30) -> 3.5804052 | AB30: 0.94949495 | AG30: =LOG((AH$9-$B$5)*$B30) -> 3.4257693 | AH30: 0.96969697 | AP30: 2.4294293 | AQ30: -1.242628
A31: 20 | B31: =A31*24 -> 480 | C31: =LOG(($D$9-$B$5)*$B31) -> 2.6082359 | D31: 0.67 | E31: =(D31/1) -> 0.67 | F31: =(E31-E$19)/(1-E$19) -> 0.66319588 | G31: =LN(F31/(1-E31)) -> 0.69797773 | I31: =LOG((J$9-$B$5)*$B31) -> 3.4480457 | J31: 0.967 | K31: =(J31/1) -> 0.967 | L31: =(K31-K$14)/(1-K$14) -> 0.966 | M31: =LN(L31/(1-K31)) -> 3.3766563 | O31: =LOG((P$9-$B$5)*$B31) -> 3.7164815 | P31: 0.9344 | U31: =LOG((V$9-$B$5)*$B31) -> 3.2056722 | V31: 0.9136 | AA31: =LOG((AB$9-$B$5)*$B31) -> 3.6026816 | AB31: 0.94949495 | AG31: =LOG((AH$9-$B$5)*$B31) -> 3.4480457 | AH31: 0.96969697 | AP31: 2.4593925 | AQ31: -0.6882425
AP32: 2.4874212 | AQ32: -0.29137075
AP33: 2.5137502 | AQ33: -0.18
AP34: 2.5385737 | AQ34: 0.14262262
AP35: 2.5620548 | AQ35: 0.4340422
AP36: 2.5843312 | AQ36: 0.69797773
AO37: 20ºC | AP37: 2.1997552 | AQ37: -1.5438213
AP38: 2.3758464 | AQ38: -1.0421388
AP39: 2.5007852 | AQ39: -0.71582354
AP40: 2.5976952 | AQ40: -0.50482469
AP41: 2.6768764 | AQ41: -0.36768223
...

Sheet To MaA0d
C5: Variable | D5: Temp | E5: T50
C6: 15/20 | D6: 17.5 | E6: ='Thermal model MaA0d'!D67 -> 0.10521323
C7: 20/25 | D7: 22.5 | E7: ='Thermal model MaA0d'!J67 -> 0.25205781
C8: 25/30 | D8: 27.5 | E8: ='Thermal model MaA0d'!P67 -> 0.48893463
C9: 15/25 | D9: 20 | E9: ='Thermal model MaA0d'!V67 -> 0.45155332
C10: 20/30 | D10: 25 | E10: ='Thermal model MaA0d'!AB67 -> 0.61455984
C11: 15/30 | D11: 22.5 | E11: ='Thermal model MaA0d'!AH67 -> 0.56782693

Sheet Tb MaA0d
C1: Days | D1: 1 | E1: 2 | F1: 3 | G1: 4 | H1: 5 | I1: 6 | J1: 7 | K1: 8 | L1: 9 | M1: 10 | N1: 11 | O1: 12 | P1: 13 | Q1: 14 | R1: 15 | S1: 16 | T1: 17 | U1: 18 | V1: 19 | W1: 20 | X1: Daya
C2: 1/Days | D2: 1 | E2: 0.5 | F2: 0.33333333 | G2: 0.25 | H2: 0.2 | I2: 0.16666667 | J2: 0.14285714 | K2: 0.125 | L2: 0.11111111 | M2: 0.1 | N2: 0.090909091 | O2: 0.083333333 | P2: 0.076923077 | Q2: 0.071428571 | R2: 0.066666667 | S2: 0.0625 | T2: 0.058823529 | U2: 0.055555556 | V2: 0.052631579 | W2: 0.05 | X2: 1/Days
B3: 17.5 | C3: Ma17A50d | D3: 0 | E3: 0 | F3: 0 | G3: 0 | H3: 0 | I3: 0 | J3: 0 | K3: 0.02020202 | L3: 0.042 | M3: 0.0695 | N3: 0.1311 | O3: 0.152 | P3: 0.1932 | Q3: 0.2362 | R3: 0.34343434 | S3: 0.43434343 | T3: 0.47 | U3: 0.54 | V3: 0.61 | W3: 0.67 | X3: % Germ.
B4: 20 | C4: Ma20A100d | D4: 0.04 | E4: 0.20333333 | F4: 0.28282828 | G4: 0.3466 | H4: 0.3922 | I4: 0.4233 | J4: 0.4789 | K4: 0.5238 | L4: 0.5964 | M4: 0.6233 | N4: 0.6977 | O4: 0.7456 | P4: 0.8122 | Q4: 0.8455 | R4: 0.8677 | S4: 0.9136 | T4: 0.9136 | U4: 0.9136 | V4: 0.9136 | W4: 0.9136 | X4: % Germ.
B5: 22.5 | C5: Ma22A50d | D5: 0 | E5: 0 | F5: 0.029411765 | G5: 0.19066667 | H5: 0.37 | I5: 0.645 | J5: 0.7245 | K5: 0.7655 | L5: 0.8022 | M5: 0.8349 | N5: 0.844 | O5: 0.8455 | P5: 0.8677 | Q5: 0.8922 | R5: 0.9234 | S5: 0.967 | T5: 0.967 | U5: 0.967 | V5: 0.967 | W5: 0.967 | X5: % Germ.
B6: 22.5 | C6: Ma22A150d | D6: 0.05 | E6: 0.2701 | F6: 0.3347 | G6: 0.38886667 | H6: 0.48 | I6: 0.53856667 | J6: 0.61406667 | K6: 0.66956667 | L6: 0.7347 | M6: 0.77386667 | N6: 0.85 | O6: 0.89533333 | P6: 0.93076465 | Q6: 0.93873131 | R6: 0.95959596 | S6: 0.96969697 | T6: 0.96969697 | U6: 0.96969697 | V6: 0.96969697 | W6: 0.96969697 | X6: % Germ.
B7: 25 | C7: Ma25A100d | D7: 0.08 | E7: 0.31 | F7: 0.53 | G7: 0.59 | H7: 0.617 | I7: 0.74747475 | J7: 0.7979798 | K7: 0.80808081 | L7: 0.83765556 | M7: 0.85858586 | N7: 0.8989899 | O7: 0.949 | P7: 0.949 | Q7: 0.949 | R7: 0.949 | S7: 0.949 | T7: 0.949 | U7: 0.949 | V7: 0.94949495 | W7: 0.94949495 | X7: % Germ.
B8: 27.5 | C8: Ma27A50d | D8: 0 | E8: 0.06 | F8: 0.31 | G8: 0.4344 | H8: 0.4933 | I8: 0.5344 | J8: 0.5966 | K8: 0.6355 | L8: 0.7233 | M8: 0.7677 | N8: 0.8122 | O8: 0.8345 | P8: 0.8677 | Q8: 0.9011 | R8: 0.9344 | S8: 0.9344 | T8: 0.9344 | U8: 0.9344 | V8: 0.9344 | W8: 0.9344 | X8: % Germ.
E17: Ma Alternating 0d dark
F18: %G 50%
D19: 17,A5 | E19: 17.5 | F19: 0.055
D20: 20A10 | E20: 20 | F20: 0.135
D21: 22,5A15 | E21: 22.5 | F21: 0.185
D22: 22,5A5 | E22: 22.5 | F22: 0.195
D23: 25A10 | E23: 25 | F23: 0.375
F26: Tb= | G26: =0.6512/0.0391 -> 16.654731

Sheet Rel %Ger & LogTt MaA0d
A1: MaA0d
B2: 15/20 | D2: 20/25 | F2: 15/25 | H2: 20/30 | J2: 15/30
B3: 17.5 | D3: 22.5 | F3: 20 | H3: 25 | J3: 22.5
A4: log Th.t | B4: Acc. Germ | C4: log Th.t | D4: Acc. Germ | E4: log Th.t | F4: Acc. Germ | G4: log Th.t | H4: Acc. Germ | I4: log Th.t | J4: Acc. Germ
A5: (logºh) | B5: (%) | C5: (logºh) | D5: (%) | E5: (logºh) | F5: (%) | G5: (logºh) | H5: (%) | I5: (logºh) | J5: (%)
A6: 1.3072059 | B6: 0 | C6: 2.1470157 | D6: 0 | E6: 1.9046422 | F6: 0.04 | G6: 2.3016516 | H6: 0.08 | I6: 2.1470157 | J6: 0.05 | L6: parameters | M6: logarithmic
A7: 1.6082359 | B7: 0 | C7: 2.4480457 | D7: 0 | E7: 2.2056722 | F7: 0.20333333 | G7: 2.6026816 | H7: 0.205 | I7: 2.4480457 | J7: 0.2701 | L7: fiT(50) | M7: 2.7585984
A8: 1.7843272 | B8: 0 | C8: 2.624137 | D8: 0.029411765 | E8: 2.3817635 | F8: 0.28282828 | G8: 2.7787728 | H8: 0.53 | I8: 2.624137 | J8: 0.3347 | L8: sigfiT | M8: 0.44546154
A9: 1.9092659 | B9: 0 | C9: 2.7490757 | D9: 0.19066667 | E9: 2.5067022 | F9: 0.3466 | G9: 2.9037115 | H9: 0.59 | I9: 2.7490757 | J9: 0.38886667 | L9: model
A10: 2.006176 | B10: 0 | C10: 2.8459857 | D10: 0.37 | E10: 2.6036122 | F10: 0.3922 | G10: 3.0006216 | H10: 0.617 | I10: 2.8459857 | J10: 0.48 | L10: 1 | M10: =NORMDIST(L10,$M$7,$M$8,TRUE) -> 3.9434357e-05
A11: 2.0853572 | B11: 0 | C11: 2.925167 | D11: 0.645 | E11: 2.6827935 | F11: 0.4233 | G11: 3.0798028 | H11: 0.74747475 | I11: 2.925167 | J11: 0.53856667 | L11: 1.25 | M11: =NORMDIST(L11,$M$7,$M$8,TRUE) -> 0.00035382721
A12: 2.152304 | B12: 0 | C12: 2.9921137 | D12: 0.7245 | E12: 2.7497403 | F12: 0.4789 | G12: 3.1467496 | H12: 0.7979798 | I12: 2.9921137 | J12: 0.61406667 | L12: 1.5 | M12: =NORMDIST(L12,$M$7,$M$8,TRUE) -> 0.0023612242
A13: 2.2102959 | B13: 0.02020202 | C13: 3.0501057 | D13: 0.7655 | E13: 2.8077322 | F13: 0.5238 | G13: 3.2047415 | H13: 0.80808081 | I13: 3.0501057 | J13: 0.66956667 | L13: 1.75 | M13: =NORMDIST(L13,$M$7,$M$8,TRUE) -> 0.011781987
A14: 2.2614485 | B14: 0.042 | C14: 3.1012582 | D14: 0.8022 | E14: 2.8588847 | F14: 0.5964 | G14: 3.2558941 | H14: 0.83765556 | I14: 3.1012582 | J14: 0.7347 | L14: 2 | M14: =NORMDIST(L14,$M$7,$M$8,TRUE) -> 0.044288783
A15: 2.3072059 | B15: 0.0695 | C15: 3.1470157 | D15: 0.8349 | E15: 2.9046422 | F15: 0.6233 | G15: 3.3016516 | H15: 0.85858586 | I15: 3.1470157 | J15: 0.77386667 | L15: 2.25 | M15: =NORMDIST(L15,$M$7,$M$8,TRUE) -> 0.12678239
A16: 2.3485986 | B16: 0.1311 | C16: 3.1884084 | D16: 0.844 | E16: 2.9460349 | F16: 0.6977 | G16: 3.3430442 | H16: 0.8989899 | I16: 3.1884084 | J16: 0.85 | L16: 2.5 | M16: =NORMDIST(L16,$M$7,$M$8,TRUE) -> 0.28078271
A17: 2.3863872 | B17: 0.152 | C17: 3.226197 | D17: 0.8455 | E17: 2.9838235 | F17: 0.7456 | G17: 3.3808328 | H17: 0.949 | I17: 3.226197 | J17: 0.89533333 | L17: 2.75 | M17: =NORMDIST(L17,$M$7,$M$8,TRUE) -> 0.49230001
A18: 2.4211493 | B18: 0.1932 | C18: 3.2609591 | D18: 0.8677 | E18: 3.0185856 | F18: 0.8122 | G18: 3.4155949 | H18: 0.949 | I18: 3.2609591 | J18: 0.93076465 | L18: 3 | M18: =NORMDIST(L18,$M$7,$M$8,TRUE) -> 0.70606094
A19: 2.453334 | B19: 0.2362 | C19: 3.2931437 | D19: 0.8922 | E19: 3.0507703 | F19: 0.8455 | G19: 3.4477796 | H19: 0.949 | I19: 3.2931437 | J19: 0.93873131 | L19: 3.25 | M19: =NORMDIST(L19,$M$7,$M$8,TRUE) -> 0.86501446
A20: 2.4832972 | B20: 0.34343434 | C20: 3.323107 | D20: 0.9234 | E20: 3.0807335 | F20: 0.8677 | G20: 3.4777428 | H20: 0.949 | I20: 3.323107 | J20: 0.95959596 | L20: 3.5 | M20: =NORMDIST(L20,$M$7,$M$8,TRUE) -> 0.95197823
A21: 2.5113259 | B21: 0.43434343 | C21: 3.3511357 | D21: 0.967 | E21: 3.1087622 | F21: 0.9136 | G21: 3.5057715 | H21: 0.949 | I21: 3.3511357 | J21: 0.96969697 | L21: 3.75 | M21: =NORMDIST(L21,$M$7,$M$8,TRUE) -> 0.98697818
... A24: 2.5859595 | B24: 0.61 | C24: 3.4257693 | D24: 0.967 | E24: 3.1833958 | F24: 0.9136 | G24: 3.5804052 | H24: 0.94949495 | I24: 3.4257693 | J24: 0.96969697 | L24: 4.5 | M24: =NORMDIST(L24,$M$7,$M$8,TRUE) -> 0.9999537
A25: 2.6082359 | B25: 0.67 | C25: 3.4480457 | D25: 0.967 | E25: 3.2056722 | F25: 0.9136 | G25: 3.6026816 | H25: 0.94949495 | I25: 3.4480457 | J25: 0.96969697

Sheet Data sheet multifact ANOVA
A1: Data for Multifactorial ANOVA
A3: Population | B3: Dark time | C3: Alternating | D3: Temp | E3: % Germ | F3: Arcsen(Squar(%Ger)
A4: 1 | B4: 0 | C4: 0 | D4: 17.5 | E4: 0.89 | F4: 19.369712
A5: 1 | B5: 0 | C5: 5 | D5: 17.5 | E5: 0.67 | F5: 35.061563
A6: 1 | B6: 3 | C6: 0 | D6: 17.5 | E6: 0.72 | F6: 31.948059
A7: 1 | B7: 3 | C7: 5 | D7: 17.5 | E7: 0.51 | F7: 44.427004
A8: 1 | B8: 5 | C8: 0 | D8: 17.5 | E8: 0.73 | F8: 31.306446
A9: 1 | B9: 5 | C9: 5 | D9: 17.5 | E9: 0.48 | F9: 46.146221
A10: 1 | B10: 7 | C10: 0 | D10: 17.5 | E10: 0.65 | F10: 36.271198
A11: 1 | B11: 7 | C11: 5 | D11: 17.5 | E11: 0.54 | F11: 42.705717
A12: 1 | B12: 10 | C12: 0 | D12: 17.5 | E12: 0.48 | F12: 46.146221
A13: 1 | B13: 10 | C13: 5 | D13: 17.5 | E13: 0.54 | F13: 42.705717
A14: 2 | B14: 0 | C14: 0 | D14: 17.5 | E14: 0.91 | F14: 17.457603
A15: 2 | B15: 0 | C15: 5 | D15: 17.5 | E15: 0.6 | F15: 39.23152
... A243: 4 | B243: 10 | C243: 0 | D243: 30 | E243: 0.65 | F243: 36.271198

Sheet Linear relation LogTt & Photop
A2: Code | B2: Origen | C2: Photoperiod | D2: θT(50) | E2: Log θT(50) | G2: Code | H2: Origen | I2: Photoperiod | J2: θT(50) | K2: Log θT(50)
G3: BaC0d | H3: Ba | I3: 0d | J3: 368 | K3: 2.5658478
A4: BaC0d | B4: Ba | C4: 0d | D4: 368 | E4: 2.5658478 | G4: BaC3d | H4: Ba | I4: 3d | J4: 399 | K4: 2.6009729
A5: BaC3d | B5: Ba | C5: 3d | D5: 399 | E5: 2.6009729 | G5: BaC5d | H5: Ba | I5: 5d | J5: 423 | K5: 2.6263404
A6: BaC5d | B6: Ba | C6: 5d | D6: 423 | E6: 2.6263404 | G6: BaC7d | H6: Ba | I6: 7d | J6: 461 | K6: 2.6637009
A7: BaC7d | B7: Ba | C7: 7d | D7: 461 | E7: 2.6637009 | G7: BaC10d | H7: Ba | I7: 10d | J7: 510 | K7: 2.7075702
A8: BaC10d | B8: Ba | C8: 10d | D8: 510 | E8: 2.7075702
A9: CuC0d | B9: Cu | C9: 0d | D9: 267 | E9: 2.4265113 | G9: Lineal: Y = a + b*X | I9: Log θT(50) = a + b* (photoperiod).
A10: CuC3d | B10: Cu | C10: 3d | D10: 292 | E10: 2.4653829 | H10: a | I10: b | J10: R2
A11: CuC5d | B11: Cu | C11: 5d | D11: 333 | E11: 2.5224442 | G11: BaC | H11: 2.71 | I11: 0.034 | J11: 0.993
A12: CuC7d | B12: Cu | C12: 7d | D12: 361 | E12: 2.5575072
A13: CuC10d | B13: Cu | C13: 10d | D13: 411 | E13: 2.6138418
A14: MaC0d | B14: Ma | C14: 0d | D14: 314 | E14: 2.4969296 | G14: Code | H14: a | I14: b | J14: R2
A15: MaC3d | B15: Ma | C15: 3d | D15: 358 | E15: 2.553883 | G15: BaC | H15: 2.71 | I15: 0.034 | J15: 0.993
A16: MaC5d | B16: Ma | C16: 5d | D16: 395 | E16: 2.5965971 | G16: BaA | H16: 2.83 | I16: 0.031 | J16: 0.965
A17: MaC7d | B17: Ma | C17: 7d | D17: 436 | E17: 2.6394865 | G17: CuC | H17: 2.39 | I17: 0.044 | J17: 0.986
A18: MaC10d | B18: Ma | C18: 10d | D18: 487 | E18: 2.687529 | G18: CuA | H18: 2.69 | I18: 0.022 | J18: 0.927
A19: SeC0d | B19: Se | C19: 0d | D19: 377 | E19: 2.5763414 | G19: MaC | H19: 2.57 | I19: 0.045 | J19: 0.996
A20: SeC3d | B20: Se | C20: 3d | D20: 395 | E20: 2.5965971 | G20: MaA | H20: 2.75 | I20: 0.030 | J20: 0.910
A21: SeC5d | B21: Se | C21: 5d | D21: 432 | E21: 2.6354837 | G21: SeC | H21: 2.71 | I21: 0.045 | J21: 0.908
A22: SeC7d | B22: Se | C22: 7d | D22: 522 | E22: 2.7176705 | G22: SeA | H22: 2.96 | I22: 0.029 | J22: 0.938
A23: SeC10d | B23: Se | C23: 10d | D23: 566 | E23: 2.7528164
A24: BaA0d | B24: Ba | C24: 0d | D24: 399 | E24: 2.6009729
A25: BaA3d | B25: Ba | C25: 3d | D25: 454 | E25: 2.6570559
A26: BaA5d | B26: Ba | C26: 5d | D26: 482 | E26: 2.683047
A27: BaA7d | B27: Ba | C27: 7d | D27: 512 | E27: 2.70927
A28: BaA10d | B28: Ba | C28: 10d | D28: 544 | E28: 2.7355989
A29: CuA0d | B29: Cu | C29: 0d | D29: 357 | E29: 2.5526682
A30: CuA3d | B30: Cu | C30: 3d | D30: 371 | E30: 2.5693739
A31: CuA5d | B31: Cu | C31: 5d | D31: 391 | E31: 2.5921768
A32: CuA7d | B32: Cu | C32: 7d | D32: 422 | E32: 2.6253125
A33: CuA10d | B33: Cu | C33: 10d | D33: 438 | E33: 2.6414741
A34: MaA0d | B34: Ma | C34: 0d | D34: 379 | E34: 2.5786392
... A43: SeA10d | B43: Se | C43: 10d | D43: 613 | E43: 2.7874605
G45: Dependent variable
G46: Independent variable
F47: DVariable dependient: comparacion modelos.Col_5
F48: Variable independient: Col_6
F51: Coeficientes
G52: Mínimos Cuadrados | H52: Estándar | I52: Estadístico
...
