Workbook

Sheet Supplemental Table
C1: a Prevalence calculation uses full sample of street segments.
C2: b Agreement calculations are conducted with sub-sample of street segments used in reliability testing
D3: 2012 | G3: 2015 | J3: 2017
D4: % a | E4: % Agmt b | F4: Krippendorff's Alpha (95% CI) b | G4: % a | H4: % Agmt b | I4: Krippendorff's Alpha (95% CI) b | J4: % a | K4: % Agmt b | L4: Krippendorff's Alpha (95% CI) b
A5: 1 | B5: =IF(VLOOKUP(A5,rawtable!$A$4:$U$393,5,FALSE)="",VLOOKUP(A5,rawtable!$A$4:$U$393,2,FALSE),"") -> housing_detached | D5: =IF(VLOOKUP($A5,rawtable!$A$4:$U$393,5,FALSE)="","",VLOOKUP($A5,rawtable!$A$4:$U$393,7,FALSE)) | E5: =IF(VLOOKUP($A5,rawtable!$A$4:$U$393,5,FALSE)="",VLOOKUP($A5,rawtable!$A$4:$U$393,13,FALSE),"") -> 0.86441 | F5: =IF(VLOOKUP($A5,rawtable!$A$4:$U$393,5,FALSE)="",IF(rawtable!$V5=".","NA",VLOOKUP($A5,rawtable!$A$4:$AG$393,31,FALSE)),"") -> 0.87 (0.78, 0.95) | G5: =IF(VLOOKUP($A5,rawtable!$A$4:$U$393,5,FALSE)="","",VLOOKUP($A5,rawtable!$A$4:$U$393,8,FALSE)) | H5: =IF(VLOOKUP($A5,rawtable!$A$4:$U$393,5,FALSE)="",VLOOKUP($A5,rawtable!$A$4:$U$393,17,FALSE),"") -> 0.94 | I5: =IF(VLOOKUP($A5,rawtable!$A$4:$U$393,5,FALSE)="",IF(rawtable!$Y5=".","NA",VLOOKUP($A5,rawtable!$A$4:$AG$393,32,FALSE)),"") -> 0.95 (0.88, 1.00) | J5: =IF(VLOOKUP($A5,rawtable!$A$4:$U$393,5,FALSE)="","",VLOOKUP($A5,rawtable!$A$4:$U$393,9,FALSE)) | K5: =IF(VLOOKUP($A5,rawtable!$A$4:$U$393,5,FALSE)="",VLOOKUP($A5,rawtable!$A$4:$U$393,21,FALSE),"") -> 0.81 | L5: =IF(VLOOKUP($A5,rawtable!$A$4:$U$393,5,FALSE)="",IF(rawtable!$AB5=".","NA",VLOOKUP($A5,rawtable!$A$4:$AG$393,33,FALSE)),"") -> 0.74 (0.62, 0.87)
A6: 2 | B6: =IF(VLOOKUP(A6,rawtable!$A$4:$U$393,5,FALSE)="",VLOOKUP(A6,rawtable!$A$4:$U$393,2,FALSE),"") | C6: =IF(VLOOKUP(A6,rawtable!$A$4:$U$393,5,FALSE)="","",VLOOKUP(A6,rawtable!$A$4:$U$393,5,FALSE)) -> Neither side of Street | D6: =IF(VLOOKUP($A6,rawtable!$A$4:$U$393,5,FALSE)="","",VLOOKUP($A6,rawtable!$A$4:$U$393,7,FALSE)) -> 49.466 | E6: =IF(VLOOKUP($A6,rawtable!$A$4:$U$393,5,FALSE)="",VLOOKUP($A6,rawtable!$A$4:$U$393,13,FALSE),"") | F6: =IF(VLOOKUP($A6,rawtable!$A$4:$U$393,5,FALSE)="",IF(rawtable!$V6=".","NA",VLOOKUP($A6,rawtable!$A$4:$AG$393,31,FALSE)),"") | G6: =IF(VLOOKUP($A6,rawtable!$A$4:$U$393,5,FALSE)="","",VLOOKUP($A6,rawtable!$A$4:$U$393,8,FALSE)) -> 47.619 | H6: =IF(VLOOKUP($A6,rawtable!$A$4:$U$393,5,FALSE)="",VLOOKUP($A6,rawtable!$A$4:$U$393,17,FALSE),"") | I6: =IF(VLOOKUP($A6,rawtable!$A$4:$U$393,5,FALSE)="",IF(rawtable!$Y6=".","NA",VLOOKUP($A6,rawtable!$A$4:$AG$393,32,FALSE)),"") | J6: =IF(VLOOKUP($A6,rawtable!$A$4:$U$393,5,FALSE)="","",VLOOKUP($A6,rawtable!$A$4:$U$393,9,FALSE)) -> 57.791 | K6: =IF(VLOOKUP($A6,rawtable!$A$4:$U$393,5,FALSE)="",VLOOKUP($A6,rawtable!$A$4:$U$393,21,FALSE),"") | L6: =IF(VLOOKUP($A6,rawtable!$A$4:$U$393,5,FALSE)="",IF(rawtable!$AB6=".","NA",VLOOKUP($A6,rawtable!$A$4:$AG$393,33,FALSE)),"")
A7: 3 | B7: =IF(VLOOKUP(A7,rawtable!$A$4:$U$393,5,FALSE)="",VLOOKUP(A7,rawtable!$A$4:$U$393,2,FALSE),"") | C7: =IF(VLOOKUP(A7,rawtable!$A$4:$U$393,5,FALSE)="","",VLOOKUP(A7,rawtable!$A$4:$U$393,5,FALSE)) -> Yes, One side of Street | D7: =IF(VLOOKUP($A7,rawtable!$A$4:$U$393,5,FALSE)="","",VLOOKUP($A7,rawtable!$A$4:$U$393,7,FALSE)) -> 27.402 | E7: =IF(VLOOKUP($A7,rawtable!$A$4:$U$393,5,FALSE)="",VLOOKUP($A7,rawtable!$A$4:$U$393,13,FALSE),"") | F7: =IF(VLOOKUP($A7,rawtable!$A$4:$U$393,5,FALSE)="",IF(rawtable!$V7=".","NA",VLOOKUP($A7,rawtable!$A$4:$AG$393,31,FALSE)),"") | G7: =IF(VLOOKUP($A7,rawtable!$A$4:$U$393,5,FALSE)="","",VLOOKUP($A7,rawtable!$A$4:$U$393,8,FALSE)) -> 27.915 | H7: =IF(VLOOKUP($A7,rawtable!$A$4:$U$393,5,FALSE)="",VLOOKUP($A7,rawtable!$A$4:$U$393,17,FALSE),"") | I7: =IF(VLOOKUP($A7,rawtable!$A$4:$U$393,5,FALSE)="",IF(rawtable!$Y7=".","NA",VLOOKUP($A7,rawtable!$A$4:$AG$393,32,FALSE)),"") | J7: =IF(VLOOKUP($A7,rawtable!$A$4:$U$393,5,FALSE)="","",VLOOKUP($A7,rawtable!$A$4:$U$393,9,FALSE)) -> 22.39 | K7: =IF(VLOOKUP($A7,rawtable!$A$4:$U$393,5,FALSE)="",VLOOKUP($A7,rawtable!$A$4:$U$393,21,FALSE),"") | L7: =IF(VLOOKUP($A7,rawtable!$A$4:$U$393,5,FALSE)="",IF(rawtable!$AB7=".","NA",VLOOKUP($A7,rawtable!$A$4:$AG$393,33,FALSE)),"")
A8: 4 | B8: =IF(VLOOKUP(A8,rawtable!$A$4:$U$393,5,FALSE)="",VLOOKUP(A8,rawtable!$A$4:$U$393,2,FALSE),"") | C8: =IF(VLOOKUP(A8,rawtable!$A$4:$U$393,5,FALSE)="","",VLOOKUP(A8,rawtable!$A$4:$U$393,5,FALSE)) -> Yes, Both sides of Street | D8: =IF(VLOOKUP($A8,rawtable!$A$4:$U$393,5,FALSE)="","",VLOOKUP($A8,rawtable!$A$4:$U$393,7,FALSE)) -> 23.132 | E8: =IF(VLOOKUP($A8,rawtable!$A$4:$U$393,5,FALSE)="",VLOOKUP($A8,rawtable!$A$4:$U$393,13,FALSE),"") | F8: =IF(VLOOKUP($A8,rawtable!$A$4:$U$393,5,FALSE)="",IF(rawtable!$V8=".","NA",VLOOKUP($A8,rawtable!$A$4:$AG$393,31,FALSE)),"") | G8: =IF(VLOOKUP($A8,rawtable!$A$4:$U$393,5,FALSE)="","",VLOOKUP($A8,rawtable!$A$4:$U$393,8,FALSE)) -> 24.466 | H8: =IF(VLOOKUP($A8,rawtable!$A$4:$U$393,5,FALSE)="",VLOOKUP($A8,rawtable!$A$4:$U$393,17,FALSE),"") | I8: =IF(VLOOKUP($A8,rawtable!$A$4:$U$393,5,FALSE)="",IF(rawtable!$Y8=".","NA",VLOOKUP($A8,rawtable!$A$4:$AG$393,32,FALSE)),"") | J8: =IF(VLOOKUP($A8,rawtable!$A$4:$U$393,5,FALSE)="","",VLOOKUP($A8,rawtable!$A$4:$U$393,9,FALSE)) -> 19.818 | K8: =IF(VLOOKUP($A8,rawtable!$A$4:$U$393,5,FALSE)="",VLOOKUP($A8,rawtable!$A$4:$U$393,21,FALSE),"") | L8: =IF(VLOOKUP($A8,rawtable!$A$4:$U$393,5,FALSE)="",IF(rawtable!$AB8=".","NA",VLOOKUP($A8,rawtable!$A$4:$AG$393,33,FALSE)),"")
A9: 5 | B9: =IF(VLOOKUP(A9,rawtable!$A$4:$U$393,5,FALSE)="",VLOOKUP(A9,rawtable!$A$4:$U$393,2,FALSE),"") -> housing_either_side_of_street_bin | D9: =IF(VLOOKUP($A9,rawtable!$A$4:$U$393,5,FALSE)="","",VLOOKUP($A9,rawtable!$A$4:$U$393,7,FALSE)) | E9: =IF(VLOOKUP($A9,rawtable!$A$4:$U$393,5,FALSE)="",VLOOKUP($A9,rawtable!$A$4:$U$393,13,FALSE),"") -> 0.91525 | F9: =IF(VLOOKUP($A9,rawtable!$A$4:$U$393,5,FALSE)="",IF(rawtable!$V9=".","NA",VLOOKUP($A9,rawtable!$A$4:$AG$393,31,FALSE)),"") -> 0.80 (0.65, 0.96) | G9: =IF(VLOOKUP($A9,rawtable!$A$4:$U$393,5,FALSE)="","",VLOOKUP($A9,rawtable!$A$4:$U$393,8,FALSE)) | H9: =IF(VLOOKUP($A9,rawtable!$A$4:$U$393,5,FALSE)="",VLOOKUP($A9,rawtable!$A$4:$U$393,17,FALSE),"") -> 0.94118 | I9: =IF(VLOOKUP($A9,rawtable!$A$4:$U$393,5,FALSE)="",IF(rawtable!$Y9=".","NA",VLOOKUP($A9,rawtable!$A$4:$AG$393,32,FALSE)),"") -> 0.79 (0.51, 1.00) | J9: =IF(VLOOKUP($A9,rawtable!$A$4:$U$393,5,FALSE)="","",VLOOKUP($A9,rawtable!$A$4:$U$393,9,FALSE)) | K9: =IF(VLOOKUP($A9,rawtable!$A$4:$U$393,5,FALSE)="",VLOOKUP($A9,rawtable!$A$4:$U$393,21,FALSE),"") -> 0.88 | L9: =IF(VLOOKUP($A9,rawtable!$A$4:$U$393,5,FALSE)="",IF(rawtable!$AB9=".","NA",VLOOKUP($A9,rawtable!$A$4:$AG$393,33,FALSE)),"") -> 0.74 (0.62, 0.87)
A10: 6 | B10: =IF(VLOOKUP(A10,rawtable!$A$4:$U$393,5,FALSE)="",VLOOKUP(A10,rawtable!$A$4:$U$393,2,FALSE),"") | C10: =IF(VLOOKUP(A10,rawtable!$A$4:$U$393,5,FALSE)="","",VLOOKUP(A10,rawtable!$A$4:$U$393,5,FALSE)) -> No | D10: =IF(VLOOKUP($A10,rawtable!$A$4:$U$393,5,FALSE)="","",VLOOKUP($A10,rawtable!$A$4:$U$393,7,FALSE)) -> 25.445 | E10: =IF(VLOOKUP($A10,rawtable!$A$4:$U$393,5,FALSE)="",VLOOKUP($A10,rawtable!$A$4:$U$393,13,FALSE),"") | F10: =IF(VLOOKUP($A10,rawtable!$A$4:$U$393,5,FALSE)="",IF(rawtable!$V10=".","NA",VLOOKUP($A10,rawtable!$A$4:$AG$393,31,FALSE)),"") | G10: =IF(VLOOKUP($A10,rawtable!$A$4:$U$393,5,FALSE)="","",VLOOKUP($A10,rawtable!$A$4:$U$393,8,FALSE)) -> 24.104 | H10: =IF(VLOOKUP($A10,rawtable!$A$4:$U$393,5,FALSE)="",VLOOKUP($A10,rawtable!$A$4:$U$393,17,FALSE),"") | I10: =IF(VLOOKUP($A10,rawtable!$A$4:$U$393,5,FALSE)="",IF(rawtable!$Y10=".","NA",VLOOKUP($A10,rawtable!$A$4:$AG$393,32,FALSE)),"") | J10: =IF(VLOOKUP($A10,rawtable!$A$4:$U$393,5,FALSE)="","",VLOOKUP($A10,rawtable!$A$4:$U$393,9,FALSE)) -> 40.242 | K10: =IF(VLOOKUP($A10,rawtable!$A$4:$U$393,5,FALSE)="",VLOOKUP($A10,rawtable!$A$4:$U$393,21,FALSE),"") | L10: =IF(VLOOKUP($A10,rawtable!$A$4:$U$393,5,FALSE)="",IF(rawtable!$AB10=".","NA",VLOOKUP($A10,rawtable!$A$4:$AG$393,33,FALSE)),"")
A11: 7 | B11: =IF(VLOOKUP(A11,rawtable!$A$4:$U$393,5,FALSE)="",VLOOKUP(A11,rawtable!$A$4:$U$393,2,FALSE),"") | C11: =IF(VLOOKUP(A11,rawtable!$A$4:$U$393,5,FALSE)="","",VLOOKUP(A11,rawtable!$A$4:$U$393,5,FALSE)) -> Yes | D11: =IF(VLOOKUP($A11,rawtable!$A$4:$U$393,5,FALSE)="","",VLOOKUP($A11,rawtable!$A$4:$U$393,7,FALSE)) -> 74.555 | E11: =IF(VLOOKUP($A11,rawtable!$A$4:$U$393,5,FALSE)="",VLOOKUP($A11,rawtable!$A$4:$U$393,13,FALSE),"") | F11: =IF(VLOOKUP($A11,rawtable!$A$4:$U$393,5,FALSE)="",IF(rawtable!$V11=".","NA",VLOOKUP($A11,rawtable!$A$4:$AG$393,31,FALSE)),"") | G11: =IF(VLOOKUP($A11,rawtable!$A$4:$U$393,5,FALSE)="","",VLOOKUP($A11,rawtable!$A$4:$U$393,8,FALSE)) -> 75.896 | H11: =IF(VLOOKUP($A11,rawtable!$A$4:$U$393,5,FALSE)="",VLOOKUP($A11,rawtable!$A$4:$U$393,17,FALSE),"") | I11: =IF(VLOOKUP($A11,rawtable!$A$4:$U$393,5,FALSE)="",IF(rawtable!$Y11=".","NA",VLOOKUP($A11,rawtable!$A$4:$AG$393,32,FALSE)),"") | J11: =IF(VLOOKUP($A11,rawtable!$A$4:$U$393,5,FALSE)="","",VLOOKUP($A11,rawtable!$A$4:$U$393,9,FALSE)) -> 59.758 | K11: =IF(VLOOKUP($A11,rawtable!$A$4:$U$393,5,FALSE)="",VLOOKUP($A11,rawtable!$A$4:$U$393,21,FALSE),"") | L11: =IF(VLOOKUP($A11,rawtable!$A$4:$U$393,5,FALSE)="",IF(rawtable!$AB11=".","NA",VLOOKUP($A11,rawtable!$A$4:$AG$393,33,FALSE)),"")
A12: 8 | B12: =IF(VLOOKUP(A12,rawtable!$A$4:$U$393,5,FALSE)="",VLOOKUP(A12,rawtable!$A$4:$U$393,2,FALSE),"") -> housing_attached | D12: =IF(VLOOKUP($A12,rawtable!$A$4:$U$393,5,FALSE)="","",VLOOKUP($A12,rawtable!$A$4:$U$393,7,FALSE)) | E12: =IF(VLOOKUP($A12,rawtable!$A$4:$U$393,5,FALSE)="",VLOOKUP($A12,rawtable!$A$4:$U$393,13,FALSE),"") -> 0.70175 | F12: =IF(VLOOKUP($A12,rawtable!$A$4:$U$393,5,FALSE)="",IF(rawtable!$V12=".","NA",VLOOKUP($A12,rawtable!$A$4:$AG$393,31,FALSE)),"") -> 0.57 (0.38, 0.76) | G12: =IF(VLOOKUP($A12,rawtable!$A$4:$U$393,5,FALSE)="","",VLOOKUP($A12,rawtable!$A$4:$U$393,8,FALSE)) | H12: =IF(VLOOKUP($A12,rawtable!$A$4:$U$393,5,FALSE)="",VLOOKUP($A12,rawtable!$A$4:$U$393,17,FALSE),"") -> 0.92 | I12: =IF(VLOOKUP($A12,rawtable!$A$4:$U$393,5,FALSE)="",IF(rawtable!$Y12=".","NA",VLOOKUP($A12,rawtable!$A$4:$AG$393,32,FALSE)),"") -> 0.83 (0.66, 0.96) | J12: =IF(VLOOKUP($A12,rawtable!$A$4:$U$393,5,FALSE)="","",VLOOKUP($A12,rawtable!$A$4:$U$393,9,FALSE)) | K12: =IF(VLOOKUP($A12,rawtable!$A$4:$U$393,5,FALSE)="",VLOOKUP($A12,rawtable!$A$4:$U$393,21,FALSE),"") -> 0.82 | L12: =IF(VLOOKUP($A12,rawtable!$A$4:$U$393,5,FALSE)="",IF(rawtable!$AB12=".","NA",VLOOKUP($A12,rawtable!$A$4:$AG$393,33,FALSE)),"") -> 0.69 (0.54, 0.82)
A13: 9 | B13: =IF(VLOOKUP(A13,rawtable!$A$4:$U$393,5,FALSE)="",VLOOKUP(A13,rawtable!$A$4:$U$393,2,FALSE),"") | C13: =IF(VLOOKUP(A13,rawtable!$A$4:$U$393,5,FALSE)="","",VLOOKUP(A13,rawtable!$A$4:$U$393,5,FALSE)) -> Neither side of Street | D13: =IF(VLOOKUP($A13,rawtable!$A$4:$U$393,5,FALSE)="","",VLOOKUP($A13,rawtable!$A$4:$U$393,7,FALSE)) -> 64.057 | E13: =IF(VLOOKUP($A13,rawtable!$A$4:$U$393,5,FALSE)="",VLOOKUP($A13,rawtable!$A$4:$U$393,13,FALSE),"") | F13: =IF(VLOOKUP($A13,rawtable!$A$4:$U$393,5,FALSE)="",IF(rawtable!$V13=".","NA",VLOOKUP($A13,rawtable!$A$4:$AG$393,31,FALSE)),"") | G13: =IF(VLOOKUP($A13,rawtable!$A$4:$U$393,5,FALSE)="","",VLOOKUP($A13,rawtable!$A$4:$U$393,8,FALSE)) -> 67.267 | H13: =IF(VLOOKUP($A13,rawtable!$A$4:$U$393,5,FALSE)="",VLOOKUP($A13,rawtable!$A$4:$U$393,17,FALSE),"") | I13: =IF(VLOOKUP($A13,rawtable!$A$4:$U$393,5,FALSE)="",IF(rawtable!$Y13=".","NA",VLOOKUP($A13,rawtable!$A$4:$AG$393,32,FALSE)),"") | J13: =IF(VLOOKUP($A13,rawtable!$A$4:$U$393,5,FALSE)="","",VLOOKUP($A13,rawtable!$A$4:$U$393,9,FALSE)) -> 69.592 | K13: =IF(VLOOKUP($A13,rawtable!$A$4:$U$393,5,FALSE)="",VLOOKUP($A13,rawtable!$A$4:$U$393,21,FALSE),"") | L13: =IF(VLOOKUP($A13,rawtable!$A$4:$U$393,5,FALSE)="",IF(rawtable!$AB13=".","NA",VLOOKUP($A13,rawtable!$A$4:$AG$393,33,FALSE)),"")
A14: 10 | B14: =IF(VLOOKUP(A14,rawtable!$A$4:$U$393,5,FALSE)="",VLOOKUP(A14,rawtable!$A$4:$U$393,2,FALSE),"") | C14: =IF(VLOOKUP(A14,rawtable!$A$4:$U$393,5,FALSE)="","",VLOOKUP(A14,rawtable!$A$4:$U$393,5,FALSE)) -> Yes, One side of Street | D14: =IF(VLOOKUP($A14,rawtable!$A$4:$U$393,5,FALSE)="","",VLOOKUP($A14,rawtable!$A$4:$U$393,7,FALSE)) -> 27.936 | E14: =IF(VLOOKUP($A14,rawtable!$A$4:$U$393,5,FALSE)="",VLOOKUP($A14,rawtable!$A$4:$U$393,13,FALSE),"") | F14: =IF(VLOOKUP($A14,rawtable!$A$4:$U$393,5,FALSE)="",IF(rawtable!$V14=".","NA",VLOOKUP($A14,rawtable!$A$4:$AG$393,31,FALSE)),"") | G14: =IF(VLOOKUP($A14,rawtable!$A$4:$U$393,5,FALSE)="","",VLOOKUP($A14,rawtable!$A$4:$U$393,8,FALSE)) -> 24.55 | H14: =IF(VLOOKUP($A14,rawtable!$A$4:$U$393,5,FALSE)="",VLOOKUP($A14,rawtable!$A$4:$U$393,17,FALSE),"") | I14: =IF(VLOOKUP($A14,rawtable!$A$4:$U$393,5,FALSE)="",IF(rawtable!$Y14=".","NA",VLOOKUP($A14,rawtable!$A$4:$AG$393,32,FALSE)),"") | J14: =IF(VLOOKUP($A14,rawtable!$A$4:$U$393,5,FALSE)="","",VLOOKUP($A14,rawtable!$A$4:$U$393,9,FALSE)) -> 23.752 | K14: =IF(VLOOKUP($A14,rawtable!$A$4:$U$393,5,FALSE)="",VLOOKUP($A14,rawtable!$A$4:$U$393,21,FALSE),"") | L14: =IF(VLOOKUP($A14,rawtable!$A$4:$U$393,5,FALSE)="",IF(rawtable!$AB14=".","NA",VLOOKUP($A14,rawtable!$A$4:$AG$393,33,FALSE)),"")
A15: 11 | B15: =IF(VLOOKUP(A15,rawtable!$A$4:$U$393,5,FALSE)="",VLOOKUP(A15,rawtable!$A$4:$U$393,2,FALSE),"") | C15: =IF(VLOOKUP(A15,rawtable!$A$4:$U$393,5,FALSE)="","",VLOOKUP(A15,rawtable!$A$4:$U$393,5,FALSE)) -> Yes, Both sides of Street | D15: =IF(VLOOKUP($A15,rawtable!$A$4:$U$393,5,FALSE)="","",VLOOKUP($A15,rawtable!$A$4:$U$393,7,FALSE)) -> 8.007 | E15: =IF(VLOOKUP($A15,rawtable!$A$4:$U$393,5,FALSE)="",VLOOKUP($A15,rawtable!$A$4:$U$393,13,FALSE),"") | F15: =IF(VLOOKUP($A15,rawtable!$A$4:$U$393,5,FALSE)="",IF(rawtable!$V15=".","NA",VLOOKUP($A15,rawtable!$A$4:$AG$393,31,FALSE)),"") | G15: =IF(VLOOKUP($A15,rawtable!$A$4:$U$393,5,FALSE)="","",VLOOKUP($A15,rawtable!$A$4:$U$393,8,FALSE)) -> 8.183 | H15: =IF(VLOOKUP($A15,rawtable!$A$4:$U$393,5,FALSE)="",VLOOKUP($A15,rawtable!$A$4:$U$393,17,FALSE),"") | I15: =IF(VLOOKUP($A15,rawtable!$A$4:$U$393,5,FALSE)="",IF(rawtable!$Y15=".","NA",VLOOKUP($A15,rawtable!$A$4:$AG$393,32,FALSE)),"") | J15: =IF(VLOOKUP($A15,rawtable!$A$4:$U$393,5,FALSE)="","",VLOOKUP($A15,rawtable!$A$4:$U$393,9,FALSE)) -> 6.657 | K15: =IF(VLOOKUP($A15,rawtable!$A$4:$U$393,5,FALSE)="",VLOOKUP($A15,rawtable!$A$4:$U$393,21,FALSE),"") | L15: =IF(VLOOKUP($A15,rawtable!$A$4:$U$393,5,FALSE)="",IF(rawtable!$AB15=".","NA",VLOOKUP($A15,rawtable!$A$4:$AG$393,33,FALSE)),"")
A16: 12 | B16: =IF(VLOOKUP(A16,rawtable!$A$4:$U$393,5,FALSE)="",VLOOKUP(A16,rawtable!$A$4:$U$393,2,FALSE),"") -> housing_apts | D16: =IF(VLOOKUP($A16,rawtable!$A$4:$U$393,5,FALSE)="","",VLOOKUP($A16,rawtable!$A$4:$U$393,7,FALSE)) | E16: =IF(VLOOKUP($A16,rawtable!$A$4:$U$393,5,FALSE)="",VLOOKUP($A16,rawtable!$A$4:$U$393,13,FALSE),"") -> 0.80702 | F16: =IF(VLOOKUP($A16,rawtable!$A$4:$U$393,5,FALSE)="",IF(rawtable!$V16=".","NA",VLOOKUP($A16,rawtable!$A$4:$AG$393,31,FALSE)),"") -> 0.67 (0.47, 0.83) | G16: =IF(VLOOKUP($A16,rawtable!$A$4:$U$393,5,FALSE)="","",VLOOKUP($A16,rawtable!$A$4:$U$393,8,FALSE)) | H16: =IF(VLOOKUP($A16,rawtable!$A$4:$U$393,5,FALSE)="",VLOOKUP($A16,rawtable!$A$4:$U$393,17,FALSE),"") -> 0.88235 | I16: =IF(VLOOKUP($A16,rawtable!$A$4:$U$393,5,FALSE)="",IF(rawtable!$Y16=".","NA",VLOOKUP($A16,rawtable!$A$4:$AG$393,32,FALSE)),"") -> 0.79 (0.61, 0.93) | J16: =IF(VLOOKUP($A16,rawtable!$A$4:$U$393,5,FALSE)="","",VLOOKUP($A16,rawtable!$A$4:$U$393,9,FALSE)) | K16: =IF(VLOOKUP($A16,rawtable!$A$4:$U$393,5,FALSE)="",VLOOKUP($A16,rawtable!$A$4:$U$393,21,FALSE),"") -> 0.92 | L16: =IF(VLOOKUP($A16,rawtable!$A$4:$U$393,5,FALSE)="",IF(rawtable!$AB16=".","NA",VLOOKUP($A16,rawtable!$A$4:$AG$393,33,FALSE)),"") -> 0.82 (0.68, 0.93)
A17: 13 | B17: =IF(VLOOKUP(A17,rawtable!$A$4:$U$393,5,FALSE)="",VLOOKUP(A17,rawtable!$A$4:$U$393,2,FALSE),"") | C17: =IF(VLOOKUP(A17,rawtable!$A$4:$U$393,5,FALSE)="","",VLOOKUP(A17,rawtable!$A$4:$U$393,5,FALSE)) -> Neither side of Street | D17: =IF(VLOOKUP($A17,rawtable!$A$4:$U$393,5,FALSE)="","",VLOOKUP($A17,rawtable!$A$4:$U$393,7,FALSE)) -> 67.26 | E17: =IF(VLOOKUP($A17,rawtable!$A$4:$U$393,5,FALSE)="",VLOOKUP($A17,rawtable!$A$4:$U$393,13,FALSE),"") | F17: =IF(VLOOKUP($A17,rawtable!$A$4:$U$393,5,FALSE)="",IF(rawtable!$V17=".","NA",VLOOKUP($A17,rawtable!$A$4:$AG$393,31,FALSE)),"") | G17: =IF(VLOOKUP($A17,rawtable!$A$4:$U$393,5,FALSE)="","",VLOOKUP($A17,rawtable!$A$4:$U$393,8,FALSE)) -> 71.452 | H17: =IF(VLOOKUP($A17,rawtable!$A$4:$U$393,5,FALSE)="",VLOOKUP($A17,rawtable!$A$4:$U$393,17,FALSE),"") | I17: =IF(VLOOKUP($A17,rawtable!$A$4:$U$393,5,FALSE)="",IF(rawtable!$Y17=".","NA",VLOOKUP($A17,rawtable!$A$4:$AG$393,32,FALSE)),"") | J17: =IF(VLOOKUP($A17,rawtable!$A$4:$U$393,5,FALSE)="","",VLOOKUP($A17,rawtable!$A$4:$U$393,9,FALSE)) -> 82.753 | K17: =IF(VLOOKUP($A17,rawtable!$A$4:$U$393,5,FALSE)="",VLOOKUP($A17,rawtable!$A$4:$U$393,21,FALSE),"") | L17: =IF(VLOOKUP($A17,rawtable!$A$4:$U$393,5,FALSE)="",IF(rawtable!$AB17=".","NA",VLOOKUP($A17,rawtable!$A$4:$AG$393,33,FALSE)),"")
A18: 14 | B18: =IF(VLOOKUP(A18,rawtable!$A$4:$U$393,5,FALSE)="",VLOOKUP(A18,rawtable!$A$4:$U$393,2,FALSE),"") | C18: =IF(VLOOKUP(A18,rawtable!$A$4:$U$393,5,FALSE)="","",VLOOKUP(A18,rawtable!$A$4:$U$393,5,FALSE)) -> Yes, One side of Street | D18: =IF(VLOOKUP($A18,rawtable!$A$4:$U$393,5,FALSE)="","",VLOOKUP($A18,rawtable!$A$4:$U$393,7,FALSE)) -> 27.046 | E18: =IF(VLOOKUP($A18,rawtable!$A$4:$U$393,5,FALSE)="",VLOOKUP($A18,rawtable!$A$4:$U$393,13,FALSE),"") | F18: =IF(VLOOKUP($A18,rawtable!$A$4:$U$393,5,FALSE)="",IF(rawtable!$V18=".","NA",VLOOKUP($A18,rawtable!$A$4:$AG$393,31,FALSE)),"") | G18: =IF(VLOOKUP($A18,rawtable!$A$4:$U$393,5,FALSE)="","",VLOOKUP($A18,rawtable!$A$4:$U$393,8,FALSE)) -> 22.838 | H18: =IF(VLOOKUP($A18,rawtable!$A$4:$U$393,5,FALSE)="",VLOOKUP($A18,rawtable!$A$4:$U$393,17,FALSE),"") | I18: =IF(VLOOKUP($A18,rawtable!$A$4:$U$393,5,FALSE)="",IF(rawtable!$Y18=".","NA",VLOOKUP($A18,rawtable!$A$4:$AG$393,32,FALSE)),"") | J18: =IF(VLOOKUP($A18,rawtable!$A$4:$U$393,5,FALSE)="","",VLOOKUP($A18,rawtable!$A$4:$U$393,9,FALSE)) -> 14.675 | K18: =IF(VLOOKUP($A18,rawtable!$A$4:$U$393,5,FALSE)="",VLOOKUP($A18,rawtable!$A$4:$U$393,21,FALSE),"") | L18: =IF(VLOOKUP($A18,rawtable!$A$4:$U$393,5,FALSE)="",IF(rawtable!$AB18=".","NA",VLOOKUP($A18,rawtable!$A$4:$AG$393,33,FALSE)),"")
A19: 15 | B19: =IF(VLOOKUP(A19,rawtable!$A$4:$U$393,5,FALSE)="",VLOOKUP(A19,rawtable!$A$4:$U$393,2,FALSE),"") | C19: =IF(VLOOKUP(A19,rawtable!$A$4:$U$393,5,FALSE)="","",VLOOKUP(A19,rawtable!$A$4:$U$393,5,FALSE)) -> Yes, Both sides of Street | D19: =IF(VLOOKUP($A19,rawtable!$A$4:$U$393,5,FALSE)="","",VLOOKUP($A19,rawtable!$A$4:$U$393,7,FALSE)) -> 5.694 | E19: =IF(VLOOKUP($A19,rawtable!$A$4:$U$393,5,FALSE)="",VLOOKUP($A19,rawtable!$A$4:$U$393,13,FALSE),"") | F19: =IF(VLOOKUP($A19,rawtable!$A$4:$U$393,5,FALSE)="",IF(rawtable!$V19=".","NA",VLOOKUP($A19,rawtable!$A$4:$AG$393,31,FALSE)),"") | G19: =IF(VLOOKUP($A19,rawtable!$A$4:$U$393,5,FALSE)="","",VLOOKUP($A19,rawtable!$A$4:$U$393,8,FALSE)) -> 5.71 | H19: =IF(VLOOKUP($A19,rawtable!$A$4:$U$393,5,FALSE)="",VLOOKUP($A19,rawtable!$A$4:$U$393,17,FALSE),"") | I19: =IF(VLOOKUP($A19,rawtable!$A$4:$U$393,5,FALSE)="",IF(rawtable!$Y19=".","NA",VLOOKUP($A19,rawtable!$A$4:$AG$393,32,FALSE)),"") | J19: =IF(VLOOKUP($A19,rawtable!$A$4:$U$393,5,FALSE)="","",VLOOKUP($A19,rawtable!$A$4:$U$393,9,FALSE)) -> 2.572 | K19: =IF(VLOOKUP($A19,rawtable!$A$4:$U$393,5,FALSE)="",VLOOKUP($A19,rawtable!$A$4:$U$393,21,FALSE),"") | L19: =IF(VLOOKUP($A19,rawtable!$A$4:$U$393,5,FALSE)="",IF(rawtable!$AB19=".","NA",VLOOKUP($A19,rawtable!$A$4:$AG$393,33,FALSE)),"")
A20: 16 | B20: =IF(VLOOKUP(A20,rawtable!$A$4:$U$393,5,FALSE)="",VLOOKUP(A20,rawtable!$A$4:$U$393,2,FALSE),"") -> public_civic | D20: =IF(VLOOKUP($A20,rawtable!$A$4:$U$393,5,FALSE)="","",VLOOKUP($A20,rawtable!$A$4:$U$393,7,FALSE)) | E20: =IF(VLOOKUP($A20,rawtable!$A$4:$U$393,5,FALSE)="",VLOOKUP($A20,rawtable!$A$4:$U$393,13,FALSE),"") -> 0.89831 | F20: =IF(VLOOKUP($A20,rawtable!$A$4:$U$393,5,FALSE)="",IF(rawtable!$V20=".","NA",VLOOKUP($A20,rawtable!$A$4:$AG$393,31,FALSE)),"") -> 0.52 (0.12, 0.84) | G20: =IF(VLOOKUP($A20,rawtable!$A$4:$U$393,5,FALSE)="","",VLOOKUP($A20,rawtable!$A$4:$U$393,8,FALSE)) | H20: =IF(VLOOKUP($A20,rawtable!$A$4:$U$393,5,FALSE)="",VLOOKUP($A20,rawtable!$A$4:$U$393,17,FALSE),"") -> 0.97917 | I20: =IF(VLOOKUP($A20,rawtable!$A$4:$U$393,5,FALSE)="",IF(rawtable!$Y20=".","NA",VLOOKUP($A20,rawtable!$A$4:$AG$393,32,FALSE)),"") -> 0.88 (0.65, 1.00) | J20: =IF(VLOOKUP($A20,rawtable!$A$4:$U$393,5,FALSE)="","",VLOOKUP($A20,rawtable!$A$4:$U$393,9,FALSE)) | K20: =IF(VLOOKUP($A20,rawtable!$A$4:$U$393,5,FALSE)="",VLOOKUP($A20,rawtable!$A$4:$U$393,21,FALSE),"") -> 0.97 | L20: =IF(VLOOKUP($A20,rawtable!$A$4:$U$393,5,FALSE)="",IF(rawtable!$AB20=".","NA",VLOOKUP($A20,rawtable!$A$4:$AG$393,33,FALSE)),"") -> 0.56 (-0.03, 1.00)
A21: 17 | B21: =IF(VLOOKUP(A21,rawtable!$A$4:$U$393,5,FALSE)="",VLOOKUP(A21,rawtable!$A$4:$U$393,2,FALSE),"") | C21: =IF(VLOOKUP(A21,rawtable!$A$4:$U$393,5,FALSE)="","",VLOOKUP(A21,rawtable!$A$4:$U$393,5,FALSE)) -> Neither side of Street | D21: =IF(VLOOKUP($A21,rawtable!$A$4:$U$393,5,FALSE)="","",VLOOKUP($A21,rawtable!$A$4:$U$393,7,FALSE)) -> 92.362 | E21: =IF(VLOOKUP($A21,rawtable!$A$4:$U$393,5,FALSE)="",VLOOKUP($A21,rawtable!$A$4:$U$393,13,FALSE),"") | F21: =IF(VLOOKUP($A21,rawtable!$A$4:$U$393,5,FALSE)="",IF(rawtable!$V21=".","NA",VLOOKUP($A21,rawtable!$A$4:$AG$393,31,FALSE)),"") | G21: =IF(VLOOKUP($A21,rawtable!$A$4:$U$393,5,FALSE)="","",VLOOKUP($A21,rawtable!$A$4:$U$393,8,FALSE)) -> 94.059 | H21: =IF(VLOOKUP($A21,rawtable!$A$4:$U$393,5,FALSE)="",VLOOKUP($A21,rawtable!$A$4:$U$393,17,FALSE),"") | I21: =IF(VLOOKUP($A21,rawtable!$A$4:$U$393,5,FALSE)="",IF(rawtable!$Y21=".","NA",VLOOKUP($A21,rawtable!$A$4:$AG$393,32,FALSE)),"") | J21: =IF(VLOOKUP($A21,rawtable!$A$4:$U$393,5,FALSE)="","",VLOOKUP($A21,rawtable!$A$4:$U$393,9,FALSE)) -> 96.067 | K21: =IF(VLOOKUP($A21,rawtable!$A$4:$U$393,5,FALSE)="",VLOOKUP($A21,rawtable!$A$4:$U$393,21,FALSE),"") | L21: =IF(VLOOKUP($A21,rawtable!$A$4:$U$393,5,FALSE)="",IF(rawtable!$AB21=".","NA",VLOOKUP($A21,rawtable!$A$4:$AG$393,33,FALSE)),"")
A22: 18 | B22: =IF(VLOOKUP(A22,rawtable!$A$4:$U$393,5,FALSE)="",VLOOKUP(A22,rawtable!$A$4:$U$393,2,FALSE),"") | C22: =IF(VLOOKUP(A22,rawtable!$A$4:$U$393,5,FALSE)="","",VLOOKUP(A22,rawtable!$A$4:$U$393,5,FALSE)) -> Yes, One side of Street | D22: =IF(VLOOKUP($A22,rawtable!$A$4:$U$393,5,FALSE)="","",VLOOKUP($A22,rawtable!$A$4:$U$393,7,FALSE)) -> 7.282 | E22: =IF(VLOOKUP($A22,rawtable!$A$4:$U$393,5,FALSE)="",VLOOKUP($A22,rawtable!$A$4:$U$393,13,FALSE),"") | F22: =IF(VLOOKUP($A22,rawtable!$A$4:$U$393,5,FALSE)="",IF(rawtable!$V22=".","NA",VLOOKUP($A22,rawtable!$A$4:$AG$393,31,FALSE)),"") | G22: =IF(VLOOKUP($A22,rawtable!$A$4:$U$393,5,FALSE)="","",VLOOKUP($A22,rawtable!$A$4:$U$393,8,FALSE)) -> 5.446 | H22: =IF(VLOOKUP($A22,rawtable!$A$4:$U$393,5,FALSE)="",VLOOKUP($A22,rawtable!$A$4:$U$393,17,FALSE),"") | I22: =IF(VLOOKUP($A22,rawtable!$A$4:$U$393,5,FALSE)="",IF(rawtable!$Y22=".","NA",VLOOKUP($A22,rawtable!$A$4:$AG$393,32,FALSE)),"") | J22: =IF(VLOOKUP($A22,rawtable!$A$4:$U$393,5,FALSE)="","",VLOOKUP($A22,rawtable!$A$4:$U$393,9,FALSE)) -> 3.933 | K22: =IF(VLOOKUP($A22,rawtable!$A$4:$U$393,5,FALSE)="",VLOOKUP($A22,rawtable!$A$4:$U$393,21,FALSE),"") | L22: =IF(VLOOKUP($A22,rawtable!$A$4:$U$393,5,FALSE)="",IF(rawtable!$AB22=".","NA",VLOOKUP($A22,rawtable!$A$4:$AG$393,33,FALSE)),"")
A23: 19 | B23: =IF(VLOOKUP(A23,rawtable!$A$4:$U$393,5,FALSE)="",VLOOKUP(A23,rawtable!$A$4:$U$393,2,FALSE),"") | C23: =IF(VLOOKUP(A23,rawtable!$A$4:$U$393,5,FALSE)="","",VLOOKUP(A23,rawtable!$A$4:$U$393,5,FALSE)) -> Yes, Both sides of Street | D23: =IF(VLOOKUP($A23,rawtable!$A$4:$U$393,5,FALSE)="","",VLOOKUP($A23,rawtable!$A$4:$U$393,7,FALSE)) -> 0.355 | E23: =IF(VLOOKUP($A23,rawtable!$A$4:$U$393,5,FALSE)="",VLOOKUP($A23,rawtable!$A$4:$U$393,13,FALSE),"") | F23: =IF(VLOOKUP($A23,rawtable!$A$4:$U$393,5,FALSE)="",IF(rawtable!$V23=".","NA",VLOOKUP($A23,rawtable!$A$4:$AG$393,31,FALSE)),"") | G23: =IF(VLOOKUP($A23,rawtable!$A$4:$U$393,5,FALSE)="","",VLOOKUP($A23,rawtable!$A$4:$U$393,8,FALSE)) -> 0.495 | H23: =IF(VLOOKUP($A23,rawtable!$A$4:$U$393,5,FALSE)="",VLOOKUP($A23,rawtable!$A$4:$U$393,17,FALSE),"") | I23: =IF(VLOOKUP($A23,rawtable!$A$4:$U$393,5,FALSE)="",IF(rawtable!$Y23=".","NA",VLOOKUP($A23,rawtable!$A$4:$AG$393,32,FALSE)),"") | J23: =IF(VLOOKUP($A23,rawtable!$A$4:$U$393,5,FALSE)="","",VLOOKUP($A23,rawtable!$A$4:$U$393,9,FALSE)) -> 0 | K23: =IF(VLOOKUP($A23,rawtable!$A$4:$U$393,5,FALSE)="",VLOOKUP($A23,rawtable!$A$4:$U$393,21,FALSE),"") | L23: =IF(VLOOKUP($A23,rawtable!$A$4:$U$393,5,FALSE)="",IF(rawtable!$AB23=".","NA",VLOOKUP($A23,rawtable!$A$4:$AG$393,33,FALSE)),"")
A24: 20 | B24: =IF(VLOOKUP(A24,rawtable!$A$4:$U$393,5,FALSE)="",VLOOKUP(A24,rawtable!$A$4:$U$393,2,FALSE),"") -> office_professional | D24: =IF(VLOOKUP($A24,rawtable!$A$4:$U$393,5,FALSE)="","",VLOOKUP($A24,rawtable!$A$4:$U$393,7,FALSE)) | E24: =IF(VLOOKUP($A24,rawtable!$A$4:$U$393,5,FALSE)="",VLOOKUP($A24,rawtable!$A$4:$U$393,13,FALSE),"") -> 0.81356 | F24: =IF(VLOOKUP($A24,rawtable!$A$4:$U$393,5,FALSE)="",IF(rawtable!$V24=".","NA",VLOOKUP($A24,rawtable!$A$4:$AG$393,31,FALSE)),"") -> 0.37 (0.01, 0.70) | G24: =IF(VLOOKUP($A24,rawtable!$A$4:$U$393,5,FALSE)="","",VLOOKUP($A24,rawtable!$A$4:$U$393,8,FALSE)) | H24: =IF(VLOOKUP($A24,rawtable!$A$4:$U$393,5,FALSE)="",VLOOKUP($A24,rawtable!$A$4:$U$393,17,FALSE),"") -> 0.95833 | I24: =IF(VLOOKUP($A24,rawtable!$A$4:$U$393,5,FALSE)="",IF(rawtable!$Y24=".","NA",VLOOKUP($A24,rawtable!$A$4:$AG$393,32,FALSE)),"") -> -0.01 (-1.00, 1.00) | J24: =IF(VLOOKUP($A24,rawtable!$A$4:$U$393,5,FALSE)="","",VLOOKUP($A24,rawtable!$A$4:$U$393,9,FALSE)) | K24: =IF(VLOOKUP($A24,rawtable!$A$4:$U$393,5,FALSE)="",VLOOKUP($A24,rawtable!$A$4:$U$393,21,FALSE),"") -> 0.99 | L24: =IF(VLOOKUP($A24,rawtable!$A$4:$U$393,5,FALSE)="",IF(rawtable!$AB24=".","NA",VLOOKUP($A24,rawtable!$A$4:$AG$393,33,FALSE)),"") -> 0.00 (-1.00, 1.00)
A25: 21 | B25: =IF(VLOOKUP(A25,rawtable!$A$4:$U$393,5,FALSE)="",VLOOKUP(A25,rawtable!$A$4:$U$393,2,FALSE),"") | C25: =IF(VLOOKUP(A25,rawtable!$A$4:$U$393,5,FALSE)="","",VLOOKUP(A25,rawtable!$A$4:$U$393,5,FALSE)) -> Neither side of Street | D25: =IF(VLOOKUP($A25,rawtable!$A$4:$U$393,5,FALSE)="","",VLOOKUP($A25,rawtable!$A$4:$U$393,7,FALSE)) -> 95.204 | E25: =IF(VLOOKUP($A25,rawtable!$A$4:$U$393,5,FALSE)="",VLOOKUP($A25,rawtable!$A$4:$U$393,13,FALSE),"") | F25: =IF(VLOOKUP($A25,rawtable!$A$4:$U$393,5,FALSE)="",IF(rawtable!$V25=".","NA",VLOOKUP($A25,rawtable!$A$4:$AG$393,31,FALSE)),"") | G25: =IF(VLOOKUP($A25,rawtable!$A$4:$U$393,5,FALSE)="","",VLOOKUP($A25,rawtable!$A$4:$U$393,8,FALSE)) -> 96.552 | H25: =IF(VLOOKUP($A25,rawtable!$A$4:$U$393,5,FALSE)="",VLOOKUP($A25,rawtable!$A$4:$U$393,17,FALSE),"") | I25: =IF(VLOOKUP($A25,rawtable!$A$4:$U$393,5,FALSE)="",IF(rawtable!$Y25=".","NA",VLOOKUP($A25,rawtable!$A$4:$AG$393,32,FALSE)),"") | J25: =IF(VLOOKUP($A25,rawtable!$A$4:$U$393,5,FALSE)="","",VLOOKUP($A25,rawtable!$A$4:$U$393,9,FALSE)) -> 99.092 | K25: =IF(VLOOKUP($A25,rawtable!$A$4:$U$393,5,FALSE)="",VLOOKUP($A25,rawtable!$A$4:$U$393,21,FALSE),"") | L25: =IF(VLOOKUP($A25,rawtable!$A$4:$U$393,5,FALSE)="",IF(rawtable!$AB25=".","NA",VLOOKUP($A25,rawtable!$A$4:$AG$393,33,FALSE)),"")
A26: 22 | B26: =IF(VLOOKUP(A26,rawtable!$A$4:$U$393,5,FALSE)="",VLOOKUP(A26,rawtable!$A$4:$U$393,2,FALSE),"") | C26: =IF(VLOOKUP(A26,rawtable!$A$4:$U$393,5,FALSE)="","",VLOOKUP(A26,rawtable!$A$4:$U$393,5,FALSE)) -> Yes, One side of Street | D26: =IF(VLOOKUP($A26,rawtable!$A$4:$U$393,5,FALSE)="","",VLOOKUP($A26,rawtable!$A$4:$U$393,7,FALSE)) -> 4.085 | E26: =IF(VLOOKUP($A26,rawtable!$A$4:$U$393,5,FALSE)="",VLOOKUP($A26,rawtable!$A$4:$U$393,13,FALSE),"") | F26: =IF(VLOOKUP($A26,rawtable!$A$4:$U$393,5,FALSE)="",IF(rawtable!$V26=".","NA",VLOOKUP($A26,rawtable!$A$4:$AG$393,31,FALSE)),"") | G26: =IF(VLOOKUP($A26,rawtable!$A$4:$U$393,5,FALSE)="","",VLOOKUP($A26,rawtable!$A$4:$U$393,8,FALSE)) -> 3.284 | H26: =IF(VLOOKUP($A26,rawtable!$A$4:$U$393,5,FALSE)="",VLOOKUP($A26,rawtable!$A$4:$U$393,17,FALSE),"") | I26: =IF(VLOOKUP($A26,rawtable!$A$4:$U$393,5,FALSE)="",IF(rawtable!$Y26=".","NA",VLOOKUP($A26,rawtable!$A$4:$AG$393,32,FALSE)),"") | J26: =IF(VLOOKUP($A26,rawtable!$A$4:$U$393,5,FALSE)="","",VLOOKUP($A26,rawtable!$A$4:$U$393,9,FALSE)) -> 0.756 | K26: =IF(VLOOKUP($A26,rawtable!$A$4:$U$393,5,FALSE)="",VLOOKUP($A26,rawtable!$A$4:$U$393,21,FALSE),"") | L26: =IF(VLOOKUP($A26,rawtable!$A$4:$U$393,5,FALSE)="",IF(rawtable!$AB26=".","NA",VLOOKUP($A26,rawtable!$A$4:$AG$393,33,FALSE)),"")
A27: 23 | B27: =IF(VLOOKUP(A27,rawtable!$A$4:$U$393,5,FALSE)="",VLOOKUP(A27,rawtable!$A$4:$U$393,2,FALSE),"") | C27: =IF(VLOOKUP(A27,rawtable!$A$4:$U$393,5,FALSE)="","",VLOOKUP(A27,rawtable!$A$4:$U$393,5,FALSE)) -> Yes, Both sides of Street | D27: =IF(VLOOKUP($A27,rawtable!$A$4:$U$393,5,FALSE)="","",VLOOKUP($A27,rawtable!$A$4:$U$393,7,FALSE)) -> 0.71 | E27: =IF(VLOOKUP($A27,rawtable!$A$4:$U$393,5,FALSE)="",VLOOKUP($A27,rawtable!$A$4:$U$393,13,FALSE),"") | F27: =IF(VLOOKUP($A27,rawtable!$A$4:$U$393,5,FALSE)="",IF(rawtable!$V27=".","NA",VLOOKUP($A27,rawtable!$A$4:$AG$393,31,FALSE)),"") | G27: =IF(VLOOKUP($A27,rawtable!$A$4:$U$393,5,FALSE)="","",VLOOKUP($A27,rawtable!$A$4:$U$393,8,FALSE)) -> 0.164 | H27: =IF(VLOOKUP($A27,rawtable!$A$4:$U$393,5,FALSE)="",VLOOKUP($A27,rawtable!$A$4:$U$393,17,FALSE),"") | I27: =IF(VLOOKUP($A27,rawtable!$A$4:$U$393,5,FALSE)="",IF(rawtable!$Y27=".","NA",VLOOKUP($A27,rawtable!$A$4:$AG$393,32,FALSE)),"") | J27: =IF(VLOOKUP($A27,rawtable!$A$4:$U$393,5,FALSE)="","",VLOOKUP($A27,rawtable!$A$4:$U$393,9,FALSE)) -> 0.151 | K27: =IF(VLOOKUP($A27,rawtable!$A$4:$U$393,5,FALSE)="",VLOOKUP($A27,rawtable!$A$4:$U$393,21,FALSE),"") | L27: =IF(VLOOKUP($A27,rawtable!$A$4:$U$393,5,FALSE)="",IF(rawtable!$AB27=".","NA",VLOOKUP($A27,rawtable!$A$4:$AG$393,33,FALSE)),"")
A28: 24 | B28: =IF(VLOOKUP(A28,rawtable!$A$4:$U$393,5,FALSE)="",VLOOKUP(A28,rawtable!$A$4:$U$393,2,FALSE),"") -> institutional | D28: =IF(VLOOKUP($A28,rawtable!$A$4:$U$393,5,FALSE)="","",VLOOKUP($A28,rawtable!$A$4:$U$393,7,FALSE)) | E28: =IF(VLOOKUP($A28,rawtable!$A$4:$U$393,5,FALSE)="",VLOOKUP($A28,rawtable!$A$4:$U$393,13,FALSE),"") -> 0.89655 | F28: =IF(VLOOKUP($A28,rawtable!$A$4:$U$393,5,FALSE)="",IF(rawtable!$V28=".","NA",VLOOKUP($A28,rawtable!$A$4:$AG$393,31,FALSE)),"") -> 0.75 (0.55, 0.92) | G28: =IF(VLOOKUP($A28,rawtable!$A$4:$U$393,5,FALSE)="","",VLOOKUP($A28,rawtable!$A$4:$U$393,8,FALSE)) | H28: =IF(VLOOKUP($A28,rawtable!$A$4:$U$393,5,FALSE)="",VLOOKUP($A28,rawtable!$A$4:$U$393,17,FALSE),"") -> 0.9 | I28: =IF(VLOOKUP($A28,rawtable!$A$4:$U$393,5,FALSE)="",IF(rawtable!$Y28=".","NA",VLOOKUP($A28,rawtable!$A$4:$AG$393,32,FALSE)),"") -> 0.77 (0.54, 0.91) | J28: =IF(VLOOKUP($A28,rawtable!$A$4:$U$393,5,FALSE)="","",VLOOKUP($A28,rawtable!$A$4:$U$393,9,FALSE)) | K28: =IF(VLOOKUP($A28,rawtable!$A$4:$U$393,5,FALSE)="",VLOOKUP($A28,rawtable!$A$4:$U$393,21,FALSE),"") -> 0.96 | L28: =IF(VLOOKUP($A28,rawtable!$A$4:$U$393,5,FALSE)="",IF(rawtable!$AB28=".","NA",VLOOKUP($A28,rawtable!$A$4:$AG$393,33,FALSE)),"") -> 0.73 (0.45, 0.93)
A29: 25 | B29: =IF(VLOOKUP(A29,rawtable!$A$4:$U$393,5,FALSE)="",VLOOKUP(A29,rawtable!$A$4:$U$393,2,FALSE),"") | C29: =IF(VLOOKUP(A29,rawtable!$A$4:$U$393,5,FALSE)="","",VLOOKUP(A29,rawtable!$A$4:$U$393,5,FALSE)) -> Neither side of Street | D29: =IF(VLOOKUP($A29,rawtable!$A$4:$U$393,5,FALSE)="","",VLOOKUP($A29,rawtable!$A$4:$U$393,7,FALSE)) -> 80.214 | E29: =IF(VLOOKUP($A29,rawtable!$A$4:$U$393,5,FALSE)="",VLOOKUP($A29,rawtable!$A$4:$U$393,13,FALSE),"") | F29: =IF(VLOOKUP($A29,rawtable!$A$4:$U$393,5,FALSE)="",IF(rawtable!$V29=".","NA",VLOOKUP($A29,rawtable!$A$4:$AG$393,31,FALSE)),"") | G29: =IF(VLOOKUP($A29,rawtable!$A$4:$U$393,5,FALSE)="","",VLOOKUP($A29,rawtable!$A$4:$U$393,8,FALSE)) -> 82.68 | H29: =IF(VLOOKUP($A29,rawtable!$A$4:$U$393,5,FALSE)="",VLOOKUP($A29,rawtable!$A$4:$U$393,17,FALSE),"") | I29: =IF(VLOOKUP($A29,rawtable!$A$4:$U$393,5,FALSE)="",IF(rawtable!$Y29=".","NA",VLOOKUP($A29,rawtable!$A$4:$AG$393,32,FALSE)),"") | J29: =IF(VLOOKUP($A29,rawtable!$A$4:$U$393,5,FALSE)="","",VLOOKUP($A29,rawtable!$A$4:$U$393,9,FALSE)) -> 89.259 | K29: =IF(VLOOKUP($A29,rawtable!$A$4:$U$393,5,FALSE)="",VLOOKUP($A29,rawtable!$A$4:$U$393,21,FALSE),"") | L29: =IF(VLOOKUP($A29,rawtable!$A$4:$U$393,5,FALSE)="",IF(rawtable!$AB29=".","NA",VLOOKUP($A29,rawtable!$A$4:$AG$393,33,FALSE)),"")
A30: 26 | B30: =IF(VLOOKUP(A30,rawtable!$A$4:$U$393,5,FALSE)="",VLOOKUP(A30,rawtable!$A$4:$U$393,2,FALSE),"") | C30: =IF(VLOOKUP(A30,rawtable!$A$4:$U$393,5,FALSE)="","",VLOOKUP(A30,rawtable!$A$4:$U$393,5,FALSE)) -> Yes, One side of Street | D30: =IF(VLOOKUP($A30,rawtable!$A$4:$U$393,5,FALSE)="","",VLOOKUP($A30,rawtable!$A$4:$U$393,7,FALSE)) -> 18.004 | E30: =IF(VLOOKUP($A30,rawtable!$A$4:$U$393,5,FALSE)="",VLOOKUP($A30,rawtable!$A$4:$U$393,13,FALSE),"") | F30: =IF(VLOOKUP($A30,rawtable!$A$4:$U$393,5,FALSE)="",IF(rawtable!$V30=".","NA",VLOOKUP($A30,rawtable!$A$4:$AG$393,31,FALSE)),"") | G30: =IF(VLOOKUP($A30,rawtable!$A$4:$U$393,5,FALSE)="","",VLOOKUP($A30,rawtable!$A$4:$U$393,8,FALSE)) -> 15.686 | H30: =IF(VLOOKUP($A30,rawtable!$A$4:$U$393,5,FALSE)="",VLOOKUP($A30,rawtable!$A$4:$U$393,17,FALSE),"") | I30: =IF(VLOOKUP($A30,rawtable!$A$4:$U$393,5,FALSE)="",IF(rawtable!$Y30=".","NA",VLOOKUP($A30,rawtable!$A$4:$AG$393,32,FALSE)),"") | J30: =IF(VLOOKUP($A30,rawtable!$A$4:$U$393,5,FALSE)="","",VLOOKUP($A30,rawtable!$A$4:$U$393,9,FALSE)) -> 9.38 | K30: =IF(VLOOKUP($A30,rawtable!$A$4:$U$393,5,FALSE)="",VLOOKUP($A30,rawtable!$A$4:$U$393,21,FALSE),"") | L30: =IF(VLOOKUP($A30,rawtable!$A$4:$U$393,5,FALSE)="",IF(rawtable!$AB30=".","NA",VLOOKUP($A30,rawtable!$A$4:$AG$393,33,FALSE)),"")
A31: 27 | B31: =IF(VLOOKUP(A31,rawtable!$A$4:$U$393,5,FALSE)="",VLOOKUP(A31,rawtable!$A$4:$U$393,2,FALSE),"") | C31: =IF(VLOOKUP(A31,rawtable!$A$4:$U$393,5,FALSE)="","",VLOOKUP(A31,rawtable!$A$4:$U$393,5,FALSE)) -> Yes, Both sides of Street | D31: =IF(VLOOKUP($A31,rawtable!$A$4:$U$393,5,FALSE)="","",VLOOKUP($A31,rawtable!$A$4:$U$393,7,FALSE)) -> 1.783 | E31: =IF(VLOOKUP($A31,rawtable!$A$4:$U$393,5,FALSE)="",VLOOKUP($A31,rawtable!$A$4:$U$393,13,FALSE),"") | F31: =IF(VLOOKUP($A31,rawtable!$A$4:$U$393,5,FALSE)="",IF(rawtable!$V31=".","NA",VLOOKUP($A31,rawtable!$A$4:$AG$393,31,FALSE)),"") | G31: =IF(VLOOKUP($A31,rawtable!$A$4:$U$393,5,FALSE)="","",VLOOKUP($A31,rawtable!$A$4:$U$393,8,FALSE)) -> 1.634 | H31: =IF(VLOOKUP($A31,rawtable!$A$4:$U$393,5,FALSE)="",VLOOKUP($A31,rawtable!$A$4:$U$393,17,FALSE),"") | I31: =IF(VLOOKUP($A31,rawtable!$A$4:$U$393,5,FALSE)="",IF(rawtable!$Y31=".","NA",VLOOKUP($A31,rawtable!$A$4:$AG$393,32,FALSE)),"") | J31: =IF(VLOOKUP($A31,rawtable!$A$4:$U$393,5,FALSE)="","",VLOOKUP($A31,rawtable!$A$4:$U$393,9,FALSE)) -> 1.362 | K31: =IF(VLOOKUP($A31,rawtable!$A$4:$U$393,5,FALSE)="",VLOOKUP($A31,rawtable!$A$4:$U$393,21,FALSE),"") | L31: =IF(VLOOKUP($A31,rawtable!$A$4:$U$393,5,FALSE)="",IF(rawtable!$AB31=".","NA",VLOOKUP($A31,rawtable!$A$4:$AG$393,33,FALSE)),"")
A32: 28 | B32: =IF(VLOOKUP(A32,rawtable!$A$4:$U$393,5,FALSE)="",VLOOKUP(A32,rawtable!$A$4:$U$393,2,FALSE),"") -> service | D32: =IF(VLOOKUP($A32,rawtable!$A$4:$U$393,5,FALSE)="","",VLOOKUP($A32,rawtable!$A$4:$U$393,7,FALSE)) | E32: =IF(VLOOKUP($A32,rawtable!$A$4:$U$393,5,FALSE)="",VLOOKUP($A32,rawtable!$A$4:$U$393,13,FALSE),"") -> 0.82759 | F32: =IF(VLOOKUP($A32,rawtable!$A$4:$U$393,5,FALSE)="",IF(rawtable!$V32=".","NA",VLOOKUP($A32,rawtable!$A$4:$AG$393,31,FALSE)),"") -> 0.44 (0.08, 0.76) | G32: =IF(VLOOKUP($A32,rawtable!$A$4:$U$393,5,FALSE)="","",VLOOKUP($A32,rawtable!$A$4:$U$393,8,FALSE)) | H32: =IF(VLOOKUP($A32,rawtable!$A$4:$U$393,5,FALSE)="",VLOOKUP($A32,rawtable!$A$4:$U$393,17,FALSE),"") -> 0.9 | I32: =IF(VLOOKUP($A32,rawtable!$A$4:$U$393,5,FALSE)="",IF(rawtable!$Y32=".","NA",VLOOKUP($A32,rawtable!$A$4:$AG$393,32,FALSE)),"") -> 0.78 (0.57, 0.95) | J32: =IF(VLOOKUP($A32,rawtable!$A$4:$U$393,5,FALSE)="","",VLOOKUP($A32,rawtable!$A$4:$U$393,9,FALSE)) | K32: =IF(VLOOKUP($A32,rawtable!$A$4:$U$393,5,FALSE)="",VLOOKUP($A32,rawtable!$A$4:$U$393,21,FALSE),"") -> 0.87 | L32: =IF(VLOOKUP($A32,rawtable!$A$4:$U$393,5,FALSE)="",IF(rawtable!$AB32=".","NA",VLOOKUP($A32,rawtable!$A$4:$AG$393,33,FALSE)),"") -> 0.62 (0.39, 0.81)
A33: 29 | B33: =IF(VLOOKUP(A33,rawtable!$A$4:$U$393,5,FALSE)="",VLOOKUP(A33,rawtable!$A$4:$U$393,2,FALSE),"") | C33: =IF(VLOOKUP(A33,rawtable!$A$4:$U$393,5,FALSE)="","",VLOOKUP(A33,rawtable!$A$4:$U$393,5,FALSE)) -> Neither side of Street | D33: =IF(VLOOKUP($A33,rawtable!$A$4:$U$393,5,FALSE)="","",VLOOKUP($A33,rawtable!$A$4:$U$393,7,FALSE)) -> 85.943 | E33: =IF(VLOOKUP($A33,rawtable!$A$4:$U$393,5,FALSE)="",VLOOKUP($A33,rawtable!$A$4:$U$393,13,FALSE),"") | F33: =IF(VLOOKUP($A33,rawtable!$A$4:$U$393,5,FALSE)="",IF(rawtable!$V33=".","NA",VLOOKUP($A33,rawtable!$A$4:$AG$393,31,FALSE)),"") | G33: =IF(VLOOKUP($A33,rawtable!$A$4:$U$393,5,FALSE)="","",VLOOKUP($A33,rawtable!$A$4:$U$393,8,FALSE)) -> 83.633 | H33: =IF(VLOOKUP($A33,rawtable!$A$4:$U$393,5,FALSE)="",VLOOKUP($A33,rawtable!$A$4:$U$393,17,FALSE),"") | I33: =IF(VLOOKUP($A33,rawtable!$A$4:$U$393,5,FALSE)="",IF(rawtable!$Y33=".","NA",VLOOKUP($A33,rawtable!$A$4:$AG$393,32,FALSE)),"") | J33: =IF(VLOOKUP($A33,rawtable!$A$4:$U$393,5,FALSE)="","",VLOOKUP($A33,rawtable!$A$4:$U$393,9,FALSE)) -> 90.318 | K33: =IF(VLOOKUP($A33,rawtable!$A$4:$U$393,5,FALSE)="",VLOOKUP($A33,rawtable!$A$4:$U$393,21,FALSE),"") | L33: =IF(VLOOKUP($A33,rawtable!$A$4:$U$393,5,FALSE)="",IF(rawtable!$AB33=".","NA",VLOOKUP($A33,rawtable!$A$4:$AG$393,33,FALSE)),"")
A34: 30 | B34: =IF(VLOOKUP(A34,rawtable!$A$4:$U$393,5,FALSE)="",VLOOKUP(A34,rawtable!$A$4:$U$393,2,FALSE),"") | C34: =IF(VLOOKUP(A34,rawtable!$A$4:$U$393,5,FALSE)="","",VLOOKUP(A34,rawtable!$A$4:$U$393,5,FALSE)) -> Yes, One side of Street | D34: =IF(VLOOKUP($A34,rawtable!$A$4:$U$393,5,FALSE)="","",VLOOKUP($A34,rawtable!$A$4:$U$393,7,FALSE)) -> 11.922 | E34: =IF(VLOOKUP($A34,rawtable!$A$4:$U$393,5,FALSE)="",VLOOKUP($A34,rawtable!$A$4:$U$393,13,FALSE),"") | F34: =IF(VLOOKUP($A34,rawtable!$A$4:$U$393,5,FALSE)="",IF(rawtable!$V34=".","NA",VLOOKUP($A34,rawtable!$A$4:$AG$393,31,FALSE)),"") | G34: =IF(VLOOKUP($A34,rawtable!$A$4:$U$393,5,FALSE)="","",VLOOKUP($A34,rawtable!$A$4:$U$393,8,FALSE)) -> 15.057 | H34: =IF(VLOOKUP($A34,rawtable!$A$4:$U$393,5,FALSE)="",VLOOKUP($A34,rawtable!$A$4:$U$393,17,FALSE),"") | I34: =IF(VLOOKUP($A34,rawtable!$A$4:$U$393,5,FALSE)="",IF(rawtable!$Y34=".","NA",VLOOKUP($A34,rawtable!$A$4:$AG$393,32,FALSE)),"") | J34: =IF(VLOOKUP($A34,rawtable!$A$4:$U$393,5,FALSE)="","",VLOOKUP($A34,rawtable!$A$4:$U$393,9,FALSE)) -> 8.926 | K34: =IF(VLOOKUP($A34,rawtable!$A$4:$U$393,5,FALSE)="",VLOOKUP($A34,rawtable!$A$4:$U$393,21,FALSE),"") | L34: =IF(VLOOKUP($A34,rawtable!$A$4:$U$393,5,FALSE)="",IF(rawtable!$AB34=".","NA",VLOOKUP($A34,rawtable!$A$4:$AG$393,33,FALSE)),"")
A35: 31 | B35: =IF(VLOOKUP(A35,rawtable!$A$4:$U$393,5,FALSE)="",VLOOKUP(A35,rawtable!$A$4:$U$393,2,FALSE),"") | C35: =IF(VLOOKUP(A35,rawtable!$A$4:$U$393,5,FALSE)="","",VLOOKUP(A35,rawtable!$A$4:$U$393,5,FALSE)) -> Yes, Both sides of Street | D35: =IF(VLOOKUP($A35,rawtable!$A$4:$U$393,5,FALSE)="","",VLOOKUP($A35,rawtable!$A$4:$U$393,7,FALSE)) -> 2.135 | E35: =IF(VLOOKUP($A35,rawtable!$A$4:$U$393,5,FALSE)="",VLOOKUP($A35,rawtable!$A$4:$U$393,13,FALSE),"") | F35: =IF(VLOOKUP($A35,rawtable!$A$4:$U$393,5,FALSE)="",IF(rawtable!$V35=".","NA",VLOOKUP($A35,rawtable!$A$4:$AG$393,31,FALSE)),"") | G35: =IF(VLOOKUP($A35,rawtable!$A$4:$U$393,5,FALSE)="","",VLOOKUP($A35,rawtable!$A$4:$U$393,8,FALSE)) -> 1.309 | H35: =IF(VLOOKUP($A35,rawtable!$A$4:$U$393,5,FALSE)="",VLOOKUP($A35,rawtable!$A$4:$U$393,17,FALSE),"") | I35: =IF(VLOOKUP($A35,rawtable!$A$4:$U$393,5,FALSE)="",IF(rawtable!$Y35=".","NA",VLOOKUP($A35,rawtable!$A$4:$AG$393,32,FALSE)),"") | J35: =IF(VLOOKUP($A35,rawtable!$A$4:$U$393,5,FALSE)="","",VLOOKUP($A35,rawtable!$A$4:$U$393,9,FALSE)) -> 0.756 | K35: =IF(VLOOKUP($A35,rawtable!$A$4:$U$393,5,FALSE)="",VLOOKUP($A35,rawtable!$A$4:$U$393,21,FALSE),"") | L35: =IF(VLOOKUP($A35,rawtable!$A$4:$U$393,5,FALSE)="",IF(rawtable!$AB35=".","NA",VLOOKUP($A35,rawtable!$A$4:$AG$393,33,FALSE)),"")
A36: 32 | B36: =IF(VLOOKUP(A36,rawtable!$A$4:$U$393,5,FALSE)="",VLOOKUP(A36,rawtable!$A$4:$U$393,2,FALSE),"") -> retail | D36: =IF(VLOOKUP($A36,rawtable!$A$4:$U$393,5,FALSE)="","",VLOOKUP($A36,rawtable!$A$4:$U$393,7,FALSE)) | E36: =IF(VLOOKUP($A36,rawtable!$A$4:$U$393,5,FALSE)="",VLOOKUP($A36,rawtable!$A$4:$U$393,13,FALSE),"") -> 0.84483 | F36: =IF(VLOOKUP($A36,rawtable!$A$4:$U$393,5,FALSE)="",IF(rawtable!$V36=".","NA",VLOOKUP($A36,rawtable!$A$4:$AG$393,31,FALSE)),"") -> 0.70 (0.49, 0.89) | G36: =IF(VLOOKUP($A36,rawtable!$A$4:$U$393,5,FALSE)="","",VLOOKUP($A36,rawtable!$A$4:$U$393,8,FALSE)) | H36: =IF(VLOOKUP($A36,rawtable!$A$4:$U$393,5,FALSE)="",VLOOKUP($A36,rawtable!$A$4:$U$393,17,FALSE),"") -> 0.94 | I36: =IF(VLOOKUP($A36,rawtable!$A$4:$U$393,5,FALSE)="",IF(rawtable!$Y36=".","NA",VLOOKUP($A36,rawtable!$A$4:$AG$393,32,FALSE)),"") -> 0.64 (0.15, 1.00) | J36: =IF(VLOOKUP($A36,rawtable!$A$4:$U$393,5,FALSE)="","",VLOOKUP($A36,rawtable!$A$4:$U$393,9,FALSE)) | K36: =IF(VLOOKUP($A36,rawtable!$A$4:$U$393,5,FALSE)="",VLOOKUP($A36,rawtable!$A$4:$U$393,21,FALSE),"") -> 0.92 | L36: =IF(VLOOKUP($A36,rawtable!$A$4:$U$393,5,FALSE)="",IF(rawtable!$AB36=".","NA",VLOOKUP($A36,rawtable!$A$4:$AG$393,33,FALSE)),"") -> 0.63 (0.31, 0.88)
A37: 33 | B37: =IF(VLOOKUP(A37,rawtable!$A$4:$U$393,5,FALSE)="",VLOOKUP(A37,rawtable!$A$4:$U$393,2,FALSE),"") | C37: =IF(VLOOKUP(A37,rawtable!$A$4:$U$393,5,FALSE)="","",VLOOKUP(A37,rawtable!$A$4:$U$393,5,FALSE)) -> Neither side of Street | D37: =IF(VLOOKUP($A37,rawtable!$A$4:$U$393,5,FALSE)="","",VLOOKUP($A37,rawtable!$A$4:$U$393,7,FALSE)) -> 85.765 | E37: =IF(VLOOKUP($A37,rawtable!$A$4:$U$393,5,FALSE)="",VLOOKUP($A37,rawtable!$A$4:$U$393,13,FALSE),"") | F37: =IF(VLOOKUP($A37,rawtable!$A$4:$U$393,5,FALSE)="",IF(rawtable!$V37=".","NA",VLOOKUP($A37,rawtable!$A$4:$AG$393,31,FALSE)),"") | G37: =IF(VLOOKUP($A37,rawtable!$A$4:$U$393,5,FALSE)="","",VLOOKUP($A37,rawtable!$A$4:$U$393,8,FALSE)) -> 91.817 | H37: =IF(VLOOKUP($A37,rawtable!$A$4:$U$393,5,FALSE)="",VLOOKUP($A37,rawtable!$A$4:$U$393,17,FALSE),"") | I37: =IF(VLOOKUP($A37,rawtable!$A$4:$U$393,5,FALSE)="",IF(rawtable!$Y37=".","NA",VLOOKUP($A37,rawtable!$A$4:$AG$393,32,FALSE)),"") | J37: =IF(VLOOKUP($A37,rawtable!$A$4:$U$393,5,FALSE)="","",VLOOKUP($A37,rawtable!$A$4:$U$393,9,FALSE)) -> 93.646 | K37: =IF(VLOOKUP($A37,rawtable!$A$4:$U$393,5,FALSE)="",VLOOKUP($A37,rawtable!$A$4:$U$393,21,FALSE),"") | L37: =IF(VLOOKUP($A37,rawtable!$A$4:$U$393,5,FALSE)="",IF(rawtable!$AB37=".","NA",VLOOKUP($A37,rawtable!$A$4:$AG$393,33,FALSE)),"")
A38: 34 | B38: =IF(VLOOKUP(A38,rawtable!$A$4:$U$393,5,FALSE)="",VLOOKUP(A38,rawtable!$A$4:$U$393,2,FALSE),"") | C38: =IF(VLOOKUP(A38,rawtable!$A$4:$U$393,5,FALSE)="","",VLOOKUP(A38,rawtable!$A$4:$U$393,5,FALSE)) -> Yes, One side of Street | D38: =IF(VLOOKUP($A38,rawtable!$A$4:$U$393,5,FALSE)="","",VLOOKUP($A38,rawtable!$A$4:$U$393,7,FALSE)) -> 11.922 | E38: =IF(VLOOKUP($A38,rawtable!$A$4:$U$393,5,FALSE)="",VLOOKUP($A38,rawtable!$A$4:$U$393,13,FALSE),"") | F38: =IF(VLOOKUP($A38,rawtable!$A$4:$U$393,5,FALSE)="",IF(rawtable!$V38=".","NA",VLOOKUP($A38,rawtable!$A$4:$AG$393,31,FALSE)),"") | G38: =IF(VLOOKUP($A38,rawtable!$A$4:$U$393,5,FALSE)="","",VLOOKUP($A38,rawtable!$A$4:$U$393,8,FALSE)) -> 7.038 | H38: =IF(VLOOKUP($A38,rawtable!$A$4:$U$393,5,FALSE)="",VLOOKUP($A38,rawtable!$A$4:$U$393,17,FALSE),"") | I38: =IF(VLOOKUP($A38,rawtable!$A$4:$U$393,5,FALSE)="",IF(rawtable!$Y38=".","NA",VLOOKUP($A38,rawtable!$A$4:$AG$393,32,FALSE)),"") | J38: =IF(VLOOKUP($A38,rawtable!$A$4:$U$393,5,FALSE)="","",VLOOKUP($A38,rawtable!$A$4:$U$393,9,FALSE)) -> 5.295 | K38: =IF(VLOOKUP($A38,rawtable!$A$4:$U$393,5,FALSE)="",VLOOKUP($A38,rawtable!$A$4:$U$393,21,FALSE),"") | L38: =IF(VLOOKUP($A38,rawtable!$A$4:$U$393,5,FALSE)="",IF(rawtable!$AB38=".","NA",VLOOKUP($A38,rawtable!$A$4:$AG$393,33,FALSE)),"")
A39: 35 | B39: =IF(VLOOKUP(A39,rawtable!$A$4:$U$393,5,FALSE)="",VLOOKUP(A39,rawtable!$A$4:$U$393,2,FALSE),"") | C39: =IF(VLOOKUP(A39,rawtable!$A$4:$U$393,5,FALSE)="","",VLOOKUP(A39,rawtable!$A$4:$U$393,5,FALSE)) -> Yes, Both sides of Street | D39: =IF(VLOOKUP($A39,rawtable!$A$4:$U$393,5,FALSE)="","",VLOOKUP($A39,rawtable!$A$4:$U$393,7,FALSE)) -> 2.313 | E39: =IF(VLOOKUP($A39,rawtable!$A$4:$U$393,5,FALSE)="",VLOOKUP($A39,rawtable!$A$4:$U$393,13,FALSE),"") | F39: =IF(VLOOKUP($A39,rawtable!$A$4:$U$393,5,FALSE)="",IF(rawtable!$V39=".","NA",VLOOKUP($A39,rawtable!$A$4:$AG$393,31,FALSE)),"") | G39: =IF(VLOOKUP($A39,rawtable!$A$4:$U$393,5,FALSE)="","",VLOOKUP($A39,rawtable!$A$4:$U$393,8,FALSE)) -> 1.146 | H39: =IF(VLOOKUP($A39,rawtable!$A$4:$U$393,5,FALSE)="",VLOOKUP($A39,rawtable!$A$4:$U$393,17,FALSE),"") | I39: =IF(VLOOKUP($A39,rawtable!$A$4:$U$393,5,FALSE)="",IF(rawtable!$Y39=".","NA",VLOOKUP($A39,rawtable!$A$4:$AG$393,32,FALSE)),"") | J39: =IF(VLOOKUP($A39,rawtable!$A$4:$U$393,5,FALSE)="","",VLOOKUP($A39,rawtable!$A$4:$U$393,9,FALSE)) -> 1.059 | K39: =IF(VLOOKUP($A39,rawtable!$A$4:$U$393,5,FALSE)="",VLOOKUP($A39,rawtable!$A$4:$U$393,21,FALSE),"") | L39: =IF(VLOOKUP($A39,rawtable!$A$4:$U$393,5,FALSE)="",IF(rawtable!$AB39=".","NA",VLOOKUP($A39,rawtable!$A$4:$AG$393,33,FALSE)),"")
A40: 36 | B40: =IF(VLOOKUP(A40,rawtable!$A$4:$U$393,5,FALSE)="",VLOOKUP(A40,rawtable!$A$4:$U$393,2,FALSE),"") -> industrial_manufacturing | D40: =IF(VLOOKUP($A40,rawtable!$A$4:$U$393,5,FALSE)="","",VLOOKUP($A40,rawtable!$A$4:$U$393,7,FALSE)) | E40: =IF(VLOOKUP($A40,rawtable!$A$4:$U$393,5,FALSE)="",VLOOKUP($A40,rawtable!$A$4:$U$393,13,FALSE),"") -> 0.91379 | F40: =IF(VLOOKUP($A40,rawtable!$A$4:$U$393,5,FALSE)="",IF(rawtable!$V40=".","NA",VLOOKUP($A40,rawtable!$A$4:$AG$393,31,FALSE)),"") -> 0.66 (0.33, 0.92) | G40: =IF(VLOOKUP($A40,rawtable!$A$4:$U$393,5,FALSE)="","",VLOOKUP($A40,rawtable!$A$4:$U$393,8,FALSE)) | H40: =IF(VLOOKUP($A40,rawtable!$A$4:$U$393,5,FALSE)="",VLOOKUP($A40,rawtable!$A$4:$U$393,17,FALSE),"") -> 0.98 | I40: =IF(VLOOKUP($A40,rawtable!$A$4:$U$393,5,FALSE)="",IF(rawtable!$Y40=".","NA",VLOOKUP($A40,rawtable!$A$4:$AG$393,32,FALSE)),"") -> 0.66 (-0.02, 1.00) | J40: =IF(VLOOKUP($A40,rawtable!$A$4:$U$393,5,FALSE)="","",VLOOKUP($A40,rawtable!$A$4:$U$393,9,FALSE)) | K40: =IF(VLOOKUP($A40,rawtable!$A$4:$U$393,5,FALSE)="",VLOOKUP($A40,rawtable!$A$4:$U$393,21,FALSE),"") -> 0.99 | L40: =IF(VLOOKUP($A40,rawtable!$A$4:$U$393,5,FALSE)="",IF(rawtable!$AB40=".","NA",VLOOKUP($A40,rawtable!$A$4:$AG$393,33,FALSE)),"") -> 0.66 (-0.35, 1.00)
...

Sheet Sheet1
T1: Krippendorff Range | W1: Percent Agreement
C2: 2012 Kappa | D2: 2015 Kappa | E2: 2017 Kappa | G2: Krippendorff's Alpha | J2: Agreement | M2: Kappa | P2: Prevalence | T2: 0.7 - 1 | V2: 90% - 100%
A3: Land Use | G3: 2012 | H3: 2015 | I3: 2017 | J3: 2012 | K3: 2015 | L3: 2017 | M3: 2012 | N3: 2015 | O3: 2017 | P3: 2012 | Q3: 2015 | R3: 2017 | T3: 0.4 - 0.7 | V3: 75% - 90%
B4: Housing – detached | C4: 0.78 | D4: 0.908 | E4: 0.679 | F4: A1A | G4: =IF(F4<>"",VLOOKUP($F4,SummaryTable!$B$5:$N$111,COLUMN(G$1)-5,FALSE),"") -> 0.87253 | H4: =IF(G4<>"",VLOOKUP($F4,SummaryTable!$B$5:$N$111,COLUMN(H$1)-5,FALSE),"") -> 0.95086 | I4: =IF(H4<>"",VLOOKUP($F4,SummaryTable!$B$5:$N$111,COLUMN(I$1)-5,FALSE),"") -> 0.74021 | J4: =IF(I4<>"",VLOOKUP($F4,SummaryTable!$B$5:$N$111,COLUMN(J$1)-5,FALSE),"") -> 0.86441 | K4: =IF(J4<>"",VLOOKUP($F4,SummaryTable!$B$5:$N$111,COLUMN(K$1)-5,FALSE),"") -> 0.94 | L4: =IF(K4<>"",VLOOKUP($F4,SummaryTable!$B$5:$N$111,COLUMN(L$1)-5,FALSE),"") -> 0.81 | M4: =IF(L4<>"",VLOOKUP($F4,SummaryTable!$B$5:$N$111,COLUMN(M$1)-5,FALSE),"") -> 0.84422 | N4: =IF(M4<>"",VLOOKUP($F4,SummaryTable!$B$5:$N$111,COLUMN(N$1)-5,FALSE),"") -> 0.93094 | ... R4: =IF(Q4<>"",VLOOKUP($F4,SummaryTable!$B$5:$N$111,COLUMN(R$1)-5,FALSE),"") -> 57.791 | T4: low - 0.4 | V4: 50% - 75%
B5: Housing – either side of street | C5: 0.803 | D5: 0.788 | E5: 0.744 | F5: A1ABC | G5: =IF(F5<>"",VLOOKUP($F5,SummaryTable!$B$5:$N$111,COLUMN(G$1)-5,FALSE),"") -> 0.8048 | H5: =IF(G5<>"",VLOOKUP($F5,SummaryTable!$B$5:$N$111,COLUMN(H$1)-5,FALSE),"") -> 0.79031 | I5: =IF(H5<>"",VLOOKUP($F5,SummaryTable!$B$5:$N$111,COLUMN(I$1)-5,FALSE),"") -> 0.74389 | J5: =IF(I5<>"",VLOOKUP($F5,SummaryTable!$B$5:$N$111,COLUMN(J$1)-5,FALSE),"") -> 0.91525 | K5: =IF(J5<>"",VLOOKUP($F5,SummaryTable!$B$5:$N$111,COLUMN(K$1)-5,FALSE),"") -> 0.94118 | L5: =IF(K5<>"",VLOOKUP($F5,SummaryTable!$B$5:$N$111,COLUMN(L$1)-5,FALSE),"") -> 0.88 | M5: =IF(L5<>"",VLOOKUP($F5,SummaryTable!$B$5:$N$111,COLUMN(M$1)-5,FALSE),"") -> 0.8032 | N5: =IF(M5<>"",VLOOKUP($F5,SummaryTable!$B$5:$N$111,COLUMN(N$1)-5,FALSE),"") -> 0.78838 | ... R5: =IF(Q5<>"",VLOOKUP($F5,SummaryTable!$B$5:$N$111,COLUMN(R$1)-5,FALSE),"") -> 59.758
B6: Housing - attached | C6: 0.484 | D6: 0.815 | E6: 0.623 | F6: A1B | G6: =IF(F6<>"",VLOOKUP($F6,SummaryTable!$B$5:$N$111,COLUMN(G$1)-5,FALSE),"") -> 0.57032 | H6: =IF(G6<>"",VLOOKUP($F6,SummaryTable!$B$5:$N$111,COLUMN(H$1)-5,FALSE),"") -> 0.82956 | I6: =IF(H6<>"",VLOOKUP($F6,SummaryTable!$B$5:$N$111,COLUMN(I$1)-5,FALSE),"") -> 0.68626 | J6: =IF(I6<>"",VLOOKUP($F6,SummaryTable!$B$5:$N$111,COLUMN(J$1)-5,FALSE),"") -> 0.70175 | K6: =IF(J6<>"",VLOOKUP($F6,SummaryTable!$B$5:$N$111,COLUMN(K$1)-5,FALSE),"") -> 0.92 | L6: =IF(K6<>"",VLOOKUP($F6,SummaryTable!$B$5:$N$111,COLUMN(L$1)-5,FALSE),"") -> 0.82 | M6: =IF(L6<>"",VLOOKUP($F6,SummaryTable!$B$5:$N$111,COLUMN(M$1)-5,FALSE),"") -> 0.5413 | N6: =IF(M6<>"",VLOOKUP($F6,SummaryTable!$B$5:$N$111,COLUMN(N$1)-5,FALSE),"") -> 0.84592 | ... R6: =IF(Q6<>"",VLOOKUP($F6,SummaryTable!$B$5:$N$111,COLUMN(R$1)-5,FALSE),"") -> 69.592
B7: Housing - apartments | C7: 0.617 | D7: 0.767 | E7: 0.793 | F7: A1C | G7: =IF(F7<>"",VLOOKUP($F7,SummaryTable!$B$5:$N$111,COLUMN(G$1)-5,FALSE),"") -> 0.66726 | H7: =IF(G7<>"",VLOOKUP($F7,SummaryTable!$B$5:$N$111,COLUMN(H$1)-5,FALSE),"") -> 0.78558 | I7: =IF(H7<>"",VLOOKUP($F7,SummaryTable!$B$5:$N$111,COLUMN(I$1)-5,FALSE),"") -> 0.82477 | J7: =IF(I7<>"",VLOOKUP($F7,SummaryTable!$B$5:$N$111,COLUMN(J$1)-5,FALSE),"") -> 0.80702 | K7: =IF(J7<>"",VLOOKUP($F7,SummaryTable!$B$5:$N$111,COLUMN(K$1)-5,FALSE),"") -> 0.88235 | L7: =IF(K7<>"",VLOOKUP($F7,SummaryTable!$B$5:$N$111,COLUMN(L$1)-5,FALSE),"") -> 0.92 | M7: =IF(L7<>"",VLOOKUP($F7,SummaryTable!$B$5:$N$111,COLUMN(M$1)-5,FALSE),"") -> 0.65416 | N7: =IF(M7<>"",VLOOKUP($F7,SummaryTable!$B$5:$N$111,COLUMN(N$1)-5,FALSE),"") -> 0.79681 | ... R7: =IF(Q7<>"",VLOOKUP($F7,SummaryTable!$B$5:$N$111,COLUMN(R$1)-5,FALSE),"") -> 82.753
B8: Public/civic | C8: 0.515 | D8: 0.88 | E8: 0.556 | F8: A1D | G8: =IF(F8<>"",VLOOKUP($F8,SummaryTable!$B$5:$N$111,COLUMN(G$1)-5,FALSE),"") -> 0.51786 | H8: =IF(G8<>"",VLOOKUP($F8,SummaryTable!$B$5:$N$111,COLUMN(H$1)-5,FALSE),"") -> 0.88387 | I8: =IF(H8<>"",VLOOKUP($F8,SummaryTable!$B$5:$N$111,COLUMN(I$1)-5,FALSE),"") -> 0.55811 | J8: =IF(I8<>"",VLOOKUP($F8,SummaryTable!$B$5:$N$111,COLUMN(J$1)-5,FALSE),"") -> 0.89831 | K8: =IF(J8<>"",VLOOKUP($F8,SummaryTable!$B$5:$N$111,COLUMN(K$1)-5,FALSE),"") -> 0.97917 | L8: =IF(K8<>"",VLOOKUP($F8,SummaryTable!$B$5:$N$111,COLUMN(L$1)-5,FALSE),"") -> 0.97 | M8: =IF(L8<>"",VLOOKUP($F8,SummaryTable!$B$5:$N$111,COLUMN(M$1)-5,FALSE),"") -> 0.51507 | N8: =IF(M8<>"",VLOOKUP($F8,SummaryTable!$B$5:$N$111,COLUMN(N$1)-5,FALSE),"") -> 0.90123 | ... R8: =IF(Q8<>"",VLOOKUP($F8,SummaryTable!$B$5:$N$111,COLUMN(R$1)-5,FALSE),"") -> 96.067
B9: Office/Professional | C9: 0.311 | D9: -0.021 | E9: NA | F9: A1E | G9: =IF(F9<>"",VLOOKUP($F9,SummaryTable!$B$5:$N$111,COLUMN(G$1)-5,FALSE),"") -> 0.37411 | H9: =IF(G9<>"",VLOOKUP($F9,SummaryTable!$B$5:$N$111,COLUMN(H$1)-5,FALSE),"") -> -0.01064 | I9: =IF(H9<>"",VLOOKUP($F9,SummaryTable!$B$5:$N$111,COLUMN(I$1)-5,FALSE),"") -> 0 | J9: =IF(I9<>"",VLOOKUP($F9,SummaryTable!$B$5:$N$111,COLUMN(J$1)-5,FALSE),"") -> 0.81356 | K9: =IF(J9<>"",VLOOKUP($F9,SummaryTable!$B$5:$N$111,COLUMN(K$1)-5,FALSE),"") -> 0.95833 | L9: =IF(K9<>"",VLOOKUP($F9,SummaryTable!$B$5:$N$111,COLUMN(L$1)-5,FALSE),"") -> 0.99 | M9: =IF(L9<>"",VLOOKUP($F9,SummaryTable!$B$5:$N$111,COLUMN(M$1)-5,FALSE),"") -> 0.38328 | N9: =IF(M9<>"",VLOOKUP($F9,SummaryTable!$B$5:$N$111,COLUMN(N$1)-5,FALSE),"") -> -0.02128 | ... R9: =IF(Q9<>"",VLOOKUP($F9,SummaryTable!$B$5:$N$111,COLUMN(R$1)-5,FALSE),"") -> 99.092
B10: Institutional | C10: 0.747 | D10: 0.759 | E10: 0.733 | F10: A1F | G10: =IF(F10<>"",VLOOKUP($F10,SummaryTable!$B$5:$N$111,COLUMN(G$1)-5,FALSE),"") -> 0.7536 | H10: =IF(G10<>"",VLOOKUP($F10,SummaryTable!$B$5:$N$111,COLUMN(H$1)-5,FALSE),"") -> 0.77143 | I10: =IF(H10<>"",VLOOKUP($F10,SummaryTable!$B$5:$N$111,COLUMN(I$1)-5,FALSE),"") -> 0.72687 | J10: =IF(I10<>"",VLOOKUP($F10,SummaryTable!$B$5:$N$111,COLUMN(J$1)-5,FALSE),"") -> 0.89655 | K10: =IF(J10<>"",VLOOKUP($F10,SummaryTable!$B$5:$N$111,COLUMN(K$1)-5,FALSE),"") -> 0.9 | L10: =IF(K10<>"",VLOOKUP($F10,SummaryTable!$B$5:$N$111,COLUMN(L$1)-5,FALSE),"") -> 0.96 | M10: =IF(L10<>"",VLOOKUP($F10,SummaryTable!$B$5:$N$111,COLUMN(M$1)-5,FALSE),"") -> 0.76164 | N10: =IF(M10<>"",VLOOKUP($F10,SummaryTable!$B$5:$N$111,COLUMN(N$1)-5,FALSE),"") -> 0.78849 | ... R10: =IF(Q10<>"",VLOOKUP($F10,SummaryTable!$B$5:$N$111,COLUMN(R$1)-5,FALSE),"") -> 89.259
B11: Service | C11: NA | D11: 0.719 | E11: 0.501 | F11: A1G | G11: =IF(F11<>"",VLOOKUP($F11,SummaryTable!$B$5:$N$111,COLUMN(G$1)-5,FALSE),"") -> 0.43588 | H11: =IF(G11<>"",VLOOKUP($F11,SummaryTable!$B$5:$N$111,COLUMN(H$1)-5,FALSE),"") -> 0.78167 | I11: =IF(H11<>"",VLOOKUP($F11,SummaryTable!$B$5:$N$111,COLUMN(I$1)-5,FALSE),"") -> 0.61969 | J11: =IF(I11<>"",VLOOKUP($F11,SummaryTable!$B$5:$N$111,COLUMN(J$1)-5,FALSE),"") -> 0.82759 | K11: =IF(J11<>"",VLOOKUP($F11,SummaryTable!$B$5:$N$111,COLUMN(K$1)-5,FALSE),"") -> 0.9 | L11: =IF(K11<>"",VLOOKUP($F11,SummaryTable!$B$5:$N$111,COLUMN(L$1)-5,FALSE),"") -> 0.87 | M11: =IF(L11<>"",VLOOKUP($F11,SummaryTable!$B$5:$N$111,COLUMN(M$1)-5,FALSE),"") -> . | N11: =IF(M11<>"",VLOOKUP($F11,SummaryTable!$B$5:$N$111,COLUMN(N$1)-5,FALSE),"") -> 0.75149 | ... R11: =IF(Q11<>"",VLOOKUP($F11,SummaryTable!$B$5:$N$111,COLUMN(R$1)-5,FALSE),"") -> 90.318
B12: Retail | C12: 0.649 | D12: 0.638 | E12: 0.52 | F12: A1H | G12: =IF(F12<>"",VLOOKUP($F12,SummaryTable!$B$5:$N$111,COLUMN(G$1)-5,FALSE),"") -> 0.7044 | H12: =IF(G12<>"",VLOOKUP($F12,SummaryTable!$B$5:$N$111,COLUMN(H$1)-5,FALSE),"") -> 0.63736 | I12: =IF(H12<>"",VLOOKUP($F12,SummaryTable!$B$5:$N$111,COLUMN(I$1)-5,FALSE),"") -> 0.62714 | J12: =IF(I12<>"",VLOOKUP($F12,SummaryTable!$B$5:$N$111,COLUMN(J$1)-5,FALSE),"") -> 0.84483 | K12: =IF(J12<>"",VLOOKUP($F12,SummaryTable!$B$5:$N$111,COLUMN(K$1)-5,FALSE),"") -> 0.94 | L12: =IF(K12<>"",VLOOKUP($F12,SummaryTable!$B$5:$N$111,COLUMN(L$1)-5,FALSE),"") -> 0.92 | M12: =IF(L12<>"",VLOOKUP($F12,SummaryTable!$B$5:$N$111,COLUMN(M$1)-5,FALSE),"") -> 0.66456 | N12: =IF(M12<>"",VLOOKUP($F12,SummaryTable!$B$5:$N$111,COLUMN(N$1)-5,FALSE),"") -> 0.63768 | ... R12: =IF(Q12<>"",VLOOKUP($F12,SummaryTable!$B$5:$N$111,COLUMN(R$1)-5,FALSE),"") -> 93.646
B13: Industrial/Manufacturing | C13: 0.548 | D13: 0.658 | E13: 0.662 | F13: A1I | G13: =IF(F13<>"",VLOOKUP($F13,SummaryTable!$B$5:$N$111,COLUMN(G$1)-5,FALSE),"") -> 0.66249 | H13: =IF(G13<>"",VLOOKUP($F13,SummaryTable!$B$5:$N$111,COLUMN(H$1)-5,FALSE),"") -> 0.65979 | I13: =IF(H13<>"",VLOOKUP($F13,SummaryTable!$B$5:$N$111,COLUMN(I$1)-5,FALSE),"") -> 0.66328 | J13: =IF(I13<>"",VLOOKUP($F13,SummaryTable!$B$5:$N$111,COLUMN(J$1)-5,FALSE),"") -> 0.91379 | K13: =IF(J13<>"",VLOOKUP($F13,SummaryTable!$B$5:$N$111,COLUMN(K$1)-5,FALSE),"") -> 0.98 | L13: =IF(K13<>"",VLOOKUP($F13,SummaryTable!$B$5:$N$111,COLUMN(L$1)-5,FALSE),"") -> 0.99 | M13: =IF(L13<>"",VLOOKUP($F13,SummaryTable!$B$5:$N$111,COLUMN(M$1)-5,FALSE),"") -> 0.67849 | N13: =IF(M13<>"",VLOOKUP($F13,SummaryTable!$B$5:$N$111,COLUMN(N$1)-5,FALSE),"") -> 0.65753 | ... R13: =IF(Q13<>"",VLOOKUP($F13,SummaryTable!$B$5:$N$111,COLUMN(R$1)-5,FALSE),"") -> 96.672
B14: Recreation/Fitness | C14: 0.487 | D14: 1 | E14: 0.662 | F14: A1J | G14: =IF(F14<>"",VLOOKUP($F14,SummaryTable!$B$5:$N$111,COLUMN(G$1)-5,FALSE),"") -> 0.48684 | H14: =IF(G14<>"",VLOOKUP($F14,SummaryTable!$B$5:$N$111,COLUMN(H$1)-5,FALSE),"") -> 1 | I14: =IF(H14<>"",VLOOKUP($F14,SummaryTable!$B$5:$N$111,COLUMN(I$1)-5,FALSE),"") -> 0.66328 | J14: =IF(I14<>"",VLOOKUP($F14,SummaryTable!$B$5:$N$111,COLUMN(J$1)-5,FALSE),"") -> 0.9661 | K14: =IF(J14<>"",VLOOKUP($F14,SummaryTable!$B$5:$N$111,COLUMN(K$1)-5,FALSE),"") -> 1 | L14: =IF(K14<>"",VLOOKUP($F14,SummaryTable!$B$5:$N$111,COLUMN(L$1)-5,FALSE),"") -> 0.99 | M14: =IF(L14<>"",VLOOKUP($F14,SummaryTable!$B$5:$N$111,COLUMN(M$1)-5,FALSE),"") -> 0.48696 | N14: =IF(M14<>"",VLOOKUP($F14,SummaryTable!$B$5:$N$111,COLUMN(N$1)-5,FALSE),"") -> 1 | ... R14: =IF(Q14<>"",VLOOKUP($F14,SummaryTable!$B$5:$N$111,COLUMN(R$1)-5,FALSE),"") -> 98.638
B15: Public/Communal Spaces | C15: 0.165 | D15: NA | E15: NA | F15: A1K | G15: =IF(F15<>"",VLOOKUP($F15,SummaryTable!$B$5:$N$111,COLUMN(G$1)-5,FALSE),"") -> 0.16407 | H15: =IF(G15<>"",VLOOKUP($F15,SummaryTable!$B$5:$N$111,COLUMN(H$1)-5,FALSE),"") -> -0.01042 | I15: =IF(H15<>"",VLOOKUP($F15,SummaryTable!$B$5:$N$111,COLUMN(I$1)-5,FALSE),"") -> 0.35017 | J15: =IF(I15<>"",VLOOKUP($F15,SummaryTable!$B$5:$N$111,COLUMN(J$1)-5,FALSE),"") -> 0.87931 | K15: =IF(J15<>"",VLOOKUP($F15,SummaryTable!$B$5:$N$111,COLUMN(K$1)-5,FALSE),"") -> 0.95918 | L15: =IF(K15<>"",VLOOKUP($F15,SummaryTable!$B$5:$N$111,COLUMN(L$1)-5,FALSE),"") -> 0.91 | M15: =IF(L15<>"",VLOOKUP($F15,SummaryTable!$B$5:$N$111,COLUMN(M$1)-5,FALSE),"") -> 0.16461 | N15: =IF(M15<>"",VLOOKUP($F15,SummaryTable!$B$5:$N$111,COLUMN(N$1)-5,FALSE),"") -> . | ... R15: =IF(Q15<>"",VLOOKUP($F15,SummaryTable!$B$5:$N$111,COLUMN(R$1)-5,FALSE),"") -> 93.041
B16: Vacant Building/Lot | C16: 0.318 | D16: 0.719 | E16: 0.304 | F16: A1L | G16: =IF(F16<>"",VLOOKUP($F16,SummaryTable!$B$5:$N$111,COLUMN(G$1)-5,FALSE),"") -> 0.45291 | H16: =IF(G16<>"",VLOOKUP($F16,SummaryTable!$B$5:$N$111,COLUMN(H$1)-5,FALSE),"") -> 0.77361 | I16: =IF(H16<>"",VLOOKUP($F16,SummaryTable!$B$5:$N$111,COLUMN(I$1)-5,FALSE),"") -> 0.41516 | J16: =IF(I16<>"",VLOOKUP($F16,SummaryTable!$B$5:$N$111,COLUMN(J$1)-5,FALSE),"") -> 0.58621 | K16: =IF(J16<>"",VLOOKUP($F16,SummaryTable!$B$5:$N$111,COLUMN(K$1)-5,FALSE),"") -> 0.82 | L16: =IF(K16<>"",VLOOKUP($F16,SummaryTable!$B$5:$N$111,COLUMN(L$1)-5,FALSE),"") -> 0.56 | M16: =IF(L16<>"",VLOOKUP($F16,SummaryTable!$B$5:$N$111,COLUMN(M$1)-5,FALSE),"") -> 0.34936 | N16: =IF(M16<>"",VLOOKUP($F16,SummaryTable!$B$5:$N$111,COLUMN(N$1)-5,FALSE),"") -> 0.73785 | ... R16: =IF(Q16<>"",VLOOKUP($F16,SummaryTable!$B$5:$N$111,COLUMN(R$1)-5,FALSE),"") -> 42.511
B17: Other | C17: -0.032 | D17: 0.35 | E17: NA | F17: A1M | G17: =IF(F17<>"",VLOOKUP($F17,SummaryTable!$B$5:$N$111,COLUMN(G$1)-5,FALSE),"") -> -0.0404 | H17: =IF(G17<>"",VLOOKUP($F17,SummaryTable!$B$5:$N$111,COLUMN(H$1)-5,FALSE),"") -> 0.29795 | I17: =IF(H17<>"",VLOOKUP($F17,SummaryTable!$B$5:$N$111,COLUMN(I$1)-5,FALSE),"") -> 0.25758 | J17: =IF(I17<>"",VLOOKUP($F17,SummaryTable!$B$5:$N$111,COLUMN(J$1)-5,FALSE),"") -> 0.90385 | K17: =IF(J17<>"",VLOOKUP($F17,SummaryTable!$B$5:$N$111,COLUMN(K$1)-5,FALSE),"") -> 0.87234 | L17: =IF(K17<>"",VLOOKUP($F17,SummaryTable!$B$5:$N$111,COLUMN(L$1)-5,FALSE),"") -> 0.95 | M17: =IF(L17<>"",VLOOKUP($F17,SummaryTable!$B$5:$N$111,COLUMN(M$1)-5,FALSE),"") -> -0.03175 | N17: =IF(M17<>"",VLOOKUP($F17,SummaryTable!$B$5:$N$111,COLUMN(N$1)-5,FALSE),"") -> 0.21927 | ... R17: =IF(Q17<>"",VLOOKUP($F17,SummaryTable!$B$5:$N$111,COLUMN(R$1)-5,FALSE),"") -> 98.033
A18: Environment | G18: =IF(F18<>"",VLOOKUP($F18,SummaryTable!$B$5:$N$111,COLUMN(G$1)-5,FALSE),"") | H18: =IF(G18<>"",VLOOKUP($F18,SummaryTable!$B$5:$N$111,COLUMN(H$1)-5,FALSE),"") | I18: =IF(H18<>"",VLOOKUP($F18,SummaryTable!$B$5:$N$111,COLUMN(I$1)-5,FALSE),"") | J18: =IF(I18<>"",VLOOKUP($F18,SummaryTable!$B$5:$N$111,COLUMN(J$1)-5,FALSE),"") | K18: =IF(J18<>"",VLOOKUP($F18,SummaryTable!$B$5:$N$111,COLUMN(K$1)-5,FALSE),"") | L18: =IF(K18<>"",VLOOKUP($F18,SummaryTable!$B$5:$N$111,COLUMN(L$1)-5,FALSE),"") | M18: =IF(L18<>"",VLOOKUP($F18,SummaryTable!$B$5:$N$111,COLUMN(M$1)-5,FALSE),"") | N18: =IF(M18<>"",VLOOKUP($F18,SummaryTable!$B$5:$N$111,COLUMN(N$1)-5,FALSE),"") | ... R18: =IF(Q18<>"",VLOOKUP($F18,SummaryTable!$B$5:$N$111,COLUMN(R$1)-5,FALSE),"")
