Workbook

Sheet Supplemental Table
C1: a Prevalence calculation uses full sample of street segments.
C2: b Agreement calculations are conducted with sub-sample of street segments used in reliability testing
D3: 2012 | G3: 2015 | J3: 2017
D4: % a | E4: % Agmt b | F4: Krippendorff's Alpha (95% CI) b | G4: % a | H4: % Agmt b | I4: Krippendorff's Alpha (95% CI) b | J4: % a | K4: % Agmt b | L4: Krippendorff's Alpha (95% CI) b
A5: 1 | B5: =IF(VLOOKUP(A5,rawtable!$A$4:$U$393,5,FALSE)="",VLOOKUP(A5,rawtable!$A$4:$U$393,2,FALSE),"") -> housing_detached | D5: =IF(VLOOKUP($A5,rawtable!$A$4:$U$393,5,FALSE)="","",VLOOKUP($A5,rawtable!$A$4:$U$393,7,FALSE)) | E5: =IF(VLOOKUP($A5,rawtable!$A$4:$U$393,5,FALSE)="",VLOOKUP($A5,rawtable!$A$4:$U$393,13,FALSE),"") -> 0.86441 | F5: =IF(VLOOKUP($A5,rawtable!$A$4:$U$393,5,FALSE)="",IF(rawtable!$V5=".","NA",VLOOKUP($A5,rawtable!$A$4:$AG$393,31,FALSE)),"") -> 0.87 (0.78, 0.95) | G5: =IF(VLOOKUP($A5,rawtable!$A$4:$U$393,5,FALSE)="","",VLOOKUP($A5,rawtable!$A$4:$U$393,8,FALSE)) | H5: =IF(VLOOKUP($A5,rawtable!$A$4:$U$393,5,FALSE)="",VLOOKUP($A5,rawtable!$A$4:$U$393,17,FALSE),"") -> 0.94 | I5: =IF(VLOOKUP($A5,rawtable!$A$4:$U$393,5,FALSE)="",IF(rawtable!$Y5=".","NA",VLOOKUP($A5,rawtable!$A$4:$AG$393,32,FALSE)),"") -> 0.95 (0.88, 1.00) | J5: =IF(VLOOKUP($A5,rawtable!$A$4:$U$393,5,FALSE)="","",VLOOKUP($A5,rawtable!$A$4:$U$393,9,FALSE)) | K5: =IF(VLOOKUP($A5,rawtable!$A$4:$U$393,5,FALSE)="",VLOOKUP($A5,rawtable!$A$4:$U$393,21,FALSE),"") -> 0.81 | L5: =IF(VLOOKUP($A5,rawtable!$A$4:$U$393,5,FALSE)="",IF(rawtable!$AB5=".","NA",VLOOKUP($A5,rawtable!$A$4:$AG$393,33,FALSE)),"") -> 0.74 (0.62, 0.87)
A6: 2 | B6: =IF(VLOOKUP(A6,rawtable!$A$4:$U$393,5,FALSE)="",VLOOKUP(A6,rawtable!$A$4:$U$393,2,FALSE),"") | C6: =IF(VLOOKUP(A6,rawtable!$A$4:$U$393,5,FALSE)="","",VLOOKUP(A6,rawtable!$A$4:$U$393,5,FALSE)) -> Neither side of Street | D6: =IF(VLOOKUP($A6,rawtable!$A$4:$U$393,5,FALSE)="","",VLOOKUP($A6,rawtable!$A$4:$U$393,7,FALSE)) -> 49.466 | E6: =IF(VLOOKUP($A6,rawtable!$A$4:$U$393,5,FALSE)="",VLOOKUP($A6,rawtable!$A$4:$U$393,13,FALSE),"") | F6: =IF(VLOOKUP($A6,rawtable!$A$4:$U$393,5,FALSE)="",IF(rawtable!$V6=".","NA",VLOOKUP($A6,rawtable!$A$4:$AG$393,31,FALSE)),"") | G6: =IF(VLOOKUP($A6,rawtable!$A$4:$U$393,5,FALSE)="","",VLOOKUP($A6,rawtable!$A$4:$U$393,8,FALSE)) -> 47.619 | H6: =IF(VLOOKUP($A6,rawtable!$A$4:$U$393,5,FALSE)="",VLOOKUP($A6,rawtable!$A$4:$U$393,17,FALSE),"") | I6: =IF(VLOOKUP($A6,rawtable!$A$4:$U$393,5,FALSE)="",IF(rawtable!$Y6=".","NA",VLOOKUP($A6,rawtable!$A$4:$AG$393,32,FALSE)),"") | J6: =IF(VLOOKUP($A6,rawtable!$A$4:$U$393,5,FALSE)="","",VLOOKUP($A6,rawtable!$A$4:$U$393,9,FALSE)) -> 57.791 | K6: =IF(VLOOKUP($A6,rawtable!$A$4:$U$393,5,FALSE)="",VLOOKUP($A6,rawtable!$A$4:$U$393,21,FALSE),"") | L6: =IF(VLOOKUP($A6,rawtable!$A$4:$U$393,5,FALSE)="",IF(rawtable!$AB6=".","NA",VLOOKUP($A6,rawtable!$A$4:$AG$393,33,FALSE)),"")
A7: 3 | B7: =IF(VLOOKUP(A7,rawtable!$A$4:$U$393,5,FALSE)="",VLOOKUP(A7,rawtable!$A$4:$U$393,2,FALSE),"") | C7: =IF(VLOOKUP(A7,rawtable!$A$4:$U$393,5,FALSE)="","",VLOOKUP(A7,rawtable!$A$4:$U$393,5,FALSE)) -> Yes, One side of Street | D7: =IF(VLOOKUP($A7,rawtable!$A$4:$U$393,5,FALSE)="","",VLOOKUP($A7,rawtable!$A$4:$U$393,7,FALSE)) -> 27.402 | E7: =IF(VLOOKUP($A7,rawtable!$A$4:$U$393,5,FALSE)="",VLOOKUP($A7,rawtable!$A$4:$U$393,13,FALSE),"") | F7: =IF(VLOOKUP($A7,rawtable!$A$4:$U$393,5,FALSE)="",IF(rawtable!$V7=".","NA",VLOOKUP($A7,rawtable!$A$4:$AG$393,31,FALSE)),"") | G7: =IF(VLOOKUP($A7,rawtable!$A$4:$U$393,5,FALSE)="","",VLOOKUP($A7,rawtable!$A$4:$U$393,8,FALSE)) -> 27.915 | H7: =IF(VLOOKUP($A7,rawtable!$A$4:$U$393,5,FALSE)="",VLOOKUP($A7,rawtable!$A$4:$U$393,17,FALSE),"") | I7: =IF(VLOOKUP($A7,rawtable!$A$4:$U$393,5,FALSE)="",IF(rawtable!$Y7=".","NA",VLOOKUP($A7,rawtable!$A$4:$AG$393,32,FALSE)),"") | J7: =IF(VLOOKUP($A7,rawtable!$A$4:$U$393,5,FALSE)="","",VLOOKUP($A7,rawtable!$A$4:$U$393,9,FALSE)) -> 22.39 | K7: =IF(VLOOKUP($A7,rawtable!$A$4:$U$393,5,FALSE)="",VLOOKUP($A7,rawtable!$A$4:$U$393,21,FALSE),"") | L7: =IF(VLOOKUP($A7,rawtable!$A$4:$U$393,5,FALSE)="",IF(rawtable!$AB7=".","NA",VLOOKUP($A7,rawtable!$A$4:$AG$393,33,FALSE)),"")
A8: 4 | B8: =IF(VLOOKUP(A8,rawtable!$A$4:$U$393,5,FALSE)="",VLOOKUP(A8,rawtable!$A$4:$U$393,2,FALSE),"") | C8: =IF(VLOOKUP(A8,rawtable!$A$4:$U$393,5,FALSE)="","",VLOOKUP(A8,rawtable!$A$4:$U$393,5,FALSE)) -> Yes, Both sides of Street | D8: =IF(VLOOKUP($A8,rawtable!$A$4:$U$393,5,FALSE)="","",VLOOKUP($A8,rawtable!$A$4:$U$393,7,FALSE)) -> 23.132 | E8: =IF(VLOOKUP($A8,rawtable!$A$4:$U$393,5,FALSE)="",VLOOKUP($A8,rawtable!$A$4:$U$393,13,FALSE),"") | F8: =IF(VLOOKUP($A8,rawtable!$A$4:$U$393,5,FALSE)="",IF(rawtable!$V8=".","NA",VLOOKUP($A8,rawtable!$A$4:$AG$393,31,FALSE)),"") | G8: =IF(VLOOKUP($A8,rawtable!$A$4:$U$393,5,FALSE)="","",VLOOKUP($A8,rawtable!$A$4:$U$393,8,FALSE)) -> 24.466 | H8: =IF(VLOOKUP($A8,rawtable!$A$4:$U$393,5,FALSE)="",VLOOKUP($A8,rawtable!$A$4:$U$393,17,FALSE),"") | I8: =IF(VLOOKUP($A8,rawtable!$A$4:$U$393,5,FALSE)="",IF(rawtable!$Y8=".","NA",VLOOKUP($A8,rawtable!$A$4:$AG$393,32,FALSE)),"") | J8: =IF(VLOOKUP($A8,rawtable!$A$4:$U$393,5,FALSE)="","",VLOOKUP($A8,rawtable!$A$4:$U$393,9,FALSE)) -> 19.818 | K8: =IF(VLOOKUP($A8,rawtable!$A$4:$U$393,5,FALSE)="",VLOOKUP($A8,rawtable!$A$4:$U$393,21,FALSE),"") | L8: =IF(VLOOKUP($A8,rawtable!$A$4:$U$393,5,FALSE)="",IF(rawtable!$AB8=".","NA",VLOOKUP($A8,rawtable!$A$4:$AG$393,33,FALSE)),"")
A9: 5 | B9: =IF(VLOOKUP(A9,rawtable!$A$4:$U$393,5,FALSE)="",VLOOKUP(A9,rawtable!$A$4:$U$393,2,FALSE),"") -> housing_either_side_of_street_bin | D9: =IF(VLOOKUP($A9,rawtable!$A$4:$U$393,5,FALSE)="","",VLOOKUP($A9,rawtable!$A$4:$U$393,7,FALSE)) | E9: =IF(VLOOKUP($A9,rawtable!$A$4:$U$393,5,FALSE)="",VLOOKUP($A9,rawtable!$A$4:$U$393,13,FALSE),"") -> 0.91525 | F9: =IF(VLOOKUP($A9,rawtable!$A$4:$U$393,5,FALSE)="",IF(rawtable!$V9=".","NA",VLOOKUP($A9,rawtable!$A$4:$AG$393,31,FALSE)),"") -> 0.80 (0.65, 0.96) | G9: =IF(VLOOKUP($A9,rawtable!$A$4:$U$393,5,FALSE)="","",VLOOKUP($A9,rawtable!$A$4:$U$393,8,FALSE)) | H9: =IF(VLOOKUP($A9,rawtable!$A$4:$U$393,5,FALSE)="",VLOOKUP($A9,rawtable!$A$4:$U$393,17,FALSE),"") -> 0.94118 | I9: =IF(VLOOKUP($A9,rawtable!$A$4:$U$393,5,FALSE)="",IF(rawtable!$Y9=".","NA",VLOOKUP($A9,rawtable!$A$4:$AG$393,32,FALSE)),"") -> 0.79 (0.51, 1.00) | J9: =IF(VLOOKUP($A9,rawtable!$A$4:$U$393,5,FALSE)="","",VLOOKUP($A9,rawtable!$A$4:$U$393,9,FALSE)) | K9: =IF(VLOOKUP($A9,rawtable!$A$4:$U$393,5,FALSE)="",VLOOKUP($A9,rawtable!$A$4:$U$393,21,FALSE),"") -> 0.88 | L9: =IF(VLOOKUP($A9,rawtable!$A$4:$U$393,5,FALSE)="",IF(rawtable!$AB9=".","NA",VLOOKUP($A9,rawtable!$A$4:$AG$393,33,FALSE)),"") -> 0.74 (0.62, 0.87)
A10: 6 | B10: =IF(VLOOKUP(A10,rawtable!$A$4:$U$393,5,FALSE)="",VLOOKUP(A10,rawtable!$A$4:$U$393,2,FALSE),"") | C10: =IF(VLOOKUP(A10,rawtable!$A$4:$U$393,5,FALSE)="","",VLOOKUP(A10,rawtable!$A$4:$U$393,5,FALSE)) -> No | D10: =IF(VLOOKUP($A10,rawtable!$A$4:$U$393,5,FALSE)="","",VLOOKUP($A10,rawtable!$A$4:$U$393,7,FALSE)) -> 25.445 | E10: =IF(VLOOKUP($A10,rawtable!$A$4:$U$393,5,FALSE)="",VLOOKUP($A10,rawtable!$A$4:$U$393,13,FALSE),"") | F10: =IF(VLOOKUP($A10,rawtable!$A$4:$U$393,5,FALSE)="",IF(rawtable!$V10=".","NA",VLOOKUP($A10,rawtable!$A$4:$AG$393,31,FALSE)),"") | G10: =IF(VLOOKUP($A10,rawtable!$A$4:$U$393,5,FALSE)="","",VLOOKUP($A10,rawtable!$A$4:$U$393,8,FALSE)) -> 24.104 | H10: =IF(VLOOKUP($A10,rawtable!$A$4:$U$393,5,FALSE)="",VLOOKUP($A10,rawtable!$A$4:$U$393,17,FALSE),"") | I10: =IF(VLOOKUP($A10,rawtable!$A$4:$U$393,5,FALSE)="",IF(rawtable!$Y10=".","NA",VLOOKUP($A10,rawtable!$A$4:$AG$393,32,FALSE)),"") | J10: =IF(VLOOKUP($A10,rawtable!$A$4:$U$393,5,FALSE)="","",VLOOKUP($A10,rawtable!$A$4:$U$393,9,FALSE)) -> 40.242 | K10: =IF(VLOOKUP($A10,rawtable!$A$4:$U$393,5,FALSE)="",VLOOKUP($A10,rawtable!$A$4:$U$393,21,FALSE),"") | L10: =IF(VLOOKUP($A10,rawtable!$A$4:$U$393,5,FALSE)="",IF(rawtable!$AB10=".","NA",VLOOKUP($A10,rawtable!$A$4:$AG$393,33,FALSE)),"")
A11: 7 | B11: =IF(VLOOKUP(A11,rawtable!$A$4:$U$393,5,FALSE)="",VLOOKUP(A11,rawtable!$A$4:$U$393,2,FALSE),"") | C11: =IF(VLOOKUP(A11,rawtable!$A$4:$U$393,5,FALSE)="","",VLOOKUP(A11,rawtable!$A$4:$U$393,5,FALSE)) -> Yes | D11: =IF(VLOOKUP($A11,rawtable!$A$4:$U$393,5,FALSE)="","",VLOOKUP($A11,rawtable!$A$4:$U$393,7,FALSE)) -> 74.555 | E11: =IF(VLOOKUP($A11,rawtable!$A$4:$U$393,5,FALSE)="",VLOOKUP($A11,rawtable!$A$4:$U$393,13,FALSE),"") | F11: =IF(VLOOKUP($A11,rawtable!$A$4:$U$393,5,FALSE)="",IF(rawtable!$V11=".","NA",VLOOKUP($A11,rawtable!$A$4:$AG$393,31,FALSE)),"") | G11: =IF(VLOOKUP($A11,rawtable!$A$4:$U$393,5,FALSE)="","",VLOOKUP($A11,rawtable!$A$4:$U$393,8,FALSE)) -> 75.896 | H11: =IF(VLOOKUP($A11,rawtable!$A$4:$U$393,5,FALSE)="",VLOOKUP($A11,rawtable!$A$4:$U$393,17,FALSE),"") | I11: =IF(VLOOKUP($A11,rawtable!$A$4:$U$393,5,FALSE)="",IF(rawtable!$Y11=".","NA",VLOOKUP($A11,rawtable!$A$4:$AG$393,32,FALSE)),"") | J11: =IF(VLOOKUP($A11,rawtable!$A$4:$U$393,5,FALSE)="","",VLOOKUP($A11,rawtable!$A$4:$U$393,9,FALSE)) -> 59.758 | K11: =IF(VLOOKUP($A11,rawtable!$A$4:$U$393,5,FALSE)="",VLOOKUP($A11,rawtable!$A$4:$U$393,21,FALSE),"") | L11: =IF(VLOOKUP($A11,rawtable!$A$4:$U$393,5,FALSE)="",IF(rawtable!$AB11=".","NA",VLOOKUP($A11,rawtable!$A$4:$AG$393,33,FALSE)),"")
A12: 8 | B12: =IF(VLOOKUP(A12,rawtable!$A$4:$U$393,5,FALSE)="",VLOOKUP(A12,rawtable!$A$4:$U$393,2,FALSE),"") -> housing_attached | D12: =IF(VLOOKUP($A12,rawtable!$A$4:$U$393,5,FALSE)="","",VLOOKUP($A12,rawtable!$A$4:$U$393,7,FALSE)) | E12: =IF(VLOOKUP($A12,rawtable!$A$4:$U$393,5,FALSE)="",VLOOKUP($A12,rawtable!$A$4:$U$393,13,FALSE),"") -> 0.70175 | F12: =IF(VLOOKUP($A12,rawtable!$A$4:$U$393,5,FALSE)="",IF(rawtable!$V12=".","NA",VLOOKUP($A12,rawtable!$A$4:$AG$393,31,FALSE)),"") -> 0.57 (0.38, 0.76) | G12: =IF(VLOOKUP($A12,rawtable!$A$4:$U$393,5,FALSE)="","",VLOOKUP($A12,rawtable!$A$4:$U$393,8,FALSE)) | H12: =IF(VLOOKUP($A12,rawtable!$A$4:$U$393,5,FALSE)="",VLOOKUP($A12,rawtable!$A$4:$U$393,17,FALSE),"") -> 0.92 | I12: =IF(VLOOKUP($A12,rawtable!$A$4:$U$393,5,FALSE)="",IF(rawtable!$Y12=".","NA",VLOOKUP($A12,rawtable!$A$4:$AG$393,32,FALSE)),"") -> 0.83 (0.66, 0.96) | J12: =IF(VLOOKUP($A12,rawtable!$A$4:$U$393,5,FALSE)="","",VLOOKUP($A12,rawtable!$A$4:$U$393,9,FALSE)) | K12: =IF(VLOOKUP($A12,rawtable!$A$4:$U$393,5,FALSE)="",VLOOKUP($A12,rawtable!$A$4:$U$393,21,FALSE),"") -> 0.82 | L12: =IF(VLOOKUP($A12,rawtable!$A$4:$U$393,5,FALSE)="",IF(rawtable!$AB12=".","NA",VLOOKUP($A12,rawtable!$A$4:$AG$393,33,FALSE)),"") -> 0.69 (0.54, 0.82)
A13: 9 | B13: =IF(VLOOKUP(A13,rawtable!$A$4:$U$393,5,FALSE)="",VLOOKUP(A13,rawtable!$A$4:$U$393,2,FALSE),"") | C13: =IF(VLOOKUP(A13,rawtable!$A$4:$U$393,5,FALSE)="","",VLOOKUP(A13,rawtable!$A$4:$U$393,5,FALSE)) -> Neither side of Street | D13: =IF(VLOOKUP($A13,rawtable!$A$4:$U$393,5,FALSE)="","",VLOOKUP($A13,rawtable!$A$4:$U$393,7,FALSE)) -> 64.057 | E13: =IF(VLOOKUP($A13,rawtable!$A$4:$U$393,5,FALSE)="",VLOOKUP($A13,rawtable!$A$4:$U$393,13,FALSE),"") | F13: =IF(VLOOKUP($A13,rawtable!$A$4:$U$393,5,FALSE)="",IF(rawtable!$V13=".","NA",VLOOKUP($A13,rawtable!$A$4:$AG$393,31,FALSE)),"") | G13: =IF(VLOOKUP($A13,rawtable!$A$4:$U$393,5,FALSE)="","",VLOOKUP($A13,rawtable!$A$4:$U$393,8,FALSE)) -> 67.267 | H13: =IF(VLOOKUP($A13,rawtable!$A$4:$U$393,5,FALSE)="",VLOOKUP($A13,rawtable!$A$4:$U$393,17,FALSE),"") | I13: =IF(VLOOKUP($A13,rawtable!$A$4:$U$393,5,FALSE)="",IF(rawtable!$Y13=".","NA",VLOOKUP($A13,rawtable!$A$4:$AG$393,32,FALSE)),"") | J13: =IF(VLOOKUP($A13,rawtable!$A$4:$U$393,5,FALSE)="","",VLOOKUP($A13,rawtable!$A$4:$U$393,9,FALSE)) -> 69.592 | K13: =IF(VLOOKUP($A13,rawtable!$A$4:$U$393,5,FALSE)="",VLOOKUP($A13,rawtable!$A$4:$U$393,21,FALSE),"") | L13: =IF(VLOOKUP($A13,rawtable!$A$4:$U$393,5,FALSE)="",IF(rawtable!$AB13=".","NA",VLOOKUP($A13,rawtable!$A$4:$AG$393,33,FALSE)),"")
A14: 10 | B14: =IF(VLOOKUP(A14,rawtable!$A$4:$U$393,5,FALSE)="",VLOOKUP(A14,rawtable!$A$4:$U$393,2,FALSE),"") | C14: =IF(VLOOKUP(A14,rawtable!$A$4:$U$393,5,FALSE)="","",VLOOKUP(A14,rawtable!$A$4:$U$393,5,FALSE)) -> Yes, One side of Street | D14: =IF(VLOOKUP($A14,rawtable!$A$4:$U$393,5,FALSE)="","",VLOOKUP($A14,rawtable!$A$4:$U$393,7,FALSE)) -> 27.936 | E14: =IF(VLOOKUP($A14,rawtable!$A$4:$U$393,5,FALSE)="",VLOOKUP($A14,rawtable!$A$4:$U$393,13,FALSE),"") | F14: =IF(VLOOKUP($A14,rawtable!$A$4:$U$393,5,FALSE)="",IF(rawtable!$V14=".","NA",VLOOKUP($A14,rawtable!$A$4:$AG$393,31,FALSE)),"") | G14: =IF(VLOOKUP($A14,rawtable!$A$4:$U$393,5,FALSE)="","",VLOOKUP($A14,rawtable!$A$4:$U$393,8,FALSE)) -> 24.55 | H14: =IF(VLOOKUP($A14,rawtable!$A$4:$U$393,5,FALSE)="",VLOOKUP($A14,rawtable!$A$4:$U$393,17,FALSE),"") | I14: =IF(VLOOKUP($A14,rawtable!$A$4:$U$393,5,FALSE)="",IF(rawtable!$Y14=".","NA",VLOOKUP($A14,rawtable!$A$4:$AG$393,32,FALSE)),"") | J14: =IF(VLOOKUP($A14,rawtable!$A$4:$U$393,5,FALSE)="","",VLOOKUP($A14,rawtable!$A$4:$U$393,9,FALSE)) -> 23.752 | K14: =IF(VLOOKUP($A14,rawtable!$A$4:$U$393,5,FALSE)="",VLOOKUP($A14,rawtable!$A$4:$U$393,21,FALSE),"") | L14: =IF(VLOOKUP($A14,rawtable!$A$4:$U$393,5,FALSE)="",IF(rawtable!$AB14=".","NA",VLOOKUP($A14,rawtable!$A$4:$AG$393,33,FALSE)),"")
A15: 11 | B15: =IF(VLOOKUP(A15,rawtable!$A$4:$U$393,5,FALSE)="",VLOOKUP(A15,rawtable!$A$4:$U$393,2,FALSE),"") | C15: =IF(VLOOKUP(A15,rawtable!$A$4:$U$393,5,FALSE)="","",VLOOKUP(A15,rawtable!$A$4:$U$393,5,FALSE)) -> Yes, Both sides of Street | D15: =IF(VLOOKUP($A15,rawtable!$A$4:$U$393,5,FALSE)="","",VLOOKUP($A15,rawtable!$A$4:$U$393,7,FALSE)) -> 8.007 | E15: =IF(VLOOKUP($A15,rawtable!$A$4:$U$393,5,FALSE)="",VLOOKUP($A15,rawtable!$A$4:$U$393,13,FALSE),"") | F15: =IF(VLOOKUP($A15,rawtable!$A$4:$U$393,5,FALSE)="",IF(rawtable!$V15=".","NA",VLOOKUP($A15,rawtable!$A$4:$AG$393,31,FALSE)),"") | G15: =IF(VLOOKUP($A15,rawtable!$A$4:$U$393,5,FALSE)="","",VLOOKUP($A15,rawtable!$A$4:$U$393,8,FALSE)) -> 8.183 | H15: =IF(VLOOKUP($A15,rawtable!$A$4:$U$393,5,FALSE)="",VLOOKUP($A15,rawtable!$A$4:$U$393,17,FALSE),"") | I15: =IF(VLOOKUP($A15,rawtable!$A$4:$U$393,5,FALSE)="",IF(rawtable!$Y15=".","NA",VLOOKUP($A15,rawtable!$A$4:$AG$393,32,FALSE)),"") | J15: =IF(VLOOKUP($A15,rawtable!$A$4:$U$393,5,FALSE)="","",VLOOKUP($A15,rawtable!$A$4:$U$393,9,FALSE)) -> 6.657 | K15: =IF(VLOOKUP($A15,rawtable!$A$4:$U$393,5,FALSE)="",VLOOKUP($A15,rawtable!$A$4:$U$393,21,FALSE),"") | L15: =IF(VLOOKUP($A15,rawtable!$A$4:$U$393,5,FALSE)="",IF(rawtable!$AB15=".","NA",VLOOKUP($A15,rawtable!$A$4:$AG$393,33,FALSE)),"")
A16: 12 | B16: =IF(VLOOKUP(A16,rawtable!$A$4:$U$393,5,FALSE)="",VLOOKUP(A16,rawtable!$A$4:$U$393,2,FALSE),"") -> housing_apts | D16: =IF(VLOOKUP($A16,rawtable!$A$4:$U$393,5,FALSE)="","",VLOOKUP($A16,rawtable!$A$4:$U$393,7,FALSE)) | E16: =IF(VLOOKUP($A16,rawtable!$A$4:$U$393,5,FALSE)="",VLOOKUP($A16,rawtable!$A$4:$U$393,13,FALSE),"") -> 0.80702 | F16: =IF(VLOOKUP($A16,rawtable!$A$4:$U$393,5,FALSE)="",IF(rawtable!$V16=".","NA",VLOOKUP($A16,rawtable!$A$4:$AG$393,31,FALSE)),"") -> 0.67 (0.47, 0.83) | G16: =IF(VLOOKUP($A16,rawtable!$A$4:$U$393,5,FALSE)="","",VLOOKUP($A16,rawtable!$A$4:$U$393,8,FALSE)) | H16: =IF(VLOOKUP($A16,rawtable!$A$4:$U$393,5,FALSE)="",VLOOKUP($A16,rawtable!$A$4:$U$393,17,FALSE),"") -> 0.88235 | I16: =IF(VLOOKUP($A16,rawtable!$A$4:$U$393,5,FALSE)="",IF(rawtable!$Y16=".","NA",VLOOKUP($A16,rawtable!$A$4:$AG$393,32,FALSE)),"") -> 0.79 (0.61, 0.93) | J16: =IF(VLOOKUP($A16,rawtable!$A$4:$U$393,5,FALSE)="","",VLOOKUP($A16,rawtable!$A$4:$U$393,9,FALSE)) | K16: =IF(VLOOKUP($A16,rawtable!$A$4:$U$393,5,FALSE)="",VLOOKUP($A16,rawtable!$A$4:$U$393,21,FALSE),"") -> 0.92 | L16: =IF(VLOOKUP($A16,rawtable!$A$4:$U$393,5,FALSE)="",IF(rawtable!$AB16=".","NA",VLOOKUP($A16,rawtable!$A$4:$AG$393,33,FALSE)),"") -> 0.82 (0.68, 0.93)
A17: 13 | B17: =IF(VLOOKUP(A17,rawtable!$A$4:$U$393,5,FALSE)="",VLOOKUP(A17,rawtable!$A$4:$U$393,2,FALSE),"") | C17: =IF(VLOOKUP(A17,rawtable!$A$4:$U$393,5,FALSE)="","",VLOOKUP(A17,rawtable!$A$4:$U$393,5,FALSE)) -> Neither side of Street | D17: =IF(VLOOKUP($A17,rawtable!$A$4:$U$393,5,FALSE)="","",VLOOKUP($A17,rawtable!$A$4:$U$393,7,FALSE)) -> 67.26 | E17: =IF(VLOOKUP($A17,rawtable!$A$4:$U$393,5,FALSE)="",VLOOKUP($A17,rawtable!$A$4:$U$393,13,FALSE),"") | F17: =IF(VLOOKUP($A17,rawtable!$A$4:$U$393,5,FALSE)="",IF(rawtable!$V17=".","NA",VLOOKUP($A17,rawtable!$A$4:$AG$393,31,FALSE)),"") | G17: =IF(VLOOKUP($A17,rawtable!$A$4:$U$393,5,FALSE)="","",VLOOKUP($A17,rawtable!$A$4:$U$393,8,FALSE)) -> 71.452 | H17: =IF(VLOOKUP($A17,rawtable!$A$4:$U$393,5,FALSE)="",VLOOKUP($A17,rawtable!$A$4:$U$393,17,FALSE),"") | I17: =IF(VLOOKUP($A17,rawtable!$A$4:$U$393,5,FALSE)="",IF(rawtable!$Y17=".","NA",VLOOKUP($A17,rawtable!$A$4:$AG$393,32,FALSE)),"") | J17: =IF(VLOOKUP($A17,rawtable!$A$4:$U$393,5,FALSE)="","",VLOOKUP($A17,rawtable!$A$4:$U$393,9,FALSE)) -> 82.753 | K17: =IF(VLOOKUP($A17,rawtable!$A$4:$U$393,5,FALSE)="",VLOOKUP($A17,rawtable!$A$4:$U$393,21,FALSE),"") | L17: =IF(VLOOKUP($A17,rawtable!$A$4:$U$393,5,FALSE)="",IF(rawtable!$AB17=".","NA",VLOOKUP($A17,rawtable!$A$4:$AG$393,33,FALSE)),"")
A18: 14 | B18: =IF(VLOOKUP(A18,rawtable!$A$4:$U$393,5,FALSE)="",VLOOKUP(A18,rawtable!$A$4:$U$393,2,FALSE),"") | C18: =IF(VLOOKUP(A18,rawtable!$A$4:$U$393,5,FALSE)="","",VLOOKUP(A18,rawtable!$A$4:$U$393,5,FALSE)) -> Yes, One side of Street | D18: =IF(VLOOKUP($A18,rawtable!$A$4:$U$393,5,FALSE)="","",VLOOKUP($A18,rawtable!$A$4:$U$393,7,FALSE)) -> 27.046 | E18: =IF(VLOOKUP($A18,rawtable!$A$4:$U$393,5,FALSE)="",VLOOKUP($A18,rawtable!$A$4:$U$393,13,FALSE),"") | F18: =IF(VLOOKUP($A18,rawtable!$A$4:$U$393,5,FALSE)="",IF(rawtable!$V18=".","NA",VLOOKUP($A18,rawtable!$A$4:$AG$393,31,FALSE)),"") | G18: =IF(VLOOKUP($A18,rawtable!$A$4:$U$393,5,FALSE)="","",VLOOKUP($A18,rawtable!$A$4:$U$393,8,FALSE)) -> 22.838 | H18: =IF(VLOOKUP($A18,rawtable!$A$4:$U$393,5,FALSE)="",VLOOKUP($A18,rawtable!$A$4:$U$393,17,FALSE),"") | I18: =IF(VLOOKUP($A18,rawtable!$A$4:$U$393,5,FALSE)="",IF(rawtable!$Y18=".","NA",VLOOKUP($A18,rawtable!$A$4:$AG$393,32,FALSE)),"") | J18: =IF(VLOOKUP($A18,rawtable!$A$4:$U$393,5,FALSE)="","",VLOOKUP($A18,rawtable!$A$4:$U$393,9,FALSE)) -> 14.675 | K18: =IF(VLOOKUP($A18,rawtable!$A$4:$U$393,5,FALSE)="",VLOOKUP($A18,rawtable!$A$4:$U$393,21,FALSE),"") | L18: =IF(VLOOKUP($A18,rawtable!$A$4:$U$393,5,FALSE)="",IF(rawtable!$AB18=".","NA",VLOOKUP($A18,rawtable!$A$4:$AG$393,33,FALSE)),"")
A19: 15 | B19: =IF(VLOOKUP(A19,rawtable!$A$4:$U$393,5,FALSE)="",VLOOKUP(A19,rawtable!$A$4:$U$393,2,FALSE),"") | C19: =IF(VLOOKUP(A19,rawtable!$A$4:$U$393,5,FALSE)="","",VLOOKUP(A19,rawtable!$A$4:$U$393,5,FALSE)) -> Yes, Both sides of Street | D19: =IF(VLOOKUP($A19,rawtable!$A$4:$U$393,5,FALSE)="","",VLOOKUP($A19,rawtable!$A$4:$U$393,7,FALSE)) -> 5.694 | E19: =IF(VLOOKUP($A19,rawtable!$A$4:$U$393,5,FALSE)="",VLOOKUP($A19,rawtable!$A$4:$U$393,13,FALSE),"") | F19: =IF(VLOOKUP($A19,rawtable!$A$4:$U$393,5,FALSE)="",IF(rawtable!$V19=".","NA",VLOOKUP($A19,rawtable!$A$4:$AG$393,31,FALSE)),"") | G19: =IF(VLOOKUP($A19,rawtable!$A$4:$U$393,5,FALSE)="","",VLOOKUP($A19,rawtable!$A$4:$U$393,8,FALSE)) -> 5.71 | H19: =IF(VLOOKUP($A19,rawtable!$A$4:$U$393,5,FALSE)="",VLOOKUP($A19,rawtable!$A$4:$U$393,17,FALSE),"") | I19: =IF(VLOOKUP($A19,rawtable!$A$4:$U$393,5,FALSE)="",IF(rawtable!$Y19=".","NA",VLOOKUP($A19,rawtable!$A$4:$AG$393,32,FALSE)),"") | J19: =IF(VLOOKUP($A19,rawtable!$A$4:$U$393,5,FALSE)="","",VLOOKUP($A19,rawtable!$A$4:$U$393,9,FALSE)) -> 2.572 | K19: =IF(VLOOKUP($A19,rawtable!$A$4:$U$393,5,FALSE)="",VLOOKUP($A19,rawtable!$A$4:$U$393,21,FALSE),"") | L19: =IF(VLOOKUP($A19,rawtable!$A$4:$U$393,5,FALSE)="",IF(rawtable!$AB19=".","NA",VLOOKUP($A19,rawtable!$A$4:$AG$393,33,FALSE)),"")
A20: 16 | B20: =IF(VLOOKUP(A20,rawtable!$A$4:$U$393,5,FALSE)="",VLOOKUP(A20,rawtable!$A$4:$U$393,2,FALSE),"") -> public_civic | D20: =IF(VLOOKUP($A20,rawtable!$A$4:$U$393,5,FALSE)="","",VLOOKUP($A20,rawtable!$A$4:$U$393,7,FALSE)) | E20: =IF(VLOOKUP($A20,rawtable!$A$4:$U$393,5,FALSE)="",VLOOKUP($A20,rawtable!$A$4:$U$393,13,FALSE),"") -> 0.89831 | F20: =IF(VLOOKUP($A20,rawtable!$A$4:$U$393,5,FALSE)="",IF(rawtable!$V20=".","NA",VLOOKUP($A20,rawtable!$A$4:$AG$393,31,FALSE)),"") -> 0.52 (0.12, 0.84) | G20: =IF(VLOOKUP($A20,rawtable!$A$4:$U$393,5,FALSE)="","",VLOOKUP($A20,rawtable!$A$4:$U$393,8,FALSE)) | H20: =IF(VLOOKUP($A20,rawtable!$A$4:$U$393,5,FALSE)="",VLOOKUP($A20,rawtable!$A$4:$U$393,17,FALSE),"") -> 0.97917 | I20: =IF(VLOOKUP($A20,rawtable!$A$4:$U$393,5,FALSE)="",IF(rawtable!$Y20=".","NA",VLOOKUP($A20,rawtable!$A$4:$AG$393,32,FALSE)),"") -> 0.88 (0.65, 1.00) | J20: =IF(VLOOKUP($A20,rawtable!$A$4:$U$393,5,FALSE)="","",VLOOKUP($A20,rawtable!$A$4:$U$393,9,FALSE)) | K20: =IF(VLOOKUP($A20,rawtable!$A$4:$U$393,5,FALSE)="",VLOOKUP($A20,rawtable!$A$4:$U$393,21,FALSE),"") -> 0.97 | L20: =IF(VLOOKUP($A20,rawtable!$A$4:$U$393,5,FALSE)="",IF(rawtable!$AB20=".","NA",VLOOKUP($A20,rawtable!$A$4:$AG$393,33,FALSE)),"") -> 0.56 (-0.03, 1.00)
A21: 17 | B21: =IF(VLOOKUP(A21,rawtable!$A$4:$U$393,5,FALSE)="",VLOOKUP(A21,rawtable!$A$4:$U$393,2,FALSE),"") | C21: =IF(VLOOKUP(A21,rawtable!$A$4:$U$393,5,FALSE)="","",VLOOKUP(A21,rawtable!$A$4:$U$393,5,FALSE)) -> Neither side of Street | D21: =IF(VLOOKUP($A21,rawtable!$A$4:$U$393,5,FALSE)="","",VLOOKUP($A21,rawtable!$A$4:$U$393,7,FALSE)) -> 92.362 | E21: =IF(VLOOKUP($A21,rawtable!$A$4:$U$393,5,FALSE)="",VLOOKUP($A21,rawtable!$A$4:$U$393,13,FALSE),"") | F21: =IF(VLOOKUP($A21,rawtable!$A$4:$U$393,5,FALSE)="",IF(rawtable!$V21=".","NA",VLOOKUP($A21,rawtable!$A$4:$AG$393,31,FALSE)),"") | G21: =IF(VLOOKUP($A21,rawtable!$A$4:$U$393,5,FALSE)="","",VLOOKUP($A21,rawtable!$A$4:$U$393,8,FALSE)) -> 94.059 | H21: =IF(VLOOKUP($A21,rawtable!$A$4:$U$393,5,FALSE)="",VLOOKUP($A21,rawtable!$A$4:$U$393,17,FALSE),"") | I21: =IF(VLOOKUP($A21,rawtable!$A$4:$U$393,5,FALSE)="",IF(rawtable!$Y21=".","NA",VLOOKUP($A21,rawtable!$A$4:$AG$393,32,FALSE)),"") | J21: =IF(VLOOKUP($A21,rawtable!$A$4:$U$393,5,FALSE)="","",VLOOKUP($A21,rawtable!$A$4:$U$393,9,FALSE)) -> 96.067 | K21: =IF(VLOOKUP($A21,rawtable!$A$4:$U$393,5,FALSE)="",VLOOKUP($A21,rawtable!$A$4:$U$393,21,FALSE),"") | L21: =IF(VLOOKUP($A21,rawtable!$A$4:$U$393,5,FALSE)="",IF(rawtable!$AB21=".","NA",VLOOKUP($A21,rawtable!$A$4:$AG$393,33,FALSE)),"")
A22: 18 | B22: =IF(VLOOKUP(A22,rawtable!$A$4:$U$393,5,FALSE)="",VLOOKUP(A22,rawtable!$A$4:$U$393,2,FALSE),"") | C22: =IF(VLOOKUP(A22,rawtable!$A$4:$U$393,5,FALSE)="","",VLOOKUP(A22,rawtable!$A$4:$U$393,5,FALSE)) -> Yes, One side of Street | D22: =IF(VLOOKUP($A22,rawtable!$A$4:$U$393,5,FALSE)="","",VLOOKUP($A22,rawtable!$A$4:$U$393,7,FALSE)) -> 7.282 | E22: =IF(VLOOKUP($A22,rawtable!$A$4:$U$393,5,FALSE)="",VLOOKUP($A22,rawtable!$A$4:$U$393,13,FALSE),"") | F22: =IF(VLOOKUP($A22,rawtable!$A$4:$U$393,5,FALSE)="",IF(rawtable!$V22=".","NA",VLOOKUP($A22,rawtable!$A$4:$AG$393,31,FALSE)),"") | G22: =IF(VLOOKUP($A22,rawtable!$A$4:$U$393,5,FALSE)="","",VLOOKUP($A22,rawtable!$A$4:$U$393,8,FALSE)) -> 5.446 | H22: =IF(VLOOKUP($A22,rawtable!$A$4:$U$393,5,FALSE)="",VLOOKUP($A22,rawtable!$A$4:$U$393,17,FALSE),"") | I22: =IF(VLOOKUP($A22,rawtable!$A$4:$U$393,5,FALSE)="",IF(rawtable!$Y22=".","NA",VLOOKUP($A22,rawtable!$A$4:$AG$393,32,FALSE)),"") | J22: =IF(VLOOKUP($A22,rawtable!$A$4:$U$393,5,FALSE)="","",VLOOKUP($A22,rawtable!$A$4:$U$393,9,FALSE)) -> 3.933 | K22: =IF(VLOOKUP($A22,rawtable!$A$4:$U$393,5,FALSE)="",VLOOKUP($A22,rawtable!$A$4:$U$393,21,FALSE),"") | L22: =IF(VLOOKUP($A22,rawtable!$A$4:$U$393,5,FALSE)="",IF(rawtable!$AB22=".","NA",VLOOKUP($A22,rawtable!$A$4:$AG$393,33,FALSE)),"")
A23: 19 | B23: =IF(VLOOKUP(A23,rawtable!$A$4:$U$393,5,FALSE)="",VLOOKUP(A23,rawtable!$A$4:$U$393,2,FALSE),"") | C23: =IF(VLOOKUP(A23,rawtable!$A$4:$U$393,5,FALSE)="","",VLOOKUP(A23,rawtable!$A$4:$U$393,5,FALSE)) -> Yes, Both sides of Street | D23: =IF(VLOOKUP($A23,rawtable!$A$4:$U$393,5,FALSE)="","",VLOOKUP($A23,rawtable!$A$4:$U$393,7,FALSE)) -> 0.355 | E23: =IF(VLOOKUP($A23,rawtable!$A$4:$U$393,5,FALSE)="",VLOOKUP($A23,rawtable!$A$4:$U$393,13,FALSE),"") | F23: =IF(VLOOKUP($A23,rawtable!$A$4:$U$393,5,FALSE)="",IF(rawtable!$V23=".","NA",VLOOKUP($A23,rawtable!$A$4:$AG$393,31,FALSE)),"") | G23: =IF(VLOOKUP($A23,rawtable!$A$4:$U$393,5,FALSE)="","",VLOOKUP($A23,rawtable!$A$4:$U$393,8,FALSE)) -> 0.495 | H23: =IF(VLOOKUP($A23,rawtable!$A$4:$U$393,5,FALSE)="",VLOOKUP($A23,rawtable!$A$4:$U$393,17,FALSE),"") | I23: =IF(VLOOKUP($A23,rawtable!$A$4:$U$393,5,FALSE)="",IF(rawtable!$Y23=".","NA",VLOOKUP($A23,rawtable!$A$4:$AG$393,32,FALSE)),"") | J23: =IF(VLOOKUP($A23,rawtable!$A$4:$U$393,5,FALSE)="","",VLOOKUP($A23,rawtable!$A$4:$U$393,9,FALSE)) -> 0 | K23: =IF(VLOOKUP($A23,rawtable!$A$4:$U$393,5,FALSE)="",VLOOKUP($A23,rawtable!$A$4:$U$393,21,FALSE),"") | L23: =IF(VLOOKUP($A23,rawtable!$A$4:$U$393,5,FALSE)="",IF(rawtable!$AB23=".","NA",VLOOKUP($A23,rawtable!$A$4:$AG$393,33,FALSE)),"")
A24: 20 | B24: =IF(VLOOKUP(A24,rawtable!$A$4:$U$393,5,FALSE)="",VLOOKUP(A24,rawtable!$A$4:$U$393,2,FALSE),"") -> office_professional | D24: =IF(VLOOKUP($A24,rawtable!$A$4:$U$393,5,FALSE)="","",VLOOKUP($A24,rawtable!$A$4:$U$393,7,FALSE)) | E24: =IF(VLOOKUP($A24,rawtable!$A$4:$U$393,5,FALSE)="",VLOOKUP($A24,rawtable!$A$4:$U$393,13,FALSE),"") -> 0.81356 | F24: =IF(VLOOKUP($A24,rawtable!$A$4:$U$393,5,FALSE)="",IF(rawtable!$V24=".","NA",VLOOKUP($A24,rawtable!$A$4:$AG$393,31,FALSE)),"") -> 0.37 (0.01, 0.70) | G24: =IF(VLOOKUP($A24,rawtable!$A$4:$U$393,5,FALSE)="","",VLOOKUP($A24,rawtable!$A$4:$U$393,8,FALSE)) | H24: =IF(VLOOKUP($A24,rawtable!$A$4:$U$393,5,FALSE)="",VLOOKUP($A24,rawtable!$A$4:$U$393,17,FALSE),"") -> 0.95833 | I24: =IF(VLOOKUP($A24,rawtable!$A$4:$U$393,5,FALSE)="",IF(rawtable!$Y24=".","NA",VLOOKUP($A24,rawtable!$A$4:$AG$393,32,FALSE)),"") -> -0.01 (-1.00, 1.00) | J24: =IF(VLOOKUP($A24,rawtable!$A$4:$U$393,5,FALSE)="","",VLOOKUP($A24,rawtable!$A$4:$U$393,9,FALSE)) | K24: =IF(VLOOKUP($A24,rawtable!$A$4:$U$393,5,FALSE)="",VLOOKUP($A24,rawtable!$A$4:$U$393,21,FALSE),"") -> 0.99 | L24: =IF(VLOOKUP($A24,rawtable!$A$4:$U$393,5,FALSE)="",IF(rawtable!$AB24=".","NA",VLOOKUP($A24,rawtable!$A$4:$AG$393,33,FALSE)),"") -> 0.00 (-1.00, 1.00)
A25: 21 | B25: =IF(VLOOKUP(A25,rawtable!$A$4:$U$393,5,FALSE)="",VLOOKUP(A25,rawtable!$A$4:$U$393,2,FALSE),"") | C25: =IF(VLOOKUP(A25,rawtable!$A$4:$U$393,5,FALSE)="","",VLOOKUP(A25,rawtable!$A$4:$U$393,5,FALSE)) -> Neither side of Street | D25: =IF(VLOOKUP($A25,rawtable!$A$4:$U$393,5,FALSE)="","",VLOOKUP($A25,rawtable!$A$4:$U$393,7,FALSE)) -> 95.204 | E25: =IF(VLOOKUP($A25,rawtable!$A$4:$U$393,5,FALSE)="",VLOOKUP($A25,rawtable!$A$4:$U$393,13,FALSE),"") | F25: =IF(VLOOKUP($A25,rawtable!$A$4:$U$393,5,FALSE)="",IF(rawtable!$V25=".","NA",VLOOKUP($A25,rawtable!$A$4:$AG$393,31,FALSE)),"") | G25: =IF(VLOOKUP($A25,rawtable!$A$4:$U$393,5,FALSE)="","",VLOOKUP($A25,rawtable!$A$4:$U$393,8,FALSE)) -> 96.552 | H25: =IF(VLOOKUP($A25,rawtable!$A$4:$U$393,5,FALSE)="",VLOOKUP($A25,rawtable!$A$4:$U$393,17,FALSE),"") | I25: =IF(VLOOKUP($A25,rawtable!$A$4:$U$393,5,FALSE)="",IF(rawtable!$Y25=".","NA",VLOOKUP($A25,rawtable!$A$4:$AG$393,32,FALSE)),"") | J25: =IF(VLOOKUP($A25,rawtable!$A$4:$U$393,5,FALSE)="","",VLOOKUP($A25,rawtable!$A$4:$U$393,9,FALSE)) -> 99.092 | K25: =IF(VLOOKUP($A25,rawtable!$A$4:$U$393,5,FALSE)="",VLOOKUP($A25,rawtable!$A$4:$U$393,21,FALSE),"") | L25: =IF(VLOOKUP($A25,rawtable!$A$4:$U$393,5,FALSE)="",IF(rawtable!$AB25=".","NA",VLOOKUP($A25,rawtable!$A$4:$AG$393,33,FALSE)),"")
A26: 22 | B26: =IF(VLOOKUP(A26,rawtable!$A$4:$U$393,5,FALSE)="",VLOOKUP(A26,rawtable!$A$4:$U$393,2,FALSE),"") | C26: =IF(VLOOKUP(A26,rawtable!$A$4:$U$393,5,FALSE)="","",VLOOKUP(A26,rawtable!$A$4:$U$393,5,FALSE)) -> Yes, One side of Street | D26: =IF(VLOOKUP($A26,rawtable!$A$4:$U$393,5,FALSE)="","",VLOOKUP($A26,rawtable!$A$4:$U$393,7,FALSE)) -> 4.085 | E26: =IF(VLOOKUP($A26,rawtable!$A$4:$U$393,5,FALSE)="",VLOOKUP($A26,rawtable!$A$4:$U$393,13,FALSE),"") | F26: =IF(VLOOKUP($A26,rawtable!$A$4:$U$393,5,FALSE)="",IF(rawtable!$V26=".","NA",VLOOKUP($A26,rawtable!$A$4:$AG$393,31,FALSE)),"") | G26: =IF(VLOOKUP($A26,rawtable!$A$4:$U$393,5,FALSE)="","",VLOOKUP($A26,rawtable!$A$4:$U$393,8,FALSE)) -> 3.284 | H26: =IF(VLOOKUP($A26,rawtable!$A$4:$U$393,5,FALSE)="",VLOOKUP($A26,rawtable!$A$4:$U$393,17,FALSE),"") | I26: =IF(VLOOKUP($A26,rawtable!$A$4:$U$393,5,FALSE)="",IF(rawtable!$Y26=".","NA",VLOOKUP($A26,rawtable!$A$4:$AG$393,32,FALSE)),"") | J26: =IF(VLOOKUP($A26,rawtable!$A$4:$U$393,5,FALSE)="","",VLOOKUP($A26,rawtable!$A$4:$U$393,9,FALSE)) -> 0.756 | K26: =IF(VLOOKUP($A26,rawtable!$A$4:$U$393,5,FALSE)="",VLOOKUP($A26,rawtable!$A$4:$U$393,21,FALSE),"") | L26: =IF(VLOOKUP($A26,rawtable!$A$4:$U$393,5,FALSE)="",IF(rawtable!$AB26=".","NA",VLOOKUP($A26,rawtable!$A$4:$AG$393,33,FALSE)),"")
A27: 23 | B27: =IF(VLOOKUP(A27,rawtable!$A$4:$U$393,5,FALSE)="",VLOOKUP(A27,rawtable!$A$4:$U$393,2,FALSE),"") | C27: =IF(VLOOKUP(A27,rawtable!$A$4:$U$393,5,FALSE)="","",VLOOKUP(A27,rawtable!$A$4:$U$393,5,FALSE)) -> Yes, Both sides of Street | D27: =IF(VLOOKUP($A27,rawtable!$A$4:$U$393,5,FALSE)="","",VLOOKUP($A27,rawtable!$A$4:$U$393,7,FALSE)) -> 0.71 | E27: =IF(VLOOKUP($A27,rawtable!$A$4:$U$393,5,FALSE)="",VLOOKUP($A27,rawtable!$A$4:$U$393,13,FALSE),"") | F27: =IF(VLOOKUP($A27,rawtable!$A$4:$U$393,5,FALSE)="",IF(rawtable!$V27=".","NA",VLOOKUP($A27,rawtable!$A$4:$AG$393,31,FALSE)),"") | G27: =IF(VLOOKUP($A27,rawtable!$A$4:$U$393,5,FALSE)="","",VLOOKUP($A27,rawtable!$A$4:$U$393,8,FALSE)) -> 0.164 | H27: =IF(VLOOKUP($A27,rawtable!$A$4:$U$393,5,FALSE)="",VLOOKUP($A27,rawtable!$A$4:$U$393,17,FALSE),"") | I27: =IF(VLOOKUP($A27,rawtable!$A$4:$U$393,5,FALSE)="",IF(rawtable!$Y27=".","NA",VLOOKUP($A27,rawtable!$A$4:$AG$393,32,FALSE)),"") | J27: =IF(VLOOKUP($A27,rawtable!$A$4:$U$393,5,FALSE)="","",VLOOKUP($A27,rawtable!$A$4:$U$393,9,FALSE)) -> 0.151 | K27: =IF(VLOOKUP($A27,rawtable!$A$4:$U$393,5,FALSE)="",VLOOKUP($A27,rawtable!$A$4:$U$393,21,FALSE),"") | L27: =IF(VLOOKUP($A27,rawtable!$A$4:$U$393,5,FALSE)="",IF(rawtable!$AB27=".","NA",VLOOKUP($A27,rawtable!$A$4:$AG$393,33,FALSE)),"")
A28: 24 | B28: =IF(VLOOKUP(A28,rawtable!$A$4:$U$393,5,FALSE)="",VLOOKUP(A28,rawtable!$A$4:$U$393,2,FALSE),"") -> institutional | D28: =IF(VLOOKUP($A28,rawtable!$A$4:$U$393,5,FALSE)="","",VLOOKUP($A28,rawtable!$A$4:$U$393,7,FALSE)) | E28: =IF(VLOOKUP($A28,rawtable!$A$4:$U$393,5,FALSE)="",VLOOKUP($A28,rawtable!$A$4:$U$393,13,FALSE),"") -> 0.89655 | F28: =IF(VLOOKUP($A28,rawtable!$A$4:$U$393,5,FALSE)="",IF(rawtable!$V28=".","NA",VLOOKUP($A28,rawtable!$A$4:$AG$393,31,FALSE)),"") -> 0.75 (0.55, 0.92) | G28: =IF(VLOOKUP($A28,rawtable!$A$4:$U$393,5,FALSE)="","",VLOOKUP($A28,rawtable!$A$4:$U$393,8,FALSE)) | H28: =IF(VLOOKUP($A28,rawtable!$A$4:$U$393,5,FALSE)="",VLOOKUP($A28,rawtable!$A$4:$U$393,17,FALSE),"") -> 0.9 | I28: =IF(VLOOKUP($A28,rawtable!$A$4:$U$393,5,FALSE)="",IF(rawtable!$Y28=".","NA",VLOOKUP($A28,rawtable!$A$4:$AG$393,32,FALSE)),"") -> 0.77 (0.54, 0.91) | J28: =IF(VLOOKUP($A28,rawtable!$A$4:$U$393,5,FALSE)="","",VLOOKUP($A28,rawtable!$A$4:$U$393,9,FALSE)) | K28: =IF(VLOOKUP($A28,rawtable!$A$4:$U$393,5,FALSE)="",VLOOKUP($A28,rawtable!$A$4:$U$393,21,FALSE),"") -> 0.96 | L28: =IF(VLOOKUP($A28,rawtable!$A$4:$U$393,5,FALSE)="",IF(rawtable!$AB28=".","NA",VLOOKUP($A28,rawtable!$A$4:$AG$393,33,FALSE)),"") -> 0.73 (0.45, 0.93)
A29: 25 | B29: =IF(VLOOKUP(A29,rawtable!$A$4:$U$393,5,FALSE)="",VLOOKUP(A29,rawtable!$A$4:$U$393,2,FALSE),"") | C29: =IF(VLOOKUP(A29,rawtable!$A$4:$U$393,5,FALSE)="","",VLOOKUP(A29,rawtable!$A$4:$U$393,5,FALSE)) -> Neither side of Street | D29: =IF(VLOOKUP($A29,rawtable!$A$4:$U$393,5,FALSE)="","",VLOOKUP($A29,rawtable!$A$4:$U$393,7,FALSE)) -> 80.214 | E29: =IF(VLOOKUP($A29,rawtable!$A$4:$U$393,5,FALSE)="",VLOOKUP($A29,rawtable!$A$4:$U$393,13,FALSE),"") | F29: =IF(VLOOKUP($A29,rawtable!$A$4:$U$393,5,FALSE)="",IF(rawtable!$V29=".","NA",VLOOKUP($A29,rawtable!$A$4:$AG$393,31,FALSE)),"") | G29: =IF(VLOOKUP($A29,rawtable!$A$4:$U$393,5,FALSE)="","",VLOOKUP($A29,rawtable!$A$4:$U$393,8,FALSE)) -> 82.68 | H29: =IF(VLOOKUP($A29,rawtable!$A$4:$U$393,5,FALSE)="",VLOOKUP($A29,rawtable!$A$4:$U$393,17,FALSE),"") | I29: =IF(VLOOKUP($A29,rawtable!$A$4:$U$393,5,FALSE)="",IF(rawtable!$Y29=".","NA",VLOOKUP($A29,rawtable!$A$4:$AG$393,32,FALSE)),"") | J29: =IF(VLOOKUP($A29,rawtable!$A$4:$U$393,5,FALSE)="","",VLOOKUP($A29,rawtable!$A$4:$U$393,9,FALSE)) -> 89.259 | K29: =IF(VLOOKUP($A29,rawtable!$A$4:$U$393,5,FALSE)="",VLOOKUP($A29,rawtable!$A$4:$U$393,21,FALSE),"") | L29: =IF(VLOOKUP($A29,rawtable!$A$4:$U$393,5,FALSE)="",IF(rawtable!$AB29=".","NA",VLOOKUP($A29,rawtable!$A$4:$AG$393,33,FALSE)),"")
A30: 26 | B30: =IF(VLOOKUP(A30,rawtable!$A$4:$U$393,5,FALSE)="",VLOOKUP(A30,rawtable!$A$4:$U$393,2,FALSE),"") | C30: =IF(VLOOKUP(A30,rawtable!$A$4:$U$393,5,FALSE)="","",VLOOKUP(A30,rawtable!$A$4:$U$393,5,FALSE)) -> Yes, One side of Street | D30: =IF(VLOOKUP($A30,rawtable!$A$4:$U$393,5,FALSE)="","",VLOOKUP($A30,rawtable!$A$4:$U$393,7,FALSE)) -> 18.004 | E30: =IF(VLOOKUP($A30,rawtable!$A$4:$U$393,5,FALSE)="",VLOOKUP($A30,rawtable!$A$4:$U$393,13,FALSE),"") | F30: =IF(VLOOKUP($A30,rawtable!$A$4:$U$393,5,FALSE)="",IF(rawtable!$V30=".","NA",VLOOKUP($A30,rawtable!$A$4:$AG$393,31,FALSE)),"") | G30: =IF(VLOOKUP($A30,rawtable!$A$4:$U$393,5,FALSE)="","",VLOOKUP($A30,rawtable!$A$4:$U$393,8,FALSE)) -> 15.686 | H30: =IF(VLOOKUP($A30,rawtable!$A$4:$U$393,5,FALSE)="",VLOOKUP($A30,rawtable!$A$4:$U$393,17,FALSE),"") | I30: =IF(VLOOKUP($A30,rawtable!$A$4:$U$393,5,FALSE)="",IF(rawtable!$Y30=".","NA",VLOOKUP($A30,rawtable!$A$4:$AG$393,32,FALSE)),"") | J30: =IF(VLOOKUP($A30,rawtable!$A$4:$U$393,5,FALSE)="","",VLOOKUP($A30,rawtable!$A$4:$U$393,9,FALSE)) -> 9.38 | K30: =IF(VLOOKUP($A30,rawtable!$A$4:$U$393,5,FALSE)="",VLOOKUP($A30,rawtable!$A$4:$U$393,21,FALSE),"") | L30: =IF(VLOOKUP($A30,rawtable!$A$4:$U$393,5,FALSE)="",IF(rawtable!$AB30=".","NA",VLOOKUP($A30,rawtable!$A$4:$AG$393,33,FALSE)),"")
A31: 27 | B31: =IF(VLOOKUP(A31,rawtable!$A$4:$U$393,5,FALSE)="",VLOOKUP(A31,rawtable!$A$4:$U$393,2,FALSE),"") | C31: =IF(VLOOKUP(A31,rawtable!$A$4:$U$393,5,FALSE)="","",VLOOKUP(A31,rawtable!$A$4:$U$393,5,FALSE)) -> Yes, Both sides of Street | D31: =IF(VLOOKUP($A31,rawtable!$A$4:$U$393,5,FALSE)="","",VLOOKUP($A31,rawtable!$A$4:$U$393,7,FALSE)) -> 1.783 | E31: =IF(VLOOKUP($A31,rawtable!$A$4:$U$393,5,FALSE)="",VLOOKUP($A31,rawtable!$A$4:$U$393,13,FALSE),"") | F31: =IF(VLOOKUP($A31,rawtable!$A$4:$U$393,5,FALSE)="",IF(rawtable!$V31=".","NA",VLOOKUP($A31,rawtable!$A$4:$AG$393,31,FALSE)),"") | G31: =IF(VLOOKUP($A31,rawtable!$A$4:$U$393,5,FALSE)="","",VLOOKUP($A31,rawtable!$A$4:$U$393,8,FALSE)) -> 1.634 | H31: =IF(VLOOKUP($A31,rawtable!$A$4:$U$393,5,FALSE)="",VLOOKUP($A31,rawtable!$A$4:$U$393,17,FALSE),"") | I31: =IF(VLOOKUP($A31,rawtable!$A$4:$U$393,5,FALSE)="",IF(rawtable!$Y31=".","NA",VLOOKUP($A31,rawtable!$A$4:$AG$393,32,FALSE)),"") | J31: =IF(VLOOKUP($A31,rawtable!$A$4:$U$393,5,FALSE)="","",VLOOKUP($A31,rawtable!$A$4:$U$393,9,FALSE)) -> 1.362 | K31: =IF(VLOOKUP($A31,rawtable!$A$4:$U$393,5,FALSE)="",VLOOKUP($A31,rawtable!$A$4:$U$393,21,FALSE),"") | L31: =IF(VLOOKUP($A31,rawtable!$A$4:$U$393,5,FALSE)="",IF(rawtable!$AB31=".","NA",VLOOKUP($A31,rawtable!$A$4:$AG$393,33,FALSE)),"")
A32: 28 | B32: =IF(VLOOKUP(A32,rawtable!$A$4:$U$393,5,FALSE)="",VLOOKUP(A32,rawtable!$A$4:$U$393,2,FALSE),"") -> service | D32: =IF(VLOOKUP($A32,rawtable!$A$4:$U$393,5,FALSE)="","",VLOOKUP($A32,rawtable!$A$4:$U$393,7,FALSE)) | E32: =IF(VLOOKUP($A32,rawtable!$A$4:$U$393,5,FALSE)="",VLOOKUP($A32,rawtable!$A$4:$U$393,13,FALSE),"") -> 0.82759 | F32: =IF(VLOOKUP($A32,rawtable!$A$4:$U$393,5,FALSE)="",IF(rawtable!$V32=".","NA",VLOOKUP($A32,rawtable!$A$4:$AG$393,31,FALSE)),"") -> 0.44 (0.08, 0.76) | G32: =IF(VLOOKUP($A32,rawtable!$A$4:$U$393,5,FALSE)="","",VLOOKUP($A32,rawtable!$A$4:$U$393,8,FALSE)) | H32: =IF(VLOOKUP($A32,rawtable!$A$4:$U$393,5,FALSE)="",VLOOKUP($A32,rawtable!$A$4:$U$393,17,FALSE),"") -> 0.9 | I32: =IF(VLOOKUP($A32,rawtable!$A$4:$U$393,5,FALSE)="",IF(rawtable!$Y32=".","NA",VLOOKUP($A32,rawtable!$A$4:$AG$393,32,FALSE)),"") -> 0.78 (0.57, 0.95) | J32: =IF(VLOOKUP($A32,rawtable!$A$4:$U$393,5,FALSE)="","",VLOOKUP($A32,rawtable!$A$4:$U$393,9,FALSE)) | K32: =IF(VLOOKUP($A32,rawtable!$A$4:$U$393,5,FALSE)="",VLOOKUP($A32,rawtable!$A$4:$U$393,21,FALSE),"") -> 0.87 | L32: =IF(VLOOKUP($A32,rawtable!$A$4:$U$393,5,FALSE)="",IF(rawtable!$AB32=".","NA",VLOOKUP($A32,rawtable!$A$4:$AG$393,33,FALSE)),"") -> 0.62 (0.39, 0.81)
A33: 29 | B33: =IF(VLOOKUP(A33,rawtable!$A$4:$U$393,5,FALSE)="",VLOOKUP(A33,rawtable!$A$4:$U$393,2,FALSE),"") | C33: =IF(VLOOKUP(A33,rawtable!$A$4:$U$393,5,FALSE)="","",VLOOKUP(A33,rawtable!$A$4:$U$393,5,FALSE)) -> Neither side of Street | D33: =IF(VLOOKUP($A33,rawtable!$A$4:$U$393,5,FALSE)="","",VLOOKUP($A33,rawtable!$A$4:$U$393,7,FALSE)) -> 85.943 | E33: =IF(VLOOKUP($A33,rawtable!$A$4:$U$393,5,FALSE)="",VLOOKUP($A33,rawtable!$A$4:$U$393,13,FALSE),"") | F33: =IF(VLOOKUP($A33,rawtable!$A$4:$U$393,5,FALSE)="",IF(rawtable!$V33=".","NA",VLOOKUP($A33,rawtable!$A$4:$AG$393,31,FALSE)),"") | G33: =IF(VLOOKUP($A33,rawtable!$A$4:$U$393,5,FALSE)="","",VLOOKUP($A33,rawtable!$A$4:$U$393,8,FALSE)) -> 83.633 | H33: =IF(VLOOKUP($A33,rawtable!$A$4:$U$393,5,FALSE)="",VLOOKUP($A33,rawtable!$A$4:$U$393,17,FALSE),"") | I33: =IF(VLOOKUP($A33,rawtable!$A$4:$U$393,5,FALSE)="",IF(rawtable!$Y33=".","NA",VLOOKUP($A33,rawtable!$A$4:$AG$393,32,FALSE)),"") | J33: =IF(VLOOKUP($A33,rawtable!$A$4:$U$393,5,FALSE)="","",VLOOKUP($A33,rawtable!$A$4:$U$393,9,FALSE)) -> 90.318 | K33: =IF(VLOOKUP($A33,rawtable!$A$4:$U$393,5,FALSE)="",VLOOKUP($A33,rawtable!$A$4:$U$393,21,FALSE),"") | L33: =IF(VLOOKUP($A33,rawtable!$A$4:$U$393,5,FALSE)="",IF(rawtable!$AB33=".","NA",VLOOKUP($A33,rawtable!$A$4:$AG$393,33,FALSE)),"")
A34: 30 | B34: =IF(VLOOKUP(A34,rawtable!$A$4:$U$393,5,FALSE)="",VLOOKUP(A34,rawtable!$A$4:$U$393,2,FALSE),"") | C34: =IF(VLOOKUP(A34,rawtable!$A$4:$U$393,5,FALSE)="","",VLOOKUP(A34,rawtable!$A$4:$U$393,5,FALSE)) -> Yes, One side of Street | D34: =IF(VLOOKUP($A34,rawtable!$A$4:$U$393,5,FALSE)="","",VLOOKUP($A34,rawtable!$A$4:$U$393,7,FALSE)) -> 11.922 | E34: =IF(VLOOKUP($A34,rawtable!$A$4:$U$393,5,FALSE)="",VLOOKUP($A34,rawtable!$A$4:$U$393,13,FALSE),"") | F34: =IF(VLOOKUP($A34,rawtable!$A$4:$U$393,5,FALSE)="",IF(rawtable!$V34=".","NA",VLOOKUP($A34,rawtable!$A$4:$AG$393,31,FALSE)),"") | G34: =IF(VLOOKUP($A34,rawtable!$A$4:$U$393,5,FALSE)="","",VLOOKUP($A34,rawtable!$A$4:$U$393,8,FALSE)) -> 15.057 | H34: =IF(VLOOKUP($A34,rawtable!$A$4:$U$393,5,FALSE)="",VLOOKUP($A34,rawtable!$A$4:$U$393,17,FALSE),"") | I34: =IF(VLOOKUP($A34,rawtable!$A$4:$U$393,5,FALSE)="",IF(rawtable!$Y34=".","NA",VLOOKUP($A34,rawtable!$A$4:$AG$393,32,FALSE)),"") | J34: =IF(VLOOKUP($A34,rawtable!$A$4:$U$393,5,FALSE)="","",VLOOKUP($A34,rawtable!$A$4:$U$393,9,FALSE)) -> 8.926 | K34: =IF(VLOOKUP($A34,rawtable!$A$4:$U$393,5,FALSE)="",VLOOKUP($A34,rawtable!$A$4:$U$393,21,FALSE),"") | L34: =IF(VLOOKUP($A34,rawtable!$A$4:$U$393,5,FALSE)="",IF(rawtable!$AB34=".","NA",VLOOKUP($A34,rawtable!$A$4:$AG$393,33,FALSE)),"")
A35: 31 | B35: =IF(VLOOKUP(A35,rawtable!$A$4:$U$393,5,FALSE)="",VLOOKUP(A35,rawtable!$A$4:$U$393,2,FALSE),"") | C35: =IF(VLOOKUP(A35,rawtable!$A$4:$U$393,5,FALSE)="","",VLOOKUP(A35,rawtable!$A$4:$U$393,5,FALSE)) -> Yes, Both sides of Street | D35: =IF(VLOOKUP($A35,rawtable!$A$4:$U$393,5,FALSE)="","",VLOOKUP($A35,rawtable!$A$4:$U$393,7,FALSE)) -> 2.135 | E35: =IF(VLOOKUP($A35,rawtable!$A$4:$U$393,5,FALSE)="",VLOOKUP($A35,rawtable!$A$4:$U$393,13,FALSE),"") | F35: =IF(VLOOKUP($A35,rawtable!$A$4:$U$393,5,FALSE)="",IF(rawtable!$V35=".","NA",VLOOKUP($A35,rawtable!$A$4:$AG$393,31,FALSE)),"") | G35: =IF(VLOOKUP($A35,rawtable!$A$4:$U$393,5,FALSE)="","",VLOOKUP($A35,rawtable!$A$4:$U$393,8,FALSE)) -> 1.309 | H35: =IF(VLOOKUP($A35,rawtable!$A$4:$U$393,5,FALSE)="",VLOOKUP($A35,rawtable!$A$4:$U$393,17,FALSE),"") | I35: =IF(VLOOKUP($A35,rawtable!$A$4:$U$393,5,FALSE)="",IF(rawtable!$Y35=".","NA",VLOOKUP($A35,rawtable!$A$4:$AG$393,32,FALSE)),"") | J35: =IF(VLOOKUP($A35,rawtable!$A$4:$U$393,5,FALSE)="","",VLOOKUP($A35,rawtable!$A$4:$U$393,9,FALSE)) -> 0.756 | K35: =IF(VLOOKUP($A35,rawtable!$A$4:$U$393,5,FALSE)="",VLOOKUP($A35,rawtable!$A$4:$U$393,21,FALSE),"") | L35: =IF(VLOOKUP($A35,rawtable!$A$4:$U$393,5,FALSE)="",IF(rawtable!$AB35=".","NA",VLOOKUP($A35,rawtable!$A$4:$AG$393,33,FALSE)),"")
A36: 32 | B36: =IF(VLOOKUP(A36,rawtable!$A$4:$U$393,5,FALSE)="",VLOOKUP(A36,rawtable!$A$4:$U$393,2,FALSE),"") -> retail | D36: =IF(VLOOKUP($A36,rawtable!$A$4:$U$393,5,FALSE)="","",VLOOKUP($A36,rawtable!$A$4:$U$393,7,FALSE)) | E36: =IF(VLOOKUP($A36,rawtable!$A$4:$U$393,5,FALSE)="",VLOOKUP($A36,rawtable!$A$4:$U$393,13,FALSE),"") -> 0.84483 | F36: =IF(VLOOKUP($A36,rawtable!$A$4:$U$393,5,FALSE)="",IF(rawtable!$V36=".","NA",VLOOKUP($A36,rawtable!$A$4:$AG$393,31,FALSE)),"") -> 0.70 (0.49, 0.89) | G36: =IF(VLOOKUP($A36,rawtable!$A$4:$U$393,5,FALSE)="","",VLOOKUP($A36,rawtable!$A$4:$U$393,8,FALSE)) | H36: =IF(VLOOKUP($A36,rawtable!$A$4:$U$393,5,FALSE)="",VLOOKUP($A36,rawtable!$A$4:$U$393,17,FALSE),"") -> 0.94 | I36: =IF(VLOOKUP($A36,rawtable!$A$4:$U$393,5,FALSE)="",IF(rawtable!$Y36=".","NA",VLOOKUP($A36,rawtable!$A$4:$AG$393,32,FALSE)),"") -> 0.64 (0.15, 1.00) | J36: =IF(VLOOKUP($A36,rawtable!$A$4:$U$393,5,FALSE)="","",VLOOKUP($A36,rawtable!$A$4:$U$393,9,FALSE)) | K36: =IF(VLOOKUP($A36,rawtable!$A$4:$U$393,5,FALSE)="",VLOOKUP($A36,rawtable!$A$4:$U$393,21,FALSE),"") -> 0.92 | L36: =IF(VLOOKUP($A36,rawtable!$A$4:$U$393,5,FALSE)="",IF(rawtable!$AB36=".","NA",VLOOKUP($A36,rawtable!$A$4:$AG$393,33,FALSE)),"") -> 0.63 (0.31, 0.88)
A37: 33 | B37: =IF(VLOOKUP(A37,rawtable!$A$4:$U$393,5,FALSE)="",VLOOKUP(A37,rawtable!$A$4:$U$393,2,FALSE),"") | C37: =IF(VLOOKUP(A37,rawtable!$A$4:$U$393,5,FALSE)="","",VLOOKUP(A37,rawtable!$A$4:$U$393,5,FALSE)) -> Neither side of Street | D37: =IF(VLOOKUP($A37,rawtable!$A$4:$U$393,5,FALSE)="","",VLOOKUP($A37,rawtable!$A$4:$U$393,7,FALSE)) -> 85.765 | E37: =IF(VLOOKUP($A37,rawtable!$A$4:$U$393,5,FALSE)="",VLOOKUP($A37,rawtable!$A$4:$U$393,13,FALSE),"") | F37: =IF(VLOOKUP($A37,rawtable!$A$4:$U$393,5,FALSE)="",IF(rawtable!$V37=".","NA",VLOOKUP($A37,rawtable!$A$4:$AG$393,31,FALSE)),"") | G37: =IF(VLOOKUP($A37,rawtable!$A$4:$U$393,5,FALSE)="","",VLOOKUP($A37,rawtable!$A$4:$U$393,8,FALSE)) -> 91.817 | H37: =IF(VLOOKUP($A37,rawtable!$A$4:$U$393,5,FALSE)="",VLOOKUP($A37,rawtable!$A$4:$U$393,17,FALSE),"") | I37: =IF(VLOOKUP($A37,rawtable!$A$4:$U$393,5,FALSE)="",IF(rawtable!$Y37=".","NA",VLOOKUP($A37,rawtable!$A$4:$AG$393,32,FALSE)),"") | J37: =IF(VLOOKUP($A37,rawtable!$A$4:$U$393,5,FALSE)="","",VLOOKUP($A37,rawtable!$A$4:$U$393,9,FALSE)) -> 93.646 | K37: =IF(VLOOKUP($A37,rawtable!$A$4:$U$393,5,FALSE)="",VLOOKUP($A37,rawtable!$A$4:$U$393,21,FALSE),"") | L37: =IF(VLOOKUP($A37,rawtable!$A$4:$U$393,5,FALSE)="",IF(rawtable!$AB37=".","NA",VLOOKUP($A37,rawtable!$A$4:$AG$393,33,FALSE)),"")
A38: 34 | B38: =IF(VLOOKUP(A38,rawtable!$A$4:$U$393,5,FALSE)="",VLOOKUP(A38,rawtable!$A$4:$U$393,2,FALSE),"") | C38: =IF(VLOOKUP(A38,rawtable!$A$4:$U$393,5,FALSE)="","",VLOOKUP(A38,rawtable!$A$4:$U$393,5,FALSE)) -> Yes, One side of Street | D38: =IF(VLOOKUP($A38,rawtable!$A$4:$U$393,5,FALSE)="","",VLOOKUP($A38,rawtable!$A$4:$U$393,7,FALSE)) -> 11.922 | E38: =IF(VLOOKUP($A38,rawtable!$A$4:$U$393,5,FALSE)="",VLOOKUP($A38,rawtable!$A$4:$U$393,13,FALSE),"") | F38: =IF(VLOOKUP($A38,rawtable!$A$4:$U$393,5,FALSE)="",IF(rawtable!$V38=".","NA",VLOOKUP($A38,rawtable!$A$4:$AG$393,31,FALSE)),"") | G38: =IF(VLOOKUP($A38,rawtable!$A$4:$U$393,5,FALSE)="","",VLOOKUP($A38,rawtable!$A$4:$U$393,8,FALSE)) -> 7.038 | H38: =IF(VLOOKUP($A38,rawtable!$A$4:$U$393,5,FALSE)="",VLOOKUP($A38,rawtable!$A$4:$U$393,17,FALSE),"") | I38: =IF(VLOOKUP($A38,rawtable!$A$4:$U$393,5,FALSE)="",IF(rawtable!$Y38=".","NA",VLOOKUP($A38,rawtable!$A$4:$AG$393,32,FALSE)),"") | J38: =IF(VLOOKUP($A38,rawtable!$A$4:$U$393,5,FALSE)="","",VLOOKUP($A38,rawtable!$A$4:$U$393,9,FALSE)) -> 5.295 | K38: =IF(VLOOKUP($A38,rawtable!$A$4:$U$393,5,FALSE)="",VLOOKUP($A38,rawtable!$A$4:$U$393,21,FALSE),"") | L38: =IF(VLOOKUP($A38,rawtable!$A$4:$U$393,5,FALSE)="",IF(rawtable!$AB38=".","NA",VLOOKUP($A38,rawtable!$A$4:$AG$393,33,FALSE)),"")
A39: 35 | B39: =IF(VLOOKUP(A39,rawtable!$A$4:$U$393,5,FALSE)="",VLOOKUP(A39,rawtable!$A$4:$U$393,2,FALSE),"") | C39: =IF(VLOOKUP(A39,rawtable!$A$4:$U$393,5,FALSE)="","",VLOOKUP(A39,rawtable!$A$4:$U$393,5,FALSE)) -> Yes, Both sides of Street | D39: =IF(VLOOKUP($A39,rawtable!$A$4:$U$393,5,FALSE)="","",VLOOKUP($A39,rawtable!$A$4:$U$393,7,FALSE)) -> 2.313 | E39: =IF(VLOOKUP($A39,rawtable!$A$4:$U$393,5,FALSE)="",VLOOKUP($A39,rawtable!$A$4:$U$393,13,FALSE),"") | F39: =IF(VLOOKUP($A39,rawtable!$A$4:$U$393,5,FALSE)="",IF(rawtable!$V39=".","NA",VLOOKUP($A39,rawtable!$A$4:$AG$393,31,FALSE)),"") | G39: =IF(VLOOKUP($A39,rawtable!$A$4:$U$393,5,FALSE)="","",VLOOKUP($A39,rawtable!$A$4:$U$393,8,FALSE)) -> 1.146 | H39: =IF(VLOOKUP($A39,rawtable!$A$4:$U$393,5,FALSE)="",VLOOKUP($A39,rawtable!$A$4:$U$393,17,FALSE),"") | I39: =IF(VLOOKUP($A39,rawtable!$A$4:$U$393,5,FALSE)="",IF(rawtable!$Y39=".","NA",VLOOKUP($A39,rawtable!$A$4:$AG$393,32,FALSE)),"") | J39: =IF(VLOOKUP($A39,rawtable!$A$4:$U$393,5,FALSE)="","",VLOOKUP($A39,rawtable!$A$4:$U$393,9,FALSE)) -> 1.059 | K39: =IF(VLOOKUP($A39,rawtable!$A$4:$U$393,5,FALSE)="",VLOOKUP($A39,rawtable!$A$4:$U$393,21,FALSE),"") | L39: =IF(VLOOKUP($A39,rawtable!$A$4:$U$393,5,FALSE)="",IF(rawtable!$AB39=".","NA",VLOOKUP($A39,rawtable!$A$4:$AG$393,33,FALSE)),"")
A40: 36 | B40: =IF(VLOOKUP(A40,rawtable!$A$4:$U$393,5,FALSE)="",VLOOKUP(A40,rawtable!$A$4:$U$393,2,FALSE),"") -> industrial_manufacturing | D40: =IF(VLOOKUP($A40,rawtable!$A$4:$U$393,5,FALSE)="","",VLOOKUP($A40,rawtable!$A$4:$U$393,7,FALSE)) | E40: =IF(VLOOKUP($A40,rawtable!$A$4:$U$393,5,FALSE)="",VLOOKUP($A40,rawtable!$A$4:$U$393,13,FALSE),"") -> 0.91379 | F40: =IF(VLOOKUP($A40,rawtable!$A$4:$U$393,5,FALSE)="",IF(rawtable!$V40=".","NA",VLOOKUP($A40,rawtable!$A$4:$AG$393,31,FALSE)),"") -> 0.66 (0.33, 0.92) | G40: =IF(VLOOKUP($A40,rawtable!$A$4:$U$393,5,FALSE)="","",VLOOKUP($A40,rawtable!$A$4:$U$393,8,FALSE)) | H40: =IF(VLOOKUP($A40,rawtable!$A$4:$U$393,5,FALSE)="",VLOOKUP($A40,rawtable!$A$4:$U$393,17,FALSE),"") -> 0.98 | I40: =IF(VLOOKUP($A40,rawtable!$A$4:$U$393,5,FALSE)="",IF(rawtable!$Y40=".","NA",VLOOKUP($A40,rawtable!$A$4:$AG$393,32,FALSE)),"") -> 0.66 (-0.02, 1.00) | J40: =IF(VLOOKUP($A40,rawtable!$A$4:$U$393,5,FALSE)="","",VLOOKUP($A40,rawtable!$A$4:$U$393,9,FALSE)) | K40: =IF(VLOOKUP($A40,rawtable!$A$4:$U$393,5,FALSE)="",VLOOKUP($A40,rawtable!$A$4:$U$393,21,FALSE),"") -> 0.99 | L40: =IF(VLOOKUP($A40,rawtable!$A$4:$U$393,5,FALSE)="",IF(rawtable!$AB40=".","NA",VLOOKUP($A40,rawtable!$A$4:$AG$393,33,FALSE)),"") -> 0.66 (-0.35, 1.00)
A41: 37 | B41: =IF(VLOOKUP(A41,rawtable!$A$4:$U$393,5,FALSE)="",VLOOKUP(A41,rawtable!$A$4:$U$393,2,FALSE),"") | C41: =IF(VLOOKUP(A41,rawtable!$A$4:$U$393,5,FALSE)="","",VLOOKUP(A41,rawtable!$A$4:$U$393,5,FALSE)) -> Neither side of Street | D41: =IF(VLOOKUP($A41,rawtable!$A$4:$U$393,5,FALSE)="","",VLOOKUP($A41,rawtable!$A$4:$U$393,7,FALSE)) -> 96.263 | E41: =IF(VLOOKUP($A41,rawtable!$A$4:$U$393,5,FALSE)="",VLOOKUP($A41,rawtable!$A$4:$U$393,13,FALSE),"") | F41: =IF(VLOOKUP($A41,rawtable!$A$4:$U$393,5,FALSE)="",IF(rawtable!$V41=".","NA",VLOOKUP($A41,rawtable!$A$4:$AG$393,31,FALSE)),"") | G41: =IF(VLOOKUP($A41,rawtable!$A$4:$U$393,5,FALSE)="","",VLOOKUP($A41,rawtable!$A$4:$U$393,8,FALSE)) -> 95.246 | H41: =IF(VLOOKUP($A41,rawtable!$A$4:$U$393,5,FALSE)="",VLOOKUP($A41,rawtable!$A$4:$U$393,17,FALSE),"") | I41: =IF(VLOOKUP($A41,rawtable!$A$4:$U$393,5,FALSE)="",IF(rawtable!$Y41=".","NA",VLOOKUP($A41,rawtable!$A$4:$AG$393,32,FALSE)),"") | J41: =IF(VLOOKUP($A41,rawtable!$A$4:$U$393,5,FALSE)="","",VLOOKUP($A41,rawtable!$A$4:$U$393,9,FALSE)) -> 96.672 | K41: =IF(VLOOKUP($A41,rawtable!$A$4:$U$393,5,FALSE)="",VLOOKUP($A41,rawtable!$A$4:$U$393,21,FALSE),"") | L41: =IF(VLOOKUP($A41,rawtable!$A$4:$U$393,5,FALSE)="",IF(rawtable!$AB41=".","NA",VLOOKUP($A41,rawtable!$A$4:$AG$393,33,FALSE)),"")
A42: 38 | B42: =IF(VLOOKUP(A42,rawtable!$A$4:$U$393,5,FALSE)="",VLOOKUP(A42,rawtable!$A$4:$U$393,2,FALSE),"") | C42: =IF(VLOOKUP(A42,rawtable!$A$4:$U$393,5,FALSE)="","",VLOOKUP(A42,rawtable!$A$4:$U$393,5,FALSE)) -> Yes, One side of Street | D42: =IF(VLOOKUP($A42,rawtable!$A$4:$U$393,5,FALSE)="","",VLOOKUP($A42,rawtable!$A$4:$U$393,7,FALSE)) -> 2.491 | E42: =IF(VLOOKUP($A42,rawtable!$A$4:$U$393,5,FALSE)="",VLOOKUP($A42,rawtable!$A$4:$U$393,13,FALSE),"") | F42: =IF(VLOOKUP($A42,rawtable!$A$4:$U$393,5,FALSE)="",IF(rawtable!$V42=".","NA",VLOOKUP($A42,rawtable!$A$4:$AG$393,31,FALSE)),"") | G42: =IF(VLOOKUP($A42,rawtable!$A$4:$U$393,5,FALSE)="","",VLOOKUP($A42,rawtable!$A$4:$U$393,8,FALSE)) -> 3.77 | H42: =IF(VLOOKUP($A42,rawtable!$A$4:$U$393,5,FALSE)="",VLOOKUP($A42,rawtable!$A$4:$U$393,17,FALSE),"") | I42: =IF(VLOOKUP($A42,rawtable!$A$4:$U$393,5,FALSE)="",IF(rawtable!$Y42=".","NA",VLOOKUP($A42,rawtable!$A$4:$AG$393,32,FALSE)),"") | J42: =IF(VLOOKUP($A42,rawtable!$A$4:$U$393,5,FALSE)="","",VLOOKUP($A42,rawtable!$A$4:$U$393,9,FALSE)) -> 2.572 | K42: =IF(VLOOKUP($A42,rawtable!$A$4:$U$393,5,FALSE)="",VLOOKUP($A42,rawtable!$A$4:$U$393,21,FALSE),"") | L42: =IF(VLOOKUP($A42,rawtable!$A$4:$U$393,5,FALSE)="",IF(rawtable!$AB42=".","NA",VLOOKUP($A42,rawtable!$A$4:$AG$393,33,FALSE)),"")
A43: 39 | B43: =IF(VLOOKUP(A43,rawtable!$A$4:$U$393,5,FALSE)="",VLOOKUP(A43,rawtable!$A$4:$U$393,2,FALSE),"") | C43: =IF(VLOOKUP(A43,rawtable!$A$4:$U$393,5,FALSE)="","",VLOOKUP(A43,rawtable!$A$4:$U$393,5,FALSE)) -> Yes, Both sides of Street | D43: =IF(VLOOKUP($A43,rawtable!$A$4:$U$393,5,FALSE)="","",VLOOKUP($A43,rawtable!$A$4:$U$393,7,FALSE)) -> 1.246 | E43: =IF(VLOOKUP($A43,rawtable!$A$4:$U$393,5,FALSE)="",VLOOKUP($A43,rawtable!$A$4:$U$393,13,FALSE),"") | F43: =IF(VLOOKUP($A43,rawtable!$A$4:$U$393,5,FALSE)="",IF(rawtable!$V43=".","NA",VLOOKUP($A43,rawtable!$A$4:$AG$393,31,FALSE)),"") | G43: =IF(VLOOKUP($A43,rawtable!$A$4:$U$393,5,FALSE)="","",VLOOKUP($A43,rawtable!$A$4:$U$393,8,FALSE)) -> 0.984 | H43: =IF(VLOOKUP($A43,rawtable!$A$4:$U$393,5,FALSE)="",VLOOKUP($A43,rawtable!$A$4:$U$393,17,FALSE),"") | I43: =IF(VLOOKUP($A43,rawtable!$A$4:$U$393,5,FALSE)="",IF(rawtable!$Y43=".","NA",VLOOKUP($A43,rawtable!$A$4:$AG$393,32,FALSE)),"") | J43: =IF(VLOOKUP($A43,rawtable!$A$4:$U$393,5,FALSE)="","",VLOOKUP($A43,rawtable!$A$4:$U$393,9,FALSE)) -> 0.756 | K43: =IF(VLOOKUP($A43,rawtable!$A$4:$U$393,5,FALSE)="",VLOOKUP($A43,rawtable!$A$4:$U$393,21,FALSE),"") | L43: =IF(VLOOKUP($A43,rawtable!$A$4:$U$393,5,FALSE)="",IF(rawtable!$AB43=".","NA",VLOOKUP($A43,rawtable!$A$4:$AG$393,33,FALSE)),"")
A44: 40 | B44: =IF(VLOOKUP(A44,rawtable!$A$4:$U$393,5,FALSE)="",VLOOKUP(A44,rawtable!$A$4:$U$393,2,FALSE),"") -> recreation_fitness | D44: =IF(VLOOKUP($A44,rawtable!$A$4:$U$393,5,FALSE)="","",VLOOKUP($A44,rawtable!$A$4:$U$393,7,FALSE)) | E44: =IF(VLOOKUP($A44,rawtable!$A$4:$U$393,5,FALSE)="",VLOOKUP($A44,rawtable!$A$4:$U$393,13,FALSE),"") -> 0.9661 | F44: =IF(VLOOKUP($A44,rawtable!$A$4:$U$393,5,FALSE)="",IF(rawtable!$V44=".","NA",VLOOKUP($A44,rawtable!$A$4:$AG$393,31,FALSE)),"") -> 0.49 (-0.28, 1.00) | G44: =IF(VLOOKUP($A44,rawtable!$A$4:$U$393,5,FALSE)="","",VLOOKUP($A44,rawtable!$A$4:$U$393,8,FALSE)) | H44: =IF(VLOOKUP($A44,rawtable!$A$4:$U$393,5,FALSE)="",VLOOKUP($A44,rawtable!$A$4:$U$393,17,FALSE),"") -> 1 | I44: =IF(VLOOKUP($A44,rawtable!$A$4:$U$393,5,FALSE)="",IF(rawtable!$Y44=".","NA",VLOOKUP($A44,rawtable!$A$4:$AG$393,32,FALSE)),"") -> 1.00 (1.00, 1.00) | J44: =IF(VLOOKUP($A44,rawtable!$A$4:$U$393,5,FALSE)="","",VLOOKUP($A44,rawtable!$A$4:$U$393,9,FALSE)) | K44: =IF(VLOOKUP($A44,rawtable!$A$4:$U$393,5,FALSE)="",VLOOKUP($A44,rawtable!$A$4:$U$393,21,FALSE),"") -> 0.99 | L44: =IF(VLOOKUP($A44,rawtable!$A$4:$U$393,5,FALSE)="",IF(rawtable!$AB44=".","NA",VLOOKUP($A44,rawtable!$A$4:$AG$393,33,FALSE)),"") -> 0.66 (-0.01, 1.00)
A45: 41 | B45: =IF(VLOOKUP(A45,rawtable!$A$4:$U$393,5,FALSE)="",VLOOKUP(A45,rawtable!$A$4:$U$393,2,FALSE),"") | C45: =IF(VLOOKUP(A45,rawtable!$A$4:$U$393,5,FALSE)="","",VLOOKUP(A45,rawtable!$A$4:$U$393,5,FALSE)) -> Neither side of Street | D45: =IF(VLOOKUP($A45,rawtable!$A$4:$U$393,5,FALSE)="","",VLOOKUP($A45,rawtable!$A$4:$U$393,7,FALSE)) -> 96.448 | E45: =IF(VLOOKUP($A45,rawtable!$A$4:$U$393,5,FALSE)="",VLOOKUP($A45,rawtable!$A$4:$U$393,13,FALSE),"") | F45: =IF(VLOOKUP($A45,rawtable!$A$4:$U$393,5,FALSE)="",IF(rawtable!$V45=".","NA",VLOOKUP($A45,rawtable!$A$4:$AG$393,31,FALSE)),"") | G45: =IF(VLOOKUP($A45,rawtable!$A$4:$U$393,5,FALSE)="","",VLOOKUP($A45,rawtable!$A$4:$U$393,8,FALSE)) -> 96.727 | H45: =IF(VLOOKUP($A45,rawtable!$A$4:$U$393,5,FALSE)="",VLOOKUP($A45,rawtable!$A$4:$U$393,17,FALSE),"") | I45: =IF(VLOOKUP($A45,rawtable!$A$4:$U$393,5,FALSE)="",IF(rawtable!$Y45=".","NA",VLOOKUP($A45,rawtable!$A$4:$AG$393,32,FALSE)),"") | J45: =IF(VLOOKUP($A45,rawtable!$A$4:$U$393,5,FALSE)="","",VLOOKUP($A45,rawtable!$A$4:$U$393,9,FALSE)) -> 98.638 | K45: =IF(VLOOKUP($A45,rawtable!$A$4:$U$393,5,FALSE)="",VLOOKUP($A45,rawtable!$A$4:$U$393,21,FALSE),"") | L45: =IF(VLOOKUP($A45,rawtable!$A$4:$U$393,5,FALSE)="",IF(rawtable!$AB45=".","NA",VLOOKUP($A45,rawtable!$A$4:$AG$393,33,FALSE)),"")
A46: 42 | B46: =IF(VLOOKUP(A46,rawtable!$A$4:$U$393,5,FALSE)="",VLOOKUP(A46,rawtable!$A$4:$U$393,2,FALSE),"") | C46: =IF(VLOOKUP(A46,rawtable!$A$4:$U$393,5,FALSE)="","",VLOOKUP(A46,rawtable!$A$4:$U$393,5,FALSE)) -> Yes, One side of Street | D46: =IF(VLOOKUP($A46,rawtable!$A$4:$U$393,5,FALSE)="","",VLOOKUP($A46,rawtable!$A$4:$U$393,7,FALSE)) -> 3.375 | E46: =IF(VLOOKUP($A46,rawtable!$A$4:$U$393,5,FALSE)="",VLOOKUP($A46,rawtable!$A$4:$U$393,13,FALSE),"") | F46: =IF(VLOOKUP($A46,rawtable!$A$4:$U$393,5,FALSE)="",IF(rawtable!$V46=".","NA",VLOOKUP($A46,rawtable!$A$4:$AG$393,31,FALSE)),"") | G46: =IF(VLOOKUP($A46,rawtable!$A$4:$U$393,5,FALSE)="","",VLOOKUP($A46,rawtable!$A$4:$U$393,8,FALSE)) -> 3.11 | H46: =IF(VLOOKUP($A46,rawtable!$A$4:$U$393,5,FALSE)="",VLOOKUP($A46,rawtable!$A$4:$U$393,17,FALSE),"") | I46: =IF(VLOOKUP($A46,rawtable!$A$4:$U$393,5,FALSE)="",IF(rawtable!$Y46=".","NA",VLOOKUP($A46,rawtable!$A$4:$AG$393,32,FALSE)),"") | J46: =IF(VLOOKUP($A46,rawtable!$A$4:$U$393,5,FALSE)="","",VLOOKUP($A46,rawtable!$A$4:$U$393,9,FALSE)) -> 1.21 | K46: =IF(VLOOKUP($A46,rawtable!$A$4:$U$393,5,FALSE)="",VLOOKUP($A46,rawtable!$A$4:$U$393,21,FALSE),"") | L46: =IF(VLOOKUP($A46,rawtable!$A$4:$U$393,5,FALSE)="",IF(rawtable!$AB46=".","NA",VLOOKUP($A46,rawtable!$A$4:$AG$393,33,FALSE)),"")
A47: 43 | B47: =IF(VLOOKUP(A47,rawtable!$A$4:$U$393,5,FALSE)="",VLOOKUP(A47,rawtable!$A$4:$U$393,2,FALSE),"") | C47: =IF(VLOOKUP(A47,rawtable!$A$4:$U$393,5,FALSE)="","",VLOOKUP(A47,rawtable!$A$4:$U$393,5,FALSE)) -> Yes, Both sides of Street | D47: =IF(VLOOKUP($A47,rawtable!$A$4:$U$393,5,FALSE)="","",VLOOKUP($A47,rawtable!$A$4:$U$393,7,FALSE)) -> 0.178 | E47: =IF(VLOOKUP($A47,rawtable!$A$4:$U$393,5,FALSE)="",VLOOKUP($A47,rawtable!$A$4:$U$393,13,FALSE),"") | F47: =IF(VLOOKUP($A47,rawtable!$A$4:$U$393,5,FALSE)="",IF(rawtable!$V47=".","NA",VLOOKUP($A47,rawtable!$A$4:$AG$393,31,FALSE)),"") | G47: =IF(VLOOKUP($A47,rawtable!$A$4:$U$393,5,FALSE)="","",VLOOKUP($A47,rawtable!$A$4:$U$393,8,FALSE)) -> 0.164 | H47: =IF(VLOOKUP($A47,rawtable!$A$4:$U$393,5,FALSE)="",VLOOKUP($A47,rawtable!$A$4:$U$393,17,FALSE),"") | I47: =IF(VLOOKUP($A47,rawtable!$A$4:$U$393,5,FALSE)="",IF(rawtable!$Y47=".","NA",VLOOKUP($A47,rawtable!$A$4:$AG$393,32,FALSE)),"") | J47: =IF(VLOOKUP($A47,rawtable!$A$4:$U$393,5,FALSE)="","",VLOOKUP($A47,rawtable!$A$4:$U$393,9,FALSE)) -> 0.151 | K47: =IF(VLOOKUP($A47,rawtable!$A$4:$U$393,5,FALSE)="",VLOOKUP($A47,rawtable!$A$4:$U$393,21,FALSE),"") | L47: =IF(VLOOKUP($A47,rawtable!$A$4:$U$393,5,FALSE)="",IF(rawtable!$AB47=".","NA",VLOOKUP($A47,rawtable!$A$4:$AG$393,33,FALSE)),"")
A48: 44 | B48: =IF(VLOOKUP(A48,rawtable!$A$4:$U$393,5,FALSE)="",VLOOKUP(A48,rawtable!$A$4:$U$393,2,FALSE),"") -> public_communal_space | D48: =IF(VLOOKUP($A48,rawtable!$A$4:$U$393,5,FALSE)="","",VLOOKUP($A48,rawtable!$A$4:$U$393,7,FALSE)) | E48: =IF(VLOOKUP($A48,rawtable!$A$4:$U$393,5,FALSE)="",VLOOKUP($A48,rawtable!$A$4:$U$393,13,FALSE),"") -> 0.87931 | F48: =IF(VLOOKUP($A48,rawtable!$A$4:$U$393,5,FALSE)="",IF(rawtable!$V48=".","NA",VLOOKUP($A48,rawtable!$A$4:$AG$393,31,FALSE)),"") -> 0.16 (-0.55, 0.64) | G48: =IF(VLOOKUP($A48,rawtable!$A$4:$U$393,5,FALSE)="","",VLOOKUP($A48,rawtable!$A$4:$U$393,8,FALSE)) | H48: =IF(VLOOKUP($A48,rawtable!$A$4:$U$393,5,FALSE)="",VLOOKUP($A48,rawtable!$A$4:$U$393,17,FALSE),"") -> 0.95918 | I48: =IF(VLOOKUP($A48,rawtable!$A$4:$U$393,5,FALSE)="",IF(rawtable!$Y48=".","NA",VLOOKUP($A48,rawtable!$A$4:$AG$393,32,FALSE)),"") -> -0.01 (-1.00, 1.00) | J48: =IF(VLOOKUP($A48,rawtable!$A$4:$U$393,5,FALSE)="","",VLOOKUP($A48,rawtable!$A$4:$U$393,9,FALSE)) | K48: =IF(VLOOKUP($A48,rawtable!$A$4:$U$393,5,FALSE)="",VLOOKUP($A48,rawtable!$A$4:$U$393,21,FALSE),"") -> 0.91 | L48: =IF(VLOOKUP($A48,rawtable!$A$4:$U$393,5,FALSE)="",IF(rawtable!$AB48=".","NA",VLOOKUP($A48,rawtable!$A$4:$AG$393,33,FALSE)),"") -> 0.35 (-0.09, 0.72)
A49: 45 | B49: =IF(VLOOKUP(A49,rawtable!$A$4:$U$393,5,FALSE)="",VLOOKUP(A49,rawtable!$A$4:$U$393,2,FALSE),"") | C49: =IF(VLOOKUP(A49,rawtable!$A$4:$U$393,5,FALSE)="","",VLOOKUP(A49,rawtable!$A$4:$U$393,5,FALSE)) -> Neither side of Street | D49: =IF(VLOOKUP($A49,rawtable!$A$4:$U$393,5,FALSE)="","",VLOOKUP($A49,rawtable!$A$4:$U$393,7,FALSE)) -> 91.459 | E49: =IF(VLOOKUP($A49,rawtable!$A$4:$U$393,5,FALSE)="",VLOOKUP($A49,rawtable!$A$4:$U$393,13,FALSE),"") | F49: =IF(VLOOKUP($A49,rawtable!$A$4:$U$393,5,FALSE)="",IF(rawtable!$V49=".","NA",VLOOKUP($A49,rawtable!$A$4:$AG$393,31,FALSE)),"") | G49: =IF(VLOOKUP($A49,rawtable!$A$4:$U$393,5,FALSE)="","",VLOOKUP($A49,rawtable!$A$4:$U$393,8,FALSE)) -> 93.268 | H49: =IF(VLOOKUP($A49,rawtable!$A$4:$U$393,5,FALSE)="",VLOOKUP($A49,rawtable!$A$4:$U$393,17,FALSE),"") | I49: =IF(VLOOKUP($A49,rawtable!$A$4:$U$393,5,FALSE)="",IF(rawtable!$Y49=".","NA",VLOOKUP($A49,rawtable!$A$4:$AG$393,32,FALSE)),"") | J49: =IF(VLOOKUP($A49,rawtable!$A$4:$U$393,5,FALSE)="","",VLOOKUP($A49,rawtable!$A$4:$U$393,9,FALSE)) -> 93.041 | K49: =IF(VLOOKUP($A49,rawtable!$A$4:$U$393,5,FALSE)="",VLOOKUP($A49,rawtable!$A$4:$U$393,21,FALSE),"") | L49: =IF(VLOOKUP($A49,rawtable!$A$4:$U$393,5,FALSE)="",IF(rawtable!$AB49=".","NA",VLOOKUP($A49,rawtable!$A$4:$AG$393,33,FALSE)),"")
A50: 46 | B50: =IF(VLOOKUP(A50,rawtable!$A$4:$U$393,5,FALSE)="",VLOOKUP(A50,rawtable!$A$4:$U$393,2,FALSE),"") | C50: =IF(VLOOKUP(A50,rawtable!$A$4:$U$393,5,FALSE)="","",VLOOKUP(A50,rawtable!$A$4:$U$393,5,FALSE)) -> Yes, One side of Street | D50: =IF(VLOOKUP($A50,rawtable!$A$4:$U$393,5,FALSE)="","",VLOOKUP($A50,rawtable!$A$4:$U$393,7,FALSE)) -> 7.473 | E50: =IF(VLOOKUP($A50,rawtable!$A$4:$U$393,5,FALSE)="",VLOOKUP($A50,rawtable!$A$4:$U$393,13,FALSE),"") | F50: =IF(VLOOKUP($A50,rawtable!$A$4:$U$393,5,FALSE)="",IF(rawtable!$V50=".","NA",VLOOKUP($A50,rawtable!$A$4:$AG$393,31,FALSE)),"") | G50: =IF(VLOOKUP($A50,rawtable!$A$4:$U$393,5,FALSE)="","",VLOOKUP($A50,rawtable!$A$4:$U$393,8,FALSE)) -> 5.747 | H50: =IF(VLOOKUP($A50,rawtable!$A$4:$U$393,5,FALSE)="",VLOOKUP($A50,rawtable!$A$4:$U$393,17,FALSE),"") | I50: =IF(VLOOKUP($A50,rawtable!$A$4:$U$393,5,FALSE)="",IF(rawtable!$Y50=".","NA",VLOOKUP($A50,rawtable!$A$4:$AG$393,32,FALSE)),"") | J50: =IF(VLOOKUP($A50,rawtable!$A$4:$U$393,5,FALSE)="","",VLOOKUP($A50,rawtable!$A$4:$U$393,9,FALSE)) -> 6.051 | K50: =IF(VLOOKUP($A50,rawtable!$A$4:$U$393,5,FALSE)="",VLOOKUP($A50,rawtable!$A$4:$U$393,21,FALSE),"") | L50: =IF(VLOOKUP($A50,rawtable!$A$4:$U$393,5,FALSE)="",IF(rawtable!$AB50=".","NA",VLOOKUP($A50,rawtable!$A$4:$AG$393,33,FALSE)),"")
A51: 47 | B51: =IF(VLOOKUP(A51,rawtable!$A$4:$U$393,5,FALSE)="",VLOOKUP(A51,rawtable!$A$4:$U$393,2,FALSE),"") | C51: =IF(VLOOKUP(A51,rawtable!$A$4:$U$393,5,FALSE)="","",VLOOKUP(A51,rawtable!$A$4:$U$393,5,FALSE)) -> Yes, Both sides of Street | D51: =IF(VLOOKUP($A51,rawtable!$A$4:$U$393,5,FALSE)="","",VLOOKUP($A51,rawtable!$A$4:$U$393,7,FALSE)) -> 1.068 | E51: =IF(VLOOKUP($A51,rawtable!$A$4:$U$393,5,FALSE)="",VLOOKUP($A51,rawtable!$A$4:$U$393,13,FALSE),"") | F51: =IF(VLOOKUP($A51,rawtable!$A$4:$U$393,5,FALSE)="",IF(rawtable!$V51=".","NA",VLOOKUP($A51,rawtable!$A$4:$AG$393,31,FALSE)),"") | G51: =IF(VLOOKUP($A51,rawtable!$A$4:$U$393,5,FALSE)="","",VLOOKUP($A51,rawtable!$A$4:$U$393,8,FALSE)) -> 0.985 | H51: =IF(VLOOKUP($A51,rawtable!$A$4:$U$393,5,FALSE)="",VLOOKUP($A51,rawtable!$A$4:$U$393,17,FALSE),"") | I51: =IF(VLOOKUP($A51,rawtable!$A$4:$U$393,5,FALSE)="",IF(rawtable!$Y51=".","NA",VLOOKUP($A51,rawtable!$A$4:$AG$393,32,FALSE)),"") | J51: =IF(VLOOKUP($A51,rawtable!$A$4:$U$393,5,FALSE)="","",VLOOKUP($A51,rawtable!$A$4:$U$393,9,FALSE)) -> 0.908 | K51: =IF(VLOOKUP($A51,rawtable!$A$4:$U$393,5,FALSE)="",VLOOKUP($A51,rawtable!$A$4:$U$393,21,FALSE),"") | L51: =IF(VLOOKUP($A51,rawtable!$A$4:$U$393,5,FALSE)="",IF(rawtable!$AB51=".","NA",VLOOKUP($A51,rawtable!$A$4:$AG$393,33,FALSE)),"")
A52: 48 | B52: =IF(VLOOKUP(A52,rawtable!$A$4:$U$393,5,FALSE)="",VLOOKUP(A52,rawtable!$A$4:$U$393,2,FALSE),"") -> vacant_bldg_lot | D52: =IF(VLOOKUP($A52,rawtable!$A$4:$U$393,5,FALSE)="","",VLOOKUP($A52,rawtable!$A$4:$U$393,7,FALSE)) | E52: =IF(VLOOKUP($A52,rawtable!$A$4:$U$393,5,FALSE)="",VLOOKUP($A52,rawtable!$A$4:$U$393,13,FALSE),"") -> 0.58621 | F52: =IF(VLOOKUP($A52,rawtable!$A$4:$U$393,5,FALSE)="",IF(rawtable!$V52=".","NA",VLOOKUP($A52,rawtable!$A$4:$AG$393,31,FALSE)),"") -> 0.45 (0.19, 0.67) | G52: =IF(VLOOKUP($A52,rawtable!$A$4:$U$393,5,FALSE)="","",VLOOKUP($A52,rawtable!$A$4:$U$393,8,FALSE)) | H52: =IF(VLOOKUP($A52,rawtable!$A$4:$U$393,5,FALSE)="",VLOOKUP($A52,rawtable!$A$4:$U$393,17,FALSE),"") -> 0.82 | I52: =IF(VLOOKUP($A52,rawtable!$A$4:$U$393,5,FALSE)="",IF(rawtable!$Y52=".","NA",VLOOKUP($A52,rawtable!$A$4:$AG$393,32,FALSE)),"") -> 0.77 (0.59, 0.92) | J52: =IF(VLOOKUP($A52,rawtable!$A$4:$U$393,5,FALSE)="","",VLOOKUP($A52,rawtable!$A$4:$U$393,9,FALSE)) | K52: =IF(VLOOKUP($A52,rawtable!$A$4:$U$393,5,FALSE)="",VLOOKUP($A52,rawtable!$A$4:$U$393,21,FALSE),"") -> 0.56 | L52: =IF(VLOOKUP($A52,rawtable!$A$4:$U$393,5,FALSE)="",IF(rawtable!$AB52=".","NA",VLOOKUP($A52,rawtable!$A$4:$AG$393,33,FALSE)),"") -> 0.42 (0.23, 0.58)
A53: 49 | B53: =IF(VLOOKUP(A53,rawtable!$A$4:$U$393,5,FALSE)="",VLOOKUP(A53,rawtable!$A$4:$U$393,2,FALSE),"") | C53: =IF(VLOOKUP(A53,rawtable!$A$4:$U$393,5,FALSE)="","",VLOOKUP(A53,rawtable!$A$4:$U$393,5,FALSE)) -> Neither side of Street | D53: =IF(VLOOKUP($A53,rawtable!$A$4:$U$393,5,FALSE)="","",VLOOKUP($A53,rawtable!$A$4:$U$393,7,FALSE)) -> 29.443 | E53: =IF(VLOOKUP($A53,rawtable!$A$4:$U$393,5,FALSE)="",VLOOKUP($A53,rawtable!$A$4:$U$393,13,FALSE),"") | F53: =IF(VLOOKUP($A53,rawtable!$A$4:$U$393,5,FALSE)="",IF(rawtable!$V53=".","NA",VLOOKUP($A53,rawtable!$A$4:$AG$393,31,FALSE)),"") | G53: =IF(VLOOKUP($A53,rawtable!$A$4:$U$393,5,FALSE)="","",VLOOKUP($A53,rawtable!$A$4:$U$393,8,FALSE)) -> 30.882 | H53: =IF(VLOOKUP($A53,rawtable!$A$4:$U$393,5,FALSE)="",VLOOKUP($A53,rawtable!$A$4:$U$393,17,FALSE),"") | I53: =IF(VLOOKUP($A53,rawtable!$A$4:$U$393,5,FALSE)="",IF(rawtable!$Y53=".","NA",VLOOKUP($A53,rawtable!$A$4:$AG$393,32,FALSE)),"") | J53: =IF(VLOOKUP($A53,rawtable!$A$4:$U$393,5,FALSE)="","",VLOOKUP($A53,rawtable!$A$4:$U$393,9,FALSE)) -> 29.047 | K53: =IF(VLOOKUP($A53,rawtable!$A$4:$U$393,5,FALSE)="",VLOOKUP($A53,rawtable!$A$4:$U$393,21,FALSE),"") | L53: =IF(VLOOKUP($A53,rawtable!$A$4:$U$393,5,FALSE)="",IF(rawtable!$AB53=".","NA",VLOOKUP($A53,rawtable!$A$4:$AG$393,33,FALSE)),"")
A54: 50 | B54: =IF(VLOOKUP(A54,rawtable!$A$4:$U$393,5,FALSE)="",VLOOKUP(A54,rawtable!$A$4:$U$393,2,FALSE),"") | C54: =IF(VLOOKUP(A54,rawtable!$A$4:$U$393,5,FALSE)="","",VLOOKUP(A54,rawtable!$A$4:$U$393,5,FALSE)) -> Yes, One side of Street | D54: =IF(VLOOKUP($A54,rawtable!$A$4:$U$393,5,FALSE)="","",VLOOKUP($A54,rawtable!$A$4:$U$393,7,FALSE)) -> 33.932 | E54: =IF(VLOOKUP($A54,rawtable!$A$4:$U$393,5,FALSE)="",VLOOKUP($A54,rawtable!$A$4:$U$393,13,FALSE),"") | F54: =IF(VLOOKUP($A54,rawtable!$A$4:$U$393,5,FALSE)="",IF(rawtable!$V54=".","NA",VLOOKUP($A54,rawtable!$A$4:$AG$393,31,FALSE)),"") | G54: =IF(VLOOKUP($A54,rawtable!$A$4:$U$393,5,FALSE)="","",VLOOKUP($A54,rawtable!$A$4:$U$393,8,FALSE)) -> 29.575 | H54: =IF(VLOOKUP($A54,rawtable!$A$4:$U$393,5,FALSE)="",VLOOKUP($A54,rawtable!$A$4:$U$393,17,FALSE),"") | I54: =IF(VLOOKUP($A54,rawtable!$A$4:$U$393,5,FALSE)="",IF(rawtable!$Y54=".","NA",VLOOKUP($A54,rawtable!$A$4:$AG$393,32,FALSE)),"") | J54: =IF(VLOOKUP($A54,rawtable!$A$4:$U$393,5,FALSE)="","",VLOOKUP($A54,rawtable!$A$4:$U$393,9,FALSE)) -> 28.442 | K54: =IF(VLOOKUP($A54,rawtable!$A$4:$U$393,5,FALSE)="",VLOOKUP($A54,rawtable!$A$4:$U$393,21,FALSE),"") | L54: =IF(VLOOKUP($A54,rawtable!$A$4:$U$393,5,FALSE)="",IF(rawtable!$AB54=".","NA",VLOOKUP($A54,rawtable!$A$4:$AG$393,33,FALSE)),"")
A55: 51 | B55: =IF(VLOOKUP(A55,rawtable!$A$4:$U$393,5,FALSE)="",VLOOKUP(A55,rawtable!$A$4:$U$393,2,FALSE),"") | C55: =IF(VLOOKUP(A55,rawtable!$A$4:$U$393,5,FALSE)="","",VLOOKUP(A55,rawtable!$A$4:$U$393,5,FALSE)) -> Yes, Both sides of Street | D55: =IF(VLOOKUP($A55,rawtable!$A$4:$U$393,5,FALSE)="","",VLOOKUP($A55,rawtable!$A$4:$U$393,7,FALSE)) -> 36.625 | E55: =IF(VLOOKUP($A55,rawtable!$A$4:$U$393,5,FALSE)="",VLOOKUP($A55,rawtable!$A$4:$U$393,13,FALSE),"") | F55: =IF(VLOOKUP($A55,rawtable!$A$4:$U$393,5,FALSE)="",IF(rawtable!$V55=".","NA",VLOOKUP($A55,rawtable!$A$4:$AG$393,31,FALSE)),"") | G55: =IF(VLOOKUP($A55,rawtable!$A$4:$U$393,5,FALSE)="","",VLOOKUP($A55,rawtable!$A$4:$U$393,8,FALSE)) -> 39.542 | H55: =IF(VLOOKUP($A55,rawtable!$A$4:$U$393,5,FALSE)="",VLOOKUP($A55,rawtable!$A$4:$U$393,17,FALSE),"") | I55: =IF(VLOOKUP($A55,rawtable!$A$4:$U$393,5,FALSE)="",IF(rawtable!$Y55=".","NA",VLOOKUP($A55,rawtable!$A$4:$AG$393,32,FALSE)),"") | J55: =IF(VLOOKUP($A55,rawtable!$A$4:$U$393,5,FALSE)="","",VLOOKUP($A55,rawtable!$A$4:$U$393,9,FALSE)) -> 42.511 | K55: =IF(VLOOKUP($A55,rawtable!$A$4:$U$393,5,FALSE)="",VLOOKUP($A55,rawtable!$A$4:$U$393,21,FALSE),"") | L55: =IF(VLOOKUP($A55,rawtable!$A$4:$U$393,5,FALSE)="",IF(rawtable!$AB55=".","NA",VLOOKUP($A55,rawtable!$A$4:$AG$393,33,FALSE)),"")
A56: 52 | B56: =IF(VLOOKUP(A56,rawtable!$A$4:$U$393,5,FALSE)="",VLOOKUP(A56,rawtable!$A$4:$U$393,2,FALSE),"") -> other | D56: =IF(VLOOKUP($A56,rawtable!$A$4:$U$393,5,FALSE)="","",VLOOKUP($A56,rawtable!$A$4:$U$393,7,FALSE)) | E56: =IF(VLOOKUP($A56,rawtable!$A$4:$U$393,5,FALSE)="",VLOOKUP($A56,rawtable!$A$4:$U$393,13,FALSE),"") -> 0.90385 | F56: =IF(VLOOKUP($A56,rawtable!$A$4:$U$393,5,FALSE)="",IF(rawtable!$V56=".","NA",VLOOKUP($A56,rawtable!$A$4:$AG$393,31,FALSE)),"") -> -0.04 (-1.00, 0.79) | G56: =IF(VLOOKUP($A56,rawtable!$A$4:$U$393,5,FALSE)="","",VLOOKUP($A56,rawtable!$A$4:$U$393,8,FALSE)) | H56: =IF(VLOOKUP($A56,rawtable!$A$4:$U$393,5,FALSE)="",VLOOKUP($A56,rawtable!$A$4:$U$393,17,FALSE),"") -> 0.87234 | I56: =IF(VLOOKUP($A56,rawtable!$A$4:$U$393,5,FALSE)="",IF(rawtable!$Y56=".","NA",VLOOKUP($A56,rawtable!$A$4:$AG$393,32,FALSE)),"") -> 0.30 (-0.30, 0.77) | J56: =IF(VLOOKUP($A56,rawtable!$A$4:$U$393,5,FALSE)="","",VLOOKUP($A56,rawtable!$A$4:$U$393,9,FALSE)) | K56: =IF(VLOOKUP($A56,rawtable!$A$4:$U$393,5,FALSE)="",VLOOKUP($A56,rawtable!$A$4:$U$393,21,FALSE),"") -> 0.95 | L56: =IF(VLOOKUP($A56,rawtable!$A$4:$U$393,5,FALSE)="",IF(rawtable!$AB56=".","NA",VLOOKUP($A56,rawtable!$A$4:$AG$393,33,FALSE)),"") -> 0.26 (-0.48, 0.86)
A57: 53 | B57: =IF(VLOOKUP(A57,rawtable!$A$4:$U$393,5,FALSE)="",VLOOKUP(A57,rawtable!$A$4:$U$393,2,FALSE),"") | C57: =IF(VLOOKUP(A57,rawtable!$A$4:$U$393,5,FALSE)="","",VLOOKUP(A57,rawtable!$A$4:$U$393,5,FALSE)) -> Neither side of Street | D57: =IF(VLOOKUP($A57,rawtable!$A$4:$U$393,5,FALSE)="","",VLOOKUP($A57,rawtable!$A$4:$U$393,7,FALSE)) -> 95.153 | E57: =IF(VLOOKUP($A57,rawtable!$A$4:$U$393,5,FALSE)="",VLOOKUP($A57,rawtable!$A$4:$U$393,13,FALSE),"") | F57: =IF(VLOOKUP($A57,rawtable!$A$4:$U$393,5,FALSE)="",IF(rawtable!$V57=".","NA",VLOOKUP($A57,rawtable!$A$4:$AG$393,31,FALSE)),"") | G57: =IF(VLOOKUP($A57,rawtable!$A$4:$U$393,5,FALSE)="","",VLOOKUP($A57,rawtable!$A$4:$U$393,8,FALSE)) -> 92.074 | H57: =IF(VLOOKUP($A57,rawtable!$A$4:$U$393,5,FALSE)="",VLOOKUP($A57,rawtable!$A$4:$U$393,17,FALSE),"") | I57: =IF(VLOOKUP($A57,rawtable!$A$4:$U$393,5,FALSE)="",IF(rawtable!$Y57=".","NA",VLOOKUP($A57,rawtable!$A$4:$AG$393,32,FALSE)),"") | J57: =IF(VLOOKUP($A57,rawtable!$A$4:$U$393,5,FALSE)="","",VLOOKUP($A57,rawtable!$A$4:$U$393,9,FALSE)) -> 98.033 | K57: =IF(VLOOKUP($A57,rawtable!$A$4:$U$393,5,FALSE)="",VLOOKUP($A57,rawtable!$A$4:$U$393,21,FALSE),"") | L57: =IF(VLOOKUP($A57,rawtable!$A$4:$U$393,5,FALSE)="",IF(rawtable!$AB57=".","NA",VLOOKUP($A57,rawtable!$A$4:$AG$393,33,FALSE)),"")
A58: 54 | B58: =IF(VLOOKUP(A58,rawtable!$A$4:$U$393,5,FALSE)="",VLOOKUP(A58,rawtable!$A$4:$U$393,2,FALSE),"") | C58: =IF(VLOOKUP(A58,rawtable!$A$4:$U$393,5,FALSE)="","",VLOOKUP(A58,rawtable!$A$4:$U$393,5,FALSE)) -> Yes, One side of Street | D58: =IF(VLOOKUP($A58,rawtable!$A$4:$U$393,5,FALSE)="","",VLOOKUP($A58,rawtable!$A$4:$U$393,7,FALSE)) -> 4.668 | E58: =IF(VLOOKUP($A58,rawtable!$A$4:$U$393,5,FALSE)="",VLOOKUP($A58,rawtable!$A$4:$U$393,13,FALSE),"") | F58: =IF(VLOOKUP($A58,rawtable!$A$4:$U$393,5,FALSE)="",IF(rawtable!$V58=".","NA",VLOOKUP($A58,rawtable!$A$4:$AG$393,31,FALSE)),"") | G58: =IF(VLOOKUP($A58,rawtable!$A$4:$U$393,5,FALSE)="","",VLOOKUP($A58,rawtable!$A$4:$U$393,8,FALSE)) -> 4.384 | H58: =IF(VLOOKUP($A58,rawtable!$A$4:$U$393,5,FALSE)="",VLOOKUP($A58,rawtable!$A$4:$U$393,17,FALSE),"") | I58: =IF(VLOOKUP($A58,rawtable!$A$4:$U$393,5,FALSE)="",IF(rawtable!$Y58=".","NA",VLOOKUP($A58,rawtable!$A$4:$AG$393,32,FALSE)),"") | J58: =IF(VLOOKUP($A58,rawtable!$A$4:$U$393,5,FALSE)="","",VLOOKUP($A58,rawtable!$A$4:$U$393,9,FALSE)) -> 1.815 | K58: =IF(VLOOKUP($A58,rawtable!$A$4:$U$393,5,FALSE)="",VLOOKUP($A58,rawtable!$A$4:$U$393,21,FALSE),"") | L58: =IF(VLOOKUP($A58,rawtable!$A$4:$U$393,5,FALSE)="",IF(rawtable!$AB58=".","NA",VLOOKUP($A58,rawtable!$A$4:$AG$393,33,FALSE)),"")
A59: 55 | B59: =IF(VLOOKUP(A59,rawtable!$A$4:$U$393,5,FALSE)="",VLOOKUP(A59,rawtable!$A$4:$U$393,2,FALSE),"") | C59: =IF(VLOOKUP(A59,rawtable!$A$4:$U$393,5,FALSE)="","",VLOOKUP(A59,rawtable!$A$4:$U$393,5,FALSE)) -> Yes, Both sides of Street | D59: =IF(VLOOKUP($A59,rawtable!$A$4:$U$393,5,FALSE)="","",VLOOKUP($A59,rawtable!$A$4:$U$393,7,FALSE)) -> 0.18 | E59: =IF(VLOOKUP($A59,rawtable!$A$4:$U$393,5,FALSE)="",VLOOKUP($A59,rawtable!$A$4:$U$393,13,FALSE),"") | F59: =IF(VLOOKUP($A59,rawtable!$A$4:$U$393,5,FALSE)="",IF(rawtable!$V59=".","NA",VLOOKUP($A59,rawtable!$A$4:$AG$393,31,FALSE)),"") | G59: =IF(VLOOKUP($A59,rawtable!$A$4:$U$393,5,FALSE)="","",VLOOKUP($A59,rawtable!$A$4:$U$393,8,FALSE)) -> 3.541 | H59: =IF(VLOOKUP($A59,rawtable!$A$4:$U$393,5,FALSE)="",VLOOKUP($A59,rawtable!$A$4:$U$393,17,FALSE),"") | I59: =IF(VLOOKUP($A59,rawtable!$A$4:$U$393,5,FALSE)="",IF(rawtable!$Y59=".","NA",VLOOKUP($A59,rawtable!$A$4:$AG$393,32,FALSE)),"") | J59: =IF(VLOOKUP($A59,rawtable!$A$4:$U$393,5,FALSE)="","",VLOOKUP($A59,rawtable!$A$4:$U$393,9,FALSE)) -> 0.151 | K59: =IF(VLOOKUP($A59,rawtable!$A$4:$U$393,5,FALSE)="",VLOOKUP($A59,rawtable!$A$4:$U$393,21,FALSE),"") | L59: =IF(VLOOKUP($A59,rawtable!$A$4:$U$393,5,FALSE)="",IF(rawtable!$AB59=".","NA",VLOOKUP($A59,rawtable!$A$4:$AG$393,33,FALSE)),"")
A60: 56 | B60: =IF(VLOOKUP(A60,rawtable!$A$4:$U$393,5,FALSE)="",VLOOKUP(A60,rawtable!$A$4:$U$393,2,FALSE),"") -> cliffs_ravines | D60: =IF(VLOOKUP($A60,rawtable!$A$4:$U$393,5,FALSE)="","",VLOOKUP($A60,rawtable!$A$4:$U$393,7,FALSE)) | E60: =IF(VLOOKUP($A60,rawtable!$A$4:$U$393,5,FALSE)="",VLOOKUP($A60,rawtable!$A$4:$U$393,13,FALSE),"") -> 0.98214 | F60: =IF(VLOOKUP($A60,rawtable!$A$4:$U$393,5,FALSE)="",IF(rawtable!$V60=".","NA",VLOOKUP($A60,rawtable!$A$4:$AG$393,31,FALSE)),"") -> 0.79 (0.38, 1.00) | G60: =IF(VLOOKUP($A60,rawtable!$A$4:$U$393,5,FALSE)="","",VLOOKUP($A60,rawtable!$A$4:$U$393,8,FALSE)) | H60: =IF(VLOOKUP($A60,rawtable!$A$4:$U$393,5,FALSE)="",VLOOKUP($A60,rawtable!$A$4:$U$393,17,FALSE),"") -> 1 | I60: =IF(VLOOKUP($A60,rawtable!$A$4:$U$393,5,FALSE)="",IF(rawtable!$Y60=".","NA",VLOOKUP($A60,rawtable!$A$4:$AG$393,32,FALSE)),"") -> 0.00 (1.00, 1.00) | J60: =IF(VLOOKUP($A60,rawtable!$A$4:$U$393,5,FALSE)="","",VLOOKUP($A60,rawtable!$A$4:$U$393,9,FALSE)) | K60: =IF(VLOOKUP($A60,rawtable!$A$4:$U$393,5,FALSE)="",VLOOKUP($A60,rawtable!$A$4:$U$393,21,FALSE),"") -> 0.92 | L60: =IF(VLOOKUP($A60,rawtable!$A$4:$U$393,5,FALSE)="",IF(rawtable!$AB60=".","NA",VLOOKUP($A60,rawtable!$A$4:$AG$393,33,FALSE)),"") -> 0.56 (0.23, 0.83)
A61: 57 | B61: =IF(VLOOKUP(A61,rawtable!$A$4:$U$393,5,FALSE)="",VLOOKUP(A61,rawtable!$A$4:$U$393,2,FALSE),"") | C61: =IF(VLOOKUP(A61,rawtable!$A$4:$U$393,5,FALSE)="","",VLOOKUP(A61,rawtable!$A$4:$U$393,5,FALSE)) -> No | D61: =IF(VLOOKUP($A61,rawtable!$A$4:$U$393,5,FALSE)="","",VLOOKUP($A61,rawtable!$A$4:$U$393,7,FALSE)) -> 85.305 | E61: =IF(VLOOKUP($A61,rawtable!$A$4:$U$393,5,FALSE)="",VLOOKUP($A61,rawtable!$A$4:$U$393,13,FALSE),"") | F61: =IF(VLOOKUP($A61,rawtable!$A$4:$U$393,5,FALSE)="",IF(rawtable!$V61=".","NA",VLOOKUP($A61,rawtable!$A$4:$AG$393,31,FALSE)),"") | G61: =IF(VLOOKUP($A61,rawtable!$A$4:$U$393,5,FALSE)="","",VLOOKUP($A61,rawtable!$A$4:$U$393,8,FALSE)) -> 96.399 | H61: =IF(VLOOKUP($A61,rawtable!$A$4:$U$393,5,FALSE)="",VLOOKUP($A61,rawtable!$A$4:$U$393,17,FALSE),"") | I61: =IF(VLOOKUP($A61,rawtable!$A$4:$U$393,5,FALSE)="",IF(rawtable!$Y61=".","NA",VLOOKUP($A61,rawtable!$A$4:$AG$393,32,FALSE)),"") | J61: =IF(VLOOKUP($A61,rawtable!$A$4:$U$393,5,FALSE)="","",VLOOKUP($A61,rawtable!$A$4:$U$393,9,FALSE)) -> 90.923 | K61: =IF(VLOOKUP($A61,rawtable!$A$4:$U$393,5,FALSE)="",VLOOKUP($A61,rawtable!$A$4:$U$393,21,FALSE),"") | L61: =IF(VLOOKUP($A61,rawtable!$A$4:$U$393,5,FALSE)="",IF(rawtable!$AB61=".","NA",VLOOKUP($A61,rawtable!$A$4:$AG$393,33,FALSE)),"")
A62: 58 | B62: =IF(VLOOKUP(A62,rawtable!$A$4:$U$393,5,FALSE)="",VLOOKUP(A62,rawtable!$A$4:$U$393,2,FALSE),"") | C62: =IF(VLOOKUP(A62,rawtable!$A$4:$U$393,5,FALSE)="","",VLOOKUP(A62,rawtable!$A$4:$U$393,5,FALSE)) -> Yes | D62: =IF(VLOOKUP($A62,rawtable!$A$4:$U$393,5,FALSE)="","",VLOOKUP($A62,rawtable!$A$4:$U$393,7,FALSE)) -> 14.695 | E62: =IF(VLOOKUP($A62,rawtable!$A$4:$U$393,5,FALSE)="",VLOOKUP($A62,rawtable!$A$4:$U$393,13,FALSE),"") | F62: =IF(VLOOKUP($A62,rawtable!$A$4:$U$393,5,FALSE)="",IF(rawtable!$V62=".","NA",VLOOKUP($A62,rawtable!$A$4:$AG$393,31,FALSE)),"") | G62: =IF(VLOOKUP($A62,rawtable!$A$4:$U$393,5,FALSE)="","",VLOOKUP($A62,rawtable!$A$4:$U$393,8,FALSE)) -> 3.601 | H62: =IF(VLOOKUP($A62,rawtable!$A$4:$U$393,5,FALSE)="",VLOOKUP($A62,rawtable!$A$4:$U$393,17,FALSE),"") | I62: =IF(VLOOKUP($A62,rawtable!$A$4:$U$393,5,FALSE)="",IF(rawtable!$Y62=".","NA",VLOOKUP($A62,rawtable!$A$4:$AG$393,32,FALSE)),"") | J62: =IF(VLOOKUP($A62,rawtable!$A$4:$U$393,5,FALSE)="","",VLOOKUP($A62,rawtable!$A$4:$U$393,9,FALSE)) -> 9.077 | K62: =IF(VLOOKUP($A62,rawtable!$A$4:$U$393,5,FALSE)="",VLOOKUP($A62,rawtable!$A$4:$U$393,21,FALSE),"") | L62: =IF(VLOOKUP($A62,rawtable!$A$4:$U$393,5,FALSE)="",IF(rawtable!$AB62=".","NA",VLOOKUP($A62,rawtable!$A$4:$AG$393,33,FALSE)),"")
A63: 59 | B63: =IF(VLOOKUP(A63,rawtable!$A$4:$U$393,5,FALSE)="",VLOOKUP(A63,rawtable!$A$4:$U$393,2,FALSE),"") -> amt_street_trees | D63: =IF(VLOOKUP($A63,rawtable!$A$4:$U$393,5,FALSE)="","",VLOOKUP($A63,rawtable!$A$4:$U$393,7,FALSE)) | E63: =IF(VLOOKUP($A63,rawtable!$A$4:$U$393,5,FALSE)="",VLOOKUP($A63,rawtable!$A$4:$U$393,13,FALSE),"") -> 0.86441 | F63: =IF(VLOOKUP($A63,rawtable!$A$4:$U$393,5,FALSE)="",IF(rawtable!$V63=".","NA",VLOOKUP($A63,rawtable!$A$4:$AG$393,31,FALSE)),"") -> 0.66 (0.41, 0.88) | G63: =IF(VLOOKUP($A63,rawtable!$A$4:$U$393,5,FALSE)="","",VLOOKUP($A63,rawtable!$A$4:$U$393,8,FALSE)) | H63: =IF(VLOOKUP($A63,rawtable!$A$4:$U$393,5,FALSE)="",VLOOKUP($A63,rawtable!$A$4:$U$393,17,FALSE),"") -> 0.96078 | I63: =IF(VLOOKUP($A63,rawtable!$A$4:$U$393,5,FALSE)="",IF(rawtable!$Y63=".","NA",VLOOKUP($A63,rawtable!$A$4:$AG$393,32,FALSE)),"") -> 0.94 (0.83, 1.00) | J63: =IF(VLOOKUP($A63,rawtable!$A$4:$U$393,5,FALSE)="","",VLOOKUP($A63,rawtable!$A$4:$U$393,9,FALSE)) | K63: =IF(VLOOKUP($A63,rawtable!$A$4:$U$393,5,FALSE)="",VLOOKUP($A63,rawtable!$A$4:$U$393,21,FALSE),"") -> 0.76 | L63: =IF(VLOOKUP($A63,rawtable!$A$4:$U$393,5,FALSE)="",IF(rawtable!$AB63=".","NA",VLOOKUP($A63,rawtable!$A$4:$AG$393,33,FALSE)),"") -> 0.43 (0.20, 0.62)
A64: 60 | B64: =IF(VLOOKUP(A64,rawtable!$A$4:$U$393,5,FALSE)="",VLOOKUP(A64,rawtable!$A$4:$U$393,2,FALSE),"") | C64: =IF(VLOOKUP(A64,rawtable!$A$4:$U$393,5,FALSE)="","",VLOOKUP(A64,rawtable!$A$4:$U$393,5,FALSE)) -> None or Few | D64: =IF(VLOOKUP($A64,rawtable!$A$4:$U$393,5,FALSE)="","",VLOOKUP($A64,rawtable!$A$4:$U$393,7,FALSE)) -> 74.067 | E64: =IF(VLOOKUP($A64,rawtable!$A$4:$U$393,5,FALSE)="",VLOOKUP($A64,rawtable!$A$4:$U$393,13,FALSE),"") | F64: =IF(VLOOKUP($A64,rawtable!$A$4:$U$393,5,FALSE)="",IF(rawtable!$V64=".","NA",VLOOKUP($A64,rawtable!$A$4:$AG$393,31,FALSE)),"") | G64: =IF(VLOOKUP($A64,rawtable!$A$4:$U$393,5,FALSE)="","",VLOOKUP($A64,rawtable!$A$4:$U$393,8,FALSE)) -> 68.73 | H64: =IF(VLOOKUP($A64,rawtable!$A$4:$U$393,5,FALSE)="",VLOOKUP($A64,rawtable!$A$4:$U$393,17,FALSE),"") | I64: =IF(VLOOKUP($A64,rawtable!$A$4:$U$393,5,FALSE)="",IF(rawtable!$Y64=".","NA",VLOOKUP($A64,rawtable!$A$4:$AG$393,32,FALSE)),"") | J64: =IF(VLOOKUP($A64,rawtable!$A$4:$U$393,5,FALSE)="","",VLOOKUP($A64,rawtable!$A$4:$U$393,9,FALSE)) -> 77.307 | K64: =IF(VLOOKUP($A64,rawtable!$A$4:$U$393,5,FALSE)="",VLOOKUP($A64,rawtable!$A$4:$U$393,21,FALSE),"") | L64: =IF(VLOOKUP($A64,rawtable!$A$4:$U$393,5,FALSE)="",IF(rawtable!$AB64=".","NA",VLOOKUP($A64,rawtable!$A$4:$AG$393,33,FALSE)),"")
A65: 61 | B65: =IF(VLOOKUP(A65,rawtable!$A$4:$U$393,5,FALSE)="",VLOOKUP(A65,rawtable!$A$4:$U$393,2,FALSE),"") | C65: =IF(VLOOKUP(A65,rawtable!$A$4:$U$393,5,FALSE)="","",VLOOKUP(A65,rawtable!$A$4:$U$393,5,FALSE)) -> Some | D65: =IF(VLOOKUP($A65,rawtable!$A$4:$U$393,5,FALSE)="","",VLOOKUP($A65,rawtable!$A$4:$U$393,7,FALSE)) -> 16.519 | E65: =IF(VLOOKUP($A65,rawtable!$A$4:$U$393,5,FALSE)="",VLOOKUP($A65,rawtable!$A$4:$U$393,13,FALSE),"") | F65: =IF(VLOOKUP($A65,rawtable!$A$4:$U$393,5,FALSE)="",IF(rawtable!$V65=".","NA",VLOOKUP($A65,rawtable!$A$4:$AG$393,31,FALSE)),"") | G65: =IF(VLOOKUP($A65,rawtable!$A$4:$U$393,5,FALSE)="","",VLOOKUP($A65,rawtable!$A$4:$U$393,8,FALSE)) -> 19.544 | H65: =IF(VLOOKUP($A65,rawtable!$A$4:$U$393,5,FALSE)="",VLOOKUP($A65,rawtable!$A$4:$U$393,17,FALSE),"") | I65: =IF(VLOOKUP($A65,rawtable!$A$4:$U$393,5,FALSE)="",IF(rawtable!$Y65=".","NA",VLOOKUP($A65,rawtable!$A$4:$AG$393,32,FALSE)),"") | J65: =IF(VLOOKUP($A65,rawtable!$A$4:$U$393,5,FALSE)="","",VLOOKUP($A65,rawtable!$A$4:$U$393,9,FALSE)) -> 12.557 | K65: =IF(VLOOKUP($A65,rawtable!$A$4:$U$393,5,FALSE)="",VLOOKUP($A65,rawtable!$A$4:$U$393,21,FALSE),"") | L65: =IF(VLOOKUP($A65,rawtable!$A$4:$U$393,5,FALSE)="",IF(rawtable!$AB65=".","NA",VLOOKUP($A65,rawtable!$A$4:$AG$393,33,FALSE)),"")
A66: 62 | B66: =IF(VLOOKUP(A66,rawtable!$A$4:$U$393,5,FALSE)="",VLOOKUP(A66,rawtable!$A$4:$U$393,2,FALSE),"") | C66: =IF(VLOOKUP(A66,rawtable!$A$4:$U$393,5,FALSE)="","",VLOOKUP(A66,rawtable!$A$4:$U$393,5,FALSE)) -> Many | D66: =IF(VLOOKUP($A66,rawtable!$A$4:$U$393,5,FALSE)="","",VLOOKUP($A66,rawtable!$A$4:$U$393,7,FALSE)) -> 9.414 | E66: =IF(VLOOKUP($A66,rawtable!$A$4:$U$393,5,FALSE)="",VLOOKUP($A66,rawtable!$A$4:$U$393,13,FALSE),"") | F66: =IF(VLOOKUP($A66,rawtable!$A$4:$U$393,5,FALSE)="",IF(rawtable!$V66=".","NA",VLOOKUP($A66,rawtable!$A$4:$AG$393,31,FALSE)),"") | G66: =IF(VLOOKUP($A66,rawtable!$A$4:$U$393,5,FALSE)="","",VLOOKUP($A66,rawtable!$A$4:$U$393,8,FALSE)) -> 11.726 | H66: =IF(VLOOKUP($A66,rawtable!$A$4:$U$393,5,FALSE)="",VLOOKUP($A66,rawtable!$A$4:$U$393,17,FALSE),"") | I66: =IF(VLOOKUP($A66,rawtable!$A$4:$U$393,5,FALSE)="",IF(rawtable!$Y66=".","NA",VLOOKUP($A66,rawtable!$A$4:$AG$393,32,FALSE)),"") | J66: =IF(VLOOKUP($A66,rawtable!$A$4:$U$393,5,FALSE)="","",VLOOKUP($A66,rawtable!$A$4:$U$393,9,FALSE)) -> 10.136 | K66: =IF(VLOOKUP($A66,rawtable!$A$4:$U$393,5,FALSE)="",VLOOKUP($A66,rawtable!$A$4:$U$393,21,FALSE),"") | L66: =IF(VLOOKUP($A66,rawtable!$A$4:$U$393,5,FALSE)="",IF(rawtable!$AB66=".","NA",VLOOKUP($A66,rawtable!$A$4:$AG$393,33,FALSE)),"")
A67: 63 | B67: =IF(VLOOKUP(A67,rawtable!$A$4:$U$393,5,FALSE)="",VLOOKUP(A67,rawtable!$A$4:$U$393,2,FALSE),"") -> trees_shade_sidewalk | D67: =IF(VLOOKUP($A67,rawtable!$A$4:$U$393,5,FALSE)="","",VLOOKUP($A67,rawtable!$A$4:$U$393,7,FALSE)) | E67: =IF(VLOOKUP($A67,rawtable!$A$4:$U$393,5,FALSE)="",VLOOKUP($A67,rawtable!$A$4:$U$393,13,FALSE),"") -> 0.89831 | F67: =IF(VLOOKUP($A67,rawtable!$A$4:$U$393,5,FALSE)="",IF(rawtable!$V67=".","NA",VLOOKUP($A67,rawtable!$A$4:$AG$393,31,FALSE)),"") -> 0.60 (0.24, 0.92) | G67: =IF(VLOOKUP($A67,rawtable!$A$4:$U$393,5,FALSE)="","",VLOOKUP($A67,rawtable!$A$4:$U$393,8,FALSE)) | H67: =IF(VLOOKUP($A67,rawtable!$A$4:$U$393,5,FALSE)="",VLOOKUP($A67,rawtable!$A$4:$U$393,17,FALSE),"") -> 0.94118 | I67: =IF(VLOOKUP($A67,rawtable!$A$4:$U$393,5,FALSE)="",IF(rawtable!$Y67=".","NA",VLOOKUP($A67,rawtable!$A$4:$AG$393,32,FALSE)),"") -> 0.89 (0.68, 1.00) | J67: =IF(VLOOKUP($A67,rawtable!$A$4:$U$393,5,FALSE)="","",VLOOKUP($A67,rawtable!$A$4:$U$393,9,FALSE)) | K67: =IF(VLOOKUP($A67,rawtable!$A$4:$U$393,5,FALSE)="",VLOOKUP($A67,rawtable!$A$4:$U$393,21,FALSE),"") -> 0.79 | L67: =IF(VLOOKUP($A67,rawtable!$A$4:$U$393,5,FALSE)="",IF(rawtable!$AB67=".","NA",VLOOKUP($A67,rawtable!$A$4:$AG$393,33,FALSE)),"") -> 0.30 (0.03, 0.57)
A68: 64 | B68: =IF(VLOOKUP(A68,rawtable!$A$4:$U$393,5,FALSE)="",VLOOKUP(A68,rawtable!$A$4:$U$393,2,FALSE),"") | C68: =IF(VLOOKUP(A68,rawtable!$A$4:$U$393,5,FALSE)="","",VLOOKUP(A68,rawtable!$A$4:$U$393,5,FALSE)) -> None or Few | D68: =IF(VLOOKUP($A68,rawtable!$A$4:$U$393,5,FALSE)="","",VLOOKUP($A68,rawtable!$A$4:$U$393,7,FALSE)) -> 80.179 | E68: =IF(VLOOKUP($A68,rawtable!$A$4:$U$393,5,FALSE)="",VLOOKUP($A68,rawtable!$A$4:$U$393,13,FALSE),"") | F68: =IF(VLOOKUP($A68,rawtable!$A$4:$U$393,5,FALSE)="",IF(rawtable!$V68=".","NA",VLOOKUP($A68,rawtable!$A$4:$AG$393,31,FALSE)),"") | G68: =IF(VLOOKUP($A68,rawtable!$A$4:$U$393,5,FALSE)="","",VLOOKUP($A68,rawtable!$A$4:$U$393,8,FALSE)) -> 74.715 | H68: =IF(VLOOKUP($A68,rawtable!$A$4:$U$393,5,FALSE)="",VLOOKUP($A68,rawtable!$A$4:$U$393,17,FALSE),"") | I68: =IF(VLOOKUP($A68,rawtable!$A$4:$U$393,5,FALSE)="",IF(rawtable!$Y68=".","NA",VLOOKUP($A68,rawtable!$A$4:$AG$393,32,FALSE)),"") | J68: =IF(VLOOKUP($A68,rawtable!$A$4:$U$393,5,FALSE)="","",VLOOKUP($A68,rawtable!$A$4:$U$393,9,FALSE)) -> 81.997 | K68: =IF(VLOOKUP($A68,rawtable!$A$4:$U$393,5,FALSE)="",VLOOKUP($A68,rawtable!$A$4:$U$393,21,FALSE),"") | L68: =IF(VLOOKUP($A68,rawtable!$A$4:$U$393,5,FALSE)="",IF(rawtable!$AB68=".","NA",VLOOKUP($A68,rawtable!$A$4:$AG$393,33,FALSE)),"")
A69: 65 | B69: =IF(VLOOKUP(A69,rawtable!$A$4:$U$393,5,FALSE)="",VLOOKUP(A69,rawtable!$A$4:$U$393,2,FALSE),"") | C69: =IF(VLOOKUP(A69,rawtable!$A$4:$U$393,5,FALSE)="","",VLOOKUP(A69,rawtable!$A$4:$U$393,5,FALSE)) -> Some | D69: =IF(VLOOKUP($A69,rawtable!$A$4:$U$393,5,FALSE)="","",VLOOKUP($A69,rawtable!$A$4:$U$393,7,FALSE)) -> 13.393 | E69: =IF(VLOOKUP($A69,rawtable!$A$4:$U$393,5,FALSE)="",VLOOKUP($A69,rawtable!$A$4:$U$393,13,FALSE),"") | F69: =IF(VLOOKUP($A69,rawtable!$A$4:$U$393,5,FALSE)="",IF(rawtable!$V69=".","NA",VLOOKUP($A69,rawtable!$A$4:$AG$393,31,FALSE)),"") | G69: =IF(VLOOKUP($A69,rawtable!$A$4:$U$393,5,FALSE)="","",VLOOKUP($A69,rawtable!$A$4:$U$393,8,FALSE)) -> 18.597 | H69: =IF(VLOOKUP($A69,rawtable!$A$4:$U$393,5,FALSE)="",VLOOKUP($A69,rawtable!$A$4:$U$393,17,FALSE),"") | I69: =IF(VLOOKUP($A69,rawtable!$A$4:$U$393,5,FALSE)="",IF(rawtable!$Y69=".","NA",VLOOKUP($A69,rawtable!$A$4:$AG$393,32,FALSE)),"") | J69: =IF(VLOOKUP($A69,rawtable!$A$4:$U$393,5,FALSE)="","",VLOOKUP($A69,rawtable!$A$4:$U$393,9,FALSE)) -> 12.859 | K69: =IF(VLOOKUP($A69,rawtable!$A$4:$U$393,5,FALSE)="",VLOOKUP($A69,rawtable!$A$4:$U$393,21,FALSE),"") | L69: =IF(VLOOKUP($A69,rawtable!$A$4:$U$393,5,FALSE)="",IF(rawtable!$AB69=".","NA",VLOOKUP($A69,rawtable!$A$4:$AG$393,33,FALSE)),"")
A70: 66 | B70: =IF(VLOOKUP(A70,rawtable!$A$4:$U$393,5,FALSE)="",VLOOKUP(A70,rawtable!$A$4:$U$393,2,FALSE),"") | C70: =IF(VLOOKUP(A70,rawtable!$A$4:$U$393,5,FALSE)="","",VLOOKUP(A70,rawtable!$A$4:$U$393,5,FALSE)) -> Many | D70: =IF(VLOOKUP($A70,rawtable!$A$4:$U$393,5,FALSE)="","",VLOOKUP($A70,rawtable!$A$4:$U$393,7,FALSE)) -> 6.429 | E70: =IF(VLOOKUP($A70,rawtable!$A$4:$U$393,5,FALSE)="",VLOOKUP($A70,rawtable!$A$4:$U$393,13,FALSE),"") | F70: =IF(VLOOKUP($A70,rawtable!$A$4:$U$393,5,FALSE)="",IF(rawtable!$V70=".","NA",VLOOKUP($A70,rawtable!$A$4:$AG$393,31,FALSE)),"") | G70: =IF(VLOOKUP($A70,rawtable!$A$4:$U$393,5,FALSE)="","",VLOOKUP($A70,rawtable!$A$4:$U$393,8,FALSE)) -> 6.688 | H70: =IF(VLOOKUP($A70,rawtable!$A$4:$U$393,5,FALSE)="",VLOOKUP($A70,rawtable!$A$4:$U$393,17,FALSE),"") | I70: =IF(VLOOKUP($A70,rawtable!$A$4:$U$393,5,FALSE)="",IF(rawtable!$Y70=".","NA",VLOOKUP($A70,rawtable!$A$4:$AG$393,32,FALSE)),"") | J70: =IF(VLOOKUP($A70,rawtable!$A$4:$U$393,5,FALSE)="","",VLOOKUP($A70,rawtable!$A$4:$U$393,9,FALSE)) -> 5.144 | K70: =IF(VLOOKUP($A70,rawtable!$A$4:$U$393,5,FALSE)="",VLOOKUP($A70,rawtable!$A$4:$U$393,21,FALSE),"") | L70: =IF(VLOOKUP($A70,rawtable!$A$4:$U$393,5,FALSE)="",IF(rawtable!$AB70=".","NA",VLOOKUP($A70,rawtable!$A$4:$AG$393,33,FALSE)),"")
A71: 67 | B71: =IF(VLOOKUP(A71,rawtable!$A$4:$U$393,5,FALSE)="",VLOOKUP(A71,rawtable!$A$4:$U$393,2,FALSE),"") -> slope | D71: =IF(VLOOKUP($A71,rawtable!$A$4:$U$393,5,FALSE)="","",VLOOKUP($A71,rawtable!$A$4:$U$393,7,FALSE)) | E71: =IF(VLOOKUP($A71,rawtable!$A$4:$U$393,5,FALSE)="",VLOOKUP($A71,rawtable!$A$4:$U$393,13,FALSE),"") -> 0.84746 | F71: =IF(VLOOKUP($A71,rawtable!$A$4:$U$393,5,FALSE)="",IF(rawtable!$V71=".","NA",VLOOKUP($A71,rawtable!$A$4:$AG$393,31,FALSE)),"") -> 0.76 (0.60, 0.90) | G71: =IF(VLOOKUP($A71,rawtable!$A$4:$U$393,5,FALSE)="","",VLOOKUP($A71,rawtable!$A$4:$U$393,8,FALSE)) | H71: =IF(VLOOKUP($A71,rawtable!$A$4:$U$393,5,FALSE)="",VLOOKUP($A71,rawtable!$A$4:$U$393,17,FALSE),"") -> 0.88235 | I71: =IF(VLOOKUP($A71,rawtable!$A$4:$U$393,5,FALSE)="",IF(rawtable!$Y71=".","NA",VLOOKUP($A71,rawtable!$A$4:$AG$393,32,FALSE)),"") -> 0.91 (0.79, 0.99) | J71: =IF(VLOOKUP($A71,rawtable!$A$4:$U$393,5,FALSE)="","",VLOOKUP($A71,rawtable!$A$4:$U$393,9,FALSE)) | K71: =IF(VLOOKUP($A71,rawtable!$A$4:$U$393,5,FALSE)="",VLOOKUP($A71,rawtable!$A$4:$U$393,21,FALSE),"") -> 0.8 | L71: =IF(VLOOKUP($A71,rawtable!$A$4:$U$393,5,FALSE)="",IF(rawtable!$AB71=".","NA",VLOOKUP($A71,rawtable!$A$4:$AG$393,33,FALSE)),"") -> 0.72 (0.59, 0.84)
A72: 68 | B72: =IF(VLOOKUP(A72,rawtable!$A$4:$U$393,5,FALSE)="",VLOOKUP(A72,rawtable!$A$4:$U$393,2,FALSE),"") | C72: =IF(VLOOKUP(A72,rawtable!$A$4:$U$393,5,FALSE)="","",VLOOKUP(A72,rawtable!$A$4:$U$393,5,FALSE)) -> Flat | D72: =IF(VLOOKUP($A72,rawtable!$A$4:$U$393,5,FALSE)="","",VLOOKUP($A72,rawtable!$A$4:$U$393,7,FALSE)) -> 62.633 | E72: =IF(VLOOKUP($A72,rawtable!$A$4:$U$393,5,FALSE)="",VLOOKUP($A72,rawtable!$A$4:$U$393,13,FALSE),"") | F72: =IF(VLOOKUP($A72,rawtable!$A$4:$U$393,5,FALSE)="",IF(rawtable!$V72=".","NA",VLOOKUP($A72,rawtable!$A$4:$AG$393,31,FALSE)),"") | G72: =IF(VLOOKUP($A72,rawtable!$A$4:$U$393,5,FALSE)="","",VLOOKUP($A72,rawtable!$A$4:$U$393,8,FALSE)) -> 63.339 | H72: =IF(VLOOKUP($A72,rawtable!$A$4:$U$393,5,FALSE)="",VLOOKUP($A72,rawtable!$A$4:$U$393,17,FALSE),"") | I72: =IF(VLOOKUP($A72,rawtable!$A$4:$U$393,5,FALSE)="",IF(rawtable!$Y72=".","NA",VLOOKUP($A72,rawtable!$A$4:$AG$393,32,FALSE)),"") | J72: =IF(VLOOKUP($A72,rawtable!$A$4:$U$393,5,FALSE)="","",VLOOKUP($A72,rawtable!$A$4:$U$393,9,FALSE)) -> 65.507 | K72: =IF(VLOOKUP($A72,rawtable!$A$4:$U$393,5,FALSE)="",VLOOKUP($A72,rawtable!$A$4:$U$393,21,FALSE),"") | L72: =IF(VLOOKUP($A72,rawtable!$A$4:$U$393,5,FALSE)="",IF(rawtable!$AB72=".","NA",VLOOKUP($A72,rawtable!$A$4:$AG$393,33,FALSE)),"")
A73: 69 | B73: =IF(VLOOKUP(A73,rawtable!$A$4:$U$393,5,FALSE)="",VLOOKUP(A73,rawtable!$A$4:$U$393,2,FALSE),"") | C73: =IF(VLOOKUP(A73,rawtable!$A$4:$U$393,5,FALSE)="","",VLOOKUP(A73,rawtable!$A$4:$U$393,5,FALSE)) -> Slight Hill | D73: =IF(VLOOKUP($A73,rawtable!$A$4:$U$393,5,FALSE)="","",VLOOKUP($A73,rawtable!$A$4:$U$393,7,FALSE)) -> 25.979 | E73: =IF(VLOOKUP($A73,rawtable!$A$4:$U$393,5,FALSE)="",VLOOKUP($A73,rawtable!$A$4:$U$393,13,FALSE),"") | F73: =IF(VLOOKUP($A73,rawtable!$A$4:$U$393,5,FALSE)="",IF(rawtable!$V73=".","NA",VLOOKUP($A73,rawtable!$A$4:$AG$393,31,FALSE)),"") | G73: =IF(VLOOKUP($A73,rawtable!$A$4:$U$393,5,FALSE)="","",VLOOKUP($A73,rawtable!$A$4:$U$393,8,FALSE)) -> 26.841 | H73: =IF(VLOOKUP($A73,rawtable!$A$4:$U$393,5,FALSE)="",VLOOKUP($A73,rawtable!$A$4:$U$393,17,FALSE),"") | I73: =IF(VLOOKUP($A73,rawtable!$A$4:$U$393,5,FALSE)="",IF(rawtable!$Y73=".","NA",VLOOKUP($A73,rawtable!$A$4:$AG$393,32,FALSE)),"") | J73: =IF(VLOOKUP($A73,rawtable!$A$4:$U$393,5,FALSE)="","",VLOOKUP($A73,rawtable!$A$4:$U$393,9,FALSE)) -> 22.088 | K73: =IF(VLOOKUP($A73,rawtable!$A$4:$U$393,5,FALSE)="",VLOOKUP($A73,rawtable!$A$4:$U$393,21,FALSE),"") | L73: =IF(VLOOKUP($A73,rawtable!$A$4:$U$393,5,FALSE)="",IF(rawtable!$AB73=".","NA",VLOOKUP($A73,rawtable!$A$4:$AG$393,33,FALSE)),"")
A74: 70 | B74: =IF(VLOOKUP(A74,rawtable!$A$4:$U$393,5,FALSE)="",VLOOKUP(A74,rawtable!$A$4:$U$393,2,FALSE),"") | C74: =IF(VLOOKUP(A74,rawtable!$A$4:$U$393,5,FALSE)="","",VLOOKUP(A74,rawtable!$A$4:$U$393,5,FALSE)) -> Steep Hill | D74: =IF(VLOOKUP($A74,rawtable!$A$4:$U$393,5,FALSE)="","",VLOOKUP($A74,rawtable!$A$4:$U$393,7,FALSE)) -> 11.388 | E74: =IF(VLOOKUP($A74,rawtable!$A$4:$U$393,5,FALSE)="",VLOOKUP($A74,rawtable!$A$4:$U$393,13,FALSE),"") | F74: =IF(VLOOKUP($A74,rawtable!$A$4:$U$393,5,FALSE)="",IF(rawtable!$V74=".","NA",VLOOKUP($A74,rawtable!$A$4:$AG$393,31,FALSE)),"") | G74: =IF(VLOOKUP($A74,rawtable!$A$4:$U$393,5,FALSE)="","",VLOOKUP($A74,rawtable!$A$4:$U$393,8,FALSE)) -> 9.82 | H74: =IF(VLOOKUP($A74,rawtable!$A$4:$U$393,5,FALSE)="",VLOOKUP($A74,rawtable!$A$4:$U$393,17,FALSE),"") | I74: =IF(VLOOKUP($A74,rawtable!$A$4:$U$393,5,FALSE)="",IF(rawtable!$Y74=".","NA",VLOOKUP($A74,rawtable!$A$4:$AG$393,32,FALSE)),"") | J74: =IF(VLOOKUP($A74,rawtable!$A$4:$U$393,5,FALSE)="","",VLOOKUP($A74,rawtable!$A$4:$U$393,9,FALSE)) -> 12.405 | K74: =IF(VLOOKUP($A74,rawtable!$A$4:$U$393,5,FALSE)="",VLOOKUP($A74,rawtable!$A$4:$U$393,21,FALSE),"") | L74: =IF(VLOOKUP($A74,rawtable!$A$4:$U$393,5,FALSE)="",IF(rawtable!$AB74=".","NA",VLOOKUP($A74,rawtable!$A$4:$AG$393,33,FALSE)),"")
A75: 71 | B75: =IF(VLOOKUP(A75,rawtable!$A$4:$U$393,5,FALSE)="",VLOOKUP(A75,rawtable!$A$4:$U$393,2,FALSE),"") -> Flat_slopeslight_hill_vs_steephillbin | D75: =IF(VLOOKUP($A75,rawtable!$A$4:$U$393,5,FALSE)="","",VLOOKUP($A75,rawtable!$A$4:$U$393,7,FALSE)) | E75: =IF(VLOOKUP($A75,rawtable!$A$4:$U$393,5,FALSE)="",VLOOKUP($A75,rawtable!$A$4:$U$393,13,FALSE),"") -> 0.9661 | F75: =IF(VLOOKUP($A75,rawtable!$A$4:$U$393,5,FALSE)="",IF(rawtable!$V75=".","NA",VLOOKUP($A75,rawtable!$A$4:$AG$393,31,FALSE)),"") -> 0.73 (0.34, 1.00) | G75: =IF(VLOOKUP($A75,rawtable!$A$4:$U$393,5,FALSE)="","",VLOOKUP($A75,rawtable!$A$4:$U$393,8,FALSE)) | H75: =IF(VLOOKUP($A75,rawtable!$A$4:$U$393,5,FALSE)="",VLOOKUP($A75,rawtable!$A$4:$U$393,17,FALSE),"") -> 0.92157 | I75: =IF(VLOOKUP($A75,rawtable!$A$4:$U$393,5,FALSE)="",IF(rawtable!$Y75=".","NA",VLOOKUP($A75,rawtable!$A$4:$AG$393,32,FALSE)),"") -> 0.30 (-0.40, 0.82) | J75: =IF(VLOOKUP($A75,rawtable!$A$4:$U$393,5,FALSE)="","",VLOOKUP($A75,rawtable!$A$4:$U$393,9,FALSE)) | K75: =IF(VLOOKUP($A75,rawtable!$A$4:$U$393,5,FALSE)="",VLOOKUP($A75,rawtable!$A$4:$U$393,21,FALSE),"") -> 0.95 | L75: =IF(VLOOKUP($A75,rawtable!$A$4:$U$393,5,FALSE)="",IF(rawtable!$AB75=".","NA",VLOOKUP($A75,rawtable!$A$4:$AG$393,33,FALSE)),"") -> 0.80 (0.60, 0.96)
A76: 72 | B76: =IF(VLOOKUP(A76,rawtable!$A$4:$U$393,5,FALSE)="",VLOOKUP(A76,rawtable!$A$4:$U$393,2,FALSE),"") | C76: =IF(VLOOKUP(A76,rawtable!$A$4:$U$393,5,FALSE)="","",VLOOKUP(A76,rawtable!$A$4:$U$393,5,FALSE)) -> No | D76: =IF(VLOOKUP($A76,rawtable!$A$4:$U$393,5,FALSE)="","",VLOOKUP($A76,rawtable!$A$4:$U$393,7,FALSE)) -> 88.612 | E76: =IF(VLOOKUP($A76,rawtable!$A$4:$U$393,5,FALSE)="",VLOOKUP($A76,rawtable!$A$4:$U$393,13,FALSE),"") | F76: =IF(VLOOKUP($A76,rawtable!$A$4:$U$393,5,FALSE)="",IF(rawtable!$V76=".","NA",VLOOKUP($A76,rawtable!$A$4:$AG$393,31,FALSE)),"") | G76: =IF(VLOOKUP($A76,rawtable!$A$4:$U$393,5,FALSE)="","",VLOOKUP($A76,rawtable!$A$4:$U$393,8,FALSE)) -> 90.18 | H76: =IF(VLOOKUP($A76,rawtable!$A$4:$U$393,5,FALSE)="",VLOOKUP($A76,rawtable!$A$4:$U$393,17,FALSE),"") | I76: =IF(VLOOKUP($A76,rawtable!$A$4:$U$393,5,FALSE)="",IF(rawtable!$Y76=".","NA",VLOOKUP($A76,rawtable!$A$4:$AG$393,32,FALSE)),"") | J76: =IF(VLOOKUP($A76,rawtable!$A$4:$U$393,5,FALSE)="","",VLOOKUP($A76,rawtable!$A$4:$U$393,9,FALSE)) -> 87.595 | K76: =IF(VLOOKUP($A76,rawtable!$A$4:$U$393,5,FALSE)="",VLOOKUP($A76,rawtable!$A$4:$U$393,21,FALSE),"") | L76: =IF(VLOOKUP($A76,rawtable!$A$4:$U$393,5,FALSE)="",IF(rawtable!$AB76=".","NA",VLOOKUP($A76,rawtable!$A$4:$AG$393,33,FALSE)),"")
A77: 73 | B77: =IF(VLOOKUP(A77,rawtable!$A$4:$U$393,5,FALSE)="",VLOOKUP(A77,rawtable!$A$4:$U$393,2,FALSE),"") | C77: =IF(VLOOKUP(A77,rawtable!$A$4:$U$393,5,FALSE)="","",VLOOKUP(A77,rawtable!$A$4:$U$393,5,FALSE)) -> Yes | D77: =IF(VLOOKUP($A77,rawtable!$A$4:$U$393,5,FALSE)="","",VLOOKUP($A77,rawtable!$A$4:$U$393,7,FALSE)) -> 11.388 | E77: =IF(VLOOKUP($A77,rawtable!$A$4:$U$393,5,FALSE)="",VLOOKUP($A77,rawtable!$A$4:$U$393,13,FALSE),"") | F77: =IF(VLOOKUP($A77,rawtable!$A$4:$U$393,5,FALSE)="",IF(rawtable!$V77=".","NA",VLOOKUP($A77,rawtable!$A$4:$AG$393,31,FALSE)),"") | G77: =IF(VLOOKUP($A77,rawtable!$A$4:$U$393,5,FALSE)="","",VLOOKUP($A77,rawtable!$A$4:$U$393,8,FALSE)) -> 9.82 | H77: =IF(VLOOKUP($A77,rawtable!$A$4:$U$393,5,FALSE)="",VLOOKUP($A77,rawtable!$A$4:$U$393,17,FALSE),"") | I77: =IF(VLOOKUP($A77,rawtable!$A$4:$U$393,5,FALSE)="",IF(rawtable!$Y77=".","NA",VLOOKUP($A77,rawtable!$A$4:$AG$393,32,FALSE)),"") | J77: =IF(VLOOKUP($A77,rawtable!$A$4:$U$393,5,FALSE)="","",VLOOKUP($A77,rawtable!$A$4:$U$393,9,FALSE)) -> 12.405 | K77: =IF(VLOOKUP($A77,rawtable!$A$4:$U$393,5,FALSE)="",VLOOKUP($A77,rawtable!$A$4:$U$393,21,FALSE),"") | L77: =IF(VLOOKUP($A77,rawtable!$A$4:$U$393,5,FALSE)="",IF(rawtable!$AB77=".","NA",VLOOKUP($A77,rawtable!$A$4:$AG$393,33,FALSE)),"")
A78: 74 | B78: =IF(VLOOKUP(A78,rawtable!$A$4:$U$393,5,FALSE)="",VLOOKUP(A78,rawtable!$A$4:$U$393,2,FALSE),"") -> Flat_slope_vs_slightsteep_hill_bin | D78: =IF(VLOOKUP($A78,rawtable!$A$4:$U$393,5,FALSE)="","",VLOOKUP($A78,rawtable!$A$4:$U$393,7,FALSE)) | E78: =IF(VLOOKUP($A78,rawtable!$A$4:$U$393,5,FALSE)="",VLOOKUP($A78,rawtable!$A$4:$U$393,13,FALSE),"") -> 0.88136 | F78: =IF(VLOOKUP($A78,rawtable!$A$4:$U$393,5,FALSE)="",IF(rawtable!$V78=".","NA",VLOOKUP($A78,rawtable!$A$4:$AG$393,31,FALSE)),"") -> 0.73 (0.53, 0.92) | G78: =IF(VLOOKUP($A78,rawtable!$A$4:$U$393,5,FALSE)="","",VLOOKUP($A78,rawtable!$A$4:$U$393,8,FALSE)) | H78: =IF(VLOOKUP($A78,rawtable!$A$4:$U$393,5,FALSE)="",VLOOKUP($A78,rawtable!$A$4:$U$393,17,FALSE),"") -> 0.96078 | I78: =IF(VLOOKUP($A78,rawtable!$A$4:$U$393,5,FALSE)="",IF(rawtable!$Y78=".","NA",VLOOKUP($A78,rawtable!$A$4:$AG$393,32,FALSE)),"") -> 0.91 (0.78, 1.00) | J78: =IF(VLOOKUP($A78,rawtable!$A$4:$U$393,5,FALSE)="","",VLOOKUP($A78,rawtable!$A$4:$U$393,9,FALSE)) | K78: =IF(VLOOKUP($A78,rawtable!$A$4:$U$393,5,FALSE)="",VLOOKUP($A78,rawtable!$A$4:$U$393,21,FALSE),"") -> 0.84 | L78: =IF(VLOOKUP($A78,rawtable!$A$4:$U$393,5,FALSE)="",IF(rawtable!$AB78=".","NA",VLOOKUP($A78,rawtable!$A$4:$AG$393,33,FALSE)),"") -> 0.64 (0.48, 0.80)
A79: 75 | B79: =IF(VLOOKUP(A79,rawtable!$A$4:$U$393,5,FALSE)="",VLOOKUP(A79,rawtable!$A$4:$U$393,2,FALSE),"") | C79: =IF(VLOOKUP(A79,rawtable!$A$4:$U$393,5,FALSE)="","",VLOOKUP(A79,rawtable!$A$4:$U$393,5,FALSE)) -> No | D79: =IF(VLOOKUP($A79,rawtable!$A$4:$U$393,5,FALSE)="","",VLOOKUP($A79,rawtable!$A$4:$U$393,7,FALSE)) -> 62.633 | E79: =IF(VLOOKUP($A79,rawtable!$A$4:$U$393,5,FALSE)="",VLOOKUP($A79,rawtable!$A$4:$U$393,13,FALSE),"") | F79: =IF(VLOOKUP($A79,rawtable!$A$4:$U$393,5,FALSE)="",IF(rawtable!$V79=".","NA",VLOOKUP($A79,rawtable!$A$4:$AG$393,31,FALSE)),"") | G79: =IF(VLOOKUP($A79,rawtable!$A$4:$U$393,5,FALSE)="","",VLOOKUP($A79,rawtable!$A$4:$U$393,8,FALSE)) -> 63.339 | H79: =IF(VLOOKUP($A79,rawtable!$A$4:$U$393,5,FALSE)="",VLOOKUP($A79,rawtable!$A$4:$U$393,17,FALSE),"") | I79: =IF(VLOOKUP($A79,rawtable!$A$4:$U$393,5,FALSE)="",IF(rawtable!$Y79=".","NA",VLOOKUP($A79,rawtable!$A$4:$AG$393,32,FALSE)),"") | J79: =IF(VLOOKUP($A79,rawtable!$A$4:$U$393,5,FALSE)="","",VLOOKUP($A79,rawtable!$A$4:$U$393,9,FALSE)) -> 65.507 | K79: =IF(VLOOKUP($A79,rawtable!$A$4:$U$393,5,FALSE)="",VLOOKUP($A79,rawtable!$A$4:$U$393,21,FALSE),"") | L79: =IF(VLOOKUP($A79,rawtable!$A$4:$U$393,5,FALSE)="",IF(rawtable!$AB79=".","NA",VLOOKUP($A79,rawtable!$A$4:$AG$393,33,FALSE)),"")
A80: 76 | B80: =IF(VLOOKUP(A80,rawtable!$A$4:$U$393,5,FALSE)="",VLOOKUP(A80,rawtable!$A$4:$U$393,2,FALSE),"") | C80: =IF(VLOOKUP(A80,rawtable!$A$4:$U$393,5,FALSE)="","",VLOOKUP(A80,rawtable!$A$4:$U$393,5,FALSE)) -> Yes | D80: =IF(VLOOKUP($A80,rawtable!$A$4:$U$393,5,FALSE)="","",VLOOKUP($A80,rawtable!$A$4:$U$393,7,FALSE)) -> 37.367 | E80: =IF(VLOOKUP($A80,rawtable!$A$4:$U$393,5,FALSE)="",VLOOKUP($A80,rawtable!$A$4:$U$393,13,FALSE),"") | F80: =IF(VLOOKUP($A80,rawtable!$A$4:$U$393,5,FALSE)="",IF(rawtable!$V80=".","NA",VLOOKUP($A80,rawtable!$A$4:$AG$393,31,FALSE)),"") | G80: =IF(VLOOKUP($A80,rawtable!$A$4:$U$393,5,FALSE)="","",VLOOKUP($A80,rawtable!$A$4:$U$393,8,FALSE)) -> 36.661 | H80: =IF(VLOOKUP($A80,rawtable!$A$4:$U$393,5,FALSE)="",VLOOKUP($A80,rawtable!$A$4:$U$393,17,FALSE),"") | I80: =IF(VLOOKUP($A80,rawtable!$A$4:$U$393,5,FALSE)="",IF(rawtable!$Y80=".","NA",VLOOKUP($A80,rawtable!$A$4:$AG$393,32,FALSE)),"") | J80: =IF(VLOOKUP($A80,rawtable!$A$4:$U$393,5,FALSE)="","",VLOOKUP($A80,rawtable!$A$4:$U$393,9,FALSE)) -> 34.493 | K80: =IF(VLOOKUP($A80,rawtable!$A$4:$U$393,5,FALSE)="",VLOOKUP($A80,rawtable!$A$4:$U$393,21,FALSE),"") | L80: =IF(VLOOKUP($A80,rawtable!$A$4:$U$393,5,FALSE)="",IF(rawtable!$AB80=".","NA",VLOOKUP($A80,rawtable!$A$4:$AG$393,33,FALSE)),"")
A81: 77 | B81: =IF(VLOOKUP(A81,rawtable!$A$4:$U$393,5,FALSE)="",VLOOKUP(A81,rawtable!$A$4:$U$393,2,FALSE),"") -> bars_on_windows | D81: =IF(VLOOKUP($A81,rawtable!$A$4:$U$393,5,FALSE)="","",VLOOKUP($A81,rawtable!$A$4:$U$393,7,FALSE)) | E81: =IF(VLOOKUP($A81,rawtable!$A$4:$U$393,5,FALSE)="",VLOOKUP($A81,rawtable!$A$4:$U$393,13,FALSE),"") -> 0.76786 | F81: =IF(VLOOKUP($A81,rawtable!$A$4:$U$393,5,FALSE)="",IF(rawtable!$V81=".","NA",VLOOKUP($A81,rawtable!$A$4:$AG$393,31,FALSE)),"") -> 0.54 (0.33, 0.75) | G81: =IF(VLOOKUP($A81,rawtable!$A$4:$U$393,5,FALSE)="","",VLOOKUP($A81,rawtable!$A$4:$U$393,8,FALSE)) | H81: =IF(VLOOKUP($A81,rawtable!$A$4:$U$393,5,FALSE)="",VLOOKUP($A81,rawtable!$A$4:$U$393,17,FALSE),"") -> 0.84314 | I81: =IF(VLOOKUP($A81,rawtable!$A$4:$U$393,5,FALSE)="",IF(rawtable!$Y81=".","NA",VLOOKUP($A81,rawtable!$A$4:$AG$393,32,FALSE)),"") -> 0.67 (0.43, 0.88) | J81: =IF(VLOOKUP($A81,rawtable!$A$4:$U$393,5,FALSE)="","",VLOOKUP($A81,rawtable!$A$4:$U$393,9,FALSE)) | K81: =IF(VLOOKUP($A81,rawtable!$A$4:$U$393,5,FALSE)="",VLOOKUP($A81,rawtable!$A$4:$U$393,21,FALSE),"") -> 0.82 | L81: =IF(VLOOKUP($A81,rawtable!$A$4:$U$393,5,FALSE)="",IF(rawtable!$AB81=".","NA",VLOOKUP($A81,rawtable!$A$4:$AG$393,33,FALSE)),"") -> 0.61 (0.44, 0.76)
A82: 78 | B82: =IF(VLOOKUP(A82,rawtable!$A$4:$U$393,5,FALSE)="",VLOOKUP(A82,rawtable!$A$4:$U$393,2,FALSE),"") | C82: =IF(VLOOKUP(A82,rawtable!$A$4:$U$393,5,FALSE)="","",VLOOKUP(A82,rawtable!$A$4:$U$393,5,FALSE)) -> No | D82: =IF(VLOOKUP($A82,rawtable!$A$4:$U$393,5,FALSE)="","",VLOOKUP($A82,rawtable!$A$4:$U$393,7,FALSE)) -> 53.488 | E82: =IF(VLOOKUP($A82,rawtable!$A$4:$U$393,5,FALSE)="",VLOOKUP($A82,rawtable!$A$4:$U$393,13,FALSE),"") | F82: =IF(VLOOKUP($A82,rawtable!$A$4:$U$393,5,FALSE)="",IF(rawtable!$V82=".","NA",VLOOKUP($A82,rawtable!$A$4:$AG$393,31,FALSE)),"") | G82: =IF(VLOOKUP($A82,rawtable!$A$4:$U$393,5,FALSE)="","",VLOOKUP($A82,rawtable!$A$4:$U$393,8,FALSE)) -> 69.901 | H82: =IF(VLOOKUP($A82,rawtable!$A$4:$U$393,5,FALSE)="",VLOOKUP($A82,rawtable!$A$4:$U$393,17,FALSE),"") | I82: =IF(VLOOKUP($A82,rawtable!$A$4:$U$393,5,FALSE)="",IF(rawtable!$Y82=".","NA",VLOOKUP($A82,rawtable!$A$4:$AG$393,32,FALSE)),"") | J82: =IF(VLOOKUP($A82,rawtable!$A$4:$U$393,5,FALSE)="","",VLOOKUP($A82,rawtable!$A$4:$U$393,9,FALSE)) -> 68.939 | K82: =IF(VLOOKUP($A82,rawtable!$A$4:$U$393,5,FALSE)="",VLOOKUP($A82,rawtable!$A$4:$U$393,21,FALSE),"") | L82: =IF(VLOOKUP($A82,rawtable!$A$4:$U$393,5,FALSE)="",IF(rawtable!$AB82=".","NA",VLOOKUP($A82,rawtable!$A$4:$AG$393,33,FALSE)),"")
A83: 79 | B83: =IF(VLOOKUP(A83,rawtable!$A$4:$U$393,5,FALSE)="",VLOOKUP(A83,rawtable!$A$4:$U$393,2,FALSE),"") | C83: =IF(VLOOKUP(A83,rawtable!$A$4:$U$393,5,FALSE)="","",VLOOKUP(A83,rawtable!$A$4:$U$393,5,FALSE)) -> Yes | D83: =IF(VLOOKUP($A83,rawtable!$A$4:$U$393,5,FALSE)="","",VLOOKUP($A83,rawtable!$A$4:$U$393,7,FALSE)) -> 46.512 | E83: =IF(VLOOKUP($A83,rawtable!$A$4:$U$393,5,FALSE)="",VLOOKUP($A83,rawtable!$A$4:$U$393,13,FALSE),"") | F83: =IF(VLOOKUP($A83,rawtable!$A$4:$U$393,5,FALSE)="",IF(rawtable!$V83=".","NA",VLOOKUP($A83,rawtable!$A$4:$AG$393,31,FALSE)),"") | G83: =IF(VLOOKUP($A83,rawtable!$A$4:$U$393,5,FALSE)="","",VLOOKUP($A83,rawtable!$A$4:$U$393,8,FALSE)) -> 30.099 | H83: =IF(VLOOKUP($A83,rawtable!$A$4:$U$393,5,FALSE)="",VLOOKUP($A83,rawtable!$A$4:$U$393,17,FALSE),"") | I83: =IF(VLOOKUP($A83,rawtable!$A$4:$U$393,5,FALSE)="",IF(rawtable!$Y83=".","NA",VLOOKUP($A83,rawtable!$A$4:$AG$393,32,FALSE)),"") | J83: =IF(VLOOKUP($A83,rawtable!$A$4:$U$393,5,FALSE)="","",VLOOKUP($A83,rawtable!$A$4:$U$393,9,FALSE)) -> 31.061 | K83: =IF(VLOOKUP($A83,rawtable!$A$4:$U$393,5,FALSE)="",VLOOKUP($A83,rawtable!$A$4:$U$393,21,FALSE),"") | L83: =IF(VLOOKUP($A83,rawtable!$A$4:$U$393,5,FALSE)="",IF(rawtable!$AB83=".","NA",VLOOKUP($A83,rawtable!$A$4:$AG$393,33,FALSE)),"")
A84: 80 | B84: =IF(VLOOKUP(A84,rawtable!$A$4:$U$393,5,FALSE)="",VLOOKUP(A84,rawtable!$A$4:$U$393,2,FALSE),"") -> broken_boarded_windows | D84: =IF(VLOOKUP($A84,rawtable!$A$4:$U$393,5,FALSE)="","",VLOOKUP($A84,rawtable!$A$4:$U$393,7,FALSE)) | E84: =IF(VLOOKUP($A84,rawtable!$A$4:$U$393,5,FALSE)="",VLOOKUP($A84,rawtable!$A$4:$U$393,13,FALSE),"") -> 0.81034 | F84: =IF(VLOOKUP($A84,rawtable!$A$4:$U$393,5,FALSE)="",IF(rawtable!$V84=".","NA",VLOOKUP($A84,rawtable!$A$4:$AG$393,31,FALSE)),"") -> 0.61 (0.40, 0.79) | G84: =IF(VLOOKUP($A84,rawtable!$A$4:$U$393,5,FALSE)="","",VLOOKUP($A84,rawtable!$A$4:$U$393,8,FALSE)) | H84: =IF(VLOOKUP($A84,rawtable!$A$4:$U$393,5,FALSE)="",VLOOKUP($A84,rawtable!$A$4:$U$393,17,FALSE),"") -> 0.92157 | I84: =IF(VLOOKUP($A84,rawtable!$A$4:$U$393,5,FALSE)="",IF(rawtable!$Y84=".","NA",VLOOKUP($A84,rawtable!$A$4:$AG$393,32,FALSE)),"") -> 0.83 (0.65, 0.96) | J84: =IF(VLOOKUP($A84,rawtable!$A$4:$U$393,5,FALSE)="","",VLOOKUP($A84,rawtable!$A$4:$U$393,9,FALSE)) | K84: =IF(VLOOKUP($A84,rawtable!$A$4:$U$393,5,FALSE)="",VLOOKUP($A84,rawtable!$A$4:$U$393,21,FALSE),"") -> . | L84: =IF(VLOOKUP($A84,rawtable!$A$4:$U$393,5,FALSE)="",IF(rawtable!$AB84=".","NA",VLOOKUP($A84,rawtable!$A$4:$AG$393,33,FALSE)),"") -> NA
A85: 81 | B85: =IF(VLOOKUP(A85,rawtable!$A$4:$U$393,5,FALSE)="",VLOOKUP(A85,rawtable!$A$4:$U$393,2,FALSE),"") | C85: =IF(VLOOKUP(A85,rawtable!$A$4:$U$393,5,FALSE)="","",VLOOKUP(A85,rawtable!$A$4:$U$393,5,FALSE)) -> No | D85: =IF(VLOOKUP($A85,rawtable!$A$4:$U$393,5,FALSE)="","",VLOOKUP($A85,rawtable!$A$4:$U$393,7,FALSE)) -> 61.261 | E85: =IF(VLOOKUP($A85,rawtable!$A$4:$U$393,5,FALSE)="",VLOOKUP($A85,rawtable!$A$4:$U$393,13,FALSE),"") | F85: =IF(VLOOKUP($A85,rawtable!$A$4:$U$393,5,FALSE)="",IF(rawtable!$V85=".","NA",VLOOKUP($A85,rawtable!$A$4:$AG$393,31,FALSE)),"") | G85: =IF(VLOOKUP($A85,rawtable!$A$4:$U$393,5,FALSE)="","",VLOOKUP($A85,rawtable!$A$4:$U$393,8,FALSE)) -> 69.294 | H85: =IF(VLOOKUP($A85,rawtable!$A$4:$U$393,5,FALSE)="",VLOOKUP($A85,rawtable!$A$4:$U$393,17,FALSE),"") | I85: =IF(VLOOKUP($A85,rawtable!$A$4:$U$393,5,FALSE)="",IF(rawtable!$Y85=".","NA",VLOOKUP($A85,rawtable!$A$4:$AG$393,32,FALSE)),"") | J85: =IF(VLOOKUP($A85,rawtable!$A$4:$U$393,5,FALSE)="","",VLOOKUP($A85,rawtable!$A$4:$U$393,9,FALSE)) -> 0 | K85: =IF(VLOOKUP($A85,rawtable!$A$4:$U$393,5,FALSE)="",VLOOKUP($A85,rawtable!$A$4:$U$393,21,FALSE),"") | L85: =IF(VLOOKUP($A85,rawtable!$A$4:$U$393,5,FALSE)="",IF(rawtable!$AB85=".","NA",VLOOKUP($A85,rawtable!$A$4:$AG$393,33,FALSE)),"")
A86: 82 | B86: =IF(VLOOKUP(A86,rawtable!$A$4:$U$393,5,FALSE)="",VLOOKUP(A86,rawtable!$A$4:$U$393,2,FALSE),"") | C86: =IF(VLOOKUP(A86,rawtable!$A$4:$U$393,5,FALSE)="","",VLOOKUP(A86,rawtable!$A$4:$U$393,5,FALSE)) -> Yes | D86: =IF(VLOOKUP($A86,rawtable!$A$4:$U$393,5,FALSE)="","",VLOOKUP($A86,rawtable!$A$4:$U$393,7,FALSE)) -> 38.739 | E86: =IF(VLOOKUP($A86,rawtable!$A$4:$U$393,5,FALSE)="",VLOOKUP($A86,rawtable!$A$4:$U$393,13,FALSE),"") | F86: =IF(VLOOKUP($A86,rawtable!$A$4:$U$393,5,FALSE)="",IF(rawtable!$V86=".","NA",VLOOKUP($A86,rawtable!$A$4:$AG$393,31,FALSE)),"") | G86: =IF(VLOOKUP($A86,rawtable!$A$4:$U$393,5,FALSE)="","",VLOOKUP($A86,rawtable!$A$4:$U$393,8,FALSE)) -> 30.706 | H86: =IF(VLOOKUP($A86,rawtable!$A$4:$U$393,5,FALSE)="",VLOOKUP($A86,rawtable!$A$4:$U$393,17,FALSE),"") | I86: =IF(VLOOKUP($A86,rawtable!$A$4:$U$393,5,FALSE)="",IF(rawtable!$Y86=".","NA",VLOOKUP($A86,rawtable!$A$4:$AG$393,32,FALSE)),"") | J86: =IF(VLOOKUP($A86,rawtable!$A$4:$U$393,5,FALSE)="","",VLOOKUP($A86,rawtable!$A$4:$U$393,9,FALSE)) -> 0 | K86: =IF(VLOOKUP($A86,rawtable!$A$4:$U$393,5,FALSE)="",VLOOKUP($A86,rawtable!$A$4:$U$393,21,FALSE),"") | L86: =IF(VLOOKUP($A86,rawtable!$A$4:$U$393,5,FALSE)="",IF(rawtable!$AB86=".","NA",VLOOKUP($A86,rawtable!$A$4:$AG$393,33,FALSE)),"")
A87: 83 | B87: =IF(VLOOKUP(A87,rawtable!$A$4:$U$393,5,FALSE)="",VLOOKUP(A87,rawtable!$A$4:$U$393,2,FALSE),"") -> indoor_PA_facility | D87: =IF(VLOOKUP($A87,rawtable!$A$4:$U$393,5,FALSE)="","",VLOOKUP($A87,rawtable!$A$4:$U$393,7,FALSE)) | E87: =IF(VLOOKUP($A87,rawtable!$A$4:$U$393,5,FALSE)="",VLOOKUP($A87,rawtable!$A$4:$U$393,13,FALSE),"") -> 1 | F87: =IF(VLOOKUP($A87,rawtable!$A$4:$U$393,5,FALSE)="",IF(rawtable!$V87=".","NA",VLOOKUP($A87,rawtable!$A$4:$AG$393,31,FALSE)),"") -> NA | G87: =IF(VLOOKUP($A87,rawtable!$A$4:$U$393,5,FALSE)="","",VLOOKUP($A87,rawtable!$A$4:$U$393,8,FALSE)) | H87: =IF(VLOOKUP($A87,rawtable!$A$4:$U$393,5,FALSE)="",VLOOKUP($A87,rawtable!$A$4:$U$393,17,FALSE),"") -> 1 | I87: =IF(VLOOKUP($A87,rawtable!$A$4:$U$393,5,FALSE)="",IF(rawtable!$Y87=".","NA",VLOOKUP($A87,rawtable!$A$4:$AG$393,32,FALSE)),"") -> 1.00 (1.00, 1.00) | J87: =IF(VLOOKUP($A87,rawtable!$A$4:$U$393,5,FALSE)="","",VLOOKUP($A87,rawtable!$A$4:$U$393,9,FALSE)) | K87: =IF(VLOOKUP($A87,rawtable!$A$4:$U$393,5,FALSE)="",VLOOKUP($A87,rawtable!$A$4:$U$393,21,FALSE),"") -> . | L87: =IF(VLOOKUP($A87,rawtable!$A$4:$U$393,5,FALSE)="",IF(rawtable!$AB87=".","NA",VLOOKUP($A87,rawtable!$A$4:$AG$393,33,FALSE)),"") -> NA
A88: 84 | B88: =IF(VLOOKUP(A88,rawtable!$A$4:$U$393,5,FALSE)="",VLOOKUP(A88,rawtable!$A$4:$U$393,2,FALSE),"") | C88: =IF(VLOOKUP(A88,rawtable!$A$4:$U$393,5,FALSE)="","",VLOOKUP(A88,rawtable!$A$4:$U$393,5,FALSE)) -> No | D88: =IF(VLOOKUP($A88,rawtable!$A$4:$U$393,5,FALSE)="","",VLOOKUP($A88,rawtable!$A$4:$U$393,7,FALSE)) -> 97.691 | E88: =IF(VLOOKUP($A88,rawtable!$A$4:$U$393,5,FALSE)="",VLOOKUP($A88,rawtable!$A$4:$U$393,13,FALSE),"") | F88: =IF(VLOOKUP($A88,rawtable!$A$4:$U$393,5,FALSE)="",IF(rawtable!$V88=".","NA",VLOOKUP($A88,rawtable!$A$4:$AG$393,31,FALSE)),"") | G88: =IF(VLOOKUP($A88,rawtable!$A$4:$U$393,5,FALSE)="","",VLOOKUP($A88,rawtable!$A$4:$U$393,8,FALSE)) -> 98.525 | H88: =IF(VLOOKUP($A88,rawtable!$A$4:$U$393,5,FALSE)="",VLOOKUP($A88,rawtable!$A$4:$U$393,17,FALSE),"") | I88: =IF(VLOOKUP($A88,rawtable!$A$4:$U$393,5,FALSE)="",IF(rawtable!$Y88=".","NA",VLOOKUP($A88,rawtable!$A$4:$AG$393,32,FALSE)),"") | J88: =IF(VLOOKUP($A88,rawtable!$A$4:$U$393,5,FALSE)="","",VLOOKUP($A88,rawtable!$A$4:$U$393,9,FALSE)) -> 0 | K88: =IF(VLOOKUP($A88,rawtable!$A$4:$U$393,5,FALSE)="",VLOOKUP($A88,rawtable!$A$4:$U$393,21,FALSE),"") | L88: =IF(VLOOKUP($A88,rawtable!$A$4:$U$393,5,FALSE)="",IF(rawtable!$AB88=".","NA",VLOOKUP($A88,rawtable!$A$4:$AG$393,33,FALSE)),"")
A89: 85 | B89: =IF(VLOOKUP(A89,rawtable!$A$4:$U$393,5,FALSE)="",VLOOKUP(A89,rawtable!$A$4:$U$393,2,FALSE),"") | C89: =IF(VLOOKUP(A89,rawtable!$A$4:$U$393,5,FALSE)="","",VLOOKUP(A89,rawtable!$A$4:$U$393,5,FALSE)) -> Yes | D89: =IF(VLOOKUP($A89,rawtable!$A$4:$U$393,5,FALSE)="","",VLOOKUP($A89,rawtable!$A$4:$U$393,7,FALSE)) -> 2.309 | E89: =IF(VLOOKUP($A89,rawtable!$A$4:$U$393,5,FALSE)="",VLOOKUP($A89,rawtable!$A$4:$U$393,13,FALSE),"") | F89: =IF(VLOOKUP($A89,rawtable!$A$4:$U$393,5,FALSE)="",IF(rawtable!$V89=".","NA",VLOOKUP($A89,rawtable!$A$4:$AG$393,31,FALSE)),"") | G89: =IF(VLOOKUP($A89,rawtable!$A$4:$U$393,5,FALSE)="","",VLOOKUP($A89,rawtable!$A$4:$U$393,8,FALSE)) -> 1.475 | H89: =IF(VLOOKUP($A89,rawtable!$A$4:$U$393,5,FALSE)="",VLOOKUP($A89,rawtable!$A$4:$U$393,17,FALSE),"") | I89: =IF(VLOOKUP($A89,rawtable!$A$4:$U$393,5,FALSE)="",IF(rawtable!$Y89=".","NA",VLOOKUP($A89,rawtable!$A$4:$AG$393,32,FALSE)),"") | J89: =IF(VLOOKUP($A89,rawtable!$A$4:$U$393,5,FALSE)="","",VLOOKUP($A89,rawtable!$A$4:$U$393,9,FALSE)) -> 0 | K89: =IF(VLOOKUP($A89,rawtable!$A$4:$U$393,5,FALSE)="",VLOOKUP($A89,rawtable!$A$4:$U$393,21,FALSE),"") | L89: =IF(VLOOKUP($A89,rawtable!$A$4:$U$393,5,FALSE)="",IF(rawtable!$AB89=".","NA",VLOOKUP($A89,rawtable!$A$4:$AG$393,33,FALSE)),"")
A90: 86 | B90: =IF(VLOOKUP(A90,rawtable!$A$4:$U$393,5,FALSE)="",VLOOKUP(A90,rawtable!$A$4:$U$393,2,FALSE),"") -> park_with_sign_no_equip | D90: =IF(VLOOKUP($A90,rawtable!$A$4:$U$393,5,FALSE)="","",VLOOKUP($A90,rawtable!$A$4:$U$393,7,FALSE)) | E90: =IF(VLOOKUP($A90,rawtable!$A$4:$U$393,5,FALSE)="",VLOOKUP($A90,rawtable!$A$4:$U$393,13,FALSE),"") -> 1 | F90: =IF(VLOOKUP($A90,rawtable!$A$4:$U$393,5,FALSE)="",IF(rawtable!$V90=".","NA",VLOOKUP($A90,rawtable!$A$4:$AG$393,31,FALSE)),"") -> 0.00 (1.00, 1.00) | G90: =IF(VLOOKUP($A90,rawtable!$A$4:$U$393,5,FALSE)="","",VLOOKUP($A90,rawtable!$A$4:$U$393,8,FALSE)) | H90: =IF(VLOOKUP($A90,rawtable!$A$4:$U$393,5,FALSE)="",VLOOKUP($A90,rawtable!$A$4:$U$393,17,FALSE),"") -> 1 | I90: =IF(VLOOKUP($A90,rawtable!$A$4:$U$393,5,FALSE)="",IF(rawtable!$Y90=".","NA",VLOOKUP($A90,rawtable!$A$4:$AG$393,32,FALSE)),"") -> 0.00 (1.00, 1.00) | J90: =IF(VLOOKUP($A90,rawtable!$A$4:$U$393,5,FALSE)="","",VLOOKUP($A90,rawtable!$A$4:$U$393,9,FALSE)) | K90: =IF(VLOOKUP($A90,rawtable!$A$4:$U$393,5,FALSE)="",VLOOKUP($A90,rawtable!$A$4:$U$393,21,FALSE),"") -> . | L90: =IF(VLOOKUP($A90,rawtable!$A$4:$U$393,5,FALSE)="",IF(rawtable!$AB90=".","NA",VLOOKUP($A90,rawtable!$A$4:$AG$393,33,FALSE)),"") -> NA
A91: 87 | B91: =IF(VLOOKUP(A91,rawtable!$A$4:$U$393,5,FALSE)="",VLOOKUP(A91,rawtable!$A$4:$U$393,2,FALSE),"") | C91: =IF(VLOOKUP(A91,rawtable!$A$4:$U$393,5,FALSE)="","",VLOOKUP(A91,rawtable!$A$4:$U$393,5,FALSE)) -> No | D91: =IF(VLOOKUP($A91,rawtable!$A$4:$U$393,5,FALSE)="","",VLOOKUP($A91,rawtable!$A$4:$U$393,7,FALSE)) -> 99.112 | E91: =IF(VLOOKUP($A91,rawtable!$A$4:$U$393,5,FALSE)="",VLOOKUP($A91,rawtable!$A$4:$U$393,13,FALSE),"") | F91: =IF(VLOOKUP($A91,rawtable!$A$4:$U$393,5,FALSE)="",IF(rawtable!$V91=".","NA",VLOOKUP($A91,rawtable!$A$4:$AG$393,31,FALSE)),"") | G91: =IF(VLOOKUP($A91,rawtable!$A$4:$U$393,5,FALSE)="","",VLOOKUP($A91,rawtable!$A$4:$U$393,8,FALSE)) -> 99.509 | H91: =IF(VLOOKUP($A91,rawtable!$A$4:$U$393,5,FALSE)="",VLOOKUP($A91,rawtable!$A$4:$U$393,17,FALSE),"") | I91: =IF(VLOOKUP($A91,rawtable!$A$4:$U$393,5,FALSE)="",IF(rawtable!$Y91=".","NA",VLOOKUP($A91,rawtable!$A$4:$AG$393,32,FALSE)),"") | J91: =IF(VLOOKUP($A91,rawtable!$A$4:$U$393,5,FALSE)="","",VLOOKUP($A91,rawtable!$A$4:$U$393,9,FALSE)) -> 0 | K91: =IF(VLOOKUP($A91,rawtable!$A$4:$U$393,5,FALSE)="",VLOOKUP($A91,rawtable!$A$4:$U$393,21,FALSE),"") | L91: =IF(VLOOKUP($A91,rawtable!$A$4:$U$393,5,FALSE)="",IF(rawtable!$AB91=".","NA",VLOOKUP($A91,rawtable!$A$4:$AG$393,33,FALSE)),"")
A92: 88 | B92: =IF(VLOOKUP(A92,rawtable!$A$4:$U$393,5,FALSE)="",VLOOKUP(A92,rawtable!$A$4:$U$393,2,FALSE),"") | C92: =IF(VLOOKUP(A92,rawtable!$A$4:$U$393,5,FALSE)="","",VLOOKUP(A92,rawtable!$A$4:$U$393,5,FALSE)) -> Yes | D92: =IF(VLOOKUP($A92,rawtable!$A$4:$U$393,5,FALSE)="","",VLOOKUP($A92,rawtable!$A$4:$U$393,7,FALSE)) -> 0.888 | E92: =IF(VLOOKUP($A92,rawtable!$A$4:$U$393,5,FALSE)="",VLOOKUP($A92,rawtable!$A$4:$U$393,13,FALSE),"") | F92: =IF(VLOOKUP($A92,rawtable!$A$4:$U$393,5,FALSE)="",IF(rawtable!$V92=".","NA",VLOOKUP($A92,rawtable!$A$4:$AG$393,31,FALSE)),"") | G92: =IF(VLOOKUP($A92,rawtable!$A$4:$U$393,5,FALSE)="","",VLOOKUP($A92,rawtable!$A$4:$U$393,8,FALSE)) -> 0.491 | H92: =IF(VLOOKUP($A92,rawtable!$A$4:$U$393,5,FALSE)="",VLOOKUP($A92,rawtable!$A$4:$U$393,17,FALSE),"") | I92: =IF(VLOOKUP($A92,rawtable!$A$4:$U$393,5,FALSE)="",IF(rawtable!$Y92=".","NA",VLOOKUP($A92,rawtable!$A$4:$AG$393,32,FALSE)),"") | J92: =IF(VLOOKUP($A92,rawtable!$A$4:$U$393,5,FALSE)="","",VLOOKUP($A92,rawtable!$A$4:$U$393,9,FALSE)) -> 0 | K92: =IF(VLOOKUP($A92,rawtable!$A$4:$U$393,5,FALSE)="",VLOOKUP($A92,rawtable!$A$4:$U$393,21,FALSE),"") | L92: =IF(VLOOKUP($A92,rawtable!$A$4:$U$393,5,FALSE)="",IF(rawtable!$AB92=".","NA",VLOOKUP($A92,rawtable!$A$4:$AG$393,33,FALSE)),"")
A93: 89 | B93: =IF(VLOOKUP(A93,rawtable!$A$4:$U$393,5,FALSE)="",VLOOKUP(A93,rawtable!$A$4:$U$393,2,FALSE),"") -> park_with_exercise_equip | D93: =IF(VLOOKUP($A93,rawtable!$A$4:$U$393,5,FALSE)="","",VLOOKUP($A93,rawtable!$A$4:$U$393,7,FALSE)) | E93: =IF(VLOOKUP($A93,rawtable!$A$4:$U$393,5,FALSE)="",VLOOKUP($A93,rawtable!$A$4:$U$393,13,FALSE),"") -> 0.98305 | F93: =IF(VLOOKUP($A93,rawtable!$A$4:$U$393,5,FALSE)="",IF(rawtable!$V93=".","NA",VLOOKUP($A93,rawtable!$A$4:$AG$393,31,FALSE)),"") -> 0.66 (-0.02, 1.00) | G93: =IF(VLOOKUP($A93,rawtable!$A$4:$U$393,5,FALSE)="","",VLOOKUP($A93,rawtable!$A$4:$U$393,8,FALSE)) | H93: =IF(VLOOKUP($A93,rawtable!$A$4:$U$393,5,FALSE)="",VLOOKUP($A93,rawtable!$A$4:$U$393,17,FALSE),"") -> 1 | I93: =IF(VLOOKUP($A93,rawtable!$A$4:$U$393,5,FALSE)="",IF(rawtable!$Y93=".","NA",VLOOKUP($A93,rawtable!$A$4:$AG$393,32,FALSE)),"") -> 1.00 (1.00, 1.00) | J93: =IF(VLOOKUP($A93,rawtable!$A$4:$U$393,5,FALSE)="","",VLOOKUP($A93,rawtable!$A$4:$U$393,9,FALSE)) | K93: =IF(VLOOKUP($A93,rawtable!$A$4:$U$393,5,FALSE)="",VLOOKUP($A93,rawtable!$A$4:$U$393,21,FALSE),"") -> . | L93: =IF(VLOOKUP($A93,rawtable!$A$4:$U$393,5,FALSE)="",IF(rawtable!$AB93=".","NA",VLOOKUP($A93,rawtable!$A$4:$AG$393,33,FALSE)),"") -> NA
A94: 90 | B94: =IF(VLOOKUP(A94,rawtable!$A$4:$U$393,5,FALSE)="",VLOOKUP(A94,rawtable!$A$4:$U$393,2,FALSE),"") | C94: =IF(VLOOKUP(A94,rawtable!$A$4:$U$393,5,FALSE)="","",VLOOKUP(A94,rawtable!$A$4:$U$393,5,FALSE)) -> No | D94: =IF(VLOOKUP($A94,rawtable!$A$4:$U$393,5,FALSE)="","",VLOOKUP($A94,rawtable!$A$4:$U$393,7,FALSE)) -> 97.691 | E94: =IF(VLOOKUP($A94,rawtable!$A$4:$U$393,5,FALSE)="",VLOOKUP($A94,rawtable!$A$4:$U$393,13,FALSE),"") | F94: =IF(VLOOKUP($A94,rawtable!$A$4:$U$393,5,FALSE)="",IF(rawtable!$V94=".","NA",VLOOKUP($A94,rawtable!$A$4:$AG$393,31,FALSE)),"") | G94: =IF(VLOOKUP($A94,rawtable!$A$4:$U$393,5,FALSE)="","",VLOOKUP($A94,rawtable!$A$4:$U$393,8,FALSE)) -> 98.358 | H94: =IF(VLOOKUP($A94,rawtable!$A$4:$U$393,5,FALSE)="",VLOOKUP($A94,rawtable!$A$4:$U$393,17,FALSE),"") | I94: =IF(VLOOKUP($A94,rawtable!$A$4:$U$393,5,FALSE)="",IF(rawtable!$Y94=".","NA",VLOOKUP($A94,rawtable!$A$4:$AG$393,32,FALSE)),"") | J94: =IF(VLOOKUP($A94,rawtable!$A$4:$U$393,5,FALSE)="","",VLOOKUP($A94,rawtable!$A$4:$U$393,9,FALSE)) -> 0 | K94: =IF(VLOOKUP($A94,rawtable!$A$4:$U$393,5,FALSE)="",VLOOKUP($A94,rawtable!$A$4:$U$393,21,FALSE),"") | L94: =IF(VLOOKUP($A94,rawtable!$A$4:$U$393,5,FALSE)="",IF(rawtable!$AB94=".","NA",VLOOKUP($A94,rawtable!$A$4:$AG$393,33,FALSE)),"")
A95: 91 | B95: =IF(VLOOKUP(A95,rawtable!$A$4:$U$393,5,FALSE)="",VLOOKUP(A95,rawtable!$A$4:$U$393,2,FALSE),"") | C95: =IF(VLOOKUP(A95,rawtable!$A$4:$U$393,5,FALSE)="","",VLOOKUP(A95,rawtable!$A$4:$U$393,5,FALSE)) -> Yes | D95: =IF(VLOOKUP($A95,rawtable!$A$4:$U$393,5,FALSE)="","",VLOOKUP($A95,rawtable!$A$4:$U$393,7,FALSE)) -> 2.309 | E95: =IF(VLOOKUP($A95,rawtable!$A$4:$U$393,5,FALSE)="",VLOOKUP($A95,rawtable!$A$4:$U$393,13,FALSE),"") | F95: =IF(VLOOKUP($A95,rawtable!$A$4:$U$393,5,FALSE)="",IF(rawtable!$V95=".","NA",VLOOKUP($A95,rawtable!$A$4:$AG$393,31,FALSE)),"") | G95: =IF(VLOOKUP($A95,rawtable!$A$4:$U$393,5,FALSE)="","",VLOOKUP($A95,rawtable!$A$4:$U$393,8,FALSE)) -> 1.642 | H95: =IF(VLOOKUP($A95,rawtable!$A$4:$U$393,5,FALSE)="",VLOOKUP($A95,rawtable!$A$4:$U$393,17,FALSE),"") | I95: =IF(VLOOKUP($A95,rawtable!$A$4:$U$393,5,FALSE)="",IF(rawtable!$Y95=".","NA",VLOOKUP($A95,rawtable!$A$4:$AG$393,32,FALSE)),"") | J95: =IF(VLOOKUP($A95,rawtable!$A$4:$U$393,5,FALSE)="","",VLOOKUP($A95,rawtable!$A$4:$U$393,9,FALSE)) -> 0 | K95: =IF(VLOOKUP($A95,rawtable!$A$4:$U$393,5,FALSE)="",VLOOKUP($A95,rawtable!$A$4:$U$393,21,FALSE),"") | L95: =IF(VLOOKUP($A95,rawtable!$A$4:$U$393,5,FALSE)="",IF(rawtable!$AB95=".","NA",VLOOKUP($A95,rawtable!$A$4:$AG$393,33,FALSE)),"")
A96: 92 | B96: =IF(VLOOKUP(A96,rawtable!$A$4:$U$393,5,FALSE)="",VLOOKUP(A96,rawtable!$A$4:$U$393,2,FALSE),"") -> standalone_court | D96: =IF(VLOOKUP($A96,rawtable!$A$4:$U$393,5,FALSE)="","",VLOOKUP($A96,rawtable!$A$4:$U$393,7,FALSE)) | E96: =IF(VLOOKUP($A96,rawtable!$A$4:$U$393,5,FALSE)="",VLOOKUP($A96,rawtable!$A$4:$U$393,13,FALSE),"") -> 1 | F96: =IF(VLOOKUP($A96,rawtable!$A$4:$U$393,5,FALSE)="",IF(rawtable!$V96=".","NA",VLOOKUP($A96,rawtable!$A$4:$AG$393,31,FALSE)),"") -> 1.00 (1.00, 1.00) | G96: =IF(VLOOKUP($A96,rawtable!$A$4:$U$393,5,FALSE)="","",VLOOKUP($A96,rawtable!$A$4:$U$393,8,FALSE)) | H96: =IF(VLOOKUP($A96,rawtable!$A$4:$U$393,5,FALSE)="",VLOOKUP($A96,rawtable!$A$4:$U$393,17,FALSE),"") -> 1 | I96: =IF(VLOOKUP($A96,rawtable!$A$4:$U$393,5,FALSE)="",IF(rawtable!$Y96=".","NA",VLOOKUP($A96,rawtable!$A$4:$AG$393,32,FALSE)),"") -> 1.00 (1.00, 1.00) | J96: =IF(VLOOKUP($A96,rawtable!$A$4:$U$393,5,FALSE)="","",VLOOKUP($A96,rawtable!$A$4:$U$393,9,FALSE)) | K96: =IF(VLOOKUP($A96,rawtable!$A$4:$U$393,5,FALSE)="",VLOOKUP($A96,rawtable!$A$4:$U$393,21,FALSE),"") -> . | L96: =IF(VLOOKUP($A96,rawtable!$A$4:$U$393,5,FALSE)="",IF(rawtable!$AB96=".","NA",VLOOKUP($A96,rawtable!$A$4:$AG$393,33,FALSE)),"") -> NA
A97: 93 | B97: =IF(VLOOKUP(A97,rawtable!$A$4:$U$393,5,FALSE)="",VLOOKUP(A97,rawtable!$A$4:$U$393,2,FALSE),"") | C97: =IF(VLOOKUP(A97,rawtable!$A$4:$U$393,5,FALSE)="","",VLOOKUP(A97,rawtable!$A$4:$U$393,5,FALSE)) -> No | D97: =IF(VLOOKUP($A97,rawtable!$A$4:$U$393,5,FALSE)="","",VLOOKUP($A97,rawtable!$A$4:$U$393,7,FALSE)) -> 98.399 | E97: =IF(VLOOKUP($A97,rawtable!$A$4:$U$393,5,FALSE)="",VLOOKUP($A97,rawtable!$A$4:$U$393,13,FALSE),"") | F97: =IF(VLOOKUP($A97,rawtable!$A$4:$U$393,5,FALSE)="",IF(rawtable!$V97=".","NA",VLOOKUP($A97,rawtable!$A$4:$AG$393,31,FALSE)),"") | G97: =IF(VLOOKUP($A97,rawtable!$A$4:$U$393,5,FALSE)="","",VLOOKUP($A97,rawtable!$A$4:$U$393,8,FALSE)) -> 98.2 | H97: =IF(VLOOKUP($A97,rawtable!$A$4:$U$393,5,FALSE)="",VLOOKUP($A97,rawtable!$A$4:$U$393,17,FALSE),"") | I97: =IF(VLOOKUP($A97,rawtable!$A$4:$U$393,5,FALSE)="",IF(rawtable!$Y97=".","NA",VLOOKUP($A97,rawtable!$A$4:$AG$393,32,FALSE)),"") | J97: =IF(VLOOKUP($A97,rawtable!$A$4:$U$393,5,FALSE)="","",VLOOKUP($A97,rawtable!$A$4:$U$393,9,FALSE)) -> 0 | K97: =IF(VLOOKUP($A97,rawtable!$A$4:$U$393,5,FALSE)="",VLOOKUP($A97,rawtable!$A$4:$U$393,21,FALSE),"") | L97: =IF(VLOOKUP($A97,rawtable!$A$4:$U$393,5,FALSE)="",IF(rawtable!$AB97=".","NA",VLOOKUP($A97,rawtable!$A$4:$AG$393,33,FALSE)),"")
A98: 94 | B98: =IF(VLOOKUP(A98,rawtable!$A$4:$U$393,5,FALSE)="",VLOOKUP(A98,rawtable!$A$4:$U$393,2,FALSE),"") | C98: =IF(VLOOKUP(A98,rawtable!$A$4:$U$393,5,FALSE)="","",VLOOKUP(A98,rawtable!$A$4:$U$393,5,FALSE)) -> Yes | D98: =IF(VLOOKUP($A98,rawtable!$A$4:$U$393,5,FALSE)="","",VLOOKUP($A98,rawtable!$A$4:$U$393,7,FALSE)) -> 1.601 | E98: =IF(VLOOKUP($A98,rawtable!$A$4:$U$393,5,FALSE)="",VLOOKUP($A98,rawtable!$A$4:$U$393,13,FALSE),"") | F98: =IF(VLOOKUP($A98,rawtable!$A$4:$U$393,5,FALSE)="",IF(rawtable!$V98=".","NA",VLOOKUP($A98,rawtable!$A$4:$AG$393,31,FALSE)),"") | G98: =IF(VLOOKUP($A98,rawtable!$A$4:$U$393,5,FALSE)="","",VLOOKUP($A98,rawtable!$A$4:$U$393,8,FALSE)) -> 1.8 | H98: =IF(VLOOKUP($A98,rawtable!$A$4:$U$393,5,FALSE)="",VLOOKUP($A98,rawtable!$A$4:$U$393,17,FALSE),"") | I98: =IF(VLOOKUP($A98,rawtable!$A$4:$U$393,5,FALSE)="",IF(rawtable!$Y98=".","NA",VLOOKUP($A98,rawtable!$A$4:$AG$393,32,FALSE)),"") | J98: =IF(VLOOKUP($A98,rawtable!$A$4:$U$393,5,FALSE)="","",VLOOKUP($A98,rawtable!$A$4:$U$393,9,FALSE)) -> 0 | K98: =IF(VLOOKUP($A98,rawtable!$A$4:$U$393,5,FALSE)="",VLOOKUP($A98,rawtable!$A$4:$U$393,21,FALSE),"") | L98: =IF(VLOOKUP($A98,rawtable!$A$4:$U$393,5,FALSE)="",IF(rawtable!$AB98=".","NA",VLOOKUP($A98,rawtable!$A$4:$AG$393,33,FALSE)),"")
A99: 95 | B99: =IF(VLOOKUP(A99,rawtable!$A$4:$U$393,5,FALSE)="",VLOOKUP(A99,rawtable!$A$4:$U$393,2,FALSE),"") -> standalone_field | D99: =IF(VLOOKUP($A99,rawtable!$A$4:$U$393,5,FALSE)="","",VLOOKUP($A99,rawtable!$A$4:$U$393,7,FALSE)) | E99: =IF(VLOOKUP($A99,rawtable!$A$4:$U$393,5,FALSE)="",VLOOKUP($A99,rawtable!$A$4:$U$393,13,FALSE),"") -> 1 | F99: =IF(VLOOKUP($A99,rawtable!$A$4:$U$393,5,FALSE)="",IF(rawtable!$V99=".","NA",VLOOKUP($A99,rawtable!$A$4:$AG$393,31,FALSE)),"") -> 0.00 (1.00, 1.00) | G99: =IF(VLOOKUP($A99,rawtable!$A$4:$U$393,5,FALSE)="","",VLOOKUP($A99,rawtable!$A$4:$U$393,8,FALSE)) | H99: =IF(VLOOKUP($A99,rawtable!$A$4:$U$393,5,FALSE)="",VLOOKUP($A99,rawtable!$A$4:$U$393,17,FALSE),"") -> 1 | I99: =IF(VLOOKUP($A99,rawtable!$A$4:$U$393,5,FALSE)="",IF(rawtable!$Y99=".","NA",VLOOKUP($A99,rawtable!$A$4:$AG$393,32,FALSE)),"") -> 0.00 (1.00, 1.00) | J99: =IF(VLOOKUP($A99,rawtable!$A$4:$U$393,5,FALSE)="","",VLOOKUP($A99,rawtable!$A$4:$U$393,9,FALSE)) | K99: =IF(VLOOKUP($A99,rawtable!$A$4:$U$393,5,FALSE)="",VLOOKUP($A99,rawtable!$A$4:$U$393,21,FALSE),"") -> . | L99: =IF(VLOOKUP($A99,rawtable!$A$4:$U$393,5,FALSE)="",IF(rawtable!$AB99=".","NA",VLOOKUP($A99,rawtable!$A$4:$AG$393,33,FALSE)),"") -> NA
A100: 96 | B100: =IF(VLOOKUP(A100,rawtable!$A$4:$U$393,5,FALSE)="",VLOOKUP(A100,rawtable!$A$4:$U$393,2,FALSE),"") | C100: =IF(VLOOKUP(A100,rawtable!$A$4:$U$393,5,FALSE)="","",VLOOKUP(A100,rawtable!$A$4:$U$393,5,FALSE)) -> No | D100: =IF(VLOOKUP($A100,rawtable!$A$4:$U$393,5,FALSE)="","",VLOOKUP($A100,rawtable!$A$4:$U$393,7,FALSE)) -> 98.401 | E100: =IF(VLOOKUP($A100,rawtable!$A$4:$U$393,5,FALSE)="",VLOOKUP($A100,rawtable!$A$4:$U$393,13,FALSE),"") | F100: =IF(VLOOKUP($A100,rawtable!$A$4:$U$393,5,FALSE)="",IF(rawtable!$V100=".","NA",VLOOKUP($A100,rawtable!$A$4:$AG$393,31,FALSE)),"") | G100: =IF(VLOOKUP($A100,rawtable!$A$4:$U$393,5,FALSE)="","",VLOOKUP($A100,rawtable!$A$4:$U$393,8,FALSE)) -> 98.854 | H100: =IF(VLOOKUP($A100,rawtable!$A$4:$U$393,5,FALSE)="",VLOOKUP($A100,rawtable!$A$4:$U$393,17,FALSE),"") | I100: =IF(VLOOKUP($A100,rawtable!$A$4:$U$393,5,FALSE)="",IF(rawtable!$Y100=".","NA",VLOOKUP($A100,rawtable!$A$4:$AG$393,32,FALSE)),"") | J100: =IF(VLOOKUP($A100,rawtable!$A$4:$U$393,5,FALSE)="","",VLOOKUP($A100,rawtable!$A$4:$U$393,9,FALSE)) -> 0 | K100: =IF(VLOOKUP($A100,rawtable!$A$4:$U$393,5,FALSE)="",VLOOKUP($A100,rawtable!$A$4:$U$393,21,FALSE),"") | L100: =IF(VLOOKUP($A100,rawtable!$A$4:$U$393,5,FALSE)="",IF(rawtable!$AB100=".","NA",VLOOKUP($A100,rawtable!$A$4:$AG$393,33,FALSE)),"")
...

Sheet Sheet1
T1: Krippendorff Range | W1: Percent Agreement
C2: 2012 Kappa | D2: 2015 Kappa | E2: 2017 Kappa | G2: Krippendorff's Alpha | J2: Agreement | M2: Kappa | P2: Prevalence | T2: 0.7 - 1 | V2: 90% - 100%
A3: Land Use | G3: 2012 | H3: 2015 | I3: 2017 | J3: 2012 | K3: 2015 | L3: 2017 | M3: 2012 | N3: 2015 | O3: 2017 | P3: 2012 | Q3: 2015 | R3: 2017 | T3: 0.4 - 0.7 | V3: 75% - 90%
B4: Housing – detached | C4: 0.78 | D4: 0.908 | E4: 0.679 | F4: A1A | G4: =IF(F4<>"",VLOOKUP($F4,SummaryTable!$B$5:$N$111,COLUMN(G$1)-5,FALSE),"") -> 0.87253 | H4: =IF(G4<>"",VLOOKUP($F4,SummaryTable!$B$5:$N$111,COLUMN(H$1)-5,FALSE),"") -> 0.95086 | I4: =IF(H4<>"",VLOOKUP($F4,SummaryTable!$B$5:$N$111,COLUMN(I$1)-5,FALSE),"") -> 0.74021 | J4: =IF(I4<>"",VLOOKUP($F4,SummaryTable!$B$5:$N$111,COLUMN(J$1)-5,FALSE),"") -> 0.86441 | K4: =IF(J4<>"",VLOOKUP($F4,SummaryTable!$B$5:$N$111,COLUMN(K$1)-5,FALSE),"") -> 0.94 | L4: =IF(K4<>"",VLOOKUP($F4,SummaryTable!$B$5:$N$111,COLUMN(L$1)-5,FALSE),"") -> 0.81 | M4: =IF(L4<>"",VLOOKUP($F4,SummaryTable!$B$5:$N$111,COLUMN(M$1)-5,FALSE),"") -> 0.84422 | N4: =IF(M4<>"",VLOOKUP($F4,SummaryTable!$B$5:$N$111,COLUMN(N$1)-5,FALSE),"") -> 0.93094 | ... R4: =IF(Q4<>"",VLOOKUP($F4,SummaryTable!$B$5:$N$111,COLUMN(R$1)-5,FALSE),"") -> 57.791 | T4: low - 0.4 | V4: 50% - 75%
B5: Housing – either side of street | C5: 0.803 | D5: 0.788 | E5: 0.744 | F5: A1ABC | G5: =IF(F5<>"",VLOOKUP($F5,SummaryTable!$B$5:$N$111,COLUMN(G$1)-5,FALSE),"") -> 0.8048 | H5: =IF(G5<>"",VLOOKUP($F5,SummaryTable!$B$5:$N$111,COLUMN(H$1)-5,FALSE),"") -> 0.79031 | I5: =IF(H5<>"",VLOOKUP($F5,SummaryTable!$B$5:$N$111,COLUMN(I$1)-5,FALSE),"") -> 0.74389 | J5: =IF(I5<>"",VLOOKUP($F5,SummaryTable!$B$5:$N$111,COLUMN(J$1)-5,FALSE),"") -> 0.91525 | K5: =IF(J5<>"",VLOOKUP($F5,SummaryTable!$B$5:$N$111,COLUMN(K$1)-5,FALSE),"") -> 0.94118 | L5: =IF(K5<>"",VLOOKUP($F5,SummaryTable!$B$5:$N$111,COLUMN(L$1)-5,FALSE),"") -> 0.88 | M5: =IF(L5<>"",VLOOKUP($F5,SummaryTable!$B$5:$N$111,COLUMN(M$1)-5,FALSE),"") -> 0.8032 | N5: =IF(M5<>"",VLOOKUP($F5,SummaryTable!$B$5:$N$111,COLUMN(N$1)-5,FALSE),"") -> 0.78838 | ... R5: =IF(Q5<>"",VLOOKUP($F5,SummaryTable!$B$5:$N$111,COLUMN(R$1)-5,FALSE),"") -> 59.758
B6: Housing - attached | C6: 0.484 | D6: 0.815 | E6: 0.623 | F6: A1B | G6: =IF(F6<>"",VLOOKUP($F6,SummaryTable!$B$5:$N$111,COLUMN(G$1)-5,FALSE),"") -> 0.57032 | H6: =IF(G6<>"",VLOOKUP($F6,SummaryTable!$B$5:$N$111,COLUMN(H$1)-5,FALSE),"") -> 0.82956 | I6: =IF(H6<>"",VLOOKUP($F6,SummaryTable!$B$5:$N$111,COLUMN(I$1)-5,FALSE),"") -> 0.68626 | J6: =IF(I6<>"",VLOOKUP($F6,SummaryTable!$B$5:$N$111,COLUMN(J$1)-5,FALSE),"") -> 0.70175 | K6: =IF(J6<>"",VLOOKUP($F6,SummaryTable!$B$5:$N$111,COLUMN(K$1)-5,FALSE),"") -> 0.92 | L6: =IF(K6<>"",VLOOKUP($F6,SummaryTable!$B$5:$N$111,COLUMN(L$1)-5,FALSE),"") -> 0.82 | M6: =IF(L6<>"",VLOOKUP($F6,SummaryTable!$B$5:$N$111,COLUMN(M$1)-5,FALSE),"") -> 0.5413 | N6: =IF(M6<>"",VLOOKUP($F6,SummaryTable!$B$5:$N$111,COLUMN(N$1)-5,FALSE),"") -> 0.84592 | ... R6: =IF(Q6<>"",VLOOKUP($F6,SummaryTable!$B$5:$N$111,COLUMN(R$1)-5,FALSE),"") -> 69.592
B7: Housing - apartments | C7: 0.617 | D7: 0.767 | E7: 0.793 | F7: A1C | G7: =IF(F7<>"",VLOOKUP($F7,SummaryTable!$B$5:$N$111,COLUMN(G$1)-5,FALSE),"") -> 0.66726 | H7: =IF(G7<>"",VLOOKUP($F7,SummaryTable!$B$5:$N$111,COLUMN(H$1)-5,FALSE),"") -> 0.78558 | I7: =IF(H7<>"",VLOOKUP($F7,SummaryTable!$B$5:$N$111,COLUMN(I$1)-5,FALSE),"") -> 0.82477 | J7: =IF(I7<>"",VLOOKUP($F7,SummaryTable!$B$5:$N$111,COLUMN(J$1)-5,FALSE),"") -> 0.80702 | K7: =IF(J7<>"",VLOOKUP($F7,SummaryTable!$B$5:$N$111,COLUMN(K$1)-5,FALSE),"") -> 0.88235 | L7: =IF(K7<>"",VLOOKUP($F7,SummaryTable!$B$5:$N$111,COLUMN(L$1)-5,FALSE),"") -> 0.92 | M7: =IF(L7<>"",VLOOKUP($F7,SummaryTable!$B$5:$N$111,COLUMN(M$1)-5,FALSE),"") -> 0.65416 | N7: =IF(M7<>"",VLOOKUP($F7,SummaryTable!$B$5:$N$111,COLUMN(N$1)-5,FALSE),"") -> 0.79681 | ... R7: =IF(Q7<>"",VLOOKUP($F7,SummaryTable!$B$5:$N$111,COLUMN(R$1)-5,FALSE),"") -> 82.753
B8: Public/civic | C8: 0.515 | D8: 0.88 | E8: 0.556 | F8: A1D | G8: =IF(F8<>"",VLOOKUP($F8,SummaryTable!$B$5:$N$111,COLUMN(G$1)-5,FALSE),"") -> 0.51786 | H8: =IF(G8<>"",VLOOKUP($F8,SummaryTable!$B$5:$N$111,COLUMN(H$1)-5,FALSE),"") -> 0.88387 | I8: =IF(H8<>"",VLOOKUP($F8,SummaryTable!$B$5:$N$111,COLUMN(I$1)-5,FALSE),"") -> 0.55811 | J8: =IF(I8<>"",VLOOKUP($F8,SummaryTable!$B$5:$N$111,COLUMN(J$1)-5,FALSE),"") -> 0.89831 | K8: =IF(J8<>"",VLOOKUP($F8,SummaryTable!$B$5:$N$111,COLUMN(K$1)-5,FALSE),"") -> 0.97917 | L8: =IF(K8<>"",VLOOKUP($F8,SummaryTable!$B$5:$N$111,COLUMN(L$1)-5,FALSE),"") -> 0.97 | M8: =IF(L8<>"",VLOOKUP($F8,SummaryTable!$B$5:$N$111,COLUMN(M$1)-5,FALSE),"") -> 0.51507 | N8: =IF(M8<>"",VLOOKUP($F8,SummaryTable!$B$5:$N$111,COLUMN(N$1)-5,FALSE),"") -> 0.90123 | ... R8: =IF(Q8<>"",VLOOKUP($F8,SummaryTable!$B$5:$N$111,COLUMN(R$1)-5,FALSE),"") -> 96.067
B9: Office/Professional | C9: 0.311 | D9: -0.021 | E9: NA | F9: A1E | G9: =IF(F9<>"",VLOOKUP($F9,SummaryTable!$B$5:$N$111,COLUMN(G$1)-5,FALSE),"") -> 0.37411 | H9: =IF(G9<>"",VLOOKUP($F9,SummaryTable!$B$5:$N$111,COLUMN(H$1)-5,FALSE),"") -> -0.01064 | I9: =IF(H9<>"",VLOOKUP($F9,SummaryTable!$B$5:$N$111,COLUMN(I$1)-5,FALSE),"") -> 0 | J9: =IF(I9<>"",VLOOKUP($F9,SummaryTable!$B$5:$N$111,COLUMN(J$1)-5,FALSE),"") -> 0.81356 | K9: =IF(J9<>"",VLOOKUP($F9,SummaryTable!$B$5:$N$111,COLUMN(K$1)-5,FALSE),"") -> 0.95833 | L9: =IF(K9<>"",VLOOKUP($F9,SummaryTable!$B$5:$N$111,COLUMN(L$1)-5,FALSE),"") -> 0.99 | M9: =IF(L9<>"",VLOOKUP($F9,SummaryTable!$B$5:$N$111,COLUMN(M$1)-5,FALSE),"") -> 0.38328 | N9: =IF(M9<>"",VLOOKUP($F9,SummaryTable!$B$5:$N$111,COLUMN(N$1)-5,FALSE),"") -> -0.02128 | ... R9: =IF(Q9<>"",VLOOKUP($F9,SummaryTable!$B$5:$N$111,COLUMN(R$1)-5,FALSE),"") -> 99.092
B10: Institutional | C10: 0.747 | D10: 0.759 | E10: 0.733 | F10: A1F | G10: =IF(F10<>"",VLOOKUP($F10,SummaryTable!$B$5:$N$111,COLUMN(G$1)-5,FALSE),"") -> 0.7536 | H10: =IF(G10<>"",VLOOKUP($F10,SummaryTable!$B$5:$N$111,COLUMN(H$1)-5,FALSE),"") -> 0.77143 | I10: =IF(H10<>"",VLOOKUP($F10,SummaryTable!$B$5:$N$111,COLUMN(I$1)-5,FALSE),"") -> 0.72687 | J10: =IF(I10<>"",VLOOKUP($F10,SummaryTable!$B$5:$N$111,COLUMN(J$1)-5,FALSE),"") -> 0.89655 | K10: =IF(J10<>"",VLOOKUP($F10,SummaryTable!$B$5:$N$111,COLUMN(K$1)-5,FALSE),"") -> 0.9 | L10: =IF(K10<>"",VLOOKUP($F10,SummaryTable!$B$5:$N$111,COLUMN(L$1)-5,FALSE),"") -> 0.96 | M10: =IF(L10<>"",VLOOKUP($F10,SummaryTable!$B$5:$N$111,COLUMN(M$1)-5,FALSE),"") -> 0.76164 | N10: =IF(M10<>"",VLOOKUP($F10,SummaryTable!$B$5:$N$111,COLUMN(N$1)-5,FALSE),"") -> 0.78849 | ... R10: =IF(Q10<>"",VLOOKUP($F10,SummaryTable!$B$5:$N$111,COLUMN(R$1)-5,FALSE),"") -> 89.259
B11: Service | C11: NA | D11: 0.719 | E11: 0.501 | F11: A1G | G11: =IF(F11<>"",VLOOKUP($F11,SummaryTable!$B$5:$N$111,COLUMN(G$1)-5,FALSE),"") -> 0.43588 | H11: =IF(G11<>"",VLOOKUP($F11,SummaryTable!$B$5:$N$111,COLUMN(H$1)-5,FALSE),"") -> 0.78167 | I11: =IF(H11<>"",VLOOKUP($F11,SummaryTable!$B$5:$N$111,COLUMN(I$1)-5,FALSE),"") -> 0.61969 | J11: =IF(I11<>"",VLOOKUP($F11,SummaryTable!$B$5:$N$111,COLUMN(J$1)-5,FALSE),"") -> 0.82759 | K11: =IF(J11<>"",VLOOKUP($F11,SummaryTable!$B$5:$N$111,COLUMN(K$1)-5,FALSE),"") -> 0.9 | L11: =IF(K11<>"",VLOOKUP($F11,SummaryTable!$B$5:$N$111,COLUMN(L$1)-5,FALSE),"") -> 0.87 | M11: =IF(L11<>"",VLOOKUP($F11,SummaryTable!$B$5:$N$111,COLUMN(M$1)-5,FALSE),"") -> . | N11: =IF(M11<>"",VLOOKUP($F11,SummaryTable!$B$5:$N$111,COLUMN(N$1)-5,FALSE),"") -> 0.75149 | ... R11: =IF(Q11<>"",VLOOKUP($F11,SummaryTable!$B$5:$N$111,COLUMN(R$1)-5,FALSE),"") -> 90.318
B12: Retail | C12: 0.649 | D12: 0.638 | E12: 0.52 | F12: A1H | G12: =IF(F12<>"",VLOOKUP($F12,SummaryTable!$B$5:$N$111,COLUMN(G$1)-5,FALSE),"") -> 0.7044 | H12: =IF(G12<>"",VLOOKUP($F12,SummaryTable!$B$5:$N$111,COLUMN(H$1)-5,FALSE),"") -> 0.63736 | I12: =IF(H12<>"",VLOOKUP($F12,SummaryTable!$B$5:$N$111,COLUMN(I$1)-5,FALSE),"") -> 0.62714 | J12: =IF(I12<>"",VLOOKUP($F12,SummaryTable!$B$5:$N$111,COLUMN(J$1)-5,FALSE),"") -> 0.84483 | K12: =IF(J12<>"",VLOOKUP($F12,SummaryTable!$B$5:$N$111,COLUMN(K$1)-5,FALSE),"") -> 0.94 | L12: =IF(K12<>"",VLOOKUP($F12,SummaryTable!$B$5:$N$111,COLUMN(L$1)-5,FALSE),"") -> 0.92 | M12: =IF(L12<>"",VLOOKUP($F12,SummaryTable!$B$5:$N$111,COLUMN(M$1)-5,FALSE),"") -> 0.66456 | N12: =IF(M12<>"",VLOOKUP($F12,SummaryTable!$B$5:$N$111,COLUMN(N$1)-5,FALSE),"") -> 0.63768 | ... R12: =IF(Q12<>"",VLOOKUP($F12,SummaryTable!$B$5:$N$111,COLUMN(R$1)-5,FALSE),"") -> 93.646
B13: Industrial/Manufacturing | C13: 0.548 | D13: 0.658 | E13: 0.662 | F13: A1I | G13: =IF(F13<>"",VLOOKUP($F13,SummaryTable!$B$5:$N$111,COLUMN(G$1)-5,FALSE),"") -> 0.66249 | H13: =IF(G13<>"",VLOOKUP($F13,SummaryTable!$B$5:$N$111,COLUMN(H$1)-5,FALSE),"") -> 0.65979 | I13: =IF(H13<>"",VLOOKUP($F13,SummaryTable!$B$5:$N$111,COLUMN(I$1)-5,FALSE),"") -> 0.66328 | J13: =IF(I13<>"",VLOOKUP($F13,SummaryTable!$B$5:$N$111,COLUMN(J$1)-5,FALSE),"") -> 0.91379 | K13: =IF(J13<>"",VLOOKUP($F13,SummaryTable!$B$5:$N$111,COLUMN(K$1)-5,FALSE),"") -> 0.98 | L13: =IF(K13<>"",VLOOKUP($F13,SummaryTable!$B$5:$N$111,COLUMN(L$1)-5,FALSE),"") -> 0.99 | M13: =IF(L13<>"",VLOOKUP($F13,SummaryTable!$B$5:$N$111,COLUMN(M$1)-5,FALSE),"") -> 0.67849 | N13: =IF(M13<>"",VLOOKUP($F13,SummaryTable!$B$5:$N$111,COLUMN(N$1)-5,FALSE),"") -> 0.65753 | ... R13: =IF(Q13<>"",VLOOKUP($F13,SummaryTable!$B$5:$N$111,COLUMN(R$1)-5,FALSE),"") -> 96.672
B14: Recreation/Fitness | C14: 0.487 | D14: 1 | E14: 0.662 | F14: A1J | G14: =IF(F14<>"",VLOOKUP($F14,SummaryTable!$B$5:$N$111,COLUMN(G$1)-5,FALSE),"") -> 0.48684 | H14: =IF(G14<>"",VLOOKUP($F14,SummaryTable!$B$5:$N$111,COLUMN(H$1)-5,FALSE),"") -> 1 | I14: =IF(H14<>"",VLOOKUP($F14,SummaryTable!$B$5:$N$111,COLUMN(I$1)-5,FALSE),"") -> 0.66328 | J14: =IF(I14<>"",VLOOKUP($F14,SummaryTable!$B$5:$N$111,COLUMN(J$1)-5,FALSE),"") -> 0.9661 | K14: =IF(J14<>"",VLOOKUP($F14,SummaryTable!$B$5:$N$111,COLUMN(K$1)-5,FALSE),"") -> 1 | L14: =IF(K14<>"",VLOOKUP($F14,SummaryTable!$B$5:$N$111,COLUMN(L$1)-5,FALSE),"") -> 0.99 | M14: =IF(L14<>"",VLOOKUP($F14,SummaryTable!$B$5:$N$111,COLUMN(M$1)-5,FALSE),"") -> 0.48696 | N14: =IF(M14<>"",VLOOKUP($F14,SummaryTable!$B$5:$N$111,COLUMN(N$1)-5,FALSE),"") -> 1 | ... R14: =IF(Q14<>"",VLOOKUP($F14,SummaryTable!$B$5:$N$111,COLUMN(R$1)-5,FALSE),"") -> 98.638
B15: Public/Communal Spaces | C15: 0.165 | D15: NA | E15: NA | F15: A1K | G15: =IF(F15<>"",VLOOKUP($F15,SummaryTable!$B$5:$N$111,COLUMN(G$1)-5,FALSE),"") -> 0.16407 | H15: =IF(G15<>"",VLOOKUP($F15,SummaryTable!$B$5:$N$111,COLUMN(H$1)-5,FALSE),"") -> -0.01042 | I15: =IF(H15<>"",VLOOKUP($F15,SummaryTable!$B$5:$N$111,COLUMN(I$1)-5,FALSE),"") -> 0.35017 | J15: =IF(I15<>"",VLOOKUP($F15,SummaryTable!$B$5:$N$111,COLUMN(J$1)-5,FALSE),"") -> 0.87931 | K15: =IF(J15<>"",VLOOKUP($F15,SummaryTable!$B$5:$N$111,COLUMN(K$1)-5,FALSE),"") -> 0.95918 | L15: =IF(K15<>"",VLOOKUP($F15,SummaryTable!$B$5:$N$111,COLUMN(L$1)-5,FALSE),"") -> 0.91 | M15: =IF(L15<>"",VLOOKUP($F15,SummaryTable!$B$5:$N$111,COLUMN(M$1)-5,FALSE),"") -> 0.16461 | N15: =IF(M15<>"",VLOOKUP($F15,SummaryTable!$B$5:$N$111,COLUMN(N$1)-5,FALSE),"") -> . | ... R15: =IF(Q15<>"",VLOOKUP($F15,SummaryTable!$B$5:$N$111,COLUMN(R$1)-5,FALSE),"") -> 93.041
B16: Vacant Building/Lot | C16: 0.318 | D16: 0.719 | E16: 0.304 | F16: A1L | G16: =IF(F16<>"",VLOOKUP($F16,SummaryTable!$B$5:$N$111,COLUMN(G$1)-5,FALSE),"") -> 0.45291 | H16: =IF(G16<>"",VLOOKUP($F16,SummaryTable!$B$5:$N$111,COLUMN(H$1)-5,FALSE),"") -> 0.77361 | I16: =IF(H16<>"",VLOOKUP($F16,SummaryTable!$B$5:$N$111,COLUMN(I$1)-5,FALSE),"") -> 0.41516 | J16: =IF(I16<>"",VLOOKUP($F16,SummaryTable!$B$5:$N$111,COLUMN(J$1)-5,FALSE),"") -> 0.58621 | K16: =IF(J16<>"",VLOOKUP($F16,SummaryTable!$B$5:$N$111,COLUMN(K$1)-5,FALSE),"") -> 0.82 | L16: =IF(K16<>"",VLOOKUP($F16,SummaryTable!$B$5:$N$111,COLUMN(L$1)-5,FALSE),"") -> 0.56 | M16: =IF(L16<>"",VLOOKUP($F16,SummaryTable!$B$5:$N$111,COLUMN(M$1)-5,FALSE),"") -> 0.34936 | N16: =IF(M16<>"",VLOOKUP($F16,SummaryTable!$B$5:$N$111,COLUMN(N$1)-5,FALSE),"") -> 0.73785 | ... R16: =IF(Q16<>"",VLOOKUP($F16,SummaryTable!$B$5:$N$111,COLUMN(R$1)-5,FALSE),"") -> 42.511
B17: Other | C17: -0.032 | D17: 0.35 | E17: NA | F17: A1M | G17: =IF(F17<>"",VLOOKUP($F17,SummaryTable!$B$5:$N$111,COLUMN(G$1)-5,FALSE),"") -> -0.0404 | H17: =IF(G17<>"",VLOOKUP($F17,SummaryTable!$B$5:$N$111,COLUMN(H$1)-5,FALSE),"") -> 0.29795 | I17: =IF(H17<>"",VLOOKUP($F17,SummaryTable!$B$5:$N$111,COLUMN(I$1)-5,FALSE),"") -> 0.25758 | J17: =IF(I17<>"",VLOOKUP($F17,SummaryTable!$B$5:$N$111,COLUMN(J$1)-5,FALSE),"") -> 0.90385 | K17: =IF(J17<>"",VLOOKUP($F17,SummaryTable!$B$5:$N$111,COLUMN(K$1)-5,FALSE),"") -> 0.87234 | L17: =IF(K17<>"",VLOOKUP($F17,SummaryTable!$B$5:$N$111,COLUMN(L$1)-5,FALSE),"") -> 0.95 | M17: =IF(L17<>"",VLOOKUP($F17,SummaryTable!$B$5:$N$111,COLUMN(M$1)-5,FALSE),"") -> -0.03175 | N17: =IF(M17<>"",VLOOKUP($F17,SummaryTable!$B$5:$N$111,COLUMN(N$1)-5,FALSE),"") -> 0.21927 | ... R17: =IF(Q17<>"",VLOOKUP($F17,SummaryTable!$B$5:$N$111,COLUMN(R$1)-5,FALSE),"") -> 98.033
A18: Environment | G18: =IF(F18<>"",VLOOKUP($F18,SummaryTable!$B$5:$N$111,COLUMN(G$1)-5,FALSE),"") | H18: =IF(G18<>"",VLOOKUP($F18,SummaryTable!$B$5:$N$111,COLUMN(H$1)-5,FALSE),"") | I18: =IF(H18<>"",VLOOKUP($F18,SummaryTable!$B$5:$N$111,COLUMN(I$1)-5,FALSE),"") | J18: =IF(I18<>"",VLOOKUP($F18,SummaryTable!$B$5:$N$111,COLUMN(J$1)-5,FALSE),"") | K18: =IF(J18<>"",VLOOKUP($F18,SummaryTable!$B$5:$N$111,COLUMN(K$1)-5,FALSE),"") | L18: =IF(K18<>"",VLOOKUP($F18,SummaryTable!$B$5:$N$111,COLUMN(L$1)-5,FALSE),"") | M18: =IF(L18<>"",VLOOKUP($F18,SummaryTable!$B$5:$N$111,COLUMN(M$1)-5,FALSE),"") | N18: =IF(M18<>"",VLOOKUP($F18,SummaryTable!$B$5:$N$111,COLUMN(N$1)-5,FALSE),"") | ... R18: =IF(Q18<>"",VLOOKUP($F18,SummaryTable!$B$5:$N$111,COLUMN(R$1)-5,FALSE),"")
B19: Cliffs or Ravines | C19: 0.791 | D19: NA | E19: 0.556 | F19: A2A | G19: =IF(F19<>"",VLOOKUP($F19,SummaryTable!$B$5:$N$111,COLUMN(G$1)-5,FALSE),"") -> 0.79252 | H19: =IF(G19<>"",VLOOKUP($F19,SummaryTable!$B$5:$N$111,COLUMN(H$1)-5,FALSE),"") -> 0 | I19: =IF(H19<>"",VLOOKUP($F19,SummaryTable!$B$5:$N$111,COLUMN(I$1)-5,FALSE),"") -> 0.55778 | J19: =IF(I19<>"",VLOOKUP($F19,SummaryTable!$B$5:$N$111,COLUMN(J$1)-5,FALSE),"") -> 0.98214 | K19: =IF(J19<>"",VLOOKUP($F19,SummaryTable!$B$5:$N$111,COLUMN(K$1)-5,FALSE),"") -> 1 | L19: =IF(K19<>"",VLOOKUP($F19,SummaryTable!$B$5:$N$111,COLUMN(L$1)-5,FALSE),"") -> 0.92 | M19: =IF(L19<>"",VLOOKUP($F19,SummaryTable!$B$5:$N$111,COLUMN(M$1)-5,FALSE),"") -> 0.79104 | N19: =IF(M19<>"",VLOOKUP($F19,SummaryTable!$B$5:$N$111,COLUMN(N$1)-5,FALSE),"") -> . | ... R19: =IF(Q19<>"",VLOOKUP($F19,SummaryTable!$B$5:$N$111,COLUMN(R$1)-5,FALSE),"") -> 90.923
B20: Amount of street trees | C20: 0.614 | D20: NA | E20: 0.429 | F20: A3A | G20: =IF(F20<>"",VLOOKUP($F20,SummaryTable!$B$5:$N$111,COLUMN(G$1)-5,FALSE),"") -> 0.66141 | H20: =IF(G20<>"",VLOOKUP($F20,SummaryTable!$B$5:$N$111,COLUMN(H$1)-5,FALSE),"") -> 0.94283 | I20: =IF(H20<>"",VLOOKUP($F20,SummaryTable!$B$5:$N$111,COLUMN(I$1)-5,FALSE),"") -> 0.42654 | J20: =IF(I20<>"",VLOOKUP($F20,SummaryTable!$B$5:$N$111,COLUMN(J$1)-5,FALSE),"") -> 0.86441 | K20: =IF(J20<>"",VLOOKUP($F20,SummaryTable!$B$5:$N$111,COLUMN(K$1)-5,FALSE),"") -> 0.96078 | L20: =IF(K20<>"",VLOOKUP($F20,SummaryTable!$B$5:$N$111,COLUMN(L$1)-5,FALSE),"") -> 0.76 | M20: =IF(L20<>"",VLOOKUP($F20,SummaryTable!$B$5:$N$111,COLUMN(M$1)-5,FALSE),"") -> 0.64671 | N20: =IF(M20<>"",VLOOKUP($F20,SummaryTable!$B$5:$N$111,COLUMN(N$1)-5,FALSE),"") -> . | ... R20: =IF(Q20<>"",VLOOKUP($F20,SummaryTable!$B$5:$N$111,COLUMN(R$1)-5,FALSE),"") -> 77.307
B21: Shade from street trees | C21: 0.553 | D21: 0.743 | E21: 0.294 | F21: A3B | G21: =IF(F21<>"",VLOOKUP($F21,SummaryTable!$B$5:$N$111,COLUMN(G$1)-5,FALSE),"") -> 0.60035 | H21: =IF(G21<>"",VLOOKUP($F21,SummaryTable!$B$5:$N$111,COLUMN(H$1)-5,FALSE),"") -> 0.89227 | I21: =IF(H21<>"",VLOOKUP($F21,SummaryTable!$B$5:$N$111,COLUMN(I$1)-5,FALSE),"") -> 0.30049 | J21: =IF(I21<>"",VLOOKUP($F21,SummaryTable!$B$5:$N$111,COLUMN(J$1)-5,FALSE),"") -> 0.89831 | K21: =IF(J21<>"",VLOOKUP($F21,SummaryTable!$B$5:$N$111,COLUMN(K$1)-5,FALSE),"") -> 0.94118 | L21: =IF(K21<>"",VLOOKUP($F21,SummaryTable!$B$5:$N$111,COLUMN(L$1)-5,FALSE),"") -> 0.79 | M21: =IF(L21<>"",VLOOKUP($F21,SummaryTable!$B$5:$N$111,COLUMN(M$1)-5,FALSE),"") -> 0.50106 | N21: =IF(M21<>"",VLOOKUP($F21,SummaryTable!$B$5:$N$111,COLUMN(N$1)-5,FALSE),"") -> 0.71978 | ... R21: =IF(Q21<>"",VLOOKUP($F21,SummaryTable!$B$5:$N$111,COLUMN(R$1)-5,FALSE),"") -> 81.997
B22: Slope | C22: 0.671 | D22: 0.754 | E22: 0.599 | F22: A4 | G22: =IF(F22<>"",VLOOKUP($F22,SummaryTable!$B$5:$N$111,COLUMN(G$1)-5,FALSE),"") -> 0.76066 | H22: =IF(G22<>"",VLOOKUP($F22,SummaryTable!$B$5:$N$111,COLUMN(H$1)-5,FALSE),"") -> 0.90548 | I22: =IF(H22<>"",VLOOKUP($F22,SummaryTable!$B$5:$N$111,COLUMN(I$1)-5,FALSE),"") -> 0.72296 | J22: =IF(I22<>"",VLOOKUP($F22,SummaryTable!$B$5:$N$111,COLUMN(J$1)-5,FALSE),"") -> 0.84746 | K22: =IF(J22<>"",VLOOKUP($F22,SummaryTable!$B$5:$N$111,COLUMN(K$1)-5,FALSE),"") -> 0.88235 | L22: =IF(K22<>"",VLOOKUP($F22,SummaryTable!$B$5:$N$111,COLUMN(L$1)-5,FALSE),"") -> 0.8 | M22: =IF(L22<>"",VLOOKUP($F22,SummaryTable!$B$5:$N$111,COLUMN(M$1)-5,FALSE),"") -> 0.72615 | N22: =IF(M22<>"",VLOOKUP($F22,SummaryTable!$B$5:$N$111,COLUMN(N$1)-5,FALSE),"") -> 0.78838 | ... R22: =IF(Q22<>"",VLOOKUP($F22,SummaryTable!$B$5:$N$111,COLUMN(R$1)-5,FALSE),"") -> 65.507
B23: Bars on Windows | C23: 0.536 | D23: 0.673 | E23: 0.61 | F23: A5A | G23: =IF(F23<>"",VLOOKUP($F23,SummaryTable!$B$5:$N$111,COLUMN(G$1)-5,FALSE),"") -> 0.53971 | H23: =IF(G23<>"",VLOOKUP($F23,SummaryTable!$B$5:$N$111,COLUMN(H$1)-5,FALSE),"") -> 0.67419 | I23: =IF(H23<>"",VLOOKUP($F23,SummaryTable!$B$5:$N$111,COLUMN(I$1)-5,FALSE),"") -> 0.61133 | J23: =IF(I23<>"",VLOOKUP($F23,SummaryTable!$B$5:$N$111,COLUMN(J$1)-5,FALSE),"") -> 0.76786 | K23: =IF(J23<>"",VLOOKUP($F23,SummaryTable!$B$5:$N$111,COLUMN(K$1)-5,FALSE),"") -> 0.84314 | L23: =IF(K23<>"",VLOOKUP($F23,SummaryTable!$B$5:$N$111,COLUMN(L$1)-5,FALSE),"") -> 0.82 | M23: =IF(L23<>"",VLOOKUP($F23,SummaryTable!$B$5:$N$111,COLUMN(M$1)-5,FALSE),"") -> 0.53571 | N23: =IF(M23<>"",VLOOKUP($F23,SummaryTable!$B$5:$N$111,COLUMN(N$1)-5,FALSE),"") -> 0.67308 | ... R23: =IF(Q23<>"",VLOOKUP($F23,SummaryTable!$B$5:$N$111,COLUMN(R$1)-5,FALSE),"") -> 68.939
B24: Broken or Boarded Windows | C24: 0.607 | D24: 0.825 | E24: NA | F24: A5B | G24: =IF(F24<>"",VLOOKUP($F24,SummaryTable!$B$5:$N$111,COLUMN(G$1)-5,FALSE),"") -> 0.60993 | H24: =IF(G24<>"",VLOOKUP($F24,SummaryTable!$B$5:$N$111,COLUMN(H$1)-5,FALSE),"") -> 0.82526 | I24: =IF(H24<>"",VLOOKUP($F24,SummaryTable!$B$5:$N$111,COLUMN(I$1)-5,FALSE),"") -> . | J24: =IF(I24<>"",VLOOKUP($F24,SummaryTable!$B$5:$N$111,COLUMN(J$1)-5,FALSE),"") -> 0.81034 | K24: =IF(J24<>"",VLOOKUP($F24,SummaryTable!$B$5:$N$111,COLUMN(K$1)-5,FALSE),"") -> 0.92157 | L24: =IF(K24<>"",VLOOKUP($F24,SummaryTable!$B$5:$N$111,COLUMN(L$1)-5,FALSE),"") -> . | M24: =IF(L24<>"",VLOOKUP($F24,SummaryTable!$B$5:$N$111,COLUMN(M$1)-5,FALSE),"") -> 0.60666 | N24: =IF(M24<>"",VLOOKUP($F24,SummaryTable!$B$5:$N$111,COLUMN(N$1)-5,FALSE),"") -> 0.82474 | ... R24: =IF(Q24<>"",VLOOKUP($F24,SummaryTable!$B$5:$N$111,COLUMN(R$1)-5,FALSE),"") -> .
A25: PA Facilities | G25: =IF(F25<>"",VLOOKUP($F25,SummaryTable!$B$5:$N$111,COLUMN(G$1)-5,FALSE),"") | H25: =IF(G25<>"",VLOOKUP($F25,SummaryTable!$B$5:$N$111,COLUMN(H$1)-5,FALSE),"") | I25: =IF(H25<>"",VLOOKUP($F25,SummaryTable!$B$5:$N$111,COLUMN(I$1)-5,FALSE),"") | J25: =IF(I25<>"",VLOOKUP($F25,SummaryTable!$B$5:$N$111,COLUMN(J$1)-5,FALSE),"") | K25: =IF(J25<>"",VLOOKUP($F25,SummaryTable!$B$5:$N$111,COLUMN(K$1)-5,FALSE),"") | L25: =IF(K25<>"",VLOOKUP($F25,SummaryTable!$B$5:$N$111,COLUMN(L$1)-5,FALSE),"") | M25: =IF(L25<>"",VLOOKUP($F25,SummaryTable!$B$5:$N$111,COLUMN(M$1)-5,FALSE),"") | N25: =IF(M25<>"",VLOOKUP($F25,SummaryTable!$B$5:$N$111,COLUMN(N$1)-5,FALSE),"") | ... R25: =IF(Q25<>"",VLOOKUP($F25,SummaryTable!$B$5:$N$111,COLUMN(R$1)-5,FALSE),"")
B26: Indoor physical activity facility | C26: 1 | D26: 1 | E26: NA | F26: A6A | G26: =IF(F26<>"",VLOOKUP($F26,SummaryTable!$B$5:$N$111,COLUMN(G$1)-5,FALSE),"") -> . | H26: =IF(G26<>"",VLOOKUP($F26,SummaryTable!$B$5:$N$111,COLUMN(H$1)-5,FALSE),"") -> 1 | I26: =IF(H26<>"",VLOOKUP($F26,SummaryTable!$B$5:$N$111,COLUMN(I$1)-5,FALSE),"") -> . | J26: =IF(I26<>"",VLOOKUP($F26,SummaryTable!$B$5:$N$111,COLUMN(J$1)-5,FALSE),"") -> 1 | K26: =IF(J26<>"",VLOOKUP($F26,SummaryTable!$B$5:$N$111,COLUMN(K$1)-5,FALSE),"") -> 1 | L26: =IF(K26<>"",VLOOKUP($F26,SummaryTable!$B$5:$N$111,COLUMN(L$1)-5,FALSE),"") -> . | M26: =IF(L26<>"",VLOOKUP($F26,SummaryTable!$B$5:$N$111,COLUMN(M$1)-5,FALSE),"") -> 1 | N26: =IF(M26<>"",VLOOKUP($F26,SummaryTable!$B$5:$N$111,COLUMN(N$1)-5,FALSE),"") -> 1 | ... R26: =IF(Q26<>"",VLOOKUP($F26,SummaryTable!$B$5:$N$111,COLUMN(R$1)-5,FALSE),"") -> .
B27: Park with no exercise equipment | C27: NA | D27: NA | E27: NA | F27: A6B | G27: =IF(F27<>"",VLOOKUP($F27,SummaryTable!$B$5:$N$111,COLUMN(G$1)-5,FALSE),"") -> 0 | H27: =IF(G27<>"",VLOOKUP($F27,SummaryTable!$B$5:$N$111,COLUMN(H$1)-5,FALSE),"") -> 0 | I27: =IF(H27<>"",VLOOKUP($F27,SummaryTable!$B$5:$N$111,COLUMN(I$1)-5,FALSE),"") -> . | J27: =IF(I27<>"",VLOOKUP($F27,SummaryTable!$B$5:$N$111,COLUMN(J$1)-5,FALSE),"") -> 1 | K27: =IF(J27<>"",VLOOKUP($F27,SummaryTable!$B$5:$N$111,COLUMN(K$1)-5,FALSE),"") -> 1 | L27: =IF(K27<>"",VLOOKUP($F27,SummaryTable!$B$5:$N$111,COLUMN(L$1)-5,FALSE),"") -> . | M27: =IF(L27<>"",VLOOKUP($F27,SummaryTable!$B$5:$N$111,COLUMN(M$1)-5,FALSE),"") -> . | N27: =IF(M27<>"",VLOOKUP($F27,SummaryTable!$B$5:$N$111,COLUMN(N$1)-5,FALSE),"") -> . | ... R27: =IF(Q27<>"",VLOOKUP($F27,SummaryTable!$B$5:$N$111,COLUMN(R$1)-5,FALSE),"") -> .
B28: Park with exercise equipment | C28: 0.659 | D28: 1 | E28: NA | F28: A6C | G28: =IF(F28<>"",VLOOKUP($F28,SummaryTable!$B$5:$N$111,COLUMN(G$1)-5,FALSE),"") -> 0.66087 | H28: =IF(G28<>"",VLOOKUP($F28,SummaryTable!$B$5:$N$111,COLUMN(H$1)-5,FALSE),"") -> 1 | I28: =IF(H28<>"",VLOOKUP($F28,SummaryTable!$B$5:$N$111,COLUMN(I$1)-5,FALSE),"") -> . | J28: =IF(I28<>"",VLOOKUP($F28,SummaryTable!$B$5:$N$111,COLUMN(J$1)-5,FALSE),"") -> 0.98305 | K28: =IF(J28<>"",VLOOKUP($F28,SummaryTable!$B$5:$N$111,COLUMN(K$1)-5,FALSE),"") -> 1 | L28: =IF(K28<>"",VLOOKUP($F28,SummaryTable!$B$5:$N$111,COLUMN(L$1)-5,FALSE),"") -> . | M28: =IF(L28<>"",VLOOKUP($F28,SummaryTable!$B$5:$N$111,COLUMN(M$1)-5,FALSE),"") -> 0.65896 | N28: =IF(M28<>"",VLOOKUP($F28,SummaryTable!$B$5:$N$111,COLUMN(N$1)-5,FALSE),"") -> 1 | ... R28: =IF(Q28<>"",VLOOKUP($F28,SummaryTable!$B$5:$N$111,COLUMN(R$1)-5,FALSE),"") -> .
B29: Standalone court | C29: 1 | D29: 1 | E29: NA | F29: A6D | G29: =IF(F29<>"",VLOOKUP($F29,SummaryTable!$B$5:$N$111,COLUMN(G$1)-5,FALSE),"") -> 1 | H29: =IF(G29<>"",VLOOKUP($F29,SummaryTable!$B$5:$N$111,COLUMN(H$1)-5,FALSE),"") -> 1 | I29: =IF(H29<>"",VLOOKUP($F29,SummaryTable!$B$5:$N$111,COLUMN(I$1)-5,FALSE),"") -> . | J29: =IF(I29<>"",VLOOKUP($F29,SummaryTable!$B$5:$N$111,COLUMN(J$1)-5,FALSE),"") -> 1 | K29: =IF(J29<>"",VLOOKUP($F29,SummaryTable!$B$5:$N$111,COLUMN(K$1)-5,FALSE),"") -> 1 | L29: =IF(K29<>"",VLOOKUP($F29,SummaryTable!$B$5:$N$111,COLUMN(L$1)-5,FALSE),"") -> . | M29: =IF(L29<>"",VLOOKUP($F29,SummaryTable!$B$5:$N$111,COLUMN(M$1)-5,FALSE),"") -> 1 | N29: =IF(M29<>"",VLOOKUP($F29,SummaryTable!$B$5:$N$111,COLUMN(N$1)-5,FALSE),"") -> 1 | ... R29: =IF(Q29<>"",VLOOKUP($F29,SummaryTable!$B$5:$N$111,COLUMN(R$1)-5,FALSE),"") -> .
B30: Standalone field | C30: NA | D30: NA | E30: NA | F30: A6E | G30: =IF(F30<>"",VLOOKUP($F30,SummaryTable!$B$5:$N$111,COLUMN(G$1)-5,FALSE),"") -> 0 | H30: =IF(G30<>"",VLOOKUP($F30,SummaryTable!$B$5:$N$111,COLUMN(H$1)-5,FALSE),"") -> 0 | I30: =IF(H30<>"",VLOOKUP($F30,SummaryTable!$B$5:$N$111,COLUMN(I$1)-5,FALSE),"") -> . | J30: =IF(I30<>"",VLOOKUP($F30,SummaryTable!$B$5:$N$111,COLUMN(J$1)-5,FALSE),"") -> 1 | K30: =IF(J30<>"",VLOOKUP($F30,SummaryTable!$B$5:$N$111,COLUMN(K$1)-5,FALSE),"") -> 1 | L30: =IF(K30<>"",VLOOKUP($F30,SummaryTable!$B$5:$N$111,COLUMN(L$1)-5,FALSE),"") -> . | M30: =IF(L30<>"",VLOOKUP($F30,SummaryTable!$B$5:$N$111,COLUMN(M$1)-5,FALSE),"") -> . | N30: =IF(M30<>"",VLOOKUP($F30,SummaryTable!$B$5:$N$111,COLUMN(N$1)-5,FALSE),"") -> . | ... R30: =IF(Q30<>"",VLOOKUP($F30,SummaryTable!$B$5:$N$111,COLUMN(R$1)-5,FALSE),"") -> .
B31: School grounds | C31: 0.482 | D31: 0.658 | E31: NA | F31: A6F | G31: =IF(F31<>"",VLOOKUP($F31,SummaryTable!$B$5:$N$111,COLUMN(G$1)-5,FALSE),"") -> 0.48684 | H31: =IF(G31<>"",VLOOKUP($F31,SummaryTable!$B$5:$N$111,COLUMN(H$1)-5,FALSE),"") -> 0.65979 | I31: =IF(H31<>"",VLOOKUP($F31,SummaryTable!$B$5:$N$111,COLUMN(I$1)-5,FALSE),"") -> . | J31: =IF(I31<>"",VLOOKUP($F31,SummaryTable!$B$5:$N$111,COLUMN(J$1)-5,FALSE),"") -> 0.9661 | K31: =IF(J31<>"",VLOOKUP($F31,SummaryTable!$B$5:$N$111,COLUMN(K$1)-5,FALSE),"") -> 0.98 | L31: =IF(K31<>"",VLOOKUP($F31,SummaryTable!$B$5:$N$111,COLUMN(L$1)-5,FALSE),"") -> . | M31: =IF(L31<>"",VLOOKUP($F31,SummaryTable!$B$5:$N$111,COLUMN(M$1)-5,FALSE),"") -> 0.48246 | N31: =IF(M31<>"",VLOOKUP($F31,SummaryTable!$B$5:$N$111,COLUMN(N$1)-5,FALSE),"") -> 0.65753 | ... R31: =IF(Q31<>"",VLOOKUP($F31,SummaryTable!$B$5:$N$111,COLUMN(R$1)-5,FALSE),"") -> .
B32: Outdoor pool | C32: NA | D32: NA | E32: NA | F32: A6G | G32: =IF(F32<>"",VLOOKUP($F32,SummaryTable!$B$5:$N$111,COLUMN(G$1)-5,FALSE),"") -> 0 | H32: =IF(G32<>"",VLOOKUP($F32,SummaryTable!$B$5:$N$111,COLUMN(H$1)-5,FALSE),"") -> 0 | I32: =IF(H32<>"",VLOOKUP($F32,SummaryTable!$B$5:$N$111,COLUMN(I$1)-5,FALSE),"") -> . | J32: =IF(I32<>"",VLOOKUP($F32,SummaryTable!$B$5:$N$111,COLUMN(J$1)-5,FALSE),"") -> 1 | K32: =IF(J32<>"",VLOOKUP($F32,SummaryTable!$B$5:$N$111,COLUMN(K$1)-5,FALSE),"") -> 1 | L32: =IF(K32<>"",VLOOKUP($F32,SummaryTable!$B$5:$N$111,COLUMN(L$1)-5,FALSE),"") -> . | M32: =IF(L32<>"",VLOOKUP($F32,SummaryTable!$B$5:$N$111,COLUMN(M$1)-5,FALSE),"") -> . | N32: =IF(M32<>"",VLOOKUP($F32,SummaryTable!$B$5:$N$111,COLUMN(N$1)-5,FALSE),"") -> . | ... R32: =IF(Q32<>"",VLOOKUP($F32,SummaryTable!$B$5:$N$111,COLUMN(R$1)-5,FALSE),"") -> .
B33: Off-road trail | C33: NA | D33: NA | E33: NA | F33: A6H | G33: =IF(F33<>"",VLOOKUP($F33,SummaryTable!$B$5:$N$111,COLUMN(G$1)-5,FALSE),"") -> 0 | H33: =IF(G33<>"",VLOOKUP($F33,SummaryTable!$B$5:$N$111,COLUMN(H$1)-5,FALSE),"") -> 0 | I33: =IF(H33<>"",VLOOKUP($F33,SummaryTable!$B$5:$N$111,COLUMN(I$1)-5,FALSE),"") -> . | J33: =IF(I33<>"",VLOOKUP($F33,SummaryTable!$B$5:$N$111,COLUMN(J$1)-5,FALSE),"") -> 1 | K33: =IF(J33<>"",VLOOKUP($F33,SummaryTable!$B$5:$N$111,COLUMN(K$1)-5,FALSE),"") -> 1 | L33: =IF(K33<>"",VLOOKUP($F33,SummaryTable!$B$5:$N$111,COLUMN(L$1)-5,FALSE),"") -> . | M33: =IF(L33<>"",VLOOKUP($F33,SummaryTable!$B$5:$N$111,COLUMN(M$1)-5,FALSE),"") -> . | N33: =IF(M33<>"",VLOOKUP($F33,SummaryTable!$B$5:$N$111,COLUMN(N$1)-5,FALSE),"") -> . | ... R33: =IF(Q33<>"",VLOOKUP($F33,SummaryTable!$B$5:$N$111,COLUMN(R$1)-5,FALSE),"") -> .
A34: Traffic and Pedestrian | G34: =IF(F34<>"",VLOOKUP($F34,SummaryTable!$B$5:$N$111,COLUMN(G$1)-5,FALSE),"") | H34: =IF(G34<>"",VLOOKUP($F34,SummaryTable!$B$5:$N$111,COLUMN(H$1)-5,FALSE),"") | I34: =IF(H34<>"",VLOOKUP($F34,SummaryTable!$B$5:$N$111,COLUMN(I$1)-5,FALSE),"") | J34: =IF(I34<>"",VLOOKUP($F34,SummaryTable!$B$5:$N$111,COLUMN(J$1)-5,FALSE),"") | K34: =IF(J34<>"",VLOOKUP($F34,SummaryTable!$B$5:$N$111,COLUMN(K$1)-5,FALSE),"") | L34: =IF(K34<>"",VLOOKUP($F34,SummaryTable!$B$5:$N$111,COLUMN(L$1)-5,FALSE),"") | M34: =IF(L34<>"",VLOOKUP($F34,SummaryTable!$B$5:$N$111,COLUMN(M$1)-5,FALSE),"") | N34: =IF(M34<>"",VLOOKUP($F34,SummaryTable!$B$5:$N$111,COLUMN(N$1)-5,FALSE),"") | ... R34: =IF(Q34<>"",VLOOKUP($F34,SummaryTable!$B$5:$N$111,COLUMN(R$1)-5,FALSE),"")
B35: Street type | C35: NA | D35: -0.02 | E35: 0.599 | F35: B1 | G35: =IF(F35<>"",VLOOKUP($F35,SummaryTable!$B$5:$N$111,COLUMN(G$1)-5,FALSE),"") -> 0.58875 | H35: =IF(G35<>"",VLOOKUP($F35,SummaryTable!$B$5:$N$111,COLUMN(H$1)-5,FALSE),"") -> -0.00498 | I35: =IF(H35<>"",VLOOKUP($F35,SummaryTable!$B$5:$N$111,COLUMN(I$1)-5,FALSE),"") -> 0.59973 | J35: =IF(I35<>"",VLOOKUP($F35,SummaryTable!$B$5:$N$111,COLUMN(J$1)-5,FALSE),"") -> 0.9661 | K35: =IF(J35<>"",VLOOKUP($F35,SummaryTable!$B$5:$N$111,COLUMN(K$1)-5,FALSE),"") -> 0.96078 | L35: =IF(K35<>"",VLOOKUP($F35,SummaryTable!$B$5:$N$111,COLUMN(L$1)-5,FALSE),"") -> 0.94 | M35: =IF(L35<>"",VLOOKUP($F35,SummaryTable!$B$5:$N$111,COLUMN(M$1)-5,FALSE),"") -> . | N35: =IF(M35<>"",VLOOKUP($F35,SummaryTable!$B$5:$N$111,COLUMN(N$1)-5,FALSE),"") -> -0.02 | ... R35: =IF(Q35<>"",VLOOKUP($F35,SummaryTable!$B$5:$N$111,COLUMN(R$1)-5,FALSE),"") -> 92.436
B36: Number of traffic lanes | C36: NA | D36: 0.526 | E36: NA | F36: B2 | G36: =IF(F36<>"",VLOOKUP($F36,SummaryTable!$B$5:$N$111,COLUMN(G$1)-5,FALSE),"") -> 0.69873 | H36: =IF(G36<>"",VLOOKUP($F36,SummaryTable!$B$5:$N$111,COLUMN(H$1)-5,FALSE),"") -> 0.07371 | I36: =IF(H36<>"",VLOOKUP($F36,SummaryTable!$B$5:$N$111,COLUMN(I$1)-5,FALSE),"") -> 0.29626 | J36: =IF(I36<>"",VLOOKUP($F36,SummaryTable!$B$5:$N$111,COLUMN(J$1)-5,FALSE),"") -> 0.94915 | K36: =IF(J36<>"",VLOOKUP($F36,SummaryTable!$B$5:$N$111,COLUMN(K$1)-5,FALSE),"") -> 0.88235 | L36: =IF(K36<>"",VLOOKUP($F36,SummaryTable!$B$5:$N$111,COLUMN(L$1)-5,FALSE),"") -> 0.62626 | M36: =IF(L36<>"",VLOOKUP($F36,SummaryTable!$B$5:$N$111,COLUMN(M$1)-5,FALSE),"") -> . | N36: =IF(M36<>"",VLOOKUP($F36,SummaryTable!$B$5:$N$111,COLUMN(N$1)-5,FALSE),"") -> 0.44201 | ... R36: =IF(Q36<>"",VLOOKUP($F36,SummaryTable!$B$5:$N$111,COLUMN(R$1)-5,FALSE),"") -> 51.286
B37: Traffic circle | C37: NA | D37: NA | E37: NA | F37: B3A | G37: =IF(F37<>"",VLOOKUP($F37,SummaryTable!$B$5:$N$111,COLUMN(G$1)-5,FALSE),"") -> 0 | H37: =IF(G37<>"",VLOOKUP($F37,SummaryTable!$B$5:$N$111,COLUMN(H$1)-5,FALSE),"") -> 0 | I37: =IF(H37<>"",VLOOKUP($F37,SummaryTable!$B$5:$N$111,COLUMN(I$1)-5,FALSE),"") -> . | J37: =IF(I37<>"",VLOOKUP($F37,SummaryTable!$B$5:$N$111,COLUMN(J$1)-5,FALSE),"") -> 0.98305 | K37: =IF(J37<>"",VLOOKUP($F37,SummaryTable!$B$5:$N$111,COLUMN(K$1)-5,FALSE),"") -> 1 | L37: =IF(K37<>"",VLOOKUP($F37,SummaryTable!$B$5:$N$111,COLUMN(L$1)-5,FALSE),"") -> . | M37: =IF(L37<>"",VLOOKUP($F37,SummaryTable!$B$5:$N$111,COLUMN(M$1)-5,FALSE),"") -> . | N37: =IF(M37<>"",VLOOKUP($F37,SummaryTable!$B$5:$N$111,COLUMN(N$1)-5,FALSE),"") -> . | ... R37: =IF(Q37<>"",VLOOKUP($F37,SummaryTable!$B$5:$N$111,COLUMN(R$1)-5,FALSE),"") -> .
B38: Speed hump | C38: NA | D38: NA | E38: NA | F38: B3B | G38: =IF(F38<>"",VLOOKUP($F38,SummaryTable!$B$5:$N$111,COLUMN(G$1)-5,FALSE),"") -> 0 | H38: =IF(G38<>"",VLOOKUP($F38,SummaryTable!$B$5:$N$111,COLUMN(H$1)-5,FALSE),"") -> 0 | I38: =IF(H38<>"",VLOOKUP($F38,SummaryTable!$B$5:$N$111,COLUMN(I$1)-5,FALSE),"") -> . | J38: =IF(I38<>"",VLOOKUP($F38,SummaryTable!$B$5:$N$111,COLUMN(J$1)-5,FALSE),"") -> 1 | K38: =IF(J38<>"",VLOOKUP($F38,SummaryTable!$B$5:$N$111,COLUMN(K$1)-5,FALSE),"") -> 1 | L38: =IF(K38<>"",VLOOKUP($F38,SummaryTable!$B$5:$N$111,COLUMN(L$1)-5,FALSE),"") -> . | M38: =IF(L38<>"",VLOOKUP($F38,SummaryTable!$B$5:$N$111,COLUMN(M$1)-5,FALSE),"") -> . | N38: =IF(M38<>"",VLOOKUP($F38,SummaryTable!$B$5:$N$111,COLUMN(N$1)-5,FALSE),"") -> . | ... R38: =IF(Q38<>"",VLOOKUP($F38,SummaryTable!$B$5:$N$111,COLUMN(R$1)-5,FALSE),"") -> .
B39: Median with traffic island | C39: 0.482 | D39: NA | E39: NA | F39: B3C | G39: =IF(F39<>"",VLOOKUP($F39,SummaryTable!$B$5:$N$111,COLUMN(G$1)-5,FALSE),"") -> 0.48684 | H39: =IF(G39<>"",VLOOKUP($F39,SummaryTable!$B$5:$N$111,COLUMN(H$1)-5,FALSE),"") -> 0 | I39: =IF(H39<>"",VLOOKUP($F39,SummaryTable!$B$5:$N$111,COLUMN(I$1)-5,FALSE),"") -> . | J39: =IF(I39<>"",VLOOKUP($F39,SummaryTable!$B$5:$N$111,COLUMN(J$1)-5,FALSE),"") -> 0.9661 | K39: =IF(J39<>"",VLOOKUP($F39,SummaryTable!$B$5:$N$111,COLUMN(K$1)-5,FALSE),"") -> 1 | L39: =IF(K39<>"",VLOOKUP($F39,SummaryTable!$B$5:$N$111,COLUMN(L$1)-5,FALSE),"") -> . | M39: =IF(L39<>"",VLOOKUP($F39,SummaryTable!$B$5:$N$111,COLUMN(M$1)-5,FALSE),"") -> 0.48246 | N39: =IF(M39<>"",VLOOKUP($F39,SummaryTable!$B$5:$N$111,COLUMN(N$1)-5,FALSE),"") -> . | ... R39: =IF(Q39<>"",VLOOKUP($F39,SummaryTable!$B$5:$N$111,COLUMN(R$1)-5,FALSE),"") -> .
B40: Curb extension | C40: NA | D40: NA | E40: NA | F40: B3D | G40: =IF(F40<>"",VLOOKUP($F40,SummaryTable!$B$5:$N$111,COLUMN(G$1)-5,FALSE),"") -> 0 | H40: =IF(G40<>"",VLOOKUP($F40,SummaryTable!$B$5:$N$111,COLUMN(H$1)-5,FALSE),"") -> 0 | I40: =IF(H40<>"",VLOOKUP($F40,SummaryTable!$B$5:$N$111,COLUMN(I$1)-5,FALSE),"") -> . | J40: =IF(I40<>"",VLOOKUP($F40,SummaryTable!$B$5:$N$111,COLUMN(J$1)-5,FALSE),"") -> 1 | K40: =IF(J40<>"",VLOOKUP($F40,SummaryTable!$B$5:$N$111,COLUMN(K$1)-5,FALSE),"") -> 1 | L40: =IF(K40<>"",VLOOKUP($F40,SummaryTable!$B$5:$N$111,COLUMN(L$1)-5,FALSE),"") -> . | M40: =IF(L40<>"",VLOOKUP($F40,SummaryTable!$B$5:$N$111,COLUMN(M$1)-5,FALSE),"") -> . | N40: =IF(M40<>"",VLOOKUP($F40,SummaryTable!$B$5:$N$111,COLUMN(N$1)-5,FALSE),"") -> . | ... R40: =IF(Q40<>"",VLOOKUP($F40,SummaryTable!$B$5:$N$111,COLUMN(R$1)-5,FALSE),"") -> .
B41: Marked bike lane | C41: 0.552 | D41: 1 | E41: 0.659 | F41: B4A | G41: =IF(F41<>"",VLOOKUP($F41,SummaryTable!$B$5:$N$111,COLUMN(G$1)-5,FALSE),"") -> 0.57876 | H41: =IF(G41<>"",VLOOKUP($F41,SummaryTable!$B$5:$N$111,COLUMN(H$1)-5,FALSE),"") -> 1 | I41: =IF(H41<>"",VLOOKUP($F41,SummaryTable!$B$5:$N$111,COLUMN(I$1)-5,FALSE),"") -> 0.67168 | J41: =IF(I41<>"",VLOOKUP($F41,SummaryTable!$B$5:$N$111,COLUMN(J$1)-5,FALSE),"") -> 0.94915 | K41: =IF(J41<>"",VLOOKUP($F41,SummaryTable!$B$5:$N$111,COLUMN(K$1)-5,FALSE),"") -> 1 | L41: =IF(K41<>"",VLOOKUP($F41,SummaryTable!$B$5:$N$111,COLUMN(L$1)-5,FALSE),"") -> 0.98 | M41: =IF(L41<>"",VLOOKUP($F41,SummaryTable!$B$5:$N$111,COLUMN(M$1)-5,FALSE),"") -> 0.71313 | N41: =IF(M41<>"",VLOOKUP($F41,SummaryTable!$B$5:$N$111,COLUMN(N$1)-5,FALSE),"") -> 1 | ... R41: =IF(Q41<>"",VLOOKUP($F41,SummaryTable!$B$5:$N$111,COLUMN(R$1)-5,FALSE),"") -> 96.369
B42: Bike lane separated by barrier | C42: 0.487 | D42: NA | E42: NA | F42: B4B | G42: =IF(F42<>"",VLOOKUP($F42,SummaryTable!$B$5:$N$111,COLUMN(G$1)-5,FALSE),"") -> 0.50424 | H42: =IF(G42<>"",VLOOKUP($F42,SummaryTable!$B$5:$N$111,COLUMN(H$1)-5,FALSE),"") -> 0 | I42: =IF(H42<>"",VLOOKUP($F42,SummaryTable!$B$5:$N$111,COLUMN(I$1)-5,FALSE),"") -> 0 | J42: =IF(I42<>"",VLOOKUP($F42,SummaryTable!$B$5:$N$111,COLUMN(J$1)-5,FALSE),"") -> 0.9661 | K42: =IF(J42<>"",VLOOKUP($F42,SummaryTable!$B$5:$N$111,COLUMN(K$1)-5,FALSE),"") -> 1 | L42: =IF(K42<>"",VLOOKUP($F42,SummaryTable!$B$5:$N$111,COLUMN(L$1)-5,FALSE),"") -> 1 | M42: =IF(L42<>"",VLOOKUP($F42,SummaryTable!$B$5:$N$111,COLUMN(M$1)-5,FALSE),"") -> 0.65698 | N42: =IF(M42<>"",VLOOKUP($F42,SummaryTable!$B$5:$N$111,COLUMN(N$1)-5,FALSE),"") -> . | ... R42: =IF(Q42<>"",VLOOKUP($F42,SummaryTable!$B$5:$N$111,COLUMN(R$1)-5,FALSE),"") -> 99.697
B43: Street shoulder | C43: NA | D43: NA | E43: NA | F43: B5A | G43: =IF(F43<>"",VLOOKUP($F43,SummaryTable!$B$5:$N$111,COLUMN(G$1)-5,FALSE),"") -> 0.48655 | H43: =IF(G43<>"",VLOOKUP($F43,SummaryTable!$B$5:$N$111,COLUMN(H$1)-5,FALSE),"") -> 0 | I43: =IF(H43<>"",VLOOKUP($F43,SummaryTable!$B$5:$N$111,COLUMN(I$1)-5,FALSE),"") -> . | J43: =IF(I43<>"",VLOOKUP($F43,SummaryTable!$B$5:$N$111,COLUMN(J$1)-5,FALSE),"") -> 0.94915 | K43: =IF(J43<>"",VLOOKUP($F43,SummaryTable!$B$5:$N$111,COLUMN(K$1)-5,FALSE),"") -> 1 | L43: =IF(K43<>"",VLOOKUP($F43,SummaryTable!$B$5:$N$111,COLUMN(L$1)-5,FALSE),"") -> . | M43: =IF(L43<>"",VLOOKUP($F43,SummaryTable!$B$5:$N$111,COLUMN(M$1)-5,FALSE),"") -> . | N43: =IF(M43<>"",VLOOKUP($F43,SummaryTable!$B$5:$N$111,COLUMN(N$1)-5,FALSE),"") -> . | ... R43: =IF(Q43<>"",VLOOKUP($F43,SummaryTable!$B$5:$N$111,COLUMN(R$1)-5,FALSE),"") -> .
B44: Curb | C44: 0.401 | D44: 0.741 | E44: 0.546 | F44: B5B | G44: =IF(F44<>"",VLOOKUP($F44,SummaryTable!$B$5:$N$111,COLUMN(G$1)-5,FALSE),"") -> 0.45369 | H44: =IF(G44<>"",VLOOKUP($F44,SummaryTable!$B$5:$N$111,COLUMN(H$1)-5,FALSE),"") -> 0.72953 | I44: =IF(H44<>"",VLOOKUP($F44,SummaryTable!$B$5:$N$111,COLUMN(I$1)-5,FALSE),"") -> 0.58496 | J44: =IF(I44<>"",VLOOKUP($F44,SummaryTable!$B$5:$N$111,COLUMN(J$1)-5,FALSE),"") -> 0.82759 | K44: =IF(J44<>"",VLOOKUP($F44,SummaryTable!$B$5:$N$111,COLUMN(K$1)-5,FALSE),"") -> 0.92 | L44: =IF(K44<>"",VLOOKUP($F44,SummaryTable!$B$5:$N$111,COLUMN(L$1)-5,FALSE),"") -> 0.79 | M44: =IF(L44<>"",VLOOKUP($F44,SummaryTable!$B$5:$N$111,COLUMN(M$1)-5,FALSE),"") -> 0.44395 | N44: =IF(M44<>"",VLOOKUP($F44,SummaryTable!$B$5:$N$111,COLUMN(N$1)-5,FALSE),"") -> 0.73201 | ... R44: =IF(Q44<>"",VLOOKUP($F44,SummaryTable!$B$5:$N$111,COLUMN(R$1)-5,FALSE),"") -> 71.624
B45: Street sidewalk lighting | C45: 0.516 | D45: 0.751 | E45: 0.619 | F45: B5C | G45: =IF(F45<>"",VLOOKUP($F45,SummaryTable!$B$5:$N$111,COLUMN(G$1)-5,FALSE),"") -> 0.47726 | H45: =IF(G45<>"",VLOOKUP($F45,SummaryTable!$B$5:$N$111,COLUMN(H$1)-5,FALSE),"") -> 0.75895 | I45: =IF(H45<>"",VLOOKUP($F45,SummaryTable!$B$5:$N$111,COLUMN(I$1)-5,FALSE),"") -> 0.62638 | J45: =IF(I45<>"",VLOOKUP($F45,SummaryTable!$B$5:$N$111,COLUMN(J$1)-5,FALSE),"") -> 0.81356 | K45: =IF(J45<>"",VLOOKUP($F45,SummaryTable!$B$5:$N$111,COLUMN(K$1)-5,FALSE),"") -> 0.89796 | L45: =IF(K45<>"",VLOOKUP($F45,SummaryTable!$B$5:$N$111,COLUMN(L$1)-5,FALSE),"") -> 0.84 | M45: =IF(L45<>"",VLOOKUP($F45,SummaryTable!$B$5:$N$111,COLUMN(M$1)-5,FALSE),"") -> 0.49501 | N45: =IF(M45<>"",VLOOKUP($F45,SummaryTable!$B$5:$N$111,COLUMN(N$1)-5,FALSE),"") -> 0.75719 | ... R45: =IF(Q45<>"",VLOOKUP($F45,SummaryTable!$B$5:$N$111,COLUMN(R$1)-5,FALSE),"") -> 75.303
B46: Sidewalk | C46: 0.625 | D46: 0.781 | E46: 0.702 | F46: B5D | G46: =IF(F46<>"",VLOOKUP($F46,SummaryTable!$B$5:$N$111,COLUMN(G$1)-5,FALSE),"") -> 0.75696 | H46: =IF(G46<>"",VLOOKUP($F46,SummaryTable!$B$5:$N$111,COLUMN(H$1)-5,FALSE),"") -> 0.78133 | I46: =IF(H46<>"",VLOOKUP($F46,SummaryTable!$B$5:$N$111,COLUMN(I$1)-5,FALSE),"") -> 0.72041 | J46: =IF(I46<>"",VLOOKUP($F46,SummaryTable!$B$5:$N$111,COLUMN(J$1)-5,FALSE),"") -> 0.89831 | K46: =IF(J46<>"",VLOOKUP($F46,SummaryTable!$B$5:$N$111,COLUMN(K$1)-5,FALSE),"") -> 0.91667 | L46: =IF(K46<>"",VLOOKUP($F46,SummaryTable!$B$5:$N$111,COLUMN(L$1)-5,FALSE),"") -> 0.84848 | M46: =IF(L46<>"",VLOOKUP($F46,SummaryTable!$B$5:$N$111,COLUMN(M$1)-5,FALSE),"") -> . | N46: =IF(M46<>"",VLOOKUP($F46,SummaryTable!$B$5:$N$111,COLUMN(N$1)-5,FALSE),"") -> 0.79399 | ... R46: =IF(Q46<>"",VLOOKUP($F46,SummaryTable!$B$5:$N$111,COLUMN(R$1)-5,FALSE),"") -> 69.545
B47: Street – sidewalk buffer | C47: 0.328 | D47: 0.74 | E47: 0.598 | F47: B5D1 | G47: =IF(F47<>"",VLOOKUP($F47,SummaryTable!$B$5:$N$111,COLUMN(G$1)-5,FALSE),"") -> 0.32235 | H47: =IF(G47<>"",VLOOKUP($F47,SummaryTable!$B$5:$N$111,COLUMN(H$1)-5,FALSE),"") -> 0.74156 | I47: =IF(H47<>"",VLOOKUP($F47,SummaryTable!$B$5:$N$111,COLUMN(I$1)-5,FALSE),"") -> 0.60102 | J47: =IF(I47<>"",VLOOKUP($F47,SummaryTable!$B$5:$N$111,COLUMN(J$1)-5,FALSE),"") -> 0.64151 | K47: =IF(J47<>"",VLOOKUP($F47,SummaryTable!$B$5:$N$111,COLUMN(K$1)-5,FALSE),"") -> 0.85106 | L47: =IF(K47<>"",VLOOKUP($F47,SummaryTable!$B$5:$N$111,COLUMN(L$1)-5,FALSE),"") -> 0.76389 | M47: =IF(L47<>"",VLOOKUP($F47,SummaryTable!$B$5:$N$111,COLUMN(M$1)-5,FALSE),"") -> 0.32777 | N47: =IF(M47<>"",VLOOKUP($F47,SummaryTable!$B$5:$N$111,COLUMN(N$1)-5,FALSE),"") -> 0.74013 | ... R47: =IF(Q47<>"",VLOOKUP($F47,SummaryTable!$B$5:$N$111,COLUMN(R$1)-5,FALSE),"") -> 67.283
B48: Continuous sidewalk | C48: 0.651 | D48: 0.549 | E48: NA | F48: B5D2 | G48: =IF(F48<>"",VLOOKUP($F48,SummaryTable!$B$5:$N$111,COLUMN(G$1)-5,FALSE),"") -> 0.65078 | H48: =IF(G48<>"",VLOOKUP($F48,SummaryTable!$B$5:$N$111,COLUMN(H$1)-5,FALSE),"") -> 0.55153 | I48: =IF(H48<>"",VLOOKUP($F48,SummaryTable!$B$5:$N$111,COLUMN(I$1)-5,FALSE),"") -> 0.09742 | J48: =IF(I48<>"",VLOOKUP($F48,SummaryTable!$B$5:$N$111,COLUMN(J$1)-5,FALSE),"") -> 0.88679 | K48: =IF(J48<>"",VLOOKUP($F48,SummaryTable!$B$5:$N$111,COLUMN(K$1)-5,FALSE),"") -> 0.875 | L48: =IF(K48<>"",VLOOKUP($F48,SummaryTable!$B$5:$N$111,COLUMN(L$1)-5,FALSE),"") -> 0.68056 | M48: =IF(L48<>"",VLOOKUP($F48,SummaryTable!$B$5:$N$111,COLUMN(M$1)-5,FALSE),"") -> 0.65055 | N48: =IF(M48<>"",VLOOKUP($F48,SummaryTable!$B$5:$N$111,COLUMN(N$1)-5,FALSE),"") -> 0.5493 | ... R48: =IF(Q48<>"",VLOOKUP($F48,SummaryTable!$B$5:$N$111,COLUMN(R$1)-5,FALSE),"") -> 76.119
B49: Continuous sidewalk both ends | C49: 0.531 | D49: 0.743 | E49: 0.227 | F49: B5D3 | G49: =IF(F49<>"",VLOOKUP($F49,SummaryTable!$B$5:$N$111,COLUMN(G$1)-5,FALSE),"") -> 0.52978 | H49: =IF(G49<>"",VLOOKUP($F49,SummaryTable!$B$5:$N$111,COLUMN(H$1)-5,FALSE),"") -> 0.74531 | I49: =IF(H49<>"",VLOOKUP($F49,SummaryTable!$B$5:$N$111,COLUMN(I$1)-5,FALSE),"") -> 0.22506 | J49: =IF(I49<>"",VLOOKUP($F49,SummaryTable!$B$5:$N$111,COLUMN(J$1)-5,FALSE),"") -> 0.81132 | K49: =IF(J49<>"",VLOOKUP($F49,SummaryTable!$B$5:$N$111,COLUMN(K$1)-5,FALSE),"") -> 0.9375 | L49: =IF(K49<>"",VLOOKUP($F49,SummaryTable!$B$5:$N$111,COLUMN(L$1)-5,FALSE),"") -> 0.76389 | M49: =IF(L49<>"",VLOOKUP($F49,SummaryTable!$B$5:$N$111,COLUMN(M$1)-5,FALSE),"") -> 0.53097 | N49: =IF(M49<>"",VLOOKUP($F49,SummaryTable!$B$5:$N$111,COLUMN(N$1)-5,FALSE),"") -> 0.74286 | ... R49: =IF(Q49<>"",VLOOKUP($F49,SummaryTable!$B$5:$N$111,COLUMN(R$1)-5,FALSE),"") -> 74.393
B50: Missing curb cuts at crossings | C50: 0.143 | D50: 0.269 | E50: NA | F50: B5D4 | G50: =IF(F50<>"",VLOOKUP($F50,SummaryTable!$B$5:$N$111,COLUMN(G$1)-5,FALSE),"") -> 0.27723 | H50: =IF(G50<>"",VLOOKUP($F50,SummaryTable!$B$5:$N$111,COLUMN(H$1)-5,FALSE),"") -> 0.25434 | I50: =IF(H50<>"",VLOOKUP($F50,SummaryTable!$B$5:$N$111,COLUMN(I$1)-5,FALSE),"") -> -0.08321 | J50: =IF(I50<>"",VLOOKUP($F50,SummaryTable!$B$5:$N$111,COLUMN(J$1)-5,FALSE),"") -> 0.76923 | K50: =IF(J50<>"",VLOOKUP($F50,SummaryTable!$B$5:$N$111,COLUMN(K$1)-5,FALSE),"") -> 0.83333 | L50: =IF(K50<>"",VLOOKUP($F50,SummaryTable!$B$5:$N$111,COLUMN(L$1)-5,FALSE),"") -> 0.83333 | M50: =IF(L50<>"",VLOOKUP($F50,SummaryTable!$B$5:$N$111,COLUMN(M$1)-5,FALSE),"") -> 0.19469 | N50: =IF(M50<>"",VLOOKUP($F50,SummaryTable!$B$5:$N$111,COLUMN(N$1)-5,FALSE),"") -> 0.28065 | ... R50: =IF(Q50<>"",VLOOKUP($F50,SummaryTable!$B$5:$N$111,COLUMN(R$1)-5,FALSE),"") -> 89.72
B51: Traffic light at crossing | C51: 0.917 | D51: 0.955 | E51: 0.964 | F51: B6A | G51: =IF(F51<>"",VLOOKUP($F51,SummaryTable!$B$5:$N$111,COLUMN(G$1)-5,FALSE),"") -> 0.91807 | H51: =IF(G51<>"",VLOOKUP($F51,SummaryTable!$B$5:$N$111,COLUMN(H$1)-5,FALSE),"") -> 0.95522 | I51: =IF(H51<>"",VLOOKUP($F51,SummaryTable!$B$5:$N$111,COLUMN(I$1)-5,FALSE),"") -> 0.96389 | J51: =IF(I51<>"",VLOOKUP($F51,SummaryTable!$B$5:$N$111,COLUMN(J$1)-5,FALSE),"") -> 0.9661 | K51: =IF(J51<>"",VLOOKUP($F51,SummaryTable!$B$5:$N$111,COLUMN(K$1)-5,FALSE),"") -> 0.98 | L51: =IF(K51<>"",VLOOKUP($F51,SummaryTable!$B$5:$N$111,COLUMN(L$1)-5,FALSE),"") -> 0.99 | M51: =IF(L51<>"",VLOOKUP($F51,SummaryTable!$B$5:$N$111,COLUMN(M$1)-5,FALSE),"") -> 0.91748 | N51: =IF(M51<>"",VLOOKUP($F51,SummaryTable!$B$5:$N$111,COLUMN(N$1)-5,FALSE),"") -> 0.95479 | ... R51: =IF(Q51<>"",VLOOKUP($F51,SummaryTable!$B$5:$N$111,COLUMN(R$1)-5,FALSE),"") -> 81.543
B52: Pedestrian signal at traffic light | C52: 0.651 | D52: 0.79 | E52: 0.64 | F52: B6B | G52: =IF(F52<>"",VLOOKUP($F52,SummaryTable!$B$5:$N$111,COLUMN(G$1)-5,FALSE),"") -> 0.65179 | H52: =IF(G52<>"",VLOOKUP($F52,SummaryTable!$B$5:$N$111,COLUMN(H$1)-5,FALSE),"") -> 0.7914 | I52: =IF(H52<>"",VLOOKUP($F52,SummaryTable!$B$5:$N$111,COLUMN(I$1)-5,FALSE),"") -> 0.64144 | J52: =IF(I52<>"",VLOOKUP($F52,SummaryTable!$B$5:$N$111,COLUMN(J$1)-5,FALSE),"") -> 0.9661 | K52: =IF(J52<>"",VLOOKUP($F52,SummaryTable!$B$5:$N$111,COLUMN(K$1)-5,FALSE),"") -> 0.97959 | L52: =IF(K52<>"",VLOOKUP($F52,SummaryTable!$B$5:$N$111,COLUMN(L$1)-5,FALSE),"") -> 0.95 | M52: =IF(L52<>"",VLOOKUP($F52,SummaryTable!$B$5:$N$111,COLUMN(M$1)-5,FALSE),"") -> 0.65089 | N52: =IF(M52<>"",VLOOKUP($F52,SummaryTable!$B$5:$N$111,COLUMN(N$1)-5,FALSE),"") -> 0.7897 | ... R52: =IF(Q52<>"",VLOOKUP($F52,SummaryTable!$B$5:$N$111,COLUMN(R$1)-5,FALSE),"") -> 93.495
B53: Stop sign at crossing | C53: 0.789 | D53: 0.831 | E53: 0.858 | F53: B6C | G53: =IF(F53<>"",VLOOKUP($F53,SummaryTable!$B$5:$N$111,COLUMN(G$1)-5,FALSE),"") -> 0.79091 | H53: =IF(G53<>"",VLOOKUP($F53,SummaryTable!$B$5:$N$111,COLUMN(H$1)-5,FALSE),"") -> 0.83276 | I53: =IF(H53<>"",VLOOKUP($F53,SummaryTable!$B$5:$N$111,COLUMN(I$1)-5,FALSE),"") -> 0.85831 | J53: =IF(I53<>"",VLOOKUP($F53,SummaryTable!$B$5:$N$111,COLUMN(J$1)-5,FALSE),"") -> 0.89655 | K53: =IF(J53<>"",VLOOKUP($F53,SummaryTable!$B$5:$N$111,COLUMN(K$1)-5,FALSE),"") -> 0.91837 | L53: =IF(K53<>"",VLOOKUP($F53,SummaryTable!$B$5:$N$111,COLUMN(L$1)-5,FALSE),"") -> 0.93 | M53: =IF(L53<>"",VLOOKUP($F53,SummaryTable!$B$5:$N$111,COLUMN(M$1)-5,FALSE),"") -> 0.78935 | N53: =IF(M53<>"",VLOOKUP($F53,SummaryTable!$B$5:$N$111,COLUMN(N$1)-5,FALSE),"") -> 0.83133 | ... R53: =IF(Q53<>"",VLOOKUP($F53,SummaryTable!$B$5:$N$111,COLUMN(R$1)-5,FALSE),"") -> 60.212
B54: Marked crosswalk | C54: 0.632 | D54: 0.92 | E54: 0.784 | F54: B6D | G54: =IF(F54<>"",VLOOKUP($F54,SummaryTable!$B$5:$N$111,COLUMN(G$1)-5,FALSE),"") -> 0.63346 | H54: =IF(G54<>"",VLOOKUP($F54,SummaryTable!$B$5:$N$111,COLUMN(H$1)-5,FALSE),"") -> 0.92067 | I54: =IF(H54<>"",VLOOKUP($F54,SummaryTable!$B$5:$N$111,COLUMN(I$1)-5,FALSE),"") -> 0.78471 | J54: =IF(I54<>"",VLOOKUP($F54,SummaryTable!$B$5:$N$111,COLUMN(J$1)-5,FALSE),"") -> 0.83051 | K54: =IF(J54<>"",VLOOKUP($F54,SummaryTable!$B$5:$N$111,COLUMN(K$1)-5,FALSE),"") -> 0.96 | L54: =IF(K54<>"",VLOOKUP($F54,SummaryTable!$B$5:$N$111,COLUMN(L$1)-5,FALSE),"") -> 0.91 | M54: =IF(L54<>"",VLOOKUP($F54,SummaryTable!$B$5:$N$111,COLUMN(M$1)-5,FALSE),"") -> 0.63217 | N54: =IF(M54<>"",VLOOKUP($F54,SummaryTable!$B$5:$N$111,COLUMN(N$1)-5,FALSE),"") -> 0.92 | ... R54: =IF(Q54<>"",VLOOKUP($F54,SummaryTable!$B$5:$N$111,COLUMN(R$1)-5,FALSE),"") -> 69.44
A55: Safety Signs | G55: =IF(F55<>"",VLOOKUP($F55,SummaryTable!$B$5:$N$111,COLUMN(G$1)-5,FALSE),"") | H55: =IF(G55<>"",VLOOKUP($F55,SummaryTable!$B$5:$N$111,COLUMN(H$1)-5,FALSE),"") | I55: =IF(H55<>"",VLOOKUP($F55,SummaryTable!$B$5:$N$111,COLUMN(I$1)-5,FALSE),"") | J55: =IF(I55<>"",VLOOKUP($F55,SummaryTable!$B$5:$N$111,COLUMN(J$1)-5,FALSE),"") | K55: =IF(J55<>"",VLOOKUP($F55,SummaryTable!$B$5:$N$111,COLUMN(K$1)-5,FALSE),"") | L55: =IF(K55<>"",VLOOKUP($F55,SummaryTable!$B$5:$N$111,COLUMN(L$1)-5,FALSE),"") | M55: =IF(L55<>"",VLOOKUP($F55,SummaryTable!$B$5:$N$111,COLUMN(M$1)-5,FALSE),"") | N55: =IF(M55<>"",VLOOKUP($F55,SummaryTable!$B$5:$N$111,COLUMN(N$1)-5,FALSE),"") | ... R55: =IF(Q55<>"",VLOOKUP($F55,SummaryTable!$B$5:$N$111,COLUMN(R$1)-5,FALSE),"")
B56: Bike crossing sign | C56: 1 | D56: NA | E56: NA | F56: C1A | G56: =IF(F56<>"",VLOOKUP($F56,SummaryTable!$B$5:$N$111,COLUMN(G$1)-5,FALSE),"") -> 1 | H56: =IF(G56<>"",VLOOKUP($F56,SummaryTable!$B$5:$N$111,COLUMN(H$1)-5,FALSE),"") -> 0 | I56: =IF(H56<>"",VLOOKUP($F56,SummaryTable!$B$5:$N$111,COLUMN(I$1)-5,FALSE),"") -> 0 | J56: =IF(I56<>"",VLOOKUP($F56,SummaryTable!$B$5:$N$111,COLUMN(J$1)-5,FALSE),"") -> 1 | K56: =IF(J56<>"",VLOOKUP($F56,SummaryTable!$B$5:$N$111,COLUMN(K$1)-5,FALSE),"") -> 0.98 | L56: =IF(K56<>"",VLOOKUP($F56,SummaryTable!$B$5:$N$111,COLUMN(L$1)-5,FALSE),"") -> 1 | M56: =IF(L56<>"",VLOOKUP($F56,SummaryTable!$B$5:$N$111,COLUMN(M$1)-5,FALSE),"") -> 1 | N56: =IF(M56<>"",VLOOKUP($F56,SummaryTable!$B$5:$N$111,COLUMN(N$1)-5,FALSE),"") -> . | ... R56: =IF(Q56<>"",VLOOKUP($F56,SummaryTable!$B$5:$N$111,COLUMN(R$1)-5,FALSE),"") -> 99.697
B57: Other bike signage | C57: 1 | D57: NA | E57: 1 | F57: C1B | G57: =IF(F57<>"",VLOOKUP($F57,SummaryTable!$B$5:$N$111,COLUMN(G$1)-5,FALSE),"") -> 1 | H57: =IF(G57<>"",VLOOKUP($F57,SummaryTable!$B$5:$N$111,COLUMN(H$1)-5,FALSE),"") -> 0 | I57: =IF(H57<>"",VLOOKUP($F57,SummaryTable!$B$5:$N$111,COLUMN(I$1)-5,FALSE),"") -> 1 | J57: =IF(I57<>"",VLOOKUP($F57,SummaryTable!$B$5:$N$111,COLUMN(J$1)-5,FALSE),"") -> 1 | K57: =IF(J57<>"",VLOOKUP($F57,SummaryTable!$B$5:$N$111,COLUMN(K$1)-5,FALSE),"") -> 1 | L57: =IF(K57<>"",VLOOKUP($F57,SummaryTable!$B$5:$N$111,COLUMN(L$1)-5,FALSE),"") -> 1 | M57: =IF(L57<>"",VLOOKUP($F57,SummaryTable!$B$5:$N$111,COLUMN(M$1)-5,FALSE),"") -> 1 | N57: =IF(M57<>"",VLOOKUP($F57,SummaryTable!$B$5:$N$111,COLUMN(N$1)-5,FALSE),"") -> . | ... R57: =IF(Q57<>"",VLOOKUP($F57,SummaryTable!$B$5:$N$111,COLUMN(R$1)-5,FALSE),"") -> 98.638
B58: Pedestrian crossing sign | C58: 0.482 | D58: 1 | E58: 0.656 | F58: C1C | G58: =IF(F58<>"",VLOOKUP($F58,SummaryTable!$B$5:$N$111,COLUMN(G$1)-5,FALSE),"") -> 0.48684 | H58: =IF(G58<>"",VLOOKUP($F58,SummaryTable!$B$5:$N$111,COLUMN(H$1)-5,FALSE),"") -> 1 | I58: =IF(H58<>"",VLOOKUP($F58,SummaryTable!$B$5:$N$111,COLUMN(I$1)-5,FALSE),"") -> 0.65782 | J58: =IF(I58<>"",VLOOKUP($F58,SummaryTable!$B$5:$N$111,COLUMN(J$1)-5,FALSE),"") -> 0.9661 | K58: =IF(J58<>"",VLOOKUP($F58,SummaryTable!$B$5:$N$111,COLUMN(K$1)-5,FALSE),"") -> 1 | L58: =IF(K58<>"",VLOOKUP($F58,SummaryTable!$B$5:$N$111,COLUMN(L$1)-5,FALSE),"") -> 0.93 | M58: =IF(L58<>"",VLOOKUP($F58,SummaryTable!$B$5:$N$111,COLUMN(M$1)-5,FALSE),"") -> 0.48246 | N58: =IF(M58<>"",VLOOKUP($F58,SummaryTable!$B$5:$N$111,COLUMN(N$1)-5,FALSE),"") -> 1 | ... R58: =IF(Q58<>"",VLOOKUP($F58,SummaryTable!$B$5:$N$111,COLUMN(R$1)-5,FALSE),"") -> 94.1
B59: Kids at play or special population sign | C59: 0.648 | D59: 0.658 | E59: 0.712 | F59: C1D | G59: =IF(F59<>"",VLOOKUP($F59,SummaryTable!$B$5:$N$111,COLUMN(G$1)-5,FALSE),"") -> 0.65152 | H59: =IF(G59<>"",VLOOKUP($F59,SummaryTable!$B$5:$N$111,COLUMN(H$1)-5,FALSE),"") -> 0.65979 | I59: =IF(H59<>"",VLOOKUP($F59,SummaryTable!$B$5:$N$111,COLUMN(I$1)-5,FALSE),"") -> 0.71284 | J59: =IF(I59<>"",VLOOKUP($F59,SummaryTable!$B$5:$N$111,COLUMN(J$1)-5,FALSE),"") -> 0.96552 | K59: =IF(J59<>"",VLOOKUP($F59,SummaryTable!$B$5:$N$111,COLUMN(K$1)-5,FALSE),"") -> 0.98 | L59: =IF(K59<>"",VLOOKUP($F59,SummaryTable!$B$5:$N$111,COLUMN(L$1)-5,FALSE),"") -> 0.97 | M59: =IF(L59<>"",VLOOKUP($F59,SummaryTable!$B$5:$N$111,COLUMN(M$1)-5,FALSE),"") -> 0.64848 | N59: =IF(M59<>"",VLOOKUP($F59,SummaryTable!$B$5:$N$111,COLUMN(N$1)-5,FALSE),"") -> 0.65753 | ... R59: =IF(Q59<>"",VLOOKUP($F59,SummaryTable!$B$5:$N$111,COLUMN(R$1)-5,FALSE),"") -> 94.705
B60: Special speed limit | C60: NA | D60: 0.658 | E60: NA | F60: C2 | G60: =IF(F60<>"",VLOOKUP($F60,SummaryTable!$B$5:$N$111,COLUMN(G$1)-5,FALSE),"") -> 0 | H60: =IF(G60<>"",VLOOKUP($F60,SummaryTable!$B$5:$N$111,COLUMN(H$1)-5,FALSE),"") -> 0.65979 | I60: =IF(H60<>"",VLOOKUP($F60,SummaryTable!$B$5:$N$111,COLUMN(I$1)-5,FALSE),"") -> . | J60: =IF(I60<>"",VLOOKUP($F60,SummaryTable!$B$5:$N$111,COLUMN(J$1)-5,FALSE),"") -> 0.98246 | K60: =IF(J60<>"",VLOOKUP($F60,SummaryTable!$B$5:$N$111,COLUMN(K$1)-5,FALSE),"") -> 0.98 | L60: =IF(K60<>"",VLOOKUP($F60,SummaryTable!$B$5:$N$111,COLUMN(L$1)-5,FALSE),"") -> . | M60: =IF(L60<>"",VLOOKUP($F60,SummaryTable!$B$5:$N$111,COLUMN(M$1)-5,FALSE),"") -> . | N60: =IF(M60<>"",VLOOKUP($F60,SummaryTable!$B$5:$N$111,COLUMN(N$1)-5,FALSE),"") -> 0.65753 | ... R60: =IF(Q60<>"",VLOOKUP($F60,SummaryTable!$B$5:$N$111,COLUMN(R$1)-5,FALSE),"") -> .
A61: Amenities and Litter | G61: =IF(F61<>"",VLOOKUP($F61,SummaryTable!$B$5:$N$111,COLUMN(G$1)-5,FALSE),"") | H61: =IF(G61<>"",VLOOKUP($F61,SummaryTable!$B$5:$N$111,COLUMN(H$1)-5,FALSE),"") | I61: =IF(H61<>"",VLOOKUP($F61,SummaryTable!$B$5:$N$111,COLUMN(I$1)-5,FALSE),"") | J61: =IF(I61<>"",VLOOKUP($F61,SummaryTable!$B$5:$N$111,COLUMN(J$1)-5,FALSE),"") | K61: =IF(J61<>"",VLOOKUP($F61,SummaryTable!$B$5:$N$111,COLUMN(K$1)-5,FALSE),"") | L61: =IF(K61<>"",VLOOKUP($F61,SummaryTable!$B$5:$N$111,COLUMN(L$1)-5,FALSE),"") | M61: =IF(L61<>"",VLOOKUP($F61,SummaryTable!$B$5:$N$111,COLUMN(M$1)-5,FALSE),"") | N61: =IF(M61<>"",VLOOKUP($F61,SummaryTable!$B$5:$N$111,COLUMN(N$1)-5,FALSE),"") | ... R61: =IF(Q61<>"",VLOOKUP($F61,SummaryTable!$B$5:$N$111,COLUMN(R$1)-5,FALSE),"")
B62: Community sign | C62: 0.473 | D62: 0.658 | E62: NA | F62: D1A | G62: =IF(F62<>"",VLOOKUP($F62,SummaryTable!$B$5:$N$111,COLUMN(G$1)-5,FALSE),"") -> 0.47724 | H62: =IF(G62<>"",VLOOKUP($F62,SummaryTable!$B$5:$N$111,COLUMN(H$1)-5,FALSE),"") -> 0.65993 | I62: =IF(H62<>"",VLOOKUP($F62,SummaryTable!$B$5:$N$111,COLUMN(I$1)-5,FALSE),"") -> -0.01015 | J62: =IF(I62<>"",VLOOKUP($F62,SummaryTable!$B$5:$N$111,COLUMN(J$1)-5,FALSE),"") -> 0.83929 | K62: =IF(J62<>"",VLOOKUP($F62,SummaryTable!$B$5:$N$111,COLUMN(K$1)-5,FALSE),"") -> 0.98039 | L62: =IF(K62<>"",VLOOKUP($F62,SummaryTable!$B$5:$N$111,COLUMN(L$1)-5,FALSE),"") -> 0.97 | M62: =IF(L62<>"",VLOOKUP($F62,SummaryTable!$B$5:$N$111,COLUMN(M$1)-5,FALSE),"") -> 0.4728 | N62: =IF(M62<>"",VLOOKUP($F62,SummaryTable!$B$5:$N$111,COLUMN(N$1)-5,FALSE),"") -> 0.65772 | ... R62: =IF(Q62<>"",VLOOKUP($F62,SummaryTable!$B$5:$N$111,COLUMN(R$1)-5,FALSE),"") -> 97.576
B63: Garden, flower bed, planter | C63: 0.689 | D63: 0.705 | E63: 0.404 | F63: D1B | G63: =IF(F63<>"",VLOOKUP($F63,SummaryTable!$B$5:$N$111,COLUMN(G$1)-5,FALSE),"") -> 0.69183 | H63: =IF(G63<>"",VLOOKUP($F63,SummaryTable!$B$5:$N$111,COLUMN(H$1)-5,FALSE),"") -> 0.70312 | I63: =IF(H63<>"",VLOOKUP($F63,SummaryTable!$B$5:$N$111,COLUMN(I$1)-5,FALSE),"") -> 0.39628 | J63: =IF(I63<>"",VLOOKUP($F63,SummaryTable!$B$5:$N$111,COLUMN(J$1)-5,FALSE),"") -> 0.84746 | K63: =IF(J63<>"",VLOOKUP($F63,SummaryTable!$B$5:$N$111,COLUMN(K$1)-5,FALSE),"") -> 0.90196 | L63: =IF(K63<>"",VLOOKUP($F63,SummaryTable!$B$5:$N$111,COLUMN(L$1)-5,FALSE),"") -> 0.71 | M63: =IF(L63<>"",VLOOKUP($F63,SummaryTable!$B$5:$N$111,COLUMN(M$1)-5,FALSE),"") -> 0.68929 | N63: =IF(M63<>"",VLOOKUP($F63,SummaryTable!$B$5:$N$111,COLUMN(N$1)-5,FALSE),"") -> 0.70452 | ... R63: =IF(Q63<>"",VLOOKUP($F63,SummaryTable!$B$5:$N$111,COLUMN(R$1)-5,FALSE),"") -> 53.858
B64: Art, statue, monument | C64: 0.698 | D64: 0.648 | E64: 0.271 | F64: D1C | G64: =IF(F64<>"",VLOOKUP($F64,SummaryTable!$B$5:$N$111,COLUMN(G$1)-5,FALSE),"") -> 0.70027 | H64: =IF(G64<>"",VLOOKUP($F64,SummaryTable!$B$5:$N$111,COLUMN(H$1)-5,FALSE),"") -> 0.64931 | I64: =IF(H64<>"",VLOOKUP($F64,SummaryTable!$B$5:$N$111,COLUMN(I$1)-5,FALSE),"") -> 0.27106 | J64: =IF(I64<>"",VLOOKUP($F64,SummaryTable!$B$5:$N$111,COLUMN(J$1)-5,FALSE),"") -> 0.94643 | K64: =IF(J64<>"",VLOOKUP($F64,SummaryTable!$B$5:$N$111,COLUMN(K$1)-5,FALSE),"") -> 0.96078 | L64: =IF(K64<>"",VLOOKUP($F64,SummaryTable!$B$5:$N$111,COLUMN(L$1)-5,FALSE),"") -> 0.88 | M64: =IF(L64<>"",VLOOKUP($F64,SummaryTable!$B$5:$N$111,COLUMN(M$1)-5,FALSE),"") -> 0.69784 | N64: =IF(M64<>"",VLOOKUP($F64,SummaryTable!$B$5:$N$111,COLUMN(N$1)-5,FALSE),"") -> 0.64828 | ... R64: =IF(Q64<>"",VLOOKUP($F64,SummaryTable!$B$5:$N$111,COLUMN(R$1)-5,FALSE),"") -> 92.576
B65: Public trash can | C65: 0.68 | D65: 0.783 | E65: 0.635 | F65: D2A | G65: =IF(F65<>"",VLOOKUP($F65,SummaryTable!$B$5:$N$111,COLUMN(G$1)-5,FALSE),"") -> 0.68268 | H65: =IF(G65<>"",VLOOKUP($F65,SummaryTable!$B$5:$N$111,COLUMN(H$1)-5,FALSE),"") -> 0.78419 | I65: =IF(H65<>"",VLOOKUP($F65,SummaryTable!$B$5:$N$111,COLUMN(I$1)-5,FALSE),"") -> 0.63623 | J65: =IF(I65<>"",VLOOKUP($F65,SummaryTable!$B$5:$N$111,COLUMN(J$1)-5,FALSE),"") -> 0.88136 | K65: =IF(J65<>"",VLOOKUP($F65,SummaryTable!$B$5:$N$111,COLUMN(K$1)-5,FALSE),"") -> 0.92157 | L65: =IF(K65<>"",VLOOKUP($F65,SummaryTable!$B$5:$N$111,COLUMN(L$1)-5,FALSE),"") -> 0.88889 | M65: =IF(L65<>"",VLOOKUP($F65,SummaryTable!$B$5:$N$111,COLUMN(M$1)-5,FALSE),"") -> 0.68009 | N65: =IF(M65<>"",VLOOKUP($F65,SummaryTable!$B$5:$N$111,COLUMN(N$1)-5,FALSE),"") -> 0.78252 | ... R65: =IF(Q65<>"",VLOOKUP($F65,SummaryTable!$B$5:$N$111,COLUMN(R$1)-5,FALSE),"") -> 87.273
B66: Street vending machine | C66: 0.795 | D66: 0.381 | E66: -0.01 | F66: D2B | G66: =IF(F66<>"",VLOOKUP($F66,SummaryTable!$B$5:$N$111,COLUMN(G$1)-5,FALSE),"") -> 0.79557 | H66: =IF(G66<>"",VLOOKUP($F66,SummaryTable!$B$5:$N$111,COLUMN(H$1)-5,FALSE),"") -> 0.37526 | I66: =IF(H66<>"",VLOOKUP($F66,SummaryTable!$B$5:$N$111,COLUMN(I$1)-5,FALSE),"") -> -0.00505 | J66: =IF(I66<>"",VLOOKUP($F66,SummaryTable!$B$5:$N$111,COLUMN(J$1)-5,FALSE),"") -> 0.94915 | K66: =IF(J66<>"",VLOOKUP($F66,SummaryTable!$B$5:$N$111,COLUMN(K$1)-5,FALSE),"") -> 0.94118 | L66: =IF(K66<>"",VLOOKUP($F66,SummaryTable!$B$5:$N$111,COLUMN(L$1)-5,FALSE),"") -> 0.98 | M66: =IF(L66<>"",VLOOKUP($F66,SummaryTable!$B$5:$N$111,COLUMN(M$1)-5,FALSE),"") -> 0.7949 | N66: =IF(M66<>"",VLOOKUP($F66,SummaryTable!$B$5:$N$111,COLUMN(N$1)-5,FALSE),"") -> 0.38057 | ... R66: =IF(Q66<>"",VLOOKUP($F66,SummaryTable!$B$5:$N$111,COLUMN(R$1)-5,FALSE),"") -> 99.546
B67: Benches, other seating | C67: 0.733 | D67: NA | E67: 0.521 | F67: D2C | G67: =IF(F67<>"",VLOOKUP($F67,SummaryTable!$B$5:$N$111,COLUMN(G$1)-5,FALSE),"") -> 0.7338 | H67: =IF(G67<>"",VLOOKUP($F67,SummaryTable!$B$5:$N$111,COLUMN(H$1)-5,FALSE),"") -> -0.02062 | I67: =IF(H67<>"",VLOOKUP($F67,SummaryTable!$B$5:$N$111,COLUMN(I$1)-5,FALSE),"") -> 0.5214 | J67: =IF(I67<>"",VLOOKUP($F67,SummaryTable!$B$5:$N$111,COLUMN(J$1)-5,FALSE),"") -> 0.96552 | K67: =IF(J67<>"",VLOOKUP($F67,SummaryTable!$B$5:$N$111,COLUMN(K$1)-5,FALSE),"") -> 0.94 | L67: =IF(K67<>"",VLOOKUP($F67,SummaryTable!$B$5:$N$111,COLUMN(L$1)-5,FALSE),"") -> 0.95 | M67: =IF(L67<>"",VLOOKUP($F67,SummaryTable!$B$5:$N$111,COLUMN(M$1)-5,FALSE),"") -> 0.73272 | N67: =IF(M67<>"",VLOOKUP($F67,SummaryTable!$B$5:$N$111,COLUMN(N$1)-5,FALSE),"") -> . | ... R67: =IF(Q67<>"",VLOOKUP($F67,SummaryTable!$B$5:$N$111,COLUMN(R$1)-5,FALSE),"") -> 97.277
B68: Drinking fountain | C68: NA | D68: NA | E68: NA | F68: D2D | G68: =IF(F68<>"",VLOOKUP($F68,SummaryTable!$B$5:$N$111,COLUMN(G$1)-5,FALSE),"") -> . | H68: =IF(G68<>"",VLOOKUP($F68,SummaryTable!$B$5:$N$111,COLUMN(H$1)-5,FALSE),"") -> 0 | I68: =IF(H68<>"",VLOOKUP($F68,SummaryTable!$B$5:$N$111,COLUMN(I$1)-5,FALSE),"") -> 0 | J68: =IF(I68<>"",VLOOKUP($F68,SummaryTable!$B$5:$N$111,COLUMN(J$1)-5,FALSE),"") -> 1 | K68: =IF(J68<>"",VLOOKUP($F68,SummaryTable!$B$5:$N$111,COLUMN(K$1)-5,FALSE),"") -> 1 | L68: =IF(K68<>"",VLOOKUP($F68,SummaryTable!$B$5:$N$111,COLUMN(L$1)-5,FALSE),"") -> 1 | M68: =IF(L68<>"",VLOOKUP($F68,SummaryTable!$B$5:$N$111,COLUMN(M$1)-5,FALSE),"") -> . | N68: =IF(M68<>"",VLOOKUP($F68,SummaryTable!$B$5:$N$111,COLUMN(N$1)-5,FALSE),"") -> . | ... R68: =IF(Q68<>"",VLOOKUP($F68,SummaryTable!$B$5:$N$111,COLUMN(R$1)-5,FALSE),"") -> 99.849
B69: Bike parking | C69: 1 | D69: 1 | E69: 0.492 | F69: D2E | G69: =IF(F69<>"",VLOOKUP($F69,SummaryTable!$B$5:$N$111,COLUMN(G$1)-5,FALSE),"") -> 1 | H69: =IF(G69<>"",VLOOKUP($F69,SummaryTable!$B$5:$N$111,COLUMN(H$1)-5,FALSE),"") -> 1 | I69: =IF(H69<>"",VLOOKUP($F69,SummaryTable!$B$5:$N$111,COLUMN(I$1)-5,FALSE),"") -> 0.49235 | J69: =IF(I69<>"",VLOOKUP($F69,SummaryTable!$B$5:$N$111,COLUMN(J$1)-5,FALSE),"") -> 1 | K69: =IF(J69<>"",VLOOKUP($F69,SummaryTable!$B$5:$N$111,COLUMN(K$1)-5,FALSE),"") -> 1 | L69: =IF(K69<>"",VLOOKUP($F69,SummaryTable!$B$5:$N$111,COLUMN(L$1)-5,FALSE),"") -> 0.98 | M69: =IF(L69<>"",VLOOKUP($F69,SummaryTable!$B$5:$N$111,COLUMN(M$1)-5,FALSE),"") -> 1 | N69: =IF(M69<>"",VLOOKUP($F69,SummaryTable!$B$5:$N$111,COLUMN(N$1)-5,FALSE),"") -> 1 | ... R69: =IF(Q69<>"",VLOOKUP($F69,SummaryTable!$B$5:$N$111,COLUMN(R$1)-5,FALSE),"") -> 98.033
B70: Bus stop | C70: 0.651 | D70: 0.655 | E70: 0.814 | F70: D3A | G70: =IF(F70<>"",VLOOKUP($F70,SummaryTable!$B$5:$N$111,COLUMN(G$1)-5,FALSE),"") -> 0.65445 | H70: =IF(G70<>"",VLOOKUP($F70,SummaryTable!$B$5:$N$111,COLUMN(H$1)-5,FALSE),"") -> 0.65625 | I70: =IF(H70<>"",VLOOKUP($F70,SummaryTable!$B$5:$N$111,COLUMN(I$1)-5,FALSE),"") -> 0.81344 | J70: =IF(I70<>"",VLOOKUP($F70,SummaryTable!$B$5:$N$111,COLUMN(J$1)-5,FALSE),"") -> 0.82759 | K70: =IF(J70<>"",VLOOKUP($F70,SummaryTable!$B$5:$N$111,COLUMN(K$1)-5,FALSE),"") -> 0.84 | L70: =IF(K70<>"",VLOOKUP($F70,SummaryTable!$B$5:$N$111,COLUMN(L$1)-5,FALSE),"") -> 0.94 | M70: =IF(L70<>"",VLOOKUP($F70,SummaryTable!$B$5:$N$111,COLUMN(M$1)-5,FALSE),"") -> 0.65144 | N70: =IF(M70<>"",VLOOKUP($F70,SummaryTable!$B$5:$N$111,COLUMN(N$1)-5,FALSE),"") -> 0.65517 | ... R70: =IF(Q70<>"",VLOOKUP($F70,SummaryTable!$B$5:$N$111,COLUMN(R$1)-5,FALSE),"") -> 80.03
B71: Light rail/trolley stop | C71: NA | D71: -0.02 | E71: NA | F71: D3B | G71: =IF(F71<>"",VLOOKUP($F71,SummaryTable!$B$5:$N$111,COLUMN(G$1)-5,FALSE),"") -> 0 | H71: =IF(G71<>"",VLOOKUP($F71,SummaryTable!$B$5:$N$111,COLUMN(H$1)-5,FALSE),"") -> -0.01 | I71: =IF(H71<>"",VLOOKUP($F71,SummaryTable!$B$5:$N$111,COLUMN(I$1)-5,FALSE),"") -> . | J71: =IF(I71<>"",VLOOKUP($F71,SummaryTable!$B$5:$N$111,COLUMN(J$1)-5,FALSE),"") -> 1 | K71: =IF(J71<>"",VLOOKUP($F71,SummaryTable!$B$5:$N$111,COLUMN(K$1)-5,FALSE),"") -> 0.96078 | L71: =IF(K71<>"",VLOOKUP($F71,SummaryTable!$B$5:$N$111,COLUMN(L$1)-5,FALSE),"") -> . | M71: =IF(L71<>"",VLOOKUP($F71,SummaryTable!$B$5:$N$111,COLUMN(M$1)-5,FALSE),"") -> . | N71: =IF(M71<>"",VLOOKUP($F71,SummaryTable!$B$5:$N$111,COLUMN(N$1)-5,FALSE),"") -> -0.02 | ... R71: =IF(Q71<>"",VLOOKUP($F71,SummaryTable!$B$5:$N$111,COLUMN(R$1)-5,FALSE),"") -> .
B72: Bench or covered shelter | C72: 0.732 | D72: 0.37 | E72: 0.74 | F72: D3C | G72: =IF(F72<>"",VLOOKUP($F72,SummaryTable!$B$5:$N$111,COLUMN(G$1)-5,FALSE),"") -> 0.73409 | H72: =IF(G72<>"",VLOOKUP($F72,SummaryTable!$B$5:$N$111,COLUMN(H$1)-5,FALSE),"") -> 0.37526 | I72: =IF(H72<>"",VLOOKUP($F72,SummaryTable!$B$5:$N$111,COLUMN(I$1)-5,FALSE),"") -> 0.74089 | J72: =IF(I72<>"",VLOOKUP($F72,SummaryTable!$B$5:$N$111,COLUMN(J$1)-5,FALSE),"") -> 0.9661 | K72: =IF(J72<>"",VLOOKUP($F72,SummaryTable!$B$5:$N$111,COLUMN(K$1)-5,FALSE),"") -> 0.94118 | L72: =IF(K72<>"",VLOOKUP($F72,SummaryTable!$B$5:$N$111,COLUMN(L$1)-5,FALSE),"") -> 0.98 | M72: =IF(L72<>"",VLOOKUP($F72,SummaryTable!$B$5:$N$111,COLUMN(M$1)-5,FALSE),"") -> 0.73182 | N72: =IF(M72<>"",VLOOKUP($F72,SummaryTable!$B$5:$N$111,COLUMN(N$1)-5,FALSE),"") -> 0.37037 | ... R72: =IF(Q72<>"",VLOOKUP($F72,SummaryTable!$B$5:$N$111,COLUMN(R$1)-5,FALSE),"") -> 97.126
B73: Jitney stop or stand | C73: 0.659 | D73: 0.658 | E73: NA | F73: D3D | G73: =IF(F73<>"",VLOOKUP($F73,SummaryTable!$B$5:$N$111,COLUMN(G$1)-5,FALSE),"") -> 0.66077 | H73: =IF(G73<>"",VLOOKUP($F73,SummaryTable!$B$5:$N$111,COLUMN(H$1)-5,FALSE),"") -> 0.65993 | I73: =IF(H73<>"",VLOOKUP($F73,SummaryTable!$B$5:$N$111,COLUMN(I$1)-5,FALSE),"") -> . | J73: =IF(I73<>"",VLOOKUP($F73,SummaryTable!$B$5:$N$111,COLUMN(J$1)-5,FALSE),"") -> 0.98276 | K73: =IF(J73<>"",VLOOKUP($F73,SummaryTable!$B$5:$N$111,COLUMN(K$1)-5,FALSE),"") -> 0.98039 | L73: =IF(K73<>"",VLOOKUP($F73,SummaryTable!$B$5:$N$111,COLUMN(L$1)-5,FALSE),"") -> . | M73: =IF(L73<>"",VLOOKUP($F73,SummaryTable!$B$5:$N$111,COLUMN(M$1)-5,FALSE),"") -> 0.65882 | N73: =IF(M73<>"",VLOOKUP($F73,SummaryTable!$B$5:$N$111,COLUMN(N$1)-5,FALSE),"") -> 0.65772 | ... R73: =IF(Q73<>"",VLOOKUP($F73,SummaryTable!$B$5:$N$111,COLUMN(R$1)-5,FALSE),"") -> .
B74: Amount of trash on street | C74: 0.294 | D74: 0.182 | E74: NA | F74: D4 | G74: =IF(F74<>"",VLOOKUP($F74,SummaryTable!$B$5:$N$111,COLUMN(G$1)-5,FALSE),"") -> 0.31192 | H74: =IF(G74<>"",VLOOKUP($F74,SummaryTable!$B$5:$N$111,COLUMN(H$1)-5,FALSE),"") -> 0.3814 | I74: =IF(H74<>"",VLOOKUP($F74,SummaryTable!$B$5:$N$111,COLUMN(I$1)-5,FALSE),"") -> . | J74: =IF(I74<>"",VLOOKUP($F74,SummaryTable!$B$5:$N$111,COLUMN(J$1)-5,FALSE),"") -> 0.54237 | K74: =IF(J74<>"",VLOOKUP($F74,SummaryTable!$B$5:$N$111,COLUMN(K$1)-5,FALSE),"") -> 0.43137 | L74: =IF(K74<>"",VLOOKUP($F74,SummaryTable!$B$5:$N$111,COLUMN(L$1)-5,FALSE),"") -> . | M74: =IF(L74<>"",VLOOKUP($F74,SummaryTable!$B$5:$N$111,COLUMN(M$1)-5,FALSE),"") -> 0.27429 | N74: =IF(M74<>"",VLOOKUP($F74,SummaryTable!$B$5:$N$111,COLUMN(N$1)-5,FALSE),"") -> 0.28837 | ... R74: =IF(Q74<>"",VLOOKUP($F74,SummaryTable!$B$5:$N$111,COLUMN(R$1)-5,FALSE),"") -> .
B75: Sidewalk condition overall | C75: 0.376 | D75: 0.572 | E75: 0.347 | F75: D5 | G75: =IF(F75<>"",VLOOKUP($F75,SummaryTable!$B$5:$N$111,COLUMN(G$1)-5,FALSE),"") -> 0.55285 | H75: =IF(G75<>"",VLOOKUP($F75,SummaryTable!$B$5:$N$111,COLUMN(H$1)-5,FALSE),"") -> 0.46511 | I75: =IF(H75<>"",VLOOKUP($F75,SummaryTable!$B$5:$N$111,COLUMN(I$1)-5,FALSE),"") -> 0.47092 | J75: =IF(I75<>"",VLOOKUP($F75,SummaryTable!$B$5:$N$111,COLUMN(J$1)-5,FALSE),"") -> 0.57692 | K75: =IF(J75<>"",VLOOKUP($F75,SummaryTable!$B$5:$N$111,COLUMN(K$1)-5,FALSE),"") -> 0.72093 | L75: =IF(K75<>"",VLOOKUP($F75,SummaryTable!$B$5:$N$111,COLUMN(L$1)-5,FALSE),"") -> 0.59722 | M75: =IF(L75<>"",VLOOKUP($F75,SummaryTable!$B$5:$N$111,COLUMN(M$1)-5,FALSE),"") -> 0.47025 | N75: =IF(M75<>"",VLOOKUP($F75,SummaryTable!$B$5:$N$111,COLUMN(N$1)-5,FALSE),"") -> 0.53701 | ... R75: =IF(Q75<>"",VLOOKUP($F75,SummaryTable!$B$5:$N$111,COLUMN(R$1)-5,FALSE),"") -> 46.252
A76: Gathering Places | G76: =IF(F76<>"",VLOOKUP($F76,SummaryTable!$B$5:$N$111,COLUMN(G$1)-5,FALSE),"") | H76: =IF(G76<>"",VLOOKUP($F76,SummaryTable!$B$5:$N$111,COLUMN(H$1)-5,FALSE),"") | I76: =IF(H76<>"",VLOOKUP($F76,SummaryTable!$B$5:$N$111,COLUMN(I$1)-5,FALSE),"") | J76: =IF(I76<>"",VLOOKUP($F76,SummaryTable!$B$5:$N$111,COLUMN(J$1)-5,FALSE),"") | K76: =IF(J76<>"",VLOOKUP($F76,SummaryTable!$B$5:$N$111,COLUMN(K$1)-5,FALSE),"") | L76: =IF(K76<>"",VLOOKUP($F76,SummaryTable!$B$5:$N$111,COLUMN(L$1)-5,FALSE),"") | M76: =IF(L76<>"",VLOOKUP($F76,SummaryTable!$B$5:$N$111,COLUMN(M$1)-5,FALSE),"") | N76: =IF(M76<>"",VLOOKUP($F76,SummaryTable!$B$5:$N$111,COLUMN(N$1)-5,FALSE),"") | ... R76: =IF(Q76<>"",VLOOKUP($F76,SummaryTable!$B$5:$N$111,COLUMN(R$1)-5,FALSE),"")
B77: Restaurants | C77: 1 | D77: 0.778 | E77: NA | F77: D7A1 | G77: =IF(F77<>"",VLOOKUP($F77,SummaryTable!$B$5:$N$111,COLUMN(G$1)-5,FALSE),"") -> 1 | H77: =IF(G77<>"",VLOOKUP($F77,SummaryTable!$B$5:$N$111,COLUMN(H$1)-5,FALSE),"") -> 0.78043 | I77: =IF(H77<>"",VLOOKUP($F77,SummaryTable!$B$5:$N$111,COLUMN(I$1)-5,FALSE),"") -> 0.98563 | J77: =IF(I77<>"",VLOOKUP($F77,SummaryTable!$B$5:$N$111,COLUMN(J$1)-5,FALSE),"") -> 1 | K77: =IF(J77<>"",VLOOKUP($F77,SummaryTable!$B$5:$N$111,COLUMN(K$1)-5,FALSE),"") -> 0.96078 | L77: =IF(K77<>"",VLOOKUP($F77,SummaryTable!$B$5:$N$111,COLUMN(L$1)-5,FALSE),"") -> 0.99 | M77: =IF(L77<>"",VLOOKUP($F77,SummaryTable!$B$5:$N$111,COLUMN(M$1)-5,FALSE),"") -> 1 | N77: =IF(M77<>"",VLOOKUP($F77,SummaryTable!$B$5:$N$111,COLUMN(N$1)-5,FALSE),"") -> 0.77826 | ... R77: =IF(Q77<>"",VLOOKUP($F77,SummaryTable!$B$5:$N$111,COLUMN(R$1)-5,FALSE),"") -> 97.882
B78: Coffee shops | C78: NA | D78: NA | E78: NA | F78: D7B1 | G78: =IF(F78<>"",VLOOKUP($F78,SummaryTable!$B$5:$N$111,COLUMN(G$1)-5,FALSE),"") -> 0 | H78: =IF(G78<>"",VLOOKUP($F78,SummaryTable!$B$5:$N$111,COLUMN(H$1)-5,FALSE),"") -> 0 | I78: =IF(H78<>"",VLOOKUP($F78,SummaryTable!$B$5:$N$111,COLUMN(I$1)-5,FALSE),"") -> -0.00505 | J78: =IF(I78<>"",VLOOKUP($F78,SummaryTable!$B$5:$N$111,COLUMN(J$1)-5,FALSE),"") -> 1 | K78: =IF(J78<>"",VLOOKUP($F78,SummaryTable!$B$5:$N$111,COLUMN(K$1)-5,FALSE),"") -> 1 | L78: =IF(K78<>"",VLOOKUP($F78,SummaryTable!$B$5:$N$111,COLUMN(L$1)-5,FALSE),"") -> 0.98 | M78: =IF(L78<>"",VLOOKUP($F78,SummaryTable!$B$5:$N$111,COLUMN(M$1)-5,FALSE),"") -> . | N78: =IF(M78<>"",VLOOKUP($F78,SummaryTable!$B$5:$N$111,COLUMN(N$1)-5,FALSE),"") -> . | ... R78: =IF(Q78<>"",VLOOKUP($F78,SummaryTable!$B$5:$N$111,COLUMN(R$1)-5,FALSE),"") -> 99.849
B79: Library | C79: 0.659 | D79: NA | E79: 1 | F79: D7C1 | G79: =IF(F79<>"",VLOOKUP($F79,SummaryTable!$B$5:$N$111,COLUMN(G$1)-5,FALSE),"") -> 0.66087 | H79: =IF(G79<>"",VLOOKUP($F79,SummaryTable!$B$5:$N$111,COLUMN(H$1)-5,FALSE),"") -> 0 | I79: =IF(H79<>"",VLOOKUP($F79,SummaryTable!$B$5:$N$111,COLUMN(I$1)-5,FALSE),"") -> 1 | J79: =IF(I79<>"",VLOOKUP($F79,SummaryTable!$B$5:$N$111,COLUMN(J$1)-5,FALSE),"") -> 0.98305 | K79: =IF(J79<>"",VLOOKUP($F79,SummaryTable!$B$5:$N$111,COLUMN(K$1)-5,FALSE),"") -> 1 | L79: =IF(K79<>"",VLOOKUP($F79,SummaryTable!$B$5:$N$111,COLUMN(L$1)-5,FALSE),"") -> 1 | M79: =IF(L79<>"",VLOOKUP($F79,SummaryTable!$B$5:$N$111,COLUMN(M$1)-5,FALSE),"") -> 0.65896 | N79: =IF(M79<>"",VLOOKUP($F79,SummaryTable!$B$5:$N$111,COLUMN(N$1)-5,FALSE),"") -> . | ... R79: =IF(Q79<>"",VLOOKUP($F79,SummaryTable!$B$5:$N$111,COLUMN(R$1)-5,FALSE),"") -> 99.395
B80: Corner store | C80: NA | D80: 0.648 | E80: NA | F80: D7D1 | G80: =IF(F80<>"",VLOOKUP($F80,SummaryTable!$B$5:$N$111,COLUMN(G$1)-5,FALSE),"") -> . | H80: =IF(G80<>"",VLOOKUP($F80,SummaryTable!$B$5:$N$111,COLUMN(H$1)-5,FALSE),"") -> 0.64931 | I80: =IF(H80<>"",VLOOKUP($F80,SummaryTable!$B$5:$N$111,COLUMN(I$1)-5,FALSE),"") -> 0.77332 | J80: =IF(I80<>"",VLOOKUP($F80,SummaryTable!$B$5:$N$111,COLUMN(J$1)-5,FALSE),"") -> 0.9322 | K80: =IF(J80<>"",VLOOKUP($F80,SummaryTable!$B$5:$N$111,COLUMN(K$1)-5,FALSE),"") -> 0.96078 | L80: =IF(K80<>"",VLOOKUP($F80,SummaryTable!$B$5:$N$111,COLUMN(L$1)-5,FALSE),"") -> 0.98 | M80: =IF(L80<>"",VLOOKUP($F80,SummaryTable!$B$5:$N$111,COLUMN(M$1)-5,FALSE),"") -> . | N80: =IF(M80<>"",VLOOKUP($F80,SummaryTable!$B$5:$N$111,COLUMN(N$1)-5,FALSE),"") -> 0.64828 | ... R80: =IF(Q80<>"",VLOOKUP($F80,SummaryTable!$B$5:$N$111,COLUMN(R$1)-5,FALSE),"") -> 98.336
B81: Farmers market | C81: NA | D81: NA | E81: NA | F81: D7E1 | G81: =IF(F81<>"",VLOOKUP($F81,SummaryTable!$B$5:$N$111,COLUMN(G$1)-5,FALSE),"") -> 0 | H81: =IF(G81<>"",VLOOKUP($F81,SummaryTable!$B$5:$N$111,COLUMN(H$1)-5,FALSE),"") -> 0 | I81: =IF(H81<>"",VLOOKUP($F81,SummaryTable!$B$5:$N$111,COLUMN(I$1)-5,FALSE),"") -> 0 | J81: =IF(I81<>"",VLOOKUP($F81,SummaryTable!$B$5:$N$111,COLUMN(J$1)-5,FALSE),"") -> 1 | K81: =IF(J81<>"",VLOOKUP($F81,SummaryTable!$B$5:$N$111,COLUMN(K$1)-5,FALSE),"") -> 1 | L81: =IF(K81<>"",VLOOKUP($F81,SummaryTable!$B$5:$N$111,COLUMN(L$1)-5,FALSE),"") -> 1 | M81: =IF(L81<>"",VLOOKUP($F81,SummaryTable!$B$5:$N$111,COLUMN(M$1)-5,FALSE),"") -> . | N81: =IF(M81<>"",VLOOKUP($F81,SummaryTable!$B$5:$N$111,COLUMN(N$1)-5,FALSE),"") -> . | ... R81: =IF(Q81<>"",VLOOKUP($F81,SummaryTable!$B$5:$N$111,COLUMN(R$1)-5,FALSE),"") -> 99.849
B82: Barbershop/salon | C82: 1 | D82: NA | E82: 0.795 | F82: D7F1 | G82: =IF(F82<>"",VLOOKUP($F82,SummaryTable!$B$5:$N$111,COLUMN(G$1)-5,FALSE),"") -> 1 | H82: =IF(G82<>"",VLOOKUP($F82,SummaryTable!$B$5:$N$111,COLUMN(H$1)-5,FALSE),"") -> -0.0102 | I82: =IF(H82<>"",VLOOKUP($F82,SummaryTable!$B$5:$N$111,COLUMN(I$1)-5,FALSE),"") -> 0.7959 | J82: =IF(I82<>"",VLOOKUP($F82,SummaryTable!$B$5:$N$111,COLUMN(J$1)-5,FALSE),"") -> 1 | K82: =IF(J82<>"",VLOOKUP($F82,SummaryTable!$B$5:$N$111,COLUMN(K$1)-5,FALSE),"") -> 0.96 | L82: =IF(K82<>"",VLOOKUP($F82,SummaryTable!$B$5:$N$111,COLUMN(L$1)-5,FALSE),"") -> 0.99 | M82: =IF(L82<>"",VLOOKUP($F82,SummaryTable!$B$5:$N$111,COLUMN(M$1)-5,FALSE),"") -> 1 | N82: =IF(M82<>"",VLOOKUP($F82,SummaryTable!$B$5:$N$111,COLUMN(N$1)-5,FALSE),"") -> . | ... R82: =IF(Q82<>"",VLOOKUP($F82,SummaryTable!$B$5:$N$111,COLUMN(R$1)-5,FALSE),"") -> 98.487
B83: Car repair shop | C83: 0.792 | D83: 1 | E83: -0.01 | F83: D7G1 | G83: =IF(F83<>"",VLOOKUP($F83,SummaryTable!$B$5:$N$111,COLUMN(G$1)-5,FALSE),"") -> 0.79292 | H83: =IF(G83<>"",VLOOKUP($F83,SummaryTable!$B$5:$N$111,COLUMN(H$1)-5,FALSE),"") -> 1 | I83: =IF(H83<>"",VLOOKUP($F83,SummaryTable!$B$5:$N$111,COLUMN(I$1)-5,FALSE),"") -> -0.00505 | J83: =IF(I83<>"",VLOOKUP($F83,SummaryTable!$B$5:$N$111,COLUMN(J$1)-5,FALSE),"") -> 0.98305 | K83: =IF(J83<>"",VLOOKUP($F83,SummaryTable!$B$5:$N$111,COLUMN(K$1)-5,FALSE),"") -> 1 | L83: =IF(K83<>"",VLOOKUP($F83,SummaryTable!$B$5:$N$111,COLUMN(L$1)-5,FALSE),"") -> 0.98 | M83: =IF(L83<>"",VLOOKUP($F83,SummaryTable!$B$5:$N$111,COLUMN(M$1)-5,FALSE),"") -> 0.79152 | N83: =IF(M83<>"",VLOOKUP($F83,SummaryTable!$B$5:$N$111,COLUMN(N$1)-5,FALSE),"") -> 1 | ... R83: =IF(Q83<>"",VLOOKUP($F83,SummaryTable!$B$5:$N$111,COLUMN(R$1)-5,FALSE),"") -> 98.638
B84: Church | C84: NA | D84: 0.836 | E84: 0.559 | F84: D7H1 | G84: =IF(F84<>"",VLOOKUP($F84,SummaryTable!$B$5:$N$111,COLUMN(G$1)-5,FALSE),"") -> 0.86292 | H84: =IF(G84<>"",VLOOKUP($F84,SummaryTable!$B$5:$N$111,COLUMN(H$1)-5,FALSE),"") -> 0.83367 | I84: =IF(H84<>"",VLOOKUP($F84,SummaryTable!$B$5:$N$111,COLUMN(I$1)-5,FALSE),"") -> 0.55811 | J84: =IF(I84<>"",VLOOKUP($F84,SummaryTable!$B$5:$N$111,COLUMN(J$1)-5,FALSE),"") -> 0.94915 | K84: =IF(J84<>"",VLOOKUP($F84,SummaryTable!$B$5:$N$111,COLUMN(K$1)-5,FALSE),"") -> 0.94118 | L84: =IF(K84<>"",VLOOKUP($F84,SummaryTable!$B$5:$N$111,COLUMN(L$1)-5,FALSE),"") -> 0.97 | M84: =IF(L84<>"",VLOOKUP($F84,SummaryTable!$B$5:$N$111,COLUMN(M$1)-5,FALSE),"") -> . | N84: =IF(M84<>"",VLOOKUP($F84,SummaryTable!$B$5:$N$111,COLUMN(N$1)-5,FALSE),"") -> 0.84896 | ... R84: =IF(Q84<>"",VLOOKUP($F84,SummaryTable!$B$5:$N$111,COLUMN(R$1)-5,FALSE),"") -> 94.554
B85: Bar | C85: 0.375 | D85: 1 | E85: NA | F85: D7I1 | G85: =IF(F85<>"",VLOOKUP($F85,SummaryTable!$B$5:$N$111,COLUMN(G$1)-5,FALSE),"") -> 0.37876 | H85: =IF(G85<>"",VLOOKUP($F85,SummaryTable!$B$5:$N$111,COLUMN(H$1)-5,FALSE),"") -> 1 | I85: =IF(H85<>"",VLOOKUP($F85,SummaryTable!$B$5:$N$111,COLUMN(I$1)-5,FALSE),"") -> 0.64003 | J85: =IF(I85<>"",VLOOKUP($F85,SummaryTable!$B$5:$N$111,COLUMN(J$1)-5,FALSE),"") -> 0.94915 | K85: =IF(J85<>"",VLOOKUP($F85,SummaryTable!$B$5:$N$111,COLUMN(K$1)-5,FALSE),"") -> 1 | L85: =IF(K85<>"",VLOOKUP($F85,SummaryTable!$B$5:$N$111,COLUMN(L$1)-5,FALSE),"") -> 0.96 | M85: =IF(L85<>"",VLOOKUP($F85,SummaryTable!$B$5:$N$111,COLUMN(M$1)-5,FALSE),"") -> 0.37456 | N85: =IF(M85<>"",VLOOKUP($F85,SummaryTable!$B$5:$N$111,COLUMN(N$1)-5,FALSE),"") -> 1 | ... R85: =IF(Q85<>"",VLOOKUP($F85,SummaryTable!$B$5:$N$111,COLUMN(R$1)-5,FALSE),"") -> 97.882
B86: Check cashing store | C86: NA | D86: NA | E86: NA | F86: D7J1 | G86: =IF(F86<>"",VLOOKUP($F86,SummaryTable!$B$5:$N$111,COLUMN(G$1)-5,FALSE),"") -> 0 | H86: =IF(G86<>"",VLOOKUP($F86,SummaryTable!$B$5:$N$111,COLUMN(H$1)-5,FALSE),"") -> 0 | I86: =IF(H86<>"",VLOOKUP($F86,SummaryTable!$B$5:$N$111,COLUMN(I$1)-5,FALSE),"") -> 0 | J86: =IF(I86<>"",VLOOKUP($F86,SummaryTable!$B$5:$N$111,COLUMN(J$1)-5,FALSE),"") -> 1 | K86: =IF(J86<>"",VLOOKUP($F86,SummaryTable!$B$5:$N$111,COLUMN(K$1)-5,FALSE),"") -> 1 | L86: =IF(K86<>"",VLOOKUP($F86,SummaryTable!$B$5:$N$111,COLUMN(L$1)-5,FALSE),"") -> 1 | M86: =IF(L86<>"",VLOOKUP($F86,SummaryTable!$B$5:$N$111,COLUMN(M$1)-5,FALSE),"") -> . | N86: =IF(M86<>"",VLOOKUP($F86,SummaryTable!$B$5:$N$111,COLUMN(N$1)-5,FALSE),"") -> . | ... R86: =IF(Q86<>"",VLOOKUP($F86,SummaryTable!$B$5:$N$111,COLUMN(R$1)-5,FALSE),"") -> 99.849
B87: Other gathering place | C87: NA | D87: 0.541 | E87: NA | F87: D7K1 | G87: =IF(F87<>"",VLOOKUP($F87,SummaryTable!$B$5:$N$111,COLUMN(G$1)-5,FALSE),"") -> 0.34663 | H87: =IF(G87<>"",VLOOKUP($F87,SummaryTable!$B$5:$N$111,COLUMN(H$1)-5,FALSE),"") -> 0.54436 | I87: =IF(H87<>"",VLOOKUP($F87,SummaryTable!$B$5:$N$111,COLUMN(I$1)-5,FALSE),"") -> -0.06856 | J87: =IF(I87<>"",VLOOKUP($F87,SummaryTable!$B$5:$N$111,COLUMN(J$1)-5,FALSE),"") -> 0.79661 | K87: =IF(J87<>"",VLOOKUP($F87,SummaryTable!$B$5:$N$111,COLUMN(K$1)-5,FALSE),"") -> 0.94118 | L87: =IF(K87<>"",VLOOKUP($F87,SummaryTable!$B$5:$N$111,COLUMN(L$1)-5,FALSE),"") -> 0.86 | M87: =IF(L87<>"",VLOOKUP($F87,SummaryTable!$B$5:$N$111,COLUMN(M$1)-5,FALSE),"") -> . | N87: =IF(M87<>"",VLOOKUP($F87,SummaryTable!$B$5:$N$111,COLUMN(N$1)-5,FALSE),"") -> 0.54054 | ... R87: =IF(Q87<>"",VLOOKUP($F87,SummaryTable!$B$5:$N$111,COLUMN(R$1)-5,FALSE),"") -> 94.1
A88: Subjective Assessment | G88: =IF(F88<>"",VLOOKUP($F88,SummaryTable!$B$5:$N$111,COLUMN(G$1)-5,FALSE),"") | H88: =IF(G88<>"",VLOOKUP($F88,SummaryTable!$B$5:$N$111,COLUMN(H$1)-5,FALSE),"") | I88: =IF(H88<>"",VLOOKUP($F88,SummaryTable!$B$5:$N$111,COLUMN(I$1)-5,FALSE),"") | J88: =IF(I88<>"",VLOOKUP($F88,SummaryTable!$B$5:$N$111,COLUMN(J$1)-5,FALSE),"") | K88: =IF(J88<>"",VLOOKUP($F88,SummaryTable!$B$5:$N$111,COLUMN(K$1)-5,FALSE),"") | L88: =IF(K88<>"",VLOOKUP($F88,SummaryTable!$B$5:$N$111,COLUMN(L$1)-5,FALSE),"") | M88: =IF(L88<>"",VLOOKUP($F88,SummaryTable!$B$5:$N$111,COLUMN(M$1)-5,FALSE),"") | N88: =IF(M88<>"",VLOOKUP($F88,SummaryTable!$B$5:$N$111,COLUMN(N$1)-5,FALSE),"") | ... R88: =IF(Q88<>"",VLOOKUP($F88,SummaryTable!$B$5:$N$111,COLUMN(R$1)-5,FALSE),"")
B89: Perceived safety on segment | C89: 0.464 | D89: 0.171 | E89: 0.479 | F89: D6 | G89: =IF(F89<>"",VLOOKUP($F89,SummaryTable!$B$5:$N$111,COLUMN(G$1)-5,FALSE),"") -> 0.46512 | H89: =IF(G89<>"",VLOOKUP($F89,SummaryTable!$B$5:$N$111,COLUMN(H$1)-5,FALSE),"") -> 0.15385 | I89: =IF(H89<>"",VLOOKUP($F89,SummaryTable!$B$5:$N$111,COLUMN(I$1)-5,FALSE),"") -> 0.46978 | J89: =IF(I89<>"",VLOOKUP($F89,SummaryTable!$B$5:$N$111,COLUMN(J$1)-5,FALSE),"") -> 0.7931 | K89: =IF(J89<>"",VLOOKUP($F89,SummaryTable!$B$5:$N$111,COLUMN(K$1)-5,FALSE),"") -> 0.86 | L89: =IF(K89<>"",VLOOKUP($F89,SummaryTable!$B$5:$N$111,COLUMN(L$1)-5,FALSE),"") -> 0.87629 | M89: =IF(L89<>"",VLOOKUP($F89,SummaryTable!$B$5:$N$111,COLUMN(M$1)-5,FALSE),"") -> 0.46379 | N89: =IF(M89<>"",VLOOKUP($F89,SummaryTable!$B$5:$N$111,COLUMN(N$1)-5,FALSE),"") -> 0.17062 | ... R89: =IF(Q89<>"",VLOOKUP($F89,SummaryTable!$B$5:$N$111,COLUMN(R$1)-5,FALSE),"") -> 82.848
B90: Attractiveness for walking | C90: 0.274 | D90: 0.501 | E90: 0.345 | F90: D8A | G90: =IF(F90<>"",VLOOKUP($F90,SummaryTable!$B$5:$N$111,COLUMN(G$1)-5,FALSE),"") -> 0.45675 | H90: =IF(G90<>"",VLOOKUP($F90,SummaryTable!$B$5:$N$111,COLUMN(H$1)-5,FALSE),"") -> 0.45334 | I90: =IF(H90<>"",VLOOKUP($F90,SummaryTable!$B$5:$N$111,COLUMN(I$1)-5,FALSE),"") -> 0.51732 | J90: =IF(I90<>"",VLOOKUP($F90,SummaryTable!$B$5:$N$111,COLUMN(J$1)-5,FALSE),"") -> 0.54386 | K90: =IF(J90<>"",VLOOKUP($F90,SummaryTable!$B$5:$N$111,COLUMN(K$1)-5,FALSE),"") -> 0.7451 | L90: =IF(K90<>"",VLOOKUP($F90,SummaryTable!$B$5:$N$111,COLUMN(L$1)-5,FALSE),"") -> 0.59184 | M90: =IF(L90<>"",VLOOKUP($F90,SummaryTable!$B$5:$N$111,COLUMN(M$1)-5,FALSE),"") -> 0.35069 | N90: =IF(M90<>"",VLOOKUP($F90,SummaryTable!$B$5:$N$111,COLUMN(N$1)-5,FALSE),"") -> 0.48346 | ... R90: =IF(Q90<>"",VLOOKUP($F90,SummaryTable!$B$5:$N$111,COLUMN(R$1)-5,FALSE),"") -> 51.667
