Workbook

Sheet _@RISKFitInformation
A1: Created By Version | B1: 7.5.2
A2: Required Version | B2: 5.0.0
A3: Recommended Version | B3: 5.0.0
A4: Modified By Version | B4: 7.6.0
A9: Count | B9: 78
A10: GUID | B10: Name | C10: Range | D10: CRC | E10: Options | F10: Comp. Graph Serialization | G10: PP Graph Serialization | H10: QQ Graph Serialization | I10: Unsued | J10: Fixed Params | K10: Bootstrap Options | L10: BootstrapParamGraphSerialization | M10: BatchFit Options | N10: BootstrapGOFGraphSerialization | O10: FitSelector
A11: FIT_C7484_76358 | B11: Dataset 13 | C11: ='Backyard(B2)'!$B$33:$B$38 -> #VALUE! | D11: 0 | E11: F1 0 0 -1E+300 1E+300 1 0 0 0 0 1 25 BetaGeneral Binomial Expon ExtValue ExtValueMin Gamma Geomet IntUniform InvGauss Kumaraswamy Laplace Levy Logistic LogLogistic Lognorm NegBin Normal Pareto Pearson5 Pearson6 Poisson Reciprocal Triang Uniform Weibull 0 1 -1 1 0 1 0 0 0 | F11: GF1_rK0qDwEAEAC8AQwjACYANAB2AIoAiwCZAKcAlgG4AbIBKgD//wAEAAAAAQQAAAAAAAAAAAEdRml0IENvbXBhcmlzb24gZm9yIERhdGFzZXQgMTMBH1Jpc2tVbmlmb3JtKC0wLjAwNTgzMjksMC40OTcxNSkBARAAAgABClN0YXRpc3RpY3MDAQEA/wEBAQEBAAEBAQAEAAAAAQEBAQEAAQEBAAQAAAAKxgAB1QAA5gAA/AAAEgEAKAEAPgEAVAEAagEAgAEADQAFSW5wdXQAACUBAQIADwAHVW5pZm9ybQABLwEAAgAUAAxVbnVzZWQgQ3VydmUAAk8BAAIAFAAMVW51c2VkIEN1cnZlAAOMAQACABQADFVudXNlZCBDdXJ2ZQAETAEAAgAUAAxVbnVzZWQgQ3VydmUABTkBAAIAFAAMVW51c2VkIEN1cnZlAAZOAQACABQADFVudXNlZCBDdXJ2ZQAHIwEAAgAUAAxVbnVzZWQgQ3VydmUACCkBAAIAFAAMVW51c2VkIEN1cnZlAAlgAQACAJ4BqAEBAQIBmpmZmZmZqT8AAGZmZmZmZu4/AAAFAAEBAQABAQEA | J11: 0 8 | K11: F1 0 1000 .95 | O11: 4 | P11: TRUE
A12: FIT_C83FE_8B5F7 | B12: Dataset 14 | C12: ='Backyard(B2)'!$B$45:$B$50 -> #VALUE! | D12: 0 | E12: F1 0 0 -1E+300 1E+300 1 0 0 0 0 1 25 BetaGeneral Binomial Expon ExtValue ExtValueMin Gamma Geomet IntUniform InvGauss Kumaraswamy Laplace Levy Logistic LogLogistic Lognorm NegBin Normal Pareto Pearson5 Pearson6 Poisson Reciprocal Triang Uniform Weibull 0 1 -1 1 0 1 0 0 0 | F12: GF1_rK0qDwEAEAC7AQwjACYANAB1AIkAigCYAKYAlQG3AbEBKgD//wAEAAAAAQQAAAAAAAAAAAEdRml0IENvbXBhcmlzb24gZm9yIERhdGFzZXQgMTQBHlJpc2tVbmlmb3JtKC0wLjAyMzQwNywwLjI1NTk4KQEBEAACAAEKU3RhdGlzdGljcwMBAQD/AQEBAQEAAQEBAAQAAAABAQEBAQABAQEABAAAAArFAAHUAADlAAD7AAARAQAnAQA9AQBTAQBpAQB/AQANAAVJbnB1dAAAJQEBAgAPAAdVbmlmb3JtAAEvAQACABQADFVudXNlZCBDdXJ2ZQACTwEAAgAUAAxVbnVzZWQgQ3VydmUAA4wBAAIAFAAMVW51c2VkIEN1cnZlAARMAQACABQADFVudXNlZCBDdXJ2ZQAFOQEAAgAUAAxVbnVzZWQgQ3VydmUABk4BAAIAFAAMVW51c2VkIEN1cnZlAAcjAQACABQADFVudXNlZCBDdXJ2ZQAIKQEAAgAUAAxVbnVzZWQgQ3VydmUACWABAAIAnQGnAQEBAgGamZmZmZmpPwAAZmZmZmZm7j8AAAUAAQEBAAEBAQA= | J12: 0 8 | K12: F1 0 1000 .95 | O12: 4 | P12: TRUE
A13: FIT_9FB42_C4348 | B13: Dataset 15 | C13: ='Backyard(B2)'!$O$45:$O$50 -> #VALUE! | D13: 0 | E13: F1 0 0 -1E+300 1E+300 1 0 0 0 0 1 25 BetaGeneral Binomial Expon ExtValue ExtValueMin Gamma Geomet IntUniform InvGauss Kumaraswamy Laplace Levy Logistic LogLogistic Lognorm NegBin Normal Pareto Pearson5 Pearson6 Poisson Reciprocal Triang Uniform Weibull 0 1 -1 1 0 1 0 0 0 | F13: GF1_rK0qDwEAEADUAQwjACYANAB1AIkAigCYAKYAlQHQAbEBKgD//wAEAAAAAQQAAAAAAAAAAAEdRml0IENvbXBhcmlzb24gZm9yIERhdGFzZXQgMTUBHlJpc2tVbmlmb3JtKC0wLjAzMjA4NywwLjIxODY0KQEBEAACAAEKU3RhdGlzdGljcwMBAQD/AQEBAQEAAQEBAAQAAAABAQEBAQABAQEABAAAAArFAAHUAADlAAD7AAARAQAnAQA9AQBTAQBpAQB/AQANAAVJbnB1dAAAJQEBAgAPAAdVbmlmb3JtAAEvAQACABQADFVudXNlZCBDdXJ2ZQACTwEAAgAUAAxVbnVzZWQgQ3VydmUAA4wBAAIAFAAMVW51c2VkIEN1cnZlAARMAQACABQADFVudXNlZCBDdXJ2ZQAFOQEAAgAUAAxVbnVzZWQgQ3VydmUABk4BAAIAFAAMVW51c2VkIEN1cnZlAAcjAQACABQADFVudXNlZCBDdXJ2ZQAIKQEAAgAUAAxVbnVzZWQgQ3VydmUACWABAAIAnQGnAQEBAgGamZmZmZmpPwAAZmZmZmZm7j8AAAUAAQEBGU1pbgpNYXgKTWVhbgpQMSg1KQpQMig5NSkBAQEA | J13: 0 8 | K13: F1 0 1000 .95 | O13: 4 | P13: TRUE
A14: FIT_D737C_890E2 | B14: Dataset 16 | C14: ='Backyard(B2)'!$AB$45:$AB$50 -> #VALUE! | D14: 0 | E14: F1 0 0 -1E+300 1E+300 1 0 0 0 0 1 25 BetaGeneral Binomial Expon ExtValue ExtValueMin Gamma Geomet IntUniform InvGauss Kumaraswamy Laplace Levy Logistic LogLogistic Lognorm NegBin Normal Pareto Pearson5 Pearson6 Poisson Reciprocal Triang Uniform Weibull 0 1 -1 1 0 1 0 0 0 | F14: GF1_rK0qDwEAEADDAQwjACYANAB/AJMAlACiALAAnQG/AbkBKgD//wAEAAAAAQQAAAAAAAAAAAEdRml0IENvbXBhcmlzb24gZm9yIERhdGFzZXQgMTYBKFJpc2tFeHBvbigwLjA2Nzg1NixSaXNrU2hpZnQoLTAuMDExMzA5KSkBARAAAgABClN0YXRpc3RpY3MDAQEA/wEBAQEBAAEBAQAEAAAAAQEBAQEAAQEBAAQAAAAKzwAB3gAA7QAAAwEAGQEALwEARQEAWwEAcQEAhwEADQAFSW5wdXQAACUBAQIADQAFRXhwb24AAS8BAAIAFAAMVW51c2VkIEN1cnZlAAJPAQACABQADFVudXNlZCBDdXJ2ZQADjAEAAgAUAAxVbnVzZWQgQ3VydmUABEwBAAIAFAAMVW51c2VkIEN1cnZlAAU5AQACABQADFVudXNlZCBDdXJ2ZQAGTgEAAgAUAAxVbnVzZWQgQ3VydmUAByMBAAIAFAAMVW51c2VkIEN1cnZlAAgpAQACABQADFVudXNlZCBDdXJ2ZQAJYAEAAgClAa8BAQECAZqZmZmZmak/AABmZmZmZmbuPwAABQABAQEAAQEBAA== | J14: 0 8 | K14: F1 0 1000 .95 | O14: 4 | P14: TRUE
A15: FIT_9F7F3_847B6 | B15: Dataset 17 | C15: ='Backyard(B2)'!$C$58:$C$63 -> #VALUE! | D15: 0 | E15: F1 0 0 -1E+300 1E+300 1 0 0 0 0 1 25 BetaGeneral Binomial Expon ExtValue ExtValueMin Gamma Geomet IntUniform InvGauss Kumaraswamy Laplace Levy Logistic LogLogistic Lognorm NegBin Normal Pareto Pearson5 Pearson6 Poisson Reciprocal Triang Uniform Weibull 0 1 -1 1 0 1 0 0 0 | F15: GF1_rK0qDwEAEAC8AQwjACYANAB2AIoAiwCZAKcAlgG4AbIBKgD//wAEAAAAAQQAAAAAAAAAAAEdRml0IENvbXBhcmlzb24gZm9yIERhdGFzZXQgMTcBH1Jpc2tVbmlmb3JtKC0wLjAxMDg4NSwwLjA5MDA3MSkBARAAAgABClN0YXRpc3RpY3MDAQEA/wEBAQEBAAEBAQAEAAAAAQEBAQEAAQEBAAQAAAAKxgAB1QAA5gAA/AAAEgEAKAEAPgEAVAEAagEAgAEADQAFSW5wdXQAACUBAQIADwAHVW5pZm9ybQABLwEAAgAUAAxVbnVzZWQgQ3VydmUAAk8BAAIAFAAMVW51c2VkIEN1cnZlAAOMAQACABQADFVudXNlZCBDdXJ2ZQAETAEAAgAUAAxVbnVzZWQgQ3VydmUABTkBAAIAFAAMVW51c2VkIEN1cnZlAAZOAQACABQADFVudXNlZCBDdXJ2ZQAHIwEAAgAUAAxVbnVzZWQgQ3VydmUACCkBAAIAFAAMVW51c2VkIEN1cnZlAAlgAQACAJ4BqAEBAQIBmpmZmZmZqT8AAGZmZmZmZu4/AAAFAAEBAQABAQEA | J15: 0 8 | K15: F1 0 1000 .95 | O15: 4 | P15: TRUE
A16: FIT_9921C_92644 | B16: Dataset 18 | C16: ='Backyard(B2)'!$I$58:$I$63 -> #VALUE! | D16: 0 | E16: F1 0 0 -1E+300 1E+300 1 0 0 0 0 1 25 BetaGeneral Binomial Expon ExtValue ExtValueMin Gamma Geomet IntUniform InvGauss Kumaraswamy Laplace Levy Logistic LogLogistic Lognorm NegBin Normal Pareto Pearson5 Pearson6 Poisson Reciprocal Triang Uniform Weibull 0 1 -1 1 0 1 0 0 0 | F16: GF1_rK0qDwEAEADRAQwjACYANABzAIcAiACWAKQAkgHNAa4BKgD//wAEAAAAAQQAAAAAAAAAAAEdRml0IENvbXBhcmlzb24gZm9yIERhdGFzZXQgMTgBHFJpc2tQYXJldG8oMC43NjQ4NiwwLjAxMjk2OCkBARAAAgABClN0YXRpc3RpY3MDAQEA/wEBAQEBAAEBAQAEAAAAAQEBAQEAAQEBAAQAAAAKwwAB0gAA4gAA+AAADgEAJAEAOgEAUAEAZgEAfAEADQAFSW5wdXQAACUBAQIADgAGUGFyZXRvAAEvAQACABQADFVudXNlZCBDdXJ2ZQACTwEAAgAUAAxVbnVzZWQgQ3VydmUAA4wBAAIAFAAMVW51c2VkIEN1cnZlAARMAQACABQADFVudXNlZCBDdXJ2ZQAFOQEAAgAUAAxVbnVzZWQgQ3VydmUABk4BAAIAFAAMVW51c2VkIEN1cnZlAAcjAQACABQADFVudXNlZCBDdXJ2ZQAIKQEAAgAUAAxVbnVzZWQgQ3VydmUACWABAAIAmgGkAQEBAgGamZmZmZmpPwAAZmZmZmZm7j8AAAUAAQEBGU1pbgpNYXgKTWVhbgpQMSg1KQpQMig5NSkBAQEA | J16: 0 8 | K16: F1 0 1000 .95 | O16: 4 | P16: TRUE
A17: FIT_4B895_CB48D | B17: Dataset 19 | C17: ='Backyard(B2)'!$O$58:$O$63 -> #VALUE! | D17: 0 | E17: F1 0 0 -1E+300 1E+300 1 0 0 0 0 1 25 BetaGeneral Binomial Expon ExtValue ExtValueMin Gamma Geomet IntUniform InvGauss Kumaraswamy Laplace Levy Logistic LogLogistic Lognorm NegBin Normal Pareto Pearson5 Pearson6 Poisson Reciprocal Triang Uniform Weibull 0 1 -1 1 0 1 0 0 0 | F17: GF1_rK0qDwEAEADSAQwjACYANAB0AIgAiQCXAKUAkwHOAa8BKgD//wAEAAAAAQQAAAAAAAAAAAEdRml0IENvbXBhcmlzb24gZm9yIERhdGFzZXQgMTkBHVJpc2tQYXJldG8oMC41MTQ4MSwwLjAwMjM1NzkpAQEQAAIAAQpTdGF0aXN0aWNzAwEBAP8BAQEBAQABAQEABAAAAAEBAQEBAAEBAQAEAAAACsQAAdMAAOMAAPkAAA8BACUBADsBAFEBAGcBAH0BAA0ABUlucHV0AAAlAQECAA4ABlBhcmV0bwABLwEAAgAUAAxVbnVzZWQgQ3VydmUAAk8BAAIAFAAMVW51c2VkIEN1cnZlAAOMAQACABQADFVudXNlZCBDdXJ2ZQAETAEAAgAUAAxVbnVzZWQgQ3VydmUABTkBAAIAFAAMVW51c2VkIEN1cnZlAAZOAQACABQADFVudXNlZCBDdXJ2ZQAHIwEAAgAUAAxVbnVzZWQgQ3VydmUACCkBAAIAFAAMVW51c2VkIEN1cnZlAAlgAQACAJsBpQEBAQIBmpmZmZmZqT8AAGZmZmZmZu4/AAAFAAEBARlNaW4KTWF4Ck1lYW4KUDEoNSkKUDIoOTUpAQEBAA== | J17: 0 8 | K17: F1 0 1000 .95 | O17: 4 | P17: TRUE
A18: FIT_D58B1_BE581 | B18: Dataset 20 | C18: ='Backyard(B2)'!$U$58:$U$63 -> #VALUE! | D18: 0 | E18: F1 0 0 -1E+300 1E+300 1 0 0 0 0 1 25 BetaGeneral Binomial Expon ExtValue ExtValueMin Gamma Geomet IntUniform InvGauss Kumaraswamy Laplace Levy Logistic LogLogistic Lognorm NegBin Normal Pareto Pearson5 Pearson6 Poisson Reciprocal Triang Uniform Weibull 0 1 -1 1 0 1 0 0 0 | F18: GF1_rK0qDwEAEADUAQwjACYANAB1AIkAigCYAKYAlQHQAbEBKgD//wAEAAAAAQQAAAAAAAAAAAEdRml0IENvbXBhcmlzb24gZm9yIERhdGFzZXQgMjABHlJpc2tVbmlmb3JtKC0wLjAyMzE5OCwwLjEzOTE5KQEBEAACAAEKU3RhdGlzdGljcwMBAQD/AQEBAQEAAQEBAAQAAAABAQEBAQABAQEABAAAAArFAAHUAADlAAD7AAARAQAnAQA9AQBTAQBpAQB/AQANAAVJbnB1dAAAJQEBAgAPAAdVbmlmb3JtAAEvAQACABQADFVudXNlZCBDdXJ2ZQACTwEAAgAUAAxVbnVzZWQgQ3VydmUAA4wBAAIAFAAMVW51c2VkIEN1cnZlAARMAQACABQADFVudXNlZCBDdXJ2ZQAFOQEAAgAUAAxVbnVzZWQgQ3VydmUABk4BAAIAFAAMVW51c2VkIEN1cnZlAAcjAQACABQADFVudXNlZCBDdXJ2ZQAIKQEAAgAUAAxVbnVzZWQgQ3VydmUACWABAAIAnQGnAQEBAgGamZmZmZmpPwAAZmZmZmZm7j8AAAUAAQEBGU1pbgpNYXgKTWVhbgpQMSg1KQpQMig5NSkBAQEA | J18: 0 8 | K18: F1 0 1000 .95 | O18: 4 | P18: TRUE
A19: FIT_B3F9A_3FA81 | B19: Dataset 21 | C19: ='Backyard(B2)'!$AB$58:$AB$63 -> #VALUE! | D19: 0 | E19: F1 0 0 -1E+300 1E+300 1 0 0 0 0 1 25 BetaGeneral Binomial Expon ExtValue ExtValueMin Gamma Geomet IntUniform InvGauss Kumaraswamy Laplace Levy Logistic LogLogistic Lognorm NegBin Normal Pareto Pearson5 Pearson6 Poisson Reciprocal Triang Uniform Weibull 0 1 -1 1 0 1 0 0 0 | F19: GF1_rK0qDwEAEADeAQwjACYANACBAJUAlgCkALIAnwHaAbsBKgD//wAEAAAAAQQAAAAAAAAAAAEdRml0IENvbXBhcmlzb24gZm9yIERhdGFzZXQgMjEBKlJpc2tFeHBvbigwLjAwODAwNDEsUmlza1NoaWZ0KC0wLjAwMTMzNDApKQEBEAACAAEKU3RhdGlzdGljcwMBAQD/AQEBAQEAAQEBAAQAAAABAQEBAQABAQEABAAAAArRAAHgAADvAAAFAQAbAQAxAQBHAQBdAQBzAQCJAQANAAVJbnB1dAAAJQEBAgANAAVFeHBvbgABLwEAAgAUAAxVbnVzZWQgQ3VydmUAAk8BAAIAFAAMVW51c2VkIEN1cnZlAAOMAQACABQADFVudXNlZCBDdXJ2ZQAETAEAAgAUAAxVbnVzZWQgQ3VydmUABTkBAAIAFAAMVW51c2VkIEN1cnZlAAZOAQACABQADFVudXNlZCBDdXJ2ZQAHIwEAAgAUAAxVbnVzZWQgQ3VydmUACCkBAAIAFAAMVW51c2VkIEN1cnZlAAlgAQACAKcBsQEBAQIBmpmZmZmZqT8AAGZmZmZmZu4/AAAFAAEBARlNaW4KTWF4Ck1lYW4KUDEoNSkKUDIoOTUpAQEBAA== | J19: 0 8 | K19: F1 0 1000 .95 | O19: 4 | P19: TRUE
A20: FIT_A8AE7_E97EE | B20: Dataset 22 | C20: ='Backyard(B2)'!$AG$58:$AG$63 -> #VALUE! | D20: 0 | E20: F1 0 0 -1E+300 1E+300 1 0 0 0 0 1 25 BetaGeneral Binomial Expon ExtValue ExtValueMin Gamma Geomet IntUniform InvGauss Kumaraswamy Laplace Levy Logistic LogLogistic Lognorm NegBin Normal Pareto Pearson5 Pearson6 Poisson Reciprocal Triang Uniform Weibull 0 1 -1 1 0 1 0 0 0 | F20: GF1_rK0qDwEAEADdAQwjACYANACAAJQAlQCjALEAngHZAboBKgD//wAEAAAAAQQAAAAAAAAAAAEdRml0IENvbXBhcmlzb24gZm9yIERhdGFzZXQgMjIBKVJpc2tFeHBvbigwLjA1OTg1MixSaXNrU2hpZnQoLTAuMDA5OTc1MykpAQEQAAIAAQpTdGF0aXN0aWNzAwEBAP8BAQEBAQABAQEABAAAAAEBAQEBAAEBAQAEAAAACtAAAd8AAO4AAAQBABoBADABAEYBAFwBAHIBAIgBAA0ABUlucHV0AAAlAQECAA0ABUV4cG9uAAEvAQACABQADFVudXNlZCBDdXJ2ZQACTwEAAgAUAAxVbnVzZWQgQ3VydmUAA4wBAAIAFAAMVW51c2VkIEN1cnZlAARMAQACABQADFVudXNlZCBDdXJ2ZQAFOQEAAgAUAAxVbnVzZWQgQ3VydmUABk4BAAIAFAAMVW51c2VkIEN1cnZlAAcjAQACABQADFVudXNlZCBDdXJ2ZQAIKQEAAgAUAAxVbnVzZWQgQ3VydmUACWABAAIApgGwAQEBAgGamZmZmZmpPwAAZmZmZmZm7j8AAAUAAQEBGU1pbgpNYXgKTWVhbgpQMSg1KQpQMig5NSkBAQEA | J20: 0 8 | K20: F1 0 1000 .95 | O20: 4 | P20: TRUE
A21: FIT_ABE61_5EEF0 | B21: Dataset 23 | C21: ='Backyard(B2)'!$B$45:$B$50 -> #VALUE! | D21: 0 | E21: F1 0 0 -1E+300 1E+300 1 0 0 0 0 1 25 BetaGeneral Binomial Expon ExtValue ExtValueMin Gamma Geomet IntUniform InvGauss Kumaraswamy Laplace Levy Logistic LogLogistic Lognorm NegBin Normal Pareto Pearson5 Pearson6 Poisson Reciprocal Triang Uniform Weibull 0 1 -1 1 0 1 0 0 0 | F21: GF1_rK0qDwEAEAC7AQwjACYANAB1AIkAigCYAKYAlQG3AbEBKgD//wAEAAAAAQQAAAAAAAAAAAEdRml0IENvbXBhcmlzb24gZm9yIERhdGFzZXQgMjMBHlJpc2tVbmlmb3JtKC0wLjAyMzQwNywwLjI1NTk4KQEBEAACAAEKU3RhdGlzdGljcwMBAQD/AQEBAQEAAQEBAAQAAAABAQEBAQABAQEABAAAAArFAAHUAADlAAD7AAARAQAnAQA9AQBTAQBpAQB/AQANAAVJbnB1dAAAJQEBAgAPAAdVbmlmb3JtAAEvAQACABQADFVudXNlZCBDdXJ2ZQACTwEAAgAUAAxVbnVzZWQgQ3VydmUAA4wBAAIAFAAMVW51c2VkIEN1cnZlAARMAQACABQADFVudXNlZCBDdXJ2ZQAFOQEAAgAUAAxVbnVzZWQgQ3VydmUABk4BAAIAFAAMVW51c2VkIEN1cnZlAAcjAQACABQADFVudXNlZCBDdXJ2ZQAIKQEAAgAUAAxVbnVzZWQgQ3VydmUACWABAAIAnQGnAQEBAgGamZmZmZmpPwAAZmZmZmZm7j8AAAUAAQEBAAEBAQA= | J21: 0 8 | K21: F1 0 1000 .95 | O21: 4 | P21: TRUE
A22: FIT_7606C_7C7F2 | B22: Dataset 2 | C22: ='Backyard(B2)'!$B$13:$B$18 -> #VALUE! | D22: 0 | E22: F1 0 0 -1E+300 1E+300 1 0 0 0 0 1 25 BetaGeneral Binomial Expon ExtValue ExtValueMin Gamma Geomet IntUniform InvGauss Kumaraswamy Laplace Levy Logistic LogLogistic Lognorm NegBin Normal Pareto Pearson5 Pearson6 Poisson Reciprocal Triang Uniform Weibull 0 1 -1 1 0 1 0 0 0 | F22: GF1_rK0qDwEAEAC4AQwjACYANABzAIcAiACWAKQAkgG0Aa4BKgD//wAEAAAAAQQAAAAAAAAAAAEcRml0IENvbXBhcmlzb24gZm9yIERhdGFzZXQgMgEdUmlza1BhcmV0bygwLjgzNTMwLDM0MjkzMDYuNCkBARAAAgABClN0YXRpc3RpY3MDAQEA/wEBAQEBAAEBAQAEAAAAAQEBAQEAAQEBAAQAAAAKwwAB0gAA4gAA+AAADgEAJAEAOgEAUAEAZgEAfAEADQAFSW5wdXQAACUBAQIADgAGUGFyZXRvAAEvAQACABQADFVudXNlZCBDdXJ2ZQACTwEAAgAUAAxVbnVzZWQgQ3VydmUAA4wBAAIAFAAMVW51c2VkIEN1cnZlAARMAQACABQADFVudXNlZCBDdXJ2ZQAFOQEAAgAUAAxVbnVzZWQgQ3VydmUABk4BAAIAFAAMVW51c2VkIEN1cnZlAAcjAQACABQADFVudXNlZCBDdXJ2ZQAIKQEAAgAUAAxVbnVzZWQgQ3VydmUACWABAAIAmgGkAQEBAgGamZmZmZmpPwAAZmZmZmZm7j8AAAUAAQEBAAEBAQA= | J22: 0 8 | K22: F1 0 1000 .95 | O22: 4 | P22: TRUE
A23: FIT_D6D60_D4C80 | B23: Dataset 6 | C23: ='Backyard(B2)'!$C$58:$C$63 -> #VALUE! | D23: 0 | E23: F1 0 0 -1E+300 1E+300 1 0 0 0 0 1 25 BetaGeneral Binomial Expon ExtValue ExtValueMin Gamma Geomet IntUniform InvGauss Kumaraswamy Laplace Levy Logistic LogLogistic Lognorm NegBin Normal Pareto Pearson5 Pearson6 Poisson Reciprocal Triang Uniform Weibull 0 1 -1 1 0 1 0 0 0 | F23: GF1_rK0qDwEAEAC7AQwjACYANAB1AIkAigCYAKYAlQG3AbEBKgD//wAEAAAAAQQAAAAAAAAAAAEcRml0IENvbXBhcmlzb24gZm9yIERhdGFzZXQgNgEfUmlza1VuaWZvcm0oLTAuMDEwODg1LDAuMDkwMDcxKQEBEAACAAEKU3RhdGlzdGljcwMBAQD/AQEBAQEAAQEBAAQAAAABAQEBAQABAQEABAAAAArFAAHUAADlAAD7AAARAQAnAQA9AQBTAQBpAQB/AQANAAVJbnB1dAAAJQEBAgAPAAdVbmlmb3JtAAEvAQACABQADFVudXNlZCBDdXJ2ZQACTwEAAgAUAAxVbnVzZWQgQ3VydmUAA4wBAAIAFAAMVW51c2VkIEN1cnZlAARMAQACABQADFVudXNlZCBDdXJ2ZQAFOQEAAgAUAAxVbnVzZWQgQ3VydmUABk4BAAIAFAAMVW51c2VkIEN1cnZlAAcjAQACABQADFVudXNlZCBDdXJ2ZQAIKQEAAgAUAAxVbnVzZWQgQ3VydmUACWABAAIAnQGnAQEBAgGamZmZmZmpPwAAZmZmZmZm7j8AAAUAAQEBAAEBAQA= | J23: 0 8 | K23: F1 0 1000 .95 | O23: 4 | P23: TRUE
A24: FIT_BD33C_5C54D | B24: Dataset 25 | C24: ='Backyard(B2)'!$U$58:$U$63 -> #VALUE! | D24: 0 | E24: F1 0 0 -1E+300 1E+300 1 0 0 0 0 1 25 BetaGeneral Binomial Expon ExtValue ExtValueMin Gamma Geomet IntUniform InvGauss Kumaraswamy Laplace Levy Logistic LogLogistic Lognorm NegBin Normal Pareto Pearson5 Pearson6 Poisson Reciprocal Triang Uniform Weibull 0 1 -1 1 0 1 0 0 0 | F24: GF1_rK0qDwEAEAC7AQwjACYANAB1AIkAigCYAKYAlQG3AbEBKgD//wAEAAAAAQQAAAAAAAAAAAEdRml0IENvbXBhcmlzb24gZm9yIERhdGFzZXQgMjUBHlJpc2tVbmlmb3JtKC0wLjAyMzE5OCwwLjEzOTE5KQEBEAACAAEKU3RhdGlzdGljcwMBAQD/AQEBAQEAAQEBAAQAAAABAQEBAQABAQEABAAAAArFAAHUAADlAAD7AAARAQAnAQA9AQBTAQBpAQB/AQANAAVJbnB1dAAAJQEBAgAPAAdVbmlmb3JtAAEvAQACABQADFVudXNlZCBDdXJ2ZQACTwEAAgAUAAxVbnVzZWQgQ3VydmUAA4wBAAIAFAAMVW51c2VkIEN1cnZlAARMAQACABQADFVudXNlZCBDdXJ2ZQAFOQEAAgAUAAxVbnVzZWQgQ3VydmUABk4BAAIAFAAMVW51c2VkIEN1cnZlAAcjAQACABQADFVudXNlZCBDdXJ2ZQAIKQEAAgAUAAxVbnVzZWQgQ3VydmUACWABAAIAnQGnAQEBAgGamZmZmZmpPwAAZmZmZmZm7j8AAAUAAQEBAAEBAQA= | J24: 0 8 | K24: F1 0 1000 .95 | O24: 4 | P24: TRUE
A25: FIT_EF691_DC267 | B25: Dataset 26 | C25: ='Backyard(B2)'!$O$45:$O$50 -> #VALUE! | D25: 0 | E25: F1 0 0 -1E+300 1E+300 1 0 0 0 0 1 25 BetaGeneral Binomial Expon ExtValue ExtValueMin Gamma Geomet IntUniform InvGauss Kumaraswamy Laplace Levy Logistic LogLogistic Lognorm NegBin Normal Pareto Pearson5 Pearson6 Poisson Reciprocal Triang Uniform Weibull 0 1 -1 1 0 1 0 0 0 | F25: GF1_rK0qDwEAEAC7AQwjACYANAB1AIkAigCYAKYAlQG3AbEBKgD//wAEAAAAAQQAAAAAAAAAAAEdRml0IENvbXBhcmlzb24gZm9yIERhdGFzZXQgMjYBHlJpc2tVbmlmb3JtKC0wLjAzMjA4NywwLjIxODY0KQEBEAACAAEKU3RhdGlzdGljcwMBAQD/AQEBAQEAAQEBAAQAAAABAQEBAQABAQEABAAAAArFAAHUAADlAAD7AAARAQAnAQA9AQBTAQBpAQB/AQANAAVJbnB1dAAAJQEBAgAPAAdVbmlmb3JtAAEvAQACABQADFVudXNlZCBDdXJ2ZQACTwEAAgAUAAxVbnVzZWQgQ3VydmUAA4wBAAIAFAAMVW51c2VkIEN1cnZlAARMAQACABQADFVudXNlZCBDdXJ2ZQAFOQEAAgAUAAxVbnVzZWQgQ3VydmUABk4BAAIAFAAMVW51c2VkIEN1cnZlAAcjAQACABQADFVudXNlZCBDdXJ2ZQAIKQEAAgAUAAxVbnVzZWQgQ3VydmUACWABAAIAnQGnAQEBAgGamZmZmZmpPwAAZmZmZmZm7j8AAAUAAQEBAAEBAQA= | J25: 0 8 | K25: F1 0 1000 .95 | O25: 4 | P25: TRUE
A26: FIT_EA509_1A89A | B26: Probability distribytion of total no. of birds population (N) 2 | C26: ='Backyard(B2)'!$B$13:$B$18 -> #VALUE! | D26: 0 | E26: F1 0 0 -1E+300 1E+300 1 0 0 0 0 1 25 BetaGeneral Binomial Expon ExtValue ExtValueMin Gamma Geomet IntUniform InvGauss Kumaraswamy Laplace Levy Logistic LogLogistic Lognorm NegBin Normal Pareto Pearson5 Pearson6 Poisson Reciprocal Triang Uniform Weibull 0 1 -1 1 0 1 0 0 0 | F26: GF1_rK0qDwEAEADuAQwjACYANACpAL0AvgDMANoAyAHqAeQBKgD//wAEAAAAAQQAAAAAAAAAAAFSRml0IENvbXBhcmlzb24gZm9yIFByb2JhYmlsaXR5IGRpc3RyaWJ5dGlvbiBvZiB0b3RhbCBuby4gb2YgYmlyZHMgcG9wdWxhdGlvbiAoTikgMgEdUmlza1BhcmV0bygwLjgzNTMwLDM0MjkzMDYuNCkBARAAAgABClN0YXRpc3RpY3MDAQEA/wEBAQEBAAEBAQAEAAAAAQEBAQEAAQEBAAQAAAAK+QABCAEAGAEALgEARAEAWgEAcAEAhgEAnAEAsgEADQAFSW5wdXQAACUBAQIADgAGUGFyZXRvAAEvAQACABQADFVudXNlZCBDdXJ2ZQACTwEAAgAUAAxVbnVzZWQgQ3VydmUAA4wBAAIAFAAMVW51c2VkIEN1cnZlAARMAQACABQADFVudXNlZCBDdXJ2ZQAFOQEAAgAUAAxVbnVzZWQgQ3VydmUABk4BAAIAFAAMVW51c2VkIEN1cnZlAAcjAQACABQADFVudXNlZCBDdXJ2ZQAIKQEAAgAUAAxVbnVzZWQgQ3VydmUACWABAAIA0AHaAQEBAgGamZmZmZmpPwAAZmZmZmZm7j8AAAUAAQEBAAEBAQA= | J26: 0 8 | K26: F1 0 1000 .95 | O26: 4 | P26: TRUE
A27: FIT_61C27_CF249 | B27: Probability distribution of Prevalence rates of H5N1 in each EW (P) 2 | C27: ='Backyard(B2)'!$B$23:$B$28 -> 0.38372078 | D27: 0 | E27: F1 0 0 -1E+300 1E+300 1 0 0 0 0 1 25 BetaGeneral Binomial Expon ExtValue ExtValueMin Gamma Geomet IntUniform InvGauss Kumaraswamy Laplace Levy Logistic LogLogistic Lognorm NegBin Normal Pareto Pearson5 Pearson6 Poisson Reciprocal Triang Uniform Weibull 0 1 -1 1 0 1 0 0 0 | F27: GF1_rK0qDwEAEAD8AQwjACYANACyAMYAxwDVAOMA1gH4AfIBKgD//wAEAAAAAQQAAAAAAAAAAAFYRml0IENvbXBhcmlzb24gZm9yIFByb2JhYmlsaXR5IGRpc3RyaWJ1dGlvbiBvZiBQcmV2YWxlbmNlIHJhdGVzIG9mIEg1TjEgaW4gZWFjaCBFVyAoUCkgMgEgUmlza0V4dFZhbHVlTWluKDAuNDQzMTMsMC4xMTk0OSkBARAAAgABClN0YXRpc3RpY3MDAQEA/wEBAQEBAAEBAQAEAAAAAQEBAQEAAQEBAAQAAAAKAgEBEQEAJgEAPAEAUgEAaAEAfgEAlAEAqgEAwAEADQAFSW5wdXQAACUBAQIAEwALRXh0VmFsdWVNaW4AAS8BAAIAFAAMVW51c2VkIEN1cnZlAAJPAQACABQADFVudXNlZCBDdXJ2ZQADjAEAAgAUAAxVbnVzZWQgQ3VydmUABEwBAAIAFAAMVW51c2VkIEN1cnZlAAU5AQACABQADFVudXNlZCBDdXJ2ZQAGTgEAAgAUAAxVbnVzZWQgQ3VydmUAByMBAAIAFAAMVW51c2VkIEN1cnZlAAgpAQACABQADFVudXNlZCBDdXJ2ZQAJYAEAAgDeAegBAQECAZqZmZmZmak/AABmZmZmZmbuPwAABQABAQEAAQEBAA== | J27: 0 8 | K27: F1 0 1000 .95 | O27: 4 | P27: TRUE
A28: FIT_BD2F9_729D0 | B28: Probability distribution of Prevalence rates of H5N1 in all breeding types in each EW (P1) | C28: ='Backyard(B2)'!$B$33:$B$38 -> #VALUE! | D28: 0 | E28: F1 0 0 -1E+300 1E+300 1 0 0 0 0 1 25 BetaGeneral Binomial Expon ExtValue ExtValueMin Gamma Geomet IntUniform InvGauss Kumaraswamy Laplace Levy Logistic LogLogistic Lognorm NegBin Normal Pareto Pearson5 Pearson6 Poisson Reciprocal Triang Uniform Weibull 0 1 -1 1 0 1 0 0 0 | F28: GF1_rK0qDwEAEAAMAgwjACYANADGANoA2wDpAPcA5gEIAgICKgD//wAEAAAAAQQAAAAAAAAAAAFtRml0IENvbXBhcmlzb24gZm9yIFByb2JhYmlsaXR5IGRpc3RyaWJ1dGlvbiBvZiBQcmV2YWxlbmNlIHJhdGVzIG9mIEg1TjEgaW4gYWxsIGJyZWVkaW5nIHR5cGVzIGluIGVhY2ggRVcgKFAxKQEfUmlza1VuaWZvcm0oLTAuMDA1ODMyOSwwLjQ5NzE1KQEBEAACAAEKU3RhdGlzdGljcwMBAQD/AQEBAQEAAQEBAAQAAAABAQEBAQABAQEABAAAAAoWAQElAQA2AQBMAQBiAQB4AQCOAQCkAQC6AQDQAQANAAVJbnB1dAAAJQEBAgAPAAdVbmlmb3JtAAEvAQACABQADFVudXNlZCBDdXJ2ZQACTwEAAgAUAAxVbnVzZWQgQ3VydmUAA4wBAAIAFAAMVW51c2VkIEN1cnZlAARMAQACABQADFVudXNlZCBDdXJ2ZQAFOQEAAgAUAAxVbnVzZWQgQ3VydmUABk4BAAIAFAAMVW51c2VkIEN1cnZlAAcjAQACABQADFVudXNlZCBDdXJ2ZQAIKQEAAgAUAAxVbnVzZWQgQ3VydmUACWABAAIA7gH4AQEBAgGamZmZmZmpPwAAZmZmZmZm7j8AAAUAAQEBAAEBAQA= | J28: 0 8 | K28: F1 0 1000 .95 | O28: 4 | P28: TRUE
A29: FIT_639C0_DE098 | B29: Probability distribution of H5N1 in domastic chicken in backyard (P2) | C29: ='Backyard(B2)'!$B$45:$B$50 -> #VALUE! | D29: 0 | E29: F1 0 0 -1E+300 1E+300 1 0 0 0 0 1 25 BetaGeneral Binomial Expon ExtValue ExtValueMin Gamma Geomet IntUniform InvGauss Kumaraswamy Laplace Levy Logistic LogLogistic Lognorm NegBin Normal Pareto Pearson5 Pearson6 Poisson Reciprocal Triang Uniform Weibull 0 1 -1 1 0 1 0 0 0 | F29: GF1_rK0qDwEAEAD2AQwjACYANACwAMQAxQDTAOEA0AHyAewBKgD//wAEAAAAAQQAAAAAAAAAAAFYRml0IENvbXBhcmlzb24gZm9yIFByb2JhYmlsaXR5IGRpc3RyaWJ1dGlvbiBvZiBINU4xIGluIGRvbWFzdGljIGNoaWNrZW4gaW4gYmFja3lhcmQgKFAyKQEeUmlza1VuaWZvcm0oLTAuMDIzNDA3LDAuMjU1OTgpAQEQAAIAAQpTdGF0aXN0aWNzAwEBAP8BAQEBAQABAQEABAAAAAEBAQEBAAEBAQAEAAAACgABAQ8BACABADYBAEwBAGIBAHgBAI4BAKQBALoBAA0ABUlucHV0AAAlAQECAA8AB1VuaWZvcm0AAS8BAAIAFAAMVW51c2VkIEN1cnZlAAJPAQACABQADFVudXNlZCBDdXJ2ZQADjAEAAgAUAAxVbnVzZWQgQ3VydmUABEwBAAIAFAAMVW51c2VkIEN1cnZlAAU5AQACABQADFVudXNlZCBDdXJ2ZQAGTgEAAgAUAAxVbnVzZWQgQ3VydmUAByMBAAIAFAAMVW51c2VkIEN1cnZlAAgpAQACABQADFVudXNlZCBDdXJ2ZQAJYAEAAgDYAeIBAQECAZqZmZmZmak/AABmZmZmZmbuPwAABQABAQEAAQEBAA== | J29: 0 8 | K29: F1 0 1000 .95 | O29: 4 | P29: TRUE
A30: FIT_D0C47_4AF8D | B30: Probability distribution of H5N1 in mixed birds in backyard (P3) | C30: ='Backyard(B2)'!$O$45:$O$50 -> #VALUE! | D30: 0 | E30: F1 0 0 -1E+300 1E+300 1 0 0 0 0 1 25 BetaGeneral Binomial Expon ExtValue ExtValueMin Gamma Geomet IntUniform InvGauss Kumaraswamy Laplace Levy Logistic LogLogistic Lognorm NegBin Normal Pareto Pearson5 Pearson6 Poisson Reciprocal Triang Uniform Weibull 0 1 -1 1 0 1 0 0 0 | F30: GF1_rK0qDwEAEADxAQwjACYANACrAL8AwADOANwAywHtAecBKgD//wAEAAAAAQQAAAAAAAAAAAFTRml0IENvbXBhcmlzb24gZm9yIFByb2JhYmlsaXR5IGRpc3RyaWJ1dGlvbiBvZiBINU4xIGluIG1peGVkIGJpcmRzIGluIGJhY2t5YXJkIChQMykBHlJpc2tVbmlmb3JtKC0wLjAzMjA4NywwLjIxODY0KQEBEAACAAEKU3RhdGlzdGljcwMBAQD/AQEBAQEAAQEBAAQAAAABAQEBAQABAQEABAAAAAr7AAEKAQAbAQAxAQBHAQBdAQBzAQCJAQCfAQC1AQANAAVJbnB1dAAAJQEBAgAPAAdVbmlmb3JtAAEvAQACABQADFVudXNlZCBDdXJ2ZQACTwEAAgAUAAxVbnVzZWQgQ3VydmUAA4wBAAIAFAAMVW51c2VkIEN1cnZlAARMAQACABQADFVudXNlZCBDdXJ2ZQAFOQEAAgAUAAxVbnVzZWQgQ3VydmUABk4BAAIAFAAMVW51c2VkIEN1cnZlAAcjAQACABQADFVudXNlZCBDdXJ2ZQAIKQEAAgAUAAxVbnVzZWQgQ3VydmUACWABAAIA0wHdAQEBAgGamZmZmZmpPwAAZmZmZmZm7j8AAAUAAQEBAAEBAQA= | J30: 0 8 | K30: F1 0 1000 .95 | O30: 4 | P30: TRUE
A31: FIT_D178D_299C5 | B31: Probability distribution of H5N1 in reservoir birds in backyard (P4) | C31: ='Backyard(B2)'!$AB$45:$AB$50 -> #VALUE! | D31: 0 | E31: F1 0 0 -1E+300 1E+300 1 0 0 0 0 1 25 BetaGeneral Binomial Expon ExtValue ExtValueMin Gamma Geomet IntUniform InvGauss Kumaraswamy Laplace Levy Logistic LogLogistic Lognorm NegBin Normal Pareto Pearson5 Pearson6 Poisson Reciprocal Triang Uniform Weibull 0 1 -1 1 0 1 0 0 0 | F31: GF1_rK0qDwEAEAD9AQwjACYANAC5AM0AzgDcAOoA1wH5AfMBKgD//wAEAAAAAQQAAAAAAAAAAAFXRml0IENvbXBhcmlzb24gZm9yIFByb2JhYmlsaXR5IGRpc3RyaWJ1dGlvbiBvZiBINU4xIGluIHJlc2Vydm9pciBiaXJkcyBpbiBiYWNreWFyZCAoUDQpAShSaXNrRXhwb24oMC4wNjc4NTYsUmlza1NoaWZ0KC0wLjAxMTMwOSkpAQEQAAIAAQpTdGF0aXN0aWNzAwEBAP8BAQEBAQABAQEABAAAAAEBAQEBAAEBAQAEAAAACgkBARgBACcBAD0BAFMBAGkBAH8BAJUBAKsBAMEBAA0ABUlucHV0AAAlAQECAA0ABUV4cG9uAAEvAQACABQADFVudXNlZCBDdXJ2ZQACTwEAAgAUAAxVbnVzZWQgQ3VydmUAA4wBAAIAFAAMVW51c2VkIEN1cnZlAARMAQACABQADFVudXNlZCBDdXJ2ZQAFOQEAAgAUAAxVbnVzZWQgQ3VydmUABk4BAAIAFAAMVW51c2VkIEN1cnZlAAcjAQACABQADFVudXNlZCBDdXJ2ZQAIKQEAAgAUAAxVbnVzZWQgQ3VydmUACWABAAIA3wHpAQEBAgGamZmZmZmpPwAAZmZmZmZm7j8AAAUAAQEBAAEBAQA= | J31: 0 8 | K31: F1 0 1000 .95 | O31: 4 | P31: TRUE
A32: FIT_3320B_2FBBB | B32: Probability distribution of H5N1 in reservoir birds in backyard (P4) 2 | C32: ='Backyard(B2)'!$AB$45:$AB$50 -> #VALUE! | D32: 0 | E32: F1 0 0 -1E+300 1E+300 1 0 0 0 0 1 25 BetaGeneral Binomial Expon ExtValue ExtValueMin Gamma Geomet IntUniform InvGauss Kumaraswamy Laplace Levy Logistic LogLogistic Lognorm NegBin Normal Pareto Pearson5 Pearson6 Poisson Reciprocal Triang Uniform Weibull 0 1 -1 1 0 1 0 0 0 | F32: GF1_rK0qDwEAEAD/AQwjACYANAC7AM8A0ADeAOwA2QH7AfUBKgD//wAEAAAAAQQAAAAAAAAAAAFZRml0IENvbXBhcmlzb24gZm9yIFByb2JhYmlsaXR5IGRpc3RyaWJ1dGlvbiBvZiBINU4xIGluIHJlc2Vydm9pciBiaXJkcyBpbiBiYWNreWFyZCAoUDQpIDIBKFJpc2tFeHBvbigwLjA2Nzg1NixSaXNrU2hpZnQoLTAuMDExMzA5KSkBARAAAgABClN0YXRpc3RpY3MDAQEA/wEBAQEBAAEBAQAEAAAAAQEBAQEAAQEBAAQAAAAKCwEBGgEAKQEAPwEAVQEAawEAgQEAlwEArQEAwwEADQAFSW5wdXQAACUBAQIADQAFRXhwb24AAS8BAAIAFAAMVW51c2VkIEN1cnZlAAJPAQACABQADFVudXNlZCBDdXJ2ZQADjAEAAgAUAAxVbnVzZWQgQ3VydmUABEwBAAIAFAAMVW51c2VkIEN1cnZlAAU5AQACABQADFVudXNlZCBDdXJ2ZQAGTgEAAgAUAAxVbnVzZWQgQ3VydmUAByMBAAIAFAAMVW51c2VkIEN1cnZlAAgpAQACABQADFVudXNlZCBDdXJ2ZQAJYAEAAgDhAesBAQECAZqZmZmZmak/AABmZmZmZmbuPwAABQABAQEAAQEBAA== | J32: 0 8 | K32: F1 0 1000 .95 | O32: 4 | P32: TRUE
A33: FIT_6A29D_305F3 | B33: Probability distribution of H5N1 in domestic chicken after passive surveillance in backyard (P5) | C33: ='Backyard(B2)'!$C$58:$C$63 -> #VALUE! | D33: 0 | E33: F1 0 0 -1E+300 1E+300 1 0 0 0 0 1 25 BetaGeneral Binomial Expon ExtValue ExtValueMin Gamma Geomet IntUniform InvGauss Kumaraswamy Laplace Levy Logistic LogLogistic Lognorm NegBin Normal Pareto Pearson5 Pearson6 Poisson Reciprocal Triang Uniform Weibull 0 1 -1 1 0 1 0 0 0 | F33: GF1_rK0qDwEAEAASAgwjACYANADMAOAA4QDvAP0A7AEOAggCKgD//wAEAAAAAQQAAAAAAAAAAAFzRml0IENvbXBhcmlzb24gZm9yIFByb2JhYmlsaXR5IGRpc3RyaWJ1dGlvbiBvZiBINU4xIGluIGRvbWVzdGljIGNoaWNrZW4gYWZ0ZXIgcGFzc2l2ZSBzdXJ2ZWlsbGFuY2UgaW4gYmFja3lhcmQgKFA1KQEfUmlza1VuaWZvcm0oLTAuMDEwODg1LDAuMDkwMDcxKQEBEAACAAEKU3RhdGlzdGljcwMBAQD/AQEBAQEAAQEBAAQAAAABAQEBAQABAQEABAAAAAocAQErAQA8AQBSAQBoAQB+AQCUAQCqAQDAAQDWAQANAAVJbnB1dAAAJQEBAgAPAAdVbmlmb3JtAAEvAQACABQADFVudXNlZCBDdXJ2ZQACTwEAAgAUAAxVbnVzZWQgQ3VydmUAA4wBAAIAFAAMVW51c2VkIEN1cnZlAARMAQACABQADFVudXNlZCBDdXJ2ZQAFOQEAAgAUAAxVbnVzZWQgQ3VydmUABk4BAAIAFAAMVW51c2VkIEN1cnZlAAcjAQACABQADFVudXNlZCBDdXJ2ZQAIKQEAAgAUAAxVbnVzZWQgQ3VydmUACWABAAIA9AH+AQEBAgGamZmZmZmpPwAAZmZmZmZm7j8AAAUAAQEBAAEBAQA= | J33: 0 8 | K33: F1 0 1000 .95 | O33: 4 | P33: TRUE
A34: FIT_A3643_F018F | B34: Probability distribution of H5N1 in domestic chicken after active surveillance in backyard (P6) | C34: ='Backyard(B2)'!$I$58:$I$63 -> #VALUE! | D34: 0 | E34: F1 0 0 -1E+300 1E+300 1 0 0 0 0 1 25 BetaGeneral Binomial Expon ExtValue ExtValueMin Gamma Geomet IntUniform InvGauss Kumaraswamy Laplace Levy Logistic LogLogistic Lognorm NegBin Normal Pareto Pearson5 Pearson6 Poisson Reciprocal Triang Uniform Weibull 0 1 -1 1 0 1 0 0 0 | F34: GF1_rK0qDwEAEAANAgwjACYANADIANwA3QDrAPkA5wEJAgMCKgD//wAEAAAAAQQAAAAAAAAAAAFyRml0IENvbXBhcmlzb24gZm9yIFByb2JhYmlsaXR5IGRpc3RyaWJ1dGlvbiBvZiBINU4xIGluIGRvbWVzdGljIGNoaWNrZW4gYWZ0ZXIgYWN0aXZlIHN1cnZlaWxsYW5jZSBpbiBiYWNreWFyZCAoUDYpARxSaXNrUGFyZXRvKDAuNzY0ODYsMC4wMTI5NjgpAQEQAAIAAQpTdGF0aXN0aWNzAwEBAP8BAQEBAQABAQEABAAAAAEBAQEBAAEBAQAEAAAAChgBAScBADcBAE0BAGMBAHkBAI8BAKUBALsBANEBAA0ABUlucHV0AAAlAQECAA4ABlBhcmV0bwABLwEAAgAUAAxVbnVzZWQgQ3VydmUAAk8BAAIAFAAMVW51c2VkIEN1cnZlAAOMAQACABQADFVudXNlZCBDdXJ2ZQAETAEAAgAUAAxVbnVzZWQgQ3VydmUABTkBAAIAFAAMVW51c2VkIEN1cnZlAAZOAQACABQADFVudXNlZCBDdXJ2ZQAHIwEAAgAUAAxVbnVzZWQgQ3VydmUACCkBAAIAFAAMVW51c2VkIEN1cnZlAAlgAQACAO8B+QEBAQIBmpmZmZmZqT8AAGZmZmZmZu4/AAAFAAEBAQABAQEA | J34: 0 8 | K34: F1 0 1000 .95 | O34: 4 | P34: TRUE
A35: FIT_6086F_5BB48 | B35: Probability distribution of HPAI H5N1 in mixed birds after passive surveillance in backyard (P7) | C35: ='Backyard(B2)'!$O$58:$O$63 -> #VALUE! | D35: 0 | E35: F1 0 0 -1E+300 1E+300 1 0 0 0 0 1 25 BetaGeneral Binomial Expon ExtValue ExtValueMin Gamma Geomet IntUniform InvGauss Kumaraswamy Laplace Levy Logistic LogLogistic Lognorm NegBin Normal Pareto Pearson5 Pearson6 Poisson Reciprocal Triang Uniform Weibull 0 1 -1 1 0 1 0 0 0 | F35: GF1_rK0qDwEAEAAPAgwjACYANADKAN4A3wDtAPsA6QELAgUCKgD//wAEAAAAAQQAAAAAAAAAAAFzRml0IENvbXBhcmlzb24gZm9yIFByb2JhYmlsaXR5IGRpc3RyaWJ1dGlvbiBvZiBIUEFJIEg1TjEgaW4gbWl4ZWQgYmlyZHMgYWZ0ZXIgcGFzc2l2ZSBzdXJ2ZWlsbGFuY2UgaW4gYmFja3lhcmQgKFA3KQEdUmlza1BhcmV0bygwLjUxNDgxLDAuMDAyMzU3OSkBARAAAgABClN0YXRpc3RpY3MDAQEA/wEBAQEBAAEBAQAEAAAAAQEBAQEAAQEBAAQAAAAKGgEBKQEAOQEATwEAZQEAewEAkQEApwEAvQEA0wEADQAFSW5wdXQAACUBAQIADgAGUGFyZXRvAAEvAQACABQADFVudXNlZCBDdXJ2ZQACTwEAAgAUAAxVbnVzZWQgQ3VydmUAA4wBAAIAFAAMVW51c2VkIEN1cnZlAARMAQACABQADFVudXNlZCBDdXJ2ZQAFOQEAAgAUAAxVbnVzZWQgQ3VydmUABk4BAAIAFAAMVW51c2VkIEN1cnZlAAcjAQACABQADFVudXNlZCBDdXJ2ZQAIKQEAAgAUAAxVbnVzZWQgQ3VydmUACWABAAIA8QH7AQEBAgGamZmZmZmpPwAAZmZmZmZm7j8AAAUAAQEBAAEBAQA= | J35: 0 8 | K35: F1 0 1000 .95 | O35: 4 | P35: TRUE
A36: FIT_164AA_7AC87 | B36: Probability distribution of HPAI H5N1 in mixed birds after active surveillance in backyard (P8) | C36: ='Backyard(B2)'!$U$58:$U$63 -> #VALUE! | D36: 0 | E36: F1 0 0 -1E+300 1E+300 1 0 0 0 0 1 25 BetaGeneral Binomial Expon ExtValue ExtValueMin Gamma Geomet IntUniform InvGauss Kumaraswamy Laplace Levy Logistic LogLogistic Lognorm NegBin Normal Pareto Pearson5 Pearson6 Poisson Reciprocal Triang Uniform Weibull 0 1 -1 1 0 1 0 0 0 | F36: GF1_rK0qDwEAEAAQAgwjACYANADKAN4A3wDtAPsA6gEMAgYCKgD//wAEAAAAAQQAAAAAAAAAAAFyRml0IENvbXBhcmlzb24gZm9yIFByb2JhYmlsaXR5IGRpc3RyaWJ1dGlvbiBvZiBIUEFJIEg1TjEgaW4gbWl4ZWQgYmlyZHMgYWZ0ZXIgYWN0aXZlIHN1cnZlaWxsYW5jZSBpbiBiYWNreWFyZCAoUDgpAR5SaXNrVW5pZm9ybSgtMC4wMjMxOTgsMC4xMzkxOSkBARAAAgABClN0YXRpc3RpY3MDAQEA/wEBAQEBAAEBAQAEAAAAAQEBAQEAAQEBAAQAAAAKGgEBKQEAOgEAUAEAZgEAfAEAkgEAqAEAvgEA1AEADQAFSW5wdXQAACUBAQIADwAHVW5pZm9ybQABLwEAAgAUAAxVbnVzZWQgQ3VydmUAAk8BAAIAFAAMVW51c2VkIEN1cnZlAAOMAQACABQADFVudXNlZCBDdXJ2ZQAETAEAAgAUAAxVbnVzZWQgQ3VydmUABTkBAAIAFAAMVW51c2VkIEN1cnZlAAZOAQACABQADFVudXNlZCBDdXJ2ZQAHIwEAAgAUAAxVbnVzZWQgQ3VydmUACCkBAAIAFAAMVW51c2VkIEN1cnZlAAlgAQACAPIB/AEBAQIBmpmZmZmZqT8AAGZmZmZmZu4/AAAFAAEBAQABAQEA | J36: 0 8 | K36: F1 0 1000 .95 | O36: 4 | P36: TRUE
A37: FIT_B2C2A_92E | B37: Probability distribution of HPAI H5N1 in reservoir birds after passive surveillance in backyard (P9) | C37: ='Backyard(B2)'!$AB$58:$AB$63 -> #VALUE! | D37: 0 | E37: F1 0 0 -1E+300 1E+300 1 0 0 0 0 1 25 BetaGeneral Binomial Expon ExtValue ExtValueMin Gamma Geomet IntUniform InvGauss Kumaraswamy Laplace Levy Logistic LogLogistic Lognorm NegBin Normal Pareto Pearson5 Pearson6 Poisson Reciprocal Triang Uniform Weibull 0 1 -1 1 0 1 0 0 0 | F37: GF1_rK0qDwEAEAAfAgwjACYANADbAO8A8AD+AAwB+QEbAhUCKgD//wAEAAAAAQQAAAAAAAAAAAF3Rml0IENvbXBhcmlzb24gZm9yIFByb2JhYmlsaXR5IGRpc3RyaWJ1dGlvbiBvZiBIUEFJIEg1TjEgaW4gcmVzZXJ2b2lyIGJpcmRzIGFmdGVyIHBhc3NpdmUgc3VydmVpbGxhbmNlIGluIGJhY2t5YXJkIChQOSkBKlJpc2tFeHBvbigwLjAwODAwNDEsUmlza1NoaWZ0KC0wLjAwMTMzNDApKQEBEAACAAEKU3RhdGlzdGljcwMBAQD/AQEBAQEAAQEBAAQAAAABAQEBAQABAQEABAAAAAorAQE6AQBJAQBfAQB1AQCLAQChAQC3AQDNAQDjAQANAAVJbnB1dAAAJQEBAgANAAVFeHBvbgABLwEAAgAUAAxVbnVzZWQgQ3VydmUAAk8BAAIAFAAMVW51c2VkIEN1cnZlAAOMAQACABQADFVudXNlZCBDdXJ2ZQAETAEAAgAUAAxVbnVzZWQgQ3VydmUABTkBAAIAFAAMVW51c2VkIEN1cnZlAAZOAQACABQADFVudXNlZCBDdXJ2ZQAHIwEAAgAUAAxVbnVzZWQgQ3VydmUACCkBAAIAFAAMVW51c2VkIEN1cnZlAAlgAQACAAECCwIBAQIBmpmZmZmZqT8AAGZmZmZmZu4/AAAFAAEBAQABAQEA | J37: 0 8 | K37: F1 0 1000 .95 | O37: 4 | P37: TRUE
A38: FIT_87B8D_B07A6 | B38: Probability distribution of HPAI H5N1 in reservoir birds after active surveillance in backyard (P10) | C38: ='Backyard(B2)'!$AG$58:$AG$63 -> #VALUE! | D38: 0 | E38: F1 0 0 -1E+300 1E+300 1 0 0 0 0 1 25 BetaGeneral Binomial Expon ExtValue ExtValueMin Gamma Geomet IntUniform InvGauss Kumaraswamy Laplace Levy Logistic LogLogistic Lognorm NegBin Normal Pareto Pearson5 Pearson6 Poisson Reciprocal Triang Uniform Weibull 0 1 -1 1 0 1 0 0 0 | F38: GF1_rK0qDwEAEAAeAgwjACYANADaAO4A7wD9AAsB+AEaAhQCKgD//wAEAAAAAQQAAAAAAAAAAAF3Rml0IENvbXBhcmlzb24gZm9yIFByb2JhYmlsaXR5IGRpc3RyaWJ1dGlvbiBvZiBIUEFJIEg1TjEgaW4gcmVzZXJ2b2lyIGJpcmRzIGFmdGVyIGFjdGl2ZSBzdXJ2ZWlsbGFuY2UgaW4gYmFja3lhcmQgKFAxMCkBKVJpc2tFeHBvbigwLjA1OTg1MixSaXNrU2hpZnQoLTAuMDA5OTc1MykpAQEQAAIAAQpTdGF0aXN0aWNzAwEBAP8BAQEBAQABAQEABAAAAAEBAQEBAAEBAQAEAAAACioBATkBAEgBAF4BAHQBAIoBAKABALYBAMwBAOIBAA0ABUlucHV0AAAlAQECAA0ABUV4cG9uAAEvAQACABQADFVudXNlZCBDdXJ2ZQACTwEAAgAUAAxVbnVzZWQgQ3VydmUAA4wBAAIAFAAMVW51c2VkIEN1cnZlAARMAQACABQADFVudXNlZCBDdXJ2ZQAFOQEAAgAUAAxVbnVzZWQgQ3VydmUABk4BAAIAFAAMVW51c2VkIEN1cnZlAAcjAQACABQADFVudXNlZCBDdXJ2ZQAIKQEAAgAUAAxVbnVzZWQgQ3VydmUACWABAAIAAAIKAgEBAgGamZmZmZmpPwAAZmZmZmZm7j8AAAUAAQEBAAEBAQA= | J38: 0 8 | K38: F1 0 1000 .95 | O38: 4 | P38: TRUE
A39: FIT_92756_E5A32 | B39: Probability distribution of prevalence rates of H5N1 due to missed vaccination in farm (P2) | C39: ='FARM(B1)'!$C$37:$C$42 -> 0.099722221 | D39: 0 | E39: F1 0 0 -1E+300 1E+300 1 0 0 0 0 1 25 BetaGeneral Binomial Expon ExtValue ExtValueMin Gamma Geomet IntUniform InvGauss Kumaraswamy Laplace Levy Logistic LogLogistic Lognorm NegBin Normal Pareto Pearson5 Pearson6 Poisson Reciprocal Triang Uniform Weibull 0 1 -1 1 0 1 0 0 0 | F39: GF1_rK0qDwEAEAALAgwjACYANADFANkA2gDoAPYA5QEHAgECKgD//wAAAAAAAQQAAAAAAAAAAAFuRml0IENvbXBhcmlzb24gZm9yIFByb2JhYmlsaXR5IGRpc3RyaWJ1dGlvbiBvZiBwcmV2YWxlbmNlIHJhdGVzIG9mIEg1TjEgZHVlIHRvIG1pc3NlZCB2YWNjaW5hdGlvbiBpbiBmYXJtIChQMikBHVJpc2tMYXBsYWNlKDAuMTAyNjksMC4wNTM3NTApAQEQAAIAAQpTdGF0aXN0aWNzAwEBAP8BAQEBAQABAQEABAAAAAEBAQEBAAEBAQAEAAAAChUBASQBADUBAEsBAGEBAHcBAI0BAKMBALkBAM8BAA0ABUlucHV0AAAlAQECAA8AB0xhcGxhY2UAAS8BAAIAFAAMVW51c2VkIEN1cnZlAAJPAQACABQADFVudXNlZCBDdXJ2ZQADjAEAAgAUAAxVbnVzZWQgQ3VydmUABEwBAAIAFAAMVW51c2VkIEN1cnZlAAU5AQACABQADFVudXNlZCBDdXJ2ZQAGTgEAAgAUAAxVbnVzZWQgQ3VydmUAByMBAAIAFAAMVW51c2VkIEN1cnZlAAgpAQACABQADFVudXNlZCBDdXJ2ZQAJYAEAAgDtAfcBAQECAZqZmZmZmak/AABmZmZmZmbuPwAABQABAQEAAQEBAA== | J39: 0 8 | K39: F1 0 1000 .95 | O39: 4 | P39: TRUE
A40: FIT_D045D_63AC0 | B40: Probability distribytion of total no. of birds population (N) | C40: ='FARM(B1)'!$B$13:$B$18 -> #VALUE! | D40: 0 | E40: F1 0 0 -1E+300 1E+300 1 0 0 0 0 1 25 BetaGeneral Binomial Expon ExtValue ExtValueMin Gamma Geomet IntUniform InvGauss Kumaraswamy Laplace Levy Logistic LogLogistic Lognorm NegBin Normal Pareto Pearson5 Pearson6 Poisson Reciprocal Triang Uniform Weibull 0 1 -1 1 0 1 0 0 0 | F40: GF1_rK0qDwEAEADsAQwjACYANACnALsAvADKANgAxgHoAeIBKgD//wAEAAAAAQQAAAAAAAAAAAFQRml0IENvbXBhcmlzb24gZm9yIFByb2JhYmlsaXR5IGRpc3RyaWJ5dGlvbiBvZiB0b3RhbCBuby4gb2YgYmlyZHMgcG9wdWxhdGlvbiAoTikBHVJpc2tQYXJldG8oMC43Mjg5OCwzNzQ5Mzc1LjApAQEQAAIAAQpTdGF0aXN0aWNzAwEBAP8BAQEBAQABAQEABAAAAAEBAQEBAAEBAQAEAAAACvcAAQYBABYBACwBAEIBAFgBAG4BAIQBAJoBALABAA0ABUlucHV0AAAlAQECAA4ABlBhcmV0bwABLwEAAgAUAAxVbnVzZWQgQ3VydmUAAk8BAAIAFAAMVW51c2VkIEN1cnZlAAOMAQACABQADFVudXNlZCBDdXJ2ZQAETAEAAgAUAAxVbnVzZWQgQ3VydmUABTkBAAIAFAAMVW51c2VkIEN1cnZlAAZOAQACABQADFVudXNlZCBDdXJ2ZQAHIwEAAgAUAAxVbnVzZWQgQ3VydmUACCkBAAIAFAAMVW51c2VkIEN1cnZlAAlgAQACAM4B2AEBAQIBmpmZmZmZqT8AAGZmZmZmZu4/AAAFAAEBAQABAQEA | J40: 0 8 | K40: F1 0 1000 .95 | O40: 4 | P40: TRUE
A41: FIT_53DED_95A49 | B41: Prevalence rates of H5N1 infected birds (P) | C41: ='FARM(B1)'!$B$23:$B$28 -> #VALUE! | D41: 0 | E41: F1 0 0 -1E+300 1E+300 1 0 0 0 0 1 25 BetaGeneral Binomial Expon ExtValue ExtValueMin Gamma Geomet IntUniform InvGauss Kumaraswamy Laplace Levy Logistic LogLogistic Lognorm NegBin Normal Pareto Pearson5 Pearson6 Poisson Reciprocal Triang Uniform Weibull 0 1 -1 1 0 1 0 0 0 | F41: GF1_rK0qDwEAEADiAQwjACYANACYAKwArQC7AMkAvAHeAdgBKgD//wAEAAAAAQQAAAAAAAAAAAE+Rml0IENvbXBhcmlzb24gZm9yIFByZXZhbGVuY2UgcmF0ZXMgb2YgSDVOMSBpbmZlY3RlZCBiaXJkcyAoUCkBIFJpc2tFeHRWYWx1ZU1pbigwLjQ0MzEzLDAuMTE5NDkpAQEQAAIAAQpTdGF0aXN0aWNzAwEBAP8BAQEBAQABAQEABAAAAAEBAQEBAAEBAQAEAAAACugAAfcAAAwBACIBADgBAE4BAGQBAHoBAJABAKYBAA0ABUlucHV0AAAlAQECABMAC0V4dFZhbHVlTWluAAEvAQACABQADFVudXNlZCBDdXJ2ZQACTwEAAgAUAAxVbnVzZWQgQ3VydmUAA4wBAAIAFAAMVW51c2VkIEN1cnZlAARMAQACABQADFVudXNlZCBDdXJ2ZQAFOQEAAgAUAAxVbnVzZWQgQ3VydmUABk4BAAIAFAAMVW51c2VkIEN1cnZlAAcjAQACABQADFVudXNlZCBDdXJ2ZQAIKQEAAgAUAAxVbnVzZWQgQ3VydmUACWABAAIAxAHOAQEBAgGamZmZmZmpPwAAZmZmZmZm7j8AAAUAAQEBAAEBAQA= | J41: 0 8 | K41: F1 0 1000 .95 | O41: 4 | P41: TRUE
A42: FIT_B0D4A_4CDC2 | B42: Prevalence rates of H5N1 due to missed vaccination in farm (P2) | C42: ='FARM(B1)'!$C$37:$C$42 -> 0.01650535 | D42: 0 | E42: F1 0 0 -1E+300 1E+300 1 0 0 0 0 1 25 BetaGeneral Binomial Expon ExtValue ExtValueMin Gamma Geomet IntUniform InvGauss Kumaraswamy Laplace Levy Logistic LogLogistic Lognorm NegBin Normal Pareto Pearson5 Pearson6 Poisson Reciprocal Triang Uniform Weibull 0 1 -1 1 0 1 0 0 0 | F42: GF1_rK0qDwEAEADvAQwjACYANACpAL0AvgDMANoAyQHrAeUBKgD//wAEAAAAAQQAAAAAAAAAAAFSRml0IENvbXBhcmlzb24gZm9yIFByZXZhbGVuY2UgcmF0ZXMgb2YgSDVOMSBkdWUgdG8gbWlzc2VkIHZhY2NpbmF0aW9uIGluIGZhcm0gKFAyKQEdUmlza0xhcGxhY2UoMC4xMDI2OSwwLjA1Mzc1MCkBARAAAgABClN0YXRpc3RpY3MDAQEA/wEBAQEBAAEBAQAEAAAAAQEBAQEAAQEBAAQAAAAK+QABCAEAGQEALwEARQEAWwEAcQEAhwEAnQEAswEADQAFSW5wdXQAACUBAQIADwAHTGFwbGFjZQABLwEAAgAUAAxVbnVzZWQgQ3VydmUAAk8BAAIAFAAMVW51c2VkIEN1cnZlAAOMAQACABQADFVudXNlZCBDdXJ2ZQAETAEAAgAUAAxVbnVzZWQgQ3VydmUABTkBAAIAFAAMVW51c2VkIEN1cnZlAAZOAQACABQADFVudXNlZCBDdXJ2ZQAHIwEAAgAUAAxVbnVzZWQgQ3VydmUACCkBAAIAFAAMVW51c2VkIEN1cnZlAAlgAQACANEB2wEBAQIBmpmZmZmZqT8AAGZmZmZmZu4/AAAFAAEBAQABAQEA | J42: 0 8 | K42: F1 0 1000 .95 | O42: 4 | P42: TRUE
A43: FIT_D0BA7_EB9E8 | B43: Prevalence rates of H5N1 due to missed passive surveillance in farm (P3) | C43: ='FARM(B1)'!$C$54:$C$59 -> #VALUE! | D43: 0 | E43: F1 0 0 -1E+300 1E+300 1 0 0 0 0 1 25 BetaGeneral Binomial Expon ExtValue ExtValueMin Gamma Geomet IntUniform InvGauss Kumaraswamy Laplace Levy Logistic LogLogistic Lognorm NegBin Normal Pareto Pearson5 Pearson6 Poisson Reciprocal Triang Uniform Weibull 0 1 -1 1 0 1 0 0 0 | F43: GF1_rK0qDwEAEAAEAgwjACYANADAANQA1QDjAPEA3gEAAvoBKgD//wAEAAAAAQQAAAAAAAAAAAFdRml0IENvbXBhcmlzb24gZm9yIFByZXZhbGVuY2UgcmF0ZXMgb2YgSDVOMSBkdWUgdG8gIG1pc3NlZCBwYXNzaXZlIHN1cnZlaWxsYW5jZSBpbiBmYXJtICAoUDMpASlSaXNrRXhwb24oMC4wMjQ3NjksUmlza1NoaWZ0KC0wLjAwNDEyODEpKQEBEAACAAEKU3RhdGlzdGljcwMBAQD/AQEBAQEAAQEBAAQAAAABAQEBAQABAQEABAAAAAoQAQEfAQAuAQBEAQBaAQBwAQCGAQCcAQCyAQDIAQANAAVJbnB1dAAAJQEBAgANAAVFeHBvbgABLwEAAgAUAAxVbnVzZWQgQ3VydmUAAk8BAAIAFAAMVW51c2VkIEN1cnZlAAOMAQACABQADFVudXNlZCBDdXJ2ZQAETAEAAgAUAAxVbnVzZWQgQ3VydmUABTkBAAIAFAAMVW51c2VkIEN1cnZlAAZOAQACABQADFVudXNlZCBDdXJ2ZQAHIwEAAgAUAAxVbnVzZWQgQ3VydmUACCkBAAIAFAAMVW51c2VkIEN1cnZlAAlgAQACAOYB8AEBAQIBmpmZmZmZqT8AAGZmZmZmZu4/AAAFAAEBAQABAQEA | J43: 0 8 | K43: F1 0 1000 .95 | O43: 4 | P43: TRUE
A44: FIT_5BDE6_C8BC3 | B44: Prevalence rates of H5N1 due to missed active surveillance in farm (P4) | C44: ='FARM(B1)'!$I$54:$I$59 -> #VALUE! | D44: 0 | E44: F1 0 0 -1E+300 1E+300 1 0 0 0 0 1 25 BetaGeneral Binomial Expon ExtValue ExtValueMin Gamma Geomet IntUniform InvGauss Kumaraswamy Laplace Levy Logistic LogLogistic Lognorm NegBin Normal Pareto Pearson5 Pearson6 Poisson Reciprocal Triang Uniform Weibull 0 1 -1 1 0 1 0 0 0 | F44: GF1_rK0qDwEAEAD6AQwjACYANAC0AMgAyQDXAOUA1AH2AfABKgD//wAEAAAAAQQAAAAAAAAAAAFbRml0IENvbXBhcmlzb24gZm9yIFByZXZhbGVuY2UgcmF0ZXMgb2YgSDVOMSBkdWUgdG8gIG1pc3NlZCBhY3RpdmUgc3VydmVpbGxhbmNlIGluIGZhcm0gKFA0KQEfUmlza1VuaWZvcm0oLTAuMDA3NzI3NywwLjE1MzY1KQEBEAACAAEKU3RhdGlzdGljcwMBAQD/AQEBAQEAAQEBAAQAAAABAQEBAQABAQEABAAAAAoEAQETAQAkAQA6AQBQAQBmAQB8AQCSAQCoAQC+AQANAAVJbnB1dAAAJQEBAgAPAAdVbmlmb3JtAAEvAQACABQADFVudXNlZCBDdXJ2ZQACTwEAAgAUAAxVbnVzZWQgQ3VydmUAA4wBAAIAFAAMVW51c2VkIEN1cnZlAARMAQACABQADFVudXNlZCBDdXJ2ZQAFOQEAAgAUAAxVbnVzZWQgQ3VydmUABk4BAAIAFAAMVW51c2VkIEN1cnZlAAcjAQACABQADFVudXNlZCBDdXJ2ZQAIKQEAAgAUAAxVbnVzZWQgQ3VydmUACWABAAIA3AHmAQEBAgGamZmZmZmpPwAAZmZmZmZm7j8AAAUAAQEBAAEBAQA= | J44: 0 8 | K44: F1 0 1000 .95 | O44: 4 | P44: TRUE
A45: FIT_81E56_1DC67 | B45: Probability distribytion of total no. of birds population (N) 3 | C45: ='Backyard(B2)'!$B$13:$B$18 -> #VALUE! | D45: 0 | E45: F1 0 0 -1E+300 1E+300 1 0 0 0 0 1 25 BetaGeneral Binomial Expon ExtValue ExtValueMin Gamma Geomet IntUniform InvGauss Kumaraswamy Laplace Levy Logistic LogLogistic Lognorm NegBin Normal Pareto Pearson5 Pearson6 Poisson Reciprocal Triang Uniform Weibull 0 1 -1 1 0 1 0 0 0 | F45: GF1_rK0qDwEAEADuAQwjACYANACpAL0AvgDMANoAyAHqAeQBKgD//wAEAAAAAQQAAAAAAAAAAAFSRml0IENvbXBhcmlzb24gZm9yIFByb2JhYmlsaXR5IGRpc3RyaWJ5dGlvbiBvZiB0b3RhbCBuby4gb2YgYmlyZHMgcG9wdWxhdGlvbiAoTikgMwEdUmlza1BhcmV0bygwLjcyODk4LDM3NDkzNzUuMCkBARAAAgABClN0YXRpc3RpY3MDAQEA/wEBAQEBAAEBAQAEAAAAAQEBAQEAAQEBAAQAAAAK+QABCAEAGAEALgEARAEAWgEAcAEAhgEAnAEAsgEADQAFSW5wdXQAACUBAQIADgAGUGFyZXRvAAEvAQACABQADFVudXNlZCBDdXJ2ZQACTwEAAgAUAAxVbnVzZWQgQ3VydmUAA4wBAAIAFAAMVW51c2VkIEN1cnZlAARMAQACABQADFVudXNlZCBDdXJ2ZQAFOQEAAgAUAAxVbnVzZWQgQ3VydmUABk4BAAIAFAAMVW51c2VkIEN1cnZlAAcjAQACABQADFVudXNlZCBDdXJ2ZQAIKQEAAgAUAAxVbnVzZWQgQ3VydmUACWABAAIA0AHaAQEBAgGamZmZmZmpPwAAZmZmZmZm7j8AAAUAAQEBAAEBAQA= | J45: 0 8 | K45: F1 0 1000 .95 | O45: 4 | P45: TRUE
A46: FIT_5E2A_D4900 | B46: Probability distribytion of total no. of birds (N) | C46: ='Backyard(B2)'!$B$13:$B$18 -> #VALUE! | D46: 0 | E46: F1 0 0 -1E+300 1E+300 1 0 0 0 0 1 25 BetaGeneral Binomial Expon ExtValue ExtValueMin Gamma Geomet IntUniform InvGauss Kumaraswamy Laplace Levy Logistic LogLogistic Lognorm NegBin Normal Pareto Pearson5 Pearson6 Poisson Reciprocal Triang Uniform Weibull 0 1 -1 1 0 1 0 0 0 | F46: GF1_rK0qDwEAEADhAQwjACYANACcALAAsQC/AM0AuwHdAdcBKgD//wAAAAAAAQQAAAAAAAAAAAFFRml0IENvbXBhcmlzb24gZm9yIFByb2JhYmlsaXR5IGRpc3RyaWJ5dGlvbiBvZiB0b3RhbCBuby4gb2YgYmlyZHMgKE4pAR1SaXNrUGFyZXRvKDAuNzI4OTgsMzc0OTM3NS4wKQEBEAACAAEKU3RhdGlzdGljcwMBAQD/AQEBAQEAAQEBAAQAAAABAQEBAQABAQEABAAAAArsAAH7AAALAQAhAQA3AQBNAQBjAQB5AQCPAQClAQANAAVJbnB1dAAAJQEBAgAOAAZQYXJldG8AAS8BAAIAFAAMVW51c2VkIEN1cnZlAAJPAQACABQADFVudXNlZCBDdXJ2ZQADjAEAAgAUAAxVbnVzZWQgQ3VydmUABEwBAAIAFAAMVW51c2VkIEN1cnZlAAU5AQACABQADFVudXNlZCBDdXJ2ZQAGTgEAAgAUAAxVbnVzZWQgQ3VydmUAByMBAAIAFAAMVW51c2VkIEN1cnZlAAgpAQACABQADFVudXNlZCBDdXJ2ZQAJYAEAAgDDAc0BAQECAZqZmZmZmak/AABmZmZmZmbuPwAABQABAQEAAQEBAA== | J46: 0 8 | K46: F1 0 1000 .95 | O46: 4 | P46: TRUE
A47: FIT_177A4_D3D21 | B47: Probability distribytion of total no. of birds (N) 2 | C47: ='FARM(B1)'!$B$13:$B$18 -> #VALUE! | D47: 0 | E47: F1 0 0 -1E+300 1E+300 1 0 0 0 0 1 25 BetaGeneral Binomial Expon ExtValue ExtValueMin Gamma Geomet IntUniform InvGauss Kumaraswamy Laplace Levy Logistic LogLogistic Lognorm NegBin Normal Pareto Pearson5 Pearson6 Poisson Reciprocal Triang Uniform Weibull 0 1 -1 1 0 1 0 0 0 | F47: GF1_rK0qDwEAEADjAQwjACYANACeALIAswDBAM8AvQHfAdkBKgD//wAAAAAAAQQAAAAAAAAAAAFHRml0IENvbXBhcmlzb24gZm9yIFByb2JhYmlsaXR5IGRpc3RyaWJ5dGlvbiBvZiB0b3RhbCBuby4gb2YgYmlyZHMgKE4pIDIBHVJpc2tQYXJldG8oMC43Mjg5OCwzNzQ5Mzc1LjApAQEQAAIAAQpTdGF0aXN0aWNzAwEBAP8BAQEBAQABAQEABAAAAAEBAQEBAAEBAQAEAAAACu4AAf0AAA0BACMBADkBAE8BAGUBAHsBAJEBAKcBAA0ABUlucHV0AAAlAQECAA4ABlBhcmV0bwABLwEAAgAUAAxVbnVzZWQgQ3VydmUAAk8BAAIAFAAMVW51c2VkIEN1cnZlAAOMAQACABQADFVudXNlZCBDdXJ2ZQAETAEAAgAUAAxVbnVzZWQgQ3VydmUABTkBAAIAFAAMVW51c2VkIEN1cnZlAAZOAQACABQADFVudXNlZCBDdXJ2ZQAHIwEAAgAUAAxVbnVzZWQgQ3VydmUACCkBAAIAFAAMVW51c2VkIEN1cnZlAAlgAQACAMUBzwEBAQIBmpmZmZmZqT8AAGZmZmZmZu4/AAAFAAEBAQABAQEA | J47: 0 8 | K47: F1 0 1000 .95 | O47: 4 | P47: TRUE
A48: FIT_2A05B_BC57D | B48: Probability distribytion of total no. of birds (N) 3 | C48: ='Backyard(B2)'!$B$13:$B$18 -> #VALUE! | D48: 0 | E48: F1 0 0 -1E+300 1E+300 1 0 0 0 0 1 25 BetaGeneral Binomial Expon ExtValue ExtValueMin Gamma Geomet IntUniform InvGauss Kumaraswamy Laplace Levy Logistic LogLogistic Lognorm NegBin Normal Pareto Pearson5 Pearson6 Poisson Reciprocal Triang Uniform Weibull 0 1 -1 1 0 1 0 0 0 | F48: GF1_rK0qDwEAEADjAQwjACYANACeALIAswDBAM8AvQHfAdkBKgD//wAAAAAAAQQAAAAAAAAAAAFHRml0IENvbXBhcmlzb24gZm9yIFByb2JhYmlsaXR5IGRpc3RyaWJ5dGlvbiBvZiB0b3RhbCBuby4gb2YgYmlyZHMgKE4pIDMBHVJpc2tQYXJldG8oMC43Mjg5OCwzNzQ5Mzc1LjApAQEQAAIAAQpTdGF0aXN0aWNzAwEBAP8BAQEBAQABAQEABAAAAAEBAQEBAAEBAQAEAAAACu4AAf0AAA0BACMBADkBAE8BAGUBAHsBAJEBAKcBAA0ABUlucHV0AAAlAQECAA4ABlBhcmV0bwABLwEAAgAUAAxVbnVzZWQgQ3VydmUAAk8BAAIAFAAMVW51c2VkIEN1cnZlAAOMAQACABQADFVudXNlZCBDdXJ2ZQAETAEAAgAUAAxVbnVzZWQgQ3VydmUABTkBAAIAFAAMVW51c2VkIEN1cnZlAAZOAQACABQADFVudXNlZCBDdXJ2ZQAHIwEAAgAUAAxVbnVzZWQgQ3VydmUACCkBAAIAFAAMVW51c2VkIEN1cnZlAAlgAQACAMUBzwEBAQIBmpmZmZmZqT8AAGZmZmZmZu4/AAAFAAEBAQABAQEA | J48: 0 8 | K48: F1 0 1000 .95 | O48: 4 | P48: TRUE
A49: FIT_C6872_39B93 | B49: Prevalence rates of H5N1 infected birds (P) 2 | C49: ='Backyard(B2)'!$B$23:$B$28 -> #VALUE! | D49: 0 | E49: F1 0 0 -1E+300 1E+300 1 0 0 0 0 1 25 BetaGeneral Binomial Expon ExtValue ExtValueMin Gamma Geomet IntUniform InvGauss Kumaraswamy Laplace Levy Logistic LogLogistic Lognorm NegBin Normal Pareto Pearson5 Pearson6 Poisson Reciprocal Triang Uniform Weibull 0 1 -1 1 0 1 0 0 0 | F49: GF1_rK0qDwEAEADkAQwjACYANACaAK4ArwC9AMsAvgHgAdoBKgD//wAAAAAAAQQAAAAAAAAAAAFARml0IENvbXBhcmlzb24gZm9yIFByZXZhbGVuY2UgcmF0ZXMgb2YgSDVOMSBpbmZlY3RlZCBiaXJkcyAoUCkgMgEgUmlza0V4dFZhbHVlTWluKDAuNDQzMTMsMC4xMTk0OSkBARAAAgABClN0YXRpc3RpY3MDAQEA/wEBAQEBAAEBAQAEAAAAAQEBAQEAAQEBAAQAAAAK6gAB+QAADgEAJAEAOgEAUAEAZgEAfAEAkgEAqAEADQAFSW5wdXQAACUBAQIAEwALRXh0VmFsdWVNaW4AAS8BAAIAFAAMVW51c2VkIEN1cnZlAAJPAQACABQADFVudXNlZCBDdXJ2ZQADjAEAAgAUAAxVbnVzZWQgQ3VydmUABEwBAAIAFAAMVW51c2VkIEN1cnZlAAU5AQACABQADFVudXNlZCBDdXJ2ZQAGTgEAAgAUAAxVbnVzZWQgQ3VydmUAByMBAAIAFAAMVW51c2VkIEN1cnZlAAgpAQACABQADFVudXNlZCBDdXJ2ZQAJYAEAAgDGAdABAQECAZqZmZmZmak/AABmZmZmZmbuPwAABQABAQEAAQEBAA== | J49: 0 8 | K49: F1 0 1000 .95 | O49: 4 | P49: TRUE
A50: FIT_193E8_3A769 | B50: Prevalence rates of H5N1 in Backyard (B2) in each EW (P1) | C50: ='Backyard(B2)'!$B$33:$B$38 -> #VALUE! | D50: 0 | E50: F1 0 0 -1E+300 1E+300 1 0 0 0 0 1 25 BetaGeneral Binomial Expon ExtValue ExtValueMin Gamma Geomet IntUniform InvGauss Kumaraswamy Laplace Levy Logistic LogLogistic Lognorm NegBin Normal Pareto Pearson5 Pearson6 Poisson Reciprocal Triang Uniform Weibull 0 1 -1 1 0 1 0 0 0 | F50: GF1_rK0qDwEAEADsAQwjACYANACmALoAuwDJANcAxgHoAeIBKgD//wAAAAAAAQQAAAAAAAAAAAFNRml0IENvbXBhcmlzb24gZm9yIFByZXZhbGVuY2UgcmF0ZXMgb2YgSDVOMSAgaW4gQmFja3lhcmQgKEIyKSBpbiBlYWNoIEVXIChQMSkBH1Jpc2tVbmlmb3JtKC0wLjAwNTgzMjksMC40OTcxNSkBARAAAgABClN0YXRpc3RpY3MDAQEA/wEBAQEBAAEBAQAEAAAAAQEBAQEAAQEBAAQAAAAK9gABBQEAFgEALAEAQgEAWAEAbgEAhAEAmgEAsAEADQAFSW5wdXQAACUBAQIADwAHVW5pZm9ybQABLwEAAgAUAAxVbnVzZWQgQ3VydmUAAk8BAAIAFAAMVW51c2VkIEN1cnZlAAOMAQACABQADFVudXNlZCBDdXJ2ZQAETAEAAgAUAAxVbnVzZWQgQ3VydmUABTkBAAIAFAAMVW51c2VkIEN1cnZlAAZOAQACABQADFVudXNlZCBDdXJ2ZQAHIwEAAgAUAAxVbnVzZWQgQ3VydmUACCkBAAIAFAAMVW51c2VkIEN1cnZlAAlgAQACAM4B2AEBAQIBmpmZmZmZqT8AAGZmZmZmZu4/AAAFAAEBAQABAQEA | J50: 0 8 | K50: F1 0 1000 .95 | O50: 4 | P50: TRUE
A51: FIT_C564F_3C8EC | B51: Prevalence rates of H5N1 in domastic chicken in backyard (P2) | C51: ='Backyard(B2)'!$B$45:$B$50 -> #VALUE! | D51: 0 | E51: F1 0 0 -1E+300 1E+300 1 0 0 0 0 1 25 BetaGeneral Binomial Expon ExtValue ExtValueMin Gamma Geomet IntUniform InvGauss Kumaraswamy Laplace Levy Logistic LogLogistic Lognorm NegBin Normal Pareto Pearson5 Pearson6 Poisson Reciprocal Triang Uniform Weibull 0 1 -1 1 0 1 0 0 0 | F51: GF1_rK0qDwEAEADuAQwjACYANACoALwAvQDLANkAyAHqAeQBKgD//wAAAAAAAQQAAAAAAAAAAAFQRml0IENvbXBhcmlzb24gZm9yIFByZXZhbGVuY2UgcmF0ZXMgb2YgSDVOMSBpbiBkb21hc3RpYyBjaGlja2VuIGluIGJhY2t5YXJkIChQMikBHlJpc2tVbmlmb3JtKC0wLjAyMzQwNywwLjI1NTk4KQEBEAACAAEKU3RhdGlzdGljcwMBAQD/AQEBAQEAAQEBAAQAAAABAQEBAQABAQEABAAAAAr4AAEHAQAYAQAuAQBEAQBaAQBwAQCGAQCcAQCyAQANAAVJbnB1dAAAJQEBAgAPAAdVbmlmb3JtAAEvAQACABQADFVudXNlZCBDdXJ2ZQACTwEAAgAUAAxVbnVzZWQgQ3VydmUAA4wBAAIAFAAMVW51c2VkIEN1cnZlAARMAQACABQADFVudXNlZCBDdXJ2ZQAFOQEAAgAUAAxVbnVzZWQgQ3VydmUABk4BAAIAFAAMVW51c2VkIEN1cnZlAAcjAQACABQADFVudXNlZCBDdXJ2ZQAIKQEAAgAUAAxVbnVzZWQgQ3VydmUACWABAAIA0AHaAQEBAgGamZmZmZmpPwAAZmZmZmZm7j8AAAUAAQEBAAEBAQA= | J51: 0 8 | K51: F1 0 1000 .95 | O51: 4 | P51: TRUE
A52: FIT_CF3ED_84648 | B52: Prevalence rates of H5N1 in mixed birds in backyard (P3) | C52: ='Backyard(B2)'!$O$45:$O$50 -> #VALUE! | D52: 0 | E52: F1 0 0 -1E+300 1E+300 1 0 0 0 0 1 25 BetaGeneral Binomial Expon ExtValue ExtValueMin Gamma Geomet IntUniform InvGauss Kumaraswamy Laplace Levy Logistic LogLogistic Lognorm NegBin Normal Pareto Pearson5 Pearson6 Poisson Reciprocal Triang Uniform Weibull 0 1 -1 1 0 1 0 0 0 | F52: GF1_rK0qDwEAEADpAQwjACYANACjALcAuADGANQAwwHlAd8BKgD//wAAAAAAAQQAAAAAAAAAAAFLRml0IENvbXBhcmlzb24gZm9yIFByZXZhbGVuY2UgcmF0ZXMgb2YgSDVOMSBpbiBtaXhlZCBiaXJkcyBpbiBiYWNreWFyZCAoUDMpAR5SaXNrVW5pZm9ybSgtMC4wMzIwODcsMC4yMTg2NCkBARAAAgABClN0YXRpc3RpY3MDAQEA/wEBAQEBAAEBAQAEAAAAAQEBAQEAAQEBAAQAAAAK8wABAgEAEwEAKQEAPwEAVQEAawEAgQEAlwEArQEADQAFSW5wdXQAACUBAQIADwAHVW5pZm9ybQABLwEAAgAUAAxVbnVzZWQgQ3VydmUAAk8BAAIAFAAMVW51c2VkIEN1cnZlAAOMAQACABQADFVudXNlZCBDdXJ2ZQAETAEAAgAUAAxVbnVzZWQgQ3VydmUABTkBAAIAFAAMVW51c2VkIEN1cnZlAAZOAQACABQADFVudXNlZCBDdXJ2ZQAHIwEAAgAUAAxVbnVzZWQgQ3VydmUACCkBAAIAFAAMVW51c2VkIEN1cnZlAAlgAQACAMsB1QEBAQIBmpmZmZmZqT8AAGZmZmZmZu4/AAAFAAEBAQABAQEA | J52: 0 8 | K52: F1 0 1000 .95 | O52: 4 | P52: TRUE
A53: FIT_BB273_68466 | B53: Prevalence rates of H5N1 in reservoir birds in backyard (P4) | C53: ='Backyard(B2)'!$AB$45:$AB$50 -> #VALUE! | D53: 0 | E53: F1 0 0 -1E+300 1E+300 1 0 0 0 0 1 25 BetaGeneral Binomial Expon ExtValue ExtValueMin Gamma Geomet IntUniform InvGauss Kumaraswamy Laplace Levy Logistic LogLogistic Lognorm NegBin Normal Pareto Pearson5 Pearson6 Poisson Reciprocal Triang Uniform Weibull 0 1 -1 1 0 1 0 0 0 | F53: GF1_rK0qDwEAEAD1AQwjACYANACxAMUAxgDUAOIAzwHxAesBKgD//wAAAAAAAQQAAAAAAAAAAAFPRml0IENvbXBhcmlzb24gZm9yIFByZXZhbGVuY2UgcmF0ZXMgb2YgSDVOMSBpbiByZXNlcnZvaXIgYmlyZHMgaW4gYmFja3lhcmQgKFA0KQEoUmlza0V4cG9uKDAuMDY3ODU2LFJpc2tTaGlmdCgtMC4wMTEzMDkpKQEBEAACAAEKU3RhdGlzdGljcwMBAQD/AQEBAQEAAQEBAAQAAAABAQEBAQABAQEABAAAAAoBAQEQAQAfAQA1AQBLAQBhAQB3AQCNAQCjAQC5AQANAAVJbnB1dAAAJQEBAgANAAVFeHBvbgABLwEAAgAUAAxVbnVzZWQgQ3VydmUAAk8BAAIAFAAMVW51c2VkIEN1cnZlAAOMAQACABQADFVudXNlZCBDdXJ2ZQAETAEAAgAUAAxVbnVzZWQgQ3VydmUABTkBAAIAFAAMVW51c2VkIEN1cnZlAAZOAQACABQADFVudXNlZCBDdXJ2ZQAHIwEAAgAUAAxVbnVzZWQgQ3VydmUACCkBAAIAFAAMVW51c2VkIEN1cnZlAAlgAQACANcB4QEBAQIBmpmZmZmZqT8AAGZmZmZmZu4/AAAFAAEBAQABAQEA | J53: 0 8 | K53: F1 0 1000 .95 | O53: 4 | P53: TRUE
A54: FIT_E3BCE_B1E02 | B54: Prevalence rates of H5N1 in mixed birds in backyard (P3) 2 | C54: ='Backyard(B2)'!$O$45:$O$50 -> #VALUE! | D54: 0 | E54: F1 0 0 -1E+300 1E+300 1 0 0 0 0 1 25 BetaGeneral Binomial Expon ExtValue ExtValueMin Gamma Geomet IntUniform InvGauss Kumaraswamy Laplace Levy Logistic LogLogistic Lognorm NegBin Normal Pareto Pearson5 Pearson6 Poisson Reciprocal Triang Uniform Weibull 0 1 -1 1 0 1 0 0 0 | F54: GF1_rK0qDwEAEADrAQwjACYANAClALkAugDIANYAxQHnAeEBKgD//wAAAAAAAQQAAAAAAAAAAAFNRml0IENvbXBhcmlzb24gZm9yIFByZXZhbGVuY2UgcmF0ZXMgb2YgSDVOMSBpbiBtaXhlZCBiaXJkcyBpbiBiYWNreWFyZCAoUDMpIDIBHlJpc2tVbmlmb3JtKC0wLjAzMjA4NywwLjIxODY0KQEBEAACAAEKU3RhdGlzdGljcwMBAQD/AQEBAQEAAQEBAAQAAAABAQEBAQABAQEABAAAAAr1AAEEAQAVAQArAQBBAQBXAQBtAQCDAQCZAQCvAQANAAVJbnB1dAAAJQEBAgAPAAdVbmlmb3JtAAEvAQACABQADFVudXNlZCBDdXJ2ZQACTwEAAgAUAAxVbnVzZWQgQ3VydmUAA4wBAAIAFAAMVW51c2VkIEN1cnZlAARMAQACABQADFVudXNlZCBDdXJ2ZQAFOQEAAgAUAAxVbnVzZWQgQ3VydmUABk4BAAIAFAAMVW51c2VkIEN1cnZlAAcjAQACABQADFVudXNlZCBDdXJ2ZQAIKQEAAgAUAAxVbnVzZWQgQ3VydmUACWABAAIAzQHXAQEBAgGamZmZmZmpPwAAZmZmZmZm7j8AAAUAAQEBAAEBAQA= | J54: 0 8 | K54: F1 0 1000 .95 | O54: 4 | P54: TRUE
A55: FIT_C8769_B3E76 | B55: Prevalence rates of H5N1 in mixed birds in backyard (P3) 3 | C55: ='Backyard(B2)'!$O$45:$O$50 -> #VALUE! | D55: 0 | E55: F1 0 0 -1E+300 1E+300 1 0 0 0 0 1 25 BetaGeneral Binomial Expon ExtValue ExtValueMin Gamma Geomet IntUniform InvGauss Kumaraswamy Laplace Levy Logistic LogLogistic Lognorm NegBin Normal Pareto Pearson5 Pearson6 Poisson Reciprocal Triang Uniform Weibull 0 1 -1 1 0 1 0 0 0 | F55: GF1_rK0qDwEAEADrAQwjACYANAClALkAugDIANYAxQHnAeEBKgD//wAAAAAAAQQAAAAAAAAAAAFNRml0IENvbXBhcmlzb24gZm9yIFByZXZhbGVuY2UgcmF0ZXMgb2YgSDVOMSBpbiBtaXhlZCBiaXJkcyBpbiBiYWNreWFyZCAoUDMpIDMBHlJpc2tVbmlmb3JtKC0wLjAzMjA4NywwLjIxODY0KQEBEAACAAEKU3RhdGlzdGljcwMBAQD/AQEBAQEAAQEBAAQAAAABAQEBAQABAQEABAAAAAr1AAEEAQAVAQArAQBBAQBXAQBtAQCDAQCZAQCvAQANAAVJbnB1dAAAJQEBAgAPAAdVbmlmb3JtAAEvAQACABQADFVudXNlZCBDdXJ2ZQACTwEAAgAUAAxVbnVzZWQgQ3VydmUAA4wBAAIAFAAMVW51c2VkIEN1cnZlAARMAQACABQADFVudXNlZCBDdXJ2ZQAFOQEAAgAUAAxVbnVzZWQgQ3VydmUABk4BAAIAFAAMVW51c2VkIEN1cnZlAAcjAQACABQADFVudXNlZCBDdXJ2ZQAIKQEAAgAUAAxVbnVzZWQgQ3VydmUACWABAAIAzQHXAQEBAgGamZmZmZmpPwAAZmZmZmZm7j8AAAUAAQEBAAEBAQA= | J55: 0 8 | K55: F1 0 1000 .95 | O55: 4 | P55: TRUE
A56: FIT_1E6A7_1C416 | B56: Prevalence rates of H5N1 in mixed birds in backyard (P3) 4 | C56: ='Backyard(B2)'!$O$45:$O$50 -> #VALUE! | D56: 0 | E56: F1 0 0 -1E+300 1E+300 1 0 0 0 0 1 25 BetaGeneral Binomial Expon ExtValue ExtValueMin Gamma Geomet IntUniform InvGauss Kumaraswamy Laplace Levy Logistic LogLogistic Lognorm NegBin Normal Pareto Pearson5 Pearson6 Poisson Reciprocal Triang Uniform Weibull 0 1 -1 1 0 1 0 0 0 | F56: GF1_rK0qDwEAEADrAQwjACYANAClALkAugDIANYAxQHnAeEBKgD//wAAAAAAAQQAAAAAAAAAAAFNRml0IENvbXBhcmlzb24gZm9yIFByZXZhbGVuY2UgcmF0ZXMgb2YgSDVOMSBpbiBtaXhlZCBiaXJkcyBpbiBiYWNreWFyZCAoUDMpIDQBHlJpc2tVbmlmb3JtKC0wLjAzMjA4NywwLjIxODY0KQEBEAACAAEKU3RhdGlzdGljcwMBAQD/AQEBAQEAAQEBAAQAAAABAQEBAQABAQEABAAAAAr1AAEEAQAVAQArAQBBAQBXAQBtAQCDAQCZAQCvAQANAAVJbnB1dAAAJQEBAgAPAAdVbmlmb3JtAAEvAQACABQADFVudXNlZCBDdXJ2ZQACTwEAAgAUAAxVbnVzZWQgQ3VydmUAA4wBAAIAFAAMVW51c2VkIEN1cnZlAARMAQACABQADFVudXNlZCBDdXJ2ZQAFOQEAAgAUAAxVbnVzZWQgQ3VydmUABk4BAAIAFAAMVW51c2VkIEN1cnZlAAcjAQACABQADFVudXNlZCBDdXJ2ZQAIKQEAAgAUAAxVbnVzZWQgQ3VydmUACWABAAIAzQHXAQEBAgGamZmZmZmpPwAAZmZmZmZm7j8AAAUAAQEBAAEBAQA= | J56: 0 8 | K56: F1 0 1000 .95 | O56: 4 | P56: TRUE
A57: FIT_93A7_E6FA | B57: Prevalence rates of H5N1 in domestic chicken due to missed passive surveillance in backyard (P5) | C57: ='Backyard(B2)'!$C$58:$C$63 -> #VALUE! | D57: 0 | E57: F1 0 0 -1E+300 1E+300 1 0 0 0 0 1 25 BetaGeneral Binomial Expon ExtValue ExtValueMin Gamma Geomet IntUniform InvGauss Kumaraswamy Laplace Levy Logistic LogLogistic Lognorm NegBin Normal Pareto Pearson5 Pearson6 Poisson Reciprocal Triang Uniform Weibull 0 1 -1 1 0 1 0 0 0 | F57: GF1_rK0qDwEAEAASAgwjACYANADMAOAA4QDvAP0A7AEOAggCKgD//wAEAAAAAQQAAAAAAAAAAAFzRml0IENvbXBhcmlzb24gZm9yIFByZXZhbGVuY2UgcmF0ZXMgb2YgSDVOMSBpbiBkb21lc3RpYyBjaGlja2VuIGR1ZSB0byBtaXNzZWQgcGFzc2l2ZSBzdXJ2ZWlsbGFuY2UgaW4gYmFja3lhcmQgKFA1KQEfUmlza1VuaWZvcm0oLTAuMDEwODg1LDAuMDkwMDcxKQEBEAACAAEKU3RhdGlzdGljcwMBAQD/AQEBAQEAAQEBAAQAAAABAQEBAQABAQEABAAAAAocAQErAQA8AQBSAQBoAQB+AQCUAQCqAQDAAQDWAQANAAVJbnB1dAAAJQEBAgAPAAdVbmlmb3JtAAEvAQACABQADFVudXNlZCBDdXJ2ZQACTwEAAgAUAAxVbnVzZWQgQ3VydmUAA4wBAAIAFAAMVW51c2VkIEN1cnZlAARMAQACABQADFVudXNlZCBDdXJ2ZQAFOQEAAgAUAAxVbnVzZWQgQ3VydmUABk4BAAIAFAAMVW51c2VkIEN1cnZlAAcjAQACABQADFVudXNlZCBDdXJ2ZQAIKQEAAgAUAAxVbnVzZWQgQ3VydmUACWABAAIA9AH+AQEBAgGamZmZmZmpPwAAZmZmZmZm7j8AAAUAAQEBAAEBAQA= | J57: 0 8 | K57: F1 0 1000 .95 | O57: 4 | P57: TRUE
A58: FIT_C083E_9ADB5 | B58: Prevalence rates of H5N1 in domestic chicken due to missed active surveillance in backyard (P6) | C58: ='Backyard(B2)'!$I$58:$I$63 -> 0.044776028 | D58: 0 | E58: F1 0 0 -1E+300 1E+300 1 0 0 0 0 1 25 BetaGeneral Binomial Expon ExtValue ExtValueMin Gamma Geomet IntUniform InvGauss Kumaraswamy Laplace Levy Logistic LogLogistic Lognorm NegBin Normal Pareto Pearson5 Pearson6 Poisson Reciprocal Triang Uniform Weibull 0 1 -1 1 0 1 0 0 0 | F58: GF1_rK0qDwEAEAANAgwjACYANADIANwA3QDrAPkA5wEJAgMCKgD//wAEAAAAAQQAAAAAAAAAAAFyRml0IENvbXBhcmlzb24gZm9yIFByZXZhbGVuY2UgcmF0ZXMgb2YgSDVOMSBpbiBkb21lc3RpYyBjaGlja2VuIGR1ZSB0byBtaXNzZWQgYWN0aXZlIHN1cnZlaWxsYW5jZSBpbiBiYWNreWFyZCAoUDYpARxSaXNrUGFyZXRvKDAuNzY0ODYsMC4wMTI5NjgpAQEQAAIAAQpTdGF0aXN0aWNzAwEBAP8BAQEBAQABAQEABAAAAAEBAQEBAAEBAQAEAAAAChgBAScBADcBAE0BAGMBAHkBAI8BAKUBALsBANEBAA0ABUlucHV0AAAlAQECAA4ABlBhcmV0bwABLwEAAgAUAAxVbnVzZWQgQ3VydmUAAk8BAAIAFAAMVW51c2VkIEN1cnZlAAOMAQACABQADFVudXNlZCBDdXJ2ZQAETAEAAgAUAAxVbnVzZWQgQ3VydmUABTkBAAIAFAAMVW51c2VkIEN1cnZlAAZOAQACABQADFVudXNlZCBDdXJ2ZQAHIwEAAgAUAAxVbnVzZWQgQ3VydmUACCkBAAIAFAAMVW51c2VkIEN1cnZlAAlgAQACAO8B+QEBAQIBmpmZmZmZqT8AAGZmZmZmZu4/AAAFAAEBAQABAQEA | J58: 0 8 | K58: F1 0 1000 .95 | O58: 4 | P58: TRUE
A59: FIT_B4BF3_C2C06 | B59: Prevalence rates of HPAI H5N1 in mixed birds due to missed passive surveillance in backyard (P7) | C59: ='Backyard(B2)'!$O$58:$O$63 -> 0.057994483 | D59: 0 | E59: F1 0 0 -1E+300 1E+300 1 0 0 0 0 1 25 BetaGeneral Binomial Expon ExtValue ExtValueMin Gamma Geomet IntUniform InvGauss Kumaraswamy Laplace Levy Logistic LogLogistic Lognorm NegBin Normal Pareto Pearson5 Pearson6 Poisson Reciprocal Triang Uniform Weibull 0 1 -1 1 0 1 0 0 0 | F59: GF1_rK0qDwEAEAAPAgwjACYANADKAN4A3wDtAPsA6QELAgUCKgD//wAEAAAAAQQAAAAAAAAAAAFzRml0IENvbXBhcmlzb24gZm9yIFByZXZhbGVuY2UgcmF0ZXMgb2YgSFBBSSBINU4xIGluIG1peGVkIGJpcmRzIGR1ZSB0byBtaXNzZWQgcGFzc2l2ZSBzdXJ2ZWlsbGFuY2UgaW4gYmFja3lhcmQgKFA3KQEdUmlza1BhcmV0bygwLjUxNDgxLDAuMDAyMzU3OSkBARAAAgABClN0YXRpc3RpY3MDAQEA/wEBAQEBAAEBAQAEAAAAAQEBAQEAAQEBAAQAAAAKGgEBKQEAOQEATwEAZQEAewEAkQEApwEAvQEA0wEADQAFSW5wdXQAACUBAQIADgAGUGFyZXRvAAEvAQACABQADFVudXNlZCBDdXJ2ZQACTwEAAgAUAAxVbnVzZWQgQ3VydmUAA4wBAAIAFAAMVW51c2VkIEN1cnZlAARMAQACABQADFVudXNlZCBDdXJ2ZQAFOQEAAgAUAAxVbnVzZWQgQ3VydmUABk4BAAIAFAAMVW51c2VkIEN1cnZlAAcjAQACABQADFVudXNlZCBDdXJ2ZQAIKQEAAgAUAAxVbnVzZWQgQ3VydmUACWABAAIA8QH7AQEBAgGamZmZmZmpPwAAZmZmZmZm7j8AAAUAAQEBAAEBAQA= | J59: 0 8 | K59: F1 0 1000 .95 | O59: 4 | P59: TRUE
A60: FIT_4A9C4_987E4 | B60: Prevalence rates of HPAI H5N1 in mixed birds due to missed active surveillance in backyard (P8) | C60: ='Backyard(B2)'!$U$58:$U$63 -> 0.083101851 | D60: 0 | E60: F1 0 0 -1E+300 1E+300 1 0 0 0 0 1 25 BetaGeneral Binomial Expon ExtValue ExtValueMin Gamma Geomet IntUniform InvGauss Kumaraswamy Laplace Levy Logistic LogLogistic Lognorm NegBin Normal Pareto Pearson5 Pearson6 Poisson Reciprocal Triang Uniform Weibull 0 1 -1 1 0 1 0 0 0 | F60: GF1_rK0qDwEAEAAQAgwjACYANADKAN4A3wDtAPsA6gEMAgYCKgD//wAEAAAAAQQAAAAAAAAAAAFyRml0IENvbXBhcmlzb24gZm9yIFByZXZhbGVuY2UgcmF0ZXMgb2YgSFBBSSBINU4xIGluIG1peGVkIGJpcmRzIGR1ZSB0byBtaXNzZWQgYWN0aXZlIHN1cnZlaWxsYW5jZSBpbiBiYWNreWFyZCAoUDgpAR5SaXNrVW5pZm9ybSgtMC4wMjMxOTgsMC4xMzkxOSkBARAAAgABClN0YXRpc3RpY3MDAQEA/wEBAQEBAAEBAQAEAAAAAQEBAQEAAQEBAAQAAAAKGgEBKQEAOgEAUAEAZgEAfAEAkgEAqAEAvgEA1AEADQAFSW5wdXQAACUBAQIADwAHVW5pZm9ybQABLwEAAgAUAAxVbnVzZWQgQ3VydmUAAk8BAAIAFAAMVW51c2VkIEN1cnZlAAOMAQACABQADFVudXNlZCBDdXJ2ZQAETAEAAgAUAAxVbnVzZWQgQ3VydmUABTkBAAIAFAAMVW51c2VkIEN1cnZlAAZOAQACABQADFVudXNlZCBDdXJ2ZQAHIwEAAgAUAAxVbnVzZWQgQ3VydmUACCkBAAIAFAAMVW51c2VkIEN1cnZlAAlgAQACAPIB/AEBAQIBmpmZmZmZqT8AAGZmZmZmZu4/AAAFAAEBAQABAQEA | J60: 0 8 | K60: F1 0 1000 .95 | O60: 4 | P60: TRUE
A61: FIT_2228C_707F4 | B61: Prevalence rates of HPAI H5N1 in reservoir birds due to missed passive surveillance in backyard (P9) | C61: ='Backyard(B2)'!$AB$58:$AB$63 -> 0.034822238 | D61: 0 | E61: F1 0 0 -1E+300 1E+300 1 0 0 0 0 1 25 BetaGeneral Binomial Expon ExtValue ExtValueMin Gamma Geomet IntUniform InvGauss Kumaraswamy Laplace Levy Logistic LogLogistic Lognorm NegBin Normal Pareto Pearson5 Pearson6 Poisson Reciprocal Triang Uniform Weibull 0 1 -1 1 0 1 0 0 0 | F61: GF1_rK0qDwEAEAAfAgwjACYANADbAO8A8AD+AAwB+QEbAhUCKgD//wAEAAAAAQQAAAAAAAAAAAF3Rml0IENvbXBhcmlzb24gZm9yIFByZXZhbGVuY2UgcmF0ZXMgb2YgSFBBSSBINU4xIGluIHJlc2Vydm9pciBiaXJkcyBkdWUgdG8gbWlzc2VkIHBhc3NpdmUgc3VydmVpbGxhbmNlIGluIGJhY2t5YXJkIChQOSkBKlJpc2tFeHBvbigwLjAwODAwNDEsUmlza1NoaWZ0KC0wLjAwMTMzNDApKQEBEAACAAEKU3RhdGlzdGljcwMBAQD/AQEBAQEAAQEBAAQAAAABAQEBAQABAQEABAAAAAorAQE6AQBJAQBfAQB1AQCLAQChAQC3AQDNAQDjAQANAAVJbnB1dAAAJQEBAgANAAVFeHBvbgABLwEAAgAUAAxVbnVzZWQgQ3VydmUAAk8BAAIAFAAMVW51c2VkIEN1cnZlAAOMAQACABQADFVudXNlZCBDdXJ2ZQAETAEAAgAUAAxVbnVzZWQgQ3VydmUABTkBAAIAFAAMVW51c2VkIEN1cnZlAAZOAQACABQADFVudXNlZCBDdXJ2ZQAHIwEAAgAUAAxVbnVzZWQgQ3VydmUACCkBAAIAFAAMVW51c2VkIEN1cnZlAAlgAQACAAECCwIBAQIBmpmZmZmZqT8AAGZmZmZmZu4/AAAFAAEBAQABAQEA | J61: 0 8 | K61: F1 0 1000 .95 | O61: 4 | P61: TRUE
A62: FIT_914C6_897B7 | B62: Prevalence rates of HPAI H5N1 in reservoir birds due to missed active surveillance in backyard (P10) | C62: ='Backyard(B2)'!$AG$58:$AG$63 -> 0.21170802 | D62: 0 | E62: F1 0 0 -1E+300 1E+300 1 0 0 0 0 1 25 BetaGeneral Binomial Expon ExtValue ExtValueMin Gamma Geomet IntUniform InvGauss Kumaraswamy Laplace Levy Logistic LogLogistic Lognorm NegBin Normal Pareto Pearson5 Pearson6 Poisson Reciprocal Triang Uniform Weibull 0 1 -1 1 0 1 0 0 0 | F62: GF1_rK0qDwEAEAAeAgwjACYANADaAO4A7wD9AAsB+AEaAhQCKgD//wAEAAAAAQQAAAAAAAAAAAF3Rml0IENvbXBhcmlzb24gZm9yIFByZXZhbGVuY2UgcmF0ZXMgb2YgSFBBSSBINU4xIGluIHJlc2Vydm9pciBiaXJkcyBkdWUgdG8gbWlzc2VkIGFjdGl2ZSBzdXJ2ZWlsbGFuY2UgaW4gYmFja3lhcmQgKFAxMCkBKVJpc2tFeHBvbigwLjA1OTg1MixSaXNrU2hpZnQoLTAuMDA5OTc1MykpAQEQAAIAAQpTdGF0aXN0aWNzAwEBAP8BAQEBAQABAQEABAAAAAEBAQEBAAEBAQAEAAAACioBATkBAEgBAF4BAHQBAIoBAKABALYBAMwBAOIBAA0ABUlucHV0AAAlAQECAA0ABUV4cG9uAAEvAQACABQADFVudXNlZCBDdXJ2ZQACTwEAAgAUAAxVbnVzZWQgQ3VydmUAA4wBAAIAFAAMVW51c2VkIEN1cnZlAARMAQACABQADFVudXNlZCBDdXJ2ZQAFOQEAAgAUAAxVbnVzZWQgQ3VydmUABk4BAAIAFAAMVW51c2VkIEN1cnZlAAcjAQACABQADFVudXNlZCBDdXJ2ZQAIKQEAAgAUAAxVbnVzZWQgQ3VydmUACWABAAIAAAIKAgEBAgGamZmZmZmpPwAAZmZmZmZm7j8AAAUAAQEBAAEBAQA= | J62: 0 8 | K62: F1 0 1000 .95 | O62: 4 | P62: TRUE
A63: FIT_EFEF1_7FC58 | B63: Total number of poultry in Menofia, Egypt (N) | C63: ='FARM(B1)'!$B$13:$B$18 -> #VALUE! | D63: 0 | E63: F1 0 0 -1E+300 1E+300 1 0 0 0 0 1 25 BetaGeneral Binomial Expon ExtValue ExtValueMin Gamma Geomet IntUniform InvGauss Kumaraswamy Laplace Levy Logistic LogLogistic Lognorm NegBin Normal Pareto Pearson5 Pearson6 Poisson Reciprocal Triang Uniform Weibull 0 1 -1 1 0 1 0 0 0 | F63: GF1_rK0qDwEAEAD1AQwjACYANACXAKsArAC6AMgAtgHxAdIBKgD//wAEAAAAAQQAAAAAAAAAAAFARml0IENvbXBhcmlzb24gZm9yIFRvdGFsIG51bWJlciBvZiBwb3VsdHJ5IGluIE1lbm9maWEsIEVneXB0IChOKQEdUmlza1BhcmV0bygwLjcyODk4LDM3NDkzNzUuMCkBARAAAgABClN0YXRpc3RpY3MDAQEA/wEBAQEBAAEBAQAEAAAAAQEBAQEAAQEBAAQAAAAK5wAB9gAABgEAHAEAMgEASAEAXgEAdAEAigEAoAEADQAFSW5wdXQAACUBAQIADgAGUGFyZXRvAAEvAQACABQADFVudXNlZCBDdXJ2ZQACTwEAAgAUAAxVbnVzZWQgQ3VydmUAA4wBAAIAFAAMVW51c2VkIEN1cnZlAARMAQACABQADFVudXNlZCBDdXJ2ZQAFOQEAAgAUAAxVbnVzZWQgQ3VydmUABk4BAAIAFAAMVW51c2VkIEN1cnZlAAcjAQACABQADFVudXNlZCBDdXJ2ZQAIKQEAAgAUAAxVbnVzZWQgQ3VydmUACWABAAIAvgHIAQEBAgGamZmZmZmpPwAAZmZmZmZm7j8AAAUAAQEBGU1pbgpNYXgKTWVhbgpQMSg1KQpQMig5NSkBAQEA | J63: 0 8 | K63: F1 0 1000 .95 | O63: 4 | P63: TRUE
A64: FIT_DBAA6_BE8B2 | B64: Total number of poultry in Menofia, Egypt (N) 2 | C64: ='Backyard(B2)'!$B$13:$B$18 -> #VALUE! | D64: 0 | E64: F1 0 0 -1E+300 1E+300 1 0 0 0 0 1 25 BetaGeneral Binomial Expon ExtValue ExtValueMin Gamma Geomet IntUniform InvGauss Kumaraswamy Laplace Levy Logistic LogLogistic Lognorm NegBin Normal Pareto Pearson5 Pearson6 Poisson Reciprocal Triang Uniform Weibull 0 1 -1 1 0 1 0 0 0 | F64: GF1_rK0qDwEAEADeAQwjACYANACZAK0ArgC8AMoAuAHaAdQBKgD//wAEAAAAAQQAAAAAAAAAAAFCRml0IENvbXBhcmlzb24gZm9yIFRvdGFsIG51bWJlciBvZiBwb3VsdHJ5IGluIE1lbm9maWEsIEVneXB0IChOKSAyAR1SaXNrUGFyZXRvKDAuNzI4OTgsMzc0OTM3NS4wKQEBEAACAAEKU3RhdGlzdGljcwMBAQD/AQEBAQEAAQEBAAQAAAABAQEBAQABAQEABAAAAArpAAH4AAAIAQAeAQA0AQBKAQBgAQB2AQCMAQCiAQANAAVJbnB1dAAAJQEBAgAOAAZQYXJldG8AAS8BAAIAFAAMVW51c2VkIEN1cnZlAAJPAQACABQADFVudXNlZCBDdXJ2ZQADjAEAAgAUAAxVbnVzZWQgQ3VydmUABEwBAAIAFAAMVW51c2VkIEN1cnZlAAU5AQACABQADFVudXNlZCBDdXJ2ZQAGTgEAAgAUAAxVbnVzZWQgQ3VydmUAByMBAAIAFAAMVW51c2VkIEN1cnZlAAgpAQACABQADFVudXNlZCBDdXJ2ZQAJYAEAAgDAAcoBAQECAZqZmZmZmak/AABmZmZmZmbuPwAABQABAQEAAQEBAA== | J64: 0 8 | K64: F1 0 1000 .95 | O64: 4 | P64: TRUE
A65: FIT_C48E5_AF0E3 | B65: Total number of poultry in Menofia, Egypt (N) 3 | C65: ='Backyard(B2)'!$B$13:$B$18 -> #VALUE! | D65: 0 | E65: F1 0 0 -1E+300 1E+300 1 0 0 0 0 1 25 BetaGeneral Binomial Expon ExtValue ExtValueMin Gamma Geomet IntUniform InvGauss Kumaraswamy Laplace Levy Logistic LogLogistic Lognorm NegBin Normal Pareto Pearson5 Pearson6 Poisson Reciprocal Triang Uniform Weibull 0 1 -1 1 0 1 0 0 0 | F65: GF1_rK0qDwEAEADeAQwjACYANACZAK0ArgC8AMoAuAHaAdQBKgD//wAAAAAAAQQAAAAAAAAAAAFCRml0IENvbXBhcmlzb24gZm9yIFRvdGFsIG51bWJlciBvZiBwb3VsdHJ5IGluIE1lbm9maWEsIEVneXB0IChOKSAzAR1SaXNrUGFyZXRvKDAuNzI4OTgsMzc0OTM3NS4wKQEBEAACAAEKU3RhdGlzdGljcwMBAQD/AQEBAQEAAQEBAAQAAAABAQEBAQABAQEABAAAAArpAAH4AAAIAQAeAQA0AQBKAQBgAQB2AQCMAQCiAQANAAVJbnB1dAAAJQEBAgAOAAZQYXJldG8AAS8BAAIAFAAMVW51c2VkIEN1cnZlAAJPAQACABQADFVudXNlZCBDdXJ2ZQADjAEAAgAUAAxVbnVzZWQgQ3VydmUABEwBAAIAFAAMVW51c2VkIEN1cnZlAAU5AQACABQADFVudXNlZCBDdXJ2ZQAGTgEAAgAUAAxVbnVzZWQgQ3VydmUAByMBAAIAFAAMVW51c2VkIEN1cnZlAAgpAQACABQADFVudXNlZCBDdXJ2ZQAJYAEAAgDAAcoBAQECAZqZmZmZmak/AABmZmZmZmbuPwAABQABAQEAAQEBAA== | J65: 0 8 | K65: F1 0 1000 .95 | O65: 4 | P65: TRUE
A66: FIT_26A7A_7E346 | B66: (P) Prevalence rates of HPAI H5N1 infected poultry in Menofia | C66: ='FARM(B1)'!$B$23:$B$28 -> #VALUE! | D66: 0 | E66: F1 0 0 -1E+300 1E+300 1 0 0 0 0 1 25 BetaGeneral Binomial Expon ExtValue ExtValueMin Gamma Geomet IntUniform InvGauss Kumaraswamy Laplace Levy Logistic LogLogistic Lognorm NegBin Normal Pareto Pearson5 Pearson6 Poisson Reciprocal Triang Uniform Weibull 0 1 -1 1 0 1 0 0 0 | F66: GF1_rK0qDwEAEAANAgwjACYANACqAL4AvwDNANsAzgEJAuoBKgD//wAEAAAAAQQAAAAAAAAAAAFQRml0IENvbXBhcmlzb24gZm9yIChQKSBQcmV2YWxlbmNlIHJhdGVzIG9mIEhQQUkgSDVOMSBpbmZlY3RlZCBwb3VsdHJ5IGluIE1lbm9maWEBIFJpc2tFeHRWYWx1ZU1pbigwLjQ0MzEzLDAuMTE5NDkpAQEQAAIAAQpTdGF0aXN0aWNzAwEBAP8BAQEBAQABAQEABAAAAAEBAQEBAAEBAQAEAAAACvoAAQkBAB4BADQBAEoBAGABAHYBAIwBAKIBALgBAA0ABUlucHV0AAAlAQECABMAC0V4dFZhbHVlTWluAAEvAQACABQADFVudXNlZCBDdXJ2ZQACTwEAAgAUAAxVbnVzZWQgQ3VydmUAA4wBAAIAFAAMVW51c2VkIEN1cnZlAARMAQACABQADFVudXNlZCBDdXJ2ZQAFOQEAAgAUAAxVbnVzZWQgQ3VydmUABk4BAAIAFAAMVW51c2VkIEN1cnZlAAcjAQACABQADFVudXNlZCBDdXJ2ZQAIKQEAAgAUAAxVbnVzZWQgQ3VydmUACWABAAIA1gHgAQEBAgGamZmZmZmpPwAAZmZmZmZm7j8AAAUAAQEBGU1pbgpNYXgKTWVhbgpQMSg1KQpQMig5NSkBAQEA | J66: 0 8 | K66: F1 0 1000 .95 | O66: 4 | P66: TRUE
A67: FIT_4F970_92CB2 | B67: (P) Prevalence rates of HPAI H5N1 infected poultry in Menofia 2 | C67: ='Backyard(B2)'!$B$23:$B$28 -> #VALUE! | D67: 0 | E67: F1 0 0 -1E+300 1E+300 1 0 0 0 0 1 25 BetaGeneral Binomial Expon ExtValue ExtValueMin Gamma Geomet IntUniform InvGauss Kumaraswamy Laplace Levy Logistic LogLogistic Lognorm NegBin Normal Pareto Pearson5 Pearson6 Poisson Reciprocal Triang Uniform Weibull 0 1 -1 1 0 1 0 0 0 | F67: GF1_rK0qDwEAEAD2AQwjACYANACsAMAAwQDPAN0A0AHyAewBKgD//wAAAAAAAQQAAAAAAAAAAAFSRml0IENvbXBhcmlzb24gZm9yIChQKSBQcmV2YWxlbmNlIHJhdGVzIG9mIEhQQUkgSDVOMSBpbmZlY3RlZCBwb3VsdHJ5IGluIE1lbm9maWEgMgEgUmlza0V4dFZhbHVlTWluKDAuNDQzMTMsMC4xMTk0OSkBARAAAgABClN0YXRpc3RpY3MDAQEA/wEBAQEBAAEBAQAEAAAAAQEBAQEAAQEBAAQAAAAK/AABCwEAIAEANgEATAEAYgEAeAEAjgEApAEAugEADQAFSW5wdXQAACUBAQIAEwALRXh0VmFsdWVNaW4AAS8BAAIAFAAMVW51c2VkIEN1cnZlAAJPAQACABQADFVudXNlZCBDdXJ2ZQADjAEAAgAUAAxVbnVzZWQgQ3VydmUABEwBAAIAFAAMVW51c2VkIEN1cnZlAAU5AQACABQADFVudXNlZCBDdXJ2ZQAGTgEAAgAUAAxVbnVzZWQgQ3VydmUAByMBAAIAFAAMVW51c2VkIEN1cnZlAAgpAQACABQADFVudXNlZCBDdXJ2ZQAJYAEAAgDYAeIBAQECAZqZmZmZmak/AABmZmZmZmbuPwAABQABAQEAAQEBAA== | J67: 0 8 | K67: F1 0 1000 .95 | O67: 4 | P67: TRUE
A68: FIT_50AFA_C89F | B68: (P2) Prevalence rates of HPAI H5N1 in birds that missed vaccination in farm | C68: ='FARM(B1)'!$C$37:$C$42 -> #VALUE! | D68: 0 | E68: F1 0 0 -1E+300 1E+300 1 0 0 0 0 1 25 BetaGeneral Binomial Expon ExtValue ExtValueMin Gamma Geomet IntUniform InvGauss Kumaraswamy Laplace Levy Logistic LogLogistic Lognorm NegBin Normal Pareto Pearson5 Pearson6 Poisson Reciprocal Triang Uniform Weibull 0 1 -1 1 0 1 0 0 0 | F68: GF1_rK0qDwEAEAAUAgwjACYANAC1AMkAygDYAOYA1QEQAvEBKgD//wAEAAAAAQQAAAAAAAAAAAFeRml0IENvbXBhcmlzb24gZm9yIChQMikgUHJldmFsZW5jZSByYXRlcyBvZiBIUEFJIEg1TjEgaW4gYmlyZHMgdGhhdCBtaXNzZWQgdmFjY2luYXRpb24gaW4gZmFybQEdUmlza0xhcGxhY2UoMC4xMDI2OSwwLjA1Mzc1MCkBARAAAgABClN0YXRpc3RpY3MDAQEA/wEBAQEBAAEBAQAEAAAAAQEBAQEAAQEBAAQAAAAKBQEBFAEAJQEAOwEAUQEAZwEAfQEAkwEAqQEAvwEADQAFSW5wdXQAACUBAQIADwAHTGFwbGFjZQABLwEAAgAUAAxVbnVzZWQgQ3VydmUAAk8BAAIAFAAMVW51c2VkIEN1cnZlAAOMAQACABQADFVudXNlZCBDdXJ2ZQAETAEAAgAUAAxVbnVzZWQgQ3VydmUABTkBAAIAFAAMVW51c2VkIEN1cnZlAAZOAQACABQADFVudXNlZCBDdXJ2ZQAHIwEAAgAUAAxVbnVzZWQgQ3VydmUACCkBAAIAFAAMVW51c2VkIEN1cnZlAAlgAQACAN0B5wEBAQIBmpmZmZmZqT8AAGZmZmZmZu4/AAAFAAEBARlNaW4KTWF4Ck1lYW4KUDEoNSkKUDIoOTUpAQEBAA== | J68: 0 8 | K68: F1 0 1000 .95 | O68: 4 | P68: TRUE
A69: FIT_5730B_BA5E5 | B69: (P2) Prevalence rates of HPAI H5N1 in birds that missed vaccination in farm 2 | C69: ='FARM(B1)'!$C$37:$C$42 -> #VALUE! | D69: 0 | E69: F1 0 0 -1E+300 1E+300 1 0 0 0 0 1 25 BetaGeneral Binomial Expon ExtValue ExtValueMin Gamma Geomet IntUniform InvGauss Kumaraswamy Laplace Levy Logistic LogLogistic Lognorm NegBin Normal Pareto Pearson5 Pearson6 Poisson Reciprocal Triang Uniform Weibull 0 1 -1 1 0 1 0 0 0 | F69: GF1_rK0qDwEAEAD9AQwjACYANAC3AMsAzADaAOgA1wH5AfMBKgD//wAAAAAAAQQAAAAAAAAAAAFgRml0IENvbXBhcmlzb24gZm9yIChQMikgUHJldmFsZW5jZSByYXRlcyBvZiBIUEFJIEg1TjEgaW4gYmlyZHMgdGhhdCBtaXNzZWQgdmFjY2luYXRpb24gaW4gZmFybSAyAR1SaXNrTGFwbGFjZSgwLjEwMjY5LDAuMDUzNzUwKQEBEAACAAEKU3RhdGlzdGljcwMBAQD/AQEBAQEAAQEBAAQAAAABAQEBAQABAQEABAAAAAoHAQEWAQAnAQA9AQBTAQBpAQB/AQCVAQCrAQDBAQANAAVJbnB1dAAAJQEBAgAPAAdMYXBsYWNlAAEvAQACABQADFVudXNlZCBDdXJ2ZQACTwEAAgAUAAxVbnVzZWQgQ3VydmUAA4wBAAIAFAAMVW51c2VkIEN1cnZlAARMAQACABQADFVudXNlZCBDdXJ2ZQAFOQEAAgAUAAxVbnVzZWQgQ3VydmUABk4BAAIAFAAMVW51c2VkIEN1cnZlAAcjAQACABQADFVudXNlZCBDdXJ2ZQAIKQEAAgAUAAxVbnVzZWQgQ3VydmUACWABAAIA3wHpAQEBAgGamZmZmZmpPwAAZmZmZmZm7j8AAAUAAQEBAAEBAQA= | J69: 0 8 | K69: F1 0 1000 .95 | O69: 4 | P69: TRUE
A70: FIT_9570B_57353 | B70: (P3) Prevalence rates of HPAI H5N1 due to failure in detection by passive surveillance in farm | C70: ='FARM(B1)'!$C$54:$C$59 -> #VALUE! | D70: 0 | E70: F1 0 0 -1E+300 1E+300 1 0 0 0 0 1 25 BetaGeneral Binomial Expon ExtValue ExtValueMin Gamma Geomet IntUniform InvGauss Kumaraswamy Laplace Levy Logistic LogLogistic Lognorm NegBin Normal Pareto Pearson5 Pearson6 Poisson Reciprocal Triang Uniform Weibull 0 1 -1 1 0 1 0 0 0 | F70: GF1_rK0qDwEAEAAxAgwjACYANADUAOgA6QD3AAUB8gEtAg4CKgD//wAEAAAAAQQAAAAAAAAAAAFxRml0IENvbXBhcmlzb24gZm9yIChQMykgUHJldmFsZW5jZSByYXRlcyBvZiBIUEFJIEg1TjEgZHVlIHRvIGZhaWx1cmUgaW4gZGV0ZWN0aW9uIGJ5IHBhc3NpdmUgc3VydmVpbGxhbmNlIGluIGZhcm0BKVJpc2tFeHBvbigwLjAyNDc2OSxSaXNrU2hpZnQoLTAuMDA0MTI4MSkpAQEQAAIAAQpTdGF0aXN0aWNzAwEBAP8BAQEBAQABAQEABAAAAAEBAQEBAAEBAQAEAAAACiQBATMBAEIBAFgBAG4BAIQBAJoBALABAMYBANwBAA0ABUlucHV0AAAlAQECAA0ABUV4cG9uAAEvAQACABQADFVudXNlZCBDdXJ2ZQACTwEAAgAUAAxVbnVzZWQgQ3VydmUAA4wBAAIAFAAMVW51c2VkIEN1cnZlAARMAQACABQADFVudXNlZCBDdXJ2ZQAFOQEAAgAUAAxVbnVzZWQgQ3VydmUABk4BAAIAFAAMVW51c2VkIEN1cnZlAAcjAQACABQADFVudXNlZCBDdXJ2ZQAIKQEAAgAUAAxVbnVzZWQgQ3VydmUACWABAAIA+gEEAgEBAgGamZmZmZmpPwAAZmZmZmZm7j8AAAUAAQEBGU1pbgpNYXgKTWVhbgpQMSg1KQpQMig5NSkBAQEA | J70: 0 8 | K70: F1 0 1000 .95 | O70: 4 | P70: TRUE
A71: FIT_9BE1_8DD17 | B71: (P4) Prevalence rates of HPAI H5N1 due to failure in detection by active surveillance in farm | C71: ='FARM(B1)'!$I$54:$I$59 -> #VALUE! | D71: 0 | E71: F1 0 0 -1E+300 1E+300 1 0 0 0 0 1 25 BetaGeneral Binomial Expon ExtValue ExtValueMin Gamma Geomet IntUniform InvGauss Kumaraswamy Laplace Levy Logistic LogLogistic Lognorm NegBin Normal Pareto Pearson5 Pearson6 Poisson Reciprocal Triang Uniform Weibull 0 1 -1 1 0 1 0 0 0 | F71: GF1_rK0qDwEAEAAoAgwjACYANADJAN0A3gDsAPoA6QEkAgUCKgD//wAEAAAAAQQAAAAAAAAAAAFwRml0IENvbXBhcmlzb24gZm9yIChQNCkgUHJldmFsZW5jZSByYXRlcyBvZiBIUEFJIEg1TjEgZHVlIHRvIGZhaWx1cmUgaW4gZGV0ZWN0aW9uIGJ5IGFjdGl2ZSBzdXJ2ZWlsbGFuY2UgaW4gZmFybQEfUmlza1VuaWZvcm0oLTAuMDA3NzI3NywwLjE1MzY1KQEBEAACAAEKU3RhdGlzdGljcwMBAQD/AQEBAQEAAQEBAAQAAAABAQEBAQABAQEABAAAAAoZAQEoAQA5AQBPAQBlAQB7AQCRAQCnAQC9AQDTAQANAAVJbnB1dAAAJQEBAgAPAAdVbmlmb3JtAAEvAQACABQADFVudXNlZCBDdXJ2ZQACTwEAAgAUAAxVbnVzZWQgQ3VydmUAA4wBAAIAFAAMVW51c2VkIEN1cnZlAARMAQACABQADFVudXNlZCBDdXJ2ZQAFOQEAAgAUAAxVbnVzZWQgQ3VydmUABk4BAAIAFAAMVW51c2VkIEN1cnZlAAcjAQACABQADFVudXNlZCBDdXJ2ZQAIKQEAAgAUAAxVbnVzZWQgQ3VydmUACWABAAIA8QH7AQEBAgGamZmZmZmpPwAAZmZmZmZm7j8AAAUAAQEBGU1pbgpNYXgKTWVhbgpQMSg1KQpQMig5NSkBAQEA | J71: 0 8 | K71: F1 0 1000 .95 | O71: 4 | P71: TRUE
A72: FIT_44E7E_C9271 | B72: (P1) Prevalence rates of HPAI H5N1 infected poultry in Backyard (B2) in each EW | C72: ='Backyard(B2)'!$B$33:$B$38 -> #VALUE! | D72: 0 | E72: F1 0 0 -1E+300 1E+300 1 0 0 0 0 1 25 BetaGeneral Binomial Expon ExtValue ExtValueMin Gamma Geomet IntUniform InvGauss Kumaraswamy Laplace Levy Logistic LogLogistic Lognorm NegBin Normal Pareto Pearson5 Pearson6 Poisson Reciprocal Triang Uniform Weibull 0 1 -1 1 0 1 0 0 0 | F72: GF1_rK0qDwEAEAABAgwjACYANAC7AM8A0ADeAOwA2wH9AfcBKgD//wAAAAAAAQQAAAAAAAAAAAFiRml0IENvbXBhcmlzb24gZm9yIChQMSkgUHJldmFsZW5jZSByYXRlcyBvZiBIUEFJIEg1TjEgaW5mZWN0ZWQgcG91bHRyeSBpbiBCYWNreWFyZCAoQjIpIGluIGVhY2ggRVcBH1Jpc2tVbmlmb3JtKC0wLjAwNTgzMjksMC40OTcxNSkBARAAAgABClN0YXRpc3RpY3MDAQEA/wEBAQEBAAEBAQAEAAAAAQEBAQEAAQEBAAQAAAAKCwEBGgEAKwEAQQEAVwEAbQEAgwEAmQEArwEAxQEADQAFSW5wdXQAACUBAQIADwAHVW5pZm9ybQABLwEAAgAUAAxVbnVzZWQgQ3VydmUAAk8BAAIAFAAMVW51c2VkIEN1cnZlAAOMAQACABQADFVudXNlZCBDdXJ2ZQAETAEAAgAUAAxVbnVzZWQgQ3VydmUABTkBAAIAFAAMVW51c2VkIEN1cnZlAAZOAQACABQADFVudXNlZCBDdXJ2ZQAHIwEAAgAUAAxVbnVzZWQgQ3VydmUACCkBAAIAFAAMVW51c2VkIEN1cnZlAAlgAQACAOMB7QEBAQIBmpmZmZmZqT8AAGZmZmZmZu4/AAAFAAEBAQABAQEA | J72: 0 8 | K72: F1 0 1000 .95 | O72: 4 | P72: TRUE
A73: FIT_17043_5A412 | B73: (P2) Prevalence rates of HPAI H5N1 in domastic chicken in backyard | C73: ='Backyard(B2)'!$B$45:$B$50 -> #VALUE! | D73: 0 | E73: F1 0 0 -1E+300 1E+300 1 0 0 0 0 1 25 BetaGeneral Binomial Expon ExtValue ExtValueMin Gamma Geomet IntUniform InvGauss Kumaraswamy Laplace Levy Logistic LogLogistic Lognorm NegBin Normal Pareto Pearson5 Pearson6 Poisson Reciprocal Triang Uniform Weibull 0 1 -1 1 0 1 0 0 0 | F73: GF1_rK0qDwEAEADzAQwjACYANACtAMEAwgDQAN4AzQHvAekBKgD//wAAAAAAAQQAAAAAAAAAAAFVRml0IENvbXBhcmlzb24gZm9yIChQMikgUHJldmFsZW5jZSByYXRlcyBvZiBIUEFJIEg1TjEgaW4gZG9tYXN0aWMgY2hpY2tlbiBpbiBiYWNreWFyZAEeUmlza1VuaWZvcm0oLTAuMDIzNDA3LDAuMjU1OTgpAQEQAAIAAQpTdGF0aXN0aWNzAwEBAP8BAQEBAQABAQEABAAAAAEBAQEBAAEBAQAEAAAACv0AAQwBAB0BADMBAEkBAF8BAHUBAIsBAKEBALcBAA0ABUlucHV0AAAlAQECAA8AB1VuaWZvcm0AAS8BAAIAFAAMVW51c2VkIEN1cnZlAAJPAQACABQADFVudXNlZCBDdXJ2ZQADjAEAAgAUAAxVbnVzZWQgQ3VydmUABEwBAAIAFAAMVW51c2VkIEN1cnZlAAU5AQACABQADFVudXNlZCBDdXJ2ZQAGTgEAAgAUAAxVbnVzZWQgQ3VydmUAByMBAAIAFAAMVW51c2VkIEN1cnZlAAgpAQACABQADFVudXNlZCBDdXJ2ZQAJYAEAAgDVAd8BAQECAZqZmZmZmak/AABmZmZmZmbuPwAABQABAQEAAQEBAA== | J73: 0 8 | K73: F1 0 1000 .95 | O73: 4 | P73: TRUE
A74: FIT_49E5F_52413 | B74: (P3) Prevalence rates of HPAI H5N1 in mixed poultry in backyard | C74: ='Backyard(B2)'!$O$45:$O$50 -> #VALUE! | D74: 0 | E74: F1 0 0 -1E+300 1E+300 1 0 0 0 0 1 25 BetaGeneral Binomial Expon ExtValue ExtValueMin Gamma Geomet IntUniform InvGauss Kumaraswamy Laplace Levy Logistic LogLogistic Lognorm NegBin Normal Pareto Pearson5 Pearson6 Poisson Reciprocal Triang Uniform Weibull 0 1 -1 1 0 1 0 0 0 | F74: GF1_rK0qDwEAEADwAQwjACYANACqAL4AvwDNANsAygHsAeYBKgD//wAAAAAAAQQAAAAAAAAAAAFSRml0IENvbXBhcmlzb24gZm9yIChQMykgUHJldmFsZW5jZSByYXRlcyBvZiBIUEFJIEg1TjEgaW4gbWl4ZWQgcG91bHRyeSBpbiBiYWNreWFyZAEeUmlza1VuaWZvcm0oLTAuMDMyMDg3LDAuMjE4NjQpAQEQAAIAAQpTdGF0aXN0aWNzAwEBAP8BAQEBAQABAQEABAAAAAEBAQEBAAEBAQAEAAAACvoAAQkBABoBADABAEYBAFwBAHIBAIgBAJ4BALQBAA0ABUlucHV0AAAlAQECAA8AB1VuaWZvcm0AAS8BAAIAFAAMVW51c2VkIEN1cnZlAAJPAQACABQADFVudXNlZCBDdXJ2ZQADjAEAAgAUAAxVbnVzZWQgQ3VydmUABEwBAAIAFAAMVW51c2VkIEN1cnZlAAU5AQACABQADFVudXNlZCBDdXJ2ZQAGTgEAAgAUAAxVbnVzZWQgQ3VydmUAByMBAAIAFAAMVW51c2VkIEN1cnZlAAgpAQACABQADFVudXNlZCBDdXJ2ZQAJYAEAAgDSAdwBAQECAZqZmZmZmak/AABmZmZmZmbuPwAABQABAQEAAQEBAA== | J74: 0 8 | K74: F1 0 1000 .95 | O74: 4 | P74: TRUE
A75: FIT_F00D0_BA440 | B75: (P4) Prevalence rates ofHPAI H5N1 in reservoir poultry in backyard | C75: ='Backyard(B2)'!$AB$45:$AB$50 -> #VALUE! | D75: 0 | E75: F1 0 0 -1E+300 1E+300 1 0 0 0 0 1 25 BetaGeneral Binomial Expon ExtValue ExtValueMin Gamma Geomet IntUniform InvGauss Kumaraswamy Laplace Levy Logistic LogLogistic Lognorm NegBin Normal Pareto Pearson5 Pearson6 Poisson Reciprocal Triang Uniform Weibull 0 1 -1 1 0 1 0 0 0 | F75: GF1_rK0qDwEAEAD7AQwjACYANAC3AMsAzADaAOgA1QH3AfEBKgD//wAAAAAAAQQAAAAAAAAAAAFVRml0IENvbXBhcmlzb24gZm9yIChQNCkgUHJldmFsZW5jZSByYXRlcyBvZkhQQUkgSDVOMSBpbiByZXNlcnZvaXIgcG91bHRyeSBpbiBiYWNreWFyZAEoUmlza0V4cG9uKDAuMDY3ODU2LFJpc2tTaGlmdCgtMC4wMTEzMDkpKQEBEAACAAEKU3RhdGlzdGljcwMBAQD/AQEBAQEAAQEBAAQAAAABAQEBAQABAQEABAAAAAoHAQEWAQAlAQA7AQBRAQBnAQB9AQCTAQCpAQC/AQANAAVJbnB1dAAAJQEBAgANAAVFeHBvbgABLwEAAgAUAAxVbnVzZWQgQ3VydmUAAk8BAAIAFAAMVW51c2VkIEN1cnZlAAOMAQACABQADFVudXNlZCBDdXJ2ZQAETAEAAgAUAAxVbnVzZWQgQ3VydmUABTkBAAIAFAAMVW51c2VkIEN1cnZlAAZOAQACABQADFVudXNlZCBDdXJ2ZQAHIwEAAgAUAAxVbnVzZWQgQ3VydmUACCkBAAIAFAAMVW51c2VkIEN1cnZlAAlgAQACAN0B5wEBAQIBmpmZmZmZqT8AAGZmZmZmZu4/AAAFAAEBAQABAQEA | J75: 0 8 | K75: F1 0 1000 .95 | O75: 4 | P75: TRUE
A76: FIT_DD0E7_7427 | B76: (P5) Prevalence rates of H5N1 in domestic chicken due to failure in detection by passive surveillance in backyard | C76: ='Backyard(B2)'!$C$58:$C$63 -> #VALUE! | D76: 0 | E76: F1 0 0 -1E+300 1E+300 1 0 0 0 0 1 25 BetaGeneral Binomial Expon ExtValue ExtValueMin Gamma Geomet IntUniform InvGauss Kumaraswamy Laplace Levy Logistic LogLogistic Lognorm NegBin Normal Pareto Pearson5 Pearson6 Poisson Reciprocal Triang Uniform Weibull 0 1 -1 1 0 1 0 0 0 | F76: GF1_rK0qDwEAEAAkAgwjACYANADeAPIA8wABAQ8B/gEgAhoCKgD//wAAAAAAAQQAAAAAAAAAAAGEAUZpdCBDb21wYXJpc29uIGZvciAoUDUpIFByZXZhbGVuY2UgcmF0ZXMgb2YgSDVOMSBpbiBkb21lc3RpYyBjaGlja2VuIGR1ZSB0byBmYWlsdXJlIGluIGRldGVjdGlvbiBieSBwYXNzaXZlIHN1cnZlaWxsYW5jZSBpbiBiYWNreWFyZAEfUmlza1VuaWZvcm0oLTAuMDEwODg1LDAuMDkwMDcxKQEBEAACAAEKU3RhdGlzdGljcwMBAQD/AQEBAQEAAQEBAAQAAAABAQEBAQABAQEABAAAAAouAQE9AQBOAQBkAQB6AQCQAQCmAQC8AQDSAQDoAQANAAVJbnB1dAAAJQEBAgAPAAdVbmlmb3JtAAEvAQACABQADFVudXNlZCBDdXJ2ZQACTwEAAgAUAAxVbnVzZWQgQ3VydmUAA4wBAAIAFAAMVW51c2VkIEN1cnZlAARMAQACABQADFVudXNlZCBDdXJ2ZQAFOQEAAgAUAAxVbnVzZWQgQ3VydmUABk4BAAIAFAAMVW51c2VkIEN1cnZlAAcjAQACABQADFVudXNlZCBDdXJ2ZQAIKQEAAgAUAAxVbnVzZWQgQ3VydmUACWABAAIABgIQAgEBAgGamZmZmZmpPwAAZmZmZmZm7j8AAAUAAQEBAAEBAQA= | J76: 0 8 | K76: F1 0 1000 .95 | O76: 4 | P76: TRUE
A77: FIT_F41C0_ACC39 | B77: (P6) Prevalence rates of H5N1 in domestic chicken due to failure in detection by active surveillance in backyard | C77: ='Backyard(B2)'!$I$58:$I$63 -> #VALUE! | D77: 0 | E77: F1 0 0 -1E+300 1E+300 1 0 0 0 0 1 25 BetaGeneral Binomial Expon ExtValue ExtValueMin Gamma Geomet IntUniform InvGauss Kumaraswamy Laplace Levy Logistic LogLogistic Lognorm NegBin Normal Pareto Pearson5 Pearson6 Poisson Reciprocal Triang Uniform Weibull 0 1 -1 1 0 1 0 0 0 | F77: GF1_rK0qDwEAEAAfAgwjACYANADaAO4A7wD9AAsB+QEbAhUCKgD//wAAAAAAAQQAAAAAAAAAAAGDAUZpdCBDb21wYXJpc29uIGZvciAoUDYpIFByZXZhbGVuY2UgcmF0ZXMgb2YgSDVOMSBpbiBkb21lc3RpYyBjaGlja2VuIGR1ZSB0byBmYWlsdXJlIGluIGRldGVjdGlvbiBieSBhY3RpdmUgc3VydmVpbGxhbmNlIGluIGJhY2t5YXJkARxSaXNrUGFyZXRvKDAuNzY0ODYsMC4wMTI5NjgpAQEQAAIAAQpTdGF0aXN0aWNzAwEBAP8BAQEBAQABAQEABAAAAAEBAQEBAAEBAQAEAAAACioBATkBAEkBAF8BAHUBAIsBAKEBALcBAM0BAOMBAA0ABUlucHV0AAAlAQECAA4ABlBhcmV0bwABLwEAAgAUAAxVbnVzZWQgQ3VydmUAAk8BAAIAFAAMVW51c2VkIEN1cnZlAAOMAQACABQADFVudXNlZCBDdXJ2ZQAETAEAAgAUAAxVbnVzZWQgQ3VydmUABTkBAAIAFAAMVW51c2VkIEN1cnZlAAZOAQACABQADFVudXNlZCBDdXJ2ZQAHIwEAAgAUAAxVbnVzZWQgQ3VydmUACCkBAAIAFAAMVW51c2VkIEN1cnZlAAlgAQACAAECCwIBAQIBmpmZmZmZqT8AAGZmZmZmZu4/AAAFAAEBAQABAQEA | J77: 0 8 | K77: F1 0 1000 .95 | O77: 4 | P77: TRUE
A78: FIT_532EB_84097 | B78: (P7) Prevalence rates of H5N1 in mixed poultry due to failure in detection by passive surveillance in backyard | C78: ='Backyard(B2)'!$O$58:$O$63 -> #VALUE! | D78: 0 | E78: F1 0 0 -1E+300 1E+300 1 0 0 0 0 1 25 BetaGeneral Binomial Expon ExtValue ExtValueMin Gamma Geomet IntUniform InvGauss Kumaraswamy Laplace Levy Logistic LogLogistic Lognorm NegBin Normal Pareto Pearson5 Pearson6 Poisson Reciprocal Triang Uniform Weibull 0 1 -1 1 0 1 0 0 0 | F78: GF1_rK0qDwEAEAAeAgwjACYANADZAO0A7gD8AAoB+AEaAhQCKgD//wAAAAAAAQQAAAAAAAAAAAGBAUZpdCBDb21wYXJpc29uIGZvciAoUDcpIFByZXZhbGVuY2UgcmF0ZXMgb2YgSDVOMSBpbiBtaXhlZCBwb3VsdHJ5IGR1ZSB0byBmYWlsdXJlIGluIGRldGVjdGlvbiBieSBwYXNzaXZlIHN1cnZlaWxsYW5jZSBpbiBiYWNreWFyZAEdUmlza1BhcmV0bygwLjUxNDgxLDAuMDAyMzU3OSkBARAAAgABClN0YXRpc3RpY3MDAQEA/wEBAQEBAAEBAQAEAAAAAQEBAQEAAQEBAAQAAAAKKQEBOAEASAEAXgEAdAEAigEAoAEAtgEAzAEA4gEADQAFSW5wdXQAACUBAQIADgAGUGFyZXRvAAEvAQACABQADFVudXNlZCBDdXJ2ZQACTwEAAgAUAAxVbnVzZWQgQ3VydmUAA4wBAAIAFAAMVW51c2VkIEN1cnZlAARMAQACABQADFVudXNlZCBDdXJ2ZQAFOQEAAgAUAAxVbnVzZWQgQ3VydmUABk4BAAIAFAAMVW51c2VkIEN1cnZlAAcjAQACABQADFVudXNlZCBDdXJ2ZQAIKQEAAgAUAAxVbnVzZWQgQ3VydmUACWABAAIAAAIKAgEBAgGamZmZmZmpPwAAZmZmZmZm7j8AAAUAAQEBAAEBAQA= | J78: 0 8 | K78: F1 0 1000 .95 | O78: 4 | P78: TRUE
A79: FIT_7D2A_BE544 | B79: (P8) Prevalence rates of H5N1 in mixed poultry due to failure in detection by active surveillance in backyard | C79: ='Backyard(B2)'!$U$58:$U$63 -> #VALUE! | D79: 0 | E79: F1 0 0 -1E+300 1E+300 1 0 0 0 0 1 25 BetaGeneral Binomial Expon ExtValue ExtValueMin Gamma Geomet IntUniform InvGauss Kumaraswamy Laplace Levy Logistic LogLogistic Lognorm NegBin Normal Pareto Pearson5 Pearson6 Poisson Reciprocal Triang Uniform Weibull 0 1 -1 1 0 1 0 0 0 | F79: GF1_rK0qDwEAEAAfAgwjACYANADZAO0A7gD8AAoB+QEbAhUCKgD//wAAAAAAAQQAAAAAAAAAAAGAAUZpdCBDb21wYXJpc29uIGZvciAoUDgpIFByZXZhbGVuY2UgcmF0ZXMgb2YgSDVOMSBpbiBtaXhlZCBwb3VsdHJ5IGR1ZSB0byBmYWlsdXJlIGluIGRldGVjdGlvbiBieSBhY3RpdmUgc3VydmVpbGxhbmNlIGluIGJhY2t5YXJkAR5SaXNrVW5pZm9ybSgtMC4wMjMxOTgsMC4xMzkxOSkBARAAAgABClN0YXRpc3RpY3MDAQEA/wEBAQEBAAEBAQAEAAAAAQEBAQEAAQEBAAQAAAAKKQEBOAEASQEAXwEAdQEAiwEAoQEAtwEAzQEA4wEADQAFSW5wdXQAACUBAQIADwAHVW5pZm9ybQABLwEAAgAUAAxVbnVzZWQgQ3VydmUAAk8BAAIAFAAMVW51c2VkIEN1cnZlAAOMAQACABQADFVudXNlZCBDdXJ2ZQAETAEAAgAUAAxVbnVzZWQgQ3VydmUABTkBAAIAFAAMVW51c2VkIEN1cnZlAAZOAQACABQADFVudXNlZCBDdXJ2ZQAHIwEAAgAUAAxVbnVzZWQgQ3VydmUACCkBAAIAFAAMVW51c2VkIEN1cnZlAAlgAQACAAECCwIBAQIBmpmZmZmZqT8AAGZmZmZmZu4/AAAFAAEBAQABAQEA | J79: 0 8 | K79: F1 0 1000 .95 | O79: 4 | P79: TRUE
A80: FIT_B7DD7_E79AF | B80: (P9) Prevalence rates of H5N1 in reservoir poultry due to failure in detection by passive surveillance in backyard | C80: ='Backyard(B2)'!$AB$58:$AB$63 -> #VALUE! | D80: 0 | E80: F1 0 0 -1E+300 1E+300 1 0 0 0 0 1 25 BetaGeneral Binomial Expon ExtValue ExtValueMin Gamma Geomet IntUniform InvGauss Kumaraswamy Laplace Levy Logistic LogLogistic Lognorm NegBin Normal Pareto Pearson5 Pearson6 Poisson Reciprocal Triang Uniform Weibull 0 1 -1 1 0 1 0 0 0 | F80: GF1_rK0qDwEAEAAvAgwjACYANADrAP8AAAEOARwBCQIrAiUCKgD//wAAAAAAAQQAAAAAAAAAAAGGAUZpdCBDb21wYXJpc29uIGZvciAoUDkpIFByZXZhbGVuY2UgcmF0ZXMgb2YgSDVOMSBpbiByZXNlcnZvaXIgcG91bHRyeSBkdWUgdG8gZmFpbHVyZSBpbiBkZXRlY3Rpb24gYnkgIHBhc3NpdmUgc3VydmVpbGxhbmNlIGluIGJhY2t5YXJkASpSaXNrRXhwb24oMC4wMDgwMDQxLFJpc2tTaGlmdCgtMC4wMDEzMzQwKSkBARAAAgABClN0YXRpc3RpY3MDAQEA/wEBAQEBAAEBAQAEAAAAAQEBAQEAAQEBAAQAAAAKOwEBSgEAWQEAbwEAhQEAmwEAsQEAxwEA3QEA8wEADQAFSW5wdXQAACUBAQIADQAFRXhwb24AAS8BAAIAFAAMVW51c2VkIEN1cnZlAAJPAQACABQADFVudXNlZCBDdXJ2ZQADjAEAAgAUAAxVbnVzZWQgQ3VydmUABEwBAAIAFAAMVW51c2VkIEN1cnZlAAU5AQACABQADFVudXNlZCBDdXJ2ZQAGTgEAAgAUAAxVbnVzZWQgQ3VydmUAByMBAAIAFAAMVW51c2VkIEN1cnZlAAgpAQACABQADFVudXNlZCBDdXJ2ZQAJYAEAAgARAhsCAQECAZqZmZmZmak/AABmZmZmZmbuPwAABQABAQEAAQEBAA== | J80: 0 8 | K80: F1 0 1000 .95 | O80: 4 | P80: TRUE
A81: FIT_BCF75_C3619 | B81: (P10) Prevalence rates of H5N1 in reservoir poultry due to failure in detection by active surveillance in backyard | C81: ='Backyard(B2)'!$AG$58:$AG$63 -> #VALUE! | D81: 0 | E81: F1 0 0 -1E+300 1E+300 1 0 0 0 0 1 25 BetaGeneral Binomial Expon ExtValue ExtValueMin Gamma Geomet IntUniform InvGauss Kumaraswamy Laplace Levy Logistic LogLogistic Lognorm NegBin Normal Pareto Pearson5 Pearson6 Poisson Reciprocal Triang Uniform Weibull 0 1 -1 1 0 1 0 0 0 | F81: GF1_rK0qDwEAEAAtAgwjACYANADpAP0A/gAMARoBBwIpAiMCKgD//wAAAAAAAQQAAAAAAAAAAAGFAUZpdCBDb21wYXJpc29uIGZvciAoUDEwKSBQcmV2YWxlbmNlIHJhdGVzIG9mIEg1TjEgaW4gcmVzZXJ2b2lyIHBvdWx0cnkgZHVlIHRvIGZhaWx1cmUgaW4gZGV0ZWN0aW9uIGJ5IGFjdGl2ZSBzdXJ2ZWlsbGFuY2UgaW4gYmFja3lhcmQBKVJpc2tFeHBvbigwLjA1OTg1MixSaXNrU2hpZnQoLTAuMDA5OTc1MykpAQEQAAIAAQpTdGF0aXN0aWNzAwEBAP8BAQEBAQABAQEABAAAAAEBAQEBAAEBAQAEAAAACjkBAUgBAFcBAG0BAIMBAJkBAK8BAMUBANsBAPEBAA0ABUlucHV0AAAlAQECAA0ABUV4cG9uAAEvAQACABQADFVudXNlZCBDdXJ2ZQACTwEAAgAUAAxVbnVzZWQgQ3VydmUAA4wBAAIAFAAMVW51c2VkIEN1cnZlAARMAQACABQADFVudXNlZCBDdXJ2ZQAFOQEAAgAUAAxVbnVzZWQgQ3VydmUABk4BAAIAFAAMVW51c2VkIEN1cnZlAAcjAQACABQADFVudXNlZCBDdXJ2ZQAIKQEAAgAUAAxVbnVzZWQgQ3VydmUACWABAAIADwIZAgEBAgGamZmZmZmpPwAAZmZmZmZm7j8AAAUAAQEBAAEBAQA= | J81: 0 8 | K81: F1 0 1000 .95 | O81: 4 | P81: TRUE
A82: FIT_5FB1C_90E1C | B82: (P1) Prevalence rates of HPAI H5N1 infected poultry in Backyard (B2) in each EW 2 | C82: ='Backyard(B2)'!$B$33:$B$38 -> #VALUE! | D82: 0 | E82: F1 0 0 -1E+300 1E+300 1 0 0 0 0 1 25 BetaGeneral Binomial Expon ExtValue ExtValueMin Gamma Geomet IntUniform InvGauss Kumaraswamy Laplace Levy Logistic LogLogistic Lognorm NegBin Normal Pareto Pearson5 Pearson6 Poisson Reciprocal Triang Uniform Weibull 0 1 -1 1 0 1 0 0 0 | F82: GF1_rK0qDwEAEAAcAgwjACYANAC9ANEA0gDgAO4A3QEYAvkBKgD//wAEAAAAAQQAAAAAAAAAAAFkRml0IENvbXBhcmlzb24gZm9yIChQMSkgUHJldmFsZW5jZSByYXRlcyBvZiBIUEFJIEg1TjEgaW5mZWN0ZWQgcG91bHRyeSBpbiBCYWNreWFyZCAoQjIpIGluIGVhY2ggRVcgMgEfUmlza1VuaWZvcm0oLTAuMDA1ODMyOSwwLjQ5NzE1KQEBEAACAAEKU3RhdGlzdGljcwMBAQD/AQEBAQEAAQEBAAQAAAABAQEBAQABAQEABAAAAAoNAQEcAQAtAQBDAQBZAQBvAQCFAQCbAQCxAQDHAQANAAVJbnB1dAAAJQEBAgAPAAdVbmlmb3JtAAEvAQACABQADFVudXNlZCBDdXJ2ZQACTwEAAgAUAAxVbnVzZWQgQ3VydmUAA4wBAAIAFAAMVW51c2VkIEN1cnZlAARMAQACABQADFVudXNlZCBDdXJ2ZQAFOQEAAgAUAAxVbnVzZWQgQ3VydmUABk4BAAIAFAAMVW51c2VkIEN1cnZlAAcjAQACABQADFVudXNlZCBDdXJ2ZQAIKQEAAgAUAAxVbnVzZWQgQ3VydmUACWABAAIA5QHvAQEBAgGamZmZmZmpPwAAZmZmZmZm7j8AAAUAAQEBGU1pbgpNYXgKTWVhbgpQMSg1KQpQMig5NSkBAQEA | J82: 0 8 | K82: F1 0 1000 .95 | O82: 4 | P82: TRUE
A83: FIT_CFDCB_BC505 | B83: (P2) Prevalence rates of HPAI H5N1 in domastic chicken in backyard 2 | C83: ='Backyard(B2)'!$B$45:$B$50 -> #VALUE! | D83: 0 | E83: F1 0 0 -1E+300 1E+300 1 0 0 0 0 1 25 BetaGeneral Binomial Expon ExtValue ExtValueMin Gamma Geomet IntUniform InvGauss Kumaraswamy Laplace Levy Logistic LogLogistic Lognorm NegBin Normal Pareto Pearson5 Pearson6 Poisson Reciprocal Triang Uniform Weibull 0 1 -1 1 0 1 0 0 0 | F83: GF1_rK0qDwEAEAAOAgwjACYANACvAMMAxADSAOAAzwEKAusBKgD//wAEAAAAAQQAAAAAAAAAAAFXRml0IENvbXBhcmlzb24gZm9yIChQMikgUHJldmFsZW5jZSByYXRlcyBvZiBIUEFJIEg1TjEgaW4gZG9tYXN0aWMgY2hpY2tlbiBpbiBiYWNreWFyZCAyAR5SaXNrVW5pZm9ybSgtMC4wMjM0MDcsMC4yNTU5OCkBARAAAgABClN0YXRpc3RpY3MDAQEA/wEBAQEBAAEBAQAEAAAAAQEBAQEAAQEBAAQAAAAK/wABDgEAHwEANQEASwEAYQEAdwEAjQEAowEAuQEADQAFSW5wdXQAACUBAQIADwAHVW5pZm9ybQABLwEAAgAUAAxVbnVzZWQgQ3VydmUAAk8BAAIAFAAMVW51c2VkIEN1cnZlAAOMAQACABQADFVudXNlZCBDdXJ2ZQAETAEAAgAUAAxVbnVzZWQgQ3VydmUABTkBAAIAFAAMVW51c2VkIEN1cnZlAAZOAQACABQADFVudXNlZCBDdXJ2ZQAHIwEAAgAUAAxVbnVzZWQgQ3VydmUACCkBAAIAFAAMVW51c2VkIEN1cnZlAAlgAQACANcB4QEBAQIBmpmZmZmZqT8AAGZmZmZmZu4/AAAFAAEBARlNaW4KTWF4Ck1lYW4KUDEoNSkKUDIoOTUpAQEBAA== | J83: 0 8 | K83: F1 0 1000 .95 | O83: 4 | P83: TRUE
A84: FIT_C698F_3114B | B84: (P4) Prevalence rates ofHPAI H5N1 in reservoir poultry in backyard 2 | C84: ='Backyard(B2)'!$AB$45:$AB$50 -> #VALUE! | D84: 0 | E84: F1 0 0 -1E+300 1E+300 1 0 0 0 0 1 25 BetaGeneral Binomial Expon ExtValue ExtValueMin Gamma Geomet IntUniform InvGauss Kumaraswamy Laplace Levy Logistic LogLogistic Lognorm NegBin Normal Pareto Pearson5 Pearson6 Poisson Reciprocal Triang Uniform Weibull 0 1 -1 1 0 1 0 0 0 | F84: GF1_rK0qDwEAEAD9AQwjACYANAC5AM0AzgDcAOoA1wH5AfMBKgD//wAEAAAAAQQAAAAAAAAAAAFXRml0IENvbXBhcmlzb24gZm9yIChQNCkgUHJldmFsZW5jZSByYXRlcyBvZkhQQUkgSDVOMSBpbiByZXNlcnZvaXIgcG91bHRyeSBpbiBiYWNreWFyZCAyAShSaXNrRXhwb24oMC4wNjc4NTYsUmlza1NoaWZ0KC0wLjAxMTMwOSkpAQEQAAIAAQpTdGF0aXN0aWNzAwEBAP8BAQEBAQABAQEABAAAAAEBAQEBAAEBAQAEAAAACgkBARgBACcBAD0BAFMBAGkBAH8BAJUBAKsBAMEBAA0ABUlucHV0AAAlAQECAA0ABUV4cG9uAAEvAQACABQADFVudXNlZCBDdXJ2ZQACTwEAAgAUAAxVbnVzZWQgQ3VydmUAA4wBAAIAFAAMVW51c2VkIEN1cnZlAARMAQACABQADFVudXNlZCBDdXJ2ZQAFOQEAAgAUAAxVbnVzZWQgQ3VydmUABk4BAAIAFAAMVW51c2VkIEN1cnZlAAcjAQACABQADFVudXNlZCBDdXJ2ZQAIKQEAAgAUAAxVbnVzZWQgQ3VydmUACWABAAIA3wHpAQEBAgGamZmZmZmpPwAAZmZmZmZm7j8AAAUAAQEBAAEBAQA= | J84: 0 8 | K84: F1 0 1000 .95 | O84: 4 | P84: TRUE
A85: FIT_478F3_2E62D | B85: Dataset 1 | C85: ='Backyard(B2)'!$AB$42:$AB$50 -> #VALUE! | D85: 0 | E85: F1 0 0 -1E+300 1E+300 1 0 0 0 0 1 25 BetaGeneral Binomial Expon ExtValue ExtValueMin Gamma Geomet IntUniform InvGauss Kumaraswamy Laplace Levy Logistic LogLogistic Lognorm NegBin Normal Pareto Pearson5 Pearson6 Poisson Reciprocal Triang Uniform Weibull 0 1 -1 1 0 1 0 0 0 | F85: GF1_rK0qDwEAEAC3AQwjACYANAB0AIgAiQCXAKUAkQGzAa0BKgD//wAAAAAAAQQAAAAAAAAAAAEcRml0IENvbXBhcmlzb24gZm9yIERhdGFzZXQgMQEeUmlza0xldnkoLTAuMDAxNTQ0MSwwLjAwNDk5MzApAQEQAAIAAQpTdGF0aXN0aWNzAwEBAP8BAQEBAQABAQEABAAAAAEBAQEBAAEBAQAEAAAACsQAAdMAAOEAAPcAAA0BACMBADkBAE8BAGUBAHsBAA0ABUlucHV0AAAlAQECAAwABExldnkAAS8BAAIAFAAMVW51c2VkIEN1cnZlAAJPAQACABQADFVudXNlZCBDdXJ2ZQADjAEAAgAUAAxVbnVzZWQgQ3VydmUABEwBAAIAFAAMVW51c2VkIEN1cnZlAAU5AQACABQADFVudXNlZCBDdXJ2ZQAGTgEAAgAUAAxVbnVzZWQgQ3VydmUAByMBAAIAFAAMVW51c2VkIEN1cnZlAAgpAQACABQADFVudXNlZCBDdXJ2ZQAJYAEAAgCZAaMBAQECAZqZmZmZmak/AABmZmZmZmbuPwAABQABAQEAAQEBAA== | J85: 0 8 | K85: F1 0 1000 .95 | O85: 4 | P85: TRUE
A86: FIT_E3B7B_77AC2 | B86: (P4) Prevalence rates ofHPAI H5N1 in reservoir poultry in backyard 3 | C86: ='Backyard(B2)'!$AB$45:$AB$50 -> #VALUE! | D86: 0 | E86: F1 0 0 -1E+300 1E+300 1 0 0 0 0 1 25 BetaGeneral Binomial Expon ExtValue ExtValueMin Gamma Geomet IntUniform InvGauss Kumaraswamy Laplace Levy Logistic LogLogistic Lognorm NegBin Normal Pareto Pearson5 Pearson6 Poisson Reciprocal Triang Uniform Weibull 0 1 -1 1 0 1 0 0 0 | F86: GF1_rK0qDwEAEAD9AQwjACYANAC5AM0AzgDcAOoA1wH5AfMBKgD//wAEAAAAAQQAAAAAAAAAAAFXRml0IENvbXBhcmlzb24gZm9yIChQNCkgUHJldmFsZW5jZSByYXRlcyBvZkhQQUkgSDVOMSBpbiByZXNlcnZvaXIgcG91bHRyeSBpbiBiYWNreWFyZCAzAShSaXNrRXhwb24oMC4wNjc4NTYsUmlza1NoaWZ0KC0wLjAxMTMwOSkpAQEQAAIAAQpTdGF0aXN0aWNzAwEBAP8BAQEBAQABAQEABAAAAAEBAQEBAAEBAQAEAAAACgkBARgBACcBAD0BAFMBAGkBAH8BAJUBAKsBAMEBAA0ABUlucHV0AAAlAQECAA0ABUV4cG9uAAEvAQACABQADFVudXNlZCBDdXJ2ZQACTwEAAgAUAAxVbnVzZWQgQ3VydmUAA4wBAAIAFAAMVW51c2VkIEN1cnZlAARMAQACABQADFVudXNlZCBDdXJ2ZQAFOQEAAgAUAAxVbnVzZWQgQ3VydmUABk4BAAIAFAAMVW51c2VkIEN1cnZlAAcjAQACABQADFVudXNlZCBDdXJ2ZQAIKQEAAgAUAAxVbnVzZWQgQ3VydmUACWABAAIA3wHpAQEBAgGamZmZmZmpPwAAZmZmZmZm7j8AAAUAAQEBAAEBAQA= | J86: 0 8 | K86: F1 0 1000 .95 | O86: 4 | P86: TRUE
A87: FIT_E2768_7C588 | B87: (P2) Prevalence rates of H5N1 in poultry due to failure in detection by passive surveillance in backyard | C87: ='Backyard(B2)'!$AQ$56:$AQ$61 -> #VALUE! | D87: 0 | E87: F1 0 0 -1E+300 1E+300 1 0 0 0 0 1 25 BetaGeneral Binomial Expon ExtValue ExtValueMin Gamma Geomet IntUniform InvGauss Kumaraswamy Laplace Levy Logistic LogLogistic Lognorm NegBin Normal Pareto Pearson5 Pearson6 Poisson Reciprocal Triang Uniform Weibull 0 1 -1 1 0 1 0 0 0 | F87: GF1_rK0qDwEAEAAYAgwjACYANADTAOcA6AD2AAQB8gEUAg4CKgD//wAEAAAAAQQAAAAAAAAAAAF8Rml0IENvbXBhcmlzb24gZm9yIChQMikgUHJldmFsZW5jZSByYXRlcyBvZiBINU4xIGluIHBvdWx0cnkgZHVlIHRvIGZhaWx1cmUgaW4gZGV0ZWN0aW9uIGJ5ICBwYXNzaXZlIHN1cnZlaWxsYW5jZSBpbiBiYWNreWFyZAEdUmlza1BhcmV0bygwLjYzMDM4LDAuMDA5NDMxNikBARAAAgABClN0YXRpc3RpY3MDAQEA/wEBAQEBAAEBAQAEAAAAAQEBAQEAAQEBAAQAAAAKIwEBMgEAQgEAWAEAbgEAhAEAmgEAsAEAxgEA3AEADQAFSW5wdXQAACUBAQIADgAGUGFyZXRvAAEvAQACABQADFVudXNlZCBDdXJ2ZQACTwEAAgAUAAxVbnVzZWQgQ3VydmUAA4wBAAIAFAAMVW51c2VkIEN1cnZlAARMAQACABQADFVudXNlZCBDdXJ2ZQAFOQEAAgAUAAxVbnVzZWQgQ3VydmUABk4BAAIAFAAMVW51c2VkIEN1cnZlAAcjAQACABQADFVudXNlZCBDdXJ2ZQAIKQEAAgAUAAxVbnVzZWQgQ3VydmUACWABAAIA+gEEAgEBAgGamZmZmZmpPwAAZmZmZmZm7j8AAAUAAQEBAAEBAQA= | J87: 0 8 | K87: F1 0 1000 .95 | O87: 4 | P87: TRUE
A88: FIT_8BFFA_AE778 | B88: (P3) Prevalence rates of H5N1 in poultry due to failure in detection by active surveillance in backyard | C88: ='Backyard(B2)'!$AU$56:$AU$61 -> #VALUE! | D88: 0 | E88: F1 0 0 -1E+300 1E+300 1 0 0 0 0 1 25 BetaGeneral Binomial Expon ExtValue ExtValueMin Gamma Geomet IntUniform InvGauss Kumaraswamy Laplace Levy Logistic LogLogistic Lognorm NegBin Normal Pareto Pearson5 Pearson6 Poisson Reciprocal Triang Uniform Weibull 0 1 -1 1 0 1 0 0 0 | F88: GF1_rK0qDwEAEAAZAgwjACYANADTAOcA6AD2AAQB8wEVAg8CKgD//wAEAAAAAQQAAAAAAAAAAAF6Rml0IENvbXBhcmlzb24gZm9yIChQMykgUHJldmFsZW5jZSByYXRlcyBvZiBINU4xIGluIHBvdWx0cnkgZHVlIHRvIGZhaWx1cmUgaW4gZGV0ZWN0aW9uIGJ5IGFjdGl2ZSBzdXJ2ZWlsbGFuY2UgaW4gYmFja3lhcmQBH1Jpc2tVbmlmb3JtKC0wLjAwNDI2MzIsMC4zMzkwMSkBARAAAgABClN0YXRpc3RpY3MDAQEA/wEBAQEBAAEBAQAEAAAAAQEBAQEAAQEBAAQAAAAKIwEBMgEAQwEAWQEAbwEAhQEAmwEAsQEAxwEA3QEADQAFSW5wdXQAACUBAQIADwAHVW5pZm9ybQABLwEAAgAUAAxVbnVzZWQgQ3VydmUAAk8BAAIAFAAMVW51c2VkIEN1cnZlAAOMAQACABQADFVudXNlZCBDdXJ2ZQAETAEAAgAUAAxVbnVzZWQgQ3VydmUABTkBAAIAFAAMVW51c2VkIEN1cnZlAAZOAQACABQADFVudXNlZCBDdXJ2ZQAHIwEAAgAUAAxVbnVzZWQgQ3VydmUACCkBAAIAFAAMVW51c2VkIEN1cnZlAAlgAQACAPsBBQIBAQIBmpmZmZmZqT8AAGZmZmZmZu4/AAAFAAEBAQABAQEA | J88: 0 8 | K88: F1 0 1000 .95 | O88: 4 | P88: TRUE

Sheet RiskSerializationData
A1: 9 | B1: 0
A2: 0
A3: ='FARM(B1)'!$T$66 -> 0 | B3: TRUE | C3: 0 | D3: 1 | F3: 1 | G3: 1 | H3: 2 | I3: GF1_Z0CmcQEAEAChAQwjACYAMgBRAV8BYAF/AY0BAAAAAJkBKAD//wABEAEEAAAAAAAAAAAB8AFQcm9iYWJpbGl0eSB0aGF0IGF0IGxlYXN0IG9uZSBiaXJkIGlzIGluZmVjdGVkIHdpdGggSFBBSSBINU4xIGR1ZSB0byBtaXNzZWQgdmFjY2luYXRpb24sIG5vdCBkZXRlY3RlZCBieSBwYXNzaXZlIGFuZCAgYWN0aXZlIHN1cnZpZWxsYW5jZSBpbiBzaXggZXBpZGVtaWMgd2F2ZXMgKEV3ICgxLTYpKSBpbiBmYXJtcyAoQjEpIGluIE1lbm9maWEsIEVneXB0IChCMVQxVlMoMS0yKSkgIFIxPSAxLSgxLVAqcDIqcDMqcDQpXk4BKENvcnJlbGF0aW9uIENvZWZmaWNpZW50cyAoU3BlYXJtYW4gUmFuaykBAQoAAgABBE5vbmUDAAEA/wEBAQEBEUNvZWZmaWNpZW50IFZhbHVlAQEBAAQAAAABAQEBAQABAQEABAAAAAGRAQMIAAAAAC8BAAUAAQEBAAAB_x0001_0~0~>75%~<25%~>90%~_x0002__x0003_10~0~0.95~1~False~False~True~0.1~ | J3: >75% | K3: <25% | L3: >90% | AG3: ='FARM(B1)'!$T$66 -> 0 | AH3: 2 | AI3: 1 | AJ3: FALSE | AK3: TRUE | AL3: 0 | AM3: FALSE | AN3: =_ -> #NAME?
A4: ='FARM(B1)'!$T$67 -> 0 | B4: TRUE | C4: 0 | D4: 1 | E4: GF1_rK0qDwEAEABNAgwjACYAOAASASYBJwE1AUMBJwJJAkMCKgD//wAEAAAAAQQAAAAABDAuMDAAAAAB0wFOdW1iZXIgb2YgYmlyZHMgaW5mZWN0ZWQgd2l0aCBIUEFJIEg1TjEgZHVlIHRvIG1pc3NlZCB2YWNjaW5hdGlvbiwgbm90IGRldGVjdGVkIGJ5IHBhc3NpdmUgYW5kIGFjdGl2ZSBzdXJ2ZWlsbGFuY2UgaW4gc2l4IGVwaWRlbWljIHdhdmVzIChFdyAoMS02KSkgaW4gZmFybXMgKEIxKSBpbiBNZW5vZmlhLCBFZ3lwdCAoQjFUMVZTKDEtMikpICBTMT0gTipQKnAyKnAzKnA0AQABARAAAgABClN0YXRpc3RpY3MDAQEA/wEBAQEBAAEBAQAEAAAAAQEBAQEAAQEBAAQAAAABRwEC3ADTAU51bWJlciBvZiBiaXJkcyBpbmZlY3RlZCB3aXRoIEhQQUkgSDVOMSBkdWUgdG8gbWlzc2VkIHZhY2NpbmF0aW9uLCBub3QgZGV0ZWN0ZWQgYnkgcGFzc2l2ZSBhbmQgYWN0aXZlIHN1cnZlaWxsYW5jZSBpbiBzaXggZXBpZGVtaWMgd2F2ZXMgKEV3ICgxLTYpKSBpbiBmYXJtcyAoQjEpIGluIE1lbm9maWEsIEVneXB0IChCMVQxVlMoMS0yKSkgIFMxPSBOKlAqcDIqcDMqcDQAAC8BAAIAAgAvAjkCAQECAZqZmZmZmak/AABmZmZmZmbuPwAABQABAQEAAQEBAA== | F4: 1 | G4: 0 | H4: 2 | J4: >75% | K4: <25% | L4: >90% | AG4: ='FARM(B1)'!$T$67 -> 0 | AH4: 3 | AI4: 1 | AJ4: FALSE | AK4: TRUE | AL4: 0 | AM4: FALSE | AN4: =_ -> #NAME?
A5: ='FARM(B1)'!$T$68 -> 0 | B5: TRUE | C5: 0 | D5: 1 | E5: GF1_rK0qDwEAEABTAgwjACYAOAAVASkBKgE4AUYBLQJPAkkCKgD//wAEAAAAAQQAAAAABDAuMDAAAAAB1gFGcmVxdWVjbnkgb2YgbmV4dCBvdXRicmVhayBvZiBIUEFJIEg1TjEgaW4gYmlyZHMgZHVlIHRvIG1pc3NlZCB2YWNjaW5hdGlvbiwgbm90IGRldGVjdGVkIGJ5IHBhc3NpdmUgYW5kICBhY3RpdmUgc3VydmVpbGxhbmNlIGluIHNpeCBlcGlkZW1pYyB3YXZlcyAoRXcgKDEtNikpIGluIGZhcm1zIChCMSkgaW4gTWVub2ZpYSwgRWd5cHQgKEIxVDFWUygxLTIpKSAgRjEgPSAxL1IxAQABARAAAgABClN0YXRpc3RpY3MDAQEA/wEBAQEBAAEBAQAEAAAAAQEBAQEAAQEBAAQAAAABSgEC3wDWAUZyZXF1ZWNueSBvZiBuZXh0IG91dGJyZWFrIG9mIEhQQUkgSDVOMSBpbiBiaXJkcyBkdWUgdG8gbWlzc2VkIHZhY2NpbmF0aW9uLCBub3QgZGV0ZWN0ZWQgYnkgcGFzc2l2ZSBhbmQgIGFjdGl2ZSBzdXJ2ZWlsbGFuY2UgaW4gc2l4IGVwaWRlbWljIHdhdmVzIChFdyAoMS02KSkgaW4gZmFybXMgKEIxKSBpbiBNZW5vZmlhLCBFZ3lwdCAoQjFUMVZTKDEtMikpICBGMSA9IDEvUjEAAC8BAAIAAgA1Aj8CAQECAZqZmZmZmak/AABmZmZmZmbuPwAABQABAQEAAQEBAA== | F5: 1 | G5: 1 | H5: 10 | I5: GF1_Z0CmcQEAEAB0AQwjACYAMgA1AUMBRAFSAWABAAAAAGwBKAD//wABEAEEAAAAAAAAAAAB1gFGcmVxdWVjbnkgb2YgbmV4dCBvdXRicmVhayBvZiBIUEFJIEg1TjEgaW4gYmlyZHMgZHVlIHRvIG1pc3NlZCB2YWNjaW5hdGlvbiwgbm90IGRldGVjdGVkIGJ5IHBhc3NpdmUgYW5kICBhY3RpdmUgc3VydmVpbGxhbmNlIGluIHNpeCBlcGlkZW1pYyB3YXZlcyAoRXcgKDEtNikpIGluIGZhcm1zIChCMSkgaW4gTWVub2ZpYSwgRWd5cHQgKEIxVDFWUygxLTIpKSAgRjEgPSAxL1IxASZJbnB1dHMgUmFua2VkIEJ5IEVmZmVjdCBvbiBPdXRwdXQgTWVhbgEBCgACAAEETm9uZQMAAQD/AQEBAQEAAQEBAAQAAAABAQEBAQABAQEABAAAAAFkAQMIAAAAAC8BAAUAAQEBAAAB_x0001_0~0~>75%~<25%~>90%~_x0002__x0003_10~0~0.95~1~False~False~True~0.1~ | J5: >75% | K5: <25% | L5: >90% | AG5: ='FARM(B1)'!$T$68 -> 0 | AH5: 4 | AI5: 1 | AJ5: FALSE | AK5: TRUE | AL5: 0 | AM5: FALSE | AN5: =_ -> #NAME?
A6: ='Backyard(B2)'!$V$68 -> 0 | B6: TRUE | C6: 0 | D6: 1 | E6: GF1_rK0qDwEAEAAcBAwjACYAPgAZAS0BLgE8AUoB9gMYBBIEKgD//wAEAAAAAQQAAAAACjAuMDAwMDAwMDAAAAAB1AFQcm9iYWJpbGl0eSB0aGF0IGluZmVjdGVkIGRvbWVzdGljIGNoaWNrZW4gd2l0aCBIUEFJIEg1TjEgbm90IGRldGVjdGVkIGJ5IHBhc3NpdmUgb3IgYWN0aXZlIHN1cnZlaWxsYW5jZSBpbiBzaXggZXBpZGVtaWMgd2F2ZXMgKEV3ICgxLTYpKSBpbiBCYWNreWFyZCBiaXJkcyAoQjIpIGluIE1lbm9maWEsIEVneXB0IChCMlQoMSlTKDEtMikpICBRMSA9UCpwMSpwMipwNSpwNgEAAQEQAAIAAQpTdGF0aXN0aWNzAwEBAP8BAQEBAQABAQEABAAAAQEBAQEBAAEBAQAEAAAAA1QBAjUCAhMDAt0A1AFQcm9iYWJpbGl0eSB0aGF0IGluZmVjdGVkIGRvbWVzdGljIGNoaWNrZW4gd2l0aCBIUEFJIEg1TjEgbm90IGRldGVjdGVkIGJ5IHBhc3NpdmUgb3IgYWN0aXZlIHN1cnZlaWxsYW5jZSBpbiBzaXggZXBpZGVtaWMgd2F2ZXMgKEV3ICgxLTYpKSBpbiBCYWNreWFyZCBiaXJkcyAoQjIpIGluIE1lbm9maWEsIEVneXB0IChCMlQoMSlTKDEtMikpICBRMSA9UCpwMSpwMipwNSpwNgAALwEAAgACANoA0QFQcm9iYWJpbGl0eSB0aGF0IGluZmVjdGVkIG1peGVkIHBvdWx0cnkgd2l0aCBIUEFJIEg1TjEgbm90IGRldGVjdGVkIGJ5IHBhc3NpdmUgb3IgYWN0aXZlIHN1cnZlaWxsYW5jZSBpbiBzaXggZXBpZGVtaWMgd2F2ZXMgKEV3ICgxLTYpKSBpbiBCYWNreWFyZCBiaXJkcyAoQjIpIGluIE1lbm9maWEsIEVneXB0IChCMlQoMilTKDEtMikpICBRMiA9UCpwMSpwMypwNypwOAEBJQEAAgACAN8A1gFQcm9iYWJpbGl0eSB0aGF0IGluZmVjdGVkIHJlc2Vydm9pciBwb3VsdHJ5IHdpdGggSFBBSSBINU4xIG5vdCBkZXRlY3RlZCBieSBwYXNzaXZlIG9yIGFjdGl2ZSBzdXJ2ZWlsbGFuY2UgaW4gc2l4IGVwaWRlbWljIHdhdmVzIChFdyAoMS02KSkgaW4gQmFja3lhcmQgYmlyZHMgKEIyKSBpbiBNZW5vZmlhLCBFZ3lwdCAoQjJUKDMpUygxLTIpKSAgUTMgPVAqcDEqcDQqcDkqcDEwAQJPAQACAAIA/gMIBAEBAgGamZmZmZmpPwAAZmZmZmZm7j8AAAUAAQEBAAEBAQA= | F6: 3 | G6: 0 | H6: 1 | J6: >75% | K6: <25% | L6: >90% | AG6: ='Backyard(B2)'!$V$68 -> 0 | AH6: 5 | AI6: 1 | AJ6: FALSE | AK6: TRUE | AL6: 0 | AM6: FALSE | AN6: =_ -> #NAME? | AO6: ='Backyard(B2)'!$V$71 -> 0 | AP6: 9 | AQ6: 1 | AR6: FALSE | AS6: TRUE | AT6: 0 | AU6: FALSE | AV6: =_ -> #NAME? | AW6: ='Backyard(B2)'!$V$74 -> 0 | AX6: 13 | AY6: 1 | AZ6: FALSE | BA6: TRUE | BB6: 0 | BC6: FALSE | BD6: =_ -> #NAME?
A7: ='Backyard(B2)'!$V$71 -> 0 | B7: TRUE | C7: 0 | D7: 1 | E7: GF1_rK0qDwEAEABPAgwjACYAPgAWASoBKwE5AUcBKQJLAkUCKgD//wAEAAAAAQQAAAAACjAuMDAwMDAwMDAAAAAB0QFQcm9iYWJpbGl0eSB0aGF0IGluZmVjdGVkIG1peGVkIHBvdWx0cnkgd2l0aCBIUEFJIEg1TjEgbm90IGRldGVjdGVkIGJ5IHBhc3NpdmUgb3IgYWN0aXZlIHN1cnZlaWxsYW5jZSBpbiBzaXggZXBpZGVtaWMgd2F2ZXMgKEV3ICgxLTYpKSBpbiBCYWNreWFyZCBiaXJkcyAoQjIpIGluIE1lbm9maWEsIEVneXB0IChCMlQoMilTKDEtMikpICBRMiA9UCpwMSpwMypwNypwOAEAAQEQAAIAAQpTdGF0aXN0aWNzAwEBAP8BAQEBAQABAQEABAAAAQEBAQEBAAEBAQAEAAAAAUsBAtoA0QFQcm9iYWJpbGl0eSB0aGF0IGluZmVjdGVkIG1peGVkIHBvdWx0cnkgd2l0aCBIUEFJIEg1TjEgbm90IGRldGVjdGVkIGJ5IHBhc3NpdmUgb3IgYWN0aXZlIHN1cnZlaWxsYW5jZSBpbiBzaXggZXBpZGVtaWMgd2F2ZXMgKEV3ICgxLTYpKSBpbiBCYWNreWFyZCBiaXJkcyAoQjIpIGluIE1lbm9maWEsIEVneXB0IChCMlQoMilTKDEtMikpICBRMiA9UCpwMSpwMypwNypwOAAALwEAAgACADECOwIBAQIBmpmZmZmZqT8AAGZmZmZmZu4/AAAFAAEBAQABAQEA | F7: 1 | G7: 0 | H7: 1 | I7: GF1_Z0CmcQEAEABxAQwjACYAMgAhAS8BMAFPAV0BAAAAAGkBKAD//wABEAEEAAAAAAAAAAAB0QFQcm9iYWJpbGl0eSB0aGF0IGluZmVjdGVkIG1peGVkIHBvdWx0cnkgd2l0aCBIUEFJIEg1TjEgbm90IGRldGVjdGVkIGJ5IHBhc3NpdmUgb3IgYWN0aXZlIHN1cnZlaWxsYW5jZSBpbiBzaXggZXBpZGVtaWMgd2F2ZXMgKEV3ICgxLTYpKSBpbiBCYWNreWFyZCBiaXJkcyAoQjIpIGluIE1lbm9maWEsIEVneXB0IChCMlQoMilTKDEtMikpICBRMiA9UCpwMSpwMypwNypwOAEXUmVncmVzc2lvbiBDb2VmZmljaWVudHMBAQoAAgABBE5vbmUDAAEA/wEBAQEBEUNvZWZmaWNpZW50IFZhbHVlAQEBAAQAAAABAQEBAQABAQEABAAAAAFhAQMIAAAAAC8BAAUAAQEBAAAB_x0001_0~0~>75%~<25%~>90%~_x0002__x0003_10~0~0.95~1~False~False~True~0.1~ | J7: >75% | K7: <25% | L7: >90% | AG7: ='Backyard(B2)'!$V$71 -> 0 | AH7: 9 | AI7: 1 | AJ7: FALSE | AK7: TRUE | AL7: 0 | AM7: FALSE | AN7: =_ -> #NAME?
A8: ='Backyard(B2)'!$V$74 -> 0 | B8: TRUE | C8: 0 | D8: 1 | E8: GF1_rK0qDwEAEABZAgwjACYAPgAbAS8BMAE+AUwBMwJVAk8CKgD//wAEAAAAAQQAAAAACjAuMDAwMDAwMDAAAAAB1gFQcm9iYWJpbGl0eSB0aGF0IGluZmVjdGVkIHJlc2Vydm9pciBwb3VsdHJ5IHdpdGggSFBBSSBINU4xIG5vdCBkZXRlY3RlZCBieSBwYXNzaXZlIG9yIGFjdGl2ZSBzdXJ2ZWlsbGFuY2UgaW4gc2l4IGVwaWRlbWljIHdhdmVzIChFdyAoMS02KSkgaW4gQmFja3lhcmQgYmlyZHMgKEIyKSBpbiBNZW5vZmlhLCBFZ3lwdCAoQjJUKDMpUygxLTIpKSAgUTMgPVAqcDEqcDQqcDkqcDEwAQABARAAAgABClN0YXRpc3RpY3MDAQEA/wEBAQEBAAEBAQAEAAABAQEBAQEAAQEBAAQAAAABUAEC3wDWAVByb2JhYmlsaXR5IHRoYXQgaW5mZWN0ZWQgcmVzZXJ2b2lyIHBvdWx0cnkgd2l0aCBIUEFJIEg1TjEgbm90IGRldGVjdGVkIGJ5IHBhc3NpdmUgb3IgYWN0aXZlIHN1cnZlaWxsYW5jZSBpbiBzaXggZXBpZGVtaWMgd2F2ZXMgKEV3ICgxLTYpKSBpbiBCYWNreWFyZCBiaXJkcyAoQjIpIGluIE1lbm9maWEsIEVneXB0IChCMlQoMylTKDEtMikpICBRMyA9UCpwMSpwNCpwOSpwMTAAAC8BAAIAAgA7AkUCAQECAZqZmZmZmak/AABmZmZmZmbuPwAABQABAQEAAQEBAA== | F8: 1 | G8: 1 | H8: 1 | I8: GF1_Z0CmcQEAEAB2AQwjACYAMgAmATQBNQFUAWIBAAAAAG4BKAD//wABEAEEAAAAAAAAAAAB1gFQcm9iYWJpbGl0eSB0aGF0IGluZmVjdGVkIHJlc2Vydm9pciBwb3VsdHJ5IHdpdGggSFBBSSBINU4xIG5vdCBkZXRlY3RlZCBieSBwYXNzaXZlIG9yIGFjdGl2ZSBzdXJ2ZWlsbGFuY2UgaW4gc2l4IGVwaWRlbWljIHdhdmVzIChFdyAoMS02KSkgaW4gQmFja3lhcmQgYmlyZHMgKEIyKSBpbiBNZW5vZmlhLCBFZ3lwdCAoQjJUKDMpUygxLTIpKSAgUTMgPVAqcDEqcDQqcDkqcDEwARdSZWdyZXNzaW9uIENvZWZmaWNpZW50cwEBCgACAAEETm9uZQMAAQD/AQEBAQERQ29lZmZpY2llbnQgVmFsdWUBAQEABAAAAAEBAQEBAAEBAQAEAAAAAWYBAwgAAAAALwEABQABAQEAAAE=_x0001_0~0~>75%~<25%~>90%~_x0002__x0003_10~0~0.95~1~False~False~True~0.1~ | J8: >75% | K8: <25% | L8: >90% | AG8: ='Backyard(B2)'!$V$74 -> 0 | AH8: 13 | AI8: 1 | AJ8: FALSE | AK8: TRUE | AL8: 0 | AM8: FALSE | AN8: =_ -> #NAME?
A9: ='Backyard(B2)'!#REF! -> #REF! | B9: FALSE | C9: 1 | D9: 1 | E9: GF1_rK0qDwEAEAB9AQwjACYAOwCtAMEAwgDQAN4AVwF5AXMBKgD//wAEAAAAAQQAAAAAB0dlbmVyYWwAAAABQihQMikgUHJldmFsZW5jZSByYXRlcyBvZiBIUEFJIEg1TjEgaW4gZG9tYXN0aWMgY2hpY2tlbiBpbiBiYWNreWFyZAEqQ29tcGFyaXNvbiB3aXRoIFVuaWZvcm0oLTAuMDIzNDA3LDAuMjU1OTgpAQEQAAIAAQpTdGF0aXN0aWNzAwEBAP8BAQEBAQABAQEABAAAAAEBAQEBAAEBAQAEAAAAAuUAAjMBAEoAQihQMikgUHJldmFsZW5jZSByYXRlcyBvZiBIUEFJIEg1TjEgaW4gZG9tYXN0aWMgY2hpY2tlbiBpbiBiYWNreWFyZAAALwEAAgACACIAGlVuaWZvcm0oLTAuMDIzNDA3LDAuMjU1OTgpAQElAQACAF8BaQEBAQIBmpmZmZmZqT8AAGZmZmZmZu4/AAAFAAEBAQABAQEA | F9: 2 | G9: 0 | H9: 0 | AG9: ='Backyard(B2)'!#REF! -> #REF! | AH9: 14 | AI9: 1 | AJ9: FALSE | AK9: FALSE | AL9: 1 | AM9: FALSE | AN9: =_ -> #NAME? | AO9: ='Backyard(B2)'!#REF! -> #REF! | AP9: 14 | AQ9: 1 | AR9: TRUE | AS9: FALSE | AT9: 1 | AU9: TRUE | AV9: =_RiskUniform(-0.023407,0.25598,_xll.RiskName("(P2) Prevalence rates of HPAI H5N1 in domastic chicken in backyard")) -> #NAME?
A10: ='Backyard(B2)'!#REF! -> #REF! | B10: FALSE | C10: 1 | D10: 1 | E10: GF1_rK0qDwEAEAB3AQwjACYAOwCqAL4AvwDNANsAUQFzAW0BKgD//wAEAAAAAQQAAAAAB0dlbmVyYWwAAAABPyhQMykgUHJldmFsZW5jZSByYXRlcyBvZiBIUEFJIEg1TjEgaW4gbWl4ZWQgcG91bHRyeSBpbiBiYWNreWFyZAEqQ29tcGFyaXNvbiB3aXRoIFVuaWZvcm0oLTAuMDMyMDg3LDAuMjE4NjQpAQEQAAIAAQpTdGF0aXN0aWNzAwEBAP8BAQEBAQABAQEABAAAAAEBAQEBAAEBAQAEAAAAAuIAAi0BAEcAPyhQMykgUHJldmFsZW5jZSByYXRlcyBvZiBIUEFJIEg1TjEgaW4gbWl4ZWQgcG91bHRyeSBpbiBiYWNreWFyZAAALwEAAgACACIAGlVuaWZvcm0oLTAuMDMyMDg3LDAuMjE4NjQpAQElAQACAFkBYwEBAQIBmpmZmZmZqT8AAGZmZmZmZu4/AAAFAAEBAQABAQEA | F10: 2 | G10: 0 | H10: 0 | AG10: ='Backyard(B2)'!#REF! -> #REF! | AH10: 15 | AI10: 1 | AJ10: FALSE | AK10: FALSE | AL10: 1 | AM10: FALSE | AN10: =_ -> #NAME? | AO10: ='Backyard(B2)'!#REF! -> #REF! | AP10: 15 | AQ10: 1 | AR10: TRUE | AS10: FALSE | AT10: 1 | AU10: TRUE | AV10: =_RiskUniform(-0.032087,0.21864,_xll.RiskName("(P3) Prevalence rates of HPAI H5N1 in mixed poultry in backyard")) -> #NAME?
A11: ='Backyard(B2)'!#REF! -> #REF! | B11: FALSE | C11: 1 | D11: 1 | E11: GF1_rK0qDwEAEACTAQwjACYAOQC3AMsAzADaAOgAbQGPAYkBKgD//wAEAAAAAQQAAAAABTAuMDAwAAAAAUQoUDQpIFByZXZhbGVuY2UgcmF0ZXMgb2ZIUEFJIEg1TjEgaW4gcmVzZXJ2b2lyIHBvdWx0cnkgaW4gYmFja3lhcmQgMgE0Q29tcGFyaXNvbiB3aXRoIEV4cG9uKDAuMDY3ODU2LFJpc2tTaGlmdCgtMC4wMTEzMDkpKQEBEAACAAEKU3RhdGlzdGljcwMBAQD/AQEBAQEAAQEBAAQAAAABAQEBAQABAQEABAAAAALvAAI/AQBMAEQoUDQpIFByZXZhbGVuY2UgcmF0ZXMgb2ZIUEFJIEg1TjEgaW4gcmVzZXJ2b2lyIHBvdWx0cnkgaW4gYmFja3lhcmQgMgAALwEAAgACACwAJEV4cG9uKDAuMDY3ODU2LFJpc2tTaGlmdCgtMC4wMTEzMDkpKQEBJQEAAgB1AX8BAQECAZqZmZmZmak/AABmZmZmZmbuPwAABQABAQEAAQEBAA== | F11: 2 | G11: 0 | H11: 0 | AG11: ='Backyard(B2)'!#REF! -> #REF! | AH11: 16 | AI11: 1 | AJ11: FALSE | AK11: FALSE | AL11: 1 | AM11: FALSE | AN11: =_ -> #NAME? | AO11: ='Backyard(B2)'!#REF! -> #REF! | AP11: 16 | AQ11: 1 | AR11: TRUE | AS11: FALSE | AT11: 1 | AU11: TRUE | AV11: =_RiskExpon(0.067856,_xll.RiskShift(-0.011309),_xll.RiskName("(P4) Prevalence rates ofHPAI H5N1 in reservoir poultry in backyard 2")) -> #NAME?
A12: 0
A13: FALSE | B13: 15680 | C13: 7345 | D13: 7360 | E13: 0
A14: FALSE | B14: 15680 | C14: 7345 | D14: 7360 | E14: 0
A15: FALSE | B15: 15680 | C15: 7345 | D15: 7360 | E15: 0
A16: FALSE | B16: 15680 | C16: 7345 | D16: 7360 | E16: 0
A17: FALSE | B17: 15680 | C17: 7345 | D17: 7360 | E17: 0
A18: 0
A19: 0 | B19: FALSE | C19: FALSE | D19: 10 | E19: 0.95 | F19: 1

Sheet FARM(B1)
A1: Title
A2: A Quantitative Risk Assessment to Evaluate the Efficacy of Mitigation Strategies to Reduce Highly Pathogenic Avian Influenza (HPAI) Virus, Subtype H5N1 (HPAI H5N1) in the Menoufia Governorate, Egypt
A3: Yumna Elsobky*1, David Nganwa2, Gamal El Afandi3, 4, Ahmed Byomi1, Gopal Reddy5, Ehsan Abdalla6
H6: Parameter Estimations
C8: Initiating event: Decision to determine the number of poultry infected with Highly Pathogenic Avian Influenza A subtype H5N1 (HPAIH5N1) virus after mitigation strategies of vaccination, passive and active surveillance have been applied after six epidemic waves (EW1-EW6) from 2006 to 2016, in the Menoufia Province, Egypt
G10: Total number of poultry in Menoufia province, Egypt
A11: N
B12: Total number of poultry in Menoufia, Egypt (N)
A13: EW1 | B13: 16700722
A14: EW2 | B14: 6447096
A15: EW3 | B15: 3749375
A16: EW4 | B16: 51896836
A17: EW5 | B17: 9419161.5
A18: EW6 | B18: 52857042
G20: Node 1: Prevalence rates of HPAI H5N1 infected poultry in each EW (EW1-EW6), in Menoufia, Egypt
A21: P
B22: (P) Prevalence rates of HPAI H5N1 infected poultry in Menoufia
A23: EW1 | B23: 0.24626816
A24: EW2 | B24: 0.55094759
A25: EW3 | B25: 0.49861111
A26: EW4 | B26: 0.45388986
A27: EW5 | B27: 0.38372078
A28: EW6 | B28: 0.082526752
G30: Node 2: Are there birds still infected with HPAI H5N1 in farms (B1) after vaccination (V)
B31: P1
A32: Type 1 domestic chicken (T1)
B33: infected Vaccinated
B34: EW (1-6) B1 T1 V
B35: P(T1VB1)=P1 Prevalence rates of HPAI H5N1 in birds that were vaccinated in farms
C36: (P2) Prevalence rates of HPAI H5N1 in birds that missed vaccination in farm
B37: EW1 | C37: 0.17910411
B38: EW2 | C38: 0.12565471
B39: EW3 | C39: 0.099722221
B40: EW4 | C40: 0.10566748
B41: EW5 | C41: 0.066158755
B42: EW6 | C42: 0.01650535
A43: Proportion of birds that missed vaccination= 1- (P1)= P2
B44: (Effectiveness of vaccination)
G48: Node 3: Does passive and active surveillance (S 1-2) detect HPAI H5N1 infected poultry in the Farm (B1)?
A50: Type 1 domestic chicken (T1)
B51: Passive surveillance effectiveness EW (1-6) B1 T1 V S1 | H51: Active surveillance effectiveness EW (1-6) B1 T1 V S2
B52: P(T1VS1B1)=P3a | H52: P(T1VS2B1)=P4a
C53: (P3) Prevalence rates of HPAI H5N1 due to failure in detection by passive surveillance in farm | I53: (P4) Prevalence rates of HPAI H5N1 due to failure in detection by active surveillance in farm
B54: EW1 | C54: 0.048507364 | H54: EW1 | I54: 0.13059675
B55: EW2 | C55: 0 | H55: EW2 | I55: 0.12565471
B56: EW3 | C56: 0.066481481 | H56: EW3 | I56: 0.03324074
B57: EW4 | C57: 0.019212269 | H57: EW4 | I57: 0.086455212
B58: EW5 | C58: 0.013231751 | H58: EW5 | I58: 0.052927004
B59: EW6 | C59: 0.0011789536 | H59: EW6 | I59: 0.015326397
B60: P3a | H60: P4a
A62: Proportion of birds not detected by PS | B62: P3= 1- (P3a) | G62: Proportion of birds not detected by AS | H62: P4= 1-(P4a)
A65: Probability that birds infected with HPAI H5N1 due to missed vaccination, not detected by passive and active surveillance in six epidemic waves (Ew (1-6)) in farms (B1) in Menoufia, Egypt (B1T1VS(1-2)) Q1 =P*p2*p3*p4)

Sheet rsklibSimData
