{"text_format":"3","workbook":"xlsx","n_sheets":3,"sheets":["MedianaGlobal12K","90% conf perc 5-95 (incerteza)","Md result 06temp"],"not_rendered":{"charts":4,"external_links":1,"defined_names":2},"read":"whole","date_system":"1900"}

{"sheet":"MedianaGlobal12K","index":0,"n_rows":122,"n_cols":23,"rows_kept":122}
[null,"Data from Kaufmann et. al (2020)."]
[0,0.0876,12000,-0.1056]
[100,0,11900,-0.9721]
[200,0.0504,11800,-0.8834]
[300,0.0249,11700,-0.7952]
[400,0.0349,11600,-0.6937]
[500,0.0369,11500,-0.6044]
[600,0.0728,11400,-0.5392]
[700,0.07405,11300,-0.4747]
[800,0.0838,11200,-0.4071]
[900,0.0843,11100,-0.3447]
[1000,0.1142,11000,-0.2693]
[1100,0.1403,10900,{"v":-0.227,"d":"-0.2270"}]
[1200,0.1708,10800,-0.1713]
[1300,0.1794,10700,-0.1208]
[1400,0.1376,10600,-0.0721]
[1500,0.1302,10500,{"v":-0.017,"d":"-0.0170"},null,"Figure 1. ","Evolution of the Global Median 12k years temperature, 500-year scale."]
[1600,0.1297,10400,0.0121,null,null,"Source: Author elaboration (adapted from Kaufman et al. (2020 p. 06) from CSV file"]
[1700,0.1426,10300,0.0459,null,null,"data at https://www.ncdc.noaa.gov/paleo/study/29712)."]
[1800,0.1515,10200,0.0684]
[1900,0.135,10100,0.0931]
[2000,0.1572,10000,0.1236]
[2100,0.1733,9900,0.1548]
[2200,0.1993,9800,0.1797]
[2300,0.2143,9700,0.2097]
[2400,0.2178,9600,0.2344]
[2500,0.2238,9500,0.244]
[2600,0.2204,9400,0.258]
[2700,0.2284,9300,0.2656]
[2800,0.2461,9200,0.2734]
[2900,0.269,9100,0.2824]
[3000,0.2869,9000,0.2831]
[3100,0.2991,8900,0.2903]
[3200,0.3019,8800,0.2923]
[3300,0.3081,8700,0.2988]
[3400,0.3328,8600,0.3125]
[3500,0.3315,8500,0.3238,{"$nulls":10},"Figure 3.","Enlarged projection of figure 2, on a scale of every 100 years. "]
[3600,0.3566,8400,0.3261,{"$nulls":10},"Source: Author elaboration (adapted from Kaufman et al. (2020 p. 06) from CSV file data at ",{"$nulls":7},"https://www.ncdc.noaa.gov/paleo/study/29712)."]
[3700,0.3662,8300,0.3388]
[3800,0.374,8200,0.3526,null,"Figure 2. ","Linear graphical representation of figure 1."]
[3900,0.362,8100,0.3767,null,"Source: Author elaboration (adapted from Kaufman et al. (2020 p. 06) from CSV file data at "]
[4000,0.3622,8000,0.3859,null,"https://www.ncdc.noaa.gov/paleo/study/29712)."]
[4100,0.3608,7900,0.4028]
[4200,0.3617,7800,0.4208]
[4300,0.3505,7700,0.4307]
[4400,0.3595,7600,0.4385]
[4500,0.3704,7500,0.4471]
[4600,0.3815,7400,0.4706]
[4700,0.3948,7300,0.4775]
[4800,0.4064,7200,0.494]
[4900,0.423,7100,0.5105]
[5000,0.4321,7000,0.512]
[5100,0.4316,6900,0.5195]
[5200,0.4387,6800,0.5262]
[5300,0.4524,6700,0.5346]
[5400,0.4465,6600,0.5428]
[5500,0.4513,6500,0.5331]
[5600,0.4661,6400,0.5373]
[5700,0.4782,6300,0.5321]
[5800,0.4916,6200,0.5333]
[5900,0.4926,6100,0.5271]
[6000,0.5135,6000,0.5135]
[6100,0.5271,5900,0.4926]
[6200,0.5333,5800,0.4916]
[6300,0.5321,5700,0.4782]
[6400,0.5373,5600,0.4661]
[6500,0.5331,5500,0.4513]
[6600,0.5428,5400,0.4465]
[6700,0.5346,5300,0.4524]
[6800,0.5262,5200,0.4387]
[6900,0.5195,5100,0.4316]
[7000,0.512,5000,0.4321]
[7100,0.5105,4900,0.423]
[7200,0.494,4800,0.4064]
[7300,0.4775,4700,0.3948]
[7400,0.4706,4600,0.3815]
[7500,0.4471,4500,0.3704]
[7600,0.4385,4400,0.3595]
[7700,0.4307,4300,0.3505]
[7800,0.4208,4200,0.3617]
[7900,0.4028,4100,0.3608]
[8000,0.3859,4000,0.3622]
[8100,0.3767,3900,0.362]
[8200,0.3526,3800,0.374]
[8300,0.3388,3700,0.3662]
[8400,0.3261,3600,0.3566]
[8500,0.3238,3500,0.3315]
[8600,0.3125,3400,0.3328]
[8700,0.2988,3300,0.3081]
[8800,0.2923,3200,0.3019]
[8900,0.2903,3100,0.2991]
[9000,0.2831,3000,0.2869]
[9100,0.2824,2900,0.269]
[9200,0.2734,2800,0.2461]
[9300,0.2656,2700,0.2284]
[9400,0.258,2600,0.2204]
[9500,0.244,2500,0.2238]
[9600,0.2344,2400,0.2178]
[9700,0.2097,2300,0.2143]
[9800,0.1797,2200,0.1993]
[9900,0.1548,2100,0.1733]
[10000,0.1236,2000,0.1572]
[10100,0.0931,1900,0.135]
[10200,0.0684,1800,0.1515]
[10300,0.0459,1700,0.1426]
[10400,0.0121,1600,0.1297]
[10500,{"v":-0.017,"d":"-0.0170"},1500,0.1302]
[10600,-0.0721,1400,0.1376]
[10700,-0.1208,1300,0.1794]
[10800,-0.1713,1200,0.1708]
[10900,{"v":-0.227,"d":"-0.2270"},1100,0.1403]
[11000,-0.2693,1000,0.1142]
[11100,-0.3447,900,0.0843]
[11200,-0.4071,800,0.0838]
[11300,-0.4747,700,0.07405]
[11400,-0.5392,600,0.0728]
[11500,-0.6044,500,0.0369]
[11600,-0.6937,400,0.0349]
[11700,-0.7952,300,0.0249]
[11800,-0.8834,200,0.0504]
[11900,-0.9721,100,0]
[12000,-0.1056,0,0.0876]

{"sheet":"90% conf perc 5-95 (incerteza)","index":1,"n_rows":1048576,"n_cols":8,"rows_kept":4500,"cut":true,"bounds":{"rows_first":2000,"rows_last":500,"rows_between":2000,"halvings":0}}
["Anos",{"$f":"'[1]MedianGlobal,Percentis 5-95conv'!B1","v":" global_5"},{"$f":"'[1]MedianGlobal,Percentis 5-95conv'!D1","v":" global_95"}]
[{"$f":"'[1]MedianGlobal,Percentis 5-95conv'!A122","v":12000},{"$f":"'[1]MedianGlobal,Percentis 5-95conv'!B122","v":-4.90621469},{"$f":"'[1]MedianGlobal,Percentis 5-95conv'!D122","v":-0.571803920358}]
[{"$f":"'[1]MedianGlobal,Percentis 5-95conv'!A121","v":11900},{"$f":"'[1]MedianGlobal,Percentis 5-95conv'!B121","v":-4.5549978},{"$f":"'[1]MedianGlobal,Percentis 5-95conv'!D121","v":-0.507235828852066}]
[{"$f":"'[1]MedianGlobal,Percentis 5-95conv'!A120","v":11800},{"$f":"'[1]MedianGlobal,Percentis 5-95conv'!B120","v":-4.0555506},{"$f":"'[1]MedianGlobal,Percentis 5-95conv'!D120","v":-0.502344064522409}]
[{"$f":"'[1]MedianGlobal,Percentis 5-95conv'!A119","v":11700},{"$f":"'[1]MedianGlobal,Percentis 5-95conv'!B119","v":-3.7182795},{"$f":"'[1]MedianGlobal,Percentis 5-95conv'!D119","v":-0.429676734003592}]
[{"$f":"'[1]MedianGlobal,Percentis 5-95conv'!A118","v":11600},{"$f":"'[1]MedianGlobal,Percentis 5-95conv'!B118","v":-3.4056186},{"$f":"'[1]MedianGlobal,Percentis 5-95conv'!D118","v":-0.356561992010244}]
[{"$f":"'[1]MedianGlobal,Percentis 5-95conv'!A117","v":11500},{"$f":"'[1]MedianGlobal,Percentis 5-95conv'!B117","v":-3.0453062},{"$f":"'[1]MedianGlobal,Percentis 5-95conv'!D117","v":-0.273579183433471}]
[{"$f":"'[1]MedianGlobal,Percentis 5-95conv'!A116","v":11400},{"$f":"'[1]MedianGlobal,Percentis 5-95conv'!B116","v":-2.7276379},{"$f":"'[1]MedianGlobal,Percentis 5-95conv'!D116","v":-0.207645620881522}]
[{"$f":"'[1]MedianGlobal,Percentis 5-95conv'!A115","v":11300},{"$f":"'[1]MedianGlobal,Percentis 5-95conv'!B115","v":-2.4013725},{"$f":"'[1]MedianGlobal,Percentis 5-95conv'!D115","v":-0.150859124832924}]
[{"$f":"'[1]MedianGlobal,Percentis 5-95conv'!A114","v":11200},{"$f":"'[1]MedianGlobal,Percentis 5-95conv'!B114","v":-2.18197248},{"$f":"'[1]MedianGlobal,Percentis 5-95conv'!D114","v":-0.0971014524700052}]
[{"$f":"'[1]MedianGlobal,Percentis 5-95conv'!A113","v":11100},{"$f":"'[1]MedianGlobal,Percentis 5-95conv'!B113","v":-1.97549611},{"$f":"'[1]MedianGlobal,Percentis 5-95conv'!D113","v":-0.0208508874424322}]
[{"$f":"'[1]MedianGlobal,Percentis 5-95conv'!A112","v":11000},{"$f":"'[1]MedianGlobal,Percentis 5-95conv'!B112","v":-1.74650818},{"$f":"'[1]MedianGlobal,Percentis 5-95conv'!D112","v":0.0353425606218908}]
[{"$f":"'[1]MedianGlobal,Percentis 5-95conv'!A111","v":10900},{"$f":"'[1]MedianGlobal,Percentis 5-95conv'!B111","v":-1.493067},{"$f":"'[1]MedianGlobal,Percentis 5-95conv'!D111","v":0.0994387942013161}]
[{"$f":"'[1]MedianGlobal,Percentis 5-95conv'!A110","v":10800},{"$f":"'[1]MedianGlobal,Percentis 5-95conv'!B110","v":-1.33944798},{"$f":"'[1]MedianGlobal,Percentis 5-95conv'!D110","v":0.158270678877106}]
[{"$f":"'[1]MedianGlobal,Percentis 5-95conv'!A109","v":10700},{"$f":"'[1]MedianGlobal,Percentis 5-95conv'!B109","v":-1.19141924},{"$f":"'[1]MedianGlobal,Percentis 5-95conv'!D109","v":0.206940722631131}]
[{"$f":"'[1]MedianGlobal,Percentis 5-95conv'!A108","v":10600},{"$f":"'[1]MedianGlobal,Percentis 5-95conv'!B108","v":-1.01449485},{"$f":"'[1]MedianGlobal,Percentis 5-95conv'!D108","v":0.240898875874976}]
[{"$f":"'[1]MedianGlobal,Percentis 5-95conv'!A107","v":10500},{"$f":"'[1]MedianGlobal,Percentis 5-95conv'!B107","v":-0.829910932117667},{"$f":"'[1]MedianGlobal,Percentis 5-95conv'!D107","v":0.302471568021523}]
[{"$f":"'[1]MedianGlobal,Percentis 5-95conv'!A106","v":10400},{"$f":"'[1]MedianGlobal,Percentis 5-95conv'!B106","v":-0.726258451413855},{"$f":"'[1]MedianGlobal,Percentis 5-95conv'!D106","v":0.3322779260719}]
[{"$f":"'[1]MedianGlobal,Percentis 5-95conv'!A105","v":10300},{"$f":"'[1]MedianGlobal,Percentis 5-95conv'!B105","v":-0.56565580389252},{"$f":"'[1]MedianGlobal,Percentis 5-95conv'!D105","v":0.369384749910787}]
[{"$f":"'[1]MedianGlobal,Percentis 5-95conv'!A104","v":10200},{"$f":"'[1]MedianGlobal,Percentis 5-95conv'!B104","v":-0.521841623219184},{"$f":"'[1]MedianGlobal,Percentis 5-95conv'!D104","v":0.375443123878984}]
[{"$f":"'[1]MedianGlobal,Percentis 5-95conv'!A103","v":10100},{"$f":"'[1]MedianGlobal,Percentis 5-95conv'!B103","v":-0.454906741619927},{"$f":"'[1]MedianGlobal,Percentis 5-95conv'!D103","v":0.411259907141062}]
[{"$f":"'[1]MedianGlobal,Percentis 5-95conv'!A102","v":10000},{"$f":"'[1]MedianGlobal,Percentis 5-95conv'!B102","v":-0.40120264651776},{"$f":"'[1]MedianGlobal,Percentis 5-95conv'!D102","v":0.438196631708248}]
[{"$f":"'[1]MedianGlobal,Percentis 5-95conv'!A101","v":9900},{"$f":"'[1]MedianGlobal,Percentis 5-95conv'!B101","v":-0.276147749065452},{"$f":"'[1]MedianGlobal,Percentis 5-95conv'!D101","v":0.470483536883307}]
[{"$f":"'[1]MedianGlobal,Percentis 5-95conv'!A100","v":9800},{"$f":"'[1]MedianGlobal,Percentis 5-95conv'!B100","v":-0.199960749914619},{"$f":"'[1]MedianGlobal,Percentis 5-95conv'!D100","v":0.514065391070189}]
[{"$f":"'[1]MedianGlobal,Percentis 5-95conv'!A99","v":9700},{"$f":"'[1]MedianGlobal,Percentis 5-95conv'!B99","v":-0.113904344005399},{"$f":"'[1]MedianGlobal,Percentis 5-95conv'!D99","v":0.530673828234643}]
[{"$f":"'[1]MedianGlobal,Percentis 5-95conv'!A98","v":9600},{"$f":"'[1]MedianGlobal,Percentis 5-95conv'!B98","v":-0.0701835093212886},{"$f":"'[1]MedianGlobal,Percentis 5-95conv'!D98","v":0.577725377580477}]
[{"$f":"'[1]MedianGlobal,Percentis 5-95conv'!A97","v":9500},{"$f":"'[1]MedianGlobal,Percentis 5-95conv'!B97","v":-0.0343326892570249},{"$f":"'[1]MedianGlobal,Percentis 5-95conv'!D97","v":0.603602329963138}]
[{"$f":"'[1]MedianGlobal,Percentis 5-95conv'!A96","v":9400},{"$f":"'[1]MedianGlobal,Percentis 5-95conv'!B96","v":-0.00471233655813395},{"$f":"'[1]MedianGlobal,Percentis 5-95conv'!D96","v":0.634255075758157}]
[{"$f":"'[1]MedianGlobal,Percentis 5-95conv'!A95","v":9300},{"$f":"'[1]MedianGlobal,Percentis 5-95conv'!B95","v":0.00579950903939783},{"$f":"'[1]MedianGlobal,Percentis 5-95conv'!D95","v":0.643736519679191}]
[{"$f":"'[1]MedianGlobal,Percentis 5-95conv'!A94","v":9200},{"$f":"'[1]MedianGlobal,Percentis 5-95conv'!B94","v":0.01286457878882},{"$f":"'[1]MedianGlobal,Percentis 5-95conv'!D94","v":0.632516234661894}]
[{"$f":"'[1]MedianGlobal,Percentis 5-95conv'!A93","v":9100},{"$f":"'[1]MedianGlobal,Percentis 5-95conv'!B93","v":0.0253724518873661},{"$f":"'[1]MedianGlobal,Percentis 5-95conv'!D93","v":0.638510383221418}]
[{"$f":"'[1]MedianGlobal,Percentis 5-95conv'!A92","v":9000},{"$f":"'[1]MedianGlobal,Percentis 5-95conv'!B92","v":0.0419124480891752},{"$f":"'[1]MedianGlobal,Percentis 5-95conv'!D92","v":0.67154910774744},{"$nulls":4},"Figure 4. Evolution of the parameters 5th and 95th global percentiles (uncertainties), refer to page 3, fig. 2 of the article."]
[{"$f":"'[1]MedianGlobal,Percentis 5-95conv'!A91","v":8900},{"$f":"'[1]MedianGlobal,Percentis 5-95conv'!B91","v":0.0288584861395923},{"$f":"'[1]MedianGlobal,Percentis 5-95conv'!D91","v":0.685983313412452},{"$nulls":4},"Source: Author elaboration (adapted from CSV file data - temp 12K all methods percentiles "]
[{"$f":"'[1]MedianGlobal,Percentis 5-95conv'!A90","v":8800},{"$f":"'[1]MedianGlobal,Percentis 5-95conv'!B90","v":0.0482017912443878},{"$f":"'[1]MedianGlobal,Percentis 5-95conv'!D90","v":0.6771285858763},{"$nulls":4},"at https://www.ncdc.noaa.gov/paleo/study/29712)."]
[{"$f":"'[1]MedianGlobal,Percentis 5-95conv'!A89","v":8700},{"$f":"'[1]MedianGlobal,Percentis 5-95conv'!B89","v":0.0452023995989471},{"$f":"'[1]MedianGlobal,Percentis 5-95conv'!D89","v":0.704908208098823}]
[{"$f":"'[1]MedianGlobal,Percentis 5-95conv'!A88","v":8600},{"$f":"'[1]MedianGlobal,Percentis 5-95conv'!B88","v":0.0564019608976864},{"$f":"'[1]MedianGlobal,Percentis 5-95conv'!D88","v":0.732199153494755}]
[{"$f":"'[1]MedianGlobal,Percentis 5-95conv'!A87","v":8500},{"$f":"'[1]MedianGlobal,Percentis 5-95conv'!B87","v":0.0621653574204734},{"$f":"'[1]MedianGlobal,Percentis 5-95conv'!D87","v":0.734979604575391}]
[{"$f":"'[1]MedianGlobal,Percentis 5-95conv'!A86","v":8400},{"$f":"'[1]MedianGlobal,Percentis 5-95conv'!B86","v":0.0679036371173556},{"$f":"'[1]MedianGlobal,Percentis 5-95conv'!D86","v":0.751953884682956}]
[{"$f":"'[1]MedianGlobal,Percentis 5-95conv'!A85","v":8300},{"$f":"'[1]MedianGlobal,Percentis 5-95conv'!B85","v":0.0952875333070002},{"$f":"'[1]MedianGlobal,Percentis 5-95conv'!D85","v":0.784243189844342}]
[{"$f":"'[1]MedianGlobal,Percentis 5-95conv'!A84","v":8200},{"$f":"'[1]MedianGlobal,Percentis 5-95conv'!B84","v":0.0919707582011795},{"$f":"'[1]MedianGlobal,Percentis 5-95conv'!D84","v":0.832606243714129}]
[{"$f":"'[1]MedianGlobal,Percentis 5-95conv'!A83","v":8100},{"$f":"'[1]MedianGlobal,Percentis 5-95conv'!B83","v":0.11631669475401},{"$f":"'[1]MedianGlobal,Percentis 5-95conv'!D83","v":0.868199088449806}]
[{"$f":"'[1]MedianGlobal,Percentis 5-95conv'!A82","v":8000},{"$f":"'[1]MedianGlobal,Percentis 5-95conv'!B82","v":0.124162339473108},{"$f":"'[1]MedianGlobal,Percentis 5-95conv'!D82","v":0.897318698215355}]
[{"$f":"'[1]MedianGlobal,Percentis 5-95conv'!A81","v":7900},{"$f":"'[1]MedianGlobal,Percentis 5-95conv'!B81","v":0.120753886637915},{"$f":"'[1]MedianGlobal,Percentis 5-95conv'!D81","v":0.950896881430572}]
[{"$f":"'[1]MedianGlobal,Percentis 5-95conv'!A80","v":7800},{"$f":"'[1]MedianGlobal,Percentis 5-95conv'!B80","v":0.155432979517086},{"$f":"'[1]MedianGlobal,Percentis 5-95conv'!D80","v":1.0075286482316}]
[{"$f":"'[1]MedianGlobal,Percentis 5-95conv'!A79","v":7700},{"$f":"'[1]MedianGlobal,Percentis 5-95conv'!B79","v":0.139788992700582},{"$f":"'[1]MedianGlobal,Percentis 5-95conv'!D79","v":1.06090652550659}]
[{"$f":"'[1]MedianGlobal,Percentis 5-95conv'!A78","v":7600},{"$f":"'[1]MedianGlobal,Percentis 5-95conv'!B78","v":0.166723903126914},{"$f":"'[1]MedianGlobal,Percentis 5-95conv'!D78","v":1.08865295223094}]
[{"$f":"'[1]MedianGlobal,Percentis 5-95conv'!A77","v":7500},{"$f":"'[1]MedianGlobal,Percentis 5-95conv'!B77","v":0.167142362457692},{"$f":"'[1]MedianGlobal,Percentis 5-95conv'!D77","v":1.155375441577}]
[{"$f":"'[1]MedianGlobal,Percentis 5-95conv'!A76","v":7400},{"$f":"'[1]MedianGlobal,Percentis 5-95conv'!B76","v":0.188044337207867},{"$f":"'[1]MedianGlobal,Percentis 5-95conv'!D76","v":1.19242205410549}]
[{"$f":"'[1]MedianGlobal,Percentis 5-95conv'!A75","v":7300},{"$f":"'[1]MedianGlobal,Percentis 5-95conv'!B75","v":0.226346510737},{"$f":"'[1]MedianGlobal,Percentis 5-95conv'!D75","v":1.23788762682254}]
[{"$f":"'[1]MedianGlobal,Percentis 5-95conv'!A74","v":7200},{"$f":"'[1]MedianGlobal,Percentis 5-95conv'!B74","v":0.230566711784159},{"$f":"'[1]MedianGlobal,Percentis 5-95conv'!D74","v":1.26166817364245}]
[{"$f":"'[1]MedianGlobal,Percentis 5-95conv'!A73","v":7100},{"$f":"'[1]MedianGlobal,Percentis 5-95conv'!B73","v":0.252451678695941},{"$f":"'[1]MedianGlobal,Percentis 5-95conv'!D73","v":1.30395818721114}]
[{"$f":"'[1]MedianGlobal,Percentis 5-95conv'!A72","v":7000},{"$f":"'[1]MedianGlobal,Percentis 5-95conv'!B72","v":0.266211829988437},{"$f":"'[1]MedianGlobal,Percentis 5-95conv'!D72","v":1.29848057487076}]
[{"$f":"'[1]MedianGlobal,Percentis 5-95conv'!A71","v":6900},{"$f":"'[1]MedianGlobal,Percentis 5-95conv'!B71","v":0.267008360942047},{"$f":"'[1]MedianGlobal,Percentis 5-95conv'!D71","v":1.31158221198624}]
[{"$f":"'[1]MedianGlobal,Percentis 5-95conv'!A70","v":6800},{"$f":"'[1]MedianGlobal,Percentis 5-95conv'!B70","v":0.285566375283286},{"$f":"'[1]MedianGlobal,Percentis 5-95conv'!D70","v":1.3272394038581}]
[{"$f":"'[1]MedianGlobal,Percentis 5-95conv'!A69","v":6700},{"$f":"'[1]MedianGlobal,Percentis 5-95conv'!B69","v":0.294444357001887},{"$f":"'[1]MedianGlobal,Percentis 5-95conv'!D69","v":1.34012472497053}]
[{"$f":"'[1]MedianGlobal,Percentis 5-95conv'!A68","v":6600},{"$f":"'[1]MedianGlobal,Percentis 5-95conv'!B68","v":0.300974955576744},{"$f":"'[1]MedianGlobal,Percentis 5-95conv'!D68","v":1.39632092806866}]
[{"$f":"'[1]MedianGlobal,Percentis 5-95conv'!A67","v":6500},{"$f":"'[1]MedianGlobal,Percentis 5-95conv'!B67","v":0.287955290616209},{"$f":"'[1]MedianGlobal,Percentis 5-95conv'!D67","v":1.38220004240655}]
[{"$f":"'[1]MedianGlobal,Percentis 5-95conv'!A66","v":6400},{"$f":"'[1]MedianGlobal,Percentis 5-95conv'!B66","v":0.291812797480248},{"$f":"'[1]MedianGlobal,Percentis 5-95conv'!D66","v":1.36236527652733}]
[{"$f":"'[1]MedianGlobal,Percentis 5-95conv'!A65","v":6300},{"$f":"'[1]MedianGlobal,Percentis 5-95conv'!B65","v":0.278647394736912},{"$f":"'[1]MedianGlobal,Percentis 5-95conv'!D65","v":1.39664480936627}]
[{"$f":"'[1]MedianGlobal,Percentis 5-95conv'!A64","v":6200},{"$f":"'[1]MedianGlobal,Percentis 5-95conv'!B64","v":0.291389585073729},{"$f":"'[1]MedianGlobal,Percentis 5-95conv'!D64","v":1.37537041095335}]
[{"$f":"'[1]MedianGlobal,Percentis 5-95conv'!A63","v":6100},{"$f":"'[1]MedianGlobal,Percentis 5-95conv'!B63","v":0.277557373366977},{"$f":"'[1]MedianGlobal,Percentis 5-95conv'!D63","v":1.36663403277386}]
[{"$f":"'[1]MedianGlobal,Percentis 5-95conv'!A62","v":6000},{"$f":"'[1]MedianGlobal,Percentis 5-95conv'!B62","v":0.27251499608152},{"$f":"'[1]MedianGlobal,Percentis 5-95conv'!D62","v":1.29267521095426}]
[{"$f":"'[1]MedianGlobal,Percentis 5-95conv'!A61","v":5900},{"$f":"'[1]MedianGlobal,Percentis 5-95conv'!B61","v":0.246770531837287},{"$f":"'[1]MedianGlobal,Percentis 5-95conv'!D61","v":1.26253972383134}]
[{"$f":"'[1]MedianGlobal,Percentis 5-95conv'!A60","v":5800},{"$f":"'[1]MedianGlobal,Percentis 5-95conv'!B60","v":0.247076743520671},{"$f":"'[1]MedianGlobal,Percentis 5-95conv'!D60","v":1.28270648698667}]
[{"$f":"'[1]MedianGlobal,Percentis 5-95conv'!A59","v":5700},{"$f":"'[1]MedianGlobal,Percentis 5-95conv'!B59","v":0.226120850814536},{"$f":"'[1]MedianGlobal,Percentis 5-95conv'!D59","v":1.2660194834606}]
[{"$f":"'[1]MedianGlobal,Percentis 5-95conv'!A58","v":5600},{"$f":"'[1]MedianGlobal,Percentis 5-95conv'!B58","v":0.239250027865482},{"$f":"'[1]MedianGlobal,Percentis 5-95conv'!D58","v":1.21475844917749}]
[{"$f":"'[1]MedianGlobal,Percentis 5-95conv'!A57","v":5500},{"$f":"'[1]MedianGlobal,Percentis 5-95conv'!B57","v":0.214042075298563},{"$f":"'[1]MedianGlobal,Percentis 5-95conv'!D57","v":1.1454791024586}]
[{"$f":"'[1]MedianGlobal,Percentis 5-95conv'!A56","v":5400},{"$f":"'[1]MedianGlobal,Percentis 5-95conv'!B56","v":0.219006508956346},{"$f":"'[1]MedianGlobal,Percentis 5-95conv'!D56","v":1.13801709184381}]
[{"$f":"'[1]MedianGlobal,Percentis 5-95conv'!A55","v":5300},{"$f":"'[1]MedianGlobal,Percentis 5-95conv'!B55","v":0.201805217019642},{"$f":"'[1]MedianGlobal,Percentis 5-95conv'!D55","v":1.14405850682553}]
[{"$f":"'[1]MedianGlobal,Percentis 5-95conv'!A54","v":5200},{"$f":"'[1]MedianGlobal,Percentis 5-95conv'!B54","v":0.203958932950452},{"$f":"'[1]MedianGlobal,Percentis 5-95conv'!D54","v":1.09782868726733}]
[{"$f":"'[1]MedianGlobal,Percentis 5-95conv'!A53","v":5100},{"$f":"'[1]MedianGlobal,Percentis 5-95conv'!B53","v":0.210115887278325},{"$f":"'[1]MedianGlobal,Percentis 5-95conv'!D53","v":1.08044402349687}]
[{"$f":"'[1]MedianGlobal,Percentis 5-95conv'!A52","v":5000},{"$f":"'[1]MedianGlobal,Percentis 5-95conv'!B52","v":0.202848139037707},{"$f":"'[1]MedianGlobal,Percentis 5-95conv'!D52","v":1.09660465661768}]
[{"$f":"'[1]MedianGlobal,Percentis 5-95conv'!A51","v":4900},{"$f":"'[1]MedianGlobal,Percentis 5-95conv'!B51","v":0.19780259372867},{"$f":"'[1]MedianGlobal,Percentis 5-95conv'!D51","v":1.09044335161043}]
[{"$f":"'[1]MedianGlobal,Percentis 5-95conv'!A50","v":4800},{"$f":"'[1]MedianGlobal,Percentis 5-95conv'!B50","v":0.178218079013578},{"$f":"'[1]MedianGlobal,Percentis 5-95conv'!D50","v":1.0449876041975}]
[{"$f":"'[1]MedianGlobal,Percentis 5-95conv'!A49","v":4700},{"$f":"'[1]MedianGlobal,Percentis 5-95conv'!B49","v":0.183072961433058},{"$f":"'[1]MedianGlobal,Percentis 5-95conv'!D49","v":1.00827789760089}]
[{"$f":"'[1]MedianGlobal,Percentis 5-95conv'!A48","v":4600},{"$f":"'[1]MedianGlobal,Percentis 5-95conv'!B48","v":0.161354093813907},{"$f":"'[1]MedianGlobal,Percentis 5-95conv'!D48","v":0.972590091950428}]
[{"$f":"'[1]MedianGlobal,Percentis 5-95conv'!A47","v":4500},{"$f":"'[1]MedianGlobal,Percentis 5-95conv'!B47","v":0.152940017073777},{"$f":"'[1]MedianGlobal,Percentis 5-95conv'!D47","v":0.970915090590242}]
[{"$f":"'[1]MedianGlobal,Percentis 5-95conv'!A46","v":4400},{"$f":"'[1]MedianGlobal,Percentis 5-95conv'!B46","v":0.148457437243575},{"$f":"'[1]MedianGlobal,Percentis 5-95conv'!D46","v":0.961108876131459}]
[{"$f":"'[1]MedianGlobal,Percentis 5-95conv'!A45","v":4300},{"$f":"'[1]MedianGlobal,Percentis 5-95conv'!B45","v":0.131620785666757},{"$f":"'[1]MedianGlobal,Percentis 5-95conv'!D45","v":0.915767788826559}]
[{"$f":"'[1]MedianGlobal,Percentis 5-95conv'!A44","v":4200},{"$f":"'[1]MedianGlobal,Percentis 5-95conv'!B44","v":0.133829092738409},{"$f":"'[1]MedianGlobal,Percentis 5-95conv'!D44","v":0.910920984214905}]
[{"$f":"'[1]MedianGlobal,Percentis 5-95conv'!A43","v":4100},{"$f":"'[1]MedianGlobal,Percentis 5-95conv'!B43","v":0.136763418476787},{"$f":"'[1]MedianGlobal,Percentis 5-95conv'!D43","v":0.926238580672903}]
[{"$f":"'[1]MedianGlobal,Percentis 5-95conv'!A42","v":4000},{"$f":"'[1]MedianGlobal,Percentis 5-95conv'!B42","v":0.130973039287114},{"$f":"'[1]MedianGlobal,Percentis 5-95conv'!D42","v":0.879944512737901}]
[{"$f":"'[1]MedianGlobal,Percentis 5-95conv'!A41","v":3900},{"$f":"'[1]MedianGlobal,Percentis 5-95conv'!B41","v":0.132955932858801},{"$f":"'[1]MedianGlobal,Percentis 5-95conv'!D41","v":0.906922947272313}]
[{"$f":"'[1]MedianGlobal,Percentis 5-95conv'!A40","v":3800},{"$f":"'[1]MedianGlobal,Percentis 5-95conv'!B40","v":0.145171898371675},{"$f":"'[1]MedianGlobal,Percentis 5-95conv'!D40","v":0.926169322012664}]
[{"$f":"'[1]MedianGlobal,Percentis 5-95conv'!A39","v":3700},{"$f":"'[1]MedianGlobal,Percentis 5-95conv'!B39","v":0.14090111584793},{"$f":"'[1]MedianGlobal,Percentis 5-95conv'!D39","v":0.974442381902072}]
[{"$f":"'[1]MedianGlobal,Percentis 5-95conv'!A38","v":3600},{"$f":"'[1]MedianGlobal,Percentis 5-95conv'!B38","v":0.132964384079981},{"$f":"'[1]MedianGlobal,Percentis 5-95conv'!D38","v":0.922226167125118}]
[{"$f":"'[1]MedianGlobal,Percentis 5-95conv'!A37","v":3500},{"$f":"'[1]MedianGlobal,Percentis 5-95conv'!B37","v":0.114816209070462},{"$f":"'[1]MedianGlobal,Percentis 5-95conv'!D37","v":0.885922170578376}]
[{"$f":"'[1]MedianGlobal,Percentis 5-95conv'!A36","v":3400},{"$f":"'[1]MedianGlobal,Percentis 5-95conv'!B36","v":0.129794361712568},{"$f":"'[1]MedianGlobal,Percentis 5-95conv'!D36","v":0.814932219726818}]
[{"$f":"'[1]MedianGlobal,Percentis 5-95conv'!A35","v":3300},{"$f":"'[1]MedianGlobal,Percentis 5-95conv'!B35","v":0.0878804210629847},{"$f":"'[1]MedianGlobal,Percentis 5-95conv'!D35","v":0.787575188805303}]
[{"$f":"'[1]MedianGlobal,Percentis 5-95conv'!A34","v":3200},{"$f":"'[1]MedianGlobal,Percentis 5-95conv'!B34","v":0.0932401880467384},{"$f":"'[1]MedianGlobal,Percentis 5-95conv'!D34","v":0.774284506531617}]
[{"$f":"'[1]MedianGlobal,Percentis 5-95conv'!A33","v":3100},{"$f":"'[1]MedianGlobal,Percentis 5-95conv'!B33","v":0.0792016304338923},{"$f":"'[1]MedianGlobal,Percentis 5-95conv'!D33","v":0.77481001081741}]
[{"$f":"'[1]MedianGlobal,Percentis 5-95conv'!A32","v":3000},{"$f":"'[1]MedianGlobal,Percentis 5-95conv'!B32","v":0.0511266773078916},{"$f":"'[1]MedianGlobal,Percentis 5-95conv'!D32","v":0.714053694639159}]
[{"$f":"'[1]MedianGlobal,Percentis 5-95conv'!A31","v":2900},{"$f":"'[1]MedianGlobal,Percentis 5-95conv'!B31","v":0.0354055848202989},{"$f":"'[1]MedianGlobal,Percentis 5-95conv'!D31","v":0.687876589864876}]
[{"$f":"'[1]MedianGlobal,Percentis 5-95conv'!A30","v":2800},{"$f":"'[1]MedianGlobal,Percentis 5-95conv'!B30","v":0.009303380778965},{"$f":"'[1]MedianGlobal,Percentis 5-95conv'!D30","v":0.653556275745943}]
[{"$f":"'[1]MedianGlobal,Percentis 5-95conv'!A29","v":2700},{"$f":"'[1]MedianGlobal,Percentis 5-95conv'!B29","v":-1.43585003403941E-3},{"$f":"'[1]MedianGlobal,Percentis 5-95conv'!D29","v":0.613269091923294}]
[{"$f":"'[1]MedianGlobal,Percentis 5-95conv'!A28","v":2600},{"$f":"'[1]MedianGlobal,Percentis 5-95conv'!B28","v":-0.0148523092693266},{"$f":"'[1]MedianGlobal,Percentis 5-95conv'!D28","v":0.584819259871559}]
[{"$f":"'[1]MedianGlobal,Percentis 5-95conv'!A27","v":2500},{"$f":"'[1]MedianGlobal,Percentis 5-95conv'!B27","v":-0.00698163578266986},{"$f":"'[1]MedianGlobal,Percentis 5-95conv'!D27","v":0.611340275576511}]
[{"$f":"'[1]MedianGlobal,Percentis 5-95conv'!A26","v":2400},{"$f":"'[1]MedianGlobal,Percentis 5-95conv'!B26","v":-0.0126511897001982},{"$f":"'[1]MedianGlobal,Percentis 5-95conv'!D26","v":0.56391663809736}]
[{"$f":"'[1]MedianGlobal,Percentis 5-95conv'!A25","v":2300},{"$f":"'[1]MedianGlobal,Percentis 5-95conv'!B25","v":-0.0091596087670953},{"$f":"'[1]MedianGlobal,Percentis 5-95conv'!D25","v":0.570073146696402}]
[{"$f":"'[1]MedianGlobal,Percentis 5-95conv'!A24","v":2200},{"$f":"'[1]MedianGlobal,Percentis 5-95conv'!B24","v":-0.0257921830130672},{"$f":"'[1]MedianGlobal,Percentis 5-95conv'!D24","v":0.533419679115831}]
[{"$f":"'[1]MedianGlobal,Percentis 5-95conv'!A23","v":2100},{"$f":"'[1]MedianGlobal,Percentis 5-95conv'!B23","v":-0.0679536778443898},{"$f":"'[1]MedianGlobal,Percentis 5-95conv'!D23","v":0.489498521430512}]
[{"$f":"'[1]MedianGlobal,Percentis 5-95conv'!A22","v":2000},{"$f":"'[1]MedianGlobal,Percentis 5-95conv'!B22","v":-0.098725869765925},{"$f":"'[1]MedianGlobal,Percentis 5-95conv'!D22","v":0.422521101836933}]
[{"$f":"'[1]MedianGlobal,Percentis 5-95conv'!A21","v":1900},{"$f":"'[1]MedianGlobal,Percentis 5-95conv'!B21","v":-0.124823639893179},{"$f":"'[1]MedianGlobal,Percentis 5-95conv'!D21","v":0.412622174094167}]
[{"$f":"'[1]MedianGlobal,Percentis 5-95conv'!A20","v":1800},{"$f":"'[1]MedianGlobal,Percentis 5-95conv'!B20","v":-0.104687285410945},{"$f":"'[1]MedianGlobal,Percentis 5-95conv'!D20","v":0.460011262388429}]
[{"$f":"'[1]MedianGlobal,Percentis 5-95conv'!A19","v":1700},{"$f":"'[1]MedianGlobal,Percentis 5-95conv'!B19","v":-0.111795053919837},{"$f":"'[1]MedianGlobal,Percentis 5-95conv'!D19","v":0.464821646904132}]
[{"$f":"'[1]MedianGlobal,Percentis 5-95conv'!A18","v":1600},{"$f":"'[1]MedianGlobal,Percentis 5-95conv'!B18","v":-0.143957514109298},{"$f":"'[1]MedianGlobal,Percentis 5-95conv'!D18","v":0.408127837040857}]
[{"$f":"'[1]MedianGlobal,Percentis 5-95conv'!A17","v":1500},{"$f":"'[1]MedianGlobal,Percentis 5-95conv'!B17","v":-0.13131055592768},{"$f":"'[1]MedianGlobal,Percentis 5-95conv'!D17","v":0.399249031949006}]
[{"$f":"'[1]MedianGlobal,Percentis 5-95conv'!A16","v":1400},{"$f":"'[1]MedianGlobal,Percentis 5-95conv'!B16","v":-0.115244947896277},{"$f":"'[1]MedianGlobal,Percentis 5-95conv'!D16","v":0.450057637077193}]
[{"$f":"'[1]MedianGlobal,Percentis 5-95conv'!A15","v":1300},{"$f":"'[1]MedianGlobal,Percentis 5-95conv'!B15","v":-0.0720079297474049},{"$f":"'[1]MedianGlobal,Percentis 5-95conv'!D15","v":0.503952563218164}]
[{"$f":"'[1]MedianGlobal,Percentis 5-95conv'!A14","v":1200},{"$f":"'[1]MedianGlobal,Percentis 5-95conv'!B14","v":-0.11881082396476},{"$f":"'[1]MedianGlobal,Percentis 5-95conv'!D14","v":0.511144922149507}]
[{"$f":"'[1]MedianGlobal,Percentis 5-95conv'!A13","v":1100},{"$f":"'[1]MedianGlobal,Percentis 5-95conv'!B13","v":-0.145319251628087},{"$f":"'[1]MedianGlobal,Percentis 5-95conv'!D13","v":0.470433623671581}]
[{"$f":"'[1]MedianGlobal,Percentis 5-95conv'!A12","v":1000},{"$f":"'[1]MedianGlobal,Percentis 5-95conv'!B12","v":-0.187779778909748},{"$f":"'[1]MedianGlobal,Percentis 5-95conv'!D12","v":0.420281392585911}]
[{"$f":"'[1]MedianGlobal,Percentis 5-95conv'!A11","v":900},{"$f":"'[1]MedianGlobal,Percentis 5-95conv'!B11","v":-0.217440575338658},{"$f":"'[1]MedianGlobal,Percentis 5-95conv'!D11","v":0.379331365876139}]
[{"$f":"'[1]MedianGlobal,Percentis 5-95conv'!A10","v":800},{"$f":"'[1]MedianGlobal,Percentis 5-95conv'!B10","v":-0.20155686980764},{"$f":"'[1]MedianGlobal,Percentis 5-95conv'!D10","v":0.374820525793153}]
[{"$f":"'[1]MedianGlobal,Percentis 5-95conv'!A9","v":700},{"$f":"'[1]MedianGlobal,Percentis 5-95conv'!B9","v":-0.227741406571118},{"$f":"'[1]MedianGlobal,Percentis 5-95conv'!D9","v":0.381816038071956}]
[{"$f":"'[1]MedianGlobal,Percentis 5-95conv'!A8","v":600},{"$f":"'[1]MedianGlobal,Percentis 5-95conv'!B8","v":-0.240117701682549},{"$f":"'[1]MedianGlobal,Percentis 5-95conv'!D8","v":0.365221193587064}]
[{"$f":"'[1]MedianGlobal,Percentis 5-95conv'!A7","v":500},{"$f":"'[1]MedianGlobal,Percentis 5-95conv'!B7","v":-0.284303654187321},{"$f":"'[1]MedianGlobal,Percentis 5-95conv'!D7","v":0.339327476992428}]
[{"$f":"'[1]MedianGlobal,Percentis 5-95conv'!A6","v":400},{"$f":"'[1]MedianGlobal,Percentis 5-95conv'!B6","v":-0.316197032097084},{"$f":"'[1]MedianGlobal,Percentis 5-95conv'!D6","v":0.347519378582316}]
[{"$f":"'[1]MedianGlobal,Percentis 5-95conv'!A5","v":300},{"$f":"'[1]MedianGlobal,Percentis 5-95conv'!B5","v":-0.31327597698464},{"$f":"'[1]MedianGlobal,Percentis 5-95conv'!D5","v":0.359186425130922}]
[{"$f":"'[1]MedianGlobal,Percentis 5-95conv'!A4","v":200},{"$f":"'[1]MedianGlobal,Percentis 5-95conv'!B4","v":-0.289516398256662},{"$f":"'[1]MedianGlobal,Percentis 5-95conv'!D4","v":0.386742588874863}]
[{"$f":"'[1]MedianGlobal,Percentis 5-95conv'!A3","v":100},{"$f":"'[1]MedianGlobal,Percentis 5-95conv'!B3","v":-0.342004637887195},{"$f":"'[1]MedianGlobal,Percentis 5-95conv'!D3","v":0.355638022616431}]
[{"$f":"'[1]MedianGlobal,Percentis 5-95conv'!A2","v":0},{"$f":"'[1]MedianGlobal,Percentis 5-95conv'!B2","v":-0.262400068763212},{"$f":"'[1]MedianGlobal,Percentis 5-95conv'!D2","v":0.57947053}]
{"$rows_empty":158}
[{"$f":"'[1]MedianGlobal,Percentis 5-95conv'!A281","v":0},{"$f":"'[1]MedianGlobal,Percentis 5-95conv'!B281","v":0}]
[{"$f":"'[1]MedianGlobal,Percentis 5-95conv'!A282","v":0},{"$f":"'[1]MedianGlobal,Percentis 5-95conv'!B282","v":0}]
[{"$f":"'[1]MedianGlobal,Percentis 5-95conv'!A283","v":0},{"$f":"'[1]MedianGlobal,Percentis 5-95conv'!B283","v":0}]
[{"$f":"'[1]MedianGlobal,Percentis 5-95conv'!A284","v":0},{"$f":"'[1]MedianGlobal,Percentis 5-95conv'!B284","v":0}]
[{"$f":"'[1]MedianGlobal,Percentis 5-95conv'!A285","v":0},{"$f":"'[1]MedianGlobal,Percentis 5-95conv'!B285","v":0}]
[{"$f":"'[1]MedianGlobal,Percentis 5-95conv'!A286","v":0},{"$f":"'[1]MedianGlobal,Percentis 5-95conv'!B286","v":0}]
[{"$f":"'[1]MedianGlobal,Percentis 5-95conv'!A287","v":0},{"$f":"'[1]MedianGlobal,Percentis 5-95conv'!B287","v":0}]
[{"$f":"'[1]MedianGlobal,Percentis 5-95conv'!A288","v":0},{"$f":"'[1]MedianGlobal,Percentis 5-95conv'!B288","v":0}]
[{"$f":"'[1]MedianGlobal,Percentis 5-95conv'!A289","v":0},{"$f":"'[1]MedianGlobal,Percentis 5-95conv'!B289","v":0}]
[{"$f":"'[1]MedianGlobal,Percentis 5-95conv'!A290","v":0},{"$f":"'[1]MedianGlobal,Percentis 5-95conv'!B290","v":0}]
[{"$f":"'[1]MedianGlobal,Percentis 5-95conv'!A291","v":0},{"$f":"'[1]MedianGlobal,Percentis 5-95conv'!B291","v":0}]
[{"$f":"'[1]MedianGlobal,Percentis 5-95conv'!A292","v":0},{"$f":"'[1]MedianGlobal,Percentis 5-95conv'!B292","v":0}]
[{"$f":"'[1]MedianGlobal,Percentis 5-95conv'!A293","v":0},{"$f":"'[1]MedianGlobal,Percentis 5-95conv'!B293","v":0}]
[{"$f":"'[1]MedianGlobal,Percentis 5-95conv'!A294","v":0},{"$f":"'[1]MedianGlobal,Percentis 5-95conv'!B294","v":0}]
[{"$f":"'[1]MedianGlobal,Percentis 5-95conv'!A295","v":0},{"$f":"'[1]MedianGlobal,Percentis 5-95conv'!B295","v":0}]
[{"$f":"'[1]MedianGlobal,Percentis 5-95conv'!A296","v":0},{"$f":"'[1]MedianGlobal,Percentis 5-95conv'!B296","v":0}]
[{"$f":"'[1]MedianGlobal,Percentis 5-95conv'!A297","v":0},{"$f":"'[1]MedianGlobal,Percentis 5-95conv'!B297","v":0}]
[{"$f":"'[1]MedianGlobal,Percentis 5-95conv'!A298","v":0},{"$f":"'[1]MedianGlobal,Percentis 5-95conv'!B298","v":0}]
[{"$f":"'[1]MedianGlobal,Percentis 5-95conv'!A299","v":0},{"$f":"'[1]MedianGlobal,Percentis 5-95conv'!B299","v":0}]
[{"$f":"'[1]MedianGlobal,Percentis 5-95conv'!A300","v":0},{"$f":"'[1]MedianGlobal,Percentis 5-95conv'!B300","v":0}]
[{"$f":"'[1]MedianGlobal,Percentis 5-95conv'!A301","v":0},{"$f":"'[1]MedianGlobal,Percentis 5-95conv'!B301","v":0}]
[{"$f":"'[1]MedianGlobal,Percentis 5-95conv'!A302","v":0},{"$f":"'[1]MedianGlobal,Percentis 5-95conv'!B302","v":0}]
[{"$f":"'[1]MedianGlobal,Percentis 5-95conv'!A303","v":0},{"$f":"'[1]MedianGlobal,Percentis 5-95conv'!B303","v":0}]
[{"$f":"'[1]MedianGlobal,Percentis 5-95conv'!A304","v":0},{"$f":"'[1]MedianGlobal,Percentis 5-95conv'!B304","v":0}]
[{"$f":"'[1]MedianGlobal,Percentis 5-95conv'!A305","v":0},{"$f":"'[1]MedianGlobal,Percentis 5-95conv'!B305","v":0}]
[{"$f":"'[1]MedianGlobal,Percentis 5-95conv'!A306","v":0},{"$f":"'[1]MedianGlobal,Percentis 5-95conv'!B306","v":0}]
[{"$f":"'[1]MedianGlobal,Percentis 5-95conv'!A307","v":0},{"$f":"'[1]MedianGlobal,Percentis 5-95conv'!B307","v":0}]
[{"$f":"'[1]MedianGlobal,Percentis 5-95conv'!A308","v":0},{"$f":"'[1]MedianGlobal,Percentis 5-95conv'!B308","v":0}]
[{"$f":"'[1]MedianGlobal,Percentis 5-95conv'!A309","v":0},{"$f":"'[1]MedianGlobal,Percentis 5-95conv'!B309","v":0}]
[{"$f":"'[1]MedianGlobal,Percentis 5-95conv'!A310","v":0},{"$f":"'[1]MedianGlobal,Percentis 5-95conv'!B310","v":0}]
[{"$f":"'[1]MedianGlobal,Percentis 5-95conv'!A311","v":0},{"$f":"'[1]MedianGlobal,Percentis 5-95conv'!B311","v":0}]
[{"$f":"'[1]MedianGlobal,Percentis 5-95conv'!A312","v":0},{"$f":"'[1]MedianGlobal,Percentis 5-95conv'!B312","v":0}]
[{"$f":"'[1]MedianGlobal,Percentis 5-95conv'!A313","v":0},{"$f":"'[1]MedianGlobal,Percentis 5-95conv'!B313","v":0}]
[{"$f":"'[1]MedianGlobal,Percentis 5-95conv'!A314","v":0},{"$f":"'[1]MedianGlobal,Percentis 5-95conv'!B314","v":0}]
[{"$f":"'[1]MedianGlobal,Percentis 5-95conv'!A315","v":0},{"$f":"'[1]MedianGlobal,Percentis 5-95conv'!B315","v":0}]
[{"$f":"'[1]MedianGlobal,Percentis 5-95conv'!A316","v":0},{"$f":"'[1]MedianGlobal,Percentis 5-95conv'!B316","v":0}]
[{"$f":"'[1]MedianGlobal,Percentis 5-95conv'!A317","v":0},{"$f":"'[1]MedianGlobal,Percentis 5-95conv'!B317","v":0}]
[{"$f":"'[1]MedianGlobal,Percentis 5-95conv'!A318","v":0},{"$f":"'[1]MedianGlobal,Percentis 5-95conv'!B318","v":0}]
[{"$f":"'[1]MedianGlobal,Percentis 5-95conv'!A319","v":0},{"$f":"'[1]MedianGlobal,Percentis 5-95conv'!B319","v":0}]
[{"$f":"'[1]MedianGlobal,Percentis 5-95conv'!A320","v":0},{"$f":"'[1]MedianGlobal,Percentis 5-95conv'!B320","v":0}]
[{"$f":"'[1]MedianGlobal,Percentis 5-95conv'!A321","v":0},{"$f":"'[1]MedianGlobal,Percentis 5-95conv'!B321","v":0}]
[{"$f":"'[1]MedianGlobal,Percentis 5-95conv'!A322","v":0},{"$f":"'[1]MedianGlobal,Percentis 5-95conv'!B322","v":0}]
[{"$f":"'[1]MedianGlobal,Percentis 5-95conv'!A323","v":0},{"$f":"'[1]MedianGlobal,Percentis 5-95conv'!B323","v":0}]
[{"$f":"'[1]MedianGlobal,Percentis 5-95conv'!A324","v":0},{"$f":"'[1]MedianGlobal,Percentis 5-95conv'!B324","v":0}]
[{"$f":"'[1]MedianGlobal,Percentis 5-95conv'!A325","v":0},{"$f":"'[1]MedianGlobal,Percentis 5-95conv'!B325","v":0}]
[{"$f":"'[1]MedianGlobal,Percentis 5-95conv'!A326","v":0},{"$f":"'[1]MedianGlobal,Percentis 5-95conv'!B326","v":0}]
[{"$f":"'[1]MedianGlobal,Percentis 5-95conv'!A327","v":0},{"$f":"'[1]MedianGlobal,Percentis 5-95conv'!B327","v":0}]
[{"$f":"'[1]MedianGlobal,Percentis 5-95conv'!A328","v":0},{"$f":"'[1]MedianGlobal,Percentis 5-95conv'!B328","v":0}]
[{"$f":"'[1]MedianGlobal,Percentis 5-95conv'!A329","v":0},{"$f":"'[1]MedianGlobal,Percentis 5-95conv'!B329","v":0}]
[{"$f":"'[1]MedianGlobal,Percentis 5-95conv'!A330","v":0},{"$f":"'[1]MedianGlobal,Percentis 5-95conv'!B330","v":0}]
[{"$f":"'[1]MedianGlobal,Percentis 5-95conv'!A331","v":0},{"$f":"'[1]MedianGlobal,Percentis 5-95conv'!B331","v":0}]
[{"$f":"'[1]MedianGlobal,Percentis 5-95conv'!A332","v":0},{"$f":"'[1]MedianGlobal,Percentis 5-95conv'!B332","v":0}]
[{"$f":"'[1]MedianGlobal,Percentis 5-95conv'!A333","v":0},{"$f":"'[1]MedianGlobal,Percentis 5-95conv'!B333","v":0}]
[{"$f":"'[1]MedianGlobal,Percentis 5-95conv'!A334","v":0},{"$f":"'[1]MedianGlobal,Percentis 5-95conv'!B334","v":0}]
[{"$f":"'[1]MedianGlobal,Percentis 5-95conv'!A335","v":0},{"$f":"'[1]MedianGlobal,Percentis 5-95conv'!B335","v":0}]
[{"$f":"'[1]MedianGlobal,Percentis 5-95conv'!A336","v":0},{"$f":"'[1]MedianGlobal,Percentis 5-95conv'!B336","v":0}]
[{"$f":"'[1]MedianGlobal,Percentis 5-95conv'!A337","v":0},{"$f":"'[1]MedianGlobal,Percentis 5-95conv'!B337","v":0}]
[{"$f":"'[1]MedianGlobal,Percentis 5-95conv'!A338","v":0},{"$f":"'[1]MedianGlobal,Percentis 5-95conv'!B338","v":0}]
[{"$f":"'[1]MedianGlobal,Percentis 5-95conv'!A339","v":0},{"$f":"'[1]MedianGlobal,Percentis 5-95conv'!B339","v":0}]
[{"$f":"'[1]MedianGlobal,Percentis 5-95conv'!A340","v":0},{"$f":"'[1]MedianGlobal,Percentis 5-95conv'!B340","v":0}]
[{"$f":"'[1]MedianGlobal,Percentis 5-95conv'!A341","v":0},{"$f":"'[1]MedianGlobal,Percentis 5-95conv'!B341","v":0}]
[{"$f":"'[1]MedianGlobal,Percentis 5-95conv'!A342","v":0},{"$f":"'[1]MedianGlobal,Percentis 5-95conv'!B342","v":0}]
[{"$f":"'[1]MedianGlobal,Percentis 5-95conv'!A343","v":0},{"$f":"'[1]MedianGlobal,Percentis 5-95conv'!B343","v":0}]
[{"$f":"'[1]MedianGlobal,Percentis 5-95conv'!A344","v":0},{"$f":"'[1]MedianGlobal,Percentis 5-95conv'!B344","v":0}]
[{"$f":"'[1]MedianGlobal,Percentis 5-95conv'!A345","v":0},{"$f":"'[1]MedianGlobal,Percentis 5-95conv'!B345","v":0}]
[{"$f":"'[1]MedianGlobal,Percentis 5-95conv'!A346","v":0},{"$f":"'[1]MedianGlobal,Percentis 5-95conv'!B346","v":0}]
[{"$f":"'[1]MedianGlobal,Percentis 5-95conv'!A347","v":0},{"$f":"'[1]MedianGlobal,Percentis 5-95conv'!B347","v":0}]
[{"$f":"'[1]MedianGlobal,Percentis 5-95conv'!A348","v":0},{"$f":"'[1]MedianGlobal,Percentis 5-95conv'!B348","v":0}]
[{"$f":"'[1]MedianGlobal,Percentis 5-95conv'!A349","v":0},{"$f":"'[1]MedianGlobal,Percentis 5-95conv'!B349","v":0}]
[{"$f":"'[1]MedianGlobal,Percentis 5-95conv'!A350","v":0},{"$f":"'[1]MedianGlobal,Percentis 5-95conv'!B350","v":0}]
[{"$f":"'[1]MedianGlobal,Percentis 5-95conv'!A351","v":0},{"$f":"'[1]MedianGlobal,Percentis 5-95conv'!B351","v":0}]
[{"$f":"'[1]MedianGlobal,Percentis 5-95conv'!A352","v":0},{"$f":"'[1]MedianGlobal,Percentis 5-95conv'!B352","v":0}]
[{"$f":"'[1]MedianGlobal,Percentis 5-95conv'!A353","v":0},{"$f":"'[1]MedianGlobal,Percentis 5-95conv'!B353","v":0}]
[{"$f":"'[1]MedianGlobal,Percentis 5-95conv'!A354","v":0},{"$f":"'[1]MedianGlobal,Percentis 5-95conv'!B354","v":0}]
[{"$f":"'[1]MedianGlobal,Percentis 5-95conv'!A355","v":0},{"$f":"'[1]MedianGlobal,Percentis 5-95conv'!B355","v":0}]
[{"$f":"'[1]MedianGlobal,Percentis 5-95conv'!A356","v":0},{"$f":"'[1]MedianGlobal,Percentis 5-95conv'!B356","v":0}]
[{"$f":"'[1]MedianGlobal,Percentis 5-95conv'!A357","v":0},{"$f":"'[1]MedianGlobal,Percentis 5-95conv'!B357","v":0}]
[{"$f":"'[1]MedianGlobal,Percentis 5-95conv'!A358","v":0},{"$f":"'[1]MedianGlobal,Percentis 5-95conv'!B358","v":0}]
[{"$f":"'[1]MedianGlobal,Percentis 5-95conv'!A359","v":0},{"$f":"'[1]MedianGlobal,Percentis 5-95conv'!B359","v":0}]
[{"$f":"'[1]MedianGlobal,Percentis 5-95conv'!A360","v":0},{"$f":"'[1]MedianGlobal,Percentis 5-95conv'!B360","v":0}]
[{"$f":"'[1]MedianGlobal,Percentis 5-95conv'!A361","v":0},{"$f":"'[1]MedianGlobal,Percentis 5-95conv'!B361","v":0}]
[{"$f":"'[1]MedianGlobal,Percentis 5-95conv'!A362","v":0},{"$f":"'[1]MedianGlobal,Percentis 5-95conv'!B362","v":0}]
[{"$f":"'[1]MedianGlobal,Percentis 5-95conv'!A363","v":0},{"$f":"'[1]MedianGlobal,Percentis 5-95conv'!B363","v":0}]
[{"$f":"'[1]MedianGlobal,Percentis 5-95conv'!A364","v":0},{"$f":"'[1]MedianGlobal,Percentis 5-95conv'!B364","v":0}]
[{"$f":"'[1]MedianGlobal,Percentis 5-95conv'!A365","v":0},{"$f":"'[1]MedianGlobal,Percentis 5-95conv'!B365","v":0}]
[{"$f":"'[1]MedianGlobal,Percentis 5-95conv'!A366","v":0},{"$f":"'[1]MedianGlobal,Percentis 5-95conv'!B366","v":0}]
[{"$f":"'[1]MedianGlobal,Percentis 5-95conv'!A367","v":0},{"$f":"'[1]MedianGlobal,Percentis 5-95conv'!B367","v":0}]
[{"$f":"'[1]MedianGlobal,Percentis 5-95conv'!A368","v":0},{"$f":"'[1]MedianGlobal,Percentis 5-95conv'!B368","v":0}]
[{"$f":"'[1]MedianGlobal,Percentis 5-95conv'!A369","v":0},{"$f":"'[1]MedianGlobal,Percentis 5-95conv'!B369","v":0}]
[{"$f":"'[1]MedianGlobal,Percentis 5-95conv'!A370","v":0},{"$f":"'[1]MedianGlobal,Percentis 5-95conv'!B370","v":0}]
[{"$f":"'[1]MedianGlobal,Percentis 5-95conv'!A371","v":0},{"$f":"'[1]MedianGlobal,Percentis 5-95conv'!B371","v":0}]
[{"$f":"'[1]MedianGlobal,Percentis 5-95conv'!A372","v":0},{"$f":"'[1]MedianGlobal,Percentis 5-95conv'!B372","v":0}]
[{"$f":"'[1]MedianGlobal,Percentis 5-95conv'!A373","v":0},{"$f":"'[1]MedianGlobal,Percentis 5-95conv'!B373","v":0}]
[{"$f":"'[1]MedianGlobal,Percentis 5-95conv'!A374","v":0},{"$f":"'[1]MedianGlobal,Percentis 5-95conv'!B374","v":0}]
[{"$f":"'[1]MedianGlobal,Percentis 5-95conv'!A375","v":0},{"$f":"'[1]MedianGlobal,Percentis 5-95conv'!B375","v":0}]
[{"$f":"'[1]MedianGlobal,Percentis 5-95conv'!A376","v":0},{"$f":"'[1]MedianGlobal,Percentis 5-95conv'!B376","v":0}]
[{"$f":"'[1]MedianGlobal,Percentis 5-95conv'!A377","v":0},{"$f":"'[1]MedianGlobal,Percentis 5-95conv'!B377","v":0}]
[{"$f":"'[1]MedianGlobal,Percentis 5-95conv'!A378","v":0},{"$f":"'[1]MedianGlobal,Percentis 5-95conv'!B378","v":0}]
[{"$f":"'[1]MedianGlobal,Percentis 5-95conv'!A379","v":0},{"$f":"'[1]MedianGlobal,Percentis 5-95conv'!B379","v":0}]
[{"$f":"'[1]MedianGlobal,Percentis 5-95conv'!A380","v":0},{"$f":"'[1]MedianGlobal,Percentis 5-95conv'!B380","v":0}]
[{"$f":"'[1]MedianGlobal,Percentis 5-95conv'!A381","v":0},{"$f":"'[1]MedianGlobal,Percentis 5-95conv'!B381","v":0}]
[{"$f":"'[1]MedianGlobal,Percentis 5-95conv'!A382","v":0},{"$f":"'[1]MedianGlobal,Percentis 5-95conv'!B382","v":0}]
[{"$f":"'[1]MedianGlobal,Percentis 5-95conv'!A383","v":0},{"$f":"'[1]MedianGlobal,Percentis 5-95conv'!B383","v":0}]
[{"$f":"'[1]MedianGlobal,Percentis 5-95conv'!A384","v":0},{"$f":"'[1]MedianGlobal,Percentis 5-95conv'!B384","v":0}]
[{"$f":"'[1]MedianGlobal,Percentis 5-95conv'!A385","v":0},{"$f":"'[1]MedianGlobal,Percentis 5-95conv'!B385","v":0}]
[{"$f":"'[1]MedianGlobal,Percentis 5-95conv'!A386","v":0},{"$f":"'[1]MedianGlobal,Percentis 5-95conv'!B386","v":0}]
[{"$f":"'[1]MedianGlobal,Percentis 5-95conv'!A387","v":0},{"$f":"'[1]MedianGlobal,Percentis 5-95conv'!B387","v":0}]
[{"$f":"'[1]MedianGlobal,Percentis 5-95conv'!A388","v":0},{"$f":"'[1]MedianGlobal,Percentis 5-95conv'!B388","v":0}]
[{"$f":"'[1]MedianGlobal,Percentis 5-95conv'!A389","v":0},{"$f":"'[1]MedianGlobal,Percentis 5-95conv'!B389","v":0}]
[{"$f":"'[1]MedianGlobal,Percentis 5-95conv'!A390","v":0},{"$f":"'[1]MedianGlobal,Percentis 5-95conv'!B390","v":0}]
[{"$f":"'[1]MedianGlobal,Percentis 5-95conv'!A391","v":0},{"$f":"'[1]MedianGlobal,Percentis 5-95conv'!B391","v":0}]
[{"$f":"'[1]MedianGlobal,Percentis 5-95conv'!A392","v":0},{"$f":"'[1]MedianGlobal,Percentis 5-95conv'!B392","v":0}]
[{"$f":"'[1]MedianGlobal,Percentis 5-95conv'!A393","v":0},{"$f":"'[1]MedianGlobal,Percentis 5-95conv'!B393","v":0}]
[{"$f":"'[1]MedianGlobal,Percentis 5-95conv'!A394","v":0},{"$f":"'[1]MedianGlobal,Percentis 5-95conv'!B394","v":0}]
[{"$f":"'[1]MedianGlobal,Percentis 5-95conv'!A395","v":0},{"$f":"'[1]MedianGlobal,Percentis 5-95conv'!B395","v":0}]
[{"$f":"'[1]MedianGlobal,Percentis 5-95conv'!A396","v":0},{"$f":"'[1]MedianGlobal,Percentis 5-95conv'!B396","v":0}]
[{"$f":"'[1]MedianGlobal,Percentis 5-95conv'!A397","v":0},{"$f":"'[1]MedianGlobal,Percentis 5-95conv'!B397","v":0}]
[{"$f":"'[1]MedianGlobal,Percentis 5-95conv'!A398","v":0},{"$f":"'[1]MedianGlobal,Percentis 5-95conv'!B398","v":0}]
[{"$f":"'[1]MedianGlobal,Percentis 5-95conv'!A399","v":0},{"$f":"'[1]MedianGlobal,Percentis 5-95conv'!B399","v":0}]
[{"$f":"'[1]MedianGlobal,Percentis 5-95conv'!A400","v":0},{"$f":"'[1]MedianGlobal,Percentis 5-95conv'!B400","v":0}]
[{"$f":"'[1]MedianGlobal,Percentis 5-95conv'!A401","v":0},{"$f":"'[1]MedianGlobal,Percentis 5-95conv'!B401","v":0}]
[{"$f":"'[1]MedianGlobal,Percentis 5-95conv'!A402","v":0},{"$f":"'[1]MedianGlobal,Percentis 5-95conv'!B402","v":0}]
[{"$f":"'[1]MedianGlobal,Percentis 5-95conv'!A403","v":0},{"$f":"'[1]MedianGlobal,Percentis 5-95conv'!B403","v":0}]
[{"$f":"'[1]MedianGlobal,Percentis 5-95conv'!A404","v":0},{"$f":"'[1]MedianGlobal,Percentis 5-95conv'!B404","v":0}]
[{"$f":"'[1]MedianGlobal,Percentis 5-95conv'!A405","v":0},{"$f":"'[1]MedianGlobal,Percentis 5-95conv'!B405","v":0}]
[{"$f":"'[1]MedianGlobal,Percentis 5-95conv'!A406","v":0},{"$f":"'[1]MedianGlobal,Percentis 5-95conv'!B406","v":0}]
[{"$f":"'[1]MedianGlobal,Percentis 5-95conv'!A407","v":0},{"$f":"'[1]MedianGlobal,Percentis 5-95conv'!B407","v":0}]
[{"$f":"'[1]MedianGlobal,Percentis 5-95conv'!A408","v":0},{"$f":"'[1]MedianGlobal,Percentis 5-95conv'!B408","v":0}]
[{"$f":"'[1]MedianGlobal,Percentis 5-95conv'!A409","v":0},{"$f":"'[1]MedianGlobal,Percentis 5-95conv'!B409","v":0}]
[{"$f":"'[1]MedianGlobal,Percentis 5-95conv'!A410","v":0},{"$f":"'[1]MedianGlobal,Percentis 5-95conv'!B410","v":0}]
[{"$f":"'[1]MedianGlobal,Percentis 5-95conv'!A411","v":0},{"$f":"'[1]MedianGlobal,Percentis 5-95conv'!B411","v":0}]
[{"$f":"'[1]MedianGlobal,Percentis 5-95conv'!A412","v":0},{"$f":"'[1]MedianGlobal,Percentis 5-95conv'!B412","v":0}]
[{"$f":"'[1]MedianGlobal,Percentis 5-95conv'!A413","v":0},{"$f":"'[1]MedianGlobal,Percentis 5-95conv'!B413","v":0}]
[{"$f":"'[1]MedianGlobal,Percentis 5-95conv'!A414","v":0},{"$f":"'[1]MedianGlobal,Percentis 5-95conv'!B414","v":0}]
[{"$f":"'[1]MedianGlobal,Percentis 5-95conv'!A415","v":0},{"$f":"'[1]MedianGlobal,Percentis 5-95conv'!B415","v":0}]
[{"$f":"'[1]MedianGlobal,Percentis 5-95conv'!A416","v":0},{"$f":"'[1]MedianGlobal,Percentis 5-95conv'!B416","v":0}]
[{"$f":"'[1]MedianGlobal,Percentis 5-95conv'!A417","v":0},{"$f":"'[1]MedianGlobal,Percentis 5-95conv'!B417","v":0}]
[{"$f":"'[1]MedianGlobal,Percentis 5-95conv'!A418","v":0},{"$f":"'[1]MedianGlobal,Percentis 5-95conv'!B418","v":0}]
[{"$f":"'[1]MedianGlobal,Percentis 5-95conv'!A419","v":0},{"$f":"'[1]MedianGlobal,Percentis 5-95conv'!B419","v":0}]
[{"$f":"'[1]MedianGlobal,Percentis 5-95conv'!A420","v":0},{"$f":"'[1]MedianGlobal,Percentis 5-95conv'!B420","v":0}]
[{"$f":"'[1]MedianGlobal,Percentis 5-95conv'!A421","v":0},{"$f":"'[1]MedianGlobal,Percentis 5-95conv'!B421","v":0}]
[{"$f":"'[1]MedianGlobal,Percentis 5-95conv'!A422","v":0},{"$f":"'[1]MedianGlobal,Percentis 5-95conv'!B422","v":0}]
[{"$f":"'[1]MedianGlobal,Percentis 5-95conv'!A423","v":0},{"$f":"'[1]MedianGlobal,Percentis 5-95conv'!B423","v":0}]
[{"$f":"'[1]MedianGlobal,Percentis 5-95conv'!A424","v":0},{"$f":"'[1]MedianGlobal,Percentis 5-95conv'!B424","v":0}]
[{"$f":"'[1]MedianGlobal,Percentis 5-95conv'!A425","v":0},{"$f":"'[1]MedianGlobal,Percentis 5-95conv'!B425","v":0}]
[{"$f":"'[1]MedianGlobal,Percentis 5-95conv'!A426","v":0},{"$f":"'[1]MedianGlobal,Percentis 5-95conv'!B426","v":0}]
[{"$f":"'[1]MedianGlobal,Percentis 5-95conv'!A427","v":0},{"$f":"'[1]MedianGlobal,Percentis 5-95conv'!B427","v":0}]
[{"$f":"'[1]MedianGlobal,Percentis 5-95conv'!A428","v":0},{"$f":"'[1]MedianGlobal,Percentis 5-95conv'!B428","v":0}]
[{"$f":"'[1]MedianGlobal,Percentis 5-95conv'!A429","v":0},{"$f":"'[1]MedianGlobal,Percentis 5-95conv'!B429","v":0}]
[{"$f":"'[1]MedianGlobal,Percentis 5-95conv'!A430","v":0},{"$f":"'[1]MedianGlobal,Percentis 5-95conv'!B430","v":0}]
[{"$f":"'[1]MedianGlobal,Percentis 5-95conv'!A431","v":0},{"$f":"'[1]MedianGlobal,Percentis 5-95conv'!B431","v":0}]
[{"$f":"'[1]MedianGlobal,Percentis 5-95conv'!A432","v":0},{"$f":"'[1]MedianGlobal,Percentis 5-95conv'!B432","v":0}]
[{"$f":"'[1]MedianGlobal,Percentis 5-95conv'!A433","v":0},{"$f":"'[1]MedianGlobal,Percentis 5-95conv'!B433","v":0}]
[{"$f":"'[1]MedianGlobal,Percentis 5-95conv'!A434","v":0},{"$f":"'[1]MedianGlobal,Percentis 5-95conv'!B434","v":0}]
[{"$f":"'[1]MedianGlobal,Percentis 5-95conv'!A435","v":0},{"$f":"'[1]MedianGlobal,Percentis 5-95conv'!B435","v":0}]
[{"$f":"'[1]MedianGlobal,Percentis 5-95conv'!A436","v":0},{"$f":"'[1]MedianGlobal,Percentis 5-95conv'!B436","v":0}]
[{"$f":"'[1]MedianGlobal,Percentis 5-95conv'!A437","v":0},{"$f":"'[1]MedianGlobal,Percentis 5-95conv'!B437","v":0}]
[{"$f":"'[1]MedianGlobal,Percentis 5-95conv'!A438","v":0},{"$f":"'[1]MedianGlobal,Percentis 5-95conv'!B438","v":0}]
[{"$f":"'[1]MedianGlobal,Percentis 5-95conv'!A439","v":0},{"$f":"'[1]MedianGlobal,Percentis 5-95conv'!B439","v":0}]
[{"$f":"'[1]MedianGlobal,Percentis 5-95conv'!A440","v":0},{"$f":"'[1]MedianGlobal,Percentis 5-95conv'!B440","v":0}]
[{"$f":"'[1]MedianGlobal,Percentis 5-95conv'!A441","v":0},{"$f":"'[1]MedianGlobal,Percentis 5-95conv'!B441","v":0}]
[{"$f":"'[1]MedianGlobal,Percentis 5-95conv'!A442","v":0},{"$f":"'[1]MedianGlobal,Percentis 5-95conv'!B442","v":0}]
[{"$f":"'[1]MedianGlobal,Percentis 5-95conv'!A443","v":0},{"$f":"'[1]MedianGlobal,Percentis 5-95conv'!B443","v":0}]
[{"$f":"'[1]MedianGlobal,Percentis 5-95conv'!A444","v":0},{"$f":"'[1]MedianGlobal,Percentis 5-95conv'!B444","v":0}]
[{"$f":"'[1]MedianGlobal,Percentis 5-95conv'!A445","v":0},{"$f":"'[1]MedianGlobal,Percentis 5-95conv'!B445","v":0}]
[{"$f":"'[1]MedianGlobal,Percentis 5-95conv'!A446","v":0},{"$f":"'[1]MedianGlobal,Percentis 5-95conv'!B446","v":0}]
[{"$f":"'[1]MedianGlobal,Percentis 5-95conv'!A447","v":0},{"$f":"'[1]MedianGlobal,Percentis 5-95conv'!B447","v":0}]
[{"$f":"'[1]MedianGlobal,Percentis 5-95conv'!A448","v":0},{"$f":"'[1]MedianGlobal,Percentis 5-95conv'!B448","v":0}]
[{"$f":"'[1]MedianGlobal,Percentis 5-95conv'!A449","v":0},{"$f":"'[1]MedianGlobal,Percentis 5-95conv'!B449","v":0}]
[{"$f":"'[1]MedianGlobal,Percentis 5-95conv'!A450","v":0},{"$f":"'[1]MedianGlobal,Percentis 5-95conv'!B450","v":0}]
[{"$f":"'[1]MedianGlobal,Percentis 5-95conv'!A451","v":0},{"$f":"'[1]MedianGlobal,Percentis 5-95conv'!B451","v":0}]
[{"$f":"'[1]MedianGlobal,Percentis 5-95conv'!A452","v":0},{"$f":"'[1]MedianGlobal,Percentis 5-95conv'!B452","v":0}]
[{"$f":"'[1]MedianGlobal,Percentis 5-95conv'!A453","v":0},{"$f":"'[1]MedianGlobal,Percentis 5-95conv'!B453","v":0}]
[{"$f":"'[1]MedianGlobal,Percentis 5-95conv'!A454","v":0},{"$f":"'[1]MedianGlobal,Percentis 5-95conv'!B454","v":0}]
[{"$f":"'[1]MedianGlobal,Percentis 5-95conv'!A455","v":0},{"$f":"'[1]MedianGlobal,Percentis 5-95conv'!B455","v":0}]
[{"$f":"'[1]MedianGlobal,Percentis 5-95conv'!A456","v":0},{"$f":"'[1]MedianGlobal,Percentis 5-95conv'!B456","v":0}]
[{"$f":"'[1]MedianGlobal,Percentis 5-95conv'!A457","v":0},{"$f":"'[1]MedianGlobal,Percentis 5-95conv'!B457","v":0}]
[{"$f":"'[1]MedianGlobal,Percentis 5-95conv'!A458","v":0},{"$f":"'[1]MedianGlobal,Percentis 5-95conv'!B458","v":0}]
[{"$f":"'[1]MedianGlobal,Percentis 5-95conv'!A459","v":0},{"$f":"'[1]MedianGlobal,Percentis 5-95conv'!B459","v":0}]
[{"$f":"'[1]MedianGlobal,Percentis 5-95conv'!A460","v":0},{"$f":"'[1]MedianGlobal,Percentis 5-95conv'!B460","v":0}]
[{"$f":"'[1]MedianGlobal,Percentis 5-95conv'!A461","v":0},{"$f":"'[1]MedianGlobal,Percentis 5-95conv'!B461","v":0}]
[{"$f":"'[1]MedianGlobal,Percentis 5-95conv'!A462","v":0},{"$f":"'[1]MedianGlobal,Percentis 5-95conv'!B462","v":0}]
[{"$f":"'[1]MedianGlobal,Percentis 5-95conv'!A463","v":0},{"$f":"'[1]MedianGlobal,Percentis 5-95conv'!B463","v":0}]
[{"$f":"'[1]MedianGlobal,Percentis 5-95conv'!A464","v":0},{"$f":"'[1]MedianGlobal,Percentis 5-95conv'!B464","v":0}]
[{"$f":"'[1]MedianGlobal,Percentis 5-95conv'!A465","v":0},{"$f":"'[1]MedianGlobal,Percentis 5-95conv'!B465","v":0}]
[{"$f":"'[1]MedianGlobal,Percentis 5-95conv'!A466","v":0},{"$f":"'[1]MedianGlobal,Percentis 5-95conv'!B466","v":0}]
[{"$f":"'[1]MedianGlobal,Percentis 5-95conv'!A467","v":0},{"$f":"'[1]MedianGlobal,Percentis 5-95conv'!B467","v":0}]
[{"$f":"'[1]MedianGlobal,Percentis 5-95conv'!A468","v":0},{"$f":"'[1]MedianGlobal,Percentis 5-95conv'!B468","v":0}]
[{"$f":"'[1]MedianGlobal,Percentis 5-95conv'!A469","v":0},{"$f":"'[1]MedianGlobal,Percentis 5-95conv'!B469","v":0}]
[{"$f":"'[1]MedianGlobal,Percentis 5-95conv'!A470","v":0},{"$f":"'[1]MedianGlobal,Percentis 5-95conv'!B470","v":0}]
[{"$f":"'[1]MedianGlobal,Percentis 5-95conv'!A471","v":0},{"$f":"'[1]MedianGlobal,Percentis 5-95conv'!B471","v":0}]
[{"$f":"'[1]MedianGlobal,Percentis 5-95conv'!A472","v":0},{"$f":"'[1]MedianGlobal,Percentis 5-95conv'!B472","v":0}]
[{"$f":"'[1]MedianGlobal,Percentis 5-95conv'!A473","v":0},{"$f":"'[1]MedianGlobal,Percentis 5-95conv'!B473","v":0}]
[{"$f":"'[1]MedianGlobal,Percentis 5-95conv'!A474","v":0},{"$f":"'[1]MedianGlobal,Percentis 5-95conv'!B474","v":0}]
[{"$f":"'[1]MedianGlobal,Percentis 5-95conv'!A475","v":0},{"$f":"'[1]MedianGlobal,Percentis 5-95conv'!B475","v":0}]
[{"$f":"'[1]MedianGlobal,Percentis 5-95conv'!A476","v":0},{"$f":"'[1]MedianGlobal,Percentis 5-95conv'!B476","v":0}]
[{"$f":"'[1]MedianGlobal,Percentis 5-95conv'!A477","v":0},{"$f":"'[1]MedianGlobal,Percentis 5-95conv'!B477","v":0}]
[{"$f":"'[1]MedianGlobal,Percentis 5-95conv'!A478","v":0},{"$f":"'[1]MedianGlobal,Percentis 5-95conv'!B478","v":0}]
[{"$f":"'[1]MedianGlobal,Percentis 5-95conv'!A479","v":0},{"$f":"'[1]MedianGlobal,Percentis 5-95conv'!B479","v":0}]
[{"$f":"'[1]MedianGlobal,Percentis 5-95conv'!A480","v":0},{"$f":"'[1]MedianGlobal,Percentis 5-95conv'!B480","v":0}]
[{"$f":"'[1]MedianGlobal,Percentis 5-95conv'!A481","v":0},{"$f":"'[1]MedianGlobal,Percentis 5-95conv'!B481","v":0}]
[{"$f":"'[1]MedianGlobal,Percentis 5-95conv'!A482","v":0},{"$f":"'[1]MedianGlobal,Percentis 5-95conv'!B482","v":0}]
[{"$f":"'[1]MedianGlobal,Percentis 5-95conv'!A483","v":0},{"$f":"'[1]MedianGlobal,Percentis 5-95conv'!B483","v":0}]
[{"$f":"'[1]MedianGlobal,Percentis 5-95conv'!A484","v":0},{"$f":"'[1]MedianGlobal,Percentis 5-95conv'!B484","v":0}]
[{"$f":"'[1]MedianGlobal,Percentis 5-95conv'!A485","v":0},{"$f":"'[1]MedianGlobal,Percentis 5-95conv'!B485","v":0}]
[{"$f":"'[1]MedianGlobal,Percentis 5-95conv'!A486","v":0},{"$f":"'[1]MedianGlobal,Percentis 5-95conv'!B486","v":0}]
[{"$f":"'[1]MedianGlobal,Percentis 5-95conv'!A487","v":0},{"$f":"'[1]MedianGlobal,Percentis 5-95conv'!B487","v":0}]
[{"$f":"'[1]MedianGlobal,Percentis 5-95conv'!A488","v":0},{"$f":"'[1]MedianGlobal,Percentis 5-95conv'!B488","v":0}]
[{"$f":"'[1]MedianGlobal,Percentis 5-95conv'!A489","v":0},{"$f":"'[1]MedianGlobal,Percentis 5-95conv'!B489","v":0}]
[{"$f":"'[1]MedianGlobal,Percentis 5-95conv'!A490","v":0},{"$f":"'[1]MedianGlobal,Percentis 5-95conv'!B490","v":0}]
[{"$f":"'[1]MedianGlobal,Percentis 5-95conv'!A491","v":0},{"$f":"'[1]MedianGlobal,Percentis 5-95conv'!B491","v":0}]
[{"$f":"'[1]MedianGlobal,Percentis 5-95conv'!A492","v":0},{"$f":"'[1]MedianGlobal,Percentis 5-95conv'!B492","v":0}]
[{"$f":"'[1]MedianGlobal,Percentis 5-95conv'!A493","v":0},{"$f":"'[1]MedianGlobal,Percentis 5-95conv'!B493","v":0}]
[{"$f":"'[1]MedianGlobal,Percentis 5-95conv'!A494","v":0},{"$f":"'[1]MedianGlobal,Percentis 5-95conv'!B494","v":0}]
[{"$f":"'[1]MedianGlobal,Percentis 5-95conv'!A495","v":0},{"$f":"'[1]MedianGlobal,Percentis 5-95conv'!B495","v":0}]
[{"$f":"'[1]MedianGlobal,Percentis 5-95conv'!A496","v":0},{"$f":"'[1]MedianGlobal,Percentis 5-95conv'!B496","v":0}]
[{"$f":"'[1]MedianGlobal,Percentis 5-95conv'!A497","v":0},{"$f":"'[1]MedianGlobal,Percentis 5-95conv'!B497","v":0}]
[{"$f":"'[1]MedianGlobal,Percentis 5-95conv'!A498","v":0},{"$f":"'[1]MedianGlobal,Percentis 5-95conv'!B498","v":0}]
[{"$f":"'[1]MedianGlobal,Percentis 5-95conv'!A499","v":0},{"$f":"'[1]MedianGlobal,Percentis 5-95conv'!B499","v":0}]
[{"$f":"'[1]MedianGlobal,Percentis 5-95conv'!A500","v":0},{"$f":"'[1]MedianGlobal,Percentis 5-95conv'!B500","v":0}]
[{"$f":"'[1]MedianGlobal,Percentis 5-95conv'!A501","v":0},{"$f":"'[1]MedianGlobal,Percentis 5-95conv'!B501","v":0}]
[{"$f":"'[1]MedianGlobal,Percentis 5-95conv'!A502","v":0},{"$f":"'[1]MedianGlobal,Percentis 5-95conv'!B502","v":0}]
[{"$f":"'[1]MedianGlobal,Percentis 5-95conv'!A503","v":0},{"$f":"'[1]MedianGlobal,Percentis 5-95conv'!B503","v":0}]
[{"$f":"'[1]MedianGlobal,Percentis 5-95conv'!A504","v":0},{"$f":"'[1]MedianGlobal,Percentis 5-95conv'!B504","v":0}]
[{"$f":"'[1]MedianGlobal,Percentis 5-95conv'!A505","v":0},{"$f":"'[1]MedianGlobal,Percentis 5-95conv'!B505","v":0}]
[{"$f":"'[1]MedianGlobal,Percentis 5-95conv'!A506","v":0},{"$f":"'[1]MedianGlobal,Percentis 5-95conv'!B506","v":0}]
[{"$f":"'[1]MedianGlobal,Percentis 5-95conv'!A507","v":0},{"$f":"'[1]MedianGlobal,Percentis 5-95conv'!B507","v":0}]
[{"$f":"'[1]MedianGlobal,Percentis 5-95conv'!A508","v":0},{"$f":"'[1]MedianGlobal,Percentis 5-95conv'!B508","v":0}]
[{"$f":"'[1]MedianGlobal,Percentis 5-95conv'!A509","v":0},{"$f":"'[1]MedianGlobal,Percentis 5-95conv'!B509","v":0}]
[{"$f":"'[1]MedianGlobal,Percentis 5-95conv'!A510","v":0},{"$f":"'[1]MedianGlobal,Percentis 5-95conv'!B510","v":0}]
[{"$f":"'[1]MedianGlobal,Percentis 5-95conv'!A511","v":0},{"$f":"'[1]MedianGlobal,Percentis 5-95conv'!B511","v":0}]
[{"$f":"'[1]MedianGlobal,Percentis 5-95conv'!A512","v":0},{"$f":"'[1]MedianGlobal,Percentis 5-95conv'!B512","v":0}]
[{"$f":"'[1]MedianGlobal,Percentis 5-95conv'!A513","v":0},{"$f":"'[1]MedianGlobal,Percentis 5-95conv'!B513","v":0}]
[{"$f":"'[1]MedianGlobal,Percentis 5-95conv'!A514","v":0},{"$f":"'[1]MedianGlobal,Percentis 5-95conv'!B514","v":0}]
[{"$f":"'[1]MedianGlobal,Percentis 5-95conv'!A515","v":0},{"$f":"'[1]MedianGlobal,Percentis 5-95conv'!B515","v":0}]
[{"$f":"'[1]MedianGlobal,Percentis 5-95conv'!A516","v":0},{"$f":"'[1]MedianGlobal,Percentis 5-95conv'!B516","v":0}]
[{"$f":"'[1]MedianGlobal,Percentis 5-95conv'!A517","v":0},{"$f":"'[1]MedianGlobal,Percentis 5-95conv'!B517","v":0}]
[{"$f":"'[1]MedianGlobal,Percentis 5-95conv'!A518","v":0},{"$f":"'[1]MedianGlobal,Percentis 5-95conv'!B518","v":0}]
[{"$f":"'[1]MedianGlobal,Percentis 5-95conv'!A519","v":0},{"$f":"'[1]MedianGlobal,Percentis 5-95conv'!B519","v":0}]
[{"$f":"'[1]MedianGlobal,Percentis 5-95conv'!A520","v":0},{"$f":"'[1]MedianGlobal,Percentis 5-95conv'!B520","v":0}]
[{"$f":"'[1]MedianGlobal,Percentis 5-95conv'!A521","v":0},{"$f":"'[1]MedianGlobal,Percentis 5-95conv'!B521","v":0}]
[{"$f":"'[1]MedianGlobal,Percentis 5-95conv'!A522","v":0},{"$f":"'[1]MedianGlobal,Percentis 5-95conv'!B522","v":0}]
[{"$f":"'[1]MedianGlobal,Percentis 5-95conv'!A523","v":0},{"$f":"'[1]MedianGlobal,Percentis 5-95conv'!B523","v":0}]
[{"$f":"'[1]MedianGlobal,Percentis 5-95conv'!A524","v":0},{"$f":"'[1]MedianGlobal,Percentis 5-95conv'!B524","v":0}]
[{"$f":"'[1]MedianGlobal,Percentis 5-95conv'!A525","v":0},{"$f":"'[1]MedianGlobal,Percentis 5-95conv'!B525","v":0}]
[{"$f":"'[1]MedianGlobal,Percentis 5-95conv'!A526","v":0},{"$f":"'[1]MedianGlobal,Percentis 5-95conv'!B526","v":0}]
[{"$f":"'[1]MedianGlobal,Percentis 5-95conv'!A527","v":0},{"$f":"'[1]MedianGlobal,Percentis 5-95conv'!B527","v":0}]
[{"$f":"'[1]MedianGlobal,Percentis 5-95conv'!A528","v":0},{"$f":"'[1]MedianGlobal,Percentis 5-95conv'!B528","v":0}]
[{"$f":"'[1]MedianGlobal,Percentis 5-95conv'!A529","v":0},{"$f":"'[1]MedianGlobal,Percentis 5-95conv'!B529","v":0}]
[{"$f":"'[1]MedianGlobal,Percentis 5-95conv'!A530","v":0},{"$f":"'[1]MedianGlobal,Percentis 5-95conv'!B530","v":0}]
[{"$f":"'[1]MedianGlobal,Percentis 5-95conv'!A531","v":0},{"$f":"'[1]MedianGlobal,Percentis 5-95conv'!B531","v":0}]
[{"$f":"'[1]MedianGlobal,Percentis 5-95conv'!A532","v":0},{"$f":"'[1]MedianGlobal,Percentis 5-95conv'!B532","v":0}]
[{"$f":"'[1]MedianGlobal,Percentis 5-95conv'!A533","v":0},{"$f":"'[1]MedianGlobal,Percentis 5-95conv'!B533","v":0}]
[{"$f":"'[1]MedianGlobal,Percentis 5-95conv'!A534","v":0},{"$f":"'[1]MedianGlobal,Percentis 5-95conv'!B534","v":0}]
[{"$f":"'[1]MedianGlobal,Percentis 5-95conv'!A535","v":0},{"$f":"'[1]MedianGlobal,Percentis 5-95conv'!B535","v":0}]
[{"$f":"'[1]MedianGlobal,Percentis 5-95conv'!A536","v":0},{"$f":"'[1]MedianGlobal,Percentis 5-95conv'!B536","v":0}]
[{"$f":"'[1]MedianGlobal,Percentis 5-95conv'!A537","v":0},{"$f":"'[1]MedianGlobal,Percentis 5-95conv'!B537","v":0}]
[{"$f":"'[1]MedianGlobal,Percentis 5-95conv'!A538","v":0},{"$f":"'[1]MedianGlobal,Percentis 5-95conv'!B538","v":0}]
[{"$f":"'[1]MedianGlobal,Percentis 5-95conv'!A539","v":0},{"$f":"'[1]MedianGlobal,Percentis 5-95conv'!B539","v":0}]
[{"$f":"'[1]MedianGlobal,Percentis 5-95conv'!A540","v":0},{"$f":"'[1]MedianGlobal,Percentis 5-95conv'!B540","v":0}]
[{"$f":"'[1]MedianGlobal,Percentis 5-95conv'!A541","v":0},{"$f":"'[1]MedianGlobal,Percentis 5-95conv'!B541","v":0}]
[{"$f":"'[1]MedianGlobal,Percentis 5-95conv'!A542","v":0},{"$f":"'[1]MedianGlobal,Percentis 5-95conv'!B542","v":0}]
[{"$f":"'[1]MedianGlobal,Percentis 5-95conv'!A543","v":0},{"$f":"'[1]MedianGlobal,Percentis 5-95conv'!B543","v":0}]
[{"$f":"'[1]MedianGlobal,Percentis 5-95conv'!A544","v":0},{"$f":"'[1]MedianGlobal,Percentis 5-95conv'!B544","v":0}]
[{"$f":"'[1]MedianGlobal,Percentis 5-95conv'!A545","v":0},{"$f":"'[1]MedianGlobal,Percentis 5-95conv'!B545","v":0}]
[{"$f":"'[1]MedianGlobal,Percentis 5-95conv'!A546","v":0},{"$f":"'[1]MedianGlobal,Percentis 5-95conv'!B546","v":0}]
[{"$f":"'[1]MedianGlobal,Percentis 5-95conv'!A547","v":0},{"$f":"'[1]MedianGlobal,Percentis 5-95conv'!B547","v":0}]
[{"$f":"'[1]MedianGlobal,Percentis 5-95conv'!A548","v":0},{"$f":"'[1]MedianGlobal,Percentis 5-95conv'!B548","v":0}]
[{"$f":"'[1]MedianGlobal,Percentis 5-95conv'!A549","v":0},{"$f":"'[1]MedianGlobal,Percentis 5-95conv'!B549","v":0}]
[{"$f":"'[1]MedianGlobal,Percentis 5-95conv'!A550","v":0},{"$f":"'[1]MedianGlobal,Percentis 5-95conv'!B550","v":0}]
[{"$f":"'[1]MedianGlobal,Percentis 5-95conv'!A551","v":0},{"$f":"'[1]MedianGlobal,Percentis 5-95conv'!B551","v":0}]
[{"$f":"'[1]MedianGlobal,Percentis 5-95conv'!A552","v":0},{"$f":"'[1]MedianGlobal,Percentis 5-95conv'!B552","v":0}]
[{"$f":"'[1]MedianGlobal,Percentis 5-95conv'!A553","v":0},{"$f":"'[1]MedianGlobal,Percentis 5-95conv'!B553","v":0}]
[{"$f":"'[1]MedianGlobal,Percentis 5-95conv'!A554","v":0},{"$f":"'[1]MedianGlobal,Percentis 5-95conv'!B554","v":0}]
[{"$f":"'[1]MedianGlobal,Percentis 5-95conv'!A555","v":0},{"$f":"'[1]MedianGlobal,Percentis 5-95conv'!B555","v":0}]
[{"$f":"'[1]MedianGlobal,Percentis 5-95conv'!A556","v":0},{"$f":"'[1]MedianGlobal,Percentis 5-95conv'!B556","v":0}]
[{"$f":"'[1]MedianGlobal,Percentis 5-95conv'!A557","v":0},{"$f":"'[1]MedianGlobal,Percentis 5-95conv'!B557","v":0}]
[{"$f":"'[1]MedianGlobal,Percentis 5-95conv'!A558","v":0},{"$f":"'[1]MedianGlobal,Percentis 5-95conv'!B558","v":0}]
[{"$f":"'[1]MedianGlobal,Percentis 5-95conv'!A559","v":0},{"$f":"'[1]MedianGlobal,Percentis 5-95conv'!B559","v":0}]
[{"$f":"'[1]MedianGlobal,Percentis 5-95conv'!A560","v":0},{"$f":"'[1]MedianGlobal,Percentis 5-95conv'!B560","v":0}]
[{"$f":"'[1]MedianGlobal,Percentis 5-95conv'!A561","v":0},{"$f":"'[1]MedianGlobal,Percentis 5-95conv'!B561","v":0}]
[{"$f":"'[1]MedianGlobal,Percentis 5-95conv'!A562","v":0},{"$f":"'[1]MedianGlobal,Percentis 5-95conv'!B562","v":0}]
[{"$f":"'[1]MedianGlobal,Percentis 5-95conv'!A563","v":0},{"$f":"'[1]MedianGlobal,Percentis 5-95conv'!B563","v":0}]
[{"$f":"'[1]MedianGlobal,Percentis 5-95conv'!A564","v":0},{"$f":"'[1]MedianGlobal,Percentis 5-95conv'!B564","v":0}]
[{"$f":"'[1]MedianGlobal,Percentis 5-95conv'!A565","v":0},{"$f":"'[1]MedianGlobal,Percentis 5-95conv'!B565","v":0}]
[{"$f":"'[1]MedianGlobal,Percentis 5-95conv'!A566","v":0},{"$f":"'[1]MedianGlobal,Percentis 5-95conv'!B566","v":0}]
[{"$f":"'[1]MedianGlobal,Percentis 5-95conv'!A567","v":0},{"$f":"'[1]MedianGlobal,Percentis 5-95conv'!B567","v":0}]
[{"$f":"'[1]MedianGlobal,Percentis 5-95conv'!A568","v":0},{"$f":"'[1]MedianGlobal,Percentis 5-95conv'!B568","v":0}]
[{"$f":"'[1]MedianGlobal,Percentis 5-95conv'!A569","v":0},{"$f":"'[1]MedianGlobal,Percentis 5-95conv'!B569","v":0}]
[{"$f":"'[1]MedianGlobal,Percentis 5-95conv'!A570","v":0},{"$f":"'[1]MedianGlobal,Percentis 5-95conv'!B570","v":0}]
[{"$f":"'[1]MedianGlobal,Percentis 5-95conv'!A571","v":0},{"$f":"'[1]MedianGlobal,Percentis 5-95conv'!B571","v":0}]
[{"$f":"'[1]MedianGlobal,Percentis 5-95conv'!A572","v":0},{"$f":"'[1]MedianGlobal,Percentis 5-95conv'!B572","v":0}]
[{"$f":"'[1]MedianGlobal,Percentis 5-95conv'!A573","v":0},{"$f":"'[1]MedianGlobal,Percentis 5-95conv'!B573","v":0}]
[{"$f":"'[1]MedianGlobal,Percentis 5-95conv'!A574","v":0},{"$f":"'[1]MedianGlobal,Percentis 5-95conv'!B574","v":0}]
[{"$f":"'[1]MedianGlobal,Percentis 5-95conv'!A575","v":0},{"$f":"'[1]MedianGlobal,Percentis 5-95conv'!B575","v":0}]
[{"$f":"'[1]MedianGlobal,Percentis 5-95conv'!A576","v":0},{"$f":"'[1]MedianGlobal,Percentis 5-95conv'!B576","v":0}]
[{"$f":"'[1]MedianGlobal,Percentis 5-95conv'!A577","v":0},{"$f":"'[1]MedianGlobal,Percentis 5-95conv'!B577","v":0}]
[{"$f":"'[1]MedianGlobal,Percentis 5-95conv'!A578","v":0},{"$f":"'[1]MedianGlobal,Percentis 5-95conv'!B578","v":0}]
[{"$f":"'[1]MedianGlobal,Percentis 5-95conv'!A579","v":0},{"$f":"'[1]MedianGlobal,Percentis 5-95conv'!B579","v":0}]
[{"$f":"'[1]MedianGlobal,Percentis 5-95conv'!A580","v":0},{"$f":"'[1]MedianGlobal,Percentis 5-95conv'!B580","v":0}]
[{"$f":"'[1]MedianGlobal,Percentis 5-95conv'!A581","v":0},{"$f":"'[1]MedianGlobal,Percentis 5-95conv'!B581","v":0}]
[{"$f":"'[1]MedianGlobal,Percentis 5-95conv'!A582","v":0},{"$f":"'[1]MedianGlobal,Percentis 5-95conv'!B582","v":0}]
[{"$f":"'[1]MedianGlobal,Percentis 5-95conv'!A583","v":0},{"$f":"'[1]MedianGlobal,Percentis 5-95conv'!B583","v":0}]
[{"$f":"'[1]MedianGlobal,Percentis 5-95conv'!A584","v":0},{"$f":"'[1]MedianGlobal,Percentis 5-95conv'!B584","v":0}]
[{"$f":"'[1]MedianGlobal,Percentis 5-95conv'!A585","v":0},{"$f":"'[1]MedianGlobal,Percentis 5-95conv'!B585","v":0}]
[{"$f":"'[1]MedianGlobal,Percentis 5-95conv'!A586","v":0},{"$f":"'[1]MedianGlobal,Percentis 5-95conv'!B586","v":0}]
[{"$f":"'[1]MedianGlobal,Percentis 5-95conv'!A587","v":0},{"$f":"'[1]MedianGlobal,Percentis 5-95conv'!B587","v":0}]
[{"$f":"'[1]MedianGlobal,Percentis 5-95conv'!A588","v":0},{"$f":"'[1]MedianGlobal,Percentis 5-95conv'!B588","v":0}]
[{"$f":"'[1]MedianGlobal,Percentis 5-95conv'!A589","v":0},{"$f":"'[1]MedianGlobal,Percentis 5-95conv'!B589","v":0}]
[{"$f":"'[1]MedianGlobal,Percentis 5-95conv'!A590","v":0},{"$f":"'[1]MedianGlobal,Percentis 5-95conv'!B590","v":0}]
[{"$f":"'[1]MedianGlobal,Percentis 5-95conv'!A591","v":0},{"$f":"'[1]MedianGlobal,Percentis 5-95conv'!B591","v":0}]
[{"$f":"'[1]MedianGlobal,Percentis 5-95conv'!A592","v":0},{"$f":"'[1]MedianGlobal,Percentis 5-95conv'!B592","v":0}]
[{"$f":"'[1]MedianGlobal,Percentis 5-95conv'!A593","v":0},{"$f":"'[1]MedianGlobal,Percentis 5-95conv'!B593","v":0}]
[{"$f":"'[1]MedianGlobal,Percentis 5-95conv'!A594","v":0},{"$f":"'[1]MedianGlobal,Percentis 5-95conv'!B594","v":0}]
[{"$f":"'[1]MedianGlobal,Percentis 5-95conv'!A595","v":0},{"$f":"'[1]MedianGlobal,Percentis 5-95conv'!B595","v":0}]
[{"$f":"'[1]MedianGlobal,Percentis 5-95conv'!A596","v":0},{"$f":"'[1]MedianGlobal,Percentis 5-95conv'!B596","v":0}]
[{"$f":"'[1]MedianGlobal,Percentis 5-95conv'!A597","v":0},{"$f":"'[1]MedianGlobal,Percentis 5-95conv'!B597","v":0}]
[{"$f":"'[1]MedianGlobal,Percentis 5-95conv'!A598","v":0},{"$f":"'[1]MedianGlobal,Percentis 5-95conv'!B598","v":0}]
[{"$f":"'[1]MedianGlobal,Percentis 5-95conv'!A599","v":0},{"$f":"'[1]MedianGlobal,Percentis 5-95conv'!B599","v":0}]
[{"$f":"'[1]MedianGlobal,Percentis 5-95conv'!A600","v":0},{"$f":"'[1]MedianGlobal,Percentis 5-95conv'!B600","v":0}]
[{"$f":"'[1]MedianGlobal,Percentis 5-95conv'!A601","v":0},{"$f":"'[1]MedianGlobal,Percentis 5-95conv'!B601","v":0}]
[{"$f":"'[1]MedianGlobal,Percentis 5-95conv'!A602","v":0},{"$f":"'[1]MedianGlobal,Percentis 5-95conv'!B602","v":0}]
[{"$f":"'[1]MedianGlobal,Percentis 5-95conv'!A603","v":0},{"$f":"'[1]MedianGlobal,Percentis 5-95conv'!B603","v":0}]
[{"$f":"'[1]MedianGlobal,Percentis 5-95conv'!A604","v":0},{"$f":"'[1]MedianGlobal,Percentis 5-95conv'!B604","v":0}]
[{"$f":"'[1]MedianGlobal,Percentis 5-95conv'!A605","v":0},{"$f":"'[1]MedianGlobal,Percentis 5-95conv'!B605","v":0}]
[{"$f":"'[1]MedianGlobal,Percentis 5-95conv'!A606","v":0},{"$f":"'[1]MedianGlobal,Percentis 5-95conv'!B606","v":0}]
[{"$f":"'[1]MedianGlobal,Percentis 5-95conv'!A607","v":0},{"$f":"'[1]MedianGlobal,Percentis 5-95conv'!B607","v":0}]
[{"$f":"'[1]MedianGlobal,Percentis 5-95conv'!A608","v":0},{"$f":"'[1]MedianGlobal,Percentis 5-95conv'!B608","v":0}]
[{"$f":"'[1]MedianGlobal,Percentis 5-95conv'!A609","v":0},{"$f":"'[1]MedianGlobal,Percentis 5-95conv'!B609","v":0}]
[{"$f":"'[1]MedianGlobal,Percentis 5-95conv'!A610","v":0},{"$f":"'[1]MedianGlobal,Percentis 5-95conv'!B610","v":0}]
[{"$f":"'[1]MedianGlobal,Percentis 5-95conv'!A611","v":0},{"$f":"'[1]MedianGlobal,Percentis 5-95conv'!B611","v":0}]
[{"$f":"'[1]MedianGlobal,Percentis 5-95conv'!A612","v":0},{"$f":"'[1]MedianGlobal,Percentis 5-95conv'!B612","v":0}]
[{"$f":"'[1]MedianGlobal,Percentis 5-95conv'!A613","v":0},{"$f":"'[1]MedianGlobal,Percentis 5-95conv'!B613","v":0}]
[{"$f":"'[1]MedianGlobal,Percentis 5-95conv'!A614","v":0},{"$f":"'[1]MedianGlobal,Percentis 5-95conv'!B614","v":0}]
[{"$f":"'[1]MedianGlobal,Percentis 5-95conv'!A615","v":0},{"$f":"'[1]MedianGlobal,Percentis 5-95conv'!B615","v":0}]
[{"$f":"'[1]MedianGlobal,Percentis 5-95conv'!A616","v":0},{"$f":"'[1]MedianGlobal,Percentis 5-95conv'!B616","v":0}]
[{"$f":"'[1]MedianGlobal,Percentis 5-95conv'!A617","v":0},{"$f":"'[1]MedianGlobal,Percentis 5-95conv'!B617","v":0}]
[{"$f":"'[1]MedianGlobal,Percentis 5-95conv'!A618","v":0},{"$f":"'[1]MedianGlobal,Percentis 5-95conv'!B618","v":0}]
[{"$f":"'[1]MedianGlobal,Percentis 5-95conv'!A619","v":0},{"$f":"'[1]MedianGlobal,Percentis 5-95conv'!B619","v":0}]
[{"$f":"'[1]MedianGlobal,Percentis 5-95conv'!A620","v":0},{"$f":"'[1]MedianGlobal,Percentis 5-95conv'!B620","v":0}]
[{"$f":"'[1]MedianGlobal,Percentis 5-95conv'!A621","v":0},{"$f":"'[1]MedianGlobal,Percentis 5-95conv'!B621","v":0}]
[{"$f":"'[1]MedianGlobal,Percentis 5-95conv'!A622","v":0},{"$f":"'[1]MedianGlobal,Percentis 5-95conv'!B622","v":0}]
[{"$f":"'[1]MedianGlobal,Percentis 5-95conv'!A623","v":0},{"$f":"'[1]MedianGlobal,Percentis 5-95conv'!B623","v":0}]
[{"$f":"'[1]MedianGlobal,Percentis 5-95conv'!A624","v":0},{"$f":"'[1]MedianGlobal,Percentis 5-95conv'!B624","v":0}]
[{"$f":"'[1]MedianGlobal,Percentis 5-95conv'!A625","v":0},{"$f":"'[1]MedianGlobal,Percentis 5-95conv'!B625","v":0}]
[{"$f":"'[1]MedianGlobal,Percentis 5-95conv'!A626","v":0},{"$f":"'[1]MedianGlobal,Percentis 5-95conv'!B626","v":0}]
[{"$f":"'[1]MedianGlobal,Percentis 5-95conv'!A627","v":0},{"$f":"'[1]MedianGlobal,Percentis 5-95conv'!B627","v":0}]
[{"$f":"'[1]MedianGlobal,Percentis 5-95conv'!A628","v":0},{"$f":"'[1]MedianGlobal,Percentis 5-95conv'!B628","v":0}]
[{"$f":"'[1]MedianGlobal,Percentis 5-95conv'!A629","v":0},{"$f":"'[1]MedianGlobal,Percentis 5-95conv'!B629","v":0}]
[{"$f":"'[1]MedianGlobal,Percentis 5-95conv'!A630","v":0},{"$f":"'[1]MedianGlobal,Percentis 5-95conv'!B630","v":0}]
[{"$f":"'[1]MedianGlobal,Percentis 5-95conv'!A631","v":0},{"$f":"'[1]MedianGlobal,Percentis 5-95conv'!B631","v":0}]
[{"$f":"'[1]MedianGlobal,Percentis 5-95conv'!A632","v":0},{"$f":"'[1]MedianGlobal,Percentis 5-95conv'!B632","v":0}]
[{"$f":"'[1]MedianGlobal,Percentis 5-95conv'!A633","v":0},{"$f":"'[1]MedianGlobal,Percentis 5-95conv'!B633","v":0}]
[{"$f":"'[1]MedianGlobal,Percentis 5-95conv'!A634","v":0},{"$f":"'[1]MedianGlobal,Percentis 5-95conv'!B634","v":0}]
[{"$f":"'[1]MedianGlobal,Percentis 5-95conv'!A635","v":0},{"$f":"'[1]MedianGlobal,Percentis 5-95conv'!B635","v":0}]
[{"$f":"'[1]MedianGlobal,Percentis 5-95conv'!A636","v":0},{"$f":"'[1]MedianGlobal,Percentis 5-95conv'!B636","v":0}]
[{"$f":"'[1]MedianGlobal,Percentis 5-95conv'!A637","v":0},{"$f":"'[1]MedianGlobal,Percentis 5-95conv'!B637","v":0}]
[{"$f":"'[1]MedianGlobal,Percentis 5-95conv'!A638","v":0},{"$f":"'[1]MedianGlobal,Percentis 5-95conv'!B638","v":0}]
[{"$f":"'[1]MedianGlobal,Percentis 5-95conv'!A639","v":0},{"$f":"'[1]MedianGlobal,Percentis 5-95conv'!B639","v":0}]
[{"$f":"'[1]MedianGlobal,Percentis 5-95conv'!A640","v":0},{"$f":"'[1]MedianGlobal,Percentis 5-95conv'!B640","v":0}]
[{"$f":"'[1]MedianGlobal,Percentis 5-95conv'!A641","v":0},{"$f":"'[1]MedianGlobal,Percentis 5-95conv'!B641","v":0}]
[{"$f":"'[1]MedianGlobal,Percentis 5-95conv'!A642","v":0},{"$f":"'[1]MedianGlobal,Percentis 5-95conv'!B642","v":0}]
[{"$f":"'[1]MedianGlobal,Percentis 5-95conv'!A643","v":0},{"$f":"'[1]MedianGlobal,Percentis 5-95conv'!B643","v":0}]
[{"$f":"'[1]MedianGlobal,Percentis 5-95conv'!A644","v":0},{"$f":"'[1]MedianGlobal,Percentis 5-95conv'!B644","v":0}]
[{"$f":"'[1]MedianGlobal,Percentis 5-95conv'!A645","v":0},{"$f":"'[1]MedianGlobal,Percentis 5-95conv'!B645","v":0}]
[{"$f":"'[1]MedianGlobal,Percentis 5-95conv'!A646","v":0},{"$f":"'[1]MedianGlobal,Percentis 5-95conv'!B646","v":0}]
[{"$f":"'[1]MedianGlobal,Percentis 5-95conv'!A647","v":0},{"$f":"'[1]MedianGlobal,Percentis 5-95conv'!B647","v":0}]
[{"$f":"'[1]MedianGlobal,Percentis 5-95conv'!A648","v":0},{"$f":"'[1]MedianGlobal,Percentis 5-95conv'!B648","v":0}]
[{"$f":"'[1]MedianGlobal,Percentis 5-95conv'!A649","v":0},{"$f":"'[1]MedianGlobal,Percentis 5-95conv'!B649","v":0}]
[{"$f":"'[1]MedianGlobal,Percentis 5-95conv'!A650","v":0},{"$f":"'[1]MedianGlobal,Percentis 5-95conv'!B650","v":0}]
[{"$f":"'[1]MedianGlobal,Percentis 5-95conv'!A651","v":0},{"$f":"'[1]MedianGlobal,Percentis 5-95conv'!B651","v":0}]
[{"$f":"'[1]MedianGlobal,Percentis 5-95conv'!A652","v":0},{"$f":"'[1]MedianGlobal,Percentis 5-95conv'!B652","v":0}]
[{"$f":"'[1]MedianGlobal,Percentis 5-95conv'!A653","v":0},{"$f":"'[1]MedianGlobal,Percentis 5-95conv'!B653","v":0}]
[{"$f":"'[1]MedianGlobal,Percentis 5-95conv'!A654","v":0},{"$f":"'[1]MedianGlobal,Percentis 5-95conv'!B654","v":0}]
[{"$f":"'[1]MedianGlobal,Percentis 5-95conv'!A655","v":0},{"$f":"'[1]MedianGlobal,Percentis 5-95conv'!B655","v":0}]
[{"$f":"'[1]MedianGlobal,Percentis 5-95conv'!A656","v":0},{"$f":"'[1]MedianGlobal,Percentis 5-95conv'!B656","v":0}]
[{"$f":"'[1]MedianGlobal,Percentis 5-95conv'!A657","v":0},{"$f":"'[1]MedianGlobal,Percentis 5-95conv'!B657","v":0}]
[{"$f":"'[1]MedianGlobal,Percentis 5-95conv'!A658","v":0},{"$f":"'[1]MedianGlobal,Percentis 5-95conv'!B658","v":0}]
[{"$f":"'[1]MedianGlobal,Percentis 5-95conv'!A659","v":0},{"$f":"'[1]MedianGlobal,Percentis 5-95conv'!B659","v":0}]
[{"$f":"'[1]MedianGlobal,Percentis 5-95conv'!A660","v":0},{"$f":"'[1]MedianGlobal,Percentis 5-95conv'!B660","v":0}]
[{"$f":"'[1]MedianGlobal,Percentis 5-95conv'!A661","v":0},{"$f":"'[1]MedianGlobal,Percentis 5-95conv'!B661","v":0}]
[{"$f":"'[1]MedianGlobal,Percentis 5-95conv'!A662","v":0},{"$f":"'[1]MedianGlobal,Percentis 5-95conv'!B662","v":0}]
[{"$f":"'[1]MedianGlobal,Percentis 5-95conv'!A663","v":0},{"$f":"'[1]MedianGlobal,Percentis 5-95conv'!B663","v":0}]
[{"$f":"'[1]MedianGlobal,Percentis 5-95conv'!A664","v":0},{"$f":"'[1]MedianGlobal,Percentis 5-95conv'!B664","v":0}]
[{"$f":"'[1]MedianGlobal,Percentis 5-95conv'!A665","v":0},{"$f":"'[1]MedianGlobal,Percentis 5-95conv'!B665","v":0}]
[{"$f":"'[1]MedianGlobal,Percentis 5-95conv'!A666","v":0},{"$f":"'[1]MedianGlobal,Percentis 5-95conv'!B666","v":0}]
[{"$f":"'[1]MedianGlobal,Percentis 5-95conv'!A667","v":0},{"$f":"'[1]MedianGlobal,Percentis 5-95conv'!B667","v":0}]
[{"$f":"'[1]MedianGlobal,Percentis 5-95conv'!A668","v":0},{"$f":"'[1]MedianGlobal,Percentis 5-95conv'!B668","v":0}]
[{"$f":"'[1]MedianGlobal,Percentis 5-95conv'!A669","v":0},{"$f":"'[1]MedianGlobal,Percentis 5-95conv'!B669","v":0}]
[{"$f":"'[1]MedianGlobal,Percentis 5-95conv'!A670","v":0},{"$f":"'[1]MedianGlobal,Percentis 5-95conv'!B670","v":0}]
[{"$f":"'[1]MedianGlobal,Percentis 5-95conv'!A671","v":0},{"$f":"'[1]MedianGlobal,Percentis 5-95conv'!B671","v":0}]
[{"$f":"'[1]MedianGlobal,Percentis 5-95conv'!A672","v":0},{"$f":"'[1]MedianGlobal,Percentis 5-95conv'!B672","v":0}]
[{"$f":"'[1]MedianGlobal,Percentis 5-95conv'!A673","v":0},{"$f":"'[1]MedianGlobal,Percentis 5-95conv'!B673","v":0}]
[{"$f":"'[1]MedianGlobal,Percentis 5-95conv'!A674","v":0},{"$f":"'[1]MedianGlobal,Percentis 5-95conv'!B674","v":0}]
[{"$f":"'[1]MedianGlobal,Percentis 5-95conv'!A675","v":0},{"$f":"'[1]MedianGlobal,Percentis 5-95conv'!B675","v":0}]
[{"$f":"'[1]MedianGlobal,Percentis 5-95conv'!A676","v":0},{"$f":"'[1]MedianGlobal,Percentis 5-95conv'!B676","v":0}]
[{"$f":"'[1]MedianGlobal,Percentis 5-95conv'!A677","v":0},{"$f":"'[1]MedianGlobal,Percentis 5-95conv'!B677","v":0}]
[{"$f":"'[1]MedianGlobal,Percentis 5-95conv'!A678","v":0},{"$f":"'[1]MedianGlobal,Percentis 5-95conv'!B678","v":0}]
[{"$f":"'[1]MedianGlobal,Percentis 5-95conv'!A679","v":0},{"$f":"'[1]MedianGlobal,Percentis 5-95conv'!B679","v":0}]
[{"$f":"'[1]MedianGlobal,Percentis 5-95conv'!A680","v":0},{"$f":"'[1]MedianGlobal,Percentis 5-95conv'!B680","v":0}]
[{"$f":"'[1]MedianGlobal,Percentis 5-95conv'!A681","v":0},{"$f":"'[1]MedianGlobal,Percentis 5-95conv'!B681","v":0}]
[{"$f":"'[1]MedianGlobal,Percentis 5-95conv'!A682","v":0},{"$f":"'[1]MedianGlobal,Percentis 5-95conv'!B682","v":0}]
[{"$f":"'[1]MedianGlobal,Percentis 5-95conv'!A683","v":0},{"$f":"'[1]MedianGlobal,Percentis 5-95conv'!B683","v":0}]
[{"$f":"'[1]MedianGlobal,Percentis 5-95conv'!A684","v":0},{"$f":"'[1]MedianGlobal,Percentis 5-95conv'!B684","v":0}]
[{"$f":"'[1]MedianGlobal,Percentis 5-95conv'!A685","v":0},{"$f":"'[1]MedianGlobal,Percentis 5-95conv'!B685","v":0}]
[{"$f":"'[1]MedianGlobal,Percentis 5-95conv'!A686","v":0},{"$f":"'[1]MedianGlobal,Percentis 5-95conv'!B686","v":0}]
[{"$f":"'[1]MedianGlobal,Percentis 5-95conv'!A687","v":0},{"$f":"'[1]MedianGlobal,Percentis 5-95conv'!B687","v":0}]
[{"$f":"'[1]MedianGlobal,Percentis 5-95conv'!A688","v":0},{"$f":"'[1]MedianGlobal,Percentis 5-95conv'!B688","v":0}]
[{"$f":"'[1]MedianGlobal,Percentis 5-95conv'!A689","v":0},{"$f":"'[1]MedianGlobal,Percentis 5-95conv'!B689","v":0}]
[{"$f":"'[1]MedianGlobal,Percentis 5-95conv'!A690","v":0},{"$f":"'[1]MedianGlobal,Percentis 5-95conv'!B690","v":0}]
[{"$f":"'[1]MedianGlobal,Percentis 5-95conv'!A691","v":0},{"$f":"'[1]MedianGlobal,Percentis 5-95conv'!B691","v":0}]
[{"$f":"'[1]MedianGlobal,Percentis 5-95conv'!A692","v":0},{"$f":"'[1]MedianGlobal,Percentis 5-95conv'!B692","v":0}]
[{"$f":"'[1]MedianGlobal,Percentis 5-95conv'!A693","v":0},{"$f":"'[1]MedianGlobal,Percentis 5-95conv'!B693","v":0}]
[{"$f":"'[1]MedianGlobal,Percentis 5-95conv'!A694","v":0},{"$f":"'[1]MedianGlobal,Percentis 5-95conv'!B694","v":0}]
[{"$f":"'[1]MedianGlobal,Percentis 5-95conv'!A695","v":0},{"$f":"'[1]MedianGlobal,Percentis 5-95conv'!B695","v":0}]
[{"$f":"'[1]MedianGlobal,Percentis 5-95conv'!A696","v":0},{"$f":"'[1]MedianGlobal,Percentis 5-95conv'!B696","v":0}]
[{"$f":"'[1]MedianGlobal,Percentis 5-95conv'!A697","v":0},{"$f":"'[1]MedianGlobal,Percentis 5-95conv'!B697","v":0}]
[{"$f":"'[1]MedianGlobal,Percentis 5-95conv'!A698","v":0},{"$f":"'[1]MedianGlobal,Percentis 5-95conv'!B698","v":0}]
[{"$f":"'[1]MedianGlobal,Percentis 5-95conv'!A699","v":0},{"$f":"'[1]MedianGlobal,Percentis 5-95conv'!B699","v":0}]
[{"$f":"'[1]MedianGlobal,Percentis 5-95conv'!A700","v":0},{"$f":"'[1]MedianGlobal,Percentis 5-95conv'!B700","v":0}]
[{"$f":"'[1]MedianGlobal,Percentis 5-95conv'!A701","v":0},{"$f":"'[1]MedianGlobal,Percentis 5-95conv'!B701","v":0}]
[{"$f":"'[1]MedianGlobal,Percentis 5-95conv'!A702","v":0},{"$f":"'[1]MedianGlobal,Percentis 5-95conv'!B702","v":0}]
[{"$f":"'[1]MedianGlobal,Percentis 5-95conv'!A703","v":0},{"$f":"'[1]MedianGlobal,Percentis 5-95conv'!B703","v":0}]
[{"$f":"'[1]MedianGlobal,Percentis 5-95conv'!A704","v":0},{"$f":"'[1]MedianGlobal,Percentis 5-95conv'!B704","v":0}]
[{"$f":"'[1]MedianGlobal,Percentis 5-95conv'!A705","v":0},{"$f":"'[1]MedianGlobal,Percentis 5-95conv'!B705","v":0}]
[{"$f":"'[1]MedianGlobal,Percentis 5-95conv'!A706","v":0},{"$f":"'[1]MedianGlobal,Percentis 5-95conv'!B706","v":0}]
[{"$f":"'[1]MedianGlobal,Percentis 5-95conv'!A707","v":0},{"$f":"'[1]MedianGlobal,Percentis 5-95conv'!B707","v":0}]
[{"$f":"'[1]MedianGlobal,Percentis 5-95conv'!A708","v":0},{"$f":"'[1]MedianGlobal,Percentis 5-95conv'!B708","v":0}]
[{"$f":"'[1]MedianGlobal,Percentis 5-95conv'!A709","v":0},{"$f":"'[1]MedianGlobal,Percentis 5-95conv'!B709","v":0}]
[{"$f":"'[1]MedianGlobal,Percentis 5-95conv'!A710","v":0},{"$f":"'[1]MedianGlobal,Percentis 5-95conv'!B710","v":0}]
[{"$f":"'[1]MedianGlobal,Percentis 5-95conv'!A711","v":0},{"$f":"'[1]MedianGlobal,Percentis 5-95conv'!B711","v":0}]
[{"$f":"'[1]MedianGlobal,Percentis 5-95conv'!A712","v":0},{"$f":"'[1]MedianGlobal,Percentis 5-95conv'!B712","v":0}]
[{"$f":"'[1]MedianGlobal,Percentis 5-95conv'!A713","v":0},{"$f":"'[1]MedianGlobal,Percentis 5-95conv'!B713","v":0}]
[{"$f":"'[1]MedianGlobal,Percentis 5-95conv'!A714","v":0},{"$f":"'[1]MedianGlobal,Percentis 5-95conv'!B714","v":0}]
[{"$f":"'[1]MedianGlobal,Percentis 5-95conv'!A715","v":0},{"$f":"'[1]MedianGlobal,Percentis 5-95conv'!B715","v":0}]
[{"$f":"'[1]MedianGlobal,Percentis 5-95conv'!A716","v":0},{"$f":"'[1]MedianGlobal,Percentis 5-95conv'!B716","v":0}]
[{"$f":"'[1]MedianGlobal,Percentis 5-95conv'!A717","v":0},{"$f":"'[1]MedianGlobal,Percentis 5-95conv'!B717","v":0}]
[{"$f":"'[1]MedianGlobal,Percentis 5-95conv'!A718","v":0},{"$f":"'[1]MedianGlobal,Percentis 5-95conv'!B718","v":0}]
[{"$f":"'[1]MedianGlobal,Percentis 5-95conv'!A719","v":0},{"$f":"'[1]MedianGlobal,Percentis 5-95conv'!B719","v":0}]
[{"$f":"'[1]MedianGlobal,Percentis 5-95conv'!A720","v":0},{"$f":"'[1]MedianGlobal,Percentis 5-95conv'!B720","v":0}]
[{"$f":"'[1]MedianGlobal,Percentis 5-95conv'!A721","v":0},{"$f":"'[1]MedianGlobal,Percentis 5-95conv'!B721","v":0}]
[{"$f":"'[1]MedianGlobal,Percentis 5-95conv'!A722","v":0},{"$f":"'[1]MedianGlobal,Percentis 5-95conv'!B722","v":0}]
[{"$f":"'[1]MedianGlobal,Percentis 5-95conv'!A723","v":0},{"$f":"'[1]MedianGlobal,Percentis 5-95conv'!B723","v":0}]
[{"$f":"'[1]MedianGlobal,Percentis 5-95conv'!A724","v":0},{"$f":"'[1]MedianGlobal,Percentis 5-95conv'!B724","v":0}]
[{"$f":"'[1]MedianGlobal,Percentis 5-95conv'!A725","v":0},{"$f":"'[1]MedianGlobal,Percentis 5-95conv'!B725","v":0}]
[{"$f":"'[1]MedianGlobal,Percentis 5-95conv'!A726","v":0},{"$f":"'[1]MedianGlobal,Percentis 5-95conv'!B726","v":0}]
[{"$f":"'[1]MedianGlobal,Percentis 5-95conv'!A727","v":0},{"$f":"'[1]MedianGlobal,Percentis 5-95conv'!B727","v":0}]
[{"$f":"'[1]MedianGlobal,Percentis 5-95conv'!A728","v":0},{"$f":"'[1]MedianGlobal,Percentis 5-95conv'!B728","v":0}]
[{"$f":"'[1]MedianGlobal,Percentis 5-95conv'!A729","v":0},{"$f":"'[1]MedianGlobal,Percentis 5-95conv'!B729","v":0}]
[{"$f":"'[1]MedianGlobal,Percentis 5-95conv'!A730","v":0},{"$f":"'[1]MedianGlobal,Percentis 5-95conv'!B730","v":0}]
[{"$f":"'[1]MedianGlobal,Percentis 5-95conv'!A731","v":0},{"$f":"'[1]MedianGlobal,Percentis 5-95conv'!B731","v":0}]
[{"$f":"'[1]MedianGlobal,Percentis 5-95conv'!A732","v":0},{"$f":"'[1]MedianGlobal,Percentis 5-95conv'!B732","v":0}]
[{"$f":"'[1]MedianGlobal,Percentis 5-95conv'!A733","v":0},{"$f":"'[1]MedianGlobal,Percentis 5-95conv'!B733","v":0}]
[{"$f":"'[1]MedianGlobal,Percentis 5-95conv'!A734","v":0},{"$f":"'[1]MedianGlobal,Percentis 5-95conv'!B734","v":0}]
[{"$f":"'[1]MedianGlobal,Percentis 5-95conv'!A735","v":0},{"$f":"'[1]MedianGlobal,Percentis 5-95conv'!B735","v":0}]
[{"$f":"'[1]MedianGlobal,Percentis 5-95conv'!A736","v":0},{"$f":"'[1]MedianGlobal,Percentis 5-95conv'!B736","v":0}]
[{"$f":"'[1]MedianGlobal,Percentis 5-95conv'!A737","v":0},{"$f":"'[1]MedianGlobal,Percentis 5-95conv'!B737","v":0}]
[{"$f":"'[1]MedianGlobal,Percentis 5-95conv'!A738","v":0},{"$f":"'[1]MedianGlobal,Percentis 5-95conv'!B738","v":0}]
[{"$f":"'[1]MedianGlobal,Percentis 5-95conv'!A739","v":0},{"$f":"'[1]MedianGlobal,Percentis 5-95conv'!B739","v":0}]
[{"$f":"'[1]MedianGlobal,Percentis 5-95conv'!A740","v":0},{"$f":"'[1]MedianGlobal,Percentis 5-95conv'!B740","v":0}]
[{"$f":"'[1]MedianGlobal,Percentis 5-95conv'!A741","v":0},{"$f":"'[1]MedianGlobal,Percentis 5-95conv'!B741","v":0}]
[{"$f":"'[1]MedianGlobal,Percentis 5-95conv'!A742","v":0},{"$f":"'[1]MedianGlobal,Percentis 5-95conv'!B742","v":0}]
[{"$f":"'[1]MedianGlobal,Percentis 5-95conv'!A743","v":0},{"$f":"'[1]MedianGlobal,Percentis 5-95conv'!B743","v":0}]
[{"$f":"'[1]MedianGlobal,Percentis 5-95conv'!A744","v":0},{"$f":"'[1]MedianGlobal,Percentis 5-95conv'!B744","v":0}]
[{"$f":"'[1]MedianGlobal,Percentis 5-95conv'!A745","v":0},{"$f":"'[1]MedianGlobal,Percentis 5-95conv'!B745","v":0}]
[{"$f":"'[1]MedianGlobal,Percentis 5-95conv'!A746","v":0},{"$f":"'[1]MedianGlobal,Percentis 5-95conv'!B746","v":0}]
[{"$f":"'[1]MedianGlobal,Percentis 5-95conv'!A747","v":0},{"$f":"'[1]MedianGlobal,Percentis 5-95conv'!B747","v":0}]
[{"$f":"'[1]MedianGlobal,Percentis 5-95conv'!A748","v":0},{"$f":"'[1]MedianGlobal,Percentis 5-95conv'!B748","v":0}]
[{"$f":"'[1]MedianGlobal,Percentis 5-95conv'!A749","v":0},{"$f":"'[1]MedianGlobal,Percentis 5-95conv'!B749","v":0}]
[{"$f":"'[1]MedianGlobal,Percentis 5-95conv'!A750","v":0},{"$f":"'[1]MedianGlobal,Percentis 5-95conv'!B750","v":0}]
[{"$f":"'[1]MedianGlobal,Percentis 5-95conv'!A751","v":0},{"$f":"'[1]MedianGlobal,Percentis 5-95conv'!B751","v":0}]
[{"$f":"'[1]MedianGlobal,Percentis 5-95conv'!A752","v":0},{"$f":"'[1]MedianGlobal,Percentis 5-95conv'!B752","v":0}]
[{"$f":"'[1]MedianGlobal,Percentis 5-95conv'!A753","v":0},{"$f":"'[1]MedianGlobal,Percentis 5-95conv'!B753","v":0}]
[{"$f":"'[1]MedianGlobal,Percentis 5-95conv'!A754","v":0},{"$f":"'[1]MedianGlobal,Percentis 5-95conv'!B754","v":0}]
[{"$f":"'[1]MedianGlobal,Percentis 5-95conv'!A755","v":0},{"$f":"'[1]MedianGlobal,Percentis 5-95conv'!B755","v":0}]
[{"$f":"'[1]MedianGlobal,Percentis 5-95conv'!A756","v":0},{"$f":"'[1]MedianGlobal,Percentis 5-95conv'!B756","v":0}]
[{"$f":"'[1]MedianGlobal,Percentis 5-95conv'!A757","v":0},{"$f":"'[1]MedianGlobal,Percentis 5-95conv'!B757","v":0}]
[{"$f":"'[1]MedianGlobal,Percentis 5-95conv'!A758","v":0},{"$f":"'[1]MedianGlobal,Percentis 5-95conv'!B758","v":0}]
[{"$f":"'[1]MedianGlobal,Percentis 5-95conv'!A759","v":0},{"$f":"'[1]MedianGlobal,Percentis 5-95conv'!B759","v":0}]
[{"$f":"'[1]MedianGlobal,Percentis 5-95conv'!A760","v":0},{"$f":"'[1]MedianGlobal,Percentis 5-95conv'!B760","v":0}]
[{"$f":"'[1]MedianGlobal,Percentis 5-95conv'!A761","v":0},{"$f":"'[1]MedianGlobal,Percentis 5-95conv'!B761","v":0}]
[{"$f":"'[1]MedianGlobal,Percentis 5-95conv'!A762","v":0},{"$f":"'[1]MedianGlobal,Percentis 5-95conv'!B762","v":0}]
[{"$f":"'[1]MedianGlobal,Percentis 5-95conv'!A763","v":0},{"$f":"'[1]MedianGlobal,Percentis 5-95conv'!B763","v":0}]
[{"$f":"'[1]MedianGlobal,Percentis 5-95conv'!A764","v":0},{"$f":"'[1]MedianGlobal,Percentis 5-95conv'!B764","v":0}]
[{"$f":"'[1]MedianGlobal,Percentis 5-95conv'!A765","v":0},{"$f":"'[1]MedianGlobal,Percentis 5-95conv'!B765","v":0}]
[{"$f":"'[1]MedianGlobal,Percentis 5-95conv'!A766","v":0},{"$f":"'[1]MedianGlobal,Percentis 5-95conv'!B766","v":0}]
[{"$f":"'[1]MedianGlobal,Percentis 5-95conv'!A767","v":0},{"$f":"'[1]MedianGlobal,Percentis 5-95conv'!B767","v":0}]
[{"$f":"'[1]MedianGlobal,Percentis 5-95conv'!A768","v":0},{"$f":"'[1]MedianGlobal,Percentis 5-95conv'!B768","v":0}]
[{"$f":"'[1]MedianGlobal,Percentis 5-95conv'!A769","v":0},{"$f":"'[1]MedianGlobal,Percentis 5-95conv'!B769","v":0}]
[{"$f":"'[1]MedianGlobal,Percentis 5-95conv'!A770","v":0},{"$f":"'[1]MedianGlobal,Percentis 5-95conv'!B770","v":0}]
[{"$f":"'[1]MedianGlobal,Percentis 5-95conv'!A771","v":0},{"$f":"'[1]MedianGlobal,Percentis 5-95conv'!B771","v":0}]
[{"$f":"'[1]MedianGlobal,Percentis 5-95conv'!A772","v":0},{"$f":"'[1]MedianGlobal,Percentis 5-95conv'!B772","v":0}]
[{"$f":"'[1]MedianGlobal,Percentis 5-95conv'!A773","v":0},{"$f":"'[1]MedianGlobal,Percentis 5-95conv'!B773","v":0}]
[{"$f":"'[1]MedianGlobal,Percentis 5-95conv'!A774","v":0},{"$f":"'[1]MedianGlobal,Percentis 5-95conv'!B774","v":0}]
[{"$f":"'[1]MedianGlobal,Percentis 5-95conv'!A775","v":0},{"$f":"'[1]MedianGlobal,Percentis 5-95conv'!B775","v":0}]
[{"$f":"'[1]MedianGlobal,Percentis 5-95conv'!A776","v":0},{"$f":"'[1]MedianGlobal,Percentis 5-95conv'!B776","v":0}]
[{"$f":"'[1]MedianGlobal,Percentis 5-95conv'!A777","v":0},{"$f":"'[1]MedianGlobal,Percentis 5-95conv'!B777","v":0}]
[{"$f":"'[1]MedianGlobal,Percentis 5-95conv'!A778","v":0},{"$f":"'[1]MedianGlobal,Percentis 5-95conv'!B778","v":0}]
[{"$f":"'[1]MedianGlobal,Percentis 5-95conv'!A779","v":0},{"$f":"'[1]MedianGlobal,Percentis 5-95conv'!B779","v":0}]
[{"$f":"'[1]MedianGlobal,Percentis 5-95conv'!A780","v":0},{"$f":"'[1]MedianGlobal,Percentis 5-95conv'!B780","v":0}]
[{"$f":"'[1]MedianGlobal,Percentis 5-95conv'!A781","v":0},{"$f":"'[1]MedianGlobal,Percentis 5-95conv'!B781","v":0}]
[{"$f":"'[1]MedianGlobal,Percentis 5-95conv'!A782","v":0},{"$f":"'[1]MedianGlobal,Percentis 5-95conv'!B782","v":0}]
[{"$f":"'[1]MedianGlobal,Percentis 5-95conv'!A783","v":0},{"$f":"'[1]MedianGlobal,Percentis 5-95conv'!B783","v":0}]
[{"$f":"'[1]MedianGlobal,Percentis 5-95conv'!A784","v":0},{"$f":"'[1]MedianGlobal,Percentis 5-95conv'!B784","v":0}]
[{"$f":"'[1]MedianGlobal,Percentis 5-95conv'!A785","v":0},{"$f":"'[1]MedianGlobal,Percentis 5-95conv'!B785","v":0}]
[{"$f":"'[1]MedianGlobal,Percentis 5-95conv'!A786","v":0},{"$f":"'[1]MedianGlobal,Percentis 5-95conv'!B786","v":0}]
[{"$f":"'[1]MedianGlobal,Percentis 5-95conv'!A787","v":0},{"$f":"'[1]MedianGlobal,Percentis 5-95conv'!B787","v":0}]
[{"$f":"'[1]MedianGlobal,Percentis 5-95conv'!A788","v":0},{"$f":"'[1]MedianGlobal,Percentis 5-95conv'!B788","v":0}]
[{"$f":"'[1]MedianGlobal,Percentis 5-95conv'!A789","v":0},{"$f":"'[1]MedianGlobal,Percentis 5-95conv'!B789","v":0}]
[{"$f":"'[1]MedianGlobal,Percentis 5-95conv'!A790","v":0},{"$f":"'[1]MedianGlobal,Percentis 5-95conv'!B790","v":0}]
[{"$f":"'[1]MedianGlobal,Percentis 5-95conv'!A791","v":0},{"$f":"'[1]MedianGlobal,Percentis 5-95conv'!B791","v":0}]
[{"$f":"'[1]MedianGlobal,Percentis 5-95conv'!A792","v":0},{"$f":"'[1]MedianGlobal,Percentis 5-95conv'!B792","v":0}]
[{"$f":"'[1]MedianGlobal,Percentis 5-95conv'!A793","v":0},{"$f":"'[1]MedianGlobal,Percentis 5-95conv'!B793","v":0}]
[{"$f":"'[1]MedianGlobal,Percentis 5-95conv'!A794","v":0},{"$f":"'[1]MedianGlobal,Percentis 5-95conv'!B794","v":0}]
[{"$f":"'[1]MedianGlobal,Percentis 5-95conv'!A795","v":0},{"$f":"'[1]MedianGlobal,Percentis 5-95conv'!B795","v":0}]
[{"$f":"'[1]MedianGlobal,Percentis 5-95conv'!A796","v":0},{"$f":"'[1]MedianGlobal,Percentis 5-95conv'!B796","v":0}]
[{"$f":"'[1]MedianGlobal,Percentis 5-95conv'!A797","v":0},{"$f":"'[1]MedianGlobal,Percentis 5-95conv'!B797","v":0}]
[{"$f":"'[1]MedianGlobal,Percentis 5-95conv'!A798","v":0},{"$f":"'[1]MedianGlobal,Percentis 5-95conv'!B798","v":0}]
[{"$f":"'[1]MedianGlobal,Percentis 5-95conv'!A799","v":0},{"$f":"'[1]MedianGlobal,Percentis 5-95conv'!B799","v":0}]
[{"$f":"'[1]MedianGlobal,Percentis 5-95conv'!A800","v":0},{"$f":"'[1]MedianGlobal,Percentis 5-95conv'!B800","v":0}]
[{"$f":"'[1]MedianGlobal,Percentis 5-95conv'!A801","v":0},{"$f":"'[1]MedianGlobal,Percentis 5-95conv'!B801","v":0}]
[{"$f":"'[1]MedianGlobal,Percentis 5-95conv'!A802","v":0},{"$f":"'[1]MedianGlobal,Percentis 5-95conv'!B802","v":0}]
[{"$f":"'[1]MedianGlobal,Percentis 5-95conv'!A803","v":0},{"$f":"'[1]MedianGlobal,Percentis 5-95conv'!B803","v":0}]
[{"$f":"'[1]MedianGlobal,Percentis 5-95conv'!A804","v":0},{"$f":"'[1]MedianGlobal,Percentis 5-95conv'!B804","v":0}]
[{"$f":"'[1]MedianGlobal,Percentis 5-95conv'!A805","v":0},{"$f":"'[1]MedianGlobal,Percentis 5-95conv'!B805","v":0}]
[{"$f":"'[1]MedianGlobal,Percentis 5-95conv'!A806","v":0},{"$f":"'[1]MedianGlobal,Percentis 5-95conv'!B806","v":0}]
[{"$f":"'[1]MedianGlobal,Percentis 5-95conv'!A807","v":0},{"$f":"'[1]MedianGlobal,Percentis 5-95conv'!B807","v":0}]
[{"$f":"'[1]MedianGlobal,Percentis 5-95conv'!A808","v":0},{"$f":"'[1]MedianGlobal,Percentis 5-95conv'!B808","v":0}]
[{"$f":"'[1]MedianGlobal,Percentis 5-95conv'!A809","v":0},{"$f":"'[1]MedianGlobal,Percentis 5-95conv'!B809","v":0}]
[{"$f":"'[1]MedianGlobal,Percentis 5-95conv'!A810","v":0},{"$f":"'[1]MedianGlobal,Percentis 5-95conv'!B810","v":0}]
[{"$f":"'[1]MedianGlobal,Percentis 5-95conv'!A811","v":0},{"$f":"'[1]MedianGlobal,Percentis 5-95conv'!B811","v":0}]
[{"$f":"'[1]MedianGlobal,Percentis 5-95conv'!A812","v":0},{"$f":"'[1]MedianGlobal,Percentis 5-95conv'!B812","v":0}]
[{"$f":"'[1]MedianGlobal,Percentis 5-95conv'!A813","v":0},{"$f":"'[1]MedianGlobal,Percentis 5-95conv'!B813","v":0}]
[{"$f":"'[1]MedianGlobal,Percentis 5-95conv'!A814","v":0},{"$f":"'[1]MedianGlobal,Percentis 5-95conv'!B814","v":0}]
[{"$f":"'[1]MedianGlobal,Percentis 5-95conv'!A815","v":0},{"$f":"'[1]MedianGlobal,Percentis 5-95conv'!B815","v":0}]
[{"$f":"'[1]MedianGlobal,Percentis 5-95conv'!A816","v":0},{"$f":"'[1]MedianGlobal,Percentis 5-95conv'!B816","v":0}]
[{"$f":"'[1]MedianGlobal,Percentis 5-95conv'!A817","v":0},{"$f":"'[1]MedianGlobal,Percentis 5-95conv'!B817","v":0}]
[{"$f":"'[1]MedianGlobal,Percentis 5-95conv'!A818","v":0},{"$f":"'[1]MedianGlobal,Percentis 5-95conv'!B818","v":0}]
[{"$f":"'[1]MedianGlobal,Percentis 5-95conv'!A819","v":0},{"$f":"'[1]MedianGlobal,Percentis 5-95conv'!B819","v":0}]
[{"$f":"'[1]MedianGlobal,Percentis 5-95conv'!A820","v":0},{"$f":"'[1]MedianGlobal,Percentis 5-95conv'!B820","v":0}]
[{"$f":"'[1]MedianGlobal,Percentis 5-95conv'!A821","v":0},{"$f":"'[1]MedianGlobal,Percentis 5-95conv'!B821","v":0}]
[{"$f":"'[1]MedianGlobal,Percentis 5-95conv'!A822","v":0},{"$f":"'[1]MedianGlobal,Percentis 5-95conv'!B822","v":0}]
[{"$f":"'[1]MedianGlobal,Percentis 5-95conv'!A823","v":0},{"$f":"'[1]MedianGlobal,Percentis 5-95conv'!B823","v":0}]
[{"$f":"'[1]MedianGlobal,Percentis 5-95conv'!A824","v":0},{"$f":"'[1]MedianGlobal,Percentis 5-95conv'!B824","v":0}]
[{"$f":"'[1]MedianGlobal,Percentis 5-95conv'!A825","v":0},{"$f":"'[1]MedianGlobal,Percentis 5-95conv'!B825","v":0}]
[{"$f":"'[1]MedianGlobal,Percentis 5-95conv'!A826","v":0},{"$f":"'[1]MedianGlobal,Percentis 5-95conv'!B826","v":0}]
[{"$f":"'[1]MedianGlobal,Percentis 5-95conv'!A827","v":0},{"$f":"'[1]MedianGlobal,Percentis 5-95conv'!B827","v":0}]
[{"$f":"'[1]MedianGlobal,Percentis 5-95conv'!A828","v":0},{"$f":"'[1]MedianGlobal,Percentis 5-95conv'!B828","v":0}]
[{"$f":"'[1]MedianGlobal,Percentis 5-95conv'!A829","v":0},{"$f":"'[1]MedianGlobal,Percentis 5-95conv'!B829","v":0}]
[{"$f":"'[1]MedianGlobal,Percentis 5-95conv'!A830","v":0},{"$f":"'[1]MedianGlobal,Percentis 5-95conv'!B830","v":0}]
[{"$f":"'[1]MedianGlobal,Percentis 5-95conv'!A831","v":0},{"$f":"'[1]MedianGlobal,Percentis 5-95conv'!B831","v":0}]
[{"$f":"'[1]MedianGlobal,Percentis 5-95conv'!A832","v":0},{"$f":"'[1]MedianGlobal,Percentis 5-95conv'!B832","v":0}]
[{"$f":"'[1]MedianGlobal,Percentis 5-95conv'!A833","v":0},{"$f":"'[1]MedianGlobal,Percentis 5-95conv'!B833","v":0}]
[{"$f":"'[1]MedianGlobal,Percentis 5-95conv'!A834","v":0},{"$f":"'[1]MedianGlobal,Percentis 5-95conv'!B834","v":0}]
[{"$f":"'[1]MedianGlobal,Percentis 5-95conv'!A835","v":0},{"$f":"'[1]MedianGlobal,Percentis 5-95conv'!B835","v":0}]
[{"$f":"'[1]MedianGlobal,Percentis 5-95conv'!A836","v":0},{"$f":"'[1]MedianGlobal,Percentis 5-95conv'!B836","v":0}]
[{"$f":"'[1]MedianGlobal,Percentis 5-95conv'!A837","v":0},{"$f":"'[1]MedianGlobal,Percentis 5-95conv'!B837","v":0}]
[{"$f":"'[1]MedianGlobal,Percentis 5-95conv'!A838","v":0},{"$f":"'[1]MedianGlobal,Percentis 5-95conv'!B838","v":0}]
[{"$f":"'[1]MedianGlobal,Percentis 5-95conv'!A839","v":0},{"$f":"'[1]MedianGlobal,Percentis 5-95conv'!B839","v":0}]
[{"$f":"'[1]MedianGlobal,Percentis 5-95conv'!A840","v":0},{"$f":"'[1]MedianGlobal,Percentis 5-95conv'!B840","v":0}]
[{"$f":"'[1]MedianGlobal,Percentis 5-95conv'!A841","v":0},{"$f":"'[1]MedianGlobal,Percentis 5-95conv'!B841","v":0}]
[{"$f":"'[1]MedianGlobal,Percentis 5-95conv'!A842","v":0},{"$f":"'[1]MedianGlobal,Percentis 5-95conv'!B842","v":0}]
[{"$f":"'[1]MedianGlobal,Percentis 5-95conv'!A843","v":0},{"$f":"'[1]MedianGlobal,Percentis 5-95conv'!B843","v":0}]
[{"$f":"'[1]MedianGlobal,Percentis 5-95conv'!A844","v":0},{"$f":"'[1]MedianGlobal,Percentis 5-95conv'!B844","v":0}]
[{"$f":"'[1]MedianGlobal,Percentis 5-95conv'!A845","v":0},{"$f":"'[1]MedianGlobal,Percentis 5-95conv'!B845","v":0}]
[{"$f":"'[1]MedianGlobal,Percentis 5-95conv'!A846","v":0},{"$f":"'[1]MedianGlobal,Percentis 5-95conv'!B846","v":0}]
[{"$f":"'[1]MedianGlobal,Percentis 5-95conv'!A847","v":0},{"$f":"'[1]MedianGlobal,Percentis 5-95conv'!B847","v":0}]
[{"$f":"'[1]MedianGlobal,Percentis 5-95conv'!A848","v":0},{"$f":"'[1]MedianGlobal,Percentis 5-95conv'!B848","v":0}]
[{"$f":"'[1]MedianGlobal,Percentis 5-95conv'!A849","v":0},{"$f":"'[1]MedianGlobal,Percentis 5-95conv'!B849","v":0}]
[{"$f":"'[1]MedianGlobal,Percentis 5-95conv'!A850","v":0},{"$f":"'[1]MedianGlobal,Percentis 5-95conv'!B850","v":0}]
[{"$f":"'[1]MedianGlobal,Percentis 5-95conv'!A851","v":0},{"$f":"'[1]MedianGlobal,Percentis 5-95conv'!B851","v":0}]
[{"$f":"'[1]MedianGlobal,Percentis 5-95conv'!A852","v":0},{"$f":"'[1]MedianGlobal,Percentis 5-95conv'!B852","v":0}]
[{"$f":"'[1]MedianGlobal,Percentis 5-95conv'!A853","v":0},{"$f":"'[1]MedianGlobal,Percentis 5-95conv'!B853","v":0}]
[{"$f":"'[1]MedianGlobal,Percentis 5-95conv'!A854","v":0},{"$f":"'[1]MedianGlobal,Percentis 5-95conv'!B854","v":0}]
[{"$f":"'[1]MedianGlobal,Percentis 5-95conv'!A855","v":0},{"$f":"'[1]MedianGlobal,Percentis 5-95conv'!B855","v":0}]
[{"$f":"'[1]MedianGlobal,Percentis 5-95conv'!A856","v":0},{"$f":"'[1]MedianGlobal,Percentis 5-95conv'!B856","v":0}]
[{"$f":"'[1]MedianGlobal,Percentis 5-95conv'!A857","v":0},{"$f":"'[1]MedianGlobal,Percentis 5-95conv'!B857","v":0}]
[{"$f":"'[1]MedianGlobal,Percentis 5-95conv'!A858","v":0},{"$f":"'[1]MedianGlobal,Percentis 5-95conv'!B858","v":0}]
[{"$f":"'[1]MedianGlobal,Percentis 5-95conv'!A859","v":0},{"$f":"'[1]MedianGlobal,Percentis 5-95conv'!B859","v":0}]
[{"$f":"'[1]MedianGlobal,Percentis 5-95conv'!A860","v":0},{"$f":"'[1]MedianGlobal,Percentis 5-95conv'!B860","v":0}]
[{"$f":"'[1]MedianGlobal,Percentis 5-95conv'!A861","v":0},{"$f":"'[1]MedianGlobal,Percentis 5-95conv'!B861","v":0}]
[{"$f":"'[1]MedianGlobal,Percentis 5-95conv'!A862","v":0},{"$f":"'[1]MedianGlobal,Percentis 5-95conv'!B862","v":0}]
[{"$f":"'[1]MedianGlobal,Percentis 5-95conv'!A863","v":0},{"$f":"'[1]MedianGlobal,Percentis 5-95conv'!B863","v":0}]
[{"$f":"'[1]MedianGlobal,Percentis 5-95conv'!A864","v":0},{"$f":"'[1]MedianGlobal,Percentis 5-95conv'!B864","v":0}]
[{"$f":"'[1]MedianGlobal,Percentis 5-95conv'!A865","v":0},{"$f":"'[1]MedianGlobal,Percentis 5-95conv'!B865","v":0}]
[{"$f":"'[1]MedianGlobal,Percentis 5-95conv'!A866","v":0},{"$f":"'[1]MedianGlobal,Percentis 5-95conv'!B866","v":0}]
[{"$f":"'[1]MedianGlobal,Percentis 5-95conv'!A867","v":0},{"$f":"'[1]MedianGlobal,Percentis 5-95conv'!B867","v":0}]
[{"$f":"'[1]MedianGlobal,Percentis 5-95conv'!A868","v":0},{"$f":"'[1]MedianGlobal,Percentis 5-95conv'!B868","v":0}]
[{"$f":"'[1]MedianGlobal,Percentis 5-95conv'!A869","v":0},{"$f":"'[1]MedianGlobal,Percentis 5-95conv'!B869","v":0}]
[{"$f":"'[1]MedianGlobal,Percentis 5-95conv'!A870","v":0},{"$f":"'[1]MedianGlobal,Percentis 5-95conv'!B870","v":0}]
[{"$f":"'[1]MedianGlobal,Percentis 5-95conv'!A871","v":0},{"$f":"'[1]MedianGlobal,Percentis 5-95conv'!B871","v":0}]
[{"$f":"'[1]MedianGlobal,Percentis 5-95conv'!A872","v":0},{"$f":"'[1]MedianGlobal,Percentis 5-95conv'!B872","v":0}]
[{"$f":"'[1]MedianGlobal,Percentis 5-95conv'!A873","v":0},{"$f":"'[1]MedianGlobal,Percentis 5-95conv'!B873","v":0}]
[{"$f":"'[1]MedianGlobal,Percentis 5-95conv'!A874","v":0},{"$f":"'[1]MedianGlobal,Percentis 5-95conv'!B874","v":0}]
[{"$f":"'[1]MedianGlobal,Percentis 5-95conv'!A875","v":0},{"$f":"'[1]MedianGlobal,Percentis 5-95conv'!B875","v":0}]
[{"$f":"'[1]MedianGlobal,Percentis 5-95conv'!A876","v":0},{"$f":"'[1]MedianGlobal,Percentis 5-95conv'!B876","v":0}]
[{"$f":"'[1]MedianGlobal,Percentis 5-95conv'!A877","v":0},{"$f":"'[1]MedianGlobal,Percentis 5-95conv'!B877","v":0}]
[{"$f":"'[1]MedianGlobal,Percentis 5-95conv'!A878","v":0},{"$f":"'[1]MedianGlobal,Percentis 5-95conv'!B878","v":0}]
[{"$f":"'[1]MedianGlobal,Percentis 5-95conv'!A879","v":0},{"$f":"'[1]MedianGlobal,Percentis 5-95conv'!B879","v":0}]
[{"$f":"'[1]MedianGlobal,Percentis 5-95conv'!A880","v":0},{"$f":"'[1]MedianGlobal,Percentis 5-95conv'!B880","v":0}]
[{"$f":"'[1]MedianGlobal,Percentis 5-95conv'!A881","v":0},{"$f":"'[1]MedianGlobal,Percentis 5-95conv'!B881","v":0}]
[{"$f":"'[1]MedianGlobal,Percentis 5-95conv'!A882","v":0},{"$f":"'[1]MedianGlobal,Percentis 5-95conv'!B882","v":0}]
[{"$f":"'[1]MedianGlobal,Percentis 5-95conv'!A883","v":0},{"$f":"'[1]MedianGlobal,Percentis 5-95conv'!B883","v":0}]
[{"$f":"'[1]MedianGlobal,Percentis 5-95conv'!A884","v":0},{"$f":"'[1]MedianGlobal,Percentis 5-95conv'!B884","v":0}]
[{"$f":"'[1]MedianGlobal,Percentis 5-95conv'!A885","v":0},{"$f":"'[1]MedianGlobal,Percentis 5-95conv'!B885","v":0}]
[{"$f":"'[1]MedianGlobal,Percentis 5-95conv'!A886","v":0},{"$f":"'[1]MedianGlobal,Percentis 5-95conv'!B886","v":0}]
[{"$f":"'[1]MedianGlobal,Percentis 5-95conv'!A887","v":0},{"$f":"'[1]MedianGlobal,Percentis 5-95conv'!B887","v":0}]
[{"$f":"'[1]MedianGlobal,Percentis 5-95conv'!A888","v":0},{"$f":"'[1]MedianGlobal,Percentis 5-95conv'!B888","v":0}]
[{"$f":"'[1]MedianGlobal,Percentis 5-95conv'!A889","v":0},{"$f":"'[1]MedianGlobal,Percentis 5-95conv'!B889","v":0}]
[{"$f":"'[1]MedianGlobal,Percentis 5-95conv'!A890","v":0},{"$f":"'[1]MedianGlobal,Percentis 5-95conv'!B890","v":0}]
[{"$f":"'[1]MedianGlobal,Percentis 5-95conv'!A891","v":0},{"$f":"'[1]MedianGlobal,Percentis 5-95conv'!B891","v":0}]
[{"$f":"'[1]MedianGlobal,Percentis 5-95conv'!A892","v":0},{"$f":"'[1]MedianGlobal,Percentis 5-95conv'!B892","v":0}]
[{"$f":"'[1]MedianGlobal,Percentis 5-95conv'!A893","v":0},{"$f":"'[1]MedianGlobal,Percentis 5-95conv'!B893","v":0}]
[{"$f":"'[1]MedianGlobal,Percentis 5-95conv'!A894","v":0},{"$f":"'[1]MedianGlobal,Percentis 5-95conv'!B894","v":0}]
[{"$f":"'[1]MedianGlobal,Percentis 5-95conv'!A895","v":0},{"$f":"'[1]MedianGlobal,Percentis 5-95conv'!B895","v":0}]
[{"$f":"'[1]MedianGlobal,Percentis 5-95conv'!A896","v":0},{"$f":"'[1]MedianGlobal,Percentis 5-95conv'!B896","v":0}]
[{"$f":"'[1]MedianGlobal,Percentis 5-95conv'!A897","v":0},{"$f":"'[1]MedianGlobal,Percentis 5-95conv'!B897","v":0}]
[{"$f":"'[1]MedianGlobal,Percentis 5-95conv'!A898","v":0},{"$f":"'[1]MedianGlobal,Percentis 5-95conv'!B898","v":0}]
[{"$f":"'[1]MedianGlobal,Percentis 5-95conv'!A899","v":0},{"$f":"'[1]MedianGlobal,Percentis 5-95conv'!B899","v":0}]
[{"$f":"'[1]MedianGlobal,Percentis 5-95conv'!A900","v":0},{"$f":"'[1]MedianGlobal,Percentis 5-95conv'!B900","v":0}]
[{"$f":"'[1]MedianGlobal,Percentis 5-95conv'!A901","v":0},{"$f":"'[1]MedianGlobal,Percentis 5-95conv'!B901","v":0}]
[{"$f":"'[1]MedianGlobal,Percentis 5-95conv'!A902","v":0},{"$f":"'[1]MedianGlobal,Percentis 5-95conv'!B902","v":0}]
[{"$f":"'[1]MedianGlobal,Percentis 5-95conv'!A903","v":0},{"$f":"'[1]MedianGlobal,Percentis 5-95conv'!B903","v":0}]
[{"$f":"'[1]MedianGlobal,Percentis 5-95conv'!A904","v":0},{"$f":"'[1]MedianGlobal,Percentis 5-95conv'!B904","v":0}]
[{"$f":"'[1]MedianGlobal,Percentis 5-95conv'!A905","v":0},{"$f":"'[1]MedianGlobal,Percentis 5-95conv'!B905","v":0}]
[{"$f":"'[1]MedianGlobal,Percentis 5-95conv'!A906","v":0},{"$f":"'[1]MedianGlobal,Percentis 5-95conv'!B906","v":0}]
[{"$f":"'[1]MedianGlobal,Percentis 5-95conv'!A907","v":0},{"$f":"'[1]MedianGlobal,Percentis 5-95conv'!B907","v":0}]
[{"$f":"'[1]MedianGlobal,Percentis 5-95conv'!A908","v":0},{"$f":"'[1]MedianGlobal,Percentis 5-95conv'!B908","v":0}]
[{"$f":"'[1]MedianGlobal,Percentis 5-95conv'!A909","v":0},{"$f":"'[1]MedianGlobal,Percentis 5-95conv'!B909","v":0}]
[{"$f":"'[1]MedianGlobal,Percentis 5-95conv'!A910","v":0},{"$f":"'[1]MedianGlobal,Percentis 5-95conv'!B910","v":0}]
[{"$f":"'[1]MedianGlobal,Percentis 5-95conv'!A911","v":0},{"$f":"'[1]MedianGlobal,Percentis 5-95conv'!B911","v":0}]
[{"$f":"'[1]MedianGlobal,Percentis 5-95conv'!A912","v":0},{"$f":"'[1]MedianGlobal,Percentis 5-95conv'!B912","v":0}]
[{"$f":"'[1]MedianGlobal,Percentis 5-95conv'!A913","v":0},{"$f":"'[1]MedianGlobal,Percentis 5-95conv'!B913","v":0}]
[{"$f":"'[1]MedianGlobal,Percentis 5-95conv'!A914","v":0},{"$f":"'[1]MedianGlobal,Percentis 5-95conv'!B914","v":0}]
[{"$f":"'[1]MedianGlobal,Percentis 5-95conv'!A915","v":0},{"$f":"'[1]MedianGlobal,Percentis 5-95conv'!B915","v":0}]
[{"$f":"'[1]MedianGlobal,Percentis 5-95conv'!A916","v":0},{"$f":"'[1]MedianGlobal,Percentis 5-95conv'!B916","v":0}]
[{"$f":"'[1]MedianGlobal,Percentis 5-95conv'!A917","v":0},{"$f":"'[1]MedianGlobal,Percentis 5-95conv'!B917","v":0}]
[{"$f":"'[1]MedianGlobal,Percentis 5-95conv'!A918","v":0},{"$f":"'[1]MedianGlobal,Percentis 5-95conv'!B918","v":0}]
[{"$f":"'[1]MedianGlobal,Percentis 5-95conv'!A919","v":0},{"$f":"'[1]MedianGlobal,Percentis 5-95conv'!B919","v":0}]
[{"$f":"'[1]MedianGlobal,Percentis 5-95conv'!A920","v":0},{"$f":"'[1]MedianGlobal,Percentis 5-95conv'!B920","v":0}]
[{"$f":"'[1]MedianGlobal,Percentis 5-95conv'!A921","v":0},{"$f":"'[1]MedianGlobal,Percentis 5-95conv'!B921","v":0}]
[{"$f":"'[1]MedianGlobal,Percentis 5-95conv'!A922","v":0},{"$f":"'[1]MedianGlobal,Percentis 5-95conv'!B922","v":0}]
[{"$f":"'[1]MedianGlobal,Percentis 5-95conv'!A923","v":0},{"$f":"'[1]MedianGlobal,Percentis 5-95conv'!B923","v":0}]
[{"$f":"'[1]MedianGlobal,Percentis 5-95conv'!A924","v":0},{"$f":"'[1]MedianGlobal,Percentis 5-95conv'!B924","v":0}]
[{"$f":"'[1]MedianGlobal,Percentis 5-95conv'!A925","v":0},{"$f":"'[1]MedianGlobal,Percentis 5-95conv'!B925","v":0}]
[{"$f":"'[1]MedianGlobal,Percentis 5-95conv'!A926","v":0},{"$f":"'[1]MedianGlobal,Percentis 5-95conv'!B926","v":0}]
[{"$f":"'[1]MedianGlobal,Percentis 5-95conv'!A927","v":0},{"$f":"'[1]MedianGlobal,Percentis 5-95conv'!B927","v":0}]
[{"$f":"'[1]MedianGlobal,Percentis 5-95conv'!A928","v":0},{"$f":"'[1]MedianGlobal,Percentis 5-95conv'!B928","v":0}]
[{"$f":"'[1]MedianGlobal,Percentis 5-95conv'!A929","v":0},{"$f":"'[1]MedianGlobal,Percentis 5-95conv'!B929","v":0}]
[{"$f":"'[1]MedianGlobal,Percentis 5-95conv'!A930","v":0},{"$f":"'[1]MedianGlobal,Percentis 5-95conv'!B930","v":0}]
[{"$f":"'[1]MedianGlobal,Percentis 5-95conv'!A931","v":0},{"$f":"'[1]MedianGlobal,Percentis 5-95conv'!B931","v":0}]
[{"$f":"'[1]MedianGlobal,Percentis 5-95conv'!A932","v":0},{"$f":"'[1]MedianGlobal,Percentis 5-95conv'!B932","v":0}]
[{"$f":"'[1]MedianGlobal,Percentis 5-95conv'!A933","v":0},{"$f":"'[1]MedianGlobal,Percentis 5-95conv'!B933","v":0}]
[{"$f":"'[1]MedianGlobal,Percentis 5-95conv'!A934","v":0},{"$f":"'[1]MedianGlobal,Percentis 5-95conv'!B934","v":0}]
[{"$f":"'[1]MedianGlobal,Percentis 5-95conv'!A935","v":0},{"$f":"'[1]MedianGlobal,Percentis 5-95conv'!B935","v":0}]
[{"$f":"'[1]MedianGlobal,Percentis 5-95conv'!A936","v":0},{"$f":"'[1]MedianGlobal,Percentis 5-95conv'!B936","v":0}]
[{"$f":"'[1]MedianGlobal,Percentis 5-95conv'!A937","v":0},{"$f":"'[1]MedianGlobal,Percentis 5-95conv'!B937","v":0}]
[{"$f":"'[1]MedianGlobal,Percentis 5-95conv'!A938","v":0},{"$f":"'[1]MedianGlobal,Percentis 5-95conv'!B938","v":0}]
[{"$f":"'[1]MedianGlobal,Percentis 5-95conv'!A939","v":0},{"$f":"'[1]MedianGlobal,Percentis 5-95conv'!B939","v":0}]
[{"$f":"'[1]MedianGlobal,Percentis 5-95conv'!A940","v":0},{"$f":"'[1]MedianGlobal,Percentis 5-95conv'!B940","v":0}]
[{"$f":"'[1]MedianGlobal,Percentis 5-95conv'!A941","v":0},{"$f":"'[1]MedianGlobal,Percentis 5-95conv'!B941","v":0}]
[{"$f":"'[1]MedianGlobal,Percentis 5-95conv'!A942","v":0},{"$f":"'[1]MedianGlobal,Percentis 5-95conv'!B942","v":0}]
[{"$f":"'[1]MedianGlobal,Percentis 5-95conv'!A943","v":0},{"$f":"'[1]MedianGlobal,Percentis 5-95conv'!B943","v":0}]
[{"$f":"'[1]MedianGlobal,Percentis 5-95conv'!A944","v":0},{"$f":"'[1]MedianGlobal,Percentis 5-95conv'!B944","v":0}]
[{"$f":"'[1]MedianGlobal,Percentis 5-95conv'!A945","v":0},{"$f":"'[1]MedianGlobal,Percentis 5-95conv'!B945","v":0}]
[{"$f":"'[1]MedianGlobal,Percentis 5-95conv'!A946","v":0},{"$f":"'[1]MedianGlobal,Percentis 5-95conv'!B946","v":0}]
[{"$f":"'[1]MedianGlobal,Percentis 5-95conv'!A947","v":0},{"$f":"'[1]MedianGlobal,Percentis 5-95conv'!B947","v":0}]
[{"$f":"'[1]MedianGlobal,Percentis 5-95conv'!A948","v":0},{"$f":"'[1]MedianGlobal,Percentis 5-95conv'!B948","v":0}]
[{"$f":"'[1]MedianGlobal,Percentis 5-95conv'!A949","v":0},{"$f":"'[1]MedianGlobal,Percentis 5-95conv'!B949","v":0}]
[{"$f":"'[1]MedianGlobal,Percentis 5-95conv'!A950","v":0},{"$f":"'[1]MedianGlobal,Percentis 5-95conv'!B950","v":0}]
[{"$f":"'[1]MedianGlobal,Percentis 5-95conv'!A951","v":0},{"$f":"'[1]MedianGlobal,Percentis 5-95conv'!B951","v":0}]
[{"$f":"'[1]MedianGlobal,Percentis 5-95conv'!A952","v":0},{"$f":"'[1]MedianGlobal,Percentis 5-95conv'!B952","v":0}]
[{"$f":"'[1]MedianGlobal,Percentis 5-95conv'!A953","v":0},{"$f":"'[1]MedianGlobal,Percentis 5-95conv'!B953","v":0}]
[{"$f":"'[1]MedianGlobal,Percentis 5-95conv'!A954","v":0},{"$f":"'[1]MedianGlobal,Percentis 5-95conv'!B954","v":0}]
[{"$f":"'[1]MedianGlobal,Percentis 5-95conv'!A955","v":0},{"$f":"'[1]MedianGlobal,Percentis 5-95conv'!B955","v":0}]
[{"$f":"'[1]MedianGlobal,Percentis 5-95conv'!A956","v":0},{"$f":"'[1]MedianGlobal,Percentis 5-95conv'!B956","v":0}]
[{"$f":"'[1]MedianGlobal,Percentis 5-95conv'!A957","v":0},{"$f":"'[1]MedianGlobal,Percentis 5-95conv'!B957","v":0}]
[{"$f":"'[1]MedianGlobal,Percentis 5-95conv'!A958","v":0},{"$f":"'[1]MedianGlobal,Percentis 5-95conv'!B958","v":0}]
[{"$f":"'[1]MedianGlobal,Percentis 5-95conv'!A959","v":0},{"$f":"'[1]MedianGlobal,Percentis 5-95conv'!B959","v":0}]
[{"$f":"'[1]MedianGlobal,Percentis 5-95conv'!A960","v":0},{"$f":"'[1]MedianGlobal,Percentis 5-95conv'!B960","v":0}]
[{"$f":"'[1]MedianGlobal,Percentis 5-95conv'!A961","v":0},{"$f":"'[1]MedianGlobal,Percentis 5-95conv'!B961","v":0}]
[{"$f":"'[1]MedianGlobal,Percentis 5-95conv'!A962","v":0},{"$f":"'[1]MedianGlobal,Percentis 5-95conv'!B962","v":0}]
[{"$f":"'[1]MedianGlobal,Percentis 5-95conv'!A963","v":0},{"$f":"'[1]MedianGlobal,Percentis 5-95conv'!B963","v":0}]
[{"$f":"'[1]MedianGlobal,Percentis 5-95conv'!A964","v":0},{"$f":"'[1]MedianGlobal,Percentis 5-95conv'!B964","v":0}]
[{"$f":"'[1]MedianGlobal,Percentis 5-95conv'!A965","v":0},{"$f":"'[1]MedianGlobal,Percentis 5-95conv'!B965","v":0}]
[{"$f":"'[1]MedianGlobal,Percentis 5-95conv'!A966","v":0},{"$f":"'[1]MedianGlobal,Percentis 5-95conv'!B966","v":0}]
[{"$f":"'[1]MedianGlobal,Percentis 5-95conv'!A967","v":0},{"$f":"'[1]MedianGlobal,Percentis 5-95conv'!B967","v":0}]
[{"$f":"'[1]MedianGlobal,Percentis 5-95conv'!A968","v":0},{"$f":"'[1]MedianGlobal,Percentis 5-95conv'!B968","v":0}]
[{"$f":"'[1]MedianGlobal,Percentis 5-95conv'!A969","v":0},{"$f":"'[1]MedianGlobal,Percentis 5-95conv'!B969","v":0}]
[{"$f":"'[1]MedianGlobal,Percentis 5-95conv'!A970","v":0},{"$f":"'[1]MedianGlobal,Percentis 5-95conv'!B970","v":0}]
[{"$f":"'[1]MedianGlobal,Percentis 5-95conv'!A971","v":0},{"$f":"'[1]MedianGlobal,Percentis 5-95conv'!B971","v":0}]
[{"$f":"'[1]MedianGlobal,Percentis 5-95conv'!A972","v":0},{"$f":"'[1]MedianGlobal,Percentis 5-95conv'!B972","v":0}]
[{"$f":"'[1]MedianGlobal,Percentis 5-95conv'!A973","v":0},{"$f":"'[1]MedianGlobal,Percentis 5-95conv'!B973","v":0}]
[{"$f":"'[1]MedianGlobal,Percentis 5-95conv'!A974","v":0},{"$f":"'[1]MedianGlobal,Percentis 5-95conv'!B974","v":0}]
[{"$f":"'[1]MedianGlobal,Percentis 5-95conv'!A975","v":0},{"$f":"'[1]MedianGlobal,Percentis 5-95conv'!B975","v":0}]
[{"$f":"'[1]MedianGlobal,Percentis 5-95conv'!A976","v":0},{"$f":"'[1]MedianGlobal,Percentis 5-95conv'!B976","v":0}]
[{"$f":"'[1]MedianGlobal,Percentis 5-95conv'!A977","v":0},{"$f":"'[1]MedianGlobal,Percentis 5-95conv'!B977","v":0}]
[{"$f":"'[1]MedianGlobal,Percentis 5-95conv'!A978","v":0},{"$f":"'[1]MedianGlobal,Percentis 5-95conv'!B978","v":0}]
[{"$f":"'[1]MedianGlobal,Percentis 5-95conv'!A979","v":0},{"$f":"'[1]MedianGlobal,Percentis 5-95conv'!B979","v":0}]
[{"$f":"'[1]MedianGlobal,Percentis 5-95conv'!A980","v":0},{"$f":"'[1]MedianGlobal,Percentis 5-95conv'!B980","v":0}]
[{"$f":"'[1]MedianGlobal,Percentis 5-95conv'!A981","v":0},{"$f":"'[1]MedianGlobal,Percentis 5-95conv'!B981","v":0}]
[{"$f":"'[1]MedianGlobal,Percentis 5-95conv'!A982","v":0},{"$f":"'[1]MedianGlobal,Percentis 5-95conv'!B982","v":0}]
[{"$f":"'[1]MedianGlobal,Percentis 5-95conv'!A983","v":0},{"$f":"'[1]MedianGlobal,Percentis 5-95conv'!B983","v":0}]
[{"$f":"'[1]MedianGlobal,Percentis 5-95conv'!A984","v":0},{"$f":"'[1]MedianGlobal,Percentis 5-95conv'!B984","v":0}]
[{"$f":"'[1]MedianGlobal,Percentis 5-95conv'!A985","v":0},{"$f":"'[1]MedianGlobal,Percentis 5-95conv'!B985","v":0}]
[{"$f":"'[1]MedianGlobal,Percentis 5-95conv'!A986","v":0},{"$f":"'[1]MedianGlobal,Percentis 5-95conv'!B986","v":0}]
[{"$f":"'[1]MedianGlobal,Percentis 5-95conv'!A987","v":0},{"$f":"'[1]MedianGlobal,Percentis 5-95conv'!B987","v":0}]
[{"$f":"'[1]MedianGlobal,Percentis 5-95conv'!A988","v":0},{"$f":"'[1]MedianGlobal,Percentis 5-95conv'!B988","v":0}]
[{"$f":"'[1]MedianGlobal,Percentis 5-95conv'!A989","v":0},{"$f":"'[1]MedianGlobal,Percentis 5-95conv'!B989","v":0}]
[{"$f":"'[1]MedianGlobal,Percentis 5-95conv'!A990","v":0},{"$f":"'[1]MedianGlobal,Percentis 5-95conv'!B990","v":0}]
[{"$f":"'[1]MedianGlobal,Percentis 5-95conv'!A991","v":0},{"$f":"'[1]MedianGlobal,Percentis 5-95conv'!B991","v":0}]
[{"$f":"'[1]MedianGlobal,Percentis 5-95conv'!A992","v":0},{"$f":"'[1]MedianGlobal,Percentis 5-95conv'!B992","v":0}]
[{"$f":"'[1]MedianGlobal,Percentis 5-95conv'!A993","v":0},{"$f":"'[1]MedianGlobal,Percentis 5-95conv'!B993","v":0}]
[{"$f":"'[1]MedianGlobal,Percentis 5-95conv'!A994","v":0},{"$f":"'[1]MedianGlobal,Percentis 5-95conv'!B994","v":0}]
[{"$f":"'[1]MedianGlobal,Percentis 5-95conv'!A995","v":0},{"$f":"'[1]MedianGlobal,Percentis 5-95conv'!B995","v":0}]
[{"$f":"'[1]MedianGlobal,Percentis 5-95conv'!A996","v":0},{"$f":"'[1]MedianGlobal,Percentis 5-95conv'!B996","v":0}]
[{"$f":"'[1]MedianGlobal,Percentis 5-95conv'!A997","v":0},{"$f":"'[1]MedianGlobal,Percentis 5-95conv'!B997","v":0}]
[{"$f":"'[1]MedianGlobal,Percentis 5-95conv'!A998","v":0},{"$f":"'[1]MedianGlobal,Percentis 5-95conv'!B998","v":0}]
[{"$f":"'[1]MedianGlobal,Percentis 5-95conv'!A999","v":0},{"$f":"'[1]MedianGlobal,Percentis 5-95conv'!B999","v":0}]
[{"$f":"'[1]MedianGlobal,Percentis 5-95conv'!A1000","v":0},{"$f":"'[1]MedianGlobal,Percentis 5-95conv'!B1000","v":0}]
[{"$f":"'[1]MedianGlobal,Percentis 5-95conv'!A1001","v":0},{"$f":"'[1]MedianGlobal,Percentis 5-95conv'!B1001","v":0}]
[{"$f":"'[1]MedianGlobal,Percentis 5-95conv'!A1002","v":0},{"$f":"'[1]MedianGlobal,Percentis 5-95conv'!B1002","v":0}]
[{"$f":"'[1]MedianGlobal,Percentis 5-95conv'!A1003","v":0},{"$f":"'[1]MedianGlobal,Percentis 5-95conv'!B1003","v":0}]
[{"$f":"'[1]MedianGlobal,Percentis 5-95conv'!A1004","v":0},{"$f":"'[1]MedianGlobal,Percentis 5-95conv'!B1004","v":0}]
[{"$f":"'[1]MedianGlobal,Percentis 5-95conv'!A1005","v":0},{"$f":"'[1]MedianGlobal,Percentis 5-95conv'!B1005","v":0}]
[{"$f":"'[1]MedianGlobal,Percentis 5-95conv'!A1006","v":0},{"$f":"'[1]MedianGlobal,Percentis 5-95conv'!B1006","v":0}]
[{"$f":"'[1]MedianGlobal,Percentis 5-95conv'!A1007","v":0},{"$f":"'[1]MedianGlobal,Percentis 5-95conv'!B1007","v":0}]
[{"$f":"'[1]MedianGlobal,Percentis 5-95conv'!A1008","v":0},{"$f":"'[1]MedianGlobal,Percentis 5-95conv'!B1008","v":0}]
[{"$f":"'[1]MedianGlobal,Percentis 5-95conv'!A1009","v":0},{"$f":"'[1]MedianGlobal,Percentis 5-95conv'!B1009","v":0}]
[{"$f":"'[1]MedianGlobal,Percentis 5-95conv'!A1010","v":0},{"$f":"'[1]MedianGlobal,Percentis 5-95conv'!B1010","v":0}]
[{"$f":"'[1]MedianGlobal,Percentis 5-95conv'!A1011","v":0},{"$f":"'[1]MedianGlobal,Percentis 5-95conv'!B1011","v":0}]
[{"$f":"'[1]MedianGlobal,Percentis 5-95conv'!A1012","v":0},{"$f":"'[1]MedianGlobal,Percentis 5-95conv'!B1012","v":0}]
[{"$f":"'[1]MedianGlobal,Percentis 5-95conv'!A1013","v":0},{"$f":"'[1]MedianGlobal,Percentis 5-95conv'!B1013","v":0}]
[{"$f":"'[1]MedianGlobal,Percentis 5-95conv'!A1014","v":0},{"$f":"'[1]MedianGlobal,Percentis 5-95conv'!B1014","v":0}]
[{"$f":"'[1]MedianGlobal,Percentis 5-95conv'!A1015","v":0},{"$f":"'[1]MedianGlobal,Percentis 5-95conv'!B1015","v":0}]
[{"$f":"'[1]MedianGlobal,Percentis 5-95conv'!A1016","v":0},{"$f":"'[1]MedianGlobal,Percentis 5-95conv'!B1016","v":0}]
[{"$f":"'[1]MedianGlobal,Percentis 5-95conv'!A1017","v":0},{"$f":"'[1]MedianGlobal,Percentis 5-95conv'!B1017","v":0}]
[{"$f":"'[1]MedianGlobal,Percentis 5-95conv'!A1018","v":0},{"$f":"'[1]MedianGlobal,Percentis 5-95conv'!B1018","v":0}]
[{"$f":"'[1]MedianGlobal,Percentis 5-95conv'!A1019","v":0},{"$f":"'[1]MedianGlobal,Percentis 5-95conv'!B1019","v":0}]
[{"$f":"'[1]MedianGlobal,Percentis 5-95conv'!A1020","v":0},{"$f":"'[1]MedianGlobal,Percentis 5-95conv'!B1020","v":0}]
[{"$f":"'[1]MedianGlobal,Percentis 5-95conv'!A1021","v":0},{"$f":"'[1]MedianGlobal,Percentis 5-95conv'!B1021","v":0}]
[{"$f":"'[1]MedianGlobal,Percentis 5-95conv'!A1022","v":0},{"$f":"'[1]MedianGlobal,Percentis 5-95conv'!B1022","v":0}]
[{"$f":"'[1]MedianGlobal,Percentis 5-95conv'!A1023","v":0},{"$f":"'[1]MedianGlobal,Percentis 5-95conv'!B1023","v":0}]
[{"$f":"'[1]MedianGlobal,Percentis 5-95conv'!A1024","v":0},{"$f":"'[1]MedianGlobal,Percentis 5-95conv'!B1024","v":0}]
[{"$f":"'[1]MedianGlobal,Percentis 5-95conv'!A1025","v":0},{"$f":"'[1]MedianGlobal,Percentis 5-95conv'!B1025","v":0}]
[{"$f":"'[1]MedianGlobal,Percentis 5-95conv'!A1026","v":0},{"$f":"'[1]MedianGlobal,Percentis 5-95conv'!B1026","v":0}]
[{"$f":"'[1]MedianGlobal,Percentis 5-95conv'!A1027","v":0},{"$f":"'[1]MedianGlobal,Percentis 5-95conv'!B1027","v":0}]
[{"$f":"'[1]MedianGlobal,Percentis 5-95conv'!A1028","v":0},{"$f":"'[1]MedianGlobal,Percentis 5-95conv'!B1028","v":0}]
[{"$f":"'[1]MedianGlobal,Percentis 5-95conv'!A1029","v":0},{"$f":"'[1]MedianGlobal,Percentis 5-95conv'!B1029","v":0}]
[{"$f":"'[1]MedianGlobal,Percentis 5-95conv'!A1030","v":0},{"$f":"'[1]MedianGlobal,Percentis 5-95conv'!B1030","v":0}]
[{"$f":"'[1]MedianGlobal,Percentis 5-95conv'!A1031","v":0},{"$f":"'[1]MedianGlobal,Percentis 5-95conv'!B1031","v":0}]
[{"$f":"'[1]MedianGlobal,Percentis 5-95conv'!A1032","v":0},{"$f":"'[1]MedianGlobal,Percentis 5-95conv'!B1032","v":0}]
[{"$f":"'[1]MedianGlobal,Percentis 5-95conv'!A1033","v":0},{"$f":"'[1]MedianGlobal,Percentis 5-95conv'!B1033","v":0}]
[{"$f":"'[1]MedianGlobal,Percentis 5-95conv'!A1034","v":0},{"$f":"'[1]MedianGlobal,Percentis 5-95conv'!B1034","v":0}]
[{"$f":"'[1]MedianGlobal,Percentis 5-95conv'!A1035","v":0},{"$f":"'[1]MedianGlobal,Percentis 5-95conv'!B1035","v":0}]
[{"$f":"'[1]MedianGlobal,Percentis 5-95conv'!A1036","v":0},{"$f":"'[1]MedianGlobal,Percentis 5-95conv'!B1036","v":0}]
[{"$f":"'[1]MedianGlobal,Percentis 5-95conv'!A1037","v":0},{"$f":"'[1]MedianGlobal,Percentis 5-95conv'!B1037","v":0}]
[{"$f":"'[1]MedianGlobal,Percentis 5-95conv'!A1038","v":0},{"$f":"'[1]MedianGlobal,Percentis 5-95conv'!B1038","v":0}]
[{"$f":"'[1]MedianGlobal,Percentis 5-95conv'!A1039","v":0},{"$f":"'[1]MedianGlobal,Percentis 5-95conv'!B1039","v":0}]
[{"$f":"'[1]MedianGlobal,Percentis 5-95conv'!A1040","v":0},{"$f":"'[1]MedianGlobal,Percentis 5-95conv'!B1040","v":0}]
[{"$f":"'[1]MedianGlobal,Percentis 5-95conv'!A1041","v":0},{"$f":"'[1]MedianGlobal,Percentis 5-95conv'!B1041","v":0}]
[{"$f":"'[1]MedianGlobal,Percentis 5-95conv'!A1042","v":0},{"$f":"'[1]MedianGlobal,Percentis 5-95conv'!B1042","v":0}]
[{"$f":"'[1]MedianGlobal,Percentis 5-95conv'!A1043","v":0},{"$f":"'[1]MedianGlobal,Percentis 5-95conv'!B1043","v":0}]
[{"$f":"'[1]MedianGlobal,Percentis 5-95conv'!A1044","v":0},{"$f":"'[1]MedianGlobal,Percentis 5-95conv'!B1044","v":0}]
[{"$f":"'[1]MedianGlobal,Percentis 5-95conv'!A1045","v":0},{"$f":"'[1]MedianGlobal,Percentis 5-95conv'!B1045","v":0}]
[{"$f":"'[1]MedianGlobal,Percentis 5-95conv'!A1046","v":0},{"$f":"'[1]MedianGlobal,Percentis 5-95conv'!B1046","v":0}]
[{"$f":"'[1]MedianGlobal,Percentis 5-95conv'!A1047","v":0},{"$f":"'[1]MedianGlobal,Percentis 5-95conv'!B1047","v":0}]
[{"$f":"'[1]MedianGlobal,Percentis 5-95conv'!A1048","v":0},{"$f":"'[1]MedianGlobal,Percentis 5-95conv'!B1048","v":0}]
[{"$f":"'[1]MedianGlobal,Percentis 5-95conv'!A1049","v":0},{"$f":"'[1]MedianGlobal,Percentis 5-95conv'!B1049","v":0}]
[{"$f":"'[1]MedianGlobal,Percentis 5-95conv'!A1050","v":0},{"$f":"'[1]MedianGlobal,Percentis 5-95conv'!B1050","v":0}]
[{"$f":"'[1]MedianGlobal,Percentis 5-95conv'!A1051","v":0},{"$f":"'[1]MedianGlobal,Percentis 5-95conv'!B1051","v":0}]
[{"$f":"'[1]MedianGlobal,Percentis 5-95conv'!A1052","v":0},{"$f":"'[1]MedianGlobal,Percentis 5-95conv'!B1052","v":0}]
[{"$f":"'[1]MedianGlobal,Percentis 5-95conv'!A1053","v":0},{"$f":"'[1]MedianGlobal,Percentis 5-95conv'!B1053","v":0}]
[{"$f":"'[1]MedianGlobal,Percentis 5-95conv'!A1054","v":0},{"$f":"'[1]MedianGlobal,Percentis 5-95conv'!B1054","v":0}]
[{"$f":"'[1]MedianGlobal,Percentis 5-95conv'!A1055","v":0},{"$f":"'[1]MedianGlobal,Percentis 5-95conv'!B1055","v":0}]
[{"$f":"'[1]MedianGlobal,Percentis 5-95conv'!A1056","v":0},{"$f":"'[1]MedianGlobal,Percentis 5-95conv'!B1056","v":0}]
[{"$f":"'[1]MedianGlobal,Percentis 5-95conv'!A1057","v":0},{"$f":"'[1]MedianGlobal,Percentis 5-95conv'!B1057","v":0}]
[{"$f":"'[1]MedianGlobal,Percentis 5-95conv'!A1058","v":0},{"$f":"'[1]MedianGlobal,Percentis 5-95conv'!B1058","v":0}]
[{"$f":"'[1]MedianGlobal,Percentis 5-95conv'!A1059","v":0},{"$f":"'[1]MedianGlobal,Percentis 5-95conv'!B1059","v":0}]
[{"$f":"'[1]MedianGlobal,Percentis 5-95conv'!A1060","v":0},{"$f":"'[1]MedianGlobal,Percentis 5-95conv'!B1060","v":0}]
[{"$f":"'[1]MedianGlobal,Percentis 5-95conv'!A1061","v":0},{"$f":"'[1]MedianGlobal,Percentis 5-95conv'!B1061","v":0}]
[{"$f":"'[1]MedianGlobal,Percentis 5-95conv'!A1062","v":0},{"$f":"'[1]MedianGlobal,Percentis 5-95conv'!B1062","v":0}]
[{"$f":"'[1]MedianGlobal,Percentis 5-95conv'!A1063","v":0},{"$f":"'[1]MedianGlobal,Percentis 5-95conv'!B1063","v":0}]
[{"$f":"'[1]MedianGlobal,Percentis 5-95conv'!A1064","v":0},{"$f":"'[1]MedianGlobal,Percentis 5-95conv'!B1064","v":0}]
[{"$f":"'[1]MedianGlobal,Percentis 5-95conv'!A1065","v":0},{"$f":"'[1]MedianGlobal,Percentis 5-95conv'!B1065","v":0}]
[{"$f":"'[1]MedianGlobal,Percentis 5-95conv'!A1066","v":0},{"$f":"'[1]MedianGlobal,Percentis 5-95conv'!B1066","v":0}]
[{"$f":"'[1]MedianGlobal,Percentis 5-95conv'!A1067","v":0},{"$f":"'[1]MedianGlobal,Percentis 5-95conv'!B1067","v":0}]
[{"$f":"'[1]MedianGlobal,Percentis 5-95conv'!A1068","v":0},{"$f":"'[1]MedianGlobal,Percentis 5-95conv'!B1068","v":0}]
[{"$f":"'[1]MedianGlobal,Percentis 5-95conv'!A1069","v":0},{"$f":"'[1]MedianGlobal,Percentis 5-95conv'!B1069","v":0}]
[{"$f":"'[1]MedianGlobal,Percentis 5-95conv'!A1070","v":0},{"$f":"'[1]MedianGlobal,Percentis 5-95conv'!B1070","v":0}]
[{"$f":"'[1]MedianGlobal,Percentis 5-95conv'!A1071","v":0},{"$f":"'[1]MedianGlobal,Percentis 5-95conv'!B1071","v":0}]
[{"$f":"'[1]MedianGlobal,Percentis 5-95conv'!A1072","v":0},{"$f":"'[1]MedianGlobal,Percentis 5-95conv'!B1072","v":0}]
[{"$f":"'[1]MedianGlobal,Percentis 5-95conv'!A1073","v":0},{"$f":"'[1]MedianGlobal,Percentis 5-95conv'!B1073","v":0}]
[{"$f":"'[1]MedianGlobal,Percentis 5-95conv'!A1074","v":0},{"$f":"'[1]MedianGlobal,Percentis 5-95conv'!B1074","v":0}]
[{"$f":"'[1]MedianGlobal,Percentis 5-95conv'!A1075","v":0},{"$f":"'[1]MedianGlobal,Percentis 5-95conv'!B1075","v":0}]
[{"$f":"'[1]MedianGlobal,Percentis 5-95conv'!A1076","v":0},{"$f":"'[1]MedianGlobal,Percentis 5-95conv'!B1076","v":0}]
[{"$f":"'[1]MedianGlobal,Percentis 5-95conv'!A1077","v":0},{"$f":"'[1]MedianGlobal,Percentis 5-95conv'!B1077","v":0}]
[{"$f":"'[1]MedianGlobal,Percentis 5-95conv'!A1078","v":0},{"$f":"'[1]MedianGlobal,Percentis 5-95conv'!B1078","v":0}]
[{"$f":"'[1]MedianGlobal,Percentis 5-95conv'!A1079","v":0},{"$f":"'[1]MedianGlobal,Percentis 5-95conv'!B1079","v":0}]
[{"$f":"'[1]MedianGlobal,Percentis 5-95conv'!A1080","v":0},{"$f":"'[1]MedianGlobal,Percentis 5-95conv'!B1080","v":0}]
[{"$f":"'[1]MedianGlobal,Percentis 5-95conv'!A1081","v":0},{"$f":"'[1]MedianGlobal,Percentis 5-95conv'!B1081","v":0}]
[{"$f":"'[1]MedianGlobal,Percentis 5-95conv'!A1082","v":0},{"$f":"'[1]MedianGlobal,Percentis 5-95conv'!B1082","v":0}]
[{"$f":"'[1]MedianGlobal,Percentis 5-95conv'!A1083","v":0},{"$f":"'[1]MedianGlobal,Percentis 5-95conv'!B1083","v":0}]
[{"$f":"'[1]MedianGlobal,Percentis 5-95conv'!A1084","v":0},{"$f":"'[1]MedianGlobal,Percentis 5-95conv'!B1084","v":0}]
[{"$f":"'[1]MedianGlobal,Percentis 5-95conv'!A1085","v":0},{"$f":"'[1]MedianGlobal,Percentis 5-95conv'!B1085","v":0}]
[{"$f":"'[1]MedianGlobal,Percentis 5-95conv'!A1086","v":0},{"$f":"'[1]MedianGlobal,Percentis 5-95conv'!B1086","v":0}]
[{"$f":"'[1]MedianGlobal,Percentis 5-95conv'!A1087","v":0},{"$f":"'[1]MedianGlobal,Percentis 5-95conv'!B1087","v":0}]
[{"$f":"'[1]MedianGlobal,Percentis 5-95conv'!A1088","v":0},{"$f":"'[1]MedianGlobal,Percentis 5-95conv'!B1088","v":0}]
[{"$f":"'[1]MedianGlobal,Percentis 5-95conv'!A1089","v":0},{"$f":"'[1]MedianGlobal,Percentis 5-95conv'!B1089","v":0}]
[{"$f":"'[1]MedianGlobal,Percentis 5-95conv'!A1090","v":0},{"$f":"'[1]MedianGlobal,Percentis 5-95conv'!B1090","v":0}]
[{"$f":"'[1]MedianGlobal,Percentis 5-95conv'!A1091","v":0},{"$f":"'[1]MedianGlobal,Percentis 5-95conv'!B1091","v":0}]
[{"$f":"'[1]MedianGlobal,Percentis 5-95conv'!A1092","v":0},{"$f":"'[1]MedianGlobal,Percentis 5-95conv'!B1092","v":0}]
[{"$f":"'[1]MedianGlobal,Percentis 5-95conv'!A1093","v":0},{"$f":"'[1]MedianGlobal,Percentis 5-95conv'!B1093","v":0}]
[{"$f":"'[1]MedianGlobal,Percentis 5-95conv'!A1094","v":0},{"$f":"'[1]MedianGlobal,Percentis 5-95conv'!B1094","v":0}]
[{"$f":"'[1]MedianGlobal,Percentis 5-95conv'!A1095","v":0},{"$f":"'[1]MedianGlobal,Percentis 5-95conv'!B1095","v":0}]
[{"$f":"'[1]MedianGlobal,Percentis 5-95conv'!A1096","v":0},{"$f":"'[1]MedianGlobal,Percentis 5-95conv'!B1096","v":0}]
[{"$f":"'[1]MedianGlobal,Percentis 5-95conv'!A1097","v":0},{"$f":"'[1]MedianGlobal,Percentis 5-95conv'!B1097","v":0}]
[{"$f":"'[1]MedianGlobal,Percentis 5-95conv'!A1098","v":0},{"$f":"'[1]MedianGlobal,Percentis 5-95conv'!B1098","v":0}]
[{"$f":"'[1]MedianGlobal,Percentis 5-95conv'!A1099","v":0},{"$f":"'[1]MedianGlobal,Percentis 5-95conv'!B1099","v":0}]
[{"$f":"'[1]MedianGlobal,Percentis 5-95conv'!A1100","v":0},{"$f":"'[1]MedianGlobal,Percentis 5-95conv'!B1100","v":0}]
[{"$f":"'[1]MedianGlobal,Percentis 5-95conv'!A1101","v":0},{"$f":"'[1]MedianGlobal,Percentis 5-95conv'!B1101","v":0}]
[{"$f":"'[1]MedianGlobal,Percentis 5-95conv'!A1102","v":0},{"$f":"'[1]MedianGlobal,Percentis 5-95conv'!B1102","v":0}]
[{"$f":"'[1]MedianGlobal,Percentis 5-95conv'!A1103","v":0},{"$f":"'[1]MedianGlobal,Percentis 5-95conv'!B1103","v":0}]
[{"$f":"'[1]MedianGlobal,Percentis 5-95conv'!A1104","v":0},{"$f":"'[1]MedianGlobal,Percentis 5-95conv'!B1104","v":0}]
[{"$f":"'[1]MedianGlobal,Percentis 5-95conv'!A1105","v":0},{"$f":"'[1]MedianGlobal,Percentis 5-95conv'!B1105","v":0}]
[{"$f":"'[1]MedianGlobal,Percentis 5-95conv'!A1106","v":0},{"$f":"'[1]MedianGlobal,Percentis 5-95conv'!B1106","v":0}]
[{"$f":"'[1]MedianGlobal,Percentis 5-95conv'!A1107","v":0},{"$f":"'[1]MedianGlobal,Percentis 5-95conv'!B1107","v":0}]
[{"$f":"'[1]MedianGlobal,Percentis 5-95conv'!A1108","v":0},{"$f":"'[1]MedianGlobal,Percentis 5-95conv'!B1108","v":0}]
[{"$f":"'[1]MedianGlobal,Percentis 5-95conv'!A1109","v":0},{"$f":"'[1]MedianGlobal,Percentis 5-95conv'!B1109","v":0}]
[{"$f":"'[1]MedianGlobal,Percentis 5-95conv'!A1110","v":0},{"$f":"'[1]MedianGlobal,Percentis 5-95conv'!B1110","v":0}]
[{"$f":"'[1]MedianGlobal,Percentis 5-95conv'!A1111","v":0},{"$f":"'[1]MedianGlobal,Percentis 5-95conv'!B1111","v":0}]
[{"$f":"'[1]MedianGlobal,Percentis 5-95conv'!A1112","v":0},{"$f":"'[1]MedianGlobal,Percentis 5-95conv'!B1112","v":0}]
[{"$f":"'[1]MedianGlobal,Percentis 5-95conv'!A1113","v":0},{"$f":"'[1]MedianGlobal,Percentis 5-95conv'!B1113","v":0}]
[{"$f":"'[1]MedianGlobal,Percentis 5-95conv'!A1114","v":0},{"$f":"'[1]MedianGlobal,Percentis 5-95conv'!B1114","v":0}]
[{"$f":"'[1]MedianGlobal,Percentis 5-95conv'!A1115","v":0},{"$f":"'[1]MedianGlobal,Percentis 5-95conv'!B1115","v":0}]
[{"$f":"'[1]MedianGlobal,Percentis 5-95conv'!A1116","v":0},{"$f":"'[1]MedianGlobal,Percentis 5-95conv'!B1116","v":0}]
[{"$f":"'[1]MedianGlobal,Percentis 5-95conv'!A1117","v":0},{"$f":"'[1]MedianGlobal,Percentis 5-95conv'!B1117","v":0}]
[{"$f":"'[1]MedianGlobal,Percentis 5-95conv'!A1118","v":0},{"$f":"'[1]MedianGlobal,Percentis 5-95conv'!B1118","v":0}]
[{"$f":"'[1]MedianGlobal,Percentis 5-95conv'!A1119","v":0},{"$f":"'[1]MedianGlobal,Percentis 5-95conv'!B1119","v":0}]
[{"$f":"'[1]MedianGlobal,Percentis 5-95conv'!A1120","v":0},{"$f":"'[1]MedianGlobal,Percentis 5-95conv'!B1120","v":0}]
[{"$f":"'[1]MedianGlobal,Percentis 5-95conv'!A1121","v":0},{"$f":"'[1]MedianGlobal,Percentis 5-95conv'!B1121","v":0}]
[{"$f":"'[1]MedianGlobal,Percentis 5-95conv'!A1122","v":0},{"$f":"'[1]MedianGlobal,Percentis 5-95conv'!B1122","v":0}]
[{"$f":"'[1]MedianGlobal,Percentis 5-95conv'!A1123","v":0},{"$f":"'[1]MedianGlobal,Percentis 5-95conv'!B1123","v":0}]
[{"$f":"'[1]MedianGlobal,Percentis 5-95conv'!A1124","v":0},{"$f":"'[1]MedianGlobal,Percentis 5-95conv'!B1124","v":0}]
[{"$f":"'[1]MedianGlobal,Percentis 5-95conv'!A1125","v":0},{"$f":"'[1]MedianGlobal,Percentis 5-95conv'!B1125","v":0}]
[{"$f":"'[1]MedianGlobal,Percentis 5-95conv'!A1126","v":0},{"$f":"'[1]MedianGlobal,Percentis 5-95conv'!B1126","v":0}]
[{"$f":"'[1]MedianGlobal,Percentis 5-95conv'!A1127","v":0},{"$f":"'[1]MedianGlobal,Percentis 5-95conv'!B1127","v":0}]
[{"$f":"'[1]MedianGlobal,Percentis 5-95conv'!A1128","v":0},{"$f":"'[1]MedianGlobal,Percentis 5-95conv'!B1128","v":0}]
[{"$f":"'[1]MedianGlobal,Percentis 5-95conv'!A1129","v":0},{"$f":"'[1]MedianGlobal,Percentis 5-95conv'!B1129","v":0}]
[{"$f":"'[1]MedianGlobal,Percentis 5-95conv'!A1130","v":0},{"$f":"'[1]MedianGlobal,Percentis 5-95conv'!B1130","v":0}]
[{"$f":"'[1]MedianGlobal,Percentis 5-95conv'!A1131","v":0},{"$f":"'[1]MedianGlobal,Percentis 5-95conv'!B1131","v":0}]
[{"$f":"'[1]MedianGlobal,Percentis 5-95conv'!A1132","v":0},{"$f":"'[1]MedianGlobal,Percentis 5-95conv'!B1132","v":0}]
[{"$f":"'[1]MedianGlobal,Percentis 5-95conv'!A1133","v":0},{"$f":"'[1]MedianGlobal,Percentis 5-95conv'!B1133","v":0}]
[{"$f":"'[1]MedianGlobal,Percentis 5-95conv'!A1134","v":0},{"$f":"'[1]MedianGlobal,Percentis 5-95conv'!B1134","v":0}]
[{"$f":"'[1]MedianGlobal,Percentis 5-95conv'!A1135","v":0},{"$f":"'[1]MedianGlobal,Percentis 5-95conv'!B1135","v":0}]
[{"$f":"'[1]MedianGlobal,Percentis 5-95conv'!A1136","v":0},{"$f":"'[1]MedianGlobal,Percentis 5-95conv'!B1136","v":0}]
[{"$f":"'[1]MedianGlobal,Percentis 5-95conv'!A1137","v":0},{"$f":"'[1]MedianGlobal,Percentis 5-95conv'!B1137","v":0}]
[{"$f":"'[1]MedianGlobal,Percentis 5-95conv'!A1138","v":0},{"$f":"'[1]MedianGlobal,Percentis 5-95conv'!B1138","v":0}]
[{"$f":"'[1]MedianGlobal,Percentis 5-95conv'!A1139","v":0},{"$f":"'[1]MedianGlobal,Percentis 5-95conv'!B1139","v":0}]
[{"$f":"'[1]MedianGlobal,Percentis 5-95conv'!A1140","v":0},{"$f":"'[1]MedianGlobal,Percentis 5-95conv'!B1140","v":0}]
[{"$f":"'[1]MedianGlobal,Percentis 5-95conv'!A1141","v":0},{"$f":"'[1]MedianGlobal,Percentis 5-95conv'!B1141","v":0}]
[{"$f":"'[1]MedianGlobal,Percentis 5-95conv'!A1142","v":0},{"$f":"'[1]MedianGlobal,Percentis 5-95conv'!B1142","v":0}]
[{"$f":"'[1]MedianGlobal,Percentis 5-95conv'!A1143","v":0},{"$f":"'[1]MedianGlobal,Percentis 5-95conv'!B1143","v":0}]
[{"$f":"'[1]MedianGlobal,Percentis 5-95conv'!A1144","v":0},{"$f":"'[1]MedianGlobal,Percentis 5-95conv'!B1144","v":0}]
[{"$f":"'[1]MedianGlobal,Percentis 5-95conv'!A1145","v":0},{"$f":"'[1]MedianGlobal,Percentis 5-95conv'!B1145","v":0}]
[{"$f":"'[1]MedianGlobal,Percentis 5-95conv'!A1146","v":0},{"$f":"'[1]MedianGlobal,Percentis 5-95conv'!B1146","v":0}]
[{"$f":"'[1]MedianGlobal,Percentis 5-95conv'!A1147","v":0},{"$f":"'[1]MedianGlobal,Percentis 5-95conv'!B1147","v":0}]
[{"$f":"'[1]MedianGlobal,Percentis 5-95conv'!A1148","v":0},{"$f":"'[1]MedianGlobal,Percentis 5-95conv'!B1148","v":0}]
[{"$f":"'[1]MedianGlobal,Percentis 5-95conv'!A1149","v":0},{"$f":"'[1]MedianGlobal,Percentis 5-95conv'!B1149","v":0}]
[{"$f":"'[1]MedianGlobal,Percentis 5-95conv'!A1150","v":0},{"$f":"'[1]MedianGlobal,Percentis 5-95conv'!B1150","v":0}]
[{"$f":"'[1]MedianGlobal,Percentis 5-95conv'!A1151","v":0},{"$f":"'[1]MedianGlobal,Percentis 5-95conv'!B1151","v":0}]
[{"$f":"'[1]MedianGlobal,Percentis 5-95conv'!A1152","v":0},{"$f":"'[1]MedianGlobal,Percentis 5-95conv'!B1152","v":0}]
[{"$f":"'[1]MedianGlobal,Percentis 5-95conv'!A1153","v":0},{"$f":"'[1]MedianGlobal,Percentis 5-95conv'!B1153","v":0}]
[{"$f":"'[1]MedianGlobal,Percentis 5-95conv'!A1154","v":0},{"$f":"'[1]MedianGlobal,Percentis 5-95conv'!B1154","v":0}]
[{"$f":"'[1]MedianGlobal,Percentis 5-95conv'!A1155","v":0},{"$f":"'[1]MedianGlobal,Percentis 5-95conv'!B1155","v":0}]
[{"$f":"'[1]MedianGlobal,Percentis 5-95conv'!A1156","v":0},{"$f":"'[1]MedianGlobal,Percentis 5-95conv'!B1156","v":0}]
[{"$f":"'[1]MedianGlobal,Percentis 5-95conv'!A1157","v":0},{"$f":"'[1]MedianGlobal,Percentis 5-95conv'!B1157","v":0}]
[{"$f":"'[1]MedianGlobal,Percentis 5-95conv'!A1158","v":0},{"$f":"'[1]MedianGlobal,Percentis 5-95conv'!B1158","v":0}]
[{"$f":"'[1]MedianGlobal,Percentis 5-95conv'!A1159","v":0},{"$f":"'[1]MedianGlobal,Percentis 5-95conv'!B1159","v":0}]
[{"$f":"'[1]MedianGlobal,Percentis 5-95conv'!A1160","v":0},{"$f":"'[1]MedianGlobal,Percentis 5-95conv'!B1160","v":0}]
[{"$f":"'[1]MedianGlobal,Percentis 5-95conv'!A1161","v":0},{"$f":"'[1]MedianGlobal,Percentis 5-95conv'!B1161","v":0}]
[{"$f":"'[1]MedianGlobal,Percentis 5-95conv'!A1162","v":0},{"$f":"'[1]MedianGlobal,Percentis 5-95conv'!B1162","v":0}]
[{"$f":"'[1]MedianGlobal,Percentis 5-95conv'!A1163","v":0},{"$f":"'[1]MedianGlobal,Percentis 5-95conv'!B1163","v":0}]
[{"$f":"'[1]MedianGlobal,Percentis 5-95conv'!A1164","v":0},{"$f":"'[1]MedianGlobal,Percentis 5-95conv'!B1164","v":0}]
[{"$f":"'[1]MedianGlobal,Percentis 5-95conv'!A1165","v":0},{"$f":"'[1]MedianGlobal,Percentis 5-95conv'!B1165","v":0}]
[{"$f":"'[1]MedianGlobal,Percentis 5-95conv'!A1166","v":0},{"$f":"'[1]MedianGlobal,Percentis 5-95conv'!B1166","v":0}]
[{"$f":"'[1]MedianGlobal,Percentis 5-95conv'!A1167","v":0},{"$f":"'[1]MedianGlobal,Percentis 5-95conv'!B1167","v":0}]
[{"$f":"'[1]MedianGlobal,Percentis 5-95conv'!A1168","v":0},{"$f":"'[1]MedianGlobal,Percentis 5-95conv'!B1168","v":0}]
[{"$f":"'[1]MedianGlobal,Percentis 5-95conv'!A1169","v":0},{"$f":"'[1]MedianGlobal,Percentis 5-95conv'!B1169","v":0}]
[{"$f":"'[1]MedianGlobal,Percentis 5-95conv'!A1170","v":0},{"$f":"'[1]MedianGlobal,Percentis 5-95conv'!B1170","v":0}]
[{"$f":"'[1]MedianGlobal,Percentis 5-95conv'!A1171","v":0},{"$f":"'[1]MedianGlobal,Percentis 5-95conv'!B1171","v":0}]
[{"$f":"'[1]MedianGlobal,Percentis 5-95conv'!A1172","v":0},{"$f":"'[1]MedianGlobal,Percentis 5-95conv'!B1172","v":0}]
[{"$f":"'[1]MedianGlobal,Percentis 5-95conv'!A1173","v":0},{"$f":"'[1]MedianGlobal,Percentis 5-95conv'!B1173","v":0}]
[{"$f":"'[1]MedianGlobal,Percentis 5-95conv'!A1174","v":0},{"$f":"'[1]MedianGlobal,Percentis 5-95conv'!B1174","v":0}]
[{"$f":"'[1]MedianGlobal,Percentis 5-95conv'!A1175","v":0},{"$f":"'[1]MedianGlobal,Percentis 5-95conv'!B1175","v":0}]
[{"$f":"'[1]MedianGlobal,Percentis 5-95conv'!A1176","v":0},{"$f":"'[1]MedianGlobal,Percentis 5-95conv'!B1176","v":0}]
[{"$f":"'[1]MedianGlobal,Percentis 5-95conv'!A1177","v":0},{"$f":"'[1]MedianGlobal,Percentis 5-95conv'!B1177","v":0}]
[{"$f":"'[1]MedianGlobal,Percentis 5-95conv'!A1178","v":0},{"$f":"'[1]MedianGlobal,Percentis 5-95conv'!B1178","v":0}]
[{"$f":"'[1]MedianGlobal,Percentis 5-95conv'!A1179","v":0},{"$f":"'[1]MedianGlobal,Percentis 5-95conv'!B1179","v":0}]
[{"$f":"'[1]MedianGlobal,Percentis 5-95conv'!A1180","v":0},{"$f":"'[1]MedianGlobal,Percentis 5-95conv'!B1180","v":0}]
[{"$f":"'[1]MedianGlobal,Percentis 5-95conv'!A1181","v":0},{"$f":"'[1]MedianGlobal,Percentis 5-95conv'!B1181","v":0}]
[{"$f":"'[1]MedianGlobal,Percentis 5-95conv'!A1182","v":0},{"$f":"'[1]MedianGlobal,Percentis 5-95conv'!B1182","v":0}]
[{"$f":"'[1]MedianGlobal,Percentis 5-95conv'!A1183","v":0},{"$f":"'[1]MedianGlobal,Percentis 5-95conv'!B1183","v":0}]
[{"$f":"'[1]MedianGlobal,Percentis 5-95conv'!A1184","v":0},{"$f":"'[1]MedianGlobal,Percentis 5-95conv'!B1184","v":0}]
[{"$f":"'[1]MedianGlobal,Percentis 5-95conv'!A1185","v":0},{"$f":"'[1]MedianGlobal,Percentis 5-95conv'!B1185","v":0}]
[{"$f":"'[1]MedianGlobal,Percentis 5-95conv'!A1186","v":0},{"$f":"'[1]MedianGlobal,Percentis 5-95conv'!B1186","v":0}]
[{"$f":"'[1]MedianGlobal,Percentis 5-95conv'!A1187","v":0},{"$f":"'[1]MedianGlobal,Percentis 5-95conv'!B1187","v":0}]
[{"$f":"'[1]MedianGlobal,Percentis 5-95conv'!A1188","v":0},{"$f":"'[1]MedianGlobal,Percentis 5-95conv'!B1188","v":0}]
[{"$f":"'[1]MedianGlobal,Percentis 5-95conv'!A1189","v":0},{"$f":"'[1]MedianGlobal,Percentis 5-95conv'!B1189","v":0}]
[{"$f":"'[1]MedianGlobal,Percentis 5-95conv'!A1190","v":0},{"$f":"'[1]MedianGlobal,Percentis 5-95conv'!B1190","v":0}]
[{"$f":"'[1]MedianGlobal,Percentis 5-95conv'!A1191","v":0},{"$f":"'[1]MedianGlobal,Percentis 5-95conv'!B1191","v":0}]
[{"$f":"'[1]MedianGlobal,Percentis 5-95conv'!A1192","v":0},{"$f":"'[1]MedianGlobal,Percentis 5-95conv'!B1192","v":0}]
[{"$f":"'[1]MedianGlobal,Percentis 5-95conv'!A1193","v":0},{"$f":"'[1]MedianGlobal,Percentis 5-95conv'!B1193","v":0}]
[{"$f":"'[1]MedianGlobal,Percentis 5-95conv'!A1194","v":0},{"$f":"'[1]MedianGlobal,Percentis 5-95conv'!B1194","v":0}]
[{"$f":"'[1]MedianGlobal,Percentis 5-95conv'!A1195","v":0},{"$f":"'[1]MedianGlobal,Percentis 5-95conv'!B1195","v":0}]
[{"$f":"'[1]MedianGlobal,Percentis 5-95conv'!A1196","v":0},{"$f":"'[1]MedianGlobal,Percentis 5-95conv'!B1196","v":0}]
[{"$f":"'[1]MedianGlobal,Percentis 5-95conv'!A1197","v":0},{"$f":"'[1]MedianGlobal,Percentis 5-95conv'!B1197","v":0}]
[{"$f":"'[1]MedianGlobal,Percentis 5-95conv'!A1198","v":0},{"$f":"'[1]MedianGlobal,Percentis 5-95conv'!B1198","v":0}]
[{"$f":"'[1]MedianGlobal,Percentis 5-95conv'!A1199","v":0},{"$f":"'[1]MedianGlobal,Percentis 5-95conv'!B1199","v":0}]
[{"$f":"'[1]MedianGlobal,Percentis 5-95conv'!A1200","v":0},{"$f":"'[1]MedianGlobal,Percentis 5-95conv'!B1200","v":0}]
[{"$f":"'[1]MedianGlobal,Percentis 5-95conv'!A1201","v":0},{"$f":"'[1]MedianGlobal,Percentis 5-95conv'!B1201","v":0}]
[{"$f":"'[1]MedianGlobal,Percentis 5-95conv'!A1202","v":0},{"$f":"'[1]MedianGlobal,Percentis 5-95conv'!B1202","v":0}]
[{"$f":"'[1]MedianGlobal,Percentis 5-95conv'!A1203","v":0},{"$f":"'[1]MedianGlobal,Percentis 5-95conv'!B1203","v":0}]
[{"$f":"'[1]MedianGlobal,Percentis 5-95conv'!A1204","v":0},{"$f":"'[1]MedianGlobal,Percentis 5-95conv'!B1204","v":0}]
[{"$f":"'[1]MedianGlobal,Percentis 5-95conv'!A1205","v":0},{"$f":"'[1]MedianGlobal,Percentis 5-95conv'!B1205","v":0}]
[{"$f":"'[1]MedianGlobal,Percentis 5-95conv'!A1206","v":0},{"$f":"'[1]MedianGlobal,Percentis 5-95conv'!B1206","v":0}]
[{"$f":"'[1]MedianGlobal,Percentis 5-95conv'!A1207","v":0},{"$f":"'[1]MedianGlobal,Percentis 5-95conv'!B1207","v":0}]
[{"$f":"'[1]MedianGlobal,Percentis 5-95conv'!A1208","v":0},{"$f":"'[1]MedianGlobal,Percentis 5-95conv'!B1208","v":0}]
[{"$f":"'[1]MedianGlobal,Percentis 5-95conv'!A1209","v":0},{"$f":"'[1]MedianGlobal,Percentis 5-95conv'!B1209","v":0}]
[{"$f":"'[1]MedianGlobal,Percentis 5-95conv'!A1210","v":0},{"$f":"'[1]MedianGlobal,Percentis 5-95conv'!B1210","v":0}]
[{"$f":"'[1]MedianGlobal,Percentis 5-95conv'!A1211","v":0},{"$f":"'[1]MedianGlobal,Percentis 5-95conv'!B1211","v":0}]
[{"$f":"'[1]MedianGlobal,Percentis 5-95conv'!A1212","v":0},{"$f":"'[1]MedianGlobal,Percentis 5-95conv'!B1212","v":0}]
[{"$f":"'[1]MedianGlobal,Percentis 5-95conv'!A1213","v":0},{"$f":"'[1]MedianGlobal,Percentis 5-95conv'!B1213","v":0}]
[{"$f":"'[1]MedianGlobal,Percentis 5-95conv'!A1214","v":0},{"$f":"'[1]MedianGlobal,Percentis 5-95conv'!B1214","v":0}]
[{"$f":"'[1]MedianGlobal,Percentis 5-95conv'!A1215","v":0},{"$f":"'[1]MedianGlobal,Percentis 5-95conv'!B1215","v":0}]
[{"$f":"'[1]MedianGlobal,Percentis 5-95conv'!A1216","v":0},{"$f":"'[1]MedianGlobal,Percentis 5-95conv'!B1216","v":0}]
[{"$f":"'[1]MedianGlobal,Percentis 5-95conv'!A1217","v":0},{"$f":"'[1]MedianGlobal,Percentis 5-95conv'!B1217","v":0}]
[{"$f":"'[1]MedianGlobal,Percentis 5-95conv'!A1218","v":0},{"$f":"'[1]MedianGlobal,Percentis 5-95conv'!B1218","v":0}]
[{"$f":"'[1]MedianGlobal,Percentis 5-95conv'!A1219","v":0},{"$f":"'[1]MedianGlobal,Percentis 5-95conv'!B1219","v":0}]
[{"$f":"'[1]MedianGlobal,Percentis 5-95conv'!A1220","v":0},{"$f":"'[1]MedianGlobal,Percentis 5-95conv'!B1220","v":0}]
[{"$f":"'[1]MedianGlobal,Percentis 5-95conv'!A1221","v":0},{"$f":"'[1]MedianGlobal,Percentis 5-95conv'!B1221","v":0}]
[{"$f":"'[1]MedianGlobal,Percentis 5-95conv'!A1222","v":0},{"$f":"'[1]MedianGlobal,Percentis 5-95conv'!B1222","v":0}]
[{"$f":"'[1]MedianGlobal,Percentis 5-95conv'!A1223","v":0},{"$f":"'[1]MedianGlobal,Percentis 5-95conv'!B1223","v":0}]
[{"$f":"'[1]MedianGlobal,Percentis 5-95conv'!A1224","v":0},{"$f":"'[1]MedianGlobal,Percentis 5-95conv'!B1224","v":0}]
[{"$f":"'[1]MedianGlobal,Percentis 5-95conv'!A1225","v":0},{"$f":"'[1]MedianGlobal,Percentis 5-95conv'!B1225","v":0}]
[{"$f":"'[1]MedianGlobal,Percentis 5-95conv'!A1226","v":0},{"$f":"'[1]MedianGlobal,Percentis 5-95conv'!B1226","v":0}]
[{"$f":"'[1]MedianGlobal,Percentis 5-95conv'!A1227","v":0},{"$f":"'[1]MedianGlobal,Percentis 5-95conv'!B1227","v":0}]
[{"$f":"'[1]MedianGlobal,Percentis 5-95conv'!A1228","v":0},{"$f":"'[1]MedianGlobal,Percentis 5-95conv'!B1228","v":0}]
[{"$f":"'[1]MedianGlobal,Percentis 5-95conv'!A1229","v":0},{"$f":"'[1]MedianGlobal,Percentis 5-95conv'!B1229","v":0}]
[{"$f":"'[1]MedianGlobal,Percentis 5-95conv'!A1230","v":0},{"$f":"'[1]MedianGlobal,Percentis 5-95conv'!B1230","v":0}]
[{"$f":"'[1]MedianGlobal,Percentis 5-95conv'!A1231","v":0},{"$f":"'[1]MedianGlobal,Percentis 5-95conv'!B1231","v":0}]
[{"$f":"'[1]MedianGlobal,Percentis 5-95conv'!A1232","v":0},{"$f":"'[1]MedianGlobal,Percentis 5-95conv'!B1232","v":0}]
[{"$f":"'[1]MedianGlobal,Percentis 5-95conv'!A1233","v":0},{"$f":"'[1]MedianGlobal,Percentis 5-95conv'!B1233","v":0}]
[{"$f":"'[1]MedianGlobal,Percentis 5-95conv'!A1234","v":0},{"$f":"'[1]MedianGlobal,Percentis 5-95conv'!B1234","v":0}]
[{"$f":"'[1]MedianGlobal,Percentis 5-95conv'!A1235","v":0},{"$f":"'[1]MedianGlobal,Percentis 5-95conv'!B1235","v":0}]
[{"$f":"'[1]MedianGlobal,Percentis 5-95conv'!A1236","v":0},{"$f":"'[1]MedianGlobal,Percentis 5-95conv'!B1236","v":0}]
[{"$f":"'[1]MedianGlobal,Percentis 5-95conv'!A1237","v":0},{"$f":"'[1]MedianGlobal,Percentis 5-95conv'!B1237","v":0}]
[{"$f":"'[1]MedianGlobal,Percentis 5-95conv'!A1238","v":0},{"$f":"'[1]MedianGlobal,Percentis 5-95conv'!B1238","v":0}]
[{"$f":"'[1]MedianGlobal,Percentis 5-95conv'!A1239","v":0},{"$f":"'[1]MedianGlobal,Percentis 5-95conv'!B1239","v":0}]
[{"$f":"'[1]MedianGlobal,Percentis 5-95conv'!A1240","v":0},{"$f":"'[1]MedianGlobal,Percentis 5-95conv'!B1240","v":0}]
[{"$f":"'[1]MedianGlobal,Percentis 5-95conv'!A1241","v":0},{"$f":"'[1]MedianGlobal,Percentis 5-95conv'!B1241","v":0}]
[{"$f":"'[1]MedianGlobal,Percentis 5-95conv'!A1242","v":0},{"$f":"'[1]MedianGlobal,Percentis 5-95conv'!B1242","v":0}]
[{"$f":"'[1]MedianGlobal,Percentis 5-95conv'!A1243","v":0},{"$f":"'[1]MedianGlobal,Percentis 5-95conv'!B1243","v":0}]
[{"$f":"'[1]MedianGlobal,Percentis 5-95conv'!A1244","v":0},{"$f":"'[1]MedianGlobal,Percentis 5-95conv'!B1244","v":0}]
[{"$f":"'[1]MedianGlobal,Percentis 5-95conv'!A1245","v":0},{"$f":"'[1]MedianGlobal,Percentis 5-95conv'!B1245","v":0}]
[{"$f":"'[1]MedianGlobal,Percentis 5-95conv'!A1246","v":0},{"$f":"'[1]MedianGlobal,Percentis 5-95conv'!B1246","v":0}]
[{"$f":"'[1]MedianGlobal,Percentis 5-95conv'!A1247","v":0},{"$f":"'[1]MedianGlobal,Percentis 5-95conv'!B1247","v":0}]
[{"$f":"'[1]MedianGlobal,Percentis 5-95conv'!A1248","v":0},{"$f":"'[1]MedianGlobal,Percentis 5-95conv'!B1248","v":0}]
[{"$f":"'[1]MedianGlobal,Percentis 5-95conv'!A1249","v":0},{"$f":"'[1]MedianGlobal,Percentis 5-95conv'!B1249","v":0}]
[{"$f":"'[1]MedianGlobal,Percentis 5-95conv'!A1250","v":0},{"$f":"'[1]MedianGlobal,Percentis 5-95conv'!B1250","v":0}]
[{"$f":"'[1]MedianGlobal,Percentis 5-95conv'!A1251","v":0},{"$f":"'[1]MedianGlobal,Percentis 5-95conv'!B1251","v":0}]
[{"$f":"'[1]MedianGlobal,Percentis 5-95conv'!A1252","v":0},{"$f":"'[1]MedianGlobal,Percentis 5-95conv'!B1252","v":0}]
[{"$f":"'[1]MedianGlobal,Percentis 5-95conv'!A1253","v":0},{"$f":"'[1]MedianGlobal,Percentis 5-95conv'!B1253","v":0}]
[{"$f":"'[1]MedianGlobal,Percentis 5-95conv'!A1254","v":0},{"$f":"'[1]MedianGlobal,Percentis 5-95conv'!B1254","v":0}]
[{"$f":"'[1]MedianGlobal,Percentis 5-95conv'!A1255","v":0},{"$f":"'[1]MedianGlobal,Percentis 5-95conv'!B1255","v":0}]
[{"$f":"'[1]MedianGlobal,Percentis 5-95conv'!A1256","v":0},{"$f":"'[1]MedianGlobal,Percentis 5-95conv'!B1256","v":0}]
[{"$f":"'[1]MedianGlobal,Percentis 5-95conv'!A1257","v":0},{"$f":"'[1]MedianGlobal,Percentis 5-95conv'!B1257","v":0}]
[{"$f":"'[1]MedianGlobal,Percentis 5-95conv'!A1258","v":0},{"$f":"'[1]MedianGlobal,Percentis 5-95conv'!B1258","v":0}]
[{"$f":"'[1]MedianGlobal,Percentis 5-95conv'!A1259","v":0},{"$f":"'[1]MedianGlobal,Percentis 5-95conv'!B1259","v":0}]
[{"$f":"'[1]MedianGlobal,Percentis 5-95conv'!A1260","v":0},{"$f":"'[1]MedianGlobal,Percentis 5-95conv'!B1260","v":0}]
[{"$f":"'[1]MedianGlobal,Percentis 5-95conv'!A1261","v":0},{"$f":"'[1]MedianGlobal,Percentis 5-95conv'!B1261","v":0}]
[{"$f":"'[1]MedianGlobal,Percentis 5-95conv'!A1262","v":0},{"$f":"'[1]MedianGlobal,Percentis 5-95conv'!B1262","v":0}]
[{"$f":"'[1]MedianGlobal,Percentis 5-95conv'!A1263","v":0},{"$f":"'[1]MedianGlobal,Percentis 5-95conv'!B1263","v":0}]
[{"$f":"'[1]MedianGlobal,Percentis 5-95conv'!A1264","v":0},{"$f":"'[1]MedianGlobal,Percentis 5-95conv'!B1264","v":0}]
[{"$f":"'[1]MedianGlobal,Percentis 5-95conv'!A1265","v":0},{"$f":"'[1]MedianGlobal,Percentis 5-95conv'!B1265","v":0}]
[{"$f":"'[1]MedianGlobal,Percentis 5-95conv'!A1266","v":0},{"$f":"'[1]MedianGlobal,Percentis 5-95conv'!B1266","v":0}]
[{"$f":"'[1]MedianGlobal,Percentis 5-95conv'!A1267","v":0},{"$f":"'[1]MedianGlobal,Percentis 5-95conv'!B1267","v":0}]
[{"$f":"'[1]MedianGlobal,Percentis 5-95conv'!A1268","v":0},{"$f":"'[1]MedianGlobal,Percentis 5-95conv'!B1268","v":0}]
[{"$f":"'[1]MedianGlobal,Percentis 5-95conv'!A1269","v":0},{"$f":"'[1]MedianGlobal,Percentis 5-95conv'!B1269","v":0}]
[{"$f":"'[1]MedianGlobal,Percentis 5-95conv'!A1270","v":0},{"$f":"'[1]MedianGlobal,Percentis 5-95conv'!B1270","v":0}]
[{"$f":"'[1]MedianGlobal,Percentis 5-95conv'!A1271","v":0},{"$f":"'[1]MedianGlobal,Percentis 5-95conv'!B1271","v":0}]
[{"$f":"'[1]MedianGlobal,Percentis 5-95conv'!A1272","v":0},{"$f":"'[1]MedianGlobal,Percentis 5-95conv'!B1272","v":0}]
[{"$f":"'[1]MedianGlobal,Percentis 5-95conv'!A1273","v":0},{"$f":"'[1]MedianGlobal,Percentis 5-95conv'!B1273","v":0}]
[{"$f":"'[1]MedianGlobal,Percentis 5-95conv'!A1274","v":0},{"$f":"'[1]MedianGlobal,Percentis 5-95conv'!B1274","v":0}]
[{"$f":"'[1]MedianGlobal,Percentis 5-95conv'!A1275","v":0},{"$f":"'[1]MedianGlobal,Percentis 5-95conv'!B1275","v":0}]
[{"$f":"'[1]MedianGlobal,Percentis 5-95conv'!A1276","v":0},{"$f":"'[1]MedianGlobal,Percentis 5-95conv'!B1276","v":0}]
[{"$f":"'[1]MedianGlobal,Percentis 5-95conv'!A1277","v":0},{"$f":"'[1]MedianGlobal,Percentis 5-95conv'!B1277","v":0}]
[{"$f":"'[1]MedianGlobal,Percentis 5-95conv'!A1278","v":0},{"$f":"'[1]MedianGlobal,Percentis 5-95conv'!B1278","v":0}]
[{"$f":"'[1]MedianGlobal,Percentis 5-95conv'!A1279","v":0},{"$f":"'[1]MedianGlobal,Percentis 5-95conv'!B1279","v":0}]
[{"$f":"'[1]MedianGlobal,Percentis 5-95conv'!A1280","v":0},{"$f":"'[1]MedianGlobal,Percentis 5-95conv'!B1280","v":0}]
[{"$f":"'[1]MedianGlobal,Percentis 5-95conv'!A1281","v":0},{"$f":"'[1]MedianGlobal,Percentis 5-95conv'!B1281","v":0}]
[{"$f":"'[1]MedianGlobal,Percentis 5-95conv'!A1282","v":0},{"$f":"'[1]MedianGlobal,Percentis 5-95conv'!B1282","v":0}]
[{"$f":"'[1]MedianGlobal,Percentis 5-95conv'!A1283","v":0},{"$f":"'[1]MedianGlobal,Percentis 5-95conv'!B1283","v":0}]
[{"$f":"'[1]MedianGlobal,Percentis 5-95conv'!A1284","v":0},{"$f":"'[1]MedianGlobal,Percentis 5-95conv'!B1284","v":0}]
[{"$f":"'[1]MedianGlobal,Percentis 5-95conv'!A1285","v":0},{"$f":"'[1]MedianGlobal,Percentis 5-95conv'!B1285","v":0}]
[{"$f":"'[1]MedianGlobal,Percentis 5-95conv'!A1286","v":0},{"$f":"'[1]MedianGlobal,Percentis 5-95conv'!B1286","v":0}]
[{"$f":"'[1]MedianGlobal,Percentis 5-95conv'!A1287","v":0},{"$f":"'[1]MedianGlobal,Percentis 5-95conv'!B1287","v":0}]
[{"$f":"'[1]MedianGlobal,Percentis 5-95conv'!A1288","v":0},{"$f":"'[1]MedianGlobal,Percentis 5-95conv'!B1288","v":0}]
[{"$f":"'[1]MedianGlobal,Percentis 5-95conv'!A1289","v":0},{"$f":"'[1]MedianGlobal,Percentis 5-95conv'!B1289","v":0}]
[{"$f":"'[1]MedianGlobal,Percentis 5-95conv'!A1290","v":0},{"$f":"'[1]MedianGlobal,Percentis 5-95conv'!B1290","v":0}]
[{"$f":"'[1]MedianGlobal,Percentis 5-95conv'!A1291","v":0},{"$f":"'[1]MedianGlobal,Percentis 5-95conv'!B1291","v":0}]
[{"$f":"'[1]MedianGlobal,Percentis 5-95conv'!A1292","v":0},{"$f":"'[1]MedianGlobal,Percentis 5-95conv'!B1292","v":0}]
[{"$f":"'[1]MedianGlobal,Percentis 5-95conv'!A1293","v":0},{"$f":"'[1]MedianGlobal,Percentis 5-95conv'!B1293","v":0}]
[{"$f":"'[1]MedianGlobal,Percentis 5-95conv'!A1294","v":0},{"$f":"'[1]MedianGlobal,Percentis 5-95conv'!B1294","v":0}]
[{"$f":"'[1]MedianGlobal,Percentis 5-95conv'!A1295","v":0},{"$f":"'[1]MedianGlobal,Percentis 5-95conv'!B1295","v":0}]
[{"$f":"'[1]MedianGlobal,Percentis 5-95conv'!A1296","v":0},{"$f":"'[1]MedianGlobal,Percentis 5-95conv'!B1296","v":0}]
[{"$f":"'[1]MedianGlobal,Percentis 5-95conv'!A1297","v":0},{"$f":"'[1]MedianGlobal,Percentis 5-95conv'!B1297","v":0}]
[{"$f":"'[1]MedianGlobal,Percentis 5-95conv'!A1298","v":0},{"$f":"'[1]MedianGlobal,Percentis 5-95conv'!B1298","v":0}]
[{"$f":"'[1]MedianGlobal,Percentis 5-95conv'!A1299","v":0},{"$f":"'[1]MedianGlobal,Percentis 5-95conv'!B1299","v":0}]
[{"$f":"'[1]MedianGlobal,Percentis 5-95conv'!A1300","v":0},{"$f":"'[1]MedianGlobal,Percentis 5-95conv'!B1300","v":0}]
[{"$f":"'[1]MedianGlobal,Percentis 5-95conv'!A1301","v":0},{"$f":"'[1]MedianGlobal,Percentis 5-95conv'!B1301","v":0}]
[{"$f":"'[1]MedianGlobal,Percentis 5-95conv'!A1302","v":0},{"$f":"'[1]MedianGlobal,Percentis 5-95conv'!B1302","v":0}]
[{"$f":"'[1]MedianGlobal,Percentis 5-95conv'!A1303","v":0},{"$f":"'[1]MedianGlobal,Percentis 5-95conv'!B1303","v":0}]
[{"$f":"'[1]MedianGlobal,Percentis 5-95conv'!A1304","v":0},{"$f":"'[1]MedianGlobal,Percentis 5-95conv'!B1304","v":0}]
[{"$f":"'[1]MedianGlobal,Percentis 5-95conv'!A1305","v":0},{"$f":"'[1]MedianGlobal,Percentis 5-95conv'!B1305","v":0}]
[{"$f":"'[1]MedianGlobal,Percentis 5-95conv'!A1306","v":0},{"$f":"'[1]MedianGlobal,Percentis 5-95conv'!B1306","v":0}]
[{"$f":"'[1]MedianGlobal,Percentis 5-95conv'!A1307","v":0},{"$f":"'[1]MedianGlobal,Percentis 5-95conv'!B1307","v":0}]
[{"$f":"'[1]MedianGlobal,Percentis 5-95conv'!A1308","v":0},{"$f":"'[1]MedianGlobal,Percentis 5-95conv'!B1308","v":0}]
[{"$f":"'[1]MedianGlobal,Percentis 5-95conv'!A1309","v":0},{"$f":"'[1]MedianGlobal,Percentis 5-95conv'!B1309","v":0}]
[{"$f":"'[1]MedianGlobal,Percentis 5-95conv'!A1310","v":0},{"$f":"'[1]MedianGlobal,Percentis 5-95conv'!B1310","v":0}]
[{"$f":"'[1]MedianGlobal,Percentis 5-95conv'!A1311","v":0},{"$f":"'[1]MedianGlobal,Percentis 5-95conv'!B1311","v":0}]
[{"$f":"'[1]MedianGlobal,Percentis 5-95conv'!A1312","v":0},{"$f":"'[1]MedianGlobal,Percentis 5-95conv'!B1312","v":0}]
[{"$f":"'[1]MedianGlobal,Percentis 5-95conv'!A1313","v":0},{"$f":"'[1]MedianGlobal,Percentis 5-95conv'!B1313","v":0}]
[{"$f":"'[1]MedianGlobal,Percentis 5-95conv'!A1314","v":0},{"$f":"'[1]MedianGlobal,Percentis 5-95conv'!B1314","v":0}]
[{"$f":"'[1]MedianGlobal,Percentis 5-95conv'!A1315","v":0},{"$f":"'[1]MedianGlobal,Percentis 5-95conv'!B1315","v":0}]
[{"$f":"'[1]MedianGlobal,Percentis 5-95conv'!A1316","v":0},{"$f":"'[1]MedianGlobal,Percentis 5-95conv'!B1316","v":0}]
[{"$f":"'[1]MedianGlobal,Percentis 5-95conv'!A1317","v":0},{"$f":"'[1]MedianGlobal,Percentis 5-95conv'!B1317","v":0}]
[{"$f":"'[1]MedianGlobal,Percentis 5-95conv'!A1318","v":0},{"$f":"'[1]MedianGlobal,Percentis 5-95conv'!B1318","v":0}]
[{"$f":"'[1]MedianGlobal,Percentis 5-95conv'!A1319","v":0},{"$f":"'[1]MedianGlobal,Percentis 5-95conv'!B1319","v":0}]
[{"$f":"'[1]MedianGlobal,Percentis 5-95conv'!A1320","v":0},{"$f":"'[1]MedianGlobal,Percentis 5-95conv'!B1320","v":0}]
[{"$f":"'[1]MedianGlobal,Percentis 5-95conv'!A1321","v":0},{"$f":"'[1]MedianGlobal,Percentis 5-95conv'!B1321","v":0}]
[{"$f":"'[1]MedianGlobal,Percentis 5-95conv'!A1322","v":0},{"$f":"'[1]MedianGlobal,Percentis 5-95conv'!B1322","v":0}]
[{"$f":"'[1]MedianGlobal,Percentis 5-95conv'!A1323","v":0},{"$f":"'[1]MedianGlobal,Percentis 5-95conv'!B1323","v":0}]
[{"$f":"'[1]MedianGlobal,Percentis 5-95conv'!A1324","v":0},{"$f":"'[1]MedianGlobal,Percentis 5-95conv'!B1324","v":0}]
[{"$f":"'[1]MedianGlobal,Percentis 5-95conv'!A1325","v":0},{"$f":"'[1]MedianGlobal,Percentis 5-95conv'!B1325","v":0}]
[{"$f":"'[1]MedianGlobal,Percentis 5-95conv'!A1326","v":0},{"$f":"'[1]MedianGlobal,Percentis 5-95conv'!B1326","v":0}]
[{"$f":"'[1]MedianGlobal,Percentis 5-95conv'!A1327","v":0},{"$f":"'[1]MedianGlobal,Percentis 5-95conv'!B1327","v":0}]
[{"$f":"'[1]MedianGlobal,Percentis 5-95conv'!A1328","v":0},{"$f":"'[1]MedianGlobal,Percentis 5-95conv'!B1328","v":0}]
[{"$f":"'[1]MedianGlobal,Percentis 5-95conv'!A1329","v":0},{"$f":"'[1]MedianGlobal,Percentis 5-95conv'!B1329","v":0}]
[{"$f":"'[1]MedianGlobal,Percentis 5-95conv'!A1330","v":0},{"$f":"'[1]MedianGlobal,Percentis 5-95conv'!B1330","v":0}]
[{"$f":"'[1]MedianGlobal,Percentis 5-95conv'!A1331","v":0},{"$f":"'[1]MedianGlobal,Percentis 5-95conv'!B1331","v":0}]
[{"$f":"'[1]MedianGlobal,Percentis 5-95conv'!A1332","v":0},{"$f":"'[1]MedianGlobal,Percentis 5-95conv'!B1332","v":0}]
[{"$f":"'[1]MedianGlobal,Percentis 5-95conv'!A1333","v":0},{"$f":"'[1]MedianGlobal,Percentis 5-95conv'!B1333","v":0}]
[{"$f":"'[1]MedianGlobal,Percentis 5-95conv'!A1334","v":0},{"$f":"'[1]MedianGlobal,Percentis 5-95conv'!B1334","v":0}]
[{"$f":"'[1]MedianGlobal,Percentis 5-95conv'!A1335","v":0},{"$f":"'[1]MedianGlobal,Percentis 5-95conv'!B1335","v":0}]
[{"$f":"'[1]MedianGlobal,Percentis 5-95conv'!A1336","v":0},{"$f":"'[1]MedianGlobal,Percentis 5-95conv'!B1336","v":0}]
[{"$f":"'[1]MedianGlobal,Percentis 5-95conv'!A1337","v":0},{"$f":"'[1]MedianGlobal,Percentis 5-95conv'!B1337","v":0}]
[{"$f":"'[1]MedianGlobal,Percentis 5-95conv'!A1338","v":0},{"$f":"'[1]MedianGlobal,Percentis 5-95conv'!B1338","v":0}]
[{"$f":"'[1]MedianGlobal,Percentis 5-95conv'!A1339","v":0},{"$f":"'[1]MedianGlobal,Percentis 5-95conv'!B1339","v":0}]
[{"$f":"'[1]MedianGlobal,Percentis 5-95conv'!A1340","v":0},{"$f":"'[1]MedianGlobal,Percentis 5-95conv'!B1340","v":0}]
[{"$f":"'[1]MedianGlobal,Percentis 5-95conv'!A1341","v":0},{"$f":"'[1]MedianGlobal,Percentis 5-95conv'!B1341","v":0}]
[{"$f":"'[1]MedianGlobal,Percentis 5-95conv'!A1342","v":0},{"$f":"'[1]MedianGlobal,Percentis 5-95conv'!B1342","v":0}]
[{"$f":"'[1]MedianGlobal,Percentis 5-95conv'!A1343","v":0},{"$f":"'[1]MedianGlobal,Percentis 5-95conv'!B1343","v":0}]
[{"$f":"'[1]MedianGlobal,Percentis 5-95conv'!A1344","v":0},{"$f":"'[1]MedianGlobal,Percentis 5-95conv'!B1344","v":0}]
[{"$f":"'[1]MedianGlobal,Percentis 5-95conv'!A1345","v":0},{"$f":"'[1]MedianGlobal,Percentis 5-95conv'!B1345","v":0}]
[{"$f":"'[1]MedianGlobal,Percentis 5-95conv'!A1346","v":0},{"$f":"'[1]MedianGlobal,Percentis 5-95conv'!B1346","v":0}]
[{"$f":"'[1]MedianGlobal,Percentis 5-95conv'!A1347","v":0},{"$f":"'[1]MedianGlobal,Percentis 5-95conv'!B1347","v":0}]
[{"$f":"'[1]MedianGlobal,Percentis 5-95conv'!A1348","v":0},{"$f":"'[1]MedianGlobal,Percentis 5-95conv'!B1348","v":0}]
[{"$f":"'[1]MedianGlobal,Percentis 5-95conv'!A1349","v":0},{"$f":"'[1]MedianGlobal,Percentis 5-95conv'!B1349","v":0}]
[{"$f":"'[1]MedianGlobal,Percentis 5-95conv'!A1350","v":0},{"$f":"'[1]MedianGlobal,Percentis 5-95conv'!B1350","v":0}]
[{"$f":"'[1]MedianGlobal,Percentis 5-95conv'!A1351","v":0},{"$f":"'[1]MedianGlobal,Percentis 5-95conv'!B1351","v":0}]
[{"$f":"'[1]MedianGlobal,Percentis 5-95conv'!A1352","v":0},{"$f":"'[1]MedianGlobal,Percentis 5-95conv'!B1352","v":0}]
[{"$f":"'[1]MedianGlobal,Percentis 5-95conv'!A1353","v":0},{"$f":"'[1]MedianGlobal,Percentis 5-95conv'!B1353","v":0}]
[{"$f":"'[1]MedianGlobal,Percentis 5-95conv'!A1354","v":0},{"$f":"'[1]MedianGlobal,Percentis 5-95conv'!B1354","v":0}]
[{"$f":"'[1]MedianGlobal,Percentis 5-95conv'!A1355","v":0},{"$f":"'[1]MedianGlobal,Percentis 5-95conv'!B1355","v":0}]
[{"$f":"'[1]MedianGlobal,Percentis 5-95conv'!A1356","v":0},{"$f":"'[1]MedianGlobal,Percentis 5-95conv'!B1356","v":0}]
[{"$f":"'[1]MedianGlobal,Percentis 5-95conv'!A1357","v":0},{"$f":"'[1]MedianGlobal,Percentis 5-95conv'!B1357","v":0}]
[{"$f":"'[1]MedianGlobal,Percentis 5-95conv'!A1358","v":0},{"$f":"'[1]MedianGlobal,Percentis 5-95conv'!B1358","v":0}]
[{"$f":"'[1]MedianGlobal,Percentis 5-95conv'!A1359","v":0},{"$f":"'[1]MedianGlobal,Percentis 5-95conv'!B1359","v":0}]
[{"$f":"'[1]MedianGlobal,Percentis 5-95conv'!A1360","v":0},{"$f":"'[1]MedianGlobal,Percentis 5-95conv'!B1360","v":0}]
[{"$f":"'[1]MedianGlobal,Percentis 5-95conv'!A1361","v":0},{"$f":"'[1]MedianGlobal,Percentis 5-95conv'!B1361","v":0}]
[{"$f":"'[1]MedianGlobal,Percentis 5-95conv'!A1362","v":0},{"$f":"'[1]MedianGlobal,Percentis 5-95conv'!B1362","v":0}]
[{"$f":"'[1]MedianGlobal,Percentis 5-95conv'!A1363","v":0},{"$f":"'[1]MedianGlobal,Percentis 5-95conv'!B1363","v":0}]
[{"$f":"'[1]MedianGlobal,Percentis 5-95conv'!A1364","v":0},{"$f":"'[1]MedianGlobal,Percentis 5-95conv'!B1364","v":0}]
[{"$f":"'[1]MedianGlobal,Percentis 5-95conv'!A1365","v":0},{"$f":"'[1]MedianGlobal,Percentis 5-95conv'!B1365","v":0}]
[{"$f":"'[1]MedianGlobal,Percentis 5-95conv'!A1366","v":0},{"$f":"'[1]MedianGlobal,Percentis 5-95conv'!B1366","v":0}]
[{"$f":"'[1]MedianGlobal,Percentis 5-95conv'!A1367","v":0},{"$f":"'[1]MedianGlobal,Percentis 5-95conv'!B1367","v":0}]
[{"$f":"'[1]MedianGlobal,Percentis 5-95conv'!A1368","v":0},{"$f":"'[1]MedianGlobal,Percentis 5-95conv'!B1368","v":0}]
[{"$f":"'[1]MedianGlobal,Percentis 5-95conv'!A1369","v":0},{"$f":"'[1]MedianGlobal,Percentis 5-95conv'!B1369","v":0}]
[{"$f":"'[1]MedianGlobal,Percentis 5-95conv'!A1370","v":0},{"$f":"'[1]MedianGlobal,Percentis 5-95conv'!B1370","v":0}]
[{"$f":"'[1]MedianGlobal,Percentis 5-95conv'!A1371","v":0},{"$f":"'[1]MedianGlobal,Percentis 5-95conv'!B1371","v":0}]
[{"$f":"'[1]MedianGlobal,Percentis 5-95conv'!A1372","v":0},{"$f":"'[1]MedianGlobal,Percentis 5-95conv'!B1372","v":0}]
[{"$f":"'[1]MedianGlobal,Percentis 5-95conv'!A1373","v":0},{"$f":"'[1]MedianGlobal,Percentis 5-95conv'!B1373","v":0}]
[{"$f":"'[1]MedianGlobal,Percentis 5-95conv'!A1374","v":0},{"$f":"'[1]MedianGlobal,Percentis 5-95conv'!B1374","v":0}]
[{"$f":"'[1]MedianGlobal,Percentis 5-95conv'!A1375","v":0},{"$f":"'[1]MedianGlobal,Percentis 5-95conv'!B1375","v":0}]
[{"$f":"'[1]MedianGlobal,Percentis 5-95conv'!A1376","v":0},{"$f":"'[1]MedianGlobal,Percentis 5-95conv'!B1376","v":0}]
[{"$f":"'[1]MedianGlobal,Percentis 5-95conv'!A1377","v":0},{"$f":"'[1]MedianGlobal,Percentis 5-95conv'!B1377","v":0}]
[{"$f":"'[1]MedianGlobal,Percentis 5-95conv'!A1378","v":0},{"$f":"'[1]MedianGlobal,Percentis 5-95conv'!B1378","v":0}]
[{"$f":"'[1]MedianGlobal,Percentis 5-95conv'!A1379","v":0},{"$f":"'[1]MedianGlobal,Percentis 5-95conv'!B1379","v":0}]
[{"$f":"'[1]MedianGlobal,Percentis 5-95conv'!A1380","v":0},{"$f":"'[1]MedianGlobal,Percentis 5-95conv'!B1380","v":0}]
[{"$f":"'[1]MedianGlobal,Percentis 5-95conv'!A1381","v":0},{"$f":"'[1]MedianGlobal,Percentis 5-95conv'!B1381","v":0}]
[{"$f":"'[1]MedianGlobal,Percentis 5-95conv'!A1382","v":0},{"$f":"'[1]MedianGlobal,Percentis 5-95conv'!B1382","v":0}]
[{"$f":"'[1]MedianGlobal,Percentis 5-95conv'!A1383","v":0},{"$f":"'[1]MedianGlobal,Percentis 5-95conv'!B1383","v":0}]
[{"$f":"'[1]MedianGlobal,Percentis 5-95conv'!A1384","v":0},{"$f":"'[1]MedianGlobal,Percentis 5-95conv'!B1384","v":0}]
[{"$f":"'[1]MedianGlobal,Percentis 5-95conv'!A1385","v":0},{"$f":"'[1]MedianGlobal,Percentis 5-95conv'!B1385","v":0}]
[{"$f":"'[1]MedianGlobal,Percentis 5-95conv'!A1386","v":0},{"$f":"'[1]MedianGlobal,Percentis 5-95conv'!B1386","v":0}]
[{"$f":"'[1]MedianGlobal,Percentis 5-95conv'!A1387","v":0},{"$f":"'[1]MedianGlobal,Percentis 5-95conv'!B1387","v":0}]
[{"$f":"'[1]MedianGlobal,Percentis 5-95conv'!A1388","v":0},{"$f":"'[1]MedianGlobal,Percentis 5-95conv'!B1388","v":0}]
[{"$f":"'[1]MedianGlobal,Percentis 5-95conv'!A1389","v":0},{"$f":"'[1]MedianGlobal,Percentis 5-95conv'!B1389","v":0}]
[{"$f":"'[1]MedianGlobal,Percentis 5-95conv'!A1390","v":0},{"$f":"'[1]MedianGlobal,Percentis 5-95conv'!B1390","v":0}]
[{"$f":"'[1]MedianGlobal,Percentis 5-95conv'!A1391","v":0},{"$f":"'[1]MedianGlobal,Percentis 5-95conv'!B1391","v":0}]
[{"$f":"'[1]MedianGlobal,Percentis 5-95conv'!A1392","v":0},{"$f":"'[1]MedianGlobal,Percentis 5-95conv'!B1392","v":0}]
[{"$f":"'[1]MedianGlobal,Percentis 5-95conv'!A1393","v":0},{"$f":"'[1]MedianGlobal,Percentis 5-95conv'!B1393","v":0}]
[{"$f":"'[1]MedianGlobal,Percentis 5-95conv'!A1394","v":0},{"$f":"'[1]MedianGlobal,Percentis 5-95conv'!B1394","v":0}]
[{"$f":"'[1]MedianGlobal,Percentis 5-95conv'!A1395","v":0},{"$f":"'[1]MedianGlobal,Percentis 5-95conv'!B1395","v":0}]
[{"$f":"'[1]MedianGlobal,Percentis 5-95conv'!A1396","v":0},{"$f":"'[1]MedianGlobal,Percentis 5-95conv'!B1396","v":0}]
[{"$f":"'[1]MedianGlobal,Percentis 5-95conv'!A1397","v":0},{"$f":"'[1]MedianGlobal,Percentis 5-95conv'!B1397","v":0}]
[{"$f":"'[1]MedianGlobal,Percentis 5-95conv'!A1398","v":0},{"$f":"'[1]MedianGlobal,Percentis 5-95conv'!B1398","v":0}]
[{"$f":"'[1]MedianGlobal,Percentis 5-95conv'!A1399","v":0},{"$f":"'[1]MedianGlobal,Percentis 5-95conv'!B1399","v":0}]
[{"$f":"'[1]MedianGlobal,Percentis 5-95conv'!A1400","v":0},{"$f":"'[1]MedianGlobal,Percentis 5-95conv'!B1400","v":0}]
[{"$f":"'[1]MedianGlobal,Percentis 5-95conv'!A1401","v":0},{"$f":"'[1]MedianGlobal,Percentis 5-95conv'!B1401","v":0}]
[{"$f":"'[1]MedianGlobal,Percentis 5-95conv'!A1402","v":0},{"$f":"'[1]MedianGlobal,Percentis 5-95conv'!B1402","v":0}]
[{"$f":"'[1]MedianGlobal,Percentis 5-95conv'!A1403","v":0},{"$f":"'[1]MedianGlobal,Percentis 5-95conv'!B1403","v":0}]
[{"$f":"'[1]MedianGlobal,Percentis 5-95conv'!A1404","v":0},{"$f":"'[1]MedianGlobal,Percentis 5-95conv'!B1404","v":0}]
[{"$f":"'[1]MedianGlobal,Percentis 5-95conv'!A1405","v":0},{"$f":"'[1]MedianGlobal,Percentis 5-95conv'!B1405","v":0}]
[{"$f":"'[1]MedianGlobal,Percentis 5-95conv'!A1406","v":0},{"$f":"'[1]MedianGlobal,Percentis 5-95conv'!B1406","v":0}]
[{"$f":"'[1]MedianGlobal,Percentis 5-95conv'!A1407","v":0},{"$f":"'[1]MedianGlobal,Percentis 5-95conv'!B1407","v":0}]
[{"$f":"'[1]MedianGlobal,Percentis 5-95conv'!A1408","v":0},{"$f":"'[1]MedianGlobal,Percentis 5-95conv'!B1408","v":0}]
[{"$f":"'[1]MedianGlobal,Percentis 5-95conv'!A1409","v":0},{"$f":"'[1]MedianGlobal,Percentis 5-95conv'!B1409","v":0}]
[{"$f":"'[1]MedianGlobal,Percentis 5-95conv'!A1410","v":0},{"$f":"'[1]MedianGlobal,Percentis 5-95conv'!B1410","v":0}]
[{"$f":"'[1]MedianGlobal,Percentis 5-95conv'!A1411","v":0},{"$f":"'[1]MedianGlobal,Percentis 5-95conv'!B1411","v":0}]
[{"$f":"'[1]MedianGlobal,Percentis 5-95conv'!A1412","v":0},{"$f":"'[1]MedianGlobal,Percentis 5-95conv'!B1412","v":0}]
[{"$f":"'[1]MedianGlobal,Percentis 5-95conv'!A1413","v":0},{"$f":"'[1]MedianGlobal,Percentis 5-95conv'!B1413","v":0}]
[{"$f":"'[1]MedianGlobal,Percentis 5-95conv'!A1414","v":0},{"$f":"'[1]MedianGlobal,Percentis 5-95conv'!B1414","v":0}]
[{"$f":"'[1]MedianGlobal,Percentis 5-95conv'!A1415","v":0},{"$f":"'[1]MedianGlobal,Percentis 5-95conv'!B1415","v":0}]
[{"$f":"'[1]MedianGlobal,Percentis 5-95conv'!A1416","v":0},{"$f":"'[1]MedianGlobal,Percentis 5-95conv'!B1416","v":0}]
[{"$f":"'[1]MedianGlobal,Percentis 5-95conv'!A1417","v":0},{"$f":"'[1]MedianGlobal,Percentis 5-95conv'!B1417","v":0}]
[{"$f":"'[1]MedianGlobal,Percentis 5-95conv'!A1418","v":0},{"$f":"'[1]MedianGlobal,Percentis 5-95conv'!B1418","v":0}]
[{"$f":"'[1]MedianGlobal,Percentis 5-95conv'!A1419","v":0},{"$f":"'[1]MedianGlobal,Percentis 5-95conv'!B1419","v":0}]
[{"$f":"'[1]MedianGlobal,Percentis 5-95conv'!A1420","v":0},{"$f":"'[1]MedianGlobal,Percentis 5-95conv'!B1420","v":0}]
[{"$f":"'[1]MedianGlobal,Percentis 5-95conv'!A1421","v":0},{"$f":"'[1]MedianGlobal,Percentis 5-95conv'!B1421","v":0}]
[{"$f":"'[1]MedianGlobal,Percentis 5-95conv'!A1422","v":0},{"$f":"'[1]MedianGlobal,Percentis 5-95conv'!B1422","v":0}]
[{"$f":"'[1]MedianGlobal,Percentis 5-95conv'!A1423","v":0},{"$f":"'[1]MedianGlobal,Percentis 5-95conv'!B1423","v":0}]
[{"$f":"'[1]MedianGlobal,Percentis 5-95conv'!A1424","v":0},{"$f":"'[1]MedianGlobal,Percentis 5-95conv'!B1424","v":0}]
[{"$f":"'[1]MedianGlobal,Percentis 5-95conv'!A1425","v":0},{"$f":"'[1]MedianGlobal,Percentis 5-95conv'!B1425","v":0}]
[{"$f":"'[1]MedianGlobal,Percentis 5-95conv'!A1426","v":0},{"$f":"'[1]MedianGlobal,Percentis 5-95conv'!B1426","v":0}]
[{"$f":"'[1]MedianGlobal,Percentis 5-95conv'!A1427","v":0},{"$f":"'[1]MedianGlobal,Percentis 5-95conv'!B1427","v":0}]
[{"$f":"'[1]MedianGlobal,Percentis 5-95conv'!A1428","v":0},{"$f":"'[1]MedianGlobal,Percentis 5-95conv'!B1428","v":0}]
[{"$f":"'[1]MedianGlobal,Percentis 5-95conv'!A1429","v":0},{"$f":"'[1]MedianGlobal,Percentis 5-95conv'!B1429","v":0}]
[{"$f":"'[1]MedianGlobal,Percentis 5-95conv'!A1430","v":0},{"$f":"'[1]MedianGlobal,Percentis 5-95conv'!B1430","v":0}]
[{"$f":"'[1]MedianGlobal,Percentis 5-95conv'!A1431","v":0},{"$f":"'[1]MedianGlobal,Percentis 5-95conv'!B1431","v":0}]
[{"$f":"'[1]MedianGlobal,Percentis 5-95conv'!A1432","v":0},{"$f":"'[1]MedianGlobal,Percentis 5-95conv'!B1432","v":0}]
[{"$f":"'[1]MedianGlobal,Percentis 5-95conv'!A1433","v":0},{"$f":"'[1]MedianGlobal,Percentis 5-95conv'!B1433","v":0}]
[{"$f":"'[1]MedianGlobal,Percentis 5-95conv'!A1434","v":0},{"$f":"'[1]MedianGlobal,Percentis 5-95conv'!B1434","v":0}]
[{"$f":"'[1]MedianGlobal,Percentis 5-95conv'!A1435","v":0},{"$f":"'[1]MedianGlobal,Percentis 5-95conv'!B1435","v":0}]
[{"$f":"'[1]MedianGlobal,Percentis 5-95conv'!A1436","v":0},{"$f":"'[1]MedianGlobal,Percentis 5-95conv'!B1436","v":0}]
[{"$f":"'[1]MedianGlobal,Percentis 5-95conv'!A1437","v":0},{"$f":"'[1]MedianGlobal,Percentis 5-95conv'!B1437","v":0}]
[{"$f":"'[1]MedianGlobal,Percentis 5-95conv'!A1438","v":0},{"$f":"'[1]MedianGlobal,Percentis 5-95conv'!B1438","v":0}]
[{"$f":"'[1]MedianGlobal,Percentis 5-95conv'!A1439","v":0},{"$f":"'[1]MedianGlobal,Percentis 5-95conv'!B1439","v":0}]
[{"$f":"'[1]MedianGlobal,Percentis 5-95conv'!A1440","v":0},{"$f":"'[1]MedianGlobal,Percentis 5-95conv'!B1440","v":0}]
[{"$f":"'[1]MedianGlobal,Percentis 5-95conv'!A1441","v":0},{"$f":"'[1]MedianGlobal,Percentis 5-95conv'!B1441","v":0}]
[{"$f":"'[1]MedianGlobal,Percentis 5-95conv'!A1442","v":0},{"$f":"'[1]MedianGlobal,Percentis 5-95conv'!B1442","v":0}]
[{"$f":"'[1]MedianGlobal,Percentis 5-95conv'!A1443","v":0},{"$f":"'[1]MedianGlobal,Percentis 5-95conv'!B1443","v":0}]
[{"$f":"'[1]MedianGlobal,Percentis 5-95conv'!A1444","v":0},{"$f":"'[1]MedianGlobal,Percentis 5-95conv'!B1444","v":0}]
[{"$f":"'[1]MedianGlobal,Percentis 5-95conv'!A1445","v":0},{"$f":"'[1]MedianGlobal,Percentis 5-95conv'!B1445","v":0}]
[{"$f":"'[1]MedianGlobal,Percentis 5-95conv'!A1446","v":0},{"$f":"'[1]MedianGlobal,Percentis 5-95conv'!B1446","v":0}]
[{"$f":"'[1]MedianGlobal,Percentis 5-95conv'!A1447","v":0},{"$f":"'[1]MedianGlobal,Percentis 5-95conv'!B1447","v":0}]
[{"$f":"'[1]MedianGlobal,Percentis 5-95conv'!A1448","v":0},{"$f":"'[1]MedianGlobal,Percentis 5-95conv'!B1448","v":0}]
[{"$f":"'[1]MedianGlobal,Percentis 5-95conv'!A1449","v":0},{"$f":"'[1]MedianGlobal,Percentis 5-95conv'!B1449","v":0}]
[{"$f":"'[1]MedianGlobal,Percentis 5-95conv'!A1450","v":0},{"$f":"'[1]MedianGlobal,Percentis 5-95conv'!B1450","v":0}]
[{"$f":"'[1]MedianGlobal,Percentis 5-95conv'!A1451","v":0},{"$f":"'[1]MedianGlobal,Percentis 5-95conv'!B1451","v":0}]
[{"$f":"'[1]MedianGlobal,Percentis 5-95conv'!A1452","v":0},{"$f":"'[1]MedianGlobal,Percentis 5-95conv'!B1452","v":0}]
[{"$f":"'[1]MedianGlobal,Percentis 5-95conv'!A1453","v":0},{"$f":"'[1]MedianGlobal,Percentis 5-95conv'!B1453","v":0}]
[{"$f":"'[1]MedianGlobal,Percentis 5-95conv'!A1454","v":0},{"$f":"'[1]MedianGlobal,Percentis 5-95conv'!B1454","v":0}]
[{"$f":"'[1]MedianGlobal,Percentis 5-95conv'!A1455","v":0},{"$f":"'[1]MedianGlobal,Percentis 5-95conv'!B1455","v":0}]
[{"$f":"'[1]MedianGlobal,Percentis 5-95conv'!A1456","v":0},{"$f":"'[1]MedianGlobal,Percentis 5-95conv'!B1456","v":0}]
[{"$f":"'[1]MedianGlobal,Percentis 5-95conv'!A1457","v":0},{"$f":"'[1]MedianGlobal,Percentis 5-95conv'!B1457","v":0}]
[{"$f":"'[1]MedianGlobal,Percentis 5-95conv'!A1458","v":0},{"$f":"'[1]MedianGlobal,Percentis 5-95conv'!B1458","v":0}]
[{"$f":"'[1]MedianGlobal,Percentis 5-95conv'!A1459","v":0},{"$f":"'[1]MedianGlobal,Percentis 5-95conv'!B1459","v":0}]
[{"$f":"'[1]MedianGlobal,Percentis 5-95conv'!A1460","v":0},{"$f":"'[1]MedianGlobal,Percentis 5-95conv'!B1460","v":0}]
[{"$f":"'[1]MedianGlobal,Percentis 5-95conv'!A1461","v":0},{"$f":"'[1]MedianGlobal,Percentis 5-95conv'!B1461","v":0}]
[{"$f":"'[1]MedianGlobal,Percentis 5-95conv'!A1462","v":0},{"$f":"'[1]MedianGlobal,Percentis 5-95conv'!B1462","v":0}]
[{"$f":"'[1]MedianGlobal,Percentis 5-95conv'!A1463","v":0},{"$f":"'[1]MedianGlobal,Percentis 5-95conv'!B1463","v":0}]
[{"$f":"'[1]MedianGlobal,Percentis 5-95conv'!A1464","v":0},{"$f":"'[1]MedianGlobal,Percentis 5-95conv'!B1464","v":0}]
[{"$f":"'[1]MedianGlobal,Percentis 5-95conv'!A1465","v":0},{"$f":"'[1]MedianGlobal,Percentis 5-95conv'!B1465","v":0}]
[{"$f":"'[1]MedianGlobal,Percentis 5-95conv'!A1466","v":0},{"$f":"'[1]MedianGlobal,Percentis 5-95conv'!B1466","v":0}]
[{"$f":"'[1]MedianGlobal,Percentis 5-95conv'!A1467","v":0},{"$f":"'[1]MedianGlobal,Percentis 5-95conv'!B1467","v":0}]
[{"$f":"'[1]MedianGlobal,Percentis 5-95conv'!A1468","v":0},{"$f":"'[1]MedianGlobal,Percentis 5-95conv'!B1468","v":0}]
[{"$f":"'[1]MedianGlobal,Percentis 5-95conv'!A1469","v":0},{"$f":"'[1]MedianGlobal,Percentis 5-95conv'!B1469","v":0}]
[{"$f":"'[1]MedianGlobal,Percentis 5-95conv'!A1470","v":0},{"$f":"'[1]MedianGlobal,Percentis 5-95conv'!B1470","v":0}]
[{"$f":"'[1]MedianGlobal,Percentis 5-95conv'!A1471","v":0},{"$f":"'[1]MedianGlobal,Percentis 5-95conv'!B1471","v":0}]
[{"$f":"'[1]MedianGlobal,Percentis 5-95conv'!A1472","v":0},{"$f":"'[1]MedianGlobal,Percentis 5-95conv'!B1472","v":0}]
[{"$f":"'[1]MedianGlobal,Percentis 5-95conv'!A1473","v":0},{"$f":"'[1]MedianGlobal,Percentis 5-95conv'!B1473","v":0}]
[{"$f":"'[1]MedianGlobal,Percentis 5-95conv'!A1474","v":0},{"$f":"'[1]MedianGlobal,Percentis 5-95conv'!B1474","v":0}]
[{"$f":"'[1]MedianGlobal,Percentis 5-95conv'!A1475","v":0},{"$f":"'[1]MedianGlobal,Percentis 5-95conv'!B1475","v":0}]
[{"$f":"'[1]MedianGlobal,Percentis 5-95conv'!A1476","v":0},{"$f":"'[1]MedianGlobal,Percentis 5-95conv'!B1476","v":0}]
[{"$f":"'[1]MedianGlobal,Percentis 5-95conv'!A1477","v":0},{"$f":"'[1]MedianGlobal,Percentis 5-95conv'!B1477","v":0}]
[{"$f":"'[1]MedianGlobal,Percentis 5-95conv'!A1478","v":0},{"$f":"'[1]MedianGlobal,Percentis 5-95conv'!B1478","v":0}]
[{"$f":"'[1]MedianGlobal,Percentis 5-95conv'!A1479","v":0},{"$f":"'[1]MedianGlobal,Percentis 5-95conv'!B1479","v":0}]
[{"$f":"'[1]MedianGlobal,Percentis 5-95conv'!A1480","v":0},{"$f":"'[1]MedianGlobal,Percentis 5-95conv'!B1480","v":0}]
[{"$f":"'[1]MedianGlobal,Percentis 5-95conv'!A1481","v":0},{"$f":"'[1]MedianGlobal,Percentis 5-95conv'!B1481","v":0}]
[{"$f":"'[1]MedianGlobal,Percentis 5-95conv'!A1482","v":0},{"$f":"'[1]MedianGlobal,Percentis 5-95conv'!B1482","v":0}]
[{"$f":"'[1]MedianGlobal,Percentis 5-95conv'!A1483","v":0},{"$f":"'[1]MedianGlobal,Percentis 5-95conv'!B1483","v":0}]
[{"$f":"'[1]MedianGlobal,Percentis 5-95conv'!A1484","v":0},{"$f":"'[1]MedianGlobal,Percentis 5-95conv'!B1484","v":0}]
[{"$f":"'[1]MedianGlobal,Percentis 5-95conv'!A1485","v":0},{"$f":"'[1]MedianGlobal,Percentis 5-95conv'!B1485","v":0}]
[{"$f":"'[1]MedianGlobal,Percentis 5-95conv'!A1486","v":0},{"$f":"'[1]MedianGlobal,Percentis 5-95conv'!B1486","v":0}]
[{"$f":"'[1]MedianGlobal,Percentis 5-95conv'!A1487","v":0},{"$f":"'[1]MedianGlobal,Percentis 5-95conv'!B1487","v":0}]
[{"$f":"'[1]MedianGlobal,Percentis 5-95conv'!A1488","v":0},{"$f":"'[1]MedianGlobal,Percentis 5-95conv'!B1488","v":0}]
[{"$f":"'[1]MedianGlobal,Percentis 5-95conv'!A1489","v":0},{"$f":"'[1]MedianGlobal,Percentis 5-95conv'!B1489","v":0}]
[{"$f":"'[1]MedianGlobal,Percentis 5-95conv'!A1490","v":0},{"$f":"'[1]MedianGlobal,Percentis 5-95conv'!B1490","v":0}]
[{"$f":"'[1]MedianGlobal,Percentis 5-95conv'!A1491","v":0},{"$f":"'[1]MedianGlobal,Percentis 5-95conv'!B1491","v":0}]
[{"$f":"'[1]MedianGlobal,Percentis 5-95conv'!A1492","v":0},{"$f":"'[1]MedianGlobal,Percentis 5-95conv'!B1492","v":0}]
[{"$f":"'[1]MedianGlobal,Percentis 5-95conv'!A1493","v":0},{"$f":"'[1]MedianGlobal,Percentis 5-95conv'!B1493","v":0}]
[{"$f":"'[1]MedianGlobal,Percentis 5-95conv'!A1494","v":0},{"$f":"'[1]MedianGlobal,Percentis 5-95conv'!B1494","v":0}]
[{"$f":"'[1]MedianGlobal,Percentis 5-95conv'!A1495","v":0},{"$f":"'[1]MedianGlobal,Percentis 5-95conv'!B1495","v":0}]
[{"$f":"'[1]MedianGlobal,Percentis 5-95conv'!A1496","v":0},{"$f":"'[1]MedianGlobal,Percentis 5-95conv'!B1496","v":0}]
[{"$f":"'[1]MedianGlobal,Percentis 5-95conv'!A1497","v":0},{"$f":"'[1]MedianGlobal,Percentis 5-95conv'!B1497","v":0}]
[{"$f":"'[1]MedianGlobal,Percentis 5-95conv'!A1498","v":0},{"$f":"'[1]MedianGlobal,Percentis 5-95conv'!B1498","v":0}]
[{"$f":"'[1]MedianGlobal,Percentis 5-95conv'!A1499","v":0},{"$f":"'[1]MedianGlobal,Percentis 5-95conv'!B1499","v":0}]
[{"$f":"'[1]MedianGlobal,Percentis 5-95conv'!A1500","v":0},{"$f":"'[1]MedianGlobal,Percentis 5-95conv'!B1500","v":0}]
[{"$f":"'[1]MedianGlobal,Percentis 5-95conv'!A1501","v":0},{"$f":"'[1]MedianGlobal,Percentis 5-95conv'!B1501","v":0}]
[{"$f":"'[1]MedianGlobal,Percentis 5-95conv'!A1502","v":0},{"$f":"'[1]MedianGlobal,Percentis 5-95conv'!B1502","v":0}]
[{"$f":"'[1]MedianGlobal,Percentis 5-95conv'!A1503","v":0},{"$f":"'[1]MedianGlobal,Percentis 5-95conv'!B1503","v":0}]
[{"$f":"'[1]MedianGlobal,Percentis 5-95conv'!A1504","v":0},{"$f":"'[1]MedianGlobal,Percentis 5-95conv'!B1504","v":0}]
[{"$f":"'[1]MedianGlobal,Percentis 5-95conv'!A1505","v":0},{"$f":"'[1]MedianGlobal,Percentis 5-95conv'!B1505","v":0}]
[{"$f":"'[1]MedianGlobal,Percentis 5-95conv'!A1506","v":0},{"$f":"'[1]MedianGlobal,Percentis 5-95conv'!B1506","v":0}]
[{"$f":"'[1]MedianGlobal,Percentis 5-95conv'!A1507","v":0},{"$f":"'[1]MedianGlobal,Percentis 5-95conv'!B1507","v":0}]
[{"$f":"'[1]MedianGlobal,Percentis 5-95conv'!A1508","v":0},{"$f":"'[1]MedianGlobal,Percentis 5-95conv'!B1508","v":0}]
[{"$f":"'[1]MedianGlobal,Percentis 5-95conv'!A1509","v":0},{"$f":"'[1]MedianGlobal,Percentis 5-95conv'!B1509","v":0}]
[{"$f":"'[1]MedianGlobal,Percentis 5-95conv'!A1510","v":0},{"$f":"'[1]MedianGlobal,Percentis 5-95conv'!B1510","v":0}]
[{"$f":"'[1]MedianGlobal,Percentis 5-95conv'!A1511","v":0},{"$f":"'[1]MedianGlobal,Percentis 5-95conv'!B1511","v":0}]
[{"$f":"'[1]MedianGlobal,Percentis 5-95conv'!A1512","v":0},{"$f":"'[1]MedianGlobal,Percentis 5-95conv'!B1512","v":0}]
[{"$f":"'[1]MedianGlobal,Percentis 5-95conv'!A1513","v":0},{"$f":"'[1]MedianGlobal,Percentis 5-95conv'!B1513","v":0}]
[{"$f":"'[1]MedianGlobal,Percentis 5-95conv'!A1514","v":0},{"$f":"'[1]MedianGlobal,Percentis 5-95conv'!B1514","v":0}]
[{"$f":"'[1]MedianGlobal,Percentis 5-95conv'!A1515","v":0},{"$f":"'[1]MedianGlobal,Percentis 5-95conv'!B1515","v":0}]
[{"$f":"'[1]MedianGlobal,Percentis 5-95conv'!A1516","v":0},{"$f":"'[1]MedianGlobal,Percentis 5-95conv'!B1516","v":0}]
[{"$f":"'[1]MedianGlobal,Percentis 5-95conv'!A1517","v":0},{"$f":"'[1]MedianGlobal,Percentis 5-95conv'!B1517","v":0}]
[{"$f":"'[1]MedianGlobal,Percentis 5-95conv'!A1518","v":0},{"$f":"'[1]MedianGlobal,Percentis 5-95conv'!B1518","v":0}]
[{"$f":"'[1]MedianGlobal,Percentis 5-95conv'!A1519","v":0},{"$f":"'[1]MedianGlobal,Percentis 5-95conv'!B1519","v":0}]
[{"$f":"'[1]MedianGlobal,Percentis 5-95conv'!A1520","v":0},{"$f":"'[1]MedianGlobal,Percentis 5-95conv'!B1520","v":0}]
[{"$f":"'[1]MedianGlobal,Percentis 5-95conv'!A1521","v":0},{"$f":"'[1]MedianGlobal,Percentis 5-95conv'!B1521","v":0}]
[{"$f":"'[1]MedianGlobal,Percentis 5-95conv'!A1522","v":0},{"$f":"'[1]MedianGlobal,Percentis 5-95conv'!B1522","v":0}]
[{"$f":"'[1]MedianGlobal,Percentis 5-95conv'!A1523","v":0},{"$f":"'[1]MedianGlobal,Percentis 5-95conv'!B1523","v":0}]
[{"$f":"'[1]MedianGlobal,Percentis 5-95conv'!A1524","v":0},{"$f":"'[1]MedianGlobal,Percentis 5-95conv'!B1524","v":0}]
[{"$f":"'[1]MedianGlobal,Percentis 5-95conv'!A1525","v":0},{"$f":"'[1]MedianGlobal,Percentis 5-95conv'!B1525","v":0}]
[{"$f":"'[1]MedianGlobal,Percentis 5-95conv'!A1526","v":0},{"$f":"'[1]MedianGlobal,Percentis 5-95conv'!B1526","v":0}]
[{"$f":"'[1]MedianGlobal,Percentis 5-95conv'!A1527","v":0},{"$f":"'[1]MedianGlobal,Percentis 5-95conv'!B1527","v":0}]
[{"$f":"'[1]MedianGlobal,Percentis 5-95conv'!A1528","v":0},{"$f":"'[1]MedianGlobal,Percentis 5-95conv'!B1528","v":0}]
[{"$f":"'[1]MedianGlobal,Percentis 5-95conv'!A1529","v":0},{"$f":"'[1]MedianGlobal,Percentis 5-95conv'!B1529","v":0}]
[{"$f":"'[1]MedianGlobal,Percentis 5-95conv'!A1530","v":0},{"$f":"'[1]MedianGlobal,Percentis 5-95conv'!B1530","v":0}]
[{"$f":"'[1]MedianGlobal,Percentis 5-95conv'!A1531","v":0},{"$f":"'[1]MedianGlobal,Percentis 5-95conv'!B1531","v":0}]
[{"$f":"'[1]MedianGlobal,Percentis 5-95conv'!A1532","v":0},{"$f":"'[1]MedianGlobal,Percentis 5-95conv'!B1532","v":0}]
[{"$f":"'[1]MedianGlobal,Percentis 5-95conv'!A1533","v":0},{"$f":"'[1]MedianGlobal,Percentis 5-95conv'!B1533","v":0}]
[{"$f":"'[1]MedianGlobal,Percentis 5-95conv'!A1534","v":0},{"$f":"'[1]MedianGlobal,Percentis 5-95conv'!B1534","v":0}]
[{"$f":"'[1]MedianGlobal,Percentis 5-95conv'!A1535","v":0},{"$f":"'[1]MedianGlobal,Percentis 5-95conv'!B1535","v":0}]
[{"$f":"'[1]MedianGlobal,Percentis 5-95conv'!A1536","v":0},{"$f":"'[1]MedianGlobal,Percentis 5-95conv'!B1536","v":0}]
[{"$f":"'[1]MedianGlobal,Percentis 5-95conv'!A1537","v":0},{"$f":"'[1]MedianGlobal,Percentis 5-95conv'!B1537","v":0}]
[{"$f":"'[1]MedianGlobal,Percentis 5-95conv'!A1538","v":0},{"$f":"'[1]MedianGlobal,Percentis 5-95conv'!B1538","v":0}]
[{"$f":"'[1]MedianGlobal,Percentis 5-95conv'!A1539","v":0},{"$f":"'[1]MedianGlobal,Percentis 5-95conv'!B1539","v":0}]
[{"$f":"'[1]MedianGlobal,Percentis 5-95conv'!A1540","v":0},{"$f":"'[1]MedianGlobal,Percentis 5-95conv'!B1540","v":0}]
[{"$f":"'[1]MedianGlobal,Percentis 5-95conv'!A1541","v":0},{"$f":"'[1]MedianGlobal,Percentis 5-95conv'!B1541","v":0}]
[{"$f":"'[1]MedianGlobal,Percentis 5-95conv'!A1542","v":0},{"$f":"'[1]MedianGlobal,Percentis 5-95conv'!B1542","v":0}]
[{"$f":"'[1]MedianGlobal,Percentis 5-95conv'!A1543","v":0},{"$f":"'[1]MedianGlobal,Percentis 5-95conv'!B1543","v":0}]
[{"$f":"'[1]MedianGlobal,Percentis 5-95conv'!A1544","v":0},{"$f":"'[1]MedianGlobal,Percentis 5-95conv'!B1544","v":0}]
[{"$f":"'[1]MedianGlobal,Percentis 5-95conv'!A1545","v":0},{"$f":"'[1]MedianGlobal,Percentis 5-95conv'!B1545","v":0}]
[{"$f":"'[1]MedianGlobal,Percentis 5-95conv'!A1546","v":0},{"$f":"'[1]MedianGlobal,Percentis 5-95conv'!B1546","v":0}]
[{"$f":"'[1]MedianGlobal,Percentis 5-95conv'!A1547","v":0},{"$f":"'[1]MedianGlobal,Percentis 5-95conv'!B1547","v":0}]
[{"$f":"'[1]MedianGlobal,Percentis 5-95conv'!A1548","v":0},{"$f":"'[1]MedianGlobal,Percentis 5-95conv'!B1548","v":0}]
[{"$f":"'[1]MedianGlobal,Percentis 5-95conv'!A1549","v":0},{"$f":"'[1]MedianGlobal,Percentis 5-95conv'!B1549","v":0}]
[{"$f":"'[1]MedianGlobal,Percentis 5-95conv'!A1550","v":0},{"$f":"'[1]MedianGlobal,Percentis 5-95conv'!B1550","v":0}]
[{"$f":"'[1]MedianGlobal,Percentis 5-95conv'!A1551","v":0},{"$f":"'[1]MedianGlobal,Percentis 5-95conv'!B1551","v":0}]
[{"$f":"'[1]MedianGlobal,Percentis 5-95conv'!A1552","v":0},{"$f":"'[1]MedianGlobal,Percentis 5-95conv'!B1552","v":0}]
[{"$f":"'[1]MedianGlobal,Percentis 5-95conv'!A1553","v":0},{"$f":"'[1]MedianGlobal,Percentis 5-95conv'!B1553","v":0}]
[{"$f":"'[1]MedianGlobal,Percentis 5-95conv'!A1554","v":0},{"$f":"'[1]MedianGlobal,Percentis 5-95conv'!B1554","v":0}]
[{"$f":"'[1]MedianGlobal,Percentis 5-95conv'!A1555","v":0},{"$f":"'[1]MedianGlobal,Percentis 5-95conv'!B1555","v":0}]
[{"$f":"'[1]MedianGlobal,Percentis 5-95conv'!A1556","v":0},{"$f":"'[1]MedianGlobal,Percentis 5-95conv'!B1556","v":0}]
[{"$f":"'[1]MedianGlobal,Percentis 5-95conv'!A1557","v":0},{"$f":"'[1]MedianGlobal,Percentis 5-95conv'!B1557","v":0}]
[{"$f":"'[1]MedianGlobal,Percentis 5-95conv'!A1558","v":0},{"$f":"'[1]MedianGlobal,Percentis 5-95conv'!B1558","v":0}]
[{"$f":"'[1]MedianGlobal,Percentis 5-95conv'!A1559","v":0},{"$f":"'[1]MedianGlobal,Percentis 5-95conv'!B1559","v":0}]
[{"$f":"'[1]MedianGlobal,Percentis 5-95conv'!A1560","v":0},{"$f":"'[1]MedianGlobal,Percentis 5-95conv'!B1560","v":0}]
[{"$f":"'[1]MedianGlobal,Percentis 5-95conv'!A1561","v":0},{"$f":"'[1]MedianGlobal,Percentis 5-95conv'!B1561","v":0}]
[{"$f":"'[1]MedianGlobal,Percentis 5-95conv'!A1562","v":0},{"$f":"'[1]MedianGlobal,Percentis 5-95conv'!B1562","v":0}]
[{"$f":"'[1]MedianGlobal,Percentis 5-95conv'!A1563","v":0},{"$f":"'[1]MedianGlobal,Percentis 5-95conv'!B1563","v":0}]
[{"$f":"'[1]MedianGlobal,Percentis 5-95conv'!A1564","v":0},{"$f":"'[1]MedianGlobal,Percentis 5-95conv'!B1564","v":0}]
[{"$f":"'[1]MedianGlobal,Percentis 5-95conv'!A1565","v":0},{"$f":"'[1]MedianGlobal,Percentis 5-95conv'!B1565","v":0}]
[{"$f":"'[1]MedianGlobal,Percentis 5-95conv'!A1566","v":0},{"$f":"'[1]MedianGlobal,Percentis 5-95conv'!B1566","v":0}]
[{"$f":"'[1]MedianGlobal,Percentis 5-95conv'!A1567","v":0},{"$f":"'[1]MedianGlobal,Percentis 5-95conv'!B1567","v":0}]
[{"$f":"'[1]MedianGlobal,Percentis 5-95conv'!A1568","v":0},{"$f":"'[1]MedianGlobal,Percentis 5-95conv'!B1568","v":0}]
[{"$f":"'[1]MedianGlobal,Percentis 5-95conv'!A1569","v":0},{"$f":"'[1]MedianGlobal,Percentis 5-95conv'!B1569","v":0}]
[{"$f":"'[1]MedianGlobal,Percentis 5-95conv'!A1570","v":0},{"$f":"'[1]MedianGlobal,Percentis 5-95conv'!B1570","v":0}]
[{"$f":"'[1]MedianGlobal,Percentis 5-95conv'!A1571","v":0},{"$f":"'[1]MedianGlobal,Percentis 5-95conv'!B1571","v":0}]
[{"$f":"'[1]MedianGlobal,Percentis 5-95conv'!A1572","v":0},{"$f":"'[1]MedianGlobal,Percentis 5-95conv'!B1572","v":0}]
[{"$f":"'[1]MedianGlobal,Percentis 5-95conv'!A1573","v":0},{"$f":"'[1]MedianGlobal,Percentis 5-95conv'!B1573","v":0}]
[{"$f":"'[1]MedianGlobal,Percentis 5-95conv'!A1574","v":0},{"$f":"'[1]MedianGlobal,Percentis 5-95conv'!B1574","v":0}]
[{"$f":"'[1]MedianGlobal,Percentis 5-95conv'!A1575","v":0},{"$f":"'[1]MedianGlobal,Percentis 5-95conv'!B1575","v":0}]
[{"$f":"'[1]MedianGlobal,Percentis 5-95conv'!A1576","v":0},{"$f":"'[1]MedianGlobal,Percentis 5-95conv'!B1576","v":0}]
[{"$f":"'[1]MedianGlobal,Percentis 5-95conv'!A1577","v":0},{"$f":"'[1]MedianGlobal,Percentis 5-95conv'!B1577","v":0}]
[{"$f":"'[1]MedianGlobal,Percentis 5-95conv'!A1578","v":0},{"$f":"'[1]MedianGlobal,Percentis 5-95conv'!B1578","v":0}]
[{"$f":"'[1]MedianGlobal,Percentis 5-95conv'!A1579","v":0},{"$f":"'[1]MedianGlobal,Percentis 5-95conv'!B1579","v":0}]
[{"$f":"'[1]MedianGlobal,Percentis 5-95conv'!A1580","v":0},{"$f":"'[1]MedianGlobal,Percentis 5-95conv'!B1580","v":0}]
[{"$f":"'[1]MedianGlobal,Percentis 5-95conv'!A1581","v":0},{"$f":"'[1]MedianGlobal,Percentis 5-95conv'!B1581","v":0}]
[{"$f":"'[1]MedianGlobal,Percentis 5-95conv'!A1582","v":0},{"$f":"'[1]MedianGlobal,Percentis 5-95conv'!B1582","v":0}]
[{"$f":"'[1]MedianGlobal,Percentis 5-95conv'!A1583","v":0},{"$f":"'[1]MedianGlobal,Percentis 5-95conv'!B1583","v":0}]
[{"$f":"'[1]MedianGlobal,Percentis 5-95conv'!A1584","v":0},{"$f":"'[1]MedianGlobal,Percentis 5-95conv'!B1584","v":0}]
[{"$f":"'[1]MedianGlobal,Percentis 5-95conv'!A1585","v":0},{"$f":"'[1]MedianGlobal,Percentis 5-95conv'!B1585","v":0}]
[{"$f":"'[1]MedianGlobal,Percentis 5-95conv'!A1586","v":0},{"$f":"'[1]MedianGlobal,Percentis 5-95conv'!B1586","v":0}]
[{"$f":"'[1]MedianGlobal,Percentis 5-95conv'!A1587","v":0},{"$f":"'[1]MedianGlobal,Percentis 5-95conv'!B1587","v":0}]
[{"$f":"'[1]MedianGlobal,Percentis 5-95conv'!A1588","v":0},{"$f":"'[1]MedianGlobal,Percentis 5-95conv'!B1588","v":0}]
[{"$f":"'[1]MedianGlobal,Percentis 5-95conv'!A1589","v":0},{"$f":"'[1]MedianGlobal,Percentis 5-95conv'!B1589","v":0}]
[{"$f":"'[1]MedianGlobal,Percentis 5-95conv'!A1590","v":0},{"$f":"'[1]MedianGlobal,Percentis 5-95conv'!B1590","v":0}]
[{"$f":"'[1]MedianGlobal,Percentis 5-95conv'!A1591","v":0},{"$f":"'[1]MedianGlobal,Percentis 5-95conv'!B1591","v":0}]
[{"$f":"'[1]MedianGlobal,Percentis 5-95conv'!A1592","v":0},{"$f":"'[1]MedianGlobal,Percentis 5-95conv'!B1592","v":0}]
[{"$f":"'[1]MedianGlobal,Percentis 5-95conv'!A1593","v":0},{"$f":"'[1]MedianGlobal,Percentis 5-95conv'!B1593","v":0}]
[{"$f":"'[1]MedianGlobal,Percentis 5-95conv'!A1594","v":0},{"$f":"'[1]MedianGlobal,Percentis 5-95conv'!B1594","v":0}]
[{"$f":"'[1]MedianGlobal,Percentis 5-95conv'!A1595","v":0},{"$f":"'[1]MedianGlobal,Percentis 5-95conv'!B1595","v":0}]
[{"$f":"'[1]MedianGlobal,Percentis 5-95conv'!A1596","v":0},{"$f":"'[1]MedianGlobal,Percentis 5-95conv'!B1596","v":0}]
[{"$f":"'[1]MedianGlobal,Percentis 5-95conv'!A1597","v":0},{"$f":"'[1]MedianGlobal,Percentis 5-95conv'!B1597","v":0}]
[{"$f":"'[1]MedianGlobal,Percentis 5-95conv'!A1598","v":0},{"$f":"'[1]MedianGlobal,Percentis 5-95conv'!B1598","v":0}]
[{"$f":"'[1]MedianGlobal,Percentis 5-95conv'!A1599","v":0},{"$f":"'[1]MedianGlobal,Percentis 5-95conv'!B1599","v":0}]
[{"$f":"'[1]MedianGlobal,Percentis 5-95conv'!A1600","v":0},{"$f":"'[1]MedianGlobal,Percentis 5-95conv'!B1600","v":0}]
[{"$f":"'[1]MedianGlobal,Percentis 5-95conv'!A1601","v":0},{"$f":"'[1]MedianGlobal,Percentis 5-95conv'!B1601","v":0}]
[{"$f":"'[1]MedianGlobal,Percentis 5-95conv'!A1602","v":0},{"$f":"'[1]MedianGlobal,Percentis 5-95conv'!B1602","v":0}]
[{"$f":"'[1]MedianGlobal,Percentis 5-95conv'!A1603","v":0},{"$f":"'[1]MedianGlobal,Percentis 5-95conv'!B1603","v":0}]
[{"$f":"'[1]MedianGlobal,Percentis 5-95conv'!A1604","v":0},{"$f":"'[1]MedianGlobal,Percentis 5-95conv'!B1604","v":0}]
[{"$f":"'[1]MedianGlobal,Percentis 5-95conv'!A1605","v":0},{"$f":"'[1]MedianGlobal,Percentis 5-95conv'!B1605","v":0}]
[{"$f":"'[1]MedianGlobal,Percentis 5-95conv'!A1606","v":0},{"$f":"'[1]MedianGlobal,Percentis 5-95conv'!B1606","v":0}]
[{"$f":"'[1]MedianGlobal,Percentis 5-95conv'!A1607","v":0},{"$f":"'[1]MedianGlobal,Percentis 5-95conv'!B1607","v":0}]
[{"$f":"'[1]MedianGlobal,Percentis 5-95conv'!A1608","v":0},{"$f":"'[1]MedianGlobal,Percentis 5-95conv'!B1608","v":0}]
[{"$f":"'[1]MedianGlobal,Percentis 5-95conv'!A1609","v":0},{"$f":"'[1]MedianGlobal,Percentis 5-95conv'!B1609","v":0}]
[{"$f":"'[1]MedianGlobal,Percentis 5-95conv'!A1610","v":0},{"$f":"'[1]MedianGlobal,Percentis 5-95conv'!B1610","v":0}]
[{"$f":"'[1]MedianGlobal,Percentis 5-95conv'!A1611","v":0},{"$f":"'[1]MedianGlobal,Percentis 5-95conv'!B1611","v":0}]
[{"$f":"'[1]MedianGlobal,Percentis 5-95conv'!A1612","v":0},{"$f":"'[1]MedianGlobal,Percentis 5-95conv'!B1612","v":0}]
[{"$f":"'[1]MedianGlobal,Percentis 5-95conv'!A1613","v":0},{"$f":"'[1]MedianGlobal,Percentis 5-95conv'!B1613","v":0}]
[{"$f":"'[1]MedianGlobal,Percentis 5-95conv'!A1614","v":0},{"$f":"'[1]MedianGlobal,Percentis 5-95conv'!B1614","v":0}]
[{"$f":"'[1]MedianGlobal,Percentis 5-95conv'!A1615","v":0},{"$f":"'[1]MedianGlobal,Percentis 5-95conv'!B1615","v":0}]
[{"$f":"'[1]MedianGlobal,Percentis 5-95conv'!A1616","v":0},{"$f":"'[1]MedianGlobal,Percentis 5-95conv'!B1616","v":0}]
[{"$f":"'[1]MedianGlobal,Percentis 5-95conv'!A1617","v":0},{"$f":"'[1]MedianGlobal,Percentis 5-95conv'!B1617","v":0}]
[{"$f":"'[1]MedianGlobal,Percentis 5-95conv'!A1618","v":0},{"$f":"'[1]MedianGlobal,Percentis 5-95conv'!B1618","v":0}]
[{"$f":"'[1]MedianGlobal,Percentis 5-95conv'!A1619","v":0},{"$f":"'[1]MedianGlobal,Percentis 5-95conv'!B1619","v":0}]
[{"$f":"'[1]MedianGlobal,Percentis 5-95conv'!A1620","v":0},{"$f":"'[1]MedianGlobal,Percentis 5-95conv'!B1620","v":0}]
[{"$f":"'[1]MedianGlobal,Percentis 5-95conv'!A1621","v":0},{"$f":"'[1]MedianGlobal,Percentis 5-95conv'!B1621","v":0}]
[{"$f":"'[1]MedianGlobal,Percentis 5-95conv'!A1622","v":0},{"$f":"'[1]MedianGlobal,Percentis 5-95conv'!B1622","v":0}]
[{"$f":"'[1]MedianGlobal,Percentis 5-95conv'!A1623","v":0},{"$f":"'[1]MedianGlobal,Percentis 5-95conv'!B1623","v":0}]
[{"$f":"'[1]MedianGlobal,Percentis 5-95conv'!A1624","v":0},{"$f":"'[1]MedianGlobal,Percentis 5-95conv'!B1624","v":0}]
[{"$f":"'[1]MedianGlobal,Percentis 5-95conv'!A1625","v":0},{"$f":"'[1]MedianGlobal,Percentis 5-95conv'!B1625","v":0}]
[{"$f":"'[1]MedianGlobal,Percentis 5-95conv'!A1626","v":0},{"$f":"'[1]MedianGlobal,Percentis 5-95conv'!B1626","v":0}]
[{"$f":"'[1]MedianGlobal,Percentis 5-95conv'!A1627","v":0},{"$f":"'[1]MedianGlobal,Percentis 5-95conv'!B1627","v":0}]
[{"$f":"'[1]MedianGlobal,Percentis 5-95conv'!A1628","v":0},{"$f":"'[1]MedianGlobal,Percentis 5-95conv'!B1628","v":0}]
[{"$f":"'[1]MedianGlobal,Percentis 5-95conv'!A1629","v":0},{"$f":"'[1]MedianGlobal,Percentis 5-95conv'!B1629","v":0}]
[{"$f":"'[1]MedianGlobal,Percentis 5-95conv'!A1630","v":0},{"$f":"'[1]MedianGlobal,Percentis 5-95conv'!B1630","v":0}]
[{"$f":"'[1]MedianGlobal,Percentis 5-95conv'!A1631","v":0},{"$f":"'[1]MedianGlobal,Percentis 5-95conv'!B1631","v":0}]
[{"$f":"'[1]MedianGlobal,Percentis 5-95conv'!A1632","v":0},{"$f":"'[1]MedianGlobal,Percentis 5-95conv'!B1632","v":0}]
[{"$f":"'[1]MedianGlobal,Percentis 5-95conv'!A1633","v":0},{"$f":"'[1]MedianGlobal,Percentis 5-95conv'!B1633","v":0}]
[{"$f":"'[1]MedianGlobal,Percentis 5-95conv'!A1634","v":0},{"$f":"'[1]MedianGlobal,Percentis 5-95conv'!B1634","v":0}]
[{"$f":"'[1]MedianGlobal,Percentis 5-95conv'!A1635","v":0},{"$f":"'[1]MedianGlobal,Percentis 5-95conv'!B1635","v":0}]
[{"$f":"'[1]MedianGlobal,Percentis 5-95conv'!A1636","v":0},{"$f":"'[1]MedianGlobal,Percentis 5-95conv'!B1636","v":0}]
[{"$f":"'[1]MedianGlobal,Percentis 5-95conv'!A1637","v":0},{"$f":"'[1]MedianGlobal,Percentis 5-95conv'!B1637","v":0}]
[{"$f":"'[1]MedianGlobal,Percentis 5-95conv'!A1638","v":0},{"$f":"'[1]MedianGlobal,Percentis 5-95conv'!B1638","v":0}]
[{"$f":"'[1]MedianGlobal,Percentis 5-95conv'!A1639","v":0},{"$f":"'[1]MedianGlobal,Percentis 5-95conv'!B1639","v":0}]
[{"$f":"'[1]MedianGlobal,Percentis 5-95conv'!A1640","v":0},{"$f":"'[1]MedianGlobal,Percentis 5-95conv'!B1640","v":0}]
[{"$f":"'[1]MedianGlobal,Percentis 5-95conv'!A1641","v":0},{"$f":"'[1]MedianGlobal,Percentis 5-95conv'!B1641","v":0}]
[{"$f":"'[1]MedianGlobal,Percentis 5-95conv'!A1642","v":0},{"$f":"'[1]MedianGlobal,Percentis 5-95conv'!B1642","v":0}]
[{"$f":"'[1]MedianGlobal,Percentis 5-95conv'!A1643","v":0},{"$f":"'[1]MedianGlobal,Percentis 5-95conv'!B1643","v":0}]
[{"$f":"'[1]MedianGlobal,Percentis 5-95conv'!A1644","v":0},{"$f":"'[1]MedianGlobal,Percentis 5-95conv'!B1644","v":0}]
[{"$f":"'[1]MedianGlobal,Percentis 5-95conv'!A1645","v":0},{"$f":"'[1]MedianGlobal,Percentis 5-95conv'!B1645","v":0}]
[{"$f":"'[1]MedianGlobal,Percentis 5-95conv'!A1646","v":0},{"$f":"'[1]MedianGlobal,Percentis 5-95conv'!B1646","v":0}]
[{"$f":"'[1]MedianGlobal,Percentis 5-95conv'!A1647","v":0},{"$f":"'[1]MedianGlobal,Percentis 5-95conv'!B1647","v":0}]
[{"$f":"'[1]MedianGlobal,Percentis 5-95conv'!A1648","v":0},{"$f":"'[1]MedianGlobal,Percentis 5-95conv'!B1648","v":0}]
[{"$f":"'[1]MedianGlobal,Percentis 5-95conv'!A1649","v":0},{"$f":"'[1]MedianGlobal,Percentis 5-95conv'!B1649","v":0}]
[{"$f":"'[1]MedianGlobal,Percentis 5-95conv'!A1650","v":0},{"$f":"'[1]MedianGlobal,Percentis 5-95conv'!B1650","v":0}]
[{"$f":"'[1]MedianGlobal,Percentis 5-95conv'!A1651","v":0},{"$f":"'[1]MedianGlobal,Percentis 5-95conv'!B1651","v":0}]
[{"$f":"'[1]MedianGlobal,Percentis 5-95conv'!A1652","v":0},{"$f":"'[1]MedianGlobal,Percentis 5-95conv'!B1652","v":0}]
[{"$f":"'[1]MedianGlobal,Percentis 5-95conv'!A1653","v":0},{"$f":"'[1]MedianGlobal,Percentis 5-95conv'!B1653","v":0}]
[{"$f":"'[1]MedianGlobal,Percentis 5-95conv'!A1654","v":0},{"$f":"'[1]MedianGlobal,Percentis 5-95conv'!B1654","v":0}]
[{"$f":"'[1]MedianGlobal,Percentis 5-95conv'!A1655","v":0},{"$f":"'[1]MedianGlobal,Percentis 5-95conv'!B1655","v":0}]
[{"$f":"'[1]MedianGlobal,Percentis 5-95conv'!A1656","v":0},{"$f":"'[1]MedianGlobal,Percentis 5-95conv'!B1656","v":0}]
[{"$f":"'[1]MedianGlobal,Percentis 5-95conv'!A1657","v":0},{"$f":"'[1]MedianGlobal,Percentis 5-95conv'!B1657","v":0}]
[{"$f":"'[1]MedianGlobal,Percentis 5-95conv'!A1658","v":0},{"$f":"'[1]MedianGlobal,Percentis 5-95conv'!B1658","v":0}]
[{"$f":"'[1]MedianGlobal,Percentis 5-95conv'!A1659","v":0},{"$f":"'[1]MedianGlobal,Percentis 5-95conv'!B1659","v":0}]
[{"$f":"'[1]MedianGlobal,Percentis 5-95conv'!A1660","v":0},{"$f":"'[1]MedianGlobal,Percentis 5-95conv'!B1660","v":0}]
[{"$f":"'[1]MedianGlobal,Percentis 5-95conv'!A1661","v":0},{"$f":"'[1]MedianGlobal,Percentis 5-95conv'!B1661","v":0}]
[{"$f":"'[1]MedianGlobal,Percentis 5-95conv'!A1662","v":0},{"$f":"'[1]MedianGlobal,Percentis 5-95conv'!B1662","v":0}]
[{"$f":"'[1]MedianGlobal,Percentis 5-95conv'!A1663","v":0},{"$f":"'[1]MedianGlobal,Percentis 5-95conv'!B1663","v":0}]
[{"$f":"'[1]MedianGlobal,Percentis 5-95conv'!A1664","v":0},{"$f":"'[1]MedianGlobal,Percentis 5-95conv'!B1664","v":0}]
[{"$f":"'[1]MedianGlobal,Percentis 5-95conv'!A1665","v":0},{"$f":"'[1]MedianGlobal,Percentis 5-95conv'!B1665","v":0}]
[{"$f":"'[1]MedianGlobal,Percentis 5-95conv'!A1666","v":0},{"$f":"'[1]MedianGlobal,Percentis 5-95conv'!B1666","v":0}]
[{"$f":"'[1]MedianGlobal,Percentis 5-95conv'!A1667","v":0},{"$f":"'[1]MedianGlobal,Percentis 5-95conv'!B1667","v":0}]
[{"$f":"'[1]MedianGlobal,Percentis 5-95conv'!A1668","v":0},{"$f":"'[1]MedianGlobal,Percentis 5-95conv'!B1668","v":0}]
[{"$f":"'[1]MedianGlobal,Percentis 5-95conv'!A1669","v":0},{"$f":"'[1]MedianGlobal,Percentis 5-95conv'!B1669","v":0}]
[{"$f":"'[1]MedianGlobal,Percentis 5-95conv'!A1670","v":0},{"$f":"'[1]MedianGlobal,Percentis 5-95conv'!B1670","v":0}]
[{"$f":"'[1]MedianGlobal,Percentis 5-95conv'!A1671","v":0},{"$f":"'[1]MedianGlobal,Percentis 5-95conv'!B1671","v":0}]
[{"$f":"'[1]MedianGlobal,Percentis 5-95conv'!A1672","v":0},{"$f":"'[1]MedianGlobal,Percentis 5-95conv'!B1672","v":0}]
[{"$f":"'[1]MedianGlobal,Percentis 5-95conv'!A1673","v":0},{"$f":"'[1]MedianGlobal,Percentis 5-95conv'!B1673","v":0}]
[{"$f":"'[1]MedianGlobal,Percentis 5-95conv'!A1674","v":0},{"$f":"'[1]MedianGlobal,Percentis 5-95conv'!B1674","v":0}]
[{"$f":"'[1]MedianGlobal,Percentis 5-95conv'!A1675","v":0},{"$f":"'[1]MedianGlobal,Percentis 5-95conv'!B1675","v":0}]
[{"$f":"'[1]MedianGlobal,Percentis 5-95conv'!A1676","v":0},{"$f":"'[1]MedianGlobal,Percentis 5-95conv'!B1676","v":0}]
[{"$f":"'[1]MedianGlobal,Percentis 5-95conv'!A1677","v":0},{"$f":"'[1]MedianGlobal,Percentis 5-95conv'!B1677","v":0}]
[{"$f":"'[1]MedianGlobal,Percentis 5-95conv'!A1678","v":0},{"$f":"'[1]MedianGlobal,Percentis 5-95conv'!B1678","v":0}]
[{"$f":"'[1]MedianGlobal,Percentis 5-95conv'!A1679","v":0},{"$f":"'[1]MedianGlobal,Percentis 5-95conv'!B1679","v":0}]
[{"$f":"'[1]MedianGlobal,Percentis 5-95conv'!A1680","v":0},{"$f":"'[1]MedianGlobal,Percentis 5-95conv'!B1680","v":0}]
[{"$f":"'[1]MedianGlobal,Percentis 5-95conv'!A1681","v":0},{"$f":"'[1]MedianGlobal,Percentis 5-95conv'!B1681","v":0}]
[{"$f":"'[1]MedianGlobal,Percentis 5-95conv'!A1682","v":0},{"$f":"'[1]MedianGlobal,Percentis 5-95conv'!B1682","v":0}]
[{"$f":"'[1]MedianGlobal,Percentis 5-95conv'!A1683","v":0},{"$f":"'[1]MedianGlobal,Percentis 5-95conv'!B1683","v":0}]
[{"$f":"'[1]MedianGlobal,Percentis 5-95conv'!A1684","v":0},{"$f":"'[1]MedianGlobal,Percentis 5-95conv'!B1684","v":0}]
[{"$f":"'[1]MedianGlobal,Percentis 5-95conv'!A1685","v":0},{"$f":"'[1]MedianGlobal,Percentis 5-95conv'!B1685","v":0}]
[{"$f":"'[1]MedianGlobal,Percentis 5-95conv'!A1686","v":0},{"$f":"'[1]MedianGlobal,Percentis 5-95conv'!B1686","v":0}]
[{"$f":"'[1]MedianGlobal,Percentis 5-95conv'!A1687","v":0},{"$f":"'[1]MedianGlobal,Percentis 5-95conv'!B1687","v":0}]
[{"$f":"'[1]MedianGlobal,Percentis 5-95conv'!A1688","v":0},{"$f":"'[1]MedianGlobal,Percentis 5-95conv'!B1688","v":0}]
[{"$f":"'[1]MedianGlobal,Percentis 5-95conv'!A1689","v":0},{"$f":"'[1]MedianGlobal,Percentis 5-95conv'!B1689","v":0}]
[{"$f":"'[1]MedianGlobal,Percentis 5-95conv'!A1690","v":0},{"$f":"'[1]MedianGlobal,Percentis 5-95conv'!B1690","v":0}]
[{"$f":"'[1]MedianGlobal,Percentis 5-95conv'!A1691","v":0},{"$f":"'[1]MedianGlobal,Percentis 5-95conv'!B1691","v":0}]
[{"$f":"'[1]MedianGlobal,Percentis 5-95conv'!A1692","v":0},{"$f":"'[1]MedianGlobal,Percentis 5-95conv'!B1692","v":0}]
[{"$f":"'[1]MedianGlobal,Percentis 5-95conv'!A1693","v":0},{"$f":"'[1]MedianGlobal,Percentis 5-95conv'!B1693","v":0}]
[{"$f":"'[1]MedianGlobal,Percentis 5-95conv'!A1694","v":0},{"$f":"'[1]MedianGlobal,Percentis 5-95conv'!B1694","v":0}]
[{"$f":"'[1]MedianGlobal,Percentis 5-95conv'!A1695","v":0},{"$f":"'[1]MedianGlobal,Percentis 5-95conv'!B1695","v":0}]
[{"$f":"'[1]MedianGlobal,Percentis 5-95conv'!A1696","v":0},{"$f":"'[1]MedianGlobal,Percentis 5-95conv'!B1696","v":0}]
[{"$f":"'[1]MedianGlobal,Percentis 5-95conv'!A1697","v":0},{"$f":"'[1]MedianGlobal,Percentis 5-95conv'!B1697","v":0}]
[{"$f":"'[1]MedianGlobal,Percentis 5-95conv'!A1698","v":0},{"$f":"'[1]MedianGlobal,Percentis 5-95conv'!B1698","v":0}]
[{"$f":"'[1]MedianGlobal,Percentis 5-95conv'!A1699","v":0},{"$f":"'[1]MedianGlobal,Percentis 5-95conv'!B1699","v":0}]
[{"$f":"'[1]MedianGlobal,Percentis 5-95conv'!A1700","v":0},{"$f":"'[1]MedianGlobal,Percentis 5-95conv'!B1700","v":0}]
[{"$f":"'[1]MedianGlobal,Percentis 5-95conv'!A1701","v":0},{"$f":"'[1]MedianGlobal,Percentis 5-95conv'!B1701","v":0}]
[{"$f":"'[1]MedianGlobal,Percentis 5-95conv'!A1702","v":0},{"$f":"'[1]MedianGlobal,Percentis 5-95conv'!B1702","v":0}]
[{"$f":"'[1]MedianGlobal,Percentis 5-95conv'!A1703","v":0},{"$f":"'[1]MedianGlobal,Percentis 5-95conv'!B1703","v":0}]
[{"$f":"'[1]MedianGlobal,Percentis 5-95conv'!A1704","v":0},{"$f":"'[1]MedianGlobal,Percentis 5-95conv'!B1704","v":0}]
[{"$f":"'[1]MedianGlobal,Percentis 5-95conv'!A1705","v":0},{"$f":"'[1]MedianGlobal,Percentis 5-95conv'!B1705","v":0}]
[{"$f":"'[1]MedianGlobal,Percentis 5-95conv'!A1706","v":0},{"$f":"'[1]MedianGlobal,Percentis 5-95conv'!B1706","v":0}]
[{"$f":"'[1]MedianGlobal,Percentis 5-95conv'!A1707","v":0},{"$f":"'[1]MedianGlobal,Percentis 5-95conv'!B1707","v":0}]
[{"$f":"'[1]MedianGlobal,Percentis 5-95conv'!A1708","v":0},{"$f":"'[1]MedianGlobal,Percentis 5-95conv'!B1708","v":0}]
[{"$f":"'[1]MedianGlobal,Percentis 5-95conv'!A1709","v":0},{"$f":"'[1]MedianGlobal,Percentis 5-95conv'!B1709","v":0}]
[{"$f":"'[1]MedianGlobal,Percentis 5-95conv'!A1710","v":0},{"$f":"'[1]MedianGlobal,Percentis 5-95conv'!B1710","v":0}]
[{"$f":"'[1]MedianGlobal,Percentis 5-95conv'!A1711","v":0},{"$f":"'[1]MedianGlobal,Percentis 5-95conv'!B1711","v":0}]
[{"$f":"'[1]MedianGlobal,Percentis 5-95conv'!A1712","v":0},{"$f":"'[1]MedianGlobal,Percentis 5-95conv'!B1712","v":0}]
[{"$f":"'[1]MedianGlobal,Percentis 5-95conv'!A1713","v":0},{"$f":"'[1]MedianGlobal,Percentis 5-95conv'!B1713","v":0}]
[{"$f":"'[1]MedianGlobal,Percentis 5-95conv'!A1714","v":0},{"$f":"'[1]MedianGlobal,Percentis 5-95conv'!B1714","v":0}]
[{"$f":"'[1]MedianGlobal,Percentis 5-95conv'!A1715","v":0},{"$f":"'[1]MedianGlobal,Percentis 5-95conv'!B1715","v":0}]
[{"$f":"'[1]MedianGlobal,Percentis 5-95conv'!A1716","v":0},{"$f":"'[1]MedianGlobal,Percentis 5-95conv'!B1716","v":0}]
[{"$f":"'[1]MedianGlobal,Percentis 5-95conv'!A1717","v":0},{"$f":"'[1]MedianGlobal,Percentis 5-95conv'!B1717","v":0}]
[{"$f":"'[1]MedianGlobal,Percentis 5-95conv'!A1718","v":0},{"$f":"'[1]MedianGlobal,Percentis 5-95conv'!B1718","v":0}]
[{"$f":"'[1]MedianGlobal,Percentis 5-95conv'!A1719","v":0},{"$f":"'[1]MedianGlobal,Percentis 5-95conv'!B1719","v":0}]
[{"$f":"'[1]MedianGlobal,Percentis 5-95conv'!A1720","v":0},{"$f":"'[1]MedianGlobal,Percentis 5-95conv'!B1720","v":0}]
[{"$f":"'[1]MedianGlobal,Percentis 5-95conv'!A1721","v":0},{"$f":"'[1]MedianGlobal,Percentis 5-95conv'!B1721","v":0}]
[{"$f":"'[1]MedianGlobal,Percentis 5-95conv'!A1722","v":0},{"$f":"'[1]MedianGlobal,Percentis 5-95conv'!B1722","v":0}]
[{"$f":"'[1]MedianGlobal,Percentis 5-95conv'!A1723","v":0},{"$f":"'[1]MedianGlobal,Percentis 5-95conv'!B1723","v":0}]
[{"$f":"'[1]MedianGlobal,Percentis 5-95conv'!A1724","v":0},{"$f":"'[1]MedianGlobal,Percentis 5-95conv'!B1724","v":0}]
[{"$f":"'[1]MedianGlobal,Percentis 5-95conv'!A1725","v":0},{"$f":"'[1]MedianGlobal,Percentis 5-95conv'!B1725","v":0}]
[{"$f":"'[1]MedianGlobal,Percentis 5-95conv'!A1726","v":0},{"$f":"'[1]MedianGlobal,Percentis 5-95conv'!B1726","v":0}]
[{"$f":"'[1]MedianGlobal,Percentis 5-95conv'!A1727","v":0},{"$f":"'[1]MedianGlobal,Percentis 5-95conv'!B1727","v":0}]
[{"$f":"'[1]MedianGlobal,Percentis 5-95conv'!A1728","v":0},{"$f":"'[1]MedianGlobal,Percentis 5-95conv'!B1728","v":0}]
[{"$f":"'[1]MedianGlobal,Percentis 5-95conv'!A1729","v":0},{"$f":"'[1]MedianGlobal,Percentis 5-95conv'!B1729","v":0}]
[{"$f":"'[1]MedianGlobal,Percentis 5-95conv'!A1730","v":0},{"$f":"'[1]MedianGlobal,Percentis 5-95conv'!B1730","v":0}]
[{"$f":"'[1]MedianGlobal,Percentis 5-95conv'!A1731","v":0},{"$f":"'[1]MedianGlobal,Percentis 5-95conv'!B1731","v":0}]
[{"$f":"'[1]MedianGlobal,Percentis 5-95conv'!A1732","v":0},{"$f":"'[1]MedianGlobal,Percentis 5-95conv'!B1732","v":0}]
[{"$f":"'[1]MedianGlobal,Percentis 5-95conv'!A1733","v":0},{"$f":"'[1]MedianGlobal,Percentis 5-95conv'!B1733","v":0}]
[{"$f":"'[1]MedianGlobal,Percentis 5-95conv'!A1734","v":0},{"$f":"'[1]MedianGlobal,Percentis 5-95conv'!B1734","v":0}]
[{"$f":"'[1]MedianGlobal,Percentis 5-95conv'!A1735","v":0},{"$f":"'[1]MedianGlobal,Percentis 5-95conv'!B1735","v":0}]
[{"$f":"'[1]MedianGlobal,Percentis 5-95conv'!A1736","v":0},{"$f":"'[1]MedianGlobal,Percentis 5-95conv'!B1736","v":0}]
[{"$f":"'[1]MedianGlobal,Percentis 5-95conv'!A1737","v":0},{"$f":"'[1]MedianGlobal,Percentis 5-95conv'!B1737","v":0}]
[{"$f":"'[1]MedianGlobal,Percentis 5-95conv'!A1738","v":0},{"$f":"'[1]MedianGlobal,Percentis 5-95conv'!B1738","v":0}]
[{"$f":"'[1]MedianGlobal,Percentis 5-95conv'!A1739","v":0},{"$f":"'[1]MedianGlobal,Percentis 5-95conv'!B1739","v":0}]
[{"$f":"'[1]MedianGlobal,Percentis 5-95conv'!A1740","v":0},{"$f":"'[1]MedianGlobal,Percentis 5-95conv'!B1740","v":0}]
[{"$f":"'[1]MedianGlobal,Percentis 5-95conv'!A1741","v":0},{"$f":"'[1]MedianGlobal,Percentis 5-95conv'!B1741","v":0}]
[{"$f":"'[1]MedianGlobal,Percentis 5-95conv'!A1742","v":0},{"$f":"'[1]MedianGlobal,Percentis 5-95conv'!B1742","v":0}]
[{"$f":"'[1]MedianGlobal,Percentis 5-95conv'!A1743","v":0},{"$f":"'[1]MedianGlobal,Percentis 5-95conv'!B1743","v":0}]
[{"$f":"'[1]MedianGlobal,Percentis 5-95conv'!A1744","v":0},{"$f":"'[1]MedianGlobal,Percentis 5-95conv'!B1744","v":0}]
[{"$f":"'[1]MedianGlobal,Percentis 5-95conv'!A1745","v":0},{"$f":"'[1]MedianGlobal,Percentis 5-95conv'!B1745","v":0}]
[{"$f":"'[1]MedianGlobal,Percentis 5-95conv'!A1746","v":0},{"$f":"'[1]MedianGlobal,Percentis 5-95conv'!B1746","v":0}]
[{"$f":"'[1]MedianGlobal,Percentis 5-95conv'!A1747","v":0},{"$f":"'[1]MedianGlobal,Percentis 5-95conv'!B1747","v":0}]
[{"$f":"'[1]MedianGlobal,Percentis 5-95conv'!A1748","v":0},{"$f":"'[1]MedianGlobal,Percentis 5-95conv'!B1748","v":0}]
[{"$f":"'[1]MedianGlobal,Percentis 5-95conv'!A1749","v":0},{"$f":"'[1]MedianGlobal,Percentis 5-95conv'!B1749","v":0}]
[{"$f":"'[1]MedianGlobal,Percentis 5-95conv'!A1750","v":0},{"$f":"'[1]MedianGlobal,Percentis 5-95conv'!B1750","v":0}]
[{"$f":"'[1]MedianGlobal,Percentis 5-95conv'!A1751","v":0},{"$f":"'[1]MedianGlobal,Percentis 5-95conv'!B1751","v":0}]
[{"$f":"'[1]MedianGlobal,Percentis 5-95conv'!A1752","v":0},{"$f":"'[1]MedianGlobal,Percentis 5-95conv'!B1752","v":0}]
[{"$f":"'[1]MedianGlobal,Percentis 5-95conv'!A1753","v":0},{"$f":"'[1]MedianGlobal,Percentis 5-95conv'!B1753","v":0}]
[{"$f":"'[1]MedianGlobal,Percentis 5-95conv'!A1754","v":0},{"$f":"'[1]MedianGlobal,Percentis 5-95conv'!B1754","v":0}]
[{"$f":"'[1]MedianGlobal,Percentis 5-95conv'!A1755","v":0},{"$f":"'[1]MedianGlobal,Percentis 5-95conv'!B1755","v":0}]
[{"$f":"'[1]MedianGlobal,Percentis 5-95conv'!A1756","v":0},{"$f":"'[1]MedianGlobal,Percentis 5-95conv'!B1756","v":0}]
[{"$f":"'[1]MedianGlobal,Percentis 5-95conv'!A1757","v":0},{"$f":"'[1]MedianGlobal,Percentis 5-95conv'!B1757","v":0}]
[{"$f":"'[1]MedianGlobal,Percentis 5-95conv'!A1758","v":0},{"$f":"'[1]MedianGlobal,Percentis 5-95conv'!B1758","v":0}]
[{"$f":"'[1]MedianGlobal,Percentis 5-95conv'!A1759","v":0},{"$f":"'[1]MedianGlobal,Percentis 5-95conv'!B1759","v":0}]
[{"$f":"'[1]MedianGlobal,Percentis 5-95conv'!A1760","v":0},{"$f":"'[1]MedianGlobal,Percentis 5-95conv'!B1760","v":0}]
[{"$f":"'[1]MedianGlobal,Percentis 5-95conv'!A1761","v":0},{"$f":"'[1]MedianGlobal,Percentis 5-95conv'!B1761","v":0}]
[{"$f":"'[1]MedianGlobal,Percentis 5-95conv'!A1762","v":0},{"$f":"'[1]MedianGlobal,Percentis 5-95conv'!B1762","v":0}]
[{"$f":"'[1]MedianGlobal,Percentis 5-95conv'!A1763","v":0},{"$f":"'[1]MedianGlobal,Percentis 5-95conv'!B1763","v":0}]
[{"$f":"'[1]MedianGlobal,Percentis 5-95conv'!A1764","v":0},{"$f":"'[1]MedianGlobal,Percentis 5-95conv'!B1764","v":0}]
[{"$f":"'[1]MedianGlobal,Percentis 5-95conv'!A1765","v":0},{"$f":"'[1]MedianGlobal,Percentis 5-95conv'!B1765","v":0}]
[{"$f":"'[1]MedianGlobal,Percentis 5-95conv'!A1766","v":0},{"$f":"'[1]MedianGlobal,Percentis 5-95conv'!B1766","v":0}]
[{"$f":"'[1]MedianGlobal,Percentis 5-95conv'!A1767","v":0},{"$f":"'[1]MedianGlobal,Percentis 5-95conv'!B1767","v":0}]
[{"$f":"'[1]MedianGlobal,Percentis 5-95conv'!A1768","v":0},{"$f":"'[1]MedianGlobal,Percentis 5-95conv'!B1768","v":0}]
[{"$f":"'[1]MedianGlobal,Percentis 5-95conv'!A1769","v":0},{"$f":"'[1]MedianGlobal,Percentis 5-95conv'!B1769","v":0}]
[{"$f":"'[1]MedianGlobal,Percentis 5-95conv'!A1770","v":0},{"$f":"'[1]MedianGlobal,Percentis 5-95conv'!B1770","v":0}]
[{"$f":"'[1]MedianGlobal,Percentis 5-95conv'!A1771","v":0},{"$f":"'[1]MedianGlobal,Percentis 5-95conv'!B1771","v":0}]
[{"$f":"'[1]MedianGlobal,Percentis 5-95conv'!A1772","v":0},{"$f":"'[1]MedianGlobal,Percentis 5-95conv'!B1772","v":0}]
[{"$f":"'[1]MedianGlobal,Percentis 5-95conv'!A1773","v":0},{"$f":"'[1]MedianGlobal,Percentis 5-95conv'!B1773","v":0}]
[{"$f":"'[1]MedianGlobal,Percentis 5-95conv'!A1774","v":0},{"$f":"'[1]MedianGlobal,Percentis 5-95conv'!B1774","v":0}]
[{"$f":"'[1]MedianGlobal,Percentis 5-95conv'!A1775","v":0},{"$f":"'[1]MedianGlobal,Percentis 5-95conv'!B1775","v":0}]
[{"$f":"'[1]MedianGlobal,Percentis 5-95conv'!A1776","v":0},{"$f":"'[1]MedianGlobal,Percentis 5-95conv'!B1776","v":0}]
[{"$f":"'[1]MedianGlobal,Percentis 5-95conv'!A1777","v":0},{"$f":"'[1]MedianGlobal,Percentis 5-95conv'!B1777","v":0}]
[{"$f":"'[1]MedianGlobal,Percentis 5-95conv'!A1778","v":0},{"$f":"'[1]MedianGlobal,Percentis 5-95conv'!B1778","v":0}]
[{"$f":"'[1]MedianGlobal,Percentis 5-95conv'!A1779","v":0},{"$f":"'[1]MedianGlobal,Percentis 5-95conv'!B1779","v":0}]
[{"$f":"'[1]MedianGlobal,Percentis 5-95conv'!A1780","v":0},{"$f":"'[1]MedianGlobal,Percentis 5-95conv'!B1780","v":0}]
[{"$f":"'[1]MedianGlobal,Percentis 5-95conv'!A1781","v":0},{"$f":"'[1]MedianGlobal,Percentis 5-95conv'!B1781","v":0}]
[{"$f":"'[1]MedianGlobal,Percentis 5-95conv'!A1782","v":0},{"$f":"'[1]MedianGlobal,Percentis 5-95conv'!B1782","v":0}]
[{"$f":"'[1]MedianGlobal,Percentis 5-95conv'!A1783","v":0},{"$f":"'[1]MedianGlobal,Percentis 5-95conv'!B1783","v":0}]
[{"$f":"'[1]MedianGlobal,Percentis 5-95conv'!A1784","v":0},{"$f":"'[1]MedianGlobal,Percentis 5-95conv'!B1784","v":0}]
[{"$f":"'[1]MedianGlobal,Percentis 5-95conv'!A1785","v":0},{"$f":"'[1]MedianGlobal,Percentis 5-95conv'!B1785","v":0}]
[{"$f":"'[1]MedianGlobal,Percentis 5-95conv'!A1786","v":0},{"$f":"'[1]MedianGlobal,Percentis 5-95conv'!B1786","v":0}]
[{"$f":"'[1]MedianGlobal,Percentis 5-95conv'!A1787","v":0},{"$f":"'[1]MedianGlobal,Percentis 5-95conv'!B1787","v":0}]
[{"$f":"'[1]MedianGlobal,Percentis 5-95conv'!A1788","v":0},{"$f":"'[1]MedianGlobal,Percentis 5-95conv'!B1788","v":0}]
[{"$f":"'[1]MedianGlobal,Percentis 5-95conv'!A1789","v":0},{"$f":"'[1]MedianGlobal,Percentis 5-95conv'!B1789","v":0}]
[{"$f":"'[1]MedianGlobal,Percentis 5-95conv'!A1790","v":0},{"$f":"'[1]MedianGlobal,Percentis 5-95conv'!B1790","v":0}]
[{"$f":"'[1]MedianGlobal,Percentis 5-95conv'!A1791","v":0},{"$f":"'[1]MedianGlobal,Percentis 5-95conv'!B1791","v":0}]
[{"$f":"'[1]MedianGlobal,Percentis 5-95conv'!A1792","v":0},{"$f":"'[1]MedianGlobal,Percentis 5-95conv'!B1792","v":0}]
[{"$f":"'[1]MedianGlobal,Percentis 5-95conv'!A1793","v":0},{"$f":"'[1]MedianGlobal,Percentis 5-95conv'!B1793","v":0}]
[{"$f":"'[1]MedianGlobal,Percentis 5-95conv'!A1794","v":0},{"$f":"'[1]MedianGlobal,Percentis 5-95conv'!B1794","v":0}]
[{"$f":"'[1]MedianGlobal,Percentis 5-95conv'!A1795","v":0},{"$f":"'[1]MedianGlobal,Percentis 5-95conv'!B1795","v":0}]
[{"$f":"'[1]MedianGlobal,Percentis 5-95conv'!A1796","v":0},{"$f":"'[1]MedianGlobal,Percentis 5-95conv'!B1796","v":0}]
[{"$f":"'[1]MedianGlobal,Percentis 5-95conv'!A1797","v":0},{"$f":"'[1]MedianGlobal,Percentis 5-95conv'!B1797","v":0}]
[{"$f":"'[1]MedianGlobal,Percentis 5-95conv'!A1798","v":0},{"$f":"'[1]MedianGlobal,Percentis 5-95conv'!B1798","v":0}]
[{"$f":"'[1]MedianGlobal,Percentis 5-95conv'!A1799","v":0},{"$f":"'[1]MedianGlobal,Percentis 5-95conv'!B1799","v":0}]
[{"$f":"'[1]MedianGlobal,Percentis 5-95conv'!A1800","v":0},{"$f":"'[1]MedianGlobal,Percentis 5-95conv'!B1800","v":0}]
[{"$f":"'[1]MedianGlobal,Percentis 5-95conv'!A1801","v":0},{"$f":"'[1]MedianGlobal,Percentis 5-95conv'!B1801","v":0}]
[{"$f":"'[1]MedianGlobal,Percentis 5-95conv'!A1802","v":0},{"$f":"'[1]MedianGlobal,Percentis 5-95conv'!B1802","v":0}]
[{"$f":"'[1]MedianGlobal,Percentis 5-95conv'!A1803","v":0},{"$f":"'[1]MedianGlobal,Percentis 5-95conv'!B1803","v":0}]
[{"$f":"'[1]MedianGlobal,Percentis 5-95conv'!A1804","v":0},{"$f":"'[1]MedianGlobal,Percentis 5-95conv'!B1804","v":0}]
[{"$f":"'[1]MedianGlobal,Percentis 5-95conv'!A1805","v":0},{"$f":"'[1]MedianGlobal,Percentis 5-95conv'!B1805","v":0}]
[{"$f":"'[1]MedianGlobal,Percentis 5-95conv'!A1806","v":0},{"$f":"'[1]MedianGlobal,Percentis 5-95conv'!B1806","v":0}]
[{"$f":"'[1]MedianGlobal,Percentis 5-95conv'!A1807","v":0},{"$f":"'[1]MedianGlobal,Percentis 5-95conv'!B1807","v":0}]
[{"$f":"'[1]MedianGlobal,Percentis 5-95conv'!A1808","v":0},{"$f":"'[1]MedianGlobal,Percentis 5-95conv'!B1808","v":0}]
[{"$f":"'[1]MedianGlobal,Percentis 5-95conv'!A1809","v":0},{"$f":"'[1]MedianGlobal,Percentis 5-95conv'!B1809","v":0}]
[{"$f":"'[1]MedianGlobal,Percentis 5-95conv'!A1810","v":0},{"$f":"'[1]MedianGlobal,Percentis 5-95conv'!B1810","v":0}]
[{"$f":"'[1]MedianGlobal,Percentis 5-95conv'!A1811","v":0},{"$f":"'[1]MedianGlobal,Percentis 5-95conv'!B1811","v":0}]
[{"$f":"'[1]MedianGlobal,Percentis 5-95conv'!A1812","v":0},{"$f":"'[1]MedianGlobal,Percentis 5-95conv'!B1812","v":0}]
[{"$f":"'[1]MedianGlobal,Percentis 5-95conv'!A1813","v":0},{"$f":"'[1]MedianGlobal,Percentis 5-95conv'!B1813","v":0}]
[{"$f":"'[1]MedianGlobal,Percentis 5-95conv'!A1814","v":0},{"$f":"'[1]MedianGlobal,Percentis 5-95conv'!B1814","v":0}]
[{"$f":"'[1]MedianGlobal,Percentis 5-95conv'!A1815","v":0},{"$f":"'[1]MedianGlobal,Percentis 5-95conv'!B1815","v":0}]
[{"$f":"'[1]MedianGlobal,Percentis 5-95conv'!A1816","v":0},{"$f":"'[1]MedianGlobal,Percentis 5-95conv'!B1816","v":0}]
[{"$f":"'[1]MedianGlobal,Percentis 5-95conv'!A1817","v":0},{"$f":"'[1]MedianGlobal,Percentis 5-95conv'!B1817","v":0}]
[{"$f":"'[1]MedianGlobal,Percentis 5-95conv'!A1818","v":0},{"$f":"'[1]MedianGlobal,Percentis 5-95conv'!B1818","v":0}]
[{"$f":"'[1]MedianGlobal,Percentis 5-95conv'!A1819","v":0},{"$f":"'[1]MedianGlobal,Percentis 5-95conv'!B1819","v":0}]
[{"$f":"'[1]MedianGlobal,Percentis 5-95conv'!A1820","v":0},{"$f":"'[1]MedianGlobal,Percentis 5-95conv'!B1820","v":0}]
[{"$f":"'[1]MedianGlobal,Percentis 5-95conv'!A1821","v":0},{"$f":"'[1]MedianGlobal,Percentis 5-95conv'!B1821","v":0}]
[{"$f":"'[1]MedianGlobal,Percentis 5-95conv'!A1822","v":0},{"$f":"'[1]MedianGlobal,Percentis 5-95conv'!B1822","v":0}]
[{"$f":"'[1]MedianGlobal,Percentis 5-95conv'!A1823","v":0},{"$f":"'[1]MedianGlobal,Percentis 5-95conv'!B1823","v":0}]
[{"$f":"'[1]MedianGlobal,Percentis 5-95conv'!A1824","v":0},{"$f":"'[1]MedianGlobal,Percentis 5-95conv'!B1824","v":0}]
[{"$f":"'[1]MedianGlobal,Percentis 5-95conv'!A1825","v":0},{"$f":"'[1]MedianGlobal,Percentis 5-95conv'!B1825","v":0}]
[{"$f":"'[1]MedianGlobal,Percentis 5-95conv'!A1826","v":0},{"$f":"'[1]MedianGlobal,Percentis 5-95conv'!B1826","v":0}]
[{"$f":"'[1]MedianGlobal,Percentis 5-95conv'!A1827","v":0},{"$f":"'[1]MedianGlobal,Percentis 5-95conv'!B1827","v":0}]
[{"$f":"'[1]MedianGlobal,Percentis 5-95conv'!A1828","v":0},{"$f":"'[1]MedianGlobal,Percentis 5-95conv'!B1828","v":0}]
[{"$f":"'[1]MedianGlobal,Percentis 5-95conv'!A1829","v":0},{"$f":"'[1]MedianGlobal,Percentis 5-95conv'!B1829","v":0}]
[{"$f":"'[1]MedianGlobal,Percentis 5-95conv'!A1830","v":0},{"$f":"'[1]MedianGlobal,Percentis 5-95conv'!B1830","v":0}]
[{"$f":"'[1]MedianGlobal,Percentis 5-95conv'!A1831","v":0},{"$f":"'[1]MedianGlobal,Percentis 5-95conv'!B1831","v":0}]
[{"$f":"'[1]MedianGlobal,Percentis 5-95conv'!A1832","v":0},{"$f":"'[1]MedianGlobal,Percentis 5-95conv'!B1832","v":0}]
[{"$f":"'[1]MedianGlobal,Percentis 5-95conv'!A1833","v":0},{"$f":"'[1]MedianGlobal,Percentis 5-95conv'!B1833","v":0}]
[{"$f":"'[1]MedianGlobal,Percentis 5-95conv'!A1834","v":0},{"$f":"'[1]MedianGlobal,Percentis 5-95conv'!B1834","v":0}]
[{"$f":"'[1]MedianGlobal,Percentis 5-95conv'!A1835","v":0},{"$f":"'[1]MedianGlobal,Percentis 5-95conv'!B1835","v":0}]
[{"$f":"'[1]MedianGlobal,Percentis 5-95conv'!A1836","v":0},{"$f":"'[1]MedianGlobal,Percentis 5-95conv'!B1836","v":0}]
[{"$f":"'[1]MedianGlobal,Percentis 5-95conv'!A1837","v":0},{"$f":"'[1]MedianGlobal,Percentis 5-95conv'!B1837","v":0}]
[{"$f":"'[1]MedianGlobal,Percentis 5-95conv'!A1838","v":0},{"$f":"'[1]MedianGlobal,Percentis 5-95conv'!B1838","v":0}]
[{"$f":"'[1]MedianGlobal,Percentis 5-95conv'!A1839","v":0},{"$f":"'[1]MedianGlobal,Percentis 5-95conv'!B1839","v":0}]
[{"$f":"'[1]MedianGlobal,Percentis 5-95conv'!A1840","v":0},{"$f":"'[1]MedianGlobal,Percentis 5-95conv'!B1840","v":0}]
[{"$f":"'[1]MedianGlobal,Percentis 5-95conv'!A1841","v":0},{"$f":"'[1]MedianGlobal,Percentis 5-95conv'!B1841","v":0}]
[{"$f":"'[1]MedianGlobal,Percentis 5-95conv'!A1842","v":0},{"$f":"'[1]MedianGlobal,Percentis 5-95conv'!B1842","v":0}]
[{"$f":"'[1]MedianGlobal,Percentis 5-95conv'!A1843","v":0},{"$f":"'[1]MedianGlobal,Percentis 5-95conv'!B1843","v":0}]
[{"$f":"'[1]MedianGlobal,Percentis 5-95conv'!A1844","v":0},{"$f":"'[1]MedianGlobal,Percentis 5-95conv'!B1844","v":0}]
[{"$f":"'[1]MedianGlobal,Percentis 5-95conv'!A1845","v":0},{"$f":"'[1]MedianGlobal,Percentis 5-95conv'!B1845","v":0}]
[{"$f":"'[1]MedianGlobal,Percentis 5-95conv'!A1846","v":0},{"$f":"'[1]MedianGlobal,Percentis 5-95conv'!B1846","v":0}]
[{"$f":"'[1]MedianGlobal,Percentis 5-95conv'!A1847","v":0},{"$f":"'[1]MedianGlobal,Percentis 5-95conv'!B1847","v":0}]
[{"$f":"'[1]MedianGlobal,Percentis 5-95conv'!A1848","v":0},{"$f":"'[1]MedianGlobal,Percentis 5-95conv'!B1848","v":0}]
[{"$f":"'[1]MedianGlobal,Percentis 5-95conv'!A1849","v":0},{"$f":"'[1]MedianGlobal,Percentis 5-95conv'!B1849","v":0}]
[{"$f":"'[1]MedianGlobal,Percentis 5-95conv'!A1850","v":0},{"$f":"'[1]MedianGlobal,Percentis 5-95conv'!B1850","v":0}]
[{"$f":"'[1]MedianGlobal,Percentis 5-95conv'!A1851","v":0},{"$f":"'[1]MedianGlobal,Percentis 5-95conv'!B1851","v":0}]
[{"$f":"'[1]MedianGlobal,Percentis 5-95conv'!A1852","v":0},{"$f":"'[1]MedianGlobal,Percentis 5-95conv'!B1852","v":0}]
[{"$f":"'[1]MedianGlobal,Percentis 5-95conv'!A1853","v":0},{"$f":"'[1]MedianGlobal,Percentis 5-95conv'!B1853","v":0}]
[{"$f":"'[1]MedianGlobal,Percentis 5-95conv'!A1854","v":0},{"$f":"'[1]MedianGlobal,Percentis 5-95conv'!B1854","v":0}]
[{"$f":"'[1]MedianGlobal,Percentis 5-95conv'!A1855","v":0},{"$f":"'[1]MedianGlobal,Percentis 5-95conv'!B1855","v":0}]
[{"$f":"'[1]MedianGlobal,Percentis 5-95conv'!A1856","v":0},{"$f":"'[1]MedianGlobal,Percentis 5-95conv'!B1856","v":0}]
[{"$f":"'[1]MedianGlobal,Percentis 5-95conv'!A1857","v":0},{"$f":"'[1]MedianGlobal,Percentis 5-95conv'!B1857","v":0}]
[{"$f":"'[1]MedianGlobal,Percentis 5-95conv'!A1858","v":0},{"$f":"'[1]MedianGlobal,Percentis 5-95conv'!B1858","v":0}]
[{"$f":"'[1]MedianGlobal,Percentis 5-95conv'!A1859","v":0},{"$f":"'[1]MedianGlobal,Percentis 5-95conv'!B1859","v":0}]
[{"$f":"'[1]MedianGlobal,Percentis 5-95conv'!A1860","v":0},{"$f":"'[1]MedianGlobal,Percentis 5-95conv'!B1860","v":0}]
[{"$f":"'[1]MedianGlobal,Percentis 5-95conv'!A1861","v":0},{"$f":"'[1]MedianGlobal,Percentis 5-95conv'!B1861","v":0}]
[{"$f":"'[1]MedianGlobal,Percentis 5-95conv'!A1862","v":0},{"$f":"'[1]MedianGlobal,Percentis 5-95conv'!B1862","v":0}]
[{"$f":"'[1]MedianGlobal,Percentis 5-95conv'!A1863","v":0},{"$f":"'[1]MedianGlobal,Percentis 5-95conv'!B1863","v":0}]
[{"$f":"'[1]MedianGlobal,Percentis 5-95conv'!A1864","v":0},{"$f":"'[1]MedianGlobal,Percentis 5-95conv'!B1864","v":0}]
[{"$f":"'[1]MedianGlobal,Percentis 5-95conv'!A1865","v":0},{"$f":"'[1]MedianGlobal,Percentis 5-95conv'!B1865","v":0}]
[{"$f":"'[1]MedianGlobal,Percentis 5-95conv'!A1866","v":0},{"$f":"'[1]MedianGlobal,Percentis 5-95conv'!B1866","v":0}]
[{"$f":"'[1]MedianGlobal,Percentis 5-95conv'!A1867","v":0},{"$f":"'[1]MedianGlobal,Percentis 5-95conv'!B1867","v":0}]
[{"$f":"'[1]MedianGlobal,Percentis 5-95conv'!A1868","v":0},{"$f":"'[1]MedianGlobal,Percentis 5-95conv'!B1868","v":0}]
[{"$f":"'[1]MedianGlobal,Percentis 5-95conv'!A1869","v":0},{"$f":"'[1]MedianGlobal,Percentis 5-95conv'!B1869","v":0}]
[{"$f":"'[1]MedianGlobal,Percentis 5-95conv'!A1870","v":0},{"$f":"'[1]MedianGlobal,Percentis 5-95conv'!B1870","v":0}]
[{"$f":"'[1]MedianGlobal,Percentis 5-95conv'!A1871","v":0},{"$f":"'[1]MedianGlobal,Percentis 5-95conv'!B1871","v":0}]
[{"$f":"'[1]MedianGlobal,Percentis 5-95conv'!A1872","v":0},{"$f":"'[1]MedianGlobal,Percentis 5-95conv'!B1872","v":0}]
[{"$f":"'[1]MedianGlobal,Percentis 5-95conv'!A1873","v":0},{"$f":"'[1]MedianGlobal,Percentis 5-95conv'!B1873","v":0}]
[{"$f":"'[1]MedianGlobal,Percentis 5-95conv'!A1874","v":0},{"$f":"'[1]MedianGlobal,Percentis 5-95conv'!B1874","v":0}]
[{"$f":"'[1]MedianGlobal,Percentis 5-95conv'!A1875","v":0},{"$f":"'[1]MedianGlobal,Percentis 5-95conv'!B1875","v":0}]
[{"$f":"'[1]MedianGlobal,Percentis 5-95conv'!A1876","v":0},{"$f":"'[1]MedianGlobal,Percentis 5-95conv'!B1876","v":0}]
[{"$f":"'[1]MedianGlobal,Percentis 5-95conv'!A1877","v":0},{"$f":"'[1]MedianGlobal,Percentis 5-95conv'!B1877","v":0}]
[{"$f":"'[1]MedianGlobal,Percentis 5-95conv'!A1878","v":0},{"$f":"'[1]MedianGlobal,Percentis 5-95conv'!B1878","v":0}]
[{"$f":"'[1]MedianGlobal,Percentis 5-95conv'!A1879","v":0},{"$f":"'[1]MedianGlobal,Percentis 5-95conv'!B1879","v":0}]
[{"$f":"'[1]MedianGlobal,Percentis 5-95conv'!A1880","v":0},{"$f":"'[1]MedianGlobal,Percentis 5-95conv'!B1880","v":0}]
[{"$f":"'[1]MedianGlobal,Percentis 5-95conv'!A1881","v":0},{"$f":"'[1]MedianGlobal,Percentis 5-95conv'!B1881","v":0}]
[{"$f":"'[1]MedianGlobal,Percentis 5-95conv'!A1882","v":0},{"$f":"'[1]MedianGlobal,Percentis 5-95conv'!B1882","v":0}]
[{"$f":"'[1]MedianGlobal,Percentis 5-95conv'!A1883","v":0},{"$f":"'[1]MedianGlobal,Percentis 5-95conv'!B1883","v":0}]
[{"$f":"'[1]MedianGlobal,Percentis 5-95conv'!A1884","v":0},{"$f":"'[1]MedianGlobal,Percentis 5-95conv'!B1884","v":0}]
[{"$f":"'[1]MedianGlobal,Percentis 5-95conv'!A1885","v":0},{"$f":"'[1]MedianGlobal,Percentis 5-95conv'!B1885","v":0}]
[{"$f":"'[1]MedianGlobal,Percentis 5-95conv'!A1886","v":0},{"$f":"'[1]MedianGlobal,Percentis 5-95conv'!B1886","v":0}]
[{"$f":"'[1]MedianGlobal,Percentis 5-95conv'!A1887","v":0},{"$f":"'[1]MedianGlobal,Percentis 5-95conv'!B1887","v":0}]
[{"$f":"'[1]MedianGlobal,Percentis 5-95conv'!A1888","v":0},{"$f":"'[1]MedianGlobal,Percentis 5-95conv'!B1888","v":0}]
[{"$f":"'[1]MedianGlobal,Percentis 5-95conv'!A1889","v":0},{"$f":"'[1]MedianGlobal,Percentis 5-95conv'!B1889","v":0}]
[{"$f":"'[1]MedianGlobal,Percentis 5-95conv'!A1890","v":0},{"$f":"'[1]MedianGlobal,Percentis 5-95conv'!B1890","v":0}]
[{"$f":"'[1]MedianGlobal,Percentis 5-95conv'!A1891","v":0},{"$f":"'[1]MedianGlobal,Percentis 5-95conv'!B1891","v":0}]
[{"$f":"'[1]MedianGlobal,Percentis 5-95conv'!A1892","v":0},{"$f":"'[1]MedianGlobal,Percentis 5-95conv'!B1892","v":0}]
[{"$f":"'[1]MedianGlobal,Percentis 5-95conv'!A1893","v":0},{"$f":"'[1]MedianGlobal,Percentis 5-95conv'!B1893","v":0}]
[{"$f":"'[1]MedianGlobal,Percentis 5-95conv'!A1894","v":0},{"$f":"'[1]MedianGlobal,Percentis 5-95conv'!B1894","v":0}]
[{"$f":"'[1]MedianGlobal,Percentis 5-95conv'!A1895","v":0},{"$f":"'[1]MedianGlobal,Percentis 5-95conv'!B1895","v":0}]
[{"$f":"'[1]MedianGlobal,Percentis 5-95conv'!A1896","v":0},{"$f":"'[1]MedianGlobal,Percentis 5-95conv'!B1896","v":0}]
[{"$f":"'[1]MedianGlobal,Percentis 5-95conv'!A1897","v":0},{"$f":"'[1]MedianGlobal,Percentis 5-95conv'!B1897","v":0}]
[{"$f":"'[1]MedianGlobal,Percentis 5-95conv'!A1898","v":0},{"$f":"'[1]MedianGlobal,Percentis 5-95conv'!B1898","v":0}]
[{"$f":"'[1]MedianGlobal,Percentis 5-95conv'!A1899","v":0},{"$f":"'[1]MedianGlobal,Percentis 5-95conv'!B1899","v":0}]
[{"$f":"'[1]MedianGlobal,Percentis 5-95conv'!A1900","v":0},{"$f":"'[1]MedianGlobal,Percentis 5-95conv'!B1900","v":0}]
[{"$f":"'[1]MedianGlobal,Percentis 5-95conv'!A1901","v":0},{"$f":"'[1]MedianGlobal,Percentis 5-95conv'!B1901","v":0}]
[{"$f":"'[1]MedianGlobal,Percentis 5-95conv'!A1902","v":0},{"$f":"'[1]MedianGlobal,Percentis 5-95conv'!B1902","v":0}]
[{"$f":"'[1]MedianGlobal,Percentis 5-95conv'!A1903","v":0},{"$f":"'[1]MedianGlobal,Percentis 5-95conv'!B1903","v":0}]
[{"$f":"'[1]MedianGlobal,Percentis 5-95conv'!A1904","v":0},{"$f":"'[1]MedianGlobal,Percentis 5-95conv'!B1904","v":0}]
[{"$f":"'[1]MedianGlobal,Percentis 5-95conv'!A1905","v":0},{"$f":"'[1]MedianGlobal,Percentis 5-95conv'!B1905","v":0}]
[{"$f":"'[1]MedianGlobal,Percentis 5-95conv'!A1906","v":0},{"$f":"'[1]MedianGlobal,Percentis 5-95conv'!B1906","v":0}]
[{"$f":"'[1]MedianGlobal,Percentis 5-95conv'!A1907","v":0},{"$f":"'[1]MedianGlobal,Percentis 5-95conv'!B1907","v":0}]
[{"$f":"'[1]MedianGlobal,Percentis 5-95conv'!A1908","v":0},{"$f":"'[1]MedianGlobal,Percentis 5-95conv'!B1908","v":0}]
[{"$f":"'[1]MedianGlobal,Percentis 5-95conv'!A1909","v":0},{"$f":"'[1]MedianGlobal,Percentis 5-95conv'!B1909","v":0}]
[{"$f":"'[1]MedianGlobal,Percentis 5-95conv'!A1910","v":0},{"$f":"'[1]MedianGlobal,Percentis 5-95conv'!B1910","v":0}]
[{"$f":"'[1]MedianGlobal,Percentis 5-95conv'!A1911","v":0},{"$f":"'[1]MedianGlobal,Percentis 5-95conv'!B1911","v":0}]
[{"$f":"'[1]MedianGlobal,Percentis 5-95conv'!A1912","v":0},{"$f":"'[1]MedianGlobal,Percentis 5-95conv'!B1912","v":0}]
[{"$f":"'[1]MedianGlobal,Percentis 5-95conv'!A1913","v":0},{"$f":"'[1]MedianGlobal,Percentis 5-95conv'!B1913","v":0}]
[{"$f":"'[1]MedianGlobal,Percentis 5-95conv'!A1914","v":0},{"$f":"'[1]MedianGlobal,Percentis 5-95conv'!B1914","v":0}]
[{"$f":"'[1]MedianGlobal,Percentis 5-95conv'!A1915","v":0},{"$f":"'[1]MedianGlobal,Percentis 5-95conv'!B1915","v":0}]
[{"$f":"'[1]MedianGlobal,Percentis 5-95conv'!A1916","v":0},{"$f":"'[1]MedianGlobal,Percentis 5-95conv'!B1916","v":0}]
[{"$f":"'[1]MedianGlobal,Percentis 5-95conv'!A1917","v":0},{"$f":"'[1]MedianGlobal,Percentis 5-95conv'!B1917","v":0}]
[{"$f":"'[1]MedianGlobal,Percentis 5-95conv'!A1918","v":0},{"$f":"'[1]MedianGlobal,Percentis 5-95conv'!B1918","v":0}]
[{"$f":"'[1]MedianGlobal,Percentis 5-95conv'!A1919","v":0},{"$f":"'[1]MedianGlobal,Percentis 5-95conv'!B1919","v":0}]
[{"$f":"'[1]MedianGlobal,Percentis 5-95conv'!A1920","v":0},{"$f":"'[1]MedianGlobal,Percentis 5-95conv'!B1920","v":0}]
[{"$f":"'[1]MedianGlobal,Percentis 5-95conv'!A1921","v":0},{"$f":"'[1]MedianGlobal,Percentis 5-95conv'!B1921","v":0}]
[{"$f":"'[1]MedianGlobal,Percentis 5-95conv'!A1922","v":0},{"$f":"'[1]MedianGlobal,Percentis 5-95conv'!B1922","v":0}]
[{"$f":"'[1]MedianGlobal,Percentis 5-95conv'!A1923","v":0},{"$f":"'[1]MedianGlobal,Percentis 5-95conv'!B1923","v":0}]
[{"$f":"'[1]MedianGlobal,Percentis 5-95conv'!A1924","v":0},{"$f":"'[1]MedianGlobal,Percentis 5-95conv'!B1924","v":0}]
[{"$f":"'[1]MedianGlobal,Percentis 5-95conv'!A1925","v":0},{"$f":"'[1]MedianGlobal,Percentis 5-95conv'!B1925","v":0}]
[{"$f":"'[1]MedianGlobal,Percentis 5-95conv'!A1926","v":0},{"$f":"'[1]MedianGlobal,Percentis 5-95conv'!B1926","v":0}]
[{"$f":"'[1]MedianGlobal,Percentis 5-95conv'!A1927","v":0},{"$f":"'[1]MedianGlobal,Percentis 5-95conv'!B1927","v":0}]
[{"$f":"'[1]MedianGlobal,Percentis 5-95conv'!A1928","v":0},{"$f":"'[1]MedianGlobal,Percentis 5-95conv'!B1928","v":0}]
[{"$f":"'[1]MedianGlobal,Percentis 5-95conv'!A1929","v":0},{"$f":"'[1]MedianGlobal,Percentis 5-95conv'!B1929","v":0}]
[{"$f":"'[1]MedianGlobal,Percentis 5-95conv'!A1930","v":0},{"$f":"'[1]MedianGlobal,Percentis 5-95conv'!B1930","v":0}]
[{"$f":"'[1]MedianGlobal,Percentis 5-95conv'!A1931","v":0},{"$f":"'[1]MedianGlobal,Percentis 5-95conv'!B1931","v":0}]
[{"$f":"'[1]MedianGlobal,Percentis 5-95conv'!A1932","v":0},{"$f":"'[1]MedianGlobal,Percentis 5-95conv'!B1932","v":0}]
[{"$f":"'[1]MedianGlobal,Percentis 5-95conv'!A1933","v":0},{"$f":"'[1]MedianGlobal,Percentis 5-95conv'!B1933","v":0}]
[{"$f":"'[1]MedianGlobal,Percentis 5-95conv'!A1934","v":0},{"$f":"'[1]MedianGlobal,Percentis 5-95conv'!B1934","v":0}]
[{"$f":"'[1]MedianGlobal,Percentis 5-95conv'!A1935","v":0},{"$f":"'[1]MedianGlobal,Percentis 5-95conv'!B1935","v":0}]
[{"$f":"'[1]MedianGlobal,Percentis 5-95conv'!A1936","v":0},{"$f":"'[1]MedianGlobal,Percentis 5-95conv'!B1936","v":0}]
[{"$f":"'[1]MedianGlobal,Percentis 5-95conv'!A1937","v":0},{"$f":"'[1]MedianGlobal,Percentis 5-95conv'!B1937","v":0}]
[{"$f":"'[1]MedianGlobal,Percentis 5-95conv'!A1938","v":0},{"$f":"'[1]MedianGlobal,Percentis 5-95conv'!B1938","v":0}]
[{"$f":"'[1]MedianGlobal,Percentis 5-95conv'!A1939","v":0},{"$f":"'[1]MedianGlobal,Percentis 5-95conv'!B1939","v":0}]
[{"$f":"'[1]MedianGlobal,Percentis 5-95conv'!A1940","v":0},{"$f":"'[1]MedianGlobal,Percentis 5-95conv'!B1940","v":0}]
[{"$f":"'[1]MedianGlobal,Percentis 5-95conv'!A1941","v":0},{"$f":"'[1]MedianGlobal,Percentis 5-95conv'!B1941","v":0}]
[{"$f":"'[1]MedianGlobal,Percentis 5-95conv'!A1942","v":0},{"$f":"'[1]MedianGlobal,Percentis 5-95conv'!B1942","v":0}]
[{"$f":"'[1]MedianGlobal,Percentis 5-95conv'!A1943","v":0},{"$f":"'[1]MedianGlobal,Percentis 5-95conv'!B1943","v":0}]
[{"$f":"'[1]MedianGlobal,Percentis 5-95conv'!A1944","v":0},{"$f":"'[1]MedianGlobal,Percentis 5-95conv'!B1944","v":0}]
[{"$f":"'[1]MedianGlobal,Percentis 5-95conv'!A1945","v":0},{"$f":"'[1]MedianGlobal,Percentis 5-95conv'!B1945","v":0}]
[{"$f":"'[1]MedianGlobal,Percentis 5-95conv'!A1946","v":0},{"$f":"'[1]MedianGlobal,Percentis 5-95conv'!B1946","v":0}]
[{"$f":"'[1]MedianGlobal,Percentis 5-95conv'!A1947","v":0},{"$f":"'[1]MedianGlobal,Percentis 5-95conv'!B1947","v":0}]
[{"$f":"'[1]MedianGlobal,Percentis 5-95conv'!A1948","v":0},{"$f":"'[1]MedianGlobal,Percentis 5-95conv'!B1948","v":0}]
[{"$f":"'[1]MedianGlobal,Percentis 5-95conv'!A1949","v":0},{"$f":"'[1]MedianGlobal,Percentis 5-95conv'!B1949","v":0}]
[{"$f":"'[1]MedianGlobal,Percentis 5-95conv'!A1950","v":0},{"$f":"'[1]MedianGlobal,Percentis 5-95conv'!B1950","v":0}]
[{"$f":"'[1]MedianGlobal,Percentis 5-95conv'!A1951","v":0},{"$f":"'[1]MedianGlobal,Percentis 5-95conv'!B1951","v":0}]
[{"$f":"'[1]MedianGlobal,Percentis 5-95conv'!A1952","v":0},{"$f":"'[1]MedianGlobal,Percentis 5-95conv'!B1952","v":0}]
[{"$f":"'[1]MedianGlobal,Percentis 5-95conv'!A1953","v":0},{"$f":"'[1]MedianGlobal,Percentis 5-95conv'!B1953","v":0}]
[{"$f":"'[1]MedianGlobal,Percentis 5-95conv'!A1954","v":0},{"$f":"'[1]MedianGlobal,Percentis 5-95conv'!B1954","v":0}]
[{"$f":"'[1]MedianGlobal,Percentis 5-95conv'!A1955","v":0},{"$f":"'[1]MedianGlobal,Percentis 5-95conv'!B1955","v":0}]
[{"$f":"'[1]MedianGlobal,Percentis 5-95conv'!A1956","v":0},{"$f":"'[1]MedianGlobal,Percentis 5-95conv'!B1956","v":0}]
[{"$f":"'[1]MedianGlobal,Percentis 5-95conv'!A1957","v":0},{"$f":"'[1]MedianGlobal,Percentis 5-95conv'!B1957","v":0}]
[{"$f":"'[1]MedianGlobal,Percentis 5-95conv'!A1958","v":0},{"$f":"'[1]MedianGlobal,Percentis 5-95conv'!B1958","v":0}]
[{"$f":"'[1]MedianGlobal,Percentis 5-95conv'!A1959","v":0},{"$f":"'[1]MedianGlobal,Percentis 5-95conv'!B1959","v":0}]
[{"$f":"'[1]MedianGlobal,Percentis 5-95conv'!A1960","v":0},{"$f":"'[1]MedianGlobal,Percentis 5-95conv'!B1960","v":0}]
[{"$f":"'[1]MedianGlobal,Percentis 5-95conv'!A1961","v":0},{"$f":"'[1]MedianGlobal,Percentis 5-95conv'!B1961","v":0}]
[{"$f":"'[1]MedianGlobal,Percentis 5-95conv'!A1962","v":0},{"$f":"'[1]MedianGlobal,Percentis 5-95conv'!B1962","v":0}]
[{"$f":"'[1]MedianGlobal,Percentis 5-95conv'!A1963","v":0},{"$f":"'[1]MedianGlobal,Percentis 5-95conv'!B1963","v":0}]
[{"$f":"'[1]MedianGlobal,Percentis 5-95conv'!A1964","v":0},{"$f":"'[1]MedianGlobal,Percentis 5-95conv'!B1964","v":0}]
[{"$f":"'[1]MedianGlobal,Percentis 5-95conv'!A1965","v":0},{"$f":"'[1]MedianGlobal,Percentis 5-95conv'!B1965","v":0}]
[{"$f":"'[1]MedianGlobal,Percentis 5-95conv'!A1966","v":0},{"$f":"'[1]MedianGlobal,Percentis 5-95conv'!B1966","v":0}]
[{"$f":"'[1]MedianGlobal,Percentis 5-95conv'!A1967","v":0},{"$f":"'[1]MedianGlobal,Percentis 5-95conv'!B1967","v":0}]
[{"$f":"'[1]MedianGlobal,Percentis 5-95conv'!A1968","v":0},{"$f":"'[1]MedianGlobal,Percentis 5-95conv'!B1968","v":0}]
[{"$f":"'[1]MedianGlobal,Percentis 5-95conv'!A1969","v":0},{"$f":"'[1]MedianGlobal,Percentis 5-95conv'!B1969","v":0}]
[{"$f":"'[1]MedianGlobal,Percentis 5-95conv'!A1970","v":0},{"$f":"'[1]MedianGlobal,Percentis 5-95conv'!B1970","v":0}]
[{"$f":"'[1]MedianGlobal,Percentis 5-95conv'!A1971","v":0},{"$f":"'[1]MedianGlobal,Percentis 5-95conv'!B1971","v":0}]
[{"$f":"'[1]MedianGlobal,Percentis 5-95conv'!A1972","v":0},{"$f":"'[1]MedianGlobal,Percentis 5-95conv'!B1972","v":0}]
[{"$f":"'[1]MedianGlobal,Percentis 5-95conv'!A1973","v":0},{"$f":"'[1]MedianGlobal,Percentis 5-95conv'!B1973","v":0}]
[{"$f":"'[1]MedianGlobal,Percentis 5-95conv'!A1974","v":0},{"$f":"'[1]MedianGlobal,Percentis 5-95conv'!B1974","v":0}]
[{"$f":"'[1]MedianGlobal,Percentis 5-95conv'!A1975","v":0},{"$f":"'[1]MedianGlobal,Percentis 5-95conv'!B1975","v":0}]
[{"$f":"'[1]MedianGlobal,Percentis 5-95conv'!A1976","v":0},{"$f":"'[1]MedianGlobal,Percentis 5-95conv'!B1976","v":0}]
[{"$f":"'[1]MedianGlobal,Percentis 5-95conv'!A1977","v":0},{"$f":"'[1]MedianGlobal,Percentis 5-95conv'!B1977","v":0}]
[{"$f":"'[1]MedianGlobal,Percentis 5-95conv'!A1978","v":0},{"$f":"'[1]MedianGlobal,Percentis 5-95conv'!B1978","v":0}]
[{"$f":"'[1]MedianGlobal,Percentis 5-95conv'!A1979","v":0},{"$f":"'[1]MedianGlobal,Percentis 5-95conv'!B1979","v":0}]
[{"$f":"'[1]MedianGlobal,Percentis 5-95conv'!A1980","v":0},{"$f":"'[1]MedianGlobal,Percentis 5-95conv'!B1980","v":0}]
[{"$f":"'[1]MedianGlobal,Percentis 5-95conv'!A1981","v":0},{"$f":"'[1]MedianGlobal,Percentis 5-95conv'!B1981","v":0}]
[{"$f":"'[1]MedianGlobal,Percentis 5-95conv'!A1982","v":0},{"$f":"'[1]MedianGlobal,Percentis 5-95conv'!B1982","v":0}]
[{"$f":"'[1]MedianGlobal,Percentis 5-95conv'!A1983","v":0},{"$f":"'[1]MedianGlobal,Percentis 5-95conv'!B1983","v":0}]
[{"$f":"'[1]MedianGlobal,Percentis 5-95conv'!A1984","v":0},{"$f":"'[1]MedianGlobal,Percentis 5-95conv'!B1984","v":0}]
[{"$f":"'[1]MedianGlobal,Percentis 5-95conv'!A1985","v":0},{"$f":"'[1]MedianGlobal,Percentis 5-95conv'!B1985","v":0}]
[{"$f":"'[1]MedianGlobal,Percentis 5-95conv'!A1986","v":0},{"$f":"'[1]MedianGlobal,Percentis 5-95conv'!B1986","v":0}]
[{"$f":"'[1]MedianGlobal,Percentis 5-95conv'!A1987","v":0},{"$f":"'[1]MedianGlobal,Percentis 5-95conv'!B1987","v":0}]
[{"$f":"'[1]MedianGlobal,Percentis 5-95conv'!A1988","v":0},{"$f":"'[1]MedianGlobal,Percentis 5-95conv'!B1988","v":0}]
[{"$f":"'[1]MedianGlobal,Percentis 5-95conv'!A1989","v":0},{"$f":"'[1]MedianGlobal,Percentis 5-95conv'!B1989","v":0}]
[{"$f":"'[1]MedianGlobal,Percentis 5-95conv'!A1990","v":0},{"$f":"'[1]MedianGlobal,Percentis 5-95conv'!B1990","v":0}]
[{"$f":"'[1]MedianGlobal,Percentis 5-95conv'!A1991","v":0},{"$f":"'[1]MedianGlobal,Percentis 5-95conv'!B1991","v":0}]
[{"$f":"'[1]MedianGlobal,Percentis 5-95conv'!A1992","v":0},{"$f":"'[1]MedianGlobal,Percentis 5-95conv'!B1992","v":0}]
[{"$f":"'[1]MedianGlobal,Percentis 5-95conv'!A1993","v":0},{"$f":"'[1]MedianGlobal,Percentis 5-95conv'!B1993","v":0}]
[{"$f":"'[1]MedianGlobal,Percentis 5-95conv'!A1994","v":0},{"$f":"'[1]MedianGlobal,Percentis 5-95conv'!B1994","v":0}]
[{"$f":"'[1]MedianGlobal,Percentis 5-95conv'!A1995","v":0},{"$f":"'[1]MedianGlobal,Percentis 5-95conv'!B1995","v":0}]
[{"$f":"'[1]MedianGlobal,Percentis 5-95conv'!A1996","v":0},{"$f":"'[1]MedianGlobal,Percentis 5-95conv'!B1996","v":0}]
[{"$f":"'[1]MedianGlobal,Percentis 5-95conv'!A1997","v":0},{"$f":"'[1]MedianGlobal,Percentis 5-95conv'!B1997","v":0}]
[{"$f":"'[1]MedianGlobal,Percentis 5-95conv'!A1998","v":0},{"$f":"'[1]MedianGlobal,Percentis 5-95conv'!B1998","v":0}]
[{"$f":"'[1]MedianGlobal,Percentis 5-95conv'!A1999","v":0},{"$f":"'[1]MedianGlobal,Percentis 5-95conv'!B1999","v":0}]
[{"$f":"'[1]MedianGlobal,Percentis 5-95conv'!A2000","v":0},{"$f":"'[1]MedianGlobal,Percentis 5-95conv'!B2000","v":0}]
[{"$f":"'[1]MedianGlobal,Percentis 5-95conv'!A2317","v":0},{"$f":"'[1]MedianGlobal,Percentis 5-95conv'!B2317","v":0}]
[{"$f":"'[1]MedianGlobal,Percentis 5-95conv'!A2832","v":0},{"$f":"'[1]MedianGlobal,Percentis 5-95conv'!B2832","v":0}]
[{"$f":"'[1]MedianGlobal,Percentis 5-95conv'!A3053","v":0},{"$f":"'[1]MedianGlobal,Percentis 5-95conv'!B3053","v":0}]
[{"$f":"'[1]MedianGlobal,Percentis 5-95conv'!A4091","v":0},{"$f":"'[1]MedianGlobal,Percentis 5-95conv'!B4091","v":0}]
[{"$f":"'[1]MedianGlobal,Percentis 5-95conv'!A4312","v":0},{"$f":"'[1]MedianGlobal,Percentis 5-95conv'!B4312","v":0}]
[{"$f":"'[1]MedianGlobal,Percentis 5-95conv'!A5056","v":0},{"$f":"'[1]MedianGlobal,Percentis 5-95conv'!B5056","v":0}]
[{"$f":"'[1]MedianGlobal,Percentis 5-95conv'!A5571","v":0},{"$f":"'[1]MedianGlobal,Percentis 5-95conv'!B5571","v":0}]
[{"$f":"'[1]MedianGlobal,Percentis 5-95conv'!A5792","v":0},{"$f":"'[1]MedianGlobal,Percentis 5-95conv'!B5792","v":0}]
[{"$f":"'[1]MedianGlobal,Percentis 5-95conv'!A6307","v":0},{"$f":"'[1]MedianGlobal,Percentis 5-95conv'!B6307","v":0}]
[{"$f":"'[1]MedianGlobal,Percentis 5-95conv'!A7051","v":0},{"$f":"'[1]MedianGlobal,Percentis 5-95conv'!B7051","v":0}]
[{"$f":"'[1]MedianGlobal,Percentis 5-95conv'!A7272","v":0},{"$f":"'[1]MedianGlobal,Percentis 5-95conv'!B7272","v":0}]
[{"$f":"'[1]MedianGlobal,Percentis 5-95conv'!A7787","v":0},{"$f":"'[1]MedianGlobal,Percentis 5-95conv'!B7787","v":0}]
[{"$f":"'[1]MedianGlobal,Percentis 5-95conv'!A8531","v":0},{"$f":"'[1]MedianGlobal,Percentis 5-95conv'!B8531","v":0}]
[{"$f":"'[1]MedianGlobal,Percentis 5-95conv'!A9275","v":0},{"$f":"'[1]MedianGlobal,Percentis 5-95conv'!B9275","v":0}]
[{"$f":"'[1]MedianGlobal,Percentis 5-95conv'!A9790","v":0},{"$f":"'[1]MedianGlobal,Percentis 5-95conv'!B9790","v":0}]
[{"$f":"'[1]MedianGlobal,Percentis 5-95conv'!A10011","v":0},{"$f":"'[1]MedianGlobal,Percentis 5-95conv'!B10011","v":0}]
[{"$f":"'[1]MedianGlobal,Percentis 5-95conv'!A10526","v":0},{"$f":"'[1]MedianGlobal,Percentis 5-95conv'!B10526","v":0}]
[{"$f":"'[1]MedianGlobal,Percentis 5-95conv'!A11270","v":0},{"$f":"'[1]MedianGlobal,Percentis 5-95conv'!B11270","v":0}]
[{"$f":"'[1]MedianGlobal,Percentis 5-95conv'!A11491","v":0},{"$f":"'[1]MedianGlobal,Percentis 5-95conv'!B11491","v":0}]
[{"$f":"'[1]MedianGlobal,Percentis 5-95conv'!A12006","v":0},{"$f":"'[1]MedianGlobal,Percentis 5-95conv'!B12006","v":0}]
[{"$f":"'[1]MedianGlobal,Percentis 5-95conv'!A12750","v":0},{"$f":"'[1]MedianGlobal,Percentis 5-95conv'!B12750","v":0}]
[{"$f":"'[1]MedianGlobal,Percentis 5-95conv'!A13265","v":0},{"$f":"'[1]MedianGlobal,Percentis 5-95conv'!B13265","v":0}]
[{"$f":"'[1]MedianGlobal,Percentis 5-95conv'!A14009","v":0},{"$f":"'[1]MedianGlobal,Percentis 5-95conv'!B14009","v":0}]
[{"$f":"'[1]MedianGlobal,Percentis 5-95conv'!A14230","v":0},{"$f":"'[1]MedianGlobal,Percentis 5-95conv'!B14230","v":0}]
[{"$f":"'[1]MedianGlobal,Percentis 5-95conv'!A14745","v":0},{"$f":"'[1]MedianGlobal,Percentis 5-95conv'!B14745","v":0}]
[{"$f":"'[1]MedianGlobal,Percentis 5-95conv'!A15489","v":0},{"$f":"'[1]MedianGlobal,Percentis 5-95conv'!B15489","v":0}]
[{"$f":"'[1]MedianGlobal,Percentis 5-95conv'!A15922","v":0},{"$f":"'[1]MedianGlobal,Percentis 5-95conv'!B15922","v":0}]
[{"$f":"'[1]MedianGlobal,Percentis 5-95conv'!A16226","v":0},{"$f":"'[1]MedianGlobal,Percentis 5-95conv'!B16226","v":0}]
[{"$f":"'[1]MedianGlobal,Percentis 5-95conv'!A16970","v":0},{"$f":"'[1]MedianGlobal,Percentis 5-95conv'!B16970","v":0}]
[{"$f":"'[1]MedianGlobal,Percentis 5-95conv'!A17485","v":0},{"$f":"'[1]MedianGlobal,Percentis 5-95conv'!B17485","v":0}]
[{"$f":"'[1]MedianGlobal,Percentis 5-95conv'!A17706","v":0},{"$f":"'[1]MedianGlobal,Percentis 5-95conv'!B17706","v":0}]
[{"$f":"'[1]MedianGlobal,Percentis 5-95conv'!A18450","v":0},{"$f":"'[1]MedianGlobal,Percentis 5-95conv'!B18450","v":0}]
[{"$f":"'[1]MedianGlobal,Percentis 5-95conv'!A18965","v":0},{"$f":"'[1]MedianGlobal,Percentis 5-95conv'!B18965","v":0}]
[{"$f":"'[1]MedianGlobal,Percentis 5-95conv'!A19709","v":0},{"$f":"'[1]MedianGlobal,Percentis 5-95conv'!B19709","v":0}]
[{"$f":"'[1]MedianGlobal,Percentis 5-95conv'!A19930","v":0},{"$f":"'[1]MedianGlobal,Percentis 5-95conv'!B19930","v":0}]
[{"$f":"'[1]MedianGlobal,Percentis 5-95conv'!A20445","v":0},{"$f":"'[1]MedianGlobal,Percentis 5-95conv'!B20445","v":0}]
[{"$f":"'[1]MedianGlobal,Percentis 5-95conv'!A21189","v":0},{"$f":"'[1]MedianGlobal,Percentis 5-95conv'!B21189","v":0}]
[{"$f":"'[1]MedianGlobal,Percentis 5-95conv'!A21704","v":0},{"$f":"'[1]MedianGlobal,Percentis 5-95conv'!B21704","v":0}]
[{"$f":"'[1]MedianGlobal,Percentis 5-95conv'!A21925","v":0},{"$f":"'[1]MedianGlobal,Percentis 5-95conv'!B21925","v":0}]
[{"$f":"'[1]MedianGlobal,Percentis 5-95conv'!A22669","v":0},{"$f":"'[1]MedianGlobal,Percentis 5-95conv'!B22669","v":0}]
[{"$f":"'[1]MedianGlobal,Percentis 5-95conv'!A23184","v":0},{"$f":"'[1]MedianGlobal,Percentis 5-95conv'!B23184","v":0}]
[{"$f":"'[1]MedianGlobal,Percentis 5-95conv'!A23928","v":0},{"$f":"'[1]MedianGlobal,Percentis 5-95conv'!B23928","v":0}]
[{"$f":"'[1]MedianGlobal,Percentis 5-95conv'!A24443","v":0},{"$f":"'[1]MedianGlobal,Percentis 5-95conv'!B24443","v":0}]
[{"$f":"'[1]MedianGlobal,Percentis 5-95conv'!A24664","v":0},{"$f":"'[1]MedianGlobal,Percentis 5-95conv'!B24664","v":0}]
[{"$f":"'[1]MedianGlobal,Percentis 5-95conv'!A25408","v":0},{"$f":"'[1]MedianGlobal,Percentis 5-95conv'!B25408","v":0}]
[{"$f":"'[1]MedianGlobal,Percentis 5-95conv'!A25923","v":0},{"$f":"'[1]MedianGlobal,Percentis 5-95conv'!B25923","v":0}]
[{"$f":"'[1]MedianGlobal,Percentis 5-95conv'!A26144","v":0},{"$f":"'[1]MedianGlobal,Percentis 5-95conv'!B26144","v":0}]
[{"$f":"'[1]MedianGlobal,Percentis 5-95conv'!A26888","v":0},{"$f":"'[1]MedianGlobal,Percentis 5-95conv'!B26888","v":0}]
[{"$f":"'[1]MedianGlobal,Percentis 5-95conv'!A27403","v":0},{"$f":"'[1]MedianGlobal,Percentis 5-95conv'!B27403","v":0}]
[{"$f":"'[1]MedianGlobal,Percentis 5-95conv'!A28147","v":0},{"$f":"'[1]MedianGlobal,Percentis 5-95conv'!B28147","v":0}]
[{"$f":"'[1]MedianGlobal,Percentis 5-95conv'!A28662","v":0},{"$f":"'[1]MedianGlobal,Percentis 5-95conv'!B28662","v":0}]
[{"$f":"'[1]MedianGlobal,Percentis 5-95conv'!A28883","v":0},{"$f":"'[1]MedianGlobal,Percentis 5-95conv'!B28883","v":0}]
[{"$f":"'[1]MedianGlobal,Percentis 5-95conv'!A29551","v":0},{"$f":"'[1]MedianGlobal,Percentis 5-95conv'!B29551","v":0}]
[{"$f":"'[1]MedianGlobal,Percentis 5-95conv'!A30143","v":0},{"$f":"'[1]MedianGlobal,Percentis 5-95conv'!B30143","v":0}]
[{"$f":"'[1]MedianGlobal,Percentis 5-95conv'!A30364","v":0},{"$f":"'[1]MedianGlobal,Percentis 5-95conv'!B30364","v":0}]
[{"$f":"'[1]MedianGlobal,Percentis 5-95conv'!A30879","v":0},{"$f":"'[1]MedianGlobal,Percentis 5-95conv'!B30879","v":0}]
[{"$f":"'[1]MedianGlobal,Percentis 5-95conv'!A31623","v":0},{"$f":"'[1]MedianGlobal,Percentis 5-95conv'!B31623","v":0}]
[{"$f":"'[1]MedianGlobal,Percentis 5-95conv'!A31844","v":0},{"$f":"'[1]MedianGlobal,Percentis 5-95conv'!B31844","v":0}]
[{"$f":"'[1]MedianGlobal,Percentis 5-95conv'!A32359","v":0},{"$f":"'[1]MedianGlobal,Percentis 5-95conv'!B32359","v":0}]
[{"$f":"'[1]MedianGlobal,Percentis 5-95conv'!A33103","v":0},{"$f":"'[1]MedianGlobal,Percentis 5-95conv'!B33103","v":0}]
[{"$f":"'[1]MedianGlobal,Percentis 5-95conv'!A33847","v":0},{"$f":"'[1]MedianGlobal,Percentis 5-95conv'!B33847","v":0}]
[{"$f":"'[1]MedianGlobal,Percentis 5-95conv'!A34362","v":0},{"$f":"'[1]MedianGlobal,Percentis 5-95conv'!B34362","v":0}]
[{"$f":"'[1]MedianGlobal,Percentis 5-95conv'!A34583","v":0},{"$f":"'[1]MedianGlobal,Percentis 5-95conv'!B34583","v":0}]
[{"$f":"'[1]MedianGlobal,Percentis 5-95conv'!A35098","v":0},{"$f":"'[1]MedianGlobal,Percentis 5-95conv'!B35098","v":0}]
[{"$f":"'[1]MedianGlobal,Percentis 5-95conv'!A35842","v":0},{"$f":"'[1]MedianGlobal,Percentis 5-95conv'!B35842","v":0}]
[{"$f":"'[1]MedianGlobal,Percentis 5-95conv'!A36063","v":0},{"$f":"'[1]MedianGlobal,Percentis 5-95conv'!B36063","v":0}]
[{"$f":"'[1]MedianGlobal,Percentis 5-95conv'!A36578","v":0},{"$f":"'[1]MedianGlobal,Percentis 5-95conv'!B36578","v":0}]
[{"$f":"'[1]MedianGlobal,Percentis 5-95conv'!A37322","v":0},{"$f":"'[1]MedianGlobal,Percentis 5-95conv'!B37322","v":0}]
[{"$f":"'[1]MedianGlobal,Percentis 5-95conv'!A38066","v":0},{"$f":"'[1]MedianGlobal,Percentis 5-95conv'!B38066","v":0}]
[{"$f":"'[1]MedianGlobal,Percentis 5-95conv'!A38581","v":0},{"$f":"'[1]MedianGlobal,Percentis 5-95conv'!B38581","v":0}]
[{"$f":"'[1]MedianGlobal,Percentis 5-95conv'!A38802","v":0},{"$f":"'[1]MedianGlobal,Percentis 5-95conv'!B38802","v":0}]
[{"$f":"'[1]MedianGlobal,Percentis 5-95conv'!A39317","v":0},{"$f":"'[1]MedianGlobal,Percentis 5-95conv'!B39317","v":0}]
[{"$f":"'[1]MedianGlobal,Percentis 5-95conv'!A40061","v":0},{"$f":"'[1]MedianGlobal,Percentis 5-95conv'!B40061","v":0}]
[{"$f":"'[1]MedianGlobal,Percentis 5-95conv'!A40282","v":0},{"$f":"'[1]MedianGlobal,Percentis 5-95conv'!B40282","v":0}]
[{"$f":"'[1]MedianGlobal,Percentis 5-95conv'!A40797","v":0},{"$f":"'[1]MedianGlobal,Percentis 5-95conv'!B40797","v":0}]
[{"$f":"'[1]MedianGlobal,Percentis 5-95conv'!A41541","v":0},{"$f":"'[1]MedianGlobal,Percentis 5-95conv'!B41541","v":0}]
[{"$f":"'[1]MedianGlobal,Percentis 5-95conv'!A42056","v":0},{"$f":"'[1]MedianGlobal,Percentis 5-95conv'!B42056","v":0}]
[{"$f":"'[1]MedianGlobal,Percentis 5-95conv'!A42277","v":0},{"$f":"'[1]MedianGlobal,Percentis 5-95conv'!B42277","v":0}]
[{"$f":"'[1]MedianGlobal,Percentis 5-95conv'!A43180","v":0},{"$f":"'[1]MedianGlobal,Percentis 5-95conv'!B43180","v":0}]
[{"$f":"'[1]MedianGlobal,Percentis 5-95conv'!A43537","v":0},{"$f":"'[1]MedianGlobal,Percentis 5-95conv'!B43537","v":0}]
[{"$f":"'[1]MedianGlobal,Percentis 5-95conv'!A44281","v":0},{"$f":"'[1]MedianGlobal,Percentis 5-95conv'!B44281","v":0}]
[{"$f":"'[1]MedianGlobal,Percentis 5-95conv'!A44502","v":0},{"$f":"'[1]MedianGlobal,Percentis 5-95conv'!B44502","v":0}]
[{"$f":"'[1]MedianGlobal,Percentis 5-95conv'!A45017","v":0},{"$f":"'[1]MedianGlobal,Percentis 5-95conv'!B45017","v":0}]
[{"$f":"'[1]MedianGlobal,Percentis 5-95conv'!A45761","v":0},{"$f":"'[1]MedianGlobal,Percentis 5-95conv'!B45761","v":0}]
[{"$f":"'[1]MedianGlobal,Percentis 5-95conv'!A46276","v":0},{"$f":"'[1]MedianGlobal,Percentis 5-95conv'!B46276","v":0}]
[{"$f":"'[1]MedianGlobal,Percentis 5-95conv'!A46497","v":0},{"$f":"'[1]MedianGlobal,Percentis 5-95conv'!B46497","v":0}]
[{"$f":"'[1]MedianGlobal,Percentis 5-95conv'!A47241","v":0},{"$f":"'[1]MedianGlobal,Percentis 5-95conv'!B47241","v":0}]
[{"$f":"'[1]MedianGlobal,Percentis 5-95conv'!A47756","v":0},{"$f":"'[1]MedianGlobal,Percentis 5-95conv'!B47756","v":0}]
[{"$f":"'[1]MedianGlobal,Percentis 5-95conv'!A48500","v":0},{"$f":"'[1]MedianGlobal,Percentis 5-95conv'!B48500","v":0}]
[{"$f":"'[1]MedianGlobal,Percentis 5-95conv'!A48721","v":0},{"$f":"'[1]MedianGlobal,Percentis 5-95conv'!B48721","v":0}]
[{"$f":"'[1]MedianGlobal,Percentis 5-95conv'!A49236","v":0},{"$f":"'[1]MedianGlobal,Percentis 5-95conv'!B49236","v":0}]
[{"$f":"'[1]MedianGlobal,Percentis 5-95conv'!A49980","v":0},{"$f":"'[1]MedianGlobal,Percentis 5-95conv'!B49980","v":0}]
[{"$f":"'[1]MedianGlobal,Percentis 5-95conv'!A50495","v":0},{"$f":"'[1]MedianGlobal,Percentis 5-95conv'!B50495","v":0}]
[{"$f":"'[1]MedianGlobal,Percentis 5-95conv'!A50716","v":0},{"$f":"'[1]MedianGlobal,Percentis 5-95conv'!B50716","v":0}]
[{"$f":"'[1]MedianGlobal,Percentis 5-95conv'!A51460","v":0},{"$f":"'[1]MedianGlobal,Percentis 5-95conv'!B51460","v":0}]
[{"$f":"'[1]MedianGlobal,Percentis 5-95conv'!A51975","v":0},{"$f":"'[1]MedianGlobal,Percentis 5-95conv'!B51975","v":0}]
[{"$f":"'[1]MedianGlobal,Percentis 5-95conv'!A52719","v":0},{"$f":"'[1]MedianGlobal,Percentis 5-95conv'!B52719","v":0}]
[{"$f":"'[1]MedianGlobal,Percentis 5-95conv'!A53234","v":0},{"$f":"'[1]MedianGlobal,Percentis 5-95conv'!B53234","v":0}]
[{"$f":"'[1]MedianGlobal,Percentis 5-95conv'!A53455","v":0},{"$f":"'[1]MedianGlobal,Percentis 5-95conv'!B53455","v":0}]
[{"$f":"'[1]MedianGlobal,Percentis 5-95conv'!A54199","v":0},{"$f":"'[1]MedianGlobal,Percentis 5-95conv'!B54199","v":0}]
[{"$f":"'[1]MedianGlobal,Percentis 5-95conv'!A54714","v":0},{"$f":"'[1]MedianGlobal,Percentis 5-95conv'!B54714","v":0}]
[{"$f":"'[1]MedianGlobal,Percentis 5-95conv'!A54935","v":0},{"$f":"'[1]MedianGlobal,Percentis 5-95conv'!B54935","v":0}]
[{"$f":"'[1]MedianGlobal,Percentis 5-95conv'!A55679","v":0},{"$f":"'[1]MedianGlobal,Percentis 5-95conv'!B55679","v":0}]
[{"$f":"'[1]MedianGlobal,Percentis 5-95conv'!A56194","v":0},{"$f":"'[1]MedianGlobal,Percentis 5-95conv'!B56194","v":0}]
[{"$f":"'[1]MedianGlobal,Percentis 5-95conv'!A56415","v":0},{"$f":"'[1]MedianGlobal,Percentis 5-95conv'!B56415","v":0}]
[{"$f":"'[1]MedianGlobal,Percentis 5-95conv'!A57385","v":0},{"$f":"'[1]MedianGlobal,Percentis 5-95conv'!B57385","v":0}]
[{"$f":"'[1]MedianGlobal,Percentis 5-95conv'!A57675","v":0},{"$f":"'[1]MedianGlobal,Percentis 5-95conv'!B57675","v":0}]
[{"$f":"'[1]MedianGlobal,Percentis 5-95conv'!A58419","v":0},{"$f":"'[1]MedianGlobal,Percentis 5-95conv'!B58419","v":0}]
[{"$f":"'[1]MedianGlobal,Percentis 5-95conv'!A58934","v":0},{"$f":"'[1]MedianGlobal,Percentis 5-95conv'!B58934","v":0}]
[{"$f":"'[1]MedianGlobal,Percentis 5-95conv'!A59155","v":0},{"$f":"'[1]MedianGlobal,Percentis 5-95conv'!B59155","v":0}]
[{"$f":"'[1]MedianGlobal,Percentis 5-95conv'!A59670","v":0},{"$f":"'[1]MedianGlobal,Percentis 5-95conv'!B59670","v":0}]
[{"$f":"'[1]MedianGlobal,Percentis 5-95conv'!A60414","v":0},{"$f":"'[1]MedianGlobal,Percentis 5-95conv'!B60414","v":0}]
[{"$f":"'[1]MedianGlobal,Percentis 5-95conv'!A60635","v":0},{"$f":"'[1]MedianGlobal,Percentis 5-95conv'!B60635","v":0}]
[{"$f":"'[1]MedianGlobal,Percentis 5-95conv'!A61150","v":0},{"$f":"'[1]MedianGlobal,Percentis 5-95conv'!B61150","v":0}]
[{"$f":"'[1]MedianGlobal,Percentis 5-95conv'!A61894","v":0},{"$f":"'[1]MedianGlobal,Percentis 5-95conv'!B61894","v":0}]
[{"$f":"'[1]MedianGlobal,Percentis 5-95conv'!A62638","v":0},{"$f":"'[1]MedianGlobal,Percentis 5-95conv'!B62638","v":0}]
[{"$f":"'[1]MedianGlobal,Percentis 5-95conv'!A63153","v":0},{"$f":"'[1]MedianGlobal,Percentis 5-95conv'!B63153","v":0}]
[{"$f":"'[1]MedianGlobal,Percentis 5-95conv'!A63374","v":0},{"$f":"'[1]MedianGlobal,Percentis 5-95conv'!B63374","v":0}]
[{"$f":"'[1]MedianGlobal,Percentis 5-95conv'!A63889","v":0},{"$f":"'[1]MedianGlobal,Percentis 5-95conv'!B63889","v":0}]
[{"$f":"'[1]MedianGlobal,Percentis 5-95conv'!A64633","v":0},{"$f":"'[1]MedianGlobal,Percentis 5-95conv'!B64633","v":0}]
[{"$f":"'[1]MedianGlobal,Percentis 5-95conv'!A64854","v":0},{"$f":"'[1]MedianGlobal,Percentis 5-95conv'!B64854","v":0}]
[{"$f":"'[1]MedianGlobal,Percentis 5-95conv'!A65369","v":0},{"$f":"'[1]MedianGlobal,Percentis 5-95conv'!B65369","v":0}]
[{"$f":"'[1]MedianGlobal,Percentis 5-95conv'!A66113","v":0},{"$f":"'[1]MedianGlobal,Percentis 5-95conv'!B66113","v":0}]
[{"$f":"'[1]MedianGlobal,Percentis 5-95conv'!A66334","v":0},{"$f":"'[1]MedianGlobal,Percentis 5-95conv'!B66334","v":0}]
[{"$f":"'[1]MedianGlobal,Percentis 5-95conv'!A67372","v":0},{"$f":"'[1]MedianGlobal,Percentis 5-95conv'!B67372","v":0}]
[{"$f":"'[1]MedianGlobal,Percentis 5-95conv'!A67593","v":0},{"$f":"'[1]MedianGlobal,Percentis 5-95conv'!B67593","v":0}]
[{"$f":"'[1]MedianGlobal,Percentis 5-95conv'!A68108","v":0},{"$f":"'[1]MedianGlobal,Percentis 5-95conv'!B68108","v":0}]
[{"$f":"'[1]MedianGlobal,Percentis 5-95conv'!A68852","v":0},{"$f":"'[1]MedianGlobal,Percentis 5-95conv'!B68852","v":0}]
[{"$f":"'[1]MedianGlobal,Percentis 5-95conv'!A69073","v":0},{"$f":"'[1]MedianGlobal,Percentis 5-95conv'!B69073","v":0}]
[{"$f":"'[1]MedianGlobal,Percentis 5-95conv'!A69588","v":0},{"$f":"'[1]MedianGlobal,Percentis 5-95conv'!B69588","v":0}]
[{"$f":"'[1]MedianGlobal,Percentis 5-95conv'!A70332","v":0},{"$f":"'[1]MedianGlobal,Percentis 5-95conv'!B70332","v":0}]
[{"$f":"'[1]MedianGlobal,Percentis 5-95conv'!A71014","v":0},{"$f":"'[1]MedianGlobal,Percentis 5-95conv'!B71014","v":0}]
[{"$f":"'[1]MedianGlobal,Percentis 5-95conv'!A71069","v":0},{"$f":"'[1]MedianGlobal,Percentis 5-95conv'!B71069","v":0}]
[{"$f":"'[1]MedianGlobal,Percentis 5-95conv'!A71813","v":0},{"$f":"'[1]MedianGlobal,Percentis 5-95conv'!B71813","v":0}]
[{"$f":"'[1]MedianGlobal,Percentis 5-95conv'!A72328","v":0},{"$f":"'[1]MedianGlobal,Percentis 5-95conv'!B72328","v":0}]
[{"$f":"'[1]MedianGlobal,Percentis 5-95conv'!A73072","v":0},{"$f":"'[1]MedianGlobal,Percentis 5-95conv'!B73072","v":0}]
[{"$f":"'[1]MedianGlobal,Percentis 5-95conv'!A73293","v":0},{"$f":"'[1]MedianGlobal,Percentis 5-95conv'!B73293","v":0}]
[{"$f":"'[1]MedianGlobal,Percentis 5-95conv'!A73808","v":0},{"$f":"'[1]MedianGlobal,Percentis 5-95conv'!B73808","v":0}]
[{"$f":"'[1]MedianGlobal,Percentis 5-95conv'!A74552","v":0},{"$f":"'[1]MedianGlobal,Percentis 5-95conv'!B74552","v":0}]
[{"$f":"'[1]MedianGlobal,Percentis 5-95conv'!A75067","v":0},{"$f":"'[1]MedianGlobal,Percentis 5-95conv'!B75067","v":0}]
[{"$f":"'[1]MedianGlobal,Percentis 5-95conv'!A75288","v":0},{"$f":"'[1]MedianGlobal,Percentis 5-95conv'!B75288","v":0}]
[{"$f":"'[1]MedianGlobal,Percentis 5-95conv'!A76032","v":0},{"$f":"'[1]MedianGlobal,Percentis 5-95conv'!B76032","v":0}]
[{"$f":"'[1]MedianGlobal,Percentis 5-95conv'!A76547","v":0},{"$f":"'[1]MedianGlobal,Percentis 5-95conv'!B76547","v":0}]
[{"$f":"'[1]MedianGlobal,Percentis 5-95conv'!A77291","v":0},{"$f":"'[1]MedianGlobal,Percentis 5-95conv'!B77291","v":0}]
[{"$f":"'[1]MedianGlobal,Percentis 5-95conv'!A77806","v":0},{"$f":"'[1]MedianGlobal,Percentis 5-95conv'!B77806","v":0}]
[{"$f":"'[1]MedianGlobal,Percentis 5-95conv'!A78027","v":0},{"$f":"'[1]MedianGlobal,Percentis 5-95conv'!B78027","v":0}]
[{"$f":"'[1]MedianGlobal,Percentis 5-95conv'!A78771","v":0},{"$f":"'[1]MedianGlobal,Percentis 5-95conv'!B78771","v":0}]
[{"$f":"'[1]MedianGlobal,Percentis 5-95conv'!A79286","v":0},{"$f":"'[1]MedianGlobal,Percentis 5-95conv'!B79286","v":0}]
[{"$f":"'[1]MedianGlobal,Percentis 5-95conv'!A79507","v":0},{"$f":"'[1]MedianGlobal,Percentis 5-95conv'!B79507","v":0}]
[{"$f":"'[1]MedianGlobal,Percentis 5-95conv'!A80251","v":0},{"$f":"'[1]MedianGlobal,Percentis 5-95conv'!B80251","v":0}]
[{"$f":"'[1]MedianGlobal,Percentis 5-95conv'!A80766","v":0},{"$f":"'[1]MedianGlobal,Percentis 5-95conv'!B80766","v":0}]
[{"$f":"'[1]MedianGlobal,Percentis 5-95conv'!A80987","v":0},{"$f":"'[1]MedianGlobal,Percentis 5-95conv'!B80987","v":0}]
[{"$f":"'[1]MedianGlobal,Percentis 5-95conv'!A81502","v":0},{"$f":"'[1]MedianGlobal,Percentis 5-95conv'!B81502","v":0}]
[{"$f":"'[1]MedianGlobal,Percentis 5-95conv'!A82246","v":0},{"$f":"'[1]MedianGlobal,Percentis 5-95conv'!B82246","v":0}]
[{"$f":"'[1]MedianGlobal,Percentis 5-95conv'!A82990","v":0},{"$f":"'[1]MedianGlobal,Percentis 5-95conv'!B82990","v":0}]
[{"$f":"'[1]MedianGlobal,Percentis 5-95conv'!A83505","v":0},{"$f":"'[1]MedianGlobal,Percentis 5-95conv'!B83505","v":0}]
[{"$f":"'[1]MedianGlobal,Percentis 5-95conv'!A83726","v":0},{"$f":"'[1]MedianGlobal,Percentis 5-95conv'!B83726","v":0}]
[{"$f":"'[1]MedianGlobal,Percentis 5-95conv'!A84395","v":0},{"$f":"'[1]MedianGlobal,Percentis 5-95conv'!B84395","v":0}]
[{"$f":"'[1]MedianGlobal,Percentis 5-95conv'!A84986","v":0},{"$f":"'[1]MedianGlobal,Percentis 5-95conv'!B84986","v":0}]
[{"$f":"'[1]MedianGlobal,Percentis 5-95conv'!A85207","v":0},{"$f":"'[1]MedianGlobal,Percentis 5-95conv'!B85207","v":0}]
[{"$f":"'[1]MedianGlobal,Percentis 5-95conv'!A85722","v":0},{"$f":"'[1]MedianGlobal,Percentis 5-95conv'!B85722","v":0}]
[{"$f":"'[1]MedianGlobal,Percentis 5-95conv'!A86466","v":0},{"$f":"'[1]MedianGlobal,Percentis 5-95conv'!B86466","v":0}]
[{"$f":"'[1]MedianGlobal,Percentis 5-95conv'!A87210","v":0},{"$f":"'[1]MedianGlobal,Percentis 5-95conv'!B87210","v":0}]
[{"$f":"'[1]MedianGlobal,Percentis 5-95conv'!A87725","v":0},{"$f":"'[1]MedianGlobal,Percentis 5-95conv'!B87725","v":0}]
[{"$f":"'[1]MedianGlobal,Percentis 5-95conv'!A87946","v":0},{"$f":"'[1]MedianGlobal,Percentis 5-95conv'!B87946","v":0}]
[{"$f":"'[1]MedianGlobal,Percentis 5-95conv'!A88461","v":0},{"$f":"'[1]MedianGlobal,Percentis 5-95conv'!B88461","v":0}]
[{"$f":"'[1]MedianGlobal,Percentis 5-95conv'!A89205","v":0},{"$f":"'[1]MedianGlobal,Percentis 5-95conv'!B89205","v":0}]
[{"$f":"'[1]MedianGlobal,Percentis 5-95conv'!A89426","v":0},{"$f":"'[1]MedianGlobal,Percentis 5-95conv'!B89426","v":0}]
[{"$f":"'[1]MedianGlobal,Percentis 5-95conv'!A89941","v":0},{"$f":"'[1]MedianGlobal,Percentis 5-95conv'!B89941","v":0}]
[{"$f":"'[1]MedianGlobal,Percentis 5-95conv'!A90685","v":0},{"$f":"'[1]MedianGlobal,Percentis 5-95conv'!B90685","v":0}]
[{"$f":"'[1]MedianGlobal,Percentis 5-95conv'!A91429","v":0},{"$f":"'[1]MedianGlobal,Percentis 5-95conv'!B91429","v":0}]
[{"$f":"'[1]MedianGlobal,Percentis 5-95conv'!A91944","v":0},{"$f":"'[1]MedianGlobal,Percentis 5-95conv'!B91944","v":0}]
[{"$f":"'[1]MedianGlobal,Percentis 5-95conv'!A92165","v":0},{"$f":"'[1]MedianGlobal,Percentis 5-95conv'!B92165","v":0}]
[{"$f":"'[1]MedianGlobal,Percentis 5-95conv'!A92680","v":0},{"$f":"'[1]MedianGlobal,Percentis 5-95conv'!B92680","v":0}]
[{"$f":"'[1]MedianGlobal,Percentis 5-95conv'!A93424","v":0},{"$f":"'[1]MedianGlobal,Percentis 5-95conv'!B93424","v":0}]
[{"$f":"'[1]MedianGlobal,Percentis 5-95conv'!A93645","v":0},{"$f":"'[1]MedianGlobal,Percentis 5-95conv'!B93645","v":0}]
[{"$f":"'[1]MedianGlobal,Percentis 5-95conv'!A94160","v":0},{"$f":"'[1]MedianGlobal,Percentis 5-95conv'!B94160","v":0}]
[{"$f":"'[1]MedianGlobal,Percentis 5-95conv'!A94904","v":0},{"$f":"'[1]MedianGlobal,Percentis 5-95conv'!B94904","v":0}]
[{"$f":"'[1]MedianGlobal,Percentis 5-95conv'!A95125","v":0},{"$f":"'[1]MedianGlobal,Percentis 5-95conv'!B95125","v":0}]
[{"$f":"'[1]MedianGlobal,Percentis 5-95conv'!A95640","v":0},{"$f":"'[1]MedianGlobal,Percentis 5-95conv'!B95640","v":0}]
[{"$f":"'[1]MedianGlobal,Percentis 5-95conv'!A96384","v":0},{"$f":"'[1]MedianGlobal,Percentis 5-95conv'!B96384","v":0}]
[{"$f":"'[1]MedianGlobal,Percentis 5-95conv'!A96899","v":0},{"$f":"'[1]MedianGlobal,Percentis 5-95conv'!B96899","v":0}]
[{"$f":"'[1]MedianGlobal,Percentis 5-95conv'!A97643","v":0},{"$f":"'[1]MedianGlobal,Percentis 5-95conv'!B97643","v":0}]
[{"$f":"'[1]MedianGlobal,Percentis 5-95conv'!A97864","v":0},{"$f":"'[1]MedianGlobal,Percentis 5-95conv'!B97864","v":0}]
[{"$f":"'[1]MedianGlobal,Percentis 5-95conv'!A98600","v":0},{"$f":"'[1]MedianGlobal,Percentis 5-95conv'!B98600","v":0}]
[{"$f":"'[1]MedianGlobal,Percentis 5-95conv'!A99124","v":0},{"$f":"'[1]MedianGlobal,Percentis 5-95conv'!B99124","v":0}]
[{"$f":"'[1]MedianGlobal,Percentis 5-95conv'!A99639","v":0},{"$f":"'[1]MedianGlobal,Percentis 5-95conv'!B99639","v":0}]
[{"$f":"'[1]MedianGlobal,Percentis 5-95conv'!A99860","v":0},{"$f":"'[1]MedianGlobal,Percentis 5-95conv'!B99860","v":0}]
[{"$f":"'[1]MedianGlobal,Percentis 5-95conv'!A100604","v":0},{"$f":"'[1]MedianGlobal,Percentis 5-95conv'!B100604","v":0}]
[{"$f":"'[1]MedianGlobal,Percentis 5-95conv'!A101119","v":0},{"$f":"'[1]MedianGlobal,Percentis 5-95conv'!B101119","v":0}]
[{"$f":"'[1]MedianGlobal,Percentis 5-95conv'!A101863","v":0},{"$f":"'[1]MedianGlobal,Percentis 5-95conv'!B101863","v":0}]
[{"$f":"'[1]MedianGlobal,Percentis 5-95conv'!A102084","v":0},{"$f":"'[1]MedianGlobal,Percentis 5-95conv'!B102084","v":0}]
[{"$f":"'[1]MedianGlobal,Percentis 5-95conv'!A102599","v":0},{"$f":"'[1]MedianGlobal,Percentis 5-95conv'!B102599","v":0}]
[{"$f":"'[1]MedianGlobal,Percentis 5-95conv'!A103343","v":0},{"$f":"'[1]MedianGlobal,Percentis 5-95conv'!B103343","v":0}]
[{"$f":"'[1]MedianGlobal,Percentis 5-95conv'!A103858","v":0},{"$f":"'[1]MedianGlobal,Percentis 5-95conv'!B103858","v":0}]
[{"$f":"'[1]MedianGlobal,Percentis 5-95conv'!A104079","v":0},{"$f":"'[1]MedianGlobal,Percentis 5-95conv'!B104079","v":0}]
[{"$f":"'[1]MedianGlobal,Percentis 5-95conv'!A104823","v":0},{"$f":"'[1]MedianGlobal,Percentis 5-95conv'!B104823","v":0}]
[{"$f":"'[1]MedianGlobal,Percentis 5-95conv'!A105338","v":0},{"$f":"'[1]MedianGlobal,Percentis 5-95conv'!B105338","v":0}]
[{"$f":"'[1]MedianGlobal,Percentis 5-95conv'!A106082","v":0},{"$f":"'[1]MedianGlobal,Percentis 5-95conv'!B106082","v":0}]
[{"$f":"'[1]MedianGlobal,Percentis 5-95conv'!A106597","v":0},{"$f":"'[1]MedianGlobal,Percentis 5-95conv'!B106597","v":0}]
[{"$f":"'[1]MedianGlobal,Percentis 5-95conv'!A106818","v":0},{"$f":"'[1]MedianGlobal,Percentis 5-95conv'!B106818","v":0}]
[{"$f":"'[1]MedianGlobal,Percentis 5-95conv'!A107562","v":0},{"$f":"'[1]MedianGlobal,Percentis 5-95conv'!B107562","v":0}]
[{"$f":"'[1]MedianGlobal,Percentis 5-95conv'!A108077","v":0},{"$f":"'[1]MedianGlobal,Percentis 5-95conv'!B108077","v":0}]
[{"$f":"'[1]MedianGlobal,Percentis 5-95conv'!A108298","v":0},{"$f":"'[1]MedianGlobal,Percentis 5-95conv'!B108298","v":0}]
[{"$f":"'[1]MedianGlobal,Percentis 5-95conv'!A109042","v":0},{"$f":"'[1]MedianGlobal,Percentis 5-95conv'!B109042","v":0}]
[{"$f":"'[1]MedianGlobal,Percentis 5-95conv'!A109557","v":0},{"$f":"'[1]MedianGlobal,Percentis 5-95conv'!B109557","v":0}]
[{"$f":"'[1]MedianGlobal,Percentis 5-95conv'!A109778","v":0},{"$f":"'[1]MedianGlobal,Percentis 5-95conv'!B109778","v":0}]
[{"$f":"'[1]MedianGlobal,Percentis 5-95conv'!A110293","v":0},{"$f":"'[1]MedianGlobal,Percentis 5-95conv'!B110293","v":0}]
[{"$f":"'[1]MedianGlobal,Percentis 5-95conv'!A111037","v":0},{"$f":"'[1]MedianGlobal,Percentis 5-95conv'!B111037","v":0}]
[{"$f":"'[1]MedianGlobal,Percentis 5-95conv'!A111781","v":0},{"$f":"'[1]MedianGlobal,Percentis 5-95conv'!B111781","v":0}]
[{"$f":"'[1]MedianGlobal,Percentis 5-95conv'!A112229","v":0},{"$f":"'[1]MedianGlobal,Percentis 5-95conv'!B112229","v":0}]
[{"$f":"'[1]MedianGlobal,Percentis 5-95conv'!A112518","v":0},{"$f":"'[1]MedianGlobal,Percentis 5-95conv'!B112518","v":0}]
[{"$f":"'[1]MedianGlobal,Percentis 5-95conv'!A113262","v":0},{"$f":"'[1]MedianGlobal,Percentis 5-95conv'!B113262","v":0}]
[{"$f":"'[1]MedianGlobal,Percentis 5-95conv'!A113777","v":0},{"$f":"'[1]MedianGlobal,Percentis 5-95conv'!B113777","v":0}]
[{"$f":"'[1]MedianGlobal,Percentis 5-95conv'!A113998","v":0},{"$f":"'[1]MedianGlobal,Percentis 5-95conv'!B113998","v":0}]
[{"$f":"'[1]MedianGlobal,Percentis 5-95conv'!A114513","v":0},{"$f":"'[1]MedianGlobal,Percentis 5-95conv'!B114513","v":0}]
[{"$f":"'[1]MedianGlobal,Percentis 5-95conv'!A115257","v":0},{"$f":"'[1]MedianGlobal,Percentis 5-95conv'!B115257","v":0}]
[{"$f":"'[1]MedianGlobal,Percentis 5-95conv'!A116001","v":0},{"$f":"'[1]MedianGlobal,Percentis 5-95conv'!B116001","v":0}]
[{"$f":"'[1]MedianGlobal,Percentis 5-95conv'!A116516","v":0},{"$f":"'[1]MedianGlobal,Percentis 5-95conv'!B116516","v":0}]
[{"$f":"'[1]MedianGlobal,Percentis 5-95conv'!A116737","v":0},{"$f":"'[1]MedianGlobal,Percentis 5-95conv'!B116737","v":0}]
[{"$f":"'[1]MedianGlobal,Percentis 5-95conv'!A117252","v":0},{"$f":"'[1]MedianGlobal,Percentis 5-95conv'!B117252","v":0}]
[{"$f":"'[1]MedianGlobal,Percentis 5-95conv'!A117996","v":0},{"$f":"'[1]MedianGlobal,Percentis 5-95conv'!B117996","v":0}]
[{"$f":"'[1]MedianGlobal,Percentis 5-95conv'!A118217","v":0},{"$f":"'[1]MedianGlobal,Percentis 5-95conv'!B118217","v":0}]
[{"$f":"'[1]MedianGlobal,Percentis 5-95conv'!A118732","v":0},{"$f":"'[1]MedianGlobal,Percentis 5-95conv'!B118732","v":0}]
[{"$f":"'[1]MedianGlobal,Percentis 5-95conv'!A119476","v":0},{"$f":"'[1]MedianGlobal,Percentis 5-95conv'!B119476","v":0}]
[{"$f":"'[1]MedianGlobal,Percentis 5-95conv'!A119697","v":0},{"$f":"'[1]MedianGlobal,Percentis 5-95conv'!B119697","v":0}]
[{"$f":"'[1]MedianGlobal,Percentis 5-95conv'!A120212","v":0},{"$f":"'[1]MedianGlobal,Percentis 5-95conv'!B120212","v":0}]
[{"$f":"'[1]MedianGlobal,Percentis 5-95conv'!A120956","v":0},{"$f":"'[1]MedianGlobal,Percentis 5-95conv'!B120956","v":0}]
[{"$f":"'[1]MedianGlobal,Percentis 5-95conv'!A121471","v":0},{"$f":"'[1]MedianGlobal,Percentis 5-95conv'!B121471","v":0}]
[{"$f":"'[1]MedianGlobal,Percentis 5-95conv'!A122215","v":0},{"$f":"'[1]MedianGlobal,Percentis 5-95conv'!B122215","v":0}]
[{"$f":"'[1]MedianGlobal,Percentis 5-95conv'!A122436","v":0},{"$f":"'[1]MedianGlobal,Percentis 5-95conv'!B122436","v":0}]
[{"$f":"'[1]MedianGlobal,Percentis 5-95conv'!A122951","v":0},{"$f":"'[1]MedianGlobal,Percentis 5-95conv'!B122951","v":0}]
[{"$f":"'[1]MedianGlobal,Percentis 5-95conv'!A123695","v":0},{"$f":"'[1]MedianGlobal,Percentis 5-95conv'!B123695","v":0}]
[{"$f":"'[1]MedianGlobal,Percentis 5-95conv'!A123916","v":0},{"$f":"'[1]MedianGlobal,Percentis 5-95conv'!B123916","v":0}]
[{"$f":"'[1]MedianGlobal,Percentis 5-95conv'!A124431","v":0},{"$f":"'[1]MedianGlobal,Percentis 5-95conv'!B124431","v":0}]
[{"$f":"'[1]MedianGlobal,Percentis 5-95conv'!A125175","v":0},{"$f":"'[1]MedianGlobal,Percentis 5-95conv'!B125175","v":0}]
[{"$f":"'[1]MedianGlobal,Percentis 5-95conv'!A125858","v":0},{"$f":"'[1]MedianGlobal,Percentis 5-95conv'!B125858","v":0}]
[{"$f":"'[1]MedianGlobal,Percentis 5-95conv'!A126435","v":0},{"$f":"'[1]MedianGlobal,Percentis 5-95conv'!B126435","v":0}]
[{"$f":"'[1]MedianGlobal,Percentis 5-95conv'!A126656","v":0},{"$f":"'[1]MedianGlobal,Percentis 5-95conv'!B126656","v":0}]
[{"$f":"'[1]MedianGlobal,Percentis 5-95conv'!A127171","v":0},{"$f":"'[1]MedianGlobal,Percentis 5-95conv'!B127171","v":0}]
[{"$f":"'[1]MedianGlobal,Percentis 5-95conv'!A127915","v":0},{"$f":"'[1]MedianGlobal,Percentis 5-95conv'!B127915","v":0}]
[{"$f":"'[1]MedianGlobal,Percentis 5-95conv'!A128430","v":0},{"$f":"'[1]MedianGlobal,Percentis 5-95conv'!B128430","v":0}]
[{"$f":"'[1]MedianGlobal,Percentis 5-95conv'!A128651","v":0},{"$f":"'[1]MedianGlobal,Percentis 5-95conv'!B128651","v":0}]
[{"$f":"'[1]MedianGlobal,Percentis 5-95conv'!A129395","v":0},{"$f":"'[1]MedianGlobal,Percentis 5-95conv'!B129395","v":0}]
[{"$f":"'[1]MedianGlobal,Percentis 5-95conv'!A129910","v":0},{"$f":"'[1]MedianGlobal,Percentis 5-95conv'!B129910","v":0}]
[{"$f":"'[1]MedianGlobal,Percentis 5-95conv'!A130654","v":0},{"$f":"'[1]MedianGlobal,Percentis 5-95conv'!B130654","v":0}]
[{"$f":"'[1]MedianGlobal,Percentis 5-95conv'!A130875","v":0},{"$f":"'[1]MedianGlobal,Percentis 5-95conv'!B130875","v":0}]
[{"$f":"'[1]MedianGlobal,Percentis 5-95conv'!A131390","v":0},{"$f":"'[1]MedianGlobal,Percentis 5-95conv'!B131390","v":0}]
[{"$f":"'[1]MedianGlobal,Percentis 5-95conv'!A132134","v":0},{"$f":"'[1]MedianGlobal,Percentis 5-95conv'!B132134","v":0}]
[{"$f":"'[1]MedianGlobal,Percentis 5-95conv'!A132649","v":0},{"$f":"'[1]MedianGlobal,Percentis 5-95conv'!B132649","v":0}]
[{"$f":"'[1]MedianGlobal,Percentis 5-95conv'!A132870","v":0},{"$f":"'[1]MedianGlobal,Percentis 5-95conv'!B132870","v":0}]
[{"$f":"'[1]MedianGlobal,Percentis 5-95conv'!A133614","v":0},{"$f":"'[1]MedianGlobal,Percentis 5-95conv'!B133614","v":0}]
[{"$f":"'[1]MedianGlobal,Percentis 5-95conv'!A134129","v":0},{"$f":"'[1]MedianGlobal,Percentis 5-95conv'!B134129","v":0}]
[{"$f":"'[1]MedianGlobal,Percentis 5-95conv'!A134350","v":0},{"$f":"'[1]MedianGlobal,Percentis 5-95conv'!B134350","v":0}]
[{"$f":"'[1]MedianGlobal,Percentis 5-95conv'!A134865","v":0},{"$f":"'[1]MedianGlobal,Percentis 5-95conv'!B134865","v":0}]
[{"$f":"'[1]MedianGlobal,Percentis 5-95conv'!A135609","v":0},{"$f":"'[1]MedianGlobal,Percentis 5-95conv'!B135609","v":0}]
[{"$f":"'[1]MedianGlobal,Percentis 5-95conv'!A136353","v":0},{"$f":"'[1]MedianGlobal,Percentis 5-95conv'!B136353","v":0}]
[{"$f":"'[1]MedianGlobal,Percentis 5-95conv'!A136868","v":0},{"$f":"'[1]MedianGlobal,Percentis 5-95conv'!B136868","v":0}]
[{"$f":"'[1]MedianGlobal,Percentis 5-95conv'!A137089","v":0},{"$f":"'[1]MedianGlobal,Percentis 5-95conv'!B137089","v":0}]
[{"$f":"'[1]MedianGlobal,Percentis 5-95conv'!A137833","v":0},{"$f":"'[1]MedianGlobal,Percentis 5-95conv'!B137833","v":0}]
[{"$f":"'[1]MedianGlobal,Percentis 5-95conv'!A138348","v":0},{"$f":"'[1]MedianGlobal,Percentis 5-95conv'!B138348","v":0}]
[{"$f":"'[1]MedianGlobal,Percentis 5-95conv'!A138569","v":0},{"$f":"'[1]MedianGlobal,Percentis 5-95conv'!B138569","v":0}]
[{"$f":"'[1]MedianGlobal,Percentis 5-95conv'!A139084","v":0},{"$f":"'[1]MedianGlobal,Percentis 5-95conv'!B139084","v":0}]
[{"$f":"'[1]MedianGlobal,Percentis 5-95conv'!A139815","v":0},{"$f":"'[1]MedianGlobal,Percentis 5-95conv'!B139815","v":0}]
[{"$f":"'[1]MedianGlobal,Percentis 5-95conv'!A140573","v":0},{"$f":"'[1]MedianGlobal,Percentis 5-95conv'!B140573","v":0}]
[{"$f":"'[1]MedianGlobal,Percentis 5-95conv'!A141088","v":0},{"$f":"'[1]MedianGlobal,Percentis 5-95conv'!B141088","v":0}]
[{"$f":"'[1]MedianGlobal,Percentis 5-95conv'!A141309","v":0},{"$f":"'[1]MedianGlobal,Percentis 5-95conv'!B141309","v":0}]
[{"$f":"'[1]MedianGlobal,Percentis 5-95conv'!A142053","v":0},{"$f":"'[1]MedianGlobal,Percentis 5-95conv'!B142053","v":0}]
[{"$f":"'[1]MedianGlobal,Percentis 5-95conv'!A142568","v":0},{"$f":"'[1]MedianGlobal,Percentis 5-95conv'!B142568","v":0}]
[{"$f":"'[1]MedianGlobal,Percentis 5-95conv'!A142789","v":0},{"$f":"'[1]MedianGlobal,Percentis 5-95conv'!B142789","v":0}]
[{"$f":"'[1]MedianGlobal,Percentis 5-95conv'!A143304","v":0},{"$f":"'[1]MedianGlobal,Percentis 5-95conv'!B143304","v":0}]
[{"$f":"'[1]MedianGlobal,Percentis 5-95conv'!A144048","v":0},{"$f":"'[1]MedianGlobal,Percentis 5-95conv'!B144048","v":0}]
[{"$f":"'[1]MedianGlobal,Percentis 5-95conv'!A144269","v":0},{"$f":"'[1]MedianGlobal,Percentis 5-95conv'!B144269","v":0}]
[{"$f":"'[1]MedianGlobal,Percentis 5-95conv'!A145307","v":0},{"$f":"'[1]MedianGlobal,Percentis 5-95conv'!B145307","v":0}]
[{"$f":"'[1]MedianGlobal,Percentis 5-95conv'!A145528","v":0},{"$f":"'[1]MedianGlobal,Percentis 5-95conv'!B145528","v":0}]
[{"$f":"'[1]MedianGlobal,Percentis 5-95conv'!A146043","v":0},{"$f":"'[1]MedianGlobal,Percentis 5-95conv'!B146043","v":0}]
[{"$f":"'[1]MedianGlobal,Percentis 5-95conv'!A146787","v":0},{"$f":"'[1]MedianGlobal,Percentis 5-95conv'!B146787","v":0}]
[{"$f":"'[1]MedianGlobal,Percentis 5-95conv'!A147008","v":0},{"$f":"'[1]MedianGlobal,Percentis 5-95conv'!B147008","v":0}]
[{"$f":"'[1]MedianGlobal,Percentis 5-95conv'!A147523","v":0},{"$f":"'[1]MedianGlobal,Percentis 5-95conv'!B147523","v":0}]
[{"$f":"'[1]MedianGlobal,Percentis 5-95conv'!A148267","v":0},{"$f":"'[1]MedianGlobal,Percentis 5-95conv'!B148267","v":0}]
[{"$f":"'[1]MedianGlobal,Percentis 5-95conv'!A148488","v":0},{"$f":"'[1]MedianGlobal,Percentis 5-95conv'!B148488","v":0}]
[{"$f":"'[1]MedianGlobal,Percentis 5-95conv'!A149003","v":0},{"$f":"'[1]MedianGlobal,Percentis 5-95conv'!B149003","v":0}]
[{"$f":"'[1]MedianGlobal,Percentis 5-95conv'!A149747","v":0},{"$f":"'[1]MedianGlobal,Percentis 5-95conv'!B149747","v":0}]
[{"$f":"'[1]MedianGlobal,Percentis 5-95conv'!A150262","v":0},{"$f":"'[1]MedianGlobal,Percentis 5-95conv'!B150262","v":0}]
[{"$f":"'[1]MedianGlobal,Percentis 5-95conv'!A151006","v":0},{"$f":"'[1]MedianGlobal,Percentis 5-95conv'!B151006","v":0}]
[{"$f":"'[1]MedianGlobal,Percentis 5-95conv'!A151227","v":0},{"$f":"'[1]MedianGlobal,Percentis 5-95conv'!B151227","v":0}]
[{"$f":"'[1]MedianGlobal,Percentis 5-95conv'!A151742","v":0},{"$f":"'[1]MedianGlobal,Percentis 5-95conv'!B151742","v":0}]
[{"$f":"'[1]MedianGlobal,Percentis 5-95conv'!A152486","v":0},{"$f":"'[1]MedianGlobal,Percentis 5-95conv'!B152486","v":0}]
[{"$f":"'[1]MedianGlobal,Percentis 5-95conv'!A153001","v":0},{"$f":"'[1]MedianGlobal,Percentis 5-95conv'!B153001","v":0}]
[{"$f":"'[1]MedianGlobal,Percentis 5-95conv'!A153444","v":0},{"$f":"'[1]MedianGlobal,Percentis 5-95conv'!B153444","v":0}]
[{"$f":"'[1]MedianGlobal,Percentis 5-95conv'!A153967","v":0},{"$f":"'[1]MedianGlobal,Percentis 5-95conv'!B153967","v":0}]
[{"$f":"'[1]MedianGlobal,Percentis 5-95conv'!A154482","v":0},{"$f":"'[1]MedianGlobal,Percentis 5-95conv'!B154482","v":0}]
[{"$f":"'[1]MedianGlobal,Percentis 5-95conv'!A155226","v":0},{"$f":"'[1]MedianGlobal,Percentis 5-95conv'!B155226","v":0}]
[{"$f":"'[1]MedianGlobal,Percentis 5-95conv'!A155447","v":0},{"$f":"'[1]MedianGlobal,Percentis 5-95conv'!B155447","v":0}]
[{"$f":"'[1]MedianGlobal,Percentis 5-95conv'!A155962","v":0},{"$f":"'[1]MedianGlobal,Percentis 5-95conv'!B155962","v":0}]
[{"$f":"'[1]MedianGlobal,Percentis 5-95conv'!A156706","v":0},{"$f":"'[1]MedianGlobal,Percentis 5-95conv'!B156706","v":0}]
[{"$f":"'[1]MedianGlobal,Percentis 5-95conv'!A157221","v":0},{"$f":"'[1]MedianGlobal,Percentis 5-95conv'!B157221","v":0}]
[{"$f":"'[1]MedianGlobal,Percentis 5-95conv'!A157442","v":0},{"$f":"'[1]MedianGlobal,Percentis 5-95conv'!B157442","v":0}]
[{"$f":"'[1]MedianGlobal,Percentis 5-95conv'!A158186","v":0},{"$f":"'[1]MedianGlobal,Percentis 5-95conv'!B158186","v":0}]
[{"$f":"'[1]MedianGlobal,Percentis 5-95conv'!A158701","v":0},{"$f":"'[1]MedianGlobal,Percentis 5-95conv'!B158701","v":0}]
[{"$f":"'[1]MedianGlobal,Percentis 5-95conv'!A158922","v":0},{"$f":"'[1]MedianGlobal,Percentis 5-95conv'!B158922","v":0}]
[{"$f":"'[1]MedianGlobal,Percentis 5-95conv'!A159666","v":0},{"$f":"'[1]MedianGlobal,Percentis 5-95conv'!B159666","v":0}]
[{"$f":"'[1]MedianGlobal,Percentis 5-95conv'!A160181","v":0},{"$f":"'[1]MedianGlobal,Percentis 5-95conv'!B160181","v":0}]
[{"$f":"'[1]MedianGlobal,Percentis 5-95conv'!A160925","v":0},{"$f":"'[1]MedianGlobal,Percentis 5-95conv'!B160925","v":0}]
[{"$f":"'[1]MedianGlobal,Percentis 5-95conv'!A161440","v":0},{"$f":"'[1]MedianGlobal,Percentis 5-95conv'!B161440","v":0}]
[{"$f":"'[1]MedianGlobal,Percentis 5-95conv'!A161661","v":0},{"$f":"'[1]MedianGlobal,Percentis 5-95conv'!B161661","v":0}]
[{"$f":"'[1]MedianGlobal,Percentis 5-95conv'!A162405","v":0},{"$f":"'[1]MedianGlobal,Percentis 5-95conv'!B162405","v":0}]
[{"$f":"'[1]MedianGlobal,Percentis 5-95conv'!A162920","v":0},{"$f":"'[1]MedianGlobal,Percentis 5-95conv'!B162920","v":0}]
[{"$f":"'[1]MedianGlobal,Percentis 5-95conv'!A163141","v":0},{"$f":"'[1]MedianGlobal,Percentis 5-95conv'!B163141","v":0}]
[{"$f":"'[1]MedianGlobal,Percentis 5-95conv'!A163656","v":0},{"$f":"'[1]MedianGlobal,Percentis 5-95conv'!B163656","v":0}]
[{"$f":"'[1]MedianGlobal,Percentis 5-95conv'!A164400","v":0},{"$f":"'[1]MedianGlobal,Percentis 5-95conv'!B164400","v":0}]
[{"$f":"'[1]MedianGlobal,Percentis 5-95conv'!A165144","v":0},{"$f":"'[1]MedianGlobal,Percentis 5-95conv'!B165144","v":0}]
[{"$f":"'[1]MedianGlobal,Percentis 5-95conv'!A165659","v":0},{"$f":"'[1]MedianGlobal,Percentis 5-95conv'!B165659","v":0}]
[{"$f":"'[1]MedianGlobal,Percentis 5-95conv'!A165880","v":0},{"$f":"'[1]MedianGlobal,Percentis 5-95conv'!B165880","v":0}]
[{"$f":"'[1]MedianGlobal,Percentis 5-95conv'!A166624","v":0},{"$f":"'[1]MedianGlobal,Percentis 5-95conv'!B166624","v":0}]
[{"$f":"'[1]MedianGlobal,Percentis 5-95conv'!A167073","v":0},{"$f":"'[1]MedianGlobal,Percentis 5-95conv'!B167073","v":0}]
[{"$f":"'[1]MedianGlobal,Percentis 5-95conv'!A167361","v":0},{"$f":"'[1]MedianGlobal,Percentis 5-95conv'!B167361","v":0}]
[{"$f":"'[1]MedianGlobal,Percentis 5-95conv'!A167876","v":0},{"$f":"'[1]MedianGlobal,Percentis 5-95conv'!B167876","v":0}]
[{"$f":"'[1]MedianGlobal,Percentis 5-95conv'!A168620","v":0},{"$f":"'[1]MedianGlobal,Percentis 5-95conv'!B168620","v":0}]
[{"$f":"'[1]MedianGlobal,Percentis 5-95conv'!A169364","v":0},{"$f":"'[1]MedianGlobal,Percentis 5-95conv'!B169364","v":0}]
[{"$f":"'[1]MedianGlobal,Percentis 5-95conv'!A169879","v":0},{"$f":"'[1]MedianGlobal,Percentis 5-95conv'!B169879","v":0}]
[{"$f":"'[1]MedianGlobal,Percentis 5-95conv'!A170100","v":0},{"$f":"'[1]MedianGlobal,Percentis 5-95conv'!B170100","v":0}]
[{"$f":"'[1]MedianGlobal,Percentis 5-95conv'!A170844","v":0},{"$f":"'[1]MedianGlobal,Percentis 5-95conv'!B170844","v":0}]
[{"$f":"'[1]MedianGlobal,Percentis 5-95conv'!A171359","v":0},{"$f":"'[1]MedianGlobal,Percentis 5-95conv'!B171359","v":0}]
[{"$f":"'[1]MedianGlobal,Percentis 5-95conv'!A171580","v":0},{"$f":"'[1]MedianGlobal,Percentis 5-95conv'!B171580","v":0}]
[{"$f":"'[1]MedianGlobal,Percentis 5-95conv'!A172095","v":0},{"$f":"'[1]MedianGlobal,Percentis 5-95conv'!B172095","v":0}]
[{"$f":"'[1]MedianGlobal,Percentis 5-95conv'!A172839","v":0},{"$f":"'[1]MedianGlobal,Percentis 5-95conv'!B172839","v":0}]
[{"$f":"'[1]MedianGlobal,Percentis 5-95conv'!A173060","v":0},{"$f":"'[1]MedianGlobal,Percentis 5-95conv'!B173060","v":0}]
[{"$f":"'[1]MedianGlobal,Percentis 5-95conv'!A173575","v":0},{"$f":"'[1]MedianGlobal,Percentis 5-95conv'!B173575","v":0}]
[{"$f":"'[1]MedianGlobal,Percentis 5-95conv'!A174319","v":0},{"$f":"'[1]MedianGlobal,Percentis 5-95conv'!B174319","v":0}]
[{"$f":"'[1]MedianGlobal,Percentis 5-95conv'!A174834","v":0},{"$f":"'[1]MedianGlobal,Percentis 5-95conv'!B174834","v":0}]
[{"$f":"'[1]MedianGlobal,Percentis 5-95conv'!A175578","v":0},{"$f":"'[1]MedianGlobal,Percentis 5-95conv'!B175578","v":0}]
[{"$f":"'[1]MedianGlobal,Percentis 5-95conv'!A175799","v":0},{"$f":"'[1]MedianGlobal,Percentis 5-95conv'!B175799","v":0}]
[{"$f":"'[1]MedianGlobal,Percentis 5-95conv'!A176314","v":0},{"$f":"'[1]MedianGlobal,Percentis 5-95conv'!B176314","v":0}]
[{"$f":"'[1]MedianGlobal,Percentis 5-95conv'!A177058","v":0},{"$f":"'[1]MedianGlobal,Percentis 5-95conv'!B177058","v":0}]
[{"$f":"'[1]MedianGlobal,Percentis 5-95conv'!A177279","v":0},{"$f":"'[1]MedianGlobal,Percentis 5-95conv'!B177279","v":0}]
[{"$f":"'[1]MedianGlobal,Percentis 5-95conv'!A177794","v":0},{"$f":"'[1]MedianGlobal,Percentis 5-95conv'!B177794","v":0}]
[{"$f":"'[1]MedianGlobal,Percentis 5-95conv'!A178538","v":0},{"$f":"'[1]MedianGlobal,Percentis 5-95conv'!B178538","v":0}]
[{"$f":"'[1]MedianGlobal,Percentis 5-95conv'!A179053","v":0},{"$f":"'[1]MedianGlobal,Percentis 5-95conv'!B179053","v":0}]
[{"$f":"'[1]MedianGlobal,Percentis 5-95conv'!A179797","v":0},{"$f":"'[1]MedianGlobal,Percentis 5-95conv'!B179797","v":0}]
[{"$f":"'[1]MedianGlobal,Percentis 5-95conv'!A180018","v":0},{"$f":"'[1]MedianGlobal,Percentis 5-95conv'!B180018","v":0}]
[{"$f":"'[1]MedianGlobal,Percentis 5-95conv'!A180533","v":0},{"$f":"'[1]MedianGlobal,Percentis 5-95conv'!B180533","v":0}]
[{"$f":"'[1]MedianGlobal,Percentis 5-95conv'!A181030","v":0},{"$f":"'[1]MedianGlobal,Percentis 5-95conv'!B181030","v":0}]
[{"$f":"'[1]MedianGlobal,Percentis 5-95conv'!A181793","v":0},{"$f":"'[1]MedianGlobal,Percentis 5-95conv'!B181793","v":0}]
[{"$f":"'[1]MedianGlobal,Percentis 5-95conv'!A182014","v":0},{"$f":"'[1]MedianGlobal,Percentis 5-95conv'!B182014","v":0}]
[{"$f":"'[1]MedianGlobal,Percentis 5-95conv'!A182758","v":0},{"$f":"'[1]MedianGlobal,Percentis 5-95conv'!B182758","v":0}]
[{"$f":"'[1]MedianGlobal,Percentis 5-95conv'!A183273","v":0},{"$f":"'[1]MedianGlobal,Percentis 5-95conv'!B183273","v":0}]
[{"$f":"'[1]MedianGlobal,Percentis 5-95conv'!A184017","v":0},{"$f":"'[1]MedianGlobal,Percentis 5-95conv'!B184017","v":0}]
[{"$f":"'[1]MedianGlobal,Percentis 5-95conv'!A184238","v":0},{"$f":"'[1]MedianGlobal,Percentis 5-95conv'!B184238","v":0}]
[{"$f":"'[1]MedianGlobal,Percentis 5-95conv'!A184753","v":0},{"$f":"'[1]MedianGlobal,Percentis 5-95conv'!B184753","v":0}]
[{"$f":"'[1]MedianGlobal,Percentis 5-95conv'!A185497","v":0},{"$f":"'[1]MedianGlobal,Percentis 5-95conv'!B185497","v":0}]
[{"$f":"'[1]MedianGlobal,Percentis 5-95conv'!A186012","v":0},{"$f":"'[1]MedianGlobal,Percentis 5-95conv'!B186012","v":0}]
[{"$f":"'[1]MedianGlobal,Percentis 5-95conv'!A186233","v":0},{"$f":"'[1]MedianGlobal,Percentis 5-95conv'!B186233","v":0}]
[{"$f":"'[1]MedianGlobal,Percentis 5-95conv'!A186977","v":0},{"$f":"'[1]MedianGlobal,Percentis 5-95conv'!B186977","v":0}]
[{"$f":"'[1]MedianGlobal,Percentis 5-95conv'!A187492","v":0},{"$f":"'[1]MedianGlobal,Percentis 5-95conv'!B187492","v":0}]
[{"$f":"'[1]MedianGlobal,Percentis 5-95conv'!A187713","v":0},{"$f":"'[1]MedianGlobal,Percentis 5-95conv'!B187713","v":0}]
[{"$f":"'[1]MedianGlobal,Percentis 5-95conv'!A188457","v":0},{"$f":"'[1]MedianGlobal,Percentis 5-95conv'!B188457","v":0}]
[{"$f":"'[1]MedianGlobal,Percentis 5-95conv'!A188972","v":0},{"$f":"'[1]MedianGlobal,Percentis 5-95conv'!B188972","v":0}]
[{"$f":"'[1]MedianGlobal,Percentis 5-95conv'!A189716","v":0},{"$f":"'[1]MedianGlobal,Percentis 5-95conv'!B189716","v":0}]
[{"$f":"'[1]MedianGlobal,Percentis 5-95conv'!A190231","v":0},{"$f":"'[1]MedianGlobal,Percentis 5-95conv'!B190231","v":0}]
[{"$f":"'[1]MedianGlobal,Percentis 5-95conv'!A190452","v":0},{"$f":"'[1]MedianGlobal,Percentis 5-95conv'!B190452","v":0}]
[{"$f":"'[1]MedianGlobal,Percentis 5-95conv'!A191196","v":0},{"$f":"'[1]MedianGlobal,Percentis 5-95conv'!B191196","v":0}]
[{"$f":"'[1]MedianGlobal,Percentis 5-95conv'!A191711","v":0},{"$f":"'[1]MedianGlobal,Percentis 5-95conv'!B191711","v":0}]
[{"$f":"'[1]MedianGlobal,Percentis 5-95conv'!A191932","v":0},{"$f":"'[1]MedianGlobal,Percentis 5-95conv'!B191932","v":0}]
[{"$f":"'[1]MedianGlobal,Percentis 5-95conv'!A192447","v":0},{"$f":"'[1]MedianGlobal,Percentis 5-95conv'!B192447","v":0}]
[{"$f":"'[1]MedianGlobal,Percentis 5-95conv'!A193191","v":0},{"$f":"'[1]MedianGlobal,Percentis 5-95conv'!B193191","v":0}]
[{"$f":"'[1]MedianGlobal,Percentis 5-95conv'!A193935","v":0},{"$f":"'[1]MedianGlobal,Percentis 5-95conv'!B193935","v":0}]
[{"$f":"'[1]MedianGlobal,Percentis 5-95conv'!A194450","v":0},{"$f":"'[1]MedianGlobal,Percentis 5-95conv'!B194450","v":0}]
[{"$f":"'[1]MedianGlobal,Percentis 5-95conv'!A194659","v":0},{"$f":"'[1]MedianGlobal,Percentis 5-95conv'!B194659","v":0}]
[{"$f":"'[1]MedianGlobal,Percentis 5-95conv'!A195416","v":0},{"$f":"'[1]MedianGlobal,Percentis 5-95conv'!B195416","v":0}]
[{"$f":"'[1]MedianGlobal,Percentis 5-95conv'!A195931","v":0},{"$f":"'[1]MedianGlobal,Percentis 5-95conv'!B195931","v":0}]
[{"$f":"'[1]MedianGlobal,Percentis 5-95conv'!A196152","v":0},{"$f":"'[1]MedianGlobal,Percentis 5-95conv'!B196152","v":0}]
[{"$f":"'[1]MedianGlobal,Percentis 5-95conv'!A196667","v":0},{"$f":"'[1]MedianGlobal,Percentis 5-95conv'!B196667","v":0}]
[{"$f":"'[1]MedianGlobal,Percentis 5-95conv'!A197411","v":0},{"$f":"'[1]MedianGlobal,Percentis 5-95conv'!B197411","v":0}]
[{"$f":"'[1]MedianGlobal,Percentis 5-95conv'!A197632","v":0},{"$f":"'[1]MedianGlobal,Percentis 5-95conv'!B197632","v":0}]
[{"$f":"'[1]MedianGlobal,Percentis 5-95conv'!A198147","v":0},{"$f":"'[1]MedianGlobal,Percentis 5-95conv'!B198147","v":0}]
[{"$f":"'[1]MedianGlobal,Percentis 5-95conv'!A198891","v":0},{"$f":"'[1]MedianGlobal,Percentis 5-95conv'!B198891","v":0}]
[{"$f":"'[1]MedianGlobal,Percentis 5-95conv'!A199406","v":0},{"$f":"'[1]MedianGlobal,Percentis 5-95conv'!B199406","v":0}]
[{"$f":"'[1]MedianGlobal,Percentis 5-95conv'!A200150","v":0},{"$f":"'[1]MedianGlobal,Percentis 5-95conv'!B200150","v":0}]
[{"$f":"'[1]MedianGlobal,Percentis 5-95conv'!A200371","v":0},{"$f":"'[1]MedianGlobal,Percentis 5-95conv'!B200371","v":0}]
[{"$f":"'[1]MedianGlobal,Percentis 5-95conv'!A200886","v":0},{"$f":"'[1]MedianGlobal,Percentis 5-95conv'!B200886","v":0}]
[{"$f":"'[1]MedianGlobal,Percentis 5-95conv'!A201630","v":0},{"$f":"'[1]MedianGlobal,Percentis 5-95conv'!B201630","v":0}]
[{"$f":"'[1]MedianGlobal,Percentis 5-95conv'!A201851","v":0},{"$f":"'[1]MedianGlobal,Percentis 5-95conv'!B201851","v":0}]
[{"$f":"'[1]MedianGlobal,Percentis 5-95conv'!A202366","v":0},{"$f":"'[1]MedianGlobal,Percentis 5-95conv'!B202366","v":0}]
[{"$f":"'[1]MedianGlobal,Percentis 5-95conv'!A203110","v":0},{"$f":"'[1]MedianGlobal,Percentis 5-95conv'!B203110","v":0}]
[{"$f":"'[1]MedianGlobal,Percentis 5-95conv'!A203625","v":0},{"$f":"'[1]MedianGlobal,Percentis 5-95conv'!B203625","v":0}]
[{"$f":"'[1]MedianGlobal,Percentis 5-95conv'!A204369","v":0},{"$f":"'[1]MedianGlobal,Percentis 5-95conv'!B204369","v":0}]
[{"$f":"'[1]MedianGlobal,Percentis 5-95conv'!A204590","v":0},{"$f":"'[1]MedianGlobal,Percentis 5-95conv'!B204590","v":0}]
[{"$f":"'[1]MedianGlobal,Percentis 5-95conv'!A205105","v":0},{"$f":"'[1]MedianGlobal,Percentis 5-95conv'!B205105","v":0}]
[{"$f":"'[1]MedianGlobal,Percentis 5-95conv'!A205849","v":0},{"$f":"'[1]MedianGlobal,Percentis 5-95conv'!B205849","v":0}]
[{"$f":"'[1]MedianGlobal,Percentis 5-95conv'!A206070","v":0},{"$f":"'[1]MedianGlobal,Percentis 5-95conv'!B206070","v":0}]
[{"$f":"'[1]MedianGlobal,Percentis 5-95conv'!A206585","v":0},{"$f":"'[1]MedianGlobal,Percentis 5-95conv'!B206585","v":0}]
[{"$f":"'[1]MedianGlobal,Percentis 5-95conv'!A207329","v":0},{"$f":"'[1]MedianGlobal,Percentis 5-95conv'!B207329","v":0}]
[{"$f":"'[1]MedianGlobal,Percentis 5-95conv'!A207844","v":0},{"$f":"'[1]MedianGlobal,Percentis 5-95conv'!B207844","v":0}]
[{"$f":"'[1]MedianGlobal,Percentis 5-95conv'!A208288","v":0},{"$f":"'[1]MedianGlobal,Percentis 5-95conv'!B208288","v":0}]
[{"$f":"'[1]MedianGlobal,Percentis 5-95conv'!A208810","v":0},{"$f":"'[1]MedianGlobal,Percentis 5-95conv'!B208810","v":0}]
[{"$f":"'[1]MedianGlobal,Percentis 5-95conv'!A209325","v":0},{"$f":"'[1]MedianGlobal,Percentis 5-95conv'!B209325","v":0}]
[{"$f":"'[1]MedianGlobal,Percentis 5-95conv'!A210069","v":0},{"$f":"'[1]MedianGlobal,Percentis 5-95conv'!B210069","v":0}]
[{"$f":"'[1]MedianGlobal,Percentis 5-95conv'!A210584","v":0},{"$f":"'[1]MedianGlobal,Percentis 5-95conv'!B210584","v":0}]
[{"$f":"'[1]MedianGlobal,Percentis 5-95conv'!A210805","v":0},{"$f":"'[1]MedianGlobal,Percentis 5-95conv'!B210805","v":0}]
[{"$f":"'[1]MedianGlobal,Percentis 5-95conv'!A211549","v":0},{"$f":"'[1]MedianGlobal,Percentis 5-95conv'!B211549","v":0}]
[{"$f":"'[1]MedianGlobal,Percentis 5-95conv'!A212064","v":0},{"$f":"'[1]MedianGlobal,Percentis 5-95conv'!B212064","v":0}]
[{"$f":"'[1]MedianGlobal,Percentis 5-95conv'!A212285","v":0},{"$f":"'[1]MedianGlobal,Percentis 5-95conv'!B212285","v":0}]
[{"$f":"'[1]MedianGlobal,Percentis 5-95conv'!A213029","v":0},{"$f":"'[1]MedianGlobal,Percentis 5-95conv'!B213029","v":0}]
[{"$f":"'[1]MedianGlobal,Percentis 5-95conv'!A213544","v":0},{"$f":"'[1]MedianGlobal,Percentis 5-95conv'!B213544","v":0}]
[{"$f":"'[1]MedianGlobal,Percentis 5-95conv'!A214288","v":0},{"$f":"'[1]MedianGlobal,Percentis 5-95conv'!B214288","v":0}]
[{"$f":"'[1]MedianGlobal,Percentis 5-95conv'!A214803","v":0},{"$f":"'[1]MedianGlobal,Percentis 5-95conv'!B214803","v":0}]
[{"$f":"'[1]MedianGlobal,Percentis 5-95conv'!A215024","v":0},{"$f":"'[1]MedianGlobal,Percentis 5-95conv'!B215024","v":0}]
[{"$f":"'[1]MedianGlobal,Percentis 5-95conv'!A215768","v":0},{"$f":"'[1]MedianGlobal,Percentis 5-95conv'!B215768","v":0}]
[{"$f":"'[1]MedianGlobal,Percentis 5-95conv'!A216283","v":0},{"$f":"'[1]MedianGlobal,Percentis 5-95conv'!B216283","v":0}]
[{"$f":"'[1]MedianGlobal,Percentis 5-95conv'!A216504","v":0},{"$f":"'[1]MedianGlobal,Percentis 5-95conv'!B216504","v":0}]
[{"$f":"'[1]MedianGlobal,Percentis 5-95conv'!A217248","v":0},{"$f":"'[1]MedianGlobal,Percentis 5-95conv'!B217248","v":0}]
[{"$f":"'[1]MedianGlobal,Percentis 5-95conv'!A217763","v":0},{"$f":"'[1]MedianGlobal,Percentis 5-95conv'!B217763","v":0}]
[{"$f":"'[1]MedianGlobal,Percentis 5-95conv'!A218507","v":0},{"$f":"'[1]MedianGlobal,Percentis 5-95conv'!B218507","v":0}]
[{"$f":"'[1]MedianGlobal,Percentis 5-95conv'!A219022","v":0},{"$f":"'[1]MedianGlobal,Percentis 5-95conv'!B219022","v":0}]
[{"$f":"'[1]MedianGlobal,Percentis 5-95conv'!A219243","v":0},{"$f":"'[1]MedianGlobal,Percentis 5-95conv'!B219243","v":0}]
[{"$f":"'[1]MedianGlobal,Percentis 5-95conv'!A219987","v":0},{"$f":"'[1]MedianGlobal,Percentis 5-95conv'!B219987","v":0}]
[{"$f":"'[1]MedianGlobal,Percentis 5-95conv'!A220502","v":0},{"$f":"'[1]MedianGlobal,Percentis 5-95conv'!B220502","v":0}]
[{"$f":"'[1]MedianGlobal,Percentis 5-95conv'!A220723","v":0},{"$f":"'[1]MedianGlobal,Percentis 5-95conv'!B220723","v":0}]
[{"$f":"'[1]MedianGlobal,Percentis 5-95conv'!A221238","v":0},{"$f":"'[1]MedianGlobal,Percentis 5-95conv'!B221238","v":0}]
[{"$f":"'[1]MedianGlobal,Percentis 5-95conv'!A221982","v":0},{"$f":"'[1]MedianGlobal,Percentis 5-95conv'!B221982","v":0}]
[{"$f":"'[1]MedianGlobal,Percentis 5-95conv'!A222245","v":0},{"$f":"'[1]MedianGlobal,Percentis 5-95conv'!B222245","v":0}]
[{"$f":"'[1]MedianGlobal,Percentis 5-95conv'!A223242","v":0},{"$f":"'[1]MedianGlobal,Percentis 5-95conv'!B223242","v":0}]
[{"$f":"'[1]MedianGlobal,Percentis 5-95conv'!A223463","v":0},{"$f":"'[1]MedianGlobal,Percentis 5-95conv'!B223463","v":0}]
[{"$f":"'[1]MedianGlobal,Percentis 5-95conv'!A224207","v":0},{"$f":"'[1]MedianGlobal,Percentis 5-95conv'!B224207","v":0}]
[{"$f":"'[1]MedianGlobal,Percentis 5-95conv'!A224722","v":0},{"$f":"'[1]MedianGlobal,Percentis 5-95conv'!B224722","v":0}]
[{"$f":"'[1]MedianGlobal,Percentis 5-95conv'!A224943","v":0},{"$f":"'[1]MedianGlobal,Percentis 5-95conv'!B224943","v":0}]
[{"$f":"'[1]MedianGlobal,Percentis 5-95conv'!A225458","v":0},{"$f":"'[1]MedianGlobal,Percentis 5-95conv'!B225458","v":0}]
[{"$f":"'[1]MedianGlobal,Percentis 5-95conv'!A226202","v":0},{"$f":"'[1]MedianGlobal,Percentis 5-95conv'!B226202","v":0}]
[{"$f":"'[1]MedianGlobal,Percentis 5-95conv'!A226423","v":0},{"$f":"'[1]MedianGlobal,Percentis 5-95conv'!B226423","v":0}]
[{"$f":"'[1]MedianGlobal,Percentis 5-95conv'!A226938","v":0},{"$f":"'[1]MedianGlobal,Percentis 5-95conv'!B226938","v":0}]
[{"$f":"'[1]MedianGlobal,Percentis 5-95conv'!A227682","v":0},{"$f":"'[1]MedianGlobal,Percentis 5-95conv'!B227682","v":0}]
[{"$f":"'[1]MedianGlobal,Percentis 5-95conv'!A228197","v":0},{"$f":"'[1]MedianGlobal,Percentis 5-95conv'!B228197","v":0}]
[{"$f":"'[1]MedianGlobal,Percentis 5-95conv'!A228941","v":0},{"$f":"'[1]MedianGlobal,Percentis 5-95conv'!B228941","v":0}]
[{"$f":"'[1]MedianGlobal,Percentis 5-95conv'!A229162","v":0},{"$f":"'[1]MedianGlobal,Percentis 5-95conv'!B229162","v":0}]
[{"$f":"'[1]MedianGlobal,Percentis 5-95conv'!A229677","v":0},{"$f":"'[1]MedianGlobal,Percentis 5-95conv'!B229677","v":0}]
[{"$f":"'[1]MedianGlobal,Percentis 5-95conv'!A230421","v":0},{"$f":"'[1]MedianGlobal,Percentis 5-95conv'!B230421","v":0}]
[{"$f":"'[1]MedianGlobal,Percentis 5-95conv'!A230642","v":0},{"$f":"'[1]MedianGlobal,Percentis 5-95conv'!B230642","v":0}]
[{"$f":"'[1]MedianGlobal,Percentis 5-95conv'!A231157","v":0},{"$f":"'[1]MedianGlobal,Percentis 5-95conv'!B231157","v":0}]
[{"$f":"'[1]MedianGlobal,Percentis 5-95conv'!A231901","v":0},{"$f":"'[1]MedianGlobal,Percentis 5-95conv'!B231901","v":0}]
[{"$f":"'[1]MedianGlobal,Percentis 5-95conv'!A232416","v":0},{"$f":"'[1]MedianGlobal,Percentis 5-95conv'!B232416","v":0}]
[{"$f":"'[1]MedianGlobal,Percentis 5-95conv'!A233160","v":0},{"$f":"'[1]MedianGlobal,Percentis 5-95conv'!B233160","v":0}]
[{"$f":"'[1]MedianGlobal,Percentis 5-95conv'!A233381","v":0},{"$f":"'[1]MedianGlobal,Percentis 5-95conv'!B233381","v":0}]
[{"$f":"'[1]MedianGlobal,Percentis 5-95conv'!A233896","v":0},{"$f":"'[1]MedianGlobal,Percentis 5-95conv'!B233896","v":0}]
[{"$f":"'[1]MedianGlobal,Percentis 5-95conv'!A234640","v":0},{"$f":"'[1]MedianGlobal,Percentis 5-95conv'!B234640","v":0}]
[{"$f":"'[1]MedianGlobal,Percentis 5-95conv'!A234861","v":0},{"$f":"'[1]MedianGlobal,Percentis 5-95conv'!B234861","v":0}]
[{"$f":"'[1]MedianGlobal,Percentis 5-95conv'!A235376","v":0},{"$f":"'[1]MedianGlobal,Percentis 5-95conv'!B235376","v":0}]
[{"$f":"'[1]MedianGlobal,Percentis 5-95conv'!A235874","v":0},{"$f":"'[1]MedianGlobal,Percentis 5-95conv'!B235874","v":0}]
[{"$f":"'[1]MedianGlobal,Percentis 5-95conv'!A236636","v":0},{"$f":"'[1]MedianGlobal,Percentis 5-95conv'!B236636","v":0}]
[{"$f":"'[1]MedianGlobal,Percentis 5-95conv'!A236857","v":0},{"$f":"'[1]MedianGlobal,Percentis 5-95conv'!B236857","v":0}]
[{"$f":"'[1]MedianGlobal,Percentis 5-95conv'!A237601","v":0},{"$f":"'[1]MedianGlobal,Percentis 5-95conv'!B237601","v":0}]
[{"$f":"'[1]MedianGlobal,Percentis 5-95conv'!A238116","v":0},{"$f":"'[1]MedianGlobal,Percentis 5-95conv'!B238116","v":0}]
[{"$f":"'[1]MedianGlobal,Percentis 5-95conv'!A238860","v":0},{"$f":"'[1]MedianGlobal,Percentis 5-95conv'!B238860","v":0}]
[{"$f":"'[1]MedianGlobal,Percentis 5-95conv'!A239375","v":0},{"$f":"'[1]MedianGlobal,Percentis 5-95conv'!B239375","v":0}]
[{"$f":"'[1]MedianGlobal,Percentis 5-95conv'!A239596","v":0},{"$f":"'[1]MedianGlobal,Percentis 5-95conv'!B239596","v":0}]
[{"$f":"'[1]MedianGlobal,Percentis 5-95conv'!A240340","v":0},{"$f":"'[1]MedianGlobal,Percentis 5-95conv'!B240340","v":0}]
[{"$f":"'[1]MedianGlobal,Percentis 5-95conv'!A240855","v":0},{"$f":"'[1]MedianGlobal,Percentis 5-95conv'!B240855","v":0}]
[{"$f":"'[1]MedianGlobal,Percentis 5-95conv'!A241076","v":0},{"$f":"'[1]MedianGlobal,Percentis 5-95conv'!B241076","v":0}]
[{"$f":"'[1]MedianGlobal,Percentis 5-95conv'!A241820","v":0},{"$f":"'[1]MedianGlobal,Percentis 5-95conv'!B241820","v":0}]
[{"$f":"'[1]MedianGlobal,Percentis 5-95conv'!A242335","v":0},{"$f":"'[1]MedianGlobal,Percentis 5-95conv'!B242335","v":0}]
[{"$f":"'[1]MedianGlobal,Percentis 5-95conv'!A243079","v":0},{"$f":"'[1]MedianGlobal,Percentis 5-95conv'!B243079","v":0}]
[{"$f":"'[1]MedianGlobal,Percentis 5-95conv'!A243594","v":0},{"$f":"'[1]MedianGlobal,Percentis 5-95conv'!B243594","v":0}]
[{"$f":"'[1]MedianGlobal,Percentis 5-95conv'!A243815","v":0},{"$f":"'[1]MedianGlobal,Percentis 5-95conv'!B243815","v":0}]
[{"$f":"'[1]MedianGlobal,Percentis 5-95conv'!A244559","v":0},{"$f":"'[1]MedianGlobal,Percentis 5-95conv'!B244559","v":0}]
[{"$f":"'[1]MedianGlobal,Percentis 5-95conv'!A245074","v":0},{"$f":"'[1]MedianGlobal,Percentis 5-95conv'!B245074","v":0}]
[{"$f":"'[1]MedianGlobal,Percentis 5-95conv'!A245295","v":0},{"$f":"'[1]MedianGlobal,Percentis 5-95conv'!B245295","v":0}]
[{"$f":"'[1]MedianGlobal,Percentis 5-95conv'!A246039","v":0},{"$f":"'[1]MedianGlobal,Percentis 5-95conv'!B246039","v":0}]
[{"$f":"'[1]MedianGlobal,Percentis 5-95conv'!A246554","v":0},{"$f":"'[1]MedianGlobal,Percentis 5-95conv'!B246554","v":0}]
[{"$f":"'[1]MedianGlobal,Percentis 5-95conv'!A247298","v":0},{"$f":"'[1]MedianGlobal,Percentis 5-95conv'!B247298","v":0}]
[{"$f":"'[1]MedianGlobal,Percentis 5-95conv'!A247813","v":0},{"$f":"'[1]MedianGlobal,Percentis 5-95conv'!B247813","v":0}]
[{"$f":"'[1]MedianGlobal,Percentis 5-95conv'!A248034","v":0},{"$f":"'[1]MedianGlobal,Percentis 5-95conv'!B248034","v":0}]
[{"$f":"'[1]MedianGlobal,Percentis 5-95conv'!A248778","v":0},{"$f":"'[1]MedianGlobal,Percentis 5-95conv'!B248778","v":0}]
[{"$f":"'[1]MedianGlobal,Percentis 5-95conv'!A249293","v":0},{"$f":"'[1]MedianGlobal,Percentis 5-95conv'!B249293","v":0}]
[{"$f":"'[1]MedianGlobal,Percentis 5-95conv'!A249503","v":0},{"$f":"'[1]MedianGlobal,Percentis 5-95conv'!B249503","v":0}]
[{"$f":"'[1]MedianGlobal,Percentis 5-95conv'!A250030","v":0},{"$f":"'[1]MedianGlobal,Percentis 5-95conv'!B250030","v":0}]
[{"$f":"'[1]MedianGlobal,Percentis 5-95conv'!A250774","v":0},{"$f":"'[1]MedianGlobal,Percentis 5-95conv'!B250774","v":0}]
[{"$f":"'[1]MedianGlobal,Percentis 5-95conv'!A250995","v":0},{"$f":"'[1]MedianGlobal,Percentis 5-95conv'!B250995","v":0}]
[{"$f":"'[1]MedianGlobal,Percentis 5-95conv'!A251510","v":0},{"$f":"'[1]MedianGlobal,Percentis 5-95conv'!B251510","v":0}]
[{"$f":"'[1]MedianGlobal,Percentis 5-95conv'!A252254","v":0},{"$f":"'[1]MedianGlobal,Percentis 5-95conv'!B252254","v":0}]
[{"$f":"'[1]MedianGlobal,Percentis 5-95conv'!A252998","v":0},{"$f":"'[1]MedianGlobal,Percentis 5-95conv'!B252998","v":0}]
[{"$f":"'[1]MedianGlobal,Percentis 5-95conv'!A253513","v":0},{"$f":"'[1]MedianGlobal,Percentis 5-95conv'!B253513","v":0}]
[{"$f":"'[1]MedianGlobal,Percentis 5-95conv'!A253734","v":0},{"$f":"'[1]MedianGlobal,Percentis 5-95conv'!B253734","v":0}]
[{"$f":"'[1]MedianGlobal,Percentis 5-95conv'!A254249","v":0},{"$f":"'[1]MedianGlobal,Percentis 5-95conv'!B254249","v":0}]
[{"$f":"'[1]MedianGlobal,Percentis 5-95conv'!A254993","v":0},{"$f":"'[1]MedianGlobal,Percentis 5-95conv'!B254993","v":0}]
[{"$f":"'[1]MedianGlobal,Percentis 5-95conv'!A255214","v":0},{"$f":"'[1]MedianGlobal,Percentis 5-95conv'!B255214","v":0}]
[{"$f":"'[1]MedianGlobal,Percentis 5-95conv'!A255729","v":0},{"$f":"'[1]MedianGlobal,Percentis 5-95conv'!B255729","v":0}]
[{"$f":"'[1]MedianGlobal,Percentis 5-95conv'!A256473","v":0},{"$f":"'[1]MedianGlobal,Percentis 5-95conv'!B256473","v":0}]
[{"$f":"'[1]MedianGlobal,Percentis 5-95conv'!A256988","v":0},{"$f":"'[1]MedianGlobal,Percentis 5-95conv'!B256988","v":0}]
[{"$f":"'[1]MedianGlobal,Percentis 5-95conv'!A257732","v":0},{"$f":"'[1]MedianGlobal,Percentis 5-95conv'!B257732","v":0}]
[{"$f":"'[1]MedianGlobal,Percentis 5-95conv'!A257953","v":0},{"$f":"'[1]MedianGlobal,Percentis 5-95conv'!B257953","v":0}]
[{"$f":"'[1]MedianGlobal,Percentis 5-95conv'!A258468","v":0},{"$f":"'[1]MedianGlobal,Percentis 5-95conv'!B258468","v":0}]
[{"$f":"'[1]MedianGlobal,Percentis 5-95conv'!A259212","v":0},{"$f":"'[1]MedianGlobal,Percentis 5-95conv'!B259212","v":0}]
[{"$f":"'[1]MedianGlobal,Percentis 5-95conv'!A259433","v":0},{"$f":"'[1]MedianGlobal,Percentis 5-95conv'!B259433","v":0}]
[{"$f":"'[1]MedianGlobal,Percentis 5-95conv'!A259948","v":0},{"$f":"'[1]MedianGlobal,Percentis 5-95conv'!B259948","v":0}]
[{"$f":"'[1]MedianGlobal,Percentis 5-95conv'!A260692","v":0},{"$f":"'[1]MedianGlobal,Percentis 5-95conv'!B260692","v":0}]
[{"$f":"'[1]MedianGlobal,Percentis 5-95conv'!A261207","v":0},{"$f":"'[1]MedianGlobal,Percentis 5-95conv'!B261207","v":0}]
[{"$f":"'[1]MedianGlobal,Percentis 5-95conv'!A261428","v":0},{"$f":"'[1]MedianGlobal,Percentis 5-95conv'!B261428","v":0}]
[{"$f":"'[1]MedianGlobal,Percentis 5-95conv'!A262172","v":0},{"$f":"'[1]MedianGlobal,Percentis 5-95conv'!B262172","v":0}]
[{"$f":"'[1]MedianGlobal,Percentis 5-95conv'!A262687","v":0},{"$f":"'[1]MedianGlobal,Percentis 5-95conv'!B262687","v":0}]
[{"$f":"'[1]MedianGlobal,Percentis 5-95conv'!A263132","v":0},{"$f":"'[1]MedianGlobal,Percentis 5-95conv'!B263132","v":0}]
[{"$f":"'[1]MedianGlobal,Percentis 5-95conv'!A263653","v":0},{"$f":"'[1]MedianGlobal,Percentis 5-95conv'!B263653","v":0}]
[{"$f":"'[1]MedianGlobal,Percentis 5-95conv'!A264168","v":0},{"$f":"'[1]MedianGlobal,Percentis 5-95conv'!B264168","v":0}]
[{"$f":"'[1]MedianGlobal,Percentis 5-95conv'!A264912","v":0},{"$f":"'[1]MedianGlobal,Percentis 5-95conv'!B264912","v":0}]
[{"$f":"'[1]MedianGlobal,Percentis 5-95conv'!A265427","v":0},{"$f":"'[1]MedianGlobal,Percentis 5-95conv'!B265427","v":0}]
[{"$f":"'[1]MedianGlobal,Percentis 5-95conv'!A265648","v":0},{"$f":"'[1]MedianGlobal,Percentis 5-95conv'!B265648","v":0}]
[{"$f":"'[1]MedianGlobal,Percentis 5-95conv'!A266392","v":0},{"$f":"'[1]MedianGlobal,Percentis 5-95conv'!B266392","v":0}]
[{"$f":"'[1]MedianGlobal,Percentis 5-95conv'!A266907","v":0},{"$f":"'[1]MedianGlobal,Percentis 5-95conv'!B266907","v":0}]
[{"$f":"'[1]MedianGlobal,Percentis 5-95conv'!A267651","v":0},{"$f":"'[1]MedianGlobal,Percentis 5-95conv'!B267651","v":0}]
[{"$f":"'[1]MedianGlobal,Percentis 5-95conv'!A268166","v":0},{"$f":"'[1]MedianGlobal,Percentis 5-95conv'!B268166","v":0}]
[{"$f":"'[1]MedianGlobal,Percentis 5-95conv'!A268387","v":0},{"$f":"'[1]MedianGlobal,Percentis 5-95conv'!B268387","v":0}]
[{"$f":"'[1]MedianGlobal,Percentis 5-95conv'!A269131","v":0},{"$f":"'[1]MedianGlobal,Percentis 5-95conv'!B269131","v":0}]
[{"$f":"'[1]MedianGlobal,Percentis 5-95conv'!A269646","v":0},{"$f":"'[1]MedianGlobal,Percentis 5-95conv'!B269646","v":0}]
[{"$f":"'[1]MedianGlobal,Percentis 5-95conv'!A269867","v":0},{"$f":"'[1]MedianGlobal,Percentis 5-95conv'!B269867","v":0}]
[{"$f":"'[1]MedianGlobal,Percentis 5-95conv'!A270611","v":0},{"$f":"'[1]MedianGlobal,Percentis 5-95conv'!B270611","v":0}]
[{"$f":"'[1]MedianGlobal,Percentis 5-95conv'!A271126","v":0},{"$f":"'[1]MedianGlobal,Percentis 5-95conv'!B271126","v":0}]
[{"$f":"'[1]MedianGlobal,Percentis 5-95conv'!A271870","v":0},{"$f":"'[1]MedianGlobal,Percentis 5-95conv'!B271870","v":0}]
[{"$f":"'[1]MedianGlobal,Percentis 5-95conv'!A272385","v":0},{"$f":"'[1]MedianGlobal,Percentis 5-95conv'!B272385","v":0}]
[{"$f":"'[1]MedianGlobal,Percentis 5-95conv'!A272606","v":0},{"$f":"'[1]MedianGlobal,Percentis 5-95conv'!B272606","v":0}]
[{"$f":"'[1]MedianGlobal,Percentis 5-95conv'!A273350","v":0},{"$f":"'[1]MedianGlobal,Percentis 5-95conv'!B273350","v":0}]
[{"$f":"'[1]MedianGlobal,Percentis 5-95conv'!A273865","v":0},{"$f":"'[1]MedianGlobal,Percentis 5-95conv'!B273865","v":0}]
[{"$f":"'[1]MedianGlobal,Percentis 5-95conv'!A274086","v":0},{"$f":"'[1]MedianGlobal,Percentis 5-95conv'!B274086","v":0}]
[{"$f":"'[1]MedianGlobal,Percentis 5-95conv'!A274601","v":0},{"$f":"'[1]MedianGlobal,Percentis 5-95conv'!B274601","v":0}]
[{"$f":"'[1]MedianGlobal,Percentis 5-95conv'!A275345","v":0},{"$f":"'[1]MedianGlobal,Percentis 5-95conv'!B275345","v":0}]
[{"$f":"'[1]MedianGlobal,Percentis 5-95conv'!A275566","v":0},{"$f":"'[1]MedianGlobal,Percentis 5-95conv'!B275566","v":0}]
[{"$f":"'[1]MedianGlobal,Percentis 5-95conv'!A276081","v":0},{"$f":"'[1]MedianGlobal,Percentis 5-95conv'!B276081","v":0}]
[{"$f":"'[1]MedianGlobal,Percentis 5-95conv'!A276825","v":0},{"$f":"'[1]MedianGlobal,Percentis 5-95conv'!B276825","v":0}]
[{"$f":"'[1]MedianGlobal,Percentis 5-95conv'!A277613","v":0},{"$f":"'[1]MedianGlobal,Percentis 5-95conv'!B277613","v":0}]
[{"$f":"'[1]MedianGlobal,Percentis 5-95conv'!A278085","v":0},{"$f":"'[1]MedianGlobal,Percentis 5-95conv'!B278085","v":0}]
[{"$f":"'[1]MedianGlobal,Percentis 5-95conv'!A278306","v":0},{"$f":"'[1]MedianGlobal,Percentis 5-95conv'!B278306","v":0}]
[{"$f":"'[1]MedianGlobal,Percentis 5-95conv'!A278821","v":0},{"$f":"'[1]MedianGlobal,Percentis 5-95conv'!B278821","v":0}]
[{"$f":"'[1]MedianGlobal,Percentis 5-95conv'!A279565","v":0},{"$f":"'[1]MedianGlobal,Percentis 5-95conv'!B279565","v":0}]
[{"$f":"'[1]MedianGlobal,Percentis 5-95conv'!A279786","v":0},{"$f":"'[1]MedianGlobal,Percentis 5-95conv'!B279786","v":0}]
[{"$f":"'[1]MedianGlobal,Percentis 5-95conv'!A280301","v":0},{"$f":"'[1]MedianGlobal,Percentis 5-95conv'!B280301","v":0}]
[{"$f":"'[1]MedianGlobal,Percentis 5-95conv'!A281045","v":0},{"$f":"'[1]MedianGlobal,Percentis 5-95conv'!B281045","v":0}]
[{"$f":"'[1]MedianGlobal,Percentis 5-95conv'!A281789","v":0},{"$f":"'[1]MedianGlobal,Percentis 5-95conv'!B281789","v":0}]
[{"$f":"'[1]MedianGlobal,Percentis 5-95conv'!A282304","v":0},{"$f":"'[1]MedianGlobal,Percentis 5-95conv'!B282304","v":0}]
[{"$f":"'[1]MedianGlobal,Percentis 5-95conv'!A282525","v":0},{"$f":"'[1]MedianGlobal,Percentis 5-95conv'!B282525","v":0}]
[{"$f":"'[1]MedianGlobal,Percentis 5-95conv'!A283040","v":0},{"$f":"'[1]MedianGlobal,Percentis 5-95conv'!B283040","v":0}]
[{"$f":"'[1]MedianGlobal,Percentis 5-95conv'!A283784","v":0},{"$f":"'[1]MedianGlobal,Percentis 5-95conv'!B283784","v":0}]
[{"$f":"'[1]MedianGlobal,Percentis 5-95conv'!A284005","v":0},{"$f":"'[1]MedianGlobal,Percentis 5-95conv'!B284005","v":0}]
[{"$f":"'[1]MedianGlobal,Percentis 5-95conv'!A284520","v":0},{"$f":"'[1]MedianGlobal,Percentis 5-95conv'!B284520","v":0}]
[{"$f":"'[1]MedianGlobal,Percentis 5-95conv'!A285264","v":0},{"$f":"'[1]MedianGlobal,Percentis 5-95conv'!B285264","v":0}]
[{"$f":"'[1]MedianGlobal,Percentis 5-95conv'!A285779","v":0},{"$f":"'[1]MedianGlobal,Percentis 5-95conv'!B285779","v":0}]
[{"$f":"'[1]MedianGlobal,Percentis 5-95conv'!A286523","v":0},{"$f":"'[1]MedianGlobal,Percentis 5-95conv'!B286523","v":0}]
[{"$f":"'[1]MedianGlobal,Percentis 5-95conv'!A286744","v":0},{"$f":"'[1]MedianGlobal,Percentis 5-95conv'!B286744","v":0}]
[{"$f":"'[1]MedianGlobal,Percentis 5-95conv'!A287259","v":0},{"$f":"'[1]MedianGlobal,Percentis 5-95conv'!B287259","v":0}]
[{"$f":"'[1]MedianGlobal,Percentis 5-95conv'!A288003","v":0},{"$f":"'[1]MedianGlobal,Percentis 5-95conv'!B288003","v":0}]
[{"$f":"'[1]MedianGlobal,Percentis 5-95conv'!A288224","v":0},{"$f":"'[1]MedianGlobal,Percentis 5-95conv'!B288224","v":0}]
[{"$f":"'[1]MedianGlobal,Percentis 5-95conv'!A288739","v":0},{"$f":"'[1]MedianGlobal,Percentis 5-95conv'!B288739","v":0}]
[{"$f":"'[1]MedianGlobal,Percentis 5-95conv'!A289483","v":0},{"$f":"'[1]MedianGlobal,Percentis 5-95conv'!B289483","v":0}]
[{"$f":"'[1]MedianGlobal,Percentis 5-95conv'!A289998","v":0},{"$f":"'[1]MedianGlobal,Percentis 5-95conv'!B289998","v":0}]
[{"$f":"'[1]MedianGlobal,Percentis 5-95conv'!A290219","v":0},{"$f":"'[1]MedianGlobal,Percentis 5-95conv'!B290219","v":0}]
[{"$f":"'[1]MedianGlobal,Percentis 5-95conv'!A290718","v":0},{"$f":"'[1]MedianGlobal,Percentis 5-95conv'!B290718","v":0}]
[{"$f":"'[1]MedianGlobal,Percentis 5-95conv'!A291479","v":0},{"$f":"'[1]MedianGlobal,Percentis 5-95conv'!B291479","v":0}]
[{"$f":"'[1]MedianGlobal,Percentis 5-95conv'!A292223","v":0},{"$f":"'[1]MedianGlobal,Percentis 5-95conv'!B292223","v":0}]
[{"$f":"'[1]MedianGlobal,Percentis 5-95conv'!A292444","v":0},{"$f":"'[1]MedianGlobal,Percentis 5-95conv'!B292444","v":0}]
[{"$f":"'[1]MedianGlobal,Percentis 5-95conv'!A292959","v":0},{"$f":"'[1]MedianGlobal,Percentis 5-95conv'!B292959","v":0}]
[{"$f":"'[1]MedianGlobal,Percentis 5-95conv'!A293703","v":0},{"$f":"'[1]MedianGlobal,Percentis 5-95conv'!B293703","v":0}]
[{"$f":"'[1]MedianGlobal,Percentis 5-95conv'!A294218","v":0},{"$f":"'[1]MedianGlobal,Percentis 5-95conv'!B294218","v":0}]
[{"$f":"'[1]MedianGlobal,Percentis 5-95conv'!A294439","v":0},{"$f":"'[1]MedianGlobal,Percentis 5-95conv'!B294439","v":0}]
[{"$f":"'[1]MedianGlobal,Percentis 5-95conv'!A295183","v":0},{"$f":"'[1]MedianGlobal,Percentis 5-95conv'!B295183","v":0}]
[{"$f":"'[1]MedianGlobal,Percentis 5-95conv'!A295698","v":0},{"$f":"'[1]MedianGlobal,Percentis 5-95conv'!B295698","v":0}]
[{"$f":"'[1]MedianGlobal,Percentis 5-95conv'!A296442","v":0},{"$f":"'[1]MedianGlobal,Percentis 5-95conv'!B296442","v":0}]
[{"$f":"'[1]MedianGlobal,Percentis 5-95conv'!A296957","v":0},{"$f":"'[1]MedianGlobal,Percentis 5-95conv'!B296957","v":0}]
[{"$f":"'[1]MedianGlobal,Percentis 5-95conv'!A297178","v":0},{"$f":"'[1]MedianGlobal,Percentis 5-95conv'!B297178","v":0}]
[{"$f":"'[1]MedianGlobal,Percentis 5-95conv'!A297922","v":0},{"$f":"'[1]MedianGlobal,Percentis 5-95conv'!B297922","v":0}]
[{"$f":"'[1]MedianGlobal,Percentis 5-95conv'!A298437","v":0},{"$f":"'[1]MedianGlobal,Percentis 5-95conv'!B298437","v":0}]
[{"$f":"'[1]MedianGlobal,Percentis 5-95conv'!A298658","v":0},{"$f":"'[1]MedianGlobal,Percentis 5-95conv'!B298658","v":0}]
[{"$f":"'[1]MedianGlobal,Percentis 5-95conv'!A299402","v":0},{"$f":"'[1]MedianGlobal,Percentis 5-95conv'!B299402","v":0}]
[{"$f":"'[1]MedianGlobal,Percentis 5-95conv'!A299917","v":0},{"$f":"'[1]MedianGlobal,Percentis 5-95conv'!B299917","v":0}]
[{"$f":"'[1]MedianGlobal,Percentis 5-95conv'!A300138","v":0},{"$f":"'[1]MedianGlobal,Percentis 5-95conv'!B300138","v":0}]
[{"$f":"'[1]MedianGlobal,Percentis 5-95conv'!A301176","v":0},{"$f":"'[1]MedianGlobal,Percentis 5-95conv'!B301176","v":0}]
[{"$f":"'[1]MedianGlobal,Percentis 5-95conv'!A301397","v":0},{"$f":"'[1]MedianGlobal,Percentis 5-95conv'!B301397","v":0}]
[{"$f":"'[1]MedianGlobal,Percentis 5-95conv'!A302141","v":0},{"$f":"'[1]MedianGlobal,Percentis 5-95conv'!B302141","v":0}]
[{"$f":"'[1]MedianGlobal,Percentis 5-95conv'!A302656","v":0},{"$f":"'[1]MedianGlobal,Percentis 5-95conv'!B302656","v":0}]
[{"$f":"'[1]MedianGlobal,Percentis 5-95conv'!A302877","v":0},{"$f":"'[1]MedianGlobal,Percentis 5-95conv'!B302877","v":0}]
[{"$f":"'[1]MedianGlobal,Percentis 5-95conv'!A303392","v":0},{"$f":"'[1]MedianGlobal,Percentis 5-95conv'!B303392","v":0}]
[{"$f":"'[1]MedianGlobal,Percentis 5-95conv'!A304136","v":0},{"$f":"'[1]MedianGlobal,Percentis 5-95conv'!B304136","v":0}]
[{"$f":"'[1]MedianGlobal,Percentis 5-95conv'!A304347","v":0},{"$f":"'[1]MedianGlobal,Percentis 5-95conv'!B304347","v":0}]
[{"$f":"'[1]MedianGlobal,Percentis 5-95conv'!A304873","v":0},{"$f":"'[1]MedianGlobal,Percentis 5-95conv'!B304873","v":0}]
[{"$f":"'[1]MedianGlobal,Percentis 5-95conv'!A305617","v":0},{"$f":"'[1]MedianGlobal,Percentis 5-95conv'!B305617","v":0}]
[{"$f":"'[1]MedianGlobal,Percentis 5-95conv'!A306361","v":0},{"$f":"'[1]MedianGlobal,Percentis 5-95conv'!B306361","v":0}]
[{"$f":"'[1]MedianGlobal,Percentis 5-95conv'!A306876","v":0},{"$f":"'[1]MedianGlobal,Percentis 5-95conv'!B306876","v":0}]
[{"$f":"'[1]MedianGlobal,Percentis 5-95conv'!A307097","v":0},{"$f":"'[1]MedianGlobal,Percentis 5-95conv'!B307097","v":0}]
[{"$f":"'[1]MedianGlobal,Percentis 5-95conv'!A307612","v":0},{"$f":"'[1]MedianGlobal,Percentis 5-95conv'!B307612","v":0}]
[{"$f":"'[1]MedianGlobal,Percentis 5-95conv'!A308356","v":0},{"$f":"'[1]MedianGlobal,Percentis 5-95conv'!B308356","v":0}]
[{"$f":"'[1]MedianGlobal,Percentis 5-95conv'!A308577","v":0},{"$f":"'[1]MedianGlobal,Percentis 5-95conv'!B308577","v":0}]
[{"$f":"'[1]MedianGlobal,Percentis 5-95conv'!A309092","v":0},{"$f":"'[1]MedianGlobal,Percentis 5-95conv'!B309092","v":0}]
[{"$f":"'[1]MedianGlobal,Percentis 5-95conv'!A309836","v":0},{"$f":"'[1]MedianGlobal,Percentis 5-95conv'!B309836","v":0}]
[{"$f":"'[1]MedianGlobal,Percentis 5-95conv'!A310580","v":0},{"$f":"'[1]MedianGlobal,Percentis 5-95conv'!B310580","v":0}]
[{"$f":"'[1]MedianGlobal,Percentis 5-95conv'!A311095","v":0},{"$f":"'[1]MedianGlobal,Percentis 5-95conv'!B311095","v":0}]
[{"$f":"'[1]MedianGlobal,Percentis 5-95conv'!A311316","v":0},{"$f":"'[1]MedianGlobal,Percentis 5-95conv'!B311316","v":0}]
[{"$f":"'[1]MedianGlobal,Percentis 5-95conv'!A311831","v":0},{"$f":"'[1]MedianGlobal,Percentis 5-95conv'!B311831","v":0}]
[{"$f":"'[1]MedianGlobal,Percentis 5-95conv'!A312575","v":0},{"$f":"'[1]MedianGlobal,Percentis 5-95conv'!B312575","v":0}]
[{"$f":"'[1]MedianGlobal,Percentis 5-95conv'!A312796","v":0},{"$f":"'[1]MedianGlobal,Percentis 5-95conv'!B312796","v":0}]
[{"$f":"'[1]MedianGlobal,Percentis 5-95conv'!A313311","v":0},{"$f":"'[1]MedianGlobal,Percentis 5-95conv'!B313311","v":0}]
[{"$f":"'[1]MedianGlobal,Percentis 5-95conv'!A314055","v":0},{"$f":"'[1]MedianGlobal,Percentis 5-95conv'!B314055","v":0}]
[{"$f":"'[1]MedianGlobal,Percentis 5-95conv'!A314570","v":0},{"$f":"'[1]MedianGlobal,Percentis 5-95conv'!B314570","v":0}]
[{"$f":"'[1]MedianGlobal,Percentis 5-95conv'!A314791","v":0},{"$f":"'[1]MedianGlobal,Percentis 5-95conv'!B314791","v":0}]
[{"$f":"'[1]MedianGlobal,Percentis 5-95conv'!A315535","v":0},{"$f":"'[1]MedianGlobal,Percentis 5-95conv'!B315535","v":0}]
[{"$f":"'[1]MedianGlobal,Percentis 5-95conv'!A316050","v":0},{"$f":"'[1]MedianGlobal,Percentis 5-95conv'!B316050","v":0}]
[{"$f":"'[1]MedianGlobal,Percentis 5-95conv'!A316794","v":0},{"$f":"'[1]MedianGlobal,Percentis 5-95conv'!B316794","v":0}]
[{"$f":"'[1]MedianGlobal,Percentis 5-95conv'!A317015","v":0},{"$f":"'[1]MedianGlobal,Percentis 5-95conv'!B317015","v":0}]
[{"$f":"'[1]MedianGlobal,Percentis 5-95conv'!A317530","v":0},{"$f":"'[1]MedianGlobal,Percentis 5-95conv'!B317530","v":0}]
[{"$f":"'[1]MedianGlobal,Percentis 5-95conv'!A318274","v":0},{"$f":"'[1]MedianGlobal,Percentis 5-95conv'!B318274","v":0}]
[{"$f":"'[1]MedianGlobal,Percentis 5-95conv'!A318552","v":0},{"$f":"'[1]MedianGlobal,Percentis 5-95conv'!B318552","v":0}]
[{"$f":"'[1]MedianGlobal,Percentis 5-95conv'!A319011","v":0},{"$f":"'[1]MedianGlobal,Percentis 5-95conv'!B319011","v":0}]
[{"$f":"'[1]MedianGlobal,Percentis 5-95conv'!A319755","v":0},{"$f":"'[1]MedianGlobal,Percentis 5-95conv'!B319755","v":0}]
[{"$f":"'[1]MedianGlobal,Percentis 5-95conv'!A320270","v":0},{"$f":"'[1]MedianGlobal,Percentis 5-95conv'!B320270","v":0}]
[{"$f":"'[1]MedianGlobal,Percentis 5-95conv'!A321014","v":0},{"$f":"'[1]MedianGlobal,Percentis 5-95conv'!B321014","v":0}]
[{"$f":"'[1]MedianGlobal,Percentis 5-95conv'!A321235","v":0},{"$f":"'[1]MedianGlobal,Percentis 5-95conv'!B321235","v":0}]
[{"$f":"'[1]MedianGlobal,Percentis 5-95conv'!A321750","v":0},{"$f":"'[1]MedianGlobal,Percentis 5-95conv'!B321750","v":0}]
[{"$f":"'[1]MedianGlobal,Percentis 5-95conv'!A322494","v":0},{"$f":"'[1]MedianGlobal,Percentis 5-95conv'!B322494","v":0}]
[{"$f":"'[1]MedianGlobal,Percentis 5-95conv'!A323009","v":0},{"$f":"'[1]MedianGlobal,Percentis 5-95conv'!B323009","v":0}]
[{"$f":"'[1]MedianGlobal,Percentis 5-95conv'!A323230","v":0},{"$f":"'[1]MedianGlobal,Percentis 5-95conv'!B323230","v":0}]
[{"$f":"'[1]MedianGlobal,Percentis 5-95conv'!A323974","v":0},{"$f":"'[1]MedianGlobal,Percentis 5-95conv'!B323974","v":0}]
[{"$f":"'[1]MedianGlobal,Percentis 5-95conv'!A324489","v":0},{"$f":"'[1]MedianGlobal,Percentis 5-95conv'!B324489","v":0}]
[{"$f":"'[1]MedianGlobal,Percentis 5-95conv'!A325233","v":0},{"$f":"'[1]MedianGlobal,Percentis 5-95conv'!B325233","v":0}]
[{"$f":"'[1]MedianGlobal,Percentis 5-95conv'!A325748","v":0},{"$f":"'[1]MedianGlobal,Percentis 5-95conv'!B325748","v":0}]
[{"$f":"'[1]MedianGlobal,Percentis 5-95conv'!A325969","v":0},{"$f":"'[1]MedianGlobal,Percentis 5-95conv'!B325969","v":0}]
[{"$f":"'[1]MedianGlobal,Percentis 5-95conv'!A326713","v":0},{"$f":"'[1]MedianGlobal,Percentis 5-95conv'!B326713","v":0}]
[{"$f":"'[1]MedianGlobal,Percentis 5-95conv'!A327228","v":0},{"$f":"'[1]MedianGlobal,Percentis 5-95conv'!B327228","v":0}]
[{"$f":"'[1]MedianGlobal,Percentis 5-95conv'!A327449","v":0},{"$f":"'[1]MedianGlobal,Percentis 5-95conv'!B327449","v":0}]
[{"$f":"'[1]MedianGlobal,Percentis 5-95conv'!A328193","v":0},{"$f":"'[1]MedianGlobal,Percentis 5-95conv'!B328193","v":0}]
[{"$f":"'[1]MedianGlobal,Percentis 5-95conv'!A328708","v":0},{"$f":"'[1]MedianGlobal,Percentis 5-95conv'!B328708","v":0}]
[{"$f":"'[1]MedianGlobal,Percentis 5-95conv'!A328929","v":0},{"$f":"'[1]MedianGlobal,Percentis 5-95conv'!B328929","v":0}]
[{"$f":"'[1]MedianGlobal,Percentis 5-95conv'!A329444","v":0},{"$f":"'[1]MedianGlobal,Percentis 5-95conv'!B329444","v":0}]
[{"$f":"'[1]MedianGlobal,Percentis 5-95conv'!A330188","v":0},{"$f":"'[1]MedianGlobal,Percentis 5-95conv'!B330188","v":0}]
[{"$f":"'[1]MedianGlobal,Percentis 5-95conv'!A330932","v":0},{"$f":"'[1]MedianGlobal,Percentis 5-95conv'!B330932","v":0}]
[{"$f":"'[1]MedianGlobal,Percentis 5-95conv'!A331447","v":0},{"$f":"'[1]MedianGlobal,Percentis 5-95conv'!B331447","v":0}]
[{"$f":"'[1]MedianGlobal,Percentis 5-95conv'!A331668","v":0},{"$f":"'[1]MedianGlobal,Percentis 5-95conv'!B331668","v":0}]
[{"$f":"'[1]MedianGlobal,Percentis 5-95conv'!A332181","v":0},{"$f":"'[1]MedianGlobal,Percentis 5-95conv'!B332181","v":0}]
[{"$f":"'[1]MedianGlobal,Percentis 5-95conv'!A332928","v":0},{"$f":"'[1]MedianGlobal,Percentis 5-95conv'!B332928","v":0}]
[{"$f":"'[1]MedianGlobal,Percentis 5-95conv'!A333149","v":0},{"$f":"'[1]MedianGlobal,Percentis 5-95conv'!B333149","v":0}]
[{"$f":"'[1]MedianGlobal,Percentis 5-95conv'!A333664","v":0},{"$f":"'[1]MedianGlobal,Percentis 5-95conv'!B333664","v":0}]
[{"$f":"'[1]MedianGlobal,Percentis 5-95conv'!A334408","v":0},{"$f":"'[1]MedianGlobal,Percentis 5-95conv'!B334408","v":0}]
[{"$f":"'[1]MedianGlobal,Percentis 5-95conv'!A335152","v":0},{"$f":"'[1]MedianGlobal,Percentis 5-95conv'!B335152","v":0}]
[{"$f":"'[1]MedianGlobal,Percentis 5-95conv'!A335667","v":0},{"$f":"'[1]MedianGlobal,Percentis 5-95conv'!B335667","v":0}]
[{"$f":"'[1]MedianGlobal,Percentis 5-95conv'!A335888","v":0},{"$f":"'[1]MedianGlobal,Percentis 5-95conv'!B335888","v":0}]
[{"$f":"'[1]MedianGlobal,Percentis 5-95conv'!A336403","v":0},{"$f":"'[1]MedianGlobal,Percentis 5-95conv'!B336403","v":0}]
[{"$f":"'[1]MedianGlobal,Percentis 5-95conv'!A337147","v":0},{"$f":"'[1]MedianGlobal,Percentis 5-95conv'!B337147","v":0}]
[{"$f":"'[1]MedianGlobal,Percentis 5-95conv'!A337368","v":0},{"$f":"'[1]MedianGlobal,Percentis 5-95conv'!B337368","v":0}]
[{"$f":"'[1]MedianGlobal,Percentis 5-95conv'!A337883","v":0},{"$f":"'[1]MedianGlobal,Percentis 5-95conv'!B337883","v":0}]
[{"$f":"'[1]MedianGlobal,Percentis 5-95conv'!A338627","v":0},{"$f":"'[1]MedianGlobal,Percentis 5-95conv'!B338627","v":0}]
[{"$f":"'[1]MedianGlobal,Percentis 5-95conv'!A338848","v":0},{"$f":"'[1]MedianGlobal,Percentis 5-95conv'!B338848","v":0}]
[{"$f":"'[1]MedianGlobal,Percentis 5-95conv'!A339363","v":0},{"$f":"'[1]MedianGlobal,Percentis 5-95conv'!B339363","v":0}]
[{"$f":"'[1]MedianGlobal,Percentis 5-95conv'!A340107","v":0},{"$f":"'[1]MedianGlobal,Percentis 5-95conv'!B340107","v":0}]
[{"$f":"'[1]MedianGlobal,Percentis 5-95conv'!A340622","v":0},{"$f":"'[1]MedianGlobal,Percentis 5-95conv'!B340622","v":0}]
[{"$f":"'[1]MedianGlobal,Percentis 5-95conv'!A341366","v":0},{"$f":"'[1]MedianGlobal,Percentis 5-95conv'!B341366","v":0}]
[{"$f":"'[1]MedianGlobal,Percentis 5-95conv'!A341587","v":0},{"$f":"'[1]MedianGlobal,Percentis 5-95conv'!B341587","v":0}]
[{"$f":"'[1]MedianGlobal,Percentis 5-95conv'!A342102","v":0},{"$f":"'[1]MedianGlobal,Percentis 5-95conv'!B342102","v":0}]
[{"$f":"'[1]MedianGlobal,Percentis 5-95conv'!A342846","v":0},{"$f":"'[1]MedianGlobal,Percentis 5-95conv'!B342846","v":0}]
[{"$f":"'[1]MedianGlobal,Percentis 5-95conv'!A343361","v":0},{"$f":"'[1]MedianGlobal,Percentis 5-95conv'!B343361","v":0}]
[{"$f":"'[1]MedianGlobal,Percentis 5-95conv'!A343582","v":0},{"$f":"'[1]MedianGlobal,Percentis 5-95conv'!B343582","v":0}]
[{"$f":"'[1]MedianGlobal,Percentis 5-95conv'!A344326","v":0},{"$f":"'[1]MedianGlobal,Percentis 5-95conv'!B344326","v":0}]
[{"$f":"'[1]MedianGlobal,Percentis 5-95conv'!A344841","v":0},{"$f":"'[1]MedianGlobal,Percentis 5-95conv'!B344841","v":0}]
[{"$f":"'[1]MedianGlobal,Percentis 5-95conv'!A345585","v":0},{"$f":"'[1]MedianGlobal,Percentis 5-95conv'!B345585","v":0}]
[{"$f":"'[1]MedianGlobal,Percentis 5-95conv'!A346086","v":0},{"$f":"'[1]MedianGlobal,Percentis 5-95conv'!B346086","v":0}]
[{"$f":"'[1]MedianGlobal,Percentis 5-95conv'!A346322","v":0},{"$f":"'[1]MedianGlobal,Percentis 5-95conv'!B346322","v":0}]
[{"$f":"'[1]MedianGlobal,Percentis 5-95conv'!A347066","v":0},{"$f":"'[1]MedianGlobal,Percentis 5-95conv'!B347066","v":0}]
[{"$f":"'[1]MedianGlobal,Percentis 5-95conv'!A347581","v":0},{"$f":"'[1]MedianGlobal,Percentis 5-95conv'!B347581","v":0}]
[{"$f":"'[1]MedianGlobal,Percentis 5-95conv'!A347802","v":0},{"$f":"'[1]MedianGlobal,Percentis 5-95conv'!B347802","v":0}]
[{"$f":"'[1]MedianGlobal,Percentis 5-95conv'!A348546","v":0},{"$f":"'[1]MedianGlobal,Percentis 5-95conv'!B348546","v":0}]
[{"$f":"'[1]MedianGlobal,Percentis 5-95conv'!A349061","v":0},{"$f":"'[1]MedianGlobal,Percentis 5-95conv'!B349061","v":0}]
[{"$f":"'[1]MedianGlobal,Percentis 5-95conv'!A349805","v":0},{"$f":"'[1]MedianGlobal,Percentis 5-95conv'!B349805","v":0}]
[{"$f":"'[1]MedianGlobal,Percentis 5-95conv'!A350320","v":0},{"$f":"'[1]MedianGlobal,Percentis 5-95conv'!B350320","v":0}]
[{"$f":"'[1]MedianGlobal,Percentis 5-95conv'!A350541","v":0},{"$f":"'[1]MedianGlobal,Percentis 5-95conv'!B350541","v":0}]
[{"$f":"'[1]MedianGlobal,Percentis 5-95conv'!A351285","v":0},{"$f":"'[1]MedianGlobal,Percentis 5-95conv'!B351285","v":0}]
[{"$f":"'[1]MedianGlobal,Percentis 5-95conv'!A351800","v":0},{"$f":"'[1]MedianGlobal,Percentis 5-95conv'!B351800","v":0}]
[{"$f":"'[1]MedianGlobal,Percentis 5-95conv'!A352021","v":0},{"$f":"'[1]MedianGlobal,Percentis 5-95conv'!B352021","v":0}]
[{"$f":"'[1]MedianGlobal,Percentis 5-95conv'!A352765","v":0},{"$f":"'[1]MedianGlobal,Percentis 5-95conv'!B352765","v":0}]
[{"$f":"'[1]MedianGlobal,Percentis 5-95conv'!A353280","v":0},{"$f":"'[1]MedianGlobal,Percentis 5-95conv'!B353280","v":0}]
[{"$f":"'[1]MedianGlobal,Percentis 5-95conv'!A353501","v":0},{"$f":"'[1]MedianGlobal,Percentis 5-95conv'!B353501","v":0}]
[{"$f":"'[1]MedianGlobal,Percentis 5-95conv'!A354016","v":0},{"$f":"'[1]MedianGlobal,Percentis 5-95conv'!B354016","v":0}]
[{"$f":"'[1]MedianGlobal,Percentis 5-95conv'!A354760","v":0},{"$f":"'[1]MedianGlobal,Percentis 5-95conv'!B354760","v":0}]
[{"$f":"'[1]MedianGlobal,Percentis 5-95conv'!A355504","v":0},{"$f":"'[1]MedianGlobal,Percentis 5-95conv'!B355504","v":0}]
[{"$f":"'[1]MedianGlobal,Percentis 5-95conv'!A356019","v":0},{"$f":"'[1]MedianGlobal,Percentis 5-95conv'!B356019","v":0}]
[{"$f":"'[1]MedianGlobal,Percentis 5-95conv'!A356240","v":0},{"$f":"'[1]MedianGlobal,Percentis 5-95conv'!B356240","v":0}]
[{"$f":"'[1]MedianGlobal,Percentis 5-95conv'!A356984","v":0},{"$f":"'[1]MedianGlobal,Percentis 5-95conv'!B356984","v":0}]
[{"$f":"'[1]MedianGlobal,Percentis 5-95conv'!A357499","v":0},{"$f":"'[1]MedianGlobal,Percentis 5-95conv'!B357499","v":0}]
[{"$f":"'[1]MedianGlobal,Percentis 5-95conv'!A357720","v":0},{"$f":"'[1]MedianGlobal,Percentis 5-95conv'!B357720","v":0}]
[{"$f":"'[1]MedianGlobal,Percentis 5-95conv'!A358235","v":0},{"$f":"'[1]MedianGlobal,Percentis 5-95conv'!B358235","v":0}]
[{"$f":"'[1]MedianGlobal,Percentis 5-95conv'!A358979","v":0},{"$f":"'[1]MedianGlobal,Percentis 5-95conv'!B358979","v":0}]
[{"$f":"'[1]MedianGlobal,Percentis 5-95conv'!A359723","v":0},{"$f":"'[1]MedianGlobal,Percentis 5-95conv'!B359723","v":0}]
[{"$f":"'[1]MedianGlobal,Percentis 5-95conv'!A359767","v":0},{"$f":"'[1]MedianGlobal,Percentis 5-95conv'!B359767","v":0}]
[{"$f":"'[1]MedianGlobal,Percentis 5-95conv'!A360460","v":0},{"$f":"'[1]MedianGlobal,Percentis 5-95conv'!B360460","v":0}]
[{"$f":"'[1]MedianGlobal,Percentis 5-95conv'!A360975","v":0},{"$f":"'[1]MedianGlobal,Percentis 5-95conv'!B360975","v":0}]
[{"$f":"'[1]MedianGlobal,Percentis 5-95conv'!A361719","v":0},{"$f":"'[1]MedianGlobal,Percentis 5-95conv'!B361719","v":0}]
[{"$f":"'[1]MedianGlobal,Percentis 5-95conv'!A361940","v":0},{"$f":"'[1]MedianGlobal,Percentis 5-95conv'!B361940","v":0}]
[{"$f":"'[1]MedianGlobal,Percentis 5-95conv'!A362455","v":0},{"$f":"'[1]MedianGlobal,Percentis 5-95conv'!B362455","v":0}]
[{"$f":"'[1]MedianGlobal,Percentis 5-95conv'!A363199","v":0},{"$f":"'[1]MedianGlobal,Percentis 5-95conv'!B363199","v":0}]
[{"$f":"'[1]MedianGlobal,Percentis 5-95conv'!A363420","v":0},{"$f":"'[1]MedianGlobal,Percentis 5-95conv'!B363420","v":0}]
[{"$f":"'[1]MedianGlobal,Percentis 5-95conv'!A364458","v":0},{"$f":"'[1]MedianGlobal,Percentis 5-95conv'!B364458","v":0}]
[{"$f":"'[1]MedianGlobal,Percentis 5-95conv'!A364679","v":0},{"$f":"'[1]MedianGlobal,Percentis 5-95conv'!B364679","v":0}]
[{"$f":"'[1]MedianGlobal,Percentis 5-95conv'!A365194","v":0},{"$f":"'[1]MedianGlobal,Percentis 5-95conv'!B365194","v":0}]
[{"$f":"'[1]MedianGlobal,Percentis 5-95conv'!A365938","v":0},{"$f":"'[1]MedianGlobal,Percentis 5-95conv'!B365938","v":0}]
[{"$f":"'[1]MedianGlobal,Percentis 5-95conv'!A366159","v":0},{"$f":"'[1]MedianGlobal,Percentis 5-95conv'!B366159","v":0}]
[{"$f":"'[1]MedianGlobal,Percentis 5-95conv'!A366674","v":0},{"$f":"'[1]MedianGlobal,Percentis 5-95conv'!B366674","v":0}]
[{"$f":"'[1]MedianGlobal,Percentis 5-95conv'!A367418","v":0},{"$f":"'[1]MedianGlobal,Percentis 5-95conv'!B367418","v":0}]
[{"$f":"'[1]MedianGlobal,Percentis 5-95conv'!A367639","v":0},{"$f":"'[1]MedianGlobal,Percentis 5-95conv'!B367639","v":0}]
[{"$f":"'[1]MedianGlobal,Percentis 5-95conv'!A368154","v":0},{"$f":"'[1]MedianGlobal,Percentis 5-95conv'!B368154","v":0}]
[{"$f":"'[1]MedianGlobal,Percentis 5-95conv'!A368898","v":0},{"$f":"'[1]MedianGlobal,Percentis 5-95conv'!B368898","v":0}]
[{"$f":"'[1]MedianGlobal,Percentis 5-95conv'!A369413","v":0},{"$f":"'[1]MedianGlobal,Percentis 5-95conv'!B369413","v":0}]
[{"$f":"'[1]MedianGlobal,Percentis 5-95conv'!A370157","v":0},{"$f":"'[1]MedianGlobal,Percentis 5-95conv'!B370157","v":0}]
[{"$f":"'[1]MedianGlobal,Percentis 5-95conv'!A370378","v":0},{"$f":"'[1]MedianGlobal,Percentis 5-95conv'!B370378","v":0}]
[{"$f":"'[1]MedianGlobal,Percentis 5-95conv'!A370893","v":0},{"$f":"'[1]MedianGlobal,Percentis 5-95conv'!B370893","v":0}]
[{"$f":"'[1]MedianGlobal,Percentis 5-95conv'!A371637","v":0},{"$f":"'[1]MedianGlobal,Percentis 5-95conv'!B371637","v":0}]
[{"$f":"'[1]MedianGlobal,Percentis 5-95conv'!A372152","v":0},{"$f":"'[1]MedianGlobal,Percentis 5-95conv'!B372152","v":0}]
[{"$f":"'[1]MedianGlobal,Percentis 5-95conv'!A372373","v":0},{"$f":"'[1]MedianGlobal,Percentis 5-95conv'!B372373","v":0}]
[{"$f":"'[1]MedianGlobal,Percentis 5-95conv'!A373117","v":0},{"$f":"'[1]MedianGlobal,Percentis 5-95conv'!B373117","v":0}]
[{"$f":"'[1]MedianGlobal,Percentis 5-95conv'!A373396","v":0},{"$f":"'[1]MedianGlobal,Percentis 5-95conv'!B373396","v":0}]
[{"$f":"'[1]MedianGlobal,Percentis 5-95conv'!A374377","v":0},{"$f":"'[1]MedianGlobal,Percentis 5-95conv'!B374377","v":0}]
[{"$f":"'[1]MedianGlobal,Percentis 5-95conv'!A374598","v":0},{"$f":"'[1]MedianGlobal,Percentis 5-95conv'!B374598","v":0}]
[{"$f":"'[1]MedianGlobal,Percentis 5-95conv'!A375113","v":0},{"$f":"'[1]MedianGlobal,Percentis 5-95conv'!B375113","v":0}]
[{"$f":"'[1]MedianGlobal,Percentis 5-95conv'!A375857","v":0},{"$f":"'[1]MedianGlobal,Percentis 5-95conv'!B375857","v":0}]
[{"$f":"'[1]MedianGlobal,Percentis 5-95conv'!A376372","v":0},{"$f":"'[1]MedianGlobal,Percentis 5-95conv'!B376372","v":0}]
[{"$f":"'[1]MedianGlobal,Percentis 5-95conv'!A376593","v":0},{"$f":"'[1]MedianGlobal,Percentis 5-95conv'!B376593","v":0}]
[{"$f":"'[1]MedianGlobal,Percentis 5-95conv'!A377337","v":0},{"$f":"'[1]MedianGlobal,Percentis 5-95conv'!B377337","v":0}]
[{"$f":"'[1]MedianGlobal,Percentis 5-95conv'!A377852","v":0},{"$f":"'[1]MedianGlobal,Percentis 5-95conv'!B377852","v":0}]
[{"$f":"'[1]MedianGlobal,Percentis 5-95conv'!A378073","v":0},{"$f":"'[1]MedianGlobal,Percentis 5-95conv'!B378073","v":0}]
[{"$f":"'[1]MedianGlobal,Percentis 5-95conv'!A378588","v":0},{"$f":"'[1]MedianGlobal,Percentis 5-95conv'!B378588","v":0}]
[{"$f":"'[1]MedianGlobal,Percentis 5-95conv'!A379332","v":0},{"$f":"'[1]MedianGlobal,Percentis 5-95conv'!B379332","v":0}]
[{"$f":"'[1]MedianGlobal,Percentis 5-95conv'!A380076","v":0},{"$f":"'[1]MedianGlobal,Percentis 5-95conv'!B380076","v":0}]
[{"$f":"'[1]MedianGlobal,Percentis 5-95conv'!A380591","v":0},{"$f":"'[1]MedianGlobal,Percentis 5-95conv'!B380591","v":0}]
[{"$f":"'[1]MedianGlobal,Percentis 5-95conv'!A380812","v":0},{"$f":"'[1]MedianGlobal,Percentis 5-95conv'!B380812","v":0}]
[{"$f":"'[1]MedianGlobal,Percentis 5-95conv'!A381556","v":0},{"$f":"'[1]MedianGlobal,Percentis 5-95conv'!B381556","v":0}]
[{"$f":"'[1]MedianGlobal,Percentis 5-95conv'!A382071","v":0},{"$f":"'[1]MedianGlobal,Percentis 5-95conv'!B382071","v":0}]
[{"$f":"'[1]MedianGlobal,Percentis 5-95conv'!A382292","v":0},{"$f":"'[1]MedianGlobal,Percentis 5-95conv'!B382292","v":0}]
[{"$f":"'[1]MedianGlobal,Percentis 5-95conv'!A382807","v":0},{"$f":"'[1]MedianGlobal,Percentis 5-95conv'!B382807","v":0}]
[{"$f":"'[1]MedianGlobal,Percentis 5-95conv'!A383551","v":0},{"$f":"'[1]MedianGlobal,Percentis 5-95conv'!B383551","v":0}]
[{"$f":"'[1]MedianGlobal,Percentis 5-95conv'!A384295","v":0},{"$f":"'[1]MedianGlobal,Percentis 5-95conv'!B384295","v":0}]
[{"$f":"'[1]MedianGlobal,Percentis 5-95conv'!A384810","v":0},{"$f":"'[1]MedianGlobal,Percentis 5-95conv'!B384810","v":0}]
[{"$f":"'[1]MedianGlobal,Percentis 5-95conv'!A385031","v":0},{"$f":"'[1]MedianGlobal,Percentis 5-95conv'!B385031","v":0}]
[{"$f":"'[1]MedianGlobal,Percentis 5-95conv'!A385775","v":0},{"$f":"'[1]MedianGlobal,Percentis 5-95conv'!B385775","v":0}]
[{"$f":"'[1]MedianGlobal,Percentis 5-95conv'!A386290","v":0},{"$f":"'[1]MedianGlobal,Percentis 5-95conv'!B386290","v":0}]
[{"$f":"'[1]MedianGlobal,Percentis 5-95conv'!A386511","v":0},{"$f":"'[1]MedianGlobal,Percentis 5-95conv'!B386511","v":0}]
[{"$f":"'[1]MedianGlobal,Percentis 5-95conv'!A387025","v":0},{"$f":"'[1]MedianGlobal,Percentis 5-95conv'!B387025","v":0}]
[{"$f":"'[1]MedianGlobal,Percentis 5-95conv'!A387771","v":0},{"$f":"'[1]MedianGlobal,Percentis 5-95conv'!B387771","v":0}]
[{"$f":"'[1]MedianGlobal,Percentis 5-95conv'!A388515","v":0},{"$f":"'[1]MedianGlobal,Percentis 5-95conv'!B388515","v":0}]
[{"$f":"'[1]MedianGlobal,Percentis 5-95conv'!A389030","v":0},{"$f":"'[1]MedianGlobal,Percentis 5-95conv'!B389030","v":0}]
[{"$f":"'[1]MedianGlobal,Percentis 5-95conv'!A389251","v":0},{"$f":"'[1]MedianGlobal,Percentis 5-95conv'!B389251","v":0}]
[{"$f":"'[1]MedianGlobal,Percentis 5-95conv'!A389766","v":0},{"$f":"'[1]MedianGlobal,Percentis 5-95conv'!B389766","v":0}]
[{"$f":"'[1]MedianGlobal,Percentis 5-95conv'!A390510","v":0},{"$f":"'[1]MedianGlobal,Percentis 5-95conv'!B390510","v":0}]
[{"$f":"'[1]MedianGlobal,Percentis 5-95conv'!A390731","v":0},{"$f":"'[1]MedianGlobal,Percentis 5-95conv'!B390731","v":0}]
[{"$f":"'[1]MedianGlobal,Percentis 5-95conv'!A391246","v":0},{"$f":"'[1]MedianGlobal,Percentis 5-95conv'!B391246","v":0}]
[{"$f":"'[1]MedianGlobal,Percentis 5-95conv'!A391990","v":0},{"$f":"'[1]MedianGlobal,Percentis 5-95conv'!B391990","v":0}]
[{"$f":"'[1]MedianGlobal,Percentis 5-95conv'!A392211","v":0},{"$f":"'[1]MedianGlobal,Percentis 5-95conv'!B392211","v":0}]
[{"$f":"'[1]MedianGlobal,Percentis 5-95conv'!A392726","v":0},{"$f":"'[1]MedianGlobal,Percentis 5-95conv'!B392726","v":0}]
[{"$f":"'[1]MedianGlobal,Percentis 5-95conv'!A393470","v":0},{"$f":"'[1]MedianGlobal,Percentis 5-95conv'!B393470","v":0}]
[{"$f":"'[1]MedianGlobal,Percentis 5-95conv'!A393985","v":0},{"$f":"'[1]MedianGlobal,Percentis 5-95conv'!B393985","v":0}]
[{"$f":"'[1]MedianGlobal,Percentis 5-95conv'!A394729","v":0},{"$f":"'[1]MedianGlobal,Percentis 5-95conv'!B394729","v":0}]
[{"$f":"'[1]MedianGlobal,Percentis 5-95conv'!A394950","v":0},{"$f":"'[1]MedianGlobal,Percentis 5-95conv'!B394950","v":0}]
[{"$f":"'[1]MedianGlobal,Percentis 5-95conv'!A395465","v":0},{"$f":"'[1]MedianGlobal,Percentis 5-95conv'!B395465","v":0}]
[{"$f":"'[1]MedianGlobal,Percentis 5-95conv'!A396209","v":0},{"$f":"'[1]MedianGlobal,Percentis 5-95conv'!B396209","v":0}]
[{"$f":"'[1]MedianGlobal,Percentis 5-95conv'!A396724","v":0},{"$f":"'[1]MedianGlobal,Percentis 5-95conv'!B396724","v":0}]
[{"$f":"'[1]MedianGlobal,Percentis 5-95conv'!A396945","v":0},{"$f":"'[1]MedianGlobal,Percentis 5-95conv'!B396945","v":0}]
[{"$f":"'[1]MedianGlobal,Percentis 5-95conv'!A397689","v":0},{"$f":"'[1]MedianGlobal,Percentis 5-95conv'!B397689","v":0}]
[{"$f":"'[1]MedianGlobal,Percentis 5-95conv'!A398204","v":0},{"$f":"'[1]MedianGlobal,Percentis 5-95conv'!B398204","v":0}]
[{"$f":"'[1]MedianGlobal,Percentis 5-95conv'!A398948","v":0},{"$f":"'[1]MedianGlobal,Percentis 5-95conv'!B398948","v":0}]
[{"$f":"'[1]MedianGlobal,Percentis 5-95conv'!A399169","v":0},{"$f":"'[1]MedianGlobal,Percentis 5-95conv'!B399169","v":0}]
[{"$f":"'[1]MedianGlobal,Percentis 5-95conv'!A399684","v":0},{"$f":"'[1]MedianGlobal,Percentis 5-95conv'!B399684","v":0}]
[{"$f":"'[1]MedianGlobal,Percentis 5-95conv'!A400428","v":0},{"$f":"'[1]MedianGlobal,Percentis 5-95conv'!B400428","v":0}]
[{"$f":"'[1]MedianGlobal,Percentis 5-95conv'!A400943","v":0},{"$f":"'[1]MedianGlobal,Percentis 5-95conv'!B400943","v":0}]
[{"$f":"'[1]MedianGlobal,Percentis 5-95conv'!A401506","v":0},{"$f":"'[1]MedianGlobal,Percentis 5-95conv'!B401506","v":0}]
[{"$f":"'[1]MedianGlobal,Percentis 5-95conv'!A401909","v":0},{"$f":"'[1]MedianGlobal,Percentis 5-95conv'!B401909","v":0}]
[{"$f":"'[1]MedianGlobal,Percentis 5-95conv'!A402424","v":0},{"$f":"'[1]MedianGlobal,Percentis 5-95conv'!B402424","v":0}]
[{"$f":"'[1]MedianGlobal,Percentis 5-95conv'!A403168","v":0},{"$f":"'[1]MedianGlobal,Percentis 5-95conv'!B403168","v":0}]
[{"$f":"'[1]MedianGlobal,Percentis 5-95conv'!A403389","v":0},{"$f":"'[1]MedianGlobal,Percentis 5-95conv'!B403389","v":0}]
[{"$f":"'[1]MedianGlobal,Percentis 5-95conv'!A403904","v":0},{"$f":"'[1]MedianGlobal,Percentis 5-95conv'!B403904","v":0}]
[{"$f":"'[1]MedianGlobal,Percentis 5-95conv'!A404648","v":0},{"$f":"'[1]MedianGlobal,Percentis 5-95conv'!B404648","v":0}]
[{"$f":"'[1]MedianGlobal,Percentis 5-95conv'!A405163","v":0},{"$f":"'[1]MedianGlobal,Percentis 5-95conv'!B405163","v":0}]
[{"$f":"'[1]MedianGlobal,Percentis 5-95conv'!A405384","v":0},{"$f":"'[1]MedianGlobal,Percentis 5-95conv'!B405384","v":0}]
[{"$f":"'[1]MedianGlobal,Percentis 5-95conv'!A406128","v":0},{"$f":"'[1]MedianGlobal,Percentis 5-95conv'!B406128","v":0}]
[{"$f":"'[1]MedianGlobal,Percentis 5-95conv'!A406643","v":0},{"$f":"'[1]MedianGlobal,Percentis 5-95conv'!B406643","v":0}]
[{"$f":"'[1]MedianGlobal,Percentis 5-95conv'!A406864","v":0},{"$f":"'[1]MedianGlobal,Percentis 5-95conv'!B406864","v":0}]
[{"$f":"'[1]MedianGlobal,Percentis 5-95conv'!A407379","v":0},{"$f":"'[1]MedianGlobal,Percentis 5-95conv'!B407379","v":0}]
[{"$f":"'[1]MedianGlobal,Percentis 5-95conv'!A408123","v":0},{"$f":"'[1]MedianGlobal,Percentis 5-95conv'!B408123","v":0}]
[{"$f":"'[1]MedianGlobal,Percentis 5-95conv'!A408867","v":0},{"$f":"'[1]MedianGlobal,Percentis 5-95conv'!B408867","v":0}]
[{"$f":"'[1]MedianGlobal,Percentis 5-95conv'!A409382","v":0},{"$f":"'[1]MedianGlobal,Percentis 5-95conv'!B409382","v":0}]
[{"$f":"'[1]MedianGlobal,Percentis 5-95conv'!A409603","v":0},{"$f":"'[1]MedianGlobal,Percentis 5-95conv'!B409603","v":0}]
[{"$f":"'[1]MedianGlobal,Percentis 5-95conv'!A410347","v":0},{"$f":"'[1]MedianGlobal,Percentis 5-95conv'!B410347","v":0}]
[{"$f":"'[1]MedianGlobal,Percentis 5-95conv'!A410862","v":0},{"$f":"'[1]MedianGlobal,Percentis 5-95conv'!B410862","v":0}]
[{"$f":"'[1]MedianGlobal,Percentis 5-95conv'!A411083","v":0},{"$f":"'[1]MedianGlobal,Percentis 5-95conv'!B411083","v":0}]
[{"$f":"'[1]MedianGlobal,Percentis 5-95conv'!A411598","v":0},{"$f":"'[1]MedianGlobal,Percentis 5-95conv'!B411598","v":0}]
[{"$f":"'[1]MedianGlobal,Percentis 5-95conv'!A412342","v":0},{"$f":"'[1]MedianGlobal,Percentis 5-95conv'!B412342","v":0}]
[{"$f":"'[1]MedianGlobal,Percentis 5-95conv'!A413086","v":0},{"$f":"'[1]MedianGlobal,Percentis 5-95conv'!B413086","v":0}]
[{"$f":"'[1]MedianGlobal,Percentis 5-95conv'!A413601","v":0},{"$f":"'[1]MedianGlobal,Percentis 5-95conv'!B413601","v":0}]
[{"$f":"'[1]MedianGlobal,Percentis 5-95conv'!A413822","v":0},{"$f":"'[1]MedianGlobal,Percentis 5-95conv'!B413822","v":0}]
[{"$f":"'[1]MedianGlobal,Percentis 5-95conv'!A414566","v":0},{"$f":"'[1]MedianGlobal,Percentis 5-95conv'!B414566","v":0}]
[{"$f":"'[1]MedianGlobal,Percentis 5-95conv'!A415135","v":0},{"$f":"'[1]MedianGlobal,Percentis 5-95conv'!B415135","v":0}]
[{"$f":"'[1]MedianGlobal,Percentis 5-95conv'!A415303","v":0},{"$f":"'[1]MedianGlobal,Percentis 5-95conv'!B415303","v":0}]
[{"$f":"'[1]MedianGlobal,Percentis 5-95conv'!A415818","v":0},{"$f":"'[1]MedianGlobal,Percentis 5-95conv'!B415818","v":0}]
[{"$f":"'[1]MedianGlobal,Percentis 5-95conv'!A416562","v":0},{"$f":"'[1]MedianGlobal,Percentis 5-95conv'!B416562","v":0}]
[{"$f":"'[1]MedianGlobal,Percentis 5-95conv'!A416783","v":0},{"$f":"'[1]MedianGlobal,Percentis 5-95conv'!B416783","v":0}]
[{"$f":"'[1]MedianGlobal,Percentis 5-95conv'!A417298","v":0},{"$f":"'[1]MedianGlobal,Percentis 5-95conv'!B417298","v":0}]
[{"$f":"'[1]MedianGlobal,Percentis 5-95conv'!A418042","v":0},{"$f":"'[1]MedianGlobal,Percentis 5-95conv'!B418042","v":0}]
[{"$f":"'[1]MedianGlobal,Percentis 5-95conv'!A418557","v":0},{"$f":"'[1]MedianGlobal,Percentis 5-95conv'!B418557","v":0}]
[{"$f":"'[1]MedianGlobal,Percentis 5-95conv'!A419301","v":0},{"$f":"'[1]MedianGlobal,Percentis 5-95conv'!B419301","v":0}]
[{"$f":"'[1]MedianGlobal,Percentis 5-95conv'!A419522","v":0},{"$f":"'[1]MedianGlobal,Percentis 5-95conv'!B419522","v":0}]
[{"$f":"'[1]MedianGlobal,Percentis 5-95conv'!A420037","v":0},{"$f":"'[1]MedianGlobal,Percentis 5-95conv'!B420037","v":0}]
[{"$f":"'[1]MedianGlobal,Percentis 5-95conv'!A420781","v":0},{"$f":"'[1]MedianGlobal,Percentis 5-95conv'!B420781","v":0}]
[{"$f":"'[1]MedianGlobal,Percentis 5-95conv'!A421002","v":0},{"$f":"'[1]MedianGlobal,Percentis 5-95conv'!B421002","v":0}]
[{"$f":"'[1]MedianGlobal,Percentis 5-95conv'!A421517","v":0},{"$f":"'[1]MedianGlobal,Percentis 5-95conv'!B421517","v":0}]
[{"$f":"'[1]MedianGlobal,Percentis 5-95conv'!A422261","v":0},{"$f":"'[1]MedianGlobal,Percentis 5-95conv'!B422261","v":0}]
[{"$f":"'[1]MedianGlobal,Percentis 5-95conv'!A422776","v":0},{"$f":"'[1]MedianGlobal,Percentis 5-95conv'!B422776","v":0}]
[{"$f":"'[1]MedianGlobal,Percentis 5-95conv'!A423520","v":0},{"$f":"'[1]MedianGlobal,Percentis 5-95conv'!B423520","v":0}]
[{"$f":"'[1]MedianGlobal,Percentis 5-95conv'!A423741","v":0},{"$f":"'[1]MedianGlobal,Percentis 5-95conv'!B423741","v":0}]
[{"$f":"'[1]MedianGlobal,Percentis 5-95conv'!A424256","v":0},{"$f":"'[1]MedianGlobal,Percentis 5-95conv'!B424256","v":0}]
[{"$f":"'[1]MedianGlobal,Percentis 5-95conv'!A425000","v":0},{"$f":"'[1]MedianGlobal,Percentis 5-95conv'!B425000","v":0}]
[{"$f":"'[1]MedianGlobal,Percentis 5-95conv'!A425515","v":0},{"$f":"'[1]MedianGlobal,Percentis 5-95conv'!B425515","v":0}]
[{"$f":"'[1]MedianGlobal,Percentis 5-95conv'!A425736","v":0},{"$f":"'[1]MedianGlobal,Percentis 5-95conv'!B425736","v":0}]
[{"$f":"'[1]MedianGlobal,Percentis 5-95conv'!A426480","v":0},{"$f":"'[1]MedianGlobal,Percentis 5-95conv'!B426480","v":0}]
[{"$f":"'[1]MedianGlobal,Percentis 5-95conv'!A426995","v":0},{"$f":"'[1]MedianGlobal,Percentis 5-95conv'!B426995","v":0}]
[{"$f":"'[1]MedianGlobal,Percentis 5-95conv'!A427739","v":0},{"$f":"'[1]MedianGlobal,Percentis 5-95conv'!B427739","v":0}]
[{"$f":"'[1]MedianGlobal,Percentis 5-95conv'!A427960","v":0},{"$f":"'[1]MedianGlobal,Percentis 5-95conv'!B427960","v":0}]
[{"$f":"'[1]MedianGlobal,Percentis 5-95conv'!A428764","v":0},{"$f":"'[1]MedianGlobal,Percentis 5-95conv'!B428764","v":0}]
[{"$f":"'[1]MedianGlobal,Percentis 5-95conv'!A429220","v":0},{"$f":"'[1]MedianGlobal,Percentis 5-95conv'!B429220","v":0}]
[{"$f":"'[1]MedianGlobal,Percentis 5-95conv'!A429735","v":0},{"$f":"'[1]MedianGlobal,Percentis 5-95conv'!B429735","v":0}]
[{"$f":"'[1]MedianGlobal,Percentis 5-95conv'!A429956","v":0},{"$f":"'[1]MedianGlobal,Percentis 5-95conv'!B429956","v":0}]
[{"$f":"'[1]MedianGlobal,Percentis 5-95conv'!A430700","v":0},{"$f":"'[1]MedianGlobal,Percentis 5-95conv'!B430700","v":0}]
[{"$f":"'[1]MedianGlobal,Percentis 5-95conv'!A431215","v":0},{"$f":"'[1]MedianGlobal,Percentis 5-95conv'!B431215","v":0}]
[{"$f":"'[1]MedianGlobal,Percentis 5-95conv'!A431436","v":0},{"$f":"'[1]MedianGlobal,Percentis 5-95conv'!B431436","v":0}]
[{"$f":"'[1]MedianGlobal,Percentis 5-95conv'!A432180","v":0},{"$f":"'[1]MedianGlobal,Percentis 5-95conv'!B432180","v":0}]
[{"$f":"'[1]MedianGlobal,Percentis 5-95conv'!A432695","v":0},{"$f":"'[1]MedianGlobal,Percentis 5-95conv'!B432695","v":0}]
[{"$f":"'[1]MedianGlobal,Percentis 5-95conv'!A433439","v":0},{"$f":"'[1]MedianGlobal,Percentis 5-95conv'!B433439","v":0}]
[{"$f":"'[1]MedianGlobal,Percentis 5-95conv'!A433954","v":0},{"$f":"'[1]MedianGlobal,Percentis 5-95conv'!B433954","v":0}]
[{"$f":"'[1]MedianGlobal,Percentis 5-95conv'!A434175","v":0},{"$f":"'[1]MedianGlobal,Percentis 5-95conv'!B434175","v":0}]
[{"$f":"'[1]MedianGlobal,Percentis 5-95conv'!A434919","v":0},{"$f":"'[1]MedianGlobal,Percentis 5-95conv'!B434919","v":0}]
[{"$f":"'[1]MedianGlobal,Percentis 5-95conv'!A435434","v":0},{"$f":"'[1]MedianGlobal,Percentis 5-95conv'!B435434","v":0}]
[{"$f":"'[1]MedianGlobal,Percentis 5-95conv'!A435655","v":0},{"$f":"'[1]MedianGlobal,Percentis 5-95conv'!B435655","v":0}]
[{"$f":"'[1]MedianGlobal,Percentis 5-95conv'!A436170","v":0},{"$f":"'[1]MedianGlobal,Percentis 5-95conv'!B436170","v":0}]
[{"$f":"'[1]MedianGlobal,Percentis 5-95conv'!A436914","v":0},{"$f":"'[1]MedianGlobal,Percentis 5-95conv'!B436914","v":0}]
[{"$f":"'[1]MedianGlobal,Percentis 5-95conv'!A437658","v":0},{"$f":"'[1]MedianGlobal,Percentis 5-95conv'!B437658","v":0}]
[{"$f":"'[1]MedianGlobal,Percentis 5-95conv'!A438173","v":0},{"$f":"'[1]MedianGlobal,Percentis 5-95conv'!B438173","v":0}]
[{"$f":"'[1]MedianGlobal,Percentis 5-95conv'!A438394","v":0},{"$f":"'[1]MedianGlobal,Percentis 5-95conv'!B438394","v":0}]
[{"$f":"'[1]MedianGlobal,Percentis 5-95conv'!A439138","v":0},{"$f":"'[1]MedianGlobal,Percentis 5-95conv'!B439138","v":0}]
[{"$f":"'[1]MedianGlobal,Percentis 5-95conv'!A439653","v":0},{"$f":"'[1]MedianGlobal,Percentis 5-95conv'!B439653","v":0}]
[{"$f":"'[1]MedianGlobal,Percentis 5-95conv'!A439874","v":0},{"$f":"'[1]MedianGlobal,Percentis 5-95conv'!B439874","v":0}]
[{"$f":"'[1]MedianGlobal,Percentis 5-95conv'!A440389","v":0},{"$f":"'[1]MedianGlobal,Percentis 5-95conv'!B440389","v":0}]
[{"$f":"'[1]MedianGlobal,Percentis 5-95conv'!A441133","v":0},{"$f":"'[1]MedianGlobal,Percentis 5-95conv'!B441133","v":0}]
[{"$f":"'[1]MedianGlobal,Percentis 5-95conv'!A441354","v":0},{"$f":"'[1]MedianGlobal,Percentis 5-95conv'!B441354","v":0}]
[{"$f":"'[1]MedianGlobal,Percentis 5-95conv'!A442392","v":0},{"$f":"'[1]MedianGlobal,Percentis 5-95conv'!B442392","v":0}]
[{"$f":"'[1]MedianGlobal,Percentis 5-95conv'!A442721","v":0},{"$f":"'[1]MedianGlobal,Percentis 5-95conv'!B442721","v":0}]
[{"$f":"'[1]MedianGlobal,Percentis 5-95conv'!A443358","v":0},{"$f":"'[1]MedianGlobal,Percentis 5-95conv'!B443358","v":0}]
[{"$f":"'[1]MedianGlobal,Percentis 5-95conv'!A443873","v":0},{"$f":"'[1]MedianGlobal,Percentis 5-95conv'!B443873","v":0}]
[{"$f":"'[1]MedianGlobal,Percentis 5-95conv'!A444094","v":0},{"$f":"'[1]MedianGlobal,Percentis 5-95conv'!B444094","v":0}]
[{"$f":"'[1]MedianGlobal,Percentis 5-95conv'!A444609","v":0},{"$f":"'[1]MedianGlobal,Percentis 5-95conv'!B444609","v":0}]
[{"$f":"'[1]MedianGlobal,Percentis 5-95conv'!A445353","v":0},{"$f":"'[1]MedianGlobal,Percentis 5-95conv'!B445353","v":0}]
[{"$f":"'[1]MedianGlobal,Percentis 5-95conv'!A445574","v":0},{"$f":"'[1]MedianGlobal,Percentis 5-95conv'!B445574","v":0}]
[{"$f":"'[1]MedianGlobal,Percentis 5-95conv'!A446089","v":0},{"$f":"'[1]MedianGlobal,Percentis 5-95conv'!B446089","v":0}]
[{"$f":"'[1]MedianGlobal,Percentis 5-95conv'!A446833","v":0},{"$f":"'[1]MedianGlobal,Percentis 5-95conv'!B446833","v":0}]
[{"$f":"'[1]MedianGlobal,Percentis 5-95conv'!A447348","v":0},{"$f":"'[1]MedianGlobal,Percentis 5-95conv'!B447348","v":0}]
[{"$f":"'[1]MedianGlobal,Percentis 5-95conv'!A448092","v":0},{"$f":"'[1]MedianGlobal,Percentis 5-95conv'!B448092","v":0}]
[{"$f":"'[1]MedianGlobal,Percentis 5-95conv'!A448313","v":0},{"$f":"'[1]MedianGlobal,Percentis 5-95conv'!B448313","v":0}]
[{"$f":"'[1]MedianGlobal,Percentis 5-95conv'!A448828","v":0},{"$f":"'[1]MedianGlobal,Percentis 5-95conv'!B448828","v":0}]
[{"$f":"'[1]MedianGlobal,Percentis 5-95conv'!A449572","v":0},{"$f":"'[1]MedianGlobal,Percentis 5-95conv'!B449572","v":0}]
[{"$f":"'[1]MedianGlobal,Percentis 5-95conv'!A449793","v":0},{"$f":"'[1]MedianGlobal,Percentis 5-95conv'!B449793","v":0}]
[{"$f":"'[1]MedianGlobal,Percentis 5-95conv'!A450308","v":0},{"$f":"'[1]MedianGlobal,Percentis 5-95conv'!B450308","v":0}]
[{"$f":"'[1]MedianGlobal,Percentis 5-95conv'!A451052","v":0},{"$f":"'[1]MedianGlobal,Percentis 5-95conv'!B451052","v":0}]
[{"$f":"'[1]MedianGlobal,Percentis 5-95conv'!A451567","v":0},{"$f":"'[1]MedianGlobal,Percentis 5-95conv'!B451567","v":0}]
[{"$f":"'[1]MedianGlobal,Percentis 5-95conv'!A452311","v":0},{"$f":"'[1]MedianGlobal,Percentis 5-95conv'!B452311","v":0}]
[{"$f":"'[1]MedianGlobal,Percentis 5-95conv'!A452532","v":0},{"$f":"'[1]MedianGlobal,Percentis 5-95conv'!B452532","v":0}]
[{"$f":"'[1]MedianGlobal,Percentis 5-95conv'!A453047","v":0},{"$f":"'[1]MedianGlobal,Percentis 5-95conv'!B453047","v":0}]
[{"$f":"'[1]MedianGlobal,Percentis 5-95conv'!A453791","v":0},{"$f":"'[1]MedianGlobal,Percentis 5-95conv'!B453791","v":0}]
[{"$f":"'[1]MedianGlobal,Percentis 5-95conv'!A454306","v":0},{"$f":"'[1]MedianGlobal,Percentis 5-95conv'!B454306","v":0}]
[{"$f":"'[1]MedianGlobal,Percentis 5-95conv'!A454527","v":0},{"$f":"'[1]MedianGlobal,Percentis 5-95conv'!B454527","v":0}]
[{"$f":"'[1]MedianGlobal,Percentis 5-95conv'!A455271","v":0},{"$f":"'[1]MedianGlobal,Percentis 5-95conv'!B455271","v":0}]
[{"$f":"'[1]MedianGlobal,Percentis 5-95conv'!A455786","v":0},{"$f":"'[1]MedianGlobal,Percentis 5-95conv'!B455786","v":0}]
[{"$f":"'[1]MedianGlobal,Percentis 5-95conv'!A456350","v":0},{"$f":"'[1]MedianGlobal,Percentis 5-95conv'!B456350","v":0}]
[{"$f":"'[1]MedianGlobal,Percentis 5-95conv'!A456752","v":0},{"$f":"'[1]MedianGlobal,Percentis 5-95conv'!B456752","v":0}]
[{"$f":"'[1]MedianGlobal,Percentis 5-95conv'!A457267","v":0},{"$f":"'[1]MedianGlobal,Percentis 5-95conv'!B457267","v":0}]
[{"$f":"'[1]MedianGlobal,Percentis 5-95conv'!A458011","v":0},{"$f":"'[1]MedianGlobal,Percentis 5-95conv'!B458011","v":0}]
[{"$f":"'[1]MedianGlobal,Percentis 5-95conv'!A458526","v":0},{"$f":"'[1]MedianGlobal,Percentis 5-95conv'!B458526","v":0}]
[{"$f":"'[1]MedianGlobal,Percentis 5-95conv'!A458747","v":0},{"$f":"'[1]MedianGlobal,Percentis 5-95conv'!B458747","v":0}]
[{"$f":"'[1]MedianGlobal,Percentis 5-95conv'!A459491","v":0},{"$f":"'[1]MedianGlobal,Percentis 5-95conv'!B459491","v":0}]
[{"$f":"'[1]MedianGlobal,Percentis 5-95conv'!A460006","v":0},{"$f":"'[1]MedianGlobal,Percentis 5-95conv'!B460006","v":0}]
[{"$f":"'[1]MedianGlobal,Percentis 5-95conv'!A460227","v":0},{"$f":"'[1]MedianGlobal,Percentis 5-95conv'!B460227","v":0}]
[{"$f":"'[1]MedianGlobal,Percentis 5-95conv'!A460971","v":0},{"$f":"'[1]MedianGlobal,Percentis 5-95conv'!B460971","v":0}]
[{"$f":"'[1]MedianGlobal,Percentis 5-95conv'!A461486","v":0},{"$f":"'[1]MedianGlobal,Percentis 5-95conv'!B461486","v":0}]
[{"$f":"'[1]MedianGlobal,Percentis 5-95conv'!A462230","v":0},{"$f":"'[1]MedianGlobal,Percentis 5-95conv'!B462230","v":0}]
[{"$f":"'[1]MedianGlobal,Percentis 5-95conv'!A462745","v":0},{"$f":"'[1]MedianGlobal,Percentis 5-95conv'!B462745","v":0}]
[{"$f":"'[1]MedianGlobal,Percentis 5-95conv'!A462966","v":0},{"$f":"'[1]MedianGlobal,Percentis 5-95conv'!B462966","v":0}]
[{"$f":"'[1]MedianGlobal,Percentis 5-95conv'!A463710","v":0},{"$f":"'[1]MedianGlobal,Percentis 5-95conv'!B463710","v":0}]
[{"$f":"'[1]MedianGlobal,Percentis 5-95conv'!A464225","v":0},{"$f":"'[1]MedianGlobal,Percentis 5-95conv'!B464225","v":0}]
[{"$f":"'[1]MedianGlobal,Percentis 5-95conv'!A464446","v":0},{"$f":"'[1]MedianGlobal,Percentis 5-95conv'!B464446","v":0}]
[{"$f":"'[1]MedianGlobal,Percentis 5-95conv'!A464961","v":0},{"$f":"'[1]MedianGlobal,Percentis 5-95conv'!B464961","v":0}]
[{"$f":"'[1]MedianGlobal,Percentis 5-95conv'!A465705","v":0},{"$f":"'[1]MedianGlobal,Percentis 5-95conv'!B465705","v":0}]
[{"$f":"'[1]MedianGlobal,Percentis 5-95conv'!A466449","v":0},{"$f":"'[1]MedianGlobal,Percentis 5-95conv'!B466449","v":0}]
[{"$f":"'[1]MedianGlobal,Percentis 5-95conv'!A466964","v":0},{"$f":"'[1]MedianGlobal,Percentis 5-95conv'!B466964","v":0}]
[{"$f":"'[1]MedianGlobal,Percentis 5-95conv'!A467185","v":0},{"$f":"'[1]MedianGlobal,Percentis 5-95conv'!B467185","v":0}]
[{"$f":"'[1]MedianGlobal,Percentis 5-95conv'!A467929","v":0},{"$f":"'[1]MedianGlobal,Percentis 5-95conv'!B467929","v":0}]
[{"$f":"'[1]MedianGlobal,Percentis 5-95conv'!A468444","v":0},{"$f":"'[1]MedianGlobal,Percentis 5-95conv'!B468444","v":0}]
[{"$f":"'[1]MedianGlobal,Percentis 5-95conv'!A468665","v":0},{"$f":"'[1]MedianGlobal,Percentis 5-95conv'!B468665","v":0}]
[{"$f":"'[1]MedianGlobal,Percentis 5-95conv'!A469180","v":0},{"$f":"'[1]MedianGlobal,Percentis 5-95conv'!B469180","v":0}]
[{"$f":"'[1]MedianGlobal,Percentis 5-95conv'!A469979","v":0},{"$f":"'[1]MedianGlobal,Percentis 5-95conv'!B469979","v":0}]
[{"$f":"'[1]MedianGlobal,Percentis 5-95conv'!A470146","v":0},{"$f":"'[1]MedianGlobal,Percentis 5-95conv'!B470146","v":0}]
[{"$f":"'[1]MedianGlobal,Percentis 5-95conv'!A470661","v":0},{"$f":"'[1]MedianGlobal,Percentis 5-95conv'!B470661","v":0}]
[{"$f":"'[1]MedianGlobal,Percentis 5-95conv'!A471405","v":0},{"$f":"'[1]MedianGlobal,Percentis 5-95conv'!B471405","v":0}]
[{"$f":"'[1]MedianGlobal,Percentis 5-95conv'!A471920","v":0},{"$f":"'[1]MedianGlobal,Percentis 5-95conv'!B471920","v":0}]
[{"$f":"'[1]MedianGlobal,Percentis 5-95conv'!A472664","v":0},{"$f":"'[1]MedianGlobal,Percentis 5-95conv'!B472664","v":0}]
[{"$f":"'[1]MedianGlobal,Percentis 5-95conv'!A472885","v":0},{"$f":"'[1]MedianGlobal,Percentis 5-95conv'!B472885","v":0}]
[{"$f":"'[1]MedianGlobal,Percentis 5-95conv'!A473400","v":0},{"$f":"'[1]MedianGlobal,Percentis 5-95conv'!B473400","v":0}]
[{"$f":"'[1]MedianGlobal,Percentis 5-95conv'!A474144","v":0},{"$f":"'[1]MedianGlobal,Percentis 5-95conv'!B474144","v":0}]
[{"$f":"'[1]MedianGlobal,Percentis 5-95conv'!A474365","v":0},{"$f":"'[1]MedianGlobal,Percentis 5-95conv'!B474365","v":0}]
[{"$f":"'[1]MedianGlobal,Percentis 5-95conv'!A474880","v":0},{"$f":"'[1]MedianGlobal,Percentis 5-95conv'!B474880","v":0}]
[{"$f":"'[1]MedianGlobal,Percentis 5-95conv'!A475624","v":0},{"$f":"'[1]MedianGlobal,Percentis 5-95conv'!B475624","v":0}]
[{"$f":"'[1]MedianGlobal,Percentis 5-95conv'!A476139","v":0},{"$f":"'[1]MedianGlobal,Percentis 5-95conv'!B476139","v":0}]
[{"$f":"'[1]MedianGlobal,Percentis 5-95conv'!A476883","v":0},{"$f":"'[1]MedianGlobal,Percentis 5-95conv'!B476883","v":0}]
[{"$f":"'[1]MedianGlobal,Percentis 5-95conv'!A477104","v":0},{"$f":"'[1]MedianGlobal,Percentis 5-95conv'!B477104","v":0}]
[{"$f":"'[1]MedianGlobal,Percentis 5-95conv'!A477619","v":0},{"$f":"'[1]MedianGlobal,Percentis 5-95conv'!B477619","v":0}]
[{"$f":"'[1]MedianGlobal,Percentis 5-95conv'!A478363","v":0},{"$f":"'[1]MedianGlobal,Percentis 5-95conv'!B478363","v":0}]
[{"$f":"'[1]MedianGlobal,Percentis 5-95conv'!A478584","v":0},{"$f":"'[1]MedianGlobal,Percentis 5-95conv'!B478584","v":0}]
[{"$f":"'[1]MedianGlobal,Percentis 5-95conv'!A479099","v":0},{"$f":"'[1]MedianGlobal,Percentis 5-95conv'!B479099","v":0}]
[{"$f":"'[1]MedianGlobal,Percentis 5-95conv'!A479843","v":0},{"$f":"'[1]MedianGlobal,Percentis 5-95conv'!B479843","v":0}]
[{"$f":"'[1]MedianGlobal,Percentis 5-95conv'!A480358","v":0},{"$f":"'[1]MedianGlobal,Percentis 5-95conv'!B480358","v":0}]
[{"$f":"'[1]MedianGlobal,Percentis 5-95conv'!A481102","v":0},{"$f":"'[1]MedianGlobal,Percentis 5-95conv'!B481102","v":0}]
[{"$f":"'[1]MedianGlobal,Percentis 5-95conv'!A481323","v":0},{"$f":"'[1]MedianGlobal,Percentis 5-95conv'!B481323","v":0}]
[{"$f":"'[1]MedianGlobal,Percentis 5-95conv'!A481838","v":0},{"$f":"'[1]MedianGlobal,Percentis 5-95conv'!B481838","v":0}]
[{"$f":"'[1]MedianGlobal,Percentis 5-95conv'!A482582","v":0},{"$f":"'[1]MedianGlobal,Percentis 5-95conv'!B482582","v":0}]
[{"$f":"'[1]MedianGlobal,Percentis 5-95conv'!A483097","v":0},{"$f":"'[1]MedianGlobal,Percentis 5-95conv'!B483097","v":0}]
[{"$f":"'[1]MedianGlobal,Percentis 5-95conv'!A483318","v":0},{"$f":"'[1]MedianGlobal,Percentis 5-95conv'!B483318","v":0}]
[{"$f":"'[1]MedianGlobal,Percentis 5-95conv'!A483936","v":0},{"$f":"'[1]MedianGlobal,Percentis 5-95conv'!B483936","v":0}]
[{"$f":"'[1]MedianGlobal,Percentis 5-95conv'!A484578","v":0},{"$f":"'[1]MedianGlobal,Percentis 5-95conv'!B484578","v":0}]
[{"$f":"'[1]MedianGlobal,Percentis 5-95conv'!A484799","v":0},{"$f":"'[1]MedianGlobal,Percentis 5-95conv'!B484799","v":0}]
[{"$f":"'[1]MedianGlobal,Percentis 5-95conv'!A485543","v":0},{"$f":"'[1]MedianGlobal,Percentis 5-95conv'!B485543","v":0}]
[{"$f":"'[1]MedianGlobal,Percentis 5-95conv'!A486058","v":0},{"$f":"'[1]MedianGlobal,Percentis 5-95conv'!B486058","v":0}]
[{"$f":"'[1]MedianGlobal,Percentis 5-95conv'!A486802","v":0},{"$f":"'[1]MedianGlobal,Percentis 5-95conv'!B486802","v":0}]
[{"$f":"'[1]MedianGlobal,Percentis 5-95conv'!A487317","v":0},{"$f":"'[1]MedianGlobal,Percentis 5-95conv'!B487317","v":0}]
[{"$f":"'[1]MedianGlobal,Percentis 5-95conv'!A487538","v":0},{"$f":"'[1]MedianGlobal,Percentis 5-95conv'!B487538","v":0}]
[{"$f":"'[1]MedianGlobal,Percentis 5-95conv'!A488282","v":0},{"$f":"'[1]MedianGlobal,Percentis 5-95conv'!B488282","v":0}]
[{"$f":"'[1]MedianGlobal,Percentis 5-95conv'!A488797","v":0},{"$f":"'[1]MedianGlobal,Percentis 5-95conv'!B488797","v":0}]
[{"$f":"'[1]MedianGlobal,Percentis 5-95conv'!A489018","v":0},{"$f":"'[1]MedianGlobal,Percentis 5-95conv'!B489018","v":0}]
[{"$f":"'[1]MedianGlobal,Percentis 5-95conv'!A489762","v":0},{"$f":"'[1]MedianGlobal,Percentis 5-95conv'!B489762","v":0}]
[{"$f":"'[1]MedianGlobal,Percentis 5-95conv'!A490277","v":0},{"$f":"'[1]MedianGlobal,Percentis 5-95conv'!B490277","v":0}]
[{"$f":"'[1]MedianGlobal,Percentis 5-95conv'!A491021","v":0},{"$f":"'[1]MedianGlobal,Percentis 5-95conv'!B491021","v":0}]
[{"$f":"'[1]MedianGlobal,Percentis 5-95conv'!A491536","v":0},{"$f":"'[1]MedianGlobal,Percentis 5-95conv'!B491536","v":0}]
[{"$f":"'[1]MedianGlobal,Percentis 5-95conv'!A491757","v":0},{"$f":"'[1]MedianGlobal,Percentis 5-95conv'!B491757","v":0}]
[{"$f":"'[1]MedianGlobal,Percentis 5-95conv'!A492501","v":0},{"$f":"'[1]MedianGlobal,Percentis 5-95conv'!B492501","v":0}]
[{"$f":"'[1]MedianGlobal,Percentis 5-95conv'!A493016","v":0},{"$f":"'[1]MedianGlobal,Percentis 5-95conv'!B493016","v":0}]
[{"$f":"'[1]MedianGlobal,Percentis 5-95conv'!A493237","v":0},{"$f":"'[1]MedianGlobal,Percentis 5-95conv'!B493237","v":0}]
[{"$f":"'[1]MedianGlobal,Percentis 5-95conv'!A493752","v":0},{"$f":"'[1]MedianGlobal,Percentis 5-95conv'!B493752","v":0}]
[{"$f":"'[1]MedianGlobal,Percentis 5-95conv'!A494496","v":0},{"$f":"'[1]MedianGlobal,Percentis 5-95conv'!B494496","v":0}]
[{"$f":"'[1]MedianGlobal,Percentis 5-95conv'!A494717","v":0},{"$f":"'[1]MedianGlobal,Percentis 5-95conv'!B494717","v":0}]
[{"$f":"'[1]MedianGlobal,Percentis 5-95conv'!A495232","v":0},{"$f":"'[1]MedianGlobal,Percentis 5-95conv'!B495232","v":0}]
[{"$f":"'[1]MedianGlobal,Percentis 5-95conv'!A495976","v":0},{"$f":"'[1]MedianGlobal,Percentis 5-95conv'!B495976","v":0}]
[{"$f":"'[1]MedianGlobal,Percentis 5-95conv'!A496720","v":0},{"$f":"'[1]MedianGlobal,Percentis 5-95conv'!B496720","v":0}]
[{"$f":"'[1]MedianGlobal,Percentis 5-95conv'!A497235","v":0},{"$f":"'[1]MedianGlobal,Percentis 5-95conv'!B497235","v":0}]
[{"$f":"'[1]MedianGlobal,Percentis 5-95conv'!A497565","v":0},{"$f":"'[1]MedianGlobal,Percentis 5-95conv'!B497565","v":0}]
[{"$f":"'[1]MedianGlobal,Percentis 5-95conv'!A497972","v":0},{"$f":"'[1]MedianGlobal,Percentis 5-95conv'!B497972","v":0}]
[{"$f":"'[1]MedianGlobal,Percentis 5-95conv'!A498716","v":0},{"$f":"'[1]MedianGlobal,Percentis 5-95conv'!B498716","v":0}]
[{"$f":"'[1]MedianGlobal,Percentis 5-95conv'!A498937","v":0},{"$f":"'[1]MedianGlobal,Percentis 5-95conv'!B498937","v":0}]
[{"$f":"'[1]MedianGlobal,Percentis 5-95conv'!A499452","v":0},{"$f":"'[1]MedianGlobal,Percentis 5-95conv'!B499452","v":0}]
[{"$f":"'[1]MedianGlobal,Percentis 5-95conv'!A500196","v":0},{"$f":"'[1]MedianGlobal,Percentis 5-95conv'!B500196","v":0}]
[{"$f":"'[1]MedianGlobal,Percentis 5-95conv'!A500711","v":0},{"$f":"'[1]MedianGlobal,Percentis 5-95conv'!B500711","v":0}]
[{"$f":"'[1]MedianGlobal,Percentis 5-95conv'!A501455","v":0},{"$f":"'[1]MedianGlobal,Percentis 5-95conv'!B501455","v":0}]
[{"$f":"'[1]MedianGlobal,Percentis 5-95conv'!A501676","v":0},{"$f":"'[1]MedianGlobal,Percentis 5-95conv'!B501676","v":0}]
[{"$f":"'[1]MedianGlobal,Percentis 5-95conv'!A502191","v":0},{"$f":"'[1]MedianGlobal,Percentis 5-95conv'!B502191","v":0}]
[{"$f":"'[1]MedianGlobal,Percentis 5-95conv'!A502935","v":0},{"$f":"'[1]MedianGlobal,Percentis 5-95conv'!B502935","v":0}]
[{"$f":"'[1]MedianGlobal,Percentis 5-95conv'!A503156","v":0},{"$f":"'[1]MedianGlobal,Percentis 5-95conv'!B503156","v":0}]
[{"$f":"'[1]MedianGlobal,Percentis 5-95conv'!A503671","v":0},{"$f":"'[1]MedianGlobal,Percentis 5-95conv'!B503671","v":0}]
[{"$f":"'[1]MedianGlobal,Percentis 5-95conv'!A504415","v":0},{"$f":"'[1]MedianGlobal,Percentis 5-95conv'!B504415","v":0}]
[{"$f":"'[1]MedianGlobal,Percentis 5-95conv'!A504930","v":0},{"$f":"'[1]MedianGlobal,Percentis 5-95conv'!B504930","v":0}]
[{"$f":"'[1]MedianGlobal,Percentis 5-95conv'!A505674","v":0},{"$f":"'[1]MedianGlobal,Percentis 5-95conv'!B505674","v":0}]
[{"$f":"'[1]MedianGlobal,Percentis 5-95conv'!A505895","v":0},{"$f":"'[1]MedianGlobal,Percentis 5-95conv'!B505895","v":0}]
[{"$f":"'[1]MedianGlobal,Percentis 5-95conv'!A506410","v":0},{"$f":"'[1]MedianGlobal,Percentis 5-95conv'!B506410","v":0}]
[{"$f":"'[1]MedianGlobal,Percentis 5-95conv'!A507154","v":0},{"$f":"'[1]MedianGlobal,Percentis 5-95conv'!B507154","v":0}]
[{"$f":"'[1]MedianGlobal,Percentis 5-95conv'!A507375","v":0},{"$f":"'[1]MedianGlobal,Percentis 5-95conv'!B507375","v":0}]
[{"$f":"'[1]MedianGlobal,Percentis 5-95conv'!A507890","v":0},{"$f":"'[1]MedianGlobal,Percentis 5-95conv'!B507890","v":0}]
[{"$f":"'[1]MedianGlobal,Percentis 5-95conv'!A508634","v":0},{"$f":"'[1]MedianGlobal,Percentis 5-95conv'!B508634","v":0}]
[{"$f":"'[1]MedianGlobal,Percentis 5-95conv'!A509149","v":0},{"$f":"'[1]MedianGlobal,Percentis 5-95conv'!B509149","v":0}]
[{"$f":"'[1]MedianGlobal,Percentis 5-95conv'!A509370","v":0},{"$f":"'[1]MedianGlobal,Percentis 5-95conv'!B509370","v":0}]
[{"$f":"'[1]MedianGlobal,Percentis 5-95conv'!A510114","v":0},{"$f":"'[1]MedianGlobal,Percentis 5-95conv'!B510114","v":0}]
[{"$f":"'[1]MedianGlobal,Percentis 5-95conv'!A510629","v":0},{"$f":"'[1]MedianGlobal,Percentis 5-95conv'!B510629","v":0}]
[{"$f":"'[1]MedianGlobal,Percentis 5-95conv'!A511194","v":0},{"$f":"'[1]MedianGlobal,Percentis 5-95conv'!B511194","v":0}]
[{"$f":"'[1]MedianGlobal,Percentis 5-95conv'!A511889","v":0},{"$f":"'[1]MedianGlobal,Percentis 5-95conv'!B511889","v":0}]
[{"$f":"'[1]MedianGlobal,Percentis 5-95conv'!A512110","v":0},{"$f":"'[1]MedianGlobal,Percentis 5-95conv'!B512110","v":0}]
[{"$f":"'[1]MedianGlobal,Percentis 5-95conv'!A512854","v":0},{"$f":"'[1]MedianGlobal,Percentis 5-95conv'!B512854","v":0}]
[{"$f":"'[1]MedianGlobal,Percentis 5-95conv'!A513369","v":0},{"$f":"'[1]MedianGlobal,Percentis 5-95conv'!B513369","v":0}]
[{"$f":"'[1]MedianGlobal,Percentis 5-95conv'!A513590","v":0},{"$f":"'[1]MedianGlobal,Percentis 5-95conv'!B513590","v":0}]
[{"$f":"'[1]MedianGlobal,Percentis 5-95conv'!A514334","v":0},{"$f":"'[1]MedianGlobal,Percentis 5-95conv'!B514334","v":0}]
[{"$f":"'[1]MedianGlobal,Percentis 5-95conv'!A514849","v":0},{"$f":"'[1]MedianGlobal,Percentis 5-95conv'!B514849","v":0}]
[{"$f":"'[1]MedianGlobal,Percentis 5-95conv'!A515593","v":0},{"$f":"'[1]MedianGlobal,Percentis 5-95conv'!B515593","v":0}]
[{"$f":"'[1]MedianGlobal,Percentis 5-95conv'!A516108","v":0},{"$f":"'[1]MedianGlobal,Percentis 5-95conv'!B516108","v":0}]
[{"$f":"'[1]MedianGlobal,Percentis 5-95conv'!A516329","v":0},{"$f":"'[1]MedianGlobal,Percentis 5-95conv'!B516329","v":0}]
[{"$f":"'[1]MedianGlobal,Percentis 5-95conv'!A517073","v":0},{"$f":"'[1]MedianGlobal,Percentis 5-95conv'!B517073","v":0}]
[{"$f":"'[1]MedianGlobal,Percentis 5-95conv'!A517588","v":0},{"$f":"'[1]MedianGlobal,Percentis 5-95conv'!B517588","v":0}]
[{"$f":"'[1]MedianGlobal,Percentis 5-95conv'!A517809","v":0},{"$f":"'[1]MedianGlobal,Percentis 5-95conv'!B517809","v":0}]
[{"$f":"'[1]MedianGlobal,Percentis 5-95conv'!A518324","v":0},{"$f":"'[1]MedianGlobal,Percentis 5-95conv'!B518324","v":0}]
[{"$f":"'[1]MedianGlobal,Percentis 5-95conv'!A519068","v":0},{"$f":"'[1]MedianGlobal,Percentis 5-95conv'!B519068","v":0}]
[{"$f":"'[1]MedianGlobal,Percentis 5-95conv'!A519289","v":0},{"$f":"'[1]MedianGlobal,Percentis 5-95conv'!B519289","v":0}]
[{"$f":"'[1]MedianGlobal,Percentis 5-95conv'!A520327","v":0},{"$f":"'[1]MedianGlobal,Percentis 5-95conv'!B520327","v":0}]
[{"$f":"'[1]MedianGlobal,Percentis 5-95conv'!A520548","v":0},{"$f":"'[1]MedianGlobal,Percentis 5-95conv'!B520548","v":0}]
[{"$f":"'[1]MedianGlobal,Percentis 5-95conv'!A521292","v":0},{"$f":"'[1]MedianGlobal,Percentis 5-95conv'!B521292","v":0}]
[{"$f":"'[1]MedianGlobal,Percentis 5-95conv'!A521807","v":0},{"$f":"'[1]MedianGlobal,Percentis 5-95conv'!B521807","v":0}]
[{"$f":"'[1]MedianGlobal,Percentis 5-95conv'!A522028","v":0},{"$f":"'[1]MedianGlobal,Percentis 5-95conv'!B522028","v":0}]
[{"$f":"'[1]MedianGlobal,Percentis 5-95conv'!A522543","v":0},{"$f":"'[1]MedianGlobal,Percentis 5-95conv'!B522543","v":0}]
[{"$f":"'[1]MedianGlobal,Percentis 5-95conv'!A523287","v":0},{"$f":"'[1]MedianGlobal,Percentis 5-95conv'!B523287","v":0}]
[{"$f":"'[1]MedianGlobal,Percentis 5-95conv'!A523508","v":0},{"$f":"'[1]MedianGlobal,Percentis 5-95conv'!B523508","v":0}]
[{"$f":"'[1]MedianGlobal,Percentis 5-95conv'!A524023","v":0},{"$f":"'[1]MedianGlobal,Percentis 5-95conv'!B524023","v":0}]
[{"$f":"'[1]MedianGlobal,Percentis 5-95conv'!A524823","v":0},{"$f":"'[1]MedianGlobal,Percentis 5-95conv'!B524823","v":0}]
[{"$f":"'[1]MedianGlobal,Percentis 5-95conv'!A525512","v":0},{"$f":"'[1]MedianGlobal,Percentis 5-95conv'!B525512","v":0}]
[{"$f":"'[1]MedianGlobal,Percentis 5-95conv'!A526027","v":0},{"$f":"'[1]MedianGlobal,Percentis 5-95conv'!B526027","v":0}]
[{"$f":"'[1]MedianGlobal,Percentis 5-95conv'!A526248","v":0},{"$f":"'[1]MedianGlobal,Percentis 5-95conv'!B526248","v":0}]
[{"$f":"'[1]MedianGlobal,Percentis 5-95conv'!A526763","v":0},{"$f":"'[1]MedianGlobal,Percentis 5-95conv'!B526763","v":0}]
[{"$f":"'[1]MedianGlobal,Percentis 5-95conv'!A527507","v":0},{"$f":"'[1]MedianGlobal,Percentis 5-95conv'!B527507","v":0}]
[{"$f":"'[1]MedianGlobal,Percentis 5-95conv'!A527728","v":0},{"$f":"'[1]MedianGlobal,Percentis 5-95conv'!B527728","v":0}]
[{"$f":"'[1]MedianGlobal,Percentis 5-95conv'!A528243","v":0},{"$f":"'[1]MedianGlobal,Percentis 5-95conv'!B528243","v":0}]
[{"$f":"'[1]MedianGlobal,Percentis 5-95conv'!A528987","v":0},{"$f":"'[1]MedianGlobal,Percentis 5-95conv'!B528987","v":0}]
[{"$f":"'[1]MedianGlobal,Percentis 5-95conv'!A529502","v":0},{"$f":"'[1]MedianGlobal,Percentis 5-95conv'!B529502","v":0}]
[{"$f":"'[1]MedianGlobal,Percentis 5-95conv'!A530246","v":0},{"$f":"'[1]MedianGlobal,Percentis 5-95conv'!B530246","v":0}]
[{"$f":"'[1]MedianGlobal,Percentis 5-95conv'!A530467","v":0},{"$f":"'[1]MedianGlobal,Percentis 5-95conv'!B530467","v":0}]
[{"$f":"'[1]MedianGlobal,Percentis 5-95conv'!A530982","v":0},{"$f":"'[1]MedianGlobal,Percentis 5-95conv'!B530982","v":0}]
[{"$f":"'[1]MedianGlobal,Percentis 5-95conv'!A531726","v":0},{"$f":"'[1]MedianGlobal,Percentis 5-95conv'!B531726","v":0}]
[{"$f":"'[1]MedianGlobal,Percentis 5-95conv'!A531947","v":0},{"$f":"'[1]MedianGlobal,Percentis 5-95conv'!B531947","v":0}]
[{"$f":"'[1]MedianGlobal,Percentis 5-95conv'!A532462","v":0},{"$f":"'[1]MedianGlobal,Percentis 5-95conv'!B532462","v":0}]
[{"$f":"'[1]MedianGlobal,Percentis 5-95conv'!A533206","v":0},{"$f":"'[1]MedianGlobal,Percentis 5-95conv'!B533206","v":0}]
[{"$f":"'[1]MedianGlobal,Percentis 5-95conv'!A533721","v":0},{"$f":"'[1]MedianGlobal,Percentis 5-95conv'!B533721","v":0}]
[{"$f":"'[1]MedianGlobal,Percentis 5-95conv'!A533942","v":0},{"$f":"'[1]MedianGlobal,Percentis 5-95conv'!B533942","v":0}]
[{"$f":"'[1]MedianGlobal,Percentis 5-95conv'!A534686","v":0},{"$f":"'[1]MedianGlobal,Percentis 5-95conv'!B534686","v":0}]
[{"$f":"'[1]MedianGlobal,Percentis 5-95conv'!A535201","v":0},{"$f":"'[1]MedianGlobal,Percentis 5-95conv'!B535201","v":0}]
[{"$f":"'[1]MedianGlobal,Percentis 5-95conv'!A535945","v":0},{"$f":"'[1]MedianGlobal,Percentis 5-95conv'!B535945","v":0}]
[{"$f":"'[1]MedianGlobal,Percentis 5-95conv'!A536166","v":0},{"$f":"'[1]MedianGlobal,Percentis 5-95conv'!B536166","v":0}]
[{"$f":"'[1]MedianGlobal,Percentis 5-95conv'!A536681","v":0},{"$f":"'[1]MedianGlobal,Percentis 5-95conv'!B536681","v":0}]
[{"$f":"'[1]MedianGlobal,Percentis 5-95conv'!A537425","v":0},{"$f":"'[1]MedianGlobal,Percentis 5-95conv'!B537425","v":0}]
[{"$f":"'[1]MedianGlobal,Percentis 5-95conv'!A537940","v":0},{"$f":"'[1]MedianGlobal,Percentis 5-95conv'!B537940","v":0}]
[{"$f":"'[1]MedianGlobal,Percentis 5-95conv'!A538161","v":0},{"$f":"'[1]MedianGlobal,Percentis 5-95conv'!B538161","v":0}]
[{"$f":"'[1]MedianGlobal,Percentis 5-95conv'!A538780","v":0},{"$f":"'[1]MedianGlobal,Percentis 5-95conv'!B538780","v":0}]
[{"$f":"'[1]MedianGlobal,Percentis 5-95conv'!A539421","v":0},{"$f":"'[1]MedianGlobal,Percentis 5-95conv'!B539421","v":0}]
[{"$f":"'[1]MedianGlobal,Percentis 5-95conv'!A540165","v":0},{"$f":"'[1]MedianGlobal,Percentis 5-95conv'!B540165","v":0}]
[{"$f":"'[1]MedianGlobal,Percentis 5-95conv'!A540680","v":0},{"$f":"'[1]MedianGlobal,Percentis 5-95conv'!B540680","v":0}]
[{"$f":"'[1]MedianGlobal,Percentis 5-95conv'!A540901","v":0},{"$f":"'[1]MedianGlobal,Percentis 5-95conv'!B540901","v":0}]
[{"$f":"'[1]MedianGlobal,Percentis 5-95conv'!A541645","v":0},{"$f":"'[1]MedianGlobal,Percentis 5-95conv'!B541645","v":0}]
[{"$f":"'[1]MedianGlobal,Percentis 5-95conv'!A542160","v":0},{"$f":"'[1]MedianGlobal,Percentis 5-95conv'!B542160","v":0}]
[{"$f":"'[1]MedianGlobal,Percentis 5-95conv'!A542381","v":0},{"$f":"'[1]MedianGlobal,Percentis 5-95conv'!B542381","v":0}]
[{"$f":"'[1]MedianGlobal,Percentis 5-95conv'!A543125","v":0},{"$f":"'[1]MedianGlobal,Percentis 5-95conv'!B543125","v":0}]
[{"$f":"'[1]MedianGlobal,Percentis 5-95conv'!A543640","v":0},{"$f":"'[1]MedianGlobal,Percentis 5-95conv'!B543640","v":0}]
[{"$f":"'[1]MedianGlobal,Percentis 5-95conv'!A544384","v":0},{"$f":"'[1]MedianGlobal,Percentis 5-95conv'!B544384","v":0}]
[{"$f":"'[1]MedianGlobal,Percentis 5-95conv'!A544899","v":0},{"$f":"'[1]MedianGlobal,Percentis 5-95conv'!B544899","v":0}]
[{"$f":"'[1]MedianGlobal,Percentis 5-95conv'!A545120","v":0},{"$f":"'[1]MedianGlobal,Percentis 5-95conv'!B545120","v":0}]
[{"$f":"'[1]MedianGlobal,Percentis 5-95conv'!A545864","v":0},{"$f":"'[1]MedianGlobal,Percentis 5-95conv'!B545864","v":0}]
[{"$f":"'[1]MedianGlobal,Percentis 5-95conv'!A546379","v":0},{"$f":"'[1]MedianGlobal,Percentis 5-95conv'!B546379","v":0}]
[{"$f":"'[1]MedianGlobal,Percentis 5-95conv'!A546600","v":0},{"$f":"'[1]MedianGlobal,Percentis 5-95conv'!B546600","v":0}]
[{"$f":"'[1]MedianGlobal,Percentis 5-95conv'!A547115","v":0},{"$f":"'[1]MedianGlobal,Percentis 5-95conv'!B547115","v":0}]
[{"$f":"'[1]MedianGlobal,Percentis 5-95conv'!A547859","v":0},{"$f":"'[1]MedianGlobal,Percentis 5-95conv'!B547859","v":0}]
[{"$f":"'[1]MedianGlobal,Percentis 5-95conv'!A548080","v":0},{"$f":"'[1]MedianGlobal,Percentis 5-95conv'!B548080","v":0}]
[{"$f":"'[1]MedianGlobal,Percentis 5-95conv'!A548595","v":0},{"$f":"'[1]MedianGlobal,Percentis 5-95conv'!B548595","v":0}]
[{"$f":"'[1]MedianGlobal,Percentis 5-95conv'!A549339","v":0},{"$f":"'[1]MedianGlobal,Percentis 5-95conv'!B549339","v":0}]
[{"$f":"'[1]MedianGlobal,Percentis 5-95conv'!A550083","v":0},{"$f":"'[1]MedianGlobal,Percentis 5-95conv'!B550083","v":0}]
[{"$f":"'[1]MedianGlobal,Percentis 5-95conv'!A550598","v":0},{"$f":"'[1]MedianGlobal,Percentis 5-95conv'!B550598","v":0}]
[{"$f":"'[1]MedianGlobal,Percentis 5-95conv'!A550819","v":0},{"$f":"'[1]MedianGlobal,Percentis 5-95conv'!B550819","v":0}]
[{"$f":"'[1]MedianGlobal,Percentis 5-95conv'!A551334","v":0},{"$f":"'[1]MedianGlobal,Percentis 5-95conv'!B551334","v":0}]
[{"$f":"'[1]MedianGlobal,Percentis 5-95conv'!A552078","v":0},{"$f":"'[1]MedianGlobal,Percentis 5-95conv'!B552078","v":0}]
[{"$f":"'[1]MedianGlobal,Percentis 5-95conv'!A552409","v":0},{"$f":"'[1]MedianGlobal,Percentis 5-95conv'!B552409","v":0}]
[{"$f":"'[1]MedianGlobal,Percentis 5-95conv'!A552815","v":0},{"$f":"'[1]MedianGlobal,Percentis 5-95conv'!B552815","v":0}]
[{"$f":"'[1]MedianGlobal,Percentis 5-95conv'!A553559","v":0},{"$f":"'[1]MedianGlobal,Percentis 5-95conv'!B553559","v":0}]
[{"$f":"'[1]MedianGlobal,Percentis 5-95conv'!A554303","v":0},{"$f":"'[1]MedianGlobal,Percentis 5-95conv'!B554303","v":0}]
[{"$f":"'[1]MedianGlobal,Percentis 5-95conv'!A554818","v":0},{"$f":"'[1]MedianGlobal,Percentis 5-95conv'!B554818","v":0}]
[{"$f":"'[1]MedianGlobal,Percentis 5-95conv'!A555039","v":0},{"$f":"'[1]MedianGlobal,Percentis 5-95conv'!B555039","v":0}]
[{"$f":"'[1]MedianGlobal,Percentis 5-95conv'!A555554","v":0},{"$f":"'[1]MedianGlobal,Percentis 5-95conv'!B555554","v":0}]
[{"$f":"'[1]MedianGlobal,Percentis 5-95conv'!A556298","v":0},{"$f":"'[1]MedianGlobal,Percentis 5-95conv'!B556298","v":0}]
[{"$f":"'[1]MedianGlobal,Percentis 5-95conv'!A556519","v":0},{"$f":"'[1]MedianGlobal,Percentis 5-95conv'!B556519","v":0}]
[{"$f":"'[1]MedianGlobal,Percentis 5-95conv'!A557034","v":0},{"$f":"'[1]MedianGlobal,Percentis 5-95conv'!B557034","v":0}]
[{"$f":"'[1]MedianGlobal,Percentis 5-95conv'!A557778","v":0},{"$f":"'[1]MedianGlobal,Percentis 5-95conv'!B557778","v":0}]
[{"$f":"'[1]MedianGlobal,Percentis 5-95conv'!A558293","v":0},{"$f":"'[1]MedianGlobal,Percentis 5-95conv'!B558293","v":0}]
[{"$f":"'[1]MedianGlobal,Percentis 5-95conv'!A558514","v":0},{"$f":"'[1]MedianGlobal,Percentis 5-95conv'!B558514","v":0}]
[{"$f":"'[1]MedianGlobal,Percentis 5-95conv'!A559258","v":0},{"$f":"'[1]MedianGlobal,Percentis 5-95conv'!B559258","v":0}]
[{"$f":"'[1]MedianGlobal,Percentis 5-95conv'!A559773","v":0},{"$f":"'[1]MedianGlobal,Percentis 5-95conv'!B559773","v":0}]
[{"$f":"'[1]MedianGlobal,Percentis 5-95conv'!A560517","v":0},{"$f":"'[1]MedianGlobal,Percentis 5-95conv'!B560517","v":0}]
[{"$f":"'[1]MedianGlobal,Percentis 5-95conv'!A560738","v":0},{"$f":"'[1]MedianGlobal,Percentis 5-95conv'!B560738","v":0}]
[{"$f":"'[1]MedianGlobal,Percentis 5-95conv'!A561253","v":0},{"$f":"'[1]MedianGlobal,Percentis 5-95conv'!B561253","v":0}]
[{"$f":"'[1]MedianGlobal,Percentis 5-95conv'!A561997","v":0},{"$f":"'[1]MedianGlobal,Percentis 5-95conv'!B561997","v":0}]
[{"$f":"'[1]MedianGlobal,Percentis 5-95conv'!A562512","v":0},{"$f":"'[1]MedianGlobal,Percentis 5-95conv'!B562512","v":0}]
[{"$f":"'[1]MedianGlobal,Percentis 5-95conv'!A562733","v":0},{"$f":"'[1]MedianGlobal,Percentis 5-95conv'!B562733","v":0}]
[{"$f":"'[1]MedianGlobal,Percentis 5-95conv'!A563477","v":0},{"$f":"'[1]MedianGlobal,Percentis 5-95conv'!B563477","v":0}]
[{"$f":"'[1]MedianGlobal,Percentis 5-95conv'!A563992","v":0},{"$f":"'[1]MedianGlobal,Percentis 5-95conv'!B563992","v":0}]
[{"$f":"'[1]MedianGlobal,Percentis 5-95conv'!A564736","v":0},{"$f":"'[1]MedianGlobal,Percentis 5-95conv'!B564736","v":0}]
[{"$f":"'[1]MedianGlobal,Percentis 5-95conv'!A564957","v":0},{"$f":"'[1]MedianGlobal,Percentis 5-95conv'!B564957","v":0}]
[{"$f":"'[1]MedianGlobal,Percentis 5-95conv'!A565472","v":0},{"$f":"'[1]MedianGlobal,Percentis 5-95conv'!B565472","v":0}]
[{"$f":"'[1]MedianGlobal,Percentis 5-95conv'!A566038","v":0},{"$f":"'[1]MedianGlobal,Percentis 5-95conv'!B566038","v":0}]
[{"$f":"'[1]MedianGlobal,Percentis 5-95conv'!A566732","v":0},{"$f":"'[1]MedianGlobal,Percentis 5-95conv'!B566732","v":0}]
[{"$f":"'[1]MedianGlobal,Percentis 5-95conv'!A566953","v":0},{"$f":"'[1]MedianGlobal,Percentis 5-95conv'!B566953","v":0}]
[{"$f":"'[1]MedianGlobal,Percentis 5-95conv'!A567697","v":0},{"$f":"'[1]MedianGlobal,Percentis 5-95conv'!B567697","v":0}]
[{"$f":"'[1]MedianGlobal,Percentis 5-95conv'!A568212","v":0},{"$f":"'[1]MedianGlobal,Percentis 5-95conv'!B568212","v":0}]
[{"$f":"'[1]MedianGlobal,Percentis 5-95conv'!A568956","v":0},{"$f":"'[1]MedianGlobal,Percentis 5-95conv'!B568956","v":0}]
[{"$f":"'[1]MedianGlobal,Percentis 5-95conv'!A569471","v":0},{"$f":"'[1]MedianGlobal,Percentis 5-95conv'!B569471","v":0}]
[{"$f":"'[1]MedianGlobal,Percentis 5-95conv'!A569692","v":0},{"$f":"'[1]MedianGlobal,Percentis 5-95conv'!B569692","v":0}]
[{"$f":"'[1]MedianGlobal,Percentis 5-95conv'!A570436","v":0},{"$f":"'[1]MedianGlobal,Percentis 5-95conv'!B570436","v":0}]
[{"$f":"'[1]MedianGlobal,Percentis 5-95conv'!A570951","v":0},{"$f":"'[1]MedianGlobal,Percentis 5-95conv'!B570951","v":0}]
[{"$f":"'[1]MedianGlobal,Percentis 5-95conv'!A571172","v":0},{"$f":"'[1]MedianGlobal,Percentis 5-95conv'!B571172","v":0}]
[{"$f":"'[1]MedianGlobal,Percentis 5-95conv'!A571916","v":0},{"$f":"'[1]MedianGlobal,Percentis 5-95conv'!B571916","v":0}]
[{"$f":"'[1]MedianGlobal,Percentis 5-95conv'!A572431","v":0},{"$f":"'[1]MedianGlobal,Percentis 5-95conv'!B572431","v":0}]
[{"$f":"'[1]MedianGlobal,Percentis 5-95conv'!A572652","v":0},{"$f":"'[1]MedianGlobal,Percentis 5-95conv'!B572652","v":0}]
[{"$f":"'[1]MedianGlobal,Percentis 5-95conv'!A573167","v":0},{"$f":"'[1]MedianGlobal,Percentis 5-95conv'!B573167","v":0}]
[{"$f":"'[1]MedianGlobal,Percentis 5-95conv'!A573911","v":0},{"$f":"'[1]MedianGlobal,Percentis 5-95conv'!B573911","v":0}]
[{"$f":"'[1]MedianGlobal,Percentis 5-95conv'!A574655","v":0},{"$f":"'[1]MedianGlobal,Percentis 5-95conv'!B574655","v":0}]
[{"$f":"'[1]MedianGlobal,Percentis 5-95conv'!A575170","v":0},{"$f":"'[1]MedianGlobal,Percentis 5-95conv'!B575170","v":0}]
[{"$f":"'[1]MedianGlobal,Percentis 5-95conv'!A575391","v":0},{"$f":"'[1]MedianGlobal,Percentis 5-95conv'!B575391","v":0}]
[{"$f":"'[1]MedianGlobal,Percentis 5-95conv'!A575906","v":0},{"$f":"'[1]MedianGlobal,Percentis 5-95conv'!B575906","v":0}]
[{"$f":"'[1]MedianGlobal,Percentis 5-95conv'!A576650","v":0},{"$f":"'[1]MedianGlobal,Percentis 5-95conv'!B576650","v":0}]
[{"$f":"'[1]MedianGlobal,Percentis 5-95conv'!A576871","v":0},{"$f":"'[1]MedianGlobal,Percentis 5-95conv'!B576871","v":0}]
[{"$f":"'[1]MedianGlobal,Percentis 5-95conv'!A577386","v":0},{"$f":"'[1]MedianGlobal,Percentis 5-95conv'!B577386","v":0}]
[{"$f":"'[1]MedianGlobal,Percentis 5-95conv'!A578130","v":0},{"$f":"'[1]MedianGlobal,Percentis 5-95conv'!B578130","v":0}]
[{"$f":"'[1]MedianGlobal,Percentis 5-95conv'!A578874","v":0},{"$f":"'[1]MedianGlobal,Percentis 5-95conv'!B578874","v":0}]
[{"$f":"'[1]MedianGlobal,Percentis 5-95conv'!A579389","v":0},{"$f":"'[1]MedianGlobal,Percentis 5-95conv'!B579389","v":0}]
[{"$f":"'[1]MedianGlobal,Percentis 5-95conv'!A579610","v":0},{"$f":"'[1]MedianGlobal,Percentis 5-95conv'!B579610","v":0}]
[{"$f":"'[1]MedianGlobal,Percentis 5-95conv'!A580243","v":0},{"$f":"'[1]MedianGlobal,Percentis 5-95conv'!B580243","v":0}]
[{"$f":"'[1]MedianGlobal,Percentis 5-95conv'!A580870","v":0},{"$f":"'[1]MedianGlobal,Percentis 5-95conv'!B580870","v":0}]
[{"$f":"'[1]MedianGlobal,Percentis 5-95conv'!A581091","v":0},{"$f":"'[1]MedianGlobal,Percentis 5-95conv'!B581091","v":0}]
[{"$f":"'[1]MedianGlobal,Percentis 5-95conv'!A581606","v":0},{"$f":"'[1]MedianGlobal,Percentis 5-95conv'!B581606","v":0}]
[{"$f":"'[1]MedianGlobal,Percentis 5-95conv'!A582350","v":0},{"$f":"'[1]MedianGlobal,Percentis 5-95conv'!B582350","v":0}]
[{"$f":"'[1]MedianGlobal,Percentis 5-95conv'!A583094","v":0},{"$f":"'[1]MedianGlobal,Percentis 5-95conv'!B583094","v":0}]
[{"$f":"'[1]MedianGlobal,Percentis 5-95conv'!A583609","v":0},{"$f":"'[1]MedianGlobal,Percentis 5-95conv'!B583609","v":0}]
[{"$f":"'[1]MedianGlobal,Percentis 5-95conv'!A583830","v":0},{"$f":"'[1]MedianGlobal,Percentis 5-95conv'!B583830","v":0}]
[{"$f":"'[1]MedianGlobal,Percentis 5-95conv'!A584345","v":0},{"$f":"'[1]MedianGlobal,Percentis 5-95conv'!B584345","v":0}]
[{"$f":"'[1]MedianGlobal,Percentis 5-95conv'!A585089","v":0},{"$f":"'[1]MedianGlobal,Percentis 5-95conv'!B585089","v":0}]
[{"$f":"'[1]MedianGlobal,Percentis 5-95conv'!A585310","v":0},{"$f":"'[1]MedianGlobal,Percentis 5-95conv'!B585310","v":0}]
[{"$f":"'[1]MedianGlobal,Percentis 5-95conv'!A585825","v":0},{"$f":"'[1]MedianGlobal,Percentis 5-95conv'!B585825","v":0}]
[{"$f":"'[1]MedianGlobal,Percentis 5-95conv'!A586569","v":0},{"$f":"'[1]MedianGlobal,Percentis 5-95conv'!B586569","v":0}]
[{"$f":"'[1]MedianGlobal,Percentis 5-95conv'!A587084","v":0},{"$f":"'[1]MedianGlobal,Percentis 5-95conv'!B587084","v":0}]
[{"$f":"'[1]MedianGlobal,Percentis 5-95conv'!A587305","v":0},{"$f":"'[1]MedianGlobal,Percentis 5-95conv'!B587305","v":0}]
[{"$f":"'[1]MedianGlobal,Percentis 5-95conv'!A588049","v":0},{"$f":"'[1]MedianGlobal,Percentis 5-95conv'!B588049","v":0}]
[{"$f":"'[1]MedianGlobal,Percentis 5-95conv'!A588564","v":0},{"$f":"'[1]MedianGlobal,Percentis 5-95conv'!B588564","v":0}]
[{"$f":"'[1]MedianGlobal,Percentis 5-95conv'!A589308","v":0},{"$f":"'[1]MedianGlobal,Percentis 5-95conv'!B589308","v":0}]
[{"$f":"'[1]MedianGlobal,Percentis 5-95conv'!A589529","v":0},{"$f":"'[1]MedianGlobal,Percentis 5-95conv'!B589529","v":0}]
[{"$f":"'[1]MedianGlobal,Percentis 5-95conv'!A590044","v":0},{"$f":"'[1]MedianGlobal,Percentis 5-95conv'!B590044","v":0}]
[{"$f":"'[1]MedianGlobal,Percentis 5-95conv'!A590788","v":0},{"$f":"'[1]MedianGlobal,Percentis 5-95conv'!B590788","v":0}]
[{"$f":"'[1]MedianGlobal,Percentis 5-95conv'!A591303","v":0},{"$f":"'[1]MedianGlobal,Percentis 5-95conv'!B591303","v":0}]
[{"$f":"'[1]MedianGlobal,Percentis 5-95conv'!A591524","v":0},{"$f":"'[1]MedianGlobal,Percentis 5-95conv'!B591524","v":0}]
[{"$f":"'[1]MedianGlobal,Percentis 5-95conv'!A592268","v":0},{"$f":"'[1]MedianGlobal,Percentis 5-95conv'!B592268","v":0}]
[{"$f":"'[1]MedianGlobal,Percentis 5-95conv'!A592783","v":0},{"$f":"'[1]MedianGlobal,Percentis 5-95conv'!B592783","v":0}]
[{"$f":"'[1]MedianGlobal,Percentis 5-95conv'!A593527","v":0},{"$f":"'[1]MedianGlobal,Percentis 5-95conv'!B593527","v":0}]
[{"$f":"'[1]MedianGlobal,Percentis 5-95conv'!A593872","v":0},{"$f":"'[1]MedianGlobal,Percentis 5-95conv'!B593872","v":0}]
[{"$f":"'[1]MedianGlobal,Percentis 5-95conv'!A594264","v":0},{"$f":"'[1]MedianGlobal,Percentis 5-95conv'!B594264","v":0}]
[{"$f":"'[1]MedianGlobal,Percentis 5-95conv'!A595008","v":0},{"$f":"'[1]MedianGlobal,Percentis 5-95conv'!B595008","v":0}]
[{"$f":"'[1]MedianGlobal,Percentis 5-95conv'!A595523","v":0},{"$f":"'[1]MedianGlobal,Percentis 5-95conv'!B595523","v":0}]
[{"$f":"'[1]MedianGlobal,Percentis 5-95conv'!A595744","v":0},{"$f":"'[1]MedianGlobal,Percentis 5-95conv'!B595744","v":0}]
[{"$f":"'[1]MedianGlobal,Percentis 5-95conv'!A596488","v":0},{"$f":"'[1]MedianGlobal,Percentis 5-95conv'!B596488","v":0}]
[{"$f":"'[1]MedianGlobal,Percentis 5-95conv'!A597003","v":0},{"$f":"'[1]MedianGlobal,Percentis 5-95conv'!B597003","v":0}]
[{"$f":"'[1]MedianGlobal,Percentis 5-95conv'!A597224","v":0},{"$f":"'[1]MedianGlobal,Percentis 5-95conv'!B597224","v":0}]
[{"$f":"'[1]MedianGlobal,Percentis 5-95conv'!A598262","v":0},{"$f":"'[1]MedianGlobal,Percentis 5-95conv'!B598262","v":0}]
[{"$f":"'[1]MedianGlobal,Percentis 5-95conv'!A598483","v":0},{"$f":"'[1]MedianGlobal,Percentis 5-95conv'!B598483","v":0}]
[{"$f":"'[1]MedianGlobal,Percentis 5-95conv'!A599227","v":0},{"$f":"'[1]MedianGlobal,Percentis 5-95conv'!B599227","v":0}]
[{"$f":"'[1]MedianGlobal,Percentis 5-95conv'!A599742","v":0},{"$f":"'[1]MedianGlobal,Percentis 5-95conv'!B599742","v":0}]
[{"$f":"'[1]MedianGlobal,Percentis 5-95conv'!A599963","v":0},{"$f":"'[1]MedianGlobal,Percentis 5-95conv'!B599963","v":0}]
[{"$f":"'[1]MedianGlobal,Percentis 5-95conv'!A600707","v":0},{"$f":"'[1]MedianGlobal,Percentis 5-95conv'!B600707","v":0}]
[{"$f":"'[1]MedianGlobal,Percentis 5-95conv'!A601222","v":0},{"$f":"'[1]MedianGlobal,Percentis 5-95conv'!B601222","v":0}]
[{"$f":"'[1]MedianGlobal,Percentis 5-95conv'!A601443","v":0},{"$f":"'[1]MedianGlobal,Percentis 5-95conv'!B601443","v":0}]
[{"$f":"'[1]MedianGlobal,Percentis 5-95conv'!A601958","v":0},{"$f":"'[1]MedianGlobal,Percentis 5-95conv'!B601958","v":0}]
[{"$f":"'[1]MedianGlobal,Percentis 5-95conv'!A602702","v":0},{"$f":"'[1]MedianGlobal,Percentis 5-95conv'!B602702","v":0}]
[{"$f":"'[1]MedianGlobal,Percentis 5-95conv'!A603446","v":0},{"$f":"'[1]MedianGlobal,Percentis 5-95conv'!B603446","v":0}]
[{"$f":"'[1]MedianGlobal,Percentis 5-95conv'!A603961","v":0},{"$f":"'[1]MedianGlobal,Percentis 5-95conv'!B603961","v":0}]
[{"$f":"'[1]MedianGlobal,Percentis 5-95conv'!A604182","v":0},{"$f":"'[1]MedianGlobal,Percentis 5-95conv'!B604182","v":0}]
[{"$f":"'[1]MedianGlobal,Percentis 5-95conv'!A604697","v":0},{"$f":"'[1]MedianGlobal,Percentis 5-95conv'!B604697","v":0}]
[{"$f":"'[1]MedianGlobal,Percentis 5-95conv'!A605441","v":0},{"$f":"'[1]MedianGlobal,Percentis 5-95conv'!B605441","v":0}]
[{"$f":"'[1]MedianGlobal,Percentis 5-95conv'!A605662","v":0},{"$f":"'[1]MedianGlobal,Percentis 5-95conv'!B605662","v":0}]
[{"$f":"'[1]MedianGlobal,Percentis 5-95conv'!A606177","v":0},{"$f":"'[1]MedianGlobal,Percentis 5-95conv'!B606177","v":0}]
[{"$f":"'[1]MedianGlobal,Percentis 5-95conv'!A606921","v":0},{"$f":"'[1]MedianGlobal,Percentis 5-95conv'!B606921","v":0}]
[{"$f":"'[1]MedianGlobal,Percentis 5-95conv'!A607253","v":0},{"$f":"'[1]MedianGlobal,Percentis 5-95conv'!B607253","v":0}]
[{"$f":"'[1]MedianGlobal,Percentis 5-95conv'!A608181","v":0},{"$f":"'[1]MedianGlobal,Percentis 5-95conv'!B608181","v":0}]
[{"$f":"'[1]MedianGlobal,Percentis 5-95conv'!A608402","v":0},{"$f":"'[1]MedianGlobal,Percentis 5-95conv'!B608402","v":0}]
[{"$f":"'[1]MedianGlobal,Percentis 5-95conv'!A608917","v":0},{"$f":"'[1]MedianGlobal,Percentis 5-95conv'!B608917","v":0}]
[{"$f":"'[1]MedianGlobal,Percentis 5-95conv'!A609661","v":0},{"$f":"'[1]MedianGlobal,Percentis 5-95conv'!B609661","v":0}]
[{"$f":"'[1]MedianGlobal,Percentis 5-95conv'!A609882","v":0},{"$f":"'[1]MedianGlobal,Percentis 5-95conv'!B609882","v":0}]
[{"$f":"'[1]MedianGlobal,Percentis 5-95conv'!A610397","v":0},{"$f":"'[1]MedianGlobal,Percentis 5-95conv'!B610397","v":0}]
[{"$f":"'[1]MedianGlobal,Percentis 5-95conv'!A611141","v":0},{"$f":"'[1]MedianGlobal,Percentis 5-95conv'!B611141","v":0}]
[{"$f":"'[1]MedianGlobal,Percentis 5-95conv'!A611362","v":0},{"$f":"'[1]MedianGlobal,Percentis 5-95conv'!B611362","v":0}]
[{"$f":"'[1]MedianGlobal,Percentis 5-95conv'!A611877","v":0},{"$f":"'[1]MedianGlobal,Percentis 5-95conv'!B611877","v":0}]
[{"$f":"'[1]MedianGlobal,Percentis 5-95conv'!A612621","v":0},{"$f":"'[1]MedianGlobal,Percentis 5-95conv'!B612621","v":0}]
[{"$f":"'[1]MedianGlobal,Percentis 5-95conv'!A613136","v":0},{"$f":"'[1]MedianGlobal,Percentis 5-95conv'!B613136","v":0}]
[{"$f":"'[1]MedianGlobal,Percentis 5-95conv'!A613880","v":0},{"$f":"'[1]MedianGlobal,Percentis 5-95conv'!B613880","v":0}]
[{"$f":"'[1]MedianGlobal,Percentis 5-95conv'!A614101","v":0},{"$f":"'[1]MedianGlobal,Percentis 5-95conv'!B614101","v":0}]
[{"$f":"'[1]MedianGlobal,Percentis 5-95conv'!A614616","v":0},{"$f":"'[1]MedianGlobal,Percentis 5-95conv'!B614616","v":0}]
[{"$f":"'[1]MedianGlobal,Percentis 5-95conv'!A615360","v":0},{"$f":"'[1]MedianGlobal,Percentis 5-95conv'!B615360","v":0}]
[{"$f":"'[1]MedianGlobal,Percentis 5-95conv'!A615875","v":0},{"$f":"'[1]MedianGlobal,Percentis 5-95conv'!B615875","v":0}]
[{"$f":"'[1]MedianGlobal,Percentis 5-95conv'!A616096","v":0},{"$f":"'[1]MedianGlobal,Percentis 5-95conv'!B616096","v":0}]
[{"$f":"'[1]MedianGlobal,Percentis 5-95conv'!A616840","v":0},{"$f":"'[1]MedianGlobal,Percentis 5-95conv'!B616840","v":0}]
[{"$f":"'[1]MedianGlobal,Percentis 5-95conv'!A617355","v":0},{"$f":"'[1]MedianGlobal,Percentis 5-95conv'!B617355","v":0}]
[{"$f":"'[1]MedianGlobal,Percentis 5-95conv'!A618099","v":0},{"$f":"'[1]MedianGlobal,Percentis 5-95conv'!B618099","v":0}]
[{"$f":"'[1]MedianGlobal,Percentis 5-95conv'!A618320","v":0},{"$f":"'[1]MedianGlobal,Percentis 5-95conv'!B618320","v":0}]
[{"$f":"'[1]MedianGlobal,Percentis 5-95conv'!A618835","v":0},{"$f":"'[1]MedianGlobal,Percentis 5-95conv'!B618835","v":0}]
[{"$f":"'[1]MedianGlobal,Percentis 5-95conv'!A619579","v":0},{"$f":"'[1]MedianGlobal,Percentis 5-95conv'!B619579","v":0}]
[{"$f":"'[1]MedianGlobal,Percentis 5-95conv'!A620094","v":0},{"$f":"'[1]MedianGlobal,Percentis 5-95conv'!B620094","v":0}]
[{"$f":"'[1]MedianGlobal,Percentis 5-95conv'!A620315","v":0},{"$f":"'[1]MedianGlobal,Percentis 5-95conv'!B620315","v":0}]
[{"$f":"'[1]MedianGlobal,Percentis 5-95conv'!A621059","v":0},{"$f":"'[1]MedianGlobal,Percentis 5-95conv'!B621059","v":0}]
[{"$f":"'[1]MedianGlobal,Percentis 5-95conv'!A621458","v":0},{"$f":"'[1]MedianGlobal,Percentis 5-95conv'!B621458","v":0}]
[{"$f":"'[1]MedianGlobal,Percentis 5-95conv'!A622319","v":0},{"$f":"'[1]MedianGlobal,Percentis 5-95conv'!B622319","v":0}]
[{"$f":"'[1]MedianGlobal,Percentis 5-95conv'!A622834","v":0},{"$f":"'[1]MedianGlobal,Percentis 5-95conv'!B622834","v":0}]
[{"$f":"'[1]MedianGlobal,Percentis 5-95conv'!A623055","v":0},{"$f":"'[1]MedianGlobal,Percentis 5-95conv'!B623055","v":0}]
[{"$f":"'[1]MedianGlobal,Percentis 5-95conv'!A623799","v":0},{"$f":"'[1]MedianGlobal,Percentis 5-95conv'!B623799","v":0}]
[{"$f":"'[1]MedianGlobal,Percentis 5-95conv'!A624314","v":0},{"$f":"'[1]MedianGlobal,Percentis 5-95conv'!B624314","v":0}]
[{"$f":"'[1]MedianGlobal,Percentis 5-95conv'!A624535","v":0},{"$f":"'[1]MedianGlobal,Percentis 5-95conv'!B624535","v":0}]
[{"$f":"'[1]MedianGlobal,Percentis 5-95conv'!A625279","v":0},{"$f":"'[1]MedianGlobal,Percentis 5-95conv'!B625279","v":0}]
[{"$f":"'[1]MedianGlobal,Percentis 5-95conv'!A625794","v":0},{"$f":"'[1]MedianGlobal,Percentis 5-95conv'!B625794","v":0}]
[{"$f":"'[1]MedianGlobal,Percentis 5-95conv'!A626015","v":0},{"$f":"'[1]MedianGlobal,Percentis 5-95conv'!B626015","v":0}]
[{"$f":"'[1]MedianGlobal,Percentis 5-95conv'!A626530","v":0},{"$f":"'[1]MedianGlobal,Percentis 5-95conv'!B626530","v":0}]
[{"$f":"'[1]MedianGlobal,Percentis 5-95conv'!A627274","v":0},{"$f":"'[1]MedianGlobal,Percentis 5-95conv'!B627274","v":0}]
[{"$f":"'[1]MedianGlobal,Percentis 5-95conv'!A628018","v":0},{"$f":"'[1]MedianGlobal,Percentis 5-95conv'!B628018","v":0}]
[{"$f":"'[1]MedianGlobal,Percentis 5-95conv'!A628533","v":0},{"$f":"'[1]MedianGlobal,Percentis 5-95conv'!B628533","v":0}]
[{"$f":"'[1]MedianGlobal,Percentis 5-95conv'!A628754","v":0},{"$f":"'[1]MedianGlobal,Percentis 5-95conv'!B628754","v":0}]
[{"$f":"'[1]MedianGlobal,Percentis 5-95conv'!A629498","v":0},{"$f":"'[1]MedianGlobal,Percentis 5-95conv'!B629498","v":0}]
[{"$f":"'[1]MedianGlobal,Percentis 5-95conv'!A630013","v":0},{"$f":"'[1]MedianGlobal,Percentis 5-95conv'!B630013","v":0}]
[{"$f":"'[1]MedianGlobal,Percentis 5-95conv'!A630234","v":0},{"$f":"'[1]MedianGlobal,Percentis 5-95conv'!B630234","v":0}]
[{"$f":"'[1]MedianGlobal,Percentis 5-95conv'!A630749","v":0},{"$f":"'[1]MedianGlobal,Percentis 5-95conv'!B630749","v":0}]
[{"$f":"'[1]MedianGlobal,Percentis 5-95conv'!A631493","v":0},{"$f":"'[1]MedianGlobal,Percentis 5-95conv'!B631493","v":0}]
[{"$f":"'[1]MedianGlobal,Percentis 5-95conv'!A632237","v":0},{"$f":"'[1]MedianGlobal,Percentis 5-95conv'!B632237","v":0}]
[{"$f":"'[1]MedianGlobal,Percentis 5-95conv'!A632752","v":0},{"$f":"'[1]MedianGlobal,Percentis 5-95conv'!B632752","v":0}]
[{"$f":"'[1]MedianGlobal,Percentis 5-95conv'!A632973","v":0},{"$f":"'[1]MedianGlobal,Percentis 5-95conv'!B632973","v":0}]
[{"$f":"'[1]MedianGlobal,Percentis 5-95conv'!A633488","v":0},{"$f":"'[1]MedianGlobal,Percentis 5-95conv'!B633488","v":0}]
[{"$f":"'[1]MedianGlobal,Percentis 5-95conv'!A634232","v":0},{"$f":"'[1]MedianGlobal,Percentis 5-95conv'!B634232","v":0}]
[{"$f":"'[1]MedianGlobal,Percentis 5-95conv'!A634453","v":0},{"$f":"'[1]MedianGlobal,Percentis 5-95conv'!B634453","v":0}]
[{"$f":"'[1]MedianGlobal,Percentis 5-95conv'!A635087","v":0},{"$f":"'[1]MedianGlobal,Percentis 5-95conv'!B635087","v":0}]
[{"$f":"'[1]MedianGlobal,Percentis 5-95conv'!A635713","v":0},{"$f":"'[1]MedianGlobal,Percentis 5-95conv'!B635713","v":0}]
[{"$f":"'[1]MedianGlobal,Percentis 5-95conv'!A635934","v":0},{"$f":"'[1]MedianGlobal,Percentis 5-95conv'!B635934","v":0}]
[{"$f":"'[1]MedianGlobal,Percentis 5-95conv'!A636449","v":0},{"$f":"'[1]MedianGlobal,Percentis 5-95conv'!B636449","v":0}]
[{"$f":"'[1]MedianGlobal,Percentis 5-95conv'!A637193","v":0},{"$f":"'[1]MedianGlobal,Percentis 5-95conv'!B637193","v":0}]
[{"$f":"'[1]MedianGlobal,Percentis 5-95conv'!A637708","v":0},{"$f":"'[1]MedianGlobal,Percentis 5-95conv'!B637708","v":0}]
[{"$f":"'[1]MedianGlobal,Percentis 5-95conv'!A638452","v":0},{"$f":"'[1]MedianGlobal,Percentis 5-95conv'!B638452","v":0}]
[{"$f":"'[1]MedianGlobal,Percentis 5-95conv'!A638673","v":0},{"$f":"'[1]MedianGlobal,Percentis 5-95conv'!B638673","v":0}]
[{"$f":"'[1]MedianGlobal,Percentis 5-95conv'!A639188","v":0},{"$f":"'[1]MedianGlobal,Percentis 5-95conv'!B639188","v":0}]
[{"$f":"'[1]MedianGlobal,Percentis 5-95conv'!A639932","v":0},{"$f":"'[1]MedianGlobal,Percentis 5-95conv'!B639932","v":0}]
[{"$f":"'[1]MedianGlobal,Percentis 5-95conv'!A640153","v":0},{"$f":"'[1]MedianGlobal,Percentis 5-95conv'!B640153","v":0}]
[{"$f":"'[1]MedianGlobal,Percentis 5-95conv'!A640668","v":0},{"$f":"'[1]MedianGlobal,Percentis 5-95conv'!B640668","v":0}]
[{"$f":"'[1]MedianGlobal,Percentis 5-95conv'!A641412","v":0},{"$f":"'[1]MedianGlobal,Percentis 5-95conv'!B641412","v":0}]
[{"$f":"'[1]MedianGlobal,Percentis 5-95conv'!A641927","v":0},{"$f":"'[1]MedianGlobal,Percentis 5-95conv'!B641927","v":0}]
[{"$f":"'[1]MedianGlobal,Percentis 5-95conv'!A642671","v":0},{"$f":"'[1]MedianGlobal,Percentis 5-95conv'!B642671","v":0}]
[{"$f":"'[1]MedianGlobal,Percentis 5-95conv'!A642892","v":0},{"$f":"'[1]MedianGlobal,Percentis 5-95conv'!B642892","v":0}]
[{"$f":"'[1]MedianGlobal,Percentis 5-95conv'!A643407","v":0},{"$f":"'[1]MedianGlobal,Percentis 5-95conv'!B643407","v":0}]
[{"$f":"'[1]MedianGlobal,Percentis 5-95conv'!A644151","v":0},{"$f":"'[1]MedianGlobal,Percentis 5-95conv'!B644151","v":0}]
[{"$f":"'[1]MedianGlobal,Percentis 5-95conv'!A644666","v":0},{"$f":"'[1]MedianGlobal,Percentis 5-95conv'!B644666","v":0}]
[{"$f":"'[1]MedianGlobal,Percentis 5-95conv'!A644887","v":0},{"$f":"'[1]MedianGlobal,Percentis 5-95conv'!B644887","v":0}]
[{"$f":"'[1]MedianGlobal,Percentis 5-95conv'!A645631","v":0},{"$f":"'[1]MedianGlobal,Percentis 5-95conv'!B645631","v":0}]
[{"$f":"'[1]MedianGlobal,Percentis 5-95conv'!A646146","v":0},{"$f":"'[1]MedianGlobal,Percentis 5-95conv'!B646146","v":0}]
[{"$f":"'[1]MedianGlobal,Percentis 5-95conv'!A646890","v":0},{"$f":"'[1]MedianGlobal,Percentis 5-95conv'!B646890","v":0}]
[{"$f":"'[1]MedianGlobal,Percentis 5-95conv'!A647111","v":0},{"$f":"'[1]MedianGlobal,Percentis 5-95conv'!B647111","v":0}]
[{"$f":"'[1]MedianGlobal,Percentis 5-95conv'!A647626","v":0},{"$f":"'[1]MedianGlobal,Percentis 5-95conv'!B647626","v":0}]
[{"$f":"'[1]MedianGlobal,Percentis 5-95conv'!A648370","v":0},{"$f":"'[1]MedianGlobal,Percentis 5-95conv'!B648370","v":0}]
[{"$f":"'[1]MedianGlobal,Percentis 5-95conv'!A648716","v":0},{"$f":"'[1]MedianGlobal,Percentis 5-95conv'!B648716","v":0}]
[{"$f":"'[1]MedianGlobal,Percentis 5-95conv'!A649107","v":0},{"$f":"'[1]MedianGlobal,Percentis 5-95conv'!B649107","v":0}]
[{"$f":"'[1]MedianGlobal,Percentis 5-95conv'!A649851","v":0},{"$f":"'[1]MedianGlobal,Percentis 5-95conv'!B649851","v":0}]
[{"$f":"'[1]MedianGlobal,Percentis 5-95conv'!A650366","v":0},{"$f":"'[1]MedianGlobal,Percentis 5-95conv'!B650366","v":0}]
[{"$f":"'[1]MedianGlobal,Percentis 5-95conv'!A650587","v":0},{"$f":"'[1]MedianGlobal,Percentis 5-95conv'!B650587","v":0}]
[{"$f":"'[1]MedianGlobal,Percentis 5-95conv'!A651102","v":0},{"$f":"'[1]MedianGlobal,Percentis 5-95conv'!B651102","v":0}]
[{"$f":"'[1]MedianGlobal,Percentis 5-95conv'!A651846","v":0},{"$f":"'[1]MedianGlobal,Percentis 5-95conv'!B651846","v":0}]
[{"$f":"'[1]MedianGlobal,Percentis 5-95conv'!A652590","v":0},{"$f":"'[1]MedianGlobal,Percentis 5-95conv'!B652590","v":0}]
[{"$f":"'[1]MedianGlobal,Percentis 5-95conv'!A653105","v":0},{"$f":"'[1]MedianGlobal,Percentis 5-95conv'!B653105","v":0}]
[{"$f":"'[1]MedianGlobal,Percentis 5-95conv'!A653326","v":0},{"$f":"'[1]MedianGlobal,Percentis 5-95conv'!B653326","v":0}]
[{"$f":"'[1]MedianGlobal,Percentis 5-95conv'!A654070","v":0},{"$f":"'[1]MedianGlobal,Percentis 5-95conv'!B654070","v":0}]
[{"$f":"'[1]MedianGlobal,Percentis 5-95conv'!A654585","v":0},{"$f":"'[1]MedianGlobal,Percentis 5-95conv'!B654585","v":0}]
[{"$f":"'[1]MedianGlobal,Percentis 5-95conv'!A654806","v":0},{"$f":"'[1]MedianGlobal,Percentis 5-95conv'!B654806","v":0}]
[{"$f":"'[1]MedianGlobal,Percentis 5-95conv'!A655321","v":0},{"$f":"'[1]MedianGlobal,Percentis 5-95conv'!B655321","v":0}]
[{"$f":"'[1]MedianGlobal,Percentis 5-95conv'!A656065","v":0},{"$f":"'[1]MedianGlobal,Percentis 5-95conv'!B656065","v":0}]
[{"$f":"'[1]MedianGlobal,Percentis 5-95conv'!A656809","v":0},{"$f":"'[1]MedianGlobal,Percentis 5-95conv'!B656809","v":0}]
[{"$f":"'[1]MedianGlobal,Percentis 5-95conv'!A657324","v":0},{"$f":"'[1]MedianGlobal,Percentis 5-95conv'!B657324","v":0}]
[{"$f":"'[1]MedianGlobal,Percentis 5-95conv'!A657545","v":0},{"$f":"'[1]MedianGlobal,Percentis 5-95conv'!B657545","v":0}]
[{"$f":"'[1]MedianGlobal,Percentis 5-95conv'!A658289","v":0},{"$f":"'[1]MedianGlobal,Percentis 5-95conv'!B658289","v":0}]
[{"$f":"'[1]MedianGlobal,Percentis 5-95conv'!A658804","v":0},{"$f":"'[1]MedianGlobal,Percentis 5-95conv'!B658804","v":0}]
[{"$f":"'[1]MedianGlobal,Percentis 5-95conv'!A659025","v":0},{"$f":"'[1]MedianGlobal,Percentis 5-95conv'!B659025","v":0}]
[{"$f":"'[1]MedianGlobal,Percentis 5-95conv'!A659540","v":0},{"$f":"'[1]MedianGlobal,Percentis 5-95conv'!B659540","v":0}]
[{"$f":"'[1]MedianGlobal,Percentis 5-95conv'!A660284","v":0},{"$f":"'[1]MedianGlobal,Percentis 5-95conv'!B660284","v":0}]
[{"$f":"'[1]MedianGlobal,Percentis 5-95conv'!A660505","v":0},{"$f":"'[1]MedianGlobal,Percentis 5-95conv'!B660505","v":0}]
[{"$f":"'[1]MedianGlobal,Percentis 5-95conv'!A661543","v":0},{"$f":"'[1]MedianGlobal,Percentis 5-95conv'!B661543","v":0}]
[{"$f":"'[1]MedianGlobal,Percentis 5-95conv'!A661764","v":0},{"$f":"'[1]MedianGlobal,Percentis 5-95conv'!B661764","v":0}]
[{"$f":"'[1]MedianGlobal,Percentis 5-95conv'!A662279","v":0},{"$f":"'[1]MedianGlobal,Percentis 5-95conv'!B662279","v":0}]
[{"$f":"'[1]MedianGlobal,Percentis 5-95conv'!A662673","v":0},{"$f":"'[1]MedianGlobal,Percentis 5-95conv'!B662673","v":0}]
[{"$f":"'[1]MedianGlobal,Percentis 5-95conv'!A663245","v":0},{"$f":"'[1]MedianGlobal,Percentis 5-95conv'!B663245","v":0}]
[{"$f":"'[1]MedianGlobal,Percentis 5-95conv'!A663760","v":0},{"$f":"'[1]MedianGlobal,Percentis 5-95conv'!B663760","v":0}]
[{"$f":"'[1]MedianGlobal,Percentis 5-95conv'!A664504","v":0},{"$f":"'[1]MedianGlobal,Percentis 5-95conv'!B664504","v":0}]
[{"$f":"'[1]MedianGlobal,Percentis 5-95conv'!A664725","v":0},{"$f":"'[1]MedianGlobal,Percentis 5-95conv'!B664725","v":0}]
[{"$f":"'[1]MedianGlobal,Percentis 5-95conv'!A665240","v":0},{"$f":"'[1]MedianGlobal,Percentis 5-95conv'!B665240","v":0}]
[{"$f":"'[1]MedianGlobal,Percentis 5-95conv'!A665984","v":0},{"$f":"'[1]MedianGlobal,Percentis 5-95conv'!B665984","v":0}]
[{"$f":"'[1]MedianGlobal,Percentis 5-95conv'!A666499","v":0},{"$f":"'[1]MedianGlobal,Percentis 5-95conv'!B666499","v":0}]
[{"$f":"'[1]MedianGlobal,Percentis 5-95conv'!A667243","v":0},{"$f":"'[1]MedianGlobal,Percentis 5-95conv'!B667243","v":0}]
[{"$f":"'[1]MedianGlobal,Percentis 5-95conv'!A667464","v":0},{"$f":"'[1]MedianGlobal,Percentis 5-95conv'!B667464","v":0}]
[{"$f":"'[1]MedianGlobal,Percentis 5-95conv'!A667979","v":0},{"$f":"'[1]MedianGlobal,Percentis 5-95conv'!B667979","v":0}]
[{"$f":"'[1]MedianGlobal,Percentis 5-95conv'!A668723","v":0},{"$f":"'[1]MedianGlobal,Percentis 5-95conv'!B668723","v":0}]
[{"$f":"'[1]MedianGlobal,Percentis 5-95conv'!A669238","v":0},{"$f":"'[1]MedianGlobal,Percentis 5-95conv'!B669238","v":0}]
[{"$f":"'[1]MedianGlobal,Percentis 5-95conv'!A669459","v":0},{"$f":"'[1]MedianGlobal,Percentis 5-95conv'!B669459","v":0}]
[{"$f":"'[1]MedianGlobal,Percentis 5-95conv'!A670203","v":0},{"$f":"'[1]MedianGlobal,Percentis 5-95conv'!B670203","v":0}]
[{"$f":"'[1]MedianGlobal,Percentis 5-95conv'!A670718","v":0},{"$f":"'[1]MedianGlobal,Percentis 5-95conv'!B670718","v":0}]
[{"$f":"'[1]MedianGlobal,Percentis 5-95conv'!A671462","v":0},{"$f":"'[1]MedianGlobal,Percentis 5-95conv'!B671462","v":0}]
[{"$f":"'[1]MedianGlobal,Percentis 5-95conv'!A671683","v":0},{"$f":"'[1]MedianGlobal,Percentis 5-95conv'!B671683","v":0}]
[{"$f":"'[1]MedianGlobal,Percentis 5-95conv'!A672198","v":0},{"$f":"'[1]MedianGlobal,Percentis 5-95conv'!B672198","v":0}]
[{"$f":"'[1]MedianGlobal,Percentis 5-95conv'!A672942","v":0},{"$f":"'[1]MedianGlobal,Percentis 5-95conv'!B672942","v":0}]
[{"$f":"'[1]MedianGlobal,Percentis 5-95conv'!A673457","v":0},{"$f":"'[1]MedianGlobal,Percentis 5-95conv'!B673457","v":0}]
[{"$f":"'[1]MedianGlobal,Percentis 5-95conv'!A673678","v":0},{"$f":"'[1]MedianGlobal,Percentis 5-95conv'!B673678","v":0}]
[{"$f":"'[1]MedianGlobal,Percentis 5-95conv'!A674422","v":0},{"$f":"'[1]MedianGlobal,Percentis 5-95conv'!B674422","v":0}]
[{"$f":"'[1]MedianGlobal,Percentis 5-95conv'!A674937","v":0},{"$f":"'[1]MedianGlobal,Percentis 5-95conv'!B674937","v":0}]
[{"$f":"'[1]MedianGlobal,Percentis 5-95conv'!A675158","v":0},{"$f":"'[1]MedianGlobal,Percentis 5-95conv'!B675158","v":0}]
[{"$f":"'[1]MedianGlobal,Percentis 5-95conv'!A675902","v":0},{"$f":"'[1]MedianGlobal,Percentis 5-95conv'!B675902","v":0}]
[{"$f":"'[1]MedianGlobal,Percentis 5-95conv'!A676302","v":0},{"$f":"'[1]MedianGlobal,Percentis 5-95conv'!B676302","v":0}]
[{"$f":"'[1]MedianGlobal,Percentis 5-95conv'!A677162","v":0},{"$f":"'[1]MedianGlobal,Percentis 5-95conv'!B677162","v":0}]
[{"$f":"'[1]MedianGlobal,Percentis 5-95conv'!A677677","v":0},{"$f":"'[1]MedianGlobal,Percentis 5-95conv'!B677677","v":0}]
[{"$f":"'[1]MedianGlobal,Percentis 5-95conv'!A677898","v":0},{"$f":"'[1]MedianGlobal,Percentis 5-95conv'!B677898","v":0}]
[{"$f":"'[1]MedianGlobal,Percentis 5-95conv'!A678642","v":0},{"$f":"'[1]MedianGlobal,Percentis 5-95conv'!B678642","v":0}]
[{"$f":"'[1]MedianGlobal,Percentis 5-95conv'!A679157","v":0},{"$f":"'[1]MedianGlobal,Percentis 5-95conv'!B679157","v":0}]
[{"$f":"'[1]MedianGlobal,Percentis 5-95conv'!A679378","v":0},{"$f":"'[1]MedianGlobal,Percentis 5-95conv'!B679378","v":0}]
[{"$f":"'[1]MedianGlobal,Percentis 5-95conv'!A679893","v":0},{"$f":"'[1]MedianGlobal,Percentis 5-95conv'!B679893","v":0}]
[{"$f":"'[1]MedianGlobal,Percentis 5-95conv'!A680637","v":0},{"$f":"'[1]MedianGlobal,Percentis 5-95conv'!B680637","v":0}]
[{"$f":"'[1]MedianGlobal,Percentis 5-95conv'!A681381","v":0},{"$f":"'[1]MedianGlobal,Percentis 5-95conv'!B681381","v":0}]
[{"$f":"'[1]MedianGlobal,Percentis 5-95conv'!A681896","v":0},{"$f":"'[1]MedianGlobal,Percentis 5-95conv'!B681896","v":0}]
[{"$f":"'[1]MedianGlobal,Percentis 5-95conv'!A682117","v":0},{"$f":"'[1]MedianGlobal,Percentis 5-95conv'!B682117","v":0}]
[{"$f":"'[1]MedianGlobal,Percentis 5-95conv'!A682861","v":0},{"$f":"'[1]MedianGlobal,Percentis 5-95conv'!B682861","v":0}]
[{"$f":"'[1]MedianGlobal,Percentis 5-95conv'!A683376","v":0},{"$f":"'[1]MedianGlobal,Percentis 5-95conv'!B683376","v":0}]
[{"$f":"'[1]MedianGlobal,Percentis 5-95conv'!A683597","v":0},{"$f":"'[1]MedianGlobal,Percentis 5-95conv'!B683597","v":0}]
[{"$f":"'[1]MedianGlobal,Percentis 5-95conv'!A684112","v":0},{"$f":"'[1]MedianGlobal,Percentis 5-95conv'!B684112","v":0}]
[{"$f":"'[1]MedianGlobal,Percentis 5-95conv'!A684856","v":0},{"$f":"'[1]MedianGlobal,Percentis 5-95conv'!B684856","v":0}]
[{"$f":"'[1]MedianGlobal,Percentis 5-95conv'!A685600","v":0},{"$f":"'[1]MedianGlobal,Percentis 5-95conv'!B685600","v":0}]
[{"$f":"'[1]MedianGlobal,Percentis 5-95conv'!A686115","v":0},{"$f":"'[1]MedianGlobal,Percentis 5-95conv'!B686115","v":0}]
[{"$f":"'[1]MedianGlobal,Percentis 5-95conv'!A686336","v":0},{"$f":"'[1]MedianGlobal,Percentis 5-95conv'!B686336","v":0}]
[{"$f":"'[1]MedianGlobal,Percentis 5-95conv'!A687080","v":0},{"$f":"'[1]MedianGlobal,Percentis 5-95conv'!B687080","v":0}]
[{"$f":"'[1]MedianGlobal,Percentis 5-95conv'!A687595","v":0},{"$f":"'[1]MedianGlobal,Percentis 5-95conv'!B687595","v":0}]
[{"$f":"'[1]MedianGlobal,Percentis 5-95conv'!A687816","v":0},{"$f":"'[1]MedianGlobal,Percentis 5-95conv'!B687816","v":0}]
[{"$f":"'[1]MedianGlobal,Percentis 5-95conv'!A688331","v":0},{"$f":"'[1]MedianGlobal,Percentis 5-95conv'!B688331","v":0}]
[{"$f":"'[1]MedianGlobal,Percentis 5-95conv'!A689075","v":0},{"$f":"'[1]MedianGlobal,Percentis 5-95conv'!B689075","v":0}]
[{"$f":"'[1]MedianGlobal,Percentis 5-95conv'!A689296","v":0},{"$f":"'[1]MedianGlobal,Percentis 5-95conv'!B689296","v":0}]
[{"$f":"'[1]MedianGlobal,Percentis 5-95conv'!A689931","v":0},{"$f":"'[1]MedianGlobal,Percentis 5-95conv'!B689931","v":0}]
[{"$f":"'[1]MedianGlobal,Percentis 5-95conv'!A690556","v":0},{"$f":"'[1]MedianGlobal,Percentis 5-95conv'!B690556","v":0}]
[{"$f":"'[1]MedianGlobal,Percentis 5-95conv'!A691071","v":0},{"$f":"'[1]MedianGlobal,Percentis 5-95conv'!B691071","v":0}]
[{"$f":"'[1]MedianGlobal,Percentis 5-95conv'!A691815","v":0},{"$f":"'[1]MedianGlobal,Percentis 5-95conv'!B691815","v":0}]
[{"$f":"'[1]MedianGlobal,Percentis 5-95conv'!A692036","v":0},{"$f":"'[1]MedianGlobal,Percentis 5-95conv'!B692036","v":0}]
[{"$f":"'[1]MedianGlobal,Percentis 5-95conv'!A692551","v":0},{"$f":"'[1]MedianGlobal,Percentis 5-95conv'!B692551","v":0}]
[{"$f":"'[1]MedianGlobal,Percentis 5-95conv'!A693295","v":0},{"$f":"'[1]MedianGlobal,Percentis 5-95conv'!B693295","v":0}]
[{"$f":"'[1]MedianGlobal,Percentis 5-95conv'!A693516","v":0},{"$f":"'[1]MedianGlobal,Percentis 5-95conv'!B693516","v":0}]
[{"$f":"'[1]MedianGlobal,Percentis 5-95conv'!A694031","v":0},{"$f":"'[1]MedianGlobal,Percentis 5-95conv'!B694031","v":0}]
[{"$f":"'[1]MedianGlobal,Percentis 5-95conv'!A694775","v":0},{"$f":"'[1]MedianGlobal,Percentis 5-95conv'!B694775","v":0}]
[{"$f":"'[1]MedianGlobal,Percentis 5-95conv'!A695290","v":0},{"$f":"'[1]MedianGlobal,Percentis 5-95conv'!B695290","v":0}]
[{"$f":"'[1]MedianGlobal,Percentis 5-95conv'!A696034","v":0},{"$f":"'[1]MedianGlobal,Percentis 5-95conv'!B696034","v":0}]
[{"$f":"'[1]MedianGlobal,Percentis 5-95conv'!A696255","v":0},{"$f":"'[1]MedianGlobal,Percentis 5-95conv'!B696255","v":0}]
[{"$f":"'[1]MedianGlobal,Percentis 5-95conv'!A696770","v":0},{"$f":"'[1]MedianGlobal,Percentis 5-95conv'!B696770","v":0}]
[{"$f":"'[1]MedianGlobal,Percentis 5-95conv'!A697514","v":0},{"$f":"'[1]MedianGlobal,Percentis 5-95conv'!B697514","v":0}]
[{"$f":"'[1]MedianGlobal,Percentis 5-95conv'!A698029","v":0},{"$f":"'[1]MedianGlobal,Percentis 5-95conv'!B698029","v":0}]
[{"$f":"'[1]MedianGlobal,Percentis 5-95conv'!A698250","v":0},{"$f":"'[1]MedianGlobal,Percentis 5-95conv'!B698250","v":0}]
[{"$f":"'[1]MedianGlobal,Percentis 5-95conv'!A698994","v":0},{"$f":"'[1]MedianGlobal,Percentis 5-95conv'!B698994","v":0}]
[{"$f":"'[1]MedianGlobal,Percentis 5-95conv'!A699509","v":0},{"$f":"'[1]MedianGlobal,Percentis 5-95conv'!B699509","v":0}]
[{"$f":"'[1]MedianGlobal,Percentis 5-95conv'!A700253","v":0},{"$f":"'[1]MedianGlobal,Percentis 5-95conv'!B700253","v":0}]
[{"$f":"'[1]MedianGlobal,Percentis 5-95conv'!A700474","v":0},{"$f":"'[1]MedianGlobal,Percentis 5-95conv'!B700474","v":0}]
[{"$f":"'[1]MedianGlobal,Percentis 5-95conv'!A700989","v":0},{"$f":"'[1]MedianGlobal,Percentis 5-95conv'!B700989","v":0}]
[{"$f":"'[1]MedianGlobal,Percentis 5-95conv'!A701733","v":0},{"$f":"'[1]MedianGlobal,Percentis 5-95conv'!B701733","v":0}]
[{"$f":"'[1]MedianGlobal,Percentis 5-95conv'!A702248","v":0},{"$f":"'[1]MedianGlobal,Percentis 5-95conv'!B702248","v":0}]
[{"$f":"'[1]MedianGlobal,Percentis 5-95conv'!A702469","v":0},{"$f":"'[1]MedianGlobal,Percentis 5-95conv'!B702469","v":0}]
[{"$f":"'[1]MedianGlobal,Percentis 5-95conv'!A703213","v":0},{"$f":"'[1]MedianGlobal,Percentis 5-95conv'!B703213","v":0}]
[{"$f":"'[1]MedianGlobal,Percentis 5-95conv'!A703728","v":0},{"$f":"'[1]MedianGlobal,Percentis 5-95conv'!B703728","v":0}]
[{"$f":"'[1]MedianGlobal,Percentis 5-95conv'!A704412","v":0},{"$f":"'[1]MedianGlobal,Percentis 5-95conv'!B704412","v":0}]
[{"$f":"'[1]MedianGlobal,Percentis 5-95conv'!A704694","v":0},{"$f":"'[1]MedianGlobal,Percentis 5-95conv'!B704694","v":0}]
[{"$f":"'[1]MedianGlobal,Percentis 5-95conv'!A705209","v":0},{"$f":"'[1]MedianGlobal,Percentis 5-95conv'!B705209","v":0}]
[{"$f":"'[1]MedianGlobal,Percentis 5-95conv'!A705953","v":0},{"$f":"'[1]MedianGlobal,Percentis 5-95conv'!B705953","v":0}]
[{"$f":"'[1]MedianGlobal,Percentis 5-95conv'!A706468","v":0},{"$f":"'[1]MedianGlobal,Percentis 5-95conv'!B706468","v":0}]
[{"$f":"'[1]MedianGlobal,Percentis 5-95conv'!A706689","v":0},{"$f":"'[1]MedianGlobal,Percentis 5-95conv'!B706689","v":0}]
[{"$f":"'[1]MedianGlobal,Percentis 5-95conv'!A707433","v":0},{"$f":"'[1]MedianGlobal,Percentis 5-95conv'!B707433","v":0}]
[{"$f":"'[1]MedianGlobal,Percentis 5-95conv'!A707948","v":0},{"$f":"'[1]MedianGlobal,Percentis 5-95conv'!B707948","v":0}]
[{"$f":"'[1]MedianGlobal,Percentis 5-95conv'!A708169","v":0},{"$f":"'[1]MedianGlobal,Percentis 5-95conv'!B708169","v":0}]
[{"$f":"'[1]MedianGlobal,Percentis 5-95conv'!A708684","v":0},{"$f":"'[1]MedianGlobal,Percentis 5-95conv'!B708684","v":0}]
[{"$f":"'[1]MedianGlobal,Percentis 5-95conv'!A709428","v":0},{"$f":"'[1]MedianGlobal,Percentis 5-95conv'!B709428","v":0}]
[{"$f":"'[1]MedianGlobal,Percentis 5-95conv'!A710172","v":0},{"$f":"'[1]MedianGlobal,Percentis 5-95conv'!B710172","v":0}]
[{"$f":"'[1]MedianGlobal,Percentis 5-95conv'!A710687","v":0},{"$f":"'[1]MedianGlobal,Percentis 5-95conv'!B710687","v":0}]
[{"$f":"'[1]MedianGlobal,Percentis 5-95conv'!A710908","v":0},{"$f":"'[1]MedianGlobal,Percentis 5-95conv'!B710908","v":0}]
[{"$f":"'[1]MedianGlobal,Percentis 5-95conv'!A711652","v":0},{"$f":"'[1]MedianGlobal,Percentis 5-95conv'!B711652","v":0}]
[{"$f":"'[1]MedianGlobal,Percentis 5-95conv'!A712167","v":0},{"$f":"'[1]MedianGlobal,Percentis 5-95conv'!B712167","v":0}]
[{"$f":"'[1]MedianGlobal,Percentis 5-95conv'!A712388","v":0},{"$f":"'[1]MedianGlobal,Percentis 5-95conv'!B712388","v":0}]
[{"$f":"'[1]MedianGlobal,Percentis 5-95conv'!A712903","v":0},{"$f":"'[1]MedianGlobal,Percentis 5-95conv'!B712903","v":0}]
[{"$f":"'[1]MedianGlobal,Percentis 5-95conv'!A713647","v":0},{"$f":"'[1]MedianGlobal,Percentis 5-95conv'!B713647","v":0}]
[{"$f":"'[1]MedianGlobal,Percentis 5-95conv'!A713868","v":0},{"$f":"'[1]MedianGlobal,Percentis 5-95conv'!B713868","v":0}]
[{"$f":"'[1]MedianGlobal,Percentis 5-95conv'!A714383","v":0},{"$f":"'[1]MedianGlobal,Percentis 5-95conv'!B714383","v":0}]
[{"$f":"'[1]MedianGlobal,Percentis 5-95conv'!A715127","v":0},{"$f":"'[1]MedianGlobal,Percentis 5-95conv'!B715127","v":0}]
[{"$f":"'[1]MedianGlobal,Percentis 5-95conv'!A715642","v":0},{"$f":"'[1]MedianGlobal,Percentis 5-95conv'!B715642","v":0}]
[{"$f":"'[1]MedianGlobal,Percentis 5-95conv'!A716386","v":0},{"$f":"'[1]MedianGlobal,Percentis 5-95conv'!B716386","v":0}]
[{"$f":"'[1]MedianGlobal,Percentis 5-95conv'!A716607","v":0},{"$f":"'[1]MedianGlobal,Percentis 5-95conv'!B716607","v":0}]
[{"$f":"'[1]MedianGlobal,Percentis 5-95conv'!A717122","v":0},{"$f":"'[1]MedianGlobal,Percentis 5-95conv'!B717122","v":0}]
[{"$f":"'[1]MedianGlobal,Percentis 5-95conv'!A717517","v":0},{"$f":"'[1]MedianGlobal,Percentis 5-95conv'!B717517","v":0}]
[{"$f":"'[1]MedianGlobal,Percentis 5-95conv'!A718088","v":0},{"$f":"'[1]MedianGlobal,Percentis 5-95conv'!B718088","v":0}]
[{"$f":"'[1]MedianGlobal,Percentis 5-95conv'!A718603","v":0},{"$f":"'[1]MedianGlobal,Percentis 5-95conv'!B718603","v":0}]
[{"$f":"'[1]MedianGlobal,Percentis 5-95conv'!A719347","v":0},{"$f":"'[1]MedianGlobal,Percentis 5-95conv'!B719347","v":0}]
[{"$f":"'[1]MedianGlobal,Percentis 5-95conv'!A719862","v":0},{"$f":"'[1]MedianGlobal,Percentis 5-95conv'!B719862","v":0}]
[{"$f":"'[1]MedianGlobal,Percentis 5-95conv'!A720606","v":0},{"$f":"'[1]MedianGlobal,Percentis 5-95conv'!B720606","v":0}]
[{"$f":"'[1]MedianGlobal,Percentis 5-95conv'!A720827","v":0},{"$f":"'[1]MedianGlobal,Percentis 5-95conv'!B720827","v":0}]
[{"$f":"'[1]MedianGlobal,Percentis 5-95conv'!A721342","v":0},{"$f":"'[1]MedianGlobal,Percentis 5-95conv'!B721342","v":0}]
[{"$f":"'[1]MedianGlobal,Percentis 5-95conv'!A722086","v":0},{"$f":"'[1]MedianGlobal,Percentis 5-95conv'!B722086","v":0}]
[{"$f":"'[1]MedianGlobal,Percentis 5-95conv'!A722307","v":0},{"$f":"'[1]MedianGlobal,Percentis 5-95conv'!B722307","v":0}]
[{"$f":"'[1]MedianGlobal,Percentis 5-95conv'!A722822","v":0},{"$f":"'[1]MedianGlobal,Percentis 5-95conv'!B722822","v":0}]
[{"$f":"'[1]MedianGlobal,Percentis 5-95conv'!A723566","v":0},{"$f":"'[1]MedianGlobal,Percentis 5-95conv'!B723566","v":0}]
[{"$f":"'[1]MedianGlobal,Percentis 5-95conv'!A724081","v":0},{"$f":"'[1]MedianGlobal,Percentis 5-95conv'!B724081","v":0}]
[{"$f":"'[1]MedianGlobal,Percentis 5-95conv'!A724825","v":0},{"$f":"'[1]MedianGlobal,Percentis 5-95conv'!B724825","v":0}]
[{"$f":"'[1]MedianGlobal,Percentis 5-95conv'!A725046","v":0},{"$f":"'[1]MedianGlobal,Percentis 5-95conv'!B725046","v":0}]
[{"$f":"'[1]MedianGlobal,Percentis 5-95conv'!A725561","v":0},{"$f":"'[1]MedianGlobal,Percentis 5-95conv'!B725561","v":0}]
[{"$f":"'[1]MedianGlobal,Percentis 5-95conv'!A726305","v":0},{"$f":"'[1]MedianGlobal,Percentis 5-95conv'!B726305","v":0}]
[{"$f":"'[1]MedianGlobal,Percentis 5-95conv'!A726820","v":0},{"$f":"'[1]MedianGlobal,Percentis 5-95conv'!B726820","v":0}]
[{"$f":"'[1]MedianGlobal,Percentis 5-95conv'!A727041","v":0},{"$f":"'[1]MedianGlobal,Percentis 5-95conv'!B727041","v":0}]
[{"$f":"'[1]MedianGlobal,Percentis 5-95conv'!A727785","v":0},{"$f":"'[1]MedianGlobal,Percentis 5-95conv'!B727785","v":0}]
[{"$f":"'[1]MedianGlobal,Percentis 5-95conv'!A728300","v":0},{"$f":"'[1]MedianGlobal,Percentis 5-95conv'!B728300","v":0}]
[{"$f":"'[1]MedianGlobal,Percentis 5-95conv'!A728521","v":0},{"$f":"'[1]MedianGlobal,Percentis 5-95conv'!B728521","v":0}]
[{"$f":"'[1]MedianGlobal,Percentis 5-95conv'!A729265","v":0},{"$f":"'[1]MedianGlobal,Percentis 5-95conv'!B729265","v":0}]
[{"$f":"'[1]MedianGlobal,Percentis 5-95conv'!A729780","v":0},{"$f":"'[1]MedianGlobal,Percentis 5-95conv'!B729780","v":0}]
[{"$f":"'[1]MedianGlobal,Percentis 5-95conv'!A730524","v":0},{"$f":"'[1]MedianGlobal,Percentis 5-95conv'!B730524","v":0}]
[{"$f":"'[1]MedianGlobal,Percentis 5-95conv'!A731039","v":0},{"$f":"'[1]MedianGlobal,Percentis 5-95conv'!B731039","v":0}]
[{"$f":"'[1]MedianGlobal,Percentis 5-95conv'!A731146","v":0},{"$f":"'[1]MedianGlobal,Percentis 5-95conv'!B731146","v":0}]
[{"$f":"'[1]MedianGlobal,Percentis 5-95conv'!A732005","v":0},{"$f":"'[1]MedianGlobal,Percentis 5-95conv'!B732005","v":0}]
[{"$f":"'[1]MedianGlobal,Percentis 5-95conv'!A732520","v":0},{"$f":"'[1]MedianGlobal,Percentis 5-95conv'!B732520","v":0}]
[{"$f":"'[1]MedianGlobal,Percentis 5-95conv'!A732741","v":0},{"$f":"'[1]MedianGlobal,Percentis 5-95conv'!B732741","v":0}]
[{"$f":"'[1]MedianGlobal,Percentis 5-95conv'!A733485","v":0},{"$f":"'[1]MedianGlobal,Percentis 5-95conv'!B733485","v":0}]
[{"$f":"'[1]MedianGlobal,Percentis 5-95conv'!A734000","v":0},{"$f":"'[1]MedianGlobal,Percentis 5-95conv'!B734000","v":0}]
[{"$f":"'[1]MedianGlobal,Percentis 5-95conv'!A734744","v":0},{"$f":"'[1]MedianGlobal,Percentis 5-95conv'!B734744","v":0}]
[{"$f":"'[1]MedianGlobal,Percentis 5-95conv'!A735259","v":0},{"$f":"'[1]MedianGlobal,Percentis 5-95conv'!B735259","v":0}]
[{"$f":"'[1]MedianGlobal,Percentis 5-95conv'!A735480","v":0},{"$f":"'[1]MedianGlobal,Percentis 5-95conv'!B735480","v":0}]
[{"$f":"'[1]MedianGlobal,Percentis 5-95conv'!A736224","v":0},{"$f":"'[1]MedianGlobal,Percentis 5-95conv'!B736224","v":0}]
[{"$f":"'[1]MedianGlobal,Percentis 5-95conv'!A736739","v":0},{"$f":"'[1]MedianGlobal,Percentis 5-95conv'!B736739","v":0}]
[{"$f":"'[1]MedianGlobal,Percentis 5-95conv'!A736960","v":0},{"$f":"'[1]MedianGlobal,Percentis 5-95conv'!B736960","v":0}]
[{"$f":"'[1]MedianGlobal,Percentis 5-95conv'!A737475","v":0},{"$f":"'[1]MedianGlobal,Percentis 5-95conv'!B737475","v":0}]
[{"$f":"'[1]MedianGlobal,Percentis 5-95conv'!A738219","v":0},{"$f":"'[1]MedianGlobal,Percentis 5-95conv'!B738219","v":0}]
[{"$f":"'[1]MedianGlobal,Percentis 5-95conv'!A738440","v":0},{"$f":"'[1]MedianGlobal,Percentis 5-95conv'!B738440","v":0}]
[{"$f":"'[1]MedianGlobal,Percentis 5-95conv'!A739478","v":0},{"$f":"'[1]MedianGlobal,Percentis 5-95conv'!B739478","v":0}]
[{"$f":"'[1]MedianGlobal,Percentis 5-95conv'!A739699","v":0},{"$f":"'[1]MedianGlobal,Percentis 5-95conv'!B739699","v":0}]
[{"$f":"'[1]MedianGlobal,Percentis 5-95conv'!A740443","v":0},{"$f":"'[1]MedianGlobal,Percentis 5-95conv'!B740443","v":0}]
[{"$f":"'[1]MedianGlobal,Percentis 5-95conv'!A740958","v":0},{"$f":"'[1]MedianGlobal,Percentis 5-95conv'!B740958","v":0}]
[{"$f":"'[1]MedianGlobal,Percentis 5-95conv'!A741179","v":0},{"$f":"'[1]MedianGlobal,Percentis 5-95conv'!B741179","v":0}]
[{"$f":"'[1]MedianGlobal,Percentis 5-95conv'!A741694","v":0},{"$f":"'[1]MedianGlobal,Percentis 5-95conv'!B741694","v":0}]
[{"$f":"'[1]MedianGlobal,Percentis 5-95conv'!A742438","v":0},{"$f":"'[1]MedianGlobal,Percentis 5-95conv'!B742438","v":0}]
[{"$f":"'[1]MedianGlobal,Percentis 5-95conv'!A742659","v":0},{"$f":"'[1]MedianGlobal,Percentis 5-95conv'!B742659","v":0}]
[{"$f":"'[1]MedianGlobal,Percentis 5-95conv'!A743174","v":0},{"$f":"'[1]MedianGlobal,Percentis 5-95conv'!B743174","v":0}]
[{"$f":"'[1]MedianGlobal,Percentis 5-95conv'!A743918","v":0},{"$f":"'[1]MedianGlobal,Percentis 5-95conv'!B743918","v":0}]
[{"$f":"'[1]MedianGlobal,Percentis 5-95conv'!A744433","v":0},{"$f":"'[1]MedianGlobal,Percentis 5-95conv'!B744433","v":0}]
[{"$f":"'[1]MedianGlobal,Percentis 5-95conv'!A745177","v":0},{"$f":"'[1]MedianGlobal,Percentis 5-95conv'!B745177","v":0}]
[{"$f":"'[1]MedianGlobal,Percentis 5-95conv'!A745627","v":0},{"$f":"'[1]MedianGlobal,Percentis 5-95conv'!B745627","v":0}]
[{"$f":"'[1]MedianGlobal,Percentis 5-95conv'!A745914","v":0},{"$f":"'[1]MedianGlobal,Percentis 5-95conv'!B745914","v":0}]
[{"$f":"'[1]MedianGlobal,Percentis 5-95conv'!A746658","v":0},{"$f":"'[1]MedianGlobal,Percentis 5-95conv'!B746658","v":0}]
[{"$f":"'[1]MedianGlobal,Percentis 5-95conv'!A746879","v":0},{"$f":"'[1]MedianGlobal,Percentis 5-95conv'!B746879","v":0}]
[{"$f":"'[1]MedianGlobal,Percentis 5-95conv'!A747394","v":0},{"$f":"'[1]MedianGlobal,Percentis 5-95conv'!B747394","v":0}]
[{"$f":"'[1]MedianGlobal,Percentis 5-95conv'!A748138","v":0},{"$f":"'[1]MedianGlobal,Percentis 5-95conv'!B748138","v":0}]
[{"$f":"'[1]MedianGlobal,Percentis 5-95conv'!A748653","v":0},{"$f":"'[1]MedianGlobal,Percentis 5-95conv'!B748653","v":0}]
[{"$f":"'[1]MedianGlobal,Percentis 5-95conv'!A749397","v":0},{"$f":"'[1]MedianGlobal,Percentis 5-95conv'!B749397","v":0}]
[{"$f":"'[1]MedianGlobal,Percentis 5-95conv'!A749618","v":0},{"$f":"'[1]MedianGlobal,Percentis 5-95conv'!B749618","v":0}]
[{"$f":"'[1]MedianGlobal,Percentis 5-95conv'!A750133","v":0},{"$f":"'[1]MedianGlobal,Percentis 5-95conv'!B750133","v":0}]
[{"$f":"'[1]MedianGlobal,Percentis 5-95conv'!A750877","v":0},{"$f":"'[1]MedianGlobal,Percentis 5-95conv'!B750877","v":0}]
[{"$f":"'[1]MedianGlobal,Percentis 5-95conv'!A751098","v":0},{"$f":"'[1]MedianGlobal,Percentis 5-95conv'!B751098","v":0}]
[{"$f":"'[1]MedianGlobal,Percentis 5-95conv'!A751613","v":0},{"$f":"'[1]MedianGlobal,Percentis 5-95conv'!B751613","v":0}]
[{"$f":"'[1]MedianGlobal,Percentis 5-95conv'!A752357","v":0},{"$f":"'[1]MedianGlobal,Percentis 5-95conv'!B752357","v":0}]
[{"$f":"'[1]MedianGlobal,Percentis 5-95conv'!A752872","v":0},{"$f":"'[1]MedianGlobal,Percentis 5-95conv'!B752872","v":0}]
[{"$f":"'[1]MedianGlobal,Percentis 5-95conv'!A753093","v":0},{"$f":"'[1]MedianGlobal,Percentis 5-95conv'!B753093","v":0}]
[{"$f":"'[1]MedianGlobal,Percentis 5-95conv'!A753837","v":0},{"$f":"'[1]MedianGlobal,Percentis 5-95conv'!B753837","v":0}]
[{"$f":"'[1]MedianGlobal,Percentis 5-95conv'!A754352","v":0},{"$f":"'[1]MedianGlobal,Percentis 5-95conv'!B754352","v":0}]
[{"$f":"'[1]MedianGlobal,Percentis 5-95conv'!A755096","v":0},{"$f":"'[1]MedianGlobal,Percentis 5-95conv'!B755096","v":0}]
[{"$f":"'[1]MedianGlobal,Percentis 5-95conv'!A755611","v":0},{"$f":"'[1]MedianGlobal,Percentis 5-95conv'!B755611","v":0}]
[{"$f":"'[1]MedianGlobal,Percentis 5-95conv'!A755832","v":0},{"$f":"'[1]MedianGlobal,Percentis 5-95conv'!B755832","v":0}]
[{"$f":"'[1]MedianGlobal,Percentis 5-95conv'!A756576","v":0},{"$f":"'[1]MedianGlobal,Percentis 5-95conv'!B756576","v":0}]
[{"$f":"'[1]MedianGlobal,Percentis 5-95conv'!A757091","v":0},{"$f":"'[1]MedianGlobal,Percentis 5-95conv'!B757091","v":0}]
[{"$f":"'[1]MedianGlobal,Percentis 5-95conv'!A757312","v":0},{"$f":"'[1]MedianGlobal,Percentis 5-95conv'!B757312","v":0}]
[{"$f":"'[1]MedianGlobal,Percentis 5-95conv'!A758056","v":0},{"$f":"'[1]MedianGlobal,Percentis 5-95conv'!B758056","v":0}]
[{"$f":"'[1]MedianGlobal,Percentis 5-95conv'!A758571","v":0},{"$f":"'[1]MedianGlobal,Percentis 5-95conv'!B758571","v":0}]
[{"$f":"'[1]MedianGlobal,Percentis 5-95conv'!A759256","v":0},{"$f":"'[1]MedianGlobal,Percentis 5-95conv'!B759256","v":0}]
[{"$f":"'[1]MedianGlobal,Percentis 5-95conv'!A759831","v":0},{"$f":"'[1]MedianGlobal,Percentis 5-95conv'!B759831","v":0}]
[{"$f":"'[1]MedianGlobal,Percentis 5-95conv'!A760052","v":0},{"$f":"'[1]MedianGlobal,Percentis 5-95conv'!B760052","v":0}]
[{"$f":"'[1]MedianGlobal,Percentis 5-95conv'!A760796","v":0},{"$f":"'[1]MedianGlobal,Percentis 5-95conv'!B760796","v":0}]
[{"$f":"'[1]MedianGlobal,Percentis 5-95conv'!A761311","v":0},{"$f":"'[1]MedianGlobal,Percentis 5-95conv'!B761311","v":0}]
[{"$f":"'[1]MedianGlobal,Percentis 5-95conv'!A761532","v":0},{"$f":"'[1]MedianGlobal,Percentis 5-95conv'!B761532","v":0}]
[{"$f":"'[1]MedianGlobal,Percentis 5-95conv'!A762276","v":0},{"$f":"'[1]MedianGlobal,Percentis 5-95conv'!B762276","v":0}]
[{"$f":"'[1]MedianGlobal,Percentis 5-95conv'!A762791","v":0},{"$f":"'[1]MedianGlobal,Percentis 5-95conv'!B762791","v":0}]
[{"$f":"'[1]MedianGlobal,Percentis 5-95conv'!A763535","v":0},{"$f":"'[1]MedianGlobal,Percentis 5-95conv'!B763535","v":0}]
[{"$f":"'[1]MedianGlobal,Percentis 5-95conv'!A764050","v":0},{"$f":"'[1]MedianGlobal,Percentis 5-95conv'!B764050","v":0}]
[{"$f":"'[1]MedianGlobal,Percentis 5-95conv'!A764271","v":0},{"$f":"'[1]MedianGlobal,Percentis 5-95conv'!B764271","v":0}]
[{"$f":"'[1]MedianGlobal,Percentis 5-95conv'!A765015","v":0},{"$f":"'[1]MedianGlobal,Percentis 5-95conv'!B765015","v":0}]
[{"$f":"'[1]MedianGlobal,Percentis 5-95conv'!A765530","v":0},{"$f":"'[1]MedianGlobal,Percentis 5-95conv'!B765530","v":0}]
[{"$f":"'[1]MedianGlobal,Percentis 5-95conv'!A765751","v":0},{"$f":"'[1]MedianGlobal,Percentis 5-95conv'!B765751","v":0}]
[{"$f":"'[1]MedianGlobal,Percentis 5-95conv'!A766266","v":0},{"$f":"'[1]MedianGlobal,Percentis 5-95conv'!B766266","v":0}]
[{"$f":"'[1]MedianGlobal,Percentis 5-95conv'!A767010","v":0},{"$f":"'[1]MedianGlobal,Percentis 5-95conv'!B767010","v":0}]
[{"$f":"'[1]MedianGlobal,Percentis 5-95conv'!A767231","v":0},{"$f":"'[1]MedianGlobal,Percentis 5-95conv'!B767231","v":0}]
[{"$f":"'[1]MedianGlobal,Percentis 5-95conv'!A767746","v":0},{"$f":"'[1]MedianGlobal,Percentis 5-95conv'!B767746","v":0}]
[{"$f":"'[1]MedianGlobal,Percentis 5-95conv'!A768490","v":0},{"$f":"'[1]MedianGlobal,Percentis 5-95conv'!B768490","v":0}]
[{"$f":"'[1]MedianGlobal,Percentis 5-95conv'!A769234","v":0},{"$f":"'[1]MedianGlobal,Percentis 5-95conv'!B769234","v":0}]
[{"$f":"'[1]MedianGlobal,Percentis 5-95conv'!A769749","v":0},{"$f":"'[1]MedianGlobal,Percentis 5-95conv'!B769749","v":0}]
[{"$f":"'[1]MedianGlobal,Percentis 5-95conv'!A769970","v":0},{"$f":"'[1]MedianGlobal,Percentis 5-95conv'!B769970","v":0}]
[{"$f":"'[1]MedianGlobal,Percentis 5-95conv'!A770485","v":0},{"$f":"'[1]MedianGlobal,Percentis 5-95conv'!B770485","v":0}]
[{"$f":"'[1]MedianGlobal,Percentis 5-95conv'!A771229","v":0},{"$f":"'[1]MedianGlobal,Percentis 5-95conv'!B771229","v":0}]
[{"$f":"'[1]MedianGlobal,Percentis 5-95conv'!A771450","v":0},{"$f":"'[1]MedianGlobal,Percentis 5-95conv'!B771450","v":0}]
[{"$f":"'[1]MedianGlobal,Percentis 5-95conv'!A771965","v":0},{"$f":"'[1]MedianGlobal,Percentis 5-95conv'!B771965","v":0}]
[{"$f":"'[1]MedianGlobal,Percentis 5-95conv'!A772885","v":0},{"$f":"'[1]MedianGlobal,Percentis 5-95conv'!B772885","v":0}]
[{"$f":"'[1]MedianGlobal,Percentis 5-95conv'!A773225","v":0},{"$f":"'[1]MedianGlobal,Percentis 5-95conv'!B773225","v":0}]
[{"$f":"'[1]MedianGlobal,Percentis 5-95conv'!A773969","v":0},{"$f":"'[1]MedianGlobal,Percentis 5-95conv'!B773969","v":0}]
[{"$f":"'[1]MedianGlobal,Percentis 5-95conv'!A774190","v":0},{"$f":"'[1]MedianGlobal,Percentis 5-95conv'!B774190","v":0}]
[{"$f":"'[1]MedianGlobal,Percentis 5-95conv'!A774705","v":0},{"$f":"'[1]MedianGlobal,Percentis 5-95conv'!B774705","v":0}]
[{"$f":"'[1]MedianGlobal,Percentis 5-95conv'!A775449","v":0},{"$f":"'[1]MedianGlobal,Percentis 5-95conv'!B775449","v":0}]
[{"$f":"'[1]MedianGlobal,Percentis 5-95conv'!A775670","v":0},{"$f":"'[1]MedianGlobal,Percentis 5-95conv'!B775670","v":0}]
[{"$f":"'[1]MedianGlobal,Percentis 5-95conv'!A776185","v":0},{"$f":"'[1]MedianGlobal,Percentis 5-95conv'!B776185","v":0}]
[{"$f":"'[1]MedianGlobal,Percentis 5-95conv'!A776929","v":0},{"$f":"'[1]MedianGlobal,Percentis 5-95conv'!B776929","v":0}]
[{"$f":"'[1]MedianGlobal,Percentis 5-95conv'!A777444","v":0},{"$f":"'[1]MedianGlobal,Percentis 5-95conv'!B777444","v":0}]
[{"$f":"'[1]MedianGlobal,Percentis 5-95conv'!A778188","v":0},{"$f":"'[1]MedianGlobal,Percentis 5-95conv'!B778188","v":0}]
[{"$f":"'[1]MedianGlobal,Percentis 5-95conv'!A778409","v":0},{"$f":"'[1]MedianGlobal,Percentis 5-95conv'!B778409","v":0}]
[{"$f":"'[1]MedianGlobal,Percentis 5-95conv'!A778924","v":0},{"$f":"'[1]MedianGlobal,Percentis 5-95conv'!B778924","v":0}]
[{"$f":"'[1]MedianGlobal,Percentis 5-95conv'!A779668","v":0},{"$f":"'[1]MedianGlobal,Percentis 5-95conv'!B779668","v":0}]
[{"$f":"'[1]MedianGlobal,Percentis 5-95conv'!A779889","v":0},{"$f":"'[1]MedianGlobal,Percentis 5-95conv'!B779889","v":0}]
[{"$f":"'[1]MedianGlobal,Percentis 5-95conv'!A780404","v":0},{"$f":"'[1]MedianGlobal,Percentis 5-95conv'!B780404","v":0}]
[{"$f":"'[1]MedianGlobal,Percentis 5-95conv'!A781148","v":0},{"$f":"'[1]MedianGlobal,Percentis 5-95conv'!B781148","v":0}]
[{"$f":"'[1]MedianGlobal,Percentis 5-95conv'!A781663","v":0},{"$f":"'[1]MedianGlobal,Percentis 5-95conv'!B781663","v":0}]
[{"$f":"'[1]MedianGlobal,Percentis 5-95conv'!A781884","v":0},{"$f":"'[1]MedianGlobal,Percentis 5-95conv'!B781884","v":0}]
[{"$f":"'[1]MedianGlobal,Percentis 5-95conv'!A782628","v":0},{"$f":"'[1]MedianGlobal,Percentis 5-95conv'!B782628","v":0}]
[{"$f":"'[1]MedianGlobal,Percentis 5-95conv'!A783143","v":0},{"$f":"'[1]MedianGlobal,Percentis 5-95conv'!B783143","v":0}]
[{"$f":"'[1]MedianGlobal,Percentis 5-95conv'!A783887","v":0},{"$f":"'[1]MedianGlobal,Percentis 5-95conv'!B783887","v":0}]
[{"$f":"'[1]MedianGlobal,Percentis 5-95conv'!A784402","v":0},{"$f":"'[1]MedianGlobal,Percentis 5-95conv'!B784402","v":0}]
[{"$f":"'[1]MedianGlobal,Percentis 5-95conv'!A784623","v":0},{"$f":"'[1]MedianGlobal,Percentis 5-95conv'!B784623","v":0}]
[{"$f":"'[1]MedianGlobal,Percentis 5-95conv'!A785367","v":0},{"$f":"'[1]MedianGlobal,Percentis 5-95conv'!B785367","v":0}]
[{"$f":"'[1]MedianGlobal,Percentis 5-95conv'!A785882","v":0},{"$f":"'[1]MedianGlobal,Percentis 5-95conv'!B785882","v":0}]
[{"$f":"'[1]MedianGlobal,Percentis 5-95conv'!A786514","v":0},{"$f":"'[1]MedianGlobal,Percentis 5-95conv'!B786514","v":0}]
[{"$f":"'[1]MedianGlobal,Percentis 5-95conv'!A786848","v":0},{"$f":"'[1]MedianGlobal,Percentis 5-95conv'!B786848","v":0}]
[{"$f":"'[1]MedianGlobal,Percentis 5-95conv'!A787363","v":0},{"$f":"'[1]MedianGlobal,Percentis 5-95conv'!B787363","v":0}]
[{"$f":"'[1]MedianGlobal,Percentis 5-95conv'!A788107","v":0},{"$f":"'[1]MedianGlobal,Percentis 5-95conv'!B788107","v":0}]
[{"$f":"'[1]MedianGlobal,Percentis 5-95conv'!A788622","v":0},{"$f":"'[1]MedianGlobal,Percentis 5-95conv'!B788622","v":0}]
[{"$f":"'[1]MedianGlobal,Percentis 5-95conv'!A788843","v":0},{"$f":"'[1]MedianGlobal,Percentis 5-95conv'!B788843","v":0}]
[{"$f":"'[1]MedianGlobal,Percentis 5-95conv'!A789587","v":0},{"$f":"'[1]MedianGlobal,Percentis 5-95conv'!B789587","v":0}]
[{"$f":"'[1]MedianGlobal,Percentis 5-95conv'!A790102","v":0},{"$f":"'[1]MedianGlobal,Percentis 5-95conv'!B790102","v":0}]
[{"$f":"'[1]MedianGlobal,Percentis 5-95conv'!A790323","v":0},{"$f":"'[1]MedianGlobal,Percentis 5-95conv'!B790323","v":0}]
[{"$f":"'[1]MedianGlobal,Percentis 5-95conv'!A790838","v":0},{"$f":"'[1]MedianGlobal,Percentis 5-95conv'!B790838","v":0}]
[{"$f":"'[1]MedianGlobal,Percentis 5-95conv'!A791582","v":0},{"$f":"'[1]MedianGlobal,Percentis 5-95conv'!B791582","v":0}]
[{"$f":"'[1]MedianGlobal,Percentis 5-95conv'!A791803","v":0},{"$f":"'[1]MedianGlobal,Percentis 5-95conv'!B791803","v":0}]
[{"$f":"'[1]MedianGlobal,Percentis 5-95conv'!A792318","v":0},{"$f":"'[1]MedianGlobal,Percentis 5-95conv'!B792318","v":0}]
[{"$f":"'[1]MedianGlobal,Percentis 5-95conv'!A793062","v":0},{"$f":"'[1]MedianGlobal,Percentis 5-95conv'!B793062","v":0}]
[{"$f":"'[1]MedianGlobal,Percentis 5-95conv'!A793806","v":0},{"$f":"'[1]MedianGlobal,Percentis 5-95conv'!B793806","v":0}]
[{"$f":"'[1]MedianGlobal,Percentis 5-95conv'!A794321","v":0},{"$f":"'[1]MedianGlobal,Percentis 5-95conv'!B794321","v":0}]
[{"$f":"'[1]MedianGlobal,Percentis 5-95conv'!A794542","v":0},{"$f":"'[1]MedianGlobal,Percentis 5-95conv'!B794542","v":0}]
[{"$f":"'[1]MedianGlobal,Percentis 5-95conv'!A795057","v":0},{"$f":"'[1]MedianGlobal,Percentis 5-95conv'!B795057","v":0}]
[{"$f":"'[1]MedianGlobal,Percentis 5-95conv'!A795801","v":0},{"$f":"'[1]MedianGlobal,Percentis 5-95conv'!B795801","v":0}]
[{"$f":"'[1]MedianGlobal,Percentis 5-95conv'!A796022","v":0},{"$f":"'[1]MedianGlobal,Percentis 5-95conv'!B796022","v":0}]
[{"$f":"'[1]MedianGlobal,Percentis 5-95conv'!A796537","v":0},{"$f":"'[1]MedianGlobal,Percentis 5-95conv'!B796537","v":0}]
[{"$f":"'[1]MedianGlobal,Percentis 5-95conv'!A797281","v":0},{"$f":"'[1]MedianGlobal,Percentis 5-95conv'!B797281","v":0}]
[{"$f":"'[1]MedianGlobal,Percentis 5-95conv'!A798025","v":0},{"$f":"'[1]MedianGlobal,Percentis 5-95conv'!B798025","v":0}]
[{"$f":"'[1]MedianGlobal,Percentis 5-95conv'!A798540","v":0},{"$f":"'[1]MedianGlobal,Percentis 5-95conv'!B798540","v":0}]
[{"$f":"'[1]MedianGlobal,Percentis 5-95conv'!A798761","v":0},{"$f":"'[1]MedianGlobal,Percentis 5-95conv'!B798761","v":0}]
[{"$f":"'[1]MedianGlobal,Percentis 5-95conv'!A799276","v":0},{"$f":"'[1]MedianGlobal,Percentis 5-95conv'!B799276","v":0}]
[{"$f":"'[1]MedianGlobal,Percentis 5-95conv'!A800020","v":0},{"$f":"'[1]MedianGlobal,Percentis 5-95conv'!B800020","v":0}]
[{"$f":"'[1]MedianGlobal,Percentis 5-95conv'!A800471","v":0},{"$f":"'[1]MedianGlobal,Percentis 5-95conv'!B800471","v":0}]
[{"$f":"'[1]MedianGlobal,Percentis 5-95conv'!A800757","v":0},{"$f":"'[1]MedianGlobal,Percentis 5-95conv'!B800757","v":0}]
[{"$f":"'[1]MedianGlobal,Percentis 5-95conv'!A801501","v":0},{"$f":"'[1]MedianGlobal,Percentis 5-95conv'!B801501","v":0}]
[{"$f":"'[1]MedianGlobal,Percentis 5-95conv'!A802016","v":0},{"$f":"'[1]MedianGlobal,Percentis 5-95conv'!B802016","v":0}]
[{"$f":"'[1]MedianGlobal,Percentis 5-95conv'!A802760","v":0},{"$f":"'[1]MedianGlobal,Percentis 5-95conv'!B802760","v":0}]
[{"$f":"'[1]MedianGlobal,Percentis 5-95conv'!A802981","v":0},{"$f":"'[1]MedianGlobal,Percentis 5-95conv'!B802981","v":0}]
[{"$f":"'[1]MedianGlobal,Percentis 5-95conv'!A803496","v":0},{"$f":"'[1]MedianGlobal,Percentis 5-95conv'!B803496","v":0}]
[{"$f":"'[1]MedianGlobal,Percentis 5-95conv'!A804240","v":0},{"$f":"'[1]MedianGlobal,Percentis 5-95conv'!B804240","v":0}]
[{"$f":"'[1]MedianGlobal,Percentis 5-95conv'!A804461","v":0},{"$f":"'[1]MedianGlobal,Percentis 5-95conv'!B804461","v":0}]
[{"$f":"'[1]MedianGlobal,Percentis 5-95conv'!A804976","v":0},{"$f":"'[1]MedianGlobal,Percentis 5-95conv'!B804976","v":0}]
[{"$f":"'[1]MedianGlobal,Percentis 5-95conv'!A805720","v":0},{"$f":"'[1]MedianGlobal,Percentis 5-95conv'!B805720","v":0}]
[{"$f":"'[1]MedianGlobal,Percentis 5-95conv'!A806235","v":0},{"$f":"'[1]MedianGlobal,Percentis 5-95conv'!B806235","v":0}]
[{"$f":"'[1]MedianGlobal,Percentis 5-95conv'!A806456","v":0},{"$f":"'[1]MedianGlobal,Percentis 5-95conv'!B806456","v":0}]
[{"$f":"'[1]MedianGlobal,Percentis 5-95conv'!A807200","v":0},{"$f":"'[1]MedianGlobal,Percentis 5-95conv'!B807200","v":0}]
[{"$f":"'[1]MedianGlobal,Percentis 5-95conv'!A807715","v":0},{"$f":"'[1]MedianGlobal,Percentis 5-95conv'!B807715","v":0}]
[{"$f":"'[1]MedianGlobal,Percentis 5-95conv'!A808459","v":0},{"$f":"'[1]MedianGlobal,Percentis 5-95conv'!B808459","v":0}]
[{"$f":"'[1]MedianGlobal,Percentis 5-95conv'!A808680","v":0},{"$f":"'[1]MedianGlobal,Percentis 5-95conv'!B808680","v":0}]
[{"$f":"'[1]MedianGlobal,Percentis 5-95conv'!A809195","v":0},{"$f":"'[1]MedianGlobal,Percentis 5-95conv'!B809195","v":0}]
[{"$f":"'[1]MedianGlobal,Percentis 5-95conv'!A809939","v":0},{"$f":"'[1]MedianGlobal,Percentis 5-95conv'!B809939","v":0}]
[{"$f":"'[1]MedianGlobal,Percentis 5-95conv'!A810454","v":0},{"$f":"'[1]MedianGlobal,Percentis 5-95conv'!B810454","v":0}]
[{"$f":"'[1]MedianGlobal,Percentis 5-95conv'!A810675","v":0},{"$f":"'[1]MedianGlobal,Percentis 5-95conv'!B810675","v":0}]
[{"$f":"'[1]MedianGlobal,Percentis 5-95conv'!A811419","v":0},{"$f":"'[1]MedianGlobal,Percentis 5-95conv'!B811419","v":0}]
[{"$f":"'[1]MedianGlobal,Percentis 5-95conv'!A811934","v":0},{"$f":"'[1]MedianGlobal,Percentis 5-95conv'!B811934","v":0}]
[{"$f":"'[1]MedianGlobal,Percentis 5-95conv'!A812678","v":0},{"$f":"'[1]MedianGlobal,Percentis 5-95conv'!B812678","v":0}]
[{"$f":"'[1]MedianGlobal,Percentis 5-95conv'!A813193","v":0},{"$f":"'[1]MedianGlobal,Percentis 5-95conv'!B813193","v":0}]
[{"$f":"'[1]MedianGlobal,Percentis 5-95conv'!A813414","v":0},{"$f":"'[1]MedianGlobal,Percentis 5-95conv'!B813414","v":0}]
[{"$f":"'[1]MedianGlobal,Percentis 5-95conv'!A814100","v":0},{"$f":"'[1]MedianGlobal,Percentis 5-95conv'!B814100","v":0}]
[{"$f":"'[1]MedianGlobal,Percentis 5-95conv'!A814674","v":0},{"$f":"'[1]MedianGlobal,Percentis 5-95conv'!B814674","v":0}]
[{"$f":"'[1]MedianGlobal,Percentis 5-95conv'!A814895","v":0},{"$f":"'[1]MedianGlobal,Percentis 5-95conv'!B814895","v":0}]
[{"$f":"'[1]MedianGlobal,Percentis 5-95conv'!A815639","v":0},{"$f":"'[1]MedianGlobal,Percentis 5-95conv'!B815639","v":0}]
[{"$f":"'[1]MedianGlobal,Percentis 5-95conv'!A816154","v":0},{"$f":"'[1]MedianGlobal,Percentis 5-95conv'!B816154","v":0}]
[{"$f":"'[1]MedianGlobal,Percentis 5-95conv'!A816375","v":0},{"$f":"'[1]MedianGlobal,Percentis 5-95conv'!B816375","v":0}]
[{"$f":"'[1]MedianGlobal,Percentis 5-95conv'!A817413","v":0},{"$f":"'[1]MedianGlobal,Percentis 5-95conv'!B817413","v":0}]
[{"$f":"'[1]MedianGlobal,Percentis 5-95conv'!A817634","v":0},{"$f":"'[1]MedianGlobal,Percentis 5-95conv'!B817634","v":0}]
[{"$f":"'[1]MedianGlobal,Percentis 5-95conv'!A818378","v":0},{"$f":"'[1]MedianGlobal,Percentis 5-95conv'!B818378","v":0}]
[{"$f":"'[1]MedianGlobal,Percentis 5-95conv'!A818893","v":0},{"$f":"'[1]MedianGlobal,Percentis 5-95conv'!B818893","v":0}]
[{"$f":"'[1]MedianGlobal,Percentis 5-95conv'!A819114","v":0},{"$f":"'[1]MedianGlobal,Percentis 5-95conv'!B819114","v":0}]
[{"$f":"'[1]MedianGlobal,Percentis 5-95conv'!A819629","v":0},{"$f":"'[1]MedianGlobal,Percentis 5-95conv'!B819629","v":0}]
[{"$f":"'[1]MedianGlobal,Percentis 5-95conv'!A820373","v":0},{"$f":"'[1]MedianGlobal,Percentis 5-95conv'!B820373","v":0}]
[{"$f":"'[1]MedianGlobal,Percentis 5-95conv'!A820594","v":0},{"$f":"'[1]MedianGlobal,Percentis 5-95conv'!B820594","v":0}]
[{"$f":"'[1]MedianGlobal,Percentis 5-95conv'!A821109","v":0},{"$f":"'[1]MedianGlobal,Percentis 5-95conv'!B821109","v":0}]
[{"$f":"'[1]MedianGlobal,Percentis 5-95conv'!A821853","v":0},{"$f":"'[1]MedianGlobal,Percentis 5-95conv'!B821853","v":0}]
[{"$f":"'[1]MedianGlobal,Percentis 5-95conv'!A822597","v":0},{"$f":"'[1]MedianGlobal,Percentis 5-95conv'!B822597","v":0}]
[{"$f":"'[1]MedianGlobal,Percentis 5-95conv'!A823112","v":0},{"$f":"'[1]MedianGlobal,Percentis 5-95conv'!B823112","v":0}]
[{"$f":"'[1]MedianGlobal,Percentis 5-95conv'!A823333","v":0},{"$f":"'[1]MedianGlobal,Percentis 5-95conv'!B823333","v":0}]
[{"$f":"'[1]MedianGlobal,Percentis 5-95conv'!A823848","v":0},{"$f":"'[1]MedianGlobal,Percentis 5-95conv'!B823848","v":0}]
[{"$f":"'[1]MedianGlobal,Percentis 5-95conv'!A824592","v":0},{"$f":"'[1]MedianGlobal,Percentis 5-95conv'!B824592","v":0}]
[{"$f":"'[1]MedianGlobal,Percentis 5-95conv'!A824813","v":0},{"$f":"'[1]MedianGlobal,Percentis 5-95conv'!B824813","v":0}]
[{"$f":"'[1]MedianGlobal,Percentis 5-95conv'!A825328","v":0},{"$f":"'[1]MedianGlobal,Percentis 5-95conv'!B825328","v":0}]
[{"$f":"'[1]MedianGlobal,Percentis 5-95conv'!A826072","v":0},{"$f":"'[1]MedianGlobal,Percentis 5-95conv'!B826072","v":0}]
[{"$f":"'[1]MedianGlobal,Percentis 5-95conv'!A826816","v":0},{"$f":"'[1]MedianGlobal,Percentis 5-95conv'!B826816","v":0}]
[{"$f":"'[1]MedianGlobal,Percentis 5-95conv'!A827331","v":0},{"$f":"'[1]MedianGlobal,Percentis 5-95conv'!B827331","v":0}]
[{"$f":"'[1]MedianGlobal,Percentis 5-95conv'!A827729","v":0},{"$f":"'[1]MedianGlobal,Percentis 5-95conv'!B827729","v":0}]
[{"$f":"'[1]MedianGlobal,Percentis 5-95conv'!A828068","v":0},{"$f":"'[1]MedianGlobal,Percentis 5-95conv'!B828068","v":0}]
[{"$f":"'[1]MedianGlobal,Percentis 5-95conv'!A828812","v":0},{"$f":"'[1]MedianGlobal,Percentis 5-95conv'!B828812","v":0}]
[{"$f":"'[1]MedianGlobal,Percentis 5-95conv'!A829033","v":0},{"$f":"'[1]MedianGlobal,Percentis 5-95conv'!B829033","v":0}]
[{"$f":"'[1]MedianGlobal,Percentis 5-95conv'!A829548","v":0},{"$f":"'[1]MedianGlobal,Percentis 5-95conv'!B829548","v":0}]
[{"$f":"'[1]MedianGlobal,Percentis 5-95conv'!A830292","v":0},{"$f":"'[1]MedianGlobal,Percentis 5-95conv'!B830292","v":0}]
[{"$f":"'[1]MedianGlobal,Percentis 5-95conv'!A830807","v":0},{"$f":"'[1]MedianGlobal,Percentis 5-95conv'!B830807","v":0}]
[{"$f":"'[1]MedianGlobal,Percentis 5-95conv'!A831028","v":0},{"$f":"'[1]MedianGlobal,Percentis 5-95conv'!B831028","v":0}]
[{"$f":"'[1]MedianGlobal,Percentis 5-95conv'!A831772","v":0},{"$f":"'[1]MedianGlobal,Percentis 5-95conv'!B831772","v":0}]
[{"$f":"'[1]MedianGlobal,Percentis 5-95conv'!A832287","v":0},{"$f":"'[1]MedianGlobal,Percentis 5-95conv'!B832287","v":0}]
[{"$f":"'[1]MedianGlobal,Percentis 5-95conv'!A833031","v":0},{"$f":"'[1]MedianGlobal,Percentis 5-95conv'!B833031","v":0}]
[{"$f":"'[1]MedianGlobal,Percentis 5-95conv'!A833252","v":0},{"$f":"'[1]MedianGlobal,Percentis 5-95conv'!B833252","v":0}]
[{"$f":"'[1]MedianGlobal,Percentis 5-95conv'!A833767","v":0},{"$f":"'[1]MedianGlobal,Percentis 5-95conv'!B833767","v":0}]
[{"$f":"'[1]MedianGlobal,Percentis 5-95conv'!A834511","v":0},{"$f":"'[1]MedianGlobal,Percentis 5-95conv'!B834511","v":0}]
[{"$f":"'[1]MedianGlobal,Percentis 5-95conv'!A835026","v":0},{"$f":"'[1]MedianGlobal,Percentis 5-95conv'!B835026","v":0}]
[{"$f":"'[1]MedianGlobal,Percentis 5-95conv'!A835247","v":0},{"$f":"'[1]MedianGlobal,Percentis 5-95conv'!B835247","v":0}]
[{"$f":"'[1]MedianGlobal,Percentis 5-95conv'!A835991","v":0},{"$f":"'[1]MedianGlobal,Percentis 5-95conv'!B835991","v":0}]
[{"$f":"'[1]MedianGlobal,Percentis 5-95conv'!A836506","v":0},{"$f":"'[1]MedianGlobal,Percentis 5-95conv'!B836506","v":0}]
[{"$f":"'[1]MedianGlobal,Percentis 5-95conv'!A837250","v":0},{"$f":"'[1]MedianGlobal,Percentis 5-95conv'!B837250","v":0}]
[{"$f":"'[1]MedianGlobal,Percentis 5-95conv'!A837471","v":0},{"$f":"'[1]MedianGlobal,Percentis 5-95conv'!B837471","v":0}]
[{"$f":"'[1]MedianGlobal,Percentis 5-95conv'!A837986","v":0},{"$f":"'[1]MedianGlobal,Percentis 5-95conv'!B837986","v":0}]
[{"$f":"'[1]MedianGlobal,Percentis 5-95conv'!A838730","v":0},{"$f":"'[1]MedianGlobal,Percentis 5-95conv'!B838730","v":0}]
[{"$f":"'[1]MedianGlobal,Percentis 5-95conv'!A839245","v":0},{"$f":"'[1]MedianGlobal,Percentis 5-95conv'!B839245","v":0}]
[{"$f":"'[1]MedianGlobal,Percentis 5-95conv'!A839466","v":0},{"$f":"'[1]MedianGlobal,Percentis 5-95conv'!B839466","v":0}]
[{"$f":"'[1]MedianGlobal,Percentis 5-95conv'!A840210","v":0},{"$f":"'[1]MedianGlobal,Percentis 5-95conv'!B840210","v":0}]
[{"$f":"'[1]MedianGlobal,Percentis 5-95conv'!A840725","v":0},{"$f":"'[1]MedianGlobal,Percentis 5-95conv'!B840725","v":0}]
[{"$f":"'[1]MedianGlobal,Percentis 5-95conv'!A841469","v":0},{"$f":"'[1]MedianGlobal,Percentis 5-95conv'!B841469","v":0}]
[{"$f":"'[1]MedianGlobal,Percentis 5-95conv'!A841934","v":0},{"$f":"'[1]MedianGlobal,Percentis 5-95conv'!B841934","v":0}]
[{"$f":"'[1]MedianGlobal,Percentis 5-95conv'!A842206","v":0},{"$f":"'[1]MedianGlobal,Percentis 5-95conv'!B842206","v":0}]
[{"$f":"'[1]MedianGlobal,Percentis 5-95conv'!A842950","v":0},{"$f":"'[1]MedianGlobal,Percentis 5-95conv'!B842950","v":0}]
[{"$f":"'[1]MedianGlobal,Percentis 5-95conv'!A843465","v":0},{"$f":"'[1]MedianGlobal,Percentis 5-95conv'!B843465","v":0}]
[{"$f":"'[1]MedianGlobal,Percentis 5-95conv'!A843686","v":0},{"$f":"'[1]MedianGlobal,Percentis 5-95conv'!B843686","v":0}]
[{"$f":"'[1]MedianGlobal,Percentis 5-95conv'!A844430","v":0},{"$f":"'[1]MedianGlobal,Percentis 5-95conv'!B844430","v":0}]
[{"$f":"'[1]MedianGlobal,Percentis 5-95conv'!A844945","v":0},{"$f":"'[1]MedianGlobal,Percentis 5-95conv'!B844945","v":0}]
[{"$f":"'[1]MedianGlobal,Percentis 5-95conv'!A845166","v":0},{"$f":"'[1]MedianGlobal,Percentis 5-95conv'!B845166","v":0}]
[{"$f":"'[1]MedianGlobal,Percentis 5-95conv'!A845681","v":0},{"$f":"'[1]MedianGlobal,Percentis 5-95conv'!B845681","v":0}]
[{"$f":"'[1]MedianGlobal,Percentis 5-95conv'!A846425","v":0},{"$f":"'[1]MedianGlobal,Percentis 5-95conv'!B846425","v":0}]
[{"$f":"'[1]MedianGlobal,Percentis 5-95conv'!A847169","v":0},{"$f":"'[1]MedianGlobal,Percentis 5-95conv'!B847169","v":0}]
[{"$f":"'[1]MedianGlobal,Percentis 5-95conv'!A847684","v":0},{"$f":"'[1]MedianGlobal,Percentis 5-95conv'!B847684","v":0}]
[{"$f":"'[1]MedianGlobal,Percentis 5-95conv'!A847905","v":0},{"$f":"'[1]MedianGlobal,Percentis 5-95conv'!B847905","v":0}]
[{"$f":"'[1]MedianGlobal,Percentis 5-95conv'!A848420","v":0},{"$f":"'[1]MedianGlobal,Percentis 5-95conv'!B848420","v":0}]
[{"$f":"'[1]MedianGlobal,Percentis 5-95conv'!A849164","v":0},{"$f":"'[1]MedianGlobal,Percentis 5-95conv'!B849164","v":0}]
[{"$f":"'[1]MedianGlobal,Percentis 5-95conv'!A849385","v":0},{"$f":"'[1]MedianGlobal,Percentis 5-95conv'!B849385","v":0}]
[{"$f":"'[1]MedianGlobal,Percentis 5-95conv'!A849900","v":0},{"$f":"'[1]MedianGlobal,Percentis 5-95conv'!B849900","v":0}]
[{"$f":"'[1]MedianGlobal,Percentis 5-95conv'!A850644","v":0},{"$f":"'[1]MedianGlobal,Percentis 5-95conv'!B850644","v":0}]
[{"$f":"'[1]MedianGlobal,Percentis 5-95conv'!A851388","v":0},{"$f":"'[1]MedianGlobal,Percentis 5-95conv'!B851388","v":0}]
[{"$f":"'[1]MedianGlobal,Percentis 5-95conv'!A851903","v":0},{"$f":"'[1]MedianGlobal,Percentis 5-95conv'!B851903","v":0}]
[{"$f":"'[1]MedianGlobal,Percentis 5-95conv'!A852124","v":0},{"$f":"'[1]MedianGlobal,Percentis 5-95conv'!B852124","v":0}]
[{"$f":"'[1]MedianGlobal,Percentis 5-95conv'!A852639","v":0},{"$f":"'[1]MedianGlobal,Percentis 5-95conv'!B852639","v":0}]
[{"$f":"'[1]MedianGlobal,Percentis 5-95conv'!A853383","v":0},{"$f":"'[1]MedianGlobal,Percentis 5-95conv'!B853383","v":0}]
[{"$f":"'[1]MedianGlobal,Percentis 5-95conv'!A853604","v":0},{"$f":"'[1]MedianGlobal,Percentis 5-95conv'!B853604","v":0}]
[{"$f":"'[1]MedianGlobal,Percentis 5-95conv'!A854119","v":0},{"$f":"'[1]MedianGlobal,Percentis 5-95conv'!B854119","v":0}]
[{"$f":"'[1]MedianGlobal,Percentis 5-95conv'!A854863","v":0},{"$f":"'[1]MedianGlobal,Percentis 5-95conv'!B854863","v":0}]
[{"$f":"'[1]MedianGlobal,Percentis 5-95conv'!A855315","v":0},{"$f":"'[1]MedianGlobal,Percentis 5-95conv'!B855315","v":0}]
[{"$f":"'[1]MedianGlobal,Percentis 5-95conv'!A855600","v":0},{"$f":"'[1]MedianGlobal,Percentis 5-95conv'!B855600","v":0}]
[{"$f":"'[1]MedianGlobal,Percentis 5-95conv'!A856344","v":0},{"$f":"'[1]MedianGlobal,Percentis 5-95conv'!B856344","v":0}]
[{"$f":"'[1]MedianGlobal,Percentis 5-95conv'!A856859","v":0},{"$f":"'[1]MedianGlobal,Percentis 5-95conv'!B856859","v":0}]
[{"$f":"'[1]MedianGlobal,Percentis 5-95conv'!A857603","v":0},{"$f":"'[1]MedianGlobal,Percentis 5-95conv'!B857603","v":0}]
[{"$f":"'[1]MedianGlobal,Percentis 5-95conv'!A857824","v":0},{"$f":"'[1]MedianGlobal,Percentis 5-95conv'!B857824","v":0}]
[{"$f":"'[1]MedianGlobal,Percentis 5-95conv'!A858339","v":0},{"$f":"'[1]MedianGlobal,Percentis 5-95conv'!B858339","v":0}]
[{"$f":"'[1]MedianGlobal,Percentis 5-95conv'!A859083","v":0},{"$f":"'[1]MedianGlobal,Percentis 5-95conv'!B859083","v":0}]
[{"$f":"'[1]MedianGlobal,Percentis 5-95conv'!A859598","v":0},{"$f":"'[1]MedianGlobal,Percentis 5-95conv'!B859598","v":0}]
[{"$f":"'[1]MedianGlobal,Percentis 5-95conv'!A859819","v":0},{"$f":"'[1]MedianGlobal,Percentis 5-95conv'!B859819","v":0}]
[{"$f":"'[1]MedianGlobal,Percentis 5-95conv'!A860563","v":0},{"$f":"'[1]MedianGlobal,Percentis 5-95conv'!B860563","v":0}]
[{"$f":"'[1]MedianGlobal,Percentis 5-95conv'!A861078","v":0},{"$f":"'[1]MedianGlobal,Percentis 5-95conv'!B861078","v":0}]
[{"$f":"'[1]MedianGlobal,Percentis 5-95conv'!A861822","v":0},{"$f":"'[1]MedianGlobal,Percentis 5-95conv'!B861822","v":0}]
[{"$f":"'[1]MedianGlobal,Percentis 5-95conv'!A862043","v":0},{"$f":"'[1]MedianGlobal,Percentis 5-95conv'!B862043","v":0}]
[{"$f":"'[1]MedianGlobal,Percentis 5-95conv'!A862558","v":0},{"$f":"'[1]MedianGlobal,Percentis 5-95conv'!B862558","v":0}]
[{"$f":"'[1]MedianGlobal,Percentis 5-95conv'!A863302","v":0},{"$f":"'[1]MedianGlobal,Percentis 5-95conv'!B863302","v":0}]
[{"$f":"'[1]MedianGlobal,Percentis 5-95conv'!A863817","v":0},{"$f":"'[1]MedianGlobal,Percentis 5-95conv'!B863817","v":0}]
[{"$f":"'[1]MedianGlobal,Percentis 5-95conv'!A864038","v":0},{"$f":"'[1]MedianGlobal,Percentis 5-95conv'!B864038","v":0}]
[{"$f":"'[1]MedianGlobal,Percentis 5-95conv'!A864782","v":0},{"$f":"'[1]MedianGlobal,Percentis 5-95conv'!B864782","v":0}]
[{"$f":"'[1]MedianGlobal,Percentis 5-95conv'!A865297","v":0},{"$f":"'[1]MedianGlobal,Percentis 5-95conv'!B865297","v":0}]
[{"$f":"'[1]MedianGlobal,Percentis 5-95conv'!A866041","v":0},{"$f":"'[1]MedianGlobal,Percentis 5-95conv'!B866041","v":0}]
[{"$f":"'[1]MedianGlobal,Percentis 5-95conv'!A866556","v":0},{"$f":"'[1]MedianGlobal,Percentis 5-95conv'!B866556","v":0}]
[{"$f":"'[1]MedianGlobal,Percentis 5-95conv'!A866777","v":0},{"$f":"'[1]MedianGlobal,Percentis 5-95conv'!B866777","v":0}]
[{"$f":"'[1]MedianGlobal,Percentis 5-95conv'!A867521","v":0},{"$f":"'[1]MedianGlobal,Percentis 5-95conv'!B867521","v":0}]
[{"$f":"'[1]MedianGlobal,Percentis 5-95conv'!A868036","v":0},{"$f":"'[1]MedianGlobal,Percentis 5-95conv'!B868036","v":0}]
[{"$f":"'[1]MedianGlobal,Percentis 5-95conv'!A868257","v":0},{"$f":"'[1]MedianGlobal,Percentis 5-95conv'!B868257","v":0}]
[{"$f":"'[1]MedianGlobal,Percentis 5-95conv'!A868944","v":0},{"$f":"'[1]MedianGlobal,Percentis 5-95conv'!B868944","v":0}]
[{"$f":"'[1]MedianGlobal,Percentis 5-95conv'!A869517","v":0},{"$f":"'[1]MedianGlobal,Percentis 5-95conv'!B869517","v":0}]
[{"$f":"'[1]MedianGlobal,Percentis 5-95conv'!A869738","v":0},{"$f":"'[1]MedianGlobal,Percentis 5-95conv'!B869738","v":0}]
[{"$f":"'[1]MedianGlobal,Percentis 5-95conv'!A870253","v":0},{"$f":"'[1]MedianGlobal,Percentis 5-95conv'!B870253","v":0}]
[{"$f":"'[1]MedianGlobal,Percentis 5-95conv'!A870997","v":0},{"$f":"'[1]MedianGlobal,Percentis 5-95conv'!B870997","v":0}]
[{"$f":"'[1]MedianGlobal,Percentis 5-95conv'!A871741","v":0},{"$f":"'[1]MedianGlobal,Percentis 5-95conv'!B871741","v":0}]
[{"$f":"'[1]MedianGlobal,Percentis 5-95conv'!A872256","v":0},{"$f":"'[1]MedianGlobal,Percentis 5-95conv'!B872256","v":0}]
[{"$f":"'[1]MedianGlobal,Percentis 5-95conv'!A872477","v":0},{"$f":"'[1]MedianGlobal,Percentis 5-95conv'!B872477","v":0}]
[{"$f":"'[1]MedianGlobal,Percentis 5-95conv'!A873221","v":0},{"$f":"'[1]MedianGlobal,Percentis 5-95conv'!B873221","v":0}]
[{"$f":"'[1]MedianGlobal,Percentis 5-95conv'!A873736","v":0},{"$f":"'[1]MedianGlobal,Percentis 5-95conv'!B873736","v":0}]
[{"$f":"'[1]MedianGlobal,Percentis 5-95conv'!A873957","v":0},{"$f":"'[1]MedianGlobal,Percentis 5-95conv'!B873957","v":0}]
[{"$f":"'[1]MedianGlobal,Percentis 5-95conv'!A874472","v":0},{"$f":"'[1]MedianGlobal,Percentis 5-95conv'!B874472","v":0}]
[{"$f":"'[1]MedianGlobal,Percentis 5-95conv'!A875216","v":0},{"$f":"'[1]MedianGlobal,Percentis 5-95conv'!B875216","v":0}]
[{"$f":"'[1]MedianGlobal,Percentis 5-95conv'!A875960","v":0},{"$f":"'[1]MedianGlobal,Percentis 5-95conv'!B875960","v":0}]
[{"$f":"'[1]MedianGlobal,Percentis 5-95conv'!A876475","v":0},{"$f":"'[1]MedianGlobal,Percentis 5-95conv'!B876475","v":0}]
[{"$f":"'[1]MedianGlobal,Percentis 5-95conv'!A876696","v":0},{"$f":"'[1]MedianGlobal,Percentis 5-95conv'!B876696","v":0}]
[{"$f":"'[1]MedianGlobal,Percentis 5-95conv'!A877211","v":0},{"$f":"'[1]MedianGlobal,Percentis 5-95conv'!B877211","v":0}]
[{"$f":"'[1]MedianGlobal,Percentis 5-95conv'!A877955","v":0},{"$f":"'[1]MedianGlobal,Percentis 5-95conv'!B877955","v":0}]
[{"$f":"'[1]MedianGlobal,Percentis 5-95conv'!A878176","v":0},{"$f":"'[1]MedianGlobal,Percentis 5-95conv'!B878176","v":0}]
[{"$f":"'[1]MedianGlobal,Percentis 5-95conv'!A878691","v":0},{"$f":"'[1]MedianGlobal,Percentis 5-95conv'!B878691","v":0}]
[{"$f":"'[1]MedianGlobal,Percentis 5-95conv'!A879435","v":0},{"$f":"'[1]MedianGlobal,Percentis 5-95conv'!B879435","v":0}]
[{"$f":"'[1]MedianGlobal,Percentis 5-95conv'!A880179","v":0},{"$f":"'[1]MedianGlobal,Percentis 5-95conv'!B880179","v":0}]
[{"$f":"'[1]MedianGlobal,Percentis 5-95conv'!A880694","v":0},{"$f":"'[1]MedianGlobal,Percentis 5-95conv'!B880694","v":0}]
[{"$f":"'[1]MedianGlobal,Percentis 5-95conv'!A880915","v":0},{"$f":"'[1]MedianGlobal,Percentis 5-95conv'!B880915","v":0}]
[{"$f":"'[1]MedianGlobal,Percentis 5-95conv'!A881430","v":0},{"$f":"'[1]MedianGlobal,Percentis 5-95conv'!B881430","v":0}]
[{"$f":"'[1]MedianGlobal,Percentis 5-95conv'!A882174","v":0},{"$f":"'[1]MedianGlobal,Percentis 5-95conv'!B882174","v":0}]
[{"$f":"'[1]MedianGlobal,Percentis 5-95conv'!A882395","v":0},{"$f":"'[1]MedianGlobal,Percentis 5-95conv'!B882395","v":0}]
[{"$f":"'[1]MedianGlobal,Percentis 5-95conv'!A883149","v":0},{"$f":"'[1]MedianGlobal,Percentis 5-95conv'!B883149","v":0}]
[{"$f":"'[1]MedianGlobal,Percentis 5-95conv'!A883655","v":0},{"$f":"'[1]MedianGlobal,Percentis 5-95conv'!B883655","v":0}]
[{"$f":"'[1]MedianGlobal,Percentis 5-95conv'!A883876","v":0},{"$f":"'[1]MedianGlobal,Percentis 5-95conv'!B883876","v":0}]
[{"$f":"'[1]MedianGlobal,Percentis 5-95conv'!A884391","v":0},{"$f":"'[1]MedianGlobal,Percentis 5-95conv'!B884391","v":0}]
[{"$f":"'[1]MedianGlobal,Percentis 5-95conv'!A885135","v":0},{"$f":"'[1]MedianGlobal,Percentis 5-95conv'!B885135","v":0}]
[{"$f":"'[1]MedianGlobal,Percentis 5-95conv'!A885650","v":0},{"$f":"'[1]MedianGlobal,Percentis 5-95conv'!B885650","v":0}]
[{"$f":"'[1]MedianGlobal,Percentis 5-95conv'!A886394","v":0},{"$f":"'[1]MedianGlobal,Percentis 5-95conv'!B886394","v":0}]
[{"$f":"'[1]MedianGlobal,Percentis 5-95conv'!A886615","v":0},{"$f":"'[1]MedianGlobal,Percentis 5-95conv'!B886615","v":0}]
[{"$f":"'[1]MedianGlobal,Percentis 5-95conv'!A887130","v":0},{"$f":"'[1]MedianGlobal,Percentis 5-95conv'!B887130","v":0}]
[{"$f":"'[1]MedianGlobal,Percentis 5-95conv'!A887874","v":0},{"$f":"'[1]MedianGlobal,Percentis 5-95conv'!B887874","v":0}]
[{"$f":"'[1]MedianGlobal,Percentis 5-95conv'!A888389","v":0},{"$f":"'[1]MedianGlobal,Percentis 5-95conv'!B888389","v":0}]
[{"$f":"'[1]MedianGlobal,Percentis 5-95conv'!A888610","v":0},{"$f":"'[1]MedianGlobal,Percentis 5-95conv'!B888610","v":0}]
[{"$f":"'[1]MedianGlobal,Percentis 5-95conv'!A889354","v":0},{"$f":"'[1]MedianGlobal,Percentis 5-95conv'!B889354","v":0}]
[{"$f":"'[1]MedianGlobal,Percentis 5-95conv'!A889869","v":0},{"$f":"'[1]MedianGlobal,Percentis 5-95conv'!B889869","v":0}]
[{"$f":"'[1]MedianGlobal,Percentis 5-95conv'!A890613","v":0},{"$f":"'[1]MedianGlobal,Percentis 5-95conv'!B890613","v":0}]
[{"$f":"'[1]MedianGlobal,Percentis 5-95conv'!A890834","v":0},{"$f":"'[1]MedianGlobal,Percentis 5-95conv'!B890834","v":0}]
[{"$f":"'[1]MedianGlobal,Percentis 5-95conv'!A891349","v":0},{"$f":"'[1]MedianGlobal,Percentis 5-95conv'!B891349","v":0}]
[{"$f":"'[1]MedianGlobal,Percentis 5-95conv'!A892093","v":0},{"$f":"'[1]MedianGlobal,Percentis 5-95conv'!B892093","v":0}]
[{"$f":"'[1]MedianGlobal,Percentis 5-95conv'!A892608","v":0},{"$f":"'[1]MedianGlobal,Percentis 5-95conv'!B892608","v":0}]
[{"$f":"'[1]MedianGlobal,Percentis 5-95conv'!A892829","v":0},{"$f":"'[1]MedianGlobal,Percentis 5-95conv'!B892829","v":0}]
[{"$f":"'[1]MedianGlobal,Percentis 5-95conv'!A893573","v":0},{"$f":"'[1]MedianGlobal,Percentis 5-95conv'!B893573","v":0}]
[{"$f":"'[1]MedianGlobal,Percentis 5-95conv'!A894088","v":0},{"$f":"'[1]MedianGlobal,Percentis 5-95conv'!B894088","v":0}]
[{"$f":"'[1]MedianGlobal,Percentis 5-95conv'!A894309","v":0},{"$f":"'[1]MedianGlobal,Percentis 5-95conv'!B894309","v":0}]
[{"$f":"'[1]MedianGlobal,Percentis 5-95conv'!A895347","v":0},{"$f":"'[1]MedianGlobal,Percentis 5-95conv'!B895347","v":0}]
[{"$f":"'[1]MedianGlobal,Percentis 5-95conv'!A895568","v":0},{"$f":"'[1]MedianGlobal,Percentis 5-95conv'!B895568","v":0}]
[{"$f":"'[1]MedianGlobal,Percentis 5-95conv'!A896312","v":0},{"$f":"'[1]MedianGlobal,Percentis 5-95conv'!B896312","v":0}]
[{"$f":"'[1]MedianGlobal,Percentis 5-95conv'!A896778","v":0},{"$f":"'[1]MedianGlobal,Percentis 5-95conv'!B896778","v":0}]
[{"$f":"'[1]MedianGlobal,Percentis 5-95conv'!A897049","v":0},{"$f":"'[1]MedianGlobal,Percentis 5-95conv'!B897049","v":0}]
[{"$f":"'[1]MedianGlobal,Percentis 5-95conv'!A897793","v":0},{"$f":"'[1]MedianGlobal,Percentis 5-95conv'!B897793","v":0}]
[{"$f":"'[1]MedianGlobal,Percentis 5-95conv'!A898308","v":0},{"$f":"'[1]MedianGlobal,Percentis 5-95conv'!B898308","v":0}]
[{"$f":"'[1]MedianGlobal,Percentis 5-95conv'!A898529","v":0},{"$f":"'[1]MedianGlobal,Percentis 5-95conv'!B898529","v":0}]
[{"$f":"'[1]MedianGlobal,Percentis 5-95conv'!A899044","v":0},{"$f":"'[1]MedianGlobal,Percentis 5-95conv'!B899044","v":0}]
[{"$f":"'[1]MedianGlobal,Percentis 5-95conv'!A899788","v":0},{"$f":"'[1]MedianGlobal,Percentis 5-95conv'!B899788","v":0}]
[{"$f":"'[1]MedianGlobal,Percentis 5-95conv'!A900532","v":0},{"$f":"'[1]MedianGlobal,Percentis 5-95conv'!B900532","v":0}]
[{"$f":"'[1]MedianGlobal,Percentis 5-95conv'!A901047","v":0},{"$f":"'[1]MedianGlobal,Percentis 5-95conv'!B901047","v":0}]
[{"$f":"'[1]MedianGlobal,Percentis 5-95conv'!A901268","v":0},{"$f":"'[1]MedianGlobal,Percentis 5-95conv'!B901268","v":0}]
[{"$f":"'[1]MedianGlobal,Percentis 5-95conv'!A902012","v":0},{"$f":"'[1]MedianGlobal,Percentis 5-95conv'!B902012","v":0}]
[{"$f":"'[1]MedianGlobal,Percentis 5-95conv'!A902527","v":0},{"$f":"'[1]MedianGlobal,Percentis 5-95conv'!B902527","v":0}]
[{"$f":"'[1]MedianGlobal,Percentis 5-95conv'!A902748","v":0},{"$f":"'[1]MedianGlobal,Percentis 5-95conv'!B902748","v":0}]
[{"$f":"'[1]MedianGlobal,Percentis 5-95conv'!A903263","v":0},{"$f":"'[1]MedianGlobal,Percentis 5-95conv'!B903263","v":0}]
[{"$f":"'[1]MedianGlobal,Percentis 5-95conv'!A904007","v":0},{"$f":"'[1]MedianGlobal,Percentis 5-95conv'!B904007","v":0}]
[{"$f":"'[1]MedianGlobal,Percentis 5-95conv'!A904751","v":0},{"$f":"'[1]MedianGlobal,Percentis 5-95conv'!B904751","v":0}]
[{"$f":"'[1]MedianGlobal,Percentis 5-95conv'!A905266","v":0},{"$f":"'[1]MedianGlobal,Percentis 5-95conv'!B905266","v":0}]
[{"$f":"'[1]MedianGlobal,Percentis 5-95conv'!A905487","v":0},{"$f":"'[1]MedianGlobal,Percentis 5-95conv'!B905487","v":0}]
[{"$f":"'[1]MedianGlobal,Percentis 5-95conv'!A906002","v":0},{"$f":"'[1]MedianGlobal,Percentis 5-95conv'!B906002","v":0}]
[{"$f":"'[1]MedianGlobal,Percentis 5-95conv'!A906746","v":0},{"$f":"'[1]MedianGlobal,Percentis 5-95conv'!B906746","v":0}]
[{"$f":"'[1]MedianGlobal,Percentis 5-95conv'!A906967","v":0},{"$f":"'[1]MedianGlobal,Percentis 5-95conv'!B906967","v":0}]
[{"$f":"'[1]MedianGlobal,Percentis 5-95conv'!A907482","v":0},{"$f":"'[1]MedianGlobal,Percentis 5-95conv'!B907482","v":0}]
[{"$f":"'[1]MedianGlobal,Percentis 5-95conv'!A908226","v":0},{"$f":"'[1]MedianGlobal,Percentis 5-95conv'!B908226","v":0}]
[{"$f":"'[1]MedianGlobal,Percentis 5-95conv'!A908447","v":0},{"$f":"'[1]MedianGlobal,Percentis 5-95conv'!B908447","v":0}]
[{"$f":"'[1]MedianGlobal,Percentis 5-95conv'!A908962","v":0},{"$f":"'[1]MedianGlobal,Percentis 5-95conv'!B908962","v":0}]
[{"$f":"'[1]MedianGlobal,Percentis 5-95conv'!A909706","v":0},{"$f":"'[1]MedianGlobal,Percentis 5-95conv'!B909706","v":0}]
[{"$f":"'[1]MedianGlobal,Percentis 5-95conv'!A910407","v":0},{"$f":"'[1]MedianGlobal,Percentis 5-95conv'!B910407","v":0}]
[{"$f":"'[1]MedianGlobal,Percentis 5-95conv'!A910966","v":0},{"$f":"'[1]MedianGlobal,Percentis 5-95conv'!B910966","v":0}]
[{"$f":"'[1]MedianGlobal,Percentis 5-95conv'!A911187","v":0},{"$f":"'[1]MedianGlobal,Percentis 5-95conv'!B911187","v":0}]
[{"$f":"'[1]MedianGlobal,Percentis 5-95conv'!A911702","v":0},{"$f":"'[1]MedianGlobal,Percentis 5-95conv'!B911702","v":0}]
[{"$f":"'[1]MedianGlobal,Percentis 5-95conv'!A912446","v":0},{"$f":"'[1]MedianGlobal,Percentis 5-95conv'!B912446","v":0}]
[{"$f":"'[1]MedianGlobal,Percentis 5-95conv'!A912961","v":0},{"$f":"'[1]MedianGlobal,Percentis 5-95conv'!B912961","v":0}]
[{"$f":"'[1]MedianGlobal,Percentis 5-95conv'!A913182","v":0},{"$f":"'[1]MedianGlobal,Percentis 5-95conv'!B913182","v":0}]
[{"$f":"'[1]MedianGlobal,Percentis 5-95conv'!A913926","v":0},{"$f":"'[1]MedianGlobal,Percentis 5-95conv'!B913926","v":0}]
[{"$f":"'[1]MedianGlobal,Percentis 5-95conv'!A914441","v":0},{"$f":"'[1]MedianGlobal,Percentis 5-95conv'!B914441","v":0}]
[{"$f":"'[1]MedianGlobal,Percentis 5-95conv'!A915185","v":0},{"$f":"'[1]MedianGlobal,Percentis 5-95conv'!B915185","v":0}]
[{"$f":"'[1]MedianGlobal,Percentis 5-95conv'!A915406","v":0},{"$f":"'[1]MedianGlobal,Percentis 5-95conv'!B915406","v":0}]
[{"$f":"'[1]MedianGlobal,Percentis 5-95conv'!A915921","v":0},{"$f":"'[1]MedianGlobal,Percentis 5-95conv'!B915921","v":0}]
[{"$f":"'[1]MedianGlobal,Percentis 5-95conv'!A916665","v":0},{"$f":"'[1]MedianGlobal,Percentis 5-95conv'!B916665","v":0}]
[{"$f":"'[1]MedianGlobal,Percentis 5-95conv'!A917180","v":0},{"$f":"'[1]MedianGlobal,Percentis 5-95conv'!B917180","v":0}]
[{"$f":"'[1]MedianGlobal,Percentis 5-95conv'!A917401","v":0},{"$f":"'[1]MedianGlobal,Percentis 5-95conv'!B917401","v":0}]
[{"$f":"'[1]MedianGlobal,Percentis 5-95conv'!A918145","v":0},{"$f":"'[1]MedianGlobal,Percentis 5-95conv'!B918145","v":0}]
[{"$f":"'[1]MedianGlobal,Percentis 5-95conv'!A918660","v":0},{"$f":"'[1]MedianGlobal,Percentis 5-95conv'!B918660","v":0}]
[{"$f":"'[1]MedianGlobal,Percentis 5-95conv'!A919404","v":0},{"$f":"'[1]MedianGlobal,Percentis 5-95conv'!B919404","v":0}]
[{"$f":"'[1]MedianGlobal,Percentis 5-95conv'!A919625","v":0},{"$f":"'[1]MedianGlobal,Percentis 5-95conv'!B919625","v":0}]
[{"$f":"'[1]MedianGlobal,Percentis 5-95conv'!A920140","v":0},{"$f":"'[1]MedianGlobal,Percentis 5-95conv'!B920140","v":0}]
[{"$f":"'[1]MedianGlobal,Percentis 5-95conv'!A920884","v":0},{"$f":"'[1]MedianGlobal,Percentis 5-95conv'!B920884","v":0}]
[{"$f":"'[1]MedianGlobal,Percentis 5-95conv'!A921399","v":0},{"$f":"'[1]MedianGlobal,Percentis 5-95conv'!B921399","v":0}]
[{"$f":"'[1]MedianGlobal,Percentis 5-95conv'!A921620","v":0},{"$f":"'[1]MedianGlobal,Percentis 5-95conv'!B921620","v":0}]
[{"$f":"'[1]MedianGlobal,Percentis 5-95conv'!A922364","v":0},{"$f":"'[1]MedianGlobal,Percentis 5-95conv'!B922364","v":0}]
[{"$f":"'[1]MedianGlobal,Percentis 5-95conv'!A922879","v":0},{"$f":"'[1]MedianGlobal,Percentis 5-95conv'!B922879","v":0}]
[{"$f":"'[1]MedianGlobal,Percentis 5-95conv'!A923100","v":0},{"$f":"'[1]MedianGlobal,Percentis 5-95conv'!B923100","v":0}]
[{"$f":"'[1]MedianGlobal,Percentis 5-95conv'!A923615","v":0},{"$f":"'[1]MedianGlobal,Percentis 5-95conv'!B923615","v":0}]
[{"$f":"'[1]MedianGlobal,Percentis 5-95conv'!A924364","v":0},{"$f":"'[1]MedianGlobal,Percentis 5-95conv'!B924364","v":0}]
[{"$f":"'[1]MedianGlobal,Percentis 5-95conv'!A925104","v":0},{"$f":"'[1]MedianGlobal,Percentis 5-95conv'!B925104","v":0}]
[{"$f":"'[1]MedianGlobal,Percentis 5-95conv'!A925619","v":0},{"$f":"'[1]MedianGlobal,Percentis 5-95conv'!B925619","v":0}]
[{"$f":"'[1]MedianGlobal,Percentis 5-95conv'!A925840","v":0},{"$f":"'[1]MedianGlobal,Percentis 5-95conv'!B925840","v":0}]
[{"$f":"'[1]MedianGlobal,Percentis 5-95conv'!A926584","v":0},{"$f":"'[1]MedianGlobal,Percentis 5-95conv'!B926584","v":0}]
[{"$f":"'[1]MedianGlobal,Percentis 5-95conv'!A927099","v":0},{"$f":"'[1]MedianGlobal,Percentis 5-95conv'!B927099","v":0}]
[{"$f":"'[1]MedianGlobal,Percentis 5-95conv'!A927320","v":0},{"$f":"'[1]MedianGlobal,Percentis 5-95conv'!B927320","v":0}]
[{"$f":"'[1]MedianGlobal,Percentis 5-95conv'!A927835","v":0},{"$f":"'[1]MedianGlobal,Percentis 5-95conv'!B927835","v":0}]
[{"$f":"'[1]MedianGlobal,Percentis 5-95conv'!A928579","v":0},{"$f":"'[1]MedianGlobal,Percentis 5-95conv'!B928579","v":0}]
[{"$f":"'[1]MedianGlobal,Percentis 5-95conv'!A929323","v":0},{"$f":"'[1]MedianGlobal,Percentis 5-95conv'!B929323","v":0}]
[{"$f":"'[1]MedianGlobal,Percentis 5-95conv'!A929838","v":0},{"$f":"'[1]MedianGlobal,Percentis 5-95conv'!B929838","v":0}]
[{"$f":"'[1]MedianGlobal,Percentis 5-95conv'!A930059","v":0},{"$f":"'[1]MedianGlobal,Percentis 5-95conv'!B930059","v":0}]
[{"$f":"'[1]MedianGlobal,Percentis 5-95conv'!A930803","v":0},{"$f":"'[1]MedianGlobal,Percentis 5-95conv'!B930803","v":0}]
[{"$f":"'[1]MedianGlobal,Percentis 5-95conv'!A931318","v":0},{"$f":"'[1]MedianGlobal,Percentis 5-95conv'!B931318","v":0}]
[{"$f":"'[1]MedianGlobal,Percentis 5-95conv'!A931539","v":0},{"$f":"'[1]MedianGlobal,Percentis 5-95conv'!B931539","v":0}]
[{"$f":"'[1]MedianGlobal,Percentis 5-95conv'!A932054","v":0},{"$f":"'[1]MedianGlobal,Percentis 5-95conv'!B932054","v":0}]
[{"$f":"'[1]MedianGlobal,Percentis 5-95conv'!A932798","v":0},{"$f":"'[1]MedianGlobal,Percentis 5-95conv'!B932798","v":0}]
[{"$f":"'[1]MedianGlobal,Percentis 5-95conv'!A933019","v":0},{"$f":"'[1]MedianGlobal,Percentis 5-95conv'!B933019","v":0}]
[{"$f":"'[1]MedianGlobal,Percentis 5-95conv'!A933534","v":0},{"$f":"'[1]MedianGlobal,Percentis 5-95conv'!B933534","v":0}]
[{"$f":"'[1]MedianGlobal,Percentis 5-95conv'!A934278","v":0},{"$f":"'[1]MedianGlobal,Percentis 5-95conv'!B934278","v":0}]
[{"$f":"'[1]MedianGlobal,Percentis 5-95conv'!A934793","v":0},{"$f":"'[1]MedianGlobal,Percentis 5-95conv'!B934793","v":0}]
[{"$f":"'[1]MedianGlobal,Percentis 5-95conv'!A935537","v":0},{"$f":"'[1]MedianGlobal,Percentis 5-95conv'!B935537","v":0}]
[{"$f":"'[1]MedianGlobal,Percentis 5-95conv'!A935758","v":0},{"$f":"'[1]MedianGlobal,Percentis 5-95conv'!B935758","v":0}]
[{"$f":"'[1]MedianGlobal,Percentis 5-95conv'!A936273","v":0},{"$f":"'[1]MedianGlobal,Percentis 5-95conv'!B936273","v":0}]
[{"$f":"'[1]MedianGlobal,Percentis 5-95conv'!A937017","v":0},{"$f":"'[1]MedianGlobal,Percentis 5-95conv'!B937017","v":0}]
[{"$f":"'[1]MedianGlobal,Percentis 5-95conv'!A937238","v":0},{"$f":"'[1]MedianGlobal,Percentis 5-95conv'!B937238","v":0}]
[{"$f":"'[1]MedianGlobal,Percentis 5-95conv'!A937993","v":0},{"$f":"'[1]MedianGlobal,Percentis 5-95conv'!B937993","v":0}]
[{"$f":"'[1]MedianGlobal,Percentis 5-95conv'!A938498","v":0},{"$f":"'[1]MedianGlobal,Percentis 5-95conv'!B938498","v":0}]
[{"$f":"'[1]MedianGlobal,Percentis 5-95conv'!A939013","v":0},{"$f":"'[1]MedianGlobal,Percentis 5-95conv'!B939013","v":0}]
[{"$f":"'[1]MedianGlobal,Percentis 5-95conv'!A939757","v":0},{"$f":"'[1]MedianGlobal,Percentis 5-95conv'!B939757","v":0}]
[{"$f":"'[1]MedianGlobal,Percentis 5-95conv'!A939978","v":0},{"$f":"'[1]MedianGlobal,Percentis 5-95conv'!B939978","v":0}]
[{"$f":"'[1]MedianGlobal,Percentis 5-95conv'!A940493","v":0},{"$f":"'[1]MedianGlobal,Percentis 5-95conv'!B940493","v":0}]
[{"$f":"'[1]MedianGlobal,Percentis 5-95conv'!A941237","v":0},{"$f":"'[1]MedianGlobal,Percentis 5-95conv'!B941237","v":0}]
[{"$f":"'[1]MedianGlobal,Percentis 5-95conv'!A941752","v":0},{"$f":"'[1]MedianGlobal,Percentis 5-95conv'!B941752","v":0}]
[{"$f":"'[1]MedianGlobal,Percentis 5-95conv'!A941973","v":0},{"$f":"'[1]MedianGlobal,Percentis 5-95conv'!B941973","v":0}]
[{"$f":"'[1]MedianGlobal,Percentis 5-95conv'!A942717","v":0},{"$f":"'[1]MedianGlobal,Percentis 5-95conv'!B942717","v":0}]
[{"$f":"'[1]MedianGlobal,Percentis 5-95conv'!A943232","v":0},{"$f":"'[1]MedianGlobal,Percentis 5-95conv'!B943232","v":0}]
[{"$f":"'[1]MedianGlobal,Percentis 5-95conv'!A943976","v":0},{"$f":"'[1]MedianGlobal,Percentis 5-95conv'!B943976","v":0}]
[{"$f":"'[1]MedianGlobal,Percentis 5-95conv'!A944197","v":0},{"$f":"'[1]MedianGlobal,Percentis 5-95conv'!B944197","v":0}]
[{"$f":"'[1]MedianGlobal,Percentis 5-95conv'!A944712","v":0},{"$f":"'[1]MedianGlobal,Percentis 5-95conv'!B944712","v":0}]
[{"$f":"'[1]MedianGlobal,Percentis 5-95conv'!A945456","v":0},{"$f":"'[1]MedianGlobal,Percentis 5-95conv'!B945456","v":0}]
[{"$f":"'[1]MedianGlobal,Percentis 5-95conv'!A945971","v":0},{"$f":"'[1]MedianGlobal,Percentis 5-95conv'!B945971","v":0}]
[{"$f":"'[1]MedianGlobal,Percentis 5-95conv'!A946192","v":0},{"$f":"'[1]MedianGlobal,Percentis 5-95conv'!B946192","v":0}]
[{"$f":"'[1]MedianGlobal,Percentis 5-95conv'!A946936","v":0},{"$f":"'[1]MedianGlobal,Percentis 5-95conv'!B946936","v":0}]
[{"$f":"'[1]MedianGlobal,Percentis 5-95conv'!A947451","v":0},{"$f":"'[1]MedianGlobal,Percentis 5-95conv'!B947451","v":0}]
[{"$f":"'[1]MedianGlobal,Percentis 5-95conv'!A947672","v":0},{"$f":"'[1]MedianGlobal,Percentis 5-95conv'!B947672","v":0}]
[{"$f":"'[1]MedianGlobal,Percentis 5-95conv'!A948416","v":0},{"$f":"'[1]MedianGlobal,Percentis 5-95conv'!B948416","v":0}]
[{"$f":"'[1]MedianGlobal,Percentis 5-95conv'!A948931","v":0},{"$f":"'[1]MedianGlobal,Percentis 5-95conv'!B948931","v":0}]
[{"$f":"'[1]MedianGlobal,Percentis 5-95conv'!A949675","v":0},{"$f":"'[1]MedianGlobal,Percentis 5-95conv'!B949675","v":0}]
[{"$f":"'[1]MedianGlobal,Percentis 5-95conv'!A950190","v":0},{"$f":"'[1]MedianGlobal,Percentis 5-95conv'!B950190","v":0}]
[{"$f":"'[1]MedianGlobal,Percentis 5-95conv'!A950411","v":0},{"$f":"'[1]MedianGlobal,Percentis 5-95conv'!B950411","v":0}]
[{"$f":"'[1]MedianGlobal,Percentis 5-95conv'!A951155","v":0},{"$f":"'[1]MedianGlobal,Percentis 5-95conv'!B951155","v":0}]
[{"$f":"'[1]MedianGlobal,Percentis 5-95conv'!A951622","v":0},{"$f":"'[1]MedianGlobal,Percentis 5-95conv'!B951622","v":0}]
[{"$f":"'[1]MedianGlobal,Percentis 5-95conv'!A951892","v":0},{"$f":"'[1]MedianGlobal,Percentis 5-95conv'!B951892","v":0}]
[{"$f":"'[1]MedianGlobal,Percentis 5-95conv'!A952407","v":0},{"$f":"'[1]MedianGlobal,Percentis 5-95conv'!B952407","v":0}]
[{"$f":"'[1]MedianGlobal,Percentis 5-95conv'!A953151","v":0},{"$f":"'[1]MedianGlobal,Percentis 5-95conv'!B953151","v":0}]
[{"$f":"'[1]MedianGlobal,Percentis 5-95conv'!A953895","v":0},{"$f":"'[1]MedianGlobal,Percentis 5-95conv'!B953895","v":0}]
[{"$f":"'[1]MedianGlobal,Percentis 5-95conv'!A954410","v":0},{"$f":"'[1]MedianGlobal,Percentis 5-95conv'!B954410","v":0}]
[{"$f":"'[1]MedianGlobal,Percentis 5-95conv'!A954631","v":0},{"$f":"'[1]MedianGlobal,Percentis 5-95conv'!B954631","v":0}]
[{"$f":"'[1]MedianGlobal,Percentis 5-95conv'!A955375","v":0},{"$f":"'[1]MedianGlobal,Percentis 5-95conv'!B955375","v":0}]
[{"$f":"'[1]MedianGlobal,Percentis 5-95conv'!A955890","v":0},{"$f":"'[1]MedianGlobal,Percentis 5-95conv'!B955890","v":0}]
[{"$f":"'[1]MedianGlobal,Percentis 5-95conv'!A956111","v":0},{"$f":"'[1]MedianGlobal,Percentis 5-95conv'!B956111","v":0}]
[{"$f":"'[1]MedianGlobal,Percentis 5-95conv'!A956626","v":0},{"$f":"'[1]MedianGlobal,Percentis 5-95conv'!B956626","v":0}]
[{"$f":"'[1]MedianGlobal,Percentis 5-95conv'!A957370","v":0},{"$f":"'[1]MedianGlobal,Percentis 5-95conv'!B957370","v":0}]
[{"$f":"'[1]MedianGlobal,Percentis 5-95conv'!A957591","v":0},{"$f":"'[1]MedianGlobal,Percentis 5-95conv'!B957591","v":0}]
[{"$f":"'[1]MedianGlobal,Percentis 5-95conv'!A958629","v":0},{"$f":"'[1]MedianGlobal,Percentis 5-95conv'!B958629","v":0}]
[{"$f":"'[1]MedianGlobal,Percentis 5-95conv'!A958850","v":0},{"$f":"'[1]MedianGlobal,Percentis 5-95conv'!B958850","v":0}]
[{"$f":"'[1]MedianGlobal,Percentis 5-95conv'!A959594","v":0},{"$f":"'[1]MedianGlobal,Percentis 5-95conv'!B959594","v":0}]
[{"$f":"'[1]MedianGlobal,Percentis 5-95conv'!A960109","v":0},{"$f":"'[1]MedianGlobal,Percentis 5-95conv'!B960109","v":0}]
[{"$f":"'[1]MedianGlobal,Percentis 5-95conv'!A960330","v":0},{"$f":"'[1]MedianGlobal,Percentis 5-95conv'!B960330","v":0}]
[{"$f":"'[1]MedianGlobal,Percentis 5-95conv'!A960845","v":0},{"$f":"'[1]MedianGlobal,Percentis 5-95conv'!B960845","v":0}]
[{"$f":"'[1]MedianGlobal,Percentis 5-95conv'!A961589","v":0},{"$f":"'[1]MedianGlobal,Percentis 5-95conv'!B961589","v":0}]
[{"$f":"'[1]MedianGlobal,Percentis 5-95conv'!A961810","v":0},{"$f":"'[1]MedianGlobal,Percentis 5-95conv'!B961810","v":0}]
[{"$f":"'[1]MedianGlobal,Percentis 5-95conv'!A962325","v":0},{"$f":"'[1]MedianGlobal,Percentis 5-95conv'!B962325","v":0}]
[{"$f":"'[1]MedianGlobal,Percentis 5-95conv'!A963069","v":0},{"$f":"'[1]MedianGlobal,Percentis 5-95conv'!B963069","v":0}]
[{"$f":"'[1]MedianGlobal,Percentis 5-95conv'!A963584","v":0},{"$f":"'[1]MedianGlobal,Percentis 5-95conv'!B963584","v":0}]
[{"$f":"'[1]MedianGlobal,Percentis 5-95conv'!A964328","v":0},{"$f":"'[1]MedianGlobal,Percentis 5-95conv'!B964328","v":0}]
[{"$f":"'[1]MedianGlobal,Percentis 5-95conv'!A964549","v":0},{"$f":"'[1]MedianGlobal,Percentis 5-95conv'!B964549","v":0}]
[{"$f":"'[1]MedianGlobal,Percentis 5-95conv'!A965064","v":0},{"$f":"'[1]MedianGlobal,Percentis 5-95conv'!B965064","v":0}]
[{"$f":"'[1]MedianGlobal,Percentis 5-95conv'!A965579","v":0},{"$f":"'[1]MedianGlobal,Percentis 5-95conv'!B965579","v":0}]
[{"$f":"'[1]MedianGlobal,Percentis 5-95conv'!A966030","v":0},{"$f":"'[1]MedianGlobal,Percentis 5-95conv'!B966030","v":0}]
[{"$f":"'[1]MedianGlobal,Percentis 5-95conv'!A966545","v":0},{"$f":"'[1]MedianGlobal,Percentis 5-95conv'!B966545","v":0}]
[{"$f":"'[1]MedianGlobal,Percentis 5-95conv'!A967289","v":0},{"$f":"'[1]MedianGlobal,Percentis 5-95conv'!B967289","v":0}]
[{"$f":"'[1]MedianGlobal,Percentis 5-95conv'!A967804","v":0},{"$f":"'[1]MedianGlobal,Percentis 5-95conv'!B967804","v":0}]
[{"$f":"'[1]MedianGlobal,Percentis 5-95conv'!A968548","v":0},{"$f":"'[1]MedianGlobal,Percentis 5-95conv'!B968548","v":0}]
[{"$f":"'[1]MedianGlobal,Percentis 5-95conv'!A968769","v":0},{"$f":"'[1]MedianGlobal,Percentis 5-95conv'!B968769","v":0}]
[{"$f":"'[1]MedianGlobal,Percentis 5-95conv'!A969284","v":0},{"$f":"'[1]MedianGlobal,Percentis 5-95conv'!B969284","v":0}]
[{"$f":"'[1]MedianGlobal,Percentis 5-95conv'!A970028","v":0},{"$f":"'[1]MedianGlobal,Percentis 5-95conv'!B970028","v":0}]
[{"$f":"'[1]MedianGlobal,Percentis 5-95conv'!A970543","v":0},{"$f":"'[1]MedianGlobal,Percentis 5-95conv'!B970543","v":0}]
[{"$f":"'[1]MedianGlobal,Percentis 5-95conv'!A970764","v":0},{"$f":"'[1]MedianGlobal,Percentis 5-95conv'!B970764","v":0}]
[{"$f":"'[1]MedianGlobal,Percentis 5-95conv'!A971508","v":0},{"$f":"'[1]MedianGlobal,Percentis 5-95conv'!B971508","v":0}]
[{"$f":"'[1]MedianGlobal,Percentis 5-95conv'!A972023","v":0},{"$f":"'[1]MedianGlobal,Percentis 5-95conv'!B972023","v":0}]
[{"$f":"'[1]MedianGlobal,Percentis 5-95conv'!A972244","v":0},{"$f":"'[1]MedianGlobal,Percentis 5-95conv'!B972244","v":0}]
[{"$f":"'[1]MedianGlobal,Percentis 5-95conv'!A972988","v":0},{"$f":"'[1]MedianGlobal,Percentis 5-95conv'!B972988","v":0}]
[{"$f":"'[1]MedianGlobal,Percentis 5-95conv'!A973503","v":0},{"$f":"'[1]MedianGlobal,Percentis 5-95conv'!B973503","v":0}]
[{"$f":"'[1]MedianGlobal,Percentis 5-95conv'!A974247","v":0},{"$f":"'[1]MedianGlobal,Percentis 5-95conv'!B974247","v":0}]
[{"$f":"'[1]MedianGlobal,Percentis 5-95conv'!A974762","v":0},{"$f":"'[1]MedianGlobal,Percentis 5-95conv'!B974762","v":0}]
[{"$f":"'[1]MedianGlobal,Percentis 5-95conv'!A974983","v":0},{"$f":"'[1]MedianGlobal,Percentis 5-95conv'!B974983","v":0}]
[{"$f":"'[1]MedianGlobal,Percentis 5-95conv'!A975727","v":0},{"$f":"'[1]MedianGlobal,Percentis 5-95conv'!B975727","v":0}]
[{"$f":"'[1]MedianGlobal,Percentis 5-95conv'!A976242","v":0},{"$f":"'[1]MedianGlobal,Percentis 5-95conv'!B976242","v":0}]
[{"$f":"'[1]MedianGlobal,Percentis 5-95conv'!A976463","v":0},{"$f":"'[1]MedianGlobal,Percentis 5-95conv'!B976463","v":0}]
[{"$f":"'[1]MedianGlobal,Percentis 5-95conv'!A977207","v":0},{"$f":"'[1]MedianGlobal,Percentis 5-95conv'!B977207","v":0}]
[{"$f":"'[1]MedianGlobal,Percentis 5-95conv'!A977722","v":0},{"$f":"'[1]MedianGlobal,Percentis 5-95conv'!B977722","v":0}]
[{"$f":"'[1]MedianGlobal,Percentis 5-95conv'!A978466","v":0},{"$f":"'[1]MedianGlobal,Percentis 5-95conv'!B978466","v":0}]
[{"$f":"'[1]MedianGlobal,Percentis 5-95conv'!A978981","v":0},{"$f":"'[1]MedianGlobal,Percentis 5-95conv'!B978981","v":0}]
[{"$f":"'[1]MedianGlobal,Percentis 5-95conv'!A979208","v":0},{"$f":"'[1]MedianGlobal,Percentis 5-95conv'!B979208","v":0}]
[{"$f":"'[1]MedianGlobal,Percentis 5-95conv'!A979947","v":0},{"$f":"'[1]MedianGlobal,Percentis 5-95conv'!B979947","v":0}]
[{"$f":"'[1]MedianGlobal,Percentis 5-95conv'!A980462","v":0},{"$f":"'[1]MedianGlobal,Percentis 5-95conv'!B980462","v":0}]
[{"$f":"'[1]MedianGlobal,Percentis 5-95conv'!A980683","v":0},{"$f":"'[1]MedianGlobal,Percentis 5-95conv'!B980683","v":0}]
[{"$f":"'[1]MedianGlobal,Percentis 5-95conv'!A981198","v":0},{"$f":"'[1]MedianGlobal,Percentis 5-95conv'!B981198","v":0}]
[{"$f":"'[1]MedianGlobal,Percentis 5-95conv'!A981942","v":0},{"$f":"'[1]MedianGlobal,Percentis 5-95conv'!B981942","v":0}]
[{"$f":"'[1]MedianGlobal,Percentis 5-95conv'!A982686","v":0},{"$f":"'[1]MedianGlobal,Percentis 5-95conv'!B982686","v":0}]
[{"$f":"'[1]MedianGlobal,Percentis 5-95conv'!A983201","v":0},{"$f":"'[1]MedianGlobal,Percentis 5-95conv'!B983201","v":0}]
[{"$f":"'[1]MedianGlobal,Percentis 5-95conv'!A983422","v":0},{"$f":"'[1]MedianGlobal,Percentis 5-95conv'!B983422","v":0}]
[{"$f":"'[1]MedianGlobal,Percentis 5-95conv'!A984166","v":0},{"$f":"'[1]MedianGlobal,Percentis 5-95conv'!B984166","v":0}]
[{"$f":"'[1]MedianGlobal,Percentis 5-95conv'!A984681","v":0},{"$f":"'[1]MedianGlobal,Percentis 5-95conv'!B984681","v":0}]
[{"$f":"'[1]MedianGlobal,Percentis 5-95conv'!A984902","v":0},{"$f":"'[1]MedianGlobal,Percentis 5-95conv'!B984902","v":0}]
[{"$f":"'[1]MedianGlobal,Percentis 5-95conv'!A985417","v":0},{"$f":"'[1]MedianGlobal,Percentis 5-95conv'!B985417","v":0}]
[{"$f":"'[1]MedianGlobal,Percentis 5-95conv'!A986161","v":0},{"$f":"'[1]MedianGlobal,Percentis 5-95conv'!B986161","v":0}]
[{"$f":"'[1]MedianGlobal,Percentis 5-95conv'!A986382","v":0},{"$f":"'[1]MedianGlobal,Percentis 5-95conv'!B986382","v":0}]
[{"$f":"'[1]MedianGlobal,Percentis 5-95conv'!A986897","v":0},{"$f":"'[1]MedianGlobal,Percentis 5-95conv'!B986897","v":0}]
[{"$f":"'[1]MedianGlobal,Percentis 5-95conv'!A987641","v":0},{"$f":"'[1]MedianGlobal,Percentis 5-95conv'!B987641","v":0}]
[{"$f":"'[1]MedianGlobal,Percentis 5-95conv'!A988156","v":0},{"$f":"'[1]MedianGlobal,Percentis 5-95conv'!B988156","v":0}]
[{"$f":"'[1]MedianGlobal,Percentis 5-95conv'!A988900","v":0},{"$f":"'[1]MedianGlobal,Percentis 5-95conv'!B988900","v":0}]
[{"$f":"'[1]MedianGlobal,Percentis 5-95conv'!A989121","v":0},{"$f":"'[1]MedianGlobal,Percentis 5-95conv'!B989121","v":0}]
[{"$f":"'[1]MedianGlobal,Percentis 5-95conv'!A989636","v":0},{"$f":"'[1]MedianGlobal,Percentis 5-95conv'!B989636","v":0}]
[{"$f":"'[1]MedianGlobal,Percentis 5-95conv'!A990380","v":0},{"$f":"'[1]MedianGlobal,Percentis 5-95conv'!B990380","v":0}]
[{"$f":"'[1]MedianGlobal,Percentis 5-95conv'!A990601","v":0},{"$f":"'[1]MedianGlobal,Percentis 5-95conv'!B990601","v":0}]
[{"$f":"'[1]MedianGlobal,Percentis 5-95conv'!A991116","v":0},{"$f":"'[1]MedianGlobal,Percentis 5-95conv'!B991116","v":0}]
[{"$f":"'[1]MedianGlobal,Percentis 5-95conv'!A991860","v":0},{"$f":"'[1]MedianGlobal,Percentis 5-95conv'!B991860","v":0}]
[{"$f":"'[1]MedianGlobal,Percentis 5-95conv'!A992375","v":0},{"$f":"'[1]MedianGlobal,Percentis 5-95conv'!B992375","v":0}]
[{"$f":"'[1]MedianGlobal,Percentis 5-95conv'!A992837","v":0},{"$f":"'[1]MedianGlobal,Percentis 5-95conv'!B992837","v":0}]
[{"$f":"'[1]MedianGlobal,Percentis 5-95conv'!A993341","v":0},{"$f":"'[1]MedianGlobal,Percentis 5-95conv'!B993341","v":0}]
[{"$f":"'[1]MedianGlobal,Percentis 5-95conv'!A993856","v":0},{"$f":"'[1]MedianGlobal,Percentis 5-95conv'!B993856","v":0}]
[{"$f":"'[1]MedianGlobal,Percentis 5-95conv'!A994600","v":0},{"$f":"'[1]MedianGlobal,Percentis 5-95conv'!B994600","v":0}]
[{"$f":"'[1]MedianGlobal,Percentis 5-95conv'!A994821","v":0},{"$f":"'[1]MedianGlobal,Percentis 5-95conv'!B994821","v":0}]
[{"$f":"'[1]MedianGlobal,Percentis 5-95conv'!A995336","v":0},{"$f":"'[1]MedianGlobal,Percentis 5-95conv'!B995336","v":0}]
[{"$f":"'[1]MedianGlobal,Percentis 5-95conv'!A996080","v":0},{"$f":"'[1]MedianGlobal,Percentis 5-95conv'!B996080","v":0}]
[{"$f":"'[1]MedianGlobal,Percentis 5-95conv'!A996595","v":0},{"$f":"'[1]MedianGlobal,Percentis 5-95conv'!B996595","v":0}]
[{"$f":"'[1]MedianGlobal,Percentis 5-95conv'!A997339","v":0},{"$f":"'[1]MedianGlobal,Percentis 5-95conv'!B997339","v":0}]
[{"$f":"'[1]MedianGlobal,Percentis 5-95conv'!A997560","v":0},{"$f":"'[1]MedianGlobal,Percentis 5-95conv'!B997560","v":0}]
[{"$f":"'[1]MedianGlobal,Percentis 5-95conv'!A998075","v":0},{"$f":"'[1]MedianGlobal,Percentis 5-95conv'!B998075","v":0}]
[{"$f":"'[1]MedianGlobal,Percentis 5-95conv'!A998819","v":0},{"$f":"'[1]MedianGlobal,Percentis 5-95conv'!B998819","v":0}]
[{"$f":"'[1]MedianGlobal,Percentis 5-95conv'!A999334","v":0},{"$f":"'[1]MedianGlobal,Percentis 5-95conv'!B999334","v":0}]
[{"$f":"'[1]MedianGlobal,Percentis 5-95conv'!A999555","v":0},{"$f":"'[1]MedianGlobal,Percentis 5-95conv'!B999555","v":0}]
[{"$f":"'[1]MedianGlobal,Percentis 5-95conv'!A1000299","v":0},{"$f":"'[1]MedianGlobal,Percentis 5-95conv'!B1000299","v":0}]
[{"$f":"'[1]MedianGlobal,Percentis 5-95conv'!A1000814","v":0},{"$f":"'[1]MedianGlobal,Percentis 5-95conv'!B1000814","v":0}]
[{"$f":"'[1]MedianGlobal,Percentis 5-95conv'!A1001035","v":0},{"$f":"'[1]MedianGlobal,Percentis 5-95conv'!B1001035","v":0}]
[{"$f":"'[1]MedianGlobal,Percentis 5-95conv'!A1001779","v":0},{"$f":"'[1]MedianGlobal,Percentis 5-95conv'!B1001779","v":0}]
[{"$f":"'[1]MedianGlobal,Percentis 5-95conv'!A1002294","v":0},{"$f":"'[1]MedianGlobal,Percentis 5-95conv'!B1002294","v":0}]
[{"$f":"'[1]MedianGlobal,Percentis 5-95conv'!A1003038","v":0},{"$f":"'[1]MedianGlobal,Percentis 5-95conv'!B1003038","v":0}]
[{"$f":"'[1]MedianGlobal,Percentis 5-95conv'!A1003553","v":0},{"$f":"'[1]MedianGlobal,Percentis 5-95conv'!B1003553","v":0}]
[{"$f":"'[1]MedianGlobal,Percentis 5-95conv'!A1003774","v":0},{"$f":"'[1]MedianGlobal,Percentis 5-95conv'!B1003774","v":0}]
[{"$f":"'[1]MedianGlobal,Percentis 5-95conv'!A1004518","v":0},{"$f":"'[1]MedianGlobal,Percentis 5-95conv'!B1004518","v":0}]
[{"$f":"'[1]MedianGlobal,Percentis 5-95conv'!A1005033","v":0},{"$f":"'[1]MedianGlobal,Percentis 5-95conv'!B1005033","v":0}]
[{"$f":"'[1]MedianGlobal,Percentis 5-95conv'!A1005254","v":0},{"$f":"'[1]MedianGlobal,Percentis 5-95conv'!B1005254","v":0}]
[{"$f":"'[1]MedianGlobal,Percentis 5-95conv'!A1005998","v":0},{"$f":"'[1]MedianGlobal,Percentis 5-95conv'!B1005998","v":0}]
[{"$f":"'[1]MedianGlobal,Percentis 5-95conv'!A1006513","v":0},{"$f":"'[1]MedianGlobal,Percentis 5-95conv'!B1006513","v":0}]
[{"$f":"'[1]MedianGlobal,Percentis 5-95conv'!A1006794","v":0},{"$f":"'[1]MedianGlobal,Percentis 5-95conv'!B1006794","v":0}]
[{"$f":"'[1]MedianGlobal,Percentis 5-95conv'!A1007773","v":0},{"$f":"'[1]MedianGlobal,Percentis 5-95conv'!B1007773","v":0}]
[{"$f":"'[1]MedianGlobal,Percentis 5-95conv'!A1007994","v":0},{"$f":"'[1]MedianGlobal,Percentis 5-95conv'!B1007994","v":0}]
[{"$f":"'[1]MedianGlobal,Percentis 5-95conv'!A1008738","v":0},{"$f":"'[1]MedianGlobal,Percentis 5-95conv'!B1008738","v":0}]
[{"$f":"'[1]MedianGlobal,Percentis 5-95conv'!A1009253","v":0},{"$f":"'[1]MedianGlobal,Percentis 5-95conv'!B1009253","v":0}]
[{"$f":"'[1]MedianGlobal,Percentis 5-95conv'!A1009474","v":0},{"$f":"'[1]MedianGlobal,Percentis 5-95conv'!B1009474","v":0}]
[{"$f":"'[1]MedianGlobal,Percentis 5-95conv'!A1009989","v":0},{"$f":"'[1]MedianGlobal,Percentis 5-95conv'!B1009989","v":0}]
[{"$f":"'[1]MedianGlobal,Percentis 5-95conv'!A1010733","v":0},{"$f":"'[1]MedianGlobal,Percentis 5-95conv'!B1010733","v":0}]
[{"$f":"'[1]MedianGlobal,Percentis 5-95conv'!A1010954","v":0},{"$f":"'[1]MedianGlobal,Percentis 5-95conv'!B1010954","v":0}]
[{"$f":"'[1]MedianGlobal,Percentis 5-95conv'!A1011469","v":0},{"$f":"'[1]MedianGlobal,Percentis 5-95conv'!B1011469","v":0}]
[{"$f":"'[1]MedianGlobal,Percentis 5-95conv'!A1012213","v":0},{"$f":"'[1]MedianGlobal,Percentis 5-95conv'!B1012213","v":0}]
[{"$f":"'[1]MedianGlobal,Percentis 5-95conv'!A1012957","v":0},{"$f":"'[1]MedianGlobal,Percentis 5-95conv'!B1012957","v":0}]
[{"$f":"'[1]MedianGlobal,Percentis 5-95conv'!A1013472","v":0},{"$f":"'[1]MedianGlobal,Percentis 5-95conv'!B1013472","v":0}]
[{"$f":"'[1]MedianGlobal,Percentis 5-95conv'!A1013693","v":0},{"$f":"'[1]MedianGlobal,Percentis 5-95conv'!B1013693","v":0}]
[{"$f":"'[1]MedianGlobal,Percentis 5-95conv'!A1014208","v":0},{"$f":"'[1]MedianGlobal,Percentis 5-95conv'!B1014208","v":0}]
[{"$f":"'[1]MedianGlobal,Percentis 5-95conv'!A1014952","v":0},{"$f":"'[1]MedianGlobal,Percentis 5-95conv'!B1014952","v":0}]
[{"$f":"'[1]MedianGlobal,Percentis 5-95conv'!A1015173","v":0},{"$f":"'[1]MedianGlobal,Percentis 5-95conv'!B1015173","v":0}]
[{"$f":"'[1]MedianGlobal,Percentis 5-95conv'!A1015688","v":0},{"$f":"'[1]MedianGlobal,Percentis 5-95conv'!B1015688","v":0}]
[{"$f":"'[1]MedianGlobal,Percentis 5-95conv'!A1016432","v":0},{"$f":"'[1]MedianGlobal,Percentis 5-95conv'!B1016432","v":0}]
[{"$f":"'[1]MedianGlobal,Percentis 5-95conv'!A1016947","v":0},{"$f":"'[1]MedianGlobal,Percentis 5-95conv'!B1016947","v":0}]
[{"$f":"'[1]MedianGlobal,Percentis 5-95conv'!A1017691","v":0},{"$f":"'[1]MedianGlobal,Percentis 5-95conv'!B1017691","v":0}]
[{"$f":"'[1]MedianGlobal,Percentis 5-95conv'!A1017912","v":0},{"$f":"'[1]MedianGlobal,Percentis 5-95conv'!B1017912","v":0}]
[{"$f":"'[1]MedianGlobal,Percentis 5-95conv'!A1018427","v":0},{"$f":"'[1]MedianGlobal,Percentis 5-95conv'!B1018427","v":0}]
[{"$f":"'[1]MedianGlobal,Percentis 5-95conv'!A1019171","v":0},{"$f":"'[1]MedianGlobal,Percentis 5-95conv'!B1019171","v":0}]
[{"$f":"'[1]MedianGlobal,Percentis 5-95conv'!A1019392","v":0},{"$f":"'[1]MedianGlobal,Percentis 5-95conv'!B1019392","v":0}]
[{"$f":"'[1]MedianGlobal,Percentis 5-95conv'!A1019907","v":0},{"$f":"'[1]MedianGlobal,Percentis 5-95conv'!B1019907","v":0}]
[{"$f":"'[1]MedianGlobal,Percentis 5-95conv'!A1020423","v":0},{"$f":"'[1]MedianGlobal,Percentis 5-95conv'!B1020423","v":0}]
[{"$f":"'[1]MedianGlobal,Percentis 5-95conv'!A1021167","v":0},{"$f":"'[1]MedianGlobal,Percentis 5-95conv'!B1021167","v":0}]
[{"$f":"'[1]MedianGlobal,Percentis 5-95conv'!A1021911","v":0},{"$f":"'[1]MedianGlobal,Percentis 5-95conv'!B1021911","v":0}]
[{"$f":"'[1]MedianGlobal,Percentis 5-95conv'!A1022132","v":0},{"$f":"'[1]MedianGlobal,Percentis 5-95conv'!B1022132","v":0}]
[{"$f":"'[1]MedianGlobal,Percentis 5-95conv'!A1022647","v":0},{"$f":"'[1]MedianGlobal,Percentis 5-95conv'!B1022647","v":0}]
[{"$f":"'[1]MedianGlobal,Percentis 5-95conv'!A1023391","v":0},{"$f":"'[1]MedianGlobal,Percentis 5-95conv'!B1023391","v":0}]
[{"$f":"'[1]MedianGlobal,Percentis 5-95conv'!A1023612","v":0},{"$f":"'[1]MedianGlobal,Percentis 5-95conv'!B1023612","v":0}]
[{"$f":"'[1]MedianGlobal,Percentis 5-95conv'!A1024127","v":0},{"$f":"'[1]MedianGlobal,Percentis 5-95conv'!B1024127","v":0}]
[{"$f":"'[1]MedianGlobal,Percentis 5-95conv'!A1024871","v":0},{"$f":"'[1]MedianGlobal,Percentis 5-95conv'!B1024871","v":0}]
[{"$f":"'[1]MedianGlobal,Percentis 5-95conv'!A1025386","v":0},{"$f":"'[1]MedianGlobal,Percentis 5-95conv'!B1025386","v":0}]
[{"$f":"'[1]MedianGlobal,Percentis 5-95conv'!A1025607","v":0},{"$f":"'[1]MedianGlobal,Percentis 5-95conv'!B1025607","v":0}]
[{"$f":"'[1]MedianGlobal,Percentis 5-95conv'!A1026351","v":0},{"$f":"'[1]MedianGlobal,Percentis 5-95conv'!B1026351","v":0}]
[{"$f":"'[1]MedianGlobal,Percentis 5-95conv'!A1026866","v":0},{"$f":"'[1]MedianGlobal,Percentis 5-95conv'!B1026866","v":0}]
[{"$f":"'[1]MedianGlobal,Percentis 5-95conv'!A1027610","v":0},{"$f":"'[1]MedianGlobal,Percentis 5-95conv'!B1027610","v":0}]
[{"$f":"'[1]MedianGlobal,Percentis 5-95conv'!A1028125","v":0},{"$f":"'[1]MedianGlobal,Percentis 5-95conv'!B1028125","v":0}]
[{"$f":"'[1]MedianGlobal,Percentis 5-95conv'!A1028346","v":0},{"$f":"'[1]MedianGlobal,Percentis 5-95conv'!B1028346","v":0}]
[{"$f":"'[1]MedianGlobal,Percentis 5-95conv'!A1029090","v":0},{"$f":"'[1]MedianGlobal,Percentis 5-95conv'!B1029090","v":0}]
[{"$f":"'[1]MedianGlobal,Percentis 5-95conv'!A1029605","v":0},{"$f":"'[1]MedianGlobal,Percentis 5-95conv'!B1029605","v":0}]
[{"$f":"'[1]MedianGlobal,Percentis 5-95conv'!A1029826","v":0},{"$f":"'[1]MedianGlobal,Percentis 5-95conv'!B1029826","v":0}]
[{"$f":"'[1]MedianGlobal,Percentis 5-95conv'!A1030570","v":0},{"$f":"'[1]MedianGlobal,Percentis 5-95conv'!B1030570","v":0}]
[{"$f":"'[1]MedianGlobal,Percentis 5-95conv'!A1031085","v":0},{"$f":"'[1]MedianGlobal,Percentis 5-95conv'!B1031085","v":0}]
[{"$f":"'[1]MedianGlobal,Percentis 5-95conv'!A1031829","v":0},{"$f":"'[1]MedianGlobal,Percentis 5-95conv'!B1031829","v":0}]
[{"$f":"'[1]MedianGlobal,Percentis 5-95conv'!A1032344","v":0},{"$f":"'[1]MedianGlobal,Percentis 5-95conv'!B1032344","v":0}]
[{"$f":"'[1]MedianGlobal,Percentis 5-95conv'!A1032565","v":0},{"$f":"'[1]MedianGlobal,Percentis 5-95conv'!B1032565","v":0}]
[{"$f":"'[1]MedianGlobal,Percentis 5-95conv'!A1033309","v":0},{"$f":"'[1]MedianGlobal,Percentis 5-95conv'!B1033309","v":0}]
[{"$f":"'[1]MedianGlobal,Percentis 5-95conv'!A1033824","v":0},{"$f":"'[1]MedianGlobal,Percentis 5-95conv'!B1033824","v":0}]
[{"$f":"'[1]MedianGlobal,Percentis 5-95conv'!A1034052","v":0},{"$f":"'[1]MedianGlobal,Percentis 5-95conv'!B1034052","v":0}]
[{"$f":"'[1]MedianGlobal,Percentis 5-95conv'!A1034561","v":0},{"$f":"'[1]MedianGlobal,Percentis 5-95conv'!B1034561","v":0}]
[{"$f":"'[1]MedianGlobal,Percentis 5-95conv'!A1035305","v":0},{"$f":"'[1]MedianGlobal,Percentis 5-95conv'!B1035305","v":0}]
[{"$f":"'[1]MedianGlobal,Percentis 5-95conv'!A1035526","v":0},{"$f":"'[1]MedianGlobal,Percentis 5-95conv'!B1035526","v":0}]
[{"$f":"'[1]MedianGlobal,Percentis 5-95conv'!A1036564","v":0},{"$f":"'[1]MedianGlobal,Percentis 5-95conv'!B1036564","v":0}]
[{"$f":"'[1]MedianGlobal,Percentis 5-95conv'!A1036785","v":0},{"$f":"'[1]MedianGlobal,Percentis 5-95conv'!B1036785","v":0}]
[{"$f":"'[1]MedianGlobal,Percentis 5-95conv'!A1037529","v":0},{"$f":"'[1]MedianGlobal,Percentis 5-95conv'!B1037529","v":0}]
[{"$f":"'[1]MedianGlobal,Percentis 5-95conv'!A1038044","v":0},{"$f":"'[1]MedianGlobal,Percentis 5-95conv'!B1038044","v":0}]
[{"$f":"'[1]MedianGlobal,Percentis 5-95conv'!A1038265","v":0},{"$f":"'[1]MedianGlobal,Percentis 5-95conv'!B1038265","v":0}]
[{"$f":"'[1]MedianGlobal,Percentis 5-95conv'!A1038780","v":0},{"$f":"'[1]MedianGlobal,Percentis 5-95conv'!B1038780","v":0}]
[{"$f":"'[1]MedianGlobal,Percentis 5-95conv'!A1039524","v":0},{"$f":"'[1]MedianGlobal,Percentis 5-95conv'!B1039524","v":0}]
[{"$f":"'[1]MedianGlobal,Percentis 5-95conv'!A1039745","v":0},{"$f":"'[1]MedianGlobal,Percentis 5-95conv'!B1039745","v":0}]
[{"$f":"'[1]MedianGlobal,Percentis 5-95conv'!A1040260","v":0},{"$f":"'[1]MedianGlobal,Percentis 5-95conv'!B1040260","v":0}]
[{"$f":"'[1]MedianGlobal,Percentis 5-95conv'!A1041004","v":0},{"$f":"'[1]MedianGlobal,Percentis 5-95conv'!B1041004","v":0}]
[{"$f":"'[1]MedianGlobal,Percentis 5-95conv'!A1041748","v":0},{"$f":"'[1]MedianGlobal,Percentis 5-95conv'!B1041748","v":0}]
[{"$f":"'[1]MedianGlobal,Percentis 5-95conv'!A1042263","v":0},{"$f":"'[1]MedianGlobal,Percentis 5-95conv'!B1042263","v":0}]
[{"$f":"'[1]MedianGlobal,Percentis 5-95conv'!A1042484","v":0},{"$f":"'[1]MedianGlobal,Percentis 5-95conv'!B1042484","v":0}]
[{"$f":"'[1]MedianGlobal,Percentis 5-95conv'!A1042999","v":0},{"$f":"'[1]MedianGlobal,Percentis 5-95conv'!B1042999","v":0}]
[{"$f":"'[1]MedianGlobal,Percentis 5-95conv'!A1043743","v":0},{"$f":"'[1]MedianGlobal,Percentis 5-95conv'!B1043743","v":0}]
[{"$f":"'[1]MedianGlobal,Percentis 5-95conv'!A1043964","v":0},{"$f":"'[1]MedianGlobal,Percentis 5-95conv'!B1043964","v":0}]
[{"$f":"'[1]MedianGlobal,Percentis 5-95conv'!A1044479","v":0},{"$f":"'[1]MedianGlobal,Percentis 5-95conv'!B1044479","v":0}]
[{"$f":"'[1]MedianGlobal,Percentis 5-95conv'!A1045223","v":0},{"$f":"'[1]MedianGlobal,Percentis 5-95conv'!B1045223","v":0}]
[{"$f":"'[1]MedianGlobal,Percentis 5-95conv'!A1045738","v":0},{"$f":"'[1]MedianGlobal,Percentis 5-95conv'!B1045738","v":0}]
[{"$f":"'[1]MedianGlobal,Percentis 5-95conv'!A1046482","v":0},{"$f":"'[1]MedianGlobal,Percentis 5-95conv'!B1046482","v":0}]
[{"$f":"'[1]MedianGlobal,Percentis 5-95conv'!A1046703","v":0},{"$f":"'[1]MedianGlobal,Percentis 5-95conv'!B1046703","v":0}]
[{"$f":"'[1]MedianGlobal,Percentis 5-95conv'!A1047218","v":0},{"$f":"'[1]MedianGlobal,Percentis 5-95conv'!B1047218","v":0}]
[{"$f":"'[1]MedianGlobal,Percentis 5-95conv'!A1047681","v":0},{"$f":"'[1]MedianGlobal,Percentis 5-95conv'!B1047681","v":0}]
[{"$f":"'[1]MedianGlobal,Percentis 5-95conv'!A1048077","v":0},{"$f":"'[1]MedianGlobal,Percentis 5-95conv'!B1048077","v":0}]
[{"$f":"'[1]MedianGlobal,Percentis 5-95conv'!A1048078","v":0},{"$f":"'[1]MedianGlobal,Percentis 5-95conv'!B1048078","v":0}]
[{"$f":"'[1]MedianGlobal,Percentis 5-95conv'!A1048079","v":0},{"$f":"'[1]MedianGlobal,Percentis 5-95conv'!B1048079","v":0}]
[{"$f":"'[1]MedianGlobal,Percentis 5-95conv'!A1048080","v":0},{"$f":"'[1]MedianGlobal,Percentis 5-95conv'!B1048080","v":0}]
[{"$f":"'[1]MedianGlobal,Percentis 5-95conv'!A1048081","v":0},{"$f":"'[1]MedianGlobal,Percentis 5-95conv'!B1048081","v":0}]
[{"$f":"'[1]MedianGlobal,Percentis 5-95conv'!A1048082","v":0},{"$f":"'[1]MedianGlobal,Percentis 5-95conv'!B1048082","v":0}]
[{"$f":"'[1]MedianGlobal,Percentis 5-95conv'!A1048083","v":0},{"$f":"'[1]MedianGlobal,Percentis 5-95conv'!B1048083","v":0}]
[{"$f":"'[1]MedianGlobal,Percentis 5-95conv'!A1048084","v":0},{"$f":"'[1]MedianGlobal,Percentis 5-95conv'!B1048084","v":0}]
[{"$f":"'[1]MedianGlobal,Percentis 5-95conv'!A1048085","v":0},{"$f":"'[1]MedianGlobal,Percentis 5-95conv'!B1048085","v":0}]
[{"$f":"'[1]MedianGlobal,Percentis 5-95conv'!A1048086","v":0},{"$f":"'[1]MedianGlobal,Percentis 5-95conv'!B1048086","v":0}]
[{"$f":"'[1]MedianGlobal,Percentis 5-95conv'!A1048087","v":0},{"$f":"'[1]MedianGlobal,Percentis 5-95conv'!B1048087","v":0}]
[{"$f":"'[1]MedianGlobal,Percentis 5-95conv'!A1048088","v":0},{"$f":"'[1]MedianGlobal,Percentis 5-95conv'!B1048088","v":0}]
[{"$f":"'[1]MedianGlobal,Percentis 5-95conv'!A1048089","v":0},{"$f":"'[1]MedianGlobal,Percentis 5-95conv'!B1048089","v":0}]
[{"$f":"'[1]MedianGlobal,Percentis 5-95conv'!A1048090","v":0},{"$f":"'[1]MedianGlobal,Percentis 5-95conv'!B1048090","v":0}]
[{"$f":"'[1]MedianGlobal,Percentis 5-95conv'!A1048091","v":0},{"$f":"'[1]MedianGlobal,Percentis 5-95conv'!B1048091","v":0}]
[{"$f":"'[1]MedianGlobal,Percentis 5-95conv'!A1048092","v":0},{"$f":"'[1]MedianGlobal,Percentis 5-95conv'!B1048092","v":0}]
[{"$f":"'[1]MedianGlobal,Percentis 5-95conv'!A1048093","v":0},{"$f":"'[1]MedianGlobal,Percentis 5-95conv'!B1048093","v":0}]
[{"$f":"'[1]MedianGlobal,Percentis 5-95conv'!A1048094","v":0},{"$f":"'[1]MedianGlobal,Percentis 5-95conv'!B1048094","v":0}]
[{"$f":"'[1]MedianGlobal,Percentis 5-95conv'!A1048095","v":0},{"$f":"'[1]MedianGlobal,Percentis 5-95conv'!B1048095","v":0}]
[{"$f":"'[1]MedianGlobal,Percentis 5-95conv'!A1048096","v":0},{"$f":"'[1]MedianGlobal,Percentis 5-95conv'!B1048096","v":0}]
[{"$f":"'[1]MedianGlobal,Percentis 5-95conv'!A1048097","v":0},{"$f":"'[1]MedianGlobal,Percentis 5-95conv'!B1048097","v":0}]
[{"$f":"'[1]MedianGlobal,Percentis 5-95conv'!A1048098","v":0},{"$f":"'[1]MedianGlobal,Percentis 5-95conv'!B1048098","v":0}]
[{"$f":"'[1]MedianGlobal,Percentis 5-95conv'!A1048099","v":0},{"$f":"'[1]MedianGlobal,Percentis 5-95conv'!B1048099","v":0}]
[{"$f":"'[1]MedianGlobal,Percentis 5-95conv'!A1048100","v":0},{"$f":"'[1]MedianGlobal,Percentis 5-95conv'!B1048100","v":0}]
[{"$f":"'[1]MedianGlobal,Percentis 5-95conv'!A1048101","v":0},{"$f":"'[1]MedianGlobal,Percentis 5-95conv'!B1048101","v":0}]
[{"$f":"'[1]MedianGlobal,Percentis 5-95conv'!A1048102","v":0},{"$f":"'[1]MedianGlobal,Percentis 5-95conv'!B1048102","v":0}]
[{"$f":"'[1]MedianGlobal,Percentis 5-95conv'!A1048103","v":0},{"$f":"'[1]MedianGlobal,Percentis 5-95conv'!B1048103","v":0}]
[{"$f":"'[1]MedianGlobal,Percentis 5-95conv'!A1048104","v":0},{"$f":"'[1]MedianGlobal,Percentis 5-95conv'!B1048104","v":0}]
[{"$f":"'[1]MedianGlobal,Percentis 5-95conv'!A1048105","v":0},{"$f":"'[1]MedianGlobal,Percentis 5-95conv'!B1048105","v":0}]
[{"$f":"'[1]MedianGlobal,Percentis 5-95conv'!A1048106","v":0},{"$f":"'[1]MedianGlobal,Percentis 5-95conv'!B1048106","v":0}]
[{"$f":"'[1]MedianGlobal,Percentis 5-95conv'!A1048107","v":0},{"$f":"'[1]MedianGlobal,Percentis 5-95conv'!B1048107","v":0}]
[{"$f":"'[1]MedianGlobal,Percentis 5-95conv'!A1048108","v":0},{"$f":"'[1]MedianGlobal,Percentis 5-95conv'!B1048108","v":0}]
[{"$f":"'[1]MedianGlobal,Percentis 5-95conv'!A1048109","v":0},{"$f":"'[1]MedianGlobal,Percentis 5-95conv'!B1048109","v":0}]
[{"$f":"'[1]MedianGlobal,Percentis 5-95conv'!A1048110","v":0},{"$f":"'[1]MedianGlobal,Percentis 5-95conv'!B1048110","v":0}]
[{"$f":"'[1]MedianGlobal,Percentis 5-95conv'!A1048111","v":0},{"$f":"'[1]MedianGlobal,Percentis 5-95conv'!B1048111","v":0}]
[{"$f":"'[1]MedianGlobal,Percentis 5-95conv'!A1048112","v":0},{"$f":"'[1]MedianGlobal,Percentis 5-95conv'!B1048112","v":0}]
[{"$f":"'[1]MedianGlobal,Percentis 5-95conv'!A1048113","v":0},{"$f":"'[1]MedianGlobal,Percentis 5-95conv'!B1048113","v":0}]
[{"$f":"'[1]MedianGlobal,Percentis 5-95conv'!A1048114","v":0},{"$f":"'[1]MedianGlobal,Percentis 5-95conv'!B1048114","v":0}]
[{"$f":"'[1]MedianGlobal,Percentis 5-95conv'!A1048115","v":0},{"$f":"'[1]MedianGlobal,Percentis 5-95conv'!B1048115","v":0}]
[{"$f":"'[1]MedianGlobal,Percentis 5-95conv'!A1048116","v":0},{"$f":"'[1]MedianGlobal,Percentis 5-95conv'!B1048116","v":0}]
[{"$f":"'[1]MedianGlobal,Percentis 5-95conv'!A1048117","v":0},{"$f":"'[1]MedianGlobal,Percentis 5-95conv'!B1048117","v":0}]
[{"$f":"'[1]MedianGlobal,Percentis 5-95conv'!A1048118","v":0},{"$f":"'[1]MedianGlobal,Percentis 5-95conv'!B1048118","v":0}]
[{"$f":"'[1]MedianGlobal,Percentis 5-95conv'!A1048119","v":0},{"$f":"'[1]MedianGlobal,Percentis 5-95conv'!B1048119","v":0}]
[{"$f":"'[1]MedianGlobal,Percentis 5-95conv'!A1048120","v":0},{"$f":"'[1]MedianGlobal,Percentis 5-95conv'!B1048120","v":0}]
[{"$f":"'[1]MedianGlobal,Percentis 5-95conv'!A1048121","v":0},{"$f":"'[1]MedianGlobal,Percentis 5-95conv'!B1048121","v":0}]
[{"$f":"'[1]MedianGlobal,Percentis 5-95conv'!A1048122","v":0},{"$f":"'[1]MedianGlobal,Percentis 5-95conv'!B1048122","v":0}]
[{"$f":"'[1]MedianGlobal,Percentis 5-95conv'!A1048123","v":0},{"$f":"'[1]MedianGlobal,Percentis 5-95conv'!B1048123","v":0}]
[{"$f":"'[1]MedianGlobal,Percentis 5-95conv'!A1048124","v":0},{"$f":"'[1]MedianGlobal,Percentis 5-95conv'!B1048124","v":0}]
[{"$f":"'[1]MedianGlobal,Percentis 5-95conv'!A1048125","v":0},{"$f":"'[1]MedianGlobal,Percentis 5-95conv'!B1048125","v":0}]
[{"$f":"'[1]MedianGlobal,Percentis 5-95conv'!A1048126","v":0},{"$f":"'[1]MedianGlobal,Percentis 5-95conv'!B1048126","v":0}]
[{"$f":"'[1]MedianGlobal,Percentis 5-95conv'!A1048127","v":0},{"$f":"'[1]MedianGlobal,Percentis 5-95conv'!B1048127","v":0}]
[{"$f":"'[1]MedianGlobal,Percentis 5-95conv'!A1048128","v":0},{"$f":"'[1]MedianGlobal,Percentis 5-95conv'!B1048128","v":0}]
[{"$f":"'[1]MedianGlobal,Percentis 5-95conv'!A1048129","v":0},{"$f":"'[1]MedianGlobal,Percentis 5-95conv'!B1048129","v":0}]
[{"$f":"'[1]MedianGlobal,Percentis 5-95conv'!A1048130","v":0},{"$f":"'[1]MedianGlobal,Percentis 5-95conv'!B1048130","v":0}]
[{"$f":"'[1]MedianGlobal,Percentis 5-95conv'!A1048131","v":0},{"$f":"'[1]MedianGlobal,Percentis 5-95conv'!B1048131","v":0}]
[{"$f":"'[1]MedianGlobal,Percentis 5-95conv'!A1048132","v":0},{"$f":"'[1]MedianGlobal,Percentis 5-95conv'!B1048132","v":0}]
[{"$f":"'[1]MedianGlobal,Percentis 5-95conv'!A1048133","v":0},{"$f":"'[1]MedianGlobal,Percentis 5-95conv'!B1048133","v":0}]
[{"$f":"'[1]MedianGlobal,Percentis 5-95conv'!A1048134","v":0},{"$f":"'[1]MedianGlobal,Percentis 5-95conv'!B1048134","v":0}]
[{"$f":"'[1]MedianGlobal,Percentis 5-95conv'!A1048135","v":0},{"$f":"'[1]MedianGlobal,Percentis 5-95conv'!B1048135","v":0}]
[{"$f":"'[1]MedianGlobal,Percentis 5-95conv'!A1048136","v":0},{"$f":"'[1]MedianGlobal,Percentis 5-95conv'!B1048136","v":0}]
[{"$f":"'[1]MedianGlobal,Percentis 5-95conv'!A1048137","v":0},{"$f":"'[1]MedianGlobal,Percentis 5-95conv'!B1048137","v":0}]
[{"$f":"'[1]MedianGlobal,Percentis 5-95conv'!A1048138","v":0},{"$f":"'[1]MedianGlobal,Percentis 5-95conv'!B1048138","v":0}]
[{"$f":"'[1]MedianGlobal,Percentis 5-95conv'!A1048139","v":0},{"$f":"'[1]MedianGlobal,Percentis 5-95conv'!B1048139","v":0}]
[{"$f":"'[1]MedianGlobal,Percentis 5-95conv'!A1048140","v":0},{"$f":"'[1]MedianGlobal,Percentis 5-95conv'!B1048140","v":0}]
[{"$f":"'[1]MedianGlobal,Percentis 5-95conv'!A1048141","v":0},{"$f":"'[1]MedianGlobal,Percentis 5-95conv'!B1048141","v":0}]
[{"$f":"'[1]MedianGlobal,Percentis 5-95conv'!A1048142","v":0},{"$f":"'[1]MedianGlobal,Percentis 5-95conv'!B1048142","v":0}]
[{"$f":"'[1]MedianGlobal,Percentis 5-95conv'!A1048143","v":0},{"$f":"'[1]MedianGlobal,Percentis 5-95conv'!B1048143","v":0}]
[{"$f":"'[1]MedianGlobal,Percentis 5-95conv'!A1048144","v":0},{"$f":"'[1]MedianGlobal,Percentis 5-95conv'!B1048144","v":0}]
[{"$f":"'[1]MedianGlobal,Percentis 5-95conv'!A1048145","v":0},{"$f":"'[1]MedianGlobal,Percentis 5-95conv'!B1048145","v":0}]
[{"$f":"'[1]MedianGlobal,Percentis 5-95conv'!A1048146","v":0},{"$f":"'[1]MedianGlobal,Percentis 5-95conv'!B1048146","v":0}]
[{"$f":"'[1]MedianGlobal,Percentis 5-95conv'!A1048147","v":0},{"$f":"'[1]MedianGlobal,Percentis 5-95conv'!B1048147","v":0}]
[{"$f":"'[1]MedianGlobal,Percentis 5-95conv'!A1048148","v":0},{"$f":"'[1]MedianGlobal,Percentis 5-95conv'!B1048148","v":0}]
[{"$f":"'[1]MedianGlobal,Percentis 5-95conv'!A1048149","v":0},{"$f":"'[1]MedianGlobal,Percentis 5-95conv'!B1048149","v":0}]
[{"$f":"'[1]MedianGlobal,Percentis 5-95conv'!A1048150","v":0},{"$f":"'[1]MedianGlobal,Percentis 5-95conv'!B1048150","v":0}]
[{"$f":"'[1]MedianGlobal,Percentis 5-95conv'!A1048151","v":0},{"$f":"'[1]MedianGlobal,Percentis 5-95conv'!B1048151","v":0}]
[{"$f":"'[1]MedianGlobal,Percentis 5-95conv'!A1048152","v":0},{"$f":"'[1]MedianGlobal,Percentis 5-95conv'!B1048152","v":0}]
[{"$f":"'[1]MedianGlobal,Percentis 5-95conv'!A1048153","v":0},{"$f":"'[1]MedianGlobal,Percentis 5-95conv'!B1048153","v":0}]
[{"$f":"'[1]MedianGlobal,Percentis 5-95conv'!A1048154","v":0},{"$f":"'[1]MedianGlobal,Percentis 5-95conv'!B1048154","v":0}]
[{"$f":"'[1]MedianGlobal,Percentis 5-95conv'!A1048155","v":0},{"$f":"'[1]MedianGlobal,Percentis 5-95conv'!B1048155","v":0}]
[{"$f":"'[1]MedianGlobal,Percentis 5-95conv'!A1048156","v":0},{"$f":"'[1]MedianGlobal,Percentis 5-95conv'!B1048156","v":0}]
[{"$f":"'[1]MedianGlobal,Percentis 5-95conv'!A1048157","v":0},{"$f":"'[1]MedianGlobal,Percentis 5-95conv'!B1048157","v":0}]
[{"$f":"'[1]MedianGlobal,Percentis 5-95conv'!A1048158","v":0},{"$f":"'[1]MedianGlobal,Percentis 5-95conv'!B1048158","v":0}]
[{"$f":"'[1]MedianGlobal,Percentis 5-95conv'!A1048159","v":0},{"$f":"'[1]MedianGlobal,Percentis 5-95conv'!B1048159","v":0}]
[{"$f":"'[1]MedianGlobal,Percentis 5-95conv'!A1048160","v":0},{"$f":"'[1]MedianGlobal,Percentis 5-95conv'!B1048160","v":0}]
[{"$f":"'[1]MedianGlobal,Percentis 5-95conv'!A1048161","v":0},{"$f":"'[1]MedianGlobal,Percentis 5-95conv'!B1048161","v":0}]
[{"$f":"'[1]MedianGlobal,Percentis 5-95conv'!A1048162","v":0},{"$f":"'[1]MedianGlobal,Percentis 5-95conv'!B1048162","v":0}]
[{"$f":"'[1]MedianGlobal,Percentis 5-95conv'!A1048163","v":0},{"$f":"'[1]MedianGlobal,Percentis 5-95conv'!B1048163","v":0}]
[{"$f":"'[1]MedianGlobal,Percentis 5-95conv'!A1048164","v":0},{"$f":"'[1]MedianGlobal,Percentis 5-95conv'!B1048164","v":0}]
[{"$f":"'[1]MedianGlobal,Percentis 5-95conv'!A1048165","v":0},{"$f":"'[1]MedianGlobal,Percentis 5-95conv'!B1048165","v":0}]
[{"$f":"'[1]MedianGlobal,Percentis 5-95conv'!A1048166","v":0},{"$f":"'[1]MedianGlobal,Percentis 5-95conv'!B1048166","v":0}]
[{"$f":"'[1]MedianGlobal,Percentis 5-95conv'!A1048167","v":0},{"$f":"'[1]MedianGlobal,Percentis 5-95conv'!B1048167","v":0}]
[{"$f":"'[1]MedianGlobal,Percentis 5-95conv'!A1048168","v":0},{"$f":"'[1]MedianGlobal,Percentis 5-95conv'!B1048168","v":0}]
[{"$f":"'[1]MedianGlobal,Percentis 5-95conv'!A1048169","v":0},{"$f":"'[1]MedianGlobal,Percentis 5-95conv'!B1048169","v":0}]
[{"$f":"'[1]MedianGlobal,Percentis 5-95conv'!A1048170","v":0},{"$f":"'[1]MedianGlobal,Percentis 5-95conv'!B1048170","v":0}]
[{"$f":"'[1]MedianGlobal,Percentis 5-95conv'!A1048171","v":0},{"$f":"'[1]MedianGlobal,Percentis 5-95conv'!B1048171","v":0}]
[{"$f":"'[1]MedianGlobal,Percentis 5-95conv'!A1048172","v":0},{"$f":"'[1]MedianGlobal,Percentis 5-95conv'!B1048172","v":0}]
[{"$f":"'[1]MedianGlobal,Percentis 5-95conv'!A1048173","v":0},{"$f":"'[1]MedianGlobal,Percentis 5-95conv'!B1048173","v":0}]
[{"$f":"'[1]MedianGlobal,Percentis 5-95conv'!A1048174","v":0},{"$f":"'[1]MedianGlobal,Percentis 5-95conv'!B1048174","v":0}]
[{"$f":"'[1]MedianGlobal,Percentis 5-95conv'!A1048175","v":0},{"$f":"'[1]MedianGlobal,Percentis 5-95conv'!B1048175","v":0}]
[{"$f":"'[1]MedianGlobal,Percentis 5-95conv'!A1048176","v":0},{"$f":"'[1]MedianGlobal,Percentis 5-95conv'!B1048176","v":0}]
[{"$f":"'[1]MedianGlobal,Percentis 5-95conv'!A1048177","v":0},{"$f":"'[1]MedianGlobal,Percentis 5-95conv'!B1048177","v":0}]
[{"$f":"'[1]MedianGlobal,Percentis 5-95conv'!A1048178","v":0},{"$f":"'[1]MedianGlobal,Percentis 5-95conv'!B1048178","v":0}]
[{"$f":"'[1]MedianGlobal,Percentis 5-95conv'!A1048179","v":0},{"$f":"'[1]MedianGlobal,Percentis 5-95conv'!B1048179","v":0}]
[{"$f":"'[1]MedianGlobal,Percentis 5-95conv'!A1048180","v":0},{"$f":"'[1]MedianGlobal,Percentis 5-95conv'!B1048180","v":0}]
[{"$f":"'[1]MedianGlobal,Percentis 5-95conv'!A1048181","v":0},{"$f":"'[1]MedianGlobal,Percentis 5-95conv'!B1048181","v":0}]
[{"$f":"'[1]MedianGlobal,Percentis 5-95conv'!A1048182","v":0},{"$f":"'[1]MedianGlobal,Percentis 5-95conv'!B1048182","v":0}]
[{"$f":"'[1]MedianGlobal,Percentis 5-95conv'!A1048183","v":0},{"$f":"'[1]MedianGlobal,Percentis 5-95conv'!B1048183","v":0}]
[{"$f":"'[1]MedianGlobal,Percentis 5-95conv'!A1048184","v":0},{"$f":"'[1]MedianGlobal,Percentis 5-95conv'!B1048184","v":0}]
[{"$f":"'[1]MedianGlobal,Percentis 5-95conv'!A1048185","v":0},{"$f":"'[1]MedianGlobal,Percentis 5-95conv'!B1048185","v":0}]
[{"$f":"'[1]MedianGlobal,Percentis 5-95conv'!A1048186","v":0},{"$f":"'[1]MedianGlobal,Percentis 5-95conv'!B1048186","v":0}]
[{"$f":"'[1]MedianGlobal,Percentis 5-95conv'!A1048187","v":0},{"$f":"'[1]MedianGlobal,Percentis 5-95conv'!B1048187","v":0}]
[{"$f":"'[1]MedianGlobal,Percentis 5-95conv'!A1048188","v":0},{"$f":"'[1]MedianGlobal,Percentis 5-95conv'!B1048188","v":0}]
[{"$f":"'[1]MedianGlobal,Percentis 5-95conv'!A1048189","v":0},{"$f":"'[1]MedianGlobal,Percentis 5-95conv'!B1048189","v":0}]
[{"$f":"'[1]MedianGlobal,Percentis 5-95conv'!A1048190","v":0},{"$f":"'[1]MedianGlobal,Percentis 5-95conv'!B1048190","v":0}]
[{"$f":"'[1]MedianGlobal,Percentis 5-95conv'!A1048191","v":0},{"$f":"'[1]MedianGlobal,Percentis 5-95conv'!B1048191","v":0}]
[{"$f":"'[1]MedianGlobal,Percentis 5-95conv'!A1048192","v":0},{"$f":"'[1]MedianGlobal,Percentis 5-95conv'!B1048192","v":0}]
[{"$f":"'[1]MedianGlobal,Percentis 5-95conv'!A1048193","v":0},{"$f":"'[1]MedianGlobal,Percentis 5-95conv'!B1048193","v":0}]
[{"$f":"'[1]MedianGlobal,Percentis 5-95conv'!A1048194","v":0},{"$f":"'[1]MedianGlobal,Percentis 5-95conv'!B1048194","v":0}]
[{"$f":"'[1]MedianGlobal,Percentis 5-95conv'!A1048195","v":0},{"$f":"'[1]MedianGlobal,Percentis 5-95conv'!B1048195","v":0}]
[{"$f":"'[1]MedianGlobal,Percentis 5-95conv'!A1048196","v":0},{"$f":"'[1]MedianGlobal,Percentis 5-95conv'!B1048196","v":0}]
[{"$f":"'[1]MedianGlobal,Percentis 5-95conv'!A1048197","v":0},{"$f":"'[1]MedianGlobal,Percentis 5-95conv'!B1048197","v":0}]
[{"$f":"'[1]MedianGlobal,Percentis 5-95conv'!A1048198","v":0},{"$f":"'[1]MedianGlobal,Percentis 5-95conv'!B1048198","v":0}]
[{"$f":"'[1]MedianGlobal,Percentis 5-95conv'!A1048199","v":0},{"$f":"'[1]MedianGlobal,Percentis 5-95conv'!B1048199","v":0}]
[{"$f":"'[1]MedianGlobal,Percentis 5-95conv'!A1048200","v":0},{"$f":"'[1]MedianGlobal,Percentis 5-95conv'!B1048200","v":0}]
[{"$f":"'[1]MedianGlobal,Percentis 5-95conv'!A1048201","v":0},{"$f":"'[1]MedianGlobal,Percentis 5-95conv'!B1048201","v":0}]
[{"$f":"'[1]MedianGlobal,Percentis 5-95conv'!A1048202","v":0},{"$f":"'[1]MedianGlobal,Percentis 5-95conv'!B1048202","v":0}]
[{"$f":"'[1]MedianGlobal,Percentis 5-95conv'!A1048203","v":0},{"$f":"'[1]MedianGlobal,Percentis 5-95conv'!B1048203","v":0}]
[{"$f":"'[1]MedianGlobal,Percentis 5-95conv'!A1048204","v":0},{"$f":"'[1]MedianGlobal,Percentis 5-95conv'!B1048204","v":0}]
[{"$f":"'[1]MedianGlobal,Percentis 5-95conv'!A1048205","v":0},{"$f":"'[1]MedianGlobal,Percentis 5-95conv'!B1048205","v":0}]
[{"$f":"'[1]MedianGlobal,Percentis 5-95conv'!A1048206","v":0},{"$f":"'[1]MedianGlobal,Percentis 5-95conv'!B1048206","v":0}]
[{"$f":"'[1]MedianGlobal,Percentis 5-95conv'!A1048207","v":0},{"$f":"'[1]MedianGlobal,Percentis 5-95conv'!B1048207","v":0}]
[{"$f":"'[1]MedianGlobal,Percentis 5-95conv'!A1048208","v":0},{"$f":"'[1]MedianGlobal,Percentis 5-95conv'!B1048208","v":0}]
[{"$f":"'[1]MedianGlobal,Percentis 5-95conv'!A1048209","v":0},{"$f":"'[1]MedianGlobal,Percentis 5-95conv'!B1048209","v":0}]
[{"$f":"'[1]MedianGlobal,Percentis 5-95conv'!A1048210","v":0},{"$f":"'[1]MedianGlobal,Percentis 5-95conv'!B1048210","v":0}]
[{"$f":"'[1]MedianGlobal,Percentis 5-95conv'!A1048211","v":0},{"$f":"'[1]MedianGlobal,Percentis 5-95conv'!B1048211","v":0}]
[{"$f":"'[1]MedianGlobal,Percentis 5-95conv'!A1048212","v":0},{"$f":"'[1]MedianGlobal,Percentis 5-95conv'!B1048212","v":0}]
[{"$f":"'[1]MedianGlobal,Percentis 5-95conv'!A1048213","v":0},{"$f":"'[1]MedianGlobal,Percentis 5-95conv'!B1048213","v":0}]
[{"$f":"'[1]MedianGlobal,Percentis 5-95conv'!A1048214","v":0},{"$f":"'[1]MedianGlobal,Percentis 5-95conv'!B1048214","v":0}]
[{"$f":"'[1]MedianGlobal,Percentis 5-95conv'!A1048215","v":0},{"$f":"'[1]MedianGlobal,Percentis 5-95conv'!B1048215","v":0}]
[{"$f":"'[1]MedianGlobal,Percentis 5-95conv'!A1048216","v":0},{"$f":"'[1]MedianGlobal,Percentis 5-95conv'!B1048216","v":0}]
[{"$f":"'[1]MedianGlobal,Percentis 5-95conv'!A1048217","v":0},{"$f":"'[1]MedianGlobal,Percentis 5-95conv'!B1048217","v":0}]
[{"$f":"'[1]MedianGlobal,Percentis 5-95conv'!A1048218","v":0},{"$f":"'[1]MedianGlobal,Percentis 5-95conv'!B1048218","v":0}]
[{"$f":"'[1]MedianGlobal,Percentis 5-95conv'!A1048219","v":0},{"$f":"'[1]MedianGlobal,Percentis 5-95conv'!B1048219","v":0}]
[{"$f":"'[1]MedianGlobal,Percentis 5-95conv'!A1048220","v":0},{"$f":"'[1]MedianGlobal,Percentis 5-95conv'!B1048220","v":0}]
[{"$f":"'[1]MedianGlobal,Percentis 5-95conv'!A1048221","v":0},{"$f":"'[1]MedianGlobal,Percentis 5-95conv'!B1048221","v":0}]
[{"$f":"'[1]MedianGlobal,Percentis 5-95conv'!A1048222","v":0},{"$f":"'[1]MedianGlobal,Percentis 5-95conv'!B1048222","v":0}]
[{"$f":"'[1]MedianGlobal,Percentis 5-95conv'!A1048223","v":0},{"$f":"'[1]MedianGlobal,Percentis 5-95conv'!B1048223","v":0}]
[{"$f":"'[1]MedianGlobal,Percentis 5-95conv'!A1048224","v":0},{"$f":"'[1]MedianGlobal,Percentis 5-95conv'!B1048224","v":0}]
[{"$f":"'[1]MedianGlobal,Percentis 5-95conv'!A1048225","v":0},{"$f":"'[1]MedianGlobal,Percentis 5-95conv'!B1048225","v":0}]
[{"$f":"'[1]MedianGlobal,Percentis 5-95conv'!A1048226","v":0},{"$f":"'[1]MedianGlobal,Percentis 5-95conv'!B1048226","v":0}]
[{"$f":"'[1]MedianGlobal,Percentis 5-95conv'!A1048227","v":0},{"$f":"'[1]MedianGlobal,Percentis 5-95conv'!B1048227","v":0}]
[{"$f":"'[1]MedianGlobal,Percentis 5-95conv'!A1048228","v":0},{"$f":"'[1]MedianGlobal,Percentis 5-95conv'!B1048228","v":0}]
[{"$f":"'[1]MedianGlobal,Percentis 5-95conv'!A1048229","v":0},{"$f":"'[1]MedianGlobal,Percentis 5-95conv'!B1048229","v":0}]
[{"$f":"'[1]MedianGlobal,Percentis 5-95conv'!A1048230","v":0},{"$f":"'[1]MedianGlobal,Percentis 5-95conv'!B1048230","v":0}]
[{"$f":"'[1]MedianGlobal,Percentis 5-95conv'!A1048231","v":0},{"$f":"'[1]MedianGlobal,Percentis 5-95conv'!B1048231","v":0}]
[{"$f":"'[1]MedianGlobal,Percentis 5-95conv'!A1048232","v":0},{"$f":"'[1]MedianGlobal,Percentis 5-95conv'!B1048232","v":0}]
[{"$f":"'[1]MedianGlobal,Percentis 5-95conv'!A1048233","v":0},{"$f":"'[1]MedianGlobal,Percentis 5-95conv'!B1048233","v":0}]
[{"$f":"'[1]MedianGlobal,Percentis 5-95conv'!A1048234","v":0},{"$f":"'[1]MedianGlobal,Percentis 5-95conv'!B1048234","v":0}]
[{"$f":"'[1]MedianGlobal,Percentis 5-95conv'!A1048235","v":0},{"$f":"'[1]MedianGlobal,Percentis 5-95conv'!B1048235","v":0}]
[{"$f":"'[1]MedianGlobal,Percentis 5-95conv'!A1048236","v":0},{"$f":"'[1]MedianGlobal,Percentis 5-95conv'!B1048236","v":0}]
[{"$f":"'[1]MedianGlobal,Percentis 5-95conv'!A1048237","v":0},{"$f":"'[1]MedianGlobal,Percentis 5-95conv'!B1048237","v":0}]
[{"$f":"'[1]MedianGlobal,Percentis 5-95conv'!A1048238","v":0},{"$f":"'[1]MedianGlobal,Percentis 5-95conv'!B1048238","v":0}]
[{"$f":"'[1]MedianGlobal,Percentis 5-95conv'!A1048239","v":0},{"$f":"'[1]MedianGlobal,Percentis 5-95conv'!B1048239","v":0}]
[{"$f":"'[1]MedianGlobal,Percentis 5-95conv'!A1048240","v":0},{"$f":"'[1]MedianGlobal,Percentis 5-95conv'!B1048240","v":0}]
[{"$f":"'[1]MedianGlobal,Percentis 5-95conv'!A1048241","v":0},{"$f":"'[1]MedianGlobal,Percentis 5-95conv'!B1048241","v":0}]
[{"$f":"'[1]MedianGlobal,Percentis 5-95conv'!A1048242","v":0},{"$f":"'[1]MedianGlobal,Percentis 5-95conv'!B1048242","v":0}]
[{"$f":"'[1]MedianGlobal,Percentis 5-95conv'!A1048243","v":0},{"$f":"'[1]MedianGlobal,Percentis 5-95conv'!B1048243","v":0}]
[{"$f":"'[1]MedianGlobal,Percentis 5-95conv'!A1048244","v":0},{"$f":"'[1]MedianGlobal,Percentis 5-95conv'!B1048244","v":0}]
[{"$f":"'[1]MedianGlobal,Percentis 5-95conv'!A1048245","v":0},{"$f":"'[1]MedianGlobal,Percentis 5-95conv'!B1048245","v":0}]
[{"$f":"'[1]MedianGlobal,Percentis 5-95conv'!A1048246","v":0},{"$f":"'[1]MedianGlobal,Percentis 5-95conv'!B1048246","v":0}]
[{"$f":"'[1]MedianGlobal,Percentis 5-95conv'!A1048247","v":0},{"$f":"'[1]MedianGlobal,Percentis 5-95conv'!B1048247","v":0}]
[{"$f":"'[1]MedianGlobal,Percentis 5-95conv'!A1048248","v":0},{"$f":"'[1]MedianGlobal,Percentis 5-95conv'!B1048248","v":0}]
[{"$f":"'[1]MedianGlobal,Percentis 5-95conv'!A1048249","v":0},{"$f":"'[1]MedianGlobal,Percentis 5-95conv'!B1048249","v":0}]
[{"$f":"'[1]MedianGlobal,Percentis 5-95conv'!A1048250","v":0},{"$f":"'[1]MedianGlobal,Percentis 5-95conv'!B1048250","v":0}]
[{"$f":"'[1]MedianGlobal,Percentis 5-95conv'!A1048251","v":0},{"$f":"'[1]MedianGlobal,Percentis 5-95conv'!B1048251","v":0}]
[{"$f":"'[1]MedianGlobal,Percentis 5-95conv'!A1048252","v":0},{"$f":"'[1]MedianGlobal,Percentis 5-95conv'!B1048252","v":0}]
[{"$f":"'[1]MedianGlobal,Percentis 5-95conv'!A1048253","v":0},{"$f":"'[1]MedianGlobal,Percentis 5-95conv'!B1048253","v":0}]
[{"$f":"'[1]MedianGlobal,Percentis 5-95conv'!A1048254","v":0},{"$f":"'[1]MedianGlobal,Percentis 5-95conv'!B1048254","v":0}]
[{"$f":"'[1]MedianGlobal,Percentis 5-95conv'!A1048255","v":0},{"$f":"'[1]MedianGlobal,Percentis 5-95conv'!B1048255","v":0}]
[{"$f":"'[1]MedianGlobal,Percentis 5-95conv'!A1048256","v":0},{"$f":"'[1]MedianGlobal,Percentis 5-95conv'!B1048256","v":0}]
[{"$f":"'[1]MedianGlobal,Percentis 5-95conv'!A1048257","v":0},{"$f":"'[1]MedianGlobal,Percentis 5-95conv'!B1048257","v":0}]
[{"$f":"'[1]MedianGlobal,Percentis 5-95conv'!A1048258","v":0},{"$f":"'[1]MedianGlobal,Percentis 5-95conv'!B1048258","v":0}]
[{"$f":"'[1]MedianGlobal,Percentis 5-95conv'!A1048259","v":0},{"$f":"'[1]MedianGlobal,Percentis 5-95conv'!B1048259","v":0}]
[{"$f":"'[1]MedianGlobal,Percentis 5-95conv'!A1048260","v":0},{"$f":"'[1]MedianGlobal,Percentis 5-95conv'!B1048260","v":0}]
[{"$f":"'[1]MedianGlobal,Percentis 5-95conv'!A1048261","v":0},{"$f":"'[1]MedianGlobal,Percentis 5-95conv'!B1048261","v":0}]
[{"$f":"'[1]MedianGlobal,Percentis 5-95conv'!A1048262","v":0},{"$f":"'[1]MedianGlobal,Percentis 5-95conv'!B1048262","v":0}]
[{"$f":"'[1]MedianGlobal,Percentis 5-95conv'!A1048263","v":0},{"$f":"'[1]MedianGlobal,Percentis 5-95conv'!B1048263","v":0}]
[{"$f":"'[1]MedianGlobal,Percentis 5-95conv'!A1048264","v":0},{"$f":"'[1]MedianGlobal,Percentis 5-95conv'!B1048264","v":0}]
[{"$f":"'[1]MedianGlobal,Percentis 5-95conv'!A1048265","v":0},{"$f":"'[1]MedianGlobal,Percentis 5-95conv'!B1048265","v":0}]
[{"$f":"'[1]MedianGlobal,Percentis 5-95conv'!A1048266","v":0},{"$f":"'[1]MedianGlobal,Percentis 5-95conv'!B1048266","v":0}]
[{"$f":"'[1]MedianGlobal,Percentis 5-95conv'!A1048267","v":0},{"$f":"'[1]MedianGlobal,Percentis 5-95conv'!B1048267","v":0}]
[{"$f":"'[1]MedianGlobal,Percentis 5-95conv'!A1048268","v":0},{"$f":"'[1]MedianGlobal,Percentis 5-95conv'!B1048268","v":0}]
[{"$f":"'[1]MedianGlobal,Percentis 5-95conv'!A1048269","v":0},{"$f":"'[1]MedianGlobal,Percentis 5-95conv'!B1048269","v":0}]
[{"$f":"'[1]MedianGlobal,Percentis 5-95conv'!A1048270","v":0},{"$f":"'[1]MedianGlobal,Percentis 5-95conv'!B1048270","v":0}]
[{"$f":"'[1]MedianGlobal,Percentis 5-95conv'!A1048271","v":0},{"$f":"'[1]MedianGlobal,Percentis 5-95conv'!B1048271","v":0}]
[{"$f":"'[1]MedianGlobal,Percentis 5-95conv'!A1048272","v":0},{"$f":"'[1]MedianGlobal,Percentis 5-95conv'!B1048272","v":0}]
[{"$f":"'[1]MedianGlobal,Percentis 5-95conv'!A1048273","v":0},{"$f":"'[1]MedianGlobal,Percentis 5-95conv'!B1048273","v":0}]
[{"$f":"'[1]MedianGlobal,Percentis 5-95conv'!A1048274","v":0},{"$f":"'[1]MedianGlobal,Percentis 5-95conv'!B1048274","v":0}]
[{"$f":"'[1]MedianGlobal,Percentis 5-95conv'!A1048275","v":0},{"$f":"'[1]MedianGlobal,Percentis 5-95conv'!B1048275","v":0}]
[{"$f":"'[1]MedianGlobal,Percentis 5-95conv'!A1048276","v":0},{"$f":"'[1]MedianGlobal,Percentis 5-95conv'!B1048276","v":0}]
[{"$f":"'[1]MedianGlobal,Percentis 5-95conv'!A1048277","v":0},{"$f":"'[1]MedianGlobal,Percentis 5-95conv'!B1048277","v":0}]
[{"$f":"'[1]MedianGlobal,Percentis 5-95conv'!A1048278","v":0},{"$f":"'[1]MedianGlobal,Percentis 5-95conv'!B1048278","v":0}]
[{"$f":"'[1]MedianGlobal,Percentis 5-95conv'!A1048279","v":0},{"$f":"'[1]MedianGlobal,Percentis 5-95conv'!B1048279","v":0}]
[{"$f":"'[1]MedianGlobal,Percentis 5-95conv'!A1048280","v":0},{"$f":"'[1]MedianGlobal,Percentis 5-95conv'!B1048280","v":0}]
[{"$f":"'[1]MedianGlobal,Percentis 5-95conv'!A1048281","v":0},{"$f":"'[1]MedianGlobal,Percentis 5-95conv'!B1048281","v":0}]
[{"$f":"'[1]MedianGlobal,Percentis 5-95conv'!A1048282","v":0},{"$f":"'[1]MedianGlobal,Percentis 5-95conv'!B1048282","v":0}]
[{"$f":"'[1]MedianGlobal,Percentis 5-95conv'!A1048283","v":0},{"$f":"'[1]MedianGlobal,Percentis 5-95conv'!B1048283","v":0}]
[{"$f":"'[1]MedianGlobal,Percentis 5-95conv'!A1048284","v":0},{"$f":"'[1]MedianGlobal,Percentis 5-95conv'!B1048284","v":0}]
[{"$f":"'[1]MedianGlobal,Percentis 5-95conv'!A1048285","v":0},{"$f":"'[1]MedianGlobal,Percentis 5-95conv'!B1048285","v":0}]
[{"$f":"'[1]MedianGlobal,Percentis 5-95conv'!A1048286","v":0},{"$f":"'[1]MedianGlobal,Percentis 5-95conv'!B1048286","v":0}]
[{"$f":"'[1]MedianGlobal,Percentis 5-95conv'!A1048287","v":0},{"$f":"'[1]MedianGlobal,Percentis 5-95conv'!B1048287","v":0}]
[{"$f":"'[1]MedianGlobal,Percentis 5-95conv'!A1048288","v":0},{"$f":"'[1]MedianGlobal,Percentis 5-95conv'!B1048288","v":0}]
[{"$f":"'[1]MedianGlobal,Percentis 5-95conv'!A1048289","v":0},{"$f":"'[1]MedianGlobal,Percentis 5-95conv'!B1048289","v":0}]
[{"$f":"'[1]MedianGlobal,Percentis 5-95conv'!A1048290","v":0},{"$f":"'[1]MedianGlobal,Percentis 5-95conv'!B1048290","v":0}]
[{"$f":"'[1]MedianGlobal,Percentis 5-95conv'!A1048291","v":0},{"$f":"'[1]MedianGlobal,Percentis 5-95conv'!B1048291","v":0}]
[{"$f":"'[1]MedianGlobal,Percentis 5-95conv'!A1048292","v":0},{"$f":"'[1]MedianGlobal,Percentis 5-95conv'!B1048292","v":0}]
[{"$f":"'[1]MedianGlobal,Percentis 5-95conv'!A1048293","v":0},{"$f":"'[1]MedianGlobal,Percentis 5-95conv'!B1048293","v":0}]
[{"$f":"'[1]MedianGlobal,Percentis 5-95conv'!A1048294","v":0},{"$f":"'[1]MedianGlobal,Percentis 5-95conv'!B1048294","v":0}]
[{"$f":"'[1]MedianGlobal,Percentis 5-95conv'!A1048295","v":0},{"$f":"'[1]MedianGlobal,Percentis 5-95conv'!B1048295","v":0}]
[{"$f":"'[1]MedianGlobal,Percentis 5-95conv'!A1048296","v":0},{"$f":"'[1]MedianGlobal,Percentis 5-95conv'!B1048296","v":0}]
[{"$f":"'[1]MedianGlobal,Percentis 5-95conv'!A1048297","v":0},{"$f":"'[1]MedianGlobal,Percentis 5-95conv'!B1048297","v":0}]
[{"$f":"'[1]MedianGlobal,Percentis 5-95conv'!A1048298","v":0},{"$f":"'[1]MedianGlobal,Percentis 5-95conv'!B1048298","v":0}]
[{"$f":"'[1]MedianGlobal,Percentis 5-95conv'!A1048299","v":0},{"$f":"'[1]MedianGlobal,Percentis 5-95conv'!B1048299","v":0}]
[{"$f":"'[1]MedianGlobal,Percentis 5-95conv'!A1048300","v":0},{"$f":"'[1]MedianGlobal,Percentis 5-95conv'!B1048300","v":0}]
[{"$f":"'[1]MedianGlobal,Percentis 5-95conv'!A1048301","v":0},{"$f":"'[1]MedianGlobal,Percentis 5-95conv'!B1048301","v":0}]
[{"$f":"'[1]MedianGlobal,Percentis 5-95conv'!A1048302","v":0},{"$f":"'[1]MedianGlobal,Percentis 5-95conv'!B1048302","v":0}]
[{"$f":"'[1]MedianGlobal,Percentis 5-95conv'!A1048303","v":0},{"$f":"'[1]MedianGlobal,Percentis 5-95conv'!B1048303","v":0}]
[{"$f":"'[1]MedianGlobal,Percentis 5-95conv'!A1048304","v":0},{"$f":"'[1]MedianGlobal,Percentis 5-95conv'!B1048304","v":0}]
[{"$f":"'[1]MedianGlobal,Percentis 5-95conv'!A1048305","v":0},{"$f":"'[1]MedianGlobal,Percentis 5-95conv'!B1048305","v":0}]
[{"$f":"'[1]MedianGlobal,Percentis 5-95conv'!A1048306","v":0},{"$f":"'[1]MedianGlobal,Percentis 5-95conv'!B1048306","v":0}]
[{"$f":"'[1]MedianGlobal,Percentis 5-95conv'!A1048307","v":0},{"$f":"'[1]MedianGlobal,Percentis 5-95conv'!B1048307","v":0}]
[{"$f":"'[1]MedianGlobal,Percentis 5-95conv'!A1048308","v":0},{"$f":"'[1]MedianGlobal,Percentis 5-95conv'!B1048308","v":0}]
[{"$f":"'[1]MedianGlobal,Percentis 5-95conv'!A1048309","v":0},{"$f":"'[1]MedianGlobal,Percentis 5-95conv'!B1048309","v":0}]
[{"$f":"'[1]MedianGlobal,Percentis 5-95conv'!A1048310","v":0},{"$f":"'[1]MedianGlobal,Percentis 5-95conv'!B1048310","v":0}]
[{"$f":"'[1]MedianGlobal,Percentis 5-95conv'!A1048311","v":0},{"$f":"'[1]MedianGlobal,Percentis 5-95conv'!B1048311","v":0}]
[{"$f":"'[1]MedianGlobal,Percentis 5-95conv'!A1048312","v":0},{"$f":"'[1]MedianGlobal,Percentis 5-95conv'!B1048312","v":0}]
[{"$f":"'[1]MedianGlobal,Percentis 5-95conv'!A1048313","v":0},{"$f":"'[1]MedianGlobal,Percentis 5-95conv'!B1048313","v":0}]
[{"$f":"'[1]MedianGlobal,Percentis 5-95conv'!A1048314","v":0},{"$f":"'[1]MedianGlobal,Percentis 5-95conv'!B1048314","v":0}]
[{"$f":"'[1]MedianGlobal,Percentis 5-95conv'!A1048315","v":0},{"$f":"'[1]MedianGlobal,Percentis 5-95conv'!B1048315","v":0}]
[{"$f":"'[1]MedianGlobal,Percentis 5-95conv'!A1048316","v":0},{"$f":"'[1]MedianGlobal,Percentis 5-95conv'!B1048316","v":0}]
[{"$f":"'[1]MedianGlobal,Percentis 5-95conv'!A1048317","v":0},{"$f":"'[1]MedianGlobal,Percentis 5-95conv'!B1048317","v":0}]
[{"$f":"'[1]MedianGlobal,Percentis 5-95conv'!A1048318","v":0},{"$f":"'[1]MedianGlobal,Percentis 5-95conv'!B1048318","v":0}]
[{"$f":"'[1]MedianGlobal,Percentis 5-95conv'!A1048319","v":0},{"$f":"'[1]MedianGlobal,Percentis 5-95conv'!B1048319","v":0}]
[{"$f":"'[1]MedianGlobal,Percentis 5-95conv'!A1048320","v":0},{"$f":"'[1]MedianGlobal,Percentis 5-95conv'!B1048320","v":0}]
[{"$f":"'[1]MedianGlobal,Percentis 5-95conv'!A1048321","v":0},{"$f":"'[1]MedianGlobal,Percentis 5-95conv'!B1048321","v":0}]
[{"$f":"'[1]MedianGlobal,Percentis 5-95conv'!A1048322","v":0},{"$f":"'[1]MedianGlobal,Percentis 5-95conv'!B1048322","v":0}]
[{"$f":"'[1]MedianGlobal,Percentis 5-95conv'!A1048323","v":0},{"$f":"'[1]MedianGlobal,Percentis 5-95conv'!B1048323","v":0}]
[{"$f":"'[1]MedianGlobal,Percentis 5-95conv'!A1048324","v":0},{"$f":"'[1]MedianGlobal,Percentis 5-95conv'!B1048324","v":0}]
[{"$f":"'[1]MedianGlobal,Percentis 5-95conv'!A1048325","v":0},{"$f":"'[1]MedianGlobal,Percentis 5-95conv'!B1048325","v":0}]
[{"$f":"'[1]MedianGlobal,Percentis 5-95conv'!A1048326","v":0},{"$f":"'[1]MedianGlobal,Percentis 5-95conv'!B1048326","v":0}]
[{"$f":"'[1]MedianGlobal,Percentis 5-95conv'!A1048327","v":0},{"$f":"'[1]MedianGlobal,Percentis 5-95conv'!B1048327","v":0}]
[{"$f":"'[1]MedianGlobal,Percentis 5-95conv'!A1048328","v":0},{"$f":"'[1]MedianGlobal,Percentis 5-95conv'!B1048328","v":0}]
[{"$f":"'[1]MedianGlobal,Percentis 5-95conv'!A1048329","v":0},{"$f":"'[1]MedianGlobal,Percentis 5-95conv'!B1048329","v":0}]
[{"$f":"'[1]MedianGlobal,Percentis 5-95conv'!A1048330","v":0},{"$f":"'[1]MedianGlobal,Percentis 5-95conv'!B1048330","v":0}]
[{"$f":"'[1]MedianGlobal,Percentis 5-95conv'!A1048331","v":0},{"$f":"'[1]MedianGlobal,Percentis 5-95conv'!B1048331","v":0}]
[{"$f":"'[1]MedianGlobal,Percentis 5-95conv'!A1048332","v":0},{"$f":"'[1]MedianGlobal,Percentis 5-95conv'!B1048332","v":0}]
[{"$f":"'[1]MedianGlobal,Percentis 5-95conv'!A1048333","v":0},{"$f":"'[1]MedianGlobal,Percentis 5-95conv'!B1048333","v":0}]
[{"$f":"'[1]MedianGlobal,Percentis 5-95conv'!A1048334","v":0},{"$f":"'[1]MedianGlobal,Percentis 5-95conv'!B1048334","v":0}]
[{"$f":"'[1]MedianGlobal,Percentis 5-95conv'!A1048335","v":0},{"$f":"'[1]MedianGlobal,Percentis 5-95conv'!B1048335","v":0}]
[{"$f":"'[1]MedianGlobal,Percentis 5-95conv'!A1048336","v":0},{"$f":"'[1]MedianGlobal,Percentis 5-95conv'!B1048336","v":0}]
[{"$f":"'[1]MedianGlobal,Percentis 5-95conv'!A1048337","v":0},{"$f":"'[1]MedianGlobal,Percentis 5-95conv'!B1048337","v":0}]
[{"$f":"'[1]MedianGlobal,Percentis 5-95conv'!A1048338","v":0},{"$f":"'[1]MedianGlobal,Percentis 5-95conv'!B1048338","v":0}]
[{"$f":"'[1]MedianGlobal,Percentis 5-95conv'!A1048339","v":0},{"$f":"'[1]MedianGlobal,Percentis 5-95conv'!B1048339","v":0}]
[{"$f":"'[1]MedianGlobal,Percentis 5-95conv'!A1048340","v":0},{"$f":"'[1]MedianGlobal,Percentis 5-95conv'!B1048340","v":0}]
[{"$f":"'[1]MedianGlobal,Percentis 5-95conv'!A1048341","v":0},{"$f":"'[1]MedianGlobal,Percentis 5-95conv'!B1048341","v":0}]
[{"$f":"'[1]MedianGlobal,Percentis 5-95conv'!A1048342","v":0},{"$f":"'[1]MedianGlobal,Percentis 5-95conv'!B1048342","v":0}]
[{"$f":"'[1]MedianGlobal,Percentis 5-95conv'!A1048343","v":0},{"$f":"'[1]MedianGlobal,Percentis 5-95conv'!B1048343","v":0}]
[{"$f":"'[1]MedianGlobal,Percentis 5-95conv'!A1048344","v":0},{"$f":"'[1]MedianGlobal,Percentis 5-95conv'!B1048344","v":0}]
[{"$f":"'[1]MedianGlobal,Percentis 5-95conv'!A1048345","v":0},{"$f":"'[1]MedianGlobal,Percentis 5-95conv'!B1048345","v":0}]
[{"$f":"'[1]MedianGlobal,Percentis 5-95conv'!A1048346","v":0},{"$f":"'[1]MedianGlobal,Percentis 5-95conv'!B1048346","v":0}]
[{"$f":"'[1]MedianGlobal,Percentis 5-95conv'!A1048347","v":0},{"$f":"'[1]MedianGlobal,Percentis 5-95conv'!B1048347","v":0}]
[{"$f":"'[1]MedianGlobal,Percentis 5-95conv'!A1048348","v":0},{"$f":"'[1]MedianGlobal,Percentis 5-95conv'!B1048348","v":0}]
[{"$f":"'[1]MedianGlobal,Percentis 5-95conv'!A1048349","v":0},{"$f":"'[1]MedianGlobal,Percentis 5-95conv'!B1048349","v":0}]
[{"$f":"'[1]MedianGlobal,Percentis 5-95conv'!A1048350","v":0},{"$f":"'[1]MedianGlobal,Percentis 5-95conv'!B1048350","v":0}]
[{"$f":"'[1]MedianGlobal,Percentis 5-95conv'!A1048351","v":0},{"$f":"'[1]MedianGlobal,Percentis 5-95conv'!B1048351","v":0}]
[{"$f":"'[1]MedianGlobal,Percentis 5-95conv'!A1048352","v":0},{"$f":"'[1]MedianGlobal,Percentis 5-95conv'!B1048352","v":0}]
[{"$f":"'[1]MedianGlobal,Percentis 5-95conv'!A1048353","v":0},{"$f":"'[1]MedianGlobal,Percentis 5-95conv'!B1048353","v":0}]
[{"$f":"'[1]MedianGlobal,Percentis 5-95conv'!A1048354","v":0},{"$f":"'[1]MedianGlobal,Percentis 5-95conv'!B1048354","v":0}]
[{"$f":"'[1]MedianGlobal,Percentis 5-95conv'!A1048355","v":0},{"$f":"'[1]MedianGlobal,Percentis 5-95conv'!B1048355","v":0}]
[{"$f":"'[1]MedianGlobal,Percentis 5-95conv'!A1048356","v":0},{"$f":"'[1]MedianGlobal,Percentis 5-95conv'!B1048356","v":0}]
[{"$f":"'[1]MedianGlobal,Percentis 5-95conv'!A1048357","v":0},{"$f":"'[1]MedianGlobal,Percentis 5-95conv'!B1048357","v":0}]
[{"$f":"'[1]MedianGlobal,Percentis 5-95conv'!A1048358","v":0},{"$f":"'[1]MedianGlobal,Percentis 5-95conv'!B1048358","v":0}]
[{"$f":"'[1]MedianGlobal,Percentis 5-95conv'!A1048359","v":0},{"$f":"'[1]MedianGlobal,Percentis 5-95conv'!B1048359","v":0}]
[{"$f":"'[1]MedianGlobal,Percentis 5-95conv'!A1048360","v":0},{"$f":"'[1]MedianGlobal,Percentis 5-95conv'!B1048360","v":0}]
[{"$f":"'[1]MedianGlobal,Percentis 5-95conv'!A1048361","v":0},{"$f":"'[1]MedianGlobal,Percentis 5-95conv'!B1048361","v":0}]
[{"$f":"'[1]MedianGlobal,Percentis 5-95conv'!A1048362","v":0},{"$f":"'[1]MedianGlobal,Percentis 5-95conv'!B1048362","v":0}]
[{"$f":"'[1]MedianGlobal,Percentis 5-95conv'!A1048363","v":0},{"$f":"'[1]MedianGlobal,Percentis 5-95conv'!B1048363","v":0}]
[{"$f":"'[1]MedianGlobal,Percentis 5-95conv'!A1048364","v":0},{"$f":"'[1]MedianGlobal,Percentis 5-95conv'!B1048364","v":0}]
[{"$f":"'[1]MedianGlobal,Percentis 5-95conv'!A1048365","v":0},{"$f":"'[1]MedianGlobal,Percentis 5-95conv'!B1048365","v":0}]
[{"$f":"'[1]MedianGlobal,Percentis 5-95conv'!A1048366","v":0},{"$f":"'[1]MedianGlobal,Percentis 5-95conv'!B1048366","v":0}]
[{"$f":"'[1]MedianGlobal,Percentis 5-95conv'!A1048367","v":0},{"$f":"'[1]MedianGlobal,Percentis 5-95conv'!B1048367","v":0}]
[{"$f":"'[1]MedianGlobal,Percentis 5-95conv'!A1048368","v":0},{"$f":"'[1]MedianGlobal,Percentis 5-95conv'!B1048368","v":0}]
[{"$f":"'[1]MedianGlobal,Percentis 5-95conv'!A1048369","v":0},{"$f":"'[1]MedianGlobal,Percentis 5-95conv'!B1048369","v":0}]
[{"$f":"'[1]MedianGlobal,Percentis 5-95conv'!A1048370","v":0},{"$f":"'[1]MedianGlobal,Percentis 5-95conv'!B1048370","v":0}]
[{"$f":"'[1]MedianGlobal,Percentis 5-95conv'!A1048371","v":0},{"$f":"'[1]MedianGlobal,Percentis 5-95conv'!B1048371","v":0}]
[{"$f":"'[1]MedianGlobal,Percentis 5-95conv'!A1048372","v":0},{"$f":"'[1]MedianGlobal,Percentis 5-95conv'!B1048372","v":0}]
[{"$f":"'[1]MedianGlobal,Percentis 5-95conv'!A1048373","v":0},{"$f":"'[1]MedianGlobal,Percentis 5-95conv'!B1048373","v":0}]
[{"$f":"'[1]MedianGlobal,Percentis 5-95conv'!A1048374","v":0},{"$f":"'[1]MedianGlobal,Percentis 5-95conv'!B1048374","v":0}]
[{"$f":"'[1]MedianGlobal,Percentis 5-95conv'!A1048375","v":0},{"$f":"'[1]MedianGlobal,Percentis 5-95conv'!B1048375","v":0}]
[{"$f":"'[1]MedianGlobal,Percentis 5-95conv'!A1048376","v":0},{"$f":"'[1]MedianGlobal,Percentis 5-95conv'!B1048376","v":0}]
[{"$f":"'[1]MedianGlobal,Percentis 5-95conv'!A1048377","v":0},{"$f":"'[1]MedianGlobal,Percentis 5-95conv'!B1048377","v":0}]
[{"$f":"'[1]MedianGlobal,Percentis 5-95conv'!A1048378","v":0},{"$f":"'[1]MedianGlobal,Percentis 5-95conv'!B1048378","v":0}]
[{"$f":"'[1]MedianGlobal,Percentis 5-95conv'!A1048379","v":0},{"$f":"'[1]MedianGlobal,Percentis 5-95conv'!B1048379","v":0}]
[{"$f":"'[1]MedianGlobal,Percentis 5-95conv'!A1048380","v":0},{"$f":"'[1]MedianGlobal,Percentis 5-95conv'!B1048380","v":0}]
[{"$f":"'[1]MedianGlobal,Percentis 5-95conv'!A1048381","v":0},{"$f":"'[1]MedianGlobal,Percentis 5-95conv'!B1048381","v":0}]
[{"$f":"'[1]MedianGlobal,Percentis 5-95conv'!A1048382","v":0},{"$f":"'[1]MedianGlobal,Percentis 5-95conv'!B1048382","v":0}]
[{"$f":"'[1]MedianGlobal,Percentis 5-95conv'!A1048383","v":0},{"$f":"'[1]MedianGlobal,Percentis 5-95conv'!B1048383","v":0}]
[{"$f":"'[1]MedianGlobal,Percentis 5-95conv'!A1048384","v":0},{"$f":"'[1]MedianGlobal,Percentis 5-95conv'!B1048384","v":0}]
[{"$f":"'[1]MedianGlobal,Percentis 5-95conv'!A1048385","v":0},{"$f":"'[1]MedianGlobal,Percentis 5-95conv'!B1048385","v":0}]
[{"$f":"'[1]MedianGlobal,Percentis 5-95conv'!A1048386","v":0},{"$f":"'[1]MedianGlobal,Percentis 5-95conv'!B1048386","v":0}]
[{"$f":"'[1]MedianGlobal,Percentis 5-95conv'!A1048387","v":0},{"$f":"'[1]MedianGlobal,Percentis 5-95conv'!B1048387","v":0}]
[{"$f":"'[1]MedianGlobal,Percentis 5-95conv'!A1048388","v":0},{"$f":"'[1]MedianGlobal,Percentis 5-95conv'!B1048388","v":0}]
[{"$f":"'[1]MedianGlobal,Percentis 5-95conv'!A1048389","v":0},{"$f":"'[1]MedianGlobal,Percentis 5-95conv'!B1048389","v":0}]
[{"$f":"'[1]MedianGlobal,Percentis 5-95conv'!A1048390","v":0},{"$f":"'[1]MedianGlobal,Percentis 5-95conv'!B1048390","v":0}]
[{"$f":"'[1]MedianGlobal,Percentis 5-95conv'!A1048391","v":0},{"$f":"'[1]MedianGlobal,Percentis 5-95conv'!B1048391","v":0}]
[{"$f":"'[1]MedianGlobal,Percentis 5-95conv'!A1048392","v":0},{"$f":"'[1]MedianGlobal,Percentis 5-95conv'!B1048392","v":0}]
[{"$f":"'[1]MedianGlobal,Percentis 5-95conv'!A1048393","v":0},{"$f":"'[1]MedianGlobal,Percentis 5-95conv'!B1048393","v":0}]
[{"$f":"'[1]MedianGlobal,Percentis 5-95conv'!A1048394","v":0},{"$f":"'[1]MedianGlobal,Percentis 5-95conv'!B1048394","v":0}]
[{"$f":"'[1]MedianGlobal,Percentis 5-95conv'!A1048395","v":0},{"$f":"'[1]MedianGlobal,Percentis 5-95conv'!B1048395","v":0}]
[{"$f":"'[1]MedianGlobal,Percentis 5-95conv'!A1048396","v":0},{"$f":"'[1]MedianGlobal,Percentis 5-95conv'!B1048396","v":0}]
[{"$f":"'[1]MedianGlobal,Percentis 5-95conv'!A1048397","v":0},{"$f":"'[1]MedianGlobal,Percentis 5-95conv'!B1048397","v":0}]
[{"$f":"'[1]MedianGlobal,Percentis 5-95conv'!A1048398","v":0},{"$f":"'[1]MedianGlobal,Percentis 5-95conv'!B1048398","v":0}]
[{"$f":"'[1]MedianGlobal,Percentis 5-95conv'!A1048399","v":0},{"$f":"'[1]MedianGlobal,Percentis 5-95conv'!B1048399","v":0}]
[{"$f":"'[1]MedianGlobal,Percentis 5-95conv'!A1048400","v":0},{"$f":"'[1]MedianGlobal,Percentis 5-95conv'!B1048400","v":0}]
[{"$f":"'[1]MedianGlobal,Percentis 5-95conv'!A1048401","v":0},{"$f":"'[1]MedianGlobal,Percentis 5-95conv'!B1048401","v":0}]
[{"$f":"'[1]MedianGlobal,Percentis 5-95conv'!A1048402","v":0},{"$f":"'[1]MedianGlobal,Percentis 5-95conv'!B1048402","v":0}]
[{"$f":"'[1]MedianGlobal,Percentis 5-95conv'!A1048403","v":0},{"$f":"'[1]MedianGlobal,Percentis 5-95conv'!B1048403","v":0}]
[{"$f":"'[1]MedianGlobal,Percentis 5-95conv'!A1048404","v":0},{"$f":"'[1]MedianGlobal,Percentis 5-95conv'!B1048404","v":0}]
[{"$f":"'[1]MedianGlobal,Percentis 5-95conv'!A1048405","v":0},{"$f":"'[1]MedianGlobal,Percentis 5-95conv'!B1048405","v":0}]
[{"$f":"'[1]MedianGlobal,Percentis 5-95conv'!A1048406","v":0},{"$f":"'[1]MedianGlobal,Percentis 5-95conv'!B1048406","v":0}]
[{"$f":"'[1]MedianGlobal,Percentis 5-95conv'!A1048407","v":0},{"$f":"'[1]MedianGlobal,Percentis 5-95conv'!B1048407","v":0}]
[{"$f":"'[1]MedianGlobal,Percentis 5-95conv'!A1048408","v":0},{"$f":"'[1]MedianGlobal,Percentis 5-95conv'!B1048408","v":0}]
[{"$f":"'[1]MedianGlobal,Percentis 5-95conv'!A1048409","v":0},{"$f":"'[1]MedianGlobal,Percentis 5-95conv'!B1048409","v":0}]
[{"$f":"'[1]MedianGlobal,Percentis 5-95conv'!A1048410","v":0},{"$f":"'[1]MedianGlobal,Percentis 5-95conv'!B1048410","v":0}]
[{"$f":"'[1]MedianGlobal,Percentis 5-95conv'!A1048411","v":0},{"$f":"'[1]MedianGlobal,Percentis 5-95conv'!B1048411","v":0}]
[{"$f":"'[1]MedianGlobal,Percentis 5-95conv'!A1048412","v":0},{"$f":"'[1]MedianGlobal,Percentis 5-95conv'!B1048412","v":0}]
[{"$f":"'[1]MedianGlobal,Percentis 5-95conv'!A1048413","v":0},{"$f":"'[1]MedianGlobal,Percentis 5-95conv'!B1048413","v":0}]
[{"$f":"'[1]MedianGlobal,Percentis 5-95conv'!A1048414","v":0},{"$f":"'[1]MedianGlobal,Percentis 5-95conv'!B1048414","v":0}]
[{"$f":"'[1]MedianGlobal,Percentis 5-95conv'!A1048415","v":0},{"$f":"'[1]MedianGlobal,Percentis 5-95conv'!B1048415","v":0}]
[{"$f":"'[1]MedianGlobal,Percentis 5-95conv'!A1048416","v":0},{"$f":"'[1]MedianGlobal,Percentis 5-95conv'!B1048416","v":0}]
[{"$f":"'[1]MedianGlobal,Percentis 5-95conv'!A1048417","v":0},{"$f":"'[1]MedianGlobal,Percentis 5-95conv'!B1048417","v":0}]
[{"$f":"'[1]MedianGlobal,Percentis 5-95conv'!A1048418","v":0},{"$f":"'[1]MedianGlobal,Percentis 5-95conv'!B1048418","v":0}]
[{"$f":"'[1]MedianGlobal,Percentis 5-95conv'!A1048419","v":0},{"$f":"'[1]MedianGlobal,Percentis 5-95conv'!B1048419","v":0}]
[{"$f":"'[1]MedianGlobal,Percentis 5-95conv'!A1048420","v":0},{"$f":"'[1]MedianGlobal,Percentis 5-95conv'!B1048420","v":0}]
[{"$f":"'[1]MedianGlobal,Percentis 5-95conv'!A1048421","v":0},{"$f":"'[1]MedianGlobal,Percentis 5-95conv'!B1048421","v":0}]
[{"$f":"'[1]MedianGlobal,Percentis 5-95conv'!A1048422","v":0},{"$f":"'[1]MedianGlobal,Percentis 5-95conv'!B1048422","v":0}]
[{"$f":"'[1]MedianGlobal,Percentis 5-95conv'!A1048423","v":0},{"$f":"'[1]MedianGlobal,Percentis 5-95conv'!B1048423","v":0}]
[{"$f":"'[1]MedianGlobal,Percentis 5-95conv'!A1048424","v":0},{"$f":"'[1]MedianGlobal,Percentis 5-95conv'!B1048424","v":0}]
[{"$f":"'[1]MedianGlobal,Percentis 5-95conv'!A1048425","v":0},{"$f":"'[1]MedianGlobal,Percentis 5-95conv'!B1048425","v":0}]
[{"$f":"'[1]MedianGlobal,Percentis 5-95conv'!A1048426","v":0},{"$f":"'[1]MedianGlobal,Percentis 5-95conv'!B1048426","v":0}]
[{"$f":"'[1]MedianGlobal,Percentis 5-95conv'!A1048427","v":0},{"$f":"'[1]MedianGlobal,Percentis 5-95conv'!B1048427","v":0}]
[{"$f":"'[1]MedianGlobal,Percentis 5-95conv'!A1048428","v":0},{"$f":"'[1]MedianGlobal,Percentis 5-95conv'!B1048428","v":0}]
[{"$f":"'[1]MedianGlobal,Percentis 5-95conv'!A1048429","v":0},{"$f":"'[1]MedianGlobal,Percentis 5-95conv'!B1048429","v":0}]
[{"$f":"'[1]MedianGlobal,Percentis 5-95conv'!A1048430","v":0},{"$f":"'[1]MedianGlobal,Percentis 5-95conv'!B1048430","v":0}]
[{"$f":"'[1]MedianGlobal,Percentis 5-95conv'!A1048431","v":0},{"$f":"'[1]MedianGlobal,Percentis 5-95conv'!B1048431","v":0}]
[{"$f":"'[1]MedianGlobal,Percentis 5-95conv'!A1048432","v":0},{"$f":"'[1]MedianGlobal,Percentis 5-95conv'!B1048432","v":0}]
[{"$f":"'[1]MedianGlobal,Percentis 5-95conv'!A1048433","v":0},{"$f":"'[1]MedianGlobal,Percentis 5-95conv'!B1048433","v":0}]
[{"$f":"'[1]MedianGlobal,Percentis 5-95conv'!A1048434","v":0},{"$f":"'[1]MedianGlobal,Percentis 5-95conv'!B1048434","v":0}]
[{"$f":"'[1]MedianGlobal,Percentis 5-95conv'!A1048435","v":0},{"$f":"'[1]MedianGlobal,Percentis 5-95conv'!B1048435","v":0}]
[{"$f":"'[1]MedianGlobal,Percentis 5-95conv'!A1048436","v":0},{"$f":"'[1]MedianGlobal,Percentis 5-95conv'!B1048436","v":0}]
[{"$f":"'[1]MedianGlobal,Percentis 5-95conv'!A1048437","v":0},{"$f":"'[1]MedianGlobal,Percentis 5-95conv'!B1048437","v":0}]
[{"$f":"'[1]MedianGlobal,Percentis 5-95conv'!A1048438","v":0},{"$f":"'[1]MedianGlobal,Percentis 5-95conv'!B1048438","v":0}]
[{"$f":"'[1]MedianGlobal,Percentis 5-95conv'!A1048439","v":0},{"$f":"'[1]MedianGlobal,Percentis 5-95conv'!B1048439","v":0}]
[{"$f":"'[1]MedianGlobal,Percentis 5-95conv'!A1048440","v":0},{"$f":"'[1]MedianGlobal,Percentis 5-95conv'!B1048440","v":0}]
[{"$f":"'[1]MedianGlobal,Percentis 5-95conv'!A1048441","v":0},{"$f":"'[1]MedianGlobal,Percentis 5-95conv'!B1048441","v":0}]
[{"$f":"'[1]MedianGlobal,Percentis 5-95conv'!A1048442","v":0},{"$f":"'[1]MedianGlobal,Percentis 5-95conv'!B1048442","v":0}]
[{"$f":"'[1]MedianGlobal,Percentis 5-95conv'!A1048443","v":0},{"$f":"'[1]MedianGlobal,Percentis 5-95conv'!B1048443","v":0}]
[{"$f":"'[1]MedianGlobal,Percentis 5-95conv'!A1048444","v":0},{"$f":"'[1]MedianGlobal,Percentis 5-95conv'!B1048444","v":0}]
[{"$f":"'[1]MedianGlobal,Percentis 5-95conv'!A1048445","v":0},{"$f":"'[1]MedianGlobal,Percentis 5-95conv'!B1048445","v":0}]
[{"$f":"'[1]MedianGlobal,Percentis 5-95conv'!A1048446","v":0},{"$f":"'[1]MedianGlobal,Percentis 5-95conv'!B1048446","v":0}]
[{"$f":"'[1]MedianGlobal,Percentis 5-95conv'!A1048447","v":0},{"$f":"'[1]MedianGlobal,Percentis 5-95conv'!B1048447","v":0}]
[{"$f":"'[1]MedianGlobal,Percentis 5-95conv'!A1048448","v":0},{"$f":"'[1]MedianGlobal,Percentis 5-95conv'!B1048448","v":0}]
[{"$f":"'[1]MedianGlobal,Percentis 5-95conv'!A1048449","v":0},{"$f":"'[1]MedianGlobal,Percentis 5-95conv'!B1048449","v":0}]
[{"$f":"'[1]MedianGlobal,Percentis 5-95conv'!A1048450","v":0},{"$f":"'[1]MedianGlobal,Percentis 5-95conv'!B1048450","v":0}]
[{"$f":"'[1]MedianGlobal,Percentis 5-95conv'!A1048451","v":0},{"$f":"'[1]MedianGlobal,Percentis 5-95conv'!B1048451","v":0}]
[{"$f":"'[1]MedianGlobal,Percentis 5-95conv'!A1048452","v":0},{"$f":"'[1]MedianGlobal,Percentis 5-95conv'!B1048452","v":0}]
[{"$f":"'[1]MedianGlobal,Percentis 5-95conv'!A1048453","v":0},{"$f":"'[1]MedianGlobal,Percentis 5-95conv'!B1048453","v":0}]
[{"$f":"'[1]MedianGlobal,Percentis 5-95conv'!A1048454","v":0},{"$f":"'[1]MedianGlobal,Percentis 5-95conv'!B1048454","v":0}]
[{"$f":"'[1]MedianGlobal,Percentis 5-95conv'!A1048455","v":0},{"$f":"'[1]MedianGlobal,Percentis 5-95conv'!B1048455","v":0}]
[{"$f":"'[1]MedianGlobal,Percentis 5-95conv'!A1048456","v":0},{"$f":"'[1]MedianGlobal,Percentis 5-95conv'!B1048456","v":0}]
[{"$f":"'[1]MedianGlobal,Percentis 5-95conv'!A1048457","v":0},{"$f":"'[1]MedianGlobal,Percentis 5-95conv'!B1048457","v":0}]
[{"$f":"'[1]MedianGlobal,Percentis 5-95conv'!A1048458","v":0},{"$f":"'[1]MedianGlobal,Percentis 5-95conv'!B1048458","v":0}]
[{"$f":"'[1]MedianGlobal,Percentis 5-95conv'!A1048459","v":0},{"$f":"'[1]MedianGlobal,Percentis 5-95conv'!B1048459","v":0}]
[{"$f":"'[1]MedianGlobal,Percentis 5-95conv'!A1048460","v":0},{"$f":"'[1]MedianGlobal,Percentis 5-95conv'!B1048460","v":0}]
[{"$f":"'[1]MedianGlobal,Percentis 5-95conv'!A1048461","v":0},{"$f":"'[1]MedianGlobal,Percentis 5-95conv'!B1048461","v":0}]
[{"$f":"'[1]MedianGlobal,Percentis 5-95conv'!A1048462","v":0},{"$f":"'[1]MedianGlobal,Percentis 5-95conv'!B1048462","v":0}]
[{"$f":"'[1]MedianGlobal,Percentis 5-95conv'!A1048463","v":0},{"$f":"'[1]MedianGlobal,Percentis 5-95conv'!B1048463","v":0}]
[{"$f":"'[1]MedianGlobal,Percentis 5-95conv'!A1048464","v":0},{"$f":"'[1]MedianGlobal,Percentis 5-95conv'!B1048464","v":0}]
[{"$f":"'[1]MedianGlobal,Percentis 5-95conv'!A1048465","v":0},{"$f":"'[1]MedianGlobal,Percentis 5-95conv'!B1048465","v":0}]
[{"$f":"'[1]MedianGlobal,Percentis 5-95conv'!A1048466","v":0},{"$f":"'[1]MedianGlobal,Percentis 5-95conv'!B1048466","v":0}]
[{"$f":"'[1]MedianGlobal,Percentis 5-95conv'!A1048467","v":0},{"$f":"'[1]MedianGlobal,Percentis 5-95conv'!B1048467","v":0}]
[{"$f":"'[1]MedianGlobal,Percentis 5-95conv'!A1048468","v":0},{"$f":"'[1]MedianGlobal,Percentis 5-95conv'!B1048468","v":0}]
[{"$f":"'[1]MedianGlobal,Percentis 5-95conv'!A1048469","v":0},{"$f":"'[1]MedianGlobal,Percentis 5-95conv'!B1048469","v":0}]
[{"$f":"'[1]MedianGlobal,Percentis 5-95conv'!A1048470","v":0},{"$f":"'[1]MedianGlobal,Percentis 5-95conv'!B1048470","v":0}]
[{"$f":"'[1]MedianGlobal,Percentis 5-95conv'!A1048471","v":0},{"$f":"'[1]MedianGlobal,Percentis 5-95conv'!B1048471","v":0}]
[{"$f":"'[1]MedianGlobal,Percentis 5-95conv'!A1048472","v":0},{"$f":"'[1]MedianGlobal,Percentis 5-95conv'!B1048472","v":0}]
[{"$f":"'[1]MedianGlobal,Percentis 5-95conv'!A1048473","v":0},{"$f":"'[1]MedianGlobal,Percentis 5-95conv'!B1048473","v":0}]
[{"$f":"'[1]MedianGlobal,Percentis 5-95conv'!A1048474","v":0},{"$f":"'[1]MedianGlobal,Percentis 5-95conv'!B1048474","v":0}]
[{"$f":"'[1]MedianGlobal,Percentis 5-95conv'!A1048475","v":0},{"$f":"'[1]MedianGlobal,Percentis 5-95conv'!B1048475","v":0}]
[{"$f":"'[1]MedianGlobal,Percentis 5-95conv'!A1048476","v":0},{"$f":"'[1]MedianGlobal,Percentis 5-95conv'!B1048476","v":0}]
[{"$f":"'[1]MedianGlobal,Percentis 5-95conv'!A1048477","v":0},{"$f":"'[1]MedianGlobal,Percentis 5-95conv'!B1048477","v":0}]
[{"$f":"'[1]MedianGlobal,Percentis 5-95conv'!A1048478","v":0},{"$f":"'[1]MedianGlobal,Percentis 5-95conv'!B1048478","v":0}]
[{"$f":"'[1]MedianGlobal,Percentis 5-95conv'!A1048479","v":0},{"$f":"'[1]MedianGlobal,Percentis 5-95conv'!B1048479","v":0}]
[{"$f":"'[1]MedianGlobal,Percentis 5-95conv'!A1048480","v":0},{"$f":"'[1]MedianGlobal,Percentis 5-95conv'!B1048480","v":0}]
[{"$f":"'[1]MedianGlobal,Percentis 5-95conv'!A1048481","v":0},{"$f":"'[1]MedianGlobal,Percentis 5-95conv'!B1048481","v":0}]
[{"$f":"'[1]MedianGlobal,Percentis 5-95conv'!A1048482","v":0},{"$f":"'[1]MedianGlobal,Percentis 5-95conv'!B1048482","v":0}]
[{"$f":"'[1]MedianGlobal,Percentis 5-95conv'!A1048483","v":0},{"$f":"'[1]MedianGlobal,Percentis 5-95conv'!B1048483","v":0}]
[{"$f":"'[1]MedianGlobal,Percentis 5-95conv'!A1048484","v":0},{"$f":"'[1]MedianGlobal,Percentis 5-95conv'!B1048484","v":0}]
[{"$f":"'[1]MedianGlobal,Percentis 5-95conv'!A1048485","v":0},{"$f":"'[1]MedianGlobal,Percentis 5-95conv'!B1048485","v":0}]
[{"$f":"'[1]MedianGlobal,Percentis 5-95conv'!A1048486","v":0},{"$f":"'[1]MedianGlobal,Percentis 5-95conv'!B1048486","v":0}]
[{"$f":"'[1]MedianGlobal,Percentis 5-95conv'!A1048487","v":0},{"$f":"'[1]MedianGlobal,Percentis 5-95conv'!B1048487","v":0}]
[{"$f":"'[1]MedianGlobal,Percentis 5-95conv'!A1048488","v":0},{"$f":"'[1]MedianGlobal,Percentis 5-95conv'!B1048488","v":0}]
[{"$f":"'[1]MedianGlobal,Percentis 5-95conv'!A1048489","v":0},{"$f":"'[1]MedianGlobal,Percentis 5-95conv'!B1048489","v":0}]
[{"$f":"'[1]MedianGlobal,Percentis 5-95conv'!A1048490","v":0},{"$f":"'[1]MedianGlobal,Percentis 5-95conv'!B1048490","v":0}]
[{"$f":"'[1]MedianGlobal,Percentis 5-95conv'!A1048491","v":0},{"$f":"'[1]MedianGlobal,Percentis 5-95conv'!B1048491","v":0}]
[{"$f":"'[1]MedianGlobal,Percentis 5-95conv'!A1048492","v":0},{"$f":"'[1]MedianGlobal,Percentis 5-95conv'!B1048492","v":0}]
[{"$f":"'[1]MedianGlobal,Percentis 5-95conv'!A1048493","v":0},{"$f":"'[1]MedianGlobal,Percentis 5-95conv'!B1048493","v":0}]
[{"$f":"'[1]MedianGlobal,Percentis 5-95conv'!A1048494","v":0},{"$f":"'[1]MedianGlobal,Percentis 5-95conv'!B1048494","v":0}]
[{"$f":"'[1]MedianGlobal,Percentis 5-95conv'!A1048495","v":0},{"$f":"'[1]MedianGlobal,Percentis 5-95conv'!B1048495","v":0}]
[{"$f":"'[1]MedianGlobal,Percentis 5-95conv'!A1048496","v":0},{"$f":"'[1]MedianGlobal,Percentis 5-95conv'!B1048496","v":0}]
[{"$f":"'[1]MedianGlobal,Percentis 5-95conv'!A1048497","v":0},{"$f":"'[1]MedianGlobal,Percentis 5-95conv'!B1048497","v":0}]
[{"$f":"'[1]MedianGlobal,Percentis 5-95conv'!A1048498","v":0},{"$f":"'[1]MedianGlobal,Percentis 5-95conv'!B1048498","v":0}]
[{"$f":"'[1]MedianGlobal,Percentis 5-95conv'!A1048499","v":0},{"$f":"'[1]MedianGlobal,Percentis 5-95conv'!B1048499","v":0}]
[{"$f":"'[1]MedianGlobal,Percentis 5-95conv'!A1048500","v":0},{"$f":"'[1]MedianGlobal,Percentis 5-95conv'!B1048500","v":0}]
[{"$f":"'[1]MedianGlobal,Percentis 5-95conv'!A1048501","v":0},{"$f":"'[1]MedianGlobal,Percentis 5-95conv'!B1048501","v":0}]
[{"$f":"'[1]MedianGlobal,Percentis 5-95conv'!A1048502","v":0},{"$f":"'[1]MedianGlobal,Percentis 5-95conv'!B1048502","v":0}]
[{"$f":"'[1]MedianGlobal,Percentis 5-95conv'!A1048503","v":0},{"$f":"'[1]MedianGlobal,Percentis 5-95conv'!B1048503","v":0}]
[{"$f":"'[1]MedianGlobal,Percentis 5-95conv'!A1048504","v":0},{"$f":"'[1]MedianGlobal,Percentis 5-95conv'!B1048504","v":0}]
[{"$f":"'[1]MedianGlobal,Percentis 5-95conv'!A1048505","v":0},{"$f":"'[1]MedianGlobal,Percentis 5-95conv'!B1048505","v":0}]
[{"$f":"'[1]MedianGlobal,Percentis 5-95conv'!A1048506","v":0},{"$f":"'[1]MedianGlobal,Percentis 5-95conv'!B1048506","v":0}]
[{"$f":"'[1]MedianGlobal,Percentis 5-95conv'!A1048507","v":0},{"$f":"'[1]MedianGlobal,Percentis 5-95conv'!B1048507","v":0}]
[{"$f":"'[1]MedianGlobal,Percentis 5-95conv'!A1048508","v":0},{"$f":"'[1]MedianGlobal,Percentis 5-95conv'!B1048508","v":0}]
[{"$f":"'[1]MedianGlobal,Percentis 5-95conv'!A1048509","v":0},{"$f":"'[1]MedianGlobal,Percentis 5-95conv'!B1048509","v":0}]
[{"$f":"'[1]MedianGlobal,Percentis 5-95conv'!A1048510","v":0},{"$f":"'[1]MedianGlobal,Percentis 5-95conv'!B1048510","v":0}]
[{"$f":"'[1]MedianGlobal,Percentis 5-95conv'!A1048511","v":0},{"$f":"'[1]MedianGlobal,Percentis 5-95conv'!B1048511","v":0}]
[{"$f":"'[1]MedianGlobal,Percentis 5-95conv'!A1048512","v":0},{"$f":"'[1]MedianGlobal,Percentis 5-95conv'!B1048512","v":0}]
[{"$f":"'[1]MedianGlobal,Percentis 5-95conv'!A1048513","v":0},{"$f":"'[1]MedianGlobal,Percentis 5-95conv'!B1048513","v":0}]
[{"$f":"'[1]MedianGlobal,Percentis 5-95conv'!A1048514","v":0},{"$f":"'[1]MedianGlobal,Percentis 5-95conv'!B1048514","v":0}]
[{"$f":"'[1]MedianGlobal,Percentis 5-95conv'!A1048515","v":0},{"$f":"'[1]MedianGlobal,Percentis 5-95conv'!B1048515","v":0}]
[{"$f":"'[1]MedianGlobal,Percentis 5-95conv'!A1048516","v":0},{"$f":"'[1]MedianGlobal,Percentis 5-95conv'!B1048516","v":0}]
[{"$f":"'[1]MedianGlobal,Percentis 5-95conv'!A1048517","v":0},{"$f":"'[1]MedianGlobal,Percentis 5-95conv'!B1048517","v":0}]
[{"$f":"'[1]MedianGlobal,Percentis 5-95conv'!A1048518","v":0},{"$f":"'[1]MedianGlobal,Percentis 5-95conv'!B1048518","v":0}]
[{"$f":"'[1]MedianGlobal,Percentis 5-95conv'!A1048519","v":0},{"$f":"'[1]MedianGlobal,Percentis 5-95conv'!B1048519","v":0}]
[{"$f":"'[1]MedianGlobal,Percentis 5-95conv'!A1048520","v":0},{"$f":"'[1]MedianGlobal,Percentis 5-95conv'!B1048520","v":0}]
[{"$f":"'[1]MedianGlobal,Percentis 5-95conv'!A1048521","v":0},{"$f":"'[1]MedianGlobal,Percentis 5-95conv'!B1048521","v":0}]
[{"$f":"'[1]MedianGlobal,Percentis 5-95conv'!A1048522","v":0},{"$f":"'[1]MedianGlobal,Percentis 5-95conv'!B1048522","v":0}]
[{"$f":"'[1]MedianGlobal,Percentis 5-95conv'!A1048523","v":0},{"$f":"'[1]MedianGlobal,Percentis 5-95conv'!B1048523","v":0}]
[{"$f":"'[1]MedianGlobal,Percentis 5-95conv'!A1048524","v":0},{"$f":"'[1]MedianGlobal,Percentis 5-95conv'!B1048524","v":0}]
[{"$f":"'[1]MedianGlobal,Percentis 5-95conv'!A1048525","v":0},{"$f":"'[1]MedianGlobal,Percentis 5-95conv'!B1048525","v":0}]
[{"$f":"'[1]MedianGlobal,Percentis 5-95conv'!A1048526","v":0},{"$f":"'[1]MedianGlobal,Percentis 5-95conv'!B1048526","v":0}]
[{"$f":"'[1]MedianGlobal,Percentis 5-95conv'!A1048527","v":0},{"$f":"'[1]MedianGlobal,Percentis 5-95conv'!B1048527","v":0}]
[{"$f":"'[1]MedianGlobal,Percentis 5-95conv'!A1048528","v":0},{"$f":"'[1]MedianGlobal,Percentis 5-95conv'!B1048528","v":0}]
[{"$f":"'[1]MedianGlobal,Percentis 5-95conv'!A1048529","v":0},{"$f":"'[1]MedianGlobal,Percentis 5-95conv'!B1048529","v":0}]
[{"$f":"'[1]MedianGlobal,Percentis 5-95conv'!A1048530","v":0},{"$f":"'[1]MedianGlobal,Percentis 5-95conv'!B1048530","v":0}]
[{"$f":"'[1]MedianGlobal,Percentis 5-95conv'!A1048531","v":0},{"$f":"'[1]MedianGlobal,Percentis 5-95conv'!B1048531","v":0}]
[{"$f":"'[1]MedianGlobal,Percentis 5-95conv'!A1048532","v":0},{"$f":"'[1]MedianGlobal,Percentis 5-95conv'!B1048532","v":0}]
[{"$f":"'[1]MedianGlobal,Percentis 5-95conv'!A1048533","v":0},{"$f":"'[1]MedianGlobal,Percentis 5-95conv'!B1048533","v":0}]
[{"$f":"'[1]MedianGlobal,Percentis 5-95conv'!A1048534","v":0},{"$f":"'[1]MedianGlobal,Percentis 5-95conv'!B1048534","v":0}]
[{"$f":"'[1]MedianGlobal,Percentis 5-95conv'!A1048535","v":0},{"$f":"'[1]MedianGlobal,Percentis 5-95conv'!B1048535","v":0}]
[{"$f":"'[1]MedianGlobal,Percentis 5-95conv'!A1048536","v":0},{"$f":"'[1]MedianGlobal,Percentis 5-95conv'!B1048536","v":0}]
[{"$f":"'[1]MedianGlobal,Percentis 5-95conv'!A1048537","v":0},{"$f":"'[1]MedianGlobal,Percentis 5-95conv'!B1048537","v":0}]
[{"$f":"'[1]MedianGlobal,Percentis 5-95conv'!A1048538","v":0},{"$f":"'[1]MedianGlobal,Percentis 5-95conv'!B1048538","v":0}]
[{"$f":"'[1]MedianGlobal,Percentis 5-95conv'!A1048539","v":0},{"$f":"'[1]MedianGlobal,Percentis 5-95conv'!B1048539","v":0}]
[{"$f":"'[1]MedianGlobal,Percentis 5-95conv'!A1048540","v":0},{"$f":"'[1]MedianGlobal,Percentis 5-95conv'!B1048540","v":0}]
[{"$f":"'[1]MedianGlobal,Percentis 5-95conv'!A1048541","v":0},{"$f":"'[1]MedianGlobal,Percentis 5-95conv'!B1048541","v":0}]
[{"$f":"'[1]MedianGlobal,Percentis 5-95conv'!A1048542","v":0},{"$f":"'[1]MedianGlobal,Percentis 5-95conv'!B1048542","v":0}]
[{"$f":"'[1]MedianGlobal,Percentis 5-95conv'!A1048543","v":0},{"$f":"'[1]MedianGlobal,Percentis 5-95conv'!B1048543","v":0}]
[{"$f":"'[1]MedianGlobal,Percentis 5-95conv'!A1048544","v":0},{"$f":"'[1]MedianGlobal,Percentis 5-95conv'!B1048544","v":0}]
[{"$f":"'[1]MedianGlobal,Percentis 5-95conv'!A1048545","v":0},{"$f":"'[1]MedianGlobal,Percentis 5-95conv'!B1048545","v":0}]
[{"$f":"'[1]MedianGlobal,Percentis 5-95conv'!A1048546","v":0},{"$f":"'[1]MedianGlobal,Percentis 5-95conv'!B1048546","v":0}]
[{"$f":"'[1]MedianGlobal,Percentis 5-95conv'!A1048547","v":0},{"$f":"'[1]MedianGlobal,Percentis 5-95conv'!B1048547","v":0}]
[{"$f":"'[1]MedianGlobal,Percentis 5-95conv'!A1048548","v":0},{"$f":"'[1]MedianGlobal,Percentis 5-95conv'!B1048548","v":0}]
[{"$f":"'[1]MedianGlobal,Percentis 5-95conv'!A1048549","v":0},{"$f":"'[1]MedianGlobal,Percentis 5-95conv'!B1048549","v":0}]
[{"$f":"'[1]MedianGlobal,Percentis 5-95conv'!A1048550","v":0},{"$f":"'[1]MedianGlobal,Percentis 5-95conv'!B1048550","v":0}]
[{"$f":"'[1]MedianGlobal,Percentis 5-95conv'!A1048551","v":0},{"$f":"'[1]MedianGlobal,Percentis 5-95conv'!B1048551","v":0}]
[{"$f":"'[1]MedianGlobal,Percentis 5-95conv'!A1048552","v":0},{"$f":"'[1]MedianGlobal,Percentis 5-95conv'!B1048552","v":0}]
[{"$f":"'[1]MedianGlobal,Percentis 5-95conv'!A1048553","v":0},{"$f":"'[1]MedianGlobal,Percentis 5-95conv'!B1048553","v":0}]
[{"$f":"'[1]MedianGlobal,Percentis 5-95conv'!A1048554","v":0},{"$f":"'[1]MedianGlobal,Percentis 5-95conv'!B1048554","v":0}]
[{"$f":"'[1]MedianGlobal,Percentis 5-95conv'!A1048555","v":0},{"$f":"'[1]MedianGlobal,Percentis 5-95conv'!B1048555","v":0}]
[{"$f":"'[1]MedianGlobal,Percentis 5-95conv'!A1048556","v":0},{"$f":"'[1]MedianGlobal,Percentis 5-95conv'!B1048556","v":0}]
[{"$f":"'[1]MedianGlobal,Percentis 5-95conv'!A1048557","v":0},{"$f":"'[1]MedianGlobal,Percentis 5-95conv'!B1048557","v":0}]
[{"$f":"'[1]MedianGlobal,Percentis 5-95conv'!A1048558","v":0},{"$f":"'[1]MedianGlobal,Percentis 5-95conv'!B1048558","v":0}]
[{"$f":"'[1]MedianGlobal,Percentis 5-95conv'!A1048559","v":0},{"$f":"'[1]MedianGlobal,Percentis 5-95conv'!B1048559","v":0}]
[{"$f":"'[1]MedianGlobal,Percentis 5-95conv'!A1048560","v":0},{"$f":"'[1]MedianGlobal,Percentis 5-95conv'!B1048560","v":0}]
[{"$f":"'[1]MedianGlobal,Percentis 5-95conv'!A1048561","v":0},{"$f":"'[1]MedianGlobal,Percentis 5-95conv'!B1048561","v":0}]
[{"$f":"'[1]MedianGlobal,Percentis 5-95conv'!A1048562","v":0},{"$f":"'[1]MedianGlobal,Percentis 5-95conv'!B1048562","v":0}]
[{"$f":"'[1]MedianGlobal,Percentis 5-95conv'!A1048563","v":0},{"$f":"'[1]MedianGlobal,Percentis 5-95conv'!B1048563","v":0}]
[{"$f":"'[1]MedianGlobal,Percentis 5-95conv'!A1048564","v":0},{"$f":"'[1]MedianGlobal,Percentis 5-95conv'!B1048564","v":0}]
[{"$f":"'[1]MedianGlobal,Percentis 5-95conv'!A1048565","v":0},{"$f":"'[1]MedianGlobal,Percentis 5-95conv'!B1048565","v":0}]
[{"$f":"'[1]MedianGlobal,Percentis 5-95conv'!A1048566","v":0},{"$f":"'[1]MedianGlobal,Percentis 5-95conv'!B1048566","v":0}]
[{"$f":"'[1]MedianGlobal,Percentis 5-95conv'!A1048567","v":0},{"$f":"'[1]MedianGlobal,Percentis 5-95conv'!B1048567","v":0}]
[{"$f":"'[1]MedianGlobal,Percentis 5-95conv'!A1048568","v":0},{"$f":"'[1]MedianGlobal,Percentis 5-95conv'!B1048568","v":0}]
[{"$f":"'[1]MedianGlobal,Percentis 5-95conv'!A1048569","v":0},{"$f":"'[1]MedianGlobal,Percentis 5-95conv'!B1048569","v":0}]
[{"$f":"'[1]MedianGlobal,Percentis 5-95conv'!A1048570","v":0},{"$f":"'[1]MedianGlobal,Percentis 5-95conv'!B1048570","v":0}]
[{"$f":"'[1]MedianGlobal,Percentis 5-95conv'!A1048571","v":0},{"$f":"'[1]MedianGlobal,Percentis 5-95conv'!B1048571","v":0}]
[{"$f":"'[1]MedianGlobal,Percentis 5-95conv'!A1048572","v":0},{"$f":"'[1]MedianGlobal,Percentis 5-95conv'!B1048572","v":0}]
[{"$f":"'[1]MedianGlobal,Percentis 5-95conv'!A1048573","v":0},{"$f":"'[1]MedianGlobal,Percentis 5-95conv'!B1048573","v":0}]
[{"$f":"'[1]MedianGlobal,Percentis 5-95conv'!A1048574","v":0},{"$f":"'[1]MedianGlobal,Percentis 5-95conv'!B1048574","v":0}]
[{"$f":"'[1]MedianGlobal,Percentis 5-95conv'!A1048575","v":0},{"$f":"'[1]MedianGlobal,Percentis 5-95conv'!B1048575","v":0}]
[{"$f":"'[1]MedianGlobal,Percentis 5-95conv'!A1048576","v":0},{"$f":"'[1]MedianGlobal,Percentis 5-95conv'!B1048576","v":0}]

{"sheet":"Md result 06temp","index":2,"n_rows":14,"n_cols":7,"rows_kept":14,"merged":[[4,2,4,3],[13,2,13,6]]}
[]
[]
[null,"Calculation of the median of the set of temperatures of the two variables (pages 4 to 6)."]
[]
[null,null,"ROL"]
[null,null,"T1",-0.7]
[null,null,"T2",-0.266]
[null,null,"T3",-0.382,null,"MED100 =",{"$f":"MEDIAN(D6:D11)","v":0.33299999999999996}]
[null,null,"T4",0.932]
[null,null,"T5",0.996]
[null,null,"T6",0.999]
[]
[null,null,"Figure 5.","The result of the two parameters described in figures 3 and 6 of the article (p. 4, 5 and 6)."]
[null,null,"Source: Prepared by the author."]