Workbook

Sheet Mechanistic level
A1: No | B1: CaseID | C1: Mode | D1: Cosubstrate | E1: Condition | F1: Intervention | G1: pH | H1: Temp (C) | I1: COD_in (mgCOD/L) | J1: SO4_in (mg/L) | K1: KHCO3_in (mg/L) | L1: %CH4 in biogas | M1: V_CH4 (mL/L) | N1: SO4_out (mg/L) | O1: T (K) | P1: E_in (mmol/L) | Q1: C_SR (mol/L) | R1: alpha_HS | S1: B (mol/L) | T1: m_CH4 (mol/L) | U1: K | V1: y* (mol/L) | W1: Case | X1: f_SR_nom | Y1: f_MG_nom | Z1: f_SR_eff | AA1: f_MG_eff | AB1: d_f_SR | AC1: d_f_MG | AD1: sum_f_eff or fexpressed | AE1: Xsr (y*/C_SR)
A2: 1 | B2: Shu_01 | C2: Continuous | D2: Ethanol | E2: CFR-Control | F2: Control-No intervention | G2: 7.7 | H2: 35 | I2: 5000 | J2: 2500 | K2: 3000 | L2: 50 | M2: =407*5/2.5 -> 814 | N2: 291.4 | O2: =H2+273.15 -> 308.15 | P2: =I2/8 -> 625 | Q2: =J2/1000/96 -> 0.026041667 | R2: =1/(1+10^(7-G2)) -> 0.83366247 | S2: =K2/1000/100.1 -> 0.02997003 | T2: =0.0013*EXP(1900*(1/O2-1/298.15))*L2/100 -> 0.00052856695 | U2: =EXP(-3957/O2) -> 2.6494757e-06 | V2: =(-(U2*R2*S2+T2)+SQRT((U2*R2*S2+T2)^2+8*U2*R2*T2*Q2))/(4*U2*R2) -> 0.026032742 | W2: =IF(V2>=Q2,"Capacity-limited","Crossover-limited") -> Crossover-limited | X2: =MIN(8*Q2*1000,P2)/P2 -> 0.33333333 | Y2: =1-X2 -> 0.66666667 | Z2: =((J2-N2)/96*8)/P2 -> 0.29448 | AA2: =(M2/22.414*8)/P2 -> 0.46485232 | AB2: =Z2-X2 -> -0.038853333 | AC2: =AA2-Y2 -> -0.20181434 | AD2: =Z2+AA2 -> 0.75933232 | AE2: =V2/Q2 -> 0.99965731
A3: 2 | B3: Shu_02 | C3: Continuous | D3: Ethanol | E3: CFR-Fe3O4 | F3: Adding Fe3O4 | G3: 7.5 | H3: 35 | I3: 5000 | J3: 2500 | K3: 3000 | L3: 50 | M3: =471*5/2.5 -> 942 | N3: 95.1 | O3: =H3+273.15 -> 308.15 | P3: =I3/8 -> 625 | Q3: =J3/1000/96 -> 0.026041667 | R3: =1/(1+10^(7-G3)) -> 0.75974693 | S3: =K3/1000/100.1 -> 0.02997003 | T3: =0.0013*EXP(1900*(1/O3-1/298.15))*L3/100 -> 0.00052856695 | U3: =EXP(-3957/O3) -> 2.6494757e-06 | V3: =(-(U3*R3*S3+T3)+SQRT((U3*R3*S3+T3)^2+8*U3*R3*T3*Q3))/(4*U3*R3) -> 0.026033533 | W3: =IF(V3>=Q3,"Capacity-limited","Crossover-limited") -> Crossover-limited | X3: =MIN(8*Q3*1000,P3)/P3 -> 0.33333333 | Y3: =1-X3 -> 0.66666667 | Z3: =((J3-N3)/96*8)/P3 -> 0.32065333 | AA3: =(M3/22.414*8)/P3 -> 0.5379495 | AB3: =Z3-X3 -> -0.01268 | AC3: =AA3-Y3 -> -0.12871717 | AD3: =Z3+AA3 -> 0.85860283 | AE3: =V3/Q3 -> 0.99968768
A4: 3 | B4: Shu_03 | C4: Continuous | D4: Ethanol | E4: CFR-PAC | F4: Adding PAC | G4: 7.9 | H4: 35 | I4: 5000 | J4: 2500 | K4: 3000 | L4: 50 | M4: =439*5/2.5 -> 878 | N4: 73.5 | O4: =H4+273.15 -> 308.15 | P4: =I4/8 -> 625 | Q4: =J4/1000/96 -> 0.026041667 | R4: =1/(1+10^(7-G4)) -> 0.88818423 | S4: =K4/1000/100.1 -> 0.02997003 | T4: =0.0013*EXP(1900*(1/O4-1/298.15))*L4/100 -> 0.00052856695 | U4: =EXP(-3957/O4) -> 2.6494757e-06 | V4: =(-(U4*R4*S4+T4)+SQRT((U4*R4*S4+T4)^2+8*U4*R4*T4*Q4))/(4*U4*R4) -> 0.026032159 | W4: =IF(V4>=Q4,"Capacity-limited","Crossover-limited") -> Crossover-limited | X4: =MIN(8*Q4*1000,P4)/P4 -> 0.33333333 | Y4: =1-X4 -> 0.66666667 | Z4: =((J4-N4)/96*8)/P4 -> 0.32353333 | AA4: =(M4/22.414*8)/P4 -> 0.50140091 | AB4: =Z4-X4 -> -0.0098 | AC4: =AA4-Y4 -> -0.16526576 | AD4: =Z4+AA4 -> 0.82493424 | AE4: =V4/Q4 -> 0.99963491
A5: 4 | B5: Cetecioglu_01 | C5: Batch | D5: Acetate, propionate, butyrate | E5: Acetate/0.5 | F5: Ace_COD/SO4=0.5 | G5: 7 | H5: 35 | I5: =1350/30*64 -> 2880 | J5: =1792*3.2 -> 5734.4 | K5: 0 | L5: 50 | M5: =1237*0.022414/0.03 -> 924.20393 | N5: =(1792-358)*3.2 -> 4588.8 | O5: =H5+273.15 -> 308.15 | P5: =I5/8 -> 360 | Q5: =J5/1000/96 -> 0.059733333 | R5: =1/(1+10^(7-G5)) -> 0.5 | S5: =K5/1000/100.1 -> 0 | T5: =0.0013*EXP(1900*(1/O5-1/298.15))*L5/100 -> 0.00052856695 | U5: =EXP(-3957/O5) -> 2.6494757e-06 | V5: =(-(U5*R5*S5+T5)+SQRT((U5*R5*S5+T5)^2+8*U5*R5*T5*Q5))/(4*U5*R5) -> 0.059715459 | W5: =IF(V5>=Q5,"Capacity-limited","Crossover-limited") -> Crossover-limited | X5: =MIN(8*Q5*1000,P5)/P5 -> 1 | Y5: =1-X5 -> 0 | Z5: =((J5-N5)/96*8)/P5 -> 0.26518519 | AA5: =(M5/22.414*8)/P5 -> 0.9162963 | AB5: =Z5-X5 -> -0.73481481 | AC5: =AA5-Y5 -> 0.9162963 | AD5: =Z5+AA5 -> 1.1814815 | AE5: =V5/Q5 -> 0.99970076
A6: 5 | B6: Cetecioglu_02 | C6: Batch | D6: Acetate, propionate, butyrate | E6: Acetate/1.5 | F6: Ace_COD/SO4=1.5 | G6: 7 | H6: 35 | I6: =1350/30*64 -> 2880 | J6: =597*3.2 -> 1910.4 | K6: 0 | L6: 50 | M6: =1276*0.022414/0.03 -> 953.34213 | N6: =(597-377)*3.2 -> 704 | O6: =H6+273.15 -> 308.15 | P6: =I6/8 -> 360 | Q6: =J6/1000/96 -> 0.0199 | R6: =1/(1+10^(7-G6)) -> 0.5 | S6: =K6/1000/100.1 -> 0 | T6: =0.0013*EXP(1900*(1/O6-1/298.15))*L6/100 -> 0.00052856695 | U6: =EXP(-3957/O6) -> 2.6494757e-06 | V6: =(-(U6*R6*S6+T6)+SQRT((U6*R6*S6+T6)^2+8*U6*R6*T6*Q6))/(4*U6*R6) -> 0.019898015 | W6: =IF(V6>=Q6,"Capacity-limited","Crossover-limited") -> Crossover-limited | X6: =MIN(8*Q6*1000,P6)/P6 -> 0.44222222 | Y6: =1-X6 -> 0.55777778 | Z6: =((J6-N6)/96*8)/P6 -> 0.27925926 | AA6: =(M6/22.414*8)/P6 -> 0.94518519 | AB6: =Z6-X6 -> -0.16296296 | AC6: =AA6-Y6 -> 0.38740741 | AD6: =Z6+AA6 -> 1.2244444 | AE6: =V6/Q6 -> 0.99990027
A7: 6 | B7: Cetecioglu_03 | C7: Batch | D7: Acetate, propionate, butyrate | E7: Acetate/5 | F7: Ace_COD/SO4=5 | G7: 7 | H7: 35 | I7: =1350/30*64 -> 2880 | J7: =179*3.2 -> 572.8 | K7: 0 | L7: 50 | M7: =1307*0.022414/0.03 -> 976.50327 | N7: =(179-126)*3.2 -> 169.6 | O7: =H7+273.15 -> 308.15 | P7: =I7/8 -> 360 | Q7: =J7/1000/96 -> 0.0059666667 | R7: =1/(1+10^(7-G7)) -> 0.5 | S7: =K7/1000/100.1 -> 0 | T7: =0.0013*EXP(1900*(1/O7-1/298.15))*L7/100 -> 0.00052856695 | U7: =EXP(-3957/O7) -> 2.6494757e-06 | V7: =(-(U7*R7*S7+T7)+SQRT((U7*R7*S7+T7)^2+8*U7*R7*T7*Q7))/(4*U7*R7) -> 0.0059664882 | W7: =IF(V7>=Q7,"Capacity-limited","Crossover-limited") -> Crossover-limited | X7: =MIN(8*Q7*1000,P7)/P7 -> 0.13259259 | Y7: =1-X7 -> 0.86740741 | Z7: =((J7-N7)/96*8)/P7 -> 0.093333333 | AA7: =(M7/22.414*8)/P7 -> 0.96814815 | AB7: =Z7-X7 -> -0.039259259 | AC7: =AA7-Y7 -> 0.10074074 | AD7: =Z7+AA7 -> 1.0614815 | AE7: =V7/Q7 -> 0.99997009
A8: 7 | B8: Cetecioglu_04 | C8: Batch | D8: Acetate, propionate, butyrate | E8: Propionate/0.5 | F8: Propionate_COD/SO4=0.5 | G8: 7 | H8: 35 | I8: =600/30*112 -> 2240 | J8: =1379*3.2 -> 4412.8 | K8: 0 | L8: 50 | M8: =961*0.022414/0.03 -> 717.99513 | N8: =(1397-662)*3.2 -> 2352 | O8: =H8+273.15 -> 308.15 | P8: =I8/8 -> 280 | Q8: =J8/1000/96 -> 0.045966667 | R8: =1/(1+10^(7-G8)) -> 0.5 | S8: =K8/1000/100.1 -> 0 | T8: =0.0013*EXP(1900*(1/O8-1/298.15))*L8/100 -> 0.00052856695 | U8: =EXP(-3957/O8) -> 2.6494757e-06 | V8: =(-(U8*R8*S8+T8)+SQRT((U8*R8*S8+T8)^2+8*U8*R8*T8*Q8))/(4*U8*R8) -> 0.04595608 | W8: =IF(V8>=Q8,"Capacity-limited","Crossover-limited") -> Crossover-limited | X8: =MIN(8*Q8*1000,P8)/P8 -> 1 | Y8: =1-X8 -> 0 | Z8: =((J8-N8)/96*8)/P8 -> 0.61333333 | AA8: =(M8/22.414*8)/P8 -> 0.9152381 | AB8: =Z8-X8 -> -0.38666667 | AC8: =AA8-Y8 -> 0.9152381 | AD8: =Z8+AA8 -> 1.5285714 | AE8: =V8/Q8 -> 0.9997697
A9: 8 | B9: Cetecioglu_05 | C9: Batch | D9: Acetate, propionate, butyrate | E9: Propionate/1.5 | F9: Propionate_COD/SO4=1.5 | G9: 7 | H9: 35 | I9: =600/30*112 -> 2240 | J9: =466*3.2 -> 1491.2 | K9: 0 | L9: 50 | M9: =869*0.022414/0.03 -> 649.25887 | N9: =(466-357)*3.2 -> 348.8 | O9: =H9+273.15 -> 308.15 | P9: =I9/8 -> 280 | Q9: =J9/1000/96 -> 0.015533333 | R9: =1/(1+10^(7-G9)) -> 0.5 | S9: =K9/1000/100.1 -> 0 | T9: =0.0013*EXP(1900*(1/O9-1/298.15))*L9/100 -> 0.00052856695 | U9: =EXP(-3957/O9) -> 2.6494757e-06 | V9: =(-(U9*R9*S9+T9)+SQRT((U9*R9*S9+T9)^2+8*U9*R9*T9*Q9))/(4*U9*R9) -> 0.015532124 | W9: =IF(V9>=Q9,"Capacity-limited","Crossover-limited") -> Crossover-limited | X9: =MIN(8*Q9*1000,P9)/P9 -> 0.44380952 | Y9: =1-X9 -> 0.55619048 | Z9: =((J9-N9)/96*8)/P9 -> 0.34 | AA9: =(M9/22.414*8)/P9 -> 0.82761905 | AB9: =Z9-X9 -> -0.10380952 | AC9: =AA9-Y9 -> 0.27142857 | AD9: =Z9+AA9 -> 1.167619 | AE9: =V9/Q9 -> 0.99992215
A10: 9 | B10: Cetecioglu_06 | C10: Batch | D10: Acetate, propionate, butyrate | E10: Propionate/5 | F10: Propionate_COD/SO4=5 | G10: 7 | H10: 35 | I10: =600/30*112 -> 2240 | J10: =140*3.2 -> 448 | K10: 0 | L10: 50 | M10: =1214*0.022414/0.03 -> 907.01987 | N10: =(140-138)*3.2 -> 6.4 | O10: =H10+273.15 -> 308.15 | P10: =I10/8 -> 280 | Q10: =J10/1000/96 -> 0.0046666667 | R10: =1/(1+10^(7-G10)) -> 0.5 | S10: =K10/1000/100.1 -> 0 | T10: =0.0013*EXP(1900*(1/O10-1/298.15))*L10/100 -> 0.00052856695 | U10: =EXP(-3957/O10) -> 2.6494757e-06 | V10: =(-(U10*R10*S10+T10)+SQRT((U10*R10*S10+T10)^2+8*U10*R10*T10*Q10))/(4*U10*R10) -> 0.0046665575 | W10: =IF(V10>=Q10,"Capacity-limited","Crossover-limited") -> Crossover-limited | X10: =MIN(8*Q10*1000,P10)/P10 -> 0.13333333 | Y10: =1-X10 -> 0.86666667 | Z10: =((J10-N10)/96*8)/P10 -> 0.13142857 | AA10: =(M10/22.414*8)/P10 -> 1.1561905 | AB10: =Z10-X10 -> -0.0019047619 | AC10: =AA10-Y10 -> 0.28952381 | AD10: =Z10+AA10 -> 1.287619 | AE10: =V10/Q10 -> 0.99997661
A11: 10 | B11: Cetecioglu_07 | C11: Batch | D11: Acetate, propionate, butyrate | E11: Butyrate/0.5 | F11: Butyrate_COD/SO4=0.5 | G11: 7 | H11: 35 | I11: =600/30*160 -> 3200 | J11: =2002*3.2 -> 6406.4 | K11: 0 | L11: 50 | M11: =667*0.022414/0.03 -> 498.33793 | N11: =(2002-1694)*3.2 -> 985.6 | O11: =H11+273.15 -> 308.15 | P11: =I11/8 -> 400 | Q11: =J11/1000/96 -> 0.066733333 | R11: =1/(1+10^(7-G11)) -> 0.5 | S11: =K11/1000/100.1 -> 0 | T11: =0.0013*EXP(1900*(1/O11-1/298.15))*L11/100 -> 0.00052856695 | U11: =EXP(-3957/O11) -> 2.6494757e-06 | V11: =(-(U11*R11*S11+T11)+SQRT((U11*R11*S11+T11)^2+8*U11*R11*T11*Q11))/(4*U11*R11) -> 0.066711026 | W11: =IF(V11>=Q11,"Capacity-limited","Crossover-limited") -> Crossover-limited | X11: =MIN(8*Q11*1000,P11)/P11 -> 1 | Y11: =1-X11 -> 0 | Z11: =((J11-N11)/96*8)/P11 -> 1.1293333 | AA11: =(M11/22.414*8)/P11 -> 0.44466667 | AB11: =Z11-X11 -> 0.12933333 | AC11: =AA11-Y11 -> 0.44466667 | AD11: =Z11+AA11 -> 1.574 | AE11: =V11/Q11 -> 0.99966572
A12: 11 | B12: Cetecioglu_08 | C12: Batch | D12: Acetate, propionate, butyrate | E12: Butyrate/1.5 | F12: Butyrate_COD/SO4=1.5 | G12: 7 | H12: 35 | I12: =600/30*160 -> 3200 | J12: =667*3.2 -> 2134.4 | K12: 0 | L12: 50 | M12: =683*0.022414/0.03 -> 510.29207 | N12: =(667-665)*3.2 -> 6.4 | O12: =H12+273.15 -> 308.15 | P12: =I12/8 -> 400 | Q12: =J12/1000/96 -> 0.022233333 | R12: =1/(1+10^(7-G12)) -> 0.5 | S12: =K12/1000/100.1 -> 0 | T12: =0.0013*EXP(1900*(1/O12-1/298.15))*L12/100 -> 0.00052856695 | U12: =EXP(-3957/O12) -> 2.6494757e-06 | V12: =(-(U12*R12*S12+T12)+SQRT((U12*R12*S12+T12)^2+8*U12*R12*T12*Q12))/(4*U12*R12) -> 0.022230856 | W12: =IF(V12>=Q12,"Capacity-limited","Crossover-limited") -> Crossover-limited | X12: =MIN(8*Q12*1000,P12)/P12 -> 0.44466667 | Y12: =1-X12 -> 0.55533333 | Z12: =((J12-N12)/96*8)/P12 -> 0.44333333 | AA12: =(M12/22.414*8)/P12 -> 0.45533333 | AB12: =Z12-X12 -> -0.0013333333 | AC12: =AA12-Y12 -> -0.1 | AD12: =Z12+AA12 -> 0.89866667 | AE12: =V12/Q12 -> 0.99988858
A13: 12 | B13: Cetecioglu_09 | C13: Batch | D13: Acetate, propionate, butyrate | E13: Butyrate/5 | F13: Butyrate_COD/SO4=5 | G13: 7 | H13: 35 | I13: =600/30*160 -> 3200 | J13: =200*3.2 -> 640 | K13: 0 | L13: 50 | M13: =656*0.022414/0.03 -> 490.11947 | N13: =(200-199)*3.2 -> 3.2 | O13: =H13+273.15 -> 308.15 | P13: =I13/8 -> 400 | Q13: =J13/1000/96 -> 0.0066666667 | R13: =1/(1+10^(7-G13)) -> 0.5 | S13: =K13/1000/100.1 -> 0 | T13: =0.0013*EXP(1900*(1/O13-1/298.15))*L13/100 -> 0.00052856695 | U13: =EXP(-3957/O13) -> 2.6494757e-06 | V13: =(-(U13*R13*S13+T13)+SQRT((U13*R13*S13+T13)^2+8*U13*R13*T13*Q13))/(4*U13*R13) -> 0.0066664439 | W13: =IF(V13>=Q13,"Capacity-limited","Crossover-limited") -> Crossover-limited | X13: =MIN(8*Q13*1000,P13)/P13 -> 0.13333333 | Y13: =1-X13 -> 0.86666667 | Z13: =((J13-N13)/96*8)/P13 -> 0.13266667 | AA13: =(M13/22.414*8)/P13 -> 0.43733333 | AB13: =Z13-X13 -> -0.00066666667 | AC13: =AA13-Y13 -> -0.42933333 | AD13: =Z13+AA13 -> 0.57 | AE13: =V13/Q13 -> 0.99996659
A14: 13 | B14: Mahesh_01 | C14: Batch | D14: Post-tanning wastewater | E14: COD/SO4-0.62 | F14: COD/SO4=0.62 | G14: 8.98 | H14: 30 | I14: 3027 | J14: 4853 | K14: 0 | L14: 50 | M14: 0 | N14: 2670 | O14: =H14+273.15 -> 303.15 | P14: =I14/8 -> 378.375 | Q14: =J14/1000/96 -> 0.050552083 | R14: =1/(1+10^(7-G14)) -> 0.98963723 | S14: =K14/1000/100.1 -> 0 | T14: =0.0013*EXP(1900*(1/O14-1/298.15))*L14/100 -> 0.00058514839 | U14: =EXP(-3957/O14) -> 2.1437711e-06 | V14: =(-(U14*R14*S14+T14)+SQRT((U14*R14*S14+T14)^2+8*U14*R14*T14*Q14))/(4*U14*R14) -> 0.050533566 | W14: =IF(V14>=Q14,"Capacity-limited","Crossover-limited") -> Crossover-limited | X14: =MIN(8*Q14*1000,P14)/P14 -> 1 | Y14: =1-X14 -> 0 | Z14: =((J14-N14)/96*8)/P14 -> 0.48078405 | AA14: =(M14/22.414*8)/P14 -> 0 | AB14: =Z14-X14 -> -0.51921595 | AC14: =AA14-Y14 -> 0 | AD14: =Z14+AA14 -> 0.48078405 | AE14: =V14/Q14 -> 0.9996337
A15: 14 | B15: Mahesh_02 | C15: Batch | D15: Post-tanning wastewater | E15: COD/SO4-0.69 | F15: COD/SO4=0.69 | G15: 8.34 | H15: 30 | I15: 3097 | J15: 4480 | K15: 0 | L15: 50 | M15: =(I15-1317)*0.05 -> 89 | N15: 2380 | O15: =H15+273.15 -> 303.15 | P15: =I15/8 -> 387.125 | Q15: =J15/1000/96 -> 0.046666667 | R15: =1/(1+10^(7-G15)) -> 0.95628915 | S15: =K15/1000/100.1 -> 0 | T15: =0.0013*EXP(1900*(1/O15-1/298.15))*L15/100 -> 0.00058514839 | U15: =EXP(-3957/O15) -> 2.1437711e-06 | V15: =(-(U15*R15*S15+T15)+SQRT((U15*R15*S15+T15)^2+8*U15*R15*T15*Q15))/(4*U15*R15) -> 0.046651417 | W15: =IF(V15>=Q15,"Capacity-limited","Crossover-limited") -> Crossover-limited | X15: =MIN(8*Q15*1000,P15)/P15 -> 0.96437413 | Y15: =1-X15 -> 0.035625875 | Z15: =((J15-N15)/96*8)/P15 -> 0.45205037 | AA15: =(M15/22.414*8)/P15 -> 0.082055823 | AB15: =Z15-X15 -> -0.51232375 | AC15: =AA15-Y15 -> 0.046429949 | AD15: =Z15+AA15 -> 0.53410619 | AE15: =V15/Q15 -> 0.99967322
A16: 15 | B16: Mahesh_03 | C16: Batch | D16: Post-tanning wastewater | E16: COD/SO4-1.2 | F16: COD/SO4=1.2 | G16: 7.26 | H16: 30 | I16: 3320 | J16: 2753 | K16: 0 | L16: 50 | M16: =(I16-1220)*0.18 -> 378 | N16: 1153 | O16: =H16+273.15 -> 303.15 | P16: =I16/8 -> 415 | Q16: =J16/1000/96 -> 0.028677083 | R16: =1/(1+10^(7-G16)) -> 0.64535245 | S16: =K16/1000/100.1 -> 0 | T16: =0.0013*EXP(1900*(1/O16-1/298.15))*L16/100 -> 0.00058514839 | U16: =EXP(-3957/O16) -> 2.1437711e-06 | V16: =(-(U16*R16*S16+T16)+SQRT((U16*R16*S16+T16)^2+8*U16*R16*T16*Q16))/(4*U16*R16) -> 0.028673196 | W16: =IF(V16>=Q16,"Capacity-limited","Crossover-limited") -> Crossover-limited | X16: =MIN(8*Q16*1000,P16)/P16 -> 0.55281124 | Y16: =1-X16 -> 0.44718876 | Z16: =((J16-N16)/96*8)/P16 -> 0.32128514 | AA16: =(M16/22.414*8)/P16 -> 0.32509802 | AB16: =Z16-X16 -> -0.2315261 | AC16: =AA16-Y16 -> -0.12209074 | AD16: =Z16+AA16 -> 0.64638316 | AE16: =V16/Q16 -> 0.99986443
A17: 16 | B17: Prakash_01 | C17: Continuous | D17: Glucose | E17: Control-10 | F17: COD/SO4=10 | G17: 7.9 | H17: 37 | I17: 8000 | J17: =I17/10 -> 800 | K17: =I17/2*(100.115/61.017) -> 6563.089 | L17: 50 | M17: =I17*(22.414/64)*0.658 -> 1843.5515 | N17: =J17-(I17*5.4/100*1.5) -> 152 | O17: =H17+273.15 -> 310.15 | P17: =I17/8 -> 1000 | Q17: =J17/1000/96 -> 0.0083333333 | R17: =1/(1+10^(7-G17)) -> 0.88818423 | S17: =K17/1000/100.1 -> 0.065565324 | T17: =0.0013*EXP(1900*(1/O17-1/298.15))*L17/100 -> 0.00050796328 | U17: =EXP(-3957/O17) -> 2.8782078e-06 | V17: =(-(U17*R17*S17+T17)+SQRT((U17*R17*S17+T17)^2+8*U17*R17*T17*Q17))/(4*U17*R17) -> 0.0083298864 | W17: =IF(V17>=Q17,"Capacity-limited","Crossover-limited") -> Crossover-limited | X17: =MIN(8*Q17*1000,P17)/P17 -> 0.066666667 | Y17: =1-X17 -> 0.93333333 | Z17: =((J17-N17)/96*8)/P17 -> 0.054 | AA17: =(M17/22.414*8)/P17 -> 0.658 | AB17: =Z17-X17 -> -0.012666667 | AC17: =AA17-Y17 -> -0.27533333 | AD17: =Z17+AA17 -> 0.712 | AE17: =V17/Q17 -> 0.99958636
A18: 17 | B18: Prakash_02 | C18: Continuous | D18: Glucose | E18: Control-7.5 | F18: COD/SO4=7.5 | G18: 7.9 | H18: 37 | I18: 8000 | J18: =I18/7.5 -> 1066.6667 | K18: =I18/2*(100.115/61.017) -> 6563.089 | L18: 50 | M18: =I18*(22.414/64)*0.668 -> 1871.569 | N18: =J18-(I18*7.1/100*1.5) -> 214.66667 | O18: =H18+273.15 -> 310.15 | P18: =I18/8 -> 1000 | Q18: =J18/1000/96 -> 0.011111111 | R18: =1/(1+10^(7-G18)) -> 0.88818423 | S18: =K18/1000/100.1 -> 0.065565324 | T18: =0.0013*EXP(1900*(1/O18-1/298.15))*L18/100 -> 0.00050796328 | U18: =EXP(-3957/O18) -> 2.8782078e-06 | V18: =(-(U18*R18*S18+T18)+SQRT((U18*R18*S18+T18)^2+8*U18*R18*T18*Q18))/(4*U18*R18) -> 0.011106205 | W18: =IF(V18>=Q18,"Capacity-limited","Crossover-limited") -> Crossover-limited | X18: =MIN(8*Q18*1000,P18)/P18 -> 0.088888889 | Y18: =1-X18 -> 0.91111111 | Z18: =((J18-N18)/96*8)/P18 -> 0.071 | AA18: =(M18/22.414*8)/P18 -> 0.668 | AB18: =Z18-X18 -> -0.017888889 | AC18: =AA18-Y18 -> -0.24311111 | AD18: =Z18+AA18 -> 0.739 | AE18: =V18/Q18 -> 0.99955844
A19: 18 | B19: Prakash_03 | C19: Continuous | D19: Glucose | E19: Control-5 | F19: COD/SO4=5 | G19: 7.9 | H19: 37 | I19: 8000 | J19: =I19/5 -> 1600 | K19: =I19/2*(100.115/61.017) -> 6563.089 | L19: 50 | M19: =I19*(22.414/64)*0.647 -> 1812.7323 | N19: =J19-(I19*10.1/100*1.5) -> 388 | O19: =H19+273.15 -> 310.15 | P19: =I19/8 -> 1000 | Q19: =J19/1000/96 -> 0.016666667 | R19: =1/(1+10^(7-G19)) -> 0.88818423 | S19: =K19/1000/100.1 -> 0.065565324 | T19: =0.0013*EXP(1900*(1/O19-1/298.15))*L19/100 -> 0.00050796328 | U19: =EXP(-3957/O19) -> 2.8782078e-06 | V19: =(-(U19*R19*S19+T19)+SQRT((U19*R19*S19+T19)^2+8*U19*R19*T19*Q19))/(4*U19*R19) -> 0.016658377 | W19: =IF(V19>=Q19,"Capacity-limited","Crossover-limited") -> Crossover-limited | X19: =MIN(8*Q19*1000,P19)/P19 -> 0.13333333 | Y19: =1-X19 -> 0.86666667 | Z19: =((J19-N19)/96*8)/P19 -> 0.101 | AA19: =(M19/22.414*8)/P19 -> 0.647 | AB19: =Z19-X19 -> -0.032333333 | AC19: =AA19-Y19 -> -0.21966667 | AD19: =Z19+AA19 -> 0.748 | AE19: =V19/Q19 -> 0.99950261
A20: 19 | B20: Prakash_04 | C20: Continuous | D20: Glucose | E20: Control-3 | F20: COD/SO4=3 | G20: 7.9 | H20: 37 | I20: 8000 | J20: =I20/3 -> 2666.6667 | K20: =I20/2*(100.115/61.017) -> 6563.089 | L20: 50 | M20: =I20*(22.414/64)*0.628 -> 1759.499 | N20: =J20-(I20*16/100*1.5) -> 746.66667 | O20: =H20+273.15 -> 310.15 | P20: =I20/8 -> 1000 | Q20: =J20/1000/96 -> 0.027777778 | R20: =1/(1+10^(7-G20)) -> 0.88818423 | S20: =K20/1000/100.1 -> 0.065565324 | T20: =0.0013*EXP(1900*(1/O20-1/298.15))*L20/100 -> 0.00050796328 | U20: =EXP(-3957/O20) -> 2.8782078e-06 | V20: =(-(U20*R20*S20+T20)+SQRT((U20*R20*S20+T20)^2+8*U20*R20*T20*Q20))/(4*U20*R20) -> 0.027760861 | W20: =IF(V20>=Q20,"Capacity-limited","Crossover-limited") -> Crossover-limited | X20: =MIN(8*Q20*1000,P20)/P20 -> 0.22222222 | Y20: =1-X20 -> 0.77777778 | Z20: =((J20-N20)/96*8)/P20 -> 0.16 | AA20: =(M20/22.414*8)/P20 -> 0.628 | AB20: =Z20-X20 -> -0.062222222 | AC20: =AA20-Y20 -> -0.14977778 | AD20: =Z20+AA20 -> 0.788 | AE20: =V20/Q20 -> 0.99939099
A21: 20 | B21: Prakash_05 | C21: Continuous | D21: Glucose | E21: Control-2 | F21: COD/SO4=2 | G21: 7.9 | H21: 37 | I21: 8000 | J21: =I21/2 -> 4000 | K21: =I21/2*(100.115/61.017) -> 6563.089 | L21: 50 | M21: =I21*(22.414/64)*0.504 -> 1412.082 | N21: =J21-(I21*23.1/100*1.5) -> 1228 | O21: =H21+273.15 -> 310.15 | P21: =I21/8 -> 1000 | Q21: =J21/1000/96 -> 0.041666667 | R21: =1/(1+10^(7-G21)) -> 0.88818423 | S21: =K21/1000/100.1 -> 0.065565324 | T21: =0.0013*EXP(1900*(1/O21-1/298.15))*L21/100 -> 0.00050796328 | U21: =EXP(-3957/O21) -> 2.8782078e-06 | V21: =(-(U21*R21*S21+T21)+SQRT((U21*R21*S21+T21)^2+8*U21*R21*T21*Q21))/(4*U21*R21) -> 0.04163548 | W21: =IF(V21>=Q21,"Capacity-limited","Crossover-limited") -> Crossover-limited | X21: =MIN(8*Q21*1000,P21)/P21 -> 0.33333333 | Y21: =1-X21 -> 0.66666667 | Z21: =((J21-N21)/96*8)/P21 -> 0.231 | AA21: =(M21/22.414*8)/P21 -> 0.504 | AB21: =Z21-X21 -> -0.10233333 | AC21: =AA21-Y21 -> -0.16266667 | AD21: =Z21+AA21 -> 0.735 | AE21: =V21/Q21 -> 0.99925153
A22: 21 | B22: Prakash_06 | C22: Continuous | D22: Glucose | E22: Control-1 | F22: COD/SO4=1 | G22: 7.9 | H22: 37 | I22: 8000 | J22: =I22/1 -> 8000 | K22: =I22/2*(100.115/61.017) -> 6563.089 | L22: 50 | M22: =I22*(22.414/64)*0.372 -> 1042.251 | N22: =J22-(I22*26.7/100*1.5) -> 4796 | O22: =H22+273.15 -> 310.15 | P22: =I22/8 -> 1000 | Q22: =J22/1000/96 -> 0.083333333 | R22: =1/(1+10^(7-G22)) -> 0.88818423 | S22: =K22/1000/100.1 -> 0.065565324 | T22: =0.0013*EXP(1900*(1/O22-1/298.15))*L22/100 -> 0.00050796328 | U22: =EXP(-3957/O22) -> 2.8782078e-06 | V22: =(-(U22*R22*S22+T22)+SQRT((U22*R22*S22+T22)^2+8*U22*R22*T22*Q22))/(4*U22*R22) -> 0.083236134 | W22: =IF(V22>=Q22,"Capacity-limited","Crossover-limited") -> Crossover-limited | X22: =MIN(8*Q22*1000,P22)/P22 -> 0.66666667 | Y22: =1-X22 -> 0.33333333 | Z22: =((J22-N22)/96*8)/P22 -> 0.267 | AA22: =(M22/22.414*8)/P22 -> 0.372 | AB22: =Z22-X22 -> -0.39966667 | AC22: =AA22-Y22 -> 0.038666667 | AD22: =Z22+AA22 -> 0.639 | AE22: =V22/Q22 -> 0.99883361
A23: 22 | B23: Prakash_07 | C23: Continuous | D23: Glucose | E23: EVR-10 | F23: COD/SO4=10+an electrical voltage | G23: 7.9 | H23: 37 | I23: 8000 | J23: =I23/10 -> 800 | K23: =I23/2*(100.115/61.017) -> 6563.089 | L23: 50 | M23: =I23*(22.414/64)*0.826 -> 2314.2455 | N23: =J23-(I23*6/100*1.5) -> 80 | O23: =H23+273.15 -> 310.15 | P23: =I23/8 -> 1000 | Q23: =J23/1000/96 -> 0.0083333333 | R23: =1/(1+10^(7-G23)) -> 0.88818423 | S23: =K23/1000/100.1 -> 0.065565324 | T23: =0.0013*EXP(1900*(1/O23-1/298.15))*L23/100 -> 0.00050796328 | U23: =EXP(-3957/O23) -> 2.8782078e-06 | V23: =(-(U23*R23*S23+T23)+SQRT((U23*R23*S23+T23)^2+8*U23*R23*T23*Q23))/(4*U23*R23) -> 0.0083298864 | W23: =IF(V23>=Q23,"Capacity-limited","Crossover-limited") -> Crossover-limited | X23: =MIN(8*Q23*1000,P23)/P23 -> 0.066666667 | Y23: =1-X23 -> 0.93333333 | Z23: =((J23-N23)/96*8)/P23 -> 0.06 | AA23: =(M23/22.414*8)/P23 -> 0.826 | AB23: =Z23-X23 -> -0.0066666667 | AC23: =AA23-Y23 -> -0.10733333 | AD23: =Z23+AA23 -> 0.886 | AE23: =V23/Q23 -> 0.99958636
A24: 23 | B24: Prakash_08 | C24: Continuous | D24: Glucose | E24: EVR-7.5 | F24: COD/SO4=7.5+an electrical voltage | G24: 7.9 | H24: 37 | I24: 8000 | J24: =I24/7.5 -> 1066.6667 | K24: =I24/2*(100.115/61.017) -> 6563.089 | L24: 50 | M24: =I24*(22.414/64)*0.817 -> 2289.0297 | N24: =J24-(I24*8.1/100*1.5) -> 94.666667 | O24: =H24+273.15 -> 310.15 | P24: =I24/8 -> 1000 | Q24: =J24/1000/96 -> 0.011111111 | R24: =1/(1+10^(7-G24)) -> 0.88818423 | S24: =K24/1000/100.1 -> 0.065565324 | T24: =0.0013*EXP(1900*(1/O24-1/298.15))*L24/100 -> 0.00050796328 | U24: =EXP(-3957/O24) -> 2.8782078e-06 | V24: =(-(U24*R24*S24+T24)+SQRT((U24*R24*S24+T24)^2+8*U24*R24*T24*Q24))/(4*U24*R24) -> 0.011106205 | W24: =IF(V24>=Q24,"Capacity-limited","Crossover-limited") -> Crossover-limited | X24: =MIN(8*Q24*1000,P24)/P24 -> 0.088888889 | Y24: =1-X24 -> 0.91111111 | Z24: =((J24-N24)/96*8)/P24 -> 0.081 | AA24: =(M24/22.414*8)/P24 -> 0.817 | AB24: =Z24-X24 -> -0.0078888889 | AC24: =AA24-Y24 -> -0.094111111 | AD24: =Z24+AA24 -> 0.898 | AE24: =V24/Q24 -> 0.99955844
A25: 24 | B25: Prakash_09 | C25: Continuous | D25: Glucose | E25: EVR-5 | F25: COD/SO4=5+an electrical voltage | G25: 7.9 | H25: 37 | I25: 8000 | J25: =I25/5 -> 1600 | K25: =I25/2*(100.115/61.017) -> 6563.089 | L25: 50 | M25: =I25*(22.414/64)*0.778 -> 2179.7615 | N25: =J25-(I25*12/100*1.5) -> 160 | O25: =H25+273.15 -> 310.15 | P25: =I25/8 -> 1000 | Q25: =J25/1000/96 -> 0.016666667 | R25: =1/(1+10^(7-G25)) -> 0.88818423 | S25: =K25/1000/100.1 -> 0.065565324 | T25: =0.0013*EXP(1900*(1/O25-1/298.15))*L25/100 -> 0.00050796328 | U25: =EXP(-3957/O25) -> 2.8782078e-06 | V25: =(-(U25*R25*S25+T25)+SQRT((U25*R25*S25+T25)^2+8*U25*R25*T25*Q25))/(4*U25*R25) -> 0.016658377 | W25: =IF(V25>=Q25,"Capacity-limited","Crossover-limited") -> Crossover-limited | X25: =MIN(8*Q25*1000,P25)/P25 -> 0.13333333 | Y25: =1-X25 -> 0.86666667 | Z25: =((J25-N25)/96*8)/P25 -> 0.12 | AA25: =(M25/22.414*8)/P25 -> 0.778 | AB25: =Z25-X25 -> -0.013333333 | AC25: =AA25-Y25 -> -0.088666667 | AD25: =Z25+AA25 -> 0.898 | AE25: =V25/Q25 -> 0.99950261
A26: 25 | B26: Prakash_10 | C26: Continuous | D26: Glucose | E26: EVR-3 | F26: COD/SO4=3+an electrical voltage | G26: 7.9 | H26: 37 | I26: 8000 | J26: =I26/3 -> 2666.6667 | K26: =I26/2*(100.115/61.017) -> 6563.089 | L26: 50 | M26: =I26*(22.414/64)*0.692 -> 1938.811 | N26: =J26-(I26*18.9/100*1.5) -> 398.66667 | O26: =H26+273.15 -> 310.15 | P26: =I26/8 -> 1000 | Q26: =J26/1000/96 -> 0.027777778 | R26: =1/(1+10^(7-G26)) -> 0.88818423 | S26: =K26/1000/100.1 -> 0.065565324 | T26: =0.0013*EXP(1900*(1/O26-1/298.15))*L26/100 -> 0.00050796328 | U26: =EXP(-3957/O26) -> 2.8782078e-06 | V26: =(-(U26*R26*S26+T26)+SQRT((U26*R26*S26+T26)^2+8*U26*R26*T26*Q26))/(4*U26*R26) -> 0.027760861 | W26: =IF(V26>=Q26,"Capacity-limited","Crossover-limited") -> Crossover-limited | X26: =MIN(8*Q26*1000,P26)/P26 -> 0.22222222 | Y26: =1-X26 -> 0.77777778 | Z26: =((J26-N26)/96*8)/P26 -> 0.189 | AA26: =(M26/22.414*8)/P26 -> 0.692 | AB26: =Z26-X26 -> -0.033222222 | AC26: =AA26-Y26 -> -0.085777778 | AD26: =Z26+AA26 -> 0.881 | AE26: =V26/Q26 -> 0.99939099
A27: 26 | B27: Prakash_11 | C27: Continuous | D27: Glucose | E27: EVR-2 | F27: COD/SO4=2+an electrical voltage | G27: 7.9 | H27: 37 | I27: 8000 | J27: =I27/2 -> 4000 | K27: =I27/2*(100.115/61.017) -> 6563.089 | L27: 50 | M27: =I27*(22.414/64)*0.593 -> 1661.4377 | N27: =J27-(I27*27.3/100*1.5) -> 724 | O27: =H27+273.15 -> 310.15 | P27: =I27/8 -> 1000 | Q27: =J27/1000/96 -> 0.041666667 | R27: =1/(1+10^(7-G27)) -> 0.88818423 | S27: =K27/1000/100.1 -> 0.065565324 | T27: =0.0013*EXP(1900*(1/O27-1/298.15))*L27/100 -> 0.00050796328 | U27: =EXP(-3957/O27) -> 2.8782078e-06 | V27: =(-(U27*R27*S27+T27)+SQRT((U27*R27*S27+T27)^2+8*U27*R27*T27*Q27))/(4*U27*R27) -> 0.04163548 | W27: =IF(V27>=Q27,"Capacity-limited","Crossover-limited") -> Crossover-limited | X27: =MIN(8*Q27*1000,P27)/P27 -> 0.33333333 | Y27: =1-X27 -> 0.66666667 | Z27: =((J27-N27)/96*8)/P27 -> 0.273 | AA27: =(M27/22.414*8)/P27 -> 0.593 | AB27: =Z27-X27 -> -0.060333333 | AC27: =AA27-Y27 -> -0.073666667 | AD27: =Z27+AA27 -> 0.866 | AE27: =V27/Q27 -> 0.99925153
A28: 27 | B28: Prakash_12 | C28: Continuous | D28: Glucose | E28: EVR-1 | F28: COD/SO4=1+an electrical voltage | G28: 7.9 | H28: 37 | I28: 8000 | J28: =I28/1 -> 8000 | K28: =I28/2*(100.115/61.017) -> 6563.089 | L28: 50 | M28: =I28*(22.414/64)*0.521 -> 1459.7118 | N28: =J28-(I28*31.4/100*1.5) -> 4232 | O28: =H28+273.15 -> 310.15 | P28: =I28/8 -> 1000 | Q28: =J28/1000/96 -> 0.083333333 | R28: =1/(1+10^(7-G28)) -> 0.88818423 | S28: =K28/1000/100.1 -> 0.065565324 | T28: =0.0013*EXP(1900*(1/O28-1/298.15))*L28/100 -> 0.00050796328 | U28: =EXP(-3957/O28) -> 2.8782078e-06 | V28: =(-(U28*R28*S28+T28)+SQRT((U28*R28*S28+T28)^2+8*U28*R28*T28*Q28))/(4*U28*R28) -> 0.083236134 | W28: =IF(V28>=Q28,"Capacity-limited","Crossover-limited") -> Crossover-limited | X28: =MIN(8*Q28*1000,P28)/P28 -> 0.66666667 | Y28: =1-X28 -> 0.33333333 | Z28: =((J28-N28)/96*8)/P28 -> 0.314 | AA28: =(M28/22.414*8)/P28 -> 0.521 | AB28: =Z28-X28 -> -0.35266667 | AC28: =AA28-Y28 -> 0.18766667 | AD28: =Z28+AA28 -> 0.835 | AE28: =V28/Q28 -> 0.99883361
A29: 28 | B29: Sarti&Zaiat_1 | C29: Batch | D29: Butanol + sulfonation wastewater | E29: COD/SO4=2.60 | F29: COD/SO4=2.60 | G29: 7.3 | H29: 25 | I29: 762 | J29: 289 | K29: =14.2*(100.115/50) -> 28.43266 | L29: 50 | M29: =0.0035*22.414 -> 0.078449 | N29: 103.6 | O29: =H29+273.15 -> 298.15 | P29: =I29/8 -> 95.25 | Q29: =J29/1000/96 -> 0.0030104167 | R29: =1/(1+10^(7-G29)) -> 0.66613942 | S29: =K29/1000/100.1 -> 0.00028404256 | T29: =0.0013*EXP(1900*(1/O29-1/298.15))*L29/100 -> 0.00065 | U29: =EXP(-3957/O29) -> 1.7223119e-06 | V29: =(-(U29*R29*S29+T29)+SQRT((U29*R29*S29+T29)^2+8*U29*R29*T29*Q29))/(4*U29*R29) -> 0.0030103832 | W29: =IF(V29>=Q29,"Capacity-limited","Crossover-limited") -> Crossover-limited | X29: =MIN(8*Q29*1000,P29)/P29 -> 0.25284339 | Y29: =1-X29 -> 0.74715661 | Z29: =((J29-N29)/96*8)/P29 -> 0.16220472 | AA29: =(M29/22.414*8)/P29 -> 0.00029396325 | AB29: =Z29-X29 -> -0.09063867 | AC29: =AA29-Y29 -> -0.74686264 | AD29: =Z29+AA29 -> 0.16249869 | AE29: =V29/Q29 -> 0.99998887
A30: 29 | B30: Sarti&Zaiat_2 | C30: Batch | D30: Butanol + sulfonation wastewater | E30: COD/SO4=3.09 | F30: COD/SO4=3.09 | G30: 7.2 | H30: 25 | I30: 1757 | J30: 572 | K30: =18.8*(100.115/50) -> 37.64324 | L30: 50 | M30: =0.0085*22.414 -> 0.190519 | N30: 31.9 | O30: =H30+273.15 -> 298.15 | P30: =I30/8 -> 219.625 | Q30: =J30/1000/96 -> 0.0059583333 | R30: =1/(1+10^(7-G30)) -> 0.61313682 | S30: =K30/1000/100.1 -> 0.00037605634 | T30: =0.0013*EXP(1900*(1/O30-1/298.15))*L30/100 -> 0.00065 | U30: =EXP(-3957/O30) -> 1.7223119e-06 | V30: =(-(U30*R30*S30+T30)+SQRT((U30*R30*S30+T30)^2+8*U30*R30*T30*Q30))/(4*U30*R30) -> 0.0059582143 | W30: =IF(V30>=Q30,"Capacity-limited","Crossover-limited") -> Crossover-limited | X30: =MIN(8*Q30*1000,P30)/P30 -> 0.21703662 | Y30: =1-X30 -> 0.78296338 | Z30: =((J30-N30)/96*8)/P30 -> 0.20493265 | AA30: =(M30/22.414*8)/P30 -> 0.00030961867 | AB30: =Z30-X30 -> -0.012103965 | AC30: =AA30-Y30 -> -0.78265377 | AD30: =Z30+AA30 -> 0.20524227 | AE30: =V30/Q30 -> 0.99998003
A31: 30 | B31: Sarti&Zaiat_3 | C31: Batch | D31: Butanol + sulfonation wastewater | E31: COD/SO4=3.67 | F31: COD/SO4=3.67 | G31: 7.1 | H31: 25 | I31: 3839 | J31: 1048 | K31: =15.7*(100.115/50) -> 31.43611 | L31: 50 | M31: =0.017*22.414 -> 0.381038 | N31: 56.4 | O31: =H31+273.15 -> 298.15 | P31: =I31/8 -> 479.875 | Q31: =J31/1000/96 -> 0.010916667 | R31: =1/(1+10^(7-G31)) -> 0.55731163 | S31: =K31/1000/100.1 -> 0.00031404705 | T31: =0.0013*EXP(1900*(1/O31-1/298.15))*L31/100 -> 0.00065 | U31: =EXP(-3957/O31) -> 1.7223119e-06 | V31: =(-(U31*R31*S31+T31)+SQRT((U31*R31*S31+T31)^2+8*U31*R31*T31*Q31))/(4*U31*R31) -> 0.01091631 | W31: =IF(V31>=Q31,"Capacity-limited","Crossover-limited") -> Crossover-limited | X31: =MIN(8*Q31*1000,P31)/P31 -> 0.18199184 | Y31: =1-X31 -> 0.81800816 | Z31: =((J31-N31)/96*8)/P31 -> 0.17219762 | AA31: =(M31/22.414*8)/P31 -> 0.00028340714 | AB31: =Z31-X31 -> -0.0097942172 | AC31: =AA31-Y31 -> -0.81772475 | AD31: =Z31+AA31 -> 0.17248103 | AE31: =V31/Q31 -> 0.9999673
A32: 31 | B32: Sarti&Zaiat_4 | C32: Batch | D32: Butanol + sulfonation wastewater | E32: COD/SO4=3.65 | F32: COD/SO4=3.65 | G32: 6.5 | H32: 25 | I32: 7614 | J32: 2092 | K32: =15.2*(100.115/50) -> 30.43496 | L32: 50 | M32: =0.002*22.414 -> 0.044828 | N32: 247.8 | O32: =H32+273.15 -> 298.15 | P32: =I32/8 -> 951.75 | Q32: =J32/1000/96 -> 0.021791667 | R32: =1/(1+10^(7-G32)) -> 0.24025307 | S32: =K32/1000/100.1 -> 0.00030404555 | T32: =0.0013*EXP(1900*(1/O32-1/298.15))*L32/100 -> 0.00065 | U32: =EXP(-3957/O32) -> 1.7223119e-06 | V32: =(-(U32*R32*S32+T32)+SQRT((U32*R32*S32+T32)^2+8*U32*R32*T32*Q32))/(4*U32*R32) -> 0.021791058 | W32: =IF(V32>=Q32,"Capacity-limited","Crossover-limited") -> Crossover-limited | X32: =MIN(8*Q32*1000,P32)/P32 -> 0.18317135 | Y32: =1-X32 -> 0.81682865 | Z32: =((J32-N32)/96*8)/P32 -> 0.16147448 | AA32: =(M32/22.414*8)/P32 -> 1.6811137e-05 | AB32: =Z32-X32 -> -0.021696874 | AC32: =AA32-Y32 -> -0.81681184 | AD32: =Z32+AA32 -> 0.16149129 | AE32: =V32/Q32 -> 0.99997206
A33: 32 | B33: Sarti&Zaiat_5 | C33: Batch | D33: Butanol + sulfonation wastewater | E33: COD/SO4=3.67 | F33: COD/SO4=3.67 | G33: 6.05 | H33: 25 | I33: 11652 | J33: 3179 | K33: =17.8*(100.115/50) -> 35.64094 | L33: 50 | M33: =0.0005*22.414 -> 0.011207 | N33: 485.8 | O33: =H33+273.15 -> 298.15 | P33: =I33/8 -> 1456.5 | Q33: =J33/1000/96 -> 0.033114583 | R33: =1/(1+10^(7-G33)) -> 0.10088263 | S33: =K33/1000/100.1 -> 0.00035605335 | T33: =0.0013*EXP(1900*(1/O33-1/298.15))*L33/100 -> 0.00065 | U33: =EXP(-3957/O33) -> 1.7223119e-06 | V33: =(-(U33*R33*S33+T33)+SQRT((U33*R33*S33+T33)^2+8*U33*R33*T33*Q33))/(4*U33*R33) -> 0.033113994 | W33: =IF(V33>=Q33,"Capacity-limited","Crossover-limited") -> Crossover-limited | X33: =MIN(8*Q33*1000,P33)/P33 -> 0.1818858 | Y33: =1-X33 -> 0.8181142 | Z33: =((J33-N33)/96*8)/P33 -> 0.15409086 | AA33: =(M33/22.414*8)/P33 -> 2.7463096e-06 | AB33: =Z33-X33 -> -0.027794942 | AC33: =AA33-Y33 -> -0.81811145 | AD33: =Z33+AA33 -> 0.1540936 | AE33: =V33/Q33 -> 0.9999822
A34: 33 | B34: Paepatung_1 | C34: Semi-continuous | D34: Glucose | E34: COD/SO4=2 | F34: None | G34: =(7+7.7)/2 -> 7.35 | H34: =(28+30)/2 -> 29 | I34: 9000 | J34: 4500 | K34: =((7000/84.01) + (1000/79.06)) *100.12 -> 9608.7202 | L34: 2 | M34: =(7.57/(311.85/9))*1000/64*22.414 -> 76.512437 | N34: =4500-(39.92/(311.85/9))*1000*96/64 -> 2771.8615 | O34: =H34+273.15 -> 302.15 | P34: =I34/8 -> 1125 | Q34: =J34/1000/96 -> 0.046875 | R34: =1/(1+10^(7-G34)) -> 0.69123615 | S34: =K34/1000/100.1 -> 0.09599121 | T34: =0.0013*EXP(1900*(1/O34-1/298.15))*L34/100 -> 2.3896517e-05 | U34: =EXP(-3957/O34) -> 2.0531316e-06 | V34: =(-(U34*R34*S34+T34)+SQRT((U34*R34*S34+T34)^2+8*U34*R34*T34*Q34))/(4*U34*R34) -> 0.046355498 | W34: =IF(V34>=Q34,"Capacity-limited","Crossover-limited") -> Crossover-limited | X34: =MIN(8*Q34*1000,P34)/P34 -> 0.33333333 | Y34: =1-X34 -> 0.66666667 | Z34: =((J34-N34)/96*8)/P34 -> 0.12801026 | AA34: =(M34/22.414*8)/P34 -> 0.024274491 | AB34: =Z34-X34 -> -0.20532307 | AC34: =AA34-Y34 -> -0.64239218 | AD34: =Z34+AA34 -> 0.15228475 | AE34: =V34/Q34 -> 0.9889173
A35: 34 | B35: Paepatung_2 | C35: Semi-continuous | D35: Glucose | E35: COD/SO4=2+ZVI | F35: COD/SO4=2+ZVI | G35: 7.38 | H35: =(28+30)/2 -> 29 | I35: =(441.18+28.85)/(441.18/9)*1000 -> 9588.5353 | J35: 4500 | K35: =((7000/84.01) + (1000/79.06)) *100.12 -> 9608.7202 | L35: 75 | M35: =(226.84/(441.18/9))*1000/64*22.414 -> 1620.6369 | N35: =4500-(127.41/(441.18/9))*1000*96/64 -> 601.28519 | O35: =H35+273.15 -> 302.15 | P35: =I35/8 -> 1198.5669 | Q35: =J35/1000/96 -> 0.046875 | R35: =1/(1+10^(7-G35)) -> 0.70578136 | S35: =K35/1000/100.1 -> 0.09599121 | T35: =0.0013*EXP(1900*(1/O35-1/298.15))*L35/100 -> 0.0008961194 | U35: =EXP(-3957/O35) -> 2.0531316e-06 | V35: =(-(U35*R35*S35+T35)+SQRT((U35*R35*S35+T35)^2+8*U35*R35*T35*Q35))/(4*U35*R35) -> 0.046860624 | W35: =IF(V35>=Q35,"Capacity-limited","Crossover-limited") -> Crossover-limited | X35: =MIN(8*Q35*1000,P35)/P35 -> 0.31287365 | Y35: =1-X35 -> 0.68712635 | Z35: =((J35-N35)/96*8)/P35 -> 0.2710678 | AA35: =(M35/22.414*8)/P35 -> 0.48260749 | AB35: =Z35-X35 -> -0.041805842 | AC35: =AA35-Y35 -> -0.20451886 | AD35: =Z35+AA35 -> 0.7536753 | AE35: =V35/Q35 -> 0.99969332
A36: 35 | B36: Xu_01 | C36: Batch | D36: Synthetic wastewater | E36: SO4/COD=0.1 | F36: None | G36: 7.4 | H36: 35 | I36: 12283 | J36: =725*0.7 -> 507.5 | K36: 0 | L36: 50 | M36: =2816/0.8 -> 3520 | N36: =J36-(M36/22414*96000*(0.08/99.92)) -> 495.42931 | O36: =H36+273.15 -> 308.15 | P36: =I36/8 -> 1535.375 | Q36: =J36/1000/96 -> 0.0052864583 | R36: =1/(1+10^(7-G36)) -> 0.71525275 | S36: =K36/1000/100.1 -> 0 | T36: =0.0013*EXP(1900*(1/O36-1/298.15))*L36/100 -> 0.00052856695 | U36: =EXP(-3957/O36) -> 2.6494757e-06 | V36: =(-(U36*R36*S36+T36)+SQRT((U36*R36*S36+T36)^2+8*U36*R36*T36*Q36))/(4*U36*R36) -> 0.005286258 | W36: =IF(V36>=Q36,"Capacity-limited","Crossover-limited") -> Crossover-limited | X36: =MIN(8*Q36*1000,P36)/P36 -> 0.027544845 | Y36: =1-X36 -> 0.97245515 | Z36: =((J36-N36)/96*8)/P36 -> 0.00065514341 | AA36: =(M36/22.414*8)/P36 -> 0.81827412 | AB36: =Z36-X36 -> -0.026889702 | AC36: =AA36-Y36 -> -0.15418103 | AD36: =Z36+AA36 -> 0.81892927 | AE36: =V36/Q36 -> 0.9999621
A37: 36 | B37: Xu_02 | C37: Batch | D37: Synthetic wastewater | E37: SO4/COD=0.2 | F37: None | G37: 7.4 | H37: 35 | I37: 12283 | J37: =1450*0.7 -> 1015 | K37: 0 | L37: 50 | M37: =2339/0.8 -> 2923.75 | N37: =J37-(M37/22414*96000*(6.85/93.15)) -> 94.126845 | O37: =H37+273.15 -> 308.15 | P37: =I37/8 -> 1535.375 | Q37: =J37/1000/96 -> 0.010572917 | R37: =1/(1+10^(7-G37)) -> 0.71525275 | S37: =K37/1000/100.1 -> 0 | T37: =0.0013*EXP(1900*(1/O37-1/298.15))*L37/100 -> 0.00052856695 | U37: =EXP(-3957/O37) -> 2.6494757e-06 | V37: =(-(U37*R37*S37+T37)+SQRT((U37*R37*S37+T37)^2+8*U37*R37*T37*Q37))/(4*U37*R37) -> 0.010572115 | W37: =IF(V37>=Q37,"Capacity-limited","Crossover-limited") -> Crossover-limited | X37: =MIN(8*Q37*1000,P37)/P37 -> 0.05508969 | Y37: =1-X37 -> 0.94491031 | Z37: =((J37-N37)/96*8)/P37 -> 0.049980903 | AA37: =(M37/22.414*8)/P37 -> 0.67966732 | AB37: =Z37-X37 -> -0.005108787 | AC37: =AA37-Y37 -> -0.26524299 | AD37: =Z37+AA37 -> 0.72964822 | AE37: =V37/Q37 -> 0.9999242
A38: 37 | B38: Xu_03 | C38: Batch | D38: Synthetic wastewater | E38: SO4/COD=1 | F38: None | G38: 7.4 | H38: 35 | I38: 12283 | J38: =7250*0.7 -> 5075 | K38: 0 | L38: 50 | M38: =1964/0.8 -> 2455 | N38: =J38-(M38/22414*96000*(19.91/80.09)) -> 2461.0557 | O38: =H38+273.15 -> 308.15 | P38: =I38/8 -> 1535.375 | Q38: =J38/1000/96 -> 0.052864583 | R38: =1/(1+10^(7-G38)) -> 0.71525275 | S38: =K38/1000/100.1 -> 0 | T38: =0.0013*EXP(1900*(1/O38-1/298.15))*L38/100 -> 0.00052856695 | U38: =EXP(-3957/O38) -> 2.6494757e-06 | V38: =(-(U38*R38*S38+T38)+SQRT((U38*R38*S38+T38)^2+8*U38*R38*T38*Q38))/(4*U38*R38) -> 0.052844559 | W38: =IF(V38>=Q38,"Capacity-limited","Crossover-limited") -> Crossover-limited | X38: =MIN(8*Q38*1000,P38)/P38 -> 0.27544845 | Y38: =1-X38 -> 0.72455155 | Z38: =((J38-N38)/96*8)/P38 -> 0.14187328 | AA38: =(M38/22.414*8)/P38 -> 0.57069971 | AB38: =Z38-X38 -> -0.13357517 | AC38: =AA38-Y38 -> -0.15385184 | AD38: =Z38+AA38 -> 0.71257299 | AE38: =V38/Q38 -> 0.99962122
A39: 38 | B39: Xu_04 | C39: Batch | D39: Synthetic wastewater | E39: SO4/COD=2 | F39: None | G39: 7.4 | H39: 35 | I39: 12283 | J39: =14500*0.7 -> 10150 | K39: 0 | L39: 50 | M39: =1688/0.8 -> 2110 | N39: =J39-(M39/22414*96000*(38.23/61.77)) -> 4556.7914 | O39: =H39+273.15 -> 308.15 | P39: =I39/8 -> 1535.375 | Q39: =J39/1000/96 -> 0.10572917 | R39: =1/(1+10^(7-G39)) -> 0.71525275 | S39: =K39/1000/100.1 -> 0 | T39: =0.0013*EXP(1900*(1/O39-1/298.15))*L39/100 -> 0.00052856695 | U39: =EXP(-3957/O39) -> 2.6494757e-06 | V39: =(-(U39*R39*S39+T39)+SQRT((U39*R39*S39+T39)^2+8*U39*R39*T39*Q39))/(4*U39*R39) -> 0.10564913 | W39: =IF(V39>=Q39,"Capacity-limited","Crossover-limited") -> Crossover-limited | X39: =MIN(8*Q39*1000,P39)/P39 -> 0.5508969 | Y39: =1-X39 -> 0.4491031 | Z39: =((J39-N39)/96*8)/P39 -> 0.30357451 | AA39: =(M39/22.414*8)/P39 -> 0.49049955 | AB39: =Z39-X39 -> -0.24732239 | AC39: =AA39-Y39 -> 0.04139645 | AD39: =Z39+AA39 -> 0.79407406 | AE39: =V39/Q39 -> 0.99924302
A40: 39 | B40: Xu_05 | C40: Batch | D40: Synthetic wastewater | E40: SO4/COD=0.1+1g Biochar | F40: 1g Biochar | G40: 7.4 | H40: 35 | I40: 12283 | J40: =725*0.7 -> 507.5 | K40: 0 | L40: 50 | M40: =1974/0.8 -> 2467.5 | N40: =J40-(M40/22414*96000*(4.96/95.04)) -> -44.049221 | O40: =H40+273.15 -> 308.15 | P40: =I40/8 -> 1535.375 | Q40: =J40/1000/96 -> 0.0052864583 | R40: =1/(1+10^(7-G40)) -> 0.71525275 | S40: =K40/1000/100.1 -> 0 | T40: =0.0013*EXP(1900*(1/O40-1/298.15))*L40/100 -> 0.00052856695 | U40: =EXP(-3957/O40) -> 2.6494757e-06 | V40: =(-(U40*R40*S40+T40)+SQRT((U40*R40*S40+T40)^2+8*U40*R40*T40*Q40))/(4*U40*R40) -> 0.005286258 | W40: =IF(V40>=Q40,"Capacity-limited","Crossover-limited") -> Crossover-limited | X40: =MIN(8*Q40*1000,P40)/P40 -> 0.027544845 | Y40: =1-X40 -> 0.97245515 | Z40: =((J40-N40)/96*8)/P40 -> 0.029935641 | AA40: =(M40/22.414*8)/P40 -> 0.57360551 | AB40: =Z40-X40 -> 0.002390796 | AC40: =AA40-Y40 -> -0.39884964 | AD40: =Z40+AA40 -> 0.60354115 | AE40: =V40/Q40 -> 0.9999621
A41: 40 | B41: Xu_06 | C41: Batch | D41: Synthetic wastewater | E41: SO4/COD=0.2+1g Biochar | F41: 1g Biochar | G41: 7.4 | H41: 35 | I41: 12283 | J41: =1450*0.7 -> 1015 | K41: 0 | L41: 50 | M41: =1749/0.8 -> 2186.25 | N41: =J41-(M41/22414*96000*(13.08/86.92)) -> -394.09318 | O41: =H41+273.15 -> 308.15 | P41: =I41/8 -> 1535.375 | Q41: =J41/1000/96 -> 0.010572917 | R41: =1/(1+10^(7-G41)) -> 0.71525275 | S41: =K41/1000/100.1 -> 0 | T41: =0.0013*EXP(1900*(1/O41-1/298.15))*L41/100 -> 0.00052856695 | U41: =EXP(-3957/O41) -> 2.6494757e-06 | V41: =(-(U41*R41*S41+T41)+SQRT((U41*R41*S41+T41)^2+8*U41*R41*T41*Q41))/(4*U41*R41) -> 0.010572115 | W41: =IF(V41>=Q41,"Capacity-limited","Crossover-limited") -> Crossover-limited | X41: =MIN(8*Q41*1000,P41)/P41 -> 0.05508969 | Y41: =1-X41 -> 0.94491031 | Z41: =((J41-N41)/96*8)/P41 -> 0.076479317 | AA41: =(M41/22.414*8)/P41 -> 0.50822494 | AB41: =Z41-X41 -> 0.021389627 | AC41: =AA41-Y41 -> -0.43668537 | AD41: =Z41+AA41 -> 0.58470426 | AE41: =V41/Q41 -> 0.9999242
A42: 41 | B42: Xu_07 | C42: Batch | D42: Synthetic wastewater | E42: SO4/COD=1+1g Biochar | F42: 1g Biochar | G42: 7.4 | H42: 35 | I42: 12283 | J42: =7250*0.7 -> 5075 | K42: 0 | L42: 50 | M42: =1737/0.8 -> 2171.25 | N42: =J42-(M42/22414*96000*(25.45/74.55)) -> 1900.3063 | O42: =H42+273.15 -> 308.15 | P42: =I42/8 -> 1535.375 | Q42: =J42/1000/96 -> 0.052864583 | R42: =1/(1+10^(7-G42)) -> 0.71525275 | S42: =K42/1000/100.1 -> 0 | T42: =0.0013*EXP(1900*(1/O42-1/298.15))*L42/100 -> 0.00052856695 | U42: =EXP(-3957/O42) -> 2.6494757e-06 | V42: =(-(U42*R42*S42+T42)+SQRT((U42*R42*S42+T42)^2+8*U42*R42*T42*Q42))/(4*U42*R42) -> 0.052844559 | W42: =IF(V42>=Q42,"Capacity-limited","Crossover-limited") -> Crossover-limited | X42: =MIN(8*Q42*1000,P42)/P42 -> 0.27544845 | Y42: =1-X42 -> 0.72455155 | Z42: =((J42-N42)/96*8)/P42 -> 0.17230827 | AA42: =(M42/22.414*8)/P42 -> 0.50473798 | AB42: =Z42-X42 -> -0.10314018 | AC42: =AA42-Y42 -> -0.21981357 | AD42: =Z42+AA42 -> 0.67704625 | AE42: =V42/Q42 -> 0.99962122
A43: 42 | B43: Xu_08 | C43: Batch | D43: Synthetic wastewater | E43: SO4/COD=2+1g Biochar | F43: 1g Biochar | G43: 7.4 | H43: 35 | I43: 12283 | J43: =14500*0.7 -> 10150 | K43: 0 | L43: 50 | M43: =1731/0.8 -> 2163.75 | N43: =J43-(M43/22414*96000*(45.86/54.14)) -> 2299.908 | O43: =H43+273.15 -> 308.15 | P43: =I43/8 -> 1535.375 | Q43: =J43/1000/96 -> 0.10572917 | R43: =1/(1+10^(7-G43)) -> 0.71525275 | S43: =K43/1000/100.1 -> 0 | T43: =0.0013*EXP(1900*(1/O43-1/298.15))*L43/100 -> 0.00052856695 | U43: =EXP(-3957/O43) -> 2.6494757e-06 | V43: =(-(U43*R43*S43+T43)+SQRT((U43*R43*S43+T43)^2+8*U43*R43*T43*Q43))/(4*U43*R43) -> 0.10564913 | W43: =IF(V43>=Q43,"Capacity-limited","Crossover-limited") -> Crossover-limited | X43: =MIN(8*Q43*1000,P43)/P43 -> 0.5508969 | Y43: =1-X43 -> 0.4491031 | Z43: =((J43-N43)/96*8)/P43 -> 0.42606811 | AA43: =(M43/22.414*8)/P43 -> 0.5029945 | AB43: =Z43-X43 -> -0.12482879 | AC43: =AA43-Y43 -> 0.053891403 | AD43: =Z43+AA43 -> 0.92906261 | AE43: =V43/Q43 -> 0.99924302
A44: 43 | B44: Xu_09 | C44: Batch | D44: Synthetic wastewater | E44: SO4/COD=0.1+4g Biochar | F44: 4g Biochar | G44: 7.4 | H44: 35 | I44: 12283 | J44: =725*0.7 -> 507.5 | K44: 0 | L44: 50 | M44: =1636/0.8 -> 2045 | N44: =J44-(M44/22414*96000*(1.26/98.74)) -> 395.73068 | O44: =H44+273.15 -> 308.15 | P44: =I44/8 -> 1535.375 | Q44: =J44/1000/96 -> 0.0052864583 | R44: =1/(1+10^(7-G44)) -> 0.71525275 | S44: =K44/1000/100.1 -> 0 | T44: =0.0013*EXP(1900*(1/O44-1/298.15))*L44/100 -> 0.00052856695 | U44: =EXP(-3957/O44) -> 2.6494757e-06 | V44: =(-(U44*R44*S44+T44)+SQRT((U44*R44*S44+T44)^2+8*U44*R44*T44*Q44))/(4*U44*R44) -> 0.005286258 | W44: =IF(V44>=Q44,"Capacity-limited","Crossover-limited") -> Crossover-limited | X44: =MIN(8*Q44*1000,P44)/P44 -> 0.027544845 | Y44: =1-X44 -> 0.97245515 | Z44: =((J44-N44)/96*8)/P44 -> 0.006066342 | AA44: =(M44/22.414*8)/P44 -> 0.47538937 | AB44: =Z44-X44 -> -0.021478503 | AC44: =AA44-Y44 -> -0.49706578 | AD44: =Z44+AA44 -> 0.48145571 | AE44: =V44/Q44 -> 0.9999621
A45: 44 | B45: Xu_10 | C45: Batch | D45: Synthetic wastewater | E45: SO4/COD=0.2+4g Biochar | F45: 4g Biochar | G45: 7.4 | H45: 35 | I45: 12283 | J45: =1450*0.7 -> 1015 | K45: 0 | L45: 50 | M45: =1486/0.8 -> 1857.5 | N45: =J45-(M45/22414*96000*(7.45/92.55)) -> 374.58641 | O45: =H45+273.15 -> 308.15 | P45: =I45/8 -> 1535.375 | Q45: =J45/1000/96 -> 0.010572917 | R45: =1/(1+10^(7-G45)) -> 0.71525275 | S45: =K45/1000/100.1 -> 0 | T45: =0.0013*EXP(1900*(1/O45-1/298.15))*L45/100 -> 0.00052856695 | U45: =EXP(-3957/O45) -> 2.6494757e-06 | V45: =(-(U45*R45*S45+T45)+SQRT((U45*R45*S45+T45)^2+8*U45*R45*T45*Q45))/(4*U45*R45) -> 0.010572115 | W45: =IF(V45>=Q45,"Capacity-limited","Crossover-limited") -> Crossover-limited | X45: =MIN(8*Q45*1000,P45)/P45 -> 0.05508969 | Y45: =1-X45 -> 0.94491031 | Z45: =((J45-N45)/96*8)/P45 -> 0.034758804 | AA45: =(M45/22.414*8)/P45 -> 0.43180233 | AB45: =Z45-X45 -> -0.020330886 | AC45: =AA45-Y45 -> -0.51310798 | AD45: =Z45+AA45 -> 0.46656113 | AE45: =V45/Q45 -> 0.9999242
A46: 45 | B46: Xu_11 | C46: Batch | D46: Synthetic wastewater | E46: SO4/COD=1+4g Biochar | F46: 4g Biochar | G46: 7.4 | H46: 35 | I46: 12283 | J46: =7250*0.7 -> 5075 | K46: 0 | L46: 50 | M46: =1243/0.8 -> 1553.75 | N46: =J46-(M46/22414*96000*(20.81/79.19)) -> 3326.2217 | O46: =H46+273.15 -> 308.15 | P46: =I46/8 -> 1535.375 | Q46: =J46/1000/96 -> 0.052864583 | R46: =1/(1+10^(7-G46)) -> 0.71525275 | S46: =K46/1000/100.1 -> 0 | T46: =0.0013*EXP(1900*(1/O46-1/298.15))*L46/100 -> 0.00052856695 | U46: =EXP(-3957/O46) -> 2.6494757e-06 | V46: =(-(U46*R46*S46+T46)+SQRT((U46*R46*S46+T46)^2+8*U46*R46*T46*Q46))/(4*U46*R46) -> 0.052844559 | W46: =IF(V46>=Q46,"Capacity-limited","Crossover-limited") -> Crossover-limited | X46: =MIN(8*Q46*1000,P46)/P46 -> 0.27544845 | Y46: =1-X46 -> 0.72455155 | Z46: =((J46-N46)/96*8)/P46 -> 0.094915914 | AA46: =(M46/22.414*8)/P46 -> 0.36119131 | AB46: =Z46-X46 -> -0.18053254 | AC46: =AA46-Y46 -> -0.36336024 | AD46: =Z46+AA46 -> 0.45610723 | AE46: =V46/Q46 -> 0.99962122
A47: 46 | B47: Xu_12 | C47: Batch | D47: Synthetic wastewater | E47: SO4/COD=2+4g Biochar | F47: 4g Biochar | G47: 7.4 | H47: 35 | I47: 12283 | J47: =14500*0.7 -> 10150 | K47: 0 | L47: 50 | M47: =1009/0.8 -> 1261.25 | N47: =J47-(M47/22414*96000*(33.37/66.63)) -> 7444.5505 | O47: =H47+273.15 -> 308.15 | P47: =I47/8 -> 1535.375 | Q47: =J47/1000/96 -> 0.10572917 | R47: =1/(1+10^(7-G47)) -> 0.71525275 | S47: =K47/1000/100.1 -> 0 | T47: =0.0013*EXP(1900*(1/O47-1/298.15))*L47/100 -> 0.00052856695 | U47: =EXP(-3957/O47) -> 2.6494757e-06 | V47: =(-(U47*R47*S47+T47)+SQRT((U47*R47*S47+T47)^2+8*U47*R47*T47*Q47))/(4*U47*R47) -> 0.10564913 | W47: =IF(V47>=Q47,"Capacity-limited","Crossover-limited") -> Crossover-limited | X47: =MIN(8*Q47*1000,P47)/P47 -> 0.5508969 | Y47: =1-X47 -> 0.4491031 | Z47: =((J47-N47)/96*8)/P47 -> 0.14683978 | AA47: =(M47/22.414*8)/P47 -> 0.29319552 | AB47: =Z47-X47 -> -0.40405712 | AC47: =AA47-Y47 -> -0.15590757 | AD47: =Z47+AA47 -> 0.4400353 | AE47: =V47/Q47 -> 0.99924302
A48: 47 | B48: Xu_13 | C48: Batch | D48: Synthetic wastewater | E48: SO4/COD=0.1+8g Biochar | F48: 8g Biochar | G48: 7.4 | H48: 35 | I48: 12283 | J48: =725*0.7 -> 507.5 | K48: 0 | L48: 50 | M48: =1234/0.8 -> 1542.5 | N48: =J48-(M48/22414*96000*(0.17/99.83)) -> 496.24968 | O48: =H48+273.15 -> 308.15 | P48: =I48/8 -> 1535.375 | Q48: =J48/1000/96 -> 0.0052864583 | R48: =1/(1+10^(7-G48)) -> 0.71525275 | S48: =K48/1000/100.1 -> 0 | T48: =0.0013*EXP(1900*(1/O48-1/298.15))*L48/100 -> 0.00052856695 | U48: =EXP(-3957/O48) -> 2.6494757e-06 | V48: =(-(U48*R48*S48+T48)+SQRT((U48*R48*S48+T48)^2+8*U48*R48*T48*Q48))/(4*U48*R48) -> 0.005286258 | W48: =IF(V48>=Q48,"Capacity-limited","Crossover-limited") -> Crossover-limited | X48: =MIN(8*Q48*1000,P48)/P48 -> 0.027544845 | Y48: =1-X48 -> 0.97245515 | Z48: =((J48-N48)/96*8)/P48 -> 0.0006106174 | AA48: =(M48/22.414*8)/P48 -> 0.35857609 | AB48: =Z48-X48 -> -0.026934228 | AC48: =AA48-Y48 -> -0.61387906 | AD48: =Z48+AA48 -> 0.35918671 | AE48: =V48/Q48 -> 0.9999621
A49: 48 | B49: Xu_14 | C49: Batch | D49: Synthetic wastewater | E49: SO4/COD=0.2+8g Biochar | F49: 8g Biochar | G49: 7.4 | H49: 35 | I49: 12283 | J49: =1450*0.7 -> 1015 | K49: 0 | L49: 50 | M49: =984/0.8 -> 1230 | N49: =J49-(M49/22414*96000*(12.95/87.05)) -> 231.28534 | O49: =H49+273.15 -> 308.15 | P49: =I49/8 -> 1535.375 | Q49: =J49/1000/96 -> 0.010572917 | R49: =1/(1+10^(7-G49)) -> 0.71525275 | S49: =K49/1000/100.1 -> 0 | T49: =0.0013*EXP(1900*(1/O49-1/298.15))*L49/100 -> 0.00052856695 | U49: =EXP(-3957/O49) -> 2.6494757e-06 | V49: =(-(U49*R49*S49+T49)+SQRT((U49*R49*S49+T49)^2+8*U49*R49*T49*Q49))/(4*U49*R49) -> 0.010572115 | W49: =IF(V49>=Q49,"Capacity-limited","Crossover-limited") -> Crossover-limited | X49: =MIN(8*Q49*1000,P49)/P49 -> 0.05508969 | Y49: =1-X49 -> 0.94491031 | Z49: =((J49-N49)/96*8)/P49 -> 0.04253655 | AA49: =(M49/22.414*8)/P49 -> 0.28593102 | AB49: =Z49-X49 -> -0.012553141 | AC49: =AA49-Y49 -> -0.65897929 | AD49: =Z49+AA49 -> 0.32846756 | AE49: =V49/Q49 -> 0.9999242
A50: 49 | B50: Xu_15 | C50: Batch | D50: Synthetic wastewater | E50: SO4/COD=1+8g Biochar | F50: 8g Biochar | G50: 7.4 | H50: 35 | I50: 12283 | J50: =7250*0.7 -> 5075 | K50: 0 | L50: 50 | M50: =1012/0.8 -> 1265 | N50: =J50-(M50/22414*96000*(32.87/67.13)) -> 2422.0721 | O50: =H50+273.15 -> 308.15 | P50: =I50/8 -> 1535.375 | Q50: =J50/1000/96 -> 0.052864583 | R50: =1/(1+10^(7-G50)) -> 0.71525275 | S50: =K50/1000/100.1 -> 0 | T50: =0.0013*EXP(1900*(1/O50-1/298.15))*L50/100 -> 0.00052856695 | U50: =EXP(-3957/O50) -> 2.6494757e-06 | V50: =(-(U50*R50*S50+T50)+SQRT((U50*R50*S50+T50)^2+8*U50*R50*T50*Q50))/(4*U50*R50) -> 0.052844559 | W50: =IF(V50>=Q50,"Capacity-limited","Crossover-limited") -> Crossover-limited | X50: =MIN(8*Q50*1000,P50)/P50 -> 0.27544845 | Y50: =1-X50 -> 0.72455155 | Z50: =((J50-N50)/96*8)/P50 -> 0.14398914 | AA50: =(M50/22.414*8)/P50 -> 0.29406726 | AB50: =Z50-X50 -> -0.13145931 | AC50: =AA50-Y50 -> -0.43048428 | AD50: =Z50+AA50 -> 0.4380564 | AE50: =V50/Q50 -> 0.99962122
A51: 50 | B51: Xu_16 | C51: Batch | D51: Synthetic wastewater | E51: SO4/COD=2+8g Biochar | F51: 8g Biochar | G51: 7.4 | H51: 35 | I51: 12283 | J51: =14500*0.7 -> 10150 | K51: 0 | L51: 50 | M51: =1063/0.8 -> 1328.75 | N51: =J51-(M51/22414*96000*(46.85/53.15)) -> 5133.4925 | O51: =H51+273.15 -> 308.15 | P51: =I51/8 -> 1535.375 | Q51: =J51/1000/96 -> 0.10572917 | R51: =1/(1+10^(7-G51)) -> 0.71525275 | S51: =K51/1000/100.1 -> 0 | T51: =0.0013*EXP(1900*(1/O51-1/298.15))*L51/100 -> 0.00052856695 | U51: =EXP(-3957/O51) -> 2.6494757e-06 | V51: =(-(U51*R51*S51+T51)+SQRT((U51*R51*S51+T51)^2+8*U51*R51*T51*Q51))/(4*U51*R51) -> 0.10564913 | W51: =IF(V51>=Q51,"Capacity-limited","Crossover-limited") -> Crossover-limited | X51: =MIN(8*Q51*1000,P51)/P51 -> 0.5508969 | Y51: =1-X51 -> 0.4491031 | Z51: =((J51-N51)/96*8)/P51 -> 0.27227374 | AA51: =(M51/22.414*8)/P51 -> 0.30888686 | AB51: =Z51-X51 -> -0.27862316 | AC51: =AA51-Y51 -> -0.14021624 | AD51: =Z51+AA51 -> 0.5811606 | AE51: =V51/Q51 -> 0.99924302
A52: 51 | B52: Li_01 | C52: Continuous | D52: Lactate | E52: 18 g plastic threads – control | F52: None | G52: 7 | H52: 37 | I52: 1600 | J52: 1300 | K52: 0 | L52: 50 | M52: =39.4/(0.7/(6/24)) -> 14.071429 | N52: =J52*(1-0.831) -> 219.7 | O52: =H52+273.15 -> 310.15 | P52: =I52/8 -> 200 | Q52: =J52/1000/96 -> 0.013541667 | R52: =1/(1+10^(7-G52)) -> 0.5 | S52: =K52/1000/100.1 -> 0 | T52: =0.0013*EXP(1900*(1/O52-1/298.15))*L52/100 -> 0.00050796328 | U52: =EXP(-3957/O52) -> 2.8782078e-06 | V52: =(-(U52*R52*S52+T52)+SQRT((U52*R52*S52+T52)^2+8*U52*R52*T52*Q52))/(4*U52*R52) -> 0.013540628 | W52: =IF(V52>=Q52,"Capacity-limited","Crossover-limited") -> Crossover-limited | X52: =MIN(8*Q52*1000,P52)/P52 -> 0.54166667 | Y52: =1-X52 -> 0.45833333 | Z52: =((J52-N52)/96*8)/P52 -> 0.450125 | AA52: =(M52/22.414*8)/P52 -> 0.025111856 | AB52: =Z52-X52 -> -0.091541667 | AC52: =AA52-Y52 -> -0.43322148 | AD52: =Z52+AA52 -> 0.47523686 | AE52: =V52/Q52 -> 0.99992328
A53: 52 | B53: Li_02 | C53: Continuous | D53: Lactate | E53: 18 g stainless steel | F53: Stainless steel | G53: 7 | H53: 37 | I53: 1600 | J53: 1300 | K53: 0 | L53: 50 | M53: =159.9/(0.7/(6/24)) -> 57.107143 | N53: =J53*(1-0.803) -> 256.1 | O53: =H53+273.15 -> 310.15 | P53: =I53/8 -> 200 | Q53: =J53/1000/96 -> 0.013541667 | R53: =1/(1+10^(7-G53)) -> 0.5 | S53: =K53/1000/100.1 -> 0 | T53: =0.0013*EXP(1900*(1/O53-1/298.15))*L53/100 -> 0.00050796328 | U53: =EXP(-3957/O53) -> 2.8782078e-06 | V53: =(-(U53*R53*S53+T53)+SQRT((U53*R53*S53+T53)^2+8*U53*R53*T53*Q53))/(4*U53*R53) -> 0.013540628 | W53: =IF(V53>=Q53,"Capacity-limited","Crossover-limited") -> Crossover-limited | X53: =MIN(8*Q53*1000,P53)/P53 -> 0.54166667 | Y53: =1-X53 -> 0.45833333 | Z53: =((J53-N53)/96*8)/P53 -> 0.43495833 | AA53: =(M53/22.414*8)/P53 -> 0.10191334 | AB53: =Z53-X53 -> -0.10670833 | AC53: =AA53-Y53 -> -0.35641999 | AD53: =Z53+AA53 -> 0.53687168 | AE53: =V53/Q53 -> 0.99992328
A54: 53 | B54: Lu_01 | C54: Continuous | D54: Starch | E54: COD/SO4=10 | F54: COD/SO4=10 | G54: =(6.9+7.5)/2 -> 7.2 | H54: 35 | I54: 830.2 | J54: =1000/10 -> 100 | K54: 1500 | L54: 67.2 | M54: =(I54*(0.724+0.022))/2.85 -> 217.30849 | N54: =J54*(1-0.809) -> 19.1 | O54: =H54+273.15 -> 308.15 | P54: =I54/8 -> 103.775 | Q54: =J54/1000/96 -> 0.0010416667 | R54: =1/(1+10^(7-G54)) -> 0.61313682 | S54: =K54/1000/100.1 -> 0.014985015 | T54: =0.0013*EXP(1900*(1/O54-1/298.15))*L54/100 -> 0.00071039397 | U54: =EXP(-3957/O54) -> 2.6494757e-06 | V54: =(-(U54*R54*S54+T54)+SQRT((U54*R54*S54+T54)^2+8*U54*R54*T54*Q54))/(4*U54*R54) -> 0.001041626 | W54: =IF(V54>=Q54,"Capacity-limited","Crossover-limited") -> Crossover-limited | X54: =MIN(8*Q54*1000,P54)/P54 -> 0.080301935 | Y54: =1-X54 -> 0.91969806 | Z54: =((J54-N54)/96*8)/P54 -> 0.064964266 | AA54: =(M54/22.414*8)/P54 -> 0.74740255 | AB54: =Z54-X54 -> -0.01533767 | AC54: =AA54-Y54 -> -0.17229552 | AD54: =Z54+AA54 -> 0.81236681 | AE54: =V54/Q54 -> 0.99996097
A55: 54 | B55: Lu_02 | C55: Continuous | D55: Starch | E55: COD/SO4=5 | F55: COD/SO4=5 | G55: =(6.9+7.5)/2 -> 7.2 | H55: 35 | I55: 928.6 | J55: =1000/5 -> 200 | K55: 1500 | L55: 64 | M55: =(I55*(0.626+0.05))/2.85 -> 220.2574 | N55: =J55*(1-0.826) -> 34.8 | O55: =H55+273.15 -> 308.15 | P55: =I55/8 -> 116.075 | Q55: =J55/1000/96 -> 0.0020833333 | R55: =1/(1+10^(7-G55)) -> 0.61313682 | S55: =K55/1000/100.1 -> 0.014985015 | T55: =0.0013*EXP(1900*(1/O55-1/298.15))*L55/100 -> 0.00067656569 | U55: =EXP(-3957/O55) -> 2.6494757e-06 | V55: =(-(U55*R55*S55+T55)+SQRT((U55*R55*S55+T55)^2+8*U55*R55*T55*Q55))/(4*U55*R55) -> 0.0020832375 | W55: =IF(V55>=Q55,"Capacity-limited","Crossover-limited") -> Crossover-limited | X55: =MIN(8*Q55*1000,P55)/P55 -> 0.14358533 | Y55: =1-X55 -> 0.85641467 | Z55: =((J55-N55)/96*8)/P55 -> 0.11860148 | AA55: =(M55/22.414*8)/P55 -> 0.67727094 | AB55: =Z55-X55 -> -0.024983847 | AC55: =AA55-Y55 -> -0.17914373 | AD55: =Z55+AA55 -> 0.79587242 | AE55: =V55/Q55 -> 0.99995402
A56: 55 | B56: Lu_03 | C56: Continuous | D56: Starch | E56: COD/SO4=3 | F56: COD/SO4=3 | G56: =(6.9+7.5)/2 -> 7.2 | H56: 35 | I56: 1051.8 | J56: =1000/3 -> 333.33333 | K56: 1500 | L56: 61.6 | M56: =(I56*(0.489+0.183))/2.85 -> 248.00337 | N56: =J56*(1-0.826) -> 58 | O56: =H56+273.15 -> 308.15 | P56: =I56/8 -> 131.475 | Q56: =J56/1000/96 -> 0.0034722222 | R56: =1/(1+10^(7-G56)) -> 0.61313682 | S56: =K56/1000/100.1 -> 0.014985015 | T56: =0.0013*EXP(1900*(1/O56-1/298.15))*L56/100 -> 0.00065119448 | U56: =EXP(-3957/O56) -> 2.6494757e-06 | V56: =(-(U56*R56*S56+T56)+SQRT((U56*R56*S56+T56)^2+8*U56*R56*T56*Q56))/(4*U56*R56) -> 0.0034720323 | W56: =IF(V56>=Q56,"Capacity-limited","Crossover-limited") -> Crossover-limited | X56: =MIN(8*Q56*1000,P56)/P56 -> 0.21127802 | Y56: =1-X56 -> 0.78872198 | Z56: =((J56-N56)/96*8)/P56 -> 0.17451565 | AA56: =(M56/22.414*8)/P56 -> 0.67326342 | AB56: =Z56-X56 -> -0.036762376 | AC56: =AA56-Y56 -> -0.11545856 | AD56: =Z56+AA56 -> 0.84777907 | AE56: =V56/Q56 -> 0.9999453
A57: 56 | B57: Lu_04 | C57: Continuous | D57: Starch | E57: COD/SO4=2 | F57: COD/SO4=2 | G57: =(6.9+7.5)/2 -> 7.2 | H57: 35 | I57: 976.3 | J57: =1000/2 -> 500 | K57: 1500 | L57: 64 | M57: =(I57*(0.449+0.023))/2.85 -> 161.68898 | N57: =J57*(1-0.826) -> 87 | O57: =H57+273.15 -> 308.15 | P57: =I57/8 -> 122.0375 | Q57: =J57/1000/96 -> 0.0052083333 | R57: =1/(1+10^(7-G57)) -> 0.61313682 | S57: =K57/1000/100.1 -> 0.014985015 | T57: =0.0013*EXP(1900*(1/O57-1/298.15))*L57/100 -> 0.00067656569 | U57: =EXP(-3957/O57) -> 2.6494757e-06 | V57: =(-(U57*R57*S57+T57)+SQRT((U57*R57*S57+T57)^2+8*U57*R57*T57*Q57))/(4*U57*R57) -> 0.0052080157 | W57: =IF(V57>=Q57,"Capacity-limited","Crossover-limited") -> Crossover-limited | X57: =MIN(8*Q57*1000,P57)/P57 -> 0.34142511 | Y57: =1-X57 -> 0.65857489 | Z57: =((J57-N57)/96*8)/P57 -> 0.28201714 | AA57: =(M57/22.414*8)/P57 -> 0.4728874 | AB57: =Z57-X57 -> -0.059407969 | AC57: =AA57-Y57 -> -0.18568749 | AD57: =Z57+AA57 -> 0.75490454 | AE57: =V57/Q57 -> 0.99993901
A58: 57 | B58: Lu_05 | C58: Continuous | D58: Starch | E58: COD/SO4=1 | F58: COD/SO4=1 | G58: =(6.9+7.5)/2 -> 7.2 | H58: 35 | I58: 919.7 | J58: =1000/1 -> 1000 | K58: 1500 | L58: 58 | M58: =(I58*(0.022+0.022))/2.85 -> 14.198877 | N58: =J58*(1-0.212) -> 788 | O58: =H58+273.15 -> 308.15 | P58: =I58/8 -> 114.9625 | Q58: =J58/1000/96 -> 0.010416667 | R58: =1/(1+10^(7-G58)) -> 0.61313682 | S58: =K58/1000/100.1 -> 0.014985015 | T58: =0.0013*EXP(1900*(1/O58-1/298.15))*L58/100 -> 0.00061313766 | U58: =EXP(-3957/O58) -> 2.6494757e-06 | V58: =(-(U58*R58*S58+T58)+SQRT((U58*R58*S58+T58)^2+8*U58*R58*T58*Q58))/(4*U58*R58) -> 0.010415678 | W58: =IF(V58>=Q58,"Capacity-limited","Crossover-limited") -> Crossover-limited | X58: =MIN(8*Q58*1000,P58)/P58 -> 0.72487405 | Y58: =1-X58 -> 0.27512595 | Z58: =((J58-N58)/96*8)/P58 -> 0.1536733 | AA58: =(M58/22.414*8)/P58 -> 0.044082724 | AB58: =Z58-X58 -> -0.57120075 | AC58: =AA58-Y58 -> -0.23104322 | AD58: =Z58+AA58 -> 0.19775602 | AE58: =V58/Q58 -> 0.99990511
A59: 58 | B59: Lu_06 | C59: Continuous | D59: Starch | E59: COD/SO4=0.5 | F59: COD/SO4=0.5 | G59: 7.4 | H59: 35 | I59: 991.8 | J59: =1000/0.5 -> 2000 | K59: 1500 | L59: 60 | M59: =(I59*(0.008+0.015))/2.85 -> 8.004 | N59: =J59*(1-0.15) -> 1700 | O59: =H59+273.15 -> 308.15 | P59: =I59/8 -> 123.975 | Q59: =J59/1000/96 -> 0.020833333 | R59: =1/(1+10^(7-G59)) -> 0.71525275 | S59: =K59/1000/100.1 -> 0.014985015 | T59: =0.0013*EXP(1900*(1/O59-1/298.15))*L59/100 -> 0.00063428033 | U59: =EXP(-3957/O59) -> 2.6494757e-06 | V59: =(-(U59*R59*S59+T59)+SQRT((U59*R59*S59+T59)^2+8*U59*R59*T59*Q59))/(4*U59*R59) -> 0.020829808 | W59: =IF(V59>=Q59,"Capacity-limited","Crossover-limited") -> Crossover-limited | X59: =MIN(8*Q59*1000,P59)/P59 -> 1 | Y59: =1-X59 -> 0 | Z59: =((J59-N59)/96*8)/P59 -> 0.20165356 | AA59: =(M59/22.414*8)/P59 -> 0.023043242 | AB59: =Z59-X59 -> -0.79834644 | AC59: =AA59-Y59 -> 0.023043242 | AD59: =Z59+AA59 -> 0.2246968 | AE59: =V59/Q59 -> 0.99983079
A60: 59 | B60: Chen_01 | C60: Batch | D60: Glucose | E60: Control-no AHL | F60: Control_No N-acyl-homoserine lactones | G60: 7.4 | H60: 35 | I60: 4000 | J60: 1000 | K60: =2000 / 84.0066*100.115 -> 2383.5032 | L60: 50 | M60: =141.2/0.2 -> 706 | N60: 483 | O60: =H60+273.15 -> 308.15 | P60: =I60/8 -> 500 | Q60: =J60/1000/96 -> 0.010416667 | R60: =1/(1+10^(7-G60)) -> 0.71525275 | S60: =K60/1000/100.1 -> 0.023811221 | T60: =0.0013*EXP(1900*(1/O60-1/298.15))*L60/100 -> 0.00052856695 | U60: =EXP(-3957/O60) -> 2.6494757e-06 | V60: =(-(U60*R60*S60+T60)+SQRT((U60*R60*S60+T60)^2+8*U60*R60*T60*Q60))/(4*U60*R60) -> 0.010415 | W60: =IF(V60>=Q60,"Capacity-limited","Crossover-limited") -> Crossover-limited | X60: =MIN(8*Q60*1000,P60)/P60 -> 0.16666667 | Y60: =1-X60 -> 0.83333333 | Z60: =((J60-N60)/96*8)/P60 -> 0.086166667 | AA60: =(M60/22.414*8)/P60 -> 0.50397073 | AB60: =Z60-X60 -> -0.0805 | AC60: =AA60-Y60 -> -0.3293626 | AD60: =Z60+AA60 -> 0.5901374 | AE60: =V60/Q60 -> 0.99983998
A61: 60 | B61: Chen_02 | C61: Batch | D61: Glucose | E61: 2 μM AHL | F61: Adding 2 μM No N-acyl-homoserine lactones | G61: 7.5 | H61: 35 | I61: 4000 | J61: 1000 | K61: =2000 / 84.0066*100.115 -> 2383.5032 | L61: 50 | M61: =147.1/0.2 -> 735.5 | N61: 471 | O61: =H61+273.15 -> 308.15 | P61: =I61/8 -> 500 | Q61: =J61/1000/96 -> 0.010416667 | R61: =1/(1+10^(7-G61)) -> 0.75974693 | S61: =K61/1000/100.1 -> 0.023811221 | T61: =0.0013*EXP(1900*(1/O61-1/298.15))*L61/100 -> 0.00052856695 | U61: =EXP(-3957/O61) -> 2.6494757e-06 | V61: =(-(U61*R61*S61+T61)+SQRT((U61*R61*S61+T61)^2+8*U61*R61*T61*Q61))/(4*U61*R61) -> 0.010414896 | W61: =IF(V61>=Q61,"Capacity-limited","Crossover-limited") -> Crossover-limited | X61: =MIN(8*Q61*1000,P61)/P61 -> 0.16666667 | Y61: =1-X61 -> 0.83333333 | Z61: =((J61-N61)/96*8)/P61 -> 0.088166667 | AA61: =(M61/22.414*8)/P61 -> 0.525029 | AB61: =Z61-X61 -> -0.0785 | AC61: =AA61-Y61 -> -0.30830433 | AD61: =Z61+AA61 -> 0.61319567 | AE61: =V61/Q61 -> 0.99983002
A62: 61 | B62: Chen_03 | C62: Batch | D62: Glucose | E62: 20 μM AHL | F62: Adding 20 μM N-acyl-homoserine lactones | G62: 7.6 | H62: 35 | I62: 4000 | J62: 1000 | K62: =2000 / 84.0066*100.115 -> 2383.5032 | L62: 50 | M62: =163.1/0.2 -> 815.5 | N62: 438 | O62: =H62+273.15 -> 308.15 | P62: =I62/8 -> 500 | Q62: =J62/1000/96 -> 0.010416667 | R62: =1/(1+10^(7-G62)) -> 0.79923999 | S62: =K62/1000/100.1 -> 0.023811221 | T62: =0.0013*EXP(1900*(1/O62-1/298.15))*L62/100 -> 0.00052856695 | U62: =EXP(-3957/O62) -> 2.6494757e-06 | V62: =(-(U62*R62*S62+T62)+SQRT((U62*R62*S62+T62)^2+8*U62*R62*T62*Q62))/(4*U62*R62) -> 0.010414804 | W62: =IF(V62>=Q62,"Capacity-limited","Crossover-limited") -> Crossover-limited | X62: =MIN(8*Q62*1000,P62)/P62 -> 0.16666667 | Y62: =1-X62 -> 0.83333333 | Z62: =((J62-N62)/96*8)/P62 -> 0.093666667 | AA62: =(M62/22.414*8)/P62 -> 0.58213616 | AB62: =Z62-X62 -> -0.073 | AC62: =AA62-Y62 -> -0.25119717 | AD62: =Z62+AA62 -> 0.67580283 | AE62: =V62/Q62 -> 0.99982119
AE63: =MIN(AE2:AE62) -> 0.9889173

Sheet Operational level
A1: No | B1: CaseID | C1: Mode | D1: Cosubstrate | E1: Ein type | F1: Condition | G1: Intervention | H1: Main objectives | I1: f_SR_nom | J1: f_MG_nom | K1: f_SR_eff | L1: f_MG_eff | M1: d_f_SR | N1: d_f_MG | O1: f_target_ nom | P1: f_competing_nom | Q1: f_expressed_nom | R1: A_target_nom | S1: f_target_eff | T1: f_competing_eff | U1: f_expressed_eff | V1: A_target_eff | W1: Interpretation of f_target, f_expressed
A2: 1 | B2: Shu_01 | C2: Continuous | D2: ='Mechanistic level'!D2 -> Ethanol | E2: Defined substrate | F2: CFR-Control | G2: Control-No intervention | H2: Methanogenesis | I2: ='Mechanistic level'!X2 -> 0.33333333 | J2: ='Mechanistic level'!Y2 -> 0.66666667 | K2: ='Mechanistic level'!Z2 -> 0.29448 | L2: ='Mechanistic level'!AA2 -> 0.46485232 | M2: ='Mechanistic level'!AB2 -> -0.038853333 | N2: ='Mechanistic level'!AC2 -> -0.20181434 | O2: =J2 -> 0.66666667 | P2: =I2 -> 0.33333333 | Q2: =SUM(O2:P2) -> 1 | R2: =O2/Q2 -> 0.66666667 | S2: =L2 -> 0.46485232 | T2: =K2 -> 0.29448 | U2: =SUM(S2:T2) -> 0.75933232 | V2: =S2/U2 -> 0.61218561 | W2: =IF(E2="","",IF(U2="NC","NC",IF(OR(U2<0,U2>1),"Excluded",IF(OR(E2="Total COD",E2="Mixed"),"Lower bound",IF(OR(E2="Defined substrate",E2="Biodegradable COD"),"As calculated","CHECK"))))) -> As calculated
A3: 2 | B3: Shu_02 | C3: Continuous | D3: ='Mechanistic level'!D3 -> Ethanol | E3: Defined substrate | F3: CFR-Fe3O4 | G3: Adding Fe3O4 | H3: Methanogenesis | I3: ='Mechanistic level'!X3 -> 0.33333333 | J3: ='Mechanistic level'!Y3 -> 0.66666667 | K3: ='Mechanistic level'!Z3 -> 0.32065333 | L3: ='Mechanistic level'!AA3 -> 0.5379495 | M3: ='Mechanistic level'!AB3 -> -0.01268 | N3: ='Mechanistic level'!AC3 -> -0.12871717 | O3: =J3 -> 0.66666667 | P3: =I3 -> 0.33333333 | Q3: =SUM(O3:P3) -> 1 | R3: =O3/Q3 -> 0.66666667 | S3: =L3 -> 0.5379495 | T3: =K3 -> 0.32065333 | U3: =SUM(S3:T3) -> 0.85860283 | V3: =S3/U3 -> 0.62654056 | W3: =IF(E3="","",IF(U3="NC","NC",IF(OR(U3<0,U3>1),"Excluded",IF(OR(E3="Total COD",E3="Mixed"),"Lower bound",IF(OR(E3="Defined substrate",E3="Biodegradable COD"),"As calculated","CHECK"))))) -> As calculated
A4: 3 | B4: Shu_03 | C4: Continuous | D4: ='Mechanistic level'!D4 -> Ethanol | E4: Defined substrate | F4: CFR-PAC | G4: Adding PAC | H4: Methanogenesis | I4: ='Mechanistic level'!X4 -> 0.33333333 | J4: ='Mechanistic level'!Y4 -> 0.66666667 | K4: ='Mechanistic level'!Z4 -> 0.32353333 | L4: ='Mechanistic level'!AA4 -> 0.50140091 | M4: ='Mechanistic level'!AB4 -> -0.0098 | N4: ='Mechanistic level'!AC4 -> -0.16526576 | O4: =J4 -> 0.66666667 | P4: =I4 -> 0.33333333 | Q4: =SUM(O4:P4) -> 1 | R4: =O4/Q4 -> 0.66666667 | S4: =L4 -> 0.50140091 | T4: =K4 -> 0.32353333 | U4: =SUM(S4:T4) -> 0.82493424 | V4: =S4/U4 -> 0.60780712 | W4: =IF(E4="","",IF(U4="NC","NC",IF(OR(U4<0,U4>1),"Excluded",IF(OR(E4="Total COD",E4="Mixed"),"Lower bound",IF(OR(E4="Defined substrate",E4="Biodegradable COD"),"As calculated","CHECK"))))) -> As calculated
A5: 4 | B5: Cetecioglu_01 | C5: Batch | D5: ='Mechanistic level'!D5 -> Acetate, propionate, butyrate | E5: Defined substrate | F5: Acetate/0.5 | G5: Ace_COD/SO4=0.5 | H5: Methanogenesis | I5: ='Mechanistic level'!X5 -> 1 | J5: ='Mechanistic level'!Y5 -> 0 | K5: ='Mechanistic level'!Z5 -> 0.26518519 | L5: ='Mechanistic level'!AA5 -> 0.9162963 | M5: ='Mechanistic level'!AB5 -> -0.73481481 | N5: ='Mechanistic level'!AC5 -> 0.9162963 | O5: =J5 -> 0 | P5: =I5 -> 1 | Q5: =SUM(O5:P5) -> 1 | R5: =O5/Q5 -> 0 | S5: =L5 -> 0.9162963 | T5: =K5 -> 0.26518519 | U5: =SUM(S5:T5) -> 1.1814815 | V5: =S5/U5 -> 0.77554859 | W5: =IF(E5="","",IF(U5="NC","NC",IF(OR(U5<0,U5>1),"Excluded",IF(OR(E5="Total COD",E5="Mixed"),"Lower bound",IF(OR(E5="Defined substrate",E5="Biodegradable COD"),"As calculated","CHECK"))))) -> Excluded
A6: 5 | B6: Cetecioglu_02 | C6: Batch | D6: ='Mechanistic level'!D6 -> Acetate, propionate, butyrate | E6: Defined substrate | F6: Acetate/1.5 | G6: Ace_COD/SO4=1.5 | H6: Methanogenesis | I6: ='Mechanistic level'!X6 -> 0.44222222 | J6: ='Mechanistic level'!Y6 -> 0.55777778 | K6: ='Mechanistic level'!Z6 -> 0.27925926 | L6: ='Mechanistic level'!AA6 -> 0.94518519 | M6: ='Mechanistic level'!AB6 -> -0.16296296 | N6: ='Mechanistic level'!AC6 -> 0.38740741 | O6: =J6 -> 0.55777778 | P6: =I6 -> 0.44222222 | Q6: =SUM(O6:P6) -> 1 | R6: =O6/Q6 -> 0.55777778 | S6: =L6 -> 0.94518519 | T6: =K6 -> 0.27925926 | U6: =SUM(S6:T6) -> 1.2244444 | V6: =S6/U6 -> 0.77192982 | W6: =IF(E6="","",IF(U6="NC","NC",IF(OR(U6<0,U6>1),"Excluded",IF(OR(E6="Total COD",E6="Mixed"),"Lower bound",IF(OR(E6="Defined substrate",E6="Biodegradable COD"),"As calculated","CHECK"))))) -> Excluded
A7: 6 | B7: Cetecioglu_03 | C7: Batch | D7: ='Mechanistic level'!D7 -> Acetate, propionate, butyrate | E7: Defined substrate | F7: Acetate/5 | G7: Ace_COD/SO4=5 | H7: Methanogenesis | I7: ='Mechanistic level'!X7 -> 0.13259259 | J7: ='Mechanistic level'!Y7 -> 0.86740741 | K7: ='Mechanistic level'!Z7 -> 0.093333333 | L7: ='Mechanistic level'!AA7 -> 0.96814815 | M7: ='Mechanistic level'!AB7 -> -0.039259259 | N7: ='Mechanistic level'!AC7 -> 0.10074074 | O7: =J7 -> 0.86740741 | P7: =I7 -> 0.13259259 | Q7: =SUM(O7:P7) -> 1 | R7: =O7/Q7 -> 0.86740741 | S7: =L7 -> 0.96814815 | T7: =K7 -> 0.093333333 | U7: =SUM(S7:T7) -> 1.0614815 | V7: =S7/U7 -> 0.91207258 | W7: =IF(E7="","",IF(U7="NC","NC",IF(OR(U7<0,U7>1),"Excluded",IF(OR(E7="Total COD",E7="Mixed"),"Lower bound",IF(OR(E7="Defined substrate",E7="Biodegradable COD"),"As calculated","CHECK"))))) -> Excluded
A8: 7 | B8: Cetecioglu_04 | C8: Batch | D8: ='Mechanistic level'!D8 -> Acetate, propionate, butyrate | E8: Defined substrate | F8: Propionate/0.5 | G8: Propionate_COD/SO4=0.5 | H8: Methanogenesis | I8: ='Mechanistic level'!X8 -> 1 | J8: ='Mechanistic level'!Y8 -> 0 | K8: ='Mechanistic level'!Z8 -> 0.61333333 | L8: ='Mechanistic level'!AA8 -> 0.9152381 | M8: ='Mechanistic level'!AB8 -> -0.38666667 | N8: ='Mechanistic level'!AC8 -> 0.9152381 | O8: =J8 -> 0 | P8: =I8 -> 1 | Q8: =SUM(O8:P8) -> 1 | R8: =O8/Q8 -> 0 | S8: =L8 -> 0.9152381 | T8: =K8 -> 0.61333333 | U8: =SUM(S8:T8) -> 1.5285714 | V8: =S8/U8 -> 0.59875389 | W8: =IF(E8="","",IF(U8="NC","NC",IF(OR(U8<0,U8>1),"Excluded",IF(OR(E8="Total COD",E8="Mixed"),"Lower bound",IF(OR(E8="Defined substrate",E8="Biodegradable COD"),"As calculated","CHECK"))))) -> Excluded
A9: 8 | B9: Cetecioglu_05 | C9: Batch | D9: ='Mechanistic level'!D9 -> Acetate, propionate, butyrate | E9: Defined substrate | F9: Propionate/1.5 | G9: Propionate_COD/SO4=1.5 | H9: Methanogenesis | I9: ='Mechanistic level'!X9 -> 0.44380952 | J9: ='Mechanistic level'!Y9 -> 0.55619048 | K9: ='Mechanistic level'!Z9 -> 0.34 | L9: ='Mechanistic level'!AA9 -> 0.82761905 | M9: ='Mechanistic level'!AB9 -> -0.10380952 | N9: ='Mechanistic level'!AC9 -> 0.27142857 | O9: =J9 -> 0.55619048 | P9: =I9 -> 0.44380952 | Q9: =SUM(O9:P9) -> 1 | R9: =O9/Q9 -> 0.55619048 | S9: =L9 -> 0.82761905 | T9: =K9 -> 0.34 | U9: =SUM(S9:T9) -> 1.167619 | V9: =S9/U9 -> 0.70880914 | W9: =IF(E9="","",IF(U9="NC","NC",IF(OR(U9<0,U9>1),"Excluded",IF(OR(E9="Total COD",E9="Mixed"),"Lower bound",IF(OR(E9="Defined substrate",E9="Biodegradable COD"),"As calculated","CHECK"))))) -> Excluded
A10: 9 | B10: Cetecioglu_06 | C10: Batch | D10: ='Mechanistic level'!D10 -> Acetate, propionate, butyrate | E10: Defined substrate | F10: Propionate/5 | G10: Propionate_COD/SO4=5 | H10: Methanogenesis | I10: ='Mechanistic level'!X10 -> 0.13333333 | J10: ='Mechanistic level'!Y10 -> 0.86666667 | K10: ='Mechanistic level'!Z10 -> 0.13142857 | L10: ='Mechanistic level'!AA10 -> 1.1561905 | M10: ='Mechanistic level'!AB10 -> -0.0019047619 | N10: ='Mechanistic level'!AC10 -> 0.28952381 | O10: =J10 -> 0.86666667 | P10: =I10 -> 0.13333333 | Q10: =SUM(O10:P10) -> 1 | R10: =O10/Q10 -> 0.86666667 | S10: =L10 -> 1.1561905 | T10: =K10 -> 0.13142857 | U10: =SUM(S10:T10) -> 1.287619 | V10: =S10/U10 -> 0.89792899 | W10: =IF(E10="","",IF(U10="NC","NC",IF(OR(U10<0,U10>1),"Excluded",IF(OR(E10="Total COD",E10="Mixed"),"Lower bound",IF(OR(E10="Defined substrate",E10="Biodegradable COD"),"As calculated","CHECK"))))) -> Excluded
A11: 10 | B11: Cetecioglu_07 | C11: Batch | D11: ='Mechanistic level'!D11 -> Acetate, propionate, butyrate | E11: Defined substrate | F11: Butyrate/0.5 | G11: Butyrate_COD/SO4=0.5 | H11: Methanogenesis | I11: ='Mechanistic level'!X11 -> 1 | J11: ='Mechanistic level'!Y11 -> 0 | K11: ='Mechanistic level'!Z11 -> 1.1293333 | L11: ='Mechanistic level'!AA11 -> 0.44466667 | M11: ='Mechanistic level'!AB11 -> 0.12933333 | N11: ='Mechanistic level'!AC11 -> 0.44466667 | O11: =J11 -> 0 | P11: =I11 -> 1 | Q11: =SUM(O11:P11) -> 1 | R11: =O11/Q11 -> 0 | S11: =L11 -> 0.44466667 | T11: =K11 -> 1.1293333 | U11: =SUM(S11:T11) -> 1.574 | V11: =S11/U11 -> 0.28250741 | W11: =IF(E11="","",IF(U11="NC","NC",IF(OR(U11<0,U11>1),"Excluded",IF(OR(E11="Total COD",E11="Mixed"),"Lower bound",IF(OR(E11="Defined substrate",E11="Biodegradable COD"),"As calculated","CHECK"))))) -> Excluded
A12: 11 | B12: Cetecioglu_08 | C12: Batch | D12: ='Mechanistic level'!D12 -> Acetate, propionate, butyrate | E12: Defined substrate | F12: Butyrate/1.5 | G12: Butyrate_COD/SO4=1.5 | H12: Methanogenesis | I12: ='Mechanistic level'!X12 -> 0.44466667 | J12: ='Mechanistic level'!Y12 -> 0.55533333 | K12: ='Mechanistic level'!Z12 -> 0.44333333 | L12: ='Mechanistic level'!AA12 -> 0.45533333 | M12: ='Mechanistic level'!AB12 -> -0.0013333333 | N12: ='Mechanistic level'!AC12 -> -0.1 | O12: =J12 -> 0.55533333 | P12: =I12 -> 0.44466667 | Q12: =SUM(O12:P12) -> 1 | R12: =O12/Q12 -> 0.55533333 | S12: =L12 -> 0.45533333 | T12: =K12 -> 0.44333333 | U12: =SUM(S12:T12) -> 0.89866667 | V12: =S12/U12 -> 0.50667656 | W12: =IF(E12="","",IF(U12="NC","NC",IF(OR(U12<0,U12>1),"Excluded",IF(OR(E12="Total COD",E12="Mixed"),"Lower bound",IF(OR(E12="Defined substrate",E12="Biodegradable COD"),"As calculated","CHECK"))))) -> As calculated
A13: 12 | B13: Cetecioglu_09 | C13: Batch | D13: ='Mechanistic level'!D13 -> Acetate, propionate, butyrate | E13: Defined substrate | F13: Butyrate/5 | G13: Butyrate_COD/SO4=5 | H13: Methanogenesis | I13: ='Mechanistic level'!X13 -> 0.13333333 | J13: ='Mechanistic level'!Y13 -> 0.86666667 | K13: ='Mechanistic level'!Z13 -> 0.13266667 | L13: ='Mechanistic level'!AA13 -> 0.43733333 | M13: ='Mechanistic level'!AB13 -> -0.00066666667 | N13: ='Mechanistic level'!AC13 -> -0.42933333 | O13: =J13 -> 0.86666667 | P13: =I13 -> 0.13333333 | Q13: =SUM(O13:P13) -> 1 | R13: =O13/Q13 -> 0.86666667 | S13: =L13 -> 0.43733333 | T13: =K13 -> 0.13266667 | U13: =SUM(S13:T13) -> 0.57 | V13: =S13/U13 -> 0.76725146 | W13: =IF(E13="","",IF(U13="NC","NC",IF(OR(U13<0,U13>1),"Excluded",IF(OR(E13="Total COD",E13="Mixed"),"Lower bound",IF(OR(E13="Defined substrate",E13="Biodegradable COD"),"As calculated","CHECK"))))) -> As calculated
A14: 13 | B14: Mahesh_01 | C14: Batch | D14: ='Mechanistic level'!D14 -> Post-tanning wastewater | E14: Total COD | F14: COD/SO4-0.62 | G14: COD/SO4=0.62 | H14: Sulfate reduction | I14: ='Mechanistic level'!X14 -> 1 | J14: ='Mechanistic level'!Y14 -> 0 | K14: ='Mechanistic level'!Z14 -> 0.48078405 | L14: ='Mechanistic level'!AA14 -> 0 | M14: ='Mechanistic level'!AB14 -> -0.51921595 | N14: ='Mechanistic level'!AC14 -> 0 | O14: =I14 -> 1 | P14: =J14 -> 0 | Q14: =SUM(O14:P14) -> 1 | R14: =O14/Q14 -> 1 | S14: =K14 -> 0.48078405 | T14: =L14 -> 0 | U14: =SUM(S14:T14) -> 0.48078405 | V14: =S14/U14 -> 1 | W14: =IF(E14="","",IF(U14="NC","NC",IF(OR(U14<0,U14>1),"Excluded",IF(OR(E14="Total COD",E14="Mixed"),"Lower bound",IF(OR(E14="Defined substrate",E14="Biodegradable COD"),"As calculated","CHECK"))))) -> Lower bound
A15: 14 | B15: Mahesh_02 | C15: Batch | D15: ='Mechanistic level'!D15 -> Post-tanning wastewater | E15: Total COD | F15: COD/SO4-0.69 | G15: COD/SO4=0.69 | H15: Sulfate reduction | I15: ='Mechanistic level'!X15 -> 0.96437413 | J15: ='Mechanistic level'!Y15 -> 0.035625875 | K15: ='Mechanistic level'!Z15 -> 0.45205037 | L15: ='Mechanistic level'!AA15 -> 0.082055823 | M15: ='Mechanistic level'!AB15 -> -0.51232375 | N15: ='Mechanistic level'!AC15 -> 0.046429949 | O15: =I15 -> 0.96437413 | P15: =J15 -> 0.035625875 | Q15: =SUM(O15:P15) -> 1 | R15: =O15/Q15 -> 0.96437413 | S15: =K15 -> 0.45205037 | T15: =L15 -> 0.082055823 | U15: =SUM(S15:T15) -> 0.53410619 | V15: =S15/U15 -> 0.84636796 | W15: =IF(E15="","",IF(U15="NC","NC",IF(OR(U15<0,U15>1),"Excluded",IF(OR(E15="Total COD",E15="Mixed"),"Lower bound",IF(OR(E15="Defined substrate",E15="Biodegradable COD"),"As calculated","CHECK"))))) -> Lower bound
A16: 15 | B16: Mahesh_03 | C16: Batch | D16: ='Mechanistic level'!D16 -> Post-tanning wastewater | E16: Total COD | F16: COD/SO4-1.2 | G16: COD/SO4=1.2 | H16: Sulfate reduction | I16: ='Mechanistic level'!X16 -> 0.55281124 | J16: ='Mechanistic level'!Y16 -> 0.44718876 | K16: ='Mechanistic level'!Z16 -> 0.32128514 | L16: ='Mechanistic level'!AA16 -> 0.32509802 | M16: ='Mechanistic level'!AB16 -> -0.2315261 | N16: ='Mechanistic level'!AC16 -> -0.12209074 | O16: =I16 -> 0.55281124 | P16: =J16 -> 0.44718876 | Q16: =SUM(O16:P16) -> 1 | R16: =O16/Q16 -> 0.55281124 | S16: =K16 -> 0.32128514 | T16: =L16 -> 0.32509802 | U16: =SUM(S16:T16) -> 0.64638316 | V16: =S16/U16 -> 0.49705061 | W16: =IF(E16="","",IF(U16="NC","NC",IF(OR(U16<0,U16>1),"Excluded",IF(OR(E16="Total COD",E16="Mixed"),"Lower bound",IF(OR(E16="Defined substrate",E16="Biodegradable COD"),"As calculated","CHECK"))))) -> Lower bound
A17: 16 | B17: Prakash_01 | C17: Continuous | D17: ='Mechanistic level'!D17 -> Glucose | E17: Defined substrate | F17: Control-10 | G17: COD/SO4=10 | H17: Methanogenesis | I17: ='Mechanistic level'!X17 -> 0.066666667 | J17: ='Mechanistic level'!Y17 -> 0.93333333 | K17: ='Mechanistic level'!Z17 -> 0.054 | L17: ='Mechanistic level'!AA17 -> 0.658 | M17: ='Mechanistic level'!AB17 -> -0.012666667 | N17: ='Mechanistic level'!AC17 -> -0.27533333 | O17: =J17 -> 0.93333333 | P17: =I17 -> 0.066666667 | Q17: =SUM(O17:P17) -> 1 | R17: =O17/Q17 -> 0.93333333 | S17: =L17 -> 0.658 | T17: =K17 -> 0.054 | U17: =SUM(S17:T17) -> 0.712 | V17: =S17/U17 -> 0.9241573 | W17: =IF(E17="","",IF(U17="NC","NC",IF(OR(U17<0,U17>1),"Excluded",IF(OR(E17="Total COD",E17="Mixed"),"Lower bound",IF(OR(E17="Defined substrate",E17="Biodegradable COD"),"As calculated","CHECK"))))) -> As calculated
A18: 17 | B18: Prakash_02 | C18: Continuous | D18: ='Mechanistic level'!D18 -> Glucose | E18: Defined substrate | F18: Control-7.5 | G18: COD/SO4=7.5 | H18: Methanogenesis | I18: ='Mechanistic level'!X18 -> 0.088888889 | J18: ='Mechanistic level'!Y18 -> 0.91111111 | K18: ='Mechanistic level'!Z18 -> 0.071 | L18: ='Mechanistic level'!AA18 -> 0.668 | M18: ='Mechanistic level'!AB18 -> -0.017888889 | N18: ='Mechanistic level'!AC18 -> -0.24311111 | O18: =J18 -> 0.91111111 | P18: =I18 -> 0.088888889 | Q18: =SUM(O18:P18) -> 1 | R18: =O18/Q18 -> 0.91111111 | S18: =L18 -> 0.668 | T18: =K18 -> 0.071 | U18: =SUM(S18:T18) -> 0.739 | V18: =S18/U18 -> 0.90392422 | W18: =IF(E18="","",IF(U18="NC","NC",IF(OR(U18<0,U18>1),"Excluded",IF(OR(E18="Total COD",E18="Mixed"),"Lower bound",IF(OR(E18="Defined substrate",E18="Biodegradable COD"),"As calculated","CHECK"))))) -> As calculated
A19: 18 | B19: Prakash_03 | C19: Continuous | D19: ='Mechanistic level'!D19 -> Glucose | E19: Defined substrate | F19: Control-5 | G19: COD/SO4=5 | H19: Methanogenesis | I19: ='Mechanistic level'!X19 -> 0.13333333 | J19: ='Mechanistic level'!Y19 -> 0.86666667 | K19: ='Mechanistic level'!Z19 -> 0.101 | L19: ='Mechanistic level'!AA19 -> 0.647 | M19: ='Mechanistic level'!AB19 -> -0.032333333 | N19: ='Mechanistic level'!AC19 -> -0.21966667 | O19: =J19 -> 0.86666667 | P19: =I19 -> 0.13333333 | Q19: =SUM(O19:P19) -> 1 | R19: =O19/Q19 -> 0.86666667 | S19: =L19 -> 0.647 | T19: =K19 -> 0.101 | U19: =SUM(S19:T19) -> 0.748 | V19: =S19/U19 -> 0.86497326 | W19: =IF(E19="","",IF(U19="NC","NC",IF(OR(U19<0,U19>1),"Excluded",IF(OR(E19="Total COD",E19="Mixed"),"Lower bound",IF(OR(E19="Defined substrate",E19="Biodegradable COD"),"As calculated","CHECK"))))) -> As calculated
A20: 19 | B20: Prakash_04 | C20: Continuous | D20: ='Mechanistic level'!D20 -> Glucose | E20: Defined substrate | F20: Control-3 | G20: COD/SO4=3 | H20: Methanogenesis | I20: ='Mechanistic level'!X20 -> 0.22222222 | J20: ='Mechanistic level'!Y20 -> 0.77777778 | K20: ='Mechanistic level'!Z20 -> 0.16 | L20: ='Mechanistic level'!AA20 -> 0.628 | M20: ='Mechanistic level'!AB20 -> -0.062222222 | N20: ='Mechanistic level'!AC20 -> -0.14977778 | O20: =J20 -> 0.77777778 | P20: =I20 -> 0.22222222 | Q20: =SUM(O20:P20) -> 1 | R20: =O20/Q20 -> 0.77777778 | S20: =L20 -> 0.628 | T20: =K20 -> 0.16 | U20: =SUM(S20:T20) -> 0.788 | V20: =S20/U20 -> 0.79695431 | W20: =IF(E20="","",IF(U20="NC","NC",IF(OR(U20<0,U20>1),"Excluded",IF(OR(E20="Total COD",E20="Mixed"),"Lower bound",IF(OR(E20="Defined substrate",E20="Biodegradable COD"),"As calculated","CHECK"))))) -> As calculated
A21: 20 | B21: Prakash_05 | C21: Continuous | D21: ='Mechanistic level'!D21 -> Glucose | E21: Defined substrate | F21: Control-2 | G21: COD/SO4=2 | H21: Methanogenesis | I21: ='Mechanistic level'!X21 -> 0.33333333 | J21: ='Mechanistic level'!Y21 -> 0.66666667 | K21: ='Mechanistic level'!Z21 -> 0.231 | L21: ='Mechanistic level'!AA21 -> 0.504 | M21: ='Mechanistic level'!AB21 -> -0.10233333 | N21: ='Mechanistic level'!AC21 -> -0.16266667 | O21: =J21 -> 0.66666667 | P21: =I21 -> 0.33333333 | Q21: =SUM(O21:P21) -> 1 | R21: =O21/Q21 -> 0.66666667 | S21: =L21 -> 0.504 | T21: =K21 -> 0.231 | U21: =SUM(S21:T21) -> 0.735 | V21: =S21/U21 -> 0.68571429 | W21: =IF(E21="","",IF(U21="NC","NC",IF(OR(U21<0,U21>1),"Excluded",IF(OR(E21="Total COD",E21="Mixed"),"Lower bound",IF(OR(E21="Defined substrate",E21="Biodegradable COD"),"As calculated","CHECK"))))) -> As calculated
A22: 21 | B22: Prakash_06 | C22: Continuous | D22: ='Mechanistic level'!D22 -> Glucose | E22: Defined substrate | F22: Control-1 | G22: COD/SO4=1 | H22: Methanogenesis | I22: ='Mechanistic level'!X22 -> 0.66666667 | J22: ='Mechanistic level'!Y22 -> 0.33333333 | K22: ='Mechanistic level'!Z22 -> 0.267 | L22: ='Mechanistic level'!AA22 -> 0.372 | M22: ='Mechanistic level'!AB22 -> -0.39966667 | N22: ='Mechanistic level'!AC22 -> 0.038666667 | O22: =J22 -> 0.33333333 | P22: =I22 -> 0.66666667 | Q22: =SUM(O22:P22) -> 1 | R22: =O22/Q22 -> 0.33333333 | S22: =L22 -> 0.372 | T22: =K22 -> 0.267 | U22: =SUM(S22:T22) -> 0.639 | V22: =S22/U22 -> 0.58215962 | W22: =IF(E22="","",IF(U22="NC","NC",IF(OR(U22<0,U22>1),"Excluded",IF(OR(E22="Total COD",E22="Mixed"),"Lower bound",IF(OR(E22="Defined substrate",E22="Biodegradable COD"),"As calculated","CHECK"))))) -> As calculated
A23: 22 | B23: Prakash_07 | C23: Continuous | D23: ='Mechanistic level'!D23 -> Glucose | E23: Defined substrate | F23: EVR-10 | G23: COD/SO4=10+an electrical voltage | H23: Methanogenesis | I23: ='Mechanistic level'!X23 -> 0.066666667 | J23: ='Mechanistic level'!Y23 -> 0.93333333 | K23: ='Mechanistic level'!Z23 -> 0.06 | L23: ='Mechanistic level'!AA23 -> 0.826 | M23: ='Mechanistic level'!AB23 -> -0.0066666667 | N23: ='Mechanistic level'!AC23 -> -0.10733333 | O23: =J23 -> 0.93333333 | P23: =I23 -> 0.066666667 | Q23: =SUM(O23:P23) -> 1 | R23: =O23/Q23 -> 0.93333333 | S23: =L23 -> 0.826 | T23: =K23 -> 0.06 | U23: =SUM(S23:T23) -> 0.886 | V23: =S23/U23 -> 0.93227991 | W23: =IF(E23="","",IF(U23="NC","NC",IF(OR(U23<0,U23>1),"Excluded",IF(OR(E23="Total COD",E23="Mixed"),"Lower bound",IF(OR(E23="Defined substrate",E23="Biodegradable COD"),"As calculated","CHECK"))))) -> As calculated
A24: 23 | B24: Prakash_08 | C24: Continuous | D24: ='Mechanistic level'!D24 -> Glucose | E24: Defined substrate | F24: EVR-7.5 | G24: COD/SO4=7.5+an electrical voltage | H24: Methanogenesis | I24: ='Mechanistic level'!X24 -> 0.088888889 | J24: ='Mechanistic level'!Y24 -> 0.91111111 | K24: ='Mechanistic level'!Z24 -> 0.081 | L24: ='Mechanistic level'!AA24 -> 0.817 | M24: ='Mechanistic level'!AB24 -> -0.0078888889 | N24: ='Mechanistic level'!AC24 -> -0.094111111 | O24: =J24 -> 0.91111111 | P24: =I24 -> 0.088888889 | Q24: =SUM(O24:P24) -> 1 | R24: =O24/Q24 -> 0.91111111 | S24: =L24 -> 0.817 | T24: =K24 -> 0.081 | U24: =SUM(S24:T24) -> 0.898 | V24: =S24/U24 -> 0.90979955 | W24: =IF(E24="","",IF(U24="NC","NC",IF(OR(U24<0,U24>1),"Excluded",IF(OR(E24="Total COD",E24="Mixed"),"Lower bound",IF(OR(E24="Defined substrate",E24="Biodegradable COD"),"As calculated","CHECK"))))) -> As calculated
A25: 24 | B25: Prakash_09 | C25: Continuous | D25: ='Mechanistic level'!D25 -> Glucose | E25: Defined substrate | F25: EVR-5 | G25: COD/SO4=5+an electrical voltage | H25: Methanogenesis | I25: ='Mechanistic level'!X25 -> 0.13333333 | J25: ='Mechanistic level'!Y25 -> 0.86666667 | K25: ='Mechanistic level'!Z25 -> 0.12 | L25: ='Mechanistic level'!AA25 -> 0.778 | M25: ='Mechanistic level'!AB25 -> -0.013333333 | N25: ='Mechanistic level'!AC25 -> -0.088666667 | O25: =J25 -> 0.86666667 | P25: =I25 -> 0.13333333 | Q25: =SUM(O25:P25) -> 1 | R25: =O25/Q25 -> 0.86666667 | S25: =L25 -> 0.778 | T25: =K25 -> 0.12 | U25: =SUM(S25:T25) -> 0.898 | V25: =S25/U25 -> 0.86636971 | W25: =IF(E25="","",IF(U25="NC","NC",IF(OR(U25<0,U25>1),"Excluded",IF(OR(E25="Total COD",E25="Mixed"),"Lower bound",IF(OR(E25="Defined substrate",E25="Biodegradable COD"),"As calculated","CHECK"))))) -> As calculated
A26: 25 | B26: Prakash_10 | C26: Continuous | D26: ='Mechanistic level'!D26 -> Glucose | E26: Defined substrate | F26: EVR-3 | G26: COD/SO4=3+an electrical voltage | H26: Methanogenesis | I26: ='Mechanistic level'!X26 -> 0.22222222 | J26: ='Mechanistic level'!Y26 -> 0.77777778 | K26: ='Mechanistic level'!Z26 -> 0.189 | L26: ='Mechanistic level'!AA26 -> 0.692 | M26: ='Mechanistic level'!AB26 -> -0.033222222 | N26: ='Mechanistic level'!AC26 -> -0.085777778 | O26: =J26 -> 0.77777778 | P26: =I26 -> 0.22222222 | Q26: =SUM(O26:P26) -> 1 | R26: =O26/Q26 -> 0.77777778 | S26: =L26 -> 0.692 | T26: =K26 -> 0.189 | U26: =SUM(S26:T26) -> 0.881 | V26: =S26/U26 -> 0.78547106 | W26: =IF(E26="","",IF(U26="NC","NC",IF(OR(U26<0,U26>1),"Excluded",IF(OR(E26="Total COD",E26="Mixed"),"Lower bound",IF(OR(E26="Defined substrate",E26="Biodegradable COD"),"As calculated","CHECK"))))) -> As calculated
A27: 26 | B27: Prakash_11 | C27: Continuous | D27: ='Mechanistic level'!D27 -> Glucose | E27: Defined substrate | F27: EVR-2 | G27: COD/SO4=2+an electrical voltage | H27: Methanogenesis | I27: ='Mechanistic level'!X27 -> 0.33333333 | J27: ='Mechanistic level'!Y27 -> 0.66666667 | K27: ='Mechanistic level'!Z27 -> 0.273 | L27: ='Mechanistic level'!AA27 -> 0.593 | M27: ='Mechanistic level'!AB27 -> -0.060333333 | N27: ='Mechanistic level'!AC27 -> -0.073666667 | O27: =J27 -> 0.66666667 | P27: =I27 -> 0.33333333 | Q27: =SUM(O27:P27) -> 1 | R27: =O27/Q27 -> 0.66666667 | S27: =L27 -> 0.593 | T27: =K27 -> 0.273 | U27: =SUM(S27:T27) -> 0.866 | V27: =S27/U27 -> 0.68475751 | W27: =IF(E27="","",IF(U27="NC","NC",IF(OR(U27<0,U27>1),"Excluded",IF(OR(E27="Total COD",E27="Mixed"),"Lower bound",IF(OR(E27="Defined substrate",E27="Biodegradable COD"),"As calculated","CHECK"))))) -> As calculated
A28: 27 | B28: Prakash_12 | C28: Continuous | D28: ='Mechanistic level'!D28 -> Glucose | E28: Defined substrate | F28: EVR-1 | G28: COD/SO4=1+an electrical voltage | H28: Methanogenesis | I28: ='Mechanistic level'!X28 -> 0.66666667 | J28: ='Mechanistic level'!Y28 -> 0.33333333 | K28: ='Mechanistic level'!Z28 -> 0.314 | L28: ='Mechanistic level'!AA28 -> 0.521 | M28: ='Mechanistic level'!AB28 -> -0.35266667 | N28: ='Mechanistic level'!AC28 -> 0.18766667 | O28: =J28 -> 0.33333333 | P28: =I28 -> 0.66666667 | Q28: =SUM(O28:P28) -> 1 | R28: =O28/Q28 -> 0.33333333 | S28: =L28 -> 0.521 | T28: =K28 -> 0.314 | U28: =SUM(S28:T28) -> 0.835 | V28: =S28/U28 -> 0.6239521 | W28: =IF(E28="","",IF(U28="NC","NC",IF(OR(U28<0,U28>1),"Excluded",IF(OR(E28="Total COD",E28="Mixed"),"Lower bound",IF(OR(E28="Defined substrate",E28="Biodegradable COD"),"As calculated","CHECK"))))) -> As calculated
A29: 28 | B29: Sarti&Zaiat_1 | C29: Batch | D29: ='Mechanistic level'!D29 -> Butanol + sulfonation wastewater | E29: Mixed | F29: COD/SO4=2.60 | G29: COD/SO4=2.60 | H29: Sulfate reduction | I29: ='Mechanistic level'!X29 -> 0.25284339 | J29: ='Mechanistic level'!Y29 -> 0.74715661 | K29: ='Mechanistic level'!Z29 -> 0.16220472 | L29: ='Mechanistic level'!AA29 -> 0.00029396325 | M29: ='Mechanistic level'!AB29 -> -0.09063867 | N29: ='Mechanistic level'!AC29 -> -0.74686264 | O29: =I29 -> 0.25284339 | P29: =J29 -> 0.74715661 | Q29: =SUM(O29:P29) -> 1 | R29: =O29/Q29 -> 0.25284339 | S29: =K29 -> 0.16220472 | T29: =L29 -> 0.00029396325 | U29: =SUM(S29:T29) -> 0.16249869 | V29: =S29/U29 -> 0.99819098 | W29: =IF(E29="","",IF(U29="NC","NC",IF(OR(U29<0,U29>1),"Excluded",IF(OR(E29="Total COD",E29="Mixed"),"Lower bound",IF(OR(E29="Defined substrate",E29="Biodegradable COD"),"As calculated","CHECK"))))) -> Lower bound
A30: 29 | B30: Sarti&Zaiat_2 | C30: Batch | D30: ='Mechanistic level'!D30 -> Butanol + sulfonation wastewater | E30: Mixed | F30: COD/SO4=3.09 | G30: COD/SO4=3.09 | H30: Sulfate reduction | I30: ='Mechanistic level'!X30 -> 0.21703662 | J30: ='Mechanistic level'!Y30 -> 0.78296338 | K30: ='Mechanistic level'!Z30 -> 0.20493265 | L30: ='Mechanistic level'!AA30 -> 0.00030961867 | M30: ='Mechanistic level'!AB30 -> -0.012103965 | N30: ='Mechanistic level'!AC30 -> -0.78265377 | O30: =I30 -> 0.21703662 | P30: =J30 -> 0.78296338 | Q30: =SUM(O30:P30) -> 1 | R30: =O30/Q30 -> 0.21703662 | S30: =K30 -> 0.20493265 | T30: =L30 -> 0.00030961867 | U30: =SUM(S30:T30) -> 0.20524227 | V30: =S30/U30 -> 0.99849145 | W30: =IF(E30="","",IF(U30="NC","NC",IF(OR(U30<0,U30>1),"Excluded",IF(OR(E30="Total COD",E30="Mixed"),"Lower bound",IF(OR(E30="Defined substrate",E30="Biodegradable COD"),"As calculated","CHECK"))))) -> Lower bound
A31: 30 | B31: Sarti&Zaiat_3 | C31: Batch | D31: ='Mechanistic level'!D31 -> Butanol + sulfonation wastewater | E31: Mixed | F31: COD/SO4=3.67 | G31: COD/SO4=3.67 | H31: Sulfate reduction | I31: ='Mechanistic level'!X31 -> 0.18199184 | J31: ='Mechanistic level'!Y31 -> 0.81800816 | K31: ='Mechanistic level'!Z31 -> 0.17219762 | L31: ='Mechanistic level'!AA31 -> 0.00028340714 | M31: ='Mechanistic level'!AB31 -> -0.0097942172 | N31: ='Mechanistic level'!AC31 -> -0.81772475 | O31: =I31 -> 0.18199184 | P31: =J31 -> 0.81800816 | Q31: =SUM(O31:P31) -> 1 | R31: =O31/Q31 -> 0.18199184 | S31: =K31 -> 0.17219762 | T31: =L31 -> 0.00028340714 | U31: =SUM(S31:T31) -> 0.17248103 | V31: =S31/U31 -> 0.99835688 | W31: =IF(E31="","",IF(U31="NC","NC",IF(OR(U31<0,U31>1),"Excluded",IF(OR(E31="Total COD",E31="Mixed"),"Lower bound",IF(OR(E31="Defined substrate",E31="Biodegradable COD"),"As calculated","CHECK"))))) -> Lower bound
A32: 31 | B32: Sarti&Zaiat_4 | C32: Batch | D32: ='Mechanistic level'!D32 -> Butanol + sulfonation wastewater | E32: Mixed | F32: COD/SO4=3.65 | G32: COD/SO4=3.65 | H32: Sulfate reduction | I32: ='Mechanistic level'!X32 -> 0.18317135 | J32: ='Mechanistic level'!Y32 -> 0.81682865 | K32: ='Mechanistic level'!Z32 -> 0.16147448 | L32: ='Mechanistic level'!AA32 -> 1.6811137e-05 | M32: ='Mechanistic level'!AB32 -> -0.021696874 | N32: ='Mechanistic level'!AC32 -> -0.81681184 | O32: =I32 -> 0.18317135 | P32: =J32 -> 0.81682865 | Q32: =SUM(O32:P32) -> 1 | R32: =O32/Q32 -> 0.18317135 | S32: =K32 -> 0.16147448 | T32: =L32 -> 1.6811137e-05 | U32: =SUM(S32:T32) -> 0.16149129 | V32: =S32/U32 -> 0.9998959 | W32: =IF(E32="","",IF(U32="NC","NC",IF(OR(U32<0,U32>1),"Excluded",IF(OR(E32="Total COD",E32="Mixed"),"Lower bound",IF(OR(E32="Defined substrate",E32="Biodegradable COD"),"As calculated","CHECK"))))) -> Lower bound
A33: 32 | B33: Sarti&Zaiat_5 | C33: Batch | D33: ='Mechanistic level'!D33 -> Butanol + sulfonation wastewater | E33: Mixed | F33: COD/SO4=3.67 | G33: COD/SO4=3.67 | H33: Sulfate reduction | I33: ='Mechanistic level'!X33 -> 0.1818858 | J33: ='Mechanistic level'!Y33 -> 0.8181142 | K33: ='Mechanistic level'!Z33 -> 0.15409086 | L33: ='Mechanistic level'!AA33 -> 2.7463096e-06 | M33: ='Mechanistic level'!AB33 -> -0.027794942 | N33: ='Mechanistic level'!AC33 -> -0.81811145 | O33: =I33 -> 0.1818858 | P33: =J33 -> 0.8181142 | Q33: =SUM(O33:P33) -> 1 | R33: =O33/Q33 -> 0.1818858 | S33: =K33 -> 0.15409086 | T33: =L33 -> 2.7463096e-06 | U33: =SUM(S33:T33) -> 0.1540936 | V33: =S33/U33 -> 0.99998218 | W33: =IF(E33="","",IF(U33="NC","NC",IF(OR(U33<0,U33>1),"Excluded",IF(OR(E33="Total COD",E33="Mixed"),"Lower bound",IF(OR(E33="Defined substrate",E33="Biodegradable COD"),"As calculated","CHECK"))))) -> Lower bound
A34: 33 | B34: Paepatung_1 | C34: Semi-continuous | D34: ='Mechanistic level'!D34 -> Glucose | E34: Defined substrate | F34: COD/SO4=2 | G34: None | H34: Methanogenesis | I34: ='Mechanistic level'!X34 -> 0.33333333 | J34: ='Mechanistic level'!Y34 -> 0.66666667 | K34: ='Mechanistic level'!Z34 -> 0.12801026 | L34: ='Mechanistic level'!AA34 -> 0.024274491 | M34: ='Mechanistic level'!AB34 -> -0.20532307 | N34: ='Mechanistic level'!AC34 -> -0.64239218 | O34: =J34 -> 0.66666667 | P34: =I34 -> 0.33333333 | Q34: =SUM(O34:P34) -> 1 | R34: =O34/Q34 -> 0.66666667 | S34: =L34 -> 0.024274491 | T34: =K34 -> 0.12801026 | U34: =SUM(S34:T34) -> 0.15228475 | V34: =S34/U34 -> 0.15940198 | W34: =IF(E34="","",IF(U34="NC","NC",IF(OR(U34<0,U34>1),"Excluded",IF(OR(E34="Total COD",E34="Mixed"),"Lower bound",IF(OR(E34="Defined substrate",E34="Biodegradable COD"),"As calculated","CHECK"))))) -> As calculated
A35: 34 | B35: Paepatung_2 | C35: Semi-continuous | D35: ='Mechanistic level'!D35 -> Glucose | E35: Defined substrate | F35: COD/SO4=2+ZVI | G35: COD/SO4=2+ZVI | H35: Methanogenesis | I35: ='Mechanistic level'!X35 -> 0.31287365 | J35: ='Mechanistic level'!Y35 -> 0.68712635 | K35: ='Mechanistic level'!Z35 -> 0.2710678 | L35: ='Mechanistic level'!AA35 -> 0.48260749 | M35: ='Mechanistic level'!AB35 -> -0.041805842 | N35: ='Mechanistic level'!AC35 -> -0.20451886 | O35: =J35 -> 0.68712635 | P35: =I35 -> 0.31287365 | Q35: =SUM(O35:P35) -> 1 | R35: =O35/Q35 -> 0.68712635 | S35: =L35 -> 0.48260749 | T35: =K35 -> 0.2710678 | U35: =SUM(S35:T35) -> 0.7536753 | V35: =S35/U35 -> 0.64033874 | W35: =IF(E35="","",IF(U35="NC","NC",IF(OR(U35<0,U35>1),"Excluded",IF(OR(E35="Total COD",E35="Mixed"),"Lower bound",IF(OR(E35="Defined substrate",E35="Biodegradable COD"),"As calculated","CHECK"))))) -> As calculated
A36: 35 | B36: Xu_01 | C36: Batch | D36: ='Mechanistic level'!D36 -> Synthetic wastewater | E36: Mixed | F36: SO4/COD=0.1 | G36: None | H36: Methanogenesis | I36: ='Mechanistic level'!X36 -> 0.027544845 | J36: ='Mechanistic level'!Y36 -> 0.97245515 | K36: ='Mechanistic level'!Z36 -> 0.00065514341 | L36: ='Mechanistic level'!AA36 -> 0.81827412 | M36: ='Mechanistic level'!AB36 -> -0.026889702 | N36: ='Mechanistic level'!AC36 -> -0.15418103 | O36: =J36 -> 0.97245515 | P36: =I36 -> 0.027544845 | Q36: =SUM(O36:P36) -> 1 | R36: =O36/Q36 -> 0.97245515 | S36: =L36 -> 0.81827412 | T36: =K36 -> 0.00065514341 | U36: =SUM(S36:T36) -> 0.81892927 | V36: =S36/U36 -> 0.9992 | W36: =IF(E36="","",IF(U36="NC","NC",IF(OR(U36<0,U36>1),"Excluded",IF(OR(E36="Total COD",E36="Mixed"),"Lower bound",IF(OR(E36="Defined substrate",E36="Biodegradable COD"),"As calculated","CHECK"))))) -> Lower bound
A37: 36 | B37: Xu_02 | C37: Batch | D37: ='Mechanistic level'!D37 -> Synthetic wastewater | E37: Mixed | F37: SO4/COD=0.2 | G37: None | H37: Methanogenesis | I37: ='Mechanistic level'!X37 -> 0.05508969 | J37: ='Mechanistic level'!Y37 -> 0.94491031 | K37: ='Mechanistic level'!Z37 -> 0.049980903 | L37: ='Mechanistic level'!AA37 -> 0.67966732 | M37: ='Mechanistic level'!AB37 -> -0.005108787 | N37: ='Mechanistic level'!AC37 -> -0.26524299 | O37: =J37 -> 0.94491031 | P37: =I37 -> 0.05508969 | Q37: =SUM(O37:P37) -> 1 | R37: =O37/Q37 -> 0.94491031 | S37: =L37 -> 0.67966732 | T37: =K37 -> 0.049980903 | U37: =SUM(S37:T37) -> 0.72964822 | V37: =S37/U37 -> 0.9315 | W37: =IF(E37="","",IF(U37="NC","NC",IF(OR(U37<0,U37>1),"Excluded",IF(OR(E37="Total COD",E37="Mixed"),"Lower bound",IF(OR(E37="Defined substrate",E37="Biodegradable COD"),"As calculated","CHECK"))))) -> Lower bound
A38: 37 | B38: Xu_03 | C38: Batch | D38: ='Mechanistic level'!D38 -> Synthetic wastewater | E38: Mixed | F38: SO4/COD=1 | G38: None | H38: Methanogenesis | I38: ='Mechanistic level'!X38 -> 0.27544845 | J38: ='Mechanistic level'!Y38 -> 0.72455155 | K38: ='Mechanistic level'!Z38 -> 0.14187328 | L38: ='Mechanistic level'!AA38 -> 0.57069971 | M38: ='Mechanistic level'!AB38 -> -0.13357517 | N38: ='Mechanistic level'!AC38 -> -0.15385184 | O38: =J38 -> 0.72455155 | P38: =I38 -> 0.27544845 | Q38: =SUM(O38:P38) -> 1 | R38: =O38/Q38 -> 0.72455155 | S38: =L38 -> 0.57069971 | T38: =K38 -> 0.14187328 | U38: =SUM(S38:T38) -> 0.71257299 | V38: =S38/U38 -> 0.8009 | W38: =IF(E38="","",IF(U38="NC","NC",IF(OR(U38<0,U38>1),"Excluded",IF(OR(E38="Total COD",E38="Mixed"),"Lower bound",IF(OR(E38="Defined substrate",E38="Biodegradable COD"),"As calculated","CHECK"))))) -> Lower bound
A39: 38 | B39: Xu_04 | C39: Batch | D39: ='Mechanistic level'!D39 -> Synthetic wastewater | E39: Mixed | F39: SO4/COD=2 | G39: None | H39: Methanogenesis | I39: ='Mechanistic level'!X39 -> 0.5508969 | J39: ='Mechanistic level'!Y39 -> 0.4491031 | K39: ='Mechanistic level'!Z39 -> 0.30357451 | L39: ='Mechanistic level'!AA39 -> 0.49049955 | M39: ='Mechanistic level'!AB39 -> -0.24732239 | N39: ='Mechanistic level'!AC39 -> 0.04139645 | O39: =J39 -> 0.4491031 | P39: =I39 -> 0.5508969 | Q39: =SUM(O39:P39) -> 1 | R39: =O39/Q39 -> 0.4491031 | S39: =L39 -> 0.49049955 | T39: =K39 -> 0.30357451 | U39: =SUM(S39:T39) -> 0.79407406 | V39: =S39/U39 -> 0.6177 | W39: =IF(E39="","",IF(U39="NC","NC",IF(OR(U39<0,U39>1),"Excluded",IF(OR(E39="Total COD",E39="Mixed"),"Lower bound",IF(OR(E39="Defined substrate",E39="Biodegradable COD"),"As calculated","CHECK"))))) -> Lower bound
A40: 39 | B40: Xu_05 | C40: Batch | D40: ='Mechanistic level'!D40 -> Synthetic wastewater | E40: Mixed | F40: SO4/COD=0.1+1g Biochar | G40: 1g Biochar | H40: Methanogenesis | I40: ='Mechanistic level'!X40 -> 0.027544845 | J40: ='Mechanistic level'!Y40 -> 0.97245515 | K40: ='Mechanistic level'!Z40 -> 0.029935641 | L40: ='Mechanistic level'!AA40 -> 0.57360551 | M40: ='Mechanistic level'!AB40 -> 0.002390796 | N40: ='Mechanistic level'!AC40 -> -0.39884964 | O40: =J40 -> 0.97245515 | P40: =I40 -> 0.027544845 | Q40: =SUM(O40:P40) -> 1 | R40: =O40/Q40 -> 0.97245515 | S40: =L40 -> 0.57360551 | T40: =K40 -> 0.029935641 | U40: =SUM(S40:T40) -> 0.60354115 | V40: =S40/U40 -> 0.9504 | W40: Excluded
A41: 40 | B41: Xu_06 | C41: Batch | D41: ='Mechanistic level'!D41 -> Synthetic wastewater | E41: Mixed | F41: SO4/COD=0.2+1g Biochar | G41: 1g Biochar | H41: Methanogenesis | I41: ='Mechanistic level'!X41 -> 0.05508969 | J41: ='Mechanistic level'!Y41 -> 0.94491031 | K41: ='Mechanistic level'!Z41 -> 0.076479317 | L41: ='Mechanistic level'!AA41 -> 0.50822494 | M41: ='Mechanistic level'!AB41 -> 0.021389627 | N41: ='Mechanistic level'!AC41 -> -0.43668537 | O41: =J41 -> 0.94491031 | P41: =I41 -> 0.05508969 | Q41: =SUM(O41:P41) -> 1 | R41: =O41/Q41 -> 0.94491031 | S41: =L41 -> 0.50822494 | T41: =K41 -> 0.076479317 | U41: =SUM(S41:T41) -> 0.58470426 | V41: =S41/U41 -> 0.8692 | W41: Excluded
A42: 41 | B42: Xu_07 | C42: Batch | D42: ='Mechanistic level'!D42 -> Synthetic wastewater | E42: Mixed | F42: SO4/COD=1+1g Biochar | G42: 1g Biochar | H42: Methanogenesis | I42: ='Mechanistic level'!X42 -> 0.27544845 | J42: ='Mechanistic level'!Y42 -> 0.72455155 | K42: ='Mechanistic level'!Z42 -> 0.17230827 | L42: ='Mechanistic level'!AA42 -> 0.50473798 | M42: ='Mechanistic level'!AB42 -> -0.10314018 | N42: ='Mechanistic level'!AC42 -> -0.21981357 | O42: =J42 -> 0.72455155 | P42: =I42 -> 0.27544845 | Q42: =SUM(O42:P42) -> 1 | R42: =O42/Q42 -> 0.72455155 | S42: =L42 -> 0.50473798 | T42: =K42 -> 0.17230827 | U42: =SUM(S42:T42) -> 0.67704625 | V42: =S42/U42 -> 0.7455 | W42: =IF(E42="","",IF(U42="NC","NC",IF(OR(U42<0,U42>1),"Excluded",IF(OR(E42="Total COD",E42="Mixed"),"Lower bound",IF(OR(E42="Defined substrate",E42="Biodegradable COD"),"As calculated","CHECK"))))) -> Lower bound
A43: 42 | B43: Xu_08 | C43: Batch | D43: ='Mechanistic level'!D43 -> Synthetic wastewater | E43: Mixed | F43: SO4/COD=2+1g Biochar | G43: 1g Biochar | H43: Methanogenesis | I43: ='Mechanistic level'!X43 -> 0.5508969 | J43: ='Mechanistic level'!Y43 -> 0.4491031 | K43: ='Mechanistic level'!Z43 -> 0.42606811 | L43: ='Mechanistic level'!AA43 -> 0.5029945 | M43: ='Mechanistic level'!AB43 -> -0.12482879 | N43: ='Mechanistic level'!AC43 -> 0.053891403 | O43: =J43 -> 0.4491031 | P43: =I43 -> 0.5508969 | Q43: =SUM(O43:P43) -> 1 | R43: =O43/Q43 -> 0.4491031 | S43: =L43 -> 0.5029945 | T43: =K43 -> 0.42606811 | U43: =SUM(S43:T43) -> 0.92906261 | V43: =S43/U43 -> 0.5414 | W43: =IF(E43="","",IF(U43="NC","NC",IF(OR(U43<0,U43>1),"Excluded",IF(OR(E43="Total COD",E43="Mixed"),"Lower bound",IF(OR(E43="Defined substrate",E43="Biodegradable COD"),"As calculated","CHECK"))))) -> Lower bound
A44: 43 | B44: Xu_09 | C44: Batch | D44: ='Mechanistic level'!D44 -> Synthetic wastewater | E44: Mixed | F44: SO4/COD=0.1+4g Biochar | G44: 4g Biochar | H44: Methanogenesis | I44: ='Mechanistic level'!X44 -> 0.027544845 | J44: ='Mechanistic level'!Y44 -> 0.97245515 | K44: ='Mechanistic level'!Z44 -> 0.006066342 | L44: ='Mechanistic level'!AA44 -> 0.47538937 | M44: ='Mechanistic level'!AB44 -> -0.021478503 | N44: ='Mechanistic level'!AC44 -> -0.49706578 | O44: =J44 -> 0.97245515 | P44: =I44 -> 0.027544845 | Q44: =SUM(O44:P44) -> 1 | R44: =O44/Q44 -> 0.97245515 | S44: =L44 -> 0.47538937 | T44: =K44 -> 0.006066342 | U44: =SUM(S44:T44) -> 0.48145571 | V44: =S44/U44 -> 0.9874 | W44: =IF(E44="","",IF(U44="NC","NC",IF(OR(U44<0,U44>1),"Excluded",IF(OR(E44="Total COD",E44="Mixed"),"Lower bound",IF(OR(E44="Defined substrate",E44="Biodegradable COD"),"As calculated","CHECK"))))) -> Lower bound
A45: 44 | B45: Xu_10 | C45: Batch | D45: ='Mechanistic level'!D45 -> Synthetic wastewater | E45: Mixed | F45: SO4/COD=0.2+4g Biochar | G45: 4g Biochar | H45: Methanogenesis | I45: ='Mechanistic level'!X45 -> 0.05508969 | J45: ='Mechanistic level'!Y45 -> 0.94491031 | K45: ='Mechanistic level'!Z45 -> 0.034758804 | L45: ='Mechanistic level'!AA45 -> 0.43180233 | M45: ='Mechanistic level'!AB45 -> -0.020330886 | N45: ='Mechanistic level'!AC45 -> -0.51310798 | O45: =J45 -> 0.94491031 | P45: =I45 -> 0.05508969 | Q45: =SUM(O45:P45) -> 1 | R45: =O45/Q45 -> 0.94491031 | S45: =L45 -> 0.43180233 | T45: =K45 -> 0.034758804 | U45: =SUM(S45:T45) -> 0.46656113 | V45: =S45/U45 -> 0.9255 | W45: =IF(E45="","",IF(U45="NC","NC",IF(OR(U45<0,U45>1),"Excluded",IF(OR(E45="Total COD",E45="Mixed"),"Lower bound",IF(OR(E45="Defined substrate",E45="Biodegradable COD"),"As calculated","CHECK"))))) -> Lower bound
A46: 45 | B46: Xu_11 | C46: Batch | D46: ='Mechanistic level'!D46 -> Synthetic wastewater | E46: Mixed | F46: SO4/COD=1+4g Biochar | G46: 4g Biochar | H46: Methanogenesis | I46: ='Mechanistic level'!X46 -> 0.27544845 | J46: ='Mechanistic level'!Y46 -> 0.72455155 | K46: ='Mechanistic level'!Z46 -> 0.094915914 | L46: ='Mechanistic level'!AA46 -> 0.36119131 | M46: ='Mechanistic level'!AB46 -> -0.18053254 | N46: ='Mechanistic level'!AC46 -> -0.36336024 | O46: =J46 -> 0.72455155 | P46: =I46 -> 0.27544845 | Q46: =SUM(O46:P46) -> 1 | R46: =O46/Q46 -> 0.72455155 | S46: =L46 -> 0.36119131 | T46: =K46 -> 0.094915914 | U46: =SUM(S46:T46) -> 0.45610723 | V46: =S46/U46 -> 0.7919 | W46: =IF(E46="","",IF(U46="NC","NC",IF(OR(U46<0,U46>1),"Excluded",IF(OR(E46="Total COD",E46="Mixed"),"Lower bound",IF(OR(E46="Defined substrate",E46="Biodegradable COD"),"As calculated","CHECK"))))) -> Lower bound
A47: 46 | B47: Xu_12 | C47: Batch | D47: ='Mechanistic level'!D47 -> Synthetic wastewater | E47: Mixed | F47: SO4/COD=2+4g Biochar | G47: 4g Biochar | H47: Methanogenesis | I47: ='Mechanistic level'!X47 -> 0.5508969 | J47: ='Mechanistic level'!Y47 -> 0.4491031 | K47: ='Mechanistic level'!Z47 -> 0.14683978 | L47: ='Mechanistic level'!AA47 -> 0.29319552 | M47: ='Mechanistic level'!AB47 -> -0.40405712 | N47: ='Mechanistic level'!AC47 -> -0.15590757 | O47: =J47 -> 0.4491031 | P47: =I47 -> 0.5508969 | Q47: =SUM(O47:P47) -> 1 | R47: =O47/Q47 -> 0.4491031 | S47: =L47 -> 0.29319552 | T47: =K47 -> 0.14683978 | U47: =SUM(S47:T47) -> 0.4400353 | V47: =S47/U47 -> 0.6663 | W47: =IF(E47="","",IF(U47="NC","NC",IF(OR(U47<0,U47>1),"Excluded",IF(OR(E47="Total COD",E47="Mixed"),"Lower bound",IF(OR(E47="Defined substrate",E47="Biodegradable COD"),"As calculated","CHECK"))))) -> Lower bound
A48: 47 | B48: Xu_13 | C48: Batch | D48: ='Mechanistic level'!D48 -> Synthetic wastewater | E48: Mixed | F48: SO4/COD=0.1+8g Biochar | G48: 8g Biochar | H48: Methanogenesis | I48: ='Mechanistic level'!X48 -> 0.027544845 | J48: ='Mechanistic level'!Y48 -> 0.97245515 | K48: ='Mechanistic level'!Z48 -> 0.0006106174 | L48: ='Mechanistic level'!AA48 -> 0.35857609 | M48: ='Mechanistic level'!AB48 -> -0.026934228 | N48: ='Mechanistic level'!AC48 -> -0.61387906 | O48: =J48 -> 0.97245515 | P48: =I48 -> 0.027544845 | Q48: =SUM(O48:P48) -> 1 | R48: =O48/Q48 -> 0.97245515 | S48: =L48 -> 0.35857609 | T48: =K48 -> 0.0006106174 | U48: =SUM(S48:T48) -> 0.35918671 | V48: =S48/U48 -> 0.9983 | W48: =IF(E48="","",IF(U48="NC","NC",IF(OR(U48<0,U48>1),"Excluded",IF(OR(E48="Total COD",E48="Mixed"),"Lower bound",IF(OR(E48="Defined substrate",E48="Biodegradable COD"),"As calculated","CHECK"))))) -> Lower bound
A49: 48 | B49: Xu_14 | C49: Batch | D49: ='Mechanistic level'!D49 -> Synthetic wastewater | E49: Mixed | F49: SO4/COD=0.2+8g Biochar | G49: 8g Biochar | H49: Methanogenesis | I49: ='Mechanistic level'!X49 -> 0.05508969 | J49: ='Mechanistic level'!Y49 -> 0.94491031 | K49: ='Mechanistic level'!Z49 -> 0.04253655 | L49: ='Mechanistic level'!AA49 -> 0.28593102 | M49: ='Mechanistic level'!AB49 -> -0.012553141 | N49: ='Mechanistic level'!AC49 -> -0.65897929 | O49: =J49 -> 0.94491031 | P49: =I49 -> 0.05508969 | Q49: =SUM(O49:P49) -> 1 | R49: =O49/Q49 -> 0.94491031 | S49: =L49 -> 0.28593102 | T49: =K49 -> 0.04253655 | U49: =SUM(S49:T49) -> 0.32846756 | V49: =S49/U49 -> 0.8705 | W49: =IF(E49="","",IF(U49="NC","NC",IF(OR(U49<0,U49>1),"Excluded",IF(OR(E49="Total COD",E49="Mixed"),"Lower bound",IF(OR(E49="Defined substrate",E49="Biodegradable COD"),"As calculated","CHECK"))))) -> Lower bound
A50: 49 | B50: Xu_15 | C50: Batch | D50: ='Mechanistic level'!D50 -> Synthetic wastewater | E50: Mixed | F50: SO4/COD=1+8g Biochar | G50: 8g Biochar | H50: Methanogenesis | I50: ='Mechanistic level'!X50 -> 0.27544845 | J50: ='Mechanistic level'!Y50 -> 0.72455155 | K50: ='Mechanistic level'!Z50 -> 0.14398914 | L50: ='Mechanistic level'!AA50 -> 0.29406726 | M50: ='Mechanistic level'!AB50 -> -0.13145931 | N50: ='Mechanistic level'!AC50 -> -0.43048428 | O50: =J50 -> 0.72455155 | P50: =I50 -> 0.27544845 | Q50: =SUM(O50:P50) -> 1 | R50: =O50/Q50 -> 0.72455155 | S50: =L50 -> 0.29406726 | T50: =K50 -> 0.14398914 | U50: =SUM(S50:T50) -> 0.4380564 | V50: =S50/U50 -> 0.6713 | W50: =IF(E50="","",IF(U50="NC","NC",IF(OR(U50<0,U50>1),"Excluded",IF(OR(E50="Total COD",E50="Mixed"),"Lower bound",IF(OR(E50="Defined substrate",E50="Biodegradable COD"),"As calculated","CHECK"))))) -> Lower bound
A51: 50 | B51: Xu_16 | C51: Batch | D51: ='Mechanistic level'!D51 -> Synthetic wastewater | E51: Mixed | F51: SO4/COD=2+8g Biochar | G51: 8g Biochar | H51: Methanogenesis | I51: ='Mechanistic level'!X51 -> 0.5508969 | J51: ='Mechanistic level'!Y51 -> 0.4491031 | K51: ='Mechanistic level'!Z51 -> 0.27227374 | L51: ='Mechanistic level'!AA51 -> 0.30888686 | M51: ='Mechanistic level'!AB51 -> -0.27862316 | N51: ='Mechanistic level'!AC51 -> -0.14021624 | O51: =J51 -> 0.4491031 | P51: =I51 -> 0.5508969 | Q51: =SUM(O51:P51) -> 1 | R51: =O51/Q51 -> 0.4491031 | S51: =L51 -> 0.30888686 | T51: =K51 -> 0.27227374 | U51: =SUM(S51:T51) -> 0.5811606 | V51: =S51/U51 -> 0.5315 | W51: =IF(E51="","",IF(U51="NC","NC",IF(OR(U51<0,U51>1),"Excluded",IF(OR(E51="Total COD",E51="Mixed"),"Lower bound",IF(OR(E51="Defined substrate",E51="Biodegradable COD"),"As calculated","CHECK"))))) -> Lower bound
A52: 51 | B52: Li_01 | C52: Continuous | D52: ='Mechanistic level'!D52 -> Lactate | E52: Defined substrate | F52: 18 g plastic threads – control | G52: None | H52: Methanogenesis | I52: ='Mechanistic level'!X52 -> 0.54166667 | J52: ='Mechanistic level'!Y52 -> 0.45833333 | K52: ='Mechanistic level'!Z52 -> 0.450125 | L52: ='Mechanistic level'!AA52 -> 0.025111856 | M52: ='Mechanistic level'!AB52 -> -0.091541667 | N52: ='Mechanistic level'!AC52 -> -0.43322148 | O52: =J52 -> 0.45833333 | P52: =I52 -> 0.54166667 | Q52: =SUM(O52:P52) -> 1 | R52: =O52/Q52 -> 0.45833333 | S52: =L52 -> 0.025111856 | T52: =K52 -> 0.450125 | U52: =SUM(S52:T52) -> 0.47523686 | V52: =S52/U52 -> 0.052840717 | W52: =IF(E52="","",IF(U52="NC","NC",IF(OR(U52<0,U52>1),"Excluded",IF(OR(E52="Total COD",E52="Mixed"),"Lower bound",IF(OR(E52="Defined substrate",E52="Biodegradable COD"),"As calculated","CHECK"))))) -> As calculated
A53: 52 | B53: Li_02 | C53: Continuous | D53: ='Mechanistic level'!D53 -> Lactate | E53: Defined substrate | F53: 18 g stainless steel | G53: Stainless steel | H53: Methanogenesis | I53: ='Mechanistic level'!X53 -> 0.54166667 | J53: ='Mechanistic level'!Y53 -> 0.45833333 | K53: ='Mechanistic level'!Z53 -> 0.43495833 | L53: ='Mechanistic level'!AA53 -> 0.10191334 | M53: ='Mechanistic level'!AB53 -> -0.10670833 | N53: ='Mechanistic level'!AC53 -> -0.35641999 | O53: =J53 -> 0.45833333 | P53: =I53 -> 0.54166667 | Q53: =SUM(O53:P53) -> 1 | R53: =O53/Q53 -> 0.45833333 | S53: =L53 -> 0.10191334 | T53: =K53 -> 0.43495833 | U53: =SUM(S53:T53) -> 0.53687168 | V53: =S53/U53 -> 0.18982813 | W53: =IF(E53="","",IF(U53="NC","NC",IF(OR(U53<0,U53>1),"Excluded",IF(OR(E53="Total COD",E53="Mixed"),"Lower bound",IF(OR(E53="Defined substrate",E53="Biodegradable COD"),"As calculated","CHECK"))))) -> As calculated
... A62: 61 | B62: Chen_03 | C62: Batch | D62: ='Mechanistic level'!D62 -> Glucose | E62: Defined substrate | F62: 20 μM AHL | G62: Adding 20 μM N-acyl-homoserine lactones | H62: Methanogenesis | I62: ='Mechanistic level'!X62 -> 0.16666667 | J62: ='Mechanistic level'!Y62 -> 0.83333333 | K62: ='Mechanistic level'!Z62 -> 0.093666667 | L62: ='Mechanistic level'!AA62 -> 0.58213616 | M62: ='Mechanistic level'!AB62 -> -0.073 | N62: ='Mechanistic level'!AC62 -> -0.25119717 | O62: =J62 -> 0.83333333 | P62: =I62 -> 0.16666667 | Q62: =SUM(O62:P62) -> 1 | R62: =O62/Q62 -> 0.83333333 | S62: =L62 -> 0.58213616 | T62: =K62 -> 0.093666667 | U62: =SUM(S62:T62) -> 0.67580283 | V62: =S62/U62 -> 0.86139942 | W62: =IF(E62="","",IF(U62="NC","NC",IF(OR(U62<0,U62>1),"Excluded",IF(OR(E62="Total COD",E62="Mixed"),"Lower bound",IF(OR(E62="Defined substrate",E62="Biodegradable COD"),"As calculated","CHECK"))))) -> As calculated
A64: Note: E_in type and Interpretation of f_target, f_expressed: as in Supplementary Data 1. As calculated: E_in is based on a defined substrate. Lower bound: E_in is based on total COD or includes a real-waste or inoculum component (Total COD or Mixed); effective and nominal allocations are both lower bounds, whereas f_SR^eff/f_SR^nom is unaffected. Excluded: the electron balance was over-closed (f_expressed_eff > 1) or sulfate reduction exceeded the sulfate supplied (f_SR^eff > f_SR^nom); these cases were not included in Figures 4 and 5.
