Workbook

Sheet VFA_Formation
A1: No. | B1: Study ID | C1: Case ID | D1: Reference (Author, Year) | E1: Mode | F1: Substrate | G1: E_in basis (COD type) | H1: Sample | I1: pH | J1: T (C) | K1: HRT/SRT (d) | L1: Main objective | M1: Analysis window | N1: COD_input (mgCOD/L) | O1: Acetate (mg/L) | P1: Propionate (mg/L) | Q1: Butyrate (mg/L) | R1: iso-Butyrate (mg/L) | S1: Valerate (mg/L) | T1: iso-Valerate (mg/L) | U1: Total VFA (mg/L or mgCOD/L) | V1: Other VFA | W1: CH4 (mL/L) | X1: H2 (mL/L) | Y1: E_in (mmol e-/L) | Z1: E_target (mmol e-/L) | AA1: E_competing (mmol e-/L) | AB1: E_expressed (mmol e-/L) | AC1: f_target | AD1: f_competing | AE1: A_target | AF1: f_expressed | AG1: E_unresolved (mmol e-/L) | AH1: f_unresolved | AI1: Interpretation of f_target, f_expressed
A2: 1 | B2: VFA_Liu2017 | C2: VFA_Liu_01 | D2: Liu et al., 2017 | E2: Batch | F2: Simulated food waste | G2: Total COD | H2: Control_0g/L_Salt+Oil | I2: 6 | J2: 35 | K2: 5 (batch incubation) | L2: VFA production | M2: t=0 to peak VFA | N2: =((338.45/199.5*150)*2.96/4)*1000 -> 188310.53 | O2: =0.476*U2 -> 19544.56 | P2: =8.9/100*U2 -> 3654.34 | Q2: =0.264*U2 -> 10839.84 | R2: 0 | S2: 0 | T2: 0 | U2: 41060 | V2: =U2-SUM(O2:Q2) -> 7021.26 | W2: NR | X2: NR | Y2: =N2/8 -> 23538.816 | Z2: =(O2*1.066+P2*1.512+Q2*1.816+V2*1.963)/8 -> 7478.4682 | AA2: NC | AB2: NC | AC2: NC | AD2: NC | AE2: NC | AF2: NC | AG2: NC | AH2: NC | AI2: =IF(G2="","",IF(AF2="NC","NC",IF(OR(AF2<0,AF2>1),"Excluded",IF(OR(G2="Total COD",G2="Mixed"),"Lower bound",IF(OR(G2="Defined substrate",G2="Biodegradable COD"),"As calculated","CHECK"))))) -> NC
A3: 2 | B3: VFA_Liu2017 | C3: VFA_Liu_02 | D3: Liu et al., 2017 | E3: Batch | F3: Simulated food waste | G3: Total COD | H3: 3g/L_Salt | I3: 6 | J3: 35 | K3: 6 (batch incubation) | L3: VFA production | M3: t=0 to peak VFA | N3: =((338.45/199.5*150)*2.96/4)*1000 -> 188310.53 | O3: =0.427*U3 -> 15448.86 | P3: =0.103*U3 -> 3726.54 | Q3: =0.271*U3 -> 9804.78 | R3: 0 | S3: 0 | T3: 0 | U3: 36180 | V3: =U3-SUM(O3:Q3) -> 7199.82 | W3: NR | X3: NR | Y3: =N3/8 -> 23538.816 | Z3: =(O3*1.066+P3*1.512+Q3*1.816+V3*1.963)/8 -> 6755.2175 | AA3: NC | AB3: NC | AC3: NC | AD3: NC | AE3: NC | AF3: NC | AG3: NC | AH3: NC | AI3: =IF(G3="","",IF(AF3="NC","NC",IF(OR(AF3<0,AF3>1),"Excluded",IF(OR(G3="Total COD",G3="Mixed"),"Lower bound",IF(OR(G3="Defined substrate",G3="Biodegradable COD"),"As calculated","CHECK"))))) -> NC
A4: 3 | B4: VFA_Liu2017 | C4: VFA_Liu_03 | D4: Liu et al., 2017 | E4: Batch | F4: Simulated food waste | G4: Total COD | H4: 6g/L_Salt | I4: 6 | J4: 35 | K4: 7 (batch incubation) | L4: VFA production | M4: t=0 to peak VFA | N4: =((338.45/199.5*150)*2.96/4)*1000 -> 188310.53 | O4: =0.406*U4 -> 13548.22 | P4: =0.04*U4 -> 1334.8 | Q4: =0.353*U4 -> 11779.61 | R4: 0 | S4: 0 | T4: 0 | U4: 33370 | V4: =U4-SUM(O4:Q4) -> 6707.37 | W4: NR | X4: NR | Y4: =N4/8 -> 23538.816 | Z4: =(O4*1.066+P4*1.512+Q4*1.816+V4*1.963)/8 -> 6377.3699 | AA4: NC | AB4: NC | AC4: NC | AD4: NC | AE4: NC | AF4: NC | AG4: NC | AH4: NC | AI4: =IF(G4="","",IF(AF4="NC","NC",IF(OR(AF4<0,AF4>1),"Excluded",IF(OR(G4="Total COD",G4="Mixed"),"Lower bound",IF(OR(G4="Defined substrate",G4="Biodegradable COD"),"As calculated","CHECK"))))) -> NC
A5: 4 | B5: VFA_Liu2017 | C5: VFA_Liu_04 | D5: Liu et al., 2017 | E5: Batch | F5: Simulated food waste | G5: Total COD | H5: 9g/L_Salt | I5: 6 | J5: 35 | K5: 8 (batch incubation) | L5: VFA production | M5: t=0 to peak VFA | N5: =((338.45/199.5*150)*2.96/4)*1000 -> 188310.53 | O5: =0.255*U5 -> 5775.75 | P5: =0.085*U5 -> 1925.25 | Q5: =0.512*U5 -> 11596.8 | R5: 0 | S5: 0 | T5: 0 | U5: 22650 | V5: =U5-SUM(O5:Q5) -> 3352.2 | W5: NR | X5: NR | Y5: =N5/8 -> 23538.816 | Z5: =(O5*1.066+P5*1.512+Q5*1.816+V5*1.963)/8 -> 4588.5106 | AA5: NC | AB5: NC | AC5: NC | AD5: NC | AE5: NC | AF5: NC | AG5: NC | AH5: NC | AI5: =IF(G5="","",IF(AF5="NC","NC",IF(OR(AF5<0,AF5>1),"Excluded",IF(OR(G5="Total COD",G5="Mixed"),"Lower bound",IF(OR(G5="Defined substrate",G5="Biodegradable COD"),"As calculated","CHECK"))))) -> NC
A6: 5 | B6: VFA_Liu2017 | C6: VFA_Liu_05 | D6: Liu et al., 2017 | E6: Batch | F6: Simulated food waste | G6: Total COD | H6: 12g/L_Salt | I6: 6 | J6: 35 | K6: 9 (batch incubation) | L6: VFA production | M6: t=0 to peak VFA | N6: =((338.45/199.5*150)*2.96/4)*1000 -> 188310.53 | O6: =0.252*U6 -> 1043.28 | P6: =0.027*U6 -> 111.78 | Q6: =0.189*U6 -> 782.46 | R6: 0 | S6: 0 | T6: 0 | U6: 4140 | V6: =U6-SUM(O6:Q6) -> 2202.48 | W6: NR | X6: NR | Y6: =N6/8 -> 23538.816 | Z6: =(O6*1.066+P6*1.512+Q6*1.816+V6*1.963)/8 -> 878.19543 | AA6: NC | AB6: NC | AC6: NC | AD6: NC | AE6: NC | AF6: NC | AG6: NC | AH6: NC | AI6: =IF(G6="","",IF(AF6="NC","NC",IF(OR(AF6<0,AF6>1),"Excluded",IF(OR(G6="Total COD",G6="Mixed"),"Lower bound",IF(OR(G6="Defined substrate",G6="Biodegradable COD"),"As calculated","CHECK"))))) -> NC
A7: 6 | B7: VFA_Liu2017 | C7: VFA_Liu_06 | D7: Liu et al., 2017 | E7: Batch | F7: Simulated food waste | G7: Mixed | H7: 5g/L_Oil | I7: 6 | J7: 35 | K7: 10 (batch incubation) | L7: VFA production | M7: t=0 to peak VFA | N7: =(((338.45/199.5*150)*2.96/4)*1000)+(2.9*5*1000) -> 202810.53 | O7: =0.343*U7 -> 13260.38 | P7: =0.321*U7 -> 12409.86 | Q7: =0.248*U7 -> 9587.68 | R7: 0 | S7: 0 | T7: 0 | U7: 38660 | V7: =U7-SUM(O7:Q7) -> 3402.08 | W7: NR | X7: NR | Y7: =N7/8 -> 25351.316 | Z7: =(O7*1.066+P7*1.512+Q7*1.816+V7*1.963)/8 -> 7123.5979 | AA7: NC | AB7: NC | AC7: NC | AD7: NC | AE7: NC | AF7: NC | AG7: NC | AH7: NC | AI7: =IF(G7="","",IF(AF7="NC","NC",IF(OR(AF7<0,AF7>1),"Excluded",IF(OR(G7="Total COD",G7="Mixed"),"Lower bound",IF(OR(G7="Defined substrate",G7="Biodegradable COD"),"As calculated","CHECK"))))) -> NC
A8: 7 | B8: VFA_Liu2017 | C8: VFA_Liu_07 | D8: Liu et al., 2017 | E8: Batch | F8: Simulated food waste | G8: Mixed | H8: 15g/L_Oil | I8: 6 | J8: 35 | K8: 11 (batch incubation) | L8: VFA production | M8: t=0 to peak VFA | N8: =(((338.45/199.5*150)*2.96/4)*1000)+(2.9*15*1000) -> 231810.53 | O8: =0.288*U8 -> 9469.44 | P8: =0.231*U8 -> 7595.28 | Q8: =0.368*U8 -> 12099.84 | R8: 0 | S8: 0 | T8: 0 | U8: 32880 | V8: =U8-SUM(O8:Q8) -> 3715.44 | W8: NR | X8: NR | Y8: =N8/8 -> 28976.316 | Z8: =(O8*1.066+P8*1.512+Q8*1.816+V8*1.963)/8 -> 6355.6506 | AA8: NC | AB8: NC | AC8: NC | AD8: NC | AE8: NC | AF8: NC | AG8: NC | AH8: NC | AI8: =IF(G8="","",IF(AF8="NC","NC",IF(OR(AF8<0,AF8>1),"Excluded",IF(OR(G8="Total COD",G8="Mixed"),"Lower bound",IF(OR(G8="Defined substrate",G8="Biodegradable COD"),"As calculated","CHECK"))))) -> NC
A9: 8 | B9: VFA_Liu2017 | C9: VFA_Liu_08 | D9: Liu et al., 2017 | E9: Batch | F9: Simulated food waste | G9: Mixed | H9: 25g/L_Oil | I9: 6 | J9: 35 | K9: 12 (batch incubation) | L9: VFA production | M9: t=0 to peak VFA | N9: =(((338.45/199.5*150)*2.96/4)*1000)+(2.9*25*1000) -> 260810.53 | O9: =0.235*U9 -> 5456.7 | P9: =0.203*U9 -> 4713.66 | Q9: =0.421*U9 -> 9775.62 | R9: 0 | S9: 0 | T9: 0 | U9: 23220 | V9: =U9-SUM(O9:Q9) -> 3274.02 | W9: NR | X9: NR | Y9: =N9/8 -> 32601.316 | Z9: =(O9*1.066+P9*1.512+Q9*1.816+V9*1.963)/8 -> 4640.4154 | AA9: NC | AB9: NC | AC9: NC | AD9: NC | AE9: NC | AF9: NC | AG9: NC | AH9: NC | AI9: =IF(G9="","",IF(AF9="NC","NC",IF(OR(AF9<0,AF9>1),"Excluded",IF(OR(G9="Total COD",G9="Mixed"),"Lower bound",IF(OR(G9="Defined substrate",G9="Biodegradable COD"),"As calculated","CHECK"))))) -> NC
A10: 9 | B10: VFA_Liu2017 | C10: VFA_Liu_09 | D10: Liu et al., 2017 | E10: Batch | F10: Simulated food waste | G10: Mixed | H10: 35g/L_Oil | I10: 6 | J10: 35 | K10: 13 (batch incubation) | L10: VFA production | M10: t=0 to peak VFA | N10: =(((338.45/199.5*150)*2.96/4)*1000)+(2.9*35*1000) -> 289810.53 | O10: =0.24*U10 -> 3225.6 | P10: =0.202*U10 -> 2714.88 | Q10: =0.39*U10 -> 5241.6 | R10: 0 | S10: 0 | T10: 0 | U10: 13440 | V10: =U10-SUM(O10:Q10) -> 2257.92 | W10: NR | X10: NR | Y10: =N10/8 -> 36226.316 | Z10: =(O10*1.066+P10*1.512+Q10*1.816+V10*1.963)/8 -> 2686.8038 | AA10: NC | AB10: NC | AC10: NC | AD10: NC | AE10: NC | AF10: NC | AG10: NC | AH10: NC | AI10: =IF(G10="","",IF(AF10="NC","NC",IF(OR(AF10<0,AF10>1),"Excluded",IF(OR(G10="Total COD",G10="Mixed"),"Lower bound",IF(OR(G10="Defined substrate",G10="Biodegradable COD"),"As calculated","CHECK"))))) -> NC
A11: 10 | B11: VFA_Sarkar2020 | C11: VFA_Sarkar_01 | D11: Sarkar et al., 2020 | E11: Semi-continuous | F11: Food waste (oil removed) | G11: Total COD | H11: Control_0g/L_NaCl | I11: 6 | J11: 28 | K11: 2 (cycle length) | L11: VFA production | M11: t=0 to 48h | N11: 15000 | O11: 1790 | P11: 1597 | Q11: 1452 | R11: NR | S11: 0 | T11: NR | U11: 4603 | V11: NR | W11: 3289 | X11: 777.6 | Y11: =N11/8 -> 1875 | Z11: =(O11*1.066+P11*1.512+Q11*1.816+S11*2.037-905)/8 -> 756.8295 | AA11: =((W11*8)/24.71)+((X11*2)/24.71) -> 1127.7701 | AB11: =Z11+AA11 -> 1884.5996 | AC11: =Z11/Y11 -> 0.4036424 | AD11: =AA11/Y11 -> 0.6014774 | AE11: =Z11/AB11 -> 0.40158636 | AF11: =AB11/Y11 -> 1.0051198 | AG11: =Y11-SUM(Z11:AA11) -> -9.5996335 | AH11: =AG11/Y11 -> -0.0051198046 | AI11: =IF(G11="","",IF(AF11="NC","NC",IF(OR(AF11<0,AF11>1),"Excluded",IF(OR(G11="Total COD",G11="Mixed"),"Lower bound",IF(OR(G11="Defined substrate",G11="Biodegradable COD"),"As calculated","CHECK"))))) -> Excluded
A12: 11 | B12: VFA_Sarkar2020 | C12: VFA_Sarkar_02 | D12: Sarkar et al., 2020 | E12: Semi-continuous | F12: Food waste (oil removed) | G12: Total COD | H12: 1g/L_NaCl | I12: 6 | J12: 28 | K12: 2 (cycle length) | L12: VFA production | M12: t=0 to 48h | N12: 15000 | O12: 2638 | P12: 807 | Q12: 1722 | R12: NR | S12: 215.4 | T12: NR | U12: 5384 | V12: NR | W12: =1.94*(1-0.34)*1000/0.5 -> 2560.8 | X12: 1324.8 | Y12: =N12/8 -> 1875 | Z12: =(O12*1.066+P12*1.512+Q12*1.816+S12*2.037-905)/8 -> 836.65173 | AA12: =((W12*8)/24.71)+((X12*2)/24.71) -> 936.30109 | AB12: =Z12+AA12 -> 1772.9528 | AC12: =Z12/Y12 -> 0.44621425 | AD12: =AA12/Y12 -> 0.49936058 | AE12: =Z12/AB12 -> 0.47189734 | AF12: =AB12/Y12 -> 0.94557484 | AG12: =Y12-SUM(Z12:AA12) -> 102.04718 | AH12: =AG12/Y12 -> 0.054425164 | AI12: =IF(G12="","",IF(AF12="NC","NC",IF(OR(AF12<0,AF12>1),"Excluded",IF(OR(G12="Total COD",G12="Mixed"),"Lower bound",IF(OR(G12="Defined substrate",G12="Biodegradable COD"),"As calculated","CHECK"))))) -> Lower bound
A13: 12 | B13: VFA_Sarkar2020 | C13: VFA_Sarkar_03 | D13: Sarkar et al., 2020 | E13: Semi-continuous | F13: Food waste (oil removed) | G13: Total COD | H13: 5g/L_NaCl | I13: 6 | J13: 28 | K13: 2 (cycle length) | L13: VFA production | M13: t=0 to 48h | N13: 15000 | O13: 2625 | P13: 1187 | Q13: 2125 | R13: NR | S13: 312.5 | T13: NR | U13: 6250 | V13: NR | W13: =720/0.5 -> 1440 | X13: 1440 | Y13: =N13/8 -> 1875 | Z13: =(O13*1.066+P13*1.512+Q13*1.816+S13*2.037-905)/8 -> 1022.9446 | AA13: =((W13*8)/24.71)+((X13*2)/24.71) -> 582.76002 | AB13: =Z13+AA13 -> 1605.7046 | AC13: =Z13/Y13 -> 0.54557043 | AD13: =AA13/Y13 -> 0.31080534 | AE13: =Z13/AB13 -> 0.63706897 | AF13: =AB13/Y13 -> 0.85637578 | AG13: =Y13-SUM(Z13:AA13) -> 269.29542 | AH13: =AG13/Y13 -> 0.14362422 | AI13: =IF(G13="","",IF(AF13="NC","NC",IF(OR(AF13<0,AF13>1),"Excluded",IF(OR(G13="Total COD",G13="Mixed"),"Lower bound",IF(OR(G13="Defined substrate",G13="Biodegradable COD"),"As calculated","CHECK"))))) -> Lower bound
A14: 13 | B14: VFA_Sarkar2020 | C14: VFA_Sarkar_04 | D14: Sarkar et al., 2020 | E14: Semi-continuous | F14: Food waste (oil removed) | G14: Total COD | H14: 10g/L_NaCl | I14: 6 | J14: 28 | K14: 2 (cycle length) | L14: VFA production | M14: t=0 to 48h | N14: 15000 | O14: 2631 | P14: 1101 | Q14: 1958 | R14: NR | S14: 428.4 | T14: NR | U14: 6120 | V14: NR | W14: 0 | X14: 1468.8 | Y14: =N14/8 -> 1875 | Z14: =(O14*1.066+P14*1.512+Q14*1.816+S14*2.037-905)/8 -> 999.0921 | AA14: =((W14*8)/24.71)+((X14*2)/24.71) -> 118.88304 | AB14: =Z14+AA14 -> 1117.9751 | AC14: =Z14/Y14 -> 0.53284912 | AD14: =AA14/Y14 -> 0.06340429 | AE14: =Z14/AB14 -> 0.89366218 | AF14: =AB14/Y14 -> 0.59625341 | AG14: =Y14-SUM(Z14:AA14) -> 757.02486 | AH14: =AG14/Y14 -> 0.40374659 | AI14: =IF(G14="","",IF(AF14="NC","NC",IF(OR(AF14<0,AF14>1),"Excluded",IF(OR(G14="Total COD",G14="Mixed"),"Lower bound",IF(OR(G14="Defined substrate",G14="Biodegradable COD"),"As calculated","CHECK"))))) -> Lower bound
A15: 14 | B15: VFA_Sarkar2020 | C15: VFA_Sarkar_05 | D15: Sarkar et al., 2020 | E15: Semi-continuous | F15: Food waste (oil removed) | G15: Total COD | H15: 20g/L_NaCl | I15: 6 | J15: 28 | K15: 2 (cycle length) | L15: VFA production | M15: t=0 to 48h | N15: 15000 | O15: 2141 | P15: 1038 | Q15: 2595 | R15: NR | S15: 713.7 | T15: NR | U15: 6488 | V15: NR | W15: 0 | X15: 1670.4 | Y15: =N15/8 -> 1875 | Z15: =(O15*1.066+P15*1.512+Q15*1.816+S15*2.037-905)/8 -> 1139.1361 | AA15: =((W15*8)/24.71)+((X15*2)/24.71) -> 135.20032 | AB15: =Z15+AA15 -> 1274.3364 | AC15: =Z15/Y15 -> 0.60753926 | AD15: =AA15/Y15 -> 0.072106839 | AE15: =Z15/AB15 -> 0.89390531 | AF15: =AB15/Y15 -> 0.6796461 | AG15: =Y15-SUM(Z15:AA15) -> 600.66356 | AH15: =AG15/Y15 -> 0.3203539 | AI15: =IF(G15="","",IF(AF15="NC","NC",IF(OR(AF15<0,AF15>1),"Excluded",IF(OR(G15="Total COD",G15="Mixed"),"Lower bound",IF(OR(G15="Defined substrate",G15="Biodegradable COD"),"As calculated","CHECK"))))) -> Lower bound
A16: 15 | B16: VFA_Sarkar2020 | C16: VFA_Sarkar_06 | D16: Sarkar et al., 2020 | E16: Semi-continuous | F16: Food waste (oil removed) | G16: Total COD | H16: 30g/L_NaCl | I16: 6 | J16: 28 | K16: 2 (cycle length) | L16: VFA production | M16: t=0 to 48h | N16: 15000 | O16: 1760 | P16: 978 | Q16: 2868 | R16: NR | S16: 912.8 | T16: NR | U16: 6520 | V16: NR | W16: 0 | X16: 1612.8 | Y16: =N16/8 -> 1875 | Z16: =(O16*1.066+P16*1.512+Q16*1.816+S16*2.037-905)/8 -> 1189.6947 | AA16: =((W16*8)/24.71)+((X16*2)/24.71) -> 130.53824 | AB16: =Z16+AA16 -> 1320.2329 | AC16: =Z16/Y16 -> 0.63450384 | AD16: =AA16/Y16 -> 0.069620397 | AE16: =Z16/AB16 -> 0.90112484 | AF16: =AB16/Y16 -> 0.70412424 | AG16: =Y16-SUM(Z16:AA16) -> 554.76706 | AH16: =AG16/Y16 -> 0.29587576 | AI16: =IF(G16="","",IF(AF16="NC","NC",IF(OR(AF16<0,AF16>1),"Excluded",IF(OR(G16="Total COD",G16="Mixed"),"Lower bound",IF(OR(G16="Defined substrate",G16="Biodegradable COD"),"As calculated","CHECK"))))) -> Lower bound
A17: 16 | B17: VFA_Sarkar2020 | C17: VFA_Sarkar_07 | D17: Sarkar et al., 2020 | E17: Semi-continuous | F17: Food waste (oil removed) | G17: Total COD | H17: 40g/L_NaCl | I17: 6 | J17: 28 | K17: 2 (cycle length) | L17: VFA production | M17: t=0 to 48h | N17: 15000 | O17: 1644 | P17: 723 | Q17: 3091 | R17: NR | S17: 1118 | T17: NR | U17: 6578 | V17: NR | W17: 0 | X17: 2116.8 | Y17: =N17/8 -> 1875 | Z17: =(O17*1.066+P17*1.512+Q17*1.816+S17*2.037-905)/8 -> 1228.9128 | AA17: =((W17*8)/24.71)+((X17*2)/24.71) -> 171.33144 | AB17: =Z17+AA17 -> 1400.2442 | AC17: =Z17/Y17 -> 0.65542013 | AD17: =AA17/Y17 -> 0.091376771 | AE17: =Z17/AB17 -> 0.87764174 | AF17: =AB17/Y17 -> 0.7467969 | AG17: =Y17-SUM(Z17:AA17) -> 474.75581 | AH17: =AG17/Y17 -> 0.2532031 | AI17: =IF(G17="","",IF(AF17="NC","NC",IF(OR(AF17<0,AF17>1),"Excluded",IF(OR(G17="Total COD",G17="Mixed"),"Lower bound",IF(OR(G17="Defined substrate",G17="Biodegradable COD"),"As calculated","CHECK"))))) -> Lower bound
A18: 17 | B18: VFA_Sarkar2020 | C18: VFA_Sarkar_08 | D18: Sarkar et al., 2020 | E18: Semi-continuous | F18: Food waste (oil removed) | G18: Total COD | H18: 50g/L_NaCl | I18: 6 | J18: 28 | K18: 2 (cycle length) | L18: VFA production | M18: t=0 to 48h | N18: 15000 | O18: 1556 | P18: 891 | Q18: 2634 | R18: NR | S18: 734 | T18: NR | U18: 5988 | V18: NR | W18: 0 | X18: 1398.4 | Y18: =N18/8 -> 1875 | Z18: =(O18*1.066+P18*1.512+Q18*1.816+S18*2.037-905)/8 -> 1047.4237 | AA18: =((W18*8)/24.71)+((X18*2)/24.71) -> 113.18495 | AB18: =Z18+AA18 -> 1160.6087 | AC18: =Z18/Y18 -> 0.558626 | AD18: =AA18/Y18 -> 0.060365304 | AE18: =Z18/AB18 -> 0.90247794 | AF18: =AB18/Y18 -> 0.6189913 | AG18: =Y18-SUM(Z18:AA18) -> 714.3913 | AH18: =AG18/Y18 -> 0.3810087 | AI18: =IF(G18="","",IF(AF18="NC","NC",IF(OR(AF18<0,AF18>1),"Excluded",IF(OR(G18="Total COD",G18="Mixed"),"Lower bound",IF(OR(G18="Defined substrate",G18="Biodegradable COD"),"As calculated","CHECK"))))) -> Lower bound
A19: 18 | B19: VFA_Sun2024 | C19: VFA_Sun_01 | D19: Sun et al., 2024 | E19: Semi-continuous | F19: Primary sludge | G19: Total COD | H19: Control_0mg/L_H2O2 | I19: 7 | J19: 37 | K19: 15 | L19: VFA production | M19: Days 0–30 | N19: 7020 | O19: NR | P19: NR | Q19: NR | R19: NR | S19: NR | T19: NR | U19: =801*8.66/100 -> 69.3666 | V19: NR | W19: 2133 | X19: NR | Y19: =N19/8 -> 877.5 | Z19: =(40/200)*U19/8 -> 1.734165 | AA19: =W19*8/25.45 -> 670.49116 | AB19: =Z19+AA19 -> 672.22532 | AC19: =Z19/Y19 -> 0.0019762564 | AD19: =AA19/Y19 -> 0.76409249 | AE19: =Z19/AB19 -> 0.0025797377 | AF19: =AB19/Y19 -> 0.76606875 | AG19: =Y19-SUM(Z19:AA19) -> 205.27468 | AH19: =AG19/Y19 -> 0.23393125 | AI19: =IF(G19="","",IF(AF19="NC","NC",IF(OR(AF19<0,AF19>1),"Excluded",IF(OR(G19="Total COD",G19="Mixed"),"Lower bound",IF(OR(G19="Defined substrate",G19="Biodegradable COD"),"As calculated","CHECK"))))) -> Lower bound
A20: 19 | B20: VFA_Sun2024 | C20: VFA_Sun_02 | D20: Sun et al., 2024 | E20: Semi-continuous | F20: Primary sludge | G20: Total COD | H20: 40mg/L_H2O2 | I20: 7 | J20: 37 | K20: 15 | L20: VFA production | M20: Days 30–51 | N20: 7020 | O20: NR | P20: NR | Q20: NR | R20: NR | S20: NR | T20: NR | U20: =840*7.18/100 -> 60.312 | V20: NR | W20: 1773.6 | X20: NR | Y20: =N20/8 -> 877.5 | Z20: =(40/200)*U20/8 -> 1.5078 | AA20: =W20*8/25.45 -> 557.5167 | AB20: =Z20+AA20 -> 559.0245 | AC20: =Z20/Y20 -> 0.0017182906 | AD20: =AA20/Y20 -> 0.63534667 | AE20: =Z20/AB20 -> 0.0026971984 | AF20: =AB20/Y20 -> 0.63706496 | AG20: =Y20-SUM(Z20:AA20) -> 318.4755 | AH20: =AG20/Y20 -> 0.36293504 | AI20: =IF(G20="","",IF(AF20="NC","NC",IF(OR(AF20<0,AF20>1),"Excluded",IF(OR(G20="Total COD",G20="Mixed"),"Lower bound",IF(OR(G20="Defined substrate",G20="Biodegradable COD"),"As calculated","CHECK"))))) -> Lower bound
A21: 20 | B21: VFA_Sun2024 | C21: VFA_Sun_03 | D21: Sun et al., 2024 | E21: Semi-continuous | F21: Primary sludge | G21: Total COD | H21: 80mg/L_H2O2 | I21: 5 | J21: 37 | K21: 15 | L21: VFA production | M21: Days 93–150 | N21: 7020 | O21: NR | P21: NR | Q21: NR | R21: NR | S21: NR | T21: NR | U21: 10585.5 | V21: NR | W21: 0 | X21: NR | Y21: =N21/8 -> 877.5 | Z21: =(40/200)*U21/8 -> 264.6375 | AA21: =W21*8/25.45 -> 0 | AB21: =Z21+AA21 -> 264.6375 | AC21: =Z21/Y21 -> 0.3015812 | AD21: =AA21/Y21 -> 0 | AE21: =Z21/AB21 -> 1 | AF21: =AB21/Y21 -> 0.3015812 | AG21: =Y21-SUM(Z21:AA21) -> 612.8625 | AH21: =AG21/Y21 -> 0.6984188 | AI21: =IF(G21="","",IF(AF21="NC","NC",IF(OR(AF21<0,AF21>1),"Excluded",IF(OR(G21="Total COD",G21="Mixed"),"Lower bound",IF(OR(G21="Defined substrate",G21="Biodegradable COD"),"As calculated","CHECK"))))) -> Lower bound
A22: 21 | B22: VFA_Xu2021 | C22: VFA_Xu_01 | D22: Xu et al., 2021 | E22: Batch | F22: Glucose | G22: Defined substrate | H22: Control_0%_H2O2 | I22: NR | J22: 35 | K22: 5 (batch incubation) | L22: VFA production | M22: Day 0–5 | N22: 3000 | O22: 0 | P22: 30 | Q22: 369 | R22: 17 | S22: 0 | T22: 12.9 | U22: 429.3 | V22: NR | W22: =20.7*20 -> 414 | X22: NR | Y22: =N22/8 -> 375 | Z22: =(O22*1.066+P22*1.512+Q22*1.816+R22*1.816+S22*2.037+T22*2.037)/8 -> 96.576662 | AA22: =W22/25.29*8 -> 130.96085 | AB22: =Z22+AA22 -> 227.53752 | AC22: =Z22/Y22 -> 0.25753777 | AD22: =AA22/Y22 -> 0.34922894 | AE22: =Z22/AB22 -> 0.42444281 | AF22: =AB22/Y22 -> 0.60676671 | AG22: =Y22-SUM(Z22:AA22) -> 147.46248 | AH22: =AG22/Y22 -> 0.39323329 | AI22: =IF(G22="","",IF(AF22="NC","NC",IF(OR(AF22<0,AF22>1),"Excluded",IF(OR(G22="Total COD",G22="Mixed"),"Lower bound",IF(OR(G22="Defined substrate",G22="Biodegradable COD"),"As calculated","CHECK"))))) -> As calculated
A23: 22 | B23: VFA_Xu2021 | C23: VFA_Xu_02 | D23: Xu et al., 2021 | E23: Batch | F23: Glucose | G23: Defined substrate | H23: 0.03%_H2O2 | I23: NR | J23: 35 | K23: 5 (batch incubation) | L23: VFA production | M23: Day 0–5 | N23: 3000 | O23: 1088 | P23: 212 | Q23: 13 | R23: 13 | S23: 0 | T23: 0 | U23: 1326.3 | V23: NR | W23: =2.9*20 -> 58 | X23: NR | Y23: =N23/8 -> 375 | Z23: =(O23*1.066+P23*1.512+Q23*1.816+R23*1.816+S23*2.037+T23*2.037)/8 -> 190.946 | AA23: =W23/25.29*8 -> 18.347173 | AB23: =Z23+AA23 -> 209.29317 | AC23: =Z23/Y23 -> 0.50918933 | AD23: =AA23/Y23 -> 0.048925794 | AE23: =Z23/AB23 -> 0.91233745 | AF23: =AB23/Y23 -> 0.55811513 | AG23: =Y23-SUM(Z23:AA23) -> 165.70683 | AH23: =AG23/Y23 -> 0.44188487 | AI23: =IF(G23="","",IF(AF23="NC","NC",IF(OR(AF23<0,AF23>1),"Excluded",IF(OR(G23="Total COD",G23="Mixed"),"Lower bound",IF(OR(G23="Defined substrate",G23="Biodegradable COD"),"As calculated","CHECK"))))) -> As calculated
A24: 23 | B24: VFA_Xu2021 | C24: VFA_Xu_03 | D24: Xu et al., 2021 | E24: Batch | F24: Glucose | G24: Defined substrate | H24: 0.06%_H2O2 | I24: NR | J24: 35 | K24: 5 (batch incubation) | L24: VFA production | M24: Day 0–5 | N24: 3000 | O24: 987 | P24: 210 | Q24: 25 | R24: 12 | S24: 0 | T24: 0 | U24: 1233.1 | V24: NR | W24: =2*20 -> 40 | X24: NR | Y24: =N24/8 -> 375 | Z24: =(O24*1.066+P24*1.512+Q24*1.816+R24*1.816+S24*2.037+T24*2.037)/8 -> 179.60675 | AA24: =W24/25.29*8 -> 12.653223 | AB24: =Z24+AA24 -> 192.25997 | AC24: =Z24/Y24 -> 0.47895133 | AD24: =AA24/Y24 -> 0.033741927 | AE24: =Z24/AB24 -> 0.93418691 | AF24: =AB24/Y24 -> 0.51269326 | AG24: =Y24-SUM(Z24:AA24) -> 182.74003 | AH24: =AG24/Y24 -> 0.48730674 | AI24: =IF(G24="","",IF(AF24="NC","NC",IF(OR(AF24<0,AF24>1),"Excluded",IF(OR(G24="Total COD",G24="Mixed"),"Lower bound",IF(OR(G24="Defined substrate",G24="Biodegradable COD"),"As calculated","CHECK"))))) -> As calculated
A25: 24 | B25: VFA_Xu2021 | C25: VFA_Xu_04 | D25: Xu et al., 2021 | E25: Batch | F25: Glucose | G25: Defined substrate | H25: 0.1%_H2O2 | I25: NR | J25: 35 | K25: 5 (batch incubation) | L25: VFA production | M25: Day 0–5 | N25: 3000 | O25: 714 | P25: 275 | Q25: 20 | R25: 10 | S25: 0 | T25: 0 | U25: 1020 | V25: NR | W25: =1*20 -> 20 | X25: NR | Y25: =N25/8 -> 375 | Z25: =(O25*1.066+P25*1.512+Q25*1.816+R25*1.816+S25*2.037+T25*2.037)/8 -> 153.9255 | AA25: =W25/25.29*8 -> 6.3266113 | AB25: =Z25+AA25 -> 160.25211 | AC25: =Z25/Y25 -> 0.410468 | AD25: =AA25/Y25 -> 0.016870963 | AE25: =Z25/AB25 -> 0.96052089 | AF25: =AB25/Y25 -> 0.42733896 | AG25: =Y25-SUM(Z25:AA25) -> 214.74789 | AH25: =AG25/Y25 -> 0.57266104 | AI25: =IF(G25="","",IF(AF25="NC","NC",IF(OR(AF25<0,AF25>1),"Excluded",IF(OR(G25="Total COD",G25="Mixed"),"Lower bound",IF(OR(G25="Defined substrate",G25="Biodegradable COD"),"As calculated","CHECK"))))) -> As calculated
A26: 25 | B26: VFA_Xu2021 | C26: VFA_Xu_05 | D26: Xu et al., 2021 | E26: Batch | F26: Glucose | G26: Defined substrate | H26: 0.13%_H2O2 | I26: NR | J26: 35 | K26: 5 (batch incubation) | L26: VFA production | M26: Day 0–5 | N26: 3000 | O26: 277 | P26: 65 | Q26: 151 | R26: 5 | S26: 0 | T26: 5 | U26: 502.9 | V26: NR | W26: =0.7*20 -> 14 | X26: NR | Y26: =N26/8 -> 375 | Z26: =(O26*1.066+P26*1.512+Q26*1.816+R26*1.816+S26*2.037+T26*2.037)/8 -> 85.880375 | AA26: =W26/25.29*8 -> 4.4286279 | AB26: =Z26+AA26 -> 90.309003 | AC26: =Z26/Y26 -> 0.22901433 | AD26: =AA26/Y26 -> 0.011809674 | AE26: =Z26/AB26 -> 0.95096139 | AF26: =AB26/Y26 -> 0.24082401 | AG26: =Y26-SUM(Z26:AA26) -> 284.691 | AH26: =AG26/Y26 -> 0.75917599 | AI26: =IF(G26="","",IF(AF26="NC","NC",IF(OR(AF26<0,AF26>1),"Excluded",IF(OR(G26="Total COD",G26="Mixed"),"Lower bound",IF(OR(G26="Defined substrate",G26="Biodegradable COD"),"As calculated","CHECK"))))) -> As calculated
A27: 26 | B27: VFA_Jiang2025 | C27: VFA_Jiang_01 | D27: Jiang et al., 2025 | E27: Semi-continuous | F27: Food waste+dewatered sludge | G27: Total COD | H27: FD 100:0 | I27: 3.36 | J27: 37 | K27: 6.67 | L27: VFA production | M27: Day 1-33, Daily cycle | N27: =87590*(3/20) -> 13138.5 | O27: R-DIG | P27: R-DIG | Q27: R-DIG | R27: R-DIG | S27: R-DIG | T27: R-DIG | U27: 4200 | V27: NR | W27: NR | X27: NR | Y27: =N27/8 -> 1642.3125 | Z27: =(3/20)*U27/8 -> 78.75 | AA27: NC | AB27: NC | AC27: =Z27/Y27 -> 0.047950679 | AD27: NC | AE27: NC | AF27: NC | AG27: NC | AH27: NC | AI27: =IF(G27="","",IF(AF27="NC","NC",IF(OR(AF27<0,AF27>1),"Excluded",IF(OR(G27="Total COD",G27="Mixed"),"Lower bound",IF(OR(G27="Defined substrate",G27="Biodegradable COD"),"As calculated","CHECK"))))) -> NC
A28: 27 | B28: VFA_Jiang2025 | C28: VFA_Jiang_02 | D28: Jiang et al., 2025 | E28: Semi-continuous | F28: Food waste+dewatered sludge | G28: Total COD | H28: FD 19:1 | I28: 4.2 | J28: 37 | K28: 6.67 | L28: VFA production | M28: Day 34-67, Daily cycle | N28: =76710*(3/20) -> 11506.5 | O28: R-DIG | P28: R-DIG | Q28: R-DIG | R28: R-DIG | S28: R-DIG | T28: R-DIG | U28: 21551 | V28: NR | W28: NR | X28: NR | Y28: =N28/8 -> 1438.3125 | Z28: =(3/20)*U28/8 -> 404.08125 | AA28: NC | AB28: NC | AC28: =Z28/Y28 -> 0.28094121 | AD28: NC | AE28: NC | AF28: NC | AG28: NC | AH28: NC | AI28: =IF(G28="","",IF(AF28="NC","NC",IF(OR(AF28<0,AF28>1),"Excluded",IF(OR(G28="Total COD",G28="Mixed"),"Lower bound",IF(OR(G28="Defined substrate",G28="Biodegradable COD"),"As calculated","CHECK"))))) -> NC
A29: 28 | B29: VFA_Jiang2025 | C29: VFA_Jiang_03 | D29: Jiang et al., 2025 | E29: Semi-continuous | F29: Food waste+dewatered sludge | G29: Total COD | H29: FD 9:1 | I29: 4.5 | J29: 37 | K29: 6.67 | L29: VFA production | M29: Day 68-100, Daily cycle | N29: =69160*(3/20) -> 10374 | O29: R-DIG | P29: R-DIG | Q29: R-DIG | R29: R-DIG | S29: R-DIG | T29: R-DIG | U29: 25381 | V29: NR | W29: NR | X29: NR | Y29: =N29/8 -> 1296.75 | Z29: =(3/20)*U29/8 -> 475.89375 | AA29: NC | AB29: NC | AC29: =Z29/Y29 -> 0.36698959 | AD29: NC | AE29: NC | AF29: NC | AG29: NC | AH29: NC | AI29: =IF(G29="","",IF(AF29="NC","NC",IF(OR(AF29<0,AF29>1),"Excluded",IF(OR(G29="Total COD",G29="Mixed"),"Lower bound",IF(OR(G29="Defined substrate",G29="Biodegradable COD"),"As calculated","CHECK"))))) -> NC
A30: 29 | B30: VFA_Jiang2025 | C30: VFA_Jiang_04 | D30: Jiang et al., 2025 | E30: Semi-continuous | F30: Food waste+dewatered sludge | G30: Total COD | H30: FD 4:1 | I30: 5.71 | J30: 37 | K30: 6.67 | L30: VFA production | M30: Day 101-133, Daily cycle | N30: =61820*(3/20) -> 9273 | O30: R-DIG | P30: R-DIG | Q30: R-DIG | R30: R-DIG | S30: R-DIG | T30: R-DIG | U30: 37421 | V30: NR | W30: NR | X30: NR | Y30: =N30/8 -> 1159.125 | Z30: =(3/20)*U30/8 -> 701.64375 | AA30: NC | AB30: NC | AC30: =Z30/Y30 -> 0.6053219 | AD30: NC | AE30: NC | AF30: NC | AG30: NC | AH30: NC | AI30: =IF(G30="","",IF(AF30="NC","NC",IF(OR(AF30<0,AF30>1),"Excluded",IF(OR(G30="Total COD",G30="Mixed"),"Lower bound",IF(OR(G30="Defined substrate",G30="Biodegradable COD"),"As calculated","CHECK"))))) -> NC
A31: 30 | B31: VFA_Li2022 | C31: VFA_Li_01 | D31: Li et al., 2022 | E31: Semi-continuous | F31: Fruit waste | G31: Total COD | H31: OLR:8 | I31: 6 | J31: 35 | K31: 9.3 | L31: VFA production | M31: Steady-state (OLR:8) | N31: NR | O31: =0.447*U31 -> 23355.75 | P31: =U31*0.3006 -> 15706.35 | Q31: =U31*0.0989 -> 5167.525 | R31: =U31*0.0738 -> 3856.05 | S31: =U31*0.085 -> 4441.25 | T31: NR | U31: 52250 | V31: NR | W31: 0 | X31: =8*0.045*66.3 -> 23.868 | Y31: NC | Z31: =5.6*1000/8 -> 700 | AA31: =X31*2/25.29+W31 -> 1.8875445 | AB31: =SUM(Z31:AA31) -> 701.88754 | AC31: NC | AD31: NC | AE31: =Z31/AB31 -> 0.99731076 | AF31: NC | AG31: NC | AH31: NC | AI31: =IF(G31="","",IF(AF31="NC","NC",IF(OR(AF31<0,AF31>1),"Excluded",IF(OR(G31="Total COD",G31="Mixed"),"Lower bound",IF(OR(G31="Defined substrate",G31="Biodegradable COD"),"As calculated","CHECK"))))) -> NC
A32: 31 | B32: VFA_Li2022 | C32: VFA_Li_02 | D32: Li et al., 2022 | E32: Semi-continuous | F32: Fruit waste | G32: Total COD | H32: OLR:10 | I32: 6 | J32: 35 | K32: 7.2 | L32: VFA production | M32: Steady-state (OLR:10) | N32: NR | O32: =U32*0.3818 -> 21651.878 | P32: =U32*0.292 -> 16559.32 | Q32: =U32*0.1209 -> 6856.239 | R32: =U32*0.1058 -> 5999.918 | S32: =U32*0.0995 -> 5642.645 | T32: NR | U32: 56710 | V32: NR | W32: 0 | X32: =10*0.055*77.2 -> 42.46 | Y32: NC | Z32: =7.9*1000/8 -> 987.5 | AA32: =X32*2/25.29+W32 -> 3.357849 | AB32: =SUM(Z32:AA32) -> 990.85785 | AC32: NC | AD32: NC | AE32: =Z32/AB32 -> 0.99661117 | AF32: NC | AG32: NC | AH32: NC | AI32: =IF(G32="","",IF(AF32="NC","NC",IF(OR(AF32<0,AF32>1),"Excluded",IF(OR(G32="Total COD",G32="Mixed"),"Lower bound",IF(OR(G32="Defined substrate",G32="Biodegradable COD"),"As calculated","CHECK"))))) -> NC
A33: 32 | B33: VFA_Li2022 | C33: VFA_Li_03 | D33: Li et al., 2022 | E33: Semi-continuous | F33: Fruit waste | G33: Total COD | H33: OLR:12 | I33: 6 | J33: 35 | K33: 6.1 | L33: VFA production | M33: Steady-state (OLR:12) | N33: NR | O33: =U33*0.3294 -> 19355.544 | P33: =U33*0.2258 -> 13268.008 | Q33: =U33*0.2392 -> 14055.392 | R33: =U33*0.1224 -> 7192.224 | S33: =U33*0.0832 -> 4888.832 | T33: NR | U33: 58760 | V33: NR | W33: 0 | X33: =12*0.089*106.9 -> 114.1692 | Y33: NC | Z33: =9.57*1000/8 -> 1196.25 | AA33: =X33*2/25.29+W33 -> 9.0288019 | AB33: =SUM(Z33:AA33) -> 1205.2788 | AC33: NC | AD33: NC | AE33: =Z33/AB33 -> 0.99250895 | AF33: NC | AG33: NC | AH33: NC | AI33: =IF(G33="","",IF(AF33="NC","NC",IF(OR(AF33<0,AF33>1),"Excluded",IF(OR(G33="Total COD",G33="Mixed"),"Lower bound",IF(OR(G33="Defined substrate",G33="Biodegradable COD"),"As calculated","CHECK"))))) -> NC
A34: 33 | B34: VFA_Li2022 | C34: VFA_Li_04 | D34: Li et al., 2022 | E34: Semi-continuous | F34: Fruit waste | G34: Total COD | H34: OLR:14 | I34: 6 | J34: 35 | K34: 5.3 | L34: VFA production | M34: Steady-state (OLR:14) | N34: NR | O34: =U34*0.3234 -> 20018.46 | P34: =U34*0.1212 -> 7502.28 | Q34: =U34*0.356 -> 22036.4 | R34: =U34*0.1417 -> 8771.23 | S34: =U34*0.0577 -> 3571.63 | T34: NR | U34: 61900 | V34: NR | W34: 0 | X34: =14*0.12*121.5 -> 204.12 | Y34: NC | Z34: =11.61*1000/8 -> 1451.25 | AA34: =X34*2/25.29+W34 -> 16.142349 | AB34: =SUM(Z34:AA34) -> 1467.3923 | AC34: NC | AD34: NC | AE34: =Z34/AB34 -> 0.9889993 | AF34: NC | AG34: NC | AH34: NC | AI34: =IF(G34="","",IF(AF34="NC","NC",IF(OR(AF34<0,AF34>1),"Excluded",IF(OR(G34="Total COD",G34="Mixed"),"Lower bound",IF(OR(G34="Defined substrate",G34="Biodegradable COD"),"As calculated","CHECK"))))) -> NC
A35: 34 | B35: VFA_Li2022 | C35: VFA_Li_05 | D35: Li et al., 2022 | E35: Semi-continuous | F35: Fruit waste | G35: Total COD | H35: OLR:16 | I35: 6 | J35: 35 | K35: 4.7 | L35: VFA production | M35: Steady-state (OLR:16) | N35: NR | O35: =U35*0.2853 -> 17055.234 | P35: =U35*0.0783 -> 4680.774 | Q35: =U35*0.4842 -> 28945.476 | R35: =U35*0.1202 -> 7185.556 | S35: =U35*0.0321 -> 1918.938 | T35: NR | U35: 59780 | V35: NR | W35: 0 | X35: =16*0.115*139.2 -> 256.128 | Y35: NC | Z35: =12.82*1000/8 -> 1602.5 | AA35: =X35*2/25.29+W35 -> 20.255279 | AB35: =SUM(Z35:AA35) -> 1622.7553 | AC35: NC | AD35: NC | AE35: =Z35/AB35 -> 0.98751797 | AF35: NC | AG35: NC | AH35: NC | AI35: =IF(G35="","",IF(AF35="NC","NC",IF(OR(AF35<0,AF35>1),"Excluded",IF(OR(G35="Total COD",G35="Mixed"),"Lower bound",IF(OR(G35="Defined substrate",G35="Biodegradable COD"),"As calculated","CHECK"))))) -> NC
A36: 35 | B36: VFA_Li2022 | C36: VFA_Li_06 | D36: Li et al., 2022 | E36: Semi-continuous | F36: Fruit waste | G36: Total COD | H36: OLR:18 | I36: 6 | J36: 35 | K36: 4.1 | L36: VFA production | M36: Steady-state (OLR:18) | N36: NR | O36: =U36*0.2522 -> 15490.124 | P36: =U36*0.0665 -> 4084.43 | Q36: =U36*0.5713 -> 35089.246 | R36: =U36*0.0878 -> 5392.676 | S36: =U36*0.0223 -> 1369.666 | T36: NR | U36: 61420 | V36: NR | W36: 0 | X36: =18*14.4*162/100 -> 419.904 | Y36: NC | Z36: =14.82*1000/8 -> 1852.5 | AA36: =X36*2/25.29+W36 -> 33.207117 | AB36: =SUM(Z36:AA36) -> 1885.7071 | AC36: NC | AD36: NC | AE36: =Z36/AB36 -> 0.9823901 | AF36: NC | AG36: NC | AH36: NC | AI36: =IF(G36="","",IF(AF36="NC","NC",IF(OR(AF36<0,AF36>1),"Excluded",IF(OR(G36="Total COD",G36="Mixed"),"Lower bound",IF(OR(G36="Defined substrate",G36="Biodegradable COD"),"As calculated","CHECK"))))) -> NC
A37: 36 | B37: VFA_Li2022 | C37: VFA_Li_07 | D37: Li et al., 2022 | E37: Semi-continuous | F37: Fruit waste | G37: Total COD | H37: OLR:20 | I37: 6 | J37: 35 | K37: 3.7 | L37: VFA production | M37: Steady-state (OLR:20) | N37: NR | O37: =U37*0.2218 -> 13418.9 | P37: =U37*0.0468 -> 2831.4 | Q37: =U37*0.6571 -> 39754.55 | R37: =U37*0.0642 -> 3884.1 | S37: =U37*0.0101 -> 611.05 | T37: NR | U37: 60500 | V37: NR | W37: 0 | X37: =20*11.8*174.9/100 -> 412.764 | Y37: NC | Z37: =16.22*1000/8 -> 2027.5 | AA37: =X37*2/25.29+W37 -> 32.642467 | AB37: =SUM(Z37:AA37) -> 2060.1425 | AC37: NC | AD37: NC | AE37: =Z37/AB37 -> 0.98415524 | AF37: NC | AG37: NC | AH37: NC | AI37: =IF(G37="","",IF(AF37="NC","NC",IF(OR(AF37<0,AF37>1),"Excluded",IF(OR(G37="Total COD",G37="Mixed"),"Lower bound",IF(OR(G37="Defined substrate",G37="Biodegradable COD"),"As calculated","CHECK"))))) -> NC
A38: 37 | B38: VFA_Li2022 | C38: VFA_Li_08 | D38: Li et al., 2022 | E38: Semi-continuous | F38: Fruit waste | G38: Total COD | H38: OLR:22 | I38: 6 | J38: 35 | K38: 3.4 | L38: VFA production | M38: Steady-state (OLR:22) | N38: NR | O38: =U38*0.2216 -> 13012.352 | P38: =U38*0.0376 -> 2207.872 | Q38: =U38*0.6755 -> 39665.36 | R38: =U38*0.0609 -> 3576.048 | S38: =U38*0.0044 -> 258.368 | T38: NR | U38: 58720 | V38: NR | W38: 0 | X38: =22*11.6*177.4/100 -> 452.7248 | Y38: NC | Z38: =17.38*1000/8 -> 2172.5 | AA38: =X38*2/25.29+W38 -> 35.802673 | AB38: =SUM(Z38:AA38) -> 2208.3027 | AC38: NC | AD38: NC | AE38: =Z38/AB38 -> 0.98378724 | AF38: NC | AG38: NC | AH38: NC | AI38: =IF(G38="","",IF(AF38="NC","NC",IF(OR(AF38<0,AF38>1),"Excluded",IF(OR(G38="Total COD",G38="Mixed"),"Lower bound",IF(OR(G38="Defined substrate",G38="Biodegradable COD"),"As calculated","CHECK"))))) -> NC
A39: 38 | B39: VFA_Li2022 | C39: VFA_Li_09 | D39: Li et al., 2022 | E39: Semi-continuous | F39: Fruit waste | G39: Total COD | H39: OLR:24 | I39: 6 | J39: 35 | K39: 3.1 | L39: VFA production | M39: Steady-state (OLR:24) | N39: NR | O39: =U39*0.2377 -> 13373.002 | P39: =U39*0.042 -> 2362.92 | Q39: =U39*0.6594 -> 37097.844 | R39: =U39*0.0554 -> 3116.804 | S39: =U39*0.0054 -> 303.804 | T39: NR | U39: 56260 | V39: NR | W39: 0 | X39: =24*12.9*168.3/100 -> 521.0568 | Y39: NC | Z39: =18.1*1000/8 -> 2262.5 | AA39: =X39*2/25.29+W39 -> 41.206548 | AB39: =SUM(Z39:AA39) -> 2303.7065 | AC39: NC | AD39: NC | AE39: =Z39/AB39 -> 0.98211294 | AF39: NC | AG39: NC | AH39: NC | AI39: =IF(G39="","",IF(AF39="NC","NC",IF(OR(AF39<0,AF39>1),"Excluded",IF(OR(G39="Total COD",G39="Mixed"),"Lower bound",IF(OR(G39="Defined substrate",G39="Biodegradable COD"),"As calculated","CHECK"))))) -> NC
A41: NR=not reported in the source study; NC=not calculable from the reported data; NA=Not applicable to the system ; R-DIG = Reported graphically; digitization required
A46: Defined substrate: chemically defined substrate, assumed to be fully biodegradable (e.g., glucose, ethanol, acetate, lactate, H2). Total COD: real waste or wastewater containing a non-biodegradable fraction; no biodegradability correction applied. Biodegradable COD: corrected for biodegradability, e.g., based on BMP, BOD, or the degradable fraction reported in the source study. Mixed: E_in comprises both defined and real-waste components, e.g., oil + food waste, or ethanol + wastewater.

Sheet Chain_Elongation
A1: No. | B1: Study ID | C1: Case ID | D1: Reference (Author, Year) | E1: Mode | F1: Substrate | G1: E_in basis (COD type) | H1: Carbon-chain acceptor | I1: Sample | J1: pH | K1: T (C) | L1: HRT/SRT (d) | M1: Main objective | N1: Analysis window | O1: Substrate_input (mgCOD/L or mgCOD/L/d) | P1: Carbon-chain acceptor-Acetate (mgCOD/L or mgCOD/L/d) | Q1: Carbon-chain acceptor-Propionate (mgCOD/L or mgCOD/L/d) | R1: Carbon-chain acceptor-Butyrate (mgCOD/L or mgCOD/L/d) | S1: Other carbon-chain acceptors (mgCOD/L or mgCOD/L/d) | T1: Caproate (mgCOD/L or mgCOD/L/d) | U1: Heptanoate (mgCOD/L or mgCOD/L/d) | V1: Total MCFA (mgCOD/L or mgCOD/L/d) | W1: Other MCFA (mgCOD/L or mgCOD/L/d) | X1: CH4 (mmol/L or mmol/L/d) | Y1: H2 (mmol/L or mmol/L/d) | Z1: Other competing sink-Butanol or propionate formation (mmol/L or mmol/L/d) | AA1: E_in (mmol e-/L or mmol e-/L/d) | AB1: E_target (mmol e-/L or mmol e-/L/d) | AC1: E_competing (mmol e-/L or mmol e-/L/d) | AD1: E_expressed (mmol e-/L or mmol e-/L/d) | AE1: f_target | AF1: f_competing | AG1: A_target | AH1: f_expressed | AI1: E_unresolved (mmol e-/L or mmol e-/L/d) | AJ1: f_unresolved | AK1: Interpretation of f_target, f_expressed
A2: 1 | B2: CE_Roghair2018 | C2: CE_Roghair_01 | D2: Roghair et al., 2018 | E2: Continuous | F2: Ethanol | G2: Defined substrate | H2: Propionate | I2: High CO2, 2.5 LCO2/L/d | J2: 6.8 | K2: 30 | L2: 0.708 | M2: Chain Elongation | N2: days 84–97 and 105–119 | O2: =32.5*2.084*1000 -> 67730 | P2: NR | Q2: =10.9*1.512*1000 -> 16480.8 | R2: NR | S2: NR | T2: =10.8*2.204*1000 -> 23803.2 | U2: =1.8*2.335*1000 -> 4203 | V2: =SUM(T2:U2) -> 28006.2 | W2: NR | X2: 72.6 | Y2: NR | Z2: NR | AA2: =(O2+Q2)/8 -> 10526.35 | AB2: =V2/8 -> 3500.775 | AC2: =X2*8 -> 580.8 | AD2: =AB2+AC2 -> 4081.575 | AE2: =AB2/AA2 -> 0.33257254 | AF2: =AC2/AA2 -> 0.055175821 | AG2: =AB2/AD2 -> 0.85770199 | AH2: =AD2/AA2 -> 0.38774836 | AI2: =AA2-SUM(AB2:AC2) -> 6444.775 | AJ2: =AI2/AA2 -> 0.61225164 | AK2: =IF(G2="","",IF(AH2="NC","NC",IF(OR(AH2<0,AH2>1),"Excluded",IF(OR(G2="Total COD",G2="Mixed"),"Lower bound",IF(OR(G2="Defined substrate",G2="Biodegradable COD"),"As calculated","CHECK"))))) -> As calculated
A3: 2 | B3: CE_Roghair2018 | C3: CE_Roghair_02 | D3: Roghair et al., 2018 | E3: Continuous | F3: Ethanol | G3: Defined substrate | H3: Propionate | I3: Medium CO2, 1.0 LCO2/L/d | J3: 6.8 | K3: 30 | L3: 0.708 | M3: Chain Elongation | N3: days 155–187 | O3: =16.3*2.084*1000 -> 33969.2 | P3: NR | Q3: =10.9*1.512*1000 -> 16480.8 | R3: NR | S3: NR | T3: =4.6*2.204*1000 -> 10138.4 | U3: =1.7*2.335*1000 -> 3969.5 | V3: =SUM(T3:U3) -> 14107.9 | W3: NR | X3: 34.3 | Y3: NR | Z3: NR | AA3: =(O3+Q3)/8 -> 6306.25 | AB3: =V3/8 -> 1763.4875 | AC3: =X3*8 -> 274.4 | AD3: =AB3+AC3 -> 2037.8875 | AE3: =AB3/AA3 -> 0.27964123 | AF3: =AC3/AA3 -> 0.043512389 | AG3: =AB3/AD3 -> 0.86535076 | AH3: =AD3/AA3 -> 0.32315362 | AI3: =AA3-SUM(AB3:AC3) -> 4268.3625 | AJ3: =AI3/AA3 -> 0.67684638 | AK3: =IF(G3="","",IF(AH3="NC","NC",IF(OR(AH3<0,AH3>1),"Excluded",IF(OR(G3="Total COD",G3="Mixed"),"Lower bound",IF(OR(G3="Defined substrate",G3="Biodegradable COD"),"As calculated","CHECK"))))) -> As calculated
A4: 3 | B4: CE_Roghair2018 | C4: CE_Roghair_03 | D4: Roghair et al., 2018 | E4: Continuous | F4: Ethanol | G4: Defined substrate | H4: Propionate | I4: Low CO2, 0.5 L CO2/L/d | J4: 6.8 | K4: 30 | L4: 0.708 | M4: Chain Elongation | N4: days 188–201 | O4: =16.3*2.084*1000 -> 33969.2 | P4: NR | Q4: =10.9*1.512*1000 -> 16480.8 | R4: NR | S4: NR | T4: =2.9*2.204*1000 -> 6391.6 | U4: =1.2*2.335*1000 -> 2802 | V4: =SUM(T4:U4) -> 9193.6 | W4: NR | X4: 17.1 | Y4: NR | Z4: NR | AA4: =(O4+Q4)/8 -> 6306.25 | AB4: =V4/8 -> 1149.2 | AC4: =X4*8 -> 136.8 | AD4: =AB4+AC4 -> 1286 | AE4: =AB4/AA4 -> 0.18223191 | AF4: =AC4/AA4 -> 0.021692765 | AG4: =AB4/AD4 -> 0.89362364 | AH4: =AD4/AA4 -> 0.20392468 | AI4: =AA4-SUM(AB4:AC4) -> 5020.25 | AJ4: =AI4/AA4 -> 0.79607532 | AK4: =IF(G4="","",IF(AH4="NC","NC",IF(OR(AH4<0,AH4>1),"Excluded",IF(OR(G4="Total COD",G4="Mixed"),"Lower bound",IF(OR(G4="Defined substrate",G4="Biodegradable COD"),"As calculated","CHECK"))))) -> As calculated
A5: 4 | B5: CE_Roghair2018 | C5: CE_Roghair_04 | D5: Roghair et al., 2018 | E5: Continuous | F5: Ethanol | G5: Defined substrate | H5: Propionate | I5: No CO2, 0 L CO2/L/d | J5: 6.8 | K5: 30 | L5: 0.708 | M5: Chain Elongation | N5: days 211–224 | O5: =16.3*2.084*1000 -> 33969.2 | P5: NR | Q5: =10.9*1.512*1000 -> 16480.8 | R5: NR | S5: NR | T5: =0.4*2.204*1000 -> 881.6 | U5: =0.2*2.335*1000 -> 467 | V5: =SUM(T5:U5) -> 1348.6 | W5: NR | X5: 1.5 | Y5: NR | Z5: NR | AA5: =(O5+Q5)/8 -> 6306.25 | AB5: =V5/8 -> 168.575 | AC5: =X5*8 -> 12 | AD5: =AB5+AC5 -> 180.575 | AE5: =AB5/AA5 -> 0.026731417 | AF5: =AC5/AA5 -> 0.0019028741 | AG5: =AB5/AD5 -> 0.93354562 | AH5: =AD5/AA5 -> 0.028634291 | AI5: =AA5-SUM(AB5:AC5) -> 6125.675 | AJ5: =AI5/AA5 -> 0.97136571 | AK5: =IF(G5="","",IF(AH5="NC","NC",IF(OR(AH5<0,AH5>1),"Excluded",IF(OR(G5="Total COD",G5="Mixed"),"Lower bound",IF(OR(G5="Defined substrate",G5="Biodegradable COD"),"As calculated","CHECK"))))) -> As calculated
A6: 5 | B6: CE_Roghair2018 | C6: CE_Roghair_05 | D6: Roghair et al., 2018 | E6: Continuous | F6: Ethanol | G6: Defined substrate | H6: Propionate | I6: Medium CO2 recovery | J6: 6.8 | K6: 30 | L6: 0.708 | M6: Chain Elongation | N6: days 229–240 | O6: =16.3*2.087*1000 -> 34018.1 | P6: NR | Q6: =10.9*1.512*1000 -> 16480.8 | R6: NR | S6: NR | T6: =3.3*2.204*1000 -> 7273.2 | U6: =1.2*2.335*1000 -> 2802 | V6: =SUM(T6:U6) -> 10075.2 | W6: NR | X6: 29.6 | Y6: NR | Z6: NR | AA6: =(O6+Q6)/8 -> 6312.3625 | AB6: =V6/8 -> 1259.4 | AC6: =X6*8 -> 236.8 | AD6: =AB6+AC6 -> 1496.2 | AE6: =AB6/AA6 -> 0.19951326 | AF6: =AC6/AA6 -> 0.037513688 | AG6: =AB6/AD6 -> 0.84173239 | AH6: =AD6/AA6 -> 0.23702695 | AI6: =AA6-SUM(AB6:AC6) -> 4816.1625 | AJ6: =AI6/AA6 -> 0.76297305 | AK6: =IF(G6="","",IF(AH6="NC","NC",IF(OR(AH6<0,AH6>1),"Excluded",IF(OR(G6="Total COD",G6="Mixed"),"Lower bound",IF(OR(G6="Defined substrate",G6="Biodegradable COD"),"As calculated","CHECK"))))) -> As calculated
A7: 6 | B7: CE_Liu2017 | C7: CE_Liu_01 | D7: Liu et al., 2017 | E7: Batch | F7: Ethanol | G7: Defined substrate | H7: Acetate+Butyrate | I7: No Biochar, Phase IV | J7: 6.2–7.2 | K7: 35 | L7: 40 (batch incubation) | M7: Chain Elongation | N7: Phase IV (days 78–117) | O7: =20*2.084*1000 -> 41680 | P7: =3000*1.067 -> 3201 | Q7: 0 | R7: =16.7*1000*1.816 -> 30327.2 | S7: NR | T7: =6.4*2.204*1000 -> 14105.6 | U7: NR | V7: =SUM(T7,W7) -> 14154.42 | W7: =(0.12-0.1)*1000*2.441 -> 48.82 | X7: 0 | Y7: =1.2*1000/17.3/(22.414*(273.15+35)/273.15) -> 2.7431832 | Z7: =(3.1-2.7)*1000/74.12 -> 5.3966541 | AA7: =(SUM(O7:R7))/8 -> 9401.025 | AB7: =V7/8 -> 1769.3025 | AC7: =SUM(X7*8+Y7*2+Z7*24) -> 135.00606 | AD7: =AB7+AC7 -> 1904.3086 | AE7: =AB7/AA7 -> 0.18820315 | AF7: =AC7/AA7 -> 0.014360781 | AG7: =AB7/AD7 -> 0.92910494 | AH7: =AD7/AA7 -> 0.20256393 | AI7: =AA7-SUM(AB7:AC7) -> 7496.7164 | AJ7: =AI7/AA7 -> 0.79743607 | AK7: =IF(G7="","",IF(AH7="NC","NC",IF(OR(AH7<0,AH7>1),"Excluded",IF(OR(G7="Total COD",G7="Mixed"),"Lower bound",IF(OR(G7="Defined substrate",G7="Biodegradable COD"),"As calculated","CHECK"))))) -> As calculated
A8: 7 | B8: CE_Liu2017 | C8: CE_Liu_02 | D8: Liu et al., 2017 | E8: Batch | F8: Ethanol | G8: Defined substrate | H8: Acetate+Butyrate | I8: 20 g/L Biochar, Phase IV | J8: 6.2–7.2 | K8: 35 | L8: 40 (batch incubation) | M8: Chain Elongation | N8: Phase IV (days 78–117) | O8: =20*2.084*1000 -> 41680 | P8: =2.5*1000*1.067 -> 2667.5 | Q8: 0 | R8: =25.3*1000*1.816 -> 45944.8 | S8: NR | T8: =(21.1-13.8)*2.204*1000 -> 16089.2 | U8: NR | V8: =SUM(T8,W8) -> 16284.48 | W8: =(0.21-0.13)*1000*2.441 -> 195.28 | X8: 0 | Y8: =1.1*1000/18.2/(22.414*(273.15+35)/273.15) -> 2.390237 | Z8: =(2-1)*1000/74.12 -> 13.491635 | AA8: =(SUM(O8:R8))/8 -> 11286.538 | AB8: =V8/8 -> 2035.56 | AC8: =SUM(X8*8+Y8*2+Z8*24) -> 328.57972 | AD8: =AB8+AC8 -> 2364.1397 | AE8: =AB8/AA8 -> 0.18035292 | AF8: =AC8/AA8 -> 0.029112535 | AG8: =AB8/AD8 -> 0.8610151 | AH8: =AD8/AA8 -> 0.20946546 | AI8: =AA8-SUM(AB8:AC8) -> 8922.3978 | AJ8: =AI8/AA8 -> 0.79053454 | AK8: =IF(G8="","",IF(AH8="NC","NC",IF(OR(AH8<0,AH8>1),"Excluded",IF(OR(G8="Total COD",G8="Mixed"),"Lower bound",IF(OR(G8="Defined substrate",G8="Biodegradable COD"),"As calculated","CHECK"))))) -> As calculated
A9: 8 | B9: CE_Fu2021 | C9: CE_Fu_01 | D9: Fu et al., 2021 | E9: Batch | F9: Ethanol | G9: Defined substrate | H9: Acetate | I9: 200 mmol/L ethanol, 50 mmol/L acetate, 0 g/L NZVI. | J9: 5.32 | K9: 35 | L9: 18 (batch incubation) | M9: Chain Elongation | N9: Days 0–18 (end values averaged over days 14–18) | O9: =200*12*8 -> 19200 | P9: =50*8*8 -> 3200 | Q9: NA | R9: NA | S9: NR | T9: =(16-2)*256 -> 3584 | U9: NR | V9: =SUM(T9:U9) -> 3584 | W9: NR | X9: 0 | Y9: 10 | Z9: 2.3 | AA9: =(O9+P9)/8+0+9.4*20 -> 2988 | AB9: =V9/8 -> 448 | AC9: =Y9*2+Z9*24 -> 75.2 | AD9: =AB9+AC9 -> 523.2 | AE9: =AB9/AA9 -> 0.14993307 | AF9: =AC9/AA9 -> 0.025167336 | AG9: =AB9/AD9 -> 0.85626911 | AH9: =AD9/AA9 -> 0.1751004 | AI9: =AA9-SUM(AB9:AC9) -> 2464.8 | AJ9: =AI9/AA9 -> 0.8248996 | AK9: =IF(G9="","",IF(AH9="NC","NC",IF(OR(AH9<0,AH9>1),"Excluded",IF(OR(G9="Total COD",G9="Mixed"),"Lower bound",IF(OR(G9="Defined substrate",G9="Biodegradable COD"),"As calculated","CHECK"))))) -> As calculated
A10: 9 | B10: CE_Fu2021 | C10: CE_Fu_02 | D10: Fu et al., 2021 | E10: Batch | F10: Ethanol | G10: Defined substrate | H10: Acetate | I10: 200 mmol/L ethanol, 50 mmol/L acetate, 5 g/L NZVI. | J10: 5.7 | K10: 35 | L10: 18 (batch incubation) | M10: Chain Elongation | N10: Days 0–18 (end values averaged over days 14–18) | O10: =200*12*8 -> 19200 | P10: =50*8*8 -> 3200 | Q10: NA | R10: NA | S10: NR | T10: =(21.9-2)*256 -> 5094.4 | U10: NR | V10: =SUM(T10:U10) -> 5094.4 | W10: NR | X10: 0 | Y10: 7.5 | Z10: 1 | AA10: =(O10+P10)/8+75+9.4*20 -> 3063 | AB10: =V10/8 -> 636.8 | AC10: =Y10*2+Z10*24 -> 39 | AD10: =AB10+AC10 -> 675.8 | AE10: =AB10/AA10 -> 0.20790075 | AF10: =AC10/AA10 -> 0.012732615 | AG10: =AB10/AD10 -> 0.94229062 | AH10: =AD10/AA10 -> 0.22063337 | AI10: =AA10-SUM(AB10:AC10) -> 2387.2 | AJ10: =AI10/AA10 -> 0.77936663 | AK10: =IF(G10="","",IF(AH10="NC","NC",IF(OR(AH10<0,AH10>1),"Excluded",IF(OR(G10="Total COD",G10="Mixed"),"Lower bound",IF(OR(G10="Defined substrate",G10="Biodegradable COD"),"As calculated","CHECK"))))) -> As calculated
A11: 10 | B11: CE_Fu2021 | C11: CE_Fu_03 | D11: Fu et al., 2021 | E11: Batch | F11: Ethanol | G11: Defined substrate | H11: Acetate | I11: 300 mmol/L ethanol, 50 mmol/L acetate, 0 g/L NZVI. | J11: 5.3 | K11: 35 | L11: 18 (batch incubation) | M11: Chain Elongation | N11: Days 0–18 (end values averaged over days 14–18) | O11: =300*12*8 -> 28800 | P11: =50*8*8 -> 3200 | Q11: NA | R11: NA | S11: NR | T11: =(13.6-2)*256 -> 2969.6 | U11: NR | V11: =SUM(T11:U11) -> 2969.6 | W11: NR | X11: 0 | Y11: 12.5 | Z11: 9.2 | AA11: =(O11+P11)/8+9.4*20 -> 4188 | AB11: =V11/8 -> 371.2 | AC11: =Y11*2+Z11*24 -> 245.8 | AD11: =AB11+AC11 -> 617 | AE11: =AB11/AA11 -> 0.088634193 | AF11: =AC11/AA11 -> 0.0586915 | AG11: =AB11/AD11 -> 0.60162075 | AH11: =AD11/AA11 -> 0.14732569 | AI11: =AA11-SUM(AB11:AC11) -> 3571 | AJ11: =AI11/AA11 -> 0.85267431 | AK11: =IF(G11="","",IF(AH11="NC","NC",IF(OR(AH11<0,AH11>1),"Excluded",IF(OR(G11="Total COD",G11="Mixed"),"Lower bound",IF(OR(G11="Defined substrate",G11="Biodegradable COD"),"As calculated","CHECK"))))) -> As calculated
A12: 11 | B12: CE_Fu2021 | C12: CE_Fu_04 | D12: Fu et al., 2021 | E12: Batch | F12: Ethanol | G12: Defined substrate | H12: Acetate | I12: 300 mmol/L ethanol, 50 mmol/L acetate, 5 g/L NZVI. | J12: 5.52 | K12: 35 | L12: 18 (batch incubation) | M12: Chain Elongation | N12: Days 0–18 (end values averaged over days 14–18) | O12: =300*12*8 -> 28800 | P12: =50*8*8 -> 3200 | Q12: NA | R12: NA | S12: NR | T12: =(27.2-2)*256 -> 6451.2 | U12: NR | V12: =SUM(T12:U12) -> 6451.2 | W12: NR | X12: 0 | Y12: 10 | Z12: 5.2 | AA12: =(O12+P12)/8+(0.265*218.5)+9.4*20 -> 4245.9025 | AB12: =V12/8 -> 806.4 | AC12: =Y12*2+Z12*24 -> 144.8 | AD12: =AB12+AC12 -> 951.2 | AE12: =AB12/AA12 -> 0.18992429 | AF12: =AC12/AA12 -> 0.034103468 | AG12: =AB12/AD12 -> 0.84777124 | AH12: =AD12/AA12 -> 0.22402775 | AI12: =AA12-SUM(AB12:AC12) -> 3294.7025 | AJ12: =AI12/AA12 -> 0.77597225 | AK12: =IF(G12="","",IF(AH12="NC","NC",IF(OR(AH12<0,AH12>1),"Excluded",IF(OR(G12="Total COD",G12="Mixed"),"Lower bound",IF(OR(G12="Defined substrate",G12="Biodegradable COD"),"As calculated","CHECK"))))) -> As calculated
A13: 12 | B13: CE_Fu2021 | C13: CE_Fu_05 | D13: Fu et al., 2021 | E13: Batch | F13: Ethanol | G13: Defined substrate | H13: Acetate | I13: 400 mmol/L ethanol, 50 mmol/L acetate, 0 g/L NZVI. | J13: 5.17 | K13: 35 | L13: 18 (batch incubation) | M13: Chain Elongation | N13: Days 0–18 (end values averaged over days 14–18) | O13: =400*12*8 -> 38400 | P13: =50*8*8 -> 3200 | Q13: NA | R13: NA | S13: NR | T13: =(15.2-2)*256 -> 3379.2 | U13: NR | V13: =SUM(T13:U13) -> 3379.2 | W13: NR | X13: 0 | Y13: 12.5 | Z13: 12.9 | AA13: =(O13+P13)/8+9.4*20 -> 5388 | AB13: =V13/8 -> 422.4 | AC13: =Y13*2+Z13*24 -> 334.6 | AD13: =AB13+AC13 -> 757 | AE13: =AB13/AA13 -> 0.078396437 | AF13: =AC13/AA13 -> 0.062100965 | AG13: =AB13/AD13 -> 0.55799207 | AH13: =AD13/AA13 -> 0.1404974 | AI13: =AA13-SUM(AB13:AC13) -> 4631 | AJ13: =AI13/AA13 -> 0.8595026 | AK13: =IF(G13="","",IF(AH13="NC","NC",IF(OR(AH13<0,AH13>1),"Excluded",IF(OR(G13="Total COD",G13="Mixed"),"Lower bound",IF(OR(G13="Defined substrate",G13="Biodegradable COD"),"As calculated","CHECK"))))) -> As calculated
A14: 13 | B14: CE_Fu2021 | C14: CE_Fu_06 | D14: Fu et al., 2021 | E14: Batch | F14: Ethanol | G14: Defined substrate | H14: Acetate | I14: 400 mmol/L ethanol, 50 mmol/L acetate, 5 g/L NZVI. | J14: 5.4 | K14: 35 | L14: 18 (batch incubation) | M14: Chain Elongation | N14: Days 0–18 (end values averaged over days 14–18) | O14: =400*12*8 -> 38400 | P14: =50*8*8 -> 3200 | Q14: NA | R14: NA | S14: NR | T14: =(22.4-2)*256 -> 5222.4 | U14: NR | V14: =SUM(T14:U14) -> 5222.4 | W14: NR | X14: 0 | Y14: 10 | Z14: 10.8 | AA14: =(O14+P14)/8+9.4*20+50 -> 5438 | AB14: =V14/8 -> 652.8 | AC14: =Y14*2+Z14*24 -> 279.2 | AD14: =AB14+AC14 -> 932 | AE14: =AB14/AA14 -> 0.12004413 | AF14: =AC14/AA14 -> 0.051342405 | AG14: =AB14/AD14 -> 0.70042918 | AH14: =AD14/AA14 -> 0.17138654 | AI14: =AA14-SUM(AB14:AC14) -> 4506 | AJ14: =AI14/AA14 -> 0.82861346 | AK14: =IF(G14="","",IF(AH14="NC","NC",IF(OR(AH14<0,AH14>1),"Excluded",IF(OR(G14="Total COD",G14="Mixed"),"Lower bound",IF(OR(G14="Defined substrate",G14="Biodegradable COD"),"As calculated","CHECK"))))) -> As calculated
A15: 14 | B15: CE_Kucek2016 | C15: CE_Kucek_01 | D15: Kucek et al., 2016 | E15: Continuous | F15: L-Lactate | G15: Defined substrate | H15: n-Butyrate | I15: Phase III_Period 12 | J15: 5 | K15: 34 | L15: 1.9 | M15: Chain Elongation | N15: days 176–193 | O15: 9100 | P15: NA | Q15: =3.6*1000/112 -> 32.142857 | R15: =17.7*1000-9100-1.1*1000 -> 7500 | S15: NR | T15: 6900 | U15: NR | V15: =T15 -> 6900 | W15: NR | X15: 0.026 | Y15: 0 | Z15: =3.6/112*1000 -> 32.142857 | AA15: =SUM(O15,R15)/8 -> 2075 | AB15: =V15/8 -> 862.5 | AC15: =Z15*14+X15*8 -> 450.208 | AD15: =AB15+AC15 -> 1312.708 | AE15: =AB15/AA15 -> 0.41566265 | AF15: =AC15/AA15 -> 0.21696771 | AG15: =AB15/AD15 -> 0.65703873 | AH15: =AD15/AA15 -> 0.63263036 | AI15: =AA15-SUM(AB15:AC15) -> 762.292 | AJ15: =AI15/AA15 -> 0.36736964 | AK15: =IF(G15="","",IF(AH15="NC","NC",IF(OR(AH15<0,AH15>1),"Excluded",IF(OR(G15="Total COD",G15="Mixed"),"Lower bound",IF(OR(G15="Defined substrate",G15="Biodegradable COD"),"As calculated","CHECK"))))) -> As calculated
A16: 15 | B16: CE_Kucek2016 | C16: CE_Kucek_02 | D16: Kucek et al., 2016 | E16: Continuous | F16: L-Lactate | G16: Defined substrate | H16: n-Butyrate | I16: Phase III_Period 13 | J16: 5 | K16: 34 | L16: 1.3 | M16: Chain Elongation | N16: days 193–204 | O16: 16200 | P16: NA | Q16: =5.5*1000/112 -> 49.107143 | R16: =30.8*1000-16200-1.1*1000 -> 13500 | S16: NR | T16: 3000 | U16: NR | V16: =T16 -> 3000 | W16: NR | X16: 0.026 | Y16: 0 | Z16: =5.5/112*1000 -> 49.107143 | AA16: =SUM(O16,R16)/8 -> 3712.5 | AB16: =V16/8 -> 375 | AC16: =Z16*14+X16*8 -> 687.708 | AD16: =AB16+AC16 -> 1062.708 | AE16: =AB16/AA16 -> 0.1010101 | AF16: =AC16/AA16 -> 0.18524121 | AG16: =AB16/AD16 -> 0.3528721 | AH16: =AD16/AA16 -> 0.28625131 | AI16: =AA16-SUM(AB16:AC16) -> 2649.792 | AJ16: =AI16/AA16 -> 0.71374869 | AK16: =IF(G16="","",IF(AH16="NC","NC",IF(OR(AH16<0,AH16>1),"Excluded",IF(OR(G16="Total COD",G16="Mixed"),"Lower bound",IF(OR(G16="Defined substrate",G16="Biodegradable COD"),"As calculated","CHECK"))))) -> As calculated
A17: 16 | B17: CE_Xu2018 | C17: CE_Xu_01 | D17: Xu et al., 2018 | E17: Continuous | F17: Phase A effluent (lactic-acid-rich acid whey) | G17: Total COD | H17: NA | I17: Period B-I, days 0–57 | J17: 5 | K17: 30 | L17: 2.09 | M17: Chain Elongation | N17: Period B, days 0–57 | O17: =10.9*1000 -> 10900 | P17: NA | Q17: NA | R17: NA | S17: NR | T17: =72.2/6*0.256*1000 -> 3080.5333 | U17: =(11/7)*0.304*1000 -> 477.71429 | V17: =SUM(T17:U17,W17) -> 4466.4254 | W17: =((19.6/8)*0.352+(1.03/9)*0.4)*1000 -> 908.17778 | X17: 2.1 | Y17: NR | Z17: NR | AA17: =O17/8 -> 1362.5 | AB17: =V17/8 -> 558.30317 | AC17: =X17*8 -> 16.8 | AD17: =AB17+AC17 -> 575.10317 | AE17: =AB17/AA17 -> 0.4097638 | AF17: =AC17/AA17 -> 0.012330275 | AG17: =AB17/AD17 -> 0.97078785 | AH17: =AD17/AA17 -> 0.42209407 | AI17: =AA17-SUM(AB17:AC17) -> 787.39683 | AJ17: =AI17/AA17 -> 0.57790593 | AK17: =IF(G17="","",IF(AH17="NC","NC",IF(OR(AH17<0,AH17>1),"Excluded",IF(OR(G17="Total COD",G17="Mixed"),"Lower bound",IF(OR(G17="Defined substrate",G17="Biodegradable COD"),"As calculated","CHECK"))))) -> Lower bound
A18: 17 | B18: CE_Xu2018 | C18: CE_Xu_02 | D18: Xu et al., 2018 | E18: Continuous | F18: Phase A effluent (lactic-acid-rich acid whey) | G18: Total COD | H18: NA | I18: Period B-II, days 58–74 | J18: 5 | K18: 30 | L18: 1.76 | M18: Chain Elongation | N18: Period B, days 58–74 | O18: =6.91*1000 -> 6910 | P18: NA | Q18: NA | R18: NA | S18: NR | T18: =(65.5/6)*0.256*1000 -> 2794.6667 | U18: =(10.3/7)*0.304*1000 -> 447.31429 | V18: =SUM(T18:U18,W18) -> 4154.1143 | W18: =((19.7/8)*0.352+(1.02/9)*0.4)*1000 -> 912.13333 | X18: 1.07 | Y18: NR | Z18: NR | AA18: =O18/8 -> 863.75 | AB18: =V18/8 -> 519.26429 | AC18: =X18*8 -> 8.56 | AD18: =AB18+AC18 -> 527.82429 | AE18: =AB18/AA18 -> 0.60117428 | AF18: =AC18/AA18 -> 0.009910275 | AG18: =AB18/AD18 -> 0.98378248 | AH18: =AD18/AA18 -> 0.61108456 | AI18: =AA18-SUM(AB18:AC18) -> 335.92571 | AJ18: =AI18/AA18 -> 0.38891544 | AK18: =IF(G18="","",IF(AH18="NC","NC",IF(OR(AH18<0,AH18>1),"Excluded",IF(OR(G18="Total COD",G18="Mixed"),"Lower bound",IF(OR(G18="Defined substrate",G18="Biodegradable COD"),"As calculated","CHECK"))))) -> Lower bound
A19: 18 | B19: CE_Xu2018 | C19: CE_Xu_03 | D19: Xu et al., 2018 | E19: Continuous | F19: Phase A effluent (lactic-acid-rich acid whey) | G19: Total COD | H19: NA | I19: Period B-III, days 74–92 | J19: 5 | K19: 30 | L19: 3.55 | M19: Chain Elongation | N19: Period B, days 74–92 | O19: =7.77*1000 -> 7770 | P19: NA | Q19: NA | R19: NA | S19: NR | T19: =(81.2/6)*0.256*1000 -> 3464.5333 | U19: =(14.3/7)*0.304*1000 -> 621.02857 | V19: =SUM(T19:U19,W19) -> 4763.3397 | W19: =((14/8)*0.352+(1.39/9)*0.4)*1000 -> 677.77778 | X19: 0.71 | Y19: NR | Z19: NR | AA19: =O19/8 -> 971.25 | AB19: =V19/8 -> 595.41746 | AC19: =X19*8 -> 5.68 | AD19: =AB19+AC19 -> 601.09746 | AE19: =AB19/AA19 -> 0.61304243 | AF19: =AC19/AA19 -> 0.0058481338 | AG19: =AB19/AD19 -> 0.99055062 | AH19: =AD19/AA19 -> 0.61889056 | AI19: =AA19-SUM(AB19:AC19) -> 370.15254 | AJ19: =AI19/AA19 -> 0.38110944 | AK19: =IF(G19="","",IF(AH19="NC","NC",IF(OR(AH19<0,AH19>1),"Excluded",IF(OR(G19="Total COD",G19="Mixed"),"Lower bound",IF(OR(G19="Defined substrate",G19="Biodegradable COD"),"As calculated","CHECK"))))) -> Lower bound
A20: 19 | B20: CE_Wu2018 | C20: CE_Wu_01 | D20: Wu et al., 2018 | E20: Batch | F20: Ethanol + lactate + glucose (CLMW) | G20: Defined substrate | H20: Acetate+propionate+n-butyrate+n-valerate | I20: Chinese liquor-making wastewater_based | J20: 6.5 | K20: 35 | L20: 36 (batch incubation) | M20: Chain Elongation | N20: 36 days of fermentation | O20: =7502.95+4892.04+670.32 -> 13065.31 | P20: 2205.53 | Q20: 118.5 | R20: 2189.08 | S20: =116.34+766.59 -> 882.93 | T20: =12331.1-766.59 -> 11564.51 | U20: 1889.59 | V20: =SUM(T20:U20,W20) -> 16286.16 | W20: 2832.06 | X20: 0 | Y20: NR | Z20: 0 | AA20: =SUM(O20:S20)/8 -> 2307.6687 | AB20: =V20/8 -> 2035.77 | AC20: =X20*8 -> 0 | AD20: =AB20+AC20 -> 2035.77 | AE20: =AB20/AA20 -> 0.88217601 | AF20: =AC20/AA20 -> 0 | AG20: =AB20/AD20 -> 1 | AH20: =AD20/AA20 -> 0.88217601 | AI20: =AA20-SUM(AB20:AC20) -> 271.89875 | AJ20: =AI20/AA20 -> 0.11782399 | AK20: =IF(G20="","",IF(AH20="NC","NC",IF(OR(AH20<0,AH20>1),"Excluded",IF(OR(G20="Total COD",G20="Mixed"),"Lower bound",IF(OR(G20="Defined substrate",G20="Biodegradable COD"),"As calculated","CHECK"))))) -> As calculated
A21: 20 | B21: CE_Grootscholten2013A | C21: CE _GrootscholtenA_01 | D21: Grootscholten et al., 2013A | E21: Continuous | F21: Ethanol | G21: Defined substrate | H21: Acetate | I21: Phase I_Ethanol load = 13.0 g/L/d | J21: 6.5-7.0 | K21: 30 | L21: =17/24 -> 0.70833333 | M21: Chain Elongation | N21: days 56–63 | O21: =13*2.084*1000 -> 27092 | P21: =8.5*1.066*1000 -> 9061 | Q21: NA | R21: NA | S21: NA | T21: =11.3*2.204*1000 -> 24905.2 | U21: NR | V21: =SUM(T21:U21,W21) -> 25939.035 | W21: =(0.3/(17/24))*2.441*1000 -> 1033.8353 | X21: 0 | Y21: NR | Z21: NR | AA21: =SUM(O21:S21)/8 -> 4519.125 | AB21: =V21/8 -> 3242.3794 | AC21: =X21*8 -> 0 | AD21: =AB21+AC21 -> 3242.3794 | AE21: =AB21/AA21 -> 0.71747947 | AF21: =AC21/AA21 -> 0 | AG21: =AB21/AD21 -> 1 | AH21: =AD21/AA21 -> 0.71747947 | AI21: =AA21-SUM(AB21:AC21) -> 1276.7456 | AJ21: =AI21/AA21 -> 0.28252053 | AK21: =IF(G21="","",IF(AH21="NC","NC",IF(OR(AH21<0,AH21>1),"Excluded",IF(OR(G21="Total COD",G21="Mixed"),"Lower bound",IF(OR(G21="Defined substrate",G21="Biodegradable COD"),"As calculated","CHECK"))))) -> As calculated
A22: 21 | B22: CE_Grootscholten2013A | C22: CE _GrootscholtenA_02 | D22: Grootscholten et al., 2013A | E22: Continuous | F22: Ethanol | G22: Defined substrate | H22: Acetate | I22: Phase II_Ethanol load = 19.5 g/L/d | J22: 6.5-7.0 | K22: 30 | L22: =17/24 -> 0.70833333 | M22: Chain Elongation | N22: days 64–70 | O22: =19.5*2.084*1000 -> 40638 | P22: =8.5*1.066*1000 -> 9061 | Q22: NA | R22: NA | S22: NA | T22: =15.1*2.204*1000 -> 33280.4 | U22: NR | V22: =SUM(T22:U22,W22) -> 35003.459 | W22: =(0.5/(17/24))*2.441*1000 -> 1723.0588 | X22: 0 | Y22: NR | Z22: NR | AA22: =SUM(O22:S22)/8 -> 6212.375 | AB22: =V22/8 -> 4375.4324 | AC22: =X22*8 -> 0 | AD22: =AB22+AC22 -> 4375.4324 | AE22: =AB22/AA22 -> 0.70430912 | AF22: =AC22/AA22 -> 0 | AG22: =AB22/AD22 -> 1 | AH22: =AD22/AA22 -> 0.70430912 | AI22: =AA22-SUM(AB22:AC22) -> 1836.9426 | AJ22: =AI22/AA22 -> 0.29569088 | AK22: =IF(G22="","",IF(AH22="NC","NC",IF(OR(AH22<0,AH22>1),"Excluded",IF(OR(G22="Total COD",G22="Mixed"),"Lower bound",IF(OR(G22="Defined substrate",G22="Biodegradable COD"),"As calculated","CHECK"))))) -> As calculated
A23: 22 | B23: CE_Grootscholten2013A | C23: CE _GrootscholtenA_03 | D23: Grootscholten et al., 2013A | E23: Continuous | F23: Ethanol | G23: Defined substrate | H23: Acetate | I23: Phase III_Ethanol load = 26.0 g/L/d | J23: 6.5-7.0 | K23: 30 | L23: =17/24 -> 0.70833333 | M23: Chain Elongation | N23: days 71–80 | O23: =26*2.084*1000 -> 54184 | P23: =8.5*1.066*1000 -> 9061 | Q23: NA | R23: NA | S23: NA | T23: =15.7*2.204*1000 -> 34602.8 | U23: NR | V23: =SUM(T23:U23,W23) -> 36670.471 | W23: =(0.6/(17/24))*2.441*1000 -> 2067.6706 | X23: 0 | Y23: NR | Z23: NR | AA23: =SUM(O23:S23)/8 -> 7905.625 | AB23: =V23/8 -> 4583.8088 | AC23: =X23*8 -> 0 | AD23: =AB23+AC23 -> 4583.8088 | AE23: =AB23/AA23 -> 0.57981612 | AF23: =AC23/AA23 -> 0 | AG23: =AB23/AD23 -> 1 | AH23: =AD23/AA23 -> 0.57981612 | AI23: =AA23-SUM(AB23:AC23) -> 3321.8162 | AJ23: =AI23/AA23 -> 0.42018388 | AK23: =IF(G23="","",IF(AH23="NC","NC",IF(OR(AH23<0,AH23>1),"Excluded",IF(OR(G23="Total COD",G23="Mixed"),"Lower bound",IF(OR(G23="Defined substrate",G23="Biodegradable COD"),"As calculated","CHECK"))))) -> As calculated
A24: 23 | B24: CE_Grootscholten2013B | C24: CE_GrootscholtenB_01 | D24: Grootscholten et al., 2013B | E24: Continuous | F24: Ethanol+ yeast extract | G24: Defined substrate | H24: Acetate | I24: Phase I | J24: 6.5-7.2 | K24: 30 | L24: 0.667 | M24: Chain Elongation | N24: days 32–36 | O24: =20.7*2.084*1000+1.5*1.498*1000 -> 45385.8 | P24: =9*1.066*1000 -> 9594 | Q24: NA | R24: NA | S24: NA | T24: =12/(16/24)*2.204*1000 -> 39672 | U24: NA | V24: =SUM(T24,W24) -> 42967.35 | W24: =0.9/(16/24)*2.441*1000 -> 3295.35 | X24: 0 | Y24: NR | Z24: NR | AA24: =SUM(O24:P24)/8 -> 6872.475 | AB24: =V24/8 -> 5370.9188 | AC24: =X24*8 -> 0 | AD24: =AB24+AC24 -> 5370.9188 | AE24: =AB24/AA24 -> 0.78151157 | AF24: =AC24/AA24 -> 0 | AG24: =AB24/AD24 -> 1 | AH24: =AD24/AA24 -> 0.78151157 | AI24: =AA24-SUM(AB24:AC24) -> 1501.5562 | AJ24: =AI24/AA24 -> 0.21848843 | AK24: =IF(G24="","",IF(AH24="NC","NC",IF(OR(AH24<0,AH24>1),"Excluded",IF(OR(G24="Total COD",G24="Mixed"),"Lower bound",IF(OR(G24="Defined substrate",G24="Biodegradable COD"),"As calculated","CHECK"))))) -> As calculated
A25: 24 | B25: CE_Grootscholten2013B | C25: CE_GrootscholtenB_02 | D25: Grootscholten et al., 2013B | E25: Continuous | F25: Ethanol+ yeast extract | G25: Defined substrate | H25: Acetate | I25: Phase II | J25: 6.5-7.2 | K25: 30 | L25: 0.333 | M25: Chain Elongation | N25: days 37–44 | O25: =41.4*2.084*1000+3*1.498*1000 -> 90771.6 | P25: =18*1.066*1000 -> 19188 | Q25: NA | R25: NA | S25: NA | T25: =8.7/(8/24)*2.204*1000 -> 57524.4 | U25: NA | V25: =SUM(T25,W25) -> 60453.6 | W25: =0.4/(8/24)*2.441*1000 -> 2929.2 | X25: 0 | Y25: NR | Z25: NR | AA25: =SUM(O25:P25)/8 -> 13744.95 | AB25: =V25/8 -> 7556.7 | AC25: =X25*8 -> 0 | AD25: =AB25+AC25 -> 7556.7 | AE25: =AB25/AA25 -> 0.5497801 | AF25: =AC25/AA25 -> 0 | AG25: =AB25/AD25 -> 1 | AH25: =AD25/AA25 -> 0.5497801 | AI25: =AA25-SUM(AB25:AC25) -> 6188.25 | AJ25: =AI25/AA25 -> 0.4502199 | AK25: =IF(G25="","",IF(AH25="NC","NC",IF(OR(AH25<0,AH25>1),"Excluded",IF(OR(G25="Total COD",G25="Mixed"),"Lower bound",IF(OR(G25="Defined substrate",G25="Biodegradable COD"),"As calculated","CHECK"))))) -> As calculated
A26: 25 | B26: CE_Grootscholten2013B | C26: CE_GrootscholtenB_03 | D26: Grootscholten et al., 2013B | E26: Continuous | F26: Ethanol+ yeast extract | G26: Defined substrate | H26: Acetate | I26: Phase III | J26: 6.5-7.2 | K26: 30 | L26: 0.333 | M26: Chain Elongation | N26: days 47–50 and 53–55 | O26: =41.4*2.084*1000+6*1.498*1000 -> 95265.6 | P26: =18*1.066*1000 -> 19188 | Q26: NA | R26: NA | S26: NA | T26: =11.3/(8/24)*2.204*1000 -> 74715.6 | U26: NA | V26: =SUM(T26,W26) -> 79109.4 | W26: =0.6/(8/24)*2.441*1000 -> 4393.8 | X26: 0 | Y26: NR | Z26: NR | AA26: =SUM(O26:P26)/8 -> 14306.7 | AB26: =V26/8 -> 9888.675 | AC26: =X26*8 -> 0 | AD26: =AB26+AC26 -> 9888.675 | AE26: =AB26/AA26 -> 0.69119189 | AF26: =AC26/AA26 -> 0 | AG26: =AB26/AD26 -> 1 | AH26: =AD26/AA26 -> 0.69119189 | AI26: =AA26-SUM(AB26:AC26) -> 4418.025 | AJ26: =AI26/AA26 -> 0.30880811 | AK26: =IF(G26="","",IF(AH26="NC","NC",IF(OR(AH26<0,AH26>1),"Excluded",IF(OR(G26="Total COD",G26="Mixed"),"Lower bound",IF(OR(G26="Defined substrate",G26="Biodegradable COD"),"As calculated","CHECK"))))) -> As calculated
A27: 26 | B27: CE_Grootscholten2013B | C27: CE_GrootscholtenB_04 | D27: Grootscholten et al., 2013B | E27: Continuous | F27: Ethanol+ yeast extract | G27: Defined substrate | H27: Acetate | I27: Phase IV | J27: 6.5-7.2 | K27: 30 | L27: 0.167 | M27: Chain Elongation | N27: days 66–69 | O27: =82.8*2.084*1000+12*1.498*1000 -> 190531.2 | P27: =36*1.066*1000 -> 38376 | Q27: NA | R27: NA | S27: NA | T27: =8.7/(4/24)*2.204*1000 -> 115048.8 | U27: NA | V27: =SUM(T27,W27) -> 119442.6 | W27: =0.3/(4/24)*2.441*1000 -> 4393.8 | X27: 0 | Y27: NR | Z27: NR | AA27: =SUM(O27:P27)/8 -> 28613.4 | AB27: =V27/8 -> 14930.325 | AC27: =X27*8 -> 0 | AD27: =AB27+AC27 -> 14930.325 | AE27: =AB27/AA27 -> 0.52179486 | AF27: =AC27/AA27 -> 0 | AG27: =AB27/AD27 -> 1 | AH27: =AD27/AA27 -> 0.52179486 | AI27: =AA27-SUM(AB27:AC27) -> 13683.075 | AJ27: =AI27/AA27 -> 0.47820514 | AK27: =IF(G27="","",IF(AH27="NC","NC",IF(OR(AH27<0,AH27>1),"Excluded",IF(OR(G27="Total COD",G27="Mixed"),"Lower bound",IF(OR(G27="Defined substrate",G27="Biodegradable COD"),"As calculated","CHECK"))))) -> As calculated
A29: NR=not reported in the source study; NC=not calculable from the reported data; NA=Not applicable to the system ; R-DIG = Reported graphically; digitization required
A34: Defined substrate: chemically defined substrate, assumed to be fully biodegradable (e.g., glucose, ethanol, acetate, lactate, H2). Total COD: real waste or wastewater containing a non-biodegradable fraction; no biodegradability correction applied. Biodegradable COD: corrected for biodegradability, e.g., based on BMP, BOD, or the degradable fraction reported in the source study. Mixed: E_in comprises both defined and real-waste components, e.g., oil + food waste, or ethanol + wastewater.

Sheet Biogas_Upgrading
A1: No. | B1: Study ID | C1: Case ID | D1: Reference (Author, Year) | E1: Mode | F1: Upgrading mode | G1: Organic substrate/feed | H1: E_in basis (COD type) | I1: H2 device | J1: Sample | K1: pH | L1: T (C) | M1: HRT (d) | N1: Main objective | O1: Analysis window | P1: H2 input (mL/L/d or mL/case)) | Q1: H2 fraction (%) | R1: Gas volume basis | S1: H2 input (mmol/L/d or mmol/case) | T1: Biogas volume - input/background (mL/L/d or mL/case) | U1: CH4 fraction - input/background (%) | V1: Biogas volume - output/upgrading (mL/L/d or mL/case) | W1: CH4 fraction - output/upgrading (%) | X1: CH4 input/background (mL/L/d or mL/case) | Y1: CH4 output (mL/L/d or mL/case) | Z1: Net CH4 formed (mL/L/d or mL/case) | AA1: Net CH4 formed (mmol/L/d or mmol/case) | AB1: Acetate input/background (mmol/L) | AC1: Acetate output/upgrading (mmol/L) | AD1: Net acetate (mmol/L) | AE1: Net acetate formed (mmol/L/d or mmol/case) | AF1: E_in (mmol e-/L/d or mmol e-/case) | AG1: E_target (mmol e-/L/d or mmol e-/case) | AH1: E_competing (mmol e-/L/d or mmol e-/case) | AI1: E_expressed (mmol e-/L/d or mmol e-/case) | AJ1: f_target | AK1: f_competing | AL1: A_target | AM1: f_expressed | AN1: E_unresolved (mmol e-/L) | AO1: f_unresolved | AP1: Interpretation of f_target, f_expressed
A2: 1 | B2: BU_Luo2013 | C2: BU_Luo_01 | D2: Luo & Angelidaki 2013 | E2: Continuous | F2: In situ | G2: Cattle manure + whey | H2: Defined substrate | I2: Hollow fiber membrane | J2: Phase 1_H2_930 mL/L/d | K2: 7.61 | L2: 55 | M2: 15 | N2: Biogas upgrading | O2: Steady state, Phase I (day 1–45) | P2: 930 | Q2: NA | R2: 22.414 | S2: =P2/R2 -> 41.491925 | T2: 847 | U2: 54.2 | V2: 868 | W2: 78.5 | X2: =T2*U2/100 -> 459.074 | Y2: =V2*W2/100 -> 681.38 | Z2: =Y2-X2 -> 222.306 | AA2: =Z2/22.414 -> 9.9181761 | AB2: 1.2 | AC2: 3.5 | AD2: =AC2-AB2 -> 2.3 | AE2: =AD2/15 -> 0.15333333 | AF2: =S2*2 -> 82.983849 | AG2: =AA2*8 -> 79.345409 | AH2: =AE2*8 -> 1.2266667 | AI2: =SUM(AG2:AH2) -> 80.572076 | AJ2: =AG2/AF2 -> 0.95615484 | AK2: =AH2/AF2 -> 0.014781993 | AL2: =AG2/AI2 -> 0.98477554 | AM2: =AI2/AF2 -> 0.97093683 | AN2: =AF2-SUM(AG2,AH2) -> 2.4117736 | AO2: =AN2/AF2 -> 0.029063168 | AP2: =IF(H2="","",IF(AM2="NC","NC",IF(OR(AM2<0,AM2>1),"Excluded",IF(OR(H2="Total COD",H2="Mixed"),"Lower bound",IF(OR(H2="Defined substrate",H2="Biodegradable COD"),"As calculated","CHECK"))))) -> As calculated
A3: 2 | B3: BU_Luo2013 | C3: BU_Luo_02 | D3: Luo & Angelidaki 2013 | E3: Continuous | F3: In situ | G3: Cattle manure + whey | H3: Defined substrate | I3: Hollow fiber membrane | J3: Phase 2_H2_1440 mL/L/d | K3: 7.9 | L3: 55 | M3: 15 | N3: Biogas upgrading | O3: Steady state, Phase II (day 46–91) | P3: 1440 | Q3: NA | R3: 22.414 | S3: =P3/R3 -> 64.245561 | T3: 853 | U3: 53.1 | V3: 885 | W3: 90.2 | X3: =T3*U3/100 -> 452.943 | Y3: =V3*W3/100 -> 798.27 | Z3: =Y3-X3 -> 345.327 | AA3: =Z3/22.414 -> 15.406755 | AB3: 1.4 | AC3: 10.2 | AD3: =AC3-AB3 -> 8.8 | AE3: =AD3/15 -> 0.58666667 | AF3: =S3*2 -> 128.49112 | AG3: =AA3*8 -> 123.25404 | AH3: =AE3*8 -> 4.6933333 | AI3: =SUM(AG3:AH3) -> 127.94737 | AJ3: =AG3/AF3 -> 0.95924167 | AK3: =AH3/AF3 -> 0.036526519 | AL3: =AG3/AI3 -> 0.96331825 | AM3: =AI3/AF3 -> 0.99576819 | AN3: =AF3-SUM(AG3,AH3) -> 0.54375063 | AO3: =AN3/AF3 -> 0.0042318148 | AP3: =IF(H3="","",IF(AM3="NC","NC",IF(OR(AM3<0,AM3>1),"Excluded",IF(OR(H3="Total COD",H3="Mixed"),"Lower bound",IF(OR(H3="Defined substrate",H3="Biodegradable COD"),"As calculated","CHECK"))))) -> As calculated
A4: 3 | B4: BU_Luo2013 | C4: BU_Luo_03 | D4: Luo & Angelidaki 2013 | E4: Continuous | F4: In situ | G4: Cattle manure + whey | H4: Defined substrate | I4: Hollow fiber membrane | J4: Phase 3_H2_1760 mL/L/d | K4: 8.31 | L4: 55 | M4: 15 | N4: Biogas upgrading | O4: Steady state, Phase III (day 92–134) | P4: 1760 | Q4: NA | R4: 22.414 | S4: =P4/R4 -> 78.522352 | T4: 865 | U4: 55.4 | V4: 895 | W4: 96.1 | X4: =T4*U4/100 -> 479.21 | Y4: =V4*W4/100 -> 860.095 | Z4: =Y4-X4 -> 380.885 | AA4: =Z4/22.414 -> 16.993174 | AB4: 1.5 | AC4: 36 | AD4: =AC4-AB4 -> 34.5 | AE4: =AD4/15 -> 2.3 | AF4: =S4*2 -> 157.0447 | AG4: =AA4*8 -> 135.94539 | AH4: =AE4*8 -> 18.4 | AI4: =SUM(AG4:AH4) -> 154.34539 | AJ4: =AG4/AF4 -> 0.86564773 | AK4: =AH4/AF4 -> 0.11716409 | AL4: =AG4/AI4 -> 0.88078685 | AM4: =AI4/AF4 -> 0.98281182 | AN4: =AF4-SUM(AG4,AH4) -> 2.6993129 | AO4: =AN4/AF4 -> 0.017188182 | AP4: =IF(H4="","",IF(AM4="NC","NC",IF(OR(AM4<0,AM4>1),"Excluded",IF(OR(H4="Total COD",H4="Mixed"),"Lower bound",IF(OR(H4="Defined substrate",H4="Biodegradable COD"),"As calculated","CHECK"))))) -> As calculated
A5: 4 | B5: BU_Bassani2016 | C5: BU_Bassani_01 | D5: Bassani et al., 2016 | E5: Continuous | F5: In situ | G5: Diluted potato-starch wastewater | H5: Defined substrate | I5: Metallic diffuser + Rashig rings | J5: Rashig rings | K5: 7.92 | L5: 55 | M5: 5 | N5: Biogas upgrading | O5: Phase II, steady state | P5: 3477 | Q5: NA | R5: 22.4 | S5: =P5/R5 -> 155.22321 | T5: 2229 | U5: 60.6 | V5: 2093 | W5: 40.4 | X5: =T5*U5/100 -> 1350.774 | Y5: 1528 | Z5: =Y5-X5 -> 177.226 | AA5: =Z5/22.4 -> 7.911875 | AB5: =1.41*0.515/60.05*1000 -> 12.092423 | AC5: =3.4*0.553/60.05*1000 -> 31.310575 | AD5: =AC5-AB5 -> 19.218152 | AE5: =AD5/5 -> 3.8436303 | AF5: =S5*2 -> 310.44643 | AG5: =AA5*8 -> 63.295 | AH5: =AE5*8 -> 30.749042 | AI5: =SUM(AG5:AH5) -> 94.044042 | AJ5: =AG5/AF5 -> 0.20388381 | AK5: =AH5/AF5 -> 0.099047822 | AL5: =AG5/AI5 -> 0.67303572 | AM5: =AI5/AF5 -> 0.30293163 | AN5: =AF5-SUM(AG5,AH5) -> 216.40239 | AO5: =AN5/AF5 -> 0.69706837 | AP5: =IF(H5="","",IF(AM5="NC","NC",IF(OR(AM5<0,AM5>1),"Excluded",IF(OR(H5="Total COD",H5="Mixed"),"Lower bound",IF(OR(H5="Defined substrate",H5="Biodegradable COD"),"As calculated","CHECK"))))) -> As calculated
A6: 5 | B6: BU_Bassani2016 | C6: BU_Bassani_02 | D6: Bassani et al., 2016 | E6: Continuous | F6: In situ | G6: Diluted potato-starch wastewater | H6: Defined substrate | I6: Metallic diffuser + Rashig rings | J6: Rashig rings with increased liquid recirculation | K6: 7.9 | L6: 55 | M6: 5 | N6: Biogas upgrading | O6: Phase III, steady state | P6: 2636 | Q6: NA | R6: 22.4 | S6: =P6/R6 -> 117.67857 | T6: 2015 | U6: 60.9 | V6: 2072 | W6: 44.9 | X6: =T6*U6/100 -> 1227.135 | Y6: 1497 | Z6: =Y6-X6 -> 269.865 | AA6: =Z6/22.4 -> 12.047545 | AB6: =2.26*0.473/60.05*1000 -> 17.801499 | AC6: =3.6*0.518/60.05*1000 -> 31.054122 | AD6: =AC6-AB6 -> 13.252623 | AE6: =AD6/5 -> 2.6505246 | AF6: =S6*2 -> 235.35714 | AG6: =AA6*8 -> 96.380357 | AH6: =AE6*8 -> 21.204197 | AI6: =SUM(AG6:AH6) -> 117.58455 | AJ6: =AG6/AF6 -> 0.40950683 | AK6: =AH6/AF6 -> 0.090093703 | AL6: =AG6/AI6 -> 0.81966852 | AM6: =AI6/AF6 -> 0.49960053 | AN6: =AF6-SUM(AG6,AH6) -> 117.77259 | AO6: =AN6/AF6 -> 0.50039947 | AP6: =IF(H6="","",IF(AM6="NC","NC",IF(OR(AM6<0,AM6>1),"Excluded",IF(OR(H6="Total COD",H6="Mixed"),"Lower bound",IF(OR(H6="Defined substrate",H6="Biodegradable COD"),"As calculated","CHECK"))))) -> As calculated
A7: 6 | B7: BU_Bassani2016 | C7: BU_Bassani_03 | D7: Bassani et al., 2016 | E7: Continuous | F7: In situ | G7: Diluted potato-starch wastewater | H7: Defined substrate | I7: Metallic diffuser + ceramic sponge | J7: Ceramic sponge | K7: 7.93 | L7: 55 | M7: 5 | N7: Biogas upgrading | O7: Phase IV, steady state | P7: 2629 | Q7: NA | R7: 22.4 | S7: =P7/R7 -> 117.36607 | T7: 1787 | U7: 62.5 | V7: 1953 | W7: 52 | X7: =T7*U7/100 -> 1116.875 | Y7: 1471 | Z7: =Y7-X7 -> 354.125 | AA7: =Z7/22.4 -> 15.809152 | AB7: =2.37*0.472/60.05*1000 -> 18.628476 | AC7: =2.81*0.497/60.05*1000 -> 23.256786 | AD7: =AC7-AB7 -> 4.6283097 | AE7: =AD7/5 -> 0.92566195 | AF7: =S7*2 -> 234.73214 | AG7: =AA7*8 -> 126.47321 | AH7: =AE7*8 -> 7.4052956 | AI7: =SUM(AG7:AH7) -> 133.87851 | AJ7: =AG7/AF7 -> 0.53879802 | AK7: =AH7/AF7 -> 0.031547855 | AL7: =AG7/AI7 -> 0.94468645 | AM7: =AI7/AF7 -> 0.57034588 | AN7: =AF7-SUM(AG7,AH7) -> 100.85363 | AO7: =AN7/AF7 -> 0.42965412 | AP7: =IF(H7="","",IF(AM7="NC","NC",IF(OR(AM7<0,AM7>1),"Excluded",IF(OR(H7="Total COD",H7="Mixed"),"Lower bound",IF(OR(H7="Defined substrate",H7="Biodegradable COD"),"As calculated","CHECK"))))) -> As calculated
A8: 7 | B8: BU_Bassani2016 | C8: BU_Bassani_04 | D8: Bassani et al., 2016 | E8: Continuous | F8: In situ | G8: Diluted potato-starch wastewater | H8: Defined substrate | I8: Metallic diffuser + ceramic sponge | J8: Ceramic sponge with gas recirculation at 4 mL/min | K8: 7.83 | L8: 55 | M8: 5 | N8: Biogas upgrading | O8: Phase V, steady state | P8: 2144 | Q8: NA | R8: 22.4 | S8: =P8/R8 -> 95.714286 | T8: 1900 | U8: 61.1 | V8: 1786 | W8: 66.4 | X8: =T8*U8/100 -> 1160.9 | Y8: 1365 | Z8: =Y8-X8 -> 204.1 | AA8: =Z8/22.4 -> 9.1116071 | AB8: =3.24*0.46/60.05*1000 -> 24.819317 | AC8: =5.11*0.646/60.05*1000 -> 54.971857 | AD8: =AC8-AB8 -> 30.15254 | AE8: =AD8/5 -> 6.0305079 | AF8: =S8*2 -> 191.42857 | AG8: =AA8*8 -> 72.892857 | AH8: =AE8*8 -> 48.244063 | AI8: =SUM(AG8:AH8) -> 121.13692 | AJ8: =AG8/AF8 -> 0.38078358 | AK8: =AH8/AF8 -> 0.25202123 | AL8: =AG8/AI8 -> 0.60173939 | AM8: =AI8/AF8 -> 0.63280481 | AN8: =AF8-SUM(AG8,AH8) -> 70.291651 | AO8: =AN8/AF8 -> 0.36719519 | AP8: =IF(H8="","",IF(AM8="NC","NC",IF(OR(AM8<0,AM8>1),"Excluded",IF(OR(H8="Total COD",H8="Mixed"),"Lower bound",IF(OR(H8="Defined substrate",H8="Biodegradable COD"),"As calculated","CHECK"))))) -> As calculated
A9: 8 | B9: BU_Bassani2016 | C9: BU_Bassani_05 | D9: Bassani et al., 2016 | E9: Continuous | F9: In situ | G9: Diluted potato-starch wastewater | H9: Defined substrate | I9: Metallic diffuser + ceramic sponge | J9: Ceramic sponge with gas recirculation at 6 mL/min | K9: 8.24 | L9: 55 | M9: 5 | N9: Biogas upgrading | O9: Phase VI, steady state | P9: 1834 | Q9: NA | R9: 22.4 | S9: =P9/R9 -> 81.875 | T9: 2018 | U9: 65 | V9: 1521 | W9: 66 | X9: =T9*U9/100 -> 1311.7 | Y9: 1188 | Z9: =Y9-X9 -> -123.7 | AA9: =Z9/22.4 -> -5.5223214 | AB9: =2.37*0.394/60.05*1000 -> 15.550042 | AC9: =3.66*0.399/60.05*1000 -> 24.318734 | AD9: =AC9-AB9 -> 8.7686928 | AE9: =AD9/5 -> 1.7537386 | AF9: =S9*2 -> 163.75 | AG9: =AA9*8 -> -44.178571 | AH9: =AE9*8 -> 14.029908 | AI9: =SUM(AG9:AH9) -> -30.148663 | AJ9: =AG9/AF9 -> -0.2697928 | AK9: =AH9/AF9 -> 0.08567883 | AL9: =AG9/AI9 -> 1.4653576 | AM9: =AI9/AF9 -> -0.18411397 | AN9: =AF9-SUM(AG9,AH9) -> 193.89866 | AO9: =AN9/AF9 -> 1.184114 | AP9: =IF(H9="","",IF(AM9="NC","NC",IF(OR(AM9<0,AM9>1),"Excluded",IF(OR(H9="Total COD",H9="Mixed"),"Lower bound",IF(OR(H9="Defined substrate",H9="Biodegradable COD"),"As calculated","CHECK"))))) -> Excluded
A10: 9 | B10: BU_Bassani2016 | C10: BU_Bassani_06 | D10: Bassani et al., 2016 | E10: Continuous | F10: In situ | G10: Diluted potato-starch wastewater | H10: Defined substrate | I10: Serial H2-injection chambers | J10: Serial H2-injection chambers | K10: 8.18 | L10: 55 | M10: 5 | N10: Biogas upgrading | O10: Phase VII, steady state | P10: 1768 | Q10: NA | R10: 22.4 | S10: =P10/R10 -> 78.928571 | T10: 1175 | U10: 65 | V10: 1337 | W10: 67.6 | X10: =T10*U10/100 -> 763.75 | Y10: 1046 | Z10: =Y10-X10 -> 282.25 | AA10: =Z10/22.4 -> 12.600446 | AB10: =3.21*0.365/60.05*1000 -> 19.511241 | AC10: =4.34*0.37/60.05*1000 -> 26.741049 | AD10: =AC10-AB10 -> 7.2298085 | AE10: =AD10/5 -> 1.4459617 | AF10: =S10*2 -> 157.85714 | AG10: =AA10*8 -> 100.80357 | AH10: =AE10*8 -> 11.567694 | AI10: =SUM(AG10:AH10) -> 112.37127 | AJ10: =AG10/AF10 -> 0.63857466 | AK10: =AH10/AF10 -> 0.073279507 | AL10: =AG10/AI10 -> 0.89705826 | AM10: =AI10/AF10 -> 0.71185417 | AN10: =AF10-SUM(AG10,AH10) -> 45.485878 | AO10: =AN10/AF10 -> 0.28814583 | AP10: =IF(H10="","",IF(AM10="NC","NC",IF(OR(AM10<0,AM10>1),"Excluded",IF(OR(H10="Total COD",H10="Mixed"),"Lower bound",IF(OR(H10="Defined substrate",H10="Biodegradable COD"),"As calculated","CHECK"))))) -> As calculated
A11: 10 | B11: BU_Bassani2016 | C11: BU_Bassani_07 | D11: Bassani et al., 2016 | E11: Continuous | F11: In situ | G11: Diluted potato-starch wastewater | H11: Defined substrate | I11: Single extended H2-injection chamber | J11: Single extended H2-injection chamber | K11: 8.38 | L11: 55 | M11: 5 | N11: Biogas upgrading | O11: Phase VIII, steady state | P11: 1828 | Q11: NA | R11: 22.4 | S11: =P11/R11 -> 81.607143 | T11: 1558 | U11: 66.7 | V11: 1261 | W11: 81.3 | X11: =T11*U11/100 -> 1039.186 | Y11: 1145 | Z11: =Y11-X11 -> 105.814 | AA11: =Z11/22.4 -> 4.7238393 | AB11: =2.36*0.345/60.05*1000 -> 13.558701 | AC11: =3.87*0.303/60.05*1000 -> 19.527227 | AD11: =AC11-AB11 -> 5.9685262 | AE11: =AD11/5 -> 1.1937052 | AF11: =S11*2 -> 163.21429 | AG11: =AA11*8 -> 37.790714 | AH11: =AE11*8 -> 9.549642 | AI11: =SUM(AG11:AH11) -> 47.340356 | AJ11: =AG11/AF11 -> 0.23154048 | AK11: =AH11/AF11 -> 0.058509841 | AL11: =AG11/AI11 -> 0.79827693 | AM11: =AI11/AF11 -> 0.29005032 | AN11: =AF11-SUM(AG11,AH11) -> 115.87393 | AO11: =AN11/AF11 -> 0.70994968 | AP11: =IF(H11="","",IF(AM11="NC","NC",IF(OR(AM11<0,AM11>1),"Excluded",IF(OR(H11="Total COD",H11="Mixed"),"Lower bound",IF(OR(H11="Defined substrate",H11="Biodegradable COD"),"As calculated","CHECK"))))) -> As calculated
A12: 11 | B12: BU_ Kougias2017 | C12: BU_Kougias_01 | D12: Kougias et al., 2017 | E12: Continuous | F12: Ex situ | G12: Digested slurry as nutrient medium | H12: Defined substrate | I12: 2 stainless-steel diffusers in R1; R2 fed with R1 effluent gas | J12: R1+R2, Period I | K12: NR | L12: 52 | M12: 35 | N12: Biogas upgrading | O12: days 0–18 | P12: =1.29*0.62*1000 -> 799.8 | Q12: 62 | R12: 22.414 | S12: =P12/R12 -> 35.683055 | T12: 1290 | U12: 23 | V12: =P12*(1-0.75)/0.28 -> 714.10714 | W12: 66 | X12: =T12*U12/100 -> 296.7 | Y12: =V12*W12/100 -> 471.31071 | Z12: =Y12-(X12+(80*2.5)/2.8) -> 103.18214 | AA12: =Z12/22.4 -> 4.6063457 | AB12: =0.293*1000/60.05 -> 4.8792673 | AC12: =3.6/60.05*1000 -> 59.950042 | AD12: =AC12-AB12 -> 55.070774 | AE12: =AD12/35 -> 1.5734507 | AF12: =S12*2 -> 71.36611 | AG12: =AA12*8 -> 36.850765 | AH12: =AE12*8 -> 12.587606 | AI12: =SUM(AG12:AH12) -> 49.438371 | AJ12: =AG12/AF12 -> 0.51636225 | AK12: =AH12/AF12 -> 0.17638071 | AL12: =AG12/AI12 -> 0.74538794 | AM12: =AI12/AF12 -> 0.69274296 | AN12: =AF12-SUM(AG12,AH12) -> 21.92774 | AO12: =AN12/AF12 -> 0.30725704 | AP12: =IF(H12="","",IF(AM12="NC","NC",IF(OR(AM12<0,AM12>1),"Excluded",IF(OR(H12="Total COD",H12="Mixed"),"Lower bound",IF(OR(H12="Defined substrate",H12="Biodegradable COD"),"As calculated","CHECK"))))) -> As calculated
A13: 12 | B13: BU_ Kougias2017 | C13: BU_Kougias_02 | D13: Kougias et al., 2017 | E13: Continuous | F13: Ex situ | G13: Digested slurry as nutrient medium | H13: Defined substrate | I13: 2 stainless-steel diffusers in R1; R2 fed with R1 effluent gas | J13: R1+R2, Period II | K13: NR | L13: 52 | M13: 35 | N13: Biogas upgrading | O13: days 19–51 | P13: =1.29*0.62*1000 -> 799.8 | Q13: 62 | R13: 22.414 | S13: =P13/R13 -> 35.683055 | T13: 1290 | U13: 23 | V13: NC | W13: 90 | X13: =T13*U13/100 -> 296.7 | Y13: NC | Z13: NC | AA13: NC | AB13: =0.293*1000/60.05 -> 4.8792673 | AC13: =5.6/60.05*1000 -> 93.25562 | AD13: =AC13-AB13 -> 88.376353 | AE13: =AD13/35 -> 2.5250387 | AF13: =S13*2 -> 71.36611 | AG13: NC | AH13: NC | AI13: NC | AJ13: NC | AK13: NC | AL13: NC | AM13: NC | AN13: NC | AO13: NC | AP13: =IF(H13="","",IF(AM13="NC","NC",IF(OR(AM13<0,AM13>1),"Excluded",IF(OR(H13="Total COD",H13="Mixed"),"Lower bound",IF(OR(H13="Defined substrate",H13="Biodegradable COD"),"As calculated","CHECK"))))) -> NC
A14: 13 | B14: BU_ Kougias2017 | C14: BU_Kougias_03 | D14: Kougias et al., 2017 | E14: Continuous | F14: Ex situ | G14: Digested slurry as nutrient medium | H14: Defined substrate | I14: 2 stainless-steel diffusers (CSTR) | J14: R3, Period I | K14: NR | L14: 52 | M14: 15 | N14: Biogas upgrading | O14: days 0–18 | P14: =3*0.62*1000 -> 1860 | Q14: 62 | R14: 22.414 | S14: =P14/R14 -> 82.983849 | T14: 3000 | U14: 23 | V14: =P14*(1-0.58)/0.38 -> 2055.7895 | W14: 54 | X14: =T14*U14/100 -> 690 | Y14: =V14*W14/100 -> 1110.1263 | Z14: =Y14-(X14+(80*2.5)/1.2) -> 253.45965 | AA14: =Z14/22.4 -> 11.315163 | AB14: =0.293*1000/60.05 -> 4.8792673 | AC14: =0.9/60.05*1000 -> 14.98751 | AD14: =AC14-AB14 -> 10.108243 | AE14: =AD14/15 -> 0.67388288 | AF14: =S14*2 -> 165.9677 | AG14: =AA14*8 -> 90.521303 | AH14: =AE14*8 -> 5.391063 | AI14: =SUM(AG14:AH14) -> 95.912366 | AJ14: =AG14/AF14 -> 0.54541519 | AK14: =AH14/AF14 -> 0.032482604 | AL14: =AG14/AI14 -> 0.94379178 | AM14: =AI14/AF14 -> 0.57789779 | AN14: =AF14-SUM(AG14,AH14) -> 70.055332 | AO14: =AN14/AF14 -> 0.42210221 | AP14: =IF(H14="","",IF(AM14="NC","NC",IF(OR(AM14<0,AM14>1),"Excluded",IF(OR(H14="Total COD",H14="Mixed"),"Lower bound",IF(OR(H14="Defined substrate",H14="Biodegradable COD"),"As calculated","CHECK"))))) -> As calculated
A15: 14 | B15: BU_ Kougias2017 | C15: BU_Kougias_04 | D15: Kougias et al., 2017 | E15: Continuous | F15: Ex situ | G15: Digested slurry as nutrient medium | H15: Defined substrate | I15: 2 stainless-steel diffusers (CSTR) | J15: R3, Period II | K15: NR | L15: 52 | M15: 15 | N15: Biogas upgrading | O15: days 19–51 | P15: =3*0.62*1000 -> 1860 | Q15: 62 | R15: 22.414 | S15: =P15/R15 -> 82.983849 | T15: 3000 | U15: 23 | V15: =P15*(1-0.63)/0.35 -> 1966.2857 | W15: 56 | X15: =T15*U15/100 -> 690 | Y15: =V15*W15/100 -> 1101.12 | Z15: =Y15-(X15+(80*2.5)/1.2) -> 244.45333 | AA15: =Z15/22.4 -> 10.913095 | AB15: =0.293*1000/60.05 -> 4.8792673 | AC15: =4.2/60.05*1000 -> 69.941715 | AD15: =AC15-AB15 -> 65.062448 | AE15: =AD15/15 -> 4.3374965 | AF15: =S15*2 -> 165.9677 | AG15: =AA15*8 -> 87.304762 | AH15: =AE15*8 -> 34.699972 | AI15: =SUM(AG15:AH15) -> 122.00473 | AJ15: =AG15/AF15 -> 0.52603466 | AK15: =AH15/AF15 -> 0.20907666 | AL15: =AG15/AI15 -> 0.71558503 | AM15: =AI15/AF15 -> 0.73511132 | AN15: =AF15-SUM(AG15,AH15) -> 43.962965 | AO15: =AN15/AF15 -> 0.26488868 | AP15: =IF(H15="","",IF(AM15="NC","NC",IF(OR(AM15<0,AM15>1),"Excluded",IF(OR(H15="Total COD",H15="Mixed"),"Lower bound",IF(OR(H15="Defined substrate",H15="Biodegradable COD"),"As calculated","CHECK"))))) -> As calculated
A16: 15 | B16: BU_ Kougias2017 | C16: BU_Kougias_05 | D16: Kougias et al., 2017 | E16: Continuous | F16: Ex situ | G16: Digested slurry as nutrient medium | H16: Defined substrate | I16: 2 stainless-steel diffusers (bubble column) | J16: R4, Period I | K16: NR | L16: 52 | M16: 15 | N16: Biogas upgrading | O16: days 0–18 | P16: =3*0.62*1000 -> 1860 | Q16: 62 | R16: 22.414 | S16: =P16/R16 -> 82.983849 | T16: 3000 | U16: 23 | V16: =P16*(1-0.82)/0.22 -> 1521.8182 | W16: 72 | X16: =T16*U16/100 -> 690 | Y16: =V16*W16/100 -> 1095.7091 | Z16: =Y16-(X16+(80*2.5)/1.2) -> 239.04242 | AA16: =Z16/22.4 -> 10.671537 | AB16: =0.293*1000/60.05 -> 4.8792673 | AC16: =0.8/60.05*1000 -> 13.322231 | AD16: =AC16-AB16 -> 8.4429642 | AE16: =AD16/15 -> 0.56286428 | AF16: =S16*2 -> 165.9677 | AG16: =AA16*8 -> 85.372294 | AH16: =AE16*8 -> 4.5029142 | AI16: =SUM(AG16:AH16) -> 89.875209 | AJ16: =AG16/AF16 -> 0.51439102 | AK16: =AH16/AF16 -> 0.027131269 | AL16: =AG16/AI16 -> 0.94989815 | AM16: =AI16/AF16 -> 0.54152229 | AN16: =AF16-SUM(AG16,AH16) -> 76.09249 | AO16: =AN16/AF16 -> 0.45847771 | AP16: =IF(H16="","",IF(AM16="NC","NC",IF(OR(AM16<0,AM16>1),"Excluded",IF(OR(H16="Total COD",H16="Mixed"),"Lower bound",IF(OR(H16="Defined substrate",H16="Biodegradable COD"),"As calculated","CHECK"))))) -> As calculated
A17: 16 | B17: BU_ Kougias2017 | C17: BU_Kougias_06 | D17: Kougias et al., 2017 | E17: Continuous | F17: Ex situ | G17: Digested slurry as nutrient medium | H17: Defined substrate | I17: 2 stainless-steel diffusers (bubble column) | J17: R4, Period II | K17: NR | L17: 52 | M17: 15 | N17: Biogas upgrading | O17: days 19–51 | P17: =3*0.62*1000 -> 1860 | Q17: 62 | R17: 22.414 | S17: =P17/R17 -> 82.983849 | T17: 3000 | U17: 23 | V17: NC | W17: 97 | X17: =T17*U17/100 -> 690 | Y17: NC | Z17: NC | AA17: NC | AB17: =0.293*1000/60.05 -> 4.8792673 | AC17: =5.3/60.05*1000 -> 88.259784 | AD17: =AC17-AB17 -> 83.380516 | AE17: =AD17/15 -> 5.5587011 | AF17: =S17*2 -> 165.9677 | AG17: NC | AH17: NC | AI17: NC | AJ17: NC | AK17: NC | AL17: NC | AM17: NC | AN17: NC | AO17: NC | AP17: =IF(H17="","",IF(AM17="NC","NC",IF(OR(AM17<0,AM17>1),"Excluded",IF(OR(H17="Total COD",H17="Mixed"),"Lower bound",IF(OR(H17="Defined substrate",H17="Biodegradable COD"),"As calculated","CHECK"))))) -> NC
A18: 17 | B18: BU_Omar2018 | C18: BU_Omar_01 | D18: Omar et al., 2018 | E18: Batch | F18: Ex situ | G18: Carbon-free BA medium + BES-treated digested sewage-sludge inoculum | H18: Defined substrate | I18: H2-containing synthetic gas supplied to bottle headspace | J18: GR(1x): H2:CO2:CH4 = 1:1:1.5 | K18: 6 | L18: 37 | M18: 10 (batch incubation) | N18: Biogas upgrading through acetate formation | O18: 10-day of batch incubation | P18: =S18*R18 -> 57.239753 | Q18: =1/(1+1+1.5)*100 -> 28.571429 | R18: 22.414 | S18: =408.6/16*0.1 -> 2.55375 | T18: NA | U18: NA | V18: NA | W18: NA | X18: NA | Y18: NA | Z18: NA | AA18: NA | AB18: =2.4/64 -> 0.0375 | AC18: =168.3/64 -> 2.6296875 | AD18: =AC18-AB18 -> 2.5921875 | AE18: =AD18*0.1 -> 0.25921875 | AF18: =S18*2 -> 5.1075 | AG18: =AE18*8 -> 2.07375 | AH18: 0 | AI18: =SUM(AG18:AH18) -> 2.07375 | AJ18: =AG18/AF18 -> 0.40602056 | AK18: =AH18/AF18 -> 0 | AL18: =AG18/AI18 -> 1 | AM18: =AI18/AF18 -> 0.40602056 | AN18: =AF18-SUM(AG18,AH18) -> 3.03375 | AO18: =AN18/AF18 -> 0.59397944 | AP18: =IF(H18="","",IF(AM18="NC","NC",IF(OR(AM18<0,AM18>1),"Excluded",IF(OR(H18="Total COD",H18="Mixed"),"Lower bound",IF(OR(H18="Defined substrate",H18="Biodegradable COD"),"As calculated","CHECK"))))) -> As calculated
A19: 18 | B19: BU_Omar2018 | C19: BU_Omar_02 | D19: Omar et al., 2018 | E19: Batch | F19: Ex situ | G19: Carbon-free BA medium + BES-treated digested sewage-sludge inoculum | H19: Defined substrate | I19: H2-containing synthetic gas supplied to bottle headspace | J19: GR(2x): H2:CO2:CH4 = 2:1:1.5 | K19: 6 | L19: 37 | M19: 10 (batch incubation) | N19: Biogas upgrading through acetate formation | O19: 10-day of batch incubation | P19: =S19*R19 -> 110.38895 | Q19: =2/(2+1+1.5)*100 -> 44.444444 | R19: 22.414 | S19: =788/16*0.1 -> 4.925 | T19: NA | U19: NA | V19: NA | W19: NA | X19: NA | Y19: NA | Z19: NA | AA19: NA | AB19: =2.7/64 -> 0.0421875 | AC19: =269.2/64 -> 4.20625 | AD19: =AC19-AB19 -> 4.1640625 | AE19: =AD19*0.1 -> 0.41640625 | AF19: =S19*2 -> 9.85 | AG19: =AE19*8 -> 3.33125 | AH19: 0 | AI19: =SUM(AG19:AH19) -> 3.33125 | AJ19: =AG19/AF19 -> 0.33819797 | AK19: =AH19/AF19 -> 0 | AL19: =AG19/AI19 -> 1 | AM19: =AI19/AF19 -> 0.33819797 | AN19: =AF19-SUM(AG19,AH19) -> 6.51875 | AO19: =AN19/AF19 -> 0.66180203 | AP19: =IF(H19="","",IF(AM19="NC","NC",IF(OR(AM19<0,AM19>1),"Excluded",IF(OR(H19="Total COD",H19="Mixed"),"Lower bound",IF(OR(H19="Defined substrate",H19="Biodegradable COD"),"As calculated","CHECK"))))) -> As calculated
A20: 19 | B20: BU_Omar2018 | C20: BU_Omar_03 | D20: Omar et al., 2018 | E20: Batch | F20: Ex situ | G20: Carbon-free BA medium + BES-treated digested sewage-sludge inoculum | H20: Defined substrate | I20: H2-containing synthetic gas supplied to bottle headspace | J20: GR(3x): H2:CO2:CH4 = 3:1:1.5 | K20: 6 | L20: 37 | M20: 10 (batch incubation) | N20: Biogas upgrading through acetate formation | O20: 10-day of batch incubation | P20: =S20*R20 -> 167.6287 | Q20: =3/(3+1+1.5)*100 -> 54.545455 | R20: 22.414 | S20: =1196.6/16*0.1 -> 7.47875 | T20: NA | U20: NA | V20: NA | W20: NA | X20: NA | Y20: NA | Z20: NA | AA20: NA | AB20: =3/64 -> 0.046875 | AC20: =277.8/64 -> 4.340625 | AD20: =AC20-AB20 -> 4.29375 | AE20: =AD20*0.1 -> 0.429375 | AF20: =S20*2 -> 14.9575 | AG20: =AE20*8 -> 3.435 | AH20: 0 | AI20: =SUM(AG20:AH20) -> 3.435 | AJ20: =AG20/AF20 -> 0.22965068 | AK20: =AH20/AF20 -> 0 | AL20: =AG20/AI20 -> 1 | AM20: =AI20/AF20 -> 0.22965068 | AN20: =AF20-SUM(AG20,AH20) -> 11.5225 | AO20: =AN20/AF20 -> 0.77034932 | AP20: =IF(H20="","",IF(AM20="NC","NC",IF(OR(AM20<0,AM20>1),"Excluded",IF(OR(H20="Total COD",H20="Mixed"),"Lower bound",IF(OR(H20="Defined substrate",H20="Biodegradable COD"),"As calculated","CHECK"))))) -> As calculated
A21: 20 | B21: BU_Omar2018 | C21: BU_Omar_04 | D21: Omar et al., 2018 | E21: Batch | F21: Ex situ | G21: Carbon-free BA medium + BES-treated digested sewage-sludge inoculum | H21: Defined substrate | I21: H2-containing synthetic gas supplied to bottle headspace | J21: GR(4x): H2:CO2:CH4 = 4:1:1.5 | K21: 6 | L21: 37 | M21: 10 (batch incubation) | N21: Biogas upgrading through acetate formation | O21: 10-day of batch incubation | P21: =S21*R21 -> 224.86846 | Q21: =4/(4+1+1.5)*100 -> 61.538462 | R21: 22.414 | S21: =1605.2/16*0.1 -> 10.0325 | T21: NA | U21: NA | V21: NA | W21: NA | X21: NA | Y21: NA | Z21: NA | AA21: NA | AB21: =2.5/64 -> 0.0390625 | AC21: =298/64 -> 4.65625 | AD21: =AC21-AB21 -> 4.6171875 | AE21: =AD21*0.1 -> 0.46171875 | AF21: =S21*2 -> 20.065 | AG21: =AE21*8 -> 3.69375 | AH21: 0 | AI21: =SUM(AG21:AH21) -> 3.69375 | AJ21: =AG21/AF21 -> 0.18408921 | AK21: =AH21/AF21 -> 0 | AL21: =AG21/AI21 -> 1 | AM21: =AI21/AF21 -> 0.18408921 | AN21: =AF21-SUM(AG21,AH21) -> 16.37125 | AO21: =AN21/AF21 -> 0.81591079 | AP21: =IF(H21="","",IF(AM21="NC","NC",IF(OR(AM21<0,AM21>1),"Excluded",IF(OR(H21="Total COD",H21="Mixed"),"Lower bound",IF(OR(H21="Defined substrate",H21="Biodegradable COD"),"As calculated","CHECK"))))) -> As calculated
A22: 21 | B22: BU_Mulat2017 | C22: BU_Mulat_01 | D22: Mulat et al., 2017 | E22: Batch | F22: In situ | G22: Unlabelled maize leaf + thermophilic digestate inoculum | H22: Defined substrate | I22: Periodic H2 injection into headspace by gas-tight syringe | J22: UMH | K22: 7.0–8.0 | L22: 52 | M22: 24 (batch incubation) | N22: Biogas upgrading | O22: day 6–10 | P22: 507 | Q22: 100 | R22: 22.465 | S22: =P22/R22 -> 22.56844 | T22: =224*100/U22 -> 343.55828 | U22: 65.2 | V22: =267*100/W22 -> 298.65772 | W22: 89.4 | X22: 224 | Y22: 267 | Z22: =Y22-X22 -> 43 | AA22: =Z22/24.465 -> 1.7576129 | AB22: NR | AC22: NR | AD22: NR | AE22: NR | AF22: =S22*2 -> 45.13688 | AG22: =AA22*8 -> 14.060903 | AH22: NC | AI22: NC | AJ22: =AG22/AF22 -> 0.31151696 | AK22: NC | AL22: NC | AM22: NC | AN22: NC | AO22: NC | AP22: =IF(H22="","",IF(AM22="NC","NC",IF(OR(AM22<0,AM22>1),"Excluded",IF(OR(H22="Total COD",H22="Mixed"),"Lower bound",IF(OR(H22="Defined substrate",H22="Biodegradable COD"),"As calculated","CHECK"))))) -> NC
A23: 22 | B23: BU_Mulat2017 | C23: BU_Mulat_02 | D23: Mulat et al., 2017 | E23: Batch | F23: In situ | G23: U-¹³C-labelled maize leaf + thermophilic digestate inoculum | H23: Defined substrate | I23: Periodic H2 injection into headspace by gas-tight syringe | J23: LMH | K23: 7.0–8.0 | L23: 52 | M23: 24 (batch incubation) | N23: Biogas upgrading | O23: day 6–10 | P23: 507 | Q23: 100 | R23: 22.465 | S23: =P23/R23 -> 22.56844 | T23: =224*100/U23 -> 347.82609 | U23: 64.4 | V23: =272*100/W23 -> 309.44255 | W23: 87.9 | X23: 224 | Y23: 272 | Z23: =Y23-X23 -> 48 | AA23: =Z23/24.465 -> 1.9619865 | AB23: NR | AC23: NR | AD23: NR | AE23: NR | AF23: =S23*2 -> 45.13688 | AG23: =AA23*8 -> 15.695892 | AH23: NC | AI23: NC | AJ23: =AG23/AF23 -> 0.34773986 | AK23: NC | AL23: NC | AM23: NC | AN23: NC | AO23: NC | AP23: =IF(H23="","",IF(AM23="NC","NC",IF(OR(AM23<0,AM23>1),"Excluded",IF(OR(H23="Total COD",H23="Mixed"),"Lower bound",IF(OR(H23="Defined substrate",H23="Biodegradable COD"),"As calculated","CHECK"))))) -> NC
A25: NR=not reported in the source study; NC=not calculable from the reported data; NA=Not applicable to the system ; R-DIG = Reported graphically; digitization required
A30: Defined substrate: chemically defined substrate, assumed to be fully biodegradable (e.g., glucose, ethanol, acetate, lactate, H2). Total COD: real waste or wastewater containing a non-biodegradable fraction; no biodegradability correction applied. Biodegradable COD: corrected for biodegradability, e.g., based on BMP, BOD, or the degradable fraction reported in the source study. Mixed: E_in comprises both defined and real-waste components, e.g., oil + food waste, or ethanol + wastewater.

Sheet Reductive_Azodye
A1: No. | B1: Study ID | C1: Case ID | D1: Reference (Author, Year) | E1: Mode | F1: Dye type | G1: Dye conc. (mg/L) | H1: Substrate | I1: E_in basis (COD type) | J1: Sample | K1: pH | L1: T (C) | M1: HRT/SRT (d) | N1: Main objective | O1: Analysis window | P1: COD_input (mgCOD/L) | Q1: Decolorization eff. (%) | R1: Dye reduced (mg/L) | S1: Dye reduced (mgCOD/L) | T1: CH4 (COD_CH4/COD_glucose) | U1: CH4 (mgCOD/L) | V1: E_in (mmol e-/L) | W1: E_target (mmol e-/L) | X1: E_competing (mmol e-/L) | Y1: E_expressed (mmol e-/L) | Z1: f_target | AA1: f_competing | AB1: A_target | AC1: f_expressed | AD1: E_unresolved (mmol e-/L) | AE1: f_unresolved | AF1: Interpretation of f_target, f_expressed
A2: 1 | B2: RedAzo_Dai2018 | C2: RedAzo_Dai_01 | D2: Dai et al., 2018 | E2: Batch | F2: Acid Orange 7 | G2: 600 | H2: Glucose | I2: Defined substrate | J2: Glucose 1000 + AO7 600, no AQS | K2: 7.3 | L2: 38 | M2: 2 (batch incubation) | N2: Decolorization | O2: 0-48h | P2: 1000 | Q2: 0.37 | R2: =Q2*G2 -> 222 | S2: =R2/350.32*64 -> 40.557205 | T2: NA | U2: 713 | V2: =P2/8 -> 125 | W2: =S2/8 -> 5.0696506 | X2: =U2/8 -> 89.125 | Y2: =W2+X2 -> 94.194651 | Z2: =W2/V2 -> 0.040557205 | AA2: =X2/V2 -> 0.713 | AB2: =W2/Y2 -> 0.053821003 | AC2: =Y2/V2 -> 0.7535572 | AD2: =V2-W2-X2 -> 30.805349 | AE2: =AD2/V2 -> 0.2464428 | AF2: =IF(I2="","",IF(AC2="NC","NC",IF(OR(AC2<0,AC2>1),"Excluded",IF(OR(I2="Total COD",I2="Mixed"),"Lower bound",IF(OR(I2="Defined substrate",I2="Biodegradable COD"),"As calculated","CHECK"))))) -> As calculated
A3: 2 | B3: RedAzo_Dai2018 | C3: RedAzo_Dai_02 | D3: Dai et al., 2018 | E3: Batch | F3: Acid Orange 7 | G3: 600 | H3: Glucose | I3: Defined substrate | J3: Glucose 1000 + AO7 600 + AQS 100 μM | K3: 7.3 | L3: 38 | M3: 2 (batch incubation) | N3: Decolorization | O3: 0-48h | P3: 1000 | Q3: 0.96 | R3: =Q3*G3 -> 576 | S3: =R3/350.32*64 -> 105.2295 | T3: NA | U3: 899 | V3: =P3/8 -> 125 | W3: =S3/8 -> 13.153688 | X3: =U3/8 -> 112.375 | Y3: =W3+X3 -> 125.52869 | Z3: =W3/V3 -> 0.1052295 | AA3: =X3/V3 -> 0.899 | AB3: =W3/Y3 -> 0.10478631 | AC3: =Y3/V3 -> 1.0042295 | AD3: =V3-W3-X3 -> -0.52868806 | AE3: =AD3/V3 -> -0.0042295045 | AF3: =IF(I3="","",IF(AC3="NC","NC",IF(OR(AC3<0,AC3>1),"Excluded",IF(OR(I3="Total COD",I3="Mixed"),"Lower bound",IF(OR(I3="Defined substrate",I3="Biodegradable COD"),"As calculated","CHECK"))))) -> Excluded
A4: 3 | B4: RedAzo_Dai2018 | C4: RedAzo_Dai_03 | D4: Dai et al., 2018 | E4: Batch | F4: Acid Orange 7 | G4: 600 | H4: Glucose | I4: Defined substrate | J4: Glucose 250 + AO7 600 + AQS 25 μM | K4: 7.3 | L4: 38 | M4: 2 (batch incubation) | N4: Decolorization | O4: 0-48h | P4: 250 | Q4: 0.269 | R4: =Q4*G4 -> 161.4 | S4: =R4/350.32*64 -> 29.486184 | T4: 0.507 | U4: =T4*P4 -> 126.75 | V4: =P4/8 -> 31.25 | W4: =S4/8 -> 3.685773 | X4: =U4/8 -> 15.84375 | Y4: =W4+X4 -> 19.529523 | Z4: =W4/V4 -> 0.11794474 | AA4: =X4/V4 -> 0.507 | AB4: =W4/Y4 -> 0.18872827 | AC4: =Y4/V4 -> 0.62494474 | AD4: =V4-W4-X4 -> 11.720477 | AE4: =AD4/V4 -> 0.37505526 | AF4: =IF(I4="","",IF(AC4="NC","NC",IF(OR(AC4<0,AC4>1),"Excluded",IF(OR(I4="Total COD",I4="Mixed"),"Lower bound",IF(OR(I4="Defined substrate",I4="Biodegradable COD"),"As calculated","CHECK"))))) -> As calculated
A5: 4 | B5: RedAzo_Dai2018 | C5: RedAzo_Dai_04 | D5: Dai et al., 2018 | E5: Batch | F5: Acid Orange 7 | G5: 600 | H5: Glucose | I5: Defined substrate | J5: Glucose 2000 + AO7 600 + AQS 25 μM | K5: 7.3 | L5: 38 | M5: 2 (batch incubation) | N5: Decolorization | O5: 0-48h | P5: 2000 | Q5: 0.82 | R5: =Q5*G5 -> 492 | S5: =R5/350.32*64 -> 89.883535 | T5: 0.804 | U5: =T5*P5 -> 1608 | V5: =P5/8 -> 250 | W5: =S5/8 -> 11.235442 | X5: =U5/8 -> 201 | Y5: =W5+X5 -> 212.23544 | Z5: =W5/V5 -> 0.044941768 | AA5: =X5/V5 -> 0.804 | AB5: =W5/Y5 -> 0.052938575 | AC5: =Y5/V5 -> 0.84894177 | AD5: =V5-W5-X5 -> 37.764558 | AE5: =AD5/V5 -> 0.15105823 | AF5: =IF(I5="","",IF(AC5="NC","NC",IF(OR(AC5<0,AC5>1),"Excluded",IF(OR(I5="Total COD",I5="Mixed"),"Lower bound",IF(OR(I5="Defined substrate",I5="Biodegradable COD"),"As calculated","CHECK"))))) -> As calculated
A6: 5 | B6: RedAzo_Dai2018 | C6: RedAzo_Dai_05 | D6: Dai et al., 2018 | E6: Batch | F6: Acid Orange 7 | G6: 600 | H6: Glucose | I6: Defined substrate | J6: Glucose 250 + AO7 600 + AQS 300 μM | K6: 7.3 | L6: 38 | M6: 2 (batch incubation) | N6: Decolorization | O6: 0-48h | P6: 250 | Q6: 0.385 | R6: =Q6*G6 -> 231 | S6: =R6/350.32*64 -> 42.201416 | T6: 0.686 | U6: =T6*P6 -> 171.5 | V6: =P6/8 -> 31.25 | W6: =S6/8 -> 5.275177 | X6: =U6/8 -> 21.4375 | Y6: =W6+X6 -> 26.712677 | Z6: =W6/V6 -> 0.16880566 | AA6: =X6/V6 -> 0.686 | AB6: =W6/Y6 -> 0.19747841 | AC6: =Y6/V6 -> 0.85480566 | AD6: =V6-W6-X6 -> 4.537323 | AE6: =AD6/V6 -> 0.14519434 | AF6: =IF(I6="","",IF(AC6="NC","NC",IF(OR(AC6<0,AC6>1),"Excluded",IF(OR(I6="Total COD",I6="Mixed"),"Lower bound",IF(OR(I6="Defined substrate",I6="Biodegradable COD"),"As calculated","CHECK"))))) -> As calculated
A7: 6 | B7: RedAzo_Dai2018 | C7: RedAzo_Dai_06 | D7: Dai et al., 2018 | E7: Batch | F7: Acid Orange 7 | G7: 600 | H7: Glucose | I7: Defined substrate | J7: Glucose 2000 + AO7 600 + AQS 300 μM | K7: 7.3 | L7: 38 | M7: 2 (batch incubation) | N7: Decolorization | O7: 0-48h | P7: 2000 | Q7: 0.913 | R7: =Q7*G7 -> 547.8 | S7: =R7/350.32*64 -> 100.07764 | T7: 0.908 | U7: =T7*P7 -> 1816 | V7: =P7/8 -> 250 | W7: =S7/8 -> 12.509705 | X7: =U7/8 -> 227 | Y7: =W7+X7 -> 239.50971 | Z7: =W7/V7 -> 0.050038822 | AA7: =X7/V7 -> 0.908 | AB7: =W7/Y7 -> 0.052230474 | AC7: =Y7/V7 -> 0.95803882 | AD7: =V7-W7-X7 -> 10.490295 | AE7: =AD7/V7 -> 0.041961178 | AF7: =IF(I7="","",IF(AC7="NC","NC",IF(OR(AC7<0,AC7>1),"Excluded",IF(OR(I7="Total COD",I7="Mixed"),"Lower bound",IF(OR(I7="Defined substrate",I7="Biodegradable COD"),"As calculated","CHECK"))))) -> As calculated
A8: 7 | B8: RedAzo_Dai2018 | C8: RedAzo_Dai_07 | D8: Dai et al., 2018 | E8: Batch | F8: Acid Orange 7 | G8: 200 | H8: Glucose | I8: Defined substrate | J8: Glucose 250 + AO7 200 + AQS 162.5 μM | K8: 7.3 | L8: 38 | M8: 2 (batch incubation) | N8: Decolorization | O8: 0-48h | P8: 250 | Q8: 0.852 | R8: =Q8*G8 -> 170.4 | S8: =R8/350.32*64 -> 31.130395 | T8: 0.76 | U8: =T8*P8 -> 190 | V8: =P8/8 -> 31.25 | W8: =S8/8 -> 3.8912994 | X8: =U8/8 -> 23.75 | Y8: =W8+X8 -> 27.641299 | Z8: =W8/V8 -> 0.12452158 | AA8: =X8/V8 -> 0.76 | AB8: =W8/Y8 -> 0.14077845 | AC8: =Y8/V8 -> 0.88452158 | AD8: =V8-W8-X8 -> 3.6087006 | AE8: =AD8/V8 -> 0.11547842 | AF8: =IF(I8="","",IF(AC8="NC","NC",IF(OR(AC8<0,AC8>1),"Excluded",IF(OR(I8="Total COD",I8="Mixed"),"Lower bound",IF(OR(I8="Defined substrate",I8="Biodegradable COD"),"As calculated","CHECK"))))) -> As calculated
A9: 8 | B9: RedAzo_Dai2018 | C9: RedAzo_Dai_08 | D9: Dai et al., 2018 | E9: Batch | F9: Acid Orange 7 | G9: 200 | H9: Glucose | I9: Defined substrate | J9: Glucose 2000 + AO7 200 + AQS 162.5 μM | K9: 7.3 | L9: 38 | M9: 2 (batch incubation) | N9: Decolorization | O9: 0-48h | P9: 2000 | Q9: 0.91 | R9: =Q9*G9 -> 182 | S9: =R9/350.32*64 -> 33.2496 | T9: 0.957 | U9: =T9*P9 -> 1914 | V9: =P9/8 -> 250 | W9: =S9/8 -> 4.1562 | X9: =U9/8 -> 239.25 | Y9: =W9+X9 -> 243.4062 | Z9: =W9/V9 -> 0.0166248 | AA9: =X9/V9 -> 0.957 | AB9: =W9/Y9 -> 0.017075161 | AC9: =Y9/V9 -> 0.9736248 | AD9: =V9-W9-X9 -> 6.5938 | AE9: =AD9/V9 -> 0.0263752 | AF9: =IF(I9="","",IF(AC9="NC","NC",IF(OR(AC9<0,AC9>1),"Excluded",IF(OR(I9="Total COD",I9="Mixed"),"Lower bound",IF(OR(I9="Defined substrate",I9="Biodegradable COD"),"As calculated","CHECK"))))) -> As calculated
A10: 9 | B10: RedAzo_Dai2018 | C10: RedAzo_Dai_09 | D10: Dai et al., 2018 | E10: Batch | F10: Acid Orange 7 | G10: 1000 | H10: Glucose | I10: Defined substrate | J10: Glucose 250 + AO7 1000 + AQS 162.5 μM | K10: 7.3 | L10: 38 | M10: 2 (batch incubation) | N10: Decolorization | O10: 0-48h | P10: 250 | Q10: 0.278 | R10: =Q10*G10 -> 278 | S10: =R10/350.32*64 -> 50.787851 | T10: 0.468 | U10: =T10*P10 -> 117 | V10: =P10/8 -> 31.25 | W10: =S10/8 -> 6.3484814 | X10: =U10/8 -> 14.625 | Y10: =W10+X10 -> 20.973481 | Z10: =W10/V10 -> 0.2031514 | AA10: =X10/V10 -> 0.468 | AB10: =W10/Y10 -> 0.30269087 | AC10: =Y10/V10 -> 0.6711514 | AD10: =V10-W10-X10 -> 10.276519 | AE10: =AD10/V10 -> 0.3288486 | AF10: =IF(I10="","",IF(AC10="NC","NC",IF(OR(AC10<0,AC10>1),"Excluded",IF(OR(I10="Total COD",I10="Mixed"),"Lower bound",IF(OR(I10="Defined substrate",I10="Biodegradable COD"),"As calculated","CHECK"))))) -> As calculated
A11: 10 | B11: RedAzo_Dai2018 | C11: RedAzo_Dai_10 | D11: Dai et al., 2018 | E11: Batch | F11: Acid Orange 7 | G11: 1000 | H11: Glucose | I11: Defined substrate | J11: Glucose 2000 + AO7 1000 + AQS 162.5 μM | K11: 7.3 | L11: 38 | M11: 2 (batch incubation) | N11: Decolorization | O11: 0-48h | P11: 2000 | Q11: 0.806 | R11: =Q11*G11 -> 806 | S11: =R11/350.32*64 -> 147.24823 | T11: 0.731 | U11: =T11*P11 -> 1462 | V11: =P11/8 -> 250 | W11: =S11/8 -> 18.406029 | X11: =U11/8 -> 182.75 | Y11: =W11+X11 -> 201.15603 | Z11: =W11/V11 -> 0.073624115 | AA11: =X11/V11 -> 0.731 | AB11: =W11/Y11 -> 0.091501253 | AC11: =Y11/V11 -> 0.80462412 | AD11: =V11-W11-X11 -> 48.843971 | AE11: =AD11/V11 -> 0.19537588 | AF11: =IF(I11="","",IF(AC11="NC","NC",IF(OR(AC11<0,AC11>1),"Excluded",IF(OR(I11="Total COD",I11="Mixed"),"Lower bound",IF(OR(I11="Defined substrate",I11="Biodegradable COD"),"As calculated","CHECK"))))) -> As calculated
A12: 11 | B12: RedAzo_Dai2018 | C12: RedAzo_Dai_11 | D12: Dai et al., 2018 | E12: Batch | F12: Acid Orange 7 | G12: 200 | H12: Glucose | I12: Defined substrate | J12: Glucose 1125 + AO7 200 + AQS 25 μM | K12: 7.3 | L12: 38 | M12: 2 (batch incubation) | N12: Decolorization | O12: 0-48h | P12: 1125 | Q12: 0.911 | R12: =Q12*G12 -> 182.2 | S12: =R12/350.32*64 -> 33.286138 | T12: 0.95 | U12: =T12*P12 -> 1068.75 | V12: =P12/8 -> 140.625 | W12: =S12/8 -> 4.1607673 | X12: =U12/8 -> 133.59375 | Y12: =W12+X12 -> 137.75452 | Z12: =W12/V12 -> 0.029587679 | AA12: =X12/V12 -> 0.95 | AB12: =W12/Y12 -> 0.030204217 | AC12: =Y12/V12 -> 0.97958768 | AD12: =V12-W12-X12 -> 2.8704827 | AE12: =AD12/V12 -> 0.020412321 | AF12: =IF(I12="","",IF(AC12="NC","NC",IF(OR(AC12<0,AC12>1),"Excluded",IF(OR(I12="Total COD",I12="Mixed"),"Lower bound",IF(OR(I12="Defined substrate",I12="Biodegradable COD"),"As calculated","CHECK"))))) -> As calculated
A13: 12 | B13: RedAzo_Dai2018 | C13: RedAzo_Dai_12 | D13: Dai et al., 2018 | E13: Batch | F13: Acid Orange 7 | G13: 200 | H13: Glucose | I13: Defined substrate | J13: Glucose 1125 + AO7 200 + AQS 300 μM | K13: 7.3 | L13: 38 | M13: 2 (batch incubation) | N13: Decolorization | O13: 0-48h | P13: 1125 | Q13: 0.943 | R13: =Q13*G13 -> 188.6 | S13: =R13/350.32*64 -> 34.455355 | T13: 0.944 | U13: =T13*P13 -> 1062 | V13: =P13/8 -> 140.625 | W13: =S13/8 -> 4.3069194 | X13: =U13/8 -> 132.75 | Y13: =W13+X13 -> 137.05692 | Z13: =W13/V13 -> 0.030626982 | AA13: =X13/V13 -> 0.944 | AB13: =W13/Y13 -> 0.031424312 | AC13: =Y13/V13 -> 0.97462698 | AD13: =V13-W13-X13 -> 3.5680806 | AE13: =AD13/V13 -> 0.025373018 | AF13: =IF(I13="","",IF(AC13="NC","NC",IF(OR(AC13<0,AC13>1),"Excluded",IF(OR(I13="Total COD",I13="Mixed"),"Lower bound",IF(OR(I13="Defined substrate",I13="Biodegradable COD"),"As calculated","CHECK"))))) -> As calculated
A14: 13 | B14: RedAzo_Dai2018 | C14: RedAzo_Dai_13 | D14: Dai et al., 2018 | E14: Batch | F14: Acid Orange 7 | G14: 1000 | H14: Glucose | I14: Defined substrate | J14: Glucose 1125 + AO7 1000 + AQS 25 μM | K14: 7.3 | L14: 38 | M14: 2 (batch incubation) | N14: Decolorization | O14: 0-48h | P14: 1125 | Q14: 0.467 | R14: =Q14*G14 -> 467 | S14: =R14/350.32*64 -> 85.316282 | T14: 0.442 | U14: =T14*P14 -> 497.25 | V14: =P14/8 -> 140.625 | W14: =S14/8 -> 10.664535 | X14: =U14/8 -> 62.15625 | Y14: =W14+X14 -> 72.820785 | Z14: =W14/V14 -> 0.075836695 | AA14: =X14/V14 -> 0.442 | AB14: =W14/Y14 -> 0.14644906 | AC14: =Y14/V14 -> 0.5178367 | AD14: =V14-W14-X14 -> 67.804215 | AE14: =AD14/V14 -> 0.4821633 | AF14: =IF(I14="","",IF(AC14="NC","NC",IF(OR(AC14<0,AC14>1),"Excluded",IF(OR(I14="Total COD",I14="Mixed"),"Lower bound",IF(OR(I14="Defined substrate",I14="Biodegradable COD"),"As calculated","CHECK"))))) -> As calculated
A15: 14 | B15: RedAzo_Dai2018 | C15: RedAzo_Dai_14 | D15: Dai et al., 2018 | E15: Batch | F15: Acid Orange 7 | G15: 1000 | H15: Glucose | I15: Defined substrate | J15: Glucose 1125 + AO7 1000 + AQS 300 μM | K15: 7.3 | L15: 38 | M15: 2 (batch incubation) | N15: Decolorization | O15: 0-48h | P15: 1125 | Q15: 0.8 | R15: =Q15*G15 -> 800 | S15: =R15/350.32*64 -> 146.15209 | T15: 0.814 | U15: =T15*P15 -> 915.75 | V15: =P15/8 -> 140.625 | W15: =S15/8 -> 18.269011 | X15: =U15/8 -> 114.46875 | Y15: =W15+X15 -> 132.73776 | Z15: =W15/V15 -> 0.12991297 | AA15: =X15/V15 -> 0.814 | AB15: =W15/Y15 -> 0.13763236 | AC15: =Y15/V15 -> 0.94391297 | AD15: =V15-W15-X15 -> 7.8872388 | AE15: =AD15/V15 -> 0.056087032 | AF15: =IF(I15="","",IF(AC15="NC","NC",IF(OR(AC15<0,AC15>1),"Excluded",IF(OR(I15="Total COD",I15="Mixed"),"Lower bound",IF(OR(I15="Defined substrate",I15="Biodegradable COD"),"As calculated","CHECK"))))) -> As calculated
... A21: 20 | B21: RedAzo_Dai2018 | C21: RedAzo_Dai_20 | D21: Dai et al., 2018 | E21: Batch | F21: Acid Orange 7 | G21: 300 | H21: Glucose | I21: Defined substrate | J21: Glucose 500 + AO7 300 + AQS 100 μM | K21: 7.3 | L21: 38 | M21: 2 (batch incubation) | N21: Decolorization | O21: 0-48h | P21: 500 | Q21: 0.795 | R21: =Q21*G21 -> 238.5 | S21: =R21/350.32*64 -> 43.571592 | T21: 0.795 | U21: =T21*P21 -> 397.5 | V21: =P21/8 -> 62.5 | W21: =S21/8 -> 5.446449 | X21: =U21/8 -> 49.6875 | Y21: =W21+X21 -> 55.133949 | Z21: =W21/V21 -> 0.087143183 | AA21: =X21/V21 -> 0.795 | AB21: =W21/Y21 -> 0.098785758 | AC21: =Y21/V21 -> 0.88214318 | AD21: =V21-W21-X21 -> 7.366051 | AE21: =AD21/V21 -> 0.11785682 | AF21: =IF(I21="","",IF(AC21="NC","NC",IF(OR(AC21<0,AC21>1),"Excluded",IF(OR(I21="Total COD",I21="Mixed"),"Lower bound",IF(OR(I21="Defined substrate",I21="Biodegradable COD"),"As calculated","CHECK"))))) -> As calculated
B23: NR=not reported in the source study; NC=not calculable from the reported data; NA=Not applicable to the system ; R-DIG = Reported graphically; digitization required
B28: Defined substrate: chemically defined substrate, assumed to be fully biodegradable (e.g., glucose, ethanol, acetate, lactate, H2). Total COD: real waste or wastewater containing a non-biodegradable fraction; no biodegradability correction applied. Biodegradable COD: corrected for biodegradability, e.g., based on BMP, BOD, or the degradable fraction reported in the source study. Mixed: E_in comprises both defined and real-waste components, e.g., oil + food waste, or ethanol + wastewater.

Sheet Reductive_Denitrification
A1: No. | B1: Study ID | C1: Case ID | D1: Reference (Author, Year) | E1: Mode | F1: inf. NH4 (mg/L) | G1: Substrate | H1: E_in basis (COD type) | I1: Sample | J1: pH | K1: T (C) | L1: HRT (d) | M1: Main objective | N1: Analysis window | O1: OLR reported (kgCOD/m3/d) | P1: COD_input (mgCOD/L/d or mgCOD/L) | Q1: NOx-N reduced (mg-N/m³/d or mg-N/L) | R1: ν_DN (gCOD/gN) | S1: NOx-N reduced (mgCOD/L/d or mgCOD/L) | T1: Organic removal rate (kgCOD/m3/d) | U1: CH4 yield (m3CH4/kgCOD or mL/L) | V1: CH4 COD rate (mgCOD/L/d or mgCOD/L) | W1: E_in (mmol e-/L/d) | X1: E_target (mmol e-/L/d) | Y1: E_competing (mmol e-/L/d) | Z1: E_expressed (mmol e-/L/d) | AA1: f_target | AB1: f_competing | AC1: A_target | AD1: f_expressed | AE1: E_unresolved (mmol e-/L) | AF1: f_unresolved | AG1: Interpretation of f_target, f_expressed
A2: 1 | B2: RedDen_Wu2022 | C2: RedDen_Wu_01 | D2: Wu et al., 2022 | E2: Continuous | F2: 50 | G2: Glucose + sodium acetate (8:2 COD) | H2: Defined substrate | I2: Stage I, C/N = 40 | J2: NR (influent>9) | K2: 30 | L2: 1 | M2: Denitrification | N2: Stage I operational period | O2: 2.055 | P2: =O2*1000 -> 2055 | Q2: =0.0375*1000 -> 37.5 | R2: 2.857 | S2: =Q2*R2 -> 107.1375 | T2: 1.7525 | U2: 0.23 | V2: =T2*U2*64000/22.4 -> 1151.6429 | W2: =P2/8 -> 256.875 | X2: =S2/8 -> 13.392188 | Y2: =V2/8 -> 143.95536 | Z2: =X2+Y2 -> 157.34754 | AA2: =X2/W2 -> 0.052135036 | AB2: =Y2/W2 -> 0.56041015 | AC2: =X2/Z2 -> 0.085112148 | AD2: =Z2/W2 -> 0.61254519 | AE2: =W2-X2-Y2 -> 99.527455 | AF2: =AE2/W2 -> 0.38745481 | AG2: =IF(H2="","",IF(AD2="NC","NC",IF(OR(AD2<0,AD2>1),"Excluded",IF(OR(H2="Total COD",H2="Mixed"),"Lower bound",IF(OR(H2="Defined substrate",H2="Biodegradable COD"),"As calculated","CHECK"))))) -> As calculated
A3: 2 | B3: RedDen_Wu2022 | C3: RedDen_Wu_02 | D3: Wu et al., 2022 | E3: Continuous | F3: 200 | G3: Glucose + sodium acetate (8:2 COD) | H3: Defined substrate | I3: Stage II, C/N = 10 | J3: NR (influent>9) | K3: 30 | L3: 1 | M3: Denitrification | N3: Stage II operational period | O3: 2.0972 | P3: =O3*1000 -> 2097.2 | Q3: =0.1115*1000 -> 111.5 | R3: 2.857 | S3: =Q3*R3 -> 318.5555 | T3: 1.5674 | U3: 0.18 | V3: =T3*U3*64000/22.4 -> 806.09143 | W3: =P3/8 -> 262.15 | X3: =S3/8 -> 39.819437 | Y3: =V3/8 -> 100.76143 | Z3: =X3+Y3 -> 140.58087 | AA3: =X3/W3 -> 0.15189562 | AB3: =Y3/W3 -> 0.38436555 | AC3: =X3/Z3 -> 0.28324934 | AD3: =Z3/W3 -> 0.53626117 | AE3: =W3-X3-Y3 -> 121.56913 | AF3: =AE3/W3 -> 0.46373883 | AG3: =IF(H3="","",IF(AD3="NC","NC",IF(OR(AD3<0,AD3>1),"Excluded",IF(OR(H3="Total COD",H3="Mixed"),"Lower bound",IF(OR(H3="Defined substrate",H3="Biodegradable COD"),"As calculated","CHECK"))))) -> As calculated
A4: 3 | B4: RedDen_Wu2022 | C4: RedDen_Wu_03 | D4: Wu et al., 2022 | E4: Continuous | F4: 400 | G4: Glucose + sodium acetate (8:2 COD) | H4: Defined substrate | I4: Stage III, C/N = 5 | J4: NR (influent>9) | K4: 30 | L4: 1 | M4: Denitrification | N4: Stage III operational period | O4: 2.1416 | P4: =O4*1000 -> 2141.6 | Q4: =0.2398*1000 -> 239.8 | R4: 2.857 | S4: =Q4*R4 -> 685.1086 | T4: 1.7986 | U4: 0.12 | V4: =T4*U4*64000/22.4 -> 616.66286 | W4: =P4/8 -> 267.7 | X4: =S4/8 -> 85.638575 | Y4: =V4/8 -> 77.082857 | Z4: =X4+Y4 -> 162.72143 | AA4: =X4/W4 -> 0.31990502 | AB4: =Y4/W4 -> 0.28794493 | AC4: =X4/Z4 -> 0.52628946 | AD4: =Z4/W4 -> 0.60784995 | AE4: =W4-X4-Y4 -> 104.97857 | AF4: =AE4/W4 -> 0.39215005 | AG4: =IF(H4="","",IF(AD4="NC","NC",IF(OR(AD4<0,AD4>1),"Excluded",IF(OR(H4="Total COD",H4="Mixed"),"Lower bound",IF(OR(H4="Defined substrate",H4="Biodegradable COD"),"As calculated","CHECK"))))) -> As calculated
A5: 4 | B5: RedDen_Xie2012 | C5: RedDen_Xie_01 | D5: Xie et al., 2012 | E5: Batch | F5: NR | G5: Anaerobic effluent of cassava stillage | H5: Total COD | I5: COD/NO3-N = 3 | J5: 7.8 | K5: 35 | L5: 2 (batch incubation) | M5: Denitrification | N5: From batch initiation to 19 h | O5: NA | P5: 3800 | Q5: =1266.67*0.261 -> 330.60087 | R5: 2.857 | S5: =Q5*R5 -> 944.52669 | T5: NA | U5: =0/0.4 -> 0 | V5: =U5/22.414*64 -> 0 | W5: =P5/8 -> 475 | X5: =S5/8 -> 118.06584 | Y5: =V5/8 -> 0 | Z5: =X5+Y5 -> 118.06584 | AA5: =X5/W5 -> 0.24855965 | AB5: =Y5/W5 -> 0 | AC5: =X5/Z5 -> 1 | AD5: =Z5/W5 -> 0.24855965 | AE5: =W5-X5-Y5 -> 356.93416 | AF5: =AE5/W5 -> 0.75144035 | AG5: =IF(H5="","",IF(AD5="NC","NC",IF(OR(AD5<0,AD5>1),"Excluded",IF(OR(H5="Total COD",H5="Mixed"),"Lower bound",IF(OR(H5="Defined substrate",H5="Biodegradable COD"),"As calculated","CHECK"))))) -> Lower bound
A6: 5 | B6: RedDen_Xie2012 | C6: RedDen_Xie_02 | D6: Xie et al., 2012 | E6: Batch | F6: NR | G6: Anaerobic effluent of cassava stillage | H6: Total COD | I6: COD/NO3-N = 5 | J6: 7.8 | K6: 35 | L6: 2 (batch incubation) | M6: Denitrification | N6: From batch initiation to 19 h | O6: NA | P6: 3800 | Q6: =760*0.377 -> 286.52 | R6: 2.857 | S6: =Q6*R6 -> 818.58764 | T6: NA | U6: =0/0.4 -> 0 | V6: =U6/22.414*64 -> 0 | W6: =P6/8 -> 475 | X6: =S6/8 -> 102.32345 | Y6: =V6/8 -> 0 | Z6: =X6+Y6 -> 102.32345 | AA6: =X6/W6 -> 0.2154178 | AB6: =Y6/W6 -> 0 | AC6: =X6/Z6 -> 1 | AD6: =Z6/W6 -> 0.2154178 | AE6: =W6-X6-Y6 -> 372.67655 | AF6: =AE6/W6 -> 0.7845822 | AG6: =IF(H6="","",IF(AD6="NC","NC",IF(OR(AD6<0,AD6>1),"Excluded",IF(OR(H6="Total COD",H6="Mixed"),"Lower bound",IF(OR(H6="Defined substrate",H6="Biodegradable COD"),"As calculated","CHECK"))))) -> Lower bound
A7: 6 | B7: RedDen_Xie2012 | C7: RedDen_Xie_03 | D7: Xie et al., 2012 | E7: Batch | F7: NR | G7: Anaerobic effluent of cassava stillage | H7: Total COD | I7: COD/NO3-N = 8 | J7: 7.8 | K7: 35 | L7: 2 (batch incubation) | M7: Denitrification | N7: From batch initiation to 19 h | O7: NA | P7: 3800 | Q7: =475*0.645 -> 306.375 | R7: 2.857 | S7: =Q7*R7 -> 875.31338 | T7: NA | U7: =0/0.4 -> 0 | V7: =U7/22.414*64 -> 0 | W7: =P7/8 -> 475 | X7: =S7/8 -> 109.41417 | Y7: =V7/8 -> 0 | Z7: =X7+Y7 -> 109.41417 | AA7: =X7/W7 -> 0.23034563 | AB7: =Y7/W7 -> 0 | AC7: =X7/Z7 -> 1 | AD7: =Z7/W7 -> 0.23034563 | AE7: =W7-X7-Y7 -> 365.58583 | AF7: =AE7/W7 -> 0.76965438 | AG7: =IF(H7="","",IF(AD7="NC","NC",IF(OR(AD7<0,AD7>1),"Excluded",IF(OR(H7="Total COD",H7="Mixed"),"Lower bound",IF(OR(H7="Defined substrate",H7="Biodegradable COD"),"As calculated","CHECK"))))) -> Lower bound
A8: 7 | B8: RedDen_Xie2012 | C8: RedDen_Xie_04 | D8: Xie et al., 2012 | E8: Batch | F8: NR | G8: Anaerobic effluent of cassava stillage | H8: Total COD | I8: COD/NO3-N = 19 | J8: 7.8 | K8: 35 | L8: 2 (batch incubation) | M8: Denitrification | N8: From batch initiation to 19 h | O8: NA | P8: 3800 | Q8: =200*0.945 -> 189 | R8: 2.857 | S8: =Q8*R8 -> 539.973 | T8: NA | U8: =0/0.4 -> 0 | V8: =U8/22.414*64 -> 0 | W8: =P8/8 -> 475 | X8: =S8/8 -> 67.496625 | Y8: =V8/8 -> 0 | Z8: =X8+Y8 -> 67.496625 | AA8: =X8/W8 -> 0.14209816 | AB8: =Y8/W8 -> 0 | AC8: =X8/Z8 -> 1 | AD8: =Z8/W8 -> 0.14209816 | AE8: =W8-X8-Y8 -> 407.50338 | AF8: =AE8/W8 -> 0.85790184 | AG8: =IF(H8="","",IF(AD8="NC","NC",IF(OR(AD8<0,AD8>1),"Excluded",IF(OR(H8="Total COD",H8="Mixed"),"Lower bound",IF(OR(H8="Defined substrate",H8="Biodegradable COD"),"As calculated","CHECK"))))) -> Lower bound
A9: 8 | B9: RedDen_Xie2012 | C9: RedDen_Xie_05 | D9: Xie et al., 2012 | E9: Batch | F9: NR | G9: Anaerobic effluent of cassava stillage | H9: Total COD | I9: COD/NO3-N = 55 | J9: 7.8 | K9: 35 | L9: 2 (batch incubation) | M9: Denitrification | N9: From batch initiation to 19 h | O9: NA | P9: 3800 | Q9: =69.09*0.953 -> 65.84277 | R9: 2.857 | S9: =Q9*R9 -> 188.11279 | T9: NA | U9: =0/0.4 -> 0 | V9: =U9/22.414*64 -> 0 | W9: =P9/8 -> 475 | X9: =S9/8 -> 23.514099 | Y9: =V9/8 -> 0 | Z9: =X9+Y9 -> 23.514099 | AA9: =X9/W9 -> 0.049503367 | AB9: =Y9/W9 -> 0 | AC9: =X9/Z9 -> 1 | AD9: =Z9/W9 -> 0.049503367 | AE9: =W9-X9-Y9 -> 451.4859 | AF9: =AE9/W9 -> 0.95049663 | AG9: =IF(H9="","",IF(AD9="NC","NC",IF(OR(AD9<0,AD9>1),"Excluded",IF(OR(H9="Total COD",H9="Mixed"),"Lower bound",IF(OR(H9="Defined substrate",H9="Biodegradable COD"),"As calculated","CHECK"))))) -> Lower bound
A10: 9 | B10: RedDen_Xie2012 | C10: RedDen_Xie_06 | D10: Xie et al., 2012 | E10: Batch | F10: NR | G10: Glucose | H10: Defined substrate | I10: COD/NO3-N = 3 | J10: 7.8 | K10: 35 | L10: 2 (batch incubation) | M10: Denitrification | N10: From batch initiation to 19 h | O10: NA | P10: 3800 | Q10: =1266.67*0.459 -> 581.40153 | R10: 2.857 | S10: =Q10*R10 -> 1661.0642 | T10: NA | U10: =0/0.4 -> 0 | V10: =U10/22.414*64 -> 0 | W10: =P10/8 -> 475 | X10: =S10/8 -> 207.63302 | Y10: =V10/8 -> 0 | Z10: =X10+Y10 -> 207.63302 | AA10: =X10/W10 -> 0.43712215 | AB10: =Y10/W10 -> 0 | AC10: =X10/Z10 -> 1 | AD10: =Z10/W10 -> 0.43712215 | AE10: =W10-X10-Y10 -> 267.36698 | AF10: =AE10/W10 -> 0.56287785 | AG10: =IF(H10="","",IF(AD10="NC","NC",IF(OR(AD10<0,AD10>1),"Excluded",IF(OR(H10="Total COD",H10="Mixed"),"Lower bound",IF(OR(H10="Defined substrate",H10="Biodegradable COD"),"As calculated","CHECK"))))) -> As calculated
A11: 10 | B11: RedDen_Xie2012 | C11: RedDen_Xie_07 | D11: Xie et al., 2012 | E11: Batch | F11: NR | G11: Glucose | H11: Defined substrate | I11: COD/NO3-N = 5 | J11: 7.8 | K11: 35 | L11: 2 (batch incubation) | M11: Denitrification | N11: From batch initiation to 19 h | O11: NA | P11: 3800 | Q11: =760*0.783 -> 595.08 | R11: 2.857 | S11: =Q11*R11 -> 1700.1436 | T11: NA | U11: =0/0.4 -> 0 | V11: =U11/22.414*64 -> 0 | W11: =P11/8 -> 475 | X11: =S11/8 -> 212.51795 | Y11: =V11/8 -> 0 | Z11: =X11+Y11 -> 212.51795 | AA11: =X11/W11 -> 0.4474062 | AB11: =Y11/W11 -> 0 | AC11: =X11/Z11 -> 1 | AD11: =Z11/W11 -> 0.4474062 | AE11: =W11-X11-Y11 -> 262.48205 | AF11: =AE11/W11 -> 0.5525938 | AG11: =IF(H11="","",IF(AD11="NC","NC",IF(OR(AD11<0,AD11>1),"Excluded",IF(OR(H11="Total COD",H11="Mixed"),"Lower bound",IF(OR(H11="Defined substrate",H11="Biodegradable COD"),"As calculated","CHECK"))))) -> As calculated
A12: 11 | B12: RedDen_Xie2012 | C12: RedDen_Xie_08 | D12: Xie et al., 2012 | E12: Batch | F12: NR | G12: Glucose | H12: Defined substrate | I12: COD/NO3-N = 7 | J12: 7.8 | K12: 35 | L12: 2 (batch incubation) | M12: Denitrification | N12: From batch initiation to 19 h | O12: NA | P12: 3800 | Q12: =542.86*99.3/100 -> 539.05998 | R12: 2.857 | S12: =Q12*R12 -> 1540.0944 | T12: NA | U12: =0.8/0.4 -> 2 | V12: =U12/22.414*64 -> 5.7107165 | W12: =P12/8 -> 475 | X12: =S12/8 -> 192.5118 | Y12: =V12/8 -> 0.71383956 | Z12: =X12+Y12 -> 193.22563 | AA12: =X12/W12 -> 0.40528799 | AB12: =Y12/W12 -> 0.0015028201 | AC12: =X12/Z12 -> 0.99630567 | AD12: =Z12/W12 -> 0.40679081 | AE12: =W12-X12-Y12 -> 281.77437 | AF12: =AE12/W12 -> 0.59320919 | AG12: =IF(H12="","",IF(AD12="NC","NC",IF(OR(AD12<0,AD12>1),"Excluded",IF(OR(H12="Total COD",H12="Mixed"),"Lower bound",IF(OR(H12="Defined substrate",H12="Biodegradable COD"),"As calculated","CHECK"))))) -> As calculated
A13: 12 | B13: RedDen_Xie2012 | C13: RedDen_Xie_09 | D13: Xie et al., 2012 | E13: Batch | F13: NR | G13: Glucose | H13: Defined substrate | I13: COD/NO3-N = 18 | J13: 7.8 | K13: 35 | L13: 2 (batch incubation) | M13: Denitrification | N13: From batch initiation to 19 h | O13: NA | P13: 3800 | Q13: =211.11*1 -> 211.11 | R13: 2.857 | S13: =Q13*R13 -> 603.14127 | T13: NA | U13: =32.4/0.4 -> 81 | V13: =U13/22.414*64 -> 231.28402 | W13: =P13/8 -> 475 | X13: =S13/8 -> 75.392659 | Y13: =V13/8 -> 28.910502 | Z13: =X13+Y13 -> 104.30316 | AA13: =X13/W13 -> 0.15872139 | AB13: =Y13/W13 -> 0.060864216 | AC13: =X13/Z13 -> 0.72282238 | AD13: =Z13/W13 -> 0.2195856 | AE13: =W13-X13-Y13 -> 370.69684 | AF13: =AE13/W13 -> 0.7804144 | AG13: =IF(H13="","",IF(AD13="NC","NC",IF(OR(AD13<0,AD13>1),"Excluded",IF(OR(H13="Total COD",H13="Mixed"),"Lower bound",IF(OR(H13="Defined substrate",H13="Biodegradable COD"),"As calculated","CHECK"))))) -> As calculated
A14: 13 | B14: RedDen_Xie2012 | C14: RedDen_Xie_10 | D14: Xie et al., 2012 | E14: Batch | F14: NR | G14: Glucose | H14: Defined substrate | I14: COD/NO3-N = 50 | J14: 7.8 | K14: 35 | L14: 2 (batch incubation) | M14: Denitrification | N14: From batch initiation to 19 h | O14: NA | P14: 3800 | Q14: =76*1 -> 76 | R14: 2.857 | S14: =Q14*R14 -> 217.132 | T14: NA | U14: =78.2/0.4 -> 195.5 | V14: =U14/22.414*64 -> 558.22254 | W14: =P14/8 -> 475 | X14: =S14/8 -> 27.1415 | Y14: =V14/8 -> 69.777817 | Z14: =X14+Y14 -> 96.919317 | AA14: =X14/W14 -> 0.05714 | AB14: =Y14/W14 -> 0.14690067 | AC14: =X14/Z14 -> 0.28004221 | AD14: =Z14/W14 -> 0.20404067 | AE14: =W14-X14-Y14 -> 378.08068 | AF14: =AE14/W14 -> 0.79595933 | AG14: =IF(H14="","",IF(AD14="NC","NC",IF(OR(AD14<0,AD14>1),"Excluded",IF(OR(H14="Total COD",H14="Mixed"),"Lower bound",IF(OR(H14="Defined substrate",H14="Biodegradable COD"),"As calculated","CHECK"))))) -> As calculated
B16: NR=not reported in the source study; NC=not calculable from the reported data; NA=Not applicable to the system ; R-DIG = Reported graphically; digitization required
B21: Defined substrate: chemically defined substrate, assumed to be fully biodegradable (e.g., glucose, ethanol, acetate, lactate, H2). Total COD: real waste or wastewater containing a non-biodegradable fraction; no biodegradability correction applied. Biodegradable COD: corrected for biodegradability, e.g., based on BMP, BOD, or the degradable fraction reported in the source study. Mixed: E_in comprises both defined and real-waste components, e.g., oil + food waste, or ethanol + wastewater.

Sheet Reductive_Iron
A1: No. | B1: Study ID | C1: Case ID | D1: Reference (Author, Year) | E1: Mode | F1: Iron conc. (mg/L) | G1: Substrate | H1: E_in basis (COD type) | I1: Sample | J1: pH | K1: T (C) | L1: HRT/SRT (d) | M1: Main objective | N1: Analysis window | O1: COD_input (mgCOD/L) | P1: Fe(II), day 0 (mg/L) | Q1: Fe(II), day 20 (mg/L) | R1: Fe(II) formation (mg/L) | S1: CH4 yield at day 38 (mL/gVSS) | T1: VSS_input (gVSS/L) | U1: CH4 (mL/L) | V1: CH4 (mgCOD/L) | W1: E_in (mmol e-/L) | X1: E_target (mmol e-/L) | Y1: E_competing (mmol e-/L) | Z1: E_expressed (mmol e-/L) | AA1: f_target | AB1: f_competing | AC1: A_target | AD1: f_expressed | AE1: E_unresolved (mmol e-/L) | AF1: f_unresolved | AG1: Interpretation of f_target, f_expressed
A2: 1 | B2: RedFe_Wang2024 | C2: RedFe_Wang_01 | D2: Wang et al., 2024 | E2: Batch | F2: 35 | G2: WAS | H2: Total COD | I2: 35 mg/L Fe(III) | J2: 7 | K2: 37 | L2: NA | M2: Methanogenesis | N2: 0–38 d | O2: =(180/200*51100.94) + (20/200 * 38604.17) -> 49851.263 | P2: 500 | Q2: 530 | R2: =Q2-P2 -> 30 | S2: 79.69 | T2: 36.262 | U2: =S2*T2 -> 2889.7188 | V2: =U2/22.4*64 -> 8256.3394 | W2: =O2/8 -> 6231.4079 | X2: =V2/8 -> 1032.0424 | Y2: =R2/55.845 -> 0.53720118 | Z2: =Y2+X2 -> 1032.5796 | AA2: =X2/W2 -> 0.16561946 | AB2: =Y2/W2 -> 8.6208637e-05 | AC2: =X2/Z2 -> 0.99947975 | AD2: =Z2/W2 -> 0.16570567 | AE2: =W2-Y2-X2 -> 5198.8283 | AF2: =AE2/W2 -> 0.83429433 | AG2: =IF(H2="","",IF(AD2="NC","NC",IF(OR(AD2<0,AD2>1),"Excluded",IF(OR(H2="Total COD",H2="Mixed"),"Lower bound",IF(OR(H2="Defined substrate",H2="Biodegradable COD"),"As calculated","CHECK"))))) -> Lower bound
A3: 2 | B3: RedFe_Wang2024 | C3: RedFe_Wang_02 | D3: Wang et al., 2024 | E3: Batch | F3: 750 | G3: WAS | H3: Total COD | I3: 750 mg/L Fe(III) | J3: 7 | K3: 37 | L3: NA | M3: Methanogenesis | N3: 0–38 d | O3: =(180/200*51100.94) + (20/200 * 38604.17) -> 49851.263 | P3: 500 | Q3: 1200 | R3: =Q3-P3 -> 700 | S3: 83.25 | T3: 36.262 | U3: =S3*T3 -> 3018.8115 | V3: =U3/22.4*64 -> 8625.1757 | W3: =O3/8 -> 6231.4079 | X3: =V3/8 -> 1078.147 | Y3: =R3/55.845 -> 12.534694 | Z3: =Y3+X3 -> 1090.6817 | AA3: =X3/W3 -> 0.1730182 | AB3: =Y3/W3 -> 0.0020115349 | AC3: =X3/Z3 -> 0.98850747 | AD3: =Z3/W3 -> 0.17502973 | AE3: =W3-Y3-X3 -> 5140.7262 | AF3: =AE3/W3 -> 0.82497027 | AG3: =IF(H3="","",IF(AD3="NC","NC",IF(OR(AD3<0,AD3>1),"Excluded",IF(OR(H3="Total COD",H3="Mixed"),"Lower bound",IF(OR(H3="Defined substrate",H3="Biodegradable COD"),"As calculated","CHECK"))))) -> Lower bound
A4: 3 | B4: RedFe_Wang2024 | C4: RedFe_Wang_03 | D4: Wang et al., 2024 | E4: Batch | F4: 1470 | G4: WAS | H4: Total COD | I4: 1470 mg/L Fe(III) | J4: 7 | K4: 37 | L4: NA | M4: Methanogenesis | N4: 0–38 d | O4: =(180/200*51100.94) + (20/200 * 38604.17) -> 49851.263 | P4: 500 | Q4: 1950 | R4: =Q4-P4 -> 1450 | S4: 75.28 | T4: 36.262 | U4: =S4*T4 -> 2729.8034 | V4: =U4/22.4*64 -> 7799.4382 | W4: =O4/8 -> 6231.4079 | X4: =V4/8 -> 974.92977 | Y4: =R4/55.845 -> 25.964724 | Z4: =Y4+X4 -> 1000.8945 | AA4: =X4/W4 -> 0.15645417 | AB4: =Y4/W4 -> 0.0041667508 | AC4: =X4/Z4 -> 0.97405848 | AD4: =Z4/W4 -> 0.16062092 | AE4: =W4-Y4-X4 -> 5230.5134 | AF4: =AE4/W4 -> 0.83937908 | AG4: =IF(H4="","",IF(AD4="NC","NC",IF(OR(AD4<0,AD4>1),"Excluded",IF(OR(H4="Total COD",H4="Mixed"),"Lower bound",IF(OR(H4="Defined substrate",H4="Biodegradable COD"),"As calculated","CHECK"))))) -> Lower bound
A5: 4 | B5: RedFe_Wang2024 | C5: RedFe_Wang_04 | D5: Wang et al., 2024 | E5: Batch | F5: 2180 | G5: WAS | H5: Total COD | I5: 2180 mg/L Fe(III) | J5: 7 | K5: 37 | L5: NA | M5: Methanogenesis | N5: 0–38 d | O5: =(180/200*51100.94) + (20/200 * 38604.17) -> 49851.263 | P5: 500 | Q5: 2620 | R5: =Q5-P5 -> 2120 | S5: 48.7 | T5: 36.262 | U5: =S5*T5 -> 1765.9594 | V5: =U5/22.4*64 -> 5045.5983 | W5: =O5/8 -> 6231.4079 | X5: =V5/8 -> 630.69979 | Y5: =R5/55.845 -> 37.962217 | Z5: =Y5+X5 -> 668.662 | AA5: =X5/W5 -> 0.10121305 | AB5: =Y5/W5 -> 0.006092077 | AC5: =X5/Z5 -> 0.9432266 | AD5: =Z5/W5 -> 0.10730513 | AE5: =W5-Y5-X5 -> 5562.7459 | AF5: =AE5/W5 -> 0.89269487 | AG5: =IF(H5="","",IF(AD5="NC","NC",IF(OR(AD5<0,AD5>1),"Excluded",IF(OR(H5="Total COD",H5="Mixed"),"Lower bound",IF(OR(H5="Defined substrate",H5="Biodegradable COD"),"As calculated","CHECK"))))) -> Lower bound
A6: 5 | B6: RedFe_Wang2024 | C6: RedFe_Wang_05 | D6: Wang et al., 2024 | E6: Batch | F6: 2900 | G6: WAS | H6: Total COD | I6: 2900 mg/L Fe(III) | J6: 7 | K6: 37 | L6: NA | M6: Methanogenesis | N6: 0–38 d | O6: =(180/200*51100.94) + (20/200 * 38604.17) -> 49851.263 | P6: 500 | Q6: 3330 | R6: =Q6-P6 -> 2830 | S6: 45 | T6: 36.262 | U6: =S6*T6 -> 1631.79 | V6: =U6/22.4*64 -> 4662.2571 | W6: =O6/8 -> 6231.4079 | X6: =V6/8 -> 582.78214 | Y6: =R6/55.845 -> 50.675978 | Z6: =Y6+X6 -> 633.45812 | AA6: =X6/W6 -> 0.093523351 | AB6: =Y6/W6 -> 0.0081323481 | AC6: =X6/Z6 -> 0.92000106 | AD6: =Z6/W6 -> 0.1016557 | AE6: =W6-Y6-X6 -> 5597.9498 | AF6: =AE6/W6 -> 0.8983443 | AG6: =IF(H6="","",IF(AD6="NC","NC",IF(OR(AD6<0,AD6>1),"Excluded",IF(OR(H6="Total COD",H6="Mixed"),"Lower bound",IF(OR(H6="Defined substrate",H6="Biodegradable COD"),"As calculated","CHECK"))))) -> Lower bound
A8: NR=not reported in the source study; NC=not calculable from the reported data; NA=Not applicable to the system ; R-DIG = Reported graphically; digitization required
A13: Defined substrate: chemically defined substrate, assumed to be fully biodegradable (e.g., glucose, ethanol, acetate, lactate, H2). Total COD: real waste or wastewater containing a non-biodegradable fraction; no biodegradability correction applied. Biodegradable COD: corrected for biodegradability, e.g., based on BMP, BOD, or the degradable fraction reported in the source study. Mixed: E_in comprises both defined and real-waste components, e.g., oil + food waste, or ethanol + wastewater.

Sheet Reductive_Sulfate
A1: No. | B1: Study ID | C1: Case ID | D1: Reference (Author, Year) | E1: Mode | F1: Sulfate conc. (mg/L) | G1: Substrate | H1: E_in basis (COD type) | I1: Sample | J1: pH | K1: T (C) | L1: HRT (d) | M1: Main objective | N1: Analysis window | O1: COD_input (mgCOD/L) | P1: Total sulfide-COD (%) | Q1: Sulfate removal (%) | R1: Sulfate removed (mg/L) | S1: Cumulative sulfide-COD (gCOD) | T1: Sulfide-COD or sulfate removed (mgCOD/L) | U1: Total CH₄-COD (%) | V1: CH4 (mL/d) | W1: CH4 (mL/L treated) | X1: CH4 (gCOD) | Y1: CH4 (mgCOD/L) | Z1: E_in (mmol e-/L) | AA1: E_target (mmol e-/L) | AB1: E_competing (mmol e-/L) | AC1: E_expressed (mmol e-/L) | AD1: f_target | AE1: f_competing | AF1: A_target | AG1: f_expressed | AH1: E_unresolved (mmol e-/L) | AI1: f_unresolved | AJ1: Interpretation of f_target, f_expressed
A2: 1 | B2: RedSR_Paepatung2022 | C2: RedSR_Paepatung_01 | D2: Paepatung et al., 2022 | E2: Semi-continuous | F2: 4500 | G2: Glucose | H2: Defined substrate | I2: Phase I – failure phase, no ZVI | J2: Influent 7.6-8 | K2: 28-30 | L2: 5 | M2: Methanogenesis | N2: Day 0–67 | O2: =311.85*1000/5.1 -> 61147.059 | P2: NA | Q2: NA | R2: NR | S2: 39.92 | T2: =S2*1000/5.1 -> 7827.451 | U2: NA | V2: NA | W2: NA | X2: 7.57 | Y2: =X2*1000/5.1 -> 1484.3137 | Z2: =O2/8 -> 7643.3824 | AA2: =Y2/8 -> 185.53922 | AB2: =T2/8 -> 978.43137 | AC2: =AA2+AB2 -> 1163.9706 | AD2: =AA2/Z2 -> 0.024274491 | AE2: =AB2/Z2 -> 0.12801026 | AF2: =AA2/AC2 -> 0.15940198 | AG2: =AC2/Z2 -> 0.15228475 | AH2: =Z2-AA2-AB2 -> 6479.4118 | AI2: =AH2/Z2 -> 0.84771525 | AJ2: =IF(H2="","",IF(AG2="NC","NC",IF(OR(AG2<0,AG2>1),"Excluded",IF(OR(H2="Total COD",H2="Mixed"),"Lower bound",IF(OR(H2="Defined substrate",H2="Biodegradable COD"),"As calculated","CHECK"))))) -> As calculated
A3: 2 | B3: RedSR_Paepatung2022 | C3: RedSR_Paepatung_02 | D3: Paepatung et al., 2022 | E3: Semi-continuous | F3: 4500 | G3: Glucose+ZVI | H3: Defined substrate | I3: Phase II – recovery phase, 210 g ZVI added once | J3: Influent 7.6-8; 7.0-7.2; 5.9-6.0 | K3: 28-30 | L3: 5 | M3: Methanogenesis | N3: Day 108–223 | O3: =(441.18*1000+28.85*1000)/2.1 -> 223823.81 | P3: NA | Q3: NA | R3: NR | S3: 127.41 | T3: =S3*1000/2.1 -> 60671.429 | U3: NA | V3: NA | W3: NA | X3: 226.84 | Y3: =X3*1000/2.1 -> 108019.05 | Z3: =O3/8 -> 27977.976 | AA3: =Y3/8 -> 13502.381 | AB3: =T3/8 -> 7583.9286 | AC3: =AA3+AB3 -> 21086.31 | AD3: =AA3/Z3 -> 0.48260749 | AE3: =AB3/Z3 -> 0.2710678 | AF3: =AA3/AC3 -> 0.64033874 | AG3: =AC3/Z3 -> 0.7536753 | AH3: =Z3-AA3-AB3 -> 6891.6667 | AI3: =AH3/Z3 -> 0.2463247 | AJ3: =IF(H3="","",IF(AG3="NC","NC",IF(OR(AG3<0,AG3>1),"Excluded",IF(OR(H3="Total COD",H3="Mixed"),"Lower bound",IF(OR(H3="Defined substrate",H3="Biodegradable COD"),"As calculated","CHECK"))))) -> As calculated
A4: 3 | B4: RedSR_ Li2017 | C4: RedSR_ Li_01 | D4: Li et al., 2017 | E4: Continuous | F4: 1300 | G4: Sodium lactate | H4: Defined substrate | I4: R1 – plastic threads | J4: NR | K4: 37 | L4: 0.25 | M4: Methanogenesis | N4: Steady-state average (period NR) | O4: 1600 | P4: NA | Q4: 83.1 | R4: =F4*Q4/100 -> 1080.3 | S4: NA | T4: =R4*64/96 -> 720.2 | U4: NA | V4: 39.4 | W4: =V4/(0.7/0.25) -> 14.071429 | X4: NA | Y4: =W4/22.4*64 -> 40.204082 | Z4: =O4/8 -> 200 | AA4: =Y4/8 -> 5.0255102 | AB4: =T4/8 -> 90.025 | AC4: =AA4+AB4 -> 95.05051 | AD4: =AA4/Z4 -> 0.025127551 | AE4: =AB4/Z4 -> 0.450125 | AF4: =AA4/AC4 -> 0.052871996 | AG4: =AC4/Z4 -> 0.47525255 | AH4: =Z4-AA4-AB4 -> 104.94949 | AI4: =AH4/Z4 -> 0.52474745 | AJ4: =IF(H4="","",IF(AG4="NC","NC",IF(OR(AG4<0,AG4>1),"Excluded",IF(OR(H4="Total COD",H4="Mixed"),"Lower bound",IF(OR(H4="Defined substrate",H4="Biodegradable COD"),"As calculated","CHECK"))))) -> As calculated
A5: 4 | B5: RedSR_ Li2017 | C5: RedSR_ Li_02 | D5: Li et al., 2017 | E5: Continuous | F5: 1300 | G5: Sodium lactate | H5: Defined substrate | I5: R2 – stainless steel | J5: NR | K5: 37 | L5: 0.25 | M5: Methanogenesis | N5: Steady-state average (period NR) | O5: 1600 | P5: NA | Q5: 80.3 | R5: =F5*Q5/100 -> 1043.9 | S5: NA | T5: =R5*64/96 -> 695.93333 | U5: NA | V5: 159.9 | W5: =V5/(0.7/0.25) -> 57.107143 | X5: NA | Y5: =W5/22.4*64 -> 163.16327 | Z5: =O5/8 -> 200 | AA5: =Y5/8 -> 20.395408 | AB5: =T5/8 -> 86.991667 | AC5: =AA5+AB5 -> 107.38707 | AD5: =AA5/Z5 -> 0.10197704 | AE5: =AB5/Z5 -> 0.43495833 | AF5: =AA5/AC5 -> 0.18992424 | AG5: =AC5/Z5 -> 0.53693537 | AH5: =Z5-AA5-AB5 -> 92.612925 | AI5: =AH5/Z5 -> 0.46306463 | AJ5: =IF(H5="","",IF(AG5="NC","NC",IF(OR(AG5<0,AG5>1),"Excluded",IF(OR(H5="Total COD",H5="Mixed"),"Lower bound",IF(OR(H5="Defined substrate",H5="Biodegradable COD"),"As calculated","CHECK"))))) -> As calculated
A6: 5 | B6: RedSR_Lu2016 | C6: RedSR_Lu_01 | D6: Lu et al., 2016 | E6: Continuous | F6: 100 | G6: Starch | H6: Defined substrate | I6: COD/SO4=10 | J6: >7.0 | K6: 35 | L6: 0.25 | M6: Methanogenesis | N6: day 37–62 | O6: 830.2 | P6: NA | Q6: 80.9 | R6: =F6*Q6/100 -> 80.9 | S6: NA | T6: =R6*64/96 -> 53.933333 | U6: =72.4+2.2 -> 74.6 | V6: NA | W6: NA | X6: NA | Y6: =U6*O6/100 -> 619.3292 | Z6: =O6/8 -> 103.775 | AA6: =Y6/8 -> 77.41615 | AB6: =T6/8 -> 6.7416667 | AC6: =AA6+AB6 -> 84.157817 | AD6: =AA6/Z6 -> 0.746 | AE6: =AB6/Z6 -> 0.064964266 | AF6: =AA6/AC6 -> 0.91989257 | AG6: =AC6/Z6 -> 0.81096427 | AH6: =Z6-AA6-AB6 -> 19.617183 | AI6: =AH6/Z6 -> 0.18903573 | AJ6: =IF(H6="","",IF(AG6="NC","NC",IF(OR(AG6<0,AG6>1),"Excluded",IF(OR(H6="Total COD",H6="Mixed"),"Lower bound",IF(OR(H6="Defined substrate",H6="Biodegradable COD"),"As calculated","CHECK"))))) -> As calculated
A7: 6 | B7: RedSR_Lu2016 | C7: RedSR_Lu_02 | D7: Lu et al., 2016 | E7: Continuous | F7: 200 | G7: Starch | H7: Defined substrate | I7: COD/SO4=5 | J7: >7.0 | K7: 35 | L7: 0.25 | M7: Methanogenesis | N7: day 63–94 | O7: 928.6 | P7: NA | Q7: 82.6 | R7: =F7*Q7/100 -> 165.2 | S7: NA | T7: =R7*64/96 -> 110.13333 | U7: =62.6+5 -> 67.6 | V7: NA | W7: NA | X7: NA | Y7: =U7*O7/100 -> 627.7336 | Z7: =O7/8 -> 116.075 | AA7: =Y7/8 -> 78.4667 | AB7: =T7/8 -> 13.766667 | AC7: =AA7+AB7 -> 92.233367 | AD7: =AA7/Z7 -> 0.676 | AE7: =AB7/Z7 -> 0.11860148 | AF7: =AA7/AC7 -> 0.85074093 | AG7: =AC7/Z7 -> 0.79460148 | AH7: =Z7-AA7-AB7 -> 23.841633 | AI7: =AH7/Z7 -> 0.20539852 | AJ7: =IF(H7="","",IF(AG7="NC","NC",IF(OR(AG7<0,AG7>1),"Excluded",IF(OR(H7="Total COD",H7="Mixed"),"Lower bound",IF(OR(H7="Defined substrate",H7="Biodegradable COD"),"As calculated","CHECK"))))) -> As calculated
A8: 7 | B8: RedSR_Lu2016 | C8: RedSR_Lu_03 | D8: Lu et al., 2016 | E8: Continuous | F8: =1000/3 -> 333.33333 | G8: Starch | H8: Defined substrate | I8: COD/SO4=3 | J8: >7.0 | K8: 35 | L8: 0.25 | M8: Methanogenesis | N8: day 95–130 | O8: 1051.8 | P8: NA | Q8: 82.6 | R8: =F8*Q8/100 -> 275.33333 | S8: NA | T8: =R8*64/96 -> 183.55556 | U8: =18.3+48.9 -> 67.2 | V8: NA | W8: NA | X8: NA | Y8: =U8*O8/100 -> 706.8096 | Z8: =O8/8 -> 131.475 | AA8: =Y8/8 -> 88.3512 | AB8: =T8/8 -> 22.944444 | AC8: =AA8+AB8 -> 111.29564 | AD8: =AA8/Z8 -> 0.672 | AE8: =AB8/Z8 -> 0.17451565 | AF8: =AA8/AC8 -> 0.79384239 | AG8: =AC8/Z8 -> 0.84651565 | AH8: =Z8-AA8-AB8 -> 20.179356 | AI8: =AH8/Z8 -> 0.15348435 | AJ8: =IF(H8="","",IF(AG8="NC","NC",IF(OR(AG8<0,AG8>1),"Excluded",IF(OR(H8="Total COD",H8="Mixed"),"Lower bound",IF(OR(H8="Defined substrate",H8="Biodegradable COD"),"As calculated","CHECK"))))) -> As calculated
A9: 8 | B9: RedSR_Lu2016 | C9: RedSR_Lu_04 | D9: Lu et al., 2016 | E9: Continuous | F9: 500 | G9: Starch | H9: Defined substrate | I9: COD/SO4=2 | J9: >7.0 | K9: 35 | L9: 0.25 | M9: Methanogenesis | N9: day 131–187 | O9: 976.3 | P9: NA | Q9: 82.6 | R9: =F9*Q9/100 -> 413 | S9: NA | T9: =R9*64/96 -> 275.33333 | U9: =2.3+44.9 -> 47.2 | V9: NA | W9: NA | X9: NA | Y9: =U9*O9/100 -> 460.8136 | Z9: =O9/8 -> 122.0375 | AA9: =Y9/8 -> 57.6017 | AB9: =T9/8 -> 34.416667 | AC9: =AA9+AB9 -> 92.018367 | AD9: =AA9/Z9 -> 0.472 | AE9: =AB9/Z9 -> 0.28201714 | AF9: =AA9/AC9 -> 0.62598047 | AG9: =AC9/Z9 -> 0.75401714 | AH9: =Z9-AA9-AB9 -> 30.019133 | AI9: =AH9/Z9 -> 0.24598286 | AJ9: =IF(H9="","",IF(AG9="NC","NC",IF(OR(AG9<0,AG9>1),"Excluded",IF(OR(H9="Total COD",H9="Mixed"),"Lower bound",IF(OR(H9="Defined substrate",H9="Biodegradable COD"),"As calculated","CHECK"))))) -> As calculated
A10: 9 | B10: RedSR_Lu2016 | C10: RedSR_Lu_05 | D10: Lu et al., 2016 | E10: Continuous | F10: 1000 | G10: Starch | H10: Defined substrate | I10: COD/SO4=1 | J10: >7.0 | K10: 35 | L10: 0.25 | M10: Methanogenesis | N10: day 188–220 | O10: 919.7 | P10: NA | Q10: 21.2 | R10: =F10*Q10/100 -> 212 | S10: NA | T10: =R10*64/96 -> 141.33333 | U10: =2.2+2.2 -> 4.4 | V10: NA | W10: NA | X10: NA | Y10: =U10*O10/100 -> 40.4668 | Z10: =O10/8 -> 114.9625 | AA10: =Y10/8 -> 5.05835 | AB10: =T10/8 -> 17.666667 | AC10: =AA10+AB10 -> 22.725017 | AD10: =AA10/Z10 -> 0.044 | AE10: =AB10/Z10 -> 0.1536733 | AF10: =AA10/AC10 -> 0.2225895 | AG10: =AC10/Z10 -> 0.1976733 | AH10: =Z10-AA10-AB10 -> 92.237483 | AI10: =AH10/Z10 -> 0.8023267 | AJ10: =IF(H10="","",IF(AG10="NC","NC",IF(OR(AG10<0,AG10>1),"Excluded",IF(OR(H10="Total COD",H10="Mixed"),"Lower bound",IF(OR(H10="Defined substrate",H10="Biodegradable COD"),"As calculated","CHECK"))))) -> As calculated
A11: 10 | B11: RedSR_Lu2016 | C11: RedSR_Lu_06 | D11: Lu et al., 2016 | E11: Continuous | F11: 2000 | G11: Starch | H11: Defined substrate | I11: COD/SO4=0.5 | J11: >7.0 | K11: 35 | L11: 0.25 | M11: Methanogenesis | N11: day 221–250 | O11: 991.8 | P11: NA | Q11: 15 | R11: =F11*Q11/100 -> 300 | S11: NA | T11: =R11*64/96 -> 200 | U11: =1.5+0.8 -> 2.3 | V11: NA | W11: NA | X11: NA | Y11: =U11*O11/100 -> 22.8114 | Z11: =O11/8 -> 123.975 | AA11: =Y11/8 -> 2.851425 | AB11: =T11/8 -> 25 | AC11: =AA11+AB11 -> 27.851425 | AD11: =AA11/Z11 -> 0.023 | AE11: =AB11/Z11 -> 0.20165356 | AF11: =AA11/AC11 -> 0.10237986 | AG11: =AC11/Z11 -> 0.22465356 | AH11: =Z11-AA11-AB11 -> 96.123575 | AI11: =AH11/Z11 -> 0.77534644 | AJ11: =IF(H11="","",IF(AG11="NC","NC",IF(OR(AG11<0,AG11>1),"Excluded",IF(OR(H11="Total COD",H11="Mixed"),"Lower bound",IF(OR(H11="Defined substrate",H11="Biodegradable COD"),"As calculated","CHECK"))))) -> As calculated
A13: NR=not reported in the source study; NC=not calculable from the reported data; NA=Not applicable to the system ; R-DIG = Reported graphically; digitization required
A18: Defined substrate: chemically defined substrate, assumed to be fully biodegradable (e.g., glucose, ethanol, acetate, lactate, H2). Total COD: real waste or wastewater containing a non-biodegradable fraction; no biodegradability correction applied. Biodegradable COD: corrected for biodegradability, e.g., based on BMP, BOD, or the degradable fraction reported in the source study. Mixed: E_in comprises both defined and real-waste components, e.g., oil + food waste, or ethanol + wastewater.

Sheet Summary
A1: No. | B1: Study ID | C1: Case ID | D1: E_in (mmol e-/L) | E1: E_target (mmol e-/L) | F1: E_competing (mmol e-/L) | G1: E_expressed (mmol e-/L) | H1: f_target | I1: f_competing | J1: A_target | K1: f_expressed | L1: E_unresolved (mmol e-/L) | M1: f_unresolved | N1: Interpretation of f_target, f_expressed
A2: 1 | B2: VFA_Liu2017 | C2: VFA_Liu_01 | D2: =VFA_Formation!Y2 -> 23538.816 | E2: =VFA_Formation!Z2 -> 7478.4682 | F2: =VFA_Formation!AA2 -> NC | G2: =VFA_Formation!AB2 -> NC | H2: =VFA_Formation!AC2 -> NC | I2: =VFA_Formation!AD2 -> NC | J2: =VFA_Formation!AE2 -> NC | K2: =VFA_Formation!AF2 -> NC | ... N2: =VFA_Formation!AI2 -> NC
A3: 2 | B3: VFA_Liu2017 | C3: VFA_Liu_02 | D3: =VFA_Formation!Y3 -> 23538.816 | E3: =VFA_Formation!Z3 -> 6755.2175 | F3: =VFA_Formation!AA3 -> NC | G3: =VFA_Formation!AB3 -> NC | H3: =VFA_Formation!AC3 -> NC | I3: =VFA_Formation!AD3 -> NC | J3: =VFA_Formation!AE3 -> NC | K3: =VFA_Formation!AF3 -> NC | ... N3: =VFA_Formation!AI3 -> NC | P3: As calculated: E_in is based on a defined substrate or on biodegradable COD; f_target and f_expressed are interpreted as calculated. Lower bound: E_in is based on total COD or includes a real-waste component (Total COD or Mixed); because part of E_in may not be biodegradable, f_target and f_expressed are lower bounds. Excluded: f_expressed fell outside the physically valid range [0, 1]; the case was excluded from Figure 3. NC: f_expressed could not be calculated from the reported data; the case was excluded from Figure 3.
A4: 3 | B4: VFA_Liu2017 | C4: VFA_Liu_03 | D4: =VFA_Formation!Y4 -> 23538.816 | E4: =VFA_Formation!Z4 -> 6377.3699 | F4: =VFA_Formation!AA4 -> NC | G4: =VFA_Formation!AB4 -> NC | H4: =VFA_Formation!AC4 -> NC | I4: =VFA_Formation!AD4 -> NC | J4: =VFA_Formation!AE4 -> NC | K4: =VFA_Formation!AF4 -> NC | ... N4: =VFA_Formation!AI4 -> NC
A5: 4 | B5: VFA_Liu2017 | C5: VFA_Liu_04 | D5: =VFA_Formation!Y5 -> 23538.816 | E5: =VFA_Formation!Z5 -> 4588.5106 | F5: =VFA_Formation!AA5 -> NC | G5: =VFA_Formation!AB5 -> NC | H5: =VFA_Formation!AC5 -> NC | I5: =VFA_Formation!AD5 -> NC | J5: =VFA_Formation!AE5 -> NC | K5: =VFA_Formation!AF5 -> NC | ... N5: =VFA_Formation!AI5 -> NC
A6: 5 | B6: VFA_Liu2017 | C6: VFA_Liu_05 | D6: =VFA_Formation!Y6 -> 23538.816 | E6: =VFA_Formation!Z6 -> 878.19543 | F6: =VFA_Formation!AA6 -> NC | G6: =VFA_Formation!AB6 -> NC | H6: =VFA_Formation!AC6 -> NC | I6: =VFA_Formation!AD6 -> NC | J6: =VFA_Formation!AE6 -> NC | K6: =VFA_Formation!AF6 -> NC | ... N6: =VFA_Formation!AI6 -> NC
A7: 6 | B7: VFA_Liu2017 | C7: VFA_Liu_06 | D7: =VFA_Formation!Y7 -> 25351.316 | E7: =VFA_Formation!Z7 -> 7123.5979 | F7: =VFA_Formation!AA7 -> NC | G7: =VFA_Formation!AB7 -> NC | H7: =VFA_Formation!AC7 -> NC | I7: =VFA_Formation!AD7 -> NC | J7: =VFA_Formation!AE7 -> NC | K7: =VFA_Formation!AF7 -> NC | ... N7: =VFA_Formation!AI7 -> NC
A8: 7 | B8: VFA_Liu2017 | C8: VFA_Liu_07 | D8: =VFA_Formation!Y8 -> 28976.316 | E8: =VFA_Formation!Z8 -> 6355.6506 | F8: =VFA_Formation!AA8 -> NC | G8: =VFA_Formation!AB8 -> NC | H8: =VFA_Formation!AC8 -> NC | I8: =VFA_Formation!AD8 -> NC | J8: =VFA_Formation!AE8 -> NC | K8: =VFA_Formation!AF8 -> NC | ... N8: =VFA_Formation!AI8 -> NC
A9: 8 | B9: VFA_Liu2017 | C9: VFA_Liu_08 | D9: =VFA_Formation!Y9 -> 32601.316 | E9: =VFA_Formation!Z9 -> 4640.4154 | F9: =VFA_Formation!AA9 -> NC | G9: =VFA_Formation!AB9 -> NC | H9: =VFA_Formation!AC9 -> NC | I9: =VFA_Formation!AD9 -> NC | J9: =VFA_Formation!AE9 -> NC | K9: =VFA_Formation!AF9 -> NC | ... N9: =VFA_Formation!AI9 -> NC
A10: 9 | B10: VFA_Liu2017 | C10: VFA_Liu_09 | D10: =VFA_Formation!Y10 -> 36226.316 | E10: =VFA_Formation!Z10 -> 2686.8038 | F10: =VFA_Formation!AA10 -> NC | G10: =VFA_Formation!AB10 -> NC | H10: =VFA_Formation!AC10 -> NC | I10: =VFA_Formation!AD10 -> NC | J10: =VFA_Formation!AE10 -> NC | K10: =VFA_Formation!AF10 -> NC | ... N10: =VFA_Formation!AI10 -> NC
A11: 10 | B11: VFA_Sarkar2020 | C11: VFA_Sarkar_01 | D11: =VFA_Formation!Y11 -> 1875 | E11: =VFA_Formation!Z11 -> 756.8295 | F11: =VFA_Formation!AA11 -> 1127.7701 | G11: =VFA_Formation!AB11 -> 1884.5996 | H11: =VFA_Formation!AC11 -> 0.4036424 | I11: =VFA_Formation!AD11 -> 0.6014774 | J11: =VFA_Formation!AE11 -> 0.40158636 | K11: =VFA_Formation!AF11 -> 1.0051198 | ... N11: =VFA_Formation!AI11 -> Excluded
A12: 11 | B12: VFA_Sarkar2020 | C12: VFA_Sarkar_02 | D12: =VFA_Formation!Y12 -> 1875 | E12: =VFA_Formation!Z12 -> 836.65173 | F12: =VFA_Formation!AA12 -> 936.30109 | G12: =VFA_Formation!AB12 -> 1772.9528 | H12: =VFA_Formation!AC12 -> 0.44621425 | I12: =VFA_Formation!AD12 -> 0.49936058 | J12: =VFA_Formation!AE12 -> 0.47189734 | K12: =VFA_Formation!AF12 -> 0.94557484 | ... N12: =VFA_Formation!AI12 -> Lower bound
A13: 12 | B13: VFA_Sarkar2020 | C13: VFA_Sarkar_03 | D13: =VFA_Formation!Y13 -> 1875 | E13: =VFA_Formation!Z13 -> 1022.9446 | F13: =VFA_Formation!AA13 -> 582.76002 | G13: =VFA_Formation!AB13 -> 1605.7046 | H13: =VFA_Formation!AC13 -> 0.54557043 | I13: =VFA_Formation!AD13 -> 0.31080534 | J13: =VFA_Formation!AE13 -> 0.63706897 | K13: =VFA_Formation!AF13 -> 0.85637578 | ... N13: =VFA_Formation!AI13 -> Lower bound
A14: 13 | B14: VFA_Sarkar2020 | C14: VFA_Sarkar_04 | D14: =VFA_Formation!Y14 -> 1875 | E14: =VFA_Formation!Z14 -> 999.0921 | F14: =VFA_Formation!AA14 -> 118.88304 | G14: =VFA_Formation!AB14 -> 1117.9751 | H14: =VFA_Formation!AC14 -> 0.53284912 | I14: =VFA_Formation!AD14 -> 0.06340429 | J14: =VFA_Formation!AE14 -> 0.89366218 | K14: =VFA_Formation!AF14 -> 0.59625341 | ... N14: =VFA_Formation!AI14 -> Lower bound
A15: 14 | B15: VFA_Sarkar2020 | C15: VFA_Sarkar_05 | D15: =VFA_Formation!Y15 -> 1875 | E15: =VFA_Formation!Z15 -> 1139.1361 | F15: =VFA_Formation!AA15 -> 135.20032 | G15: =VFA_Formation!AB15 -> 1274.3364 | H15: =VFA_Formation!AC15 -> 0.60753926 | I15: =VFA_Formation!AD15 -> 0.072106839 | J15: =VFA_Formation!AE15 -> 0.89390531 | K15: =VFA_Formation!AF15 -> 0.6796461 | ... N15: =VFA_Formation!AI15 -> Lower bound
... A39: 38 | B39: VFA_Li2022 | C39: VFA_Li_09 | D39: =VFA_Formation!Y39 -> NC | E39: =VFA_Formation!Z39 -> 2262.5 | F39: =VFA_Formation!AA39 -> 41.206548 | G39: =VFA_Formation!AB39 -> 2303.7065 | H39: =VFA_Formation!AC39 -> NC | I39: =VFA_Formation!AD39 -> NC | J39: =VFA_Formation!AE39 -> 0.98211294 | K39: =VFA_Formation!AF39 -> NC | ... N39: =VFA_Formation!AI39 -> NC
A40: 39 | B40: CE_Roghair2018 | C40: CE_Roghair_01 | D40: =Chain_Elongation!AA2 -> 10526.35 | E40: =Chain_Elongation!AB2 -> 3500.775 | F40: =Chain_Elongation!AC2 -> 580.8 | G40: =Chain_Elongation!AD2 -> 4081.575 | H40: =Chain_Elongation!AE2 -> 0.33257254 | I40: =Chain_Elongation!AF2 -> 0.055175821 | J40: =Chain_Elongation!AG2 -> 0.85770199 | K40: =Chain_Elongation!AH2 -> 0.38774836 | ... N40: =Chain_Elongation!AK2 -> As calculated
A41: 40 | B41: CE_Roghair2018 | C41: CE_Roghair_02 | D41: =Chain_Elongation!AA3 -> 6306.25 | E41: =Chain_Elongation!AB3 -> 1763.4875 | F41: =Chain_Elongation!AC3 -> 274.4 | G41: =Chain_Elongation!AD3 -> 2037.8875 | H41: =Chain_Elongation!AE3 -> 0.27964123 | I41: =Chain_Elongation!AF3 -> 0.043512389 | J41: =Chain_Elongation!AG3 -> 0.86535076 | K41: =Chain_Elongation!AH3 -> 0.32315362 | ... N41: =Chain_Elongation!AK3 -> As calculated
A42: 41 | B42: CE_Roghair2018 | C42: CE_Roghair_03 | D42: =Chain_Elongation!AA4 -> 6306.25 | E42: =Chain_Elongation!AB4 -> 1149.2 | F42: =Chain_Elongation!AC4 -> 136.8 | G42: =Chain_Elongation!AD4 -> 1286 | H42: =Chain_Elongation!AE4 -> 0.18223191 | I42: =Chain_Elongation!AF4 -> 0.021692765 | J42: =Chain_Elongation!AG4 -> 0.89362364 | K42: =Chain_Elongation!AH4 -> 0.20392468 | ... N42: =Chain_Elongation!AK4 -> As calculated
A43: 42 | B43: CE_Roghair2018 | C43: CE_Roghair_04 | D43: =Chain_Elongation!AA5 -> 6306.25 | E43: =Chain_Elongation!AB5 -> 168.575 | F43: =Chain_Elongation!AC5 -> 12 | G43: =Chain_Elongation!AD5 -> 180.575 | H43: =Chain_Elongation!AE5 -> 0.026731417 | I43: =Chain_Elongation!AF5 -> 0.0019028741 | J43: =Chain_Elongation!AG5 -> 0.93354562 | K43: =Chain_Elongation!AH5 -> 0.028634291 | ... N43: =Chain_Elongation!AK5 -> As calculated
A44: 43 | B44: CE_Roghair2018 | C44: CE_Roghair_05 | D44: =Chain_Elongation!AA6 -> 6312.3625 | E44: =Chain_Elongation!AB6 -> 1259.4 | F44: =Chain_Elongation!AC6 -> 236.8 | G44: =Chain_Elongation!AD6 -> 1496.2 | H44: =Chain_Elongation!AE6 -> 0.19951326 | I44: =Chain_Elongation!AF6 -> 0.037513688 | J44: =Chain_Elongation!AG6 -> 0.84173239 | K44: =Chain_Elongation!AH6 -> 0.23702695 | ... N44: =Chain_Elongation!AK6 -> As calculated
A45: 44 | B45: CE_Liu2017 | C45: CE_Liu_01 | D45: =Chain_Elongation!AA7 -> 9401.025 | E45: =Chain_Elongation!AB7 -> 1769.3025 | F45: =Chain_Elongation!AC7 -> 135.00606 | G45: =Chain_Elongation!AD7 -> 1904.3086 | H45: =Chain_Elongation!AE7 -> 0.18820315 | I45: =Chain_Elongation!AF7 -> 0.014360781 | J45: =Chain_Elongation!AG7 -> 0.92910494 | K45: =Chain_Elongation!AH7 -> 0.20256393 | ... N45: =Chain_Elongation!AK7 -> As calculated
A46: 45 | B46: CE_Liu2017 | C46: CE_Liu_02 | D46: =Chain_Elongation!AA8 -> 11286.538 | E46: =Chain_Elongation!AB8 -> 2035.56 | F46: =Chain_Elongation!AC8 -> 328.57972 | G46: =Chain_Elongation!AD8 -> 2364.1397 | H46: =Chain_Elongation!AE8 -> 0.18035292 | I46: =Chain_Elongation!AF8 -> 0.029112535 | J46: =Chain_Elongation!AG8 -> 0.8610151 | K46: =Chain_Elongation!AH8 -> 0.20946546 | ... N46: =Chain_Elongation!AK8 -> As calculated
A47: 46 | B47: CE_Fu2021 | C47: CE_Fu_01 | D47: =Chain_Elongation!AA9 -> 2988 | E47: =Chain_Elongation!AB9 -> 448 | F47: =Chain_Elongation!AC9 -> 75.2 | G47: =Chain_Elongation!AD9 -> 523.2 | H47: =Chain_Elongation!AE9 -> 0.14993307 | I47: =Chain_Elongation!AF9 -> 0.025167336 | J47: =Chain_Elongation!AG9 -> 0.85626911 | K47: =Chain_Elongation!AH9 -> 0.1751004 | ... N47: =Chain_Elongation!AK9 -> As calculated
A48: 47 | B48: CE_Fu2021 | C48: CE_Fu_02 | D48: =Chain_Elongation!AA10 -> 3063 | E48: =Chain_Elongation!AB10 -> 636.8 | F48: =Chain_Elongation!AC10 -> 39 | G48: =Chain_Elongation!AD10 -> 675.8 | H48: =Chain_Elongation!AE10 -> 0.20790075 | I48: =Chain_Elongation!AF10 -> 0.012732615 | J48: =Chain_Elongation!AG10 -> 0.94229062 | K48: =Chain_Elongation!AH10 -> 0.22063337 | ... N48: =Chain_Elongation!AK10 -> As calculated
A49: 48 | B49: CE_Fu2021 | C49: CE_Fu_03 | D49: =Chain_Elongation!AA11 -> 4188 | E49: =Chain_Elongation!AB11 -> 371.2 | F49: =Chain_Elongation!AC11 -> 245.8 | G49: =Chain_Elongation!AD11 -> 617 | H49: =Chain_Elongation!AE11 -> 0.088634193 | I49: =Chain_Elongation!AF11 -> 0.0586915 | J49: =Chain_Elongation!AG11 -> 0.60162075 | K49: =Chain_Elongation!AH11 -> 0.14732569 | ... N49: =Chain_Elongation!AK11 -> As calculated
A50: 49 | B50: CE_Fu2021 | C50: CE_Fu_04 | D50: =Chain_Elongation!AA12 -> 4245.9025 | E50: =Chain_Elongation!AB12 -> 806.4 | F50: =Chain_Elongation!AC12 -> 144.8 | G50: =Chain_Elongation!AD12 -> 951.2 | H50: =Chain_Elongation!AE12 -> 0.18992429 | I50: =Chain_Elongation!AF12 -> 0.034103468 | J50: =Chain_Elongation!AG12 -> 0.84777124 | K50: =Chain_Elongation!AH12 -> 0.22402775 | ... N50: =Chain_Elongation!AK12 -> As calculated
A51: 50 | B51: CE_Fu2021 | C51: CE_Fu_05 | D51: =Chain_Elongation!AA13 -> 5388 | E51: =Chain_Elongation!AB13 -> 422.4 | F51: =Chain_Elongation!AC13 -> 334.6 | G51: =Chain_Elongation!AD13 -> 757 | H51: =Chain_Elongation!AE13 -> 0.078396437 | I51: =Chain_Elongation!AF13 -> 0.062100965 | J51: =Chain_Elongation!AG13 -> 0.55799207 | K51: =Chain_Elongation!AH13 -> 0.1404974 | ... N51: =Chain_Elongation!AK13 -> As calculated
... A65: 64 | B65: CE_Grootscholten2013B | C65: CE_GrootscholtenB_04 | D65: =Chain_Elongation!AA27 -> 28613.4 | E65: =Chain_Elongation!AB27 -> 14930.325 | F65: =Chain_Elongation!AC27 -> 0 | G65: =Chain_Elongation!AD27 -> 14930.325 | H65: =Chain_Elongation!AE27 -> 0.52179486 | I65: =Chain_Elongation!AF27 -> 0 | J65: =Chain_Elongation!AG27 -> 1 | K65: =Chain_Elongation!AH27 -> 0.52179486 | ... N65: =Chain_Elongation!AK27 -> As calculated
A66: 65 | B66: BU_Luo2013 | C66: BU_Luo_01 | D66: =Biogas_Upgrading!AF2 -> 82.983849 | E66: =Biogas_Upgrading!AG2 -> 79.345409 | F66: =Biogas_Upgrading!AH2 -> 1.2266667 | G66: =Biogas_Upgrading!AI2 -> 80.572076 | H66: =Biogas_Upgrading!AJ2 -> 0.95615484 | I66: =Biogas_Upgrading!AK2 -> 0.014781993 | J66: =Biogas_Upgrading!AL2 -> 0.98477554 | K66: =Biogas_Upgrading!AM2 -> 0.97093683 | ... N66: =Biogas_Upgrading!AP2 -> As calculated
A67: 66 | B67: BU_Luo2013 | C67: BU_Luo_02 | D67: =Biogas_Upgrading!AF3 -> 128.49112 | E67: =Biogas_Upgrading!AG3 -> 123.25404 | F67: =Biogas_Upgrading!AH3 -> 4.6933333 | G67: =Biogas_Upgrading!AI3 -> 127.94737 | H67: =Biogas_Upgrading!AJ3 -> 0.95924167 | I67: =Biogas_Upgrading!AK3 -> 0.036526519 | J67: =Biogas_Upgrading!AL3 -> 0.96331825 | K67: =Biogas_Upgrading!AM3 -> 0.99576819 | ... N67: =Biogas_Upgrading!AP3 -> As calculated
A68: 67 | B68: BU_Luo2013 | C68: BU_Luo_03 | D68: =Biogas_Upgrading!AF4 -> 157.0447 | E68: =Biogas_Upgrading!AG4 -> 135.94539 | F68: =Biogas_Upgrading!AH4 -> 18.4 | G68: =Biogas_Upgrading!AI4 -> 154.34539 | H68: =Biogas_Upgrading!AJ4 -> 0.86564773 | I68: =Biogas_Upgrading!AK4 -> 0.11716409 | J68: =Biogas_Upgrading!AL4 -> 0.88078685 | K68: =Biogas_Upgrading!AM4 -> 0.98281182 | ... N68: =Biogas_Upgrading!AP4 -> As calculated
A69: 68 | B69: BU_Bassani2016 | C69: BU_Bassani_01 | D69: =Biogas_Upgrading!AF5 -> 310.44643 | E69: =Biogas_Upgrading!AG5 -> 63.295 | F69: =Biogas_Upgrading!AH5 -> 30.749042 | G69: =Biogas_Upgrading!AI5 -> 94.044042 | H69: =Biogas_Upgrading!AJ5 -> 0.20388381 | I69: =Biogas_Upgrading!AK5 -> 0.099047822 | J69: =Biogas_Upgrading!AL5 -> 0.67303572 | K69: =Biogas_Upgrading!AM5 -> 0.30293163 | ... N69: =Biogas_Upgrading!AP5 -> As calculated
A70: 69 | B70: BU_Bassani2016 | C70: BU_Bassani_02 | D70: =Biogas_Upgrading!AF6 -> 235.35714 | E70: =Biogas_Upgrading!AG6 -> 96.380357 | F70: =Biogas_Upgrading!AH6 -> 21.204197 | G70: =Biogas_Upgrading!AI6 -> 117.58455 | H70: =Biogas_Upgrading!AJ6 -> 0.40950683 | I70: =Biogas_Upgrading!AK6 -> 0.090093703 | J70: =Biogas_Upgrading!AL6 -> 0.81966852 | K70: =Biogas_Upgrading!AM6 -> 0.49960053 | ... N70: =Biogas_Upgrading!AP6 -> As calculated
A71: 70 | B71: BU_Bassani2016 | C71: BU_Bassani_03 | D71: =Biogas_Upgrading!AF7 -> 234.73214 | E71: =Biogas_Upgrading!AG7 -> 126.47321 | F71: =Biogas_Upgrading!AH7 -> 7.4052956 | G71: =Biogas_Upgrading!AI7 -> 133.87851 | H71: =Biogas_Upgrading!AJ7 -> 0.53879802 | I71: =Biogas_Upgrading!AK7 -> 0.031547855 | J71: =Biogas_Upgrading!AL7 -> 0.94468645 | K71: =Biogas_Upgrading!AM7 -> 0.57034588 | ... N71: =Biogas_Upgrading!AP7 -> As calculated
A72: 71 | B72: BU_Bassani2016 | C72: BU_Bassani_04 | D72: =Biogas_Upgrading!AF8 -> 191.42857 | E72: =Biogas_Upgrading!AG8 -> 72.892857 | F72: =Biogas_Upgrading!AH8 -> 48.244063 | G72: =Biogas_Upgrading!AI8 -> 121.13692 | H72: =Biogas_Upgrading!AJ8 -> 0.38078358 | I72: =Biogas_Upgrading!AK8 -> 0.25202123 | J72: =Biogas_Upgrading!AL8 -> 0.60173939 | K72: =Biogas_Upgrading!AM8 -> 0.63280481 | ... N72: =Biogas_Upgrading!AP8 -> As calculated
A73: 72 | B73: BU_Bassani2016 | C73: BU_Bassani_05 | D73: =Biogas_Upgrading!AF9 -> 163.75 | E73: =Biogas_Upgrading!AG9 -> -44.178571 | F73: =Biogas_Upgrading!AH9 -> 14.029908 | G73: =Biogas_Upgrading!AI9 -> -30.148663 | H73: =Biogas_Upgrading!AJ9 -> -0.2697928 | I73: =Biogas_Upgrading!AK9 -> 0.08567883 | J73: =Biogas_Upgrading!AL9 -> 1.4653576 | K73: =Biogas_Upgrading!AM9 -> -0.18411397 | ... N73: =Biogas_Upgrading!AP9 -> Excluded
A74: 73 | B74: BU_Bassani2016 | C74: BU_Bassani_06 | D74: =Biogas_Upgrading!AF10 -> 157.85714 | E74: =Biogas_Upgrading!AG10 -> 100.80357 | F74: =Biogas_Upgrading!AH10 -> 11.567694 | G74: =Biogas_Upgrading!AI10 -> 112.37127 | H74: =Biogas_Upgrading!AJ10 -> 0.63857466 | I74: =Biogas_Upgrading!AK10 -> 0.073279507 | J74: =Biogas_Upgrading!AL10 -> 0.89705826 | K74: =Biogas_Upgrading!AM10 -> 0.71185417 | ... N74: =Biogas_Upgrading!AP10 -> As calculated
A75: 74 | B75: BU_Bassani2016 | C75: BU_Bassani_07 | D75: =Biogas_Upgrading!AF11 -> 163.21429 | E75: =Biogas_Upgrading!AG11 -> 37.790714 | F75: =Biogas_Upgrading!AH11 -> 9.549642 | G75: =Biogas_Upgrading!AI11 -> 47.340356 | H75: =Biogas_Upgrading!AJ11 -> 0.23154048 | I75: =Biogas_Upgrading!AK11 -> 0.058509841 | J75: =Biogas_Upgrading!AL11 -> 0.79827693 | K75: =Biogas_Upgrading!AM11 -> 0.29005032 | ... N75: =Biogas_Upgrading!AP11 -> As calculated
A76: 75 | B76: BU_Kougias2017 | C76: BU_Kougias_01 | D76: =Biogas_Upgrading!AF12 -> 71.36611 | E76: =Biogas_Upgrading!AG12 -> 36.850765 | F76: =Biogas_Upgrading!AH12 -> 12.587606 | G76: =Biogas_Upgrading!AI12 -> 49.438371 | H76: =Biogas_Upgrading!AJ12 -> 0.51636225 | I76: =Biogas_Upgrading!AK12 -> 0.17638071 | J76: =Biogas_Upgrading!AL12 -> 0.74538794 | K76: =Biogas_Upgrading!AM12 -> 0.69274296 | ... N76: =Biogas_Upgrading!AP12 -> As calculated
A77: 76 | B77: BU_Kougias2017 | C77: BU_Kougias_02 | D77: =Biogas_Upgrading!AF13 -> 71.36611 | E77: =Biogas_Upgrading!AG13 -> NC | F77: =Biogas_Upgrading!AH13 -> NC | G77: =Biogas_Upgrading!AI13 -> NC | H77: =Biogas_Upgrading!AJ13 -> NC | I77: =Biogas_Upgrading!AK13 -> NC | J77: =Biogas_Upgrading!AL13 -> NC | K77: =Biogas_Upgrading!AM13 -> NC | ... N77: =Biogas_Upgrading!AP13 -> NC
... A87: 86 | B87: BU_Mulat2017 | C87: BU_Mulat_02 | D87: =Biogas_Upgrading!AF23 -> 45.13688 | E87: =Biogas_Upgrading!AG23 -> 15.695892 | F87: =Biogas_Upgrading!AH23 -> NC | G87: =Biogas_Upgrading!AI23 -> NC | H87: =Biogas_Upgrading!AJ23 -> 0.34773986 | I87: =Biogas_Upgrading!AK23 -> NC | J87: =Biogas_Upgrading!AL23 -> NC | K87: =Biogas_Upgrading!AM23 -> NC | ... N87: =Biogas_Upgrading!AP23 -> NC
A88: 87 | B88: RedAzo_Dai2018 | C88: RedAzo_Dai_01 | D88: =Reductive_Azodye!V2 -> 125 | E88: =Reductive_Azodye!W2 -> 5.0696506 | F88: =Reductive_Azodye!X2 -> 89.125 | G88: =Reductive_Azodye!Y2 -> 94.194651 | H88: =Reductive_Azodye!Z2 -> 0.040557205 | I88: =Reductive_Azodye!AA2 -> 0.713 | J88: =Reductive_Azodye!AB2 -> 0.053821003 | K88: =Reductive_Azodye!AC2 -> 0.7535572 | ... N88: =Reductive_Azodye!AF2 -> As calculated
A89: 88 | B89: RedAzo_Dai2018 | C89: RedAzo_Dai_02 | D89: =Reductive_Azodye!V3 -> 125 | E89: =Reductive_Azodye!W3 -> 13.153688 | F89: =Reductive_Azodye!X3 -> 112.375 | G89: =Reductive_Azodye!Y3 -> 125.52869 | H89: =Reductive_Azodye!Z3 -> 0.1052295 | I89: =Reductive_Azodye!AA3 -> 0.899 | J89: =Reductive_Azodye!AB3 -> 0.10478631 | K89: =Reductive_Azodye!AC3 -> 1.0042295 | ... N89: =Reductive_Azodye!AF3 -> Excluded
A90: 89 | B90: RedAzo_Dai2018 | C90: RedAzo_Dai_03 | D90: =Reductive_Azodye!V4 -> 31.25 | E90: =Reductive_Azodye!W4 -> 3.685773 | F90: =Reductive_Azodye!X4 -> 15.84375 | G90: =Reductive_Azodye!Y4 -> 19.529523 | H90: =Reductive_Azodye!Z4 -> 0.11794474 | I90: =Reductive_Azodye!AA4 -> 0.507 | J90: =Reductive_Azodye!AB4 -> 0.18872827 | K90: =Reductive_Azodye!AC4 -> 0.62494474 | ... N90: =Reductive_Azodye!AF4 -> As calculated
A91: 90 | B91: RedAzo_Dai2018 | C91: RedAzo_Dai_04 | D91: =Reductive_Azodye!V5 -> 250 | E91: =Reductive_Azodye!W5 -> 11.235442 | F91: =Reductive_Azodye!X5 -> 201 | G91: =Reductive_Azodye!Y5 -> 212.23544 | H91: =Reductive_Azodye!Z5 -> 0.044941768 | I91: =Reductive_Azodye!AA5 -> 0.804 | J91: =Reductive_Azodye!AB5 -> 0.052938575 | K91: =Reductive_Azodye!AC5 -> 0.84894177 | ... N91: =Reductive_Azodye!AF5 -> As calculated
A92: 91 | B92: RedAzo_Dai2018 | C92: RedAzo_Dai_05 | D92: =Reductive_Azodye!V6 -> 31.25 | E92: =Reductive_Azodye!W6 -> 5.275177 | F92: =Reductive_Azodye!X6 -> 21.4375 | G92: =Reductive_Azodye!Y6 -> 26.712677 | H92: =Reductive_Azodye!Z6 -> 0.16880566 | I92: =Reductive_Azodye!AA6 -> 0.686 | J92: =Reductive_Azodye!AB6 -> 0.19747841 | K92: =Reductive_Azodye!AC6 -> 0.85480566 | ... N92: =Reductive_Azodye!AF6 -> As calculated
A93: 92 | B93: RedAzo_Dai2018 | C93: RedAzo_Dai_06 | D93: =Reductive_Azodye!V7 -> 250 | E93: =Reductive_Azodye!W7 -> 12.509705 | F93: =Reductive_Azodye!X7 -> 227 | G93: =Reductive_Azodye!Y7 -> 239.50971 | H93: =Reductive_Azodye!Z7 -> 0.050038822 | I93: =Reductive_Azodye!AA7 -> 0.908 | J93: =Reductive_Azodye!AB7 -> 0.052230474 | K93: =Reductive_Azodye!AC7 -> 0.95803882 | ... N93: =Reductive_Azodye!AF7 -> As calculated
A94: 93 | B94: RedAzo_Dai2018 | C94: RedAzo_Dai_07 | D94: =Reductive_Azodye!V8 -> 31.25 | E94: =Reductive_Azodye!W8 -> 3.8912994 | F94: =Reductive_Azodye!X8 -> 23.75 | G94: =Reductive_Azodye!Y8 -> 27.641299 | H94: =Reductive_Azodye!Z8 -> 0.12452158 | I94: =Reductive_Azodye!AA8 -> 0.76 | J94: =Reductive_Azodye!AB8 -> 0.14077845 | K94: =Reductive_Azodye!AC8 -> 0.88452158 | ... N94: =Reductive_Azodye!AF8 -> As calculated
A95: 94 | B95: RedAzo_Dai2018 | C95: RedAzo_Dai_08 | D95: =Reductive_Azodye!V9 -> 250 | E95: =Reductive_Azodye!W9 -> 4.1562 | F95: =Reductive_Azodye!X9 -> 239.25 | G95: =Reductive_Azodye!Y9 -> 243.4062 | H95: =Reductive_Azodye!Z9 -> 0.0166248 | I95: =Reductive_Azodye!AA9 -> 0.957 | J95: =Reductive_Azodye!AB9 -> 0.017075161 | K95: =Reductive_Azodye!AC9 -> 0.9736248 | ... N95: =Reductive_Azodye!AF9 -> As calculated
A96: 95 | B96: RedAzo_Dai2018 | C96: RedAzo_Dai_09 | D96: =Reductive_Azodye!V10 -> 31.25 | E96: =Reductive_Azodye!W10 -> 6.3484814 | F96: =Reductive_Azodye!X10 -> 14.625 | G96: =Reductive_Azodye!Y10 -> 20.973481 | H96: =Reductive_Azodye!Z10 -> 0.2031514 | I96: =Reductive_Azodye!AA10 -> 0.468 | J96: =Reductive_Azodye!AB10 -> 0.30269087 | K96: =Reductive_Azodye!AC10 -> 0.6711514 | ... N96: =Reductive_Azodye!AF10 -> As calculated
A97: 96 | B97: RedAzo_Dai2018 | C97: RedAzo_Dai_10 | D97: =Reductive_Azodye!V11 -> 250 | E97: =Reductive_Azodye!W11 -> 18.406029 | F97: =Reductive_Azodye!X11 -> 182.75 | G97: =Reductive_Azodye!Y11 -> 201.15603 | H97: =Reductive_Azodye!Z11 -> 0.073624115 | I97: =Reductive_Azodye!AA11 -> 0.731 | J97: =Reductive_Azodye!AB11 -> 0.091501253 | K97: =Reductive_Azodye!AC11 -> 0.80462412 | ... N97: =Reductive_Azodye!AF11 -> As calculated
A98: 97 | B98: RedAzo_Dai2018 | C98: RedAzo_Dai_11 | D98: =Reductive_Azodye!V12 -> 140.625 | E98: =Reductive_Azodye!W12 -> 4.1607673 | F98: =Reductive_Azodye!X12 -> 133.59375 | G98: =Reductive_Azodye!Y12 -> 137.75452 | H98: =Reductive_Azodye!Z12 -> 0.029587679 | I98: =Reductive_Azodye!AA12 -> 0.95 | J98: =Reductive_Azodye!AB12 -> 0.030204217 | K98: =Reductive_Azodye!AC12 -> 0.97958768 | ... N98: =Reductive_Azodye!AF12 -> As calculated
A99: 98 | B99: RedAzo_Dai2018 | C99: RedAzo_Dai_12 | D99: =Reductive_Azodye!V13 -> 140.625 | E99: =Reductive_Azodye!W13 -> 4.3069194 | F99: =Reductive_Azodye!X13 -> 132.75 | G99: =Reductive_Azodye!Y13 -> 137.05692 | H99: =Reductive_Azodye!Z13 -> 0.030626982 | I99: =Reductive_Azodye!AA13 -> 0.944 | J99: =Reductive_Azodye!AB13 -> 0.031424312 | K99: =Reductive_Azodye!AC13 -> 0.97462698 | ... N99: =Reductive_Azodye!AF13 -> As calculated
... A107: 106 | B107: RedAzo_Dai2018 | C107: RedAzo_Dai_20 | D107: =Reductive_Azodye!V21 -> 62.5 | E107: =Reductive_Azodye!W21 -> 5.446449 | F107: =Reductive_Azodye!X21 -> 49.6875 | G107: =Reductive_Azodye!Y21 -> 55.133949 | H107: =Reductive_Azodye!Z21 -> 0.087143183 | I107: =Reductive_Azodye!AA21 -> 0.795 | J107: =Reductive_Azodye!AB21 -> 0.098785758 | K107: =Reductive_Azodye!AC21 -> 0.88214318 | ... N107: =Reductive_Azodye!AF21 -> As calculated
A108: 107 | B108: RedDen_Wu2022 | C108: RedDen_Wu_01 | D108: =Reductive_Denitrification!W2 -> 256.875 | E108: =Reductive_Denitrification!X2 -> 13.392188 | F108: =Reductive_Denitrification!Y2 -> 143.95536 | G108: =Reductive_Denitrification!Z2 -> 157.34754 | H108: =Reductive_Denitrification!AA2 -> 0.052135036 | I108: =Reductive_Denitrification!AB2 -> 0.56041015 | J108: =Reductive_Denitrification!AC2 -> 0.085112148 | K108: =Reductive_Denitrification!AD2 -> 0.61254519 | ... N108: =Reductive_Denitrification!AG2 -> As calculated
A109: 108 | B109: RedDen_Wu2022 | C109: RedDen_Wu_02 | D109: =Reductive_Denitrification!W3 -> 262.15 | E109: =Reductive_Denitrification!X3 -> 39.819437 | F109: =Reductive_Denitrification!Y3 -> 100.76143 | G109: =Reductive_Denitrification!Z3 -> 140.58087 | H109: =Reductive_Denitrification!AA3 -> 0.15189562 | I109: =Reductive_Denitrification!AB3 -> 0.38436555 | J109: =Reductive_Denitrification!AC3 -> 0.28324934 | K109: =Reductive_Denitrification!AD3 -> 0.53626117 | ... N109: =Reductive_Denitrification!AG3 -> As calculated
A110: 109 | B110: RedDen_Wu2022 | C110: RedDen_Wu_03 | D110: =Reductive_Denitrification!W4 -> 267.7 | E110: =Reductive_Denitrification!X4 -> 85.638575 | F110: =Reductive_Denitrification!Y4 -> 77.082857 | G110: =Reductive_Denitrification!Z4 -> 162.72143 | H110: =Reductive_Denitrification!AA4 -> 0.31990502 | I110: =Reductive_Denitrification!AB4 -> 0.28794493 | J110: =Reductive_Denitrification!AC4 -> 0.52628946 | K110: =Reductive_Denitrification!AD4 -> 0.60784995 | ... N110: =Reductive_Denitrification!AG4 -> As calculated
A111: 110 | B111: RedDen_Xie2012 | C111: RedDen_Xie_01 | D111: =Reductive_Denitrification!W5 -> 475 | E111: =Reductive_Denitrification!X5 -> 118.06584 | F111: =Reductive_Denitrification!Y5 -> 0 | G111: =Reductive_Denitrification!Z5 -> 118.06584 | H111: =Reductive_Denitrification!AA5 -> 0.24855965 | I111: =Reductive_Denitrification!AB5 -> 0 | J111: =Reductive_Denitrification!AC5 -> 1 | K111: =Reductive_Denitrification!AD5 -> 0.24855965 | ... N111: =Reductive_Denitrification!AG5 -> Lower bound
A112: 111 | B112: RedDen_Xie2012 | C112: RedDen_Xie_02 | D112: =Reductive_Denitrification!W6 -> 475 | E112: =Reductive_Denitrification!X6 -> 102.32345 | F112: =Reductive_Denitrification!Y6 -> 0 | G112: =Reductive_Denitrification!Z6 -> 102.32345 | H112: =Reductive_Denitrification!AA6 -> 0.2154178 | I112: =Reductive_Denitrification!AB6 -> 0 | J112: =Reductive_Denitrification!AC6 -> 1 | K112: =Reductive_Denitrification!AD6 -> 0.2154178 | ... N112: =Reductive_Denitrification!AG6 -> Lower bound
A113: 112 | B113: RedDen_Xie2012 | C113: RedDen_Xie_03 | D113: =Reductive_Denitrification!W7 -> 475 | E113: =Reductive_Denitrification!X7 -> 109.41417 | F113: =Reductive_Denitrification!Y7 -> 0 | G113: =Reductive_Denitrification!Z7 -> 109.41417 | H113: =Reductive_Denitrification!AA7 -> 0.23034563 | I113: =Reductive_Denitrification!AB7 -> 0 | J113: =Reductive_Denitrification!AC7 -> 1 | K113: =Reductive_Denitrification!AD7 -> 0.23034563 | ... N113: =Reductive_Denitrification!AG7 -> Lower bound
A114: 113 | B114: RedDen_Xie2012 | C114: RedDen_Xie_04 | D114: =Reductive_Denitrification!W8 -> 475 | E114: =Reductive_Denitrification!X8 -> 67.496625 | F114: =Reductive_Denitrification!Y8 -> 0 | G114: =Reductive_Denitrification!Z8 -> 67.496625 | H114: =Reductive_Denitrification!AA8 -> 0.14209816 | I114: =Reductive_Denitrification!AB8 -> 0 | J114: =Reductive_Denitrification!AC8 -> 1 | K114: =Reductive_Denitrification!AD8 -> 0.14209816 | ... N114: =Reductive_Denitrification!AG8 -> Lower bound
A115: 114 | B115: RedDen_Xie2012 | C115: RedDen_Xie_05 | D115: =Reductive_Denitrification!W9 -> 475 | E115: =Reductive_Denitrification!X9 -> 23.514099 | F115: =Reductive_Denitrification!Y9 -> 0 | G115: =Reductive_Denitrification!Z9 -> 23.514099 | H115: =Reductive_Denitrification!AA9 -> 0.049503367 | I115: =Reductive_Denitrification!AB9 -> 0 | J115: =Reductive_Denitrification!AC9 -> 1 | K115: =Reductive_Denitrification!AD9 -> 0.049503367 | ... N115: =Reductive_Denitrification!AG9 -> Lower bound
A116: 115 | B116: RedDen_Xie2012 | C116: RedDen_Xie_06 | D116: =Reductive_Denitrification!W10 -> 475 | E116: =Reductive_Denitrification!X10 -> 207.63302 | F116: =Reductive_Denitrification!Y10 -> 0 | G116: =Reductive_Denitrification!Z10 -> 207.63302 | H116: =Reductive_Denitrification!AA10 -> 0.43712215 | I116: =Reductive_Denitrification!AB10 -> 0 | J116: =Reductive_Denitrification!AC10 -> 1 | K116: =Reductive_Denitrification!AD10 -> 0.43712215 | ... N116: =Reductive_Denitrification!AG10 -> As calculated
A117: 116 | B117: RedDen_Xie2012 | C117: RedDen_Xie_07 | D117: =Reductive_Denitrification!W11 -> 475 | E117: =Reductive_Denitrification!X11 -> 212.51795 | F117: =Reductive_Denitrification!Y11 -> 0 | G117: =Reductive_Denitrification!Z11 -> 212.51795 | H117: =Reductive_Denitrification!AA11 -> 0.4474062 | I117: =Reductive_Denitrification!AB11 -> 0 | J117: =Reductive_Denitrification!AC11 -> 1 | K117: =Reductive_Denitrification!AD11 -> 0.4474062 | ... N117: =Reductive_Denitrification!AG11 -> As calculated
A118: 117 | B118: RedDen_Xie2012 | C118: RedDen_Xie_08 | D118: =Reductive_Denitrification!W12 -> 475 | E118: =Reductive_Denitrification!X12 -> 192.5118 | F118: =Reductive_Denitrification!Y12 -> 0.71383956 | G118: =Reductive_Denitrification!Z12 -> 193.22563 | H118: =Reductive_Denitrification!AA12 -> 0.40528799 | I118: =Reductive_Denitrification!AB12 -> 0.0015028201 | J118: =Reductive_Denitrification!AC12 -> 0.99630567 | K118: =Reductive_Denitrification!AD12 -> 0.40679081 | ... N118: =Reductive_Denitrification!AG12 -> As calculated
A119: 118 | B119: RedDen_Xie2012 | C119: RedDen_Xie_09 | D119: =Reductive_Denitrification!W13 -> 475 | E119: =Reductive_Denitrification!X13 -> 75.392659 | F119: =Reductive_Denitrification!Y13 -> 28.910502 | G119: =Reductive_Denitrification!Z13 -> 104.30316 | H119: =Reductive_Denitrification!AA13 -> 0.15872139 | I119: =Reductive_Denitrification!AB13 -> 0.060864216 | J119: =Reductive_Denitrification!AC13 -> 0.72282238 | K119: =Reductive_Denitrification!AD13 -> 0.2195856 | ... N119: =Reductive_Denitrification!AG13 -> As calculated
A120: 119 | B120: RedDen_Xie2012 | C120: RedDen_Xie_10 | D120: =Reductive_Denitrification!W14 -> 475 | E120: =Reductive_Denitrification!X14 -> 27.1415 | F120: =Reductive_Denitrification!Y14 -> 69.777817 | G120: =Reductive_Denitrification!Z14 -> 96.919317 | H120: =Reductive_Denitrification!AA14 -> 0.05714 | I120: =Reductive_Denitrification!AB14 -> 0.14690067 | J120: =Reductive_Denitrification!AC14 -> 0.28004221 | K120: =Reductive_Denitrification!AD14 -> 0.20404067 | ... N120: =Reductive_Denitrification!AG14 -> As calculated
A121: 120 | B121: RedFe_Wang2024 | C121: RedFe_Wang_01 | D121: =Reductive_Iron!W2 -> 6231.4079 | E121: =Reductive_Iron!X2 -> 1032.0424 | F121: =Reductive_Iron!Y2 -> 0.53720118 | G121: =Reductive_Iron!Z2 -> 1032.5796 | H121: =Reductive_Iron!AA2 -> 0.16561946 | I121: =Reductive_Iron!AB2 -> 8.6208637e-05 | J121: =Reductive_Iron!AC2 -> 0.99947975 | K121: =Reductive_Iron!AD2 -> 0.16570567 | ... N121: =Reductive_Iron!AG2 -> Lower bound
A122: 121 | B122: RedFe_Wang2024 | C122: RedFe_Wang_02 | D122: =Reductive_Iron!W3 -> 6231.4079 | E122: =Reductive_Iron!X3 -> 1078.147 | F122: =Reductive_Iron!Y3 -> 12.534694 | G122: =Reductive_Iron!Z3 -> 1090.6817 | H122: =Reductive_Iron!AA3 -> 0.1730182 | I122: =Reductive_Iron!AB3 -> 0.0020115349 | J122: =Reductive_Iron!AC3 -> 0.98850747 | K122: =Reductive_Iron!AD3 -> 0.17502973 | ... N122: =Reductive_Iron!AG3 -> Lower bound
A123: 122 | B123: RedFe_Wang2024 | C123: RedFe_Wang_03 | D123: =Reductive_Iron!W4 -> 6231.4079 | E123: =Reductive_Iron!X4 -> 974.92977 | F123: =Reductive_Iron!Y4 -> 25.964724 | G123: =Reductive_Iron!Z4 -> 1000.8945 | H123: =Reductive_Iron!AA4 -> 0.15645417 | I123: =Reductive_Iron!AB4 -> 0.0041667508 | J123: =Reductive_Iron!AC4 -> 0.97405848 | K123: =Reductive_Iron!AD4 -> 0.16062092 | ... N123: =Reductive_Iron!AG4 -> Lower bound
A124: 123 | B124: RedFe_Wang2024 | C124: RedFe_Wang_04 | D124: =Reductive_Iron!W5 -> 6231.4079 | E124: =Reductive_Iron!X5 -> 630.69979 | F124: =Reductive_Iron!Y5 -> 37.962217 | G124: =Reductive_Iron!Z5 -> 668.662 | H124: =Reductive_Iron!AA5 -> 0.10121305 | I124: =Reductive_Iron!AB5 -> 0.006092077 | J124: =Reductive_Iron!AC5 -> 0.9432266 | K124: =Reductive_Iron!AD5 -> 0.10730513 | ... N124: =Reductive_Iron!AG5 -> Lower bound
A125: 124 | B125: RedFe_Wang2024 | C125: RedFe_Wang_05 | D125: =Reductive_Iron!W6 -> 6231.4079 | E125: =Reductive_Iron!X6 -> 582.78214 | F125: =Reductive_Iron!Y6 -> 50.675978 | G125: =Reductive_Iron!Z6 -> 633.45812 | H125: =Reductive_Iron!AA6 -> 0.093523351 | I125: =Reductive_Iron!AB6 -> 0.0081323481 | J125: =Reductive_Iron!AC6 -> 0.92000106 | K125: =Reductive_Iron!AD6 -> 0.1016557 | ... N125: =Reductive_Iron!AG6 -> Lower bound
A126: 125 | B126: RedSR_Paepatung2022 | C126: RedSR_Paepatung_01 | D126: =Reductive_Sulfate!Z2 -> 7643.3824 | E126: =Reductive_Sulfate!AA2 -> 185.53922 | F126: =Reductive_Sulfate!AB2 -> 978.43137 | G126: =Reductive_Sulfate!AC2 -> 1163.9706 | H126: =Reductive_Sulfate!AD2 -> 0.024274491 | I126: =Reductive_Sulfate!AE2 -> 0.12801026 | J126: =Reductive_Sulfate!AF2 -> 0.15940198 | K126: =Reductive_Sulfate!AG2 -> 0.15228475 | ... N126: =Reductive_Sulfate!AJ2 -> As calculated
A127: 126 | B127: RedSR_Paepatung2022 | C127: RedSR_Paepatung_02 | D127: =Reductive_Sulfate!Z3 -> 27977.976 | E127: =Reductive_Sulfate!AA3 -> 13502.381 | F127: =Reductive_Sulfate!AB3 -> 7583.9286 | G127: =Reductive_Sulfate!AC3 -> 21086.31 | H127: =Reductive_Sulfate!AD3 -> 0.48260749 | I127: =Reductive_Sulfate!AE3 -> 0.2710678 | J127: =Reductive_Sulfate!AF3 -> 0.64033874 | K127: =Reductive_Sulfate!AG3 -> 0.7536753 | ... N127: =Reductive_Sulfate!AJ3 -> As calculated
A128: 127 | B128: RedSR_Li2017 | C128: RedSR_Li_01 | D128: =Reductive_Sulfate!Z4 -> 200 | E128: =Reductive_Sulfate!AA4 -> 5.0255102 | F128: =Reductive_Sulfate!AB4 -> 90.025 | G128: =Reductive_Sulfate!AC4 -> 95.05051 | H128: =Reductive_Sulfate!AD4 -> 0.025127551 | I128: =Reductive_Sulfate!AE4 -> 0.450125 | J128: =Reductive_Sulfate!AF4 -> 0.052871996 | K128: =Reductive_Sulfate!AG4 -> 0.47525255 | ... N128: =Reductive_Sulfate!AJ4 -> As calculated
A129: 128 | B129: RedSR_Li2017 | C129: RedSR_Li_02 | D129: =Reductive_Sulfate!Z5 -> 200 | E129: =Reductive_Sulfate!AA5 -> 20.395408 | F129: =Reductive_Sulfate!AB5 -> 86.991667 | G129: =Reductive_Sulfate!AC5 -> 107.38707 | H129: =Reductive_Sulfate!AD5 -> 0.10197704 | I129: =Reductive_Sulfate!AE5 -> 0.43495833 | J129: =Reductive_Sulfate!AF5 -> 0.18992424 | K129: =Reductive_Sulfate!AG5 -> 0.53693537 | ... N129: =Reductive_Sulfate!AJ5 -> As calculated
A130: 129 | B130: RedSR_Lu2016 | C130: RedSR_Lu_01 | D130: =Reductive_Sulfate!Z6 -> 103.775 | E130: =Reductive_Sulfate!AA6 -> 77.41615 | F130: =Reductive_Sulfate!AB6 -> 6.7416667 | G130: =Reductive_Sulfate!AC6 -> 84.157817 | H130: =Reductive_Sulfate!AD6 -> 0.746 | I130: =Reductive_Sulfate!AE6 -> 0.064964266 | J130: =Reductive_Sulfate!AF6 -> 0.91989257 | K130: =Reductive_Sulfate!AG6 -> 0.81096427 | ... N130: =Reductive_Sulfate!AJ6 -> As calculated
A131: 130 | B131: RedSR_Lu2016 | C131: RedSR_Lu_02 | D131: =Reductive_Sulfate!Z7 -> 116.075 | E131: =Reductive_Sulfate!AA7 -> 78.4667 | F131: =Reductive_Sulfate!AB7 -> 13.766667 | G131: =Reductive_Sulfate!AC7 -> 92.233367 | H131: =Reductive_Sulfate!AD7 -> 0.676 | I131: =Reductive_Sulfate!AE7 -> 0.11860148 | J131: =Reductive_Sulfate!AF7 -> 0.85074093 | K131: =Reductive_Sulfate!AG7 -> 0.79460148 | ... N131: =Reductive_Sulfate!AJ7 -> As calculated
A132: 131 | B132: RedSR_Lu2016 | C132: RedSR_Lu_03 | D132: =Reductive_Sulfate!Z8 -> 131.475 | E132: =Reductive_Sulfate!AA8 -> 88.3512 | F132: =Reductive_Sulfate!AB8 -> 22.944444 | G132: =Reductive_Sulfate!AC8 -> 111.29564 | H132: =Reductive_Sulfate!AD8 -> 0.672 | I132: =Reductive_Sulfate!AE8 -> 0.17451565 | J132: =Reductive_Sulfate!AF8 -> 0.79384239 | K132: =Reductive_Sulfate!AG8 -> 0.84651565 | ... N132: =Reductive_Sulfate!AJ8 -> As calculated
A133: 132 | B133: RedSR_ Lu2016 | C133: RedSR_Lu_04 | D133: =Reductive_Sulfate!Z9 -> 122.0375 | E133: =Reductive_Sulfate!AA9 -> 57.6017 | F133: =Reductive_Sulfate!AB9 -> 34.416667 | G133: =Reductive_Sulfate!AC9 -> 92.018367 | H133: =Reductive_Sulfate!AD9 -> 0.472 | I133: =Reductive_Sulfate!AE9 -> 0.28201714 | J133: =Reductive_Sulfate!AF9 -> 0.62598047 | K133: =Reductive_Sulfate!AG9 -> 0.75401714 | ... N133: =Reductive_Sulfate!AJ9 -> As calculated
A134: 133 | B134: RedSR_ Lu2016 | C134: RedSR_Lu_05 | D134: =Reductive_Sulfate!Z10 -> 114.9625 | E134: =Reductive_Sulfate!AA10 -> 5.05835 | F134: =Reductive_Sulfate!AB10 -> 17.666667 | G134: =Reductive_Sulfate!AC10 -> 22.725017 | H134: =Reductive_Sulfate!AD10 -> 0.044 | I134: =Reductive_Sulfate!AE10 -> 0.1536733 | J134: =Reductive_Sulfate!AF10 -> 0.2225895 | K134: =Reductive_Sulfate!AG10 -> 0.1976733 | ... N134: =Reductive_Sulfate!AJ10 -> As calculated
A135: 134 | B135: RedSR_ Lu2016 | C135: RedSR_Lu_06 | D135: =Reductive_Sulfate!Z11 -> 123.975 | E135: =Reductive_Sulfate!AA11 -> 2.851425 | F135: =Reductive_Sulfate!AB11 -> 25 | G135: =Reductive_Sulfate!AC11 -> 27.851425 | H135: =Reductive_Sulfate!AD11 -> 0.023 | I135: =Reductive_Sulfate!AE11 -> 0.20165356 | J135: =Reductive_Sulfate!AF11 -> 0.10237986 | K135: =Reductive_Sulfate!AG11 -> 0.22465356 | ... N135: =Reductive_Sulfate!AJ11 -> As calculated
A138: NR=not reported in the source study; NC=not calculable from the reported data; NA=Not applicable to the system ; R-DIG = Reported graphically; digitization required
