Workbook

Sheet VFA_Formation
A1: No. | B1: Study ID | C1: Case ID | D1: Reference (Author, Year) | E1: Mode | F1: Substrate | G1: E_in basis (COD type) | H1: Sample | I1: pH | J1: T (C) | K1: HRT/SRT (d) | L1: Main objective | M1: Analysis window | N1: COD_input (mgCOD/L) | O1: Acetate (mg/L) | P1: Propionate (mg/L) | Q1: Butyrate (mg/L) | R1: iso-Butyrate (mg/L) | S1: Valerate (mg/L) | T1: iso-Valerate (mg/L) | U1: Total VFA (mg/L or mgCOD/L) | V1: Other VFA | W1: CH4 (mL/L) | X1: H2 (mL/L) | Y1: E_in (mmol e-/L) | Z1: E_target (mmol e-/L) | AA1: E_competing (mmol e-/L) | AB1: E_expressed (mmol e-/L) | AC1: f_target | AD1: f_competing | AE1: A_target | AF1: f_expressed | AG1: E_unresolved (mmol e-/L) | AH1: f_unresolved | AI1: Interpretation of f_target, f_expressed
A2: 1 | B2: VFA_Liu2017 | C2: VFA_Liu_01 | D2: Liu et al., 2017 | E2: Batch | F2: Simulated food waste | G2: Total COD | H2: Control_0g/L_Salt+Oil | I2: 6 | J2: 35 | K2: 5 (batch incubation) | L2: VFA production | M2: t=0 to peak VFA | N2: =((338.45/199.5*150)*2.96/4)*1000 -> 188310.53 | O2: =0.476*U2 -> 19544.56 | P2: =8.9/100*U2 -> 3654.34 | Q2: =0.264*U2 -> 10839.84 | R2: 0 | S2: 0 | T2: 0 | U2: 41060 | V2: =U2-SUM(O2:Q2) -> 7021.26 | W2: NR | X2: NR | Y2: =N2/8 -> 23538.816 | Z2: =(O2*1.066+P2*1.512+Q2*1.816+V2*1.963)/8 -> 7478.4682 | AA2: NC | AB2: NC | AC2: NC | AD2: NC | AE2: NC | AF2: NC | AG2: NC | AH2: NC | AI2: =IF(G2="","",IF(AF2="NC","NC",IF(OR(AF2<0,AF2>1),"Excluded",IF(OR(G2="Total COD",G2="Mixed"),"Lower bound",IF(OR(G2="Defined substrate",G2="Biodegradable COD"),"As calculated","CHECK"))))) -> NC
A3: 2 | B3: VFA_Liu2017 | C3: VFA_Liu_02 | D3: Liu et al., 2017 | E3: Batch | F3: Simulated food waste | G3: Total COD | H3: 3g/L_Salt | I3: 6 | J3: 35 | K3: 6 (batch incubation) | L3: VFA production | M3: t=0 to peak VFA | N3: =((338.45/199.5*150)*2.96/4)*1000 -> 188310.53 | O3: =0.427*U3 -> 15448.86 | P3: =0.103*U3 -> 3726.54 | Q3: =0.271*U3 -> 9804.78 | R3: 0 | S3: 0 | T3: 0 | U3: 36180 | V3: =U3-SUM(O3:Q3) -> 7199.82 | W3: NR | X3: NR | Y3: =N3/8 -> 23538.816 | Z3: =(O3*1.066+P3*1.512+Q3*1.816+V3*1.963)/8 -> 6755.2175 | AA3: NC | AB3: NC | AC3: NC | AD3: NC | AE3: NC | AF3: NC | AG3: NC | AH3: NC | AI3: =IF(G3="","",IF(AF3="NC","NC",IF(OR(AF3<0,AF3>1),"Excluded",IF(OR(G3="Total COD",G3="Mixed"),"Lower bound",IF(OR(G3="Defined substrate",G3="Biodegradable COD"),"As calculated","CHECK"))))) -> NC
A4: 3 | B4: VFA_Liu2017 | C4: VFA_Liu_03 | D4: Liu et al., 2017 | E4: Batch | F4: Simulated food waste | G4: Total COD | H4: 6g/L_Salt | I4: 6 | J4: 35 | K4: 7 (batch incubation) | L4: VFA production | M4: t=0 to peak VFA | N4: =((338.45/199.5*150)*2.96/4)*1000 -> 188310.53 | O4: =0.406*U4 -> 13548.22 | P4: =0.04*U4 -> 1334.8 | Q4: =0.353*U4 -> 11779.61 | R4: 0 | S4: 0 | T4: 0 | U4: 33370 | V4: =U4-SUM(O4:Q4) -> 6707.37 | W4: NR | X4: NR | Y4: =N4/8 -> 23538.816 | Z4: =(O4*1.066+P4*1.512+Q4*1.816+V4*1.963)/8 -> 6377.3699 | AA4: NC | AB4: NC | AC4: NC | AD4: NC | AE4: NC | AF4: NC | AG4: NC | AH4: NC | AI4: =IF(G4="","",IF(AF4="NC","NC",IF(OR(AF4<0,AF4>1),"Excluded",IF(OR(G4="Total COD",G4="Mixed"),"Lower bound",IF(OR(G4="Defined substrate",G4="Biodegradable COD"),"As calculated","CHECK"))))) -> NC
A5: 4 | B5: VFA_Liu2017 | C5: VFA_Liu_04 | D5: Liu et al., 2017 | E5: Batch | F5: Simulated food waste | G5: Total COD | H5: 9g/L_Salt | I5: 6 | J5: 35 | K5: 8 (batch incubation) | L5: VFA production | M5: t=0 to peak VFA | N5: =((338.45/199.5*150)*2.96/4)*1000 -> 188310.53 | O5: =0.255*U5 -> 5775.75 | P5: =0.085*U5 -> 1925.25 | Q5: =0.512*U5 -> 11596.8 | R5: 0 | S5: 0 | T5: 0 | U5: 22650 | V5: =U5-SUM(O5:Q5) -> 3352.2 | W5: NR | X5: NR | Y5: =N5/8 -> 23538.816 | Z5: =(O5*1.066+P5*1.512+Q5*1.816+V5*1.963)/8 -> 4588.5106 | AA5: NC | AB5: NC | AC5: NC | AD5: NC | AE5: NC | AF5: NC | AG5: NC | AH5: NC | AI5: =IF(G5="","",IF(AF5="NC","NC",IF(OR(AF5<0,AF5>1),"Excluded",IF(OR(G5="Total COD",G5="Mixed"),"Lower bound",IF(OR(G5="Defined substrate",G5="Biodegradable COD"),"As calculated","CHECK"))))) -> NC
A6: 5 | B6: VFA_Liu2017 | C6: VFA_Liu_05 | D6: Liu et al., 2017 | E6: Batch | F6: Simulated food waste | G6: Total COD | H6: 12g/L_Salt | I6: 6 | J6: 35 | K6: 9 (batch incubation) | L6: VFA production | M6: t=0 to peak VFA | N6: =((338.45/199.5*150)*2.96/4)*1000 -> 188310.53 | O6: =0.252*U6 -> 1043.28 | P6: =0.027*U6 -> 111.78 | Q6: =0.189*U6 -> 782.46 | R6: 0 | S6: 0 | T6: 0 | U6: 4140 | V6: =U6-SUM(O6:Q6) -> 2202.48 | W6: NR | X6: NR | Y6: =N6/8 -> 23538.816 | Z6: =(O6*1.066+P6*1.512+Q6*1.816+V6*1.963)/8 -> 878.19543 | AA6: NC | AB6: NC | AC6: NC | AD6: NC | AE6: NC | AF6: NC | AG6: NC | AH6: NC | AI6: =IF(G6="","",IF(AF6="NC","NC",IF(OR(AF6<0,AF6>1),"Excluded",IF(OR(G6="Total COD",G6="Mixed"),"Lower bound",IF(OR(G6="Defined substrate",G6="Biodegradable COD"),"As calculated","CHECK"))))) -> NC
A7: 6 | B7: VFA_Liu2017 | C7: VFA_Liu_06 | D7: Liu et al., 2017 | E7: Batch | F7: Simulated food waste | G7: Mixed | H7: 5g/L_Oil | I7: 6 | J7: 35 | K7: 10 (batch incubation) | L7: VFA production | M7: t=0 to peak VFA | N7: =(((338.45/199.5*150)*2.96/4)*1000)+(2.9*5*1000) -> 202810.53 | O7: =0.343*U7 -> 13260.38 | P7: =0.321*U7 -> 12409.86 | Q7: =0.248*U7 -> 9587.68 | R7: 0 | S7: 0 | T7: 0 | U7: 38660 | V7: =U7-SUM(O7:Q7) -> 3402.08 | W7: NR | X7: NR | Y7: =N7/8 -> 25351.316 | Z7: =(O7*1.066+P7*1.512+Q7*1.816+V7*1.963)/8 -> 7123.5979 | AA7: NC | AB7: NC | AC7: NC | AD7: NC | AE7: NC | AF7: NC | AG7: NC | AH7: NC | AI7: =IF(G7="","",IF(AF7="NC","NC",IF(OR(AF7<0,AF7>1),"Excluded",IF(OR(G7="Total COD",G7="Mixed"),"Lower bound",IF(OR(G7="Defined substrate",G7="Biodegradable COD"),"As calculated","CHECK"))))) -> NC
A8: 7 | B8: VFA_Liu2017 | C8: VFA_Liu_07 | D8: Liu et al., 2017 | E8: Batch | F8: Simulated food waste | G8: Mixed | H8: 15g/L_Oil | I8: 6 | J8: 35 | K8: 11 (batch incubation) | L8: VFA production | M8: t=0 to peak VFA | N8: =(((338.45/199.5*150)*2.96/4)*1000)+(2.9*15*1000) -> 231810.53 | O8: =0.288*U8 -> 9469.44 | P8: =0.231*U8 -> 7595.28 | Q8: =0.368*U8 -> 12099.84 | R8: 0 | S8: 0 | T8: 0 | U8: 32880 | V8: =U8-SUM(O8:Q8) -> 3715.44 | W8: NR | X8: NR | Y8: =N8/8 -> 28976.316 | Z8: =(O8*1.066+P8*1.512+Q8*1.816+V8*1.963)/8 -> 6355.6506 | AA8: NC | AB8: NC | AC8: NC | AD8: NC | AE8: NC | AF8: NC | AG8: NC | AH8: NC | AI8: =IF(G8="","",IF(AF8="NC","NC",IF(OR(AF8<0,AF8>1),"Excluded",IF(OR(G8="Total COD",G8="Mixed"),"Lower bound",IF(OR(G8="Defined substrate",G8="Biodegradable COD"),"As calculated","CHECK"))))) -> NC
A9: 8 | B9: VFA_Liu2017 | C9: VFA_Liu_08 | D9: Liu et al., 2017 | E9: Batch | F9: Simulated food waste | G9: Mixed | H9: 25g/L_Oil | I9: 6 | J9: 35 | K9: 12 (batch incubation) | L9: VFA production | M9: t=0 to peak VFA | N9: =(((338.45/199.5*150)*2.96/4)*1000)+(2.9*25*1000) -> 260810.53 | O9: =0.235*U9 -> 5456.7 | P9: =0.203*U9 -> 4713.66 | Q9: =0.421*U9 -> 9775.62 | R9: 0 | S9: 0 | T9: 0 | U9: 23220 | V9: =U9-SUM(O9:Q9) -> 3274.02 | W9: NR | X9: NR | Y9: =N9/8 -> 32601.316 | Z9: =(O9*1.066+P9*1.512+Q9*1.816+V9*1.963)/8 -> 4640.4154 | AA9: NC | AB9: NC | AC9: NC | AD9: NC | AE9: NC | AF9: NC | AG9: NC | AH9: NC | AI9: =IF(G9="","",IF(AF9="NC","NC",IF(OR(AF9<0,AF9>1),"Excluded",IF(OR(G9="Total COD",G9="Mixed"),"Lower bound",IF(OR(G9="Defined substrate",G9="Biodegradable COD"),"As calculated","CHECK"))))) -> NC
A10: 9 | B10: VFA_Liu2017 | C10: VFA_Liu_09 | D10: Liu et al., 2017 | E10: Batch | F10: Simulated food waste | G10: Mixed | H10: 35g/L_Oil | I10: 6 | J10: 35 | K10: 13 (batch incubation) | L10: VFA production | M10: t=0 to peak VFA | N10: =(((338.45/199.5*150)*2.96/4)*1000)+(2.9*35*1000) -> 289810.53 | O10: =0.24*U10 -> 3225.6 | P10: =0.202*U10 -> 2714.88 | Q10: =0.39*U10 -> 5241.6 | R10: 0 | S10: 0 | T10: 0 | U10: 13440 | V10: =U10-SUM(O10:Q10) -> 2257.92 | W10: NR | X10: NR | Y10: =N10/8 -> 36226.316 | Z10: =(O10*1.066+P10*1.512+Q10*1.816+V10*1.963)/8 -> 2686.8038 | AA10: NC | AB10: NC | AC10: NC | AD10: NC | AE10: NC | AF10: NC | AG10: NC | AH10: NC | AI10: =IF(G10="","",IF(AF10="NC","NC",IF(OR(AF10<0,AF10>1),"Excluded",IF(OR(G10="Total COD",G10="Mixed"),"Lower bound",IF(OR(G10="Defined substrate",G10="Biodegradable COD"),"As calculated","CHECK"))))) -> NC
A11: 10 | B11: VFA_Sarkar2020 | C11: VFA_Sarkar_01 | D11: Sarkar et al., 2020 | E11: Semi-continuous | F11: Food waste (oil removed) | G11: Total COD | H11: Control_0g/L_NaCl | I11: 6 | J11: 28 | K11: 2 (cycle length) | L11: VFA production | M11: t=0 to 48h | N11: 15000 | O11: 1790 | P11: 1597 | Q11: 1452 | R11: NR | S11: 0 | T11: NR | U11: 4603 | V11: NR | W11: 3289 | X11: 777.6 | Y11: =N11/8 -> 1875 | Z11: =(O11*1.066+P11*1.512+Q11*1.816+S11*2.037-905)/8 -> 756.8295 | AA11: =((W11*8)/24.71)+((X11*2)/24.71) -> 1127.7701 | AB11: =Z11+AA11 -> 1884.5996 | AC11: =Z11/Y11 -> 0.4036424 | AD11: =AA11/Y11 -> 0.6014774 | AE11: =Z11/AB11 -> 0.40158636 | AF11: =AB11/Y11 -> 1.0051198 | AG11: =Y11-SUM(Z11:AA11) -> -9.5996335 | AH11: =AG11/Y11 -> -0.0051198046 | AI11: =IF(G11="","",IF(AF11="NC","NC",IF(OR(AF11<0,AF11>1),"Excluded",IF(OR(G11="Total COD",G11="Mixed"),"Lower bound",IF(OR(G11="Defined substrate",G11="Biodegradable COD"),"As calculated","CHECK"))))) -> Excluded
A12: 11 | B12: VFA_Sarkar2020 | C12: VFA_Sarkar_02 | D12: Sarkar et al., 2020 | E12: Semi-continuous | F12: Food waste (oil removed) | G12: Total COD | H12: 1g/L_NaCl | I12: 6 | J12: 28 | K12: 2 (cycle length) | L12: VFA production | M12: t=0 to 48h | N12: 15000 | O12: 2638 | P12: 807 | Q12: 1722 | R12: NR | S12: 215.4 | T12: NR | U12: 5384 | V12: NR | W12: =1.94*(1-0.34)*1000/0.5 -> 2560.8 | X12: 1324.8 | Y12: =N12/8 -> 1875 | Z12: =(O12*1.066+P12*1.512+Q12*1.816+S12*2.037-905)/8 -> 836.65173 | AA12: =((W12*8)/24.71)+((X12*2)/24.71) -> 936.30109 | AB12: =Z12+AA12 -> 1772.9528 | AC12: =Z12/Y12 -> 0.44621425 | AD12: =AA12/Y12 -> 0.49936058 | AE12: =Z12/AB12 -> 0.47189734 | AF12: =AB12/Y12 -> 0.94557484 | AG12: =Y12-SUM(Z12:AA12) -> 102.04718 | AH12: =AG12/Y12 -> 0.054425164 | AI12: =IF(G12="","",IF(AF12="NC","NC",IF(OR(AF12<0,AF12>1),"Excluded",IF(OR(G12="Total COD",G12="Mixed"),"Lower bound",IF(OR(G12="Defined substrate",G12="Biodegradable COD"),"As calculated","CHECK"))))) -> Lower bound
A13: 12 | B13: VFA_Sarkar2020 | C13: VFA_Sarkar_03 | D13: Sarkar et al., 2020 | E13: Semi-continuous | F13: Food waste (oil removed) | G13: Total COD | H13: 5g/L_NaCl | I13: 6 | J13: 28 | K13: 2 (cycle length) | L13: VFA production | M13: t=0 to 48h | N13: 15000 | O13: 2625 | P13: 1187 | Q13: 2125 | R13: NR | S13: 312.5 | T13: NR | U13: 6250 | V13: NR | W13: =720/0.5 -> 1440 | X13: 1440 | Y13: =N13/8 -> 1875 | Z13: =(O13*1.066+P13*1.512+Q13*1.816+S13*2.037-905)/8 -> 1022.9446 | AA13: =((W13*8)/24.71)+((X13*2)/24.71) -> 582.76002 | AB13: =Z13+AA13 -> 1605.7046 | AC13: =Z13/Y13 -> 0.54557043 | AD13: =AA13/Y13 -> 0.31080534 | AE13: =Z13/AB13 -> 0.63706897 | AF13: =AB13/Y13 -> 0.85637578 | AG13: =Y13-SUM(Z13:AA13) -> 269.29542 | AH13: =AG13/Y13 -> 0.14362422 | AI13: =IF(G13="","",IF(AF13="NC","NC",IF(OR(AF13<0,AF13>1),"Excluded",IF(OR(G13="Total COD",G13="Mixed"),"Lower bound",IF(OR(G13="Defined substrate",G13="Biodegradable COD"),"As calculated","CHECK"))))) -> Lower bound
A14: 13 | B14: VFA_Sarkar2020 | C14: VFA_Sarkar_04 | D14: Sarkar et al., 2020 | E14: Semi-continuous | F14: Food waste (oil removed) | G14: Total COD | H14: 10g/L_NaCl | I14: 6 | J14: 28 | K14: 2 (cycle length) | L14: VFA production | M14: t=0 to 48h | N14: 15000 | O14: 2631 | P14: 1101 | Q14: 1958 | R14: NR | S14: 428.4 | T14: NR | U14: 6120 | V14: NR | W14: 0 | X14: 1468.8 | Y14: =N14/8 -> 1875 | Z14: =(O14*1.066+P14*1.512+Q14*1.816+S14*2.037-905)/8 -> 999.0921 | AA14: =((W14*8)/24.71)+((X14*2)/24.71) -> 118.88304 | AB14: =Z14+AA14 -> 1117.9751 | AC14: =Z14/Y14 -> 0.53284912 | AD14: =AA14/Y14 -> 0.06340429 | AE14: =Z14/AB14 -> 0.89366218 | AF14: =AB14/Y14 -> 0.59625341 | AG14: =Y14-SUM(Z14:AA14) -> 757.02486 | AH14: =AG14/Y14 -> 0.40374659 | AI14: =IF(G14="","",IF(AF14="NC","NC",IF(OR(AF14<0,AF14>1),"Excluded",IF(OR(G14="Total COD",G14="Mixed"),"Lower bound",IF(OR(G14="Defined substrate",G14="Biodegradable COD"),"As calculated","CHECK"))))) -> Lower bound
A15: 14 | B15: VFA_Sarkar2020 | C15: VFA_Sarkar_05 | D15: Sarkar et al., 2020 | E15: Semi-continuous | F15: Food waste (oil removed) | G15: Total COD | H15: 20g/L_NaCl | I15: 6 | J15: 28 | K15: 2 (cycle length) | L15: VFA production | M15: t=0 to 48h | N15: 15000 | O15: 2141 | P15: 1038 | Q15: 2595 | R15: NR | S15: 713.7 | T15: NR | U15: 6488 | V15: NR | W15: 0 | X15: 1670.4 | Y15: =N15/8 -> 1875 | Z15: =(O15*1.066+P15*1.512+Q15*1.816+S15*2.037-905)/8 -> 1139.1361 | AA15: =((W15*8)/24.71)+((X15*2)/24.71) -> 135.20032 | AB15: =Z15+AA15 -> 1274.3364 | AC15: =Z15/Y15 -> 0.60753926 | AD15: =AA15/Y15 -> 0.072106839 | AE15: =Z15/AB15 -> 0.89390531 | AF15: =AB15/Y15 -> 0.6796461 | AG15: =Y15-SUM(Z15:AA15) -> 600.66356 | AH15: =AG15/Y15 -> 0.3203539 | AI15: =IF(G15="","",IF(AF15="NC","NC",IF(OR(AF15<0,AF15>1),"Excluded",IF(OR(G15="Total COD",G15="Mixed"),"Lower bound",IF(OR(G15="Defined substrate",G15="Biodegradable COD"),"As calculated","CHECK"))))) -> Lower bound
A16: 15 | B16: VFA_Sarkar2020 | C16: VFA_Sarkar_06 | D16: Sarkar et al., 2020 | E16: Semi-continuous | F16: Food waste (oil removed) | G16: Total COD | H16: 30g/L_NaCl | I16: 6 | J16: 28 | K16: 2 (cycle length) | L16: VFA production | M16: t=0 to 48h | N16: 15000 | O16: 1760 | P16: 978 | Q16: 2868 | R16: NR | S16: 912.8 | T16: NR | U16: 6520 | V16: NR | W16: 0 | X16: 1612.8 | Y16: =N16/8 -> 1875 | Z16: =(O16*1.066+P16*1.512+Q16*1.816+S16*2.037-905)/8 -> 1189.6947 | AA16: =((W16*8)/24.71)+((X16*2)/24.71) -> 130.53824 | AB16: =Z16+AA16 -> 1320.2329 | AC16: =Z16/Y16 -> 0.63450384 | AD16: =AA16/Y16 -> 0.069620397 | AE16: =Z16/AB16 -> 0.90112484 | AF16: =AB16/Y16 -> 0.70412424 | AG16: =Y16-SUM(Z16:AA16) -> 554.76706 | AH16: =AG16/Y16 -> 0.29587576 | AI16: =IF(G16="","",IF(AF16="NC","NC",IF(OR(AF16<0,AF16>1),"Excluded",IF(OR(G16="Total COD",G16="Mixed"),"Lower bound",IF(OR(G16="Defined substrate",G16="Biodegradable COD"),"As calculated","CHECK"))))) -> Lower bound
A17: 16 | B17: VFA_Sarkar2020 | C17: VFA_Sarkar_07 | D17: Sarkar et al., 2020 | E17: Semi-continuous | F17: Food waste (oil removed) | G17: Total COD | H17: 40g/L_NaCl | I17: 6 | J17: 28 | K17: 2 (cycle length) | L17: VFA production | M17: t=0 to 48h | N17: 15000 | O17: 1644 | P17: 723 | Q17: 3091 | R17: NR | S17: 1118 | T17: NR | U17: 6578 | V17: NR | W17: 0 | X17: 2116.8 | Y17: =N17/8 -> 1875 | Z17: =(O17*1.066+P17*1.512+Q17*1.816+S17*2.037-905)/8 -> 1228.9128 | AA17: =((W17*8)/24.71)+((X17*2)/24.71) -> 171.33144 | AB17: =Z17+AA17 -> 1400.2442 | AC17: =Z17/Y17 -> 0.65542013 | AD17: =AA17/Y17 -> 0.091376771 | AE17: =Z17/AB17 -> 0.87764174 | AF17: =AB17/Y17 -> 0.7467969 | AG17: =Y17-SUM(Z17:AA17) -> 474.75581 | AH17: =AG17/Y17 -> 0.2532031 | AI17: =IF(G17="","",IF(AF17="NC","NC",IF(OR(AF17<0,AF17>1),"Excluded",IF(OR(G17="Total COD",G17="Mixed"),"Lower bound",IF(OR(G17="Defined substrate",G17="Biodegradable COD"),"As calculated","CHECK"))))) -> Lower bound
A18: 17 | B18: VFA_Sarkar2020 | C18: VFA_Sarkar_08 | D18: Sarkar et al., 2020 | E18: Semi-continuous | F18: Food waste (oil removed) | G18: Total COD | H18: 50g/L_NaCl | I18: 6 | J18: 28 | K18: 2 (cycle length) | L18: VFA production | M18: t=0 to 48h | N18: 15000 | O18: 1556 | P18: 891 | Q18: 2634 | R18: NR | S18: 734 | T18: NR | U18: 5988 | V18: NR | W18: 0 | X18: 1398.4 | Y18: =N18/8 -> 1875 | Z18: =(O18*1.066+P18*1.512+Q18*1.816+S18*2.037-905)/8 -> 1047.4237 | AA18: =((W18*8)/24.71)+((X18*2)/24.71) -> 113.18495 | AB18: =Z18+AA18 -> 1160.6087 | AC18: =Z18/Y18 -> 0.558626 | AD18: =AA18/Y18 -> 0.060365304 | AE18: =Z18/AB18 -> 0.90247794 | AF18: =AB18/Y18 -> 0.6189913 | AG18: =Y18-SUM(Z18:AA18) -> 714.3913 | AH18: =AG18/Y18 -> 0.3810087 | AI18: =IF(G18="","",IF(AF18="NC","NC",IF(OR(AF18<0,AF18>1),"Excluded",IF(OR(G18="Total COD",G18="Mixed"),"Lower bound",IF(OR(G18="Defined substrate",G18="Biodegradable COD"),"As calculated","CHECK"))))) -> Lower bound
A19: 18 | B19: VFA_Sun2024 | C19: VFA_Sun_01 | D19: Sun et al., 2024 | E19: Semi-continuous | F19: Primary sludge | G19: Total COD | H19: Control_0mg/L_H2O2 | I19: 7 | J19: 37 | K19: 15 | L19: VFA production | M19: Days 0–30 | N19: 7020 | O19: NR | P19: NR | Q19: NR | R19: NR | S19: NR | T19: NR | U19: =801*8.66/100 -> 69.3666 | V19: NR | W19: 2133 | X19: NR | Y19: =N19/8 -> 877.5 | Z19: =(40/200)*U19/8 -> 1.734165 | AA19: =W19*8/25.45 -> 670.49116 | AB19: =Z19+AA19 -> 672.22532 | AC19: =Z19/Y19 -> 0.0019762564 | AD19: =AA19/Y19 -> 0.76409249 | AE19: =Z19/AB19 -> 0.0025797377 | AF19: =AB19/Y19 -> 0.76606875 | AG19: =Y19-SUM(Z19:AA19) -> 205.27468 | AH19: =AG19/Y19 -> 0.23393125 | AI19: =IF(G19="","",IF(AF19="NC","NC",IF(OR(AF19<0,AF19>1),"Excluded",IF(OR(G19="Total COD",G19="Mixed"),"Lower bound",IF(OR(G19="Defined substrate",G19="Biodegradable COD"),"As calculated","CHECK"))))) -> Lower bound
A20: 19 | B20: VFA_Sun2024 | C20: VFA_Sun_02 | D20: Sun et al., 2024 | E20: Semi-continuous | F20: Primary sludge | G20: Total COD | H20: 40mg/L_H2O2 | I20: 7 | J20: 37 | K20: 15 | L20: VFA production | M20: Days 30–51 | N20: 7020 | O20: NR | P20: NR | Q20: NR | R20: NR | S20: NR | T20: NR | U20: =840*7.18/100 -> 60.312 | V20: NR | W20: 1773.6 | X20: NR | Y20: =N20/8 -> 877.5 | Z20: =(40/200)*U20/8 -> 1.5078 | AA20: =W20*8/25.45 -> 557.5167 | AB20: =Z20+AA20 -> 559.0245 | AC20: =Z20/Y20 -> 0.0017182906 | AD20: =AA20/Y20 -> 0.63534667 | AE20: =Z20/AB20 -> 0.0026971984 | AF20: =AB20/Y20 -> 0.63706496 | AG20: =Y20-SUM(Z20:AA20) -> 318.4755 | AH20: =AG20/Y20 -> 0.36293504 | AI20: =IF(G20="","",IF(AF20="NC","NC",IF(OR(AF20<0,AF20>1),"Excluded",IF(OR(G20="Total COD",G20="Mixed"),"Lower bound",IF(OR(G20="Defined substrate",G20="Biodegradable COD"),"As calculated","CHECK"))))) -> Lower bound
A21: 20 | B21: VFA_Sun2024 | C21: VFA_Sun_03 | D21: Sun et al., 2024 | E21: Semi-continuous | F21: Primary sludge | G21: Total COD | H21: 80mg/L_H2O2 | I21: 5 | J21: 37 | K21: 15 | L21: VFA production | M21: Days 93–150 | N21: 7020 | O21: NR | P21: NR | Q21: NR | R21: NR | S21: NR | T21: NR | U21: 10585.5 | V21: NR | W21: 0 | X21: NR | Y21: =N21/8 -> 877.5 | Z21: =(40/200)*U21/8 -> 264.6375 | AA21: =W21*8/25.45 -> 0 | AB21: =Z21+AA21 -> 264.6375 | AC21: =Z21/Y21 -> 0.3015812 | AD21: =AA21/Y21 -> 0 | AE21: =Z21/AB21 -> 1 | AF21: =AB21/Y21 -> 0.3015812 | AG21: =Y21-SUM(Z21:AA21) -> 612.8625 | AH21: =AG21/Y21 -> 0.6984188 | AI21: =IF(G21="","",IF(AF21="NC","NC",IF(OR(AF21<0,AF21>1),"Excluded",IF(OR(G21="Total COD",G21="Mixed"),"Lower bound",IF(OR(G21="Defined substrate",G21="Biodegradable COD"),"As calculated","CHECK"))))) -> Lower bound
A22: 21 | B22: VFA_Xu2021 | C22: VFA_Xu_01 | D22: Xu et al., 2021 | E22: Batch | F22: Glucose | G22: Defined substrate | H22: Control_0%_H2O2 | I22: NR | J22: 35 | K22: 5 (batch incubation) | L22: VFA production | M22: Day 0–5 | N22: 3000 | O22: 0 | P22: 30 | Q22: 369 | R22: 17 | S22: 0 | T22: 12.9 | U22: 429.3 | V22: NR | W22: =20.7*20 -> 414 | X22: NR | Y22: =N22/8 -> 375 | Z22: =(O22*1.066+P22*1.512+Q22*1.816+R22*1.816+S22*2.037+T22*2.037)/8 -> 96.576662 | AA22: =W22/25.29*8 -> 130.96085 | AB22: =Z22+AA22 -> 227.53752 | AC22: =Z22/Y22 -> 0.25753777 | AD22: =AA22/Y22 -> 0.34922894 | AE22: =Z22/AB22 -> 0.42444281 | AF22: =AB22/Y22 -> 0.60676671 | AG22: =Y22-SUM(Z22:AA22) -> 147.46248 | AH22: =AG22/Y22 -> 0.39323329 | AI22: =IF(G22="","",IF(AF22="NC","NC",IF(OR(AF22<0,AF22>1),"Excluded",IF(OR(G22="Total COD",G22="Mixed"),"Lower bound",IF(OR(G22="Defined substrate",G22="Biodegradable COD"),"As calculated","CHECK"))))) -> As calculated
A23: 22 | B23: VFA_Xu2021 | C23: VFA_Xu_02 | D23: Xu et al., 2021 | E23: Batch | F23: Glucose | G23: Defined substrate | H23: 0.03%_H2O2 | I23: NR | J23: 35 | K23: 5 (batch incubation) | L23: VFA production | M23: Day 0–5 | N23: 3000 | O23: 1088 | P23: 212 | Q23: 13 | R23: 13 | S23: 0 | T23: 0 | U23: 1326.3 | V23: NR | W23: =2.9*20 -> 58 | X23: NR | Y23: =N23/8 -> 375 | Z23: =(O23*1.066+P23*1.512+Q23*1.816+R23*1.816+S23*2.037+T23*2.037)/8 -> 190.946 | AA23: =W23/25.29*8 -> 18.347173 | AB23: =Z23+AA23 -> 209.29317 | AC23: =Z23/Y23 -> 0.50918933 | AD23: =AA23/Y23 -> 0.048925794 | AE23: =Z23/AB23 -> 0.91233745 | AF23: =AB23/Y23 -> 0.55811513 | AG23: =Y23-SUM(Z23:AA23) -> 165.70683 | AH23: =AG23/Y23 -> 0.44188487 | AI23: =IF(G23="","",IF(AF23="NC","NC",IF(OR(AF23<0,AF23>1),"Excluded",IF(OR(G23="Total COD",G23="Mixed"),"Lower bound",IF(OR(G23="Defined substrate",G23="Biodegradable COD"),"As calculated","CHECK"))))) -> As calculated
A24: 23 | B24: VFA_Xu2021 | C24: VFA_Xu_03 | D24: Xu et al., 2021 | E24: Batch | F24: Glucose | G24: Defined substrate | H24: 0.06%_H2O2 | I24: NR | J24: 35 | K24: 5 (batch incubation) | L24: VFA production | M24: Day 0–5 | N24: 3000 | O24: 987 | P24: 210 | Q24: 25 | R24: 12 | S24: 0 | T24: 0 | U24: 1233.1 | V24: NR | W24: =2*20 -> 40 | X24: NR | Y24: =N24/8 -> 375 | Z24: =(O24*1.066+P24*1.512+Q24*1.816+R24*1.816+S24*2.037+T24*2.037)/8 -> 179.60675 | AA24: =W24/25.29*8 -> 12.653223 | AB24: =Z24+AA24 -> 192.25997 | AC24: =Z24/Y24 -> 0.47895133 | AD24: =AA24/Y24 -> 0.033741927 | AE24: =Z24/AB24 -> 0.93418691 | AF24: =AB24/Y24 -> 0.51269326 | AG24: =Y24-SUM(Z24:AA24) -> 182.74003 | AH24: =AG24/Y24 -> 0.48730674 | AI24: =IF(G24="","",IF(AF24="NC","NC",IF(OR(AF24<0,AF24>1),"Excluded",IF(OR(G24="Total COD",G24="Mixed"),"Lower bound",IF(OR(G24="Defined substrate",G24="Biodegradable COD"),"As calculated","CHECK"))))) -> As calculated
A25: 24 | B25: VFA_Xu2021 | C25: VFA_Xu_04 | D25: Xu et al., 2021 | E25: Batch | F25: Glucose | G25: Defined substrate | H25: 0.1%_H2O2 | I25: NR | J25: 35 | K25: 5 (batch incubation) | L25: VFA production | M25: Day 0–5 | N25: 3000 | O25: 714 | P25: 275 | Q25: 20 | R25: 10 | S25: 0 | T25: 0 | U25: 1020 | V25: NR | W25: =1*20 -> 20 | X25: NR | Y25: =N25/8 -> 375 | Z25: =(O25*1.066+P25*1.512+Q25*1.816+R25*1.816+S25*2.037+T25*2.037)/8 -> 153.9255 | AA25: =W25/25.29*8 -> 6.3266113 | AB25: =Z25+AA25 -> 160.25211 | AC25: =Z25/Y25 -> 0.410468 | AD25: =AA25/Y25 -> 0.016870963 | AE25: =Z25/AB25 -> 0.96052089 | AF25: =AB25/Y25 -> 0.42733896 | AG25: =Y25-SUM(Z25:AA25) -> 214.74789 | AH25: =AG25/Y25 -> 0.57266104 | AI25: =IF(G25="","",IF(AF25="NC","NC",IF(OR(AF25<0,AF25>1),"Excluded",IF(OR(G25="Total COD",G25="Mixed"),"Lower bound",IF(OR(G25="Defined substrate",G25="Biodegradable COD"),"As calculated","CHECK"))))) -> As calculated
A26: 25 | B26: VFA_Xu2021 | C26: VFA_Xu_05 | D26: Xu et al., 2021 | E26: Batch | F26: Glucose | G26: Defined substrate | H26: 0.13%_H2O2 | I26: NR | J26: 35 | K26: 5 (batch incubation) | L26: VFA production | M26: Day 0–5 | N26: 3000 | O26: 277 | P26: 65 | Q26: 151 | R26: 5 | S26: 0 | T26: 5 | U26: 502.9 | V26: NR | W26: =0.7*20 -> 14 | X26: NR | Y26: =N26/8 -> 375 | Z26: =(O26*1.066+P26*1.512+Q26*1.816+R26*1.816+S26*2.037+T26*2.037)/8 -> 85.880375 | AA26: =W26/25.29*8 -> 4.4286279 | AB26: =Z26+AA26 -> 90.309003 | AC26: =Z26/Y26 -> 0.22901433 | AD26: =AA26/Y26 -> 0.011809674 | AE26: =Z26/AB26 -> 0.95096139 | AF26: =AB26/Y26 -> 0.24082401 | AG26: =Y26-SUM(Z26:AA26) -> 284.691 | AH26: =AG26/Y26 -> 0.75917599 | AI26: =IF(G26="","",IF(AF26="NC","NC",IF(OR(AF26<0,AF26>1),"Excluded",IF(OR(G26="Total COD",G26="Mixed"),"Lower bound",IF(OR(G26="Defined substrate",G26="Biodegradable COD"),"As calculated","CHECK"))))) -> As calculated
A27: 26 | B27: VFA_Jiang2025 | C27: VFA_Jiang_01 | D27: Jiang et al., 2025 | E27: Semi-continuous | F27: Food waste+dewatered sludge | G27: Total COD | H27: FD 100:0 | I27: 3.36 | J27: 37 | K27: 6.67 | L27: VFA production | M27: Day 1-33, Daily cycle | N27: =87590*(3/20) -> 13138.5 | O27: R-DIG | P27: R-DIG | Q27: R-DIG | R27: R-DIG | S27: R-DIG | T27: R-DIG | U27: 4200 | V27: NR | W27: NR | X27: NR | Y27: =N27/8 -> 1642.3125 | Z27: =(3/20)*U27/8 -> 78.75 | AA27: NC | AB27: NC | AC27: =Z27/Y27 -> 0.047950679 | AD27: NC | AE27: NC | AF27: NC | AG27: NC | AH27: NC | AI27: =IF(G27="","",IF(AF27="NC","NC",IF(OR(AF27<0,AF27>1),"Excluded",IF(OR(G27="Total COD",G27="Mixed"),"Lower bound",IF(OR(G27="Defined substrate",G27="Biodegradable COD"),"As calculated","CHECK"))))) -> NC
A28: 27 | B28: VFA_Jiang2025 | C28: VFA_Jiang_02 | D28: Jiang et al., 2025 | E28: Semi-continuous | F28: Food waste+dewatered sludge | G28: Total COD | H28: FD 19:1 | I28: 4.2 | J28: 37 | K28: 6.67 | L28: VFA production | M28: Day 34-67, Daily cycle | N28: =76710*(3/20) -> 11506.5 | O28: R-DIG | P28: R-DIG | Q28: R-DIG | R28: R-DIG | S28: R-DIG | T28: R-DIG | U28: 21551 | V28: NR | W28: NR | X28: NR | Y28: =N28/8 -> 1438.3125 | Z28: =(3/20)*U28/8 -> 404.08125 | AA28: NC | AB28: NC | AC28: =Z28/Y28 -> 0.28094121 | AD28: NC | AE28: NC | AF28: NC | AG28: NC | AH28: NC | AI28: =IF(G28="","",IF(AF28="NC","NC",IF(OR(AF28<0,AF28>1),"Excluded",IF(OR(G28="Total COD",G28="Mixed"),"Lower bound",IF(OR(G28="Defined substrate",G28="Biodegradable COD"),"As calculated","CHECK"))))) -> NC
A29: 28 | B29: VFA_Jiang2025 | C29: VFA_Jiang_03 | D29: Jiang et al., 2025 | E29: Semi-continuous | F29: Food waste+dewatered sludge | G29: Total COD | H29: FD 9:1 | I29: 4.5 | J29: 37 | K29: 6.67 | L29: VFA production | M29: Day 68-100, Daily cycle | N29: =69160*(3/20) -> 10374 | O29: R-DIG | P29: R-DIG | Q29: R-DIG | R29: R-DIG | S29: R-DIG | T29: R-DIG | U29: 25381 | V29: NR | W29: NR | X29: NR | Y29: =N29/8 -> 1296.75 | Z29: =(3/20)*U29/8 -> 475.89375 | AA29: NC | AB29: NC | AC29: =Z29/Y29 -> 0.36698959 | AD29: NC | AE29: NC | AF29: NC | AG29: NC | AH29: NC | AI29: =IF(G29="","",IF(AF29="NC","NC",IF(OR(AF29<0,AF29>1),"Excluded",IF(OR(G29="Total COD",G29="Mixed"),"Lower bound",IF(OR(G29="Defined substrate",G29="Biodegradable COD"),"As calculated","CHECK"))))) -> NC
A30: 29 | B30: VFA_Jiang2025 | C30: VFA_Jiang_04 | D30: Jiang et al., 2025 | E30: Semi-continuous | F30: Food waste+dewatered sludge | G30: Total COD | H30: FD 4:1 | I30: 5.71 | J30: 37 | K30: 6.67 | L30: VFA production | M30: Day 101-133, Daily cycle | N30: =61820*(3/20) -> 9273 | O30: R-DIG | P30: R-DIG | Q30: R-DIG | R30: R-DIG | S30: R-DIG | T30: R-DIG | U30: 37421 | V30: NR | W30: NR | X30: NR | Y30: =N30/8 -> 1159.125 | Z30: =(3/20)*U30/8 -> 701.64375 | AA30: NC | AB30: NC | AC30: =Z30/Y30 -> 0.6053219 | AD30: NC | AE30: NC | AF30: NC | AG30: NC | AH30: NC | AI30: =IF(G30="","",IF(AF30="NC","NC",IF(OR(AF30<0,AF30>1),"Excluded",IF(OR(G30="Total COD",G30="Mixed"),"Lower bound",IF(OR(G30="Defined substrate",G30="Biodegradable COD"),"As calculated","CHECK"))))) -> NC
A31: 30 | B31: VFA_Li2022 | C31: VFA_Li_01 | D31: Li et al., 2022 | E31: Semi-continuous | F31: Fruit waste | G31: Total COD | H31: OLR:8 | I31: 6 | J31: 35 | K31: 9.3 | L31: VFA production | M31: Steady-state (OLR:8) | N31: NR | O31: =0.447*U31 -> 23355.75 | P31: =U31*0.3006 -> 15706.35 | Q31: =U31*0.0989 -> 5167.525 | R31: =U31*0.0738 -> 3856.05 | S31: =U31*0.085 -> 4441.25 | T31: NR | U31: 52250 | V31: NR | W31: 0 | X31: =8*0.045*66.3 -> 23.868 | Y31: NC | Z31: =5.6*1000/8 -> 700 | AA31: =X31*2/25.29+W31 -> 1.8875445 | AB31: =SUM(Z31:AA31) -> 701.88754 | AC31: NC | AD31: NC | AE31: =Z31/AB31 -> 0.99731076 | AF31: NC | AG31: NC | AH31: NC | AI31: =IF(G31="","",IF(AF31="NC","NC",IF(OR(AF31<0,AF31>1),"Excluded",IF(OR(G31="Total COD",G31="Mixed"),"Lower bound",IF(OR(G31="Defined substrate",G31="Biodegradable COD"),"As calculated","CHECK"))))) -> NC
A32: 31 | B32: VFA_Li2022 | C32: VFA_Li_02 | D32: Li et al., 2022 | E32: Semi-continuous | F32: Fruit waste | G32: Total COD | H32: OLR:10 | I32: 6 | J32: 35 | K32: 7.2 | L32: VFA production | M32: Steady-state (OLR:10) | N32: NR | O32: =U32*0.3818 -> 21651.878 | P32: =U32*0.292 -> 16559.32 | Q32: =U32*0.1209 -> 6856.239 | R32: =U32*0.1058 -> 5999.918 | S32: =U32*0.0995 -> 5642.645 | T32: NR | U32: 56710 | V32: NR | W32: 0 | X32: =10*0.055*77.2 -> 42.46 | Y32: NC | Z32: =7.9*1000/8 -> 987.5 | AA32: =X32*2/25.29+W32 -> 3.357849 | AB32: =SUM(Z32:AA32) -> 990.85785 | AC32: NC | AD32: NC | AE32: =Z32/AB32 -> 0.99661117 | AF32: NC | AG32: NC | AH32: NC | AI32: =IF(G32="","",IF(AF32="NC","NC",IF(OR(AF32<0,AF32>1),"Excluded",IF(OR(G32="Total COD",G32="Mixed"),"Lower bound",IF(OR(G32="Defined substrate",G32="Biodegradable COD"),"As calculated","CHECK"))))) -> NC
A33: 32 | B33: VFA_Li2022 | C33: VFA_Li_03 | D33: Li et al., 2022 | E33: Semi-continuous | F33: Fruit waste | G33: Total COD | H33: OLR:12 | I33: 6 | J33: 35 | K33: 6.1 | L33: VFA production | M33: Steady-state (OLR:12) | N33: NR | O33: =U33*0.3294 -> 19355.544 | P33: =U33*0.2258 -> 13268.008 | Q33: =U33*0.2392 -> 14055.392 | R33: =U33*0.1224 -> 7192.224 | S33: =U33*0.0832 -> 4888.832 | T33: NR | U33: 58760 | V33: NR | W33: 0 | X33: =12*0.089*106.9 -> 114.1692 | Y33: NC | Z33: =9.57*1000/8 -> 1196.25 | AA33: =X33*2/25.29+W33 -> 9.0288019 | AB33: =SUM(Z33:AA33) -> 1205.2788 | AC33: NC | AD33: NC | AE33: =Z33/AB33 -> 0.99250895 | AF33: NC | AG33: NC | AH33: NC | AI33: =IF(G33="","",IF(AF33="NC","NC",IF(OR(AF33<0,AF33>1),"Excluded",IF(OR(G33="Total COD",G33="Mixed"),"Lower bound",IF(OR(G33="Defined substrate",G33="Biodegradable COD"),"As calculated","CHECK"))))) -> NC
A34: 33 | B34: VFA_Li2022 | C34: VFA_Li_04 | D34: Li et al., 2022 | E34: Semi-continuous | F34: Fruit waste | G34: Total COD | H34: OLR:14 | I34: 6 | J34: 35 | K34: 5.3 | L34: VFA production | M34: Steady-state (OLR:14) | N34: NR | O34: =U34*0.3234 -> 20018.46 | P34: =U34*0.1212 -> 7502.28 | Q34: =U34*0.356 -> 22036.4 | R34: =U34*0.1417 -> 8771.23 | S34: =U34*0.0577 -> 3571.63 | T34: NR | U34: 61900 | V34: NR | W34: 0 | X34: =14*0.12*121.5 -> 204.12 | Y34: NC | Z34: =11.61*1000/8 -> 1451.25 | AA34: =X34*2/25.29+W34 -> 16.142349 | AB34: =SUM(Z34:AA34) -> 1467.3923 | AC34: NC | AD34: NC | AE34: =Z34/AB34 -> 0.9889993 | AF34: NC | AG34: NC | AH34: NC | AI34: =IF(G34="","",IF(AF34="NC","NC",IF(OR(AF34<0,AF34>1),"Excluded",IF(OR(G34="Total COD",G34="Mixed"),"Lower bound",IF(OR(G34="Defined substrate",G34="Biodegradable COD"),"As calculated","CHECK"))))) -> NC
A35: 34 | B35: VFA_Li2022 | C35: VFA_Li_05 | D35: Li et al., 2022 | E35: Semi-continuous | F35: Fruit waste | G35: Total COD | H35: OLR:16 | I35: 6 | J35: 35 | K35: 4.7 | L35: VFA production | M35: Steady-state (OLR:16) | N35: NR | O35: =U35*0.2853 -> 17055.234 | P35: =U35*0.0783 -> 4680.774 | Q35: =U35*0.4842 -> 28945.476 | R35: =U35*0.1202 -> 7185.556 | S35: =U35*0.0321 -> 1918.938 | T35: NR | U35: 59780 | V35: NR | W35: 0 | X35: =16*0.115*139.2 -> 256.128 | Y35: NC | Z35: =12.82*1000/8 -> 1602.5 | AA35: =X35*2/25.29+W35 -> 20.255279 | AB35: =SUM(Z35:AA35) -> 1622.7553 | AC35: NC | AD35: NC | AE35: =Z35/AB35 -> 0.98751797 | AF35: NC | AG35: NC | AH35: NC | AI35: =IF(G35="","",IF(AF35="NC","NC",IF(OR(AF35<0,AF35>1),"Excluded",IF(OR(G35="Total COD",G35="Mixed"),"Lower bound",IF(OR(G35="Defined substrate",G35="Biodegradable COD"),"As calculated","CHECK"))))) -> NC
A36: 35 | B36: VFA_Li2022 | C36: VFA_Li_06 | D36: Li et al., 2022 | E36: Semi-continuous | F36: Fruit waste | G36: Total COD | H36: OLR:18 | I36: 6 | J36: 35 | K36: 4.1 | L36: VFA production | M36: Steady-state (OLR:18) | N36: NR | O36: =U36*0.2522 -> 15490.124 | P36: =U36*0.0665 -> 4084.43 | Q36: =U36*0.5713 -> 35089.246 | R36: =U36*0.0878 -> 5392.676 | S36: =U36*0.0223 -> 1369.666 | T36: NR | U36: 61420 | V36: NR | W36: 0 | X36: =18*14.4*162/100 -> 419.904 | Y36: NC | Z36: =14.82*1000/8 -> 1852.5 | AA36: =X36*2/25.29+W36 -> 33.207117 | AB36: =SUM(Z36:AA36) -> 1885.7071 | AC36: NC | AD36: NC | AE36: =Z36/AB36 -> 0.9823901 | AF36: NC | AG36: NC | AH36: NC | AI36: =IF(G36="","",IF(AF36="NC","NC",IF(OR(AF36<0,AF36>1),"Excluded",IF(OR(G36="Total COD",G36="Mixed"),"Lower bound",IF(OR(G36="Defined substrate",G36="Biodegradable COD"),"As calculated","CHECK"))))) -> NC
A37: 36 | B37: VFA_Li2022 | C37: VFA_Li_07 | D37: Li et al., 2022 | E37: Semi-continuous | F37: Fruit waste | G37: Total COD | H37: OLR:20 | I37: 6 | J37: 35 | K37: 3.7 | L37: VFA production | M37: Steady-state (OLR:20) | N37: NR | O37: =U37*0.2218 -> 13418.9 | P37: =U37*0.0468 -> 2831.4 | Q37: =U37*0.6571 -> 39754.55 | R37: =U37*0.0642 -> 3884.1 | S37: =U37*0.0101 -> 611.05 | T37: NR | U37: 60500 | V37: NR | W37: 0 | X37: =20*11.8*174.9/100 -> 412.764 | Y37: NC | Z37: =16.22*1000/8 -> 2027.5 | AA37: =X37*2/25.29+W37 -> 32.642467 | AB37: =SUM(Z37:AA37) -> 2060.1425 | AC37: NC | AD37: NC | AE37: =Z37/AB37 -> 0.98415524 | AF37: NC | AG37: NC | AH37: NC | AI37: =IF(G37="","",IF(AF37="NC","NC",IF(OR(AF37<0,AF37>1),"Excluded",IF(OR(G37="Total COD",G37="Mixed"),"Lower bound",IF(OR(G37="Defined substrate",G37="Biodegradable COD"),"As calculated","CHECK"))))) -> NC
A38: 37 | B38: VFA_Li2022 | C38: VFA_Li_08 | D38: Li et al., 2022 | E38: Semi-continuous | F38: Fruit waste | G38: Total COD | H38: OLR:22 | I38: 6 | J38: 35 | K38: 3.4 | L38: VFA production | M38: Steady-state (OLR:22) | N38: NR | O38: =U38*0.2216 -> 13012.352 | P38: =U38*0.0376 -> 2207.872 | Q38: =U38*0.6755 -> 39665.36 | R38: =U38*0.0609 -> 3576.048 | S38: =U38*0.0044 -> 258.368 | T38: NR | U38: 58720 | V38: NR | W38: 0 | X38: =22*11.6*177.4/100 -> 452.7248 | Y38: NC | Z38: =17.38*1000/8 -> 2172.5 | AA38: =X38*2/25.29+W38 -> 35.802673 | AB38: =SUM(Z38:AA38) -> 2208.3027 | AC38: NC | AD38: NC | AE38: =Z38/AB38 -> 0.98378724 | AF38: NC | AG38: NC | AH38: NC | AI38: =IF(G38="","",IF(AF38="NC","NC",IF(OR(AF38<0,AF38>1),"Excluded",IF(OR(G38="Total COD",G38="Mixed"),"Lower bound",IF(OR(G38="Defined substrate",G38="Biodegradable COD"),"As calculated","CHECK"))))) -> NC
A39: 38 | B39: VFA_Li2022 | C39: VFA_Li_09 | D39: Li et al., 2022 | E39: Semi-continuous | F39: Fruit waste | G39: Total COD | H39: OLR:24 | I39: 6 | J39: 35 | K39: 3.1 | L39: VFA production | M39: Steady-state (OLR:24) | N39: NR | O39: =U39*0.2377 -> 13373.002 | P39: =U39*0.042 -> 2362.92 | Q39: =U39*0.6594 -> 37097.844 | R39: =U39*0.0554 -> 3116.804 | S39: =U39*0.0054 -> 303.804 | T39: NR | U39: 56260 | V39: NR | W39: 0 | X39: =24*12.9*168.3/100 -> 521.0568 | Y39: NC | Z39: =18.1*1000/8 -> 2262.5 | AA39: =X39*2/25.29+W39 -> 41.206548 | AB39: =SUM(Z39:AA39) -> 2303.7065 | AC39: NC | AD39: NC | AE39: =Z39/AB39 -> 0.98211294 | AF39: NC | AG39: NC | AH39: NC | AI39: =IF(G39="","",IF(AF39="NC","NC",IF(OR(AF39<0,AF39>1),"Excluded",IF(OR(G39="Total COD",G39="Mixed"),"Lower bound",IF(OR(G39="Defined substrate",G39="Biodegradable COD"),"As calculated","CHECK"))))) -> NC
A41: NR=not reported in the source study; NC=not calculable from the reported data; NA=Not applicable to the system ; R-DIG = Reported graphically; digitization required
...

Sheet Chain_Elongation
A1: No. | B1: Study ID | C1: Case ID | D1: Reference (Author, Year) | E1: Mode | F1: Substrate | G1: E_in basis (COD type) | H1: Carbon-chain acceptor | I1: Sample | J1: pH | K1: T (C) | L1: HRT/SRT (d) | M1: Main objective | N1: Analysis window | O1: Substrate_input (mgCOD/L or mgCOD/L/d) | P1: Carbon-chain acceptor-Acetate (mgCOD/L or mgCOD/L/d) | Q1: Carbon-chain acceptor-Propionate (mgCOD/L or mgCOD/L/d) | R1: Carbon-chain acceptor-Butyrate (mgCOD/L or mgCOD/L/d) | S1: Other carbon-chain acceptors (mgCOD/L or mgCOD/L/d) | T1: Caproate (mgCOD/L or mgCOD/L/d) | U1: Heptanoate (mgCOD/L or mgCOD/L/d) | V1: Total MCFA (mgCOD/L or mgCOD/L/d) | W1: Other MCFA (mgCOD/L or mgCOD/L/d) | X1: CH4 (mmol/L or mmol/L/d) | Y1: H2 (mmol/L or mmol/L/d) | Z1: Other competing sink-Butanol or propionate formation (mmol/L or mmol/L/d) | AA1: E_in (mmol e-/L or mmol e-/L/d) | AB1: E_target (mmol e-/L or mmol e-/L/d) | AC1: E_competing (mmol e-/L or mmol e-/L/d) | AD1: E_expressed (mmol e-/L or mmol e-/L/d) | AE1: f_target | AF1: f_competing | AG1: A_target | AH1: f_expressed | AI1: E_unresolved (mmol e-/L or mmol e-/L/d) | AJ1: f_unresolved | AK1: Interpretation of f_target, f_expressed
A2: 1 | B2: CE_Roghair2018 | C2: CE_Roghair_01 | D2: Roghair et al., 2018 | E2: Continuous | F2: Ethanol | G2: Defined substrate | H2: Propionate | I2: High CO2, 2.5 LCO2/L/d | J2: 6.8 | K2: 30 | L2: 0.708 | M2: Chain Elongation | N2: days 84–97 and 105–119 | O2: =32.5*2.084*1000 -> 67730 | P2: NR | Q2: =10.9*1.512*1000 -> 16480.8 | R2: NR | S2: NR | T2: =10.8*2.204*1000 -> 23803.2 | U2: =1.8*2.335*1000 -> 4203 | V2: =SUM(T2:U2) -> 28006.2 | W2: NR | X2: 72.6 | Y2: NR | Z2: NR | AA2: =(O2+Q2)/8 -> 10526.35 | AB2: =V2/8 -> 3500.775 | AC2: =X2*8 -> 580.8 | AD2: =AB2+AC2 -> 4081.575 | AE2: =AB2/AA2 -> 0.33257254 | AF2: =AC2/AA2 -> 0.055175821 | AG2: =AB2/AD2 -> 0.85770199 | AH2: =AD2/AA2 -> 0.38774836 | AI2: =AA2-SUM(AB2:AC2) -> 6444.775 | AJ2: =AI2/AA2 -> 0.61225164 | AK2: =IF(G2="","",IF(AH2="NC","NC",IF(OR(AH2<0,AH2>1),"Excluded",IF(OR(G2="Total COD",G2="Mixed"),"Lower bound",IF(OR(G2="Defined substrate",G2="Biodegradable COD"),"As calculated","CHECK"))))) -> As calculated
A3: 2 | B3: CE_Roghair2018 | C3: CE_Roghair_02 | D3: Roghair et al., 2018 | E3: Continuous | F3: Ethanol | G3: Defined substrate | H3: Propionate | I3: Medium CO2, 1.0 LCO2/L/d | J3: 6.8 | K3: 30 | L3: 0.708 | M3: Chain Elongation | N3: days 155–187 | O3: =16.3*2.084*1000 -> 33969.2 | P3: NR | Q3: =10.9*1.512*1000 -> 16480.8 | R3: NR | S3: NR | T3: =4.6*2.204*1000 -> 10138.4 | U3: =1.7*2.335*1000 -> 3969.5 | V3: =SUM(T3:U3) -> 14107.9 | W3: NR | X3: 34.3 | Y3: NR | Z3: NR | AA3: =(O3+Q3)/8 -> 6306.25 | AB3: =V3/8 -> 1763.4875 | AC3: =X3*8 -> 274.4 | AD3: =AB3+AC3 -> 2037.8875 | AE3: =AB3/AA3 -> 0.27964123 | AF3: =AC3/AA3 -> 0.043512389 | AG3: =AB3/AD3 -> 0.86535076 | AH3: =AD3/AA3 -> 0.32315362 | AI3: =AA3-SUM(AB3:AC3) -> 4268.3625 | AJ3: =AI3/AA3 -> 0.67684638 | AK3: =IF(G3="","",IF(AH3="NC","NC",IF(OR(AH3<0,AH3>1),"Excluded",IF(OR(G3="Total COD",G3="Mixed"),"Lower bound",IF(OR(G3="Defined substrate",G3="Biodegradable COD"),"As calculated","CHECK"))))) -> As calculated
A4: 3 | B4: CE_Roghair2018 | C4: CE_Roghair_03 | D4: Roghair et al., 2018 | E4: Continuous | F4: Ethanol | G4: Defined substrate | H4: Propionate | I4: Low CO2, 0.5 L CO2/L/d | J4: 6.8 | K4: 30 | L4: 0.708 | M4: Chain Elongation | N4: days 188–201 | O4: =16.3*2.084*1000 -> 33969.2 | P4: NR | Q4: =10.9*1.512*1000 -> 16480.8 | R4: NR | S4: NR | T4: =2.9*2.204*1000 -> 6391.6 | U4: =1.2*2.335*1000 -> 2802 | V4: =SUM(T4:U4) -> 9193.6 | W4: NR | X4: 17.1 | Y4: NR | Z4: NR | AA4: =(O4+Q4)/8 -> 6306.25 | AB4: =V4/8 -> 1149.2 | AC4: =X4*8 -> 136.8 | AD4: =AB4+AC4 -> 1286 | AE4: =AB4/AA4 -> 0.18223191 | AF4: =AC4/AA4 -> 0.021692765 | AG4: =AB4/AD4 -> 0.89362364 | AH4: =AD4/AA4 -> 0.20392468 | AI4: =AA4-SUM(AB4:AC4) -> 5020.25 | AJ4: =AI4/AA4 -> 0.79607532 | AK4: =IF(G4="","",IF(AH4="NC","NC",IF(OR(AH4<0,AH4>1),"Excluded",IF(OR(G4="Total COD",G4="Mixed"),"Lower bound",IF(OR(G4="Defined substrate",G4="Biodegradable COD"),"As calculated","CHECK"))))) -> As calculated
A5: 4 | B5: CE_Roghair2018 | C5: CE_Roghair_04 | D5: Roghair et al., 2018 | E5: Continuous | F5: Ethanol | G5: Defined substrate | H5: Propionate | I5: No CO2, 0 L CO2/L/d | J5: 6.8 | K5: 30 | L5: 0.708 | M5: Chain Elongation | N5: days 211–224 | O5: =16.3*2.084*1000 -> 33969.2 | P5: NR | Q5: =10.9*1.512*1000 -> 16480.8 | R5: NR | S5: NR | T5: =0.4*2.204*1000 -> 881.6 | U5: =0.2*2.335*1000 -> 467 | V5: =SUM(T5:U5) -> 1348.6 | W5: NR | X5: 1.5 | Y5: NR | Z5: NR | AA5: =(O5+Q5)/8 -> 6306.25 | AB5: =V5/8 -> 168.575 | AC5: =X5*8 -> 12 | AD5: =AB5+AC5 -> 180.575 | AE5: =AB5/AA5 -> 0.026731417 | AF5: =AC5/AA5 -> 0.0019028741 | AG5: =AB5/AD5 -> 0.93354562 | AH5: =AD5/AA5 -> 0.028634291 | AI5: =AA5-SUM(AB5:AC5) -> 6125.675 | AJ5: =AI5/AA5 -> 0.97136571 | AK5: =IF(G5="","",IF(AH5="NC","NC",IF(OR(AH5<0,AH5>1),"Excluded",IF(OR(G5="Total COD",G5="Mixed"),"Lower bound",IF(OR(G5="Defined substrate",G5="Biodegradable COD"),"As calculated","CHECK"))))) -> As calculated
A6: 5 | B6: CE_Roghair2018 | C6: CE_Roghair_05 | D6: Roghair et al., 2018 | E6: Continuous | F6: Ethanol | G6: Defined substrate | H6: Propionate | I6: Medium CO2 recovery | J6: 6.8 | K6: 30 | L6: 0.708 | M6: Chain Elongation | N6: days 229–240 | O6: =16.3*2.087*1000 -> 34018.1 | P6: NR | Q6: =10.9*1.512*1000 -> 16480.8 | R6: NR | S6: NR | T6: =3.3*2.204*1000 -> 7273.2 | U6: =1.2*2.335*1000 -> 2802 | V6: =SUM(T6:U6) -> 10075.2 | W6: NR | X6: 29.6 | Y6: NR | Z6: NR | AA6: =(O6+Q6)/8 -> 6312.3625 | AB6: =V6/8 -> 1259.4 | AC6: =X6*8 -> 236.8 | AD6: =AB6+AC6 -> 1496.2 | AE6: =AB6/AA6 -> 0.19951326 | AF6: =AC6/AA6 -> 0.037513688 | AG6: =AB6/AD6 -> 0.84173239 | AH6: =AD6/AA6 -> 0.23702695 | AI6: =AA6-SUM(AB6:AC6) -> 4816.1625 | AJ6: =AI6/AA6 -> 0.76297305 | AK6: =IF(G6="","",IF(AH6="NC","NC",IF(OR(AH6<0,AH6>1),"Excluded",IF(OR(G6="Total COD",G6="Mixed"),"Lower bound",IF(OR(G6="Defined substrate",G6="Biodegradable COD"),"As calculated","CHECK"))))) -> As calculated
A7: 6 | B7: CE_Liu2017 | C7: CE_Liu_01 | D7: Liu et al., 2017 | E7: Batch | F7: Ethanol | G7: Defined substrate | H7: Acetate+Butyrate | I7: No Biochar, Phase IV | J7: 6.2–7.2 | K7: 35 | L7: 40 (batch incubation) | M7: Chain Elongation | N7: Phase IV (days 78–117) | O7: =20*2.084*1000 -> 41680 | P7: =3000*1.067 -> 3201 | Q7: 0 | R7: =16.7*1000*1.816 -> 30327.2 | S7: NR | T7: =6.4*2.204*1000 -> 14105.6 | U7: NR | V7: =SUM(T7,W7) -> 14154.42 | W7: =(0.12-0.1)*1000*2.441 -> 48.82 | X7: 0 | Y7: =1.2*1000/17.3/(22.414*(273.15+35)/273.15) -> 2.7431832 | Z7: =(3.1-2.7)*1000/74.12 -> 5.3966541 | AA7: =(SUM(O7:R7))/8 -> 9401.025 | AB7: =V7/8 -> 1769.3025 | AC7: =SUM(X7*8+Y7*2+Z7*24) -> 135.00606 | AD7: =AB7+AC7 -> 1904.3086 | AE7: =AB7/AA7 -> 0.18820315 | AF7: =AC7/AA7 -> 0.014360781 | AG7: =AB7/AD7 -> 0.92910494 | AH7: =AD7/AA7 -> 0.20256393 | AI7: =AA7-SUM(AB7:AC7) -> 7496.7164 | AJ7: =AI7/AA7 -> 0.79743607 | AK7: =IF(G7="","",IF(AH7="NC","NC",IF(OR(AH7<0,AH7>1),"Excluded",IF(OR(G7="Total COD",G7="Mixed"),"Lower bound",IF(OR(G7="Defined substrate",G7="Biodegradable COD"),"As calculated","CHECK"))))) -> As calculated
A8: 7 | B8: CE_Liu2017 | C8: CE_Liu_02 | D8: Liu et al., 2017 | E8: Batch | F8: Ethanol | G8: Defined substrate | H8: Acetate+Butyrate | I8: 20 g/L Biochar, Phase IV | J8: 6.2–7.2 | K8: 35 | L8: 40 (batch incubation) | M8: Chain Elongation | N8: Phase IV (days 78–117) | O8: =20*2.084*1000 -> 41680 | P8: =2.5*1000*1.067 -> 2667.5 | Q8: 0 | R8: =25.3*1000*1.816 -> 45944.8 | S8: NR | T8: =(21.1-13.8)*2.204*1000 -> 16089.2 | U8: NR | V8: =SUM(T8,W8) -> 16284.48 | W8: =(0.21-0.13)*1000*2.441 -> 195.28 | X8: 0 | Y8: =1.1*1000/18.2/(22.414*(273.15+35)/273.15) -> 2.390237 | Z8: =(2-1)*1000/74.12 -> 13.491635 | AA8: =(SUM(O8:R8))/8 -> 11286.538 | AB8: =V8/8 -> 2035.56 | AC8: =SUM(X8*8+Y8*2+Z8*24) -> 328.57972 | AD8: =AB8+AC8 -> 2364.1397 | AE8: =AB8/AA8 -> 0.18035292 | AF8: =AC8/AA8 -> 0.029112535 | AG8: =AB8/AD8 -> 0.8610151 | AH8: =AD8/AA8 -> 0.20946546 | AI8: =AA8-SUM(AB8:AC8) -> 8922.3978 | AJ8: =AI8/AA8 -> 0.79053454 | AK8: =IF(G8="","",IF(AH8="NC","NC",IF(OR(AH8<0,AH8>1),"Excluded",IF(OR(G8="Total COD",G8="Mixed"),"Lower bound",IF(OR(G8="Defined substrate",G8="Biodegradable COD"),"As calculated","CHECK"))))) -> As calculated
A9: 8 | B9: CE_Fu2021 | C9: CE_Fu_01 | D9: Fu et al., 2021 | E9: Batch | F9: Ethanol | G9: Defined substrate | H9: Acetate | I9: 200 mmol/L ethanol, 50 mmol/L acetate, 0 g/L NZVI. | J9: 5.32 | K9: 35 | L9: 18 (batch incubation) | M9: Chain Elongation | N9: Days 0–18 (end values averaged over days 14–18) | O9: =200*12*8 -> 19200 | P9: =50*8*8 -> 3200 | Q9: NA | R9: NA | S9: NR | T9: =(16-2)*256 -> 3584 | U9: NR | V9: =SUM(T9:U9) -> 3584 | W9: NR | X9: 0 | Y9: 10 | Z9: 2.3 | AA9: =(O9+P9)/8+0+9.4*20 -> 2988 | AB9: =V9/8 -> 448 | AC9: =Y9*2+Z9*24 -> 75.2 | AD9: =AB9+AC9 -> 523.2 | AE9: =AB9/AA9 -> 0.14993307 | AF9: =AC9/AA9 -> 0.025167336 | AG9: =AB9/AD9 -> 0.85626911 | AH9: =AD9/AA9 -> 0.1751004 | AI9: =AA9-SUM(AB9:AC9) -> 2464.8 | AJ9: =AI9/AA9 -> 0.8248996 | AK9: =IF(G9="","",IF(AH9="NC","NC",IF(OR(AH9<0,AH9>1),"Excluded",IF(OR(G9="Total COD",G9="Mixed"),"Lower bound",IF(OR(G9="Defined substrate",G9="Biodegradable COD"),"As calculated","CHECK"))))) -> As calculated
A10: 9 | B10: CE_Fu2021 | C10: CE_Fu_02 | D10: Fu et al., 2021 | E10: Batch | F10: Ethanol | G10: Defined substrate | H10: Acetate | I10: 200 mmol/L ethanol, 50 mmol/L acetate, 5 g/L NZVI. | J10: 5.7 | K10: 35 | L10: 18 (batch incubation) | M10: Chain Elongation | N10: Days 0–18 (end values averaged over days 14–18) | O10: =200*12*8 -> 19200 | P10: =50*8*8 -> 3200 | Q10: NA | R10: NA | S10: NR | T10: =(21.9-2)*256 -> 5094.4 | U10: NR | V10: =SUM(T10:U10) -> 5094.4 | W10: NR | X10: 0 | Y10: 7.5 | Z10: 1 | AA10: =(O10+P10)/8+75+9.4*20 -> 3063 | AB10: =V10/8 -> 636.8 | AC10: =Y10*2+Z10*24 -> 39 | AD10: =AB10+AC10 -> 675.8 | AE10: =AB10/AA10 -> 0.20790075 | AF10: =AC10/AA10 -> 0.012732615 | AG10: =AB10/AD10 -> 0.94229062 | AH10: =AD10/AA10 -> 0.22063337 | AI10: =AA10-SUM(AB10:AC10) -> 2387.2 | AJ10: =AI10/AA10 -> 0.77936663 | AK10: =IF(G10="","",IF(AH10="NC","NC",IF(OR(AH10<0,AH10>1),"Excluded",IF(OR(G10="Total COD",G10="Mixed"),"Lower bound",IF(OR(G10="Defined substrate",G10="Biodegradable COD"),"As calculated","CHECK"))))) -> As calculated
A11: 10 | B11: CE_Fu2021 | C11: CE_Fu_03 | D11: Fu et al., 2021 | E11: Batch | F11: Ethanol | G11: Defined substrate | H11: Acetate | I11: 300 mmol/L ethanol, 50 mmol/L acetate, 0 g/L NZVI. | J11: 5.3 | K11: 35 | L11: 18 (batch incubation) | M11: Chain Elongation | N11: Days 0–18 (end values averaged over days 14–18) | O11: =300*12*8 -> 28800 | P11: =50*8*8 -> 3200 | Q11: NA | R11: NA | S11: NR | T11: =(13.6-2)*256 -> 2969.6 | U11: NR | V11: =SUM(T11:U11) -> 2969.6 | W11: NR | X11: 0 | Y11: 12.5 | Z11: 9.2 | AA11: =(O11+P11)/8+9.4*20 -> 4188 | AB11: =V11/8 -> 371.2 | AC11: =Y11*2+Z11*24 -> 245.8 | AD11: =AB11+AC11 -> 617 | AE11: =AB11/AA11 -> 0.088634193 | AF11: =AC11/AA11 -> 0.0586915 | AG11: =AB11/AD11 -> 0.60162075 | AH11: =AD11/AA11 -> 0.14732569 | AI11: =AA11-SUM(AB11:AC11) -> 3571 | AJ11: =AI11/AA11 -> 0.85267431 | AK11: =IF(G11="","",IF(AH11="NC","NC",IF(OR(AH11<0,AH11>1),"Excluded",IF(OR(G11="Total COD",G11="Mixed"),"Lower bound",IF(OR(G11="Defined substrate",G11="Biodegradable COD"),"As calculated","CHECK"))))) -> As calculated
A12: 11 | B12: CE_Fu2021 | C12: CE_Fu_04 | D12: Fu et al., 2021 | E12: Batch | F12: Ethanol | G12: Defined substrate | H12: Acetate | I12: 300 mmol/L ethanol, 50 mmol/L acetate, 5 g/L NZVI. | J12: 5.52 | K12: 35 | L12: 18 (batch incubation) | M12: Chain Elongation | N12: Days 0–18 (end values averaged over days 14–18) | O12: =300*12*8 -> 28800 | P12: =50*8*8 -> 3200 | Q12: NA | R12: NA | S12: NR | T12: =(27.2-2)*256 -> 6451.2 | U12: NR | V12: =SUM(T12:U12) -> 6451.2 | W12: NR | X12: 0 | Y12: 10 | Z12: 5.2 | AA12: =(O12+P12)/8+(0.265*218.5)+9.4*20 -> 4245.9025 | AB12: =V12/8 -> 806.4 | AC12: =Y12*2+Z12*24 -> 144.8 | AD12: =AB12+AC12 -> 951.2 | AE12: =AB12/AA12 -> 0.18992429 | AF12: =AC12/AA12 -> 0.034103468 | AG12: =AB12/AD12 -> 0.84777124 | AH12: =AD12/AA12 -> 0.22402775 | AI12: =AA12-SUM(AB12:AC12) -> 3294.7025 | AJ12: =AI12/AA12 -> 0.77597225 | AK12: =IF(G12="","",IF(AH12="NC","NC",IF(OR(AH12<0,AH12>1),"Excluded",IF(OR(G12="Total COD",G12="Mixed"),"Lower bound",IF(OR(G12="Defined substrate",G12="Biodegradable COD"),"As calculated","CHECK"))))) -> As calculated
A13: 12 | B13: CE_Fu2021 | C13: CE_Fu_05 | D13: Fu et al., 2021 | E13: Batch | F13: Ethanol | G13: Defined substrate | H13: Acetate | I13: 400 mmol/L ethanol, 50 mmol/L acetate, 0 g/L NZVI. | J13: 5.17 | K13: 35 | L13: 18 (batch incubation) | M13: Chain Elongation | N13: Days 0–18 (end values averaged over days 14–18) | O13: =400*12*8 -> 38400 | P13: =50*8*8 -> 3200 | Q13: NA | R13: NA | S13: NR | T13: =(15.2-2)*256 -> 3379.2 | U13: NR | V13: =SUM(T13:U13) -> 3379.2 | W13: NR | X13: 0 | Y13: 12.5 | Z13: 12.9 | AA13: =(O13+P13)/8+9.4*20 -> 5388 | AB13: =V13/8 -> 422.4 | AC13: =Y13*2+Z13*24 -> 334.6 | AD13: =AB13+AC13 -> 757 | AE13: =AB13/AA13 -> 0.078396437 | AF13: =AC13/AA13 -> 0.062100965 | AG13: =AB13/AD13 -> 0.55799207 | AH13: =AD13/AA13 -> 0.1404974 | AI13: =AA13-SUM(AB13:AC13) -> 4631 | AJ13: =AI13/AA13 -> 0.8595026 | AK13: =IF(G13="","",IF(AH13="NC","NC",IF(OR(AH13<0,AH13>1),"Excluded",IF(OR(G13="Total COD",G13="Mixed"),"Lower bound",IF(OR(G13="Defined substrate",G13="Biodegradable COD"),"As calculated","CHECK"))))) -> As calculated
A14: 13 | B14: CE_Fu2021 | C14: CE_Fu_06 | D14: Fu et al., 2021 | E14: Batch | F14: Ethanol | G14: Defined substrate | H14: Acetate | I14: 400 mmol/L ethanol, 50 mmol/L acetate, 5 g/L NZVI. | J14: 5.4 | K14: 35 | L14: 18 (batch incubation) | M14: Chain Elongation | N14: Days 0–18 (end values averaged over days 14–18) | O14: =400*12*8 -> 38400 | P14: =50*8*8 -> 3200 | Q14: NA | R14: NA | S14: NR | T14: =(22.4-2)*256 -> 5222.4 | U14: NR | V14: =SUM(T14:U14) -> 5222.4 | W14: NR | X14: 0 | Y14: 10 | Z14: 10.8 | AA14: =(O14+P14)/8+9.4*20+50 -> 5438 | AB14: =V14/8 -> 652.8 | AC14: =Y14*2+Z14*24 -> 279.2 | AD14: =AB14+AC14 -> 932 | AE14: =AB14/AA14 -> 0.12004413 | AF14: =AC14/AA14 -> 0.051342405 | AG14: =AB14/AD14 -> 0.70042918 | AH14: =AD14/AA14 -> 0.17138654 | AI14: =AA14-SUM(AB14:AC14) -> 4506 | AJ14: =AI14/AA14 -> 0.82861346 | AK14: =IF(G14="","",IF(AH14="NC","NC",IF(OR(AH14<0,AH14>1),"Excluded",IF(OR(G14="Total COD",G14="Mixed"),"Lower bound",IF(OR(G14="Defined substrate",G14="Biodegradable COD"),"As calculated","CHECK"))))) -> As calculated
A15: 14 | B15: CE_Kucek2016 | C15: CE_Kucek_01 | D15: Kucek et al., 2016 | E15: Continuous | F15: L-Lactate | G15: Defined substrate | H15: n-Butyrate | I15: Phase III_Period 12 | J15: 5 | K15: 34 | L15: 1.9 | M15: Chain Elongation | N15: days 176–193 | O15: 9100 | P15: NA | Q15: =3.6*1000/112 -> 32.142857 | R15: =17.7*1000-9100-1.1*1000 -> 7500 | S15: NR | T15: 6900 | U15: NR | V15: =T15 -> 6900 | W15: NR | X15: 0.026 | Y15: 0 | Z15: =3.6/112*1000 -> 32.142857 | AA15: =SUM(O15,R15)/8 -> 2075 | AB15: =V15/8 -> 862.5 | AC15: =Z15*14+X15*8 -> 450.208 | AD15: =AB15+AC15 -> 1312.708 | AE15: =AB15/AA15 -> 0.41566265 | AF15: =AC15/AA15 -> 0.21696771 | AG15: =AB15/AD15 -> 0.65703873 | AH15: =AD15/AA15 -> 0.63263036 | AI15: =AA15-SUM(AB15:AC15) -> 762.292 | AJ15: =AI15/AA15 -> 0.36736964 | AK15: =IF(G15="","",IF(AH15="NC","NC",IF(OR(AH15<0,AH15>1),"Excluded",IF(OR(G15="Total COD",G15="Mixed"),"Lower bound",IF(OR(G15="Defined substrate",G15="Biodegradable COD"),"As calculated","CHECK"))))) -> As calculated
A16: 15 | B16: CE_Kucek2016 | C16: CE_Kucek_02 | D16: Kucek et al., 2016 | E16: Continuous | F16: L-Lactate | G16: Defined substrate | H16: n-Butyrate | I16: Phase III_Period 13 | J16: 5 | K16: 34 | L16: 1.3 | M16: Chain Elongation | N16: days 193–204 | O16: 16200 | P16: NA | Q16: =5.5*1000/112 -> 49.107143 | R16: =30.8*1000-16200-1.1*1000 -> 13500 | S16: NR | T16: 3000 | U16: NR | V16: =T16 -> 3000 | W16: NR | X16: 0.026 | Y16: 0 | Z16: =5.5/112*1000 -> 49.107143 | AA16: =SUM(O16,R16)/8 -> 3712.5 | AB16: =V16/8 -> 375 | AC16: =Z16*14+X16*8 -> 687.708 | AD16: =AB16+AC16 -> 1062.708 | AE16: =AB16/AA16 -> 0.1010101 | AF16: =AC16/AA16 -> 0.18524121 | AG16: =AB16/AD16 -> 0.3528721 | AH16: =AD16/AA16 -> 0.28625131 | AI16: =AA16-SUM(AB16:AC16) -> 2649.792 | AJ16: =AI16/AA16 -> 0.71374869 | AK16: =IF(G16="","",IF(AH16="NC","NC",IF(OR(AH16<0,AH16>1),"Excluded",IF(OR(G16="Total COD",G16="Mixed"),"Lower bound",IF(OR(G16="Defined substrate",G16="Biodegradable COD"),"As calculated","CHECK"))))) -> As calculated
A17: 16 | B17: CE_Xu2018 | C17: CE_Xu_01 | D17: Xu et al., 2018 | E17: Continuous | F17: Phase A effluent (lactic-acid-rich acid whey) | G17: Total COD | H17: NA | I17: Period B-I, days 0–57 | J17: 5 | K17: 30 | L17: 2.09 | M17: Chain Elongation | N17: Period B, days 0–57 | O17: =10.9*1000 -> 10900 | P17: NA | Q17: NA | R17: NA | S17: NR | T17: =72.2/6*0.256*1000 -> 3080.5333 | U17: =(11/7)*0.304*1000 -> 477.71429 | V17: =SUM(T17:U17,W17) -> 4466.4254 | W17: =((19.6/8)*0.352+(1.03/9)*0.4)*1000 -> 908.17778 | X17: 2.1 | Y17: NR | Z17: NR | AA17: =O17/8 -> 1362.5 | AB17: =V17/8 -> 558.30317 | AC17: =X17*8 -> 16.8 | AD17: =AB17+AC17 -> 575.10317 | AE17: =AB17/AA17 -> 0.4097638 | AF17: =AC17/AA17 -> 0.012330275 | AG17: =AB17/AD17 -> 0.97078785 | AH17: =AD17/AA17 -> 0.42209407 | AI17: =AA17-SUM(AB17:AC17) -> 787.39683 | AJ17: =AI17/AA17 -> 0.57790593 | AK17: =IF(G17="","",IF(AH17="NC","NC",IF(OR(AH17<0,AH17>1),"Excluded",IF(OR(G17="Total COD",G17="Mixed"),"Lower bound",IF(OR(G17="Defined substrate",G17="Biodegradable COD"),"As calculated","CHECK"))))) -> Lower bound
A18: 17 | B18: CE_Xu2018 | C18: CE_Xu_02 | D18: Xu et al., 2018 | E18: Continuous | F18: Phase A effluent (lactic-acid-rich acid whey) | G18: Total COD | H18: NA | I18: Period B-II, days 58–74 | J18: 5 | K18: 30 | L18: 1.76 | M18: Chain Elongation | N18: Period B, days 58–74 | O18: =6.91*1000 -> 6910 | P18: NA | Q18: NA | R18: NA | S18: NR | T18: =(65.5/6)*0.256*1000 -> 2794.6667 | U18: =(10.3/7)*0.304*1000 -> 447.31429 | V18: =SUM(T18:U18,W18) -> 4154.1143 | W18: =((19.7/8)*0.352+(1.02/9)*0.4)*1000 -> 912.13333 | X18: 1.07 | Y18: NR | Z18: NR | AA18: =O18/8 -> 863.75 | AB18: =V18/8 -> 519.26429 | AC18: =X18*8 -> 8.56 | AD18: =AB18+AC18 -> 527.82429 | AE18: =AB18/AA18 -> 0.60117428 | AF18: =AC18/AA18 -> 0.009910275 | AG18: =AB18/AD18 -> 0.98378248 | AH18: =AD18/AA18 -> 0.61108456 | AI18: =AA18-SUM(AB18:AC18) -> 335.92571 | AJ18: =AI18/AA18 -> 0.38891544 | AK18: =IF(G18="","",IF(AH18="NC","NC",IF(OR(AH18<0,AH18>1),"Excluded",IF(OR(G18="Total COD",G18="Mixed"),"Lower bound",IF(OR(G18="Defined substrate",G18="Biodegradable COD"),"As calculated","CHECK"))))) -> Lower bound
A19: 18 | B19: CE_Xu2018 | C19: CE_Xu_03 | D19: Xu et al., 2018 | E19: Continuous | F19: Phase A effluent (lactic-acid-rich acid whey) | G19: Total COD | H19: NA | I19: Period B-III, days 74–92 | J19: 5 | K19: 30 | L19: 3.55 | M19: Chain Elongation | N19: Period B, days 74–92 | O19: =7.77*1000 -> 7770 | P19: NA | Q19: NA | R19: NA | S19: NR | T19: =(81.2/6)*0.256*1000 -> 3464.5333 | U19: =(14.3/7)*0.304*1000 -> 621.02857 | V19: =SUM(T19:U19,W19) -> 4763.3397 | W19: =((14/8)*0.352+(1.39/9)*0.4)*1000 -> 677.77778 | X19: 0.71 | Y19: NR | Z19: NR | AA19: =O19/8 -> 971.25 | AB19: =V19/8 -> 595.41746 | AC19: =X19*8 -> 5.68 | AD19: =AB19+AC19 -> 601.09746 | AE19: =AB19/AA19 -> 0.61304243 | AF19: =AC19/AA19 -> 0.0058481338 | AG19: =AB19/AD19 -> 0.99055062 | AH19: =AD19/AA19 -> 0.61889056 | AI19: =AA19-SUM(AB19:AC19) -> 370.15254 | AJ19: =AI19/AA19 -> 0.38110944 | AK19: =IF(G19="","",IF(AH19="NC","NC",IF(OR(AH19<0,AH19>1),"Excluded",IF(OR(G19="Total COD",G19="Mixed"),"Lower bound",IF(OR(G19="Defined substrate",G19="Biodegradable COD"),"As calculated","CHECK"))))) -> Lower bound
A20: 19 | B20: CE_Wu2018 | C20: CE_Wu_01 | D20: Wu et al., 2018 | E20: Batch | F20: Ethanol + lactate + glucose (CLMW) | G20: Defined substrate | H20: Acetate+propionate+n-butyrate+n-valerate | I20: Chinese liquor-making wastewater_based | J20: 6.5 | K20: 35 | L20: 36 (batch incubation) | M20: Chain Elongation | N20: 36 days of fermentation | O20: =7502.95+4892.04+670.32 -> 13065.31 | P20: 2205.53 | Q20: 118.5 | R20: 2189.08 | S20: =116.34+766.59 -> 882.93 | T20: =12331.1-766.59 -> 11564.51 | U20: 1889.59 | V20: =SUM(T20:U20,W20) -> 16286.16 | W20: 2832.06 | X20: 0 | Y20: NR | Z20: 0 | AA20: =SUM(O20:S20)/8 -> 2307.6687 | AB20: =V20/8 -> 2035.77 | AC20: =X20*8 -> 0 | AD20: =AB20+AC20 -> 2035.77 | AE20: =AB20/AA20 -> 0.88217601 | AF20: =AC20/AA20 -> 0 | AG20: =AB20/AD20 -> 1 | AH20: =AD20/AA20 -> 0.88217601 | AI20: =AA20-SUM(AB20:AC20) -> 271.89875 | AJ20: =AI20/AA20 -> 0.11782399 | AK20: =IF(G20="","",IF(AH20="NC","NC",IF(OR(AH20<0,AH20>1),"Excluded",IF(OR(G20="Total COD",G20="Mixed"),"Lower bound",IF(OR(G20="Defined substrate",G20="Biodegradable COD"),"As calculated","CHECK"))))) -> As calculated
A21: 20 | B21: CE_Grootscholten2013A | C21: CE _GrootscholtenA_01 | D21: Grootscholten et al., 2013A | E21: Continuous | F21: Ethanol | G21: Defined substrate | H21: Acetate | I21: Phase I_Ethanol load = 13.0 g/L/d | J21: 6.5-7.0 | K21: 30 | L21: =17/24 -> 0.70833333 | M21: Chain Elongation | N21: days 56–63 | O21: =13*2.084*1000 -> 27092 | P21: =8.5*1.066*1000 -> 9061 | Q21: NA | R21: NA | S21: NA | T21: =11.3*2.204*1000 -> 24905.2 | U21: NR | V21: =SUM(T21:U21,W21) -> 25939.035 | W21: =(0.3/(17/24))*2.441*1000 -> 1033.8353 | X21: 0 | Y21: NR | Z21: NR | AA21: =SUM(O21:S21)/8 -> 4519.125 | AB21: =V21/8 -> 3242.3794 | AC21: =X21*8 -> 0 | AD21: =AB21+AC21 -> 3242.3794 | AE21: =AB21/AA21 -> 0.71747947 | AF21: =AC21/AA21 -> 0 | AG21: =AB21/AD21 -> 1 | AH21: =AD21/AA21 -> 0.71747947 | AI21: =AA21-SUM(AB21:AC21) -> 1276.7456 | AJ21: =AI21/AA21 -> 0.28252053 | AK21: =IF(G21="","",IF(AH21="NC","NC",IF(OR(AH21<0,AH21>1),"Excluded",IF(OR(G21="Total COD",G21="Mixed"),"Lower bound",IF(OR(G21="Defined substrate",G21="Biodegradable COD"),"As calculated","CHECK"))))) -> As calculated
A22: 21 | B22: CE_Grootscholten2013A | C22: CE _GrootscholtenA_02 | D22: Grootscholten et al., 2013A | E22: Continuous | F22: Ethanol | G22: Defined substrate | H22: Acetate | I22: Phase II_Ethanol load = 19.5 g/L/d | J22: 6.5-7.0 | K22: 30 | L22: =17/24 -> 0.70833333 | M22: Chain Elongation | N22: days 64–70 | O22: =19.5*2.084*1000 -> 40638 | P22: =8.5*1.066*1000 -> 9061 | Q22: NA | R22: NA | S22: NA | T22: =15.1*2.204*1000 -> 33280.4 | U22: NR | V22: =SUM(T22:U22,W22) -> 35003.459 | W22: =(0.5/(17/24))*2.441*1000 -> 1723.0588 | X22: 0 | Y22: NR | Z22: NR | AA22: =SUM(O22:S22)/8 -> 6212.375 | AB22: =V22/8 -> 4375.4324 | AC22: =X22*8 -> 0 | AD22: =AB22+AC22 -> 4375.4324 | AE22: =AB22/AA22 -> 0.70430912 | AF22: =AC22/AA22 -> 0 | AG22: =AB22/AD22 -> 1 | AH22: =AD22/AA22 -> 0.70430912 | AI22: =AA22-SUM(AB22:AC22) -> 1836.9426 | AJ22: =AI22/AA22 -> 0.29569088 | AK22: =IF(G22="","",IF(AH22="NC","NC",IF(OR(AH22<0,AH22>1),"Excluded",IF(OR(G22="Total COD",G22="Mixed"),"Lower bound",IF(OR(G22="Defined substrate",G22="Biodegradable COD"),"As calculated","CHECK"))))) -> As calculated
A23: 22 | B23: CE_Grootscholten2013A | C23: CE _GrootscholtenA_03 | D23: Grootscholten et al., 2013A | E23: Continuous | F23: Ethanol | G23: Defined substrate | H23: Acetate | I23: Phase III_Ethanol load = 26.0 g/L/d | J23: 6.5-7.0 | K23: 30 | L23: =17/24 -> 0.70833333 | M23: Chain Elongation | N23: days 71–80 | O23: =26*2.084*1000 -> 54184 | P23: =8.5*1.066*1000 -> 9061 | Q23: NA | R23: NA | S23: NA | T23: =15.7*2.204*1000 -> 34602.8 | U23: NR | V23: =SUM(T23:U23,W23) -> 36670.471 | W23: =(0.6/(17/24))*2.441*1000 -> 2067.6706 | X23: 0 | Y23: NR | Z23: NR | AA23: =SUM(O23:S23)/8 -> 7905.625 | AB23: =V23/8 -> 4583.8088 | AC23: =X23*8 -> 0 | AD23: =AB23+AC23 -> 4583.8088 | AE23: =AB23/AA23 -> 0.57981612 | AF23: =AC23/AA23 -> 0 | AG23: =AB23/AD23 -> 1 | AH23: =AD23/AA23 -> 0.57981612 | AI23: =AA23-SUM(AB23:AC23) -> 3321.8162 | AJ23: =AI23/AA23 -> 0.42018388 | AK23: =IF(G23="","",IF(AH23="NC","NC",IF(OR(AH23<0,AH23>1),"Excluded",IF(OR(G23="Total COD",G23="Mixed"),"Lower bound",IF(OR(G23="Defined substrate",G23="Biodegradable COD"),"As calculated","CHECK"))))) -> As calculated
A24: 23 | B24: CE_Grootscholten2013B | C24: CE_GrootscholtenB_01 | D24: Grootscholten et al., 2013B | E24: Continuous | F24: Ethanol+ yeast extract | G24: Defined substrate | H24: Acetate | I24: Phase I | J24: 6.5-7.2 | K24: 30 | L24: 0.667 | M24: Chain Elongation | N24: days 32–36 | O24: =20.7*2.084*1000+1.5*1.498*1000 -> 45385.8 | P24: =9*1.066*1000 -> 9594 | Q24: NA | R24: NA | S24: NA | T24: =12/(16/24)*2.204*1000 -> 39672 | U24: NA | V24: =SUM(T24,W24) -> 42967.35 | W24: =0.9/(16/24)*2.441*1000 -> 3295.35 | X24: 0 | Y24: NR | Z24: NR | AA24: =SUM(O24:P24)/8 -> 6872.475 | AB24: =V24/8 -> 5370.9188 | AC24: =X24*8 -> 0 | AD24: =AB24+AC24 -> 5370.9188 | AE24: =AB24/AA24 -> 0.78151157 | AF24: =AC24/AA24 -> 0 | AG24: =AB24/AD24 -> 1 | AH24: =AD24/AA24 -> 0.78151157 | AI24: =AA24-SUM(AB24:AC24) -> 1501.5562 | AJ24: =AI24/AA24 -> 0.21848843 | AK24: =IF(G24="","",IF(AH24="NC","NC",IF(OR(AH24<0,AH24>1),"Excluded",IF(OR(G24="Total COD",G24="Mixed"),"Lower bound",IF(OR(G24="Defined substrate",G24="Biodegradable COD"),"As calculated","CHECK"))))) -> As calculated
