Workbook

Sheet Table S2.1 LCA database
A1: Table S2.1 Master LCA data capture spreadsheet including publication 1)bibliographic, 2) bioprocess and product information, 3) LCA methods, 4) Environmental impact drivers, and 5) Quantitative environmentatl results. Publications are marked as either "1. Eligible" or "2. Ineligible" based on the systematic review PIFT inclusion and exclusion criteria. Some studies that were ineligible were kept for data capture or added after the formal systematic review and are not included in the manuscript analysis.
A2: Publication ID | B2: Publication ID | C2: 1) Bibliometric Information | D2: 1) Bibliometric Information | E2: 1) Bibliometric Information | F2: 1) Bibliometric Information | G2: 1) Bibliometric Information | H2: 1) Bibliometric Information | I2: 1) Bibliometric Information | J2: 1) Bibliometric Information | K2: 1) Bibliometric Information | L2: 1) Bibliometric Information | M2: 1) Bibliometric Information | N2: 1) Bibliometric Information | O2: 1) Bibliometric Information | P2: 1) Bibliometric Information | Q2: 2) Product and bioprocess data | R2: 2) Product and bioprocess data | S2: 2) Product and bioprocess data | T2: 2) Product and bioprocess data | U2: 2) Product and bioprocess data | V2: 2) Product and bioprocess data | W2: 2) Product and bioprocess data | X2: 2) Product and bioprocess data | Y2: 2) Product and bioprocess data | Z2: 2) Product and bioprocess data | AA2: 2) Product and bioprocess data | AB2: 2) Product and bioprocess data | AC2: 2) Product and bioprocess data | AD2: 2) Product and bioprocess data | AE2: 2) Product and bioprocess data | AF2: 2) Product and bioprocess data | AG2: 2) Product and bioprocess data | AH2: 2) Product and bioprocess data | AI2: 2) Product and bioprocess data | AJ2: 2) Product and bioprocess data | AK2: 2) Product and bioprocess data | AL2: 2) Product and bioprocess data | AM2: 2) Product and bioprocess data | AN2: 2) Product and bioprocess data | AO2: 2) Product and bioprocess data | AP2: 2) Product and bioprocess data | AQ2: 3) LCA method data | AR2: 3) LCA method data | AS2: 3) LCA method data | AT2: 3) LCA method data | AU2: 3) LCA method data | AV2: 3) LCA method data | AW2: 3) LCA method data | AX2: 3) LCA method data | AY2: 3) LCA method data | AZ2: 3) LCA method data | BA2: 3) LCA method data | BB2: 3) LCA method data | BC2: 3) LCA method data | BD2: 3) LCA method data | BE2: 3) LCA method data | BF2: 3) LCA method data | BG2: 3) LCA method data | BH2: 3) LCA method data | BI2: 3) LCA method data | BJ2: 3) LCA method data | BK2: 3) LCA method data | BL2: 3) LCA method data | BM2: 4) Env. impact drivers | BN2: 4) Env. impact drivers | BO2: 4) Env. impact drivers | BP2: 4) Env. impact drivers | BQ2: 4) Env. impact drivers | BR2: 4) Env. impact drivers | BS2: 4) Env. impact drivers | BT2: 5. Impact Results (quanitative) | BU2: 5. Impact Results (quanitative) | BV2: 5. Impact Results (quanitative) | BW2: 5. Impact Results (quanitative) | BX2: 5. Impact Results (quanitative) | BY2: 5. Impact Results (quanitative) | BZ2: 5. Impact Results (quanitative) | CA2: 5. Impact Results (quanitative) | CB2: 5. Impact Results (quanitative) | CC2: 5. Impact Results (quanitative) | CD2: 5. Impact Results (quanitative) | CE2: 5. Impact Results (quanitative) | CF2: 5. Impact Results (quanitative) | CG2: 5. Impact Results (quanitative) | CH2: 5. Impact Results (quanitative) | CI2: 5. Impact Results (quanitative) | CJ2: 5. Impact Results (quanitative) | CK2: 5. Impact Results (quanitative) | CL2: 5. Impact Results (quanitative) | CM2: 5. Impact Results (quanitative) | CN2: 5. Impact Results (quanitative) | CO2: 5. Impact Results (quanitative) | CP2: 5. Impact Results (quanitative) | CQ2: 5. Impact Results (quanitative) | CR2: 5. Impact Results (quanitative) | CS2: 5. Impact Results (quanitative) | CT2: 5. Impact Results (quanitative) | CU2: 5. Impact Results (quanitative) | CV2: 5. Impact Results (quanitative) | CW2: 5. Impact Results (quanitative) | CX2: 5. Impact Results (quanitative) | CY2: 5. Impact Results (quanitative) | CZ2: 5. Impact Results (quanitative) | DA2: 5. Impact Results (quanitative) | DB2: 5. Impact Results (quanitative) | DC2: 5. Impact Results (quanitative) | DD2: 5. Impact Results (quanitative) | DE2: 5. Impact Results (quanitative) | DF2: 5. Impact Results (quanitative) | DG2: 5. Impact Results (quanitative) | DH2: 5. Impact Results (quanitative) | DI2: 5. Impact Results (quanitative) | DJ2: 5. Impact Results (quanitative) | DK2: 5. Impact Results (quanitative) | DL2: 5. Impact Results (quanitative) | DM2: 5. Impact Results (quanitative) | DN2: 5. Impact Results (quanitative) | DO2: 5. Impact Results (quanitative) | DP2: 5. Impact Results (quanitative) | DQ2: 5. Impact Results (quanitative) | DR2: 5. Impact Results (quanitative) | DS2: 5. Impact Results (quanitative) | DT2: 5. Impact Results (quanitative) | DU2: 5. Impact Results (quanitative) | DV2: 5. Impact Results (quanitative) | DW2: 5. Impact Results (quanitative) | DX2: 5. Impact Results (quanitative) | DY2: 5. Impact Results (quanitative) | DZ2: 5. Impact Results (quanitative) | EA2: 5. Impact Results (quanitative) | EB2: 5. Impact Results (quanitative) | EC2: 5. Impact Results (quanitative) | ED2: 5. Impact Results (quanitative) | EE2: 5. Impact Results (quanitative) | EF2: 5. Impact Results (quanitative) | EG2: 5. Impact Results (quanitative) | EH2: 5. Impact Results (quanitative) | EI2: 5. Impact Results (quanitative) | EJ2: 5. Impact Results (quanitative) | EK2: 5. Impact Results (quanitative) | EL2: 5. Impact Results (quanitative) | EM2: 5. Impact Results (quanitative) | EN2: 5. Impact Results (quanitative) | EO2: 5. Impact Results (quanitative) | EP2: 5. Impact Results (quanitative) | EQ2: 5. Impact Results (quanitative) | ER2: 5. Impact Results (quanitative) | ES2: 5. Impact Results (quanitative) | ET2: 5. Impact Results (quanitative) | EU2: 5. Impact Results (quanitative) | EV2: 5. Impact Results (quanitative) | EW2: 5. Impact Results (quanitative) | EX2: 5. Impact Results (quanitative) | EY2: 5. Impact Results (quanitative) | EZ2: 5. Impact Results (quanitative) | FA2: 5. Impact Results (quanitative) | FB2: 5. Impact Results (quanitative) | FC2: 5. Impact Results (quanitative) | FD2: 5. Impact Results (quanitative) | FE2: 5. Impact Results (quanitative) | FF2: 5. Impact Results (quanitative) | FG2: 5. Impact Results (quanitative) | FH2: 5. Impact Results (quanitative) | FI2: 5. Impact Results (quanitative) | FJ2: 5. Impact Results (quanitative) | FK2: 5. Impact Results (quanitative) | FL2: 5. Impact Results (quanitative) | FM2: 5. Impact Results (quanitative) | FN2: 5. Impact Results (quanitative) | FO2: 5. Impact Results (quanitative) | FP2: 5. Impact Results (quanitative) | FQ2: 5. Impact Results (quanitative) | FR2: 5. Impact Results (quanitative)
A3: Publication ID | B3: Scenario ID | C3: Product type | D3: Author label | E3: Eligibility | F3: Authors | G3: Year | H3: Title | I3: Abstract | J3: Link / DOI | K3: Journal | L3: Database | M3: Type of publication | N3: Author affiliation | O3: Affiliation type | P3: Author location | Q3: Product class | R3: Product sub-class | S3: Product info | T3: Product detail | U3: Application | V3: Fermentation type | W3: Fermentation mode | X3: Microbe type | Y3: Microbe name | Z3: Feedstock type | AA3: Feedstock source | AB3: Feedstock specific | AC3: Feedstock processing | AD3: SIP included in model | AE3: CIP included in model | AF3: Scale | AG3: Production volume (MTa) | AH3: Reactor Volume | AI3: DSP steps | AJ3: DSP steps (further description) | AK3: Yield (feedstock, g/g) | AL3: Titer (g/L) | AM3: Primary product Purity % | AN3: Moisture content % | AO3: Protein / oil content | AP3: Waste or Coproduct Processing | AQ3: Type of study | AR3: Temporal positionality | AS3: System boundaries | AT3: Goal and scope | AU3: Functional unit | AV3: Functional units detail | AW3: Allocation criterion | AX3: Allocation detail | AY3: Impact assessment method | AZ3: Software | BA3: Model Scale | BB3: Foreground Data | BC3: Primary/Foreground data source | BD3: Background/Secondary data (database) | BE3: Data notes | BF3: Type of scenarios | BG3: Scenarios | BH3: Geographic: Production location | BI3: Comparator system(s) | BJ3: Comparator notes | BK3: Sensitivity analysis | BL3: Uncertainty analysis | BM3: Summary | BN3: Type | BO3: Hot spot summary | BP3: Hotspot 1 | BQ3: Hotspot 2 | BR3: Hotspot 3 | BS3: Hotspot 4 | BT3: Summary | BU3: Carbon footprint (min) | BV3: Carbon footprint (max) | BW3: Carbon footprint (unit) | BX3: GWP (min) | BY3: GWP (max) | BZ3: GWP (unit) | CA3: Land use (min) | CB3: Land use (max) | CC3: Land use (unit) | CD3: Freshwater eutrophication potential (min) | CE3: Freshwater eutrophication potential (max) | CF3: Freshwater eutrophication potential (unit) | CG3: Marine eutrophication potential (min) | CH3: Marine eutrophication potential (max) | CI3: Marine eutrophication potential (unit) | CJ3: Terrestrial acidification (min) | CK3: Terrestrial acidification (max) | CL3: Terrestrial acidification (unit) | CM3: Ionizing radiation (min) | CN3: Ionizing radiation (max) | CO3: Ionizing radiation (unit) | CP3: Human carcinogenic toxicity (min) | CQ3: Human carcinogenic toxicity (max) | CR3: Human carcinogenic toxicity (unit) | CS3: Non-carcinogenic toxicity (min) | CT3: Non-carcinogenic toxicity (max) | CU3: Non-carcinogenic toxicity (unit) | CV3: Stratospheric ozone depletion (min) | CW3: Stratospheric ozone depletion (max) | CX3: Stratospheric ozone depletion (unit) | CY3: Water scarcity (min) | CZ3: Water scarcity (max) | DA3: Water scarcity (unit) | DB3: Water use (min) | DC3: Water use (max) | DD3: Water use (unit) | DE3: Cumulative energy demand (CED) (min) | DF3: Cumulative energy demand (CED) (max) | DG3: Cumulative energy demand (CED) (unit) | DH3: Photochemical ozone formation (min) | DI3: Photochemical ozone formation (max) | DJ3: Photochemical ozone formation (units) | DK3: Respiratory inorganics (min) | DL3: Respiratory inorganics (max) | DM3: Respiratory inorganics (units) | DN3: Resource Use (mineral and metals) (min) | DO3: Resource Use (mineral and metals) (max) | DP3: Resource Use (mineral and metals) (units) | DQ3: Resource use. energy carriers (min) | DR3: Resource use. energy carriers (max) | DS3: Resource use. energy carriers (units) | DT3: Eutrophication terrestrial (min) | DU3: Eutrophication terrestrial (max) | DV3: Eutrophication terrestrial (units) | DW3: Fossil energy demand (min) | DX3: Fossil energy demand (max) | DY3: Fossil energy demand (units) | DZ3: Fine particulate matter formation (min) | EA3: Fine particulate matter formation (max) | EB3: Fine particulate matter formation (units) | EC3: Eutrophication potential (min) | ED3: Eutrophication potential (max) | EE3: Eutrophication potential (units) | EF3: Photochemical smog potential (min) | EG3: Photochemical smog potential (max) | EH3: Photochemical smog potential (units) | EI3: Ozone layer depletion (min) | EJ3: Ozone layer depletion (max) | EK3: Ozone layer depletion (units) | EL3: Human toxicity potential (min) | EM3: Human toxicity potential (max) | EN3: Human toxicity potential (units) | EO3: Particulate matter (min) | EP3: Particulate matter (max) | EQ3: Particulate matter (units) | ER3: Acidification (min) | ES3: Acidification (max) | ET3: Acidification (units) | EU3: Abiotic Depletion Potential, elements (min) | EV3: Abiotic Depletion Potential, elements (max) | EW3: Abiotic Depletion Potential, elements (units) | EX3: Abiotic Depletion Potential, fossil (min) | EY3: Abiotic Depletion Potential, fossil (max) | EZ3: Abiotic Depletion Potential, fossil (units) | FA3: Freshwater Aquatic Ecotoxicity Potential (min) | FB3: Freshwater Aquatic Ecotoxicity Potential (max) | FC3: Freshwater Aquatic Ecotoxicity Potential (units) | FD3: Marine Aquatic Ecotoxicity Potential (min) | FE3: Marine Aquatic Ecotoxicity Potential (max) | FF3: Marine Aquatic Ecotoxicity Potential (units) | FG3: Terrestrial Ecotoxicity Potential (min) | FH3: Terrestrial Ecotoxicity Potential (max) | FI3: Terrestrial Ecotoxicity Potential (units) | FJ3: Biotic Resource Use (min) | FK3: Biotic Resource Use (max) | FL3: Biotic Resource Use (units) | FM3: Ecotoxicity (min) | FN3: Ecotoxicity (max) | FO3: Ecotoxicity (units) | FP3: Water Footprint (min) | FQ3: Water Footprint (max) | FR3: Water Footprint (units)
A4: MO1 | B4: MO1.1 | C4: Microbial oils | D4: Bonatsos et al., 2020 | E4: 1. Eligible | F4: Bonatsos, N; Marazioti, C; Moutousidi, E; Anagnostou, A; Koutinas, A; Kookos, IK | G4: 2020 | H4: Techno-economic analysis and life cycle assessment of heterotrophic yeast-derived single cell oil production process | I4: The widespread application and utilization of vegetable oils and fats has led to a significant increase of their annual production. Fats and oils are mainly consumed as food and as animal feed, as raw material in the chemical industry and more recently as raw material for biofuel production. In this work the economics of the biochemical production of microbial oil is investigated and the life cycle assessment is performed for first time in the open literature. The production process is simulated using commercial simulators to perform accurate material and energy balances and all necessary data are collected from the open literature. Following the process simulation step a detailed technoeconomic analysis is performed and the fixed capital investment is estimated for a production that varies from 2 to 40 kt of microbial oil per year. Having completed the technoeconomic analysis the Life Cycle Inventory Analysis is performed, and the environmental impacts are estimated, using the comprehensive Life Cycle Assessment methodology. | J4: 10.1016/j.fuel.2019.116839 | K4: Fuel | L4: Dimensions, Web of Science, "Other (previously known, citation chains)" | M4: Article: peer reviewed | N4: a Department of Chemical Engineering, University of Patras, Rio, 26504 Patras, Greece b Department of Food Science and Human Nutrition, Agricultural University of Athens, Iera Odos 75, 118 55 Athens, Greece c INVALOR: Research Infrastructure for Waste Valorization and Sustainable Management, Caratheodory 1, University Campus, Patras GR-26504, Greece | O4: University | P4: Greece | Q4: Bulk lipids (MUFA-/SFA-rich oils) | R4: MUFA yeast oil | S4: MUFA-rich TAG yeast oil | T4: Triglyceride-rich oil produced via fermentation of Rhodosporidium toruloides Y4 through SCO hexane extraction. | U4: Not specified | V4: Aerobic (submerged) | W4: Fed-batch | X4: Yeast | Y4: Rhodosporidium toruloides | Z4: Gen 1 | AA4: Sugarcane | AB4: Sucrose | AC4: Off-site processing: Pulls agricultural production and crop fractionation from "Renouf et al. 2008". | AD4: Yes | AE4: Not specified | AF4: Industrial | AG4: 10000 | AH4: 594.4 cubic-meter | AI4: Cell separation (rotary filter), Drying (Fluid bed), Homoginization (mechanical lysis), Extraction (hexane), Separations (S/L separator), Solvent recovery (evaporator), No oil refining mentioned, No formulation | AJ4: 1. Biomass separated by rotary vacuum filtration, 2. Dried (fluid bed dryer), 3. Mixed with hexane, homogenized, 4. Centrifuged, 5. Oil extracted by phase separation, hexane recovered and recycled, SCO stored. Residual biomass can be coproduct. | AK4: 0.22988506 | AL4: 71.9 | AM4: High purity extracted oil from yeast | AN4: n.r. | AO4: 67.5% (cell DM) | AP4: Residual biomass (0.48t/t SCO) not credited - waste product | AQ4: Attributional LCA | AR4: 2018 | AS4: Cradle-to-gate (no packaging) | AT4: Assessment of a product: Economic and environmental assessment of SCO process for food, fuel, chemical applications; compare to vegetable oils | AU4: 1 tonne oil | AV4: All impacts and economics per 1 t SCO | AW4: System expansion | AX4: System expansion for co-products from glucose (LPS from bagasse, corn gluten/meal/oil replace other products); residual biomass not credited. Residual microbial biomass (0.48 tbiomass per t of SCO) = main co-product of the production process (an additional 0.88 t of CO2 captured at the agricultural stage is stored in the residual biomass produced per t of SCO). Production of the monosaccharide results in different co-products: low pressure steam (LPS at 120 °C) is the co-product that is produced at the crop processing step at the significant amount of 18.2 t LPS/t SCO. Correspondingly, in the case of glucose production from corn, the co-products are corn gluten feed, corn gluten meal and corn oil at amounts of 1.166 t, 0.35 t and 0.12 t per t of SCO, respectively. System boundaries were expanded to include the displacement of alternative products in the market. LPS from bagasse combustion substitutes LPS from natural gas, in the first case examined, while in the second case, corn gluten feed, corn gluten meal and corn oil replaces barley, soybean meal and soybean oil, respectively. Residual microbial biomass is not taken into consideration due to the amount that it is produced as well as the lack of data concerning the displacing of animal feed. | AY4: GWP100 (Carbon footprint), Other | AZ4: GaBi version: 8.7.0.18/GaBi database | BA4: Industrial | BB4: Feedstock processing, USP, DSP | BC4: Literature modeled, Lab data modeled | BD4: Literature, Gabi (Sphera) | BE4: Renouf et al. 2008 (agriculture), GaBi/ecoinvent (background) | BF4: Input: Feedstock type; Plant scale | BG4: Both glucose sources for all impact categories. Glucose source (sugarcane vs corn); plant scale (2–40 kt/y); glucose cost sensitivity | BH4: Not specified | BI4: Common vegetable oils | BJ4: Four vegetable oils: (palm oil, soybean oil, rapeseed oil and sunflower oil) | BK4: No | BL4: No | BM4: Bonatsos et al. (2020) compared TAG-rich yeast oil produced from R. toruloides using sugarcane sucrose or corn glucose against palm, soybean, rapeseed, and sunflower oils on a cradle-to-gate basis. GWP was 71% higher than the vegetable oil average for the sugarcane scenario and 176% higher for the corn glucose scenario, driven primarily by feedstock source and fermentation electricity demand. However, acidification and eutrophication impacts were substantially lower than the vegetable oil average in both scenarios — by 86% and 65% respectively for sugarcane sucrose — with agricultural fertilizer use identified as the dominant hotspot for both categories in conventional comparators. Land use, water use, and biotic resource use were not assessed. GWP: major contribution: production of SCO, agricultural production stage; high electricity demands during fermenttation process. Acidification: agricultural process stage dominates impacts. SCO made with sugarcane lowest impacts, followed by corn-based carbon source. Eutrophication: agricultural process stage dominates impacts due to fertilizer usage. Both SCO cases have "medium value". | BN4: Process | BO4: Feedstock source (sugarcane vs corn) Electrical demand (CED) (agitation and aeration) Agricultural production / fertilizer | BP4: Feedstock source (sugarcane vs corn) | BQ4: Electrical demand (CED) (agitation and aeration) | BR4: Agricultural production / fertilizer | BT4: Bonatsos et al. (2020) compared TAG-rich yeast oil produced from R. toruloides using sugarcane sucrose or corn glucose against palm, soybean, rapeseed, and sunflower oils on a cradle-to-gate basis. GWP was 71% higher than the vegetable oil average for the sugarcane scenario and 176% higher for the corn glucose scenario, driven primarily by feedstock source and fermentation electricity demand. However, acidification and eutrophication impacts were substantially lower than the vegetable oil average in both scenarios — by 86% and 65% respectively for sugarcane sucrose — with agricultural fertilizer use identified as the dominant hotspot for both categories in conventional comparators. Land use, water use, and biotic resource use were not assessed. GWP: major contribution: production of SCO, agricultural production stage; high electricity demands during fermenttation process. Acidification: agricultural process stage dominates impacts. SCO made with sugarcane lowest impacts, followed by corn-based carbon source. Eutrophication: agricultural process stage dominates impacts due to fertilizer usage. Both SCO cases have "medium value". | BX4: 7.2 | BZ4: t CO2-eq/FU | CJ4: 0.004 | CL4: t SO2-eq/FU | ED4: 0.007 | EE4: t PO4 eq / FU
A5: MO1 | B5: MO1.2 | C5: Microbial oils | D5: Bonatsos et al., 2020 | E5: 1. Eligible | F5: Bonatsos, N; Marazioti, C; Moutousidi, E; Anagnostou, A; Koutinas, A; Kookos, IK | G5: 2020 | H5: Techno-economic analysis and life cycle assessment of heterotrophic yeast-derived single cell oil production process | I5: The widespread application and utilization of vegetable oils and fats has led to a significant increase of their annual production. Fats and oils are mainly consumed as food and as animal feed, as raw material in the chemical industry and more recently as raw material for biofuel production. In this work the economics of the biochemical production of microbial oil is investigated and the life cycle assessment is performed for first time in the open literature. The production process is simulated using commercial simulators to perform accurate material and energy balances and all necessary data are collected from the open literature. Following the process simulation step a detailed technoeconomic analysis is performed and the fixed capital investment is estimated for a production that varies from 2 to 40 kt of microbial oil per year. Having completed the technoeconomic analysis the Life Cycle Inventory Analysis is performed, and the environmental impacts are estimated, using the comprehensive Life Cycle Assessment methodology. | J5: 10.1016/j.fuel.2019.116839 | K5: Fuel | L5: Dimensions, Web of Science, "Other (previously known, citation chains)" | M5: Article: peer reviewed | N5: a Department of Chemical Engineering, University of Patras, Rio, 26504 Patras, Greece b Department of Food Science and Human Nutrition, Agricultural University of Athens, Iera Odos 75, 118 55 Athens, Greece c INVALOR: Research Infrastructure for Waste Valorization and Sustainable Management, Caratheodory 1, University Campus, Patras GR-26504, Greece | O5: University | P5: Greece | Q5: Bulk lipids (MUFA-/SFA-rich oils) | R5: MUFA yeast oil | S5: MUFA-rich TAG yeast oil | T5: Triglyceride-rich oil produced via fermentation of Rhodosporidium toruloides Y4 through SCO hexane extraction. | U5: Not specified | V5: Aerobic (submerged) | W5: Fed-batch | X5: Yeast | Y5: Rhodosporidium toruloides | Z5: Gen 1 | AA5: Corn | AB5: Glucose | AC5: Off-site processing: Pulls agricultural production and crop fractionation from "Renouf et al. 2008". | AD5: Yes | AE5: Not specified | AF5: Industrial | AG5: 10000 | AH5: 594.4 cubic-meter | AI5: Cell separation (rotary filter), Drying (Fluid bed), Homoginization (mechanical lysis), Extraction (hexane), Separations (S/L separator), Solvent recovery (evaporator), No oil refining mentioned, No formulation | AJ5: 1. Biomass separated by rotary vacuum filtration, 2. Dried (fluid bed dryer), 3. Mixed with hexane, homogenized, 4. Centrifuged, 5. Oil extracted by phase separation, hexane recovered and recycled, SCO stored. Residual biomass can be coproduct. | AK5: 0.22988506 | AL5: 71.9 | AM5: High purity extracted oil from yeast | AN5: n.r. | AO5: 67.5% (cell DM) | AP5: Residual biomass (0.48t/t SCO) not credited - waste product | AQ5: Attributional LCA | AR5: 2018 | AS5: Cradle-to-gate (no packaging) | AT5: Assessment of a product: Economic and environmental assessment of SCO process for food, fuel, chemical applications; compare to vegetable oils | AU5: 1 tonne oil | AW5: System expansion | AX5: System expansion for co-products from glucose (LPS from bagasse, corn gluten/meal/oil replace other products); residual biomass not credited. Residual microbial biomass (0.48 tbiomass per t of SCO) = main co-product of the production process (an additional 0.88 t of CO2 captured at the agricultural stage is stored in the residual biomass produced per t of SCO). Production of the monosaccharide results in different co-products: low pressure steam (LPS at 120 °C) is the co-product that is produced at the crop processing step at the significant amount of 18.2 t LPS/t SCO. Correspondingly, in the case of glucose production from corn, the co-products are corn gluten feed, corn gluten meal and corn oil at amounts of 1.166 t, 0.35 t and 0.12 t per t of SCO, respectively. System boundaries were expanded to include the displacement of alternative products in the market. LPS from bagasse combustion substitutes LPS from natural gas, in the first case examined, while in the second case, corn gluten feed, corn gluten meal and corn oil replaces barley, soybean meal and soybean oil, respectively. Residual microbial biomass is not taken into consideration due to the amount that it is produced as well as the lack of data concerning the displacing of animal feed. | AY5: GWP100 (Carbon footprint) | AZ5: GaBi version: 8.7.0.18/GaBi database | BA5: Industrial | BB5: Feedstock processing, USP, DSP | BC5: Literature modeled, Lab data modeled | BD5: Literature, Gabi (Sphera) | BE5: Renouf et al. 2008 (agriculture), GaBi/ecoinvent (background) | BF5: Input: Feedstock type; Plant scale | BG5: Both glucose sources for all impact categories. Glucose source (sugarcane vs corn); plant scale (2–40 kt/y); glucose cost sensitivity | BH5: Not specified | BI5: Common vegetable oils | BJ5: Four vegetable oils: (palm oil, soybean oil, rapeseed oil and sunflower oil) | BK5: No | BL5: No | BM5: Bonatsos et al. (2020) compared TAG-rich yeast oil produced from R. toruloides using sugarcane sucrose or corn glucose against palm, soybean, rapeseed, and sunflower oils on a cradle-to-gate basis. GWP was 71% higher than the vegetable oil average for the sugarcane scenario and 176% higher for the corn glucose scenario, driven primarily by feedstock source and fermentation electricity demand. However, acidification and eutrophication impacts were substantially lower than the vegetable oil average in both scenarios — by 86% and 65% respectively for sugarcane sucrose — with agricultural fertilizer use identified as the dominant hotspot for both categories in conventional comparators. Land use, water use, and biotic resource use were not assessed. GWP: major contribution: production of SCO, agricultural production stage; high electricity demands during fermenttation process. Acidification: agricultural process stage dominates impacts. SCO made with sugarcane lowest impacts, followed by corn-based carbon source. Eutrophication: agricultural process stage dominates impacts due to fertilizer usage. Both SCO cases have "medium value". | BN5: Process | BO5: Feedstock source (sugarcane vs corn) Electrical demand (CED) (agitation and aeration) Agricultural production / fertilizer | BP5: Feedstock source (sugarcane vs corn) | BQ5: Electrical demand (CED) (agitation and aeration) | BR5: Agricultural production / fertilizer | BT5: Bonatsos et al. (2020) compared TAG-rich yeast oil produced from R. toruloides using sugarcane sucrose or corn glucose against palm, soybean, rapeseed, and sunflower oils on a cradle-to-gate basis. GWP was 71% higher than the vegetable oil average for the sugarcane scenario and 176% higher for the corn glucose scenario, driven primarily by feedstock source and fermentation electricity demand. However, acidification and eutrophication impacts were substantially lower than the vegetable oil average in both scenarios — by 86% and 65% respectively for sugarcane sucrose — with agricultural fertilizer use identified as the dominant hotspot for both categories in conventional comparators. Land use, water use, and biotic resource use were not assessed. GWP: major contribution: production of SCO, agricultural production stage; high electricity demands during fermenttation process. Acidification: agricultural process stage dominates impacts. SCO made with sugarcane lowest impacts, followed by corn-based carbon source. Eutrophication: agricultural process stage dominates impacts due to fertilizer usage. Both SCO cases have "medium value". | BX5: 11.6 | BZ5: t CO2-eq/FU | CJ5: 0.015 | CL5: t SO2-eq/FU | ED5: 0.015 | EE5: t PO4 eq / FU
A6: MO2 | B6: MO2 | C6: Microbial oils | D6: Abelleira et al., 2024 | E6: 1. Eligible | F6: Abelleira, S; Cruz, PL; Iribarren, D | G6: 2024 | H6: Life cycle sustainability assessment of microbial oil from organic waste | I6: Microbial oils (MOs) are lipids produced by oleaginous microorganisms, which constitute an alternative to vegetable and fossil-derived oils. They can be produced from organic waste by coupling acidogenic fermentation (AF) with oleaginous fermentation (OF). This study addresses a life cycle sustainability assessment (LCSA) of MO produced from the organic fraction of municipal solid waste. First, a system was modelled using simulation tools. This model combines AF for the production of volatile fatty acids from organic waste, OF for the production of lipid-rich yeasts, and MO extraction. LCSA results indicate the need for improvements in the disruption of yeasts and the overall efficiency of the system. Particularly, slightly acidified thermolysis turned out to involve excessively high steam requirements. An enhanced sustainability performance could be achieved by exploring alternative disruption methods or alternative sources of energy for the production of steam such as biogas from the valorisation of the sludges produced in the system. | J6: 10.1016/j.cesys.2024.100236 | K6: Circular Economy and Sustainability | L6: Dimensions, Web of Science, "Other (previously known, citation chains)" | M6: Article: peer reviewed | N6: a Systems Analysis Unit, IMDEA Energy, 28935, Mostoles, ´ Spain b Rey Juan Carlos University, 28933, Mostoles, ´ Spain | O6: Research institution, University | P6: Spain | Q6: Bulk lipids (MUFA-/SFA-rich oils) | R6: MUFA yeast oil | S6: MUFA-rich TAG yeast oil | T6: Microbial oil (single-cell oil) produced by Yarrowia lipolytica (wild strains), via OF fed with VFAs from acidogenic fermentation of OFMSW. Acetoenic fermentation (anaerobic digestion) of organic waste (organic fraction of municipal solid waste). The digested waste produces volatile fatty acides (VFAs) for oleagnious yeast fermentaiton substrate for microbial oil production. The microbial oil has high palmitic and stearic acid composition according to supplementary file. | U6: Food ingredient | V6: Aerobic (submerged) | W6: Batch | X6: Yeast | Y6: Yarrowia lipolytica | Z6: Gen 2 | AA6: Food waste, Anaerobic digestion | AB6: Volatile fatty acids (VFAs) | AC6: Mechanical grinding, thermal sterilisation, anaerobic digestion of organic waste, submerged membrane separation of VFAs | AD6: Not specified | AE6: Not specified | AF6: Industrial | AG6: n.r. | AH6: Acidogenic fermenter: 354.03m3 Oleaginous fermenter: 74.02m3 | AI6: Cell separation (centrifugation), Homogenization / cell lysis (acid thermolysis), Solvent extraction (hexane), Separation (centrifugation), Separation (purification / solvent distillation), No oil refining mentioned, No formulation | AJ6: Yeast centrifugation, yeast thermolysis (homogenization), lipid extraction via liquid-liquid extraction (solvent extraction), further centrifugation to remove cell debris (separation), and solvent distillation for hexane recovery and MO purification (oil purification). | AK6: 0.019 (56.66kg organic food waste / 1kg microbial oils) | AL6: n.r. | AM6: n.r. | AN6: n.r. | AO6: n.r. | AQ6: Attributional LCA, Social-LCA, Economic-LCC | AR6: Prospective | AS6: Cradle-to-gate (no packaging) | AT6: Assessment of a product: Assess environmental, economic, and social sustainability of MO from OFMSW (as baseline for future scenarios and improvement) | AU6: 1 kg MO from OFMSW (organic fraction of municipal solid waste) | AV6: Per 1 kg MO, all impacts allocated by economic value (MO: 89.4% of impact; rest to waste management function) | AW6: Economic | AX6: Impacts were allocated to the MO product based on the calculated percentage of benefits coming from MO sales according to the economic information from the life cycle costing (LCC) study. With these considerations, the allocation percentage for MO is 89.4%. | AY6: Environmental Footprint (EF) | AZ6: Simapro | BB6: Feedstock processing, USP, DSP | BC6: Literature modeled | BD6: Ecoinvent | BE6: The MO production system under study comprises three main steps integrated into an Aspen Plus® simulation: AF of organic waste, OF of waste-derived VFAs, and MO extraction from oleaginous yeasts. Aspen simulation based. Foreground data source Morales-Palomo et al. (2022), Kruger et al. (2018), Gao et al. (2017, 2020), others Secondary data (database) ecoinvent v3.8, Spanish grid mix, market prices for chemicals/utilities | BF6: None | BG6: Not comparative; baseline is AF + OF + DSP from OFMSW | BH6: Spain | BI6: Vegetable oils (soybean, palm, rapeseed, sunflower) | BK6: No | BL6: No | BM6: Abelleira et al. (2024) compared TAG-rich yeast oil produced from Y. lipolytica on waste-derived volatile fatty acid feedstock against conventional vegetable oils (soybean, palm, rapeseed, sunflower) using ecoinvent background data. At pilot scale, microbial oil environmental impacts exceeded the vegetable oil average by 7- to 33-fold across climate change, eutrophication, acidification, and fossil resource use categories, with natural gas consumption identified as the dominant hotspot. The authors note that a 74% reduction in carbon footprint would be required to reach parity with soybean oil, underscoring that process energy intensity at current scale remains the principal barrier to competitiveness with conventional vegetable oils. Combustion emissionsand the natural gas demand were identified as the environmental hotspots of MO. Notably, emissions and natural gas consumption related to steam production were found to account for 91% and 3% of the potential. acidification impact, 52% and 23% of the potential climate change impact, 94% and 2% of the potential marine eutrophication impact, 94% and 1% of the terrestrial eutrophication impact, and 87% and 8% of the potential photochemical ozone formation impact. Environmental improvement actions should focus on alternative methods for yeast lysis, such as highpressure homogenisation, micro-wave and other conventional thermal treatments, bead beating, and acid, base and enzymatic treatments. | BN6: Process | BO6: 1. Natural gas for steam (acid thermolysis): ~80% of total climate impact and main cost; 2. Chemicals (NaOH for pH control): main contributor within chemicals; 3. Electricity: especially for aeration (44% of use), also for membrane, centrifuges. | BP6: Steam and heat demand (natural gas, combustion emissions, for yeast lysis) | BQ6: Production of chemicals (sodium hydrolxide, n-hexane, sulphuric acid) | BR6: Electrical demand (USP aeration) | BT6: Abelleira et al. (2024) compared TAG-rich yeast oil produced from Y. lipolytica on waste-derived volatile fatty acid feedstock against conventional vegetable oils (soybean, palm, rapeseed, sunflower) using ecoinvent background data. At pilot scale, microbial oil environmental impacts exceeded the vegetable oil average by 7- to 33-fold across climate change, eutrophication, acidification, and fossil resource use categories, with natural gas consumption identified as the dominant hotspot. The authors note that a 74% reduction in carbon footprint would be required to reach parity with soybean oil, underscoring that process energy intensity at current scale remains the principal barrier to competitiveness with conventional vegetable oils. Combustion emissionsand the natural gas demand were identified as the environmental hotspots of MO. Notably, emissions and natural gas consumption related to steam production were found to account for 91% and 3% of the potential. acidification impact, 52% and 23% of the potential climate change impact, 94% and 2% of the potential marine eutrophication impact, 94% and 1% of the terrestrial eutrophication impact, and 87% and 8% of the potential photochemical ozone formation impact. Environmental improvement actions should focus on alternative methods for yeast lysis, such as highpressure homogenisation, micro-wave and other conventional thermal treatments, bead beating, and acid, base and enzymatic treatments. | BU6: 26.94 | BW6: kg CO2eq /FU | CH6: 0.31 | CI6: kg N eq / FU | CJ6: 0.6 | CL6: mol H+ eq / FU | DH6: 0.57 | DJ6: kg NMVOC eq | DT6: 3.43 | DV6: mol N eq | DX6: 433.87 | DY6: MJ / FU
A7: MO3 | B7: MO3.1 | C7: Microbial oils | D7: Davis D et al., 2021 | E7: 1. Eligible | F7: Davis D,Morão A,Johnson JK,Shen L | G7: 2021 | H7: Life cycle assessment of heterotrophic algae omega-3 | I7: Fish oil has traditionally been the primary source of long chain omega-3 fatty acids, which are essential nutrients for human diets as well as many aquaculture and animal feeds. The demand for fish oil is growing rapidly, due to an expanding aquaculture sector as well as rising demand in pet and livestock feeds, while the availability of fish oil from wild caught fish has leveled off over the past decade. Fish oil is not easily replaced and alternative sources are required to meet the growing global demand. One of the most promising alternatives is microalgae - the original source of long chain omega-3s. To understand the environmental impacts of omega-3s produced by heterotrophic algae, a comprehensive Life Cycle Assessment (LCA), assessing six impact categories, was conducted for two algae omega-3 DHA (docosahexaenoic acid) products, in powder and liquid suspension formats. These products are manufactured at industrial scale using sugarcane for both feedstock and a renewable energy source. The life cycle impact assessment results for algae omega-3 DHA indicate that sugarcane cultivation has the largest contribution for most of the categories. A sensitivity analysis revealed that the sugarcane yield, and the sugar to omega-3 DHA yield, were the most relevant parameters, and that the choice of allocation methodology did not have a strong influence on the results. A comparison with fish oil, using data publicly available in LCA databases, indicated that the two formats of the commercial algae omega-3 DHA product offer about 30–40% lower impact on climate change than fish oil. | J7: 10.1016/j.algal.2021.102494 | K7: Algal Research | L7: Other (previously known, citation chains) | M7: Article: peer reviewed | N7: a Copernicus Institute of Sustainable Development, Utrecht University, Utrecht, the Netherlands b Corbion Sustainability department, Gorinchem, the Netherlands c Corbion Algae Ingredients, South San Francisco, CA, USA | O7: University, Company | P7: Netherlands, United States | Q7: Nutritional omega-3 oils (PUFA-rich) | R7: PUFA microalgal oil | S7: Algae omega-3 DHA powder: Powder or biomass - Oil high in omega-3 DHA is encapsulated within the algae cell to form a free-flowing dry powder | T7: Omega-3 DHA produced from heterotrophically grown microalgae commercialed under the name of Algaprime DHA, fermented at Corbion | U7: Feed ingredient | V7: Aerobic (submerged) | W7: Not specified | X7: Microalgae | Y7: Schizochytrium genus | Z7: Gen 1 | AA7: Sugarcane | AB7: Sucrose | AD7: Not specified | AE7: Not specified | AF7: Industrial | AG7: n.r. | AH7: n.r. | AI7: Cell separation (unspecified), Drying (not specified), No oil refining (direct oil-rich biomass), No formulation | AJ7: The algae broth is harvested and dried using steam from bagasse. The dry algae biomass is a free-flowing dry powder with oil high in DHA encapsulated within the algae biomass. The water removed in the drying steps is condensed and reused in the process. Algae omega-3 DHA liquid suspension is produced by mixing algae biomass with vegetable oil. | AK7: n.r. | AL7: n.r. | AM7: 20-30% DHA biomass | AP7: Co-products: sugar, ethanol. electricity | AQ7: Attributional LCA | AR7: 2019 | AS7: Cradle-to-gate (no packaging) | AT7: Assessment of a product | AU7: 1 kg omega-3 fatty acids (biomass powder) | AV7: Product is biomass product rich in DHA product normalized to 1 kg omega-3 FA functional unit due to DHA being the key nutritional component; allows comparison to fish oil. | AW7: Economic, Energy | AX7: Economic allocation is applied as default based on the PEFCR for animal feed [23]. The economic allocation factors, based on average prices in 2016–2019, are 45%, 45% and 9% for sugar, ethanol and electricity, respectively. In the sensitivity analysis (see Section 4.3) energy allocation is applied, which results in slightly higher allocation factor for sugar and lower allocation factor for electricity, i.e. 48%, 45% and 7% | AY7: Environmental Footprint (EF) | AZ7: SimaPro 9.1 | BA7: Industrial | BB7: USP, DSP, Feedstock processing, Company data (ingredient) | BC7: Company data (industrial-scale) | BD7: Agri-footprint, Ecoinvent | BE7: The LCI for algae omega-3 DHA production is based on the confidential process and for this reason detailed input/output data cannot be disclosed. | BF7: Dry biomass product | BH7: Orindiúva, Brazil | BI7: Fish Oil | BJ7: A comparison with fish oil indicated that the two formats of the commercial algae omega-3 DHA product offer about 30–40% lower impact on climate change than fish oil. | BK7: Yes | BL7: No | BM7: Davis et al. (2021): Davis et al. (2021) found that heterotrophic microalgal omega-3 production from sugarcane-derived sucrose in Brazil has about 30–40% lower impact on climate change than wild-caught fish oil, while acidification and water use impacts significantly differed depending on the fish oil inventory. Land use impacts were significantly higher in the microalgal DHA system. No biotic resource use or marine ecotoxicity potential assessed - limiting assessment on biodiversity and over-fishing impacts. Impacts were predominantly driven by the sucrose production (sugarcane production and sugar mill) along with vegetable oil production as a formulation component of the DHA product. Whereas, water use was the only impact area driven mainly by the microalgal DHA production. Sugarcane cultivation was the largest contributior for most of the categories, sensitivity analysis revealed that sugarcane yield, sugar to omega=3 DHA yield were the most relevant parameters. | BN7: Process | BO7: Sugarcane cultivation Sugar mill Other nutrients and chemicals | BP7: Feedstock production: sugarcane cultivation | BQ7: Feedstock production: sugar mill | BR7: Other nutrients and chemicals | BT7: Davis et al. (2021): Davis et al. (2021) found that heterotrophic microalgal omega-3 production from sugarcane-derived sucrose in Brazil has about 30–40% lower impact on climate change than wild-caught fish oil, while acidification and water use impacts significantly differed depending on the fish oil inventory. Land use impacts were significantly higher in the microalgal DHA system. No biotic resource use or marine ecotoxicity potential assessed - limiting assessment on biodiversity and over-fishing impacts. Impacts were predominantly driven by the sucrose production (sugarcane production and sugar mill) along with vegetable oil production as a formulation component of the DHA product. Whereas, water use was the only impact area driven mainly by the microalgal DHA production. Sugarcane cultivation was the largest contributior for most of the categories, sensitivity analysis revealed that sugarcane yield, sugar to omega=3 DHA yield were the most relevant parameters. | BU7: 4.12 | BW7: kg CO2eq/FU | CA7: 2090 | CC7: Pt (soil index quality) / FU | CJ7: 0.0565 | CL7: mol H+ eq | DB7: 0.926 | DD7: m3 deprived / FU | DT7: 0.182 | DV7: mol N eq/FU | EO7: 1.35e-06 | EQ7: Disease inc.
A8: MO3 | B8: MO3.2 | C8: Microbial oils | D8: Davis D et al., 2021 | E8: 1. Eligible | F8: Davis D,Morão A,Johnson JK,Shen L | G8: 2021 | H8: Life cycle assessment of heterotrophic algae omega-3 | I8: Fish oil has traditionally been the primary source of long chain omega-3 fatty acids, which are essential nutrients for human diets as well as many aquaculture and animal feeds. The demand for fish oil is growing rapidly, due to an expanding aquaculture sector as well as rising demand in pet and livestock feeds, while the availability of fish oil from wild caught fish has leveled off over the past decade. Fish oil is not easily replaced and alternative sources are required to meet the growing global demand. One of the most promising alternatives is microalgae - the original source of long chain omega-3s. To understand the environmental impacts of omega-3s produced by heterotrophic algae, a comprehensive Life Cycle Assessment (LCA), assessing six impact categories, was conducted for two algae omega-3 DHA (docosahexaenoic acid) products, in powder and liquid suspension formats. These products are manufactured at industrial scale using sugarcane for both feedstock and a renewable energy source. The life cycle impact assessment results for algae omega-3 DHA indicate that sugarcane cultivation has the largest contribution for most of the categories. A sensitivity analysis revealed that the sugarcane yield, and the sugar to omega-3 DHA yield, were the most relevant parameters, and that the choice of allocation methodology did not have a strong influence on the results. A comparison with fish oil, using data publicly available in LCA databases, indicated that the two formats of the commercial algae omega-3 DHA product offer about 30–40% lower impact on climate change than fish oil. | J8: 10.1016/j.algal.2021.102494 | K8: Algal Research | L8: Other (previously known, citation chains) | M8: Article: peer reviewed | N8: a Copernicus Institute of Sustainable Development, Utrecht University, Utrecht, the Netherlands b Corbion Sustainability department, Gorinchem, the Netherlands c Corbion Algae Ingredients, South San Francisco, CA, USA | O8: University, Company | P8: Netherlands, United States | Q8: Nutritional omega-3 oils (PUFA-rich) | R8: PUFA microalgal oil | S8: Algae omega-3 DHA liquid suspension: Liquid suspension – Blend of omega-3 DHA-rich algae and vegetable oil. | T8: Omega-3 DHA produced from heterotrophically grown microalgae commercialed under the name of Algaprime DHA, fermented at Corbion | U8: Feed ingredient | V8: Aerobic (submerged) | W8: Not specified | X8: Microalgae | Y8: Schizochytrium genus | Z8: Gen 1 | AA8: Sugarcane | AB8: Sucrose | AD8: Not specified | AE8: Not specified | AF8: Industrial | AG8: n.r. | AH8: n.r. | AI8: Cell separation (unspecified), Drying (not specified), No oil refining (direct oil-rich biomass), Formulation (vegetable oil blend) | AJ8: The algae broth is harvested and dried using steam from bagasse. The dry algae biomass is a free-flowing dry powder with oil high in DHA encapsulated within the algae biomass. The water removed in the drying steps is condensed and reused in the process. Algae omega-3 DHA liquid suspension is produced by mixing algae biomass with vegetable oil. T | AK8: n.r. | AL8: n.r. | AM8: 20-30% DHA biomass | AP8: Co-products: sugar, ethanol. electricity | AQ8: Attributional LCA | AR8: 2019 | AS8: Cradle-to-gate (no packaging) | AT8: Assessment of a product | AU8: 1 kg omega-3 fatty acids (biomass liquid product) | AV8: Product is mixed liquid product rich in DHA product normalized to 1 kg omega-3 FA functional unit due to DHA being the key nutritional component; allows comparison to fish oil. | AW8: Economic, Energy | AX8: Economic allocation is applied as default based on the PEFCR for animal feed [23]. The economic allocation factors, based on average prices in 2016–2019, are 45%, 45% and 9% for sugar, ethanol and electricity, respectively. In the sensitivity analysis (see Section 4.3) energy allocation is applied, which results in slightly higher allocation factor for sugar and lower allocation factor for electricity, i.e. 48%, 45% and 7% | AY8: Environmental Footprint (EF) | AZ8: SimaPro 9.1 | BA8: Industrial | BB8: USP, DSP, Feedstock processing, Company data (ingredient) | BC8: Company data (industrial-scale) | BD8: Agri-footprint, Ecoinvent | BE8: The LCI for algae omega-3 DHA production is based on the confidential process and for this reason detailed input/output data cannot be disclosed. | BF8: Mixed liquid product | BH8: Orindiúva, Brazil | BI8: Fish Oil | BJ8: A comparison with fish oil indicated that the two formats of the commercial algae omega-3 DHA product offer about 30–40% lower impact on climate change than fish oil. | BK8: Yes | BL8: No | BM8: Davis et al. (2021): Davis et al. (2021) found that heterotrophic microalgal omega-3 production from sugarcane-derived sucrose in Brazil has about 30–40% lower impact on climate change than wild-caught fish oil, while acidification and water use impacts significantly differed depending on the fish oil inventory. Land use impacts were significantly higher in the microalgal DHA system. No biotic resource use or marine ecotoxicity potential assessed - limiting assessment on biodiversity and over-fishing impacts. Impacts were predominantly driven by the sucrose production (sugarcane production and sugar mill) along with vegetable oil production as a formulation component of the DHA product. Whereas, water use was the only impact area driven mainly by the microalgal DHA production. Sugarcane cultivation was the largest contributior for most of the categories, sensitivity analysis revealed that sugarcane yield, sugar to omega=3 DHA yield were the most relevant parameters. | BN8: Process | BO8: Sugarcane cultivation Sugar mill Other nutrients and chemicals | BP8: Feedstock production: sugarcane cultivation | BQ8: Feedstock production: sugar mill | BR8: Other input: vegetable oil in blended product | BT8: Davis et al. (2021): Davis et al. (2021) found that heterotrophic microalgal omega-3 production from sugarcane-derived sucrose in Brazil has about 30–40% lower impact on climate change than wild-caught fish oil, while acidification and water use impacts significantly differed depending on the fish oil inventory. Land use impacts were significantly higher in the microalgal DHA system. No biotic resource use or marine ecotoxicity potential assessed - limiting assessment on biodiversity and over-fishing impacts. Impacts were predominantly driven by the sucrose production (sugarcane production and sugar mill) along with vegetable oil production as a formulation component of the DHA product. Whereas, water use was the only impact area driven mainly by the microalgal DHA production. Sugarcane cultivation was the largest contributior for most of the categories, sensitivity analysis revealed that sugarcane yield, sugar to omega=3 DHA yield were the most relevant parameters. | BU8: 4.7 | BW8: kg CO2eq/FU | CA8: 1802 | CC8: Pt (soil index quality) / FU | CJ8: 0.0691 | CL8: mol H+ eq | DB8: 0.757 | DD8: m3 deprived / FU | DT8: 0.25 | DV8: mol N eq/FU | EO8: 1.23e-06 | EQ8: Disease inc.
A9: MO4 | B9: MO4.1 | C9: Microbial oils | D9: Smetana S et al., 2017 | E9: 1. Eligible | F9: Smetana S,Sandmann M,Rohn S,Pleissner D,Heinz V | G9: 2017 | H9: Autotrophic and heterotrophic microalgae and cyanobacteria cultivation for food and feed: life cycle assessment | I9: The lack of protein sources in Europe could be reduced with onsite production of microalgae with autotrophic and heterotrophic systems, owing the confirmation of economic and environmental benefits. This study aimed at the life cycle assessment (LCA) of microalgae and cyanobacteria cultivation (Chlorella vulgaris and Arthrospira platensis) in autotrophic and heterotrophic conditions on a pilot industrial scale (in model conditions of Berlin, Germany) with further biomass processing for food and feed products. The comparison of analysis results with traditional benchmarks (protein concentrates) indicated higher environmental impact of microalgae protein powders. However high-moisture extrusion of heterotrophic cultivated C. vulgaris resulted in more environmentally sustainable product than pork and beef. Further optimization of production with Chlorella pyrenoidosa on hydrolyzed food waste could reduce environmental impact in 4.5 times and create one of the most sustainable sources of proteins. | J9: 10.1016/j.biortech.2017.08.113 | K9: Bioresource Technology | L9: Other (previously known, citation chains) | M9: Article: peer reviewed | N9: a German Institute of Food Technologies – DIL e.V., Prof.-von-Klitzing-Str. 7, 49610 Quakenbrueck, Germany b Institute for Food and Environmental Research (ILU) e.V., Arthur-Scheunert-Allee 40/41, Nuthetal, Germany c Sustainable Chemistry (Resource Efficiency), Institute of Sustainable and Environmental Chemistry, Leuphana University of Lüneburg, Scharnhorststr. 1, C13.203, 21335 Lüneburg, Germany | O9: Research institution | P9: Germany | Q9: Bulk lipids (MUFA-/SFA-rich oils) | R9: MUFA microalgal oil | S9: Microalgae oil for food purposes | T9: Oil extracted from Chlorella vulgaris biomass (fractionation after freeze-drying); modeled as food-grade oil | U9: Food or feed ingredient | V9: Photoautotrophic (submerged) | W9: Not specified | X9: Microalgae | Y9: Chlorella vulgaris | Z9: Gen 2 | AA9: Gas | AB9: CO2 | AC9: The main sources of carbon consisted of atmosphere air with addition of concentrated CO2 for ORP and TBR scenarios and glucose (sugar beet production) for HTF scenario. | AD9: Not specified | AE9: Yes | AF9: Pilot/Industrial | AG9: 1.4-1.8 ton dry matter/year | AH9: Open raceway pond (ORP) = 300m3 Tubular photobioreactor (PBR) = 25 m3 Heterotropic fermentation (HTF) = 2.5 m3 | AI9: Cell separation (flocculation), Concentration (centrifugatiuon), Drying (lyophilization), Extraction (bead milling and supercritical CO2 extraction), No oil refining mentioned | AJ9: Initial cultivation of seed microalgae media was excluded from model scenarios due to the minor role and impact. Processing of microalgae biomass included a few stages. First microalgae media underwent electrical flocculation (was selected to provide a high-quality biomass suitable for food purposes) and centrifugation, which allowed to eliminate extra moisture and recycle it (ORP and TBR scenarios). Further processing included lyophilisation (freeze-drying) and fractionation (separation of oil from dry powder biomass). Microalgae processing models also enclosed assumption for the downtime and losses in microalgae cultivation due to technical failures and cleaning procedures. Cleaning procedures in TBR scenarios consisted of treatment via 3% hydrogen peroxide and 0.5% citric acid, HTF scenarios excluded treatment with citric acid but and additionally relied on sterilization with steam. Fractionation (separation of oil and protein biomass) consisted of bed milling and supercritical CO 2 extraction (Brentner et al., 2011). | AK9: n.r. | AL9: n.r. | AN9: n.r. | AP9: Oil is the co-product in this paper. Protein concetnrate is the main product with an oil coproduct. | AQ9: Attributional LCA | AR9: Prospective | AS9: Cradle-to-gate (no packaging) | AT9: Assessment of a product | AU9: 1 kg of oil | AV9: FU (FU4) was used for the estimation of environmental impacts of microalgae oils used for food purposes (1 kg of oil). The third FU (FU3) was 1 kg of bulk proteins supplied in a form of powder concentrate meal remaining from defatting of whole dried protein powder. The oil product is a coproduct modelled in the process model and thus may not be fully comparative to other LCAs. | AW9: System expansion | AX9: System expansion was applied to the scenarios of waste and side-streams application as microalgae nutrition sources | AY9: ReCiPe 2016 Midpoint , Other | AZ9: SimaPro8 software | BA9: Pilot | BB9: USP, DSP, Company data (ingredient) | BC9: Literature modeled, Lab data modeled | BD9: Ecoinvent | BE9: Literature: cultivation of Cholerella, Spirulina, processing Experimental data (lab-scale): Cholerella cultivation Experimental data (pilot): Spirullina processing | BF9: Process: modification | BG9: Open raceway pond (ORP), Tubular photobioreactor (PBR), Heterotrophic fermenter (HTF) | BH9: Germany | BI9: None for oil co-product | BJ9: Mainly compares protein ingredient. Soybean meal, rapeseed cake, pea protein meal, whey concentrate, egg protein concentrate, fishmeal | BK9: Yes | BL9: No | BM9: High impacts related to heat and energy use (autotrophic cultivation) and glucose for microalgae feed (heterotrophic). Author notes the high energy use needed to warm the cultivation media as the cultivation location is Germany - a not ideal location for autotrophic photosynthetic cultivation. For autotrophic Chlorella oil scenarios, the main environmental hotspots are the high energy demand for heating (especially in colder climate in Germany), the electricity used for mixing and downstream processing, and water consumption related to evaporation in open pond scenario. Sensitivity analysis shows that producing in warmer climates can reduce heating-related impacts by up to 25% | BN9: Process | BO9: Electricity (CHTF and autotrophic) Glucose (CHTF) | BP9: Electrical demand (USP) | BQ9: Location impact on productivity (heating, light) | BR9: Electrical grid | BT9: High impacts related to heat and energy use (autotrophic cultivation) and glucose for microalgae feed (heterotrophic). Author notes the high energy use needed to warm the cultivation media as the cultivation location is Germany - a not ideal location for autotrophic photosynthetic cultivation. For autotrophic Chlorella oil scenarios, the main environmental hotspots are the high energy demand for heating (especially in colder climate in Germany), the electricity used for mixing and downstream processing, and water consumption related to evaporation in open pond scenario. Sensitivity analysis shows that producing in warmer climates can reduce heating-related impacts by up to 25%
