Workbook

Sheet a. Total
A1: Supplementary Table 8a. Enriched GO terms and KEGG pathways identified by bulk RNA-seq. (Related to Figure 4d and Extended Data Figure 5 g-h)
C2: 7-month | I2: 12-month
C3: C9orf72-/- vs wild type | E3: Grn-/- vs wild type | G3: Grn-/-;C9orf72-/- vs wild type | I3: C9orf72-/- vs wild type | K3: Grn-/- vs wild type | M3: Grn-/-;C9orf72-/- vs wild type
A4: GeneID | B4: Pathway | C4: logFC | D4: Adjusted p-value | E4: logFC | F4: Adjusted p-value | G4: logFC | H4: Adjusted p-value | I4: logFC | J4: Adjusted p-value | K4: logFC | L4: Adjusted p-value | M4: logFC | N4: Adjusted p-value
A5: Rock1 | B5: Regulation of actin cytoskeleton | C5: =VLOOKUP(A5,'b. c9vwt_7mo'!$A:$F,2,FALSE) -> #N/A | D5: =VLOOKUP(A5,'b. c9vwt_7mo'!$A:$F,6,FALSE) -> #N/A | E5: =VLOOKUP(A5,'c. grnvwt_7mo'!A:G,2,FALSE) -> #N/A | F5: =VLOOKUP(A5,'c. grnvwt_7mo'!A:G,6,FALSE) -> #N/A | G5: =VLOOKUP(A5,'d. dkovwt_7mo'!A:G,2,FALSE) -> 0.41364729 | H5: =VLOOKUP(A5,'d. dkovwt_7mo'!A:G,6,FALSE) -> 0.0003347939 | I5: =VLOOKUP(A5,'e. c9vwt_12mo'!A:G,2,FALSE) -> #N/A | J5: =VLOOKUP(A5,'e. c9vwt_12mo'!A:G,6,FALSE) -> #N/A | K5: =VLOOKUP(A5,'f. grnvwt_12mo'!A:G,2,FALSE) -> #N/A | L5: =VLOOKUP(A5,'f. grnvwt_12mo'!A:G,6,FALSE) -> #N/A | M5: =VLOOKUP(A5,dkovwt_12mo!A:G,2,FALSE) -> 0.17965902 | N5: =VLOOKUP(A5,dkovwt_12mo!A:G,6,FALSE) -> 0.021298035
A6: Mylk | B6: Regulation of actin cytoskeleton | C6: =VLOOKUP(A6,'b. c9vwt_7mo'!$A:$F,2,FALSE) -> #N/A | D6: =VLOOKUP(A6,'b. c9vwt_7mo'!$A:$F,6,FALSE) -> #N/A | E6: =VLOOKUP(A6,'c. grnvwt_7mo'!A:G,2,FALSE) -> -0.21448838 | F6: =VLOOKUP(A6,'c. grnvwt_7mo'!A:G,6,FALSE) -> 0.0069732344 | G6: =VLOOKUP(A6,'d. dkovwt_7mo'!A:G,2,FALSE) -> #N/A | H6: =VLOOKUP(A6,'d. dkovwt_7mo'!A:G,6,FALSE) -> #N/A | I6: =VLOOKUP(A6,'e. c9vwt_12mo'!A:G,2,FALSE) -> #N/A | J6: =VLOOKUP(A6,'e. c9vwt_12mo'!A:G,6,FALSE) -> #N/A | K6: =VLOOKUP(A6,'f. grnvwt_12mo'!A:G,2,FALSE) -> 0.31940507 | L6: =VLOOKUP(A6,'f. grnvwt_12mo'!A:G,6,FALSE) -> 0.045443704 | M6: =VLOOKUP(A6,dkovwt_12mo!A:G,2,FALSE) -> 0.43634178 | N6: =VLOOKUP(A6,dkovwt_12mo!A:G,6,FALSE) -> 0.0031683882
A7: Itgb1 | B7: Regulation of actin cytoskeleton | C7: =VLOOKUP(A7,'b. c9vwt_7mo'!$A:$F,2,FALSE) -> #N/A | D7: =VLOOKUP(A7,'b. c9vwt_7mo'!$A:$F,6,FALSE) -> #N/A | E7: =VLOOKUP(A7,'c. grnvwt_7mo'!A:G,2,FALSE) -> #N/A | F7: =VLOOKUP(A7,'c. grnvwt_7mo'!A:G,6,FALSE) -> #N/A | G7: =VLOOKUP(A7,'d. dkovwt_7mo'!A:G,2,FALSE) -> #N/A | H7: =VLOOKUP(A7,'d. dkovwt_7mo'!A:G,6,FALSE) -> #N/A | I7: =VLOOKUP(A7,'e. c9vwt_12mo'!A:G,2,FALSE) -> 0.14668686 | J7: =VLOOKUP(A7,'e. c9vwt_12mo'!A:G,6,FALSE) -> 0.023593573 | K7: =VLOOKUP(A7,'f. grnvwt_12mo'!A:G,2,FALSE) -> 0.20538996 | L7: =VLOOKUP(A7,'f. grnvwt_12mo'!A:G,6,FALSE) -> 0.0023946985 | M7: =VLOOKUP(A7,dkovwt_12mo!A:G,2,FALSE) -> 0.18190576 | N7: =VLOOKUP(A7,dkovwt_12mo!A:G,6,FALSE) -> 0.0024376105
A8: Vav2 | B8: Regulation of actin cytoskeleton | C8: =VLOOKUP(A8,'b. c9vwt_7mo'!$A:$F,2,FALSE) -> -0.2845866 | D8: =VLOOKUP(A8,'b. c9vwt_7mo'!$A:$F,6,FALSE) -> 0.03245744 | E8: =VLOOKUP(A8,'c. grnvwt_7mo'!A:G,2,FALSE) -> #N/A | F8: =VLOOKUP(A8,'c. grnvwt_7mo'!A:G,6,FALSE) -> #N/A | G8: =VLOOKUP(A8,'d. dkovwt_7mo'!A:G,2,FALSE) -> -0.35982006 | H8: =VLOOKUP(A8,'d. dkovwt_7mo'!A:G,6,FALSE) -> 0.0091091205 | I8: =VLOOKUP(A8,'e. c9vwt_12mo'!A:G,2,FALSE) -> #N/A | J8: =VLOOKUP(A8,'e. c9vwt_12mo'!A:G,6,FALSE) -> #N/A | K8: =VLOOKUP(A8,'f. grnvwt_12mo'!A:G,2,FALSE) -> 0.25803957 | L8: =VLOOKUP(A8,'f. grnvwt_12mo'!A:G,6,FALSE) -> 0.018197974 | M8: =VLOOKUP(A8,dkovwt_12mo!A:G,2,FALSE) -> 0.19932879 | N8: =VLOOKUP(A8,dkovwt_12mo!A:G,6,FALSE) -> 0.038077839
A9: Fgfr3 | B9: Regulation of actin cytoskeleton | C9: =VLOOKUP(A9,'b. c9vwt_7mo'!$A:$F,2,FALSE) -> #N/A | D9: =VLOOKUP(A9,'b. c9vwt_7mo'!$A:$F,6,FALSE) -> #N/A | E9: =VLOOKUP(A9,'c. grnvwt_7mo'!A:G,2,FALSE) -> -0.2287968 | F9: =VLOOKUP(A9,'c. grnvwt_7mo'!A:G,6,FALSE) -> 0.027828389 | G9: =VLOOKUP(A9,'d. dkovwt_7mo'!A:G,2,FALSE) -> -0.41886992 | H9: =VLOOKUP(A9,'d. dkovwt_7mo'!A:G,6,FALSE) -> 0.0003837031 | I9: =VLOOKUP(A9,'e. c9vwt_12mo'!A:G,2,FALSE) -> #N/A | J9: =VLOOKUP(A9,'e. c9vwt_12mo'!A:G,6,FALSE) -> #N/A | K9: =VLOOKUP(A9,'f. grnvwt_12mo'!A:G,2,FALSE) -> #N/A | L9: =VLOOKUP(A9,'f. grnvwt_12mo'!A:G,6,FALSE) -> #N/A | M9: =VLOOKUP(A9,dkovwt_12mo!A:G,2,FALSE) -> #N/A | N9: =VLOOKUP(A9,dkovwt_12mo!A:G,6,FALSE) -> #N/A
A10: Rras | B10: Regulation of actin cytoskeleton | C10: =VLOOKUP(A10,'b. c9vwt_7mo'!$A:$F,2,FALSE) -> #N/A | D10: =VLOOKUP(A10,'b. c9vwt_7mo'!$A:$F,6,FALSE) -> #N/A | E10: =VLOOKUP(A10,'c. grnvwt_7mo'!A:G,2,FALSE) -> #N/A | F10: =VLOOKUP(A10,'c. grnvwt_7mo'!A:G,6,FALSE) -> #N/A | G10: =VLOOKUP(A10,'d. dkovwt_7mo'!A:G,2,FALSE) -> -0.63132293 | H10: =VLOOKUP(A10,'d. dkovwt_7mo'!A:G,6,FALSE) -> 0.00091907124 | I10: =VLOOKUP(A10,'e. c9vwt_12mo'!A:G,2,FALSE) -> #N/A | J10: =VLOOKUP(A10,'e. c9vwt_12mo'!A:G,6,FALSE) -> #N/A | K10: =VLOOKUP(A10,'f. grnvwt_12mo'!A:G,2,FALSE) -> #N/A | L10: =VLOOKUP(A10,'f. grnvwt_12mo'!A:G,6,FALSE) -> #N/A | M10: =VLOOKUP(A10,dkovwt_12mo!A:G,2,FALSE) -> #N/A | N10: =VLOOKUP(A10,dkovwt_12mo!A:G,6,FALSE) -> #N/A
A11: Nckap1l | B11: Regulation of actin cytoskeleton | C11: =VLOOKUP(A11,'b. c9vwt_7mo'!$A:$F,2,FALSE) -> #N/A | D11: =VLOOKUP(A11,'b. c9vwt_7mo'!$A:$F,6,FALSE) -> #N/A | E11: =VLOOKUP(A11,'c. grnvwt_7mo'!A:G,2,FALSE) -> 0.31164894 | F11: =VLOOKUP(A11,'c. grnvwt_7mo'!A:G,6,FALSE) -> 0.014326824 | G11: =VLOOKUP(A11,'d. dkovwt_7mo'!A:G,2,FALSE) -> #N/A | H11: =VLOOKUP(A11,'d. dkovwt_7mo'!A:G,6,FALSE) -> #N/A | I11: =VLOOKUP(A11,'e. c9vwt_12mo'!A:G,2,FALSE) -> -0.38822783 | J11: =VLOOKUP(A11,'e. c9vwt_12mo'!A:G,6,FALSE) -> 0.0025925637 | K11: =VLOOKUP(A11,'f. grnvwt_12mo'!A:G,2,FALSE) -> 0.29860289 | L11: =VLOOKUP(A11,'f. grnvwt_12mo'!A:G,6,FALSE) -> 0.007983643 | M11: =VLOOKUP(A11,dkovwt_12mo!A:G,2,FALSE) -> 0.31225841 | N11: =VLOOKUP(A11,dkovwt_12mo!A:G,6,FALSE) -> 0.0023114389
A12: Itgax | B12: Regulation of actin cytoskeleton | C12: =VLOOKUP(A12,'b. c9vwt_7mo'!$A:$F,2,FALSE) -> #N/A | D12: =VLOOKUP(A12,'b. c9vwt_7mo'!$A:$F,6,FALSE) -> #N/A | E12: =VLOOKUP(A12,'c. grnvwt_7mo'!A:G,2,FALSE) -> 1.5662936 | F12: =VLOOKUP(A12,'c. grnvwt_7mo'!A:G,6,FALSE) -> 0.001541343 | G12: =VLOOKUP(A12,'d. dkovwt_7mo'!A:G,2,FALSE) -> 2.7812922 | H12: =VLOOKUP(A12,'d. dkovwt_7mo'!A:G,6,FALSE) -> 2.6709938e-07 | I12: =VLOOKUP(A12,'e. c9vwt_12mo'!A:G,2,FALSE) -> #N/A | J12: =VLOOKUP(A12,'e. c9vwt_12mo'!A:G,6,FALSE) -> #N/A | K12: =VLOOKUP(A12,'f. grnvwt_12mo'!A:G,2,FALSE) -> 3.2146669 | L12: =VLOOKUP(A12,'f. grnvwt_12mo'!A:G,6,FALSE) -> 8.6532326e-06 | M12: =VLOOKUP(A12,dkovwt_12mo!A:G,2,FALSE) -> 3.7616937 | N12: =VLOOKUP(A12,dkovwt_12mo!A:G,6,FALSE) -> 2.825612e-07
A13: Itgb2 | B13: Regulation of actin cytoskeleton | C13: =VLOOKUP(A13,'b. c9vwt_7mo'!$A:$F,2,FALSE) -> #N/A | D13: =VLOOKUP(A13,'b. c9vwt_7mo'!$A:$F,6,FALSE) -> #N/A | E13: =VLOOKUP(A13,'c. grnvwt_7mo'!A:G,2,FALSE) -> 0.29056995 | F13: =VLOOKUP(A13,'c. grnvwt_7mo'!A:G,6,FALSE) -> 0.042252733 | G13: =VLOOKUP(A13,'d. dkovwt_7mo'!A:G,2,FALSE) -> 0.56536085 | H13: =VLOOKUP(A13,'d. dkovwt_7mo'!A:G,6,FALSE) -> 0.000239087 | I13: =VLOOKUP(A13,'e. c9vwt_12mo'!A:G,2,FALSE) -> #N/A | J13: =VLOOKUP(A13,'e. c9vwt_12mo'!A:G,6,FALSE) -> #N/A | K13: =VLOOKUP(A13,'f. grnvwt_12mo'!A:G,2,FALSE) -> 0.50521237 | L13: =VLOOKUP(A13,'f. grnvwt_12mo'!A:G,6,FALSE) -> 0.0026494423 | M13: =VLOOKUP(A13,dkovwt_12mo!A:G,2,FALSE) -> 0.69944994 | N13: =VLOOKUP(A13,dkovwt_12mo!A:G,6,FALSE) -> 2.0332578e-05
A14: Bdkrb2 | B14: Regulation of actin cytoskeleton | C14: =VLOOKUP(A14,'b. c9vwt_7mo'!$A:$F,2,FALSE) -> #N/A | D14: =VLOOKUP(A14,'b. c9vwt_7mo'!$A:$F,6,FALSE) -> #N/A | E14: =VLOOKUP(A14,'c. grnvwt_7mo'!A:G,2,FALSE) -> #N/A | F14: =VLOOKUP(A14,'c. grnvwt_7mo'!A:G,6,FALSE) -> #N/A | G14: =VLOOKUP(A14,'d. dkovwt_7mo'!A:G,2,FALSE) -> #N/A | H14: =VLOOKUP(A14,'d. dkovwt_7mo'!A:G,6,FALSE) -> #N/A | I14: =VLOOKUP(A14,'e. c9vwt_12mo'!A:G,2,FALSE) -> 0.5589063 | J14: =VLOOKUP(A14,'e. c9vwt_12mo'!A:G,6,FALSE) -> 0.027066913 | K14: =VLOOKUP(A14,'f. grnvwt_12mo'!A:G,2,FALSE) -> 1.2317778 | L14: =VLOOKUP(A14,'f. grnvwt_12mo'!A:G,6,FALSE) -> 7.5470314e-06 | M14: =VLOOKUP(A14,dkovwt_12mo!A:G,2,FALSE) -> 1.1010394 | N14: =VLOOKUP(A14,dkovwt_12mo!A:G,6,FALSE) -> 1.2374594e-05
A15: Map2k2 | B15: Regulation of actin cytoskeleton | C15: =VLOOKUP(A15,'b. c9vwt_7mo'!$A:$F,2,FALSE) -> #N/A | D15: =VLOOKUP(A15,'b. c9vwt_7mo'!$A:$F,6,FALSE) -> #N/A | E15: =VLOOKUP(A15,'c. grnvwt_7mo'!A:G,2,FALSE) -> #N/A | F15: =VLOOKUP(A15,'c. grnvwt_7mo'!A:G,6,FALSE) -> #N/A | G15: =VLOOKUP(A15,'d. dkovwt_7mo'!A:G,2,FALSE) -> #N/A | H15: =VLOOKUP(A15,'d. dkovwt_7mo'!A:G,6,FALSE) -> #N/A | I15: =VLOOKUP(A15,'e. c9vwt_12mo'!A:G,2,FALSE) -> 0.11895658 | J15: =VLOOKUP(A15,'e. c9vwt_12mo'!A:G,6,FALSE) -> 0.027787229 | K15: =VLOOKUP(A15,'f. grnvwt_12mo'!A:G,2,FALSE) -> 0.25696603 | L15: =VLOOKUP(A15,'f. grnvwt_12mo'!A:G,6,FALSE) -> 3.2816215e-05 | M15: =VLOOKUP(A15,dkovwt_12mo!A:G,2,FALSE) -> 0.26288082 | N15: =VLOOKUP(A15,dkovwt_12mo!A:G,6,FALSE) -> 4.7500773e-06
A16: Diaph1 | B16: Regulation of actin cytoskeleton | C16: =VLOOKUP(A16,'b. c9vwt_7mo'!$A:$F,2,FALSE) -> -0.1598212 | D16: =VLOOKUP(A16,'b. c9vwt_7mo'!$A:$F,6,FALSE) -> 0.00674408 | E16: =VLOOKUP(A16,'c. grnvwt_7mo'!A:G,2,FALSE) -> #N/A | F16: =VLOOKUP(A16,'c. grnvwt_7mo'!A:G,6,FALSE) -> #N/A | G16: =VLOOKUP(A16,'d. dkovwt_7mo'!A:G,2,FALSE) -> -0.12227368 | H16: =VLOOKUP(A16,'d. dkovwt_7mo'!A:G,6,FALSE) -> 0.030595446 | I16: =VLOOKUP(A16,'e. c9vwt_12mo'!A:G,2,FALSE) -> 0.15565786 | J16: =VLOOKUP(A16,'e. c9vwt_12mo'!A:G,6,FALSE) -> 0.016704174 | K16: =VLOOKUP(A16,'f. grnvwt_12mo'!A:G,2,FALSE) -> #N/A | L16: =VLOOKUP(A16,'f. grnvwt_12mo'!A:G,6,FALSE) -> #N/A | M16: =VLOOKUP(A16,dkovwt_12mo!A:G,2,FALSE) -> 0.18947369 | N16: =VLOOKUP(A16,dkovwt_12mo!A:G,6,FALSE) -> 0.0016837076
... A161: Map2k2 | B161: Toll-like receptor signaling | C161: =VLOOKUP(A161,'b. c9vwt_7mo'!$A:$F,2,FALSE) -> #N/A | D161: =VLOOKUP(A161,'b. c9vwt_7mo'!$A:$F,6,FALSE) -> #N/A | E161: =VLOOKUP(A161,'c. grnvwt_7mo'!A:G,2,FALSE) -> #N/A | F161: =VLOOKUP(A161,'c. grnvwt_7mo'!A:G,6,FALSE) -> #N/A | G161: =VLOOKUP(A161,'d. dkovwt_7mo'!A:G,2,FALSE) -> #N/A | H161: =VLOOKUP(A161,'d. dkovwt_7mo'!A:G,6,FALSE) -> #N/A | I161: =VLOOKUP(A161,'e. c9vwt_12mo'!A:G,2,FALSE) -> 0.11895658 | J161: =VLOOKUP(A161,'e. c9vwt_12mo'!A:G,6,FALSE) -> 0.027787229 | K161: =VLOOKUP(A161,'f. grnvwt_12mo'!A:G,2,FALSE) -> 0.25696603 | L161: =VLOOKUP(A161,'f. grnvwt_12mo'!A:G,6,FALSE) -> 3.2816215e-05 | M161: =VLOOKUP(A161,dkovwt_12mo!A:G,2,FALSE) -> 0.26288082 | N161: =VLOOKUP(A161,dkovwt_12mo!A:G,6,FALSE) -> 4.7500773e-06

Sheet b. c9vwt_7mo
A1: Supplementary Table 8b. DEGs in C9orf72-/- vs. Wild type at 7-month-old.
B2: logFC | C2: AveExpr | D2: t | E2: P.Value | F2: adj.P.Val | G2: B
A3: AK157302 | B3: 6.2308098 | C3: -0.3282869 | D3: 21.272575 | E3: 8.98e-16 | F3: 8.98e-16 | G3: 16.497032
A4: 4930515G01Rik | B4: 4.1578667 | C4: -4.4324894 | D4: 9.0501162 | E4: 1e-08 | F4: 1e-08 | G4: 7.5313631
A5: Ccl28 | B5: 3.923589 | C5: -0.8506534 | D5: 6.6762019 | E5: 1.26e-06 | F5: 1.26e-06 | G5: 4.4099954
A6: Gm21887 | B6: 3.5608706 | C6: -3.2441475 | D6: 4.7635818 | E6: 0.0001028 | F6: 0.0001028 | G6: 0.87701274
A7: Gm12056 | B7: 3.4063348 | C7: -4.2015624 | D7: 4.6443691 | E7: 0.00013667 | F7: 0.00013667 | G7: 0.58056116
A8: AC154171.2 | B8: 3.3622905 | C8: -4.6781868 | D8: 4.945395 | E8: 6.67e-05 | F8: 6.67e-05 | G8: 1.203225
A9: Gm45516 | B9: 3.3501714 | C9: -4.9435181 | D9: 5.6130436 | E9: 1.39e-05 | F9: 1.39e-05 | G9: 2.2292852
A10: Gm18860 | B10: 3.2970693 | C10: -2.3942201 | D10: 3.1788585 | E10: 0.00448733 | F10: 0.00448733 | G10: -1.9762245
A11: Gm15610 | B11: 3.0900469 | C11: -1.0545206 | D11: 3.8900038 | E11: 0.0008344 | F11: 0.0008344 | G11: -0.5042975
A12: Gm12708 | B12: 3.0235741 | C12: -4.7805705 | D12: 4.5899324 | E12: 0.00015569 | F12: 0.00015569 | G12: 0.48275419
A13: Gm26725 | B13: 2.8949246 | C13: -4.6746066 | D13: 4.0174843 | E13: 0.00061476 | F13: 0.00061476 | G13: -0.5958847
A14: 4933425M03Rik | B14: 2.8008692 | C14: -4.242675 | D14: 3.8681682 | E14: 0.00087916 | F14: 0.00087916 | G14: -0.796613
... A838: Itga1 | B838: 0.4418696 | C838: 3.1715642 | D838: 3.4145431 | E838: 0.0025847 | F838: 0.0025847 | G838: -2.0808334
A839: 45536 | B839: 0.44157592 | C839: 1.1416844 | D839: 2.3646133 | E839: 0.02767202 | F839: 0.02767202 | G839: -3.831137
A840: 1600002K03Rik | B840: 0.44045152 | C840: 0.83481949 | D840: 2.1551431 | E840: 0.04280772 | F840: 0.04280772 | G840: -4.1156794
A841: Uba7 | B841: 0.43922122 | C841: 1.7474925 | D841: 2.3221791 | E841: 0.03026803 | F841: 0.03026803 | G841: -4.0132872
A842: Gsap | B842: 0.43748174 | C842: 2.455993 | D842: 2.9453197 | E842: 0.00768286 | F842: 0.00768286 | G842: -2.9425095
A843: Tmem74 | B843: 0.4366991 | C843: 3.5886563 | D843: 3.4269883 | E843: 0.00250999 | F843: 0.00250999 | G843: -2.139396
A844: Fam181b | B844: 0.43654566 | C844: 3.8832287 | D844: 3.3183798 | E844: 0.00324015 | F844: 0.00324015 | G844: -2.4623376
A845: Fdxacb1 | B845: 0.43651666 | C845: 1.9184552 | D845: 2.8445647 | E845: 0.0096563 | F845: 0.0096563 | G845: -3.046726
A846: Ocln | B846: 0.43553444 | C846: 3.1624271 | D846: 2.4053214 | E846: 0.02537639 | F846: 0.02537639 | G846: -4.244151
A847: Adamts4 | B847: 0.43500848 | C847: 5.2182342 | D847: 5.2401423 | E847: 3.32e-05 | F847: 3.32e-05 | G847: 1.8202548
A848: Sdf2l1 | B848: 0.4345534 | C848: 3.5562618 | D848: 2.9192879 | E848: 0.00815208 | F848: 0.00815208 | G848: -3.2469813
A849: Prr5l | B849: 0.43250067 | C849: 4.0826269 | D849: 4.7799497 | E849: 9.89e-05 | F849: 9.89e-05 | G849: 0.92114818
A850: Catsper2 | B850: 0.43042149 | C850: 1.4549589 | D850: 2.4632624 | E850: 0.02241227 | F850: 0.02241227 | G850: -3.6956314
A851: Cx3cr1 | B851: 0.43018518 | C851: 5.3965468 | D851: 6.6872286 | E851: 1.23e-06 | F851: 1.23e-06 | G851: 5.1340352
... A1680: Actr10 | B1680: 0.13525756 | C1680: 6.6366472 | D1680: 2.9818127 | E1680: 0.00706853 | F1680: 0.00706853 | G1680: -3.7588469
A1681: 45542 | B1681: 0.13509202 | C1681: 8.4164666 | D1681: 2.2948892 | E1681: 0.03205411 | F1681: 0.03205411 | G1681: -5.5552528
A1682: Samd4b | B1682: 0.13496926 | C1682: 6.8115752 | D1682: 2.9186133 | E1682: 0.00816459 | F1682: 0.00816459 | G1682: -3.9245427
A1683: Gm16286 | B1683: 0.13475078 | C1683: 6.2521213 | D1683: 2.9304996 | E1683: 0.00794672 | F1683: 0.00794672 | G1683: -3.7873341
A1684: Raver2 | B1684: 0.13469622 | C1684: 4.8295968 | D1684: 2.1747313 | E1684: 0.04112499 | F1684: 0.04112499 | G1684: -5.0262859
A1685: Atxn7l3b | B1685: 0.13428137 | C1685: 7.4182373 | D1685: 2.6513853 | E1685: 0.01486753 | F1685: 0.01486753 | G1685: -4.6279656
A1686: Slc20a2 | B1686: 0.13421361 | C1686: 6.0794699 | D1686: 2.1431909 | E1686: 0.04386488 | F1686: 0.04386488 | G1686: -5.3481121
A1687: Bicdl1 | B1687: 0.13407918 | C1687: 5.9304644 | D1687: 2.4018934 | E1687: 0.02556268 | F1687: 0.02556268 | G1687: -4.8143258
A1688: Gpatch2l | B1688: 0.13362332 | C1688: 5.4303319 | D1688: 2.3448246 | E1688: 0.02885595 | F1688: 0.02885595 | G1688: -4.8370156
A1689: Sike1 | B1689: 0.13362321 | C1689: 5.6074887 | D1689: 2.1483771 | E1689: 0.04340329 | F1689: 0.04340329 | G1689: -5.233362
A1690: Vcpip1 | B1690: 0.13342318 | C1690: 6.4152472 | D1690: 2.3691111 | E1690: 0.02740925 | F1690: 0.02740925 | G1690: -4.98137
A1691: Cops3 | B1691: 0.13283045 | C1691: 5.7672252 | D1691: 2.3294783 | E1691: 0.02980608 | F1691: 0.02980608 | G1691: -4.9366151
...

Sheet c. grnvwt_7mo
A1: Supplementary Table 8c. DEGs in Grn-/- vs. Wild type at 7-month-old.
B2: logFC | C2: AveExpr | D2: t | E2: P.Value | F2: adj.P.Val | G2: B
A3: Gm10260 | B3: 8.4106325 | C3: -3.7840959 | D3: 20.025879 | E3: 3.0442531e-15 | F3: 3.0442531e-15 | G3: 20.853631
A4: AK157302 | B4: 7.2875121 | C4: -0.32828689 | D4: 25.270006 | E4: 2.6753904e-17 | F4: 2.6753904e-17 | G4: 19.531839
A5: Gm18733 | B5: 6.4931475 | C5: -4.8376353 | D5: 27.230406 | E5: 5.7535032e-18 | F5: 5.7535032e-18 | G5: 22.467818
A6: Gm8909 | B6: 6.3073829 | C6: -4.5288214 | D6: 17.640556 | E6: 3.8593897e-14 | F6: 3.8593897e-14 | G6: 18.134582
A7: Gm9825 | B7: 6.0763913 | C7: -2.3231465 | D7: 10.789704 | E7: 4.5880741e-10 | F7: 4.5880741e-10 | G7: 10.92937
A8: AC159190.1 | B8: 5.4921087 | C8: -2.9317779 | D8: 11.36045 | E8: 1.7967037e-10 | F8: 1.7967037e-10 | G8: 11.852176
A9: AC187103.4 | B9: 5.1488172 | C9: -4.8829701 | D9: 11.842326 | E9: 8.3597746e-11 | F9: 8.3597746e-11 | G9: 12.17075
A10: Gm15487 | B10: 4.9162984 | C10: -0.49168065 | D10: 12.177389 | E10: 4.9781292e-11 | F10: 4.9781292e-11 | G10: 14.238648
A11: Hmga1-rs1 | B11: 4.6422557 | C11: -0.88003815 | D11: 10.227084 | E11: 1.1972213e-09 | F11: 1.1972213e-09 | G11: 11.331108
A12: Gm10499 | B12: 4.6299651 | C12: -4.3892834 | D12: 8.841219 | E12: 1.4911548e-08 | F12: 1.4911548e-08 | G12: 8.2706167
A13: Gm21887 | B13: 4.4617276 | C13: -3.2441475 | D13: 7.0081905 | E13: 6.1259558e-07 | F13: 6.1259558e-07 | G13: 5.4157254
A14: Gm1833 | B14: 4.4162277 | C14: -2.9708297 | D14: 5.1609092 | E14: 4.0023134e-05 | F14: 4.0023134e-05 | G14: 2.0537336
... A1848: Slc25a4 | B1848: 0.069983108 | C1848: 9.2155561 | D1848: 2.1691682 | E1848: 0.041596681 | F1848: 0.041596681 | G1848: -6.1173153
A1849: 45538 | B1849: 0.061885044 | C1849: 9.2926791 | D1849: 2.2519323 | E1849: 0.035062416 | F1849: 0.035062416 | G1849: -5.9782008
A1850: Actn4 | B1850: -0.075410242 | C1850: 7.536021 | D1850: -2.1323655 | E1850: 0.044842688 | F1850: 0.044842688 | G1850: -5.7987314
A1851: Ociad1 | B1851: -0.078117702 | C1851: 7.8312569 | D1851: -2.1982079 | E1851: 0.039187449 | F1851: 0.039187449 | G1851: -5.7356361
A1852: Sod2 | B1852: -0.078655991 | C1852: 7.4166901 | D1852: -2.1089533 | E1852: 0.047025066 | F1852: 0.047025066 | G1852: -5.8071149
A1853: Capn2 | B1853: -0.081165954 | C1853: 6.6384497 | D1853: -2.1155923 | E1853: 0.046396677 | F1853: 0.046396677 | G1853: -5.6403295
A1854: Mgea5 | B1854: -0.082029931 | C1854: 7.9549076 | D1854: -2.5527885 | E1854: 0.018459876 | F1854: 0.018459876 | G1854: -5.0711213
A1855: Fam20b | B1855: -0.082622798 | C1855: 7.1715657 | D1855: -2.1578322 | E1855: 0.042573073 | F1855: 0.042573073 | G1855: -5.6657606
A1856: Gdi1 | B1856: -0.082923252 | C1856: 9.2498328 | D1856: -2.1781031 | E1856: 0.040841464 | F1856: 0.040841464 | G1856: -6.1021933
A1857: Ogdh | B1857: -0.083616557 | C1857: 8.601527 | D1857: -2.2519626 | E1857: 0.035060204 | F1857: 0.035060204 | G1857: -5.8087943
A1858: Atp9a | B1858: -0.084529819 | C1858: 8.9750011 | D1858: -2.1616946 | E1858: 0.042238085 | F1858: 0.042238085 | G1858: -6.0619837
A1859: Pfkm | B1859: -0.086489309 | C1859: 8.9338693 | D1859: -3.2816769 | E1859: 0.0035309219 | F1859: 0.0035309219 | G1859: -3.7107869
A1860: Mapk9 | B1860: -0.087335807 | C1860: 8.0159697 | D1860: -2.1850496 | E1860: 0.040262937 | F1860: 0.040262937 | G1860: -5.8008698
A1861: Rab6b | B1861: -0.090568453 | C1861: 10.228692 | D1861: -2.4203939 | E1861: 0.024572135 | F1861: 0.024572135 | G1861: -5.8629466
... A3213: Grn | B3213: -7.5651384 | C3213: 3.0336493 | D3213: -18.771906 | E3213: 1.1162878e-14 | F3213: 1.1162878e-14 | G3213: 17.311633

Sheet d. dkovwt_7mo
A1: Supplementary Table 8d. DEGs in Grn-/-;C9orf72-/- vs. Wild type at 7-month-old.
B2: logFC | C2: AveExpr | D2: t | E2: P.Value | F2: adj.P.Val | G2: B
A3: Gm13394 | B3: 8.4983137 | C3: 0.36295216 | D3: 2.6624458 | E3: 0.014508449 | F3: 0.014508449 | G3: -2.9714808
A4: Gm6472 | B4: 6.9102913 | C4: -2.3883915 | D4: 7.831263 | E4: 1.0928114e-07 | F4: 1.0928114e-07 | G4: 6.5775992
A5: Gm6356 | B5: 5.5349527 | C5: -1.8842919 | D5: 3.8431268 | E5: 0.00093344009 | F5: 0.00093344009 | G5: -0.62458724
A6: Gm21887 | B6: 5.505071 | C6: -3.2441475 | D6: 10.253561 | E6: 1.1434629e-09 | F6: 1.1434629e-09 | G6: 10.195151
A7: Gm18860 | B7: 5.3828645 | C7: -2.3942201 | D7: 6.3898811 | E7: 2.3722386e-06 | F7: 2.3722386e-06 | G7: 4.2417964
A8: CT025611.1 | B8: 5.2098595 | C8: -4.424707 | D8: 11.249194 | E8: 2.15112e-10 | F8: 2.15112e-10 | G8: 11.031499
A9: AC159190.1 | B9: 4.9546241 | C9: -2.9317779 | D9: 9.6739436 | E9: 3.1854579e-09 | F9: 3.1854579e-09 | G9: 9.0154959
A10: Ccl28 | B10: 4.8698377 | C10: -0.85065339 | D10: 8.7736527 | E10: 1.6966129e-08 | F10: 1.6966129e-08 | G10: 7.6887428
A11: Sult1c1 | B11: 4.7240257 | C11: -2.9974259 | D11: 5.8264868 | E11: 8.4902141e-06 | F11: 8.4902141e-06 | G11: 3.134619
A12: AC134254.3 | B12: 4.5353127 | C12: -5.020136 | D12: 8.3141782 | E12: 4.1461305e-08 | F12: 4.1461305e-08 | G12: 6.9391766
A13: Gm35021 | B13: 3.8633519 | C13: -0.13425444 | D13: 5.7446607 | E13: 1.0248598e-05 | F13: 1.0248598e-05 | G13: 3.4602989
A14: Gm8826 | B14: 3.8419635 | C14: -4.405303 | D14: 4.0589627 | E14: 0.0005565397 | F14: 0.0005565397 | G14: -0.31840622
... A1968: Sh3pxd2b | B1968: 0.20367888 | C1968: 4.7033697 | D1968: 2.6253623 | E1968: 0.015745721 | F1968: 0.015745721 | G1968: -4.1478101
A1969: 45546 | B1969: 0.20345942 | C1969: 7.1203795 | D1969: 4.3514803 | E1969: 0.00027576501 | F1969: 0.00027576501 | G1969: -0.69524987
A1970: Sh3rf3 | B1970: 0.20341413 | C1970: 5.0275152 | D1970: 2.4705624 | E1970: 0.022062566 | F1970: 0.022062566 | G1970: -4.5221079
A1971: Nek1 | B1971: 0.20292207 | C1971: 5.3537859 | D1971: 2.5824973 | E1971: 0.017299596 | F1971: 0.017299596 | G1971: -4.3714147
A1972: Tarbp1 | B1972: 0.20287977 | C1972: 3.0470408 | D1972: 2.2352924 | E1972: 0.036295564 | F1972: 0.036295564 | G1972: -4.5367113
A1973: Lamp2 | B1973: 0.20286884 | C1973: 6.2592615 | D1973: 2.5023062 | E1973: 0.02060023 | F1973: 0.02060023 | G1973: -4.7037562
A1974: Srsf11 | B1974: 0.20268983 | C1974: 7.1143725 | D1974: 3.3115572 | E1974: 0.003292372 | F1974: 0.003292372 | G1974: -3.1386489
A1975: Trmt1l | B1975: 0.20235842 | C1975: 4.9288892 | D1975: 2.7644 | E1975: 0.011563349 | F1975: 0.011563349 | G1975: -3.9044609
A1976: Sike1 | B1976: 0.20151003 | C1976: 5.6074887 | D1976: 3.2799028 | E1976: 0.0035456029 | F1976: 0.0035456029 | G1976: -2.9033255
A1977: Ddx19b | B1977: 0.2014888 | C1977: 4.9290765 | D1977: 2.6693009 | E1977: 0.014290025 | F1977: 0.014290025 | G1977: -4.1016217
A1978: Max | B1978: 0.20121785 | C1978: 5.7396265 | D1978: 4.5387735 | E1978: 0.00017597971 | F1978: 0.00017597971 | G1978: 0.03423695
A1979: Tmem131 | B1979: 0.20118743 | C1979: 7.0985869 | D1979: 3.5556554 | E1979: 0.0018515477 | F1979: 0.0018515477 | G1979: -2.585219
A1980: Chd9 | B1980: 0.20087797 | C1980: 6.0471942 | D1980: 3.3205208 | E1980: 0.0032239268 | F1980: 0.0032239268 | G1980: -2.9094268
A1981: Eif1a | B1981: 0.20076132 | C1981: 4.9389332 | D1981: 2.4702857 | E1981: 0.022075725 | F1981: 0.022075725 | G1981: -4.5048931
... A1991: Plcl2 | B1991: 0.19981703 | C1991: 6.1659518 | D1991: 2.5221652 | E1991: 0.019731951 | F1991: 0.019731951 | G1991: -4.6570197
A1992: 45352 | B1992: 0.19978079 | C1992: 4.8943558 | D1992: 2.427999 | E1992: 0.024175377 | F1992: 0.024175377 | G1992: -4.5848669
A1993: Armcx4 | B1993: 0.19972961 | C1993: 6.7135482 | D1993: 2.7700573 | E1993: 0.011417789 | F1993: 0.011417789 | G1993: -4.2550066
A1994: Casp8ap2 | B1994: 0.19969881 | C1994: 3.854469 | D1994: 2.0987305 | E1994: 0.048007671 | F1994: 0.048007671 | G1994: -4.9950222
A1995: Srrm4 | B1995: 0.19956763 | C1995: 5.9176651 | D1995: 2.6687026 | E1995: 0.014308965 | F1995: 0.014308965 | G1995: -4.3070192
A1996: Unc80 | B1996: 0.19951834 | C1996: 8.4056032 | D1996: 2.2652971 | E1996: 0.034099854 | F1996: 0.034099854 | G1996: -5.653484
A1997: Tnfrsf19 | B1997: 0.19943623 | C1997: 5.4728102 | D1997: 2.6452225 | E1997: 0.01507123 | F1997: 0.01507123 | G1997: -4.2449466
A1998: Rap1b | B1998: 0.1994015 | C1998: 5.5605396 | D1998: 2.66989 | E1998: 0.014271402 | F1998: 0.014271402 | G1998: -4.2186204
A1999: Xpo4 | B1999: 0.19918401 | C1999: 3.8110409 | D1999: 2.582857 | E1999: 0.017285976 | F1999: 0.017285976 | G1999: -4.0467379
A2000: Pacsin2 | B2000: 0.19906623 | C2000: 6.4459745 | D2000: 3.174121 | E2000: 0.004536981 | F2000: 0.004536981 | G2000: -3.3071749
A2001: Snx16 | B2001: 0.19888859 | C2001: 4.6721709 | D2001: 2.3347173 | E2001: 0.029478522 | F2001: 0.029478522 | G2001: -4.7252244
A2002: Ubap2 | B2002: 0.19866886 | C2002: 6.3628698 | D2002: 3.1035128 | E2002: 0.0053432427 | F2002: 0.0053432427 | G2002: -3.4580775
...

Sheet e. c9vwt_12mo
A1: Supplementary Table 8e. DEGs in C9orf72-/- vs. Wild type at 12-month-old.
B2: logFC | C2: AveExpr | D2: t | E2: P.Value | F2: adj.P.Val | G2: B
A3: Gm15610 | B3: 6.5147043 | C3: -1.9739831 | D3: 20.392791 | E3: 4.8435397e-16 | F3: 4.8435397e-16 | G3: 16.892964
A4: Igha | B4: 6.3737882 | C4: -2.4640931 | D4: 6.9990227 | E4: 4.3468801e-07 | F4: 4.3468801e-07 | G4: 5.3626878
A5: AK157302 | B5: 5.4881626 | C5: -1.4668313 | D5: 2.8993272 | E5: 0.0081786986 | F5: 0.0081786986 | G5: -2.4617071
A6: Gm6916 | B6: 4.9175416 | C6: -2.6166588 | D6: 10.545721 | E6: 3.4048354e-10 | F6: 3.4048354e-10 | G6: 8.8761182
A7: Gm12056 | B7: 3.7887475 | C7: -4.2992943 | D7: 5.2725222 | E7: 2.5166333e-05 | F7: 2.5166333e-05 | G7: 1.4422667
A8: Sun3 | B8: 3.7704308 | C8: -4.220551 | D8: 6.2333081 | E8: 2.5235794e-06 | F8: 2.5235794e-06 | G8: 2.9401551
A9: Gm13712 | B9: 3.500376 | C9: -3.5001846 | D9: 5.7930292 | E9: 7.1579009e-06 | F9: 7.1579009e-06 | G9: 2.1491643
A10: AC131187.2 | B10: 3.4493801 | C10: -4.5844805 | D10: 4.8802552 | E10: 6.5805732e-05 | F10: 6.5805732e-05 | G10: 0.73464245
A11: Gm6356 | B11: 3.4460469 | C11: -3.55024 | D11: 3.6137938 | E11: 0.0014917766 | F11: 0.0014917766 | G11: -1.4368039
A12: Gm37510 | B12: 2.928703 | C12: -5.3708372 | D12: 5.3922339 | E12: 1.8807745e-05 | F12: 1.8807745e-05 | G12: 1.0253991
A13: Krt2 | B13: 2.766335 | C13: -0.81091257 | D13: 2.772869 | E13: 0.010933894 | F13: 0.010933894 | G13: -2.671215
A14: Olfm5 | B14: 2.7490851 | C14: -5.2531361 | D14: 3.7003802 | E14: 0.0012077405 | F14: 0.0012077405 | G14: -1.4793101
... A793: Fam212a | B793: 0.45651075 | C793: 0.64139792 | D793: 2.4124086 | E793: 0.024387327 | F793: 0.024387327 | G793: -3.4519547
A794: 45539 | B794: 0.45619671 | C794: 7.8952416 | D794: 6.8700187 | E794: 5.8160688e-07 | F794: 5.8160688e-07 | G794: 5.6454137
A795: Lypd6b | B795: 0.45605598 | C795: 3.8340637 | D795: 2.4248468 | E795: 0.023738237 | F795: 0.023738237 | G795: -4.0817976
A796: Qpct | B796: 0.45581018 | C796: 3.5175367 | D796: 3.3771964 | E796: 0.0026451009 | F796: 0.0026451009 | G796: -1.9686723
A797: Ecel1 | B797: 0.45579115 | C797: 5.5307836 | D797: 2.2069967 | E797: 0.037761871 | F797: 0.037761871 | G797: -4.8518842
A798: Insig1 | B798: 0.45498342 | C798: 5.8804686 | D798: 5.8152153 | E798: 6.7882147e-06 | F798: 6.7882147e-06 | G798: 3.5135532
A799: Map3k19 | B799: 0.45449543 | C799: 2.9315149 | D799: 2.3548248 | E799: 0.027611502 | F799: 0.027611502 | G799: -4.0468995
A800: Nfil3 | B800: 0.454276 | C800: 3.3820614 | D800: 3.4302232 | E800: 0.002327935 | F800: 0.002327935 | G800: -1.8494018
A801: Cyp2j6 | B801: 0.45329415 | C801: 4.3681321 | D801: 5.1160822 | E801: 3.6880841e-05 | F801: 3.6880841e-05 | G801: 2.0722606
A802: Lxn | B802: 0.45313306 | C802: 4.8263626 | D802: 5.4044284 | E802: 1.8259139e-05 | F802: 1.8259139e-05 | G802: 2.6930491
A803: Trim36 | B803: 0.45310597 | C803: 3.1978413 | D803: 4.0161072 | E803: 0.00055623434 | F803: 0.00055623434 | G803: -0.44345686
A804: Cnp | B804: 0.45128915 | C804: 8.824736 | D804: 4.3074892 | E804: 0.0002708166 | F804: 0.0002708166 | G804: -0.77140296
A805: Plp1 | B805: 0.45018046 | C805: 10.664228 | D805: 5.1814492 | E805: 3.1430959e-05 | F805: 3.1430959e-05 | G805: 0.95710035
A806: Ermn | B806: 0.44992117 | C806: 6.7442003 | D806: 5.0120129 | E806: 4.7599536e-05 | F806: 4.7599536e-05 | G806: 1.3858424
... A1274: Phlda1 | B1274: 0.24247566 | C1274: 5.1295001 | D1274: 2.6429526 | E1274: 0.014667217 | F1274: 0.014667217 | G1274: -3.8825864
A1275: 45359 | B1275: 0.24230818 | C1275: 6.0675189 | D1275: 3.5496006 | E1275: 0.0017437683 | F1275: 0.0017437683 | G1275: -2.0272342
A1276: Eefsec | B1276: 0.24221491 | C1276: 4.253658 | D1276: 3.2754955 | E1276: 0.0033753227 | F1276: 0.0033753227 | G1276: -2.3361511
A1277: Sash1 | B1277: 0.24178627 | C1277: 6.851464 | D1277: 2.3037953 | E1277: 0.030791837 | F1277: 0.030791837 | G1277: -4.9257742
A1278: Ddx3x | B1278: 0.24143122 | C1278: 8.0738336 | D1278: 2.3528942 | E1278: 0.027726108 | F1278: 0.027726108 | G1278: -5.0678546
A1279: Lsm8 | B1279: 0.2407975 | C1279: 3.7274948 | D1279: 2.2949805 | E1279: 0.03137407 | F1279: 0.03137407 | G1279: -4.2962857
A1280: Cdc42ep4 | B1280: 0.24079651 | C1280: 5.2007215 | D1280: 2.3060776 | E1280: 0.030642707 | F1280: 0.030642707 | G1280: -4.5707563
A1281: Nipal2 | B1281: 0.24048137 | C1281: 3.1013028 | D1281: 2.1662105 | E1281: 0.041106157 | F1281: 0.041106157 | G1281: -4.4068798
A1282: AC148324.1 | B1282: 0.24047121 | C1282: 2.3268796 | D1282: 2.3180856 | E1282: 0.029868933 | F1282: 0.029868933 | G1282: -3.9359006
A1283: Foxn2 | B1283: 0.24045964 | C1283: 3.7728271 | D1283: 2.363273 | E1283: 0.027115097 | F1283: 0.027115097 | G1283: -4.1882091
A1284: Gse1 | B1284: 0.24025435 | C1284: 6.9127976 | D1284: 3.2415782 | E1284: 0.0036598335 | F1284: 0.0036598335 | G1284: -2.9140747
A1285: Hnrnpm | B1285: 0.23980306 | C1285: 6.8826049 | D1285: 3.544074 | E1285: 0.0017673193 | F1285: 0.0017673193 | G1285: -2.202905
...

Sheet f. grnvwt_12mo
A1: Supplementary Table 8f. DEGs in Grn-/- vs. Wild type at 12-month-old.
B2: logFC | C2: AveExpr | D2: t | E2: P.Value | F2: adj.P.Val | G2: B
A3: Gm8730 | B3: 7.3320627 | C3: -1.3820713 | D3: 12.950957 | E3: 6.2032768e-12 | F3: 6.2032768e-12 | G3: 14.547684
A4: Rpl3-ps1 | B4: 7.0044221 | C4: -1.8989792 | D4: 28.830511 | E4: 2.580568e-19 | F4: 2.580568e-19 | G4: 22.287389
A5: Gm15610 | B5: 6.1327368 | C5: -1.9739831 | D5: 18.149692 | E5: 5.8198497e-15 | F5: 5.8198497e-15 | G5: 19.201358
A6: Gm6472 | B6: 6.0831415 | C6: -0.64548326 | D6: 11.809035 | E6: 3.8553685e-11 | F6: 3.8553685e-11 | G6: 12.580858
A7: Mmp12 | B7: 5.6102781 | C7: -2.5166356 | D7: 10.557878 | E7: 3.3313875e-10 | F7: 3.3313875e-10 | G7: 11.612992
A8: AC159190.1 | B8: 5.562219 | C8: -2.8313693 | D8: 14.597696 | E8: 5.4835095e-13 | F8: 5.4835095e-13 | G8: 15.861981
A9: Atp6v0d2 | B9: 5.5437765 | C9: -3.1906565 | D9: 8.2823299 | E9: 2.7052865e-08 | F9: 2.7052865e-08 | G9: 8.3166276
A10: AC134254.3 | B10: 4.9998923 | C10: -3.7675614 | D10: 16.949664 | E10: 2.464865e-14 | F10: 2.464865e-14 | G10: 16.70425
A11: Gm6916 | B11: 4.539585 | C11: -2.6166588 | D11: 9.2002363 | E11: 4.2441325e-09 | F11: 4.2441325e-09 | G11: 9.1823276
A12: Tuba1c | B12: 4.5011371 | C12: 0.64357205 | D12: 14.741246 | E12: 4.4856647e-13 | F12: 4.4856647e-13 | G12: 19.08188
A13: Serpina3m | B13: 4.4414573 | C13: -4.7738923 | D13: 4.0677353 | E13: 0.00048972994 | F13: 0.00048972994 | G13: -0.072603959
A14: Gm18733 | B14: 4.424352 | C14: -5.3602971 | D14: 6.8706932 | E14: 5.8071888e-07 | F14: 5.8071888e-07 | G14: 5.3770051
... A1052: Kcne1l | B1052: 0.70250701 | C1052: 2.3602512 | D1052: 3.8907209 | E1052: 0.0007574019 | F1052: 0.0007574019 | G1052: -0.80344914
A1053: 45536 | B1053: 0.70195007 | C1053: 0.94783408 | D1053: 3.9798892 | E1053: 0.00060816463 | F1053: 0.00060816463 | G1053: -0.33976638
A1054: Islr | B1054: 0.70070114 | C1054: 3.5991178 | D1054: 4.7490637 | E1054: 9.0922239e-05 | F1054: 9.0922239e-05 | G1054: 0.98681858
A1055: Ogn | B1055: 0.69901771 | C1055: 1.7285876 | D1055: 2.8695372 | E1055: 0.008760868 | F1055: 0.008760868 | G1055: -3.0086261
A1056: Gm17799 | B1056: 0.69813481 | C1056: -1.6899874 | D1056: 2.157336 | E1056: 0.041868402 | F1056: 0.041868402 | G1056: -3.7662999
A1057: Tmem106a | B1057: 0.6967982 | C1057: 0.45623242 | D1057: 2.8791964 | E1057: 0.0085679075 | F1057: 0.0085679075 | G1057: -2.7282868
A1058: Trim14 | B1058: 0.69674469 | C1058: -0.48770811 | D1058: 2.2557553 | E1058: 0.034089039 | F1058: 0.034089039 | G1058: -3.7507899
A1059: Slc37a2 | B1059: 0.69618819 | C1059: 2.5145988 | D1059: 3.428987 | E1059: 0.0023348877 | F1059: 0.0023348877 | G1059: -1.948646
A1060: Sorbs3 | B1060: 0.69269142 | C1060: 5.5998945 | D1060: 9.4706792 | E1060: 2.5106635e-09 | F1060: 2.5106635e-09 | G1060: 11.269111
A1061: Gm37885 | B1061: 0.69185358 | C1061: 3.3828388 | D1061: 5.4524599 | E1061: 1.62515e-05 | F1061: 1.62515e-05 | G1061: 2.729802
A1062: Capg | B1062: 0.69129263 | C1062: 1.9480169 | D1062: 3.0627045 | E1062: 0.0055885807 | F1062: 0.0055885807 | G1062: -2.6444966
A1063: Tmem79 | B1063: 0.69048667 | C1063: -0.12712091 | D1063: 2.3422904 | E1063: 0.028363422 | F1063: 0.028363422 | G1063: -3.6470918
A1064: H2-Bl | B1064: 0.6890834 | C1064: -0.1795794 | D1064: 3.1703516 | E1064: 0.0043349296 | F1064: 0.0043349296 | G1064: -2.0302848
A1065: Dennd1c | B1065: 0.68876071 | C1065: 0.73762746 | D1065: 2.806552 | E1065: 0.010124323 | F1065: 0.010124323 | G1065: -2.9304296
... A1425: Ankrd16 | B1425: 0.4592544 | C1425: 3.8239388 | D1425: 2.7187952 | E1425: 0.012363097 | F1425: 0.012363097 | G1425: -3.8166731
A1426: 45539 | B1426: 0.45912789 | C1426: 7.8952416 | D1426: 6.903075 | E1426: 5.3968266e-07 | F1426: 5.3968266e-07 | G1426: 5.3952128
A1427: Gadd45b | B1427: 0.45901199 | C1427: 3.630961 | D1427: 3.0637954 | E1427: 0.0055742791 | F1427: 0.0055742791 | G1427: -3.0160158
A1428: Dusp15 | B1428: 0.45883627 | C1428: 4.4593953 | D1428: 3.3107387 | E1428: 0.0031024655 | F1428: 0.0031024655 | G1428: -2.6345557
A1429: Smpdl3b | B1429: 0.45870432 | C1429: 1.8342691 | D1429: 2.6361769 | E1429: 0.014891641 | F1429: 0.014891641 | G1429: -3.4856297
A1430: Cracr2a | B1430: 0.45796315 | C1430: 1.4183507 | D1430: 2.2473509 | E1430: 0.034697946 | F1430: 0.034697946 | G1430: -4.1745417
A1431: Zbtb11os1 | B1431: 0.45731486 | C1431: 2.2003018 | D1431: 2.9525482 | E1431: 0.007229374 | F1431: 0.007229374 | G1431: -2.9090328
A1432: Gm29666 | B1432: 0.45722116 | C1432: 0.94016253 | D1432: 2.6100859 | E1432: 0.015786309 | F1432: 0.015786309 | G1432: -3.3670168
A1433: Adam1a | B1433: 0.45672709 | C1433: 1.3462832 | D1433: 2.3090188 | E1433: 0.030451498 | F1433: 0.030451498 | G1433: -4.0529972
A1434: Wtip | B1434: 0.45645377 | C1434: 1.5877202 | D1434: 2.3977282 | E1434: 0.025174526 | F1434: 0.025174526 | G1434: -3.9497443
A1435: Usp53 | B1435: 0.45567912 | C1435: 4.4755657 | D1435: 5.4367917 | E1435: 1.6880527e-05 | F1435: 1.6880527e-05 | G1435: 2.527041
A1436: Litaf | B1436: 0.45436491 | C1436: 4.7144838 | D1436: 3.3593907 | E1436: 0.0027607614 | F1436: 0.0027607614 | G1436: -2.5536041
...

Sheet dkovwt_12mo
A1: Supplementary Table 8g. DEGs in Grn-/-;C9orf72-/- vs. Wild type at 12-month-old.
B2: logFC | C2: AveExpr | D2: t | E2: P.Value | F2: adj.P.Val | G2: B
A3: Gm13394 | B3: 8.3830512 | C3: 0.95801135 | D3: 4.1567144 | E3: 0.00039313849 | F3: 0.00039313849 | G3: 0.13623403
A4: Gm8730 | B4: 7.4656649 | C4: -1.3820713 | D4: 13.516938 | E4: 2.6248319e-12 | F4: 2.6248319e-12 | G4: 15.802506
A5: Gm6356 | B5: 7.3179615 | C5: -3.55024 | D5: 15.402241 | E5: 1.8153514e-13 | F5: 1.8153514e-13 | G5: 19.226025
A6: Igha | B6: 7.0533861 | C6: -2.4640931 | D6: 8.6692429 | E6: 1.2226386e-08 | F6: 1.2226386e-08 | G6: 9.618341
A7: Gm6472 | B7: 6.6897989 | C7: -0.64548326 | D7: 13.302456 | E7: 3.6239524e-12 | F7: 3.6239524e-12 | G7: 14.81367
A8: Gm15610 | B8: 6.1607206 | C8: -1.9739831 | D8: 20.204342 | E8: 5.9112808e-16 | F8: 5.9112808e-16 | G8: 22.172213
A9: AC159190.1 | B9: 6.096212 | C9: -2.8313693 | D9: 18.50123 | E9: 3.873752e-15 | F9: 3.873752e-15 | G9: 20.646405
A10: Atp6v0d2 | B10: 5.7478388 | C10: -3.1906565 | D10: 9.7240721 | E10: 1.5480258e-09 | F10: 1.5480258e-09 | G10: 11.22728
A11: Mmp12 | B11: 5.5859314 | C11: -2.5166356 | D11: 11.344546 | E11: 8.4167501e-11 | F11: 8.4167501e-11 | G11: 13.35202
A12: AC134254.3 | B12: 5.492422 | C12: -3.7675614 | D12: 22.916508 | E12: 3.9038168e-17 | F12: 3.9038168e-17 | G12: 22.857037
A13: Cd5l | B13: 5.0764634 | C13: -3.5724167 | D13: 6.3902699 | E13: 1.7494347e-06 | F13: 1.7494347e-06 | G13: 5.0328978
A14: Gm6916 | B14: 4.852929 | C14: -2.6166588 | D14: 11.510403 | E14: 6.3523511e-11 | F14: 6.3523511e-11 | G14: 13.329906
... A1258: Rlbp1 | B1258: 0.51721033 | C1258: 3.8129282 | D1258: 4.1354351 | E1258: 0.00041435554 | F1258: 0.00041435554 | G1258: -0.70196647
A1259: 45539 | B1259: 0.51693675 | C1259: 7.8952416 | D1259: 8.7889292 | E1259: 9.6014422e-09 | F1259: 9.6014422e-09 | G1259: 9.3280865
A1260: Cpeb1 | B1260: 0.51682474 | C1260: 5.68181 | D1260: 5.7836523 | E1260: 7.3202488e-06 | F1260: 7.3202488e-06 | G1260: 2.9697013
A1261: 1700034H15Rik | B1261: 0.51680366 | C1261: 1.7677323 | D1261: 3.3574541 | E1261: 0.0027736336 | F1261: 0.0027736336 | G1261: -2.082693
A1262: Gsr | B1262: 0.51673253 | C1262: 4.8929414 | D1262: 6.9996767 | E1262: 4.3404916e-07 | F1262: 4.3404916e-07 | G1262: 5.9658997
A1263: Sec11c | B1263: 0.51616521 | C1263: 5.5854953 | D1263: 8.1587873 | E1263: 3.500755e-08 | F1263: 3.500755e-08 | G1263: 8.426762
A1264: Neat1 | B1264: 0.51610229 | C1264: 6.5147648 | D1264: 2.8266713 | E1264: 0.0096682566 | F1264: 0.0096682566 | G1264: -4.2943626
A1265: RMST_1 | B1265: 0.5159113 | C1265: 0.93287085 | D1265: 2.1073298 | E1265: 0.04640685 | F1265: 0.04640685 | G1265: -4.4832748
A1266: Tnip2 | B1266: 0.51585468 | C1266: 3.6932489 | D1266: 4.8655096 | E1266: 6.8238448e-05 | F1266: 6.8238448e-05 | G1266: 1.1096184
A1267: Proca1 | B1267: 0.51567585 | C1267: 1.317741 | D1267: 2.7270679 | E1267: 0.01213355 | F1267: 0.01213355 | G1267: -3.3627363
A1268: Eml2 | B1268: 0.51557829 | C1268: 7.6378491 | D1268: 9.3022455 | E1268: 3.4778938e-09 | F1268: 3.4778938e-09 | G1268: 10.417553
A1269: Ctsl | B1269: 0.5152718 | C1269: 6.5137988 | D1269: 9.1826482 | E1269: 4.3929521e-09 | F1269: 4.3929521e-09 | G1269: 10.380105
A1270: Gadd45a | B1270: 0.51510479 | C1270: 2.8447862 | D1270: 3.5853779 | E1270: 0.0015985799 | F1270: 0.0015985799 | G1270: -1.7852738
A1271: Gm13340 | B1271: 0.51501113 | C1271: 1.39385 | D1271: 3.7396826 | E1271: 0.0010970696 | F1271: 0.0010970696 | G1271: -1.1111086
... A1426: Gbp5 | B1426: 0.44099459 | C1426: 0.88301682 | D1426: 2.4062678 | E1426: 0.024713802 | F1426: 0.024713802 | G1426: -3.929175
A1427: 45536 | B1427: 0.44015566 | C1427: 0.94783408 | D1427: 2.6733976 | E1427: 0.013697515 | F1427: 0.013697515 | G1427: -3.3616877
A1428: Ebf4 | B1428: 0.44006914 | C1428: 3.3173572 | D1428: 3.2604529 | E1428: 0.0034987534 | F1428: 0.0034987534 | G1428: -2.6964167
A1429: Gm45902 | B1429: 0.43967096 | C1429: 1.7331478 | D1429: 3.2347028 | E1429: 0.0037202783 | F1429: 0.0037202783 | G1429: -2.3692056
A1430: Bmp7 | B1430: 0.43860822 | C1430: 4.1974677 | D1430: 4.2417202 | E1430: 0.00031864411 | F1430: 0.00031864411 | G1430: -0.53161019
A1431: Dhrs1 | B1431: 0.43823467 | C1431: 5.9166692 | D1431: 6.4195244 | E1431: 1.6344864e-06 | F1431: 1.6344864e-06 | G1431: 4.4449963
A1432: Abhd15 | B1432: 0.43822478 | C1432: 1.2011639 | D1432: 2.2306285 | E1432: 0.035939058 | F1432: 0.035939058 | G1432: -4.3379739
A1433: Mfng | B1433: 0.43807135 | C1433: 1.5934701 | D1433: 3.165914 | E1433: 0.0043807572 | F1433: 0.0043807572 | G1433: -2.4813579
A1434: Traf5 | B1434: 0.43801755 | C1434: 0.83405121 | D1434: 2.4226093 | E1434: 0.023853809 | F1434: 0.023853809 | G1434: -3.8367009
A1435: Pde8a | B1435: 0.43795513 | C1435: 4.7481101 | D1435: 5.0012591 | E1435: 4.8872907e-05 | F1435: 4.8872907e-05 | G1435: 1.2438718
A1436: Rhog | B1436: 0.43729855 | C1436: 5.2830917 | D1436: 4.0613482 | E1436: 0.00049750881 | F1436: 0.00049750881 | G1436: -1.1737325
A1437: Cyp4f16 | B1437: 0.4369849 | C1437: 1.3473298 | D1437: 2.5418686 | E1437: 0.018369357 | F1437: 0.018369357 | G1437: -3.751463
...
