Workbook
Name a_0: '(A1,A3)'!$J$5
Name a_0: '(A2,A3)'!$J$5
Name a_0: '(A1,A2)'!$J$5
Name a_1: '(A1,A3)'!$J$3
Name a_1: '(A2,A3)'!$J$3
Name a_1: '(A1,A2)'!$J$3
Name a_2: '(A1,A3)'!$J$4
Name a_2: '(A2,A3)'!$J$4
Name a_2: '(A1,A2)'!$J$4
Name a_est: 'A2'!$J$2
Name a_est: 'A3'!$J$2
Name a_est: 'A1'!$J$2
Name b_est: 'A2'!$J$3
Name b_est: 'A3'!$J$3
Name b_est: 'A1'!$J$3
Name c_0: '(A1,A2,A3)'!$N$9
Name c_1: '(A1,A2,A3)'!$N$6
Name c_2: '(A1,A2,A3)'!$N$7
Name c_3: '(A1,A2,A3)'!$N$8
Name case: 'Data 2'!$B$1
Name case: 'Data 1'!$B$1
Name CF_D: 'Composite Resampling'!$F$177
Name CF_D: 'LR Results_2B_Composite'!$D$177
Name CF_D: #REF!
Name CF_V: 'Composite Resampling'!$F$183
Name CF_V: 'LR Results_2B_Composite'!$D$183
Name CF_V: #REF!
Name CFEPIT: 'A2'!#REF!
Name CFEPIT: 'A3'!#REF!
Name CFEPIT: 'A1'!#REF!
Name CFN_V: 'Composite Resampling'!$F$185
Name CFN_V: 'LR Results_2B_Composite'!$D$185
Name CFN_V: #REF!
Name CFNR_D: 'Composite Resampling'!$F$178
Name CFNR_D: 'LR Results_2B_Composite'!$D$178
Name CFNR_D: #REF!
Name CFNR_V: 'Composite Resampling'!$F$184
Name CFNR_V: 'LR Results_2B_Composite'!$D$184
Name CFNR_V: #REF!
Name CFNRT: 'Data 1'!#REF!
Name CFNRT_V: 'Data 1'!$D$182
Name CFNT: 'Data 1'!#REF!
Name CFNT_D: 'Composite Resampling'!$F$179
Name CFNT_D: 'LR Results_2B_Composite'!$D$179
Name CFNT_D: #REF!
Name CFNT_V: 'Data 1'!$D$183
Name CFPERTT: 'A2'!#REF!
Name CFPERTT: 'A3'!#REF!
Name CFPERTT: 'A1'!#REF!
Name CFT: 'A1'!$G$191
Name CFT: 'A2'!$G$191
Name CFT: 'A3'!$G$191
Name CFT: 'Data 1'!#REF!
Name CFT_1: '(A1,A3)'!$G$188
Name CFT_1: '(A2,A3)'!$G$188
Name CFT_1: '(A1,A2)'!$G$188
Name CFT_MC: #REF!
Name CFT_V: 'Data 1'!$D$181
Name col_1: 'Data 2'!$B$3
Name col_1: 'Data 1'!$B$3

Sheet Setup
AH1: index | AI1: 1 | AJ1: 2 | AK1: 3 | AL1: 4 | AM1: 5 | AN1: 6 | AO1: 7
AH2: column | AI2: 4 | AJ2: 5 | AK2: 15 | AL2: 24 | AM2: 33 | AN2: 34 | AO2: 44
T3: Determination of the specific CF-related conditions associated with each of the 35 three -variate LR models and the assignment of a case # to each model | AI3: Pancreatic Insufficiency | AJ3: Pancreatitis | AK3: family history | AL3: bronchiectasis/ tree in bud | AM3: Gram negative bacterial infection | AN3: Gram positive bacterial infection | AO3: NTM (MAC or non-Mac)
AJ5: Database Column
B6: Binary | C6: 1 | D6: =C6+1 -> 2 | E6: =D6+1 -> 3 | F6: =E6+1 -> 4 | G6: =F6+1 -> 5 | H6: =G6+1 -> 6 | I6: =H6+1 -> 7 | J6: # 1's = 3 | K6: Index | L6: A1 | M6: A2 | N6: A3 | O6: A4 | P6: A5 | Q6: A6 | R6: A7 | U6: 1 | V6: =U6+1 -> 2 | W6: =V6+1 -> 3 | X6: =W6+1 -> 4 | Y6: =X6+1 -> 5 | Z6: =Y6+1 -> 6 | AA6: =Z6+1 -> 7 | AC6: Case | AD6: A1 | AE6: A2 | AF6: A3 | AI6: Case | AJ6: A1 | AK6: A2 | AL6: A3
A7: 1 | B7: =DEC2BIN(A7,7) -> 0000001 | C7: =MID($B7,COLUMN()-(COLUMN($C7)-1),1) -> 0 | D7: =MID($B7,COLUMN()-(COLUMN($C7)-1),1) -> 0 | E7: =MID($B7,COLUMN()-(COLUMN($C7)-1),1) -> 0 | F7: =MID($B7,COLUMN()-(COLUMN($C7)-1),1) -> 0 | G7: =MID($B7,COLUMN()-(COLUMN($C7)-1),1) -> 0 | H7: =MID($B7,COLUMN()-(COLUMN($C7)-1),1) -> 0 | I7: =MID($B7,COLUMN()-(COLUMN($C7)-1),1) -> 1 | J7: =IF(C7+D7+E7+F7+G7+H7+I7=3,"Y","") | K7: 1 | L7: =IF($J13="Y",C13*1,"") -> 0 | M7: =IF($J13="Y",D13*1,"") -> 0 | N7: =IF($J13="Y",E13*1,"") -> 0 | O7: =IF($J13="Y",F13*1,"") -> 0 | P7: =IF($J13="Y",G13*1,"") -> 1 | Q7: =IF($J13="Y",H13*1,"") -> 1 | R7: =IF($J13="Y",I13*1,"") -> 1 | T7: 1 | U7: =IF(L7=1,U$6,"") | V7: =IF(M7=1,V$6,"") | W7: =IF(N7=1,W$6,"") | X7: =IF(O7=1,X$6,"") | Y7: =IF(P7=1,Y$6,"") -> 5 | Z7: =IF(Q7=1,Z$6,"") -> 6 | AA7: =IF(R7=1,AA$6,"") -> 7 | AC7: 1 | AD7: 5 | AE7: 6 | AF7: 7 | AI7: 1 | AJ7: =OFFSET($AI$1,1,AD7-1) -> 33 | AK7: =OFFSET($AI$1,1,AE7-1) -> 34 | AL7: =OFFSET($AI$1,1,AO1-1) -> 44
A8: =A7+1 -> 2 | B8: =DEC2BIN(A8,7) -> 0000010 | C8: =MID($B8,COLUMN()-(COLUMN($C8)-1),1) -> 0 | D8: =MID($B8,COLUMN()-(COLUMN($C8)-1),1) -> 0 | E8: =MID($B8,COLUMN()-(COLUMN($C8)-1),1) -> 0 | F8: =MID($B8,COLUMN()-(COLUMN($C8)-1),1) -> 0 | G8: =MID($B8,COLUMN()-(COLUMN($C8)-1),1) -> 0 | H8: =MID($B8,COLUMN()-(COLUMN($C8)-1),1) -> 1 | I8: =MID($B8,COLUMN()-(COLUMN($C8)-1),1) -> 0 | J8: =IF(C8+D8+E8+F8+G8+H8+I8=3,"Y","") | K8: 2 | L8: =IF($J17="Y",C17*1,"") -> 0 | M8: =IF($J17="Y",D17*1,"") -> 0 | N8: =IF($J17="Y",E17*1,"") -> 0 | O8: =IF($J17="Y",F17*1,"") -> 1 | P8: =IF($J17="Y",G17*1,"") -> 0 | Q8: =IF($J17="Y",H17*1,"") -> 1 | R8: =IF($J17="Y",I17*1,"") -> 1 | T8: 2 | U8: =IF(L8=1,U$6,"") | V8: =IF(M8=1,V$6,"") | W8: =IF(N8=1,W$6,"") | X8: =IF(O8=1,X$6,"") -> 4 | Y8: =IF(P8=1,Y$6,"") | Z8: =IF(Q8=1,Z$6,"") -> 6 | AA8: =IF(R8=1,AA$6,"") -> 7 | AC8: 2 | AD8: 4 | AE8: 6 | AF8: 7 | AI8: 2 | AJ8: =OFFSET($AI$1,1,AD8-1) -> 24 | AK8: =OFFSET($AI$1,1,AE8-1) -> 34 | AL8: =OFFSET($AI$1,1,AF8-1) -> 44
A9: =A8+1 -> 3 | B9: =DEC2BIN(A9,7) -> 0000011 | C9: =MID($B9,COLUMN()-(COLUMN($C9)-1),1) -> 0 | D9: =MID($B9,COLUMN()-(COLUMN($C9)-1),1) -> 0 | E9: =MID($B9,COLUMN()-(COLUMN($C9)-1),1) -> 0 | F9: =MID($B9,COLUMN()-(COLUMN($C9)-1),1) -> 0 | G9: =MID($B9,COLUMN()-(COLUMN($C9)-1),1) -> 0 | H9: =MID($B9,COLUMN()-(COLUMN($C9)-1),1) -> 1 | I9: =MID($B9,COLUMN()-(COLUMN($C9)-1),1) -> 1 | J9: =IF(C9+D9+E9+F9+G9+H9+I9=3,"Y","") | K9: 3 | L9: =IF($J19="Y",C19*1,"") -> 0 | M9: =IF($J19="Y",D19*1,"") -> 0 | N9: =IF($J19="Y",E19*1,"") -> 0 | O9: =IF($J19="Y",F19*1,"") -> 1 | P9: =IF($J19="Y",G19*1,"") -> 1 | Q9: =IF($J19="Y",H19*1,"") -> 0 | R9: =IF($J19="Y",I19*1,"") -> 1 | T9: 3 | U9: =IF(L9=1,U$6,"") | V9: =IF(M9=1,V$6,"") | W9: =IF(N9=1,W$6,"") | X9: =IF(O9=1,X$6,"") -> 4 | Y9: =IF(P9=1,Y$6,"") -> 5 | Z9: =IF(Q9=1,Z$6,"") | AA9: =IF(R9=1,AA$6,"") -> 7 | AC9: 3 | AD9: 4 | AE9: 5 | AF9: 7 | AI9: 3 | AJ9: =OFFSET($AI$1,1,AD9-1) -> 24 | AK9: =OFFSET($AI$1,1,AE9-1) -> 33 | AL9: =OFFSET($AI$1,1,AF9-1) -> 44
A10: =A9+1 -> 4 | B10: =DEC2BIN(A10,7) -> 0000100 | C10: =MID($B10,COLUMN()-(COLUMN($C10)-1),1) -> 0 | D10: =MID($B10,COLUMN()-(COLUMN($C10)-1),1) -> 0 | E10: =MID($B10,COLUMN()-(COLUMN($C10)-1),1) -> 0 | F10: =MID($B10,COLUMN()-(COLUMN($C10)-1),1) -> 0 | G10: =MID($B10,COLUMN()-(COLUMN($C10)-1),1) -> 1 | H10: =MID($B10,COLUMN()-(COLUMN($C10)-1),1) -> 0 | I10: =MID($B10,COLUMN()-(COLUMN($C10)-1),1) -> 0 | J10: =IF(C10+D10+E10+F10+G10+H10+I10=3,"Y","") | K10: 4 | L10: =IF($J20="Y",C20*1,"") -> 0 | M10: =IF($J20="Y",D20*1,"") -> 0 | N10: =IF($J20="Y",E20*1,"") -> 0 | O10: =IF($J20="Y",F20*1,"") -> 1 | P10: =IF($J20="Y",G20*1,"") -> 1 | Q10: =IF($J20="Y",H20*1,"") -> 1 | R10: =IF($J20="Y",I20*1,"") -> 0 | T10: 4 | U10: =IF(L10=1,U$6,"") | V10: =IF(M10=1,V$6,"") | W10: =IF(N10=1,W$6,"") | X10: =IF(O10=1,X$6,"") -> 4 | Y10: =IF(P10=1,Y$6,"") -> 5 | Z10: =IF(Q10=1,Z$6,"") -> 6 | AA10: =IF(R10=1,AA$6,"") | AC10: 4 | AD10: 4 | AE10: 5 | AF10: 6 | AI10: 4 | AJ10: =OFFSET($AI$1,1,AD10-1) -> 24 | AK10: =OFFSET($AI$1,1,AE10-1) -> 33 | AL10: =OFFSET($AI$1,1,AF10-1) -> 34
A11: =A10+1 -> 5 | B11: =DEC2BIN(A11,7) -> 0000101 | C11: =MID($B11,COLUMN()-(COLUMN($C11)-1),1) -> 0 | D11: =MID($B11,COLUMN()-(COLUMN($C11)-1),1) -> 0 | E11: =MID($B11,COLUMN()-(COLUMN($C11)-1),1) -> 0 | F11: =MID($B11,COLUMN()-(COLUMN($C11)-1),1) -> 0 | G11: =MID($B11,COLUMN()-(COLUMN($C11)-1),1) -> 1 | H11: =MID($B11,COLUMN()-(COLUMN($C11)-1),1) -> 0 | I11: =MID($B11,COLUMN()-(COLUMN($C11)-1),1) -> 1 | J11: =IF(C11+D11+E11+F11+G11+H11+I11=3,"Y","") | K11: 5 | L11: =IF($J25="Y",C25*1,"") -> 0 | M11: =IF($J25="Y",D25*1,"") -> 0 | N11: =IF($J25="Y",E25*1,"") -> 1 | O11: =IF($J25="Y",F25*1,"") -> 0 | P11: =IF($J25="Y",G25*1,"") -> 0 | Q11: =IF($J25="Y",H25*1,"") -> 1 | R11: =IF($J25="Y",I25*1,"") -> 1 | T11: 5 | U11: =IF(L11=1,U$6,"") | V11: =IF(M11=1,V$6,"") | W11: =IF(N11=1,W$6,"") -> 3 | X11: =IF(O11=1,X$6,"") | Y11: =IF(P11=1,Y$6,"") | Z11: =IF(Q11=1,Z$6,"") -> 6 | AA11: =IF(R11=1,AA$6,"") -> 7 | AC11: 5 | AD11: 3 | AE11: 6 | AF11: 7 | AI11: 5 | AJ11: =OFFSET($AI$1,1,AD11-1) -> 15 | AK11: =OFFSET($AI$1,1,AE11-1) -> 34 | AL11: =OFFSET($AI$1,1,AF11-1) -> 44
A12: =A11+1 -> 6 | B12: =DEC2BIN(A12,7) -> 0000110 | C12: =MID($B12,COLUMN()-(COLUMN($C12)-1),1) -> 0 | D12: =MID($B12,COLUMN()-(COLUMN($C12)-1),1) -> 0 | E12: =MID($B12,COLUMN()-(COLUMN($C12)-1),1) -> 0 | F12: =MID($B12,COLUMN()-(COLUMN($C12)-1),1) -> 0 | G12: =MID($B12,COLUMN()-(COLUMN($C12)-1),1) -> 1 | H12: =MID($B12,COLUMN()-(COLUMN($C12)-1),1) -> 1 | I12: =MID($B12,COLUMN()-(COLUMN($C12)-1),1) -> 0 | J12: =IF(C12+D12+E12+F12+G12+H12+I12=3,"Y","") | K12: 6 | L12: =IF($J27="Y",C27*1,"") -> 0 | M12: =IF($J27="Y",D27*1,"") -> 0 | N12: =IF($J27="Y",E27*1,"") -> 1 | O12: =IF($J27="Y",F27*1,"") -> 0 | P12: =IF($J27="Y",G27*1,"") -> 1 | Q12: =IF($J27="Y",H27*1,"") -> 0 | R12: =IF($J27="Y",I27*1,"") -> 1 | T12: 6 | U12: =IF(L12=1,U$6,"") | V12: =IF(M12=1,V$6,"") | W12: =IF(N12=1,W$6,"") -> 3 | X12: =IF(O12=1,X$6,"") | Y12: =IF(P12=1,Y$6,"") -> 5 | Z12: =IF(Q12=1,Z$6,"") | AA12: =IF(R12=1,AA$6,"") -> 7 | AC12: 6 | AD12: 3 | AE12: 5 | AF12: 7 | AI12: 6 | AJ12: =OFFSET($AI$1,1,AD12-1) -> 15 | AK12: =OFFSET($AI$1,1,AE12-1) -> 33 | AL12: =OFFSET($AI$1,1,AF12-1) -> 44
A13: =A12+1 -> 7 | B13: =DEC2BIN(A13,7) -> 0000111 | C13: =MID($B13,COLUMN()-(COLUMN($C13)-1),1) -> 0 | D13: =MID($B13,COLUMN()-(COLUMN($C13)-1),1) -> 0 | E13: =MID($B13,COLUMN()-(COLUMN($C13)-1),1) -> 0 | F13: =MID($B13,COLUMN()-(COLUMN($C13)-1),1) -> 0 | G13: =MID($B13,COLUMN()-(COLUMN($C13)-1),1) -> 1 | H13: =MID($B13,COLUMN()-(COLUMN($C13)-1),1) -> 1 | I13: =MID($B13,COLUMN()-(COLUMN($C13)-1),1) -> 1 | J13: =IF(C13+D13+E13+F13+G13+H13+I13=3,"Y","") -> Y | K13: 7 | L13: =IF($J28="Y",C28*1,"") -> 0 | M13: =IF($J28="Y",D28*1,"") -> 0 | N13: =IF($J28="Y",E28*1,"") -> 1 | O13: =IF($J28="Y",F28*1,"") -> 0 | P13: =IF($J28="Y",G28*1,"") -> 1 | Q13: =IF($J28="Y",H28*1,"") -> 1 | R13: =IF($J28="Y",I28*1,"") -> 0 | T13: 7 | U13: =IF(L13=1,U$6,"") | V13: =IF(M13=1,V$6,"") | W13: =IF(N13=1,W$6,"") -> 3 | X13: =IF(O13=1,X$6,"") | Y13: =IF(P13=1,Y$6,"") -> 5 | Z13: =IF(Q13=1,Z$6,"") -> 6 | AA13: =IF(R13=1,AA$6,"") | AC13: 7 | AD13: 3 | AE13: 5 | AF13: 6 | AI13: 7 | AJ13: =OFFSET($AI$1,1,AD13-1) -> 15 | AK13: =OFFSET($AI$1,1,AE13-1) -> 33 | AL13: =OFFSET($AI$1,1,AF13-1) -> 34
A14: =A13+1 -> 8 | B14: =DEC2BIN(A14,7) -> 0001000 | C14: =MID($B14,COLUMN()-(COLUMN($C14)-1),1) -> 0 | D14: =MID($B14,COLUMN()-(COLUMN($C14)-1),1) -> 0 | E14: =MID($B14,COLUMN()-(COLUMN($C14)-1),1) -> 0 | F14: =MID($B14,COLUMN()-(COLUMN($C14)-1),1) -> 1 | G14: =MID($B14,COLUMN()-(COLUMN($C14)-1),1) -> 0 | H14: =MID($B14,COLUMN()-(COLUMN($C14)-1),1) -> 0 | I14: =MID($B14,COLUMN()-(COLUMN($C14)-1),1) -> 0 | J14: =IF(C14+D14+E14+F14+G14+H14+I14=3,"Y","") | K14: 8 | L14: =IF($J31="Y",C31*1,"") -> 0 | M14: =IF($J31="Y",D31*1,"") -> 0 | N14: =IF($J31="Y",E31*1,"") -> 1 | O14: =IF($J31="Y",F31*1,"") -> 1 | P14: =IF($J31="Y",G31*1,"") -> 0 | Q14: =IF($J31="Y",H31*1,"") -> 0 | R14: =IF($J31="Y",I31*1,"") -> 1 | T14: 8 | U14: =IF(L14=1,U$6,"") | V14: =IF(M14=1,V$6,"") | W14: =IF(N14=1,W$6,"") -> 3 | X14: =IF(O14=1,X$6,"") -> 4 | Y14: =IF(P14=1,Y$6,"") | Z14: =IF(Q14=1,Z$6,"") | AA14: =IF(R14=1,AA$6,"") -> 7 | AC14: 8 | AD14: 3 | AE14: 4 | AF14: 7 | AI14: 8 | AJ14: =OFFSET($AI$1,1,AD14-1) -> 15 | AK14: =OFFSET($AI$1,1,AE14-1) -> 24 | AL14: =OFFSET($AI$1,1,AF14-1) -> 44
A15: =A14+1 -> 9 | B15: =DEC2BIN(A15,7) -> 0001001 | C15: =MID($B15,COLUMN()-(COLUMN($C15)-1),1) -> 0 | D15: =MID($B15,COLUMN()-(COLUMN($C15)-1),1) -> 0 | E15: =MID($B15,COLUMN()-(COLUMN($C15)-1),1) -> 0 | F15: =MID($B15,COLUMN()-(COLUMN($C15)-1),1) -> 1 | G15: =MID($B15,COLUMN()-(COLUMN($C15)-1),1) -> 0 | H15: =MID($B15,COLUMN()-(COLUMN($C15)-1),1) -> 0 | I15: =MID($B15,COLUMN()-(COLUMN($C15)-1),1) -> 1 | J15: =IF(C15+D15+E15+F15+G15+H15+I15=3,"Y","") | K15: 9 | L15: =IF($J32="Y",C32*1,"") -> 0 | M15: =IF($J32="Y",D32*1,"") -> 0 | N15: =IF($J32="Y",E32*1,"") -> 1 | O15: =IF($J32="Y",F32*1,"") -> 1 | P15: =IF($J32="Y",G32*1,"") -> 0 | Q15: =IF($J32="Y",H32*1,"") -> 1 | R15: =IF($J32="Y",I32*1,"") -> 0 | T15: 9 | U15: =IF(L15=1,U$6,"") | V15: =IF(M15=1,V$6,"") | W15: =IF(N15=1,W$6,"") -> 3 | X15: =IF(O15=1,X$6,"") -> 4 | Y15: =IF(P15=1,Y$6,"") | Z15: =IF(Q15=1,Z$6,"") -> 6 | AA15: =IF(R15=1,AA$6,"") | AC15: 9 | AD15: 3 | AE15: 4 | AF15: 6 | AI15: 9 | AJ15: =OFFSET($AI$1,1,AD15-1) -> 15 | AK15: =OFFSET($AI$1,1,AE15-1) -> 24 | AL15: =OFFSET($AI$1,1,AF15-1) -> 34
A16: =A15+1 -> 10 | B16: =DEC2BIN(A16,7) -> 0001010 | C16: =MID($B16,COLUMN()-(COLUMN($C16)-1),1) -> 0 | D16: =MID($B16,COLUMN()-(COLUMN($C16)-1),1) -> 0 | E16: =MID($B16,COLUMN()-(COLUMN($C16)-1),1) -> 0 | F16: =MID($B16,COLUMN()-(COLUMN($C16)-1),1) -> 1 | G16: =MID($B16,COLUMN()-(COLUMN($C16)-1),1) -> 0 | H16: =MID($B16,COLUMN()-(COLUMN($C16)-1),1) -> 1 | I16: =MID($B16,COLUMN()-(COLUMN($C16)-1),1) -> 0 | J16: =IF(C16+D16+E16+F16+G16+H16+I16=3,"Y","") | K16: 10 | L16: =IF($J34="Y",C34*1,"") -> 0 | M16: =IF($J34="Y",D34*1,"") -> 0 | N16: =IF($J34="Y",E34*1,"") -> 1 | O16: =IF($J34="Y",F34*1,"") -> 1 | P16: =IF($J34="Y",G34*1,"") -> 1 | Q16: =IF($J34="Y",H34*1,"") -> 0 | R16: =IF($J34="Y",I34*1,"") -> 0 | T16: 10 | U16: =IF(L16=1,U$6,"") | V16: =IF(M16=1,V$6,"") | W16: =IF(N16=1,W$6,"") -> 3 | X16: =IF(O16=1,X$6,"") -> 4 | Y16: =IF(P16=1,Y$6,"") -> 5 | Z16: =IF(Q16=1,Z$6,"") | AA16: =IF(R16=1,AA$6,"") | AC16: 10 | AD16: 3 | AE16: 4 | AF16: 5 | AI16: 10 | AJ16: =OFFSET($AI$1,1,AD16-1) -> 15 | AK16: =OFFSET($AI$1,1,AE16-1) -> 24 | AL16: =OFFSET($AI$1,1,AF16-1) -> 33
A17: =A16+1 -> 11 | B17: =DEC2BIN(A17,7) -> 0001011 | C17: =MID($B17,COLUMN()-(COLUMN($C17)-1),1) -> 0 | D17: =MID($B17,COLUMN()-(COLUMN($C17)-1),1) -> 0 | E17: =MID($B17,COLUMN()-(COLUMN($C17)-1),1) -> 0 | F17: =MID($B17,COLUMN()-(COLUMN($C17)-1),1) -> 1 | G17: =MID($B17,COLUMN()-(COLUMN($C17)-1),1) -> 0 | H17: =MID($B17,COLUMN()-(COLUMN($C17)-1),1) -> 1 | I17: =MID($B17,COLUMN()-(COLUMN($C17)-1),1) -> 1 | J17: =IF(C17+D17+E17+F17+G17+H17+I17=3,"Y","") -> Y | K17: 11 | L17: =IF($J41="Y",C41*1,"") -> 0 | M17: =IF($J41="Y",D41*1,"") -> 1 | N17: =IF($J41="Y",E41*1,"") -> 0 | O17: =IF($J41="Y",F41*1,"") -> 0 | P17: =IF($J41="Y",G41*1,"") -> 0 | Q17: =IF($J41="Y",H41*1,"") -> 1 | R17: =IF($J41="Y",I41*1,"") -> 1 | T17: 11 | U17: =IF(L17=1,U$6,"") | V17: =IF(M17=1,V$6,"") -> 2 | W17: =IF(N17=1,W$6,"") | X17: =IF(O17=1,X$6,"") | Y17: =IF(P17=1,Y$6,"") | Z17: =IF(Q17=1,Z$6,"") -> 6 | AA17: =IF(R17=1,AA$6,"") -> 7 | AC17: 11 | AD17: 2 | AE17: 6 | AF17: 7 | AI17: 11 | AJ17: =OFFSET($AI$1,1,AD17-1) -> 5 | AK17: =OFFSET($AI$1,1,AE17-1) -> 34 | AL17: =OFFSET($AI$1,1,AF17-1) -> 44
A18: =A17+1 -> 12 | B18: =DEC2BIN(A18,7) -> 0001100 | C18: =MID($B18,COLUMN()-(COLUMN($C18)-1),1) -> 0 | D18: =MID($B18,COLUMN()-(COLUMN($C18)-1),1) -> 0 | E18: =MID($B18,COLUMN()-(COLUMN($C18)-1),1) -> 0 | F18: =MID($B18,COLUMN()-(COLUMN($C18)-1),1) -> 1 | G18: =MID($B18,COLUMN()-(COLUMN($C18)-1),1) -> 1 | H18: =MID($B18,COLUMN()-(COLUMN($C18)-1),1) -> 0 | I18: =MID($B18,COLUMN()-(COLUMN($C18)-1),1) -> 0 | J18: =IF(C18+D18+E18+F18+G18+H18+I18=3,"Y","") | K18: 12 | L18: =IF($J43="Y",C43*1,"") -> 0 | M18: =IF($J43="Y",D43*1,"") -> 1 | N18: =IF($J43="Y",E43*1,"") -> 0 | O18: =IF($J43="Y",F43*1,"") -> 0 | P18: =IF($J43="Y",G43*1,"") -> 1 | Q18: =IF($J43="Y",H43*1,"") -> 0 | R18: =IF($J43="Y",I43*1,"") -> 1 | T18: 12 | U18: =IF(L18=1,U$6,"") | V18: =IF(M18=1,V$6,"") -> 2 | W18: =IF(N18=1,W$6,"") | X18: =IF(O18=1,X$6,"") | Y18: =IF(P18=1,Y$6,"") -> 5 | Z18: =IF(Q18=1,Z$6,"") | AA18: =IF(R18=1,AA$6,"") -> 7 | AC18: 12 | AD18: 2 | AE18: 5 | AF18: 7 | AI18: 12 | AJ18: =OFFSET($AI$1,1,AD18-1) -> 5 | AK18: =OFFSET($AI$1,1,AE18-1) -> 33 | AL18: =OFFSET($AI$1,1,AF18-1) -> 44
A19: =A18+1 -> 13 | B19: =DEC2BIN(A19,7) -> 0001101 | C19: =MID($B19,COLUMN()-(COLUMN($C19)-1),1) -> 0 | D19: =MID($B19,COLUMN()-(COLUMN($C19)-1),1) -> 0 | E19: =MID($B19,COLUMN()-(COLUMN($C19)-1),1) -> 0 | F19: =MID($B19,COLUMN()-(COLUMN($C19)-1),1) -> 1 | G19: =MID($B19,COLUMN()-(COLUMN($C19)-1),1) -> 1 | H19: =MID($B19,COLUMN()-(COLUMN($C19)-1),1) -> 0 | I19: =MID($B19,COLUMN()-(COLUMN($C19)-1),1) -> 1 | J19: =IF(C19+D19+E19+F19+G19+H19+I19=3,"Y","") -> Y | K19: 13 | L19: =IF($J44="Y",C44*1,"") -> 0 | M19: =IF($J44="Y",D44*1,"") -> 1 | N19: =IF($J44="Y",E44*1,"") -> 0 | O19: =IF($J44="Y",F44*1,"") -> 0 | P19: =IF($J44="Y",G44*1,"") -> 1 | Q19: =IF($J44="Y",H44*1,"") -> 1 | R19: =IF($J44="Y",I44*1,"") -> 0 | T19: 13 | U19: =IF(L19=1,U$6,"") | V19: =IF(M19=1,V$6,"") -> 2 | W19: =IF(N19=1,W$6,"") | X19: =IF(O19=1,X$6,"") | Y19: =IF(P19=1,Y$6,"") -> 5 | Z19: =IF(Q19=1,Z$6,"") -> 6 | AA19: =IF(R19=1,AA$6,"") | AC19: 13 | AD19: 2 | AE19: 5 | AF19: 6 | AI19: 13 | AJ19: =OFFSET($AI$1,1,AD19-1) -> 5 | AK19: =OFFSET($AI$1,1,AE19-1) -> 33 | AL19: =OFFSET($AI$1,1,AF19-1) -> 34
A20: =A19+1 -> 14 | B20: =DEC2BIN(A20,7) -> 0001110 | C20: =MID($B20,COLUMN()-(COLUMN($C20)-1),1) -> 0 | D20: =MID($B20,COLUMN()-(COLUMN($C20)-1),1) -> 0 | E20: =MID($B20,COLUMN()-(COLUMN($C20)-1),1) -> 0 | F20: =MID($B20,COLUMN()-(COLUMN($C20)-1),1) -> 1 | G20: =MID($B20,COLUMN()-(COLUMN($C20)-1),1) -> 1 | H20: =MID($B20,COLUMN()-(COLUMN($C20)-1),1) -> 1 | I20: =MID($B20,COLUMN()-(COLUMN($C20)-1),1) -> 0 | J20: =IF(C20+D20+E20+F20+G20+H20+I20=3,"Y","") -> Y | K20: 14 | L20: =IF($J47="Y",C47*1,"") -> 0 | M20: =IF($J47="Y",D47*1,"") -> 1 | N20: =IF($J47="Y",E47*1,"") -> 0 | O20: =IF($J47="Y",F47*1,"") -> 1 | P20: =IF($J47="Y",G47*1,"") -> 0 | Q20: =IF($J47="Y",H47*1,"") -> 0 | R20: =IF($J47="Y",I47*1,"") -> 1 | T20: 14 | U20: =IF(L20=1,U$6,"") | V20: =IF(M20=1,V$6,"") -> 2 | W20: =IF(N20=1,W$6,"") | X20: =IF(O20=1,X$6,"") -> 4 | Y20: =IF(P20=1,Y$6,"") | Z20: =IF(Q20=1,Z$6,"") | AA20: =IF(R20=1,AA$6,"") -> 7 | AC20: 14 | AD20: 2 | AE20: 4 | AF20: 7 | AI20: 14 | AJ20: =OFFSET($AI$1,1,AD20-1) -> 5 | AK20: =OFFSET($AI$1,1,AE20-1) -> 24 | AL20: =OFFSET($AI$1,1,AF20-1) -> 44
A21: =A20+1 -> 15 | B21: =DEC2BIN(A21,7) -> 0001111 | C21: =MID($B21,COLUMN()-(COLUMN($C21)-1),1) -> 0 | D21: =MID($B21,COLUMN()-(COLUMN($C21)-1),1) -> 0 | E21: =MID($B21,COLUMN()-(COLUMN($C21)-1),1) -> 0 | F21: =MID($B21,COLUMN()-(COLUMN($C21)-1),1) -> 1 | G21: =MID($B21,COLUMN()-(COLUMN($C21)-1),1) -> 1 | H21: =MID($B21,COLUMN()-(COLUMN($C21)-1),1) -> 1 | I21: =MID($B21,COLUMN()-(COLUMN($C21)-1),1) -> 1 | J21: =IF(C21+D21+E21+F21+G21+H21+I21=3,"Y","") | K21: 15 | L21: =IF($J48="Y",C48*1,"") -> 0 | M21: =IF($J48="Y",D48*1,"") -> 1 | N21: =IF($J48="Y",E48*1,"") -> 0 | O21: =IF($J48="Y",F48*1,"") -> 1 | P21: =IF($J48="Y",G48*1,"") -> 0 | Q21: =IF($J48="Y",H48*1,"") -> 1 | R21: =IF($J48="Y",I48*1,"") -> 0 | T21: 15 | U21: =IF(L21=1,U$6,"") | V21: =IF(M21=1,V$6,"") -> 2 | W21: =IF(N21=1,W$6,"") | X21: =IF(O21=1,X$6,"") -> 4 | Y21: =IF(P21=1,Y$6,"") | Z21: =IF(Q21=1,Z$6,"") -> 6 | AA21: =IF(R21=1,AA$6,"") | AC21: 15 | AD21: 2 | AE21: 4 | AF21: 6 | AI21: 15 | AJ21: =OFFSET($AI$1,1,AD21-1) -> 5 | AK21: =OFFSET($AI$1,1,AE21-1) -> 24 | AL21: =OFFSET($AI$1,1,AF21-1) -> 34
A22: =A21+1 -> 16 | B22: =DEC2BIN(A22,7) -> 0010000 | C22: =MID($B22,COLUMN()-(COLUMN($C22)-1),1) -> 0 | D22: =MID($B22,COLUMN()-(COLUMN($C22)-1),1) -> 0 | E22: =MID($B22,COLUMN()-(COLUMN($C22)-1),1) -> 1 | F22: =MID($B22,COLUMN()-(COLUMN($C22)-1),1) -> 0 | G22: =MID($B22,COLUMN()-(COLUMN($C22)-1),1) -> 0 | H22: =MID($B22,COLUMN()-(COLUMN($C22)-1),1) -> 0 | I22: =MID($B22,COLUMN()-(COLUMN($C22)-1),1) -> 0 | J22: =IF(C22+D22+E22+F22+G22+H22+I22=3,"Y","") | K22: 16 | L22: =IF($J50="Y",C50*1,"") -> 0 | M22: =IF($J50="Y",D50*1,"") -> 1 | N22: =IF($J50="Y",E50*1,"") -> 0 | O22: =IF($J50="Y",F50*1,"") -> 1 | P22: =IF($J50="Y",G50*1,"") -> 1 | Q22: =IF($J50="Y",H50*1,"") -> 0 | R22: =IF($J50="Y",I50*1,"") -> 0 | T22: 16 | U22: =IF(L22=1,U$6,"") | V22: =IF(M22=1,V$6,"") -> 2 | W22: =IF(N22=1,W$6,"") | X22: =IF(O22=1,X$6,"") -> 4 | Y22: =IF(P22=1,Y$6,"") -> 5 | Z22: =IF(Q22=1,Z$6,"") | AA22: =IF(R22=1,AA$6,"") | AC22: 16 | AD22: 2 | AE22: 4 | AF22: 5 | AI22: 16 | AJ22: =OFFSET($AI$1,1,AD22-1) -> 5 | AK22: =OFFSET($AI$1,1,AE22-1) -> 24 | AL22: =OFFSET($AI$1,1,AF22-1) -> 33
A23: =A22+1 -> 17 | B23: =DEC2BIN(A23,7) -> 0010001 | C23: =MID($B23,COLUMN()-(COLUMN($C23)-1),1) -> 0 | D23: =MID($B23,COLUMN()-(COLUMN($C23)-1),1) -> 0 | E23: =MID($B23,COLUMN()-(COLUMN($C23)-1),1) -> 1 | F23: =MID($B23,COLUMN()-(COLUMN($C23)-1),1) -> 0 | G23: =MID($B23,COLUMN()-(COLUMN($C23)-1),1) -> 0 | H23: =MID($B23,COLUMN()-(COLUMN($C23)-1),1) -> 0 | I23: =MID($B23,COLUMN()-(COLUMN($C23)-1),1) -> 1 | J23: =IF(C23+D23+E23+F23+G23+H23+I23=3,"Y","") | K23: 17 | L23: =IF($J55="Y",C55*1,"") -> 0 | M23: =IF($J55="Y",D55*1,"") -> 1 | N23: =IF($J55="Y",E55*1,"") -> 1 | O23: =IF($J55="Y",F55*1,"") -> 0 | P23: =IF($J55="Y",G55*1,"") -> 0 | Q23: =IF($J55="Y",H55*1,"") -> 0 | R23: =IF($J55="Y",I55*1,"") -> 1 | T23: 17 | U23: =IF(L23=1,U$6,"") | V23: =IF(M23=1,V$6,"") -> 2 | W23: =IF(N23=1,W$6,"") -> 3 | X23: =IF(O23=1,X$6,"") | Y23: =IF(P23=1,Y$6,"") | Z23: =IF(Q23=1,Z$6,"") | AA23: =IF(R23=1,AA$6,"") -> 7 | AC23: 17 | AD23: 2 | AE23: 3 | AF23: 7 | AI23: 17 | AJ23: =OFFSET($AI$1,1,AD23-1) -> 5 | AK23: =OFFSET($AI$1,1,AE23-1) -> 15 | AL23: =OFFSET($AI$1,1,AF23-1) -> 44
A24: =A23+1 -> 18 | B24: =DEC2BIN(A24,7) -> 0010010 | C24: =MID($B24,COLUMN()-(COLUMN($C24)-1),1) -> 0 | D24: =MID($B24,COLUMN()-(COLUMN($C24)-1),1) -> 0 | E24: =MID($B24,COLUMN()-(COLUMN($C24)-1),1) -> 1 | F24: =MID($B24,COLUMN()-(COLUMN($C24)-1),1) -> 0 | G24: =MID($B24,COLUMN()-(COLUMN($C24)-1),1) -> 0 | H24: =MID($B24,COLUMN()-(COLUMN($C24)-1),1) -> 1 | I24: =MID($B24,COLUMN()-(COLUMN($C24)-1),1) -> 0 | J24: =IF(C24+D24+E24+F24+G24+H24+I24=3,"Y","") | K24: 18 | L24: =IF($J56="Y",C56*1,"") -> 0 | M24: =IF($J56="Y",D56*1,"") -> 1 | N24: =IF($J56="Y",E56*1,"") -> 1 | O24: =IF($J56="Y",F56*1,"") -> 0 | P24: =IF($J56="Y",G56*1,"") -> 0 | Q24: =IF($J56="Y",H56*1,"") -> 1 | R24: =IF($J56="Y",I56*1,"") -> 0 | T24: 18 | U24: =IF(L24=1,U$6,"") | V24: =IF(M24=1,V$6,"") -> 2 | W24: =IF(N24=1,W$6,"") -> 3 | X24: =IF(O24=1,X$6,"") | Y24: =IF(P24=1,Y$6,"") | Z24: =IF(Q24=1,Z$6,"") -> 6 | AA24: =IF(R24=1,AA$6,"") | AC24: 18 | AD24: 2 | AE24: 3 | AF24: 6 | AI24: 18 | AJ24: =OFFSET($AI$1,1,AD24-1) -> 5 | AK24: =OFFSET($AI$1,1,AE24-1) -> 15 | AL24: =OFFSET($AI$1,1,AF24-1) -> 34
A25: =A24+1 -> 19 | B25: =DEC2BIN(A25,7) -> 0010011 | C25: =MID($B25,COLUMN()-(COLUMN($C25)-1),1) -> 0 | D25: =MID($B25,COLUMN()-(COLUMN($C25)-1),1) -> 0 | E25: =MID($B25,COLUMN()-(COLUMN($C25)-1),1) -> 1 | F25: =MID($B25,COLUMN()-(COLUMN($C25)-1),1) -> 0 | G25: =MID($B25,COLUMN()-(COLUMN($C25)-1),1) -> 0 | H25: =MID($B25,COLUMN()-(COLUMN($C25)-1),1) -> 1 | I25: =MID($B25,COLUMN()-(COLUMN($C25)-1),1) -> 1 | J25: =IF(C25+D25+E25+F25+G25+H25+I25=3,"Y","") -> Y | K25: 19 | L25: =IF($J58="Y",C58*1,"") -> 0 | M25: =IF($J58="Y",D58*1,"") -> 1 | N25: =IF($J58="Y",E58*1,"") -> 1 | O25: =IF($J58="Y",F58*1,"") -> 0 | P25: =IF($J58="Y",G58*1,"") -> 1 | Q25: =IF($J58="Y",H58*1,"") -> 0 | R25: =IF($J58="Y",I58*1,"") -> 0 | T25: 19 | U25: =IF(L25=1,U$6,"") | V25: =IF(M25=1,V$6,"") -> 2 | W25: =IF(N25=1,W$6,"") -> 3 | X25: =IF(O25=1,X$6,"") | Y25: =IF(P25=1,Y$6,"") -> 5 | Z25: =IF(Q25=1,Z$6,"") | AA25: =IF(R25=1,AA$6,"") | AC25: 19 | AD25: 2 | AE25: 3 | AF25: 5 | AI25: 19 | AJ25: =OFFSET($AI$1,1,AD25-1) -> 5 | AK25: =OFFSET($AI$1,1,AE25-1) -> 15 | AL25: =OFFSET($AI$1,1,AF25-1) -> 33
A26: =A25+1 -> 20 | B26: =DEC2BIN(A26,7) -> 0010100 | C26: =MID($B26,COLUMN()-(COLUMN($C26)-1),1) -> 0 | D26: =MID($B26,COLUMN()-(COLUMN($C26)-1),1) -> 0 | E26: =MID($B26,COLUMN()-(COLUMN($C26)-1),1) -> 1 | F26: =MID($B26,COLUMN()-(COLUMN($C26)-1),1) -> 0 | G26: =MID($B26,COLUMN()-(COLUMN($C26)-1),1) -> 1 | H26: =MID($B26,COLUMN()-(COLUMN($C26)-1),1) -> 0 | I26: =MID($B26,COLUMN()-(COLUMN($C26)-1),1) -> 0 | J26: =IF(C26+D26+E26+F26+G26+H26+I26=3,"Y","") | K26: 20 | L26: =IF($J62="Y",C62*1,"") -> 0 | M26: =IF($J62="Y",D62*1,"") -> 1 | N26: =IF($J62="Y",E62*1,"") -> 1 | O26: =IF($J62="Y",F62*1,"") -> 1 | P26: =IF($J62="Y",G62*1,"") -> 0 | Q26: =IF($J62="Y",H62*1,"") -> 0 | R26: =IF($J62="Y",I62*1,"") -> 0 | T26: 20 | U26: =IF(L26=1,U$6,"") | V26: =IF(M26=1,V$6,"") -> 2 | W26: =IF(N26=1,W$6,"") -> 3 | X26: =IF(O26=1,X$6,"") -> 4 | Y26: =IF(P26=1,Y$6,"") | Z26: =IF(Q26=1,Z$6,"") | AA26: =IF(R26=1,AA$6,"") | AC26: 20 | AD26: 2 | AE26: 3 | AF26: 4 | AI26: 20 | AJ26: =OFFSET($AI$1,1,AD26-1) -> 5 | AK26: =OFFSET($AI$1,1,AE26-1) -> 15 | AL26: =OFFSET($AI$1,1,AF26-1) -> 24
A27: =A26+1 -> 21 | B27: =DEC2BIN(A27,7) -> 0010101 | C27: =MID($B27,COLUMN()-(COLUMN($C27)-1),1) -> 0 | D27: =MID($B27,COLUMN()-(COLUMN($C27)-1),1) -> 0 | E27: =MID($B27,COLUMN()-(COLUMN($C27)-1),1) -> 1 | F27: =MID($B27,COLUMN()-(COLUMN($C27)-1),1) -> 0 | G27: =MID($B27,COLUMN()-(COLUMN($C27)-1),1) -> 1 | H27: =MID($B27,COLUMN()-(COLUMN($C27)-1),1) -> 0 | I27: =MID($B27,COLUMN()-(COLUMN($C27)-1),1) -> 1 | J27: =IF(C27+D27+E27+F27+G27+H27+I27=3,"Y","") -> Y | K27: 21 | L27: =IF($J73="Y",C73*1,"") -> 1 | M27: =IF($J73="Y",D73*1,"") -> 0 | N27: =IF($J73="Y",E73*1,"") -> 0 | O27: =IF($J73="Y",F73*1,"") -> 0 | P27: =IF($J73="Y",G73*1,"") -> 0 | Q27: =IF($J73="Y",H73*1,"") -> 1 | R27: =IF($J73="Y",I73*1,"") -> 1 | T27: 21 | U27: =IF(L27=1,U$6,"") -> 1 | V27: =IF(M27=1,V$6,"") | W27: =IF(N27=1,W$6,"") | X27: =IF(O27=1,X$6,"") | Y27: =IF(P27=1,Y$6,"") | Z27: =IF(Q27=1,Z$6,"") -> 6 | AA27: =IF(R27=1,AA$6,"") -> 7 | AC27: 21 | AD27: 1 | AE27: 6 | AF27: 7 | AI27: 21 | AJ27: =OFFSET($AI$1,1,AD27-1) -> 4 | AK27: =OFFSET($AI$1,1,AE27-1) -> 34 | AL27: =OFFSET($AI$1,1,AF27-1) -> 44
A28: =A27+1 -> 22 | B28: =DEC2BIN(A28,7) -> 0010110 | C28: =MID($B28,COLUMN()-(COLUMN($C28)-1),1) -> 0 | D28: =MID($B28,COLUMN()-(COLUMN($C28)-1),1) -> 0 | E28: =MID($B28,COLUMN()-(COLUMN($C28)-1),1) -> 1 | F28: =MID($B28,COLUMN()-(COLUMN($C28)-1),1) -> 0 | G28: =MID($B28,COLUMN()-(COLUMN($C28)-1),1) -> 1 | H28: =MID($B28,COLUMN()-(COLUMN($C28)-1),1) -> 1 | I28: =MID($B28,COLUMN()-(COLUMN($C28)-1),1) -> 0 | J28: =IF(C28+D28+E28+F28+G28+H28+I28=3,"Y","") -> Y | K28: 22 | L28: =IF($J75="Y",C75*1,"") -> 1 | M28: =IF($J75="Y",D75*1,"") -> 0 | N28: =IF($J75="Y",E75*1,"") -> 0 | O28: =IF($J75="Y",F75*1,"") -> 0 | P28: =IF($J75="Y",G75*1,"") -> 1 | Q28: =IF($J75="Y",H75*1,"") -> 0 | R28: =IF($J75="Y",I75*1,"") -> 1 | T28: 22 | U28: =IF(L28=1,U$6,"") -> 1 | V28: =IF(M28=1,V$6,"") | W28: =IF(N28=1,W$6,"") | X28: =IF(O28=1,X$6,"") | Y28: =IF(P28=1,Y$6,"") -> 5 | Z28: =IF(Q28=1,Z$6,"") | AA28: =IF(R28=1,AA$6,"") -> 7 | AC28: 22 | AD28: 1 | AE28: 5 | AF28: 7 | AI28: 22 | AJ28: =OFFSET($AI$1,1,AD28-1) -> 4 | AK28: =OFFSET($AI$1,1,AE28-1) -> 33 | AL28: =OFFSET($AI$1,1,AF28-1) -> 44
A29: =A28+1 -> 23 | B29: =DEC2BIN(A29,7) -> 0010111 | C29: =MID($B29,COLUMN()-(COLUMN($C29)-1),1) -> 0 | D29: =MID($B29,COLUMN()-(COLUMN($C29)-1),1) -> 0 | E29: =MID($B29,COLUMN()-(COLUMN($C29)-1),1) -> 1 | F29: =MID($B29,COLUMN()-(COLUMN($C29)-1),1) -> 0 | G29: =MID($B29,COLUMN()-(COLUMN($C29)-1),1) -> 1 | H29: =MID($B29,COLUMN()-(COLUMN($C29)-1),1) -> 1 | I29: =MID($B29,COLUMN()-(COLUMN($C29)-1),1) -> 1 | J29: =IF(C29+D29+E29+F29+G29+H29+I29=3,"Y","") | K29: 23 | L29: =IF($J76="Y",C76*1,"") -> 1 | M29: =IF($J76="Y",D76*1,"") -> 0 | N29: =IF($J76="Y",E76*1,"") -> 0 | O29: =IF($J76="Y",F76*1,"") -> 0 | P29: =IF($J76="Y",G76*1,"") -> 1 | Q29: =IF($J76="Y",H76*1,"") -> 1 | R29: =IF($J76="Y",I76*1,"") -> 0 | T29: 23 | U29: =IF(L29=1,U$6,"") -> 1 | V29: =IF(M29=1,V$6,"") | W29: =IF(N29=1,W$6,"") | X29: =IF(O29=1,X$6,"") | Y29: =IF(P29=1,Y$6,"") -> 5 | Z29: =IF(Q29=1,Z$6,"") -> 6 | AA29: =IF(R29=1,AA$6,"") | AC29: 23 | AD29: 1 | AE29: 5 | AF29: 6 | AI29: 23 | AJ29: =OFFSET($AI$1,1,AD29-1) -> 4 | AK29: =OFFSET($AI$1,1,AE29-1) -> 33 | AL29: =OFFSET($AI$1,1,AF29-1) -> 34
A30: =A29+1 -> 24 | B30: =DEC2BIN(A30,7) -> 0011000 | C30: =MID($B30,COLUMN()-(COLUMN($C30)-1),1) -> 0 | D30: =MID($B30,COLUMN()-(COLUMN($C30)-1),1) -> 0 | E30: =MID($B30,COLUMN()-(COLUMN($C30)-1),1) -> 1 | F30: =MID($B30,COLUMN()-(COLUMN($C30)-1),1) -> 1 | G30: =MID($B30,COLUMN()-(COLUMN($C30)-1),1) -> 0 | H30: =MID($B30,COLUMN()-(COLUMN($C30)-1),1) -> 0 | I30: =MID($B30,COLUMN()-(COLUMN($C30)-1),1) -> 0 | J30: =IF(C30+D30+E30+F30+G30+H30+I30=3,"Y","") | K30: 24 | L30: =IF($J79="Y",C79*1,"") -> 1 | M30: =IF($J79="Y",D79*1,"") -> 0 | N30: =IF($J79="Y",E79*1,"") -> 0 | O30: =IF($J79="Y",F79*1,"") -> 1 | P30: =IF($J79="Y",G79*1,"") -> 0 | Q30: =IF($J79="Y",H79*1,"") -> 0 | R30: =IF($J79="Y",I79*1,"") -> 1 | T30: 24 | U30: =IF(L30=1,U$6,"") -> 1 | V30: =IF(M30=1,V$6,"") | W30: =IF(N30=1,W$6,"") | X30: =IF(O30=1,X$6,"") -> 4 | Y30: =IF(P30=1,Y$6,"") | Z30: =IF(Q30=1,Z$6,"") | AA30: =IF(R30=1,AA$6,"") -> 7 | AC30: 24 | AD30: 1 | AE30: 4 | AF30: 7 | AI30: 24 | AJ30: =OFFSET($AI$1,1,AD30-1) -> 4 | AK30: =OFFSET($AI$1,1,AE30-1) -> 24 | AL30: =OFFSET($AI$1,1,AF30-1) -> 44
A31: =A30+1 -> 25 | B31: =DEC2BIN(A31,7) -> 0011001 | C31: =MID($B31,COLUMN()-(COLUMN($C31)-1),1) -> 0 | D31: =MID($B31,COLUMN()-(COLUMN($C31)-1),1) -> 0 | E31: =MID($B31,COLUMN()-(COLUMN($C31)-1),1) -> 1 | F31: =MID($B31,COLUMN()-(COLUMN($C31)-1),1) -> 1 | G31: =MID($B31,COLUMN()-(COLUMN($C31)-1),1) -> 0 | H31: =MID($B31,COLUMN()-(COLUMN($C31)-1),1) -> 0 | I31: =MID($B31,COLUMN()-(COLUMN($C31)-1),1) -> 1 | J31: =IF(C31+D31+E31+F31+G31+H31+I31=3,"Y","") -> Y | K31: 25 | L31: =IF($J80="Y",C80*1,"") -> 1 | M31: =IF($J80="Y",D80*1,"") -> 0 | N31: =IF($J80="Y",E80*1,"") -> 0 | O31: =IF($J80="Y",F80*1,"") -> 1 | P31: =IF($J80="Y",G80*1,"") -> 0 | Q31: =IF($J80="Y",H80*1,"") -> 1 | R31: =IF($J80="Y",I80*1,"") -> 0 | T31: 25 | U31: =IF(L31=1,U$6,"") -> 1 | V31: =IF(M31=1,V$6,"") | W31: =IF(N31=1,W$6,"") | X31: =IF(O31=1,X$6,"") -> 4 | Y31: =IF(P31=1,Y$6,"") | Z31: =IF(Q31=1,Z$6,"") -> 6 | AA31: =IF(R31=1,AA$6,"") | AC31: 25 | AD31: 1 | AE31: 4 | AF31: 6 | AI31: 25 | AJ31: =OFFSET($AI$1,1,AD31-1) -> 4 | AK31: =OFFSET($AI$1,1,AE31-1) -> 24 | AL31: =OFFSET($AI$1,1,AF31-1) -> 34
A32: =A31+1 -> 26 | B32: =DEC2BIN(A32,7) -> 0011010 | C32: =MID($B32,COLUMN()-(COLUMN($C32)-1),1) -> 0 | D32: =MID($B32,COLUMN()-(COLUMN($C32)-1),1) -> 0 | E32: =MID($B32,COLUMN()-(COLUMN($C32)-1),1) -> 1 | F32: =MID($B32,COLUMN()-(COLUMN($C32)-1),1) -> 1 | G32: =MID($B32,COLUMN()-(COLUMN($C32)-1),1) -> 0 | H32: =MID($B32,COLUMN()-(COLUMN($C32)-1),1) -> 1 | I32: =MID($B32,COLUMN()-(COLUMN($C32)-1),1) -> 0 | J32: =IF(C32+D32+E32+F32+G32+H32+I32=3,"Y","") -> Y | K32: 26 | L32: =IF($J82="Y",C82*1,"") -> 1 | M32: =IF($J82="Y",D82*1,"") -> 0 | N32: =IF($J82="Y",E82*1,"") -> 0 | O32: =IF($J82="Y",F82*1,"") -> 1 | P32: =IF($J82="Y",G82*1,"") -> 1 | Q32: =IF($J82="Y",H82*1,"") -> 0 | R32: =IF($J82="Y",I82*1,"") -> 0 | T32: 26 | U32: =IF(L32=1,U$6,"") -> 1 | V32: =IF(M32=1,V$6,"") | W32: =IF(N32=1,W$6,"") | X32: =IF(O32=1,X$6,"") -> 4 | Y32: =IF(P32=1,Y$6,"") -> 5 | Z32: =IF(Q32=1,Z$6,"") | AA32: =IF(R32=1,AA$6,"") | AC32: 26 | AD32: 1 | AE32: 4 | AF32: 5 | AI32: 26 | AJ32: =OFFSET($AI$1,1,AD32-1) -> 4 | AK32: =OFFSET($AI$1,1,AE32-1) -> 24 | AL32: =OFFSET($AI$1,1,AF32-1) -> 33
A33: =A32+1 -> 27 | B33: =DEC2BIN(A33,7) -> 0011011 | C33: =MID($B33,COLUMN()-(COLUMN($C33)-1),1) -> 0 | D33: =MID($B33,COLUMN()-(COLUMN($C33)-1),1) -> 0 | E33: =MID($B33,COLUMN()-(COLUMN($C33)-1),1) -> 1 | F33: =MID($B33,COLUMN()-(COLUMN($C33)-1),1) -> 1 | G33: =MID($B33,COLUMN()-(COLUMN($C33)-1),1) -> 0 | H33: =MID($B33,COLUMN()-(COLUMN($C33)-1),1) -> 1 | I33: =MID($B33,COLUMN()-(COLUMN($C33)-1),1) -> 1 | J33: =IF(C33+D33+E33+F33+G33+H33+I33=3,"Y","") | K33: 27 | L33: =IF($J87="Y",C87*1,"") -> 1 | M33: =IF($J87="Y",D87*1,"") -> 0 | N33: =IF($J87="Y",E87*1,"") -> 1 | O33: =IF($J87="Y",F87*1,"") -> 0 | P33: =IF($J87="Y",G87*1,"") -> 0 | Q33: =IF($J87="Y",H87*1,"") -> 0 | R33: =IF($J87="Y",I87*1,"") -> 1 | T33: 27 | U33: =IF(L33=1,U$6,"") -> 1 | V33: =IF(M33=1,V$6,"") | W33: =IF(N33=1,W$6,"") -> 3 | X33: =IF(O33=1,X$6,"") | Y33: =IF(P33=1,Y$6,"") | Z33: =IF(Q33=1,Z$6,"") | AA33: =IF(R33=1,AA$6,"") -> 7 | AC33: 27 | AD33: 1 | AE33: 3 | AF33: 7 | AI33: 27 | AJ33: =OFFSET($AI$1,1,AD33-1) -> 4 | AK33: =OFFSET($AI$1,1,AE33-1) -> 15 | AL33: =OFFSET($AI$1,1,AF33-1) -> 44
A34: =A33+1 -> 28 | B34: =DEC2BIN(A34,7) -> 0011100 | C34: =MID($B34,COLUMN()-(COLUMN($C34)-1),1) -> 0 | D34: =MID($B34,COLUMN()-(COLUMN($C34)-1),1) -> 0 | E34: =MID($B34,COLUMN()-(COLUMN($C34)-1),1) -> 1 | F34: =MID($B34,COLUMN()-(COLUMN($C34)-1),1) -> 1 | G34: =MID($B34,COLUMN()-(COLUMN($C34)-1),1) -> 1 | H34: =MID($B34,COLUMN()-(COLUMN($C34)-1),1) -> 0 | I34: =MID($B34,COLUMN()-(COLUMN($C34)-1),1) -> 0 | J34: =IF(C34+D34+E34+F34+G34+H34+I34=3,"Y","") -> Y | K34: 28 | L34: =IF($J88="Y",C88*1,"") -> 1 | M34: =IF($J88="Y",D88*1,"") -> 0 | N34: =IF($J88="Y",E88*1,"") -> 1 | O34: =IF($J88="Y",F88*1,"") -> 0 | P34: =IF($J88="Y",G88*1,"") -> 0 | Q34: =IF($J88="Y",H88*1,"") -> 1 | R34: =IF($J88="Y",I88*1,"") -> 0 | T34: 28 | U34: =IF(L34=1,U$6,"") -> 1 | V34: =IF(M34=1,V$6,"") | W34: =IF(N34=1,W$6,"") -> 3 | X34: =IF(O34=1,X$6,"") | Y34: =IF(P34=1,Y$6,"") | Z34: =IF(Q34=1,Z$6,"") -> 6 | AA34: =IF(R34=1,AA$6,"") | AC34: 28 | AD34: 1 | AE34: 3 | AF34: 6 | AI34: 28 | AJ34: =OFFSET($AI$1,1,AD34-1) -> 4 | AK34: =OFFSET($AI$1,1,AE34-1) -> 15 | AL34: =OFFSET($AI$1,1,AF34-1) -> 34
A35: =A34+1 -> 29 | B35: =DEC2BIN(A35,7) -> 0011101 | C35: =MID($B35,COLUMN()-(COLUMN($C35)-1),1) -> 0 | D35: =MID($B35,COLUMN()-(COLUMN($C35)-1),1) -> 0 | E35: =MID($B35,COLUMN()-(COLUMN($C35)-1),1) -> 1 | F35: =MID($B35,COLUMN()-(COLUMN($C35)-1),1) -> 1 | G35: =MID($B35,COLUMN()-(COLUMN($C35)-1),1) -> 1 | H35: =MID($B35,COLUMN()-(COLUMN($C35)-1),1) -> 0 | I35: =MID($B35,COLUMN()-(COLUMN($C35)-1),1) -> 1 | J35: =IF(C35+D35+E35+F35+G35+H35+I35=3,"Y","") | K35: 29 | L35: =IF($J90="Y",C90*1,"") -> 1 | M35: =IF($J90="Y",D90*1,"") -> 0 | N35: =IF($J90="Y",E90*1,"") -> 1 | O35: =IF($J90="Y",F90*1,"") -> 0 | P35: =IF($J90="Y",G90*1,"") -> 1 | Q35: =IF($J90="Y",H90*1,"") -> 0 | R35: =IF($J90="Y",I90*1,"") -> 0 | T35: 29 | U35: =IF(L35=1,U$6,"") -> 1 | V35: =IF(M35=1,V$6,"") | W35: =IF(N35=1,W$6,"") -> 3 | X35: =IF(O35=1,X$6,"") | Y35: =IF(P35=1,Y$6,"") -> 5 | Z35: =IF(Q35=1,Z$6,"") | AA35: =IF(R35=1,AA$6,"") | AC35: 29 | AD35: 1 | AE35: 3 | AF35: 5 | AI35: 29 | AJ35: =OFFSET($AI$1,1,AD35-1) -> 4 | AK35: =OFFSET($AI$1,1,AE35-1) -> 15 | AL35: =OFFSET($AI$1,1,AF35-1) -> 33
A36: =A35+1 -> 30 | B36: =DEC2BIN(A36,7) -> 0011110 | C36: =MID($B36,COLUMN()-(COLUMN($C36)-1),1) -> 0 | D36: =MID($B36,COLUMN()-(COLUMN($C36)-1),1) -> 0 | E36: =MID($B36,COLUMN()-(COLUMN($C36)-1),1) -> 1 | F36: =MID($B36,COLUMN()-(COLUMN($C36)-1),1) -> 1 | G36: =MID($B36,COLUMN()-(COLUMN($C36)-1),1) -> 1 | H36: =MID($B36,COLUMN()-(COLUMN($C36)-1),1) -> 1 | I36: =MID($B36,COLUMN()-(COLUMN($C36)-1),1) -> 0 | J36: =IF(C36+D36+E36+F36+G36+H36+I36=3,"Y","") | K36: 30 | L36: =IF($J94="Y",C94*1,"") -> 1 | M36: =IF($J94="Y",D94*1,"") -> 0 | N36: =IF($J94="Y",E94*1,"") -> 1 | O36: =IF($J94="Y",F94*1,"") -> 1 | P36: =IF($J94="Y",G94*1,"") -> 0 | Q36: =IF($J94="Y",H94*1,"") -> 0 | R36: =IF($J94="Y",I94*1,"") -> 0 | T36: 30 | U36: =IF(L36=1,U$6,"") -> 1 | V36: =IF(M36=1,V$6,"") | W36: =IF(N36=1,W$6,"") -> 3 | X36: =IF(O36=1,X$6,"") -> 4 | Y36: =IF(P36=1,Y$6,"") | Z36: =IF(Q36=1,Z$6,"") | AA36: =IF(R36=1,AA$6,"") | AC36: 30 | AD36: 1 | AE36: 3 | AF36: 4 | AI36: 30 | AJ36: =OFFSET($AI$1,1,AD36-1) -> 4 | AK36: =OFFSET($AI$1,1,AE36-1) -> 15 | AL36: =OFFSET($AI$1,1,AF36-1) -> 24
A37: =A36+1 -> 31 | B37: =DEC2BIN(A37,7) -> 0011111 | C37: =MID($B37,COLUMN()-(COLUMN($C37)-1),1) -> 0 | D37: =MID($B37,COLUMN()-(COLUMN($C37)-1),1) -> 0 | E37: =MID($B37,COLUMN()-(COLUMN($C37)-1),1) -> 1 | F37: =MID($B37,COLUMN()-(COLUMN($C37)-1),1) -> 1 | G37: =MID($B37,COLUMN()-(COLUMN($C37)-1),1) -> 1 | H37: =MID($B37,COLUMN()-(COLUMN($C37)-1),1) -> 1 | I37: =MID($B37,COLUMN()-(COLUMN($C37)-1),1) -> 1 | J37: =IF(C37+D37+E37+F37+G37+H37+I37=3,"Y","") | K37: 31 | L37: =IF($J103="Y",C103*1,"") -> 1 | M37: =IF($J103="Y",D103*1,"") -> 1 | N37: =IF($J103="Y",E103*1,"") -> 0 | O37: =IF($J103="Y",F103*1,"") -> 0 | P37: =IF($J103="Y",G103*1,"") -> 0 | Q37: =IF($J103="Y",H103*1,"") -> 0 | R37: =IF($J103="Y",I103*1,"") -> 1 | T37: 31 | U37: =IF(L37=1,U$6,"") -> 1 | V37: =IF(M37=1,V$6,"") -> 2 | W37: =IF(N37=1,W$6,"") | X37: =IF(O37=1,X$6,"") | Y37: =IF(P37=1,Y$6,"") | Z37: =IF(Q37=1,Z$6,"") | AA37: =IF(R37=1,AA$6,"") -> 7 | AC37: 31 | AD37: 1 | AE37: 2 | AF37: 7 | AI37: 31 | AJ37: =OFFSET($AI$1,1,AD37-1) -> 4 | AK37: =OFFSET($AI$1,1,AE37-1) -> 5 | AL37: =OFFSET($AI$1,1,AF37-1) -> 44
A38: =A37+1 -> 32 | B38: =DEC2BIN(A38,7) -> 0100000 | C38: =MID($B38,COLUMN()-(COLUMN($C38)-1),1) -> 0 | D38: =MID($B38,COLUMN()-(COLUMN($C38)-1),1) -> 1 | E38: =MID($B38,COLUMN()-(COLUMN($C38)-1),1) -> 0 | F38: =MID($B38,COLUMN()-(COLUMN($C38)-1),1) -> 0 | G38: =MID($B38,COLUMN()-(COLUMN($C38)-1),1) -> 0 | H38: =MID($B38,COLUMN()-(COLUMN($C38)-1),1) -> 0 | I38: =MID($B38,COLUMN()-(COLUMN($C38)-1),1) -> 0 | J38: =IF(C38+D38+E38+F38+G38+H38+I38=3,"Y","") | K38: 32 | L38: =IF($J104="Y",C104*1,"") -> 1 | M38: =IF($J104="Y",D104*1,"") -> 1 | N38: =IF($J104="Y",E104*1,"") -> 0 | O38: =IF($J104="Y",F104*1,"") -> 0 | P38: =IF($J104="Y",G104*1,"") -> 0 | Q38: =IF($J104="Y",H104*1,"") -> 1 | R38: =IF($J104="Y",I104*1,"") -> 0 | T38: 32 | U38: =IF(L38=1,U$6,"") -> 1 | V38: =IF(M38=1,V$6,"") -> 2 | W38: =IF(N38=1,W$6,"") | X38: =IF(O38=1,X$6,"") | Y38: =IF(P38=1,Y$6,"") | Z38: =IF(Q38=1,Z$6,"") -> 6 | AA38: =IF(R38=1,AA$6,"") | AC38: 32 | AD38: 1 | AE38: 2 | AF38: 6 | AI38: 32 | AJ38: =OFFSET($AI$1,1,AD38-1) -> 4 | AK38: =OFFSET($AI$1,1,AE38-1) -> 5 | AL38: =OFFSET($AI$1,1,AF38-1) -> 34
A39: =A38+1 -> 33 | B39: =DEC2BIN(A39,7) -> 0100001 | C39: =MID($B39,COLUMN()-(COLUMN($C39)-1),1) -> 0 | D39: =MID($B39,COLUMN()-(COLUMN($C39)-1),1) -> 1 | E39: =MID($B39,COLUMN()-(COLUMN($C39)-1),1) -> 0 | F39: =MID($B39,COLUMN()-(COLUMN($C39)-1),1) -> 0 | G39: =MID($B39,COLUMN()-(COLUMN($C39)-1),1) -> 0 | H39: =MID($B39,COLUMN()-(COLUMN($C39)-1),1) -> 0 | I39: =MID($B39,COLUMN()-(COLUMN($C39)-1),1) -> 1 | J39: =IF(C39+D39+E39+F39+G39+H39+I39=3,"Y","") | K39: 33 | L39: =IF($J106="Y",C106*1,"") -> 1 | M39: =IF($J106="Y",D106*1,"") -> 1 | N39: =IF($J106="Y",E106*1,"") -> 0 | O39: =IF($J106="Y",F106*1,"") -> 0 | P39: =IF($J106="Y",G106*1,"") -> 1 | Q39: =IF($J106="Y",H106*1,"") -> 0 | R39: =IF($J106="Y",I106*1,"") -> 0 | T39: 33 | U39: =IF(L39=1,U$6,"") -> 1 | V39: =IF(M39=1,V$6,"") -> 2 | W39: =IF(N39=1,W$6,"") | X39: =IF(O39=1,X$6,"") | Y39: =IF(P39=1,Y$6,"") -> 5 | Z39: =IF(Q39=1,Z$6,"") | AA39: =IF(R39=1,AA$6,"") | AC39: 33 | AD39: 1 | AE39: 2 | AF39: 5 | AI39: 33 | AJ39: =OFFSET($AI$1,1,AD39-1) -> 4 | AK39: =OFFSET($AI$1,1,AE39-1) -> 5 | AL39: =OFFSET($AI$1,1,AF39-1) -> 33
A40: =A39+1 -> 34 | B40: =DEC2BIN(A40,7) -> 0100010 | C40: =MID($B40,COLUMN()-(COLUMN($C40)-1),1) -> 0 | D40: =MID($B40,COLUMN()-(COLUMN($C40)-1),1) -> 1 | E40: =MID($B40,COLUMN()-(COLUMN($C40)-1),1) -> 0 | F40: =MID($B40,COLUMN()-(COLUMN($C40)-1),1) -> 0 | G40: =MID($B40,COLUMN()-(COLUMN($C40)-1),1) -> 0 | H40: =MID($B40,COLUMN()-(COLUMN($C40)-1),1) -> 1 | I40: =MID($B40,COLUMN()-(COLUMN($C40)-1),1) -> 0 | J40: =IF(C40+D40+E40+F40+G40+H40+I40=3,"Y","") | K40: 34 | L40: =IF($J110="Y",C110*1,"") -> 1 | M40: =IF($J110="Y",D110*1,"") -> 1 | N40: =IF($J110="Y",E110*1,"") -> 0 | O40: =IF($J110="Y",F110*1,"") -> 1 | P40: =IF($J110="Y",G110*1,"") -> 0 | Q40: =IF($J110="Y",H110*1,"") -> 0 | R40: =IF($J110="Y",I110*1,"") -> 0 | T40: 34 | U40: =IF(L40=1,U$6,"") -> 1 | V40: =IF(M40=1,V$6,"") -> 2 | W40: =IF(N40=1,W$6,"") | X40: =IF(O40=1,X$6,"") -> 4 | Y40: =IF(P40=1,Y$6,"") | Z40: =IF(Q40=1,Z$6,"") | AA40: =IF(R40=1,AA$6,"") | AC40: 34 | AD40: 1 | AE40: 2 | AF40: 4 | AI40: 34 | AJ40: =OFFSET($AI$1,1,AD40-1) -> 4 | AK40: =OFFSET($AI$1,1,AE40-1) -> 5 | AL40: =OFFSET($AI$1,1,AF40-1) -> 24
A41: =A40+1 -> 35 | B41: =DEC2BIN(A41,7) -> 0100011 | C41: =MID($B41,COLUMN()-(COLUMN($C41)-1),1) -> 0 | D41: =MID($B41,COLUMN()-(COLUMN($C41)-1),1) -> 1 | E41: =MID($B41,COLUMN()-(COLUMN($C41)-1),1) -> 0 | F41: =MID($B41,COLUMN()-(COLUMN($C41)-1),1) -> 0 | G41: =MID($B41,COLUMN()-(COLUMN($C41)-1),1) -> 0 | H41: =MID($B41,COLUMN()-(COLUMN($C41)-1),1) -> 1 | I41: =MID($B41,COLUMN()-(COLUMN($C41)-1),1) -> 1 | J41: =IF(C41+D41+E41+F41+G41+H41+I41=3,"Y","") -> Y | K41: 35 | L41: =IF($J118="Y",C118*1,"") -> 1 | M41: =IF($J118="Y",D118*1,"") -> 1 | N41: =IF($J118="Y",E118*1,"") -> 1 | O41: =IF($J118="Y",F118*1,"") -> 0 | P41: =IF($J118="Y",G118*1,"") -> 0 | Q41: =IF($J118="Y",H118*1,"") -> 0 | R41: =IF($J118="Y",I118*1,"") -> 0 | T41: 35 | U41: =IF(L41=1,U$6,"") -> 1 | V41: =IF(M41=1,V$6,"") -> 2 | W41: =IF(N41=1,W$6,"") -> 3 | X41: =IF(O41=1,X$6,"") | Y41: =IF(P41=1,Y$6,"") | Z41: =IF(Q41=1,Z$6,"") | AA41: =IF(R41=1,AA$6,"") | AC41: 35 | AD41: 1 | AE41: 2 | AF41: 3 | AI41: 35 | AJ41: =OFFSET($AI$1,1,AD41-1) -> 4 | AK41: =OFFSET($AI$1,1,AE41-1) -> 5 | AL41: =OFFSET($AI$1,1,AF41-1) -> 15
...

Sheet Data 1
A1: LR Case # | B1: 26
B2: =case -> 26
A3: A1 col | B3: =OFFSET(Setup!$AI$6,case,1) -> 4
A4: A2 col | B4: =OFFSET(Setup!$AI$6,case,2) -> 24
A5: A3 col | B5: =OFFSET(Setup!$AI$6,case,3) -> 33
E7: Determination for the Dataset 1 patients of the CF-related conditions and the associated diagnosis values used in the 3-variate LR model with the specified Case #.
B9: Subject Index | C9: Subject Number | D9: Category | E9: Pancreatic Insufficiency | F9: A1 | G9: Bronchiectasis/ Tree in Bud | H9: A2 | I9: Gram Negative Bacterial Infection | J9: A3 | K9: CF Abnormality Count | L9: CFNR/CONT Abnormality Count
B10: 1 | C10: 1 | D10: CF | E10: 2 | F10: =IF(E10=1,1,0) -> 0 | G10: 1 | H10: =IF(G10=1,1,0) -> 1 | I10: 1 | J10: =IF(I10=1,1,0) -> 1 | K10: =COUNTIFS($F10,"1",$D10,"CF")+COUNTIFS($H10,"1",$D10,"CF")+COUNTIFS($J10,"1",$D10,"CF") -> 2 | L10: =COUNTIFS($F10,"1",$D10,"CFNR")+COUNTIFS($H10,"1",$D10,"CFNR")+COUNTIFS($J10,"1",$D10,"CFNR")+COUNTIFS($F10,"1",$D10,"CONT")+COUNTIFS($H10,"1",$D10,"CONT")+COUNTIFS($J10,"1",$D10,"CONT") -> 0
B11: =B10+1 -> 2 | C11: 2 | D11: CF | E11: 2 | F11: =IF(E11=1,1,0) -> 0 | G11: 1 | H11: =IF(G11=1,1,0) -> 1 | I11: 1 | J11: =IF(I11=1,1,0) -> 1 | K11: =COUNTIFS($F11,"1",$D11,"CF")+COUNTIFS($H11,"1",$D11,"CF")+COUNTIFS($J11,"1",$D11,"CF") -> 2 | L11: =COUNTIFS($F11,"1",$D11,"CFNR")+COUNTIFS($H11,"1",$D11,"CFNR")+COUNTIFS($J11,"1",$D11,"CFNR")+COUNTIFS($F11,"1",$D11,"CONT")+COUNTIFS($H11,"1",$D11,"CONT")+COUNTIFS($J11,"1",$D11,"CONT") -> 0
B12: =B11+1 -> 3 | C12: 4 | D12: CFNR | E12: 2 | F12: =IF(E12=1,1,0) -> 0 | G12: 1 | H12: =IF(G12=1,1,0) -> 1 | I12: 2 | J12: =IF(I12=1,1,0) -> 0 | K12: =COUNTIFS($F12,"1",$D12,"CF")+COUNTIFS($H12,"1",$D12,"CF")+COUNTIFS($J12,"1",$D12,"CF") -> 0 | L12: =COUNTIFS($F12,"1",$D12,"CFNR")+COUNTIFS($H12,"1",$D12,"CFNR")+COUNTIFS($J12,"1",$D12,"CFNR")+COUNTIFS($F12,"1",$D12,"CONT")+COUNTIFS($H12,"1",$D12,"CONT")+COUNTIFS($J12,"1",$D12,"CONT") -> 1
B13: =B12+1 -> 4 | C13: 5 | D13: CFNR | E13: 2 | F13: =IF(E13=1,1,0) -> 0 | G13: 1 | H13: =IF(G13=1,1,0) -> 1 | I13: 2 | J13: =IF(I13=1,1,0) -> 0 | K13: =COUNTIFS($F13,"1",$D13,"CF")+COUNTIFS($H13,"1",$D13,"CF")+COUNTIFS($J13,"1",$D13,"CF") -> 0 | L13: =COUNTIFS($F13,"1",$D13,"CFNR")+COUNTIFS($H13,"1",$D13,"CFNR")+COUNTIFS($J13,"1",$D13,"CFNR")+COUNTIFS($F13,"1",$D13,"CONT")+COUNTIFS($H13,"1",$D13,"CONT")+COUNTIFS($J13,"1",$D13,"CONT") -> 1
B14: =B13+1 -> 5 | C14: 9 | D14: CFNR | E14: - | F14: =IF(E14=1,1,0) -> 0 | G14: 1 | H14: =IF(G14=1,1,0) -> 1 | I14: 1 | J14: =IF(I14=1,1,0) -> 1 | K14: =COUNTIFS($F14,"1",$D14,"CF")+COUNTIFS($H14,"1",$D14,"CF")+COUNTIFS($J14,"1",$D14,"CF") -> 0 | L14: =COUNTIFS($F14,"1",$D14,"CFNR")+COUNTIFS($H14,"1",$D14,"CFNR")+COUNTIFS($J14,"1",$D14,"CFNR")+COUNTIFS($F14,"1",$D14,"CONT")+COUNTIFS($H14,"1",$D14,"CONT")+COUNTIFS($J14,"1",$D14,"CONT") -> 2
B15: =B14+1 -> 6 | C15: 12 | D15: CF | E15: 99 | F15: =IF(E15=1,1,0) -> 0 | G15: 1 | H15: =IF(G15=1,1,0) -> 1 | I15: 2 | J15: =IF(I15=1,1,0) -> 0 | K15: =COUNTIFS($F15,"1",$D15,"CF")+COUNTIFS($H15,"1",$D15,"CF")+COUNTIFS($J15,"1",$D15,"CF") -> 1 | L15: =COUNTIFS($F15,"1",$D15,"CFNR")+COUNTIFS($H15,"1",$D15,"CFNR")+COUNTIFS($J15,"1",$D15,"CFNR")+COUNTIFS($F15,"1",$D15,"CONT")+COUNTIFS($H15,"1",$D15,"CONT")+COUNTIFS($J15,"1",$D15,"CONT") -> 0
B16: =B15+1 -> 7 | C16: 14 | D16: CFNR | E16: 99 | F16: =IF(E16=1,1,0) -> 0 | G16: 1 | H16: =IF(G16=1,1,0) -> 1 | I16: 1 | J16: =IF(I16=1,1,0) -> 1 | K16: =COUNTIFS($F16,"1",$D16,"CF")+COUNTIFS($H16,"1",$D16,"CF")+COUNTIFS($J16,"1",$D16,"CF") -> 0 | L16: =COUNTIFS($F16,"1",$D16,"CFNR")+COUNTIFS($H16,"1",$D16,"CFNR")+COUNTIFS($J16,"1",$D16,"CFNR")+COUNTIFS($F16,"1",$D16,"CONT")+COUNTIFS($H16,"1",$D16,"CONT")+COUNTIFS($J16,"1",$D16,"CONT") -> 2
B17: =B16+1 -> 8 | C17: 15 | D17: CFNR | E17: - | F17: =IF(E17=1,1,0) -> 0 | G17: 1 | H17: =IF(G17=1,1,0) -> 1 | I17: 1 | J17: =IF(I17=1,1,0) -> 1 | K17: =COUNTIFS($F17,"1",$D17,"CF")+COUNTIFS($H17,"1",$D17,"CF")+COUNTIFS($J17,"1",$D17,"CF") -> 0 | L17: =COUNTIFS($F17,"1",$D17,"CFNR")+COUNTIFS($H17,"1",$D17,"CFNR")+COUNTIFS($J17,"1",$D17,"CFNR")+COUNTIFS($F17,"1",$D17,"CONT")+COUNTIFS($H17,"1",$D17,"CONT")+COUNTIFS($J17,"1",$D17,"CONT") -> 2
B18: =B17+1 -> 9 | C18: 16 | D18: CFNR | E18: - | F18: =IF(E18=1,1,0) -> 0 | G18: 1 | H18: =IF(G18=1,1,0) -> 1 | I18: 2 | J18: =IF(I18=1,1,0) -> 0 | K18: =COUNTIFS($F18,"1",$D18,"CF")+COUNTIFS($H18,"1",$D18,"CF")+COUNTIFS($J18,"1",$D18,"CF") -> 0 | L18: =COUNTIFS($F18,"1",$D18,"CFNR")+COUNTIFS($H18,"1",$D18,"CFNR")+COUNTIFS($J18,"1",$D18,"CFNR")+COUNTIFS($F18,"1",$D18,"CONT")+COUNTIFS($H18,"1",$D18,"CONT")+COUNTIFS($J18,"1",$D18,"CONT") -> 1
B19: =B18+1 -> 10 | C19: 17 | D19: CF | E19: 1 | F19: =IF(E19=1,1,0) -> 1 | G19: 1 | H19: =IF(G19=1,1,0) -> 1 | I19: 1 | J19: =IF(I19=1,1,0) -> 1 | K19: =COUNTIFS($F19,"1",$D19,"CF")+COUNTIFS($H19,"1",$D19,"CF")+COUNTIFS($J19,"1",$D19,"CF") -> 3 | L19: =COUNTIFS($F19,"1",$D19,"CFNR")+COUNTIFS($H19,"1",$D19,"CFNR")+COUNTIFS($J19,"1",$D19,"CFNR")+COUNTIFS($F19,"1",$D19,"CONT")+COUNTIFS($H19,"1",$D19,"CONT")+COUNTIFS($J19,"1",$D19,"CONT") -> 0
B20: =B19+1 -> 11 | C20: 24 | D20: CFNR | E20: 2 | F20: =IF(E20=1,1,0) -> 0 | G20: 1 | H20: =IF(G20=1,1,0) -> 1 | I20: 1 | J20: =IF(I20=1,1,0) -> 1 | K20: =COUNTIFS($F20,"1",$D20,"CF")+COUNTIFS($H20,"1",$D20,"CF")+COUNTIFS($J20,"1",$D20,"CF") -> 0 | L20: =COUNTIFS($F20,"1",$D20,"CFNR")+COUNTIFS($H20,"1",$D20,"CFNR")+COUNTIFS($J20,"1",$D20,"CFNR")+COUNTIFS($F20,"1",$D20,"CONT")+COUNTIFS($H20,"1",$D20,"CONT")+COUNTIFS($J20,"1",$D20,"CONT") -> 2
B21: =B20+1 -> 12 | C21: 25 | D21: CONT | E21: - | F21: =IF(E21=1,1,0) -> 0 | G21: 1 | H21: =IF(G21=1,1,0) -> 1 | I21: 2 | J21: =IF(I21=1,1,0) -> 0 | K21: =COUNTIFS($F21,"1",$D21,"CF")+COUNTIFS($H21,"1",$D21,"CF")+COUNTIFS($J21,"1",$D21,"CF") -> 0 | L21: =COUNTIFS($F21,"1",$D21,"CFNR")+COUNTIFS($H21,"1",$D21,"CFNR")+COUNTIFS($J21,"1",$D21,"CFNR")+COUNTIFS($F21,"1",$D21,"CONT")+COUNTIFS($H21,"1",$D21,"CONT")+COUNTIFS($J21,"1",$D21,"CONT") -> 1
B22: =B21+1 -> 13 | C22: 27 | D22: CONT | E22: - | F22: =IF(E22=1,1,0) -> 0 | G22: 1 | H22: =IF(G22=1,1,0) -> 1 | I22: - | J22: =IF(I22=1,1,0) -> 0 | K22: =COUNTIFS($F22,"1",$D22,"CF")+COUNTIFS($H22,"1",$D22,"CF")+COUNTIFS($J22,"1",$D22,"CF") -> 0 | L22: =COUNTIFS($F22,"1",$D22,"CFNR")+COUNTIFS($H22,"1",$D22,"CFNR")+COUNTIFS($J22,"1",$D22,"CFNR")+COUNTIFS($F22,"1",$D22,"CONT")+COUNTIFS($H22,"1",$D22,"CONT")+COUNTIFS($J22,"1",$D22,"CONT") -> 1
B23: =B22+1 -> 14 | C23: 29 | D23: CONT | E23: - | F23: =IF(E23=1,1,0) -> 0 | G23: 1 | H23: =IF(G23=1,1,0) -> 1 | I23: 1 | J23: =IF(I23=1,1,0) -> 1 | K23: =COUNTIFS($F23,"1",$D23,"CF")+COUNTIFS($H23,"1",$D23,"CF")+COUNTIFS($J23,"1",$D23,"CF") -> 0 | L23: =COUNTIFS($F23,"1",$D23,"CFNR")+COUNTIFS($H23,"1",$D23,"CFNR")+COUNTIFS($J23,"1",$D23,"CFNR")+COUNTIFS($F23,"1",$D23,"CONT")+COUNTIFS($H23,"1",$D23,"CONT")+COUNTIFS($J23,"1",$D23,"CONT") -> 2
B24: =B23+1 -> 15 | C24: 30 | D24: CONT | E24: - | F24: =IF(E24=1,1,0) -> 0 | G24: 1 | H24: =IF(G24=1,1,0) -> 1 | I24: 1 | J24: =IF(I24=1,1,0) -> 1 | K24: =COUNTIFS($F24,"1",$D24,"CF")+COUNTIFS($H24,"1",$D24,"CF")+COUNTIFS($J24,"1",$D24,"CF") -> 0 | L24: =COUNTIFS($F24,"1",$D24,"CFNR")+COUNTIFS($H24,"1",$D24,"CFNR")+COUNTIFS($J24,"1",$D24,"CFNR")+COUNTIFS($F24,"1",$D24,"CONT")+COUNTIFS($H24,"1",$D24,"CONT")+COUNTIFS($J24,"1",$D24,"CONT") -> 2
B25: =B24+1 -> 16 | C25: 32 | D25: CONT | E25: - | F25: =IF(E25=1,1,0) -> 0 | G25: 2 | H25: =IF(G25=1,1,0) -> 0 | I25: 1 | J25: =IF(I25=1,1,0) -> 1 | K25: =COUNTIFS($F25,"1",$D25,"CF")+COUNTIFS($H25,"1",$D25,"CF")+COUNTIFS($J25,"1",$D25,"CF") -> 0 | L25: =COUNTIFS($F25,"1",$D25,"CFNR")+COUNTIFS($H25,"1",$D25,"CFNR")+COUNTIFS($J25,"1",$D25,"CFNR")+COUNTIFS($F25,"1",$D25,"CONT")+COUNTIFS($H25,"1",$D25,"CONT")+COUNTIFS($J25,"1",$D25,"CONT") -> 1
B26: =B25+1 -> 17 | C26: 36 | D26: CONT | E26: - | F26: =IF(E26=1,1,0) -> 0 | G26: 1 | H26: =IF(G26=1,1,0) -> 1 | I26: 1 | J26: =IF(I26=1,1,0) -> 1 | K26: =COUNTIFS($F26,"1",$D26,"CF")+COUNTIFS($H26,"1",$D26,"CF")+COUNTIFS($J26,"1",$D26,"CF") -> 0 | L26: =COUNTIFS($F26,"1",$D26,"CFNR")+COUNTIFS($H26,"1",$D26,"CFNR")+COUNTIFS($J26,"1",$D26,"CFNR")+COUNTIFS($F26,"1",$D26,"CONT")+COUNTIFS($H26,"1",$D26,"CONT")+COUNTIFS($J26,"1",$D26,"CONT") -> 2
B27: =B26+1 -> 18 | C27: 38 | D27: CF | E27: 2 | F27: =IF(E27=1,1,0) -> 0 | G27: 1 | H27: =IF(G27=1,1,0) -> 1 | I27: 1 | J27: =IF(I27=1,1,0) -> 1 | K27: =COUNTIFS($F27,"1",$D27,"CF")+COUNTIFS($H27,"1",$D27,"CF")+COUNTIFS($J27,"1",$D27,"CF") -> 2 | L27: =COUNTIFS($F27,"1",$D27,"CFNR")+COUNTIFS($H27,"1",$D27,"CFNR")+COUNTIFS($J27,"1",$D27,"CFNR")+COUNTIFS($F27,"1",$D27,"CONT")+COUNTIFS($H27,"1",$D27,"CONT")+COUNTIFS($J27,"1",$D27,"CONT") -> 0
B28: =B27+1 -> 19 | C28: 41 | D28: CONT | E28: - | F28: =IF(E28=1,1,0) -> 0 | G28: 1 | H28: =IF(G28=1,1,0) -> 1 | I28: 1 | J28: =IF(I28=1,1,0) -> 1 | K28: =COUNTIFS($F28,"1",$D28,"CF")+COUNTIFS($H28,"1",$D28,"CF")+COUNTIFS($J28,"1",$D28,"CF") -> 0 | L28: =COUNTIFS($F28,"1",$D28,"CFNR")+COUNTIFS($H28,"1",$D28,"CFNR")+COUNTIFS($J28,"1",$D28,"CFNR")+COUNTIFS($F28,"1",$D28,"CONT")+COUNTIFS($H28,"1",$D28,"CONT")+COUNTIFS($J28,"1",$D28,"CONT") -> 2
B29: =B28+1 -> 20 | C29: 45 | D29: CFNR | E29: - | F29: =IF(E29=1,1,0) -> 0 | G29: 2 | H29: =IF(G29=1,1,0) -> 0 | I29: - | J29: =IF(I29=1,1,0) -> 0 | K29: =COUNTIFS($F29,"1",$D29,"CF")+COUNTIFS($H29,"1",$D29,"CF")+COUNTIFS($J29,"1",$D29,"CF") -> 0 | L29: =COUNTIFS($F29,"1",$D29,"CFNR")+COUNTIFS($H29,"1",$D29,"CFNR")+COUNTIFS($J29,"1",$D29,"CFNR")+COUNTIFS($F29,"1",$D29,"CONT")+COUNTIFS($H29,"1",$D29,"CONT")+COUNTIFS($J29,"1",$D29,"CONT") -> 0
B30: =B29+1 -> 21 | C30: 48 | D30: CFNR | E30: - | F30: =IF(E30=1,1,0) -> 0 | G30: 2 | H30: =IF(G30=1,1,0) -> 0 | I30: 2 | J30: =IF(I30=1,1,0) -> 0 | K30: =COUNTIFS($F30,"1",$D30,"CF")+COUNTIFS($H30,"1",$D30,"CF")+COUNTIFS($J30,"1",$D30,"CF") -> 0 | L30: =COUNTIFS($F30,"1",$D30,"CFNR")+COUNTIFS($H30,"1",$D30,"CFNR")+COUNTIFS($J30,"1",$D30,"CFNR")+COUNTIFS($F30,"1",$D30,"CONT")+COUNTIFS($H30,"1",$D30,"CONT")+COUNTIFS($J30,"1",$D30,"CONT") -> 0
B31: =B30+1 -> 22 | C31: 50 | D31: CONT | E31: - | F31: =IF(E31=1,1,0) -> 0 | G31: 1 | H31: =IF(G31=1,1,0) -> 1 | I31: 2 | J31: =IF(I31=1,1,0) -> 0 | K31: =COUNTIFS($F31,"1",$D31,"CF")+COUNTIFS($H31,"1",$D31,"CF")+COUNTIFS($J31,"1",$D31,"CF") -> 0 | L31: =COUNTIFS($F31,"1",$D31,"CFNR")+COUNTIFS($H31,"1",$D31,"CFNR")+COUNTIFS($J31,"1",$D31,"CFNR")+COUNTIFS($F31,"1",$D31,"CONT")+COUNTIFS($H31,"1",$D31,"CONT")+COUNTIFS($J31,"1",$D31,"CONT") -> 1
B32: =B31+1 -> 23 | C32: 51 | D32: CONT | E32: - | F32: =IF(E32=1,1,0) -> 0 | G32: 1 | H32: =IF(G32=1,1,0) -> 1 | I32: 1 | J32: =IF(I32=1,1,0) -> 1 | K32: =COUNTIFS($F32,"1",$D32,"CF")+COUNTIFS($H32,"1",$D32,"CF")+COUNTIFS($J32,"1",$D32,"CF") -> 0 | L32: =COUNTIFS($F32,"1",$D32,"CFNR")+COUNTIFS($H32,"1",$D32,"CFNR")+COUNTIFS($J32,"1",$D32,"CFNR")+COUNTIFS($F32,"1",$D32,"CONT")+COUNTIFS($H32,"1",$D32,"CONT")+COUNTIFS($J32,"1",$D32,"CONT") -> 2
B33: =B32+1 -> 24 | C33: 52 | D33: CONT | E33: - | F33: =IF(E33=1,1,0) -> 0 | G33: 1 | H33: =IF(G33=1,1,0) -> 1 | I33: 1 | J33: =IF(I33=1,1,0) -> 1 | K33: =COUNTIFS($F33,"1",$D33,"CF")+COUNTIFS($H33,"1",$D33,"CF")+COUNTIFS($J33,"1",$D33,"CF") -> 0 | L33: =COUNTIFS($F33,"1",$D33,"CFNR")+COUNTIFS($H33,"1",$D33,"CFNR")+COUNTIFS($J33,"1",$D33,"CFNR")+COUNTIFS($F33,"1",$D33,"CONT")+COUNTIFS($H33,"1",$D33,"CONT")+COUNTIFS($J33,"1",$D33,"CONT") -> 2
B34: =B33+1 -> 25 | C34: 55 | D34: CONT | E34: - | F34: =IF(E34=1,1,0) -> 0 | G34: 1 | H34: =IF(G34=1,1,0) -> 1 | I34: 2 | J34: =IF(I34=1,1,0) -> 0 | K34: =COUNTIFS($F34,"1",$D34,"CF")+COUNTIFS($H34,"1",$D34,"CF")+COUNTIFS($J34,"1",$D34,"CF") -> 0 | L34: =COUNTIFS($F34,"1",$D34,"CFNR")+COUNTIFS($H34,"1",$D34,"CFNR")+COUNTIFS($J34,"1",$D34,"CFNR")+COUNTIFS($F34,"1",$D34,"CONT")+COUNTIFS($H34,"1",$D34,"CONT")+COUNTIFS($J34,"1",$D34,"CONT") -> 1
B35: =B34+1 -> 26 | C35: 56 | D35: CONT | E35: - | F35: =IF(E35=1,1,0) -> 0 | G35: 1 | H35: =IF(G35=1,1,0) -> 1 | I35: 2 | J35: =IF(I35=1,1,0) -> 0 | K35: =COUNTIFS($F35,"1",$D35,"CF")+COUNTIFS($H35,"1",$D35,"CF")+COUNTIFS($J35,"1",$D35,"CF") -> 0 | L35: =COUNTIFS($F35,"1",$D35,"CFNR")+COUNTIFS($H35,"1",$D35,"CFNR")+COUNTIFS($J35,"1",$D35,"CFNR")+COUNTIFS($F35,"1",$D35,"CONT")+COUNTIFS($H35,"1",$D35,"CONT")+COUNTIFS($J35,"1",$D35,"CONT") -> 1
B36: =B35+1 -> 27 | C36: 58 | D36: CONT | E36: 2 | F36: =IF(E36=1,1,0) -> 0 | G36: 1 | H36: =IF(G36=1,1,0) -> 1 | I36: 1 | J36: =IF(I36=1,1,0) -> 1 | K36: =COUNTIFS($F36,"1",$D36,"CF")+COUNTIFS($H36,"1",$D36,"CF")+COUNTIFS($J36,"1",$D36,"CF") -> 0 | L36: =COUNTIFS($F36,"1",$D36,"CFNR")+COUNTIFS($H36,"1",$D36,"CFNR")+COUNTIFS($J36,"1",$D36,"CFNR")+COUNTIFS($F36,"1",$D36,"CONT")+COUNTIFS($H36,"1",$D36,"CONT")+COUNTIFS($J36,"1",$D36,"CONT") -> 2
B37: =B36+1 -> 28 | C37: 59 | D37: CONT | E37: - | F37: =IF(E37=1,1,0) -> 0 | G37: 2 | H37: =IF(G37=1,1,0) -> 0 | I37: 2 | J37: =IF(I37=1,1,0) -> 0 | K37: =COUNTIFS($F37,"1",$D37,"CF")+COUNTIFS($H37,"1",$D37,"CF")+COUNTIFS($J37,"1",$D37,"CF") -> 0 | L37: =COUNTIFS($F37,"1",$D37,"CFNR")+COUNTIFS($H37,"1",$D37,"CFNR")+COUNTIFS($J37,"1",$D37,"CFNR")+COUNTIFS($F37,"1",$D37,"CONT")+COUNTIFS($H37,"1",$D37,"CONT")+COUNTIFS($J37,"1",$D37,"CONT") -> 0
B38: =B37+1 -> 29 | C38: 67 | D38: CF | E38: 1 | F38: =IF(E38=1,1,0) -> 1 | G38: 2 | H38: =IF(G38=1,1,0) -> 0 | I38: 1 | J38: =IF(I38=1,1,0) -> 1 | K38: =COUNTIFS($F38,"1",$D38,"CF")+COUNTIFS($H38,"1",$D38,"CF")+COUNTIFS($J38,"1",$D38,"CF") -> 2 | L38: =COUNTIFS($F38,"1",$D38,"CFNR")+COUNTIFS($H38,"1",$D38,"CFNR")+COUNTIFS($J38,"1",$D38,"CFNR")+COUNTIFS($F38,"1",$D38,"CONT")+COUNTIFS($H38,"1",$D38,"CONT")+COUNTIFS($J38,"1",$D38,"CONT") -> 0
B39: =B38+1 -> 30 | C39: 68 | D39: CONT | E39: - | F39: =IF(E39=1,1,0) -> 0 | G39: 1 | H39: =IF(G39=1,1,0) -> 1 | I39: 1 | J39: =IF(I39=1,1,0) -> 1 | K39: =COUNTIFS($F39,"1",$D39,"CF")+COUNTIFS($H39,"1",$D39,"CF")+COUNTIFS($J39,"1",$D39,"CF") -> 0 | L39: =COUNTIFS($F39,"1",$D39,"CFNR")+COUNTIFS($H39,"1",$D39,"CFNR")+COUNTIFS($J39,"1",$D39,"CFNR")+COUNTIFS($F39,"1",$D39,"CONT")+COUNTIFS($H39,"1",$D39,"CONT")+COUNTIFS($J39,"1",$D39,"CONT") -> 2
B40: =B39+1 -> 31 | C40: 69 | D40: CONT | E40: - | F40: =IF(E40=1,1,0) -> 0 | G40: 1 | H40: =IF(G40=1,1,0) -> 1 | I40: 1 | J40: =IF(I40=1,1,0) -> 1 | K40: =COUNTIFS($F40,"1",$D40,"CF")+COUNTIFS($H40,"1",$D40,"CF")+COUNTIFS($J40,"1",$D40,"CF") -> 0 | L40: =COUNTIFS($F40,"1",$D40,"CFNR")+COUNTIFS($H40,"1",$D40,"CFNR")+COUNTIFS($J40,"1",$D40,"CFNR")+COUNTIFS($F40,"1",$D40,"CONT")+COUNTIFS($H40,"1",$D40,"CONT")+COUNTIFS($J40,"1",$D40,"CONT") -> 2
B41: =B40+1 -> 32 | C41: 70 | D41: CONT | E41: - | F41: =IF(E41=1,1,0) -> 0 | G41: 1 | H41: =IF(G41=1,1,0) -> 1 | I41: 2 | J41: =IF(I41=1,1,0) -> 0 | K41: =COUNTIFS($F41,"1",$D41,"CF")+COUNTIFS($H41,"1",$D41,"CF")+COUNTIFS($J41,"1",$D41,"CF") -> 0 | L41: =COUNTIFS($F41,"1",$D41,"CFNR")+COUNTIFS($H41,"1",$D41,"CFNR")+COUNTIFS($J41,"1",$D41,"CFNR")+COUNTIFS($F41,"1",$D41,"CONT")+COUNTIFS($H41,"1",$D41,"CONT")+COUNTIFS($J41,"1",$D41,"CONT") -> 1
B42: =B41+1 -> 33 | C42: 73 | D42: CFNR | E42: 2 | F42: =IF(E42=1,1,0) -> 0 | G42: 1 | H42: =IF(G42=1,1,0) -> 1 | I42: - | J42: =IF(I42=1,1,0) -> 0 | K42: =COUNTIFS($F42,"1",$D42,"CF")+COUNTIFS($H42,"1",$D42,"CF")+COUNTIFS($J42,"1",$D42,"CF") -> 0 | L42: =COUNTIFS($F42,"1",$D42,"CFNR")+COUNTIFS($H42,"1",$D42,"CFNR")+COUNTIFS($J42,"1",$D42,"CFNR")+COUNTIFS($F42,"1",$D42,"CONT")+COUNTIFS($H42,"1",$D42,"CONT")+COUNTIFS($J42,"1",$D42,"CONT") -> 1
...

Sheet A1
A1: Values Calculated From Study Data | I1: Numerical Optimization
A2: fraction of patients testing positive for CF | B2: =fcf -> 0.14619883 | E2: =b_est -> -2.1226139 | I2: slope | J2: 2.8157616
A3: fraction of CF patients diagnosed positive for A1 | B3: =fepi -> 0.32 | E3: =a_est -> 2.8157616 | I3: intercept | J3: -2.1226139
A4: fraction of CFNR/Control patients diagnosed positive for A1 | B4: =I194 -> 0.02739726 | E4: =D9 -> 0 | I4: obj. fcn. | J4: =SUMLNPOS -> -61.701869
A6: Maximum likelihood methods are applied to Dataset 1 to estimate the parameter values for the univariate LR model with A1 as the predictor | I6: CF Threshold Probability | J6: 0.2 | L6: fp_3 | M6: fp_2 | N6: fp_1
L7: =fp_3 -> 0.57309942 | M7: =fp_2 -> 0.69590643 | N7: =fp_1 -> 0.035087719
D8: A1 value | E8: log-odds ratio | I8: sensitivity | J8: specificity | Q8: AUC
D9: 0 | E9: =b_est+a_est*D9 -> -2.1226139 | I9: =NCP/CFT -> 0.32 | J9: =NCN/CONTT -> 0.97260274 | Q9: =SUMPRODUCT(S18:S114,T18:T114) -> 0.64630137
D10: 1 | E10: =b_est+a_est*D10 -> 0.69314767 | L10: =NCN -> 142
L11: =CONTT -> 146
D12: Logistic Regression Results
D13: P[CF=1|A1=0] | E13: =EXP(lor_0)/(EXP(lor_0)+1) -> 0.10691822
D14: P[CF=1|A1=1] | E14: =EXP(lor_1)/(EXP(lor_1)+1) -> 0.66666678
D15: P[CF=1|A1=2] | E15: =fp_1*pcf_1+(1-fp_1)*pcf_0 -> 0.12655852
D17: Index | E17: Subject | F17: Category | G17: CF State | H17: A1 State | I17: Positive for Both CF and A1 | J17: Logistic Regression Estimate of P[CF=1|A1] | K17: Logistic Regression Estimate for P[Actual CF State] | L17: Logistic Regression Estimate for LN(P[Actual CF State]) | M17: True Positives | N17: True Negatives | P17: CF Threshold Probability | Q17: True Positive Rate | R17: False Positive Rate | S17: y | T17: delx
D18: 1 | E18: ='Data 1'!C10 -> 1 | F18: ='Data 1'!D10 -> CF | G18: =IF(F18="CF",1,0) -> 1 | H18: 1 | I18: =IF(AND(G18=1,H18=1),1,0) -> 1 | J18: =IF(H18=0,pcf_0,IF(H18=1,pcf_1,pcf_2)) -> 0.66666678 | K18: =IF(G18=1,J18,1-J18) -> 0.66666678 | L18: =LN(K18) -> -0.40546494 | M18: =IF(AND(G18=1,J18>=p_thresh),1,0) -> 1 | N18: =IF(AND(G18=0,J18<p_thresh),1,0) -> 0 | P18: 0.01 | Q18: =COUNTIFS($G$18:$G$188,"1",$J$18:$J$188,">+"&$P18)/CFT -> 1 | R18: =COUNTIFS($G$18:$G$188,"0",$J$18:$J$188,">+"&$P18)/CONTT -> 1 | S18: =(Q18+Q19)/2 -> 1 | T18: =-(R19-R18) -> 0
D19: =D18+1 -> 2 | E19: ='Data 1'!C11 -> 2 | F19: ='Data 1'!D11 -> CF | G19: =IF(F19="CF",1,0) -> 1 | H19: 0 | I19: =IF(AND(G19=1,H19=1),1,0) -> 0 | J19: =IF(H19=0,pcf_0,IF(H19=1,pcf_1,pcf_2)) -> 0.10691822 | K19: =IF(G19=1,J19,1-J19) -> 0.10691822 | L19: =LN(K19) -> -2.235691 | M19: =IF(AND(G19=1,J19>=p_thresh),1,0) -> 0 | N19: =IF(AND(G19=0,J19<p_thresh),1,0) -> 0 | P19: =P18+0.01 -> 0.02 | Q19: =COUNTIFS($G$18:$G$188,"1",$J$18:$J$188,">+"&$P19)/CFT -> 1 | R19: =COUNTIFS($G$18:$G$188,"0",$J$18:$J$188,">+"&$P19)/CONTT -> 1 | S19: =(Q19+Q20)/2 -> 1 | T19: =-(R20-R19) -> 0
D20: =D19+1 -> 3 | E20: ='Data 1'!C12 -> 4 | F20: ='Data 1'!D12 -> CFNR | G20: =IF(F20="CF",1,0) -> 0 | H20: 0 | I20: =IF(AND(G20=1,H20=1),1,0) -> 0 | J20: =IF(H20=0,pcf_0,IF(H20=1,pcf_1,pcf_2)) -> 0.10691822 | K20: =IF(G20=1,J20,1-J20) -> 0.89308178 | L20: =LN(K20) -> -0.11307713 | M20: =IF(AND(G20=1,J20>=p_thresh),1,0) -> 0 | N20: =IF(AND(G20=0,J20<p_thresh),1,0) -> 1 | P20: =P19+0.01 -> 0.03 | Q20: =COUNTIFS($G$18:$G$188,"1",$J$18:$J$188,">+"&$P20)/CFT -> 1 | R20: =COUNTIFS($G$18:$G$188,"0",$J$18:$J$188,">+"&$P20)/CONTT -> 1 | S20: =(Q20+Q21)/2 -> 1 | T20: =-(R21-R20) -> 0
D21: =D20+1 -> 4 | E21: ='Data 1'!C13 -> 5 | F21: ='Data 1'!D13 -> CFNR | G21: =IF(F21="CF",1,0) -> 0 | H21: 0 | I21: =IF(AND(G21=1,H21=1),1,0) -> 0 | J21: =IF(H21=0,pcf_0,IF(H21=1,pcf_1,pcf_2)) -> 0.10691822 | K21: =IF(G21=1,J21,1-J21) -> 0.89308178 | L21: =LN(K21) -> -0.11307713 | M21: =IF(AND(G21=1,J21>=p_thresh),1,0) -> 0 | N21: =IF(AND(G21=0,J21<p_thresh),1,0) -> 1 | P21: =P20+0.01 -> 0.04 | Q21: =COUNTIFS($G$18:$G$188,"1",$J$18:$J$188,">+"&$P21)/CFT -> 1 | R21: =COUNTIFS($G$18:$G$188,"0",$J$18:$J$188,">+"&$P21)/CONTT -> 1 | S21: =(Q21+Q22)/2 -> 1 | T21: =-(R22-R21) -> 0
