Workbook
Name a_0: '(A1,A3)'!$J$5
Name a_0: '(A2,A3)'!$J$5
Name a_0: '(A1,A2)'!$J$5
Name a_1: '(A1,A3)'!$J$3
Name a_1: '(A2,A3)'!$J$3
Name a_1: '(A1,A2)'!$J$3
Name a_2: '(A1,A3)'!$J$4
Name a_2: '(A2,A3)'!$J$4
Name a_2: '(A1,A2)'!$J$4
Name a_est: 'A2'!$J$2
Name a_est: 'A3'!$J$2
Name a_est: 'A1'!$J$2
Name b_est: 'A2'!$J$3
Name b_est: 'A3'!$J$3
Name b_est: 'A1'!$J$3
Name c_0: '(A1,A2,A3)'!$N$9
Name c_1: '(A1,A2,A3)'!$N$6
Name c_2: '(A1,A2,A3)'!$N$7
Name c_3: '(A1,A2,A3)'!$N$8
Name case: 'Data 2'!$B$1
Name case: 'Data 1'!$B$1
Name CF_D: 'Composite Resampling'!$F$177
Name CF_D: 'LR Results_2B_Composite'!$D$177
Name CF_D: #REF!
Name CF_V: 'Composite Resampling'!$F$183
Name CF_V: 'LR Results_2B_Composite'!$D$183
Name CF_V: #REF!
Name CFEPIT: 'A2'!#REF!
Name CFEPIT: 'A3'!#REF!
Name CFEPIT: 'A1'!#REF!
Name CFN_V: 'Composite Resampling'!$F$185
Name CFN_V: 'LR Results_2B_Composite'!$D$185
Name CFN_V: #REF!
Name CFNR_D: 'Composite Resampling'!$F$178
Name CFNR_D: 'LR Results_2B_Composite'!$D$178
Name CFNR_D: #REF!
Name CFNR_V: 'Composite Resampling'!$F$184
Name CFNR_V: 'LR Results_2B_Composite'!$D$184
Name CFNR_V: #REF!
Name CFNRT: 'Data 1'!#REF!
Name CFNRT_V: 'Data 1'!$D$182
Name CFNT: 'Data 1'!#REF!
Name CFNT_D: 'Composite Resampling'!$F$179
Name CFNT_D: 'LR Results_2B_Composite'!$D$179
Name CFNT_D: #REF!
Name CFNT_V: 'Data 1'!$D$183
Name CFPERTT: 'A2'!#REF!
Name CFPERTT: 'A3'!#REF!
Name CFPERTT: 'A1'!#REF!
Name CFT: 'A1'!$G$191
Name CFT: 'A2'!$G$191
Name CFT: 'A3'!$G$191
Name CFT: 'Data 1'!#REF!
Name CFT_1: '(A1,A3)'!$G$188
Name CFT_1: '(A2,A3)'!$G$188
Name CFT_1: '(A1,A2)'!$G$188
Name CFT_MC: #REF!
Name CFT_V: 'Data 1'!$D$181
Name col_1: 'Data 2'!$B$3
Name col_1: 'Data 1'!$B$3

Sheet Setup
AH1: index | AI1: 1 | AJ1: 2 | AK1: 3 | AL1: 4 | AM1: 5 | AN1: 6 | AO1: 7
AH2: column | AI2: 4 | AJ2: 5 | AK2: 15 | AL2: 24 | AM2: 33 | AN2: 34 | AO2: 44
T3: Determination of the specific CF-related conditions associated with each of the 35 three -variate LR models and the assignment of a case # to each model | AI3: Pancreatic Insufficiency | AJ3: Pancreatitis | AK3: family history | AL3: bronchiectasis/ tree in bud | AM3: Gram negative bacterial infection | AN3: Gram positive bacterial infection | AO3: NTM (MAC or non-Mac)
AJ5: Database Column
B6: Binary | C6: 1 | D6: =C6+1 -> 2 | E6: =D6+1 -> 3 | F6: =E6+1 -> 4 | G6: =F6+1 -> 5 | H6: =G6+1 -> 6 | I6: =H6+1 -> 7 | J6: # 1's = 3 | K6: Index | L6: A1 | M6: A2 | N6: A3 | O6: A4 | P6: A5 | Q6: A6 | R6: A7 | U6: 1 | V6: =U6+1 -> 2 | W6: =V6+1 -> 3 | X6: =W6+1 -> 4 | Y6: =X6+1 -> 5 | Z6: =Y6+1 -> 6 | AA6: =Z6+1 -> 7 | AC6: Case | AD6: A1 | AE6: A2 | AF6: A3 | AI6: Case | AJ6: A1 | AK6: A2 | AL6: A3
A7: 1 | B7: =DEC2BIN(A7,7) -> 0000001 | C7: =MID($B7,COLUMN()-(COLUMN($C7)-1),1) -> 0 | D7: =MID($B7,COLUMN()-(COLUMN($C7)-1),1) -> 0 | E7: =MID($B7,COLUMN()-(COLUMN($C7)-1),1) -> 0 | F7: =MID($B7,COLUMN()-(COLUMN($C7)-1),1) -> 0 | G7: =MID($B7,COLUMN()-(COLUMN($C7)-1),1) -> 0 | H7: =MID($B7,COLUMN()-(COLUMN($C7)-1),1) -> 0 | I7: =MID($B7,COLUMN()-(COLUMN($C7)-1),1) -> 1 | J7: =IF(C7+D7+E7+F7+G7+H7+I7=3,"Y","") | K7: 1 | L7: =IF($J13="Y",C13*1,"") -> 0 | M7: =IF($J13="Y",D13*1,"") -> 0 | N7: =IF($J13="Y",E13*1,"") -> 0 | O7: =IF($J13="Y",F13*1,"") -> 0 | P7: =IF($J13="Y",G13*1,"") -> 1 | Q7: =IF($J13="Y",H13*1,"") -> 1 | R7: =IF($J13="Y",I13*1,"") -> 1 | T7: 1 | U7: =IF(L7=1,U$6,"") | V7: =IF(M7=1,V$6,"") | W7: =IF(N7=1,W$6,"") | X7: =IF(O7=1,X$6,"") | Y7: =IF(P7=1,Y$6,"") -> 5 | Z7: =IF(Q7=1,Z$6,"") -> 6 | AA7: =IF(R7=1,AA$6,"") -> 7 | AC7: 1 | AD7: 5 | AE7: 6 | AF7: 7 | AI7: 1 | AJ7: =OFFSET($AI$1,1,AD7-1) -> 33 | AK7: =OFFSET($AI$1,1,AE7-1) -> 34 | AL7: =OFFSET($AI$1,1,AO1-1) -> 44
A8: =A7+1 -> 2 | B8: =DEC2BIN(A8,7) -> 0000010 | C8: =MID($B8,COLUMN()-(COLUMN($C8)-1),1) -> 0 | D8: =MID($B8,COLUMN()-(COLUMN($C8)-1),1) -> 0 | E8: =MID($B8,COLUMN()-(COLUMN($C8)-1),1) -> 0 | F8: =MID($B8,COLUMN()-(COLUMN($C8)-1),1) -> 0 | G8: =MID($B8,COLUMN()-(COLUMN($C8)-1),1) -> 0 | H8: =MID($B8,COLUMN()-(COLUMN($C8)-1),1) -> 1 | I8: =MID($B8,COLUMN()-(COLUMN($C8)-1),1) -> 0 | J8: =IF(C8+D8+E8+F8+G8+H8+I8=3,"Y","") | K8: 2 | L8: =IF($J17="Y",C17*1,"") -> 0 | M8: =IF($J17="Y",D17*1,"") -> 0 | N8: =IF($J17="Y",E17*1,"") -> 0 | O8: =IF($J17="Y",F17*1,"") -> 1 | P8: =IF($J17="Y",G17*1,"") -> 0 | Q8: =IF($J17="Y",H17*1,"") -> 1 | R8: =IF($J17="Y",I17*1,"") -> 1 | T8: 2 | U8: =IF(L8=1,U$6,"") | V8: =IF(M8=1,V$6,"") | W8: =IF(N8=1,W$6,"") | X8: =IF(O8=1,X$6,"") -> 4 | Y8: =IF(P8=1,Y$6,"") | Z8: =IF(Q8=1,Z$6,"") -> 6 | AA8: =IF(R8=1,AA$6,"") -> 7 | AC8: 2 | AD8: 4 | AE8: 6 | AF8: 7 | AI8: 2 | AJ8: =OFFSET($AI$1,1,AD8-1) -> 24 | AK8: =OFFSET($AI$1,1,AE8-1) -> 34 | AL8: =OFFSET($AI$1,1,AF8-1) -> 44
A9: =A8+1 -> 3 | B9: =DEC2BIN(A9,7) -> 0000011 | C9: =MID($B9,COLUMN()-(COLUMN($C9)-1),1) -> 0 | D9: =MID($B9,COLUMN()-(COLUMN($C9)-1),1) -> 0 | E9: =MID($B9,COLUMN()-(COLUMN($C9)-1),1) -> 0 | F9: =MID($B9,COLUMN()-(COLUMN($C9)-1),1) -> 0 | G9: =MID($B9,COLUMN()-(COLUMN($C9)-1),1) -> 0 | H9: =MID($B9,COLUMN()-(COLUMN($C9)-1),1) -> 1 | I9: =MID($B9,COLUMN()-(COLUMN($C9)-1),1) -> 1 | J9: =IF(C9+D9+E9+F9+G9+H9+I9=3,"Y","") | K9: 3 | L9: =IF($J19="Y",C19*1,"") -> 0 | M9: =IF($J19="Y",D19*1,"") -> 0 | N9: =IF($J19="Y",E19*1,"") -> 0 | O9: =IF($J19="Y",F19*1,"") -> 1 | P9: =IF($J19="Y",G19*1,"") -> 1 | Q9: =IF($J19="Y",H19*1,"") -> 0 | R9: =IF($J19="Y",I19*1,"") -> 1 | T9: 3 | U9: =IF(L9=1,U$6,"") | V9: =IF(M9=1,V$6,"") | W9: =IF(N9=1,W$6,"") | X9: =IF(O9=1,X$6,"") -> 4 | Y9: =IF(P9=1,Y$6,"") -> 5 | Z9: =IF(Q9=1,Z$6,"") | AA9: =IF(R9=1,AA$6,"") -> 7 | AC9: 3 | AD9: 4 | AE9: 5 | AF9: 7 | AI9: 3 | AJ9: =OFFSET($AI$1,1,AD9-1) -> 24 | AK9: =OFFSET($AI$1,1,AE9-1) -> 33 | AL9: =OFFSET($AI$1,1,AF9-1) -> 44
A10: =A9+1 -> 4 | B10: =DEC2BIN(A10,7) -> 0000100 | C10: =MID($B10,COLUMN()-(COLUMN($C10)-1),1) -> 0 | D10: =MID($B10,COLUMN()-(COLUMN($C10)-1),1) -> 0 | E10: =MID($B10,COLUMN()-(COLUMN($C10)-1),1) -> 0 | F10: =MID($B10,COLUMN()-(COLUMN($C10)-1),1) -> 0 | G10: =MID($B10,COLUMN()-(COLUMN($C10)-1),1) -> 1 | H10: =MID($B10,COLUMN()-(COLUMN($C10)-1),1) -> 0 | I10: =MID($B10,COLUMN()-(COLUMN($C10)-1),1) -> 0 | J10: =IF(C10+D10+E10+F10+G10+H10+I10=3,"Y","") | K10: 4 | L10: =IF($J20="Y",C20*1,"") -> 0 | M10: =IF($J20="Y",D20*1,"") -> 0 | N10: =IF($J20="Y",E20*1,"") -> 0 | O10: =IF($J20="Y",F20*1,"") -> 1 | P10: =IF($J20="Y",G20*1,"") -> 1 | Q10: =IF($J20="Y",H20*1,"") -> 1 | R10: =IF($J20="Y",I20*1,"") -> 0 | T10: 4 | U10: =IF(L10=1,U$6,"") | V10: =IF(M10=1,V$6,"") | W10: =IF(N10=1,W$6,"") | X10: =IF(O10=1,X$6,"") -> 4 | Y10: =IF(P10=1,Y$6,"") -> 5 | Z10: =IF(Q10=1,Z$6,"") -> 6 | AA10: =IF(R10=1,AA$6,"") | AC10: 4 | AD10: 4 | AE10: 5 | AF10: 6 | AI10: 4 | AJ10: =OFFSET($AI$1,1,AD10-1) -> 24 | AK10: =OFFSET($AI$1,1,AE10-1) -> 33 | AL10: =OFFSET($AI$1,1,AF10-1) -> 34
A11: =A10+1 -> 5 | B11: =DEC2BIN(A11,7) -> 0000101 | C11: =MID($B11,COLUMN()-(COLUMN($C11)-1),1) -> 0 | D11: =MID($B11,COLUMN()-(COLUMN($C11)-1),1) -> 0 | E11: =MID($B11,COLUMN()-(COLUMN($C11)-1),1) -> 0 | F11: =MID($B11,COLUMN()-(COLUMN($C11)-1),1) -> 0 | G11: =MID($B11,COLUMN()-(COLUMN($C11)-1),1) -> 1 | H11: =MID($B11,COLUMN()-(COLUMN($C11)-1),1) -> 0 | I11: =MID($B11,COLUMN()-(COLUMN($C11)-1),1) -> 1 | J11: =IF(C11+D11+E11+F11+G11+H11+I11=3,"Y","") | K11: 5 | L11: =IF($J25="Y",C25*1,"") -> 0 | M11: =IF($J25="Y",D25*1,"") -> 0 | N11: =IF($J25="Y",E25*1,"") -> 1 | O11: =IF($J25="Y",F25*1,"") -> 0 | P11: =IF($J25="Y",G25*1,"") -> 0 | Q11: =IF($J25="Y",H25*1,"") -> 1 | R11: =IF($J25="Y",I25*1,"") -> 1 | T11: 5 | U11: =IF(L11=1,U$6,"") | V11: =IF(M11=1,V$6,"") | W11: =IF(N11=1,W$6,"") -> 3 | X11: =IF(O11=1,X$6,"") | Y11: =IF(P11=1,Y$6,"") | Z11: =IF(Q11=1,Z$6,"") -> 6 | AA11: =IF(R11=1,AA$6,"") -> 7 | AC11: 5 | AD11: 3 | AE11: 6 | AF11: 7 | AI11: 5 | AJ11: =OFFSET($AI$1,1,AD11-1) -> 15 | AK11: =OFFSET($AI$1,1,AE11-1) -> 34 | AL11: =OFFSET($AI$1,1,AF11-1) -> 44
A12: =A11+1 -> 6 | B12: =DEC2BIN(A12,7) -> 0000110 | C12: =MID($B12,COLUMN()-(COLUMN($C12)-1),1) -> 0 | D12: =MID($B12,COLUMN()-(COLUMN($C12)-1),1) -> 0 | E12: =MID($B12,COLUMN()-(COLUMN($C12)-1),1) -> 0 | F12: =MID($B12,COLUMN()-(COLUMN($C12)-1),1) -> 0 | G12: =MID($B12,COLUMN()-(COLUMN($C12)-1),1) -> 1 | H12: =MID($B12,COLUMN()-(COLUMN($C12)-1),1) -> 1 | I12: =MID($B12,COLUMN()-(COLUMN($C12)-1),1) -> 0 | J12: =IF(C12+D12+E12+F12+G12+H12+I12=3,"Y","") | K12: 6 | L12: =IF($J27="Y",C27*1,"") -> 0 | M12: =IF($J27="Y",D27*1,"") -> 0 | N12: =IF($J27="Y",E27*1,"") -> 1 | O12: =IF($J27="Y",F27*1,"") -> 0 | P12: =IF($J27="Y",G27*1,"") -> 1 | Q12: =IF($J27="Y",H27*1,"") -> 0 | R12: =IF($J27="Y",I27*1,"") -> 1 | T12: 6 | U12: =IF(L12=1,U$6,"") | V12: =IF(M12=1,V$6,"") | W12: =IF(N12=1,W$6,"") -> 3 | X12: =IF(O12=1,X$6,"") | Y12: =IF(P12=1,Y$6,"") -> 5 | Z12: =IF(Q12=1,Z$6,"") | AA12: =IF(R12=1,AA$6,"") -> 7 | AC12: 6 | AD12: 3 | AE12: 5 | AF12: 7 | AI12: 6 | AJ12: =OFFSET($AI$1,1,AD12-1) -> 15 | AK12: =OFFSET($AI$1,1,AE12-1) -> 33 | AL12: =OFFSET($AI$1,1,AF12-1) -> 44
A13: =A12+1 -> 7 | B13: =DEC2BIN(A13,7) -> 0000111 | C13: =MID($B13,COLUMN()-(COLUMN($C13)-1),1) -> 0 | D13: =MID($B13,COLUMN()-(COLUMN($C13)-1),1) -> 0 | E13: =MID($B13,COLUMN()-(COLUMN($C13)-1),1) -> 0 | F13: =MID($B13,COLUMN()-(COLUMN($C13)-1),1) -> 0 | G13: =MID($B13,COLUMN()-(COLUMN($C13)-1),1) -> 1 | H13: =MID($B13,COLUMN()-(COLUMN($C13)-1),1) -> 1 | I13: =MID($B13,COLUMN()-(COLUMN($C13)-1),1) -> 1 | J13: =IF(C13+D13+E13+F13+G13+H13+I13=3,"Y","") -> Y | K13: 7 | L13: =IF($J28="Y",C28*1,"") -> 0 | M13: =IF($J28="Y",D28*1,"") -> 0 | N13: =IF($J28="Y",E28*1,"") -> 1 | O13: =IF($J28="Y",F28*1,"") -> 0 | P13: =IF($J28="Y",G28*1,"") -> 1 | Q13: =IF($J28="Y",H28*1,"") -> 1 | R13: =IF($J28="Y",I28*1,"") -> 0 | T13: 7 | U13: =IF(L13=1,U$6,"") | V13: =IF(M13=1,V$6,"") | W13: =IF(N13=1,W$6,"") -> 3 | X13: =IF(O13=1,X$6,"") | Y13: =IF(P13=1,Y$6,"") -> 5 | Z13: =IF(Q13=1,Z$6,"") -> 6 | AA13: =IF(R13=1,AA$6,"") | AC13: 7 | AD13: 3 | AE13: 5 | AF13: 6 | AI13: 7 | AJ13: =OFFSET($AI$1,1,AD13-1) -> 15 | AK13: =OFFSET($AI$1,1,AE13-1) -> 33 | AL13: =OFFSET($AI$1,1,AF13-1) -> 34
A14: =A13+1 -> 8 | B14: =DEC2BIN(A14,7) -> 0001000 | C14: =MID($B14,COLUMN()-(COLUMN($C14)-1),1) -> 0 | D14: =MID($B14,COLUMN()-(COLUMN($C14)-1),1) -> 0 | E14: =MID($B14,COLUMN()-(COLUMN($C14)-1),1) -> 0 | F14: =MID($B14,COLUMN()-(COLUMN($C14)-1),1) -> 1 | G14: =MID($B14,COLUMN()-(COLUMN($C14)-1),1) -> 0 | H14: =MID($B14,COLUMN()-(COLUMN($C14)-1),1) -> 0 | I14: =MID($B14,COLUMN()-(COLUMN($C14)-1),1) -> 0 | J14: =IF(C14+D14+E14+F14+G14+H14+I14=3,"Y","") | K14: 8 | L14: =IF($J31="Y",C31*1,"") -> 0 | M14: =IF($J31="Y",D31*1,"") -> 0 | N14: =IF($J31="Y",E31*1,"") -> 1 | O14: =IF($J31="Y",F31*1,"") -> 1 | P14: =IF($J31="Y",G31*1,"") -> 0 | Q14: =IF($J31="Y",H31*1,"") -> 0 | R14: =IF($J31="Y",I31*1,"") -> 1 | T14: 8 | U14: =IF(L14=1,U$6,"") | V14: =IF(M14=1,V$6,"") | W14: =IF(N14=1,W$6,"") -> 3 | X14: =IF(O14=1,X$6,"") -> 4 | Y14: =IF(P14=1,Y$6,"") | Z14: =IF(Q14=1,Z$6,"") | AA14: =IF(R14=1,AA$6,"") -> 7 | AC14: 8 | AD14: 3 | AE14: 4 | AF14: 7 | AI14: 8 | AJ14: =OFFSET($AI$1,1,AD14-1) -> 15 | AK14: =OFFSET($AI$1,1,AE14-1) -> 24 | AL14: =OFFSET($AI$1,1,AF14-1) -> 44
A15: =A14+1 -> 9 | B15: =DEC2BIN(A15,7) -> 0001001 | C15: =MID($B15,COLUMN()-(COLUMN($C15)-1),1) -> 0 | D15: =MID($B15,COLUMN()-(COLUMN($C15)-1),1) -> 0 | E15: =MID($B15,COLUMN()-(COLUMN($C15)-1),1) -> 0 | F15: =MID($B15,COLUMN()-(COLUMN($C15)-1),1) -> 1 | G15: =MID($B15,COLUMN()-(COLUMN($C15)-1),1) -> 0 | H15: =MID($B15,COLUMN()-(COLUMN($C15)-1),1) -> 0 | I15: =MID($B15,COLUMN()-(COLUMN($C15)-1),1) -> 1 | J15: =IF(C15+D15+E15+F15+G15+H15+I15=3,"Y","") | K15: 9 | L15: =IF($J32="Y",C32*1,"") -> 0 | M15: =IF($J32="Y",D32*1,"") -> 0 | N15: =IF($J32="Y",E32*1,"") -> 1 | O15: =IF($J32="Y",F32*1,"") -> 1 | P15: =IF($J32="Y",G32*1,"") -> 0 | Q15: =IF($J32="Y",H32*1,"") -> 1 | R15: =IF($J32="Y",I32*1,"") -> 0 | T15: 9 | U15: =IF(L15=1,U$6,"") | V15: =IF(M15=1,V$6,"") | W15: =IF(N15=1,W$6,"") -> 3 | X15: =IF(O15=1,X$6,"") -> 4 | Y15: =IF(P15=1,Y$6,"") | Z15: =IF(Q15=1,Z$6,"") -> 6 | AA15: =IF(R15=1,AA$6,"") | AC15: 9 | AD15: 3 | AE15: 4 | AF15: 6 | AI15: 9 | AJ15: =OFFSET($AI$1,1,AD15-1) -> 15 | AK15: =OFFSET($AI$1,1,AE15-1) -> 24 | AL15: =OFFSET($AI$1,1,AF15-1) -> 34
A16: =A15+1 -> 10 | B16: =DEC2BIN(A16,7) -> 0001010 | C16: =MID($B16,COLUMN()-(COLUMN($C16)-1),1) -> 0 | D16: =MID($B16,COLUMN()-(COLUMN($C16)-1),1) -> 0 | E16: =MID($B16,COLUMN()-(COLUMN($C16)-1),1) -> 0 | F16: =MID($B16,COLUMN()-(COLUMN($C16)-1),1) -> 1 | G16: =MID($B16,COLUMN()-(COLUMN($C16)-1),1) -> 0 | H16: =MID($B16,COLUMN()-(COLUMN($C16)-1),1) -> 1 | I16: =MID($B16,COLUMN()-(COLUMN($C16)-1),1) -> 0 | J16: =IF(C16+D16+E16+F16+G16+H16+I16=3,"Y","") | K16: 10 | L16: =IF($J34="Y",C34*1,"") -> 0 | M16: =IF($J34="Y",D34*1,"") -> 0 | N16: =IF($J34="Y",E34*1,"") -> 1 | O16: =IF($J34="Y",F34*1,"") -> 1 | P16: =IF($J34="Y",G34*1,"") -> 1 | Q16: =IF($J34="Y",H34*1,"") -> 0 | R16: =IF($J34="Y",I34*1,"") -> 0 | T16: 10 | U16: =IF(L16=1,U$6,"") | V16: =IF(M16=1,V$6,"") | W16: =IF(N16=1,W$6,"") -> 3 | X16: =IF(O16=1,X$6,"") -> 4 | Y16: =IF(P16=1,Y$6,"") -> 5 | Z16: =IF(Q16=1,Z$6,"") | AA16: =IF(R16=1,AA$6,"") | AC16: 10 | AD16: 3 | AE16: 4 | AF16: 5 | AI16: 10 | AJ16: =OFFSET($AI$1,1,AD16-1) -> 15 | AK16: =OFFSET($AI$1,1,AE16-1) -> 24 | AL16: =OFFSET($AI$1,1,AF16-1) -> 33
A17: =A16+1 -> 11 | B17: =DEC2BIN(A17,7) -> 0001011 | C17: =MID($B17,COLUMN()-(COLUMN($C17)-1),1) -> 0 | D17: =MID($B17,COLUMN()-(COLUMN($C17)-1),1) -> 0 | E17: =MID($B17,COLUMN()-(COLUMN($C17)-1),1) -> 0 | F17: =MID($B17,COLUMN()-(COLUMN($C17)-1),1) -> 1 | G17: =MID($B17,COLUMN()-(COLUMN($C17)-1),1) -> 0 | H17: =MID($B17,COLUMN()-(COLUMN($C17)-1),1) -> 1 | I17: =MID($B17,COLUMN()-(COLUMN($C17)-1),1) -> 1 | J17: =IF(C17+D17+E17+F17+G17+H17+I17=3,"Y","") -> Y | K17: 11 | L17: =IF($J41="Y",C41*1,"") -> 0 | M17: =IF($J41="Y",D41*1,"") -> 1 | N17: =IF($J41="Y",E41*1,"") -> 0 | O17: =IF($J41="Y",F41*1,"") -> 0 | P17: =IF($J41="Y",G41*1,"") -> 0 | Q17: =IF($J41="Y",H41*1,"") -> 1 | R17: =IF($J41="Y",I41*1,"") -> 1 | T17: 11 | U17: =IF(L17=1,U$6,"") | V17: =IF(M17=1,V$6,"") -> 2 | W17: =IF(N17=1,W$6,"") | X17: =IF(O17=1,X$6,"") | Y17: =IF(P17=1,Y$6,"") | Z17: =IF(Q17=1,Z$6,"") -> 6 | AA17: =IF(R17=1,AA$6,"") -> 7 | AC17: 11 | AD17: 2 | AE17: 6 | AF17: 7 | AI17: 11 | AJ17: =OFFSET($AI$1,1,AD17-1) -> 5 | AK17: =OFFSET($AI$1,1,AE17-1) -> 34 | AL17: =OFFSET($AI$1,1,AF17-1) -> 44
A18: =A17+1 -> 12 | B18: =DEC2BIN(A18,7) -> 0001100 | C18: =MID($B18,COLUMN()-(COLUMN($C18)-1),1) -> 0 | D18: =MID($B18,COLUMN()-(COLUMN($C18)-1),1) -> 0 | E18: =MID($B18,COLUMN()-(COLUMN($C18)-1),1) -> 0 | F18: =MID($B18,COLUMN()-(COLUMN($C18)-1),1) -> 1 | G18: =MID($B18,COLUMN()-(COLUMN($C18)-1),1) -> 1 | H18: =MID($B18,COLUMN()-(COLUMN($C18)-1),1) -> 0 | I18: =MID($B18,COLUMN()-(COLUMN($C18)-1),1) -> 0 | J18: =IF(C18+D18+E18+F18+G18+H18+I18=3,"Y","") | K18: 12 | L18: =IF($J43="Y",C43*1,"") -> 0 | M18: =IF($J43="Y",D43*1,"") -> 1 | N18: =IF($J43="Y",E43*1,"") -> 0 | O18: =IF($J43="Y",F43*1,"") -> 0 | P18: =IF($J43="Y",G43*1,"") -> 1 | Q18: =IF($J43="Y",H43*1,"") -> 0 | R18: =IF($J43="Y",I43*1,"") -> 1 | T18: 12 | U18: =IF(L18=1,U$6,"") | V18: =IF(M18=1,V$6,"") -> 2 | W18: =IF(N18=1,W$6,"") | X18: =IF(O18=1,X$6,"") | Y18: =IF(P18=1,Y$6,"") -> 5 | Z18: =IF(Q18=1,Z$6,"") | AA18: =IF(R18=1,AA$6,"") -> 7 | AC18: 12 | AD18: 2 | AE18: 5 | AF18: 7 | AI18: 12 | AJ18: =OFFSET($AI$1,1,AD18-1) -> 5 | AK18: =OFFSET($AI$1,1,AE18-1) -> 33 | AL18: =OFFSET($AI$1,1,AF18-1) -> 44
A19: =A18+1 -> 13 | B19: =DEC2BIN(A19,7) -> 0001101 | C19: =MID($B19,COLUMN()-(COLUMN($C19)-1),1) -> 0 | D19: =MID($B19,COLUMN()-(COLUMN($C19)-1),1) -> 0 | E19: =MID($B19,COLUMN()-(COLUMN($C19)-1),1) -> 0 | F19: =MID($B19,COLUMN()-(COLUMN($C19)-1),1) -> 1 | G19: =MID($B19,COLUMN()-(COLUMN($C19)-1),1) -> 1 | H19: =MID($B19,COLUMN()-(COLUMN($C19)-1),1) -> 0 | I19: =MID($B19,COLUMN()-(COLUMN($C19)-1),1) -> 1 | J19: =IF(C19+D19+E19+F19+G19+H19+I19=3,"Y","") -> Y | K19: 13 | L19: =IF($J44="Y",C44*1,"") -> 0 | M19: =IF($J44="Y",D44*1,"") -> 1 | N19: =IF($J44="Y",E44*1,"") -> 0 | O19: =IF($J44="Y",F44*1,"") -> 0 | P19: =IF($J44="Y",G44*1,"") -> 1 | Q19: =IF($J44="Y",H44*1,"") -> 1 | R19: =IF($J44="Y",I44*1,"") -> 0 | T19: 13 | U19: =IF(L19=1,U$6,"") | V19: =IF(M19=1,V$6,"") -> 2 | W19: =IF(N19=1,W$6,"") | X19: =IF(O19=1,X$6,"") | Y19: =IF(P19=1,Y$6,"") -> 5 | Z19: =IF(Q19=1,Z$6,"") -> 6 | AA19: =IF(R19=1,AA$6,"") | AC19: 13 | AD19: 2 | AE19: 5 | AF19: 6 | AI19: 13 | AJ19: =OFFSET($AI$1,1,AD19-1) -> 5 | AK19: =OFFSET($AI$1,1,AE19-1) -> 33 | AL19: =OFFSET($AI$1,1,AF19-1) -> 34
A20: =A19+1 -> 14 | B20: =DEC2BIN(A20,7) -> 0001110 | C20: =MID($B20,COLUMN()-(COLUMN($C20)-1),1) -> 0 | D20: =MID($B20,COLUMN()-(COLUMN($C20)-1),1) -> 0 | E20: =MID($B20,COLUMN()-(COLUMN($C20)-1),1) -> 0 | F20: =MID($B20,COLUMN()-(COLUMN($C20)-1),1) -> 1 | G20: =MID($B20,COLUMN()-(COLUMN($C20)-1),1) -> 1 | H20: =MID($B20,COLUMN()-(COLUMN($C20)-1),1) -> 1 | I20: =MID($B20,COLUMN()-(COLUMN($C20)-1),1) -> 0 | J20: =IF(C20+D20+E20+F20+G20+H20+I20=3,"Y","") -> Y | K20: 14 | L20: =IF($J47="Y",C47*1,"") -> 0 | M20: =IF($J47="Y",D47*1,"") -> 1 | N20: =IF($J47="Y",E47*1,"") -> 0 | O20: =IF($J47="Y",F47*1,"") -> 1 | P20: =IF($J47="Y",G47*1,"") -> 0 | Q20: =IF($J47="Y",H47*1,"") -> 0 | R20: =IF($J47="Y",I47*1,"") -> 1 | T20: 14 | U20: =IF(L20=1,U$6,"") | V20: =IF(M20=1,V$6,"") -> 2 | W20: =IF(N20=1,W$6,"") | X20: =IF(O20=1,X$6,"") -> 4 | Y20: =IF(P20=1,Y$6,"") | Z20: =IF(Q20=1,Z$6,"") | AA20: =IF(R20=1,AA$6,"") -> 7 | AC20: 14 | AD20: 2 | AE20: 4 | AF20: 7 | AI20: 14 | AJ20: =OFFSET($AI$1,1,AD20-1) -> 5 | AK20: =OFFSET($AI$1,1,AE20-1) -> 24 | AL20: =OFFSET($AI$1,1,AF20-1) -> 44
A21: =A20+1 -> 15 | B21: =DEC2BIN(A21,7) -> 0001111 | C21: =MID($B21,COLUMN()-(COLUMN($C21)-1),1) -> 0 | D21: =MID($B21,COLUMN()-(COLUMN($C21)-1),1) -> 0 | E21: =MID($B21,COLUMN()-(COLUMN($C21)-1),1) -> 0 | F21: =MID($B21,COLUMN()-(COLUMN($C21)-1),1) -> 1 | G21: =MID($B21,COLUMN()-(COLUMN($C21)-1),1) -> 1 | H21: =MID($B21,COLUMN()-(COLUMN($C21)-1),1) -> 1 | I21: =MID($B21,COLUMN()-(COLUMN($C21)-1),1) -> 1 | J21: =IF(C21+D21+E21+F21+G21+H21+I21=3,"Y","") | K21: 15 | L21: =IF($J48="Y",C48*1,"") -> 0 | M21: =IF($J48="Y",D48*1,"") -> 1 | N21: =IF($J48="Y",E48*1,"") -> 0 | O21: =IF($J48="Y",F48*1,"") -> 1 | P21: =IF($J48="Y",G48*1,"") -> 0 | Q21: =IF($J48="Y",H48*1,"") -> 1 | R21: =IF($J48="Y",I48*1,"") -> 0 | T21: 15 | U21: =IF(L21=1,U$6,"") | V21: =IF(M21=1,V$6,"") -> 2 | W21: =IF(N21=1,W$6,"") | X21: =IF(O21=1,X$6,"") -> 4 | Y21: =IF(P21=1,Y$6,"") | Z21: =IF(Q21=1,Z$6,"") -> 6 | AA21: =IF(R21=1,AA$6,"") | AC21: 15 | AD21: 2 | AE21: 4 | AF21: 6 | AI21: 15 | AJ21: =OFFSET($AI$1,1,AD21-1) -> 5 | AK21: =OFFSET($AI$1,1,AE21-1) -> 24 | AL21: =OFFSET($AI$1,1,AF21-1) -> 34
A22: =A21+1 -> 16 | B22: =DEC2BIN(A22,7) -> 0010000 | C22: =MID($B22,COLUMN()-(COLUMN($C22)-1),1) -> 0 | D22: =MID($B22,COLUMN()-(COLUMN($C22)-1),1) -> 0 | E22: =MID($B22,COLUMN()-(COLUMN($C22)-1),1) -> 1 | F22: =MID($B22,COLUMN()-(COLUMN($C22)-1),1) -> 0 | G22: =MID($B22,COLUMN()-(COLUMN($C22)-1),1) -> 0 | H22: =MID($B22,COLUMN()-(COLUMN($C22)-1),1) -> 0 | I22: =MID($B22,COLUMN()-(COLUMN($C22)-1),1) -> 0 | J22: =IF(C22+D22+E22+F22+G22+H22+I22=3,"Y","") | K22: 16 | L22: =IF($J50="Y",C50*1,"") -> 0 | M22: =IF($J50="Y",D50*1,"") -> 1 | N22: =IF($J50="Y",E50*1,"") -> 0 | O22: =IF($J50="Y",F50*1,"") -> 1 | P22: =IF($J50="Y",G50*1,"") -> 1 | Q22: =IF($J50="Y",H50*1,"") -> 0 | R22: =IF($J50="Y",I50*1,"") -> 0 | T22: 16 | U22: =IF(L22=1,U$6,"") | V22: =IF(M22=1,V$6,"") -> 2 | W22: =IF(N22=1,W$6,"") | X22: =IF(O22=1,X$6,"") -> 4 | Y22: =IF(P22=1,Y$6,"") -> 5 | Z22: =IF(Q22=1,Z$6,"") | AA22: =IF(R22=1,AA$6,"") | AC22: 16 | AD22: 2 | AE22: 4 | AF22: 5 | AI22: 16 | AJ22: =OFFSET($AI$1,1,AD22-1) -> 5 | AK22: =OFFSET($AI$1,1,AE22-1) -> 24 | AL22: =OFFSET($AI$1,1,AF22-1) -> 33
A23: =A22+1 -> 17 | B23: =DEC2BIN(A23,7) -> 0010001 | C23: =MID($B23,COLUMN()-(COLUMN($C23)-1),1) -> 0 | D23: =MID($B23,COLUMN()-(COLUMN($C23)-1),1) -> 0 | E23: =MID($B23,COLUMN()-(COLUMN($C23)-1),1) -> 1 | F23: =MID($B23,COLUMN()-(COLUMN($C23)-1),1) -> 0 | G23: =MID($B23,COLUMN()-(COLUMN($C23)-1),1) -> 0 | H23: =MID($B23,COLUMN()-(COLUMN($C23)-1),1) -> 0 | I23: =MID($B23,COLUMN()-(COLUMN($C23)-1),1) -> 1 | J23: =IF(C23+D23+E23+F23+G23+H23+I23=3,"Y","") | K23: 17 | L23: =IF($J55="Y",C55*1,"") -> 0 | M23: =IF($J55="Y",D55*1,"") -> 1 | N23: =IF($J55="Y",E55*1,"") -> 1 | O23: =IF($J55="Y",F55*1,"") -> 0 | P23: =IF($J55="Y",G55*1,"") -> 0 | Q23: =IF($J55="Y",H55*1,"") -> 0 | R23: =IF($J55="Y",I55*1,"") -> 1 | T23: 17 | U23: =IF(L23=1,U$6,"") | V23: =IF(M23=1,V$6,"") -> 2 | W23: =IF(N23=1,W$6,"") -> 3 | X23: =IF(O23=1,X$6,"") | Y23: =IF(P23=1,Y$6,"") | Z23: =IF(Q23=1,Z$6,"") | AA23: =IF(R23=1,AA$6,"") -> 7 | AC23: 17 | AD23: 2 | AE23: 3 | AF23: 7 | AI23: 17 | AJ23: =OFFSET($AI$1,1,AD23-1) -> 5 | AK23: =OFFSET($AI$1,1,AE23-1) -> 15 | AL23: =OFFSET($AI$1,1,AF23-1) -> 44
A24: =A23+1 -> 18 | B24: =DEC2BIN(A24,7) -> 0010010 | C24: =MID($B24,COLUMN()-(COLUMN($C24)-1),1) -> 0 | D24: =MID($B24,COLUMN()-(COLUMN($C24)-1),1) -> 0 | E24: =MID($B24,COLUMN()-(COLUMN($C24)-1),1) -> 1 | F24: =MID($B24,COLUMN()-(COLUMN($C24)-1),1) -> 0 | G24: =MID($B24,COLUMN()-(COLUMN($C24)-1),1) -> 0 | H24: =MID($B24,COLUMN()-(COLUMN($C24)-1),1) -> 1 | I24: =MID($B24,COLUMN()-(COLUMN($C24)-1),1) -> 0 | J24: =IF(C24+D24+E24+F24+G24+H24+I24=3,"Y","") | K24: 18 | L24: =IF($J56="Y",C56*1,"") -> 0 | M24: =IF($J56="Y",D56*1,"") -> 1 | N24: =IF($J56="Y",E56*1,"") -> 1 | O24: =IF($J56="Y",F56*1,"") -> 0 | P24: =IF($J56="Y",G56*1,"") -> 0 | Q24: =IF($J56="Y",H56*1,"") -> 1 | R24: =IF($J56="Y",I56*1,"") -> 0 | T24: 18 | U24: =IF(L24=1,U$6,"") | V24: =IF(M24=1,V$6,"") -> 2 | W24: =IF(N24=1,W$6,"") -> 3 | X24: =IF(O24=1,X$6,"") | Y24: =IF(P24=1,Y$6,"") | Z24: =IF(Q24=1,Z$6,"") -> 6 | AA24: =IF(R24=1,AA$6,"") | AC24: 18 | AD24: 2 | AE24: 3 | AF24: 6 | AI24: 18 | AJ24: =OFFSET($AI$1,1,AD24-1) -> 5 | AK24: =OFFSET($AI$1,1,AE24-1) -> 15 | AL24: =OFFSET($AI$1,1,AF24-1) -> 34
A25: =A24+1 -> 19 | B25: =DEC2BIN(A25,7) -> 0010011 | C25: =MID($B25,COLUMN()-(COLUMN($C25)-1),1) -> 0 | D25: =MID($B25,COLUMN()-(COLUMN($C25)-1),1) -> 0 | E25: =MID($B25,COLUMN()-(COLUMN($C25)-1),1) -> 1 | F25: =MID($B25,COLUMN()-(COLUMN($C25)-1),1) -> 0 | G25: =MID($B25,COLUMN()-(COLUMN($C25)-1),1) -> 0 | H25: =MID($B25,COLUMN()-(COLUMN($C25)-1),1) -> 1 | I25: =MID($B25,COLUMN()-(COLUMN($C25)-1),1) -> 1 | J25: =IF(C25+D25+E25+F25+G25+H25+I25=3,"Y","") -> Y | K25: 19 | L25: =IF($J58="Y",C58*1,"") -> 0 | M25: =IF($J58="Y",D58*1,"") -> 1 | N25: =IF($J58="Y",E58*1,"") -> 1 | O25: =IF($J58="Y",F58*1,"") -> 0 | P25: =IF($J58="Y",G58*1,"") -> 1 | Q25: =IF($J58="Y",H58*1,"") -> 0 | R25: =IF($J58="Y",I58*1,"") -> 0 | T25: 19 | U25: =IF(L25=1,U$6,"") | V25: =IF(M25=1,V$6,"") -> 2 | W25: =IF(N25=1,W$6,"") -> 3 | X25: =IF(O25=1,X$6,"") | Y25: =IF(P25=1,Y$6,"") -> 5 | Z25: =IF(Q25=1,Z$6,"") | AA25: =IF(R25=1,AA$6,"") | AC25: 19 | AD25: 2 | AE25: 3 | AF25: 5 | AI25: 19 | AJ25: =OFFSET($AI$1,1,AD25-1) -> 5 | AK25: =OFFSET($AI$1,1,AE25-1) -> 15 | AL25: =OFFSET($AI$1,1,AF25-1) -> 33
A26: =A25+1 -> 20 | B26: =DEC2BIN(A26,7) -> 0010100 | C26: =MID($B26,COLUMN()-(COLUMN($C26)-1),1) -> 0 | D26: =MID($B26,COLUMN()-(COLUMN($C26)-1),1) -> 0 | E26: =MID($B26,COLUMN()-(COLUMN($C26)-1),1) -> 1 | F26: =MID($B26,COLUMN()-(COLUMN($C26)-1),1) -> 0 | G26: =MID($B26,COLUMN()-(COLUMN($C26)-1),1) -> 1 | H26: =MID($B26,COLUMN()-(COLUMN($C26)-1),1) -> 0 | I26: =MID($B26,COLUMN()-(COLUMN($C26)-1),1) -> 0 | J26: =IF(C26+D26+E26+F26+G26+H26+I26=3,"Y","") | K26: 20 | L26: =IF($J62="Y",C62*1,"") -> 0 | M26: =IF($J62="Y",D62*1,"") -> 1 | N26: =IF($J62="Y",E62*1,"") -> 1 | O26: =IF($J62="Y",F62*1,"") -> 1 | P26: =IF($J62="Y",G62*1,"") -> 0 | Q26: =IF($J62="Y",H62*1,"") -> 0 | R26: =IF($J62="Y",I62*1,"") -> 0 | T26: 20 | U26: =IF(L26=1,U$6,"") | V26: =IF(M26=1,V$6,"") -> 2 | W26: =IF(N26=1,W$6,"") -> 3 | X26: =IF(O26=1,X$6,"") -> 4 | Y26: =IF(P26=1,Y$6,"") | Z26: =IF(Q26=1,Z$6,"") | AA26: =IF(R26=1,AA$6,"") | AC26: 20 | AD26: 2 | AE26: 3 | AF26: 4 | AI26: 20 | AJ26: =OFFSET($AI$1,1,AD26-1) -> 5 | AK26: =OFFSET($AI$1,1,AE26-1) -> 15 | AL26: =OFFSET($AI$1,1,AF26-1) -> 24
A27: =A26+1 -> 21 | B27: =DEC2BIN(A27,7) -> 0010101 | C27: =MID($B27,COLUMN()-(COLUMN($C27)-1),1) -> 0 | D27: =MID($B27,COLUMN()-(COLUMN($C27)-1),1) -> 0 | E27: =MID($B27,COLUMN()-(COLUMN($C27)-1),1) -> 1 | F27: =MID($B27,COLUMN()-(COLUMN($C27)-1),1) -> 0 | G27: =MID($B27,COLUMN()-(COLUMN($C27)-1),1) -> 1 | H27: =MID($B27,COLUMN()-(COLUMN($C27)-1),1) -> 0 | I27: =MID($B27,COLUMN()-(COLUMN($C27)-1),1) -> 1 | J27: =IF(C27+D27+E27+F27+G27+H27+I27=3,"Y","") -> Y | K27: 21 | L27: =IF($J73="Y",C73*1,"") -> 1 | M27: =IF($J73="Y",D73*1,"") -> 0 | N27: =IF($J73="Y",E73*1,"") -> 0 | O27: =IF($J73="Y",F73*1,"") -> 0 | P27: =IF($J73="Y",G73*1,"") -> 0 | Q27: =IF($J73="Y",H73*1,"") -> 1 | R27: =IF($J73="Y",I73*1,"") -> 1 | T27: 21 | U27: =IF(L27=1,U$6,"") -> 1 | V27: =IF(M27=1,V$6,"") | W27: =IF(N27=1,W$6,"") | X27: =IF(O27=1,X$6,"") | Y27: =IF(P27=1,Y$6,"") | Z27: =IF(Q27=1,Z$6,"") -> 6 | AA27: =IF(R27=1,AA$6,"") -> 7 | AC27: 21 | AD27: 1 | AE27: 6 | AF27: 7 | AI27: 21 | AJ27: =OFFSET($AI$1,1,AD27-1) -> 4 | AK27: =OFFSET($AI$1,1,AE27-1) -> 34 | AL27: =OFFSET($AI$1,1,AF27-1) -> 44
A28: =A27+1 -> 22 | B28: =DEC2BIN(A28,7) -> 0010110 | C28: =MID($B28,COLUMN()-(COLUMN($C28)-1),1) -> 0 | D28: =MID($B28,COLUMN()-(COLUMN($C28)-1),1) -> 0 | E28: =MID($B28,COLUMN()-(COLUMN($C28)-1),1) -> 1 | F28: =MID($B28,COLUMN()-(COLUMN($C28)-1),1) -> 0 | G28: =MID($B28,COLUMN()-(COLUMN($C28)-1),1) -> 1 | H28: =MID($B28,COLUMN()-(COLUMN($C28)-1),1) -> 1 | I28: =MID($B28,COLUMN()-(COLUMN($C28)-1),1) -> 0 | J28: =IF(C28+D28+E28+F28+G28+H28+I28=3,"Y","") -> Y | K28: 22 | L28: =IF($J75="Y",C75*1,"") -> 1 | M28: =IF($J75="Y",D75*1,"") -> 0 | N28: =IF($J75="Y",E75*1,"") -> 0 | O28: =IF($J75="Y",F75*1,"") -> 0 | P28: =IF($J75="Y",G75*1,"") -> 1 | Q28: =IF($J75="Y",H75*1,"") -> 0 | R28: =IF($J75="Y",I75*1,"") -> 1 | T28: 22 | U28: =IF(L28=1,U$6,"") -> 1 | V28: =IF(M28=1,V$6,"") | W28: =IF(N28=1,W$6,"") | X28: =IF(O28=1,X$6,"") | Y28: =IF(P28=1,Y$6,"") -> 5 | Z28: =IF(Q28=1,Z$6,"") | AA28: =IF(R28=1,AA$6,"") -> 7 | AC28: 22 | AD28: 1 | AE28: 5 | AF28: 7 | AI28: 22 | AJ28: =OFFSET($AI$1,1,AD28-1) -> 4 | AK28: =OFFSET($AI$1,1,AE28-1) -> 33 | AL28: =OFFSET($AI$1,1,AF28-1) -> 44
A29: =A28+1 -> 23 | B29: =DEC2BIN(A29,7) -> 0010111 | C29: =MID($B29,COLUMN()-(COLUMN($C29)-1),1) -> 0 | D29: =MID($B29,COLUMN()-(COLUMN($C29)-1),1) -> 0 | E29: =MID($B29,COLUMN()-(COLUMN($C29)-1),1) -> 1 | F29: =MID($B29,COLUMN()-(COLUMN($C29)-1),1) -> 0 | G29: =MID($B29,COLUMN()-(COLUMN($C29)-1),1) -> 1 | H29: =MID($B29,COLUMN()-(COLUMN($C29)-1),1) -> 1 | I29: =MID($B29,COLUMN()-(COLUMN($C29)-1),1) -> 1 | J29: =IF(C29+D29+E29+F29+G29+H29+I29=3,"Y","") | K29: 23 | L29: =IF($J76="Y",C76*1,"") -> 1 | M29: =IF($J76="Y",D76*1,"") -> 0 | N29: =IF($J76="Y",E76*1,"") -> 0 | O29: =IF($J76="Y",F76*1,"") -> 0 | P29: =IF($J76="Y",G76*1,"") -> 1 | Q29: =IF($J76="Y",H76*1,"") -> 1 | R29: =IF($J76="Y",I76*1,"") -> 0 | T29: 23 | U29: =IF(L29=1,U$6,"") -> 1 | V29: =IF(M29=1,V$6,"") | W29: =IF(N29=1,W$6,"") | X29: =IF(O29=1,X$6,"") | Y29: =IF(P29=1,Y$6,"") -> 5 | Z29: =IF(Q29=1,Z$6,"") -> 6 | AA29: =IF(R29=1,AA$6,"") | AC29: 23 | AD29: 1 | AE29: 5 | AF29: 6 | AI29: 23 | AJ29: =OFFSET($AI$1,1,AD29-1) -> 4 | AK29: =OFFSET($AI$1,1,AE29-1) -> 33 | AL29: =OFFSET($AI$1,1,AF29-1) -> 34
A30: =A29+1 -> 24 | B30: =DEC2BIN(A30,7) -> 0011000 | C30: =MID($B30,COLUMN()-(COLUMN($C30)-1),1) -> 0 | D30: =MID($B30,COLUMN()-(COLUMN($C30)-1),1) -> 0 | E30: =MID($B30,COLUMN()-(COLUMN($C30)-1),1) -> 1 | F30: =MID($B30,COLUMN()-(COLUMN($C30)-1),1) -> 1 | G30: =MID($B30,COLUMN()-(COLUMN($C30)-1),1) -> 0 | H30: =MID($B30,COLUMN()-(COLUMN($C30)-1),1) -> 0 | I30: =MID($B30,COLUMN()-(COLUMN($C30)-1),1) -> 0 | J30: =IF(C30+D30+E30+F30+G30+H30+I30=3,"Y","") | K30: 24 | L30: =IF($J79="Y",C79*1,"") -> 1 | M30: =IF($J79="Y",D79*1,"") -> 0 | N30: =IF($J79="Y",E79*1,"") -> 0 | O30: =IF($J79="Y",F79*1,"") -> 1 | P30: =IF($J79="Y",G79*1,"") -> 0 | Q30: =IF($J79="Y",H79*1,"") -> 0 | R30: =IF($J79="Y",I79*1,"") -> 1 | T30: 24 | U30: =IF(L30=1,U$6,"") -> 1 | V30: =IF(M30=1,V$6,"") | W30: =IF(N30=1,W$6,"") | X30: =IF(O30=1,X$6,"") -> 4 | Y30: =IF(P30=1,Y$6,"") | Z30: =IF(Q30=1,Z$6,"") | AA30: =IF(R30=1,AA$6,"") -> 7 | AC30: 24 | AD30: 1 | AE30: 4 | AF30: 7 | AI30: 24 | AJ30: =OFFSET($AI$1,1,AD30-1) -> 4 | AK30: =OFFSET($AI$1,1,AE30-1) -> 24 | AL30: =OFFSET($AI$1,1,AF30-1) -> 44
A31: =A30+1 -> 25 | B31: =DEC2BIN(A31,7) -> 0011001 | C31: =MID($B31,COLUMN()-(COLUMN($C31)-1),1) -> 0 | D31: =MID($B31,COLUMN()-(COLUMN($C31)-1),1) -> 0 | E31: =MID($B31,COLUMN()-(COLUMN($C31)-1),1) -> 1 | F31: =MID($B31,COLUMN()-(COLUMN($C31)-1),1) -> 1 | G31: =MID($B31,COLUMN()-(COLUMN($C31)-1),1) -> 0 | H31: =MID($B31,COLUMN()-(COLUMN($C31)-1),1) -> 0 | I31: =MID($B31,COLUMN()-(COLUMN($C31)-1),1) -> 1 | J31: =IF(C31+D31+E31+F31+G31+H31+I31=3,"Y","") -> Y | K31: 25 | L31: =IF($J80="Y",C80*1,"") -> 1 | M31: =IF($J80="Y",D80*1,"") -> 0 | N31: =IF($J80="Y",E80*1,"") -> 0 | O31: =IF($J80="Y",F80*1,"") -> 1 | P31: =IF($J80="Y",G80*1,"") -> 0 | Q31: =IF($J80="Y",H80*1,"") -> 1 | R31: =IF($J80="Y",I80*1,"") -> 0 | T31: 25 | U31: =IF(L31=1,U$6,"") -> 1 | V31: =IF(M31=1,V$6,"") | W31: =IF(N31=1,W$6,"") | X31: =IF(O31=1,X$6,"") -> 4 | Y31: =IF(P31=1,Y$6,"") | Z31: =IF(Q31=1,Z$6,"") -> 6 | AA31: =IF(R31=1,AA$6,"") | AC31: 25 | AD31: 1 | AE31: 4 | AF31: 6 | AI31: 25 | AJ31: =OFFSET($AI$1,1,AD31-1) -> 4 | AK31: =OFFSET($AI$1,1,AE31-1) -> 24 | AL31: =OFFSET($AI$1,1,AF31-1) -> 34
A32: =A31+1 -> 26 | B32: =DEC2BIN(A32,7) -> 0011010 | C32: =MID($B32,COLUMN()-(COLUMN($C32)-1),1) -> 0 | D32: =MID($B32,COLUMN()-(COLUMN($C32)-1),1) -> 0 | E32: =MID($B32,COLUMN()-(COLUMN($C32)-1),1) -> 1 | F32: =MID($B32,COLUMN()-(COLUMN($C32)-1),1) -> 1 | G32: =MID($B32,COLUMN()-(COLUMN($C32)-1),1) -> 0 | H32: =MID($B32,COLUMN()-(COLUMN($C32)-1),1) -> 1 | I32: =MID($B32,COLUMN()-(COLUMN($C32)-1),1) -> 0 | J32: =IF(C32+D32+E32+F32+G32+H32+I32=3,"Y","") -> Y | K32: 26 | L32: =IF($J82="Y",C82*1,"") -> 1 | M32: =IF($J82="Y",D82*1,"") -> 0 | N32: =IF($J82="Y",E82*1,"") -> 0 | O32: =IF($J82="Y",F82*1,"") -> 1 | P32: =IF($J82="Y",G82*1,"") -> 1 | Q32: =IF($J82="Y",H82*1,"") -> 0 | R32: =IF($J82="Y",I82*1,"") -> 0 | T32: 26 | U32: =IF(L32=1,U$6,"") -> 1 | V32: =IF(M32=1,V$6,"") | W32: =IF(N32=1,W$6,"") | X32: =IF(O32=1,X$6,"") -> 4 | Y32: =IF(P32=1,Y$6,"") -> 5 | Z32: =IF(Q32=1,Z$6,"") | AA32: =IF(R32=1,AA$6,"") | AC32: 26 | AD32: 1 | AE32: 4 | AF32: 5 | AI32: 26 | AJ32: =OFFSET($AI$1,1,AD32-1) -> 4 | AK32: =OFFSET($AI$1,1,AE32-1) -> 24 | AL32: =OFFSET($AI$1,1,AF32-1) -> 33
A33: =A32+1 -> 27 | B33: =DEC2BIN(A33,7) -> 0011011 | C33: =MID($B33,COLUMN()-(COLUMN($C33)-1),1) -> 0 | D33: =MID($B33,COLUMN()-(COLUMN($C33)-1),1) -> 0 | E33: =MID($B33,COLUMN()-(COLUMN($C33)-1),1) -> 1 | F33: =MID($B33,COLUMN()-(COLUMN($C33)-1),1) -> 1 | G33: =MID($B33,COLUMN()-(COLUMN($C33)-1),1) -> 0 | H33: =MID($B33,COLUMN()-(COLUMN($C33)-1),1) -> 1 | I33: =MID($B33,COLUMN()-(COLUMN($C33)-1),1) -> 1 | J33: =IF(C33+D33+E33+F33+G33+H33+I33=3,"Y","") | K33: 27 | L33: =IF($J87="Y",C87*1,"") -> 1 | M33: =IF($J87="Y",D87*1,"") -> 0 | N33: =IF($J87="Y",E87*1,"") -> 1 | O33: =IF($J87="Y",F87*1,"") -> 0 | P33: =IF($J87="Y",G87*1,"") -> 0 | Q33: =IF($J87="Y",H87*1,"") -> 0 | R33: =IF($J87="Y",I87*1,"") -> 1 | T33: 27 | U33: =IF(L33=1,U$6,"") -> 1 | V33: =IF(M33=1,V$6,"") | W33: =IF(N33=1,W$6,"") -> 3 | X33: =IF(O33=1,X$6,"") | Y33: =IF(P33=1,Y$6,"") | Z33: =IF(Q33=1,Z$6,"") | AA33: =IF(R33=1,AA$6,"") -> 7 | AC33: 27 | AD33: 1 | AE33: 3 | AF33: 7 | AI33: 27 | AJ33: =OFFSET($AI$1,1,AD33-1) -> 4 | AK33: =OFFSET($AI$1,1,AE33-1) -> 15 | AL33: =OFFSET($AI$1,1,AF33-1) -> 44
A34: =A33+1 -> 28 | B34: =DEC2BIN(A34,7) -> 0011100 | C34: =MID($B34,COLUMN()-(COLUMN($C34)-1),1) -> 0 | D34: =MID($B34,COLUMN()-(COLUMN($C34)-1),1) -> 0 | E34: =MID($B34,COLUMN()-(COLUMN($C34)-1),1) -> 1 | F34: =MID($B34,COLUMN()-(COLUMN($C34)-1),1) -> 1 | G34: =MID($B34,COLUMN()-(COLUMN($C34)-1),1) -> 1 | H34: =MID($B34,COLUMN()-(COLUMN($C34)-1),1) -> 0 | I34: =MID($B34,COLUMN()-(COLUMN($C34)-1),1) -> 0 | J34: =IF(C34+D34+E34+F34+G34+H34+I34=3,"Y","") -> Y | K34: 28 | L34: =IF($J88="Y",C88*1,"") -> 1 | M34: =IF($J88="Y",D88*1,"") -> 0 | N34: =IF($J88="Y",E88*1,"") -> 1 | O34: =IF($J88="Y",F88*1,"") -> 0 | P34: =IF($J88="Y",G88*1,"") -> 0 | Q34: =IF($J88="Y",H88*1,"") -> 1 | R34: =IF($J88="Y",I88*1,"") -> 0 | T34: 28 | U34: =IF(L34=1,U$6,"") -> 1 | V34: =IF(M34=1,V$6,"") | W34: =IF(N34=1,W$6,"") -> 3 | X34: =IF(O34=1,X$6,"") | Y34: =IF(P34=1,Y$6,"") | Z34: =IF(Q34=1,Z$6,"") -> 6 | AA34: =IF(R34=1,AA$6,"") | AC34: 28 | AD34: 1 | AE34: 3 | AF34: 6 | AI34: 28 | AJ34: =OFFSET($AI$1,1,AD34-1) -> 4 | AK34: =OFFSET($AI$1,1,AE34-1) -> 15 | AL34: =OFFSET($AI$1,1,AF34-1) -> 34
A35: =A34+1 -> 29 | B35: =DEC2BIN(A35,7) -> 0011101 | C35: =MID($B35,COLUMN()-(COLUMN($C35)-1),1) -> 0 | D35: =MID($B35,COLUMN()-(COLUMN($C35)-1),1) -> 0 | E35: =MID($B35,COLUMN()-(COLUMN($C35)-1),1) -> 1 | F35: =MID($B35,COLUMN()-(COLUMN($C35)-1),1) -> 1 | G35: =MID($B35,COLUMN()-(COLUMN($C35)-1),1) -> 1 | H35: =MID($B35,COLUMN()-(COLUMN($C35)-1),1) -> 0 | I35: =MID($B35,COLUMN()-(COLUMN($C35)-1),1) -> 1 | J35: =IF(C35+D35+E35+F35+G35+H35+I35=3,"Y","") | K35: 29 | L35: =IF($J90="Y",C90*1,"") -> 1 | M35: =IF($J90="Y",D90*1,"") -> 0 | N35: =IF($J90="Y",E90*1,"") -> 1 | O35: =IF($J90="Y",F90*1,"") -> 0 | P35: =IF($J90="Y",G90*1,"") -> 1 | Q35: =IF($J90="Y",H90*1,"") -> 0 | R35: =IF($J90="Y",I90*1,"") -> 0 | T35: 29 | U35: =IF(L35=1,U$6,"") -> 1 | V35: =IF(M35=1,V$6,"") | W35: =IF(N35=1,W$6,"") -> 3 | X35: =IF(O35=1,X$6,"") | Y35: =IF(P35=1,Y$6,"") -> 5 | Z35: =IF(Q35=1,Z$6,"") | AA35: =IF(R35=1,AA$6,"") | AC35: 29 | AD35: 1 | AE35: 3 | AF35: 5 | AI35: 29 | AJ35: =OFFSET($AI$1,1,AD35-1) -> 4 | AK35: =OFFSET($AI$1,1,AE35-1) -> 15 | AL35: =OFFSET($AI$1,1,AF35-1) -> 33
A36: =A35+1 -> 30 | B36: =DEC2BIN(A36,7) -> 0011110 | C36: =MID($B36,COLUMN()-(COLUMN($C36)-1),1) -> 0 | D36: =MID($B36,COLUMN()-(COLUMN($C36)-1),1) -> 0 | E36: =MID($B36,COLUMN()-(COLUMN($C36)-1),1) -> 1 | F36: =MID($B36,COLUMN()-(COLUMN($C36)-1),1) -> 1 | G36: =MID($B36,COLUMN()-(COLUMN($C36)-1),1) -> 1 | H36: =MID($B36,COLUMN()-(COLUMN($C36)-1),1) -> 1 | I36: =MID($B36,COLUMN()-(COLUMN($C36)-1),1) -> 0 | J36: =IF(C36+D36+E36+F36+G36+H36+I36=3,"Y","") | K36: 30 | L36: =IF($J94="Y",C94*1,"") -> 1 | M36: =IF($J94="Y",D94*1,"") -> 0 | N36: =IF($J94="Y",E94*1,"") -> 1 | O36: =IF($J94="Y",F94*1,"") -> 1 | P36: =IF($J94="Y",G94*1,"") -> 0 | Q36: =IF($J94="Y",H94*1,"") -> 0 | R36: =IF($J94="Y",I94*1,"") -> 0 | T36: 30 | U36: =IF(L36=1,U$6,"") -> 1 | V36: =IF(M36=1,V$6,"") | W36: =IF(N36=1,W$6,"") -> 3 | X36: =IF(O36=1,X$6,"") -> 4 | Y36: =IF(P36=1,Y$6,"") | Z36: =IF(Q36=1,Z$6,"") | AA36: =IF(R36=1,AA$6,"") | AC36: 30 | AD36: 1 | AE36: 3 | AF36: 4 | AI36: 30 | AJ36: =OFFSET($AI$1,1,AD36-1) -> 4 | AK36: =OFFSET($AI$1,1,AE36-1) -> 15 | AL36: =OFFSET($AI$1,1,AF36-1) -> 24
A37: =A36+1 -> 31 | B37: =DEC2BIN(A37,7) -> 0011111 | C37: =MID($B37,COLUMN()-(COLUMN($C37)-1),1) -> 0 | D37: =MID($B37,COLUMN()-(COLUMN($C37)-1),1) -> 0 | E37: =MID($B37,COLUMN()-(COLUMN($C37)-1),1) -> 1 | F37: =MID($B37,COLUMN()-(COLUMN($C37)-1),1) -> 1 | G37: =MID($B37,COLUMN()-(COLUMN($C37)-1),1) -> 1 | H37: =MID($B37,COLUMN()-(COLUMN($C37)-1),1) -> 1 | I37: =MID($B37,COLUMN()-(COLUMN($C37)-1),1) -> 1 | J37: =IF(C37+D37+E37+F37+G37+H37+I37=3,"Y","") | K37: 31 | L37: =IF($J103="Y",C103*1,"") -> 1 | M37: =IF($J103="Y",D103*1,"") -> 1 | N37: =IF($J103="Y",E103*1,"") -> 0 | O37: =IF($J103="Y",F103*1,"") -> 0 | P37: =IF($J103="Y",G103*1,"") -> 0 | Q37: =IF($J103="Y",H103*1,"") -> 0 | R37: =IF($J103="Y",I103*1,"") -> 1 | T37: 31 | U37: =IF(L37=1,U$6,"") -> 1 | V37: =IF(M37=1,V$6,"") -> 2 | W37: =IF(N37=1,W$6,"") | X37: =IF(O37=1,X$6,"") | Y37: =IF(P37=1,Y$6,"") | Z37: =IF(Q37=1,Z$6,"") | AA37: =IF(R37=1,AA$6,"") -> 7 | AC37: 31 | AD37: 1 | AE37: 2 | AF37: 7 | AI37: 31 | AJ37: =OFFSET($AI$1,1,AD37-1) -> 4 | AK37: =OFFSET($AI$1,1,AE37-1) -> 5 | AL37: =OFFSET($AI$1,1,AF37-1) -> 44
A38: =A37+1 -> 32 | B38: =DEC2BIN(A38,7) -> 0100000 | C38: =MID($B38,COLUMN()-(COLUMN($C38)-1),1) -> 0 | D38: =MID($B38,COLUMN()-(COLUMN($C38)-1),1) -> 1 | E38: =MID($B38,COLUMN()-(COLUMN($C38)-1),1) -> 0 | F38: =MID($B38,COLUMN()-(COLUMN($C38)-1),1) -> 0 | G38: =MID($B38,COLUMN()-(COLUMN($C38)-1),1) -> 0 | H38: =MID($B38,COLUMN()-(COLUMN($C38)-1),1) -> 0 | I38: =MID($B38,COLUMN()-(COLUMN($C38)-1),1) -> 0 | J38: =IF(C38+D38+E38+F38+G38+H38+I38=3,"Y","") | K38: 32 | L38: =IF($J104="Y",C104*1,"") -> 1 | M38: =IF($J104="Y",D104*1,"") -> 1 | N38: =IF($J104="Y",E104*1,"") -> 0 | O38: =IF($J104="Y",F104*1,"") -> 0 | P38: =IF($J104="Y",G104*1,"") -> 0 | Q38: =IF($J104="Y",H104*1,"") -> 1 | R38: =IF($J104="Y",I104*1,"") -> 0 | T38: 32 | U38: =IF(L38=1,U$6,"") -> 1 | V38: =IF(M38=1,V$6,"") -> 2 | W38: =IF(N38=1,W$6,"") | X38: =IF(O38=1,X$6,"") | Y38: =IF(P38=1,Y$6,"") | Z38: =IF(Q38=1,Z$6,"") -> 6 | AA38: =IF(R38=1,AA$6,"") | AC38: 32 | AD38: 1 | AE38: 2 | AF38: 6 | AI38: 32 | AJ38: =OFFSET($AI$1,1,AD38-1) -> 4 | AK38: =OFFSET($AI$1,1,AE38-1) -> 5 | AL38: =OFFSET($AI$1,1,AF38-1) -> 34
A39: =A38+1 -> 33 | B39: =DEC2BIN(A39,7) -> 0100001 | C39: =MID($B39,COLUMN()-(COLUMN($C39)-1),1) -> 0 | D39: =MID($B39,COLUMN()-(COLUMN($C39)-1),1) -> 1 | E39: =MID($B39,COLUMN()-(COLUMN($C39)-1),1) -> 0 | F39: =MID($B39,COLUMN()-(COLUMN($C39)-1),1) -> 0 | G39: =MID($B39,COLUMN()-(COLUMN($C39)-1),1) -> 0 | H39: =MID($B39,COLUMN()-(COLUMN($C39)-1),1) -> 0 | I39: =MID($B39,COLUMN()-(COLUMN($C39)-1),1) -> 1 | J39: =IF(C39+D39+E39+F39+G39+H39+I39=3,"Y","") | K39: 33 | L39: =IF($J106="Y",C106*1,"") -> 1 | M39: =IF($J106="Y",D106*1,"") -> 1 | N39: =IF($J106="Y",E106*1,"") -> 0 | O39: =IF($J106="Y",F106*1,"") -> 0 | P39: =IF($J106="Y",G106*1,"") -> 1 | Q39: =IF($J106="Y",H106*1,"") -> 0 | R39: =IF($J106="Y",I106*1,"") -> 0 | T39: 33 | U39: =IF(L39=1,U$6,"") -> 1 | V39: =IF(M39=1,V$6,"") -> 2 | W39: =IF(N39=1,W$6,"") | X39: =IF(O39=1,X$6,"") | Y39: =IF(P39=1,Y$6,"") -> 5 | Z39: =IF(Q39=1,Z$6,"") | AA39: =IF(R39=1,AA$6,"") | AC39: 33 | AD39: 1 | AE39: 2 | AF39: 5 | AI39: 33 | AJ39: =OFFSET($AI$1,1,AD39-1) -> 4 | AK39: =OFFSET($AI$1,1,AE39-1) -> 5 | AL39: =OFFSET($AI$1,1,AF39-1) -> 33
A40: =A39+1 -> 34 | B40: =DEC2BIN(A40,7) -> 0100010 | C40: =MID($B40,COLUMN()-(COLUMN($C40)-1),1) -> 0 | D40: =MID($B40,COLUMN()-(COLUMN($C40)-1),1) -> 1 | E40: =MID($B40,COLUMN()-(COLUMN($C40)-1),1) -> 0 | F40: =MID($B40,COLUMN()-(COLUMN($C40)-1),1) -> 0 | G40: =MID($B40,COLUMN()-(COLUMN($C40)-1),1) -> 0 | H40: =MID($B40,COLUMN()-(COLUMN($C40)-1),1) -> 1 | I40: =MID($B40,COLUMN()-(COLUMN($C40)-1),1) -> 0 | J40: =IF(C40+D40+E40+F40+G40+H40+I40=3,"Y","") | K40: 34 | L40: =IF($J110="Y",C110*1,"") -> 1 | M40: =IF($J110="Y",D110*1,"") -> 1 | N40: =IF($J110="Y",E110*1,"") -> 0 | O40: =IF($J110="Y",F110*1,"") -> 1 | P40: =IF($J110="Y",G110*1,"") -> 0 | Q40: =IF($J110="Y",H110*1,"") -> 0 | R40: =IF($J110="Y",I110*1,"") -> 0 | T40: 34 | U40: =IF(L40=1,U$6,"") -> 1 | V40: =IF(M40=1,V$6,"") -> 2 | W40: =IF(N40=1,W$6,"") | X40: =IF(O40=1,X$6,"") -> 4 | Y40: =IF(P40=1,Y$6,"") | Z40: =IF(Q40=1,Z$6,"") | AA40: =IF(R40=1,AA$6,"") | AC40: 34 | AD40: 1 | AE40: 2 | AF40: 4 | AI40: 34 | AJ40: =OFFSET($AI$1,1,AD40-1) -> 4 | AK40: =OFFSET($AI$1,1,AE40-1) -> 5 | AL40: =OFFSET($AI$1,1,AF40-1) -> 24
A41: =A40+1 -> 35 | B41: =DEC2BIN(A41,7) -> 0100011 | C41: =MID($B41,COLUMN()-(COLUMN($C41)-1),1) -> 0 | D41: =MID($B41,COLUMN()-(COLUMN($C41)-1),1) -> 1 | E41: =MID($B41,COLUMN()-(COLUMN($C41)-1),1) -> 0 | F41: =MID($B41,COLUMN()-(COLUMN($C41)-1),1) -> 0 | G41: =MID($B41,COLUMN()-(COLUMN($C41)-1),1) -> 0 | H41: =MID($B41,COLUMN()-(COLUMN($C41)-1),1) -> 1 | I41: =MID($B41,COLUMN()-(COLUMN($C41)-1),1) -> 1 | J41: =IF(C41+D41+E41+F41+G41+H41+I41=3,"Y","") -> Y | K41: 35 | L41: =IF($J118="Y",C118*1,"") -> 1 | M41: =IF($J118="Y",D118*1,"") -> 1 | N41: =IF($J118="Y",E118*1,"") -> 1 | O41: =IF($J118="Y",F118*1,"") -> 0 | P41: =IF($J118="Y",G118*1,"") -> 0 | Q41: =IF($J118="Y",H118*1,"") -> 0 | R41: =IF($J118="Y",I118*1,"") -> 0 | T41: 35 | U41: =IF(L41=1,U$6,"") -> 1 | V41: =IF(M41=1,V$6,"") -> 2 | W41: =IF(N41=1,W$6,"") -> 3 | X41: =IF(O41=1,X$6,"") | Y41: =IF(P41=1,Y$6,"") | Z41: =IF(Q41=1,Z$6,"") | AA41: =IF(R41=1,AA$6,"") | AC41: 35 | AD41: 1 | AE41: 2 | AF41: 3 | AI41: 35 | AJ41: =OFFSET($AI$1,1,AD41-1) -> 4 | AK41: =OFFSET($AI$1,1,AE41-1) -> 5 | AL41: =OFFSET($AI$1,1,AF41-1) -> 15
A42: =A41+1 -> 36 | B42: =DEC2BIN(A42,7) -> 0100100 | C42: =MID($B42,COLUMN()-(COLUMN($C42)-1),1) -> 0 | D42: =MID($B42,COLUMN()-(COLUMN($C42)-1),1) -> 1 | E42: =MID($B42,COLUMN()-(COLUMN($C42)-1),1) -> 0 | F42: =MID($B42,COLUMN()-(COLUMN($C42)-1),1) -> 0 | G42: =MID($B42,COLUMN()-(COLUMN($C42)-1),1) -> 1 | H42: =MID($B42,COLUMN()-(COLUMN($C42)-1),1) -> 0 | I42: =MID($B42,COLUMN()-(COLUMN($C42)-1),1) -> 0 | J42: =IF(C42+D42+E42+F42+G42+H42+I42=3,"Y","") | L42: =IF($J108="Y",C108*1,"") | M42: =IF($J108="Y",D108*1,"") | N42: =IF($J108="Y",E108*1,"") | O42: =IF($J108="Y",F108*1,"") | P42: =IF($J108="Y",G108*1,"") | Q42: =IF($J108="Y",H108*1,"") | R42: =IF($J108="Y",I108*1,"")
A43: =A42+1 -> 37 | B43: =DEC2BIN(A43,7) -> 0100101 | C43: =MID($B43,COLUMN()-(COLUMN($C43)-1),1) -> 0 | D43: =MID($B43,COLUMN()-(COLUMN($C43)-1),1) -> 1 | E43: =MID($B43,COLUMN()-(COLUMN($C43)-1),1) -> 0 | F43: =MID($B43,COLUMN()-(COLUMN($C43)-1),1) -> 0 | G43: =MID($B43,COLUMN()-(COLUMN($C43)-1),1) -> 1 | H43: =MID($B43,COLUMN()-(COLUMN($C43)-1),1) -> 0 | I43: =MID($B43,COLUMN()-(COLUMN($C43)-1),1) -> 1 | J43: =IF(C43+D43+E43+F43+G43+H43+I43=3,"Y","") -> Y | L43: =IF($J109="Y",C109*1,"") | M43: =IF($J109="Y",D109*1,"") | N43: =IF($J109="Y",E109*1,"") | O43: =IF($J109="Y",F109*1,"") | P43: =IF($J109="Y",G109*1,"") | Q43: =IF($J109="Y",H109*1,"") | R43: =IF($J109="Y",I109*1,"")
A44: =A43+1 -> 38 | B44: =DEC2BIN(A44,7) -> 0100110 | C44: =MID($B44,COLUMN()-(COLUMN($C44)-1),1) -> 0 | D44: =MID($B44,COLUMN()-(COLUMN($C44)-1),1) -> 1 | E44: =MID($B44,COLUMN()-(COLUMN($C44)-1),1) -> 0 | F44: =MID($B44,COLUMN()-(COLUMN($C44)-1),1) -> 0 | G44: =MID($B44,COLUMN()-(COLUMN($C44)-1),1) -> 1 | H44: =MID($B44,COLUMN()-(COLUMN($C44)-1),1) -> 1 | I44: =MID($B44,COLUMN()-(COLUMN($C44)-1),1) -> 0 | J44: =IF(C44+D44+E44+F44+G44+H44+I44=3,"Y","") -> Y
A45: =A44+1 -> 39 | B45: =DEC2BIN(A45,7) -> 0100111 | C45: =MID($B45,COLUMN()-(COLUMN($C45)-1),1) -> 0 | D45: =MID($B45,COLUMN()-(COLUMN($C45)-1),1) -> 1 | E45: =MID($B45,COLUMN()-(COLUMN($C45)-1),1) -> 0 | F45: =MID($B45,COLUMN()-(COLUMN($C45)-1),1) -> 0 | G45: =MID($B45,COLUMN()-(COLUMN($C45)-1),1) -> 1 | H45: =MID($B45,COLUMN()-(COLUMN($C45)-1),1) -> 1 | I45: =MID($B45,COLUMN()-(COLUMN($C45)-1),1) -> 1 | J45: =IF(C45+D45+E45+F45+G45+H45+I45=3,"Y","") | L45: =IF($J111="Y",C111*1,"") | M45: =IF($J111="Y",D111*1,"") | N45: =IF($J111="Y",E111*1,"") | O45: =IF($J111="Y",F111*1,"") | P45: =IF($J111="Y",G111*1,"") | Q45: =IF($J111="Y",H111*1,"") | R45: =IF($J111="Y",I111*1,"")
A46: =A45+1 -> 40 | B46: =DEC2BIN(A46,7) -> 0101000 | C46: =MID($B46,COLUMN()-(COLUMN($C46)-1),1) -> 0 | D46: =MID($B46,COLUMN()-(COLUMN($C46)-1),1) -> 1 | E46: =MID($B46,COLUMN()-(COLUMN($C46)-1),1) -> 0 | F46: =MID($B46,COLUMN()-(COLUMN($C46)-1),1) -> 1 | G46: =MID($B46,COLUMN()-(COLUMN($C46)-1),1) -> 0 | H46: =MID($B46,COLUMN()-(COLUMN($C46)-1),1) -> 0 | I46: =MID($B46,COLUMN()-(COLUMN($C46)-1),1) -> 0 | J46: =IF(C46+D46+E46+F46+G46+H46+I46=3,"Y","") | L46: =IF($J112="Y",C112*1,"") | M46: =IF($J112="Y",D112*1,"") | N46: =IF($J112="Y",E112*1,"") | O46: =IF($J112="Y",F112*1,"") | P46: =IF($J112="Y",G112*1,"") | Q46: =IF($J112="Y",H112*1,"") | R46: =IF($J112="Y",I112*1,"")
A47: =A46+1 -> 41 | B47: =DEC2BIN(A47,7) -> 0101001 | C47: =MID($B47,COLUMN()-(COLUMN($C47)-1),1) -> 0 | D47: =MID($B47,COLUMN()-(COLUMN($C47)-1),1) -> 1 | E47: =MID($B47,COLUMN()-(COLUMN($C47)-1),1) -> 0 | F47: =MID($B47,COLUMN()-(COLUMN($C47)-1),1) -> 1 | G47: =MID($B47,COLUMN()-(COLUMN($C47)-1),1) -> 0 | H47: =MID($B47,COLUMN()-(COLUMN($C47)-1),1) -> 0 | I47: =MID($B47,COLUMN()-(COLUMN($C47)-1),1) -> 1 | J47: =IF(C47+D47+E47+F47+G47+H47+I47=3,"Y","") -> Y | L47: =IF($J113="Y",C113*1,"") | M47: =IF($J113="Y",D113*1,"") | N47: =IF($J113="Y",E113*1,"") | O47: =IF($J113="Y",F113*1,"") | P47: =IF($J113="Y",G113*1,"") | Q47: =IF($J113="Y",H113*1,"") | R47: =IF($J113="Y",I113*1,"")
A48: =A47+1 -> 42 | B48: =DEC2BIN(A48,7) -> 0101010 | C48: =MID($B48,COLUMN()-(COLUMN($C48)-1),1) -> 0 | D48: =MID($B48,COLUMN()-(COLUMN($C48)-1),1) -> 1 | E48: =MID($B48,COLUMN()-(COLUMN($C48)-1),1) -> 0 | F48: =MID($B48,COLUMN()-(COLUMN($C48)-1),1) -> 1 | G48: =MID($B48,COLUMN()-(COLUMN($C48)-1),1) -> 0 | H48: =MID($B48,COLUMN()-(COLUMN($C48)-1),1) -> 1 | I48: =MID($B48,COLUMN()-(COLUMN($C48)-1),1) -> 0 | J48: =IF(C48+D48+E48+F48+G48+H48+I48=3,"Y","") -> Y | L48: =IF($J114="Y",C114*1,"") | M48: =IF($J114="Y",D114*1,"") | N48: =IF($J114="Y",E114*1,"") | O48: =IF($J114="Y",F114*1,"") | P48: =IF($J114="Y",G114*1,"") | Q48: =IF($J114="Y",H114*1,"") | R48: =IF($J114="Y",I114*1,"")
A49: =A48+1 -> 43 | B49: =DEC2BIN(A49,7) -> 0101011 | C49: =MID($B49,COLUMN()-(COLUMN($C49)-1),1) -> 0 | D49: =MID($B49,COLUMN()-(COLUMN($C49)-1),1) -> 1 | E49: =MID($B49,COLUMN()-(COLUMN($C49)-1),1) -> 0 | F49: =MID($B49,COLUMN()-(COLUMN($C49)-1),1) -> 1 | G49: =MID($B49,COLUMN()-(COLUMN($C49)-1),1) -> 0 | H49: =MID($B49,COLUMN()-(COLUMN($C49)-1),1) -> 1 | I49: =MID($B49,COLUMN()-(COLUMN($C49)-1),1) -> 1 | J49: =IF(C49+D49+E49+F49+G49+H49+I49=3,"Y","") | L49: =IF($J115="Y",C115*1,"") | M49: =IF($J115="Y",D115*1,"") | N49: =IF($J115="Y",E115*1,"") | O49: =IF($J115="Y",F115*1,"") | P49: =IF($J115="Y",G115*1,"") | Q49: =IF($J115="Y",H115*1,"") | R49: =IF($J115="Y",I115*1,"")
A50: =A49+1 -> 44 | B50: =DEC2BIN(A50,7) -> 0101100 | C50: =MID($B50,COLUMN()-(COLUMN($C50)-1),1) -> 0 | D50: =MID($B50,COLUMN()-(COLUMN($C50)-1),1) -> 1 | E50: =MID($B50,COLUMN()-(COLUMN($C50)-1),1) -> 0 | F50: =MID($B50,COLUMN()-(COLUMN($C50)-1),1) -> 1 | G50: =MID($B50,COLUMN()-(COLUMN($C50)-1),1) -> 1 | H50: =MID($B50,COLUMN()-(COLUMN($C50)-1),1) -> 0 | I50: =MID($B50,COLUMN()-(COLUMN($C50)-1),1) -> 0 | J50: =IF(C50+D50+E50+F50+G50+H50+I50=3,"Y","") -> Y | L50: =IF($J116="Y",C116*1,"") | M50: =IF($J116="Y",D116*1,"") | N50: =IF($J116="Y",E116*1,"") | O50: =IF($J116="Y",F116*1,"") | P50: =IF($J116="Y",G116*1,"") | Q50: =IF($J116="Y",H116*1,"") | R50: =IF($J116="Y",I116*1,"")
A51: =A50+1 -> 45 | B51: =DEC2BIN(A51,7) -> 0101101 | C51: =MID($B51,COLUMN()-(COLUMN($C51)-1),1) -> 0 | D51: =MID($B51,COLUMN()-(COLUMN($C51)-1),1) -> 1 | E51: =MID($B51,COLUMN()-(COLUMN($C51)-1),1) -> 0 | F51: =MID($B51,COLUMN()-(COLUMN($C51)-1),1) -> 1 | G51: =MID($B51,COLUMN()-(COLUMN($C51)-1),1) -> 1 | H51: =MID($B51,COLUMN()-(COLUMN($C51)-1),1) -> 0 | I51: =MID($B51,COLUMN()-(COLUMN($C51)-1),1) -> 1 | J51: =IF(C51+D51+E51+F51+G51+H51+I51=3,"Y","") | L51: =IF($J117="Y",C117*1,"") | M51: =IF($J117="Y",D117*1,"") | N51: =IF($J117="Y",E117*1,"") | O51: =IF($J117="Y",F117*1,"") | P51: =IF($J117="Y",G117*1,"") | Q51: =IF($J117="Y",H117*1,"") | R51: =IF($J117="Y",I117*1,"")
A52: =A51+1 -> 46 | B52: =DEC2BIN(A52,7) -> 0101110 | C52: =MID($B52,COLUMN()-(COLUMN($C52)-1),1) -> 0 | D52: =MID($B52,COLUMN()-(COLUMN($C52)-1),1) -> 1 | E52: =MID($B52,COLUMN()-(COLUMN($C52)-1),1) -> 0 | F52: =MID($B52,COLUMN()-(COLUMN($C52)-1),1) -> 1 | G52: =MID($B52,COLUMN()-(COLUMN($C52)-1),1) -> 1 | H52: =MID($B52,COLUMN()-(COLUMN($C52)-1),1) -> 1 | I52: =MID($B52,COLUMN()-(COLUMN($C52)-1),1) -> 0 | J52: =IF(C52+D52+E52+F52+G52+H52+I52=3,"Y","")
A53: =A52+1 -> 47 | B53: =DEC2BIN(A53,7) -> 0101111 | C53: =MID($B53,COLUMN()-(COLUMN($C53)-1),1) -> 0 | D53: =MID($B53,COLUMN()-(COLUMN($C53)-1),1) -> 1 | E53: =MID($B53,COLUMN()-(COLUMN($C53)-1),1) -> 0 | F53: =MID($B53,COLUMN()-(COLUMN($C53)-1),1) -> 1 | G53: =MID($B53,COLUMN()-(COLUMN($C53)-1),1) -> 1 | H53: =MID($B53,COLUMN()-(COLUMN($C53)-1),1) -> 1 | I53: =MID($B53,COLUMN()-(COLUMN($C53)-1),1) -> 1 | J53: =IF(C53+D53+E53+F53+G53+H53+I53=3,"Y","") | L53: =IF($J53="Y",C53*1,"") | M53: =IF($J53="Y",D53*1,"") | N53: =IF($J53="Y",E53*1,"") | O53: =IF($J53="Y",F53*1,"") | P53: =IF($J53="Y",G53*1,"") | Q53: =IF($J53="Y",H53*1,"") | R53: =IF($J53="Y",I53*1,"")
A54: =A53+1 -> 48 | B54: =DEC2BIN(A54,7) -> 0110000 | C54: =MID($B54,COLUMN()-(COLUMN($C54)-1),1) -> 0 | D54: =MID($B54,COLUMN()-(COLUMN($C54)-1),1) -> 1 | E54: =MID($B54,COLUMN()-(COLUMN($C54)-1),1) -> 1 | F54: =MID($B54,COLUMN()-(COLUMN($C54)-1),1) -> 0 | G54: =MID($B54,COLUMN()-(COLUMN($C54)-1),1) -> 0 | H54: =MID($B54,COLUMN()-(COLUMN($C54)-1),1) -> 0 | I54: =MID($B54,COLUMN()-(COLUMN($C54)-1),1) -> 0 | J54: =IF(C54+D54+E54+F54+G54+H54+I54=3,"Y","") | L54: =IF($J54="Y",C54*1,"") | M54: =IF($J54="Y",D54*1,"") | N54: =IF($J54="Y",E54*1,"") | O54: =IF($J54="Y",F54*1,"") | P54: =IF($J54="Y",G54*1,"") | Q54: =IF($J54="Y",H54*1,"") | R54: =IF($J54="Y",I54*1,"")
A55: =A54+1 -> 49 | B55: =DEC2BIN(A55,7) -> 0110001 | C55: =MID($B55,COLUMN()-(COLUMN($C55)-1),1) -> 0 | D55: =MID($B55,COLUMN()-(COLUMN($C55)-1),1) -> 1 | E55: =MID($B55,COLUMN()-(COLUMN($C55)-1),1) -> 1 | F55: =MID($B55,COLUMN()-(COLUMN($C55)-1),1) -> 0 | G55: =MID($B55,COLUMN()-(COLUMN($C55)-1),1) -> 0 | H55: =MID($B55,COLUMN()-(COLUMN($C55)-1),1) -> 0 | I55: =MID($B55,COLUMN()-(COLUMN($C55)-1),1) -> 1 | J55: =IF(C55+D55+E55+F55+G55+H55+I55=3,"Y","") -> Y
A56: =A55+1 -> 50 | B56: =DEC2BIN(A56,7) -> 0110010 | C56: =MID($B56,COLUMN()-(COLUMN($C56)-1),1) -> 0 | D56: =MID($B56,COLUMN()-(COLUMN($C56)-1),1) -> 1 | E56: =MID($B56,COLUMN()-(COLUMN($C56)-1),1) -> 1 | F56: =MID($B56,COLUMN()-(COLUMN($C56)-1),1) -> 0 | G56: =MID($B56,COLUMN()-(COLUMN($C56)-1),1) -> 0 | H56: =MID($B56,COLUMN()-(COLUMN($C56)-1),1) -> 1 | I56: =MID($B56,COLUMN()-(COLUMN($C56)-1),1) -> 0 | J56: =IF(C56+D56+E56+F56+G56+H56+I56=3,"Y","") -> Y
A57: =A56+1 -> 51 | B57: =DEC2BIN(A57,7) -> 0110011 | C57: =MID($B57,COLUMN()-(COLUMN($C57)-1),1) -> 0 | D57: =MID($B57,COLUMN()-(COLUMN($C57)-1),1) -> 1 | E57: =MID($B57,COLUMN()-(COLUMN($C57)-1),1) -> 1 | F57: =MID($B57,COLUMN()-(COLUMN($C57)-1),1) -> 0 | G57: =MID($B57,COLUMN()-(COLUMN($C57)-1),1) -> 0 | H57: =MID($B57,COLUMN()-(COLUMN($C57)-1),1) -> 1 | I57: =MID($B57,COLUMN()-(COLUMN($C57)-1),1) -> 1 | J57: =IF(C57+D57+E57+F57+G57+H57+I57=3,"Y","") | L57: =IF($J57="Y",C57*1,"") | M57: =IF($J57="Y",D57*1,"") | N57: =IF($J57="Y",E57*1,"") | O57: =IF($J57="Y",F57*1,"") | P57: =IF($J57="Y",G57*1,"") | Q57: =IF($J57="Y",H57*1,"") | R57: =IF($J57="Y",I57*1,"")
A58: =A57+1 -> 52 | B58: =DEC2BIN(A58,7) -> 0110100 | C58: =MID($B58,COLUMN()-(COLUMN($C58)-1),1) -> 0 | D58: =MID($B58,COLUMN()-(COLUMN($C58)-1),1) -> 1 | E58: =MID($B58,COLUMN()-(COLUMN($C58)-1),1) -> 1 | F58: =MID($B58,COLUMN()-(COLUMN($C58)-1),1) -> 0 | G58: =MID($B58,COLUMN()-(COLUMN($C58)-1),1) -> 1 | H58: =MID($B58,COLUMN()-(COLUMN($C58)-1),1) -> 0 | I58: =MID($B58,COLUMN()-(COLUMN($C58)-1),1) -> 0 | J58: =IF(C58+D58+E58+F58+G58+H58+I58=3,"Y","") -> Y
A59: =A58+1 -> 53 | B59: =DEC2BIN(A59,7) -> 0110101 | C59: =MID($B59,COLUMN()-(COLUMN($C59)-1),1) -> 0 | D59: =MID($B59,COLUMN()-(COLUMN($C59)-1),1) -> 1 | E59: =MID($B59,COLUMN()-(COLUMN($C59)-1),1) -> 1 | F59: =MID($B59,COLUMN()-(COLUMN($C59)-1),1) -> 0 | G59: =MID($B59,COLUMN()-(COLUMN($C59)-1),1) -> 1 | H59: =MID($B59,COLUMN()-(COLUMN($C59)-1),1) -> 0 | I59: =MID($B59,COLUMN()-(COLUMN($C59)-1),1) -> 1 | J59: =IF(C59+D59+E59+F59+G59+H59+I59=3,"Y","") | L59: =IF($J59="Y",C59*1,"") | M59: =IF($J59="Y",D59*1,"") | N59: =IF($J59="Y",E59*1,"") | O59: =IF($J59="Y",F59*1,"") | P59: =IF($J59="Y",G59*1,"") | Q59: =IF($J59="Y",H59*1,"") | R59: =IF($J59="Y",I59*1,"")
A60: =A59+1 -> 54 | B60: =DEC2BIN(A60,7) -> 0110110 | C60: =MID($B60,COLUMN()-(COLUMN($C60)-1),1) -> 0 | D60: =MID($B60,COLUMN()-(COLUMN($C60)-1),1) -> 1 | E60: =MID($B60,COLUMN()-(COLUMN($C60)-1),1) -> 1 | F60: =MID($B60,COLUMN()-(COLUMN($C60)-1),1) -> 0 | G60: =MID($B60,COLUMN()-(COLUMN($C60)-1),1) -> 1 | H60: =MID($B60,COLUMN()-(COLUMN($C60)-1),1) -> 1 | I60: =MID($B60,COLUMN()-(COLUMN($C60)-1),1) -> 0 | J60: =IF(C60+D60+E60+F60+G60+H60+I60=3,"Y","") | L60: =IF($J60="Y",C60*1,"") | M60: =IF($J60="Y",D60*1,"") | N60: =IF($J60="Y",E60*1,"") | O60: =IF($J60="Y",F60*1,"") | P60: =IF($J60="Y",G60*1,"") | Q60: =IF($J60="Y",H60*1,"") | R60: =IF($J60="Y",I60*1,"")
A61: =A60+1 -> 55 | B61: =DEC2BIN(A61,7) -> 0110111 | C61: =MID($B61,COLUMN()-(COLUMN($C61)-1),1) -> 0 | D61: =MID($B61,COLUMN()-(COLUMN($C61)-1),1) -> 1 | E61: =MID($B61,COLUMN()-(COLUMN($C61)-1),1) -> 1 | F61: =MID($B61,COLUMN()-(COLUMN($C61)-1),1) -> 0 | G61: =MID($B61,COLUMN()-(COLUMN($C61)-1),1) -> 1 | H61: =MID($B61,COLUMN()-(COLUMN($C61)-1),1) -> 1 | I61: =MID($B61,COLUMN()-(COLUMN($C61)-1),1) -> 1 | J61: =IF(C61+D61+E61+F61+G61+H61+I61=3,"Y","") | L61: =IF($J61="Y",C61*1,"") | M61: =IF($J61="Y",D61*1,"") | N61: =IF($J61="Y",E61*1,"") | O61: =IF($J61="Y",F61*1,"") | P61: =IF($J61="Y",G61*1,"") | Q61: =IF($J61="Y",H61*1,"") | R61: =IF($J61="Y",I61*1,"")
A62: =A61+1 -> 56 | B62: =DEC2BIN(A62,7) -> 0111000 | C62: =MID($B62,COLUMN()-(COLUMN($C62)-1),1) -> 0 | D62: =MID($B62,COLUMN()-(COLUMN($C62)-1),1) -> 1 | E62: =MID($B62,COLUMN()-(COLUMN($C62)-1),1) -> 1 | F62: =MID($B62,COLUMN()-(COLUMN($C62)-1),1) -> 1 | G62: =MID($B62,COLUMN()-(COLUMN($C62)-1),1) -> 0 | H62: =MID($B62,COLUMN()-(COLUMN($C62)-1),1) -> 0 | I62: =MID($B62,COLUMN()-(COLUMN($C62)-1),1) -> 0 | J62: =IF(C62+D62+E62+F62+G62+H62+I62=3,"Y","") -> Y
A63: =A62+1 -> 57 | B63: =DEC2BIN(A63,7) -> 0111001 | C63: =MID($B63,COLUMN()-(COLUMN($C63)-1),1) -> 0 | D63: =MID($B63,COLUMN()-(COLUMN($C63)-1),1) -> 1 | E63: =MID($B63,COLUMN()-(COLUMN($C63)-1),1) -> 1 | F63: =MID($B63,COLUMN()-(COLUMN($C63)-1),1) -> 1 | G63: =MID($B63,COLUMN()-(COLUMN($C63)-1),1) -> 0 | H63: =MID($B63,COLUMN()-(COLUMN($C63)-1),1) -> 0 | I63: =MID($B63,COLUMN()-(COLUMN($C63)-1),1) -> 1 | J63: =IF(C63+D63+E63+F63+G63+H63+I63=3,"Y","") | L63: =IF($J63="Y",C63*1,"") | M63: =IF($J63="Y",D63*1,"") | N63: =IF($J63="Y",E63*1,"") | O63: =IF($J63="Y",F63*1,"") | P63: =IF($J63="Y",G63*1,"") | Q63: =IF($J63="Y",H63*1,"") | R63: =IF($J63="Y",I63*1,"")
A64: =A63+1 -> 58 | B64: =DEC2BIN(A64,7) -> 0111010 | C64: =MID($B64,COLUMN()-(COLUMN($C64)-1),1) -> 0 | D64: =MID($B64,COLUMN()-(COLUMN($C64)-1),1) -> 1 | E64: =MID($B64,COLUMN()-(COLUMN($C64)-1),1) -> 1 | F64: =MID($B64,COLUMN()-(COLUMN($C64)-1),1) -> 1 | G64: =MID($B64,COLUMN()-(COLUMN($C64)-1),1) -> 0 | H64: =MID($B64,COLUMN()-(COLUMN($C64)-1),1) -> 1 | I64: =MID($B64,COLUMN()-(COLUMN($C64)-1),1) -> 0 | J64: =IF(C64+D64+E64+F64+G64+H64+I64=3,"Y","") | L64: =IF($J64="Y",C64*1,"") | M64: =IF($J64="Y",D64*1,"") | N64: =IF($J64="Y",E64*1,"") | O64: =IF($J64="Y",F64*1,"") | P64: =IF($J64="Y",G64*1,"") | Q64: =IF($J64="Y",H64*1,"") | R64: =IF($J64="Y",I64*1,"")
A65: =A64+1 -> 59 | B65: =DEC2BIN(A65,7) -> 0111011 | C65: =MID($B65,COLUMN()-(COLUMN($C65)-1),1) -> 0 | D65: =MID($B65,COLUMN()-(COLUMN($C65)-1),1) -> 1 | E65: =MID($B65,COLUMN()-(COLUMN($C65)-1),1) -> 1 | F65: =MID($B65,COLUMN()-(COLUMN($C65)-1),1) -> 1 | G65: =MID($B65,COLUMN()-(COLUMN($C65)-1),1) -> 0 | H65: =MID($B65,COLUMN()-(COLUMN($C65)-1),1) -> 1 | I65: =MID($B65,COLUMN()-(COLUMN($C65)-1),1) -> 1 | J65: =IF(C65+D65+E65+F65+G65+H65+I65=3,"Y","") | L65: =IF($J65="Y",C65*1,"") | M65: =IF($J65="Y",D65*1,"") | N65: =IF($J65="Y",E65*1,"") | O65: =IF($J65="Y",F65*1,"") | P65: =IF($J65="Y",G65*1,"") | Q65: =IF($J65="Y",H65*1,"") | R65: =IF($J65="Y",I65*1,"")
A66: =A65+1 -> 60 | B66: =DEC2BIN(A66,7) -> 0111100 | C66: =MID($B66,COLUMN()-(COLUMN($C66)-1),1) -> 0 | D66: =MID($B66,COLUMN()-(COLUMN($C66)-1),1) -> 1 | E66: =MID($B66,COLUMN()-(COLUMN($C66)-1),1) -> 1 | F66: =MID($B66,COLUMN()-(COLUMN($C66)-1),1) -> 1 | G66: =MID($B66,COLUMN()-(COLUMN($C66)-1),1) -> 1 | H66: =MID($B66,COLUMN()-(COLUMN($C66)-1),1) -> 0 | I66: =MID($B66,COLUMN()-(COLUMN($C66)-1),1) -> 0 | J66: =IF(C66+D66+E66+F66+G66+H66+I66=3,"Y","") | L66: =IF($J66="Y",C66*1,"") | M66: =IF($J66="Y",D66*1,"") | N66: =IF($J66="Y",E66*1,"") | O66: =IF($J66="Y",F66*1,"") | P66: =IF($J66="Y",G66*1,"") | Q66: =IF($J66="Y",H66*1,"") | R66: =IF($J66="Y",I66*1,"")
A67: =A66+1 -> 61 | B67: =DEC2BIN(A67,7) -> 0111101 | C67: =MID($B67,COLUMN()-(COLUMN($C67)-1),1) -> 0 | D67: =MID($B67,COLUMN()-(COLUMN($C67)-1),1) -> 1 | E67: =MID($B67,COLUMN()-(COLUMN($C67)-1),1) -> 1 | F67: =MID($B67,COLUMN()-(COLUMN($C67)-1),1) -> 1 | G67: =MID($B67,COLUMN()-(COLUMN($C67)-1),1) -> 1 | H67: =MID($B67,COLUMN()-(COLUMN($C67)-1),1) -> 0 | I67: =MID($B67,COLUMN()-(COLUMN($C67)-1),1) -> 1 | J67: =IF(C67+D67+E67+F67+G67+H67+I67=3,"Y","") | L67: =IF($J67="Y",C67*1,"") | M67: =IF($J67="Y",D67*1,"") | N67: =IF($J67="Y",E67*1,"") | O67: =IF($J67="Y",F67*1,"") | P67: =IF($J67="Y",G67*1,"") | Q67: =IF($J67="Y",H67*1,"") | R67: =IF($J67="Y",I67*1,"")
A68: =A67+1 -> 62 | B68: =DEC2BIN(A68,7) -> 0111110 | C68: =MID($B68,COLUMN()-(COLUMN($C68)-1),1) -> 0 | D68: =MID($B68,COLUMN()-(COLUMN($C68)-1),1) -> 1 | E68: =MID($B68,COLUMN()-(COLUMN($C68)-1),1) -> 1 | F68: =MID($B68,COLUMN()-(COLUMN($C68)-1),1) -> 1 | G68: =MID($B68,COLUMN()-(COLUMN($C68)-1),1) -> 1 | H68: =MID($B68,COLUMN()-(COLUMN($C68)-1),1) -> 1 | I68: =MID($B68,COLUMN()-(COLUMN($C68)-1),1) -> 0 | J68: =IF(C68+D68+E68+F68+G68+H68+I68=3,"Y","") | L68: =IF($J68="Y",C68*1,"") | M68: =IF($J68="Y",D68*1,"") | N68: =IF($J68="Y",E68*1,"") | O68: =IF($J68="Y",F68*1,"") | P68: =IF($J68="Y",G68*1,"") | Q68: =IF($J68="Y",H68*1,"") | R68: =IF($J68="Y",I68*1,"")
A69: =A68+1 -> 63 | B69: =DEC2BIN(A69,7) -> 0111111 | C69: =MID($B69,COLUMN()-(COLUMN($C69)-1),1) -> 0 | D69: =MID($B69,COLUMN()-(COLUMN($C69)-1),1) -> 1 | E69: =MID($B69,COLUMN()-(COLUMN($C69)-1),1) -> 1 | F69: =MID($B69,COLUMN()-(COLUMN($C69)-1),1) -> 1 | G69: =MID($B69,COLUMN()-(COLUMN($C69)-1),1) -> 1 | H69: =MID($B69,COLUMN()-(COLUMN($C69)-1),1) -> 1 | I69: =MID($B69,COLUMN()-(COLUMN($C69)-1),1) -> 1 | J69: =IF(C69+D69+E69+F69+G69+H69+I69=3,"Y","") | L69: =IF($J69="Y",C69*1,"") | M69: =IF($J69="Y",D69*1,"") | N69: =IF($J69="Y",E69*1,"") | O69: =IF($J69="Y",F69*1,"") | P69: =IF($J69="Y",G69*1,"") | Q69: =IF($J69="Y",H69*1,"") | R69: =IF($J69="Y",I69*1,"")
A70: =A69+1 -> 64 | B70: =DEC2BIN(A70,7) -> 1000000 | C70: =MID($B70,COLUMN()-(COLUMN($C70)-1),1) -> 1 | D70: =MID($B70,COLUMN()-(COLUMN($C70)-1),1) -> 0 | E70: =MID($B70,COLUMN()-(COLUMN($C70)-1),1) -> 0 | F70: =MID($B70,COLUMN()-(COLUMN($C70)-1),1) -> 0 | G70: =MID($B70,COLUMN()-(COLUMN($C70)-1),1) -> 0 | H70: =MID($B70,COLUMN()-(COLUMN($C70)-1),1) -> 0 | I70: =MID($B70,COLUMN()-(COLUMN($C70)-1),1) -> 0 | J70: =IF(C70+D70+E70+F70+G70+H70+I70=3,"Y","") | L70: =IF($J70="Y",C70*1,"") | M70: =IF($J70="Y",D70*1,"") | N70: =IF($J70="Y",E70*1,"") | O70: =IF($J70="Y",F70*1,"") | P70: =IF($J70="Y",G70*1,"") | Q70: =IF($J70="Y",H70*1,"") | R70: =IF($J70="Y",I70*1,"")
A71: =A70+1 -> 65 | B71: =DEC2BIN(A71,7) -> 1000001 | C71: =MID($B71,COLUMN()-(COLUMN($C71)-1),1) -> 1 | D71: =MID($B71,COLUMN()-(COLUMN($C71)-1),1) -> 0 | E71: =MID($B71,COLUMN()-(COLUMN($C71)-1),1) -> 0 | F71: =MID($B71,COLUMN()-(COLUMN($C71)-1),1) -> 0 | G71: =MID($B71,COLUMN()-(COLUMN($C71)-1),1) -> 0 | H71: =MID($B71,COLUMN()-(COLUMN($C71)-1),1) -> 0 | I71: =MID($B71,COLUMN()-(COLUMN($C71)-1),1) -> 1 | J71: =IF(C71+D71+E71+F71+G71+H71+I71=3,"Y","") | L71: =IF($J71="Y",C71*1,"") | M71: =IF($J71="Y",D71*1,"") | N71: =IF($J71="Y",E71*1,"") | O71: =IF($J71="Y",F71*1,"") | P71: =IF($J71="Y",G71*1,"") | Q71: =IF($J71="Y",H71*1,"") | R71: =IF($J71="Y",I71*1,"")
A72: =A71+1 -> 66 | B72: =DEC2BIN(A72,7) -> 1000010 | C72: =MID($B72,COLUMN()-(COLUMN($C72)-1),1) -> 1 | D72: =MID($B72,COLUMN()-(COLUMN($C72)-1),1) -> 0 | E72: =MID($B72,COLUMN()-(COLUMN($C72)-1),1) -> 0 | F72: =MID($B72,COLUMN()-(COLUMN($C72)-1),1) -> 0 | G72: =MID($B72,COLUMN()-(COLUMN($C72)-1),1) -> 0 | H72: =MID($B72,COLUMN()-(COLUMN($C72)-1),1) -> 1 | I72: =MID($B72,COLUMN()-(COLUMN($C72)-1),1) -> 0 | J72: =IF(C72+D72+E72+F72+G72+H72+I72=3,"Y","") | L72: =IF($J72="Y",C72*1,"") | M72: =IF($J72="Y",D72*1,"") | N72: =IF($J72="Y",E72*1,"") | O72: =IF($J72="Y",F72*1,"") | P72: =IF($J72="Y",G72*1,"") | Q72: =IF($J72="Y",H72*1,"") | R72: =IF($J72="Y",I72*1,"")
A73: =A72+1 -> 67 | B73: =DEC2BIN(A73,7) -> 1000011 | C73: =MID($B73,COLUMN()-(COLUMN($C73)-1),1) -> 1 | D73: =MID($B73,COLUMN()-(COLUMN($C73)-1),1) -> 0 | E73: =MID($B73,COLUMN()-(COLUMN($C73)-1),1) -> 0 | F73: =MID($B73,COLUMN()-(COLUMN($C73)-1),1) -> 0 | G73: =MID($B73,COLUMN()-(COLUMN($C73)-1),1) -> 0 | H73: =MID($B73,COLUMN()-(COLUMN($C73)-1),1) -> 1 | I73: =MID($B73,COLUMN()-(COLUMN($C73)-1),1) -> 1 | J73: =IF(C73+D73+E73+F73+G73+H73+I73=3,"Y","") -> Y
A74: =A73+1 -> 68 | B74: =DEC2BIN(A74,7) -> 1000100 | C74: =MID($B74,COLUMN()-(COLUMN($C74)-1),1) -> 1 | D74: =MID($B74,COLUMN()-(COLUMN($C74)-1),1) -> 0 | E74: =MID($B74,COLUMN()-(COLUMN($C74)-1),1) -> 0 | F74: =MID($B74,COLUMN()-(COLUMN($C74)-1),1) -> 0 | G74: =MID($B74,COLUMN()-(COLUMN($C74)-1),1) -> 1 | H74: =MID($B74,COLUMN()-(COLUMN($C74)-1),1) -> 0 | I74: =MID($B74,COLUMN()-(COLUMN($C74)-1),1) -> 0 | J74: =IF(C74+D74+E74+F74+G74+H74+I74=3,"Y","") | L74: =IF($J74="Y",C74*1,"") | M74: =IF($J74="Y",D74*1,"") | N74: =IF($J74="Y",E74*1,"") | O74: =IF($J74="Y",F74*1,"") | P74: =IF($J74="Y",G74*1,"") | Q74: =IF($J74="Y",H74*1,"") | R74: =IF($J74="Y",I74*1,"")
A75: =A74+1 -> 69 | B75: =DEC2BIN(A75,7) -> 1000101 | C75: =MID($B75,COLUMN()-(COLUMN($C75)-1),1) -> 1 | D75: =MID($B75,COLUMN()-(COLUMN($C75)-1),1) -> 0 | E75: =MID($B75,COLUMN()-(COLUMN($C75)-1),1) -> 0 | F75: =MID($B75,COLUMN()-(COLUMN($C75)-1),1) -> 0 | G75: =MID($B75,COLUMN()-(COLUMN($C75)-1),1) -> 1 | H75: =MID($B75,COLUMN()-(COLUMN($C75)-1),1) -> 0 | I75: =MID($B75,COLUMN()-(COLUMN($C75)-1),1) -> 1 | J75: =IF(C75+D75+E75+F75+G75+H75+I75=3,"Y","") -> Y
A76: =A75+1 -> 70 | B76: =DEC2BIN(A76,7) -> 1000110 | C76: =MID($B76,COLUMN()-(COLUMN($C76)-1),1) -> 1 | D76: =MID($B76,COLUMN()-(COLUMN($C76)-1),1) -> 0 | E76: =MID($B76,COLUMN()-(COLUMN($C76)-1),1) -> 0 | F76: =MID($B76,COLUMN()-(COLUMN($C76)-1),1) -> 0 | G76: =MID($B76,COLUMN()-(COLUMN($C76)-1),1) -> 1 | H76: =MID($B76,COLUMN()-(COLUMN($C76)-1),1) -> 1 | I76: =MID($B76,COLUMN()-(COLUMN($C76)-1),1) -> 0 | J76: =IF(C76+D76+E76+F76+G76+H76+I76=3,"Y","") -> Y
A77: =A76+1 -> 71 | B77: =DEC2BIN(A77,7) -> 1000111 | C77: =MID($B77,COLUMN()-(COLUMN($C77)-1),1) -> 1 | D77: =MID($B77,COLUMN()-(COLUMN($C77)-1),1) -> 0 | E77: =MID($B77,COLUMN()-(COLUMN($C77)-1),1) -> 0 | F77: =MID($B77,COLUMN()-(COLUMN($C77)-1),1) -> 0 | G77: =MID($B77,COLUMN()-(COLUMN($C77)-1),1) -> 1 | H77: =MID($B77,COLUMN()-(COLUMN($C77)-1),1) -> 1 | I77: =MID($B77,COLUMN()-(COLUMN($C77)-1),1) -> 1 | J77: =IF(C77+D77+E77+F77+G77+H77+I77=3,"Y","") | L77: =IF($J77="Y",C77*1,"") | M77: =IF($J77="Y",D77*1,"") | N77: =IF($J77="Y",E77*1,"") | O77: =IF($J77="Y",F77*1,"") | P77: =IF($J77="Y",G77*1,"") | Q77: =IF($J77="Y",H77*1,"") | R77: =IF($J77="Y",I77*1,"")
A78: =A77+1 -> 72 | B78: =DEC2BIN(A78,7) -> 1001000 | C78: =MID($B78,COLUMN()-(COLUMN($C78)-1),1) -> 1 | D78: =MID($B78,COLUMN()-(COLUMN($C78)-1),1) -> 0 | E78: =MID($B78,COLUMN()-(COLUMN($C78)-1),1) -> 0 | F78: =MID($B78,COLUMN()-(COLUMN($C78)-1),1) -> 1 | G78: =MID($B78,COLUMN()-(COLUMN($C78)-1),1) -> 0 | H78: =MID($B78,COLUMN()-(COLUMN($C78)-1),1) -> 0 | I78: =MID($B78,COLUMN()-(COLUMN($C78)-1),1) -> 0 | J78: =IF(C78+D78+E78+F78+G78+H78+I78=3,"Y","") | L78: =IF($J78="Y",C78*1,"") | M78: =IF($J78="Y",D78*1,"") | N78: =IF($J78="Y",E78*1,"") | O78: =IF($J78="Y",F78*1,"") | P78: =IF($J78="Y",G78*1,"") | Q78: =IF($J78="Y",H78*1,"") | R78: =IF($J78="Y",I78*1,"")
A79: =A78+1 -> 73 | B79: =DEC2BIN(A79,7) -> 1001001 | C79: =MID($B79,COLUMN()-(COLUMN($C79)-1),1) -> 1 | D79: =MID($B79,COLUMN()-(COLUMN($C79)-1),1) -> 0 | E79: =MID($B79,COLUMN()-(COLUMN($C79)-1),1) -> 0 | F79: =MID($B79,COLUMN()-(COLUMN($C79)-1),1) -> 1 | G79: =MID($B79,COLUMN()-(COLUMN($C79)-1),1) -> 0 | H79: =MID($B79,COLUMN()-(COLUMN($C79)-1),1) -> 0 | I79: =MID($B79,COLUMN()-(COLUMN($C79)-1),1) -> 1 | J79: =IF(C79+D79+E79+F79+G79+H79+I79=3,"Y","") -> Y
A80: =A79+1 -> 74 | B80: =DEC2BIN(A80,7) -> 1001010 | C80: =MID($B80,COLUMN()-(COLUMN($C80)-1),1) -> 1 | D80: =MID($B80,COLUMN()-(COLUMN($C80)-1),1) -> 0 | E80: =MID($B80,COLUMN()-(COLUMN($C80)-1),1) -> 0 | F80: =MID($B80,COLUMN()-(COLUMN($C80)-1),1) -> 1 | G80: =MID($B80,COLUMN()-(COLUMN($C80)-1),1) -> 0 | H80: =MID($B80,COLUMN()-(COLUMN($C80)-1),1) -> 1 | I80: =MID($B80,COLUMN()-(COLUMN($C80)-1),1) -> 0 | J80: =IF(C80+D80+E80+F80+G80+H80+I80=3,"Y","") -> Y
A81: =A80+1 -> 75 | B81: =DEC2BIN(A81,7) -> 1001011 | C81: =MID($B81,COLUMN()-(COLUMN($C81)-1),1) -> 1 | D81: =MID($B81,COLUMN()-(COLUMN($C81)-1),1) -> 0 | E81: =MID($B81,COLUMN()-(COLUMN($C81)-1),1) -> 0 | F81: =MID($B81,COLUMN()-(COLUMN($C81)-1),1) -> 1 | G81: =MID($B81,COLUMN()-(COLUMN($C81)-1),1) -> 0 | H81: =MID($B81,COLUMN()-(COLUMN($C81)-1),1) -> 1 | I81: =MID($B81,COLUMN()-(COLUMN($C81)-1),1) -> 1 | J81: =IF(C81+D81+E81+F81+G81+H81+I81=3,"Y","")
A82: =A81+1 -> 76 | B82: =DEC2BIN(A82,7) -> 1001100 | C82: =MID($B82,COLUMN()-(COLUMN($C82)-1),1) -> 1 | D82: =MID($B82,COLUMN()-(COLUMN($C82)-1),1) -> 0 | E82: =MID($B82,COLUMN()-(COLUMN($C82)-1),1) -> 0 | F82: =MID($B82,COLUMN()-(COLUMN($C82)-1),1) -> 1 | G82: =MID($B82,COLUMN()-(COLUMN($C82)-1),1) -> 1 | H82: =MID($B82,COLUMN()-(COLUMN($C82)-1),1) -> 0 | I82: =MID($B82,COLUMN()-(COLUMN($C82)-1),1) -> 0 | J82: =IF(C82+D82+E82+F82+G82+H82+I82=3,"Y","") -> Y
A83: =A82+1 -> 77 | B83: =DEC2BIN(A83,7) -> 1001101 | C83: =MID($B83,COLUMN()-(COLUMN($C83)-1),1) -> 1 | D83: =MID($B83,COLUMN()-(COLUMN($C83)-1),1) -> 0 | E83: =MID($B83,COLUMN()-(COLUMN($C83)-1),1) -> 0 | F83: =MID($B83,COLUMN()-(COLUMN($C83)-1),1) -> 1 | G83: =MID($B83,COLUMN()-(COLUMN($C83)-1),1) -> 1 | H83: =MID($B83,COLUMN()-(COLUMN($C83)-1),1) -> 0 | I83: =MID($B83,COLUMN()-(COLUMN($C83)-1),1) -> 1 | J83: =IF(C83+D83+E83+F83+G83+H83+I83=3,"Y","")
A84: =A83+1 -> 78 | B84: =DEC2BIN(A84,7) -> 1001110 | C84: =MID($B84,COLUMN()-(COLUMN($C84)-1),1) -> 1 | D84: =MID($B84,COLUMN()-(COLUMN($C84)-1),1) -> 0 | E84: =MID($B84,COLUMN()-(COLUMN($C84)-1),1) -> 0 | F84: =MID($B84,COLUMN()-(COLUMN($C84)-1),1) -> 1 | G84: =MID($B84,COLUMN()-(COLUMN($C84)-1),1) -> 1 | H84: =MID($B84,COLUMN()-(COLUMN($C84)-1),1) -> 1 | I84: =MID($B84,COLUMN()-(COLUMN($C84)-1),1) -> 0 | J84: =IF(C84+D84+E84+F84+G84+H84+I84=3,"Y","")
A85: =A84+1 -> 79 | B85: =DEC2BIN(A85,7) -> 1001111 | C85: =MID($B85,COLUMN()-(COLUMN($C85)-1),1) -> 1 | D85: =MID($B85,COLUMN()-(COLUMN($C85)-1),1) -> 0 | E85: =MID($B85,COLUMN()-(COLUMN($C85)-1),1) -> 0 | F85: =MID($B85,COLUMN()-(COLUMN($C85)-1),1) -> 1 | G85: =MID($B85,COLUMN()-(COLUMN($C85)-1),1) -> 1 | H85: =MID($B85,COLUMN()-(COLUMN($C85)-1),1) -> 1 | I85: =MID($B85,COLUMN()-(COLUMN($C85)-1),1) -> 1 | J85: =IF(C85+D85+E85+F85+G85+H85+I85=3,"Y","")
A86: =A85+1 -> 80 | B86: =DEC2BIN(A86,7) -> 1010000 | C86: =MID($B86,COLUMN()-(COLUMN($C86)-1),1) -> 1 | D86: =MID($B86,COLUMN()-(COLUMN($C86)-1),1) -> 0 | E86: =MID($B86,COLUMN()-(COLUMN($C86)-1),1) -> 1 | F86: =MID($B86,COLUMN()-(COLUMN($C86)-1),1) -> 0 | G86: =MID($B86,COLUMN()-(COLUMN($C86)-1),1) -> 0 | H86: =MID($B86,COLUMN()-(COLUMN($C86)-1),1) -> 0 | I86: =MID($B86,COLUMN()-(COLUMN($C86)-1),1) -> 0 | J86: =IF(C86+D86+E86+F86+G86+H86+I86=3,"Y","")
A87: =A86+1 -> 81 | B87: =DEC2BIN(A87,7) -> 1010001 | C87: =MID($B87,COLUMN()-(COLUMN($C87)-1),1) -> 1 | D87: =MID($B87,COLUMN()-(COLUMN($C87)-1),1) -> 0 | E87: =MID($B87,COLUMN()-(COLUMN($C87)-1),1) -> 1 | F87: =MID($B87,COLUMN()-(COLUMN($C87)-1),1) -> 0 | G87: =MID($B87,COLUMN()-(COLUMN($C87)-1),1) -> 0 | H87: =MID($B87,COLUMN()-(COLUMN($C87)-1),1) -> 0 | I87: =MID($B87,COLUMN()-(COLUMN($C87)-1),1) -> 1 | J87: =IF(C87+D87+E87+F87+G87+H87+I87=3,"Y","") -> Y
A88: =A87+1 -> 82 | B88: =DEC2BIN(A88,7) -> 1010010 | C88: =MID($B88,COLUMN()-(COLUMN($C88)-1),1) -> 1 | D88: =MID($B88,COLUMN()-(COLUMN($C88)-1),1) -> 0 | E88: =MID($B88,COLUMN()-(COLUMN($C88)-1),1) -> 1 | F88: =MID($B88,COLUMN()-(COLUMN($C88)-1),1) -> 0 | G88: =MID($B88,COLUMN()-(COLUMN($C88)-1),1) -> 0 | H88: =MID($B88,COLUMN()-(COLUMN($C88)-1),1) -> 1 | I88: =MID($B88,COLUMN()-(COLUMN($C88)-1),1) -> 0 | J88: =IF(C88+D88+E88+F88+G88+H88+I88=3,"Y","") -> Y
A89: =A88+1 -> 83 | B89: =DEC2BIN(A89,7) -> 1010011 | C89: =MID($B89,COLUMN()-(COLUMN($C89)-1),1) -> 1 | D89: =MID($B89,COLUMN()-(COLUMN($C89)-1),1) -> 0 | E89: =MID($B89,COLUMN()-(COLUMN($C89)-1),1) -> 1 | F89: =MID($B89,COLUMN()-(COLUMN($C89)-1),1) -> 0 | G89: =MID($B89,COLUMN()-(COLUMN($C89)-1),1) -> 0 | H89: =MID($B89,COLUMN()-(COLUMN($C89)-1),1) -> 1 | I89: =MID($B89,COLUMN()-(COLUMN($C89)-1),1) -> 1 | J89: =IF(C89+D89+E89+F89+G89+H89+I89=3,"Y","")
A90: =A89+1 -> 84 | B90: =DEC2BIN(A90,7) -> 1010100 | C90: =MID($B90,COLUMN()-(COLUMN($C90)-1),1) -> 1 | D90: =MID($B90,COLUMN()-(COLUMN($C90)-1),1) -> 0 | E90: =MID($B90,COLUMN()-(COLUMN($C90)-1),1) -> 1 | F90: =MID($B90,COLUMN()-(COLUMN($C90)-1),1) -> 0 | G90: =MID($B90,COLUMN()-(COLUMN($C90)-1),1) -> 1 | H90: =MID($B90,COLUMN()-(COLUMN($C90)-1),1) -> 0 | I90: =MID($B90,COLUMN()-(COLUMN($C90)-1),1) -> 0 | J90: =IF(C90+D90+E90+F90+G90+H90+I90=3,"Y","") -> Y
... A94: =A93+1 -> 88 | B94: =DEC2BIN(A94,7) -> 1011000 | C94: =MID($B94,COLUMN()-(COLUMN($C94)-1),1) -> 1 | D94: =MID($B94,COLUMN()-(COLUMN($C94)-1),1) -> 0 | E94: =MID($B94,COLUMN()-(COLUMN($C94)-1),1) -> 1 | F94: =MID($B94,COLUMN()-(COLUMN($C94)-1),1) -> 1 | G94: =MID($B94,COLUMN()-(COLUMN($C94)-1),1) -> 0 | H94: =MID($B94,COLUMN()-(COLUMN($C94)-1),1) -> 0 | I94: =MID($B94,COLUMN()-(COLUMN($C94)-1),1) -> 0 | J94: =IF(C94+D94+E94+F94+G94+H94+I94=3,"Y","") -> Y
A95: =A94+1 -> 89 | B95: =DEC2BIN(A95,7) -> 1011001 | C95: =MID($B95,COLUMN()-(COLUMN($C95)-1),1) -> 1 | D95: =MID($B95,COLUMN()-(COLUMN($C95)-1),1) -> 0 | E95: =MID($B95,COLUMN()-(COLUMN($C95)-1),1) -> 1 | F95: =MID($B95,COLUMN()-(COLUMN($C95)-1),1) -> 1 | G95: =MID($B95,COLUMN()-(COLUMN($C95)-1),1) -> 0 | H95: =MID($B95,COLUMN()-(COLUMN($C95)-1),1) -> 0 | I95: =MID($B95,COLUMN()-(COLUMN($C95)-1),1) -> 1 | J95: =IF(C95+D95+E95+F95+G95+H95+I95=3,"Y","") | L95: =IF($J95="Y",C95*1,"") | M95: =IF($J95="Y",D95*1,"") | N95: =IF($J95="Y",E95*1,"") | O95: =IF($J95="Y",F95*1,"") | P95: =IF($J95="Y",G95*1,"") | Q95: =IF($J95="Y",H95*1,"") | R95: =IF($J95="Y",I95*1,"")
A96: =A95+1 -> 90 | B96: =DEC2BIN(A96,7) -> 1011010 | C96: =MID($B96,COLUMN()-(COLUMN($C96)-1),1) -> 1 | D96: =MID($B96,COLUMN()-(COLUMN($C96)-1),1) -> 0 | E96: =MID($B96,COLUMN()-(COLUMN($C96)-1),1) -> 1 | F96: =MID($B96,COLUMN()-(COLUMN($C96)-1),1) -> 1 | G96: =MID($B96,COLUMN()-(COLUMN($C96)-1),1) -> 0 | H96: =MID($B96,COLUMN()-(COLUMN($C96)-1),1) -> 1 | I96: =MID($B96,COLUMN()-(COLUMN($C96)-1),1) -> 0 | J96: =IF(C96+D96+E96+F96+G96+H96+I96=3,"Y","") | L96: =IF($J96="Y",C96*1,"") | M96: =IF($J96="Y",D96*1,"") | N96: =IF($J96="Y",E96*1,"") | O96: =IF($J96="Y",F96*1,"") | P96: =IF($J96="Y",G96*1,"") | Q96: =IF($J96="Y",H96*1,"") | R96: =IF($J96="Y",I96*1,"")
A97: =A96+1 -> 91 | B97: =DEC2BIN(A97,7) -> 1011011 | C97: =MID($B97,COLUMN()-(COLUMN($C97)-1),1) -> 1 | D97: =MID($B97,COLUMN()-(COLUMN($C97)-1),1) -> 0 | E97: =MID($B97,COLUMN()-(COLUMN($C97)-1),1) -> 1 | F97: =MID($B97,COLUMN()-(COLUMN($C97)-1),1) -> 1 | G97: =MID($B97,COLUMN()-(COLUMN($C97)-1),1) -> 0 | H97: =MID($B97,COLUMN()-(COLUMN($C97)-1),1) -> 1 | I97: =MID($B97,COLUMN()-(COLUMN($C97)-1),1) -> 1 | J97: =IF(C97+D97+E97+F97+G97+H97+I97=3,"Y","") | L97: =IF($J97="Y",C97*1,"") | M97: =IF($J97="Y",D97*1,"") | N97: =IF($J97="Y",E97*1,"") | O97: =IF($J97="Y",F97*1,"") | P97: =IF($J97="Y",G97*1,"") | Q97: =IF($J97="Y",H97*1,"") | R97: =IF($J97="Y",I97*1,"")
A98: =A97+1 -> 92 | B98: =DEC2BIN(A98,7) -> 1011100 | C98: =MID($B98,COLUMN()-(COLUMN($C98)-1),1) -> 1 | D98: =MID($B98,COLUMN()-(COLUMN($C98)-1),1) -> 0 | E98: =MID($B98,COLUMN()-(COLUMN($C98)-1),1) -> 1 | F98: =MID($B98,COLUMN()-(COLUMN($C98)-1),1) -> 1 | G98: =MID($B98,COLUMN()-(COLUMN($C98)-1),1) -> 1 | H98: =MID($B98,COLUMN()-(COLUMN($C98)-1),1) -> 0 | I98: =MID($B98,COLUMN()-(COLUMN($C98)-1),1) -> 0 | J98: =IF(C98+D98+E98+F98+G98+H98+I98=3,"Y","") | L98: =IF($J98="Y",C98*1,"") | M98: =IF($J98="Y",D98*1,"") | N98: =IF($J98="Y",E98*1,"") | O98: =IF($J98="Y",F98*1,"") | P98: =IF($J98="Y",G98*1,"") | Q98: =IF($J98="Y",H98*1,"") | R98: =IF($J98="Y",I98*1,"")
A99: =A98+1 -> 93 | B99: =DEC2BIN(A99,7) -> 1011101 | C99: =MID($B99,COLUMN()-(COLUMN($C99)-1),1) -> 1 | D99: =MID($B99,COLUMN()-(COLUMN($C99)-1),1) -> 0 | E99: =MID($B99,COLUMN()-(COLUMN($C99)-1),1) -> 1 | F99: =MID($B99,COLUMN()-(COLUMN($C99)-1),1) -> 1 | G99: =MID($B99,COLUMN()-(COLUMN($C99)-1),1) -> 1 | H99: =MID($B99,COLUMN()-(COLUMN($C99)-1),1) -> 0 | I99: =MID($B99,COLUMN()-(COLUMN($C99)-1),1) -> 1 | J99: =IF(C99+D99+E99+F99+G99+H99+I99=3,"Y","") | L99: =IF($J99="Y",C99*1,"") | M99: =IF($J99="Y",D99*1,"") | N99: =IF($J99="Y",E99*1,"") | O99: =IF($J99="Y",F99*1,"") | P99: =IF($J99="Y",G99*1,"") | Q99: =IF($J99="Y",H99*1,"") | R99: =IF($J99="Y",I99*1,"")
A100: =A99+1 -> 94 | B100: =DEC2BIN(A100,7) -> 1011110 | C100: =MID($B100,COLUMN()-(COLUMN($C100)-1),1) -> 1 | D100: =MID($B100,COLUMN()-(COLUMN($C100)-1),1) -> 0 | E100: =MID($B100,COLUMN()-(COLUMN($C100)-1),1) -> 1 | F100: =MID($B100,COLUMN()-(COLUMN($C100)-1),1) -> 1 | G100: =MID($B100,COLUMN()-(COLUMN($C100)-1),1) -> 1 | H100: =MID($B100,COLUMN()-(COLUMN($C100)-1),1) -> 1 | I100: =MID($B100,COLUMN()-(COLUMN($C100)-1),1) -> 0 | J100: =IF(C100+D100+E100+F100+G100+H100+I100=3,"Y","") | L100: =IF($J100="Y",C100*1,"") | M100: =IF($J100="Y",D100*1,"") | N100: =IF($J100="Y",E100*1,"") | O100: =IF($J100="Y",F100*1,"") | P100: =IF($J100="Y",G100*1,"") | Q100: =IF($J100="Y",H100*1,"") | R100: =IF($J100="Y",I100*1,"")
A101: =A100+1 -> 95 | B101: =DEC2BIN(A101,7) -> 1011111 | C101: =MID($B101,COLUMN()-(COLUMN($C101)-1),1) -> 1 | D101: =MID($B101,COLUMN()-(COLUMN($C101)-1),1) -> 0 | E101: =MID($B101,COLUMN()-(COLUMN($C101)-1),1) -> 1 | F101: =MID($B101,COLUMN()-(COLUMN($C101)-1),1) -> 1 | G101: =MID($B101,COLUMN()-(COLUMN($C101)-1),1) -> 1 | H101: =MID($B101,COLUMN()-(COLUMN($C101)-1),1) -> 1 | I101: =MID($B101,COLUMN()-(COLUMN($C101)-1),1) -> 1 | J101: =IF(C101+D101+E101+F101+G101+H101+I101=3,"Y","") | L101: =IF($J101="Y",C101*1,"") | M101: =IF($J101="Y",D101*1,"") | N101: =IF($J101="Y",E101*1,"") | O101: =IF($J101="Y",F101*1,"") | P101: =IF($J101="Y",G101*1,"") | Q101: =IF($J101="Y",H101*1,"") | R101: =IF($J101="Y",I101*1,"")
A102: =A101+1 -> 96 | B102: =DEC2BIN(A102,7) -> 1100000 | C102: =MID($B102,COLUMN()-(COLUMN($C102)-1),1) -> 1 | D102: =MID($B102,COLUMN()-(COLUMN($C102)-1),1) -> 1 | E102: =MID($B102,COLUMN()-(COLUMN($C102)-1),1) -> 0 | F102: =MID($B102,COLUMN()-(COLUMN($C102)-1),1) -> 0 | G102: =MID($B102,COLUMN()-(COLUMN($C102)-1),1) -> 0 | H102: =MID($B102,COLUMN()-(COLUMN($C102)-1),1) -> 0 | I102: =MID($B102,COLUMN()-(COLUMN($C102)-1),1) -> 0 | J102: =IF(C102+D102+E102+F102+G102+H102+I102=3,"Y","") | L102: =IF($J102="Y",C102*1,"") | M102: =IF($J102="Y",D102*1,"") | N102: =IF($J102="Y",E102*1,"") | O102: =IF($J102="Y",F102*1,"") | P102: =IF($J102="Y",G102*1,"") | Q102: =IF($J102="Y",H102*1,"") | R102: =IF($J102="Y",I102*1,"")
A103: =A102+1 -> 97 | B103: =DEC2BIN(A103,7) -> 1100001 | C103: =MID($B103,COLUMN()-(COLUMN($C103)-1),1) -> 1 | D103: =MID($B103,COLUMN()-(COLUMN($C103)-1),1) -> 1 | E103: =MID($B103,COLUMN()-(COLUMN($C103)-1),1) -> 0 | F103: =MID($B103,COLUMN()-(COLUMN($C103)-1),1) -> 0 | G103: =MID($B103,COLUMN()-(COLUMN($C103)-1),1) -> 0 | H103: =MID($B103,COLUMN()-(COLUMN($C103)-1),1) -> 0 | I103: =MID($B103,COLUMN()-(COLUMN($C103)-1),1) -> 1 | J103: =IF(C103+D103+E103+F103+G103+H103+I103=3,"Y","") -> Y
A104: =A103+1 -> 98 | B104: =DEC2BIN(A104,7) -> 1100010 | C104: =MID($B104,COLUMN()-(COLUMN($C104)-1),1) -> 1 | D104: =MID($B104,COLUMN()-(COLUMN($C104)-1),1) -> 1 | E104: =MID($B104,COLUMN()-(COLUMN($C104)-1),1) -> 0 | F104: =MID($B104,COLUMN()-(COLUMN($C104)-1),1) -> 0 | G104: =MID($B104,COLUMN()-(COLUMN($C104)-1),1) -> 0 | H104: =MID($B104,COLUMN()-(COLUMN($C104)-1),1) -> 1 | I104: =MID($B104,COLUMN()-(COLUMN($C104)-1),1) -> 0 | J104: =IF(C104+D104+E104+F104+G104+H104+I104=3,"Y","") -> Y
...

Sheet Data 1
A1: LR Case # | B1: 26
B2: =case -> 26
A3: A1 col | B3: =OFFSET(Setup!$AI$6,case,1) -> 4
A4: A2 col | B4: =OFFSET(Setup!$AI$6,case,2) -> 24
A5: A3 col | B5: =OFFSET(Setup!$AI$6,case,3) -> 33
E7: Determination for the Dataset 1 patients of the CF-related conditions and the associated diagnosis values used in the 3-variate LR model with the specified Case #.
B9: Subject Index | C9: Subject Number | D9: Category | E9: Pancreatic Insufficiency | F9: A1 | G9: Bronchiectasis/ Tree in Bud | H9: A2 | I9: Gram Negative Bacterial Infection | J9: A3 | K9: CF Abnormality Count | L9: CFNR/CONT Abnormality Count
B10: 1 | C10: 1 | D10: CF | E10: 2 | F10: =IF(E10=1,1,0) -> 0 | G10: 1 | H10: =IF(G10=1,1,0) -> 1 | I10: 1 | J10: =IF(I10=1,1,0) -> 1 | K10: =COUNTIFS($F10,"1",$D10,"CF")+COUNTIFS($H10,"1",$D10,"CF")+COUNTIFS($J10,"1",$D10,"CF") -> 2 | L10: =COUNTIFS($F10,"1",$D10,"CFNR")+COUNTIFS($H10,"1",$D10,"CFNR")+COUNTIFS($J10,"1",$D10,"CFNR")+COUNTIFS($F10,"1",$D10,"CONT")+COUNTIFS($H10,"1",$D10,"CONT")+COUNTIFS($J10,"1",$D10,"CONT") -> 0
B11: =B10+1 -> 2 | C11: 2 | D11: CF | E11: 2 | F11: =IF(E11=1,1,0) -> 0 | G11: 1 | H11: =IF(G11=1,1,0) -> 1 | I11: 1 | J11: =IF(I11=1,1,0) -> 1 | K11: =COUNTIFS($F11,"1",$D11,"CF")+COUNTIFS($H11,"1",$D11,"CF")+COUNTIFS($J11,"1",$D11,"CF") -> 2 | L11: =COUNTIFS($F11,"1",$D11,"CFNR")+COUNTIFS($H11,"1",$D11,"CFNR")+COUNTIFS($J11,"1",$D11,"CFNR")+COUNTIFS($F11,"1",$D11,"CONT")+COUNTIFS($H11,"1",$D11,"CONT")+COUNTIFS($J11,"1",$D11,"CONT") -> 0
B12: =B11+1 -> 3 | C12: 4 | D12: CFNR | E12: 2 | F12: =IF(E12=1,1,0) -> 0 | G12: 1 | H12: =IF(G12=1,1,0) -> 1 | I12: 2 | J12: =IF(I12=1,1,0) -> 0 | K12: =COUNTIFS($F12,"1",$D12,"CF")+COUNTIFS($H12,"1",$D12,"CF")+COUNTIFS($J12,"1",$D12,"CF") -> 0 | L12: =COUNTIFS($F12,"1",$D12,"CFNR")+COUNTIFS($H12,"1",$D12,"CFNR")+COUNTIFS($J12,"1",$D12,"CFNR")+COUNTIFS($F12,"1",$D12,"CONT")+COUNTIFS($H12,"1",$D12,"CONT")+COUNTIFS($J12,"1",$D12,"CONT") -> 1
B13: =B12+1 -> 4 | C13: 5 | D13: CFNR | E13: 2 | F13: =IF(E13=1,1,0) -> 0 | G13: 1 | H13: =IF(G13=1,1,0) -> 1 | I13: 2 | J13: =IF(I13=1,1,0) -> 0 | K13: =COUNTIFS($F13,"1",$D13,"CF")+COUNTIFS($H13,"1",$D13,"CF")+COUNTIFS($J13,"1",$D13,"CF") -> 0 | L13: =COUNTIFS($F13,"1",$D13,"CFNR")+COUNTIFS($H13,"1",$D13,"CFNR")+COUNTIFS($J13,"1",$D13,"CFNR")+COUNTIFS($F13,"1",$D13,"CONT")+COUNTIFS($H13,"1",$D13,"CONT")+COUNTIFS($J13,"1",$D13,"CONT") -> 1
B14: =B13+1 -> 5 | C14: 9 | D14: CFNR | E14: - | F14: =IF(E14=1,1,0) -> 0 | G14: 1 | H14: =IF(G14=1,1,0) -> 1 | I14: 1 | J14: =IF(I14=1,1,0) -> 1 | K14: =COUNTIFS($F14,"1",$D14,"CF")+COUNTIFS($H14,"1",$D14,"CF")+COUNTIFS($J14,"1",$D14,"CF") -> 0 | L14: =COUNTIFS($F14,"1",$D14,"CFNR")+COUNTIFS($H14,"1",$D14,"CFNR")+COUNTIFS($J14,"1",$D14,"CFNR")+COUNTIFS($F14,"1",$D14,"CONT")+COUNTIFS($H14,"1",$D14,"CONT")+COUNTIFS($J14,"1",$D14,"CONT") -> 2
B15: =B14+1 -> 6 | C15: 12 | D15: CF | E15: 99 | F15: =IF(E15=1,1,0) -> 0 | G15: 1 | H15: =IF(G15=1,1,0) -> 1 | I15: 2 | J15: =IF(I15=1,1,0) -> 0 | K15: =COUNTIFS($F15,"1",$D15,"CF")+COUNTIFS($H15,"1",$D15,"CF")+COUNTIFS($J15,"1",$D15,"CF") -> 1 | L15: =COUNTIFS($F15,"1",$D15,"CFNR")+COUNTIFS($H15,"1",$D15,"CFNR")+COUNTIFS($J15,"1",$D15,"CFNR")+COUNTIFS($F15,"1",$D15,"CONT")+COUNTIFS($H15,"1",$D15,"CONT")+COUNTIFS($J15,"1",$D15,"CONT") -> 0
B16: =B15+1 -> 7 | C16: 14 | D16: CFNR | E16: 99 | F16: =IF(E16=1,1,0) -> 0 | G16: 1 | H16: =IF(G16=1,1,0) -> 1 | I16: 1 | J16: =IF(I16=1,1,0) -> 1 | K16: =COUNTIFS($F16,"1",$D16,"CF")+COUNTIFS($H16,"1",$D16,"CF")+COUNTIFS($J16,"1",$D16,"CF") -> 0 | L16: =COUNTIFS($F16,"1",$D16,"CFNR")+COUNTIFS($H16,"1",$D16,"CFNR")+COUNTIFS($J16,"1",$D16,"CFNR")+COUNTIFS($F16,"1",$D16,"CONT")+COUNTIFS($H16,"1",$D16,"CONT")+COUNTIFS($J16,"1",$D16,"CONT") -> 2
B17: =B16+1 -> 8 | C17: 15 | D17: CFNR | E17: - | F17: =IF(E17=1,1,0) -> 0 | G17: 1 | H17: =IF(G17=1,1,0) -> 1 | I17: 1 | J17: =IF(I17=1,1,0) -> 1 | K17: =COUNTIFS($F17,"1",$D17,"CF")+COUNTIFS($H17,"1",$D17,"CF")+COUNTIFS($J17,"1",$D17,"CF") -> 0 | L17: =COUNTIFS($F17,"1",$D17,"CFNR")+COUNTIFS($H17,"1",$D17,"CFNR")+COUNTIFS($J17,"1",$D17,"CFNR")+COUNTIFS($F17,"1",$D17,"CONT")+COUNTIFS($H17,"1",$D17,"CONT")+COUNTIFS($J17,"1",$D17,"CONT") -> 2
B18: =B17+1 -> 9 | C18: 16 | D18: CFNR | E18: - | F18: =IF(E18=1,1,0) -> 0 | G18: 1 | H18: =IF(G18=1,1,0) -> 1 | I18: 2 | J18: =IF(I18=1,1,0) -> 0 | K18: =COUNTIFS($F18,"1",$D18,"CF")+COUNTIFS($H18,"1",$D18,"CF")+COUNTIFS($J18,"1",$D18,"CF") -> 0 | L18: =COUNTIFS($F18,"1",$D18,"CFNR")+COUNTIFS($H18,"1",$D18,"CFNR")+COUNTIFS($J18,"1",$D18,"CFNR")+COUNTIFS($F18,"1",$D18,"CONT")+COUNTIFS($H18,"1",$D18,"CONT")+COUNTIFS($J18,"1",$D18,"CONT") -> 1
B19: =B18+1 -> 10 | C19: 17 | D19: CF | E19: 1 | F19: =IF(E19=1,1,0) -> 1 | G19: 1 | H19: =IF(G19=1,1,0) -> 1 | I19: 1 | J19: =IF(I19=1,1,0) -> 1 | K19: =COUNTIFS($F19,"1",$D19,"CF")+COUNTIFS($H19,"1",$D19,"CF")+COUNTIFS($J19,"1",$D19,"CF") -> 3 | L19: =COUNTIFS($F19,"1",$D19,"CFNR")+COUNTIFS($H19,"1",$D19,"CFNR")+COUNTIFS($J19,"1",$D19,"CFNR")+COUNTIFS($F19,"1",$D19,"CONT")+COUNTIFS($H19,"1",$D19,"CONT")+COUNTIFS($J19,"1",$D19,"CONT") -> 0
B20: =B19+1 -> 11 | C20: 24 | D20: CFNR | E20: 2 | F20: =IF(E20=1,1,0) -> 0 | G20: 1 | H20: =IF(G20=1,1,0) -> 1 | I20: 1 | J20: =IF(I20=1,1,0) -> 1 | K20: =COUNTIFS($F20,"1",$D20,"CF")+COUNTIFS($H20,"1",$D20,"CF")+COUNTIFS($J20,"1",$D20,"CF") -> 0 | L20: =COUNTIFS($F20,"1",$D20,"CFNR")+COUNTIFS($H20,"1",$D20,"CFNR")+COUNTIFS($J20,"1",$D20,"CFNR")+COUNTIFS($F20,"1",$D20,"CONT")+COUNTIFS($H20,"1",$D20,"CONT")+COUNTIFS($J20,"1",$D20,"CONT") -> 2
B21: =B20+1 -> 12 | C21: 25 | D21: CONT | E21: - | F21: =IF(E21=1,1,0) -> 0 | G21: 1 | H21: =IF(G21=1,1,0) -> 1 | I21: 2 | J21: =IF(I21=1,1,0) -> 0 | K21: =COUNTIFS($F21,"1",$D21,"CF")+COUNTIFS($H21,"1",$D21,"CF")+COUNTIFS($J21,"1",$D21,"CF") -> 0 | L21: =COUNTIFS($F21,"1",$D21,"CFNR")+COUNTIFS($H21,"1",$D21,"CFNR")+COUNTIFS($J21,"1",$D21,"CFNR")+COUNTIFS($F21,"1",$D21,"CONT")+COUNTIFS($H21,"1",$D21,"CONT")+COUNTIFS($J21,"1",$D21,"CONT") -> 1
B22: =B21+1 -> 13 | C22: 27 | D22: CONT | E22: - | F22: =IF(E22=1,1,0) -> 0 | G22: 1 | H22: =IF(G22=1,1,0) -> 1 | I22: - | J22: =IF(I22=1,1,0) -> 0 | K22: =COUNTIFS($F22,"1",$D22,"CF")+COUNTIFS($H22,"1",$D22,"CF")+COUNTIFS($J22,"1",$D22,"CF") -> 0 | L22: =COUNTIFS($F22,"1",$D22,"CFNR")+COUNTIFS($H22,"1",$D22,"CFNR")+COUNTIFS($J22,"1",$D22,"CFNR")+COUNTIFS($F22,"1",$D22,"CONT")+COUNTIFS($H22,"1",$D22,"CONT")+COUNTIFS($J22,"1",$D22,"CONT") -> 1
B23: =B22+1 -> 14 | C23: 29 | D23: CONT | E23: - | F23: =IF(E23=1,1,0) -> 0 | G23: 1 | H23: =IF(G23=1,1,0) -> 1 | I23: 1 | J23: =IF(I23=1,1,0) -> 1 | K23: =COUNTIFS($F23,"1",$D23,"CF")+COUNTIFS($H23,"1",$D23,"CF")+COUNTIFS($J23,"1",$D23,"CF") -> 0 | L23: =COUNTIFS($F23,"1",$D23,"CFNR")+COUNTIFS($H23,"1",$D23,"CFNR")+COUNTIFS($J23,"1",$D23,"CFNR")+COUNTIFS($F23,"1",$D23,"CONT")+COUNTIFS($H23,"1",$D23,"CONT")+COUNTIFS($J23,"1",$D23,"CONT") -> 2
B24: =B23+1 -> 15 | C24: 30 | D24: CONT | E24: - | F24: =IF(E24=1,1,0) -> 0 | G24: 1 | H24: =IF(G24=1,1,0) -> 1 | I24: 1 | J24: =IF(I24=1,1,0) -> 1 | K24: =COUNTIFS($F24,"1",$D24,"CF")+COUNTIFS($H24,"1",$D24,"CF")+COUNTIFS($J24,"1",$D24,"CF") -> 0 | L24: =COUNTIFS($F24,"1",$D24,"CFNR")+COUNTIFS($H24,"1",$D24,"CFNR")+COUNTIFS($J24,"1",$D24,"CFNR")+COUNTIFS($F24,"1",$D24,"CONT")+COUNTIFS($H24,"1",$D24,"CONT")+COUNTIFS($J24,"1",$D24,"CONT") -> 2
B25: =B24+1 -> 16 | C25: 32 | D25: CONT | E25: - | F25: =IF(E25=1,1,0) -> 0 | G25: 2 | H25: =IF(G25=1,1,0) -> 0 | I25: 1 | J25: =IF(I25=1,1,0) -> 1 | K25: =COUNTIFS($F25,"1",$D25,"CF")+COUNTIFS($H25,"1",$D25,"CF")+COUNTIFS($J25,"1",$D25,"CF") -> 0 | L25: =COUNTIFS($F25,"1",$D25,"CFNR")+COUNTIFS($H25,"1",$D25,"CFNR")+COUNTIFS($J25,"1",$D25,"CFNR")+COUNTIFS($F25,"1",$D25,"CONT")+COUNTIFS($H25,"1",$D25,"CONT")+COUNTIFS($J25,"1",$D25,"CONT") -> 1
B26: =B25+1 -> 17 | C26: 36 | D26: CONT | E26: - | F26: =IF(E26=1,1,0) -> 0 | G26: 1 | H26: =IF(G26=1,1,0) -> 1 | I26: 1 | J26: =IF(I26=1,1,0) -> 1 | K26: =COUNTIFS($F26,"1",$D26,"CF")+COUNTIFS($H26,"1",$D26,"CF")+COUNTIFS($J26,"1",$D26,"CF") -> 0 | L26: =COUNTIFS($F26,"1",$D26,"CFNR")+COUNTIFS($H26,"1",$D26,"CFNR")+COUNTIFS($J26,"1",$D26,"CFNR")+COUNTIFS($F26,"1",$D26,"CONT")+COUNTIFS($H26,"1",$D26,"CONT")+COUNTIFS($J26,"1",$D26,"CONT") -> 2
B27: =B26+1 -> 18 | C27: 38 | D27: CF | E27: 2 | F27: =IF(E27=1,1,0) -> 0 | G27: 1 | H27: =IF(G27=1,1,0) -> 1 | I27: 1 | J27: =IF(I27=1,1,0) -> 1 | K27: =COUNTIFS($F27,"1",$D27,"CF")+COUNTIFS($H27,"1",$D27,"CF")+COUNTIFS($J27,"1",$D27,"CF") -> 2 | L27: =COUNTIFS($F27,"1",$D27,"CFNR")+COUNTIFS($H27,"1",$D27,"CFNR")+COUNTIFS($J27,"1",$D27,"CFNR")+COUNTIFS($F27,"1",$D27,"CONT")+COUNTIFS($H27,"1",$D27,"CONT")+COUNTIFS($J27,"1",$D27,"CONT") -> 0
B28: =B27+1 -> 19 | C28: 41 | D28: CONT | E28: - | F28: =IF(E28=1,1,0) -> 0 | G28: 1 | H28: =IF(G28=1,1,0) -> 1 | I28: 1 | J28: =IF(I28=1,1,0) -> 1 | K28: =COUNTIFS($F28,"1",$D28,"CF")+COUNTIFS($H28,"1",$D28,"CF")+COUNTIFS($J28,"1",$D28,"CF") -> 0 | L28: =COUNTIFS($F28,"1",$D28,"CFNR")+COUNTIFS($H28,"1",$D28,"CFNR")+COUNTIFS($J28,"1",$D28,"CFNR")+COUNTIFS($F28,"1",$D28,"CONT")+COUNTIFS($H28,"1",$D28,"CONT")+COUNTIFS($J28,"1",$D28,"CONT") -> 2
B29: =B28+1 -> 20 | C29: 45 | D29: CFNR | E29: - | F29: =IF(E29=1,1,0) -> 0 | G29: 2 | H29: =IF(G29=1,1,0) -> 0 | I29: - | J29: =IF(I29=1,1,0) -> 0 | K29: =COUNTIFS($F29,"1",$D29,"CF")+COUNTIFS($H29,"1",$D29,"CF")+COUNTIFS($J29,"1",$D29,"CF") -> 0 | L29: =COUNTIFS($F29,"1",$D29,"CFNR")+COUNTIFS($H29,"1",$D29,"CFNR")+COUNTIFS($J29,"1",$D29,"CFNR")+COUNTIFS($F29,"1",$D29,"CONT")+COUNTIFS($H29,"1",$D29,"CONT")+COUNTIFS($J29,"1",$D29,"CONT") -> 0
B30: =B29+1 -> 21 | C30: 48 | D30: CFNR | E30: - | F30: =IF(E30=1,1,0) -> 0 | G30: 2 | H30: =IF(G30=1,1,0) -> 0 | I30: 2 | J30: =IF(I30=1,1,0) -> 0 | K30: =COUNTIFS($F30,"1",$D30,"CF")+COUNTIFS($H30,"1",$D30,"CF")+COUNTIFS($J30,"1",$D30,"CF") -> 0 | L30: =COUNTIFS($F30,"1",$D30,"CFNR")+COUNTIFS($H30,"1",$D30,"CFNR")+COUNTIFS($J30,"1",$D30,"CFNR")+COUNTIFS($F30,"1",$D30,"CONT")+COUNTIFS($H30,"1",$D30,"CONT")+COUNTIFS($J30,"1",$D30,"CONT") -> 0
B31: =B30+1 -> 22 | C31: 50 | D31: CONT | E31: - | F31: =IF(E31=1,1,0) -> 0 | G31: 1 | H31: =IF(G31=1,1,0) -> 1 | I31: 2 | J31: =IF(I31=1,1,0) -> 0 | K31: =COUNTIFS($F31,"1",$D31,"CF")+COUNTIFS($H31,"1",$D31,"CF")+COUNTIFS($J31,"1",$D31,"CF") -> 0 | L31: =COUNTIFS($F31,"1",$D31,"CFNR")+COUNTIFS($H31,"1",$D31,"CFNR")+COUNTIFS($J31,"1",$D31,"CFNR")+COUNTIFS($F31,"1",$D31,"CONT")+COUNTIFS($H31,"1",$D31,"CONT")+COUNTIFS($J31,"1",$D31,"CONT") -> 1
B32: =B31+1 -> 23 | C32: 51 | D32: CONT | E32: - | F32: =IF(E32=1,1,0) -> 0 | G32: 1 | H32: =IF(G32=1,1,0) -> 1 | I32: 1 | J32: =IF(I32=1,1,0) -> 1 | K32: =COUNTIFS($F32,"1",$D32,"CF")+COUNTIFS($H32,"1",$D32,"CF")+COUNTIFS($J32,"1",$D32,"CF") -> 0 | L32: =COUNTIFS($F32,"1",$D32,"CFNR")+COUNTIFS($H32,"1",$D32,"CFNR")+COUNTIFS($J32,"1",$D32,"CFNR")+COUNTIFS($F32,"1",$D32,"CONT")+COUNTIFS($H32,"1",$D32,"CONT")+COUNTIFS($J32,"1",$D32,"CONT") -> 2
B33: =B32+1 -> 24 | C33: 52 | D33: CONT | E33: - | F33: =IF(E33=1,1,0) -> 0 | G33: 1 | H33: =IF(G33=1,1,0) -> 1 | I33: 1 | J33: =IF(I33=1,1,0) -> 1 | K33: =COUNTIFS($F33,"1",$D33,"CF")+COUNTIFS($H33,"1",$D33,"CF")+COUNTIFS($J33,"1",$D33,"CF") -> 0 | L33: =COUNTIFS($F33,"1",$D33,"CFNR")+COUNTIFS($H33,"1",$D33,"CFNR")+COUNTIFS($J33,"1",$D33,"CFNR")+COUNTIFS($F33,"1",$D33,"CONT")+COUNTIFS($H33,"1",$D33,"CONT")+COUNTIFS($J33,"1",$D33,"CONT") -> 2
B34: =B33+1 -> 25 | C34: 55 | D34: CONT | E34: - | F34: =IF(E34=1,1,0) -> 0 | G34: 1 | H34: =IF(G34=1,1,0) -> 1 | I34: 2 | J34: =IF(I34=1,1,0) -> 0 | K34: =COUNTIFS($F34,"1",$D34,"CF")+COUNTIFS($H34,"1",$D34,"CF")+COUNTIFS($J34,"1",$D34,"CF") -> 0 | L34: =COUNTIFS($F34,"1",$D34,"CFNR")+COUNTIFS($H34,"1",$D34,"CFNR")+COUNTIFS($J34,"1",$D34,"CFNR")+COUNTIFS($F34,"1",$D34,"CONT")+COUNTIFS($H34,"1",$D34,"CONT")+COUNTIFS($J34,"1",$D34,"CONT") -> 1
B35: =B34+1 -> 26 | C35: 56 | D35: CONT | E35: - | F35: =IF(E35=1,1,0) -> 0 | G35: 1 | H35: =IF(G35=1,1,0) -> 1 | I35: 2 | J35: =IF(I35=1,1,0) -> 0 | K35: =COUNTIFS($F35,"1",$D35,"CF")+COUNTIFS($H35,"1",$D35,"CF")+COUNTIFS($J35,"1",$D35,"CF") -> 0 | L35: =COUNTIFS($F35,"1",$D35,"CFNR")+COUNTIFS($H35,"1",$D35,"CFNR")+COUNTIFS($J35,"1",$D35,"CFNR")+COUNTIFS($F35,"1",$D35,"CONT")+COUNTIFS($H35,"1",$D35,"CONT")+COUNTIFS($J35,"1",$D35,"CONT") -> 1
B36: =B35+1 -> 27 | C36: 58 | D36: CONT | E36: 2 | F36: =IF(E36=1,1,0) -> 0 | G36: 1 | H36: =IF(G36=1,1,0) -> 1 | I36: 1 | J36: =IF(I36=1,1,0) -> 1 | K36: =COUNTIFS($F36,"1",$D36,"CF")+COUNTIFS($H36,"1",$D36,"CF")+COUNTIFS($J36,"1",$D36,"CF") -> 0 | L36: =COUNTIFS($F36,"1",$D36,"CFNR")+COUNTIFS($H36,"1",$D36,"CFNR")+COUNTIFS($J36,"1",$D36,"CFNR")+COUNTIFS($F36,"1",$D36,"CONT")+COUNTIFS($H36,"1",$D36,"CONT")+COUNTIFS($J36,"1",$D36,"CONT") -> 2
B37: =B36+1 -> 28 | C37: 59 | D37: CONT | E37: - | F37: =IF(E37=1,1,0) -> 0 | G37: 2 | H37: =IF(G37=1,1,0) -> 0 | I37: 2 | J37: =IF(I37=1,1,0) -> 0 | K37: =COUNTIFS($F37,"1",$D37,"CF")+COUNTIFS($H37,"1",$D37,"CF")+COUNTIFS($J37,"1",$D37,"CF") -> 0 | L37: =COUNTIFS($F37,"1",$D37,"CFNR")+COUNTIFS($H37,"1",$D37,"CFNR")+COUNTIFS($J37,"1",$D37,"CFNR")+COUNTIFS($F37,"1",$D37,"CONT")+COUNTIFS($H37,"1",$D37,"CONT")+COUNTIFS($J37,"1",$D37,"CONT") -> 0
B38: =B37+1 -> 29 | C38: 67 | D38: CF | E38: 1 | F38: =IF(E38=1,1,0) -> 1 | G38: 2 | H38: =IF(G38=1,1,0) -> 0 | I38: 1 | J38: =IF(I38=1,1,0) -> 1 | K38: =COUNTIFS($F38,"1",$D38,"CF")+COUNTIFS($H38,"1",$D38,"CF")+COUNTIFS($J38,"1",$D38,"CF") -> 2 | L38: =COUNTIFS($F38,"1",$D38,"CFNR")+COUNTIFS($H38,"1",$D38,"CFNR")+COUNTIFS($J38,"1",$D38,"CFNR")+COUNTIFS($F38,"1",$D38,"CONT")+COUNTIFS($H38,"1",$D38,"CONT")+COUNTIFS($J38,"1",$D38,"CONT") -> 0
B39: =B38+1 -> 30 | C39: 68 | D39: CONT | E39: - | F39: =IF(E39=1,1,0) -> 0 | G39: 1 | H39: =IF(G39=1,1,0) -> 1 | I39: 1 | J39: =IF(I39=1,1,0) -> 1 | K39: =COUNTIFS($F39,"1",$D39,"CF")+COUNTIFS($H39,"1",$D39,"CF")+COUNTIFS($J39,"1",$D39,"CF") -> 0 | L39: =COUNTIFS($F39,"1",$D39,"CFNR")+COUNTIFS($H39,"1",$D39,"CFNR")+COUNTIFS($J39,"1",$D39,"CFNR")+COUNTIFS($F39,"1",$D39,"CONT")+COUNTIFS($H39,"1",$D39,"CONT")+COUNTIFS($J39,"1",$D39,"CONT") -> 2
B40: =B39+1 -> 31 | C40: 69 | D40: CONT | E40: - | F40: =IF(E40=1,1,0) -> 0 | G40: 1 | H40: =IF(G40=1,1,0) -> 1 | I40: 1 | J40: =IF(I40=1,1,0) -> 1 | K40: =COUNTIFS($F40,"1",$D40,"CF")+COUNTIFS($H40,"1",$D40,"CF")+COUNTIFS($J40,"1",$D40,"CF") -> 0 | L40: =COUNTIFS($F40,"1",$D40,"CFNR")+COUNTIFS($H40,"1",$D40,"CFNR")+COUNTIFS($J40,"1",$D40,"CFNR")+COUNTIFS($F40,"1",$D40,"CONT")+COUNTIFS($H40,"1",$D40,"CONT")+COUNTIFS($J40,"1",$D40,"CONT") -> 2
B41: =B40+1 -> 32 | C41: 70 | D41: CONT | E41: - | F41: =IF(E41=1,1,0) -> 0 | G41: 1 | H41: =IF(G41=1,1,0) -> 1 | I41: 2 | J41: =IF(I41=1,1,0) -> 0 | K41: =COUNTIFS($F41,"1",$D41,"CF")+COUNTIFS($H41,"1",$D41,"CF")+COUNTIFS($J41,"1",$D41,"CF") -> 0 | L41: =COUNTIFS($F41,"1",$D41,"CFNR")+COUNTIFS($H41,"1",$D41,"CFNR")+COUNTIFS($J41,"1",$D41,"CFNR")+COUNTIFS($F41,"1",$D41,"CONT")+COUNTIFS($H41,"1",$D41,"CONT")+COUNTIFS($J41,"1",$D41,"CONT") -> 1
B42: =B41+1 -> 33 | C42: 73 | D42: CFNR | E42: 2 | F42: =IF(E42=1,1,0) -> 0 | G42: 1 | H42: =IF(G42=1,1,0) -> 1 | I42: - | J42: =IF(I42=1,1,0) -> 0 | K42: =COUNTIFS($F42,"1",$D42,"CF")+COUNTIFS($H42,"1",$D42,"CF")+COUNTIFS($J42,"1",$D42,"CF") -> 0 | L42: =COUNTIFS($F42,"1",$D42,"CFNR")+COUNTIFS($H42,"1",$D42,"CFNR")+COUNTIFS($J42,"1",$D42,"CFNR")+COUNTIFS($F42,"1",$D42,"CONT")+COUNTIFS($H42,"1",$D42,"CONT")+COUNTIFS($J42,"1",$D42,"CONT") -> 1
B43: =B42+1 -> 34 | C43: 76 | D43: CONT | E43: - | F43: =IF(E43=1,1,0) -> 0 | G43: 2 | H43: =IF(G43=1,1,0) -> 0 | I43: 2 | J43: =IF(I43=1,1,0) -> 0 | K43: =COUNTIFS($F43,"1",$D43,"CF")+COUNTIFS($H43,"1",$D43,"CF")+COUNTIFS($J43,"1",$D43,"CF") -> 0 | L43: =COUNTIFS($F43,"1",$D43,"CFNR")+COUNTIFS($H43,"1",$D43,"CFNR")+COUNTIFS($J43,"1",$D43,"CFNR")+COUNTIFS($F43,"1",$D43,"CONT")+COUNTIFS($H43,"1",$D43,"CONT")+COUNTIFS($J43,"1",$D43,"CONT") -> 0
B44: =B43+1 -> 35 | C44: 80 | D44: CF | E44: 1 | F44: =IF(E44=1,1,0) -> 1 | G44: 1 | H44: =IF(G44=1,1,0) -> 1 | I44: 1 | J44: =IF(I44=1,1,0) -> 1 | K44: =COUNTIFS($F44,"1",$D44,"CF")+COUNTIFS($H44,"1",$D44,"CF")+COUNTIFS($J44,"1",$D44,"CF") -> 3 | L44: =COUNTIFS($F44,"1",$D44,"CFNR")+COUNTIFS($H44,"1",$D44,"CFNR")+COUNTIFS($J44,"1",$D44,"CFNR")+COUNTIFS($F44,"1",$D44,"CONT")+COUNTIFS($H44,"1",$D44,"CONT")+COUNTIFS($J44,"1",$D44,"CONT") -> 0
B45: =B44+1 -> 36 | C45: 82 | D45: CONT | E45: - | F45: =IF(E45=1,1,0) -> 0 | G45: 2 | H45: =IF(G45=1,1,0) -> 0 | I45: 2 | J45: =IF(I45=1,1,0) -> 0 | K45: =COUNTIFS($F45,"1",$D45,"CF")+COUNTIFS($H45,"1",$D45,"CF")+COUNTIFS($J45,"1",$D45,"CF") -> 0 | L45: =COUNTIFS($F45,"1",$D45,"CFNR")+COUNTIFS($H45,"1",$D45,"CFNR")+COUNTIFS($J45,"1",$D45,"CFNR")+COUNTIFS($F45,"1",$D45,"CONT")+COUNTIFS($H45,"1",$D45,"CONT")+COUNTIFS($J45,"1",$D45,"CONT") -> 0
B46: =B45+1 -> 37 | C46: 85 | D46: CONT | E46: - | F46: =IF(E46=1,1,0) -> 0 | G46: 1 | H46: =IF(G46=1,1,0) -> 1 | I46: 2 | J46: =IF(I46=1,1,0) -> 0 | K46: =COUNTIFS($F46,"1",$D46,"CF")+COUNTIFS($H46,"1",$D46,"CF")+COUNTIFS($J46,"1",$D46,"CF") -> 0 | L46: =COUNTIFS($F46,"1",$D46,"CFNR")+COUNTIFS($H46,"1",$D46,"CFNR")+COUNTIFS($J46,"1",$D46,"CFNR")+COUNTIFS($F46,"1",$D46,"CONT")+COUNTIFS($H46,"1",$D46,"CONT")+COUNTIFS($J46,"1",$D46,"CONT") -> 1
B47: =B46+1 -> 38 | C47: 86 | D47: CFNR | E47: - | F47: =IF(E47=1,1,0) -> 0 | G47: 1 | H47: =IF(G47=1,1,0) -> 1 | I47: 1 | J47: =IF(I47=1,1,0) -> 1 | K47: =COUNTIFS($F47,"1",$D47,"CF")+COUNTIFS($H47,"1",$D47,"CF")+COUNTIFS($J47,"1",$D47,"CF") -> 0 | L47: =COUNTIFS($F47,"1",$D47,"CFNR")+COUNTIFS($H47,"1",$D47,"CFNR")+COUNTIFS($J47,"1",$D47,"CFNR")+COUNTIFS($F47,"1",$D47,"CONT")+COUNTIFS($H47,"1",$D47,"CONT")+COUNTIFS($J47,"1",$D47,"CONT") -> 2
B48: =B47+1 -> 39 | C48: 89 | D48: CFNR | E48: - | F48: =IF(E48=1,1,0) -> 0 | G48: 1 | H48: =IF(G48=1,1,0) -> 1 | I48: 2 | J48: =IF(I48=1,1,0) -> 0 | K48: =COUNTIFS($F48,"1",$D48,"CF")+COUNTIFS($H48,"1",$D48,"CF")+COUNTIFS($J48,"1",$D48,"CF") -> 0 | L48: =COUNTIFS($F48,"1",$D48,"CFNR")+COUNTIFS($H48,"1",$D48,"CFNR")+COUNTIFS($J48,"1",$D48,"CFNR")+COUNTIFS($F48,"1",$D48,"CONT")+COUNTIFS($H48,"1",$D48,"CONT")+COUNTIFS($J48,"1",$D48,"CONT") -> 1
B49: =B48+1 -> 40 | C49: 112 | D49: CONT | E49: - | F49: =IF(E49=1,1,0) -> 0 | G49: 2 | H49: =IF(G49=1,1,0) -> 0 | I49: 1 | J49: =IF(I49=1,1,0) -> 1 | K49: =COUNTIFS($F49,"1",$D49,"CF")+COUNTIFS($H49,"1",$D49,"CF")+COUNTIFS($J49,"1",$D49,"CF") -> 0 | L49: =COUNTIFS($F49,"1",$D49,"CFNR")+COUNTIFS($H49,"1",$D49,"CFNR")+COUNTIFS($J49,"1",$D49,"CFNR")+COUNTIFS($F49,"1",$D49,"CONT")+COUNTIFS($H49,"1",$D49,"CONT")+COUNTIFS($J49,"1",$D49,"CONT") -> 1
B50: =B49+1 -> 41 | C50: 117 | D50: CFNR | E50: - | F50: =IF(E50=1,1,0) -> 0 | G50: 1 | H50: =IF(G50=1,1,0) -> 1 | I50: 1 | J50: =IF(I50=1,1,0) -> 1 | K50: =COUNTIFS($F50,"1",$D50,"CF")+COUNTIFS($H50,"1",$D50,"CF")+COUNTIFS($J50,"1",$D50,"CF") -> 0 | L50: =COUNTIFS($F50,"1",$D50,"CFNR")+COUNTIFS($H50,"1",$D50,"CFNR")+COUNTIFS($J50,"1",$D50,"CFNR")+COUNTIFS($F50,"1",$D50,"CONT")+COUNTIFS($H50,"1",$D50,"CONT")+COUNTIFS($J50,"1",$D50,"CONT") -> 2
B51: =B50+1 -> 42 | C51: 118 | D51: CONT | E51: - | F51: =IF(E51=1,1,0) -> 0 | G51: 2 | H51: =IF(G51=1,1,0) -> 0 | I51: - | J51: =IF(I51=1,1,0) -> 0 | K51: =COUNTIFS($F51,"1",$D51,"CF")+COUNTIFS($H51,"1",$D51,"CF")+COUNTIFS($J51,"1",$D51,"CF") -> 0 | L51: =COUNTIFS($F51,"1",$D51,"CFNR")+COUNTIFS($H51,"1",$D51,"CFNR")+COUNTIFS($J51,"1",$D51,"CFNR")+COUNTIFS($F51,"1",$D51,"CONT")+COUNTIFS($H51,"1",$D51,"CONT")+COUNTIFS($J51,"1",$D51,"CONT") -> 0
B52: =B51+1 -> 43 | C52: 120 | D52: CONT | E52: - | F52: =IF(E52=1,1,0) -> 0 | G52: 2 | H52: =IF(G52=1,1,0) -> 0 | I52: 2 | J52: =IF(I52=1,1,0) -> 0 | K52: =COUNTIFS($F52,"1",$D52,"CF")+COUNTIFS($H52,"1",$D52,"CF")+COUNTIFS($J52,"1",$D52,"CF") -> 0 | L52: =COUNTIFS($F52,"1",$D52,"CFNR")+COUNTIFS($H52,"1",$D52,"CFNR")+COUNTIFS($J52,"1",$D52,"CFNR")+COUNTIFS($F52,"1",$D52,"CONT")+COUNTIFS($H52,"1",$D52,"CONT")+COUNTIFS($J52,"1",$D52,"CONT") -> 0
B53: =B52+1 -> 44 | C53: 121 | D53: CFNR | E53: 99 | F53: =IF(E53=1,1,0) -> 0 | G53: 2 | H53: =IF(G53=1,1,0) -> 0 | I53: 1 | J53: =IF(I53=1,1,0) -> 1 | K53: =COUNTIFS($F53,"1",$D53,"CF")+COUNTIFS($H53,"1",$D53,"CF")+COUNTIFS($J53,"1",$D53,"CF") -> 0 | L53: =COUNTIFS($F53,"1",$D53,"CFNR")+COUNTIFS($H53,"1",$D53,"CFNR")+COUNTIFS($J53,"1",$D53,"CFNR")+COUNTIFS($F53,"1",$D53,"CONT")+COUNTIFS($H53,"1",$D53,"CONT")+COUNTIFS($J53,"1",$D53,"CONT") -> 1
B54: =B53+1 -> 45 | C54: 123 | D54: CONT | E54: - | F54: =IF(E54=1,1,0) -> 0 | G54: 2 | H54: =IF(G54=1,1,0) -> 0 | I54: 2 | J54: =IF(I54=1,1,0) -> 0 | K54: =COUNTIFS($F54,"1",$D54,"CF")+COUNTIFS($H54,"1",$D54,"CF")+COUNTIFS($J54,"1",$D54,"CF") -> 0 | L54: =COUNTIFS($F54,"1",$D54,"CFNR")+COUNTIFS($H54,"1",$D54,"CFNR")+COUNTIFS($J54,"1",$D54,"CFNR")+COUNTIFS($F54,"1",$D54,"CONT")+COUNTIFS($H54,"1",$D54,"CONT")+COUNTIFS($J54,"1",$D54,"CONT") -> 0
B55: =B54+1 -> 46 | C55: 130 | D55: CFNR | E55: - | F55: =IF(E55=1,1,0) -> 0 | G55: 1 | H55: =IF(G55=1,1,0) -> 1 | I55: - | J55: =IF(I55=1,1,0) -> 0 | K55: =COUNTIFS($F55,"1",$D55,"CF")+COUNTIFS($H55,"1",$D55,"CF")+COUNTIFS($J55,"1",$D55,"CF") -> 0 | L55: =COUNTIFS($F55,"1",$D55,"CFNR")+COUNTIFS($H55,"1",$D55,"CFNR")+COUNTIFS($J55,"1",$D55,"CFNR")+COUNTIFS($F55,"1",$D55,"CONT")+COUNTIFS($H55,"1",$D55,"CONT")+COUNTIFS($J55,"1",$D55,"CONT") -> 1
B56: =B55+1 -> 47 | C56: 132 | D56: CF | E56: - | F56: =IF(E56=1,1,0) -> 0 | G56: 2 | H56: =IF(G56=1,1,0) -> 0 | I56: 1 | J56: =IF(I56=1,1,0) -> 1 | K56: =COUNTIFS($F56,"1",$D56,"CF")+COUNTIFS($H56,"1",$D56,"CF")+COUNTIFS($J56,"1",$D56,"CF") -> 1 | L56: =COUNTIFS($F56,"1",$D56,"CFNR")+COUNTIFS($H56,"1",$D56,"CFNR")+COUNTIFS($J56,"1",$D56,"CFNR")+COUNTIFS($F56,"1",$D56,"CONT")+COUNTIFS($H56,"1",$D56,"CONT")+COUNTIFS($J56,"1",$D56,"CONT") -> 0
B57: =B56+1 -> 48 | C57: 136 | D57: CFNR | E57: - | F57: =IF(E57=1,1,0) -> 0 | G57: 1 | H57: =IF(G57=1,1,0) -> 1 | I57: 1 | J57: =IF(I57=1,1,0) -> 1 | K57: =COUNTIFS($F57,"1",$D57,"CF")+COUNTIFS($H57,"1",$D57,"CF")+COUNTIFS($J57,"1",$D57,"CF") -> 0 | L57: =COUNTIFS($F57,"1",$D57,"CFNR")+COUNTIFS($H57,"1",$D57,"CFNR")+COUNTIFS($J57,"1",$D57,"CFNR")+COUNTIFS($F57,"1",$D57,"CONT")+COUNTIFS($H57,"1",$D57,"CONT")+COUNTIFS($J57,"1",$D57,"CONT") -> 2
B58: =B57+1 -> 49 | C58: 138 | D58: CFNR | E58: - | F58: =IF(E58=1,1,0) -> 0 | G58: 1 | H58: =IF(G58=1,1,0) -> 1 | I58: 2 | J58: =IF(I58=1,1,0) -> 0 | K58: =COUNTIFS($F58,"1",$D58,"CF")+COUNTIFS($H58,"1",$D58,"CF")+COUNTIFS($J58,"1",$D58,"CF") -> 0 | L58: =COUNTIFS($F58,"1",$D58,"CFNR")+COUNTIFS($H58,"1",$D58,"CFNR")+COUNTIFS($J58,"1",$D58,"CFNR")+COUNTIFS($F58,"1",$D58,"CONT")+COUNTIFS($H58,"1",$D58,"CONT")+COUNTIFS($J58,"1",$D58,"CONT") -> 1
B59: =B58+1 -> 50 | C59: 142 | D59: CFNR | E59: - | F59: =IF(E59=1,1,0) -> 0 | G59: 1 | H59: =IF(G59=1,1,0) -> 1 | I59: - | J59: =IF(I59=1,1,0) -> 0 | K59: =COUNTIFS($F59,"1",$D59,"CF")+COUNTIFS($H59,"1",$D59,"CF")+COUNTIFS($J59,"1",$D59,"CF") -> 0 | L59: =COUNTIFS($F59,"1",$D59,"CFNR")+COUNTIFS($H59,"1",$D59,"CFNR")+COUNTIFS($J59,"1",$D59,"CFNR")+COUNTIFS($F59,"1",$D59,"CONT")+COUNTIFS($H59,"1",$D59,"CONT")+COUNTIFS($J59,"1",$D59,"CONT") -> 1
B60: =B59+1 -> 51 | C60: 148 | D60: CFNR | E60: - | F60: =IF(E60=1,1,0) -> 0 | G60: 1 | H60: =IF(G60=1,1,0) -> 1 | I60: 1 | J60: =IF(I60=1,1,0) -> 1 | K60: =COUNTIFS($F60,"1",$D60,"CF")+COUNTIFS($H60,"1",$D60,"CF")+COUNTIFS($J60,"1",$D60,"CF") -> 0 | L60: =COUNTIFS($F60,"1",$D60,"CFNR")+COUNTIFS($H60,"1",$D60,"CFNR")+COUNTIFS($J60,"1",$D60,"CFNR")+COUNTIFS($F60,"1",$D60,"CONT")+COUNTIFS($H60,"1",$D60,"CONT")+COUNTIFS($J60,"1",$D60,"CONT") -> 2
B61: =B60+1 -> 52 | C61: 149 | D61: CFNR | E61: - | F61: =IF(E61=1,1,0) -> 0 | G61: 2 | H61: =IF(G61=1,1,0) -> 0 | I61: 1 | J61: =IF(I61=1,1,0) -> 1 | K61: =COUNTIFS($F61,"1",$D61,"CF")+COUNTIFS($H61,"1",$D61,"CF")+COUNTIFS($J61,"1",$D61,"CF") -> 0 | L61: =COUNTIFS($F61,"1",$D61,"CFNR")+COUNTIFS($H61,"1",$D61,"CFNR")+COUNTIFS($J61,"1",$D61,"CFNR")+COUNTIFS($F61,"1",$D61,"CONT")+COUNTIFS($H61,"1",$D61,"CONT")+COUNTIFS($J61,"1",$D61,"CONT") -> 1
B62: =B61+1 -> 53 | C62: 154 | D62: CFNR | E62: - | F62: =IF(E62=1,1,0) -> 0 | G62: 1 | H62: =IF(G62=1,1,0) -> 1 | I62: 2 | J62: =IF(I62=1,1,0) -> 0 | K62: =COUNTIFS($F62,"1",$D62,"CF")+COUNTIFS($H62,"1",$D62,"CF")+COUNTIFS($J62,"1",$D62,"CF") -> 0 | L62: =COUNTIFS($F62,"1",$D62,"CFNR")+COUNTIFS($H62,"1",$D62,"CFNR")+COUNTIFS($J62,"1",$D62,"CFNR")+COUNTIFS($F62,"1",$D62,"CONT")+COUNTIFS($H62,"1",$D62,"CONT")+COUNTIFS($J62,"1",$D62,"CONT") -> 1
B63: =B62+1 -> 54 | C63: 155 | D63: CFNR | E63: 99 | F63: =IF(E63=1,1,0) -> 0 | G63: 1 | H63: =IF(G63=1,1,0) -> 1 | I63: 1 | J63: =IF(I63=1,1,0) -> 1 | K63: =COUNTIFS($F63,"1",$D63,"CF")+COUNTIFS($H63,"1",$D63,"CF")+COUNTIFS($J63,"1",$D63,"CF") -> 0 | L63: =COUNTIFS($F63,"1",$D63,"CFNR")+COUNTIFS($H63,"1",$D63,"CFNR")+COUNTIFS($J63,"1",$D63,"CFNR")+COUNTIFS($F63,"1",$D63,"CONT")+COUNTIFS($H63,"1",$D63,"CONT")+COUNTIFS($J63,"1",$D63,"CONT") -> 2
B64: =B63+1 -> 55 | C64: 160 | D64: CF | E64: 2 | F64: =IF(E64=1,1,0) -> 0 | G64: 1 | H64: =IF(G64=1,1,0) -> 1 | I64: 2 | J64: =IF(I64=1,1,0) -> 0 | K64: =COUNTIFS($F64,"1",$D64,"CF")+COUNTIFS($H64,"1",$D64,"CF")+COUNTIFS($J64,"1",$D64,"CF") -> 1 | L64: =COUNTIFS($F64,"1",$D64,"CFNR")+COUNTIFS($H64,"1",$D64,"CFNR")+COUNTIFS($J64,"1",$D64,"CFNR")+COUNTIFS($F64,"1",$D64,"CONT")+COUNTIFS($H64,"1",$D64,"CONT")+COUNTIFS($J64,"1",$D64,"CONT") -> 0
B65: =B64+1 -> 56 | C65: 166 | D65: CFNR | E65: - | F65: =IF(E65=1,1,0) -> 0 | G65: 1 | H65: =IF(G65=1,1,0) -> 1 | I65: 1 | J65: =IF(I65=1,1,0) -> 1 | K65: =COUNTIFS($F65,"1",$D65,"CF")+COUNTIFS($H65,"1",$D65,"CF")+COUNTIFS($J65,"1",$D65,"CF") -> 0 | L65: =COUNTIFS($F65,"1",$D65,"CFNR")+COUNTIFS($H65,"1",$D65,"CFNR")+COUNTIFS($J65,"1",$D65,"CFNR")+COUNTIFS($F65,"1",$D65,"CONT")+COUNTIFS($H65,"1",$D65,"CONT")+COUNTIFS($J65,"1",$D65,"CONT") -> 2
B66: =B65+1 -> 57 | C66: 167 | D66: CF | E66: 2 | F66: =IF(E66=1,1,0) -> 0 | G66: 2 | H66: =IF(G66=1,1,0) -> 0 | I66: 2 | J66: =IF(I66=1,1,0) -> 0 | K66: =COUNTIFS($F66,"1",$D66,"CF")+COUNTIFS($H66,"1",$D66,"CF")+COUNTIFS($J66,"1",$D66,"CF") -> 0 | L66: =COUNTIFS($F66,"1",$D66,"CFNR")+COUNTIFS($H66,"1",$D66,"CFNR")+COUNTIFS($J66,"1",$D66,"CFNR")+COUNTIFS($F66,"1",$D66,"CONT")+COUNTIFS($H66,"1",$D66,"CONT")+COUNTIFS($J66,"1",$D66,"CONT") -> 0
B67: =B66+1 -> 58 | C67: 170 | D67: CF | E67: 2 | F67: =IF(E67=1,1,0) -> 0 | G67: 2 | H67: =IF(G67=1,1,0) -> 0 | I67: - | J67: =IF(I67=1,1,0) -> 0 | K67: =COUNTIFS($F67,"1",$D67,"CF")+COUNTIFS($H67,"1",$D67,"CF")+COUNTIFS($J67,"1",$D67,"CF") -> 0 | L67: =COUNTIFS($F67,"1",$D67,"CFNR")+COUNTIFS($H67,"1",$D67,"CFNR")+COUNTIFS($J67,"1",$D67,"CFNR")+COUNTIFS($F67,"1",$D67,"CONT")+COUNTIFS($H67,"1",$D67,"CONT")+COUNTIFS($J67,"1",$D67,"CONT") -> 0
B68: =B67+1 -> 59 | C68: 203 | D68: CFNR | E68: 2 | F68: =IF(E68=1,1,0) -> 0 | G68: 1 | H68: =IF(G68=1,1,0) -> 1 | I68: 2 | J68: =IF(I68=1,1,0) -> 0 | K68: =COUNTIFS($F68,"1",$D68,"CF")+COUNTIFS($H68,"1",$D68,"CF")+COUNTIFS($J68,"1",$D68,"CF") -> 0 | L68: =COUNTIFS($F68,"1",$D68,"CFNR")+COUNTIFS($H68,"1",$D68,"CFNR")+COUNTIFS($J68,"1",$D68,"CFNR")+COUNTIFS($F68,"1",$D68,"CONT")+COUNTIFS($H68,"1",$D68,"CONT")+COUNTIFS($J68,"1",$D68,"CONT") -> 1
B69: =B68+1 -> 60 | C69: 204 | D69: CFNR | E69: - | F69: =IF(E69=1,1,0) -> 0 | G69: 1 | H69: =IF(G69=1,1,0) -> 1 | I69: 2 | J69: =IF(I69=1,1,0) -> 0 | K69: =COUNTIFS($F69,"1",$D69,"CF")+COUNTIFS($H69,"1",$D69,"CF")+COUNTIFS($J69,"1",$D69,"CF") -> 0 | L69: =COUNTIFS($F69,"1",$D69,"CFNR")+COUNTIFS($H69,"1",$D69,"CFNR")+COUNTIFS($J69,"1",$D69,"CFNR")+COUNTIFS($F69,"1",$D69,"CONT")+COUNTIFS($H69,"1",$D69,"CONT")+COUNTIFS($J69,"1",$D69,"CONT") -> 1
B70: =B69+1 -> 61 | C70: 205 | D70: CFNR | E70: - | F70: =IF(E70=1,1,0) -> 0 | G70: 1 | H70: =IF(G70=1,1,0) -> 1 | I70: 2 | J70: =IF(I70=1,1,0) -> 0 | K70: =COUNTIFS($F70,"1",$D70,"CF")+COUNTIFS($H70,"1",$D70,"CF")+COUNTIFS($J70,"1",$D70,"CF") -> 0 | L70: =COUNTIFS($F70,"1",$D70,"CFNR")+COUNTIFS($H70,"1",$D70,"CFNR")+COUNTIFS($J70,"1",$D70,"CFNR")+COUNTIFS($F70,"1",$D70,"CONT")+COUNTIFS($H70,"1",$D70,"CONT")+COUNTIFS($J70,"1",$D70,"CONT") -> 1
B71: =B70+1 -> 62 | C71: 208 | D71: CFNR | E71: 2 | F71: =IF(E71=1,1,0) -> 0 | G71: 2 | H71: =IF(G71=1,1,0) -> 0 | I71: - | J71: =IF(I71=1,1,0) -> 0 | K71: =COUNTIFS($F71,"1",$D71,"CF")+COUNTIFS($H71,"1",$D71,"CF")+COUNTIFS($J71,"1",$D71,"CF") -> 0 | L71: =COUNTIFS($F71,"1",$D71,"CFNR")+COUNTIFS($H71,"1",$D71,"CFNR")+COUNTIFS($J71,"1",$D71,"CFNR")+COUNTIFS($F71,"1",$D71,"CONT")+COUNTIFS($H71,"1",$D71,"CONT")+COUNTIFS($J71,"1",$D71,"CONT") -> 0
B72: =B71+1 -> 63 | C72: 210 | D72: CONT | E72: - | F72: =IF(E72=1,1,0) -> 0 | G72: 2 | H72: =IF(G72=1,1,0) -> 0 | I72: 1 | J72: =IF(I72=1,1,0) -> 1 | K72: =COUNTIFS($F72,"1",$D72,"CF")+COUNTIFS($H72,"1",$D72,"CF")+COUNTIFS($J72,"1",$D72,"CF") -> 0 | L72: =COUNTIFS($F72,"1",$D72,"CFNR")+COUNTIFS($H72,"1",$D72,"CFNR")+COUNTIFS($J72,"1",$D72,"CFNR")+COUNTIFS($F72,"1",$D72,"CONT")+COUNTIFS($H72,"1",$D72,"CONT")+COUNTIFS($J72,"1",$D72,"CONT") -> 1
B73: =B72+1 -> 64 | C73: 211 | D73: CONT | E73: - | F73: =IF(E73=1,1,0) -> 0 | G73: 1 | H73: =IF(G73=1,1,0) -> 1 | I73: 1 | J73: =IF(I73=1,1,0) -> 1 | K73: =COUNTIFS($F73,"1",$D73,"CF")+COUNTIFS($H73,"1",$D73,"CF")+COUNTIFS($J73,"1",$D73,"CF") -> 0 | L73: =COUNTIFS($F73,"1",$D73,"CFNR")+COUNTIFS($H73,"1",$D73,"CFNR")+COUNTIFS($J73,"1",$D73,"CFNR")+COUNTIFS($F73,"1",$D73,"CONT")+COUNTIFS($H73,"1",$D73,"CONT")+COUNTIFS($J73,"1",$D73,"CONT") -> 2
B74: =B73+1 -> 65 | C74: 214 | D74: CONT | E74: - | F74: =IF(E74=1,1,0) -> 0 | G74: 2 | H74: =IF(G74=1,1,0) -> 0 | I74: 1 | J74: =IF(I74=1,1,0) -> 1 | K74: =COUNTIFS($F74,"1",$D74,"CF")+COUNTIFS($H74,"1",$D74,"CF")+COUNTIFS($J74,"1",$D74,"CF") -> 0 | L74: =COUNTIFS($F74,"1",$D74,"CFNR")+COUNTIFS($H74,"1",$D74,"CFNR")+COUNTIFS($J74,"1",$D74,"CFNR")+COUNTIFS($F74,"1",$D74,"CONT")+COUNTIFS($H74,"1",$D74,"CONT")+COUNTIFS($J74,"1",$D74,"CONT") -> 1
B75: =B74+1 -> 66 | C75: 215 | D75: CFNR | E75: - | F75: =IF(E75=1,1,0) -> 0 | G75: 1 | H75: =IF(G75=1,1,0) -> 1 | I75: 1 | J75: =IF(I75=1,1,0) -> 1 | K75: =COUNTIFS($F75,"1",$D75,"CF")+COUNTIFS($H75,"1",$D75,"CF")+COUNTIFS($J75,"1",$D75,"CF") -> 0 | L75: =COUNTIFS($F75,"1",$D75,"CFNR")+COUNTIFS($H75,"1",$D75,"CFNR")+COUNTIFS($J75,"1",$D75,"CFNR")+COUNTIFS($F75,"1",$D75,"CONT")+COUNTIFS($H75,"1",$D75,"CONT")+COUNTIFS($J75,"1",$D75,"CONT") -> 2
B76: =B75+1 -> 67 | C76: 218 | D76: CFNR | E76: - | F76: =IF(E76=1,1,0) -> 0 | G76: 1 | H76: =IF(G76=1,1,0) -> 1 | I76: 1 | J76: =IF(I76=1,1,0) -> 1 | K76: =COUNTIFS($F76,"1",$D76,"CF")+COUNTIFS($H76,"1",$D76,"CF")+COUNTIFS($J76,"1",$D76,"CF") -> 0 | L76: =COUNTIFS($F76,"1",$D76,"CFNR")+COUNTIFS($H76,"1",$D76,"CFNR")+COUNTIFS($J76,"1",$D76,"CFNR")+COUNTIFS($F76,"1",$D76,"CONT")+COUNTIFS($H76,"1",$D76,"CONT")+COUNTIFS($J76,"1",$D76,"CONT") -> 2
B77: =B76+1 -> 68 | C77: 219 | D77: CONT | E77: - | F77: =IF(E77=1,1,0) -> 0 | G77: 2 | H77: =IF(G77=1,1,0) -> 0 | I77: 2 | J77: =IF(I77=1,1,0) -> 0 | K77: =COUNTIFS($F77,"1",$D77,"CF")+COUNTIFS($H77,"1",$D77,"CF")+COUNTIFS($J77,"1",$D77,"CF") -> 0 | L77: =COUNTIFS($F77,"1",$D77,"CFNR")+COUNTIFS($H77,"1",$D77,"CFNR")+COUNTIFS($J77,"1",$D77,"CFNR")+COUNTIFS($F77,"1",$D77,"CONT")+COUNTIFS($H77,"1",$D77,"CONT")+COUNTIFS($J77,"1",$D77,"CONT") -> 0
B78: =B77+1 -> 69 | C78: 221 | D78: CONT | E78: 2 | F78: =IF(E78=1,1,0) -> 0 | G78: 1 | H78: =IF(G78=1,1,0) -> 1 | I78: 1 | J78: =IF(I78=1,1,0) -> 1 | K78: =COUNTIFS($F78,"1",$D78,"CF")+COUNTIFS($H78,"1",$D78,"CF")+COUNTIFS($J78,"1",$D78,"CF") -> 0 | L78: =COUNTIFS($F78,"1",$D78,"CFNR")+COUNTIFS($H78,"1",$D78,"CFNR")+COUNTIFS($J78,"1",$D78,"CFNR")+COUNTIFS($F78,"1",$D78,"CONT")+COUNTIFS($H78,"1",$D78,"CONT")+COUNTIFS($J78,"1",$D78,"CONT") -> 2
B79: =B78+1 -> 70 | C79: 222 | D79: CONT | E79: - | F79: =IF(E79=1,1,0) -> 0 | G79: 1 | H79: =IF(G79=1,1,0) -> 1 | I79: 1 | J79: =IF(I79=1,1,0) -> 1 | K79: =COUNTIFS($F79,"1",$D79,"CF")+COUNTIFS($H79,"1",$D79,"CF")+COUNTIFS($J79,"1",$D79,"CF") -> 0 | L79: =COUNTIFS($F79,"1",$D79,"CFNR")+COUNTIFS($H79,"1",$D79,"CFNR")+COUNTIFS($J79,"1",$D79,"CFNR")+COUNTIFS($F79,"1",$D79,"CONT")+COUNTIFS($H79,"1",$D79,"CONT")+COUNTIFS($J79,"1",$D79,"CONT") -> 2
B80: =B79+1 -> 71 | C80: 223 | D80: CFNR | E80: - | F80: =IF(E80=1,1,0) -> 0 | G80: 2 | H80: =IF(G80=1,1,0) -> 0 | I80: - | J80: =IF(I80=1,1,0) -> 0 | K80: =COUNTIFS($F80,"1",$D80,"CF")+COUNTIFS($H80,"1",$D80,"CF")+COUNTIFS($J80,"1",$D80,"CF") -> 0 | L80: =COUNTIFS($F80,"1",$D80,"CFNR")+COUNTIFS($H80,"1",$D80,"CFNR")+COUNTIFS($J80,"1",$D80,"CFNR")+COUNTIFS($F80,"1",$D80,"CONT")+COUNTIFS($H80,"1",$D80,"CONT")+COUNTIFS($J80,"1",$D80,"CONT") -> 0
B81: =B80+1 -> 72 | C81: 224 | D81: CONT | E81: - | F81: =IF(E81=1,1,0) -> 0 | G81: 1 | H81: =IF(G81=1,1,0) -> 1 | I81: 1 | J81: =IF(I81=1,1,0) -> 1 | K81: =COUNTIFS($F81,"1",$D81,"CF")+COUNTIFS($H81,"1",$D81,"CF")+COUNTIFS($J81,"1",$D81,"CF") -> 0 | L81: =COUNTIFS($F81,"1",$D81,"CFNR")+COUNTIFS($H81,"1",$D81,"CFNR")+COUNTIFS($J81,"1",$D81,"CFNR")+COUNTIFS($F81,"1",$D81,"CONT")+COUNTIFS($H81,"1",$D81,"CONT")+COUNTIFS($J81,"1",$D81,"CONT") -> 2
B82: =B81+1 -> 73 | C82: 226 | D82: CF | E82: 2 | F82: =IF(E82=1,1,0) -> 0 | G82: 2 | H82: =IF(G82=1,1,0) -> 0 | I82: 1 | J82: =IF(I82=1,1,0) -> 1 | K82: =COUNTIFS($F82,"1",$D82,"CF")+COUNTIFS($H82,"1",$D82,"CF")+COUNTIFS($J82,"1",$D82,"CF") -> 1 | L82: =COUNTIFS($F82,"1",$D82,"CFNR")+COUNTIFS($H82,"1",$D82,"CFNR")+COUNTIFS($J82,"1",$D82,"CFNR")+COUNTIFS($F82,"1",$D82,"CONT")+COUNTIFS($H82,"1",$D82,"CONT")+COUNTIFS($J82,"1",$D82,"CONT") -> 0
B83: =B82+1 -> 74 | C83: 227 | D83: CFNR | E83: - | F83: =IF(E83=1,1,0) -> 0 | G83: 1 | H83: =IF(G83=1,1,0) -> 1 | I83: 2 | J83: =IF(I83=1,1,0) -> 0 | K83: =COUNTIFS($F83,"1",$D83,"CF")+COUNTIFS($H83,"1",$D83,"CF")+COUNTIFS($J83,"1",$D83,"CF") -> 0 | L83: =COUNTIFS($F83,"1",$D83,"CFNR")+COUNTIFS($H83,"1",$D83,"CFNR")+COUNTIFS($J83,"1",$D83,"CFNR")+COUNTIFS($F83,"1",$D83,"CONT")+COUNTIFS($H83,"1",$D83,"CONT")+COUNTIFS($J83,"1",$D83,"CONT") -> 1
B84: =B83+1 -> 75 | C84: 229 | D84: CONT | E84: 2 | F84: =IF(E84=1,1,0) -> 0 | G84: 1 | H84: =IF(G84=1,1,0) -> 1 | I84: 2 | J84: =IF(I84=1,1,0) -> 0 | K84: =COUNTIFS($F84,"1",$D84,"CF")+COUNTIFS($H84,"1",$D84,"CF")+COUNTIFS($J84,"1",$D84,"CF") -> 0 | L84: =COUNTIFS($F84,"1",$D84,"CFNR")+COUNTIFS($H84,"1",$D84,"CFNR")+COUNTIFS($J84,"1",$D84,"CFNR")+COUNTIFS($F84,"1",$D84,"CONT")+COUNTIFS($H84,"1",$D84,"CONT")+COUNTIFS($J84,"1",$D84,"CONT") -> 1
B85: =B84+1 -> 76 | C85: 230 | D85: CF | E85: 1 | F85: =IF(E85=1,1,0) -> 1 | G85: 1 | H85: =IF(G85=1,1,0) -> 1 | I85: 1 | J85: =IF(I85=1,1,0) -> 1 | K85: =COUNTIFS($F85,"1",$D85,"CF")+COUNTIFS($H85,"1",$D85,"CF")+COUNTIFS($J85,"1",$D85,"CF") -> 3 | L85: =COUNTIFS($F85,"1",$D85,"CFNR")+COUNTIFS($H85,"1",$D85,"CFNR")+COUNTIFS($J85,"1",$D85,"CFNR")+COUNTIFS($F85,"1",$D85,"CONT")+COUNTIFS($H85,"1",$D85,"CONT")+COUNTIFS($J85,"1",$D85,"CONT") -> 0
B86: =B85+1 -> 77 | C86: 232 | D86: CFNR | E86: - | F86: =IF(E86=1,1,0) -> 0 | G86: 1 | H86: =IF(G86=1,1,0) -> 1 | I86: 1 | J86: =IF(I86=1,1,0) -> 1 | K86: =COUNTIFS($F86,"1",$D86,"CF")+COUNTIFS($H86,"1",$D86,"CF")+COUNTIFS($J86,"1",$D86,"CF") -> 0 | L86: =COUNTIFS($F86,"1",$D86,"CFNR")+COUNTIFS($H86,"1",$D86,"CFNR")+COUNTIFS($J86,"1",$D86,"CFNR")+COUNTIFS($F86,"1",$D86,"CONT")+COUNTIFS($H86,"1",$D86,"CONT")+COUNTIFS($J86,"1",$D86,"CONT") -> 2
B87: =B86+1 -> 78 | C87: 238 | D87: CONT | E87: 99 | F87: =IF(E87=1,1,0) -> 0 | G87: 2 | H87: =IF(G87=1,1,0) -> 0 | I87: - | J87: =IF(I87=1,1,0) -> 0 | K87: =COUNTIFS($F87,"1",$D87,"CF")+COUNTIFS($H87,"1",$D87,"CF")+COUNTIFS($J87,"1",$D87,"CF") -> 0 | L87: =COUNTIFS($F87,"1",$D87,"CFNR")+COUNTIFS($H87,"1",$D87,"CFNR")+COUNTIFS($J87,"1",$D87,"CFNR")+COUNTIFS($F87,"1",$D87,"CONT")+COUNTIFS($H87,"1",$D87,"CONT")+COUNTIFS($J87,"1",$D87,"CONT") -> 0
B88: =B87+1 -> 79 | C88: 240 | D88: CONT | E88: - | F88: =IF(E88=1,1,0) -> 0 | G88: 2 | H88: =IF(G88=1,1,0) -> 0 | I88: 1 | J88: =IF(I88=1,1,0) -> 1 | K88: =COUNTIFS($F88,"1",$D88,"CF")+COUNTIFS($H88,"1",$D88,"CF")+COUNTIFS($J88,"1",$D88,"CF") -> 0 | L88: =COUNTIFS($F88,"1",$D88,"CFNR")+COUNTIFS($H88,"1",$D88,"CFNR")+COUNTIFS($J88,"1",$D88,"CFNR")+COUNTIFS($F88,"1",$D88,"CONT")+COUNTIFS($H88,"1",$D88,"CONT")+COUNTIFS($J88,"1",$D88,"CONT") -> 1
B89: =B88+1 -> 80 | C89: 242 | D89: CONT | E89: 2 | F89: =IF(E89=1,1,0) -> 0 | G89: 2 | H89: =IF(G89=1,1,0) -> 0 | I89: - | J89: =IF(I89=1,1,0) -> 0 | K89: =COUNTIFS($F89,"1",$D89,"CF")+COUNTIFS($H89,"1",$D89,"CF")+COUNTIFS($J89,"1",$D89,"CF") -> 0 | L89: =COUNTIFS($F89,"1",$D89,"CFNR")+COUNTIFS($H89,"1",$D89,"CFNR")+COUNTIFS($J89,"1",$D89,"CFNR")+COUNTIFS($F89,"1",$D89,"CONT")+COUNTIFS($H89,"1",$D89,"CONT")+COUNTIFS($J89,"1",$D89,"CONT") -> 0
B90: =B89+1 -> 81 | C90: 243 | D90: CONT | E90: - | F90: =IF(E90=1,1,0) -> 0 | G90: 1 | H90: =IF(G90=1,1,0) -> 1 | I90: 1 | J90: =IF(I90=1,1,0) -> 1 | K90: =COUNTIFS($F90,"1",$D90,"CF")+COUNTIFS($H90,"1",$D90,"CF")+COUNTIFS($J90,"1",$D90,"CF") -> 0 | L90: =COUNTIFS($F90,"1",$D90,"CFNR")+COUNTIFS($H90,"1",$D90,"CFNR")+COUNTIFS($J90,"1",$D90,"CFNR")+COUNTIFS($F90,"1",$D90,"CONT")+COUNTIFS($H90,"1",$D90,"CONT")+COUNTIFS($J90,"1",$D90,"CONT") -> 2
B91: =B90+1 -> 82 | C91: 252 | D91: CFNR | E91: - | F91: =IF(E91=1,1,0) -> 0 | G91: 2 | H91: =IF(G91=1,1,0) -> 0 | I91: - | J91: =IF(I91=1,1,0) -> 0 | K91: =COUNTIFS($F91,"1",$D91,"CF")+COUNTIFS($H91,"1",$D91,"CF")+COUNTIFS($J91,"1",$D91,"CF") -> 0 | L91: =COUNTIFS($F91,"1",$D91,"CFNR")+COUNTIFS($H91,"1",$D91,"CFNR")+COUNTIFS($J91,"1",$D91,"CFNR")+COUNTIFS($F91,"1",$D91,"CONT")+COUNTIFS($H91,"1",$D91,"CONT")+COUNTIFS($J91,"1",$D91,"CONT") -> 0
B92: =B91+1 -> 83 | C92: 254 | D92: CONT | E92: - | F92: =IF(E92=1,1,0) -> 0 | G92: 1 | H92: =IF(G92=1,1,0) -> 1 | I92: 1 | J92: =IF(I92=1,1,0) -> 1 | K92: =COUNTIFS($F92,"1",$D92,"CF")+COUNTIFS($H92,"1",$D92,"CF")+COUNTIFS($J92,"1",$D92,"CF") -> 0 | L92: =COUNTIFS($F92,"1",$D92,"CFNR")+COUNTIFS($H92,"1",$D92,"CFNR")+COUNTIFS($J92,"1",$D92,"CFNR")+COUNTIFS($F92,"1",$D92,"CONT")+COUNTIFS($H92,"1",$D92,"CONT")+COUNTIFS($J92,"1",$D92,"CONT") -> 2
B93: =B92+1 -> 84 | C93: 255 | D93: CONT | E93: - | F93: =IF(E93=1,1,0) -> 0 | G93: 1 | H93: =IF(G93=1,1,0) -> 1 | I93: 1 | J93: =IF(I93=1,1,0) -> 1 | K93: =COUNTIFS($F93,"1",$D93,"CF")+COUNTIFS($H93,"1",$D93,"CF")+COUNTIFS($J93,"1",$D93,"CF") -> 0 | L93: =COUNTIFS($F93,"1",$D93,"CFNR")+COUNTIFS($H93,"1",$D93,"CFNR")+COUNTIFS($J93,"1",$D93,"CFNR")+COUNTIFS($F93,"1",$D93,"CONT")+COUNTIFS($H93,"1",$D93,"CONT")+COUNTIFS($J93,"1",$D93,"CONT") -> 2
B94: =B93+1 -> 85 | C94: 3 | D94: CFNR | E94: 2 | F94: =IF(E94=1,1,0) -> 0 | G94: 1 | H94: =IF(G94=1,1,0) -> 1 | I94: 1 | J94: =IF(I94=1,1,0) -> 1 | K94: =COUNTIFS($F94,"1",$D94,"CF")+COUNTIFS($H94,"1",$D94,"CF")+COUNTIFS($J94,"1",$D94,"CF") -> 0 | L94: =COUNTIFS($F94,"1",$D94,"CFNR")+COUNTIFS($H94,"1",$D94,"CFNR")+COUNTIFS($J94,"1",$D94,"CFNR")+COUNTIFS($F94,"1",$D94,"CONT")+COUNTIFS($H94,"1",$D94,"CONT")+COUNTIFS($J94,"1",$D94,"CONT") -> 2
B95: =B94+1 -> 86 | C95: 6 | D95: CFNR | E95: - | F95: =IF(E95=1,1,0) -> 0 | G95: 1 | H95: =IF(G95=1,1,0) -> 1 | I95: 1 | J95: =IF(I95=1,1,0) -> 1 | K95: =COUNTIFS($F95,"1",$D95,"CF")+COUNTIFS($H95,"1",$D95,"CF")+COUNTIFS($J95,"1",$D95,"CF") -> 0 | L95: =COUNTIFS($F95,"1",$D95,"CFNR")+COUNTIFS($H95,"1",$D95,"CFNR")+COUNTIFS($J95,"1",$D95,"CFNR")+COUNTIFS($F95,"1",$D95,"CONT")+COUNTIFS($H95,"1",$D95,"CONT")+COUNTIFS($J95,"1",$D95,"CONT") -> 2
B96: =B95+1 -> 87 | C96: 8 | D96: CFNR | E96: - | F96: =IF(E96=1,1,0) -> 0 | G96: 1 | H96: =IF(G96=1,1,0) -> 1 | I96: 2 | J96: =IF(I96=1,1,0) -> 0 | K96: =COUNTIFS($F96,"1",$D96,"CF")+COUNTIFS($H96,"1",$D96,"CF")+COUNTIFS($J96,"1",$D96,"CF") -> 0 | L96: =COUNTIFS($F96,"1",$D96,"CFNR")+COUNTIFS($H96,"1",$D96,"CFNR")+COUNTIFS($J96,"1",$D96,"CFNR")+COUNTIFS($F96,"1",$D96,"CONT")+COUNTIFS($H96,"1",$D96,"CONT")+COUNTIFS($J96,"1",$D96,"CONT") -> 1
B97: =B96+1 -> 88 | C97: 10 | D97: CFNR | E97: - | F97: =IF(E97=1,1,0) -> 0 | G97: 1 | H97: =IF(G97=1,1,0) -> 1 | I97: 1 | J97: =IF(I97=1,1,0) -> 1 | K97: =COUNTIFS($F97,"1",$D97,"CF")+COUNTIFS($H97,"1",$D97,"CF")+COUNTIFS($J97,"1",$D97,"CF") -> 0 | L97: =COUNTIFS($F97,"1",$D97,"CFNR")+COUNTIFS($H97,"1",$D97,"CFNR")+COUNTIFS($J97,"1",$D97,"CFNR")+COUNTIFS($F97,"1",$D97,"CONT")+COUNTIFS($H97,"1",$D97,"CONT")+COUNTIFS($J97,"1",$D97,"CONT") -> 2
B98: =B97+1 -> 89 | C98: 11 | D98: CF | E98: 2 | F98: =IF(E98=1,1,0) -> 0 | G98: 1 | H98: =IF(G98=1,1,0) -> 1 | I98: 1 | J98: =IF(I98=1,1,0) -> 1 | K98: =COUNTIFS($F98,"1",$D98,"CF")+COUNTIFS($H98,"1",$D98,"CF")+COUNTIFS($J98,"1",$D98,"CF") -> 2 | L98: =COUNTIFS($F98,"1",$D98,"CFNR")+COUNTIFS($H98,"1",$D98,"CFNR")+COUNTIFS($J98,"1",$D98,"CFNR")+COUNTIFS($F98,"1",$D98,"CONT")+COUNTIFS($H98,"1",$D98,"CONT")+COUNTIFS($J98,"1",$D98,"CONT") -> 0
B99: =B98+1 -> 90 | C99: 13 | D99: CFNR | E99: - | F99: =IF(E99=1,1,0) -> 0 | G99: 1 | H99: =IF(G99=1,1,0) -> 1 | I99: 1 | J99: =IF(I99=1,1,0) -> 1 | K99: =COUNTIFS($F99,"1",$D99,"CF")+COUNTIFS($H99,"1",$D99,"CF")+COUNTIFS($J99,"1",$D99,"CF") -> 0 | L99: =COUNTIFS($F99,"1",$D99,"CFNR")+COUNTIFS($H99,"1",$D99,"CFNR")+COUNTIFS($J99,"1",$D99,"CFNR")+COUNTIFS($F99,"1",$D99,"CONT")+COUNTIFS($H99,"1",$D99,"CONT")+COUNTIFS($J99,"1",$D99,"CONT") -> 2
B100: =B99+1 -> 91 | C100: 19 | D100: CFNR | E100: 2 | F100: =IF(E100=1,1,0) -> 0 | G100: 2 | H100: =IF(G100=1,1,0) -> 0 | I100: - | J100: =IF(I100=1,1,0) -> 0 | K100: =COUNTIFS($F100,"1",$D100,"CF")+COUNTIFS($H100,"1",$D100,"CF")+COUNTIFS($J100,"1",$D100,"CF") -> 0 | L100: =COUNTIFS($F100,"1",$D100,"CFNR")+COUNTIFS($H100,"1",$D100,"CFNR")+COUNTIFS($J100,"1",$D100,"CFNR")+COUNTIFS($F100,"1",$D100,"CONT")+COUNTIFS($H100,"1",$D100,"CONT")+COUNTIFS($J100,"1",$D100,"CONT") -> 0
B101: =B100+1 -> 92 | C101: 20 | D101: CFNR | E101: - | F101: =IF(E101=1,1,0) -> 0 | G101: 1 | H101: =IF(G101=1,1,0) -> 1 | I101: 2 | J101: =IF(I101=1,1,0) -> 0 | K101: =COUNTIFS($F101,"1",$D101,"CF")+COUNTIFS($H101,"1",$D101,"CF")+COUNTIFS($J101,"1",$D101,"CF") -> 0 | L101: =COUNTIFS($F101,"1",$D101,"CFNR")+COUNTIFS($H101,"1",$D101,"CFNR")+COUNTIFS($J101,"1",$D101,"CFNR")+COUNTIFS($F101,"1",$D101,"CONT")+COUNTIFS($H101,"1",$D101,"CONT")+COUNTIFS($J101,"1",$D101,"CONT") -> 1
B102: =B101+1 -> 93 | C102: 21 | D102: CF | E102: 2 | F102: =IF(E102=1,1,0) -> 0 | G102: 1 | H102: =IF(G102=1,1,0) -> 1 | I102: 1 | J102: =IF(I102=1,1,0) -> 1 | K102: =COUNTIFS($F102,"1",$D102,"CF")+COUNTIFS($H102,"1",$D102,"CF")+COUNTIFS($J102,"1",$D102,"CF") -> 2 | L102: =COUNTIFS($F102,"1",$D102,"CFNR")+COUNTIFS($H102,"1",$D102,"CFNR")+COUNTIFS($J102,"1",$D102,"CFNR")+COUNTIFS($F102,"1",$D102,"CONT")+COUNTIFS($H102,"1",$D102,"CONT")+COUNTIFS($J102,"1",$D102,"CONT") -> 0
...

Sheet A1
A1: Values Calculated From Study Data | I1: Numerical Optimization
A2: fraction of patients testing positive for CF | B2: =fcf -> 0.14619883 | E2: =b_est -> -2.1226139 | I2: slope | J2: 2.8157616
A3: fraction of CF patients diagnosed positive for A1 | B3: =fepi -> 0.32 | E3: =a_est -> 2.8157616 | I3: intercept | J3: -2.1226139
A4: fraction of CFNR/Control patients diagnosed positive for A1 | B4: =I194 -> 0.02739726 | E4: =D9 -> 0 | I4: obj. fcn. | J4: =SUMLNPOS -> -61.701869
A6: Maximum likelihood methods are applied to Dataset 1 to estimate the parameter values for the univariate LR model with A1 as the predictor | I6: CF Threshold Probability | J6: 0.2 | L6: fp_3 | M6: fp_2 | N6: fp_1
L7: =fp_3 -> 0.57309942 | M7: =fp_2 -> 0.69590643 | N7: =fp_1 -> 0.035087719
D8: A1 value | E8: log-odds ratio | I8: sensitivity | J8: specificity | Q8: AUC
D9: 0 | E9: =b_est+a_est*D9 -> -2.1226139 | I9: =NCP/CFT -> 0.32 | J9: =NCN/CONTT -> 0.97260274 | Q9: =SUMPRODUCT(S18:S114,T18:T114) -> 0.64630137
D10: 1 | E10: =b_est+a_est*D10 -> 0.69314767 | L10: =NCN -> 142
L11: =CONTT -> 146
D12: Logistic Regression Results
D13: P[CF=1|A1=0] | E13: =EXP(lor_0)/(EXP(lor_0)+1) -> 0.10691822
D14: P[CF=1|A1=1] | E14: =EXP(lor_1)/(EXP(lor_1)+1) -> 0.66666678
D15: P[CF=1|A1=2] | E15: =fp_1*pcf_1+(1-fp_1)*pcf_0 -> 0.12655852
D17: Index | E17: Subject | F17: Category | G17: CF State | H17: A1 State | I17: Positive for Both CF and A1 | J17: Logistic Regression Estimate of P[CF=1|A1] | K17: Logistic Regression Estimate for P[Actual CF State] | L17: Logistic Regression Estimate for LN(P[Actual CF State]) | M17: True Positives | N17: True Negatives | P17: CF Threshold Probability | Q17: True Positive Rate | R17: False Positive Rate | S17: y | T17: delx
D18: 1 | E18: ='Data 1'!C10 -> 1 | F18: ='Data 1'!D10 -> CF | G18: =IF(F18="CF",1,0) -> 1 | H18: 1 | I18: =IF(AND(G18=1,H18=1),1,0) -> 1 | J18: =IF(H18=0,pcf_0,IF(H18=1,pcf_1,pcf_2)) -> 0.66666678 | K18: =IF(G18=1,J18,1-J18) -> 0.66666678 | L18: =LN(K18) -> -0.40546494 | M18: =IF(AND(G18=1,J18>=p_thresh),1,0) -> 1 | N18: =IF(AND(G18=0,J18<p_thresh),1,0) -> 0 | P18: 0.01 | Q18: =COUNTIFS($G$18:$G$188,"1",$J$18:$J$188,">+"&$P18)/CFT -> 1 | R18: =COUNTIFS($G$18:$G$188,"0",$J$18:$J$188,">+"&$P18)/CONTT -> 1 | S18: =(Q18+Q19)/2 -> 1 | T18: =-(R19-R18) -> 0
D19: =D18+1 -> 2 | E19: ='Data 1'!C11 -> 2 | F19: ='Data 1'!D11 -> CF | G19: =IF(F19="CF",1,0) -> 1 | H19: 0 | I19: =IF(AND(G19=1,H19=1),1,0) -> 0 | J19: =IF(H19=0,pcf_0,IF(H19=1,pcf_1,pcf_2)) -> 0.10691822 | K19: =IF(G19=1,J19,1-J19) -> 0.10691822 | L19: =LN(K19) -> -2.235691 | M19: =IF(AND(G19=1,J19>=p_thresh),1,0) -> 0 | N19: =IF(AND(G19=0,J19<p_thresh),1,0) -> 0 | P19: =P18+0.01 -> 0.02 | Q19: =COUNTIFS($G$18:$G$188,"1",$J$18:$J$188,">+"&$P19)/CFT -> 1 | R19: =COUNTIFS($G$18:$G$188,"0",$J$18:$J$188,">+"&$P19)/CONTT -> 1 | S19: =(Q19+Q20)/2 -> 1 | T19: =-(R20-R19) -> 0
D20: =D19+1 -> 3 | E20: ='Data 1'!C12 -> 4 | F20: ='Data 1'!D12 -> CFNR | G20: =IF(F20="CF",1,0) -> 0 | H20: 0 | I20: =IF(AND(G20=1,H20=1),1,0) -> 0 | J20: =IF(H20=0,pcf_0,IF(H20=1,pcf_1,pcf_2)) -> 0.10691822 | K20: =IF(G20=1,J20,1-J20) -> 0.89308178 | L20: =LN(K20) -> -0.11307713 | M20: =IF(AND(G20=1,J20>=p_thresh),1,0) -> 0 | N20: =IF(AND(G20=0,J20<p_thresh),1,0) -> 1 | P20: =P19+0.01 -> 0.03 | Q20: =COUNTIFS($G$18:$G$188,"1",$J$18:$J$188,">+"&$P20)/CFT -> 1 | R20: =COUNTIFS($G$18:$G$188,"0",$J$18:$J$188,">+"&$P20)/CONTT -> 1 | S20: =(Q20+Q21)/2 -> 1 | T20: =-(R21-R20) -> 0
D21: =D20+1 -> 4 | E21: ='Data 1'!C13 -> 5 | F21: ='Data 1'!D13 -> CFNR | G21: =IF(F21="CF",1,0) -> 0 | H21: 0 | I21: =IF(AND(G21=1,H21=1),1,0) -> 0 | J21: =IF(H21=0,pcf_0,IF(H21=1,pcf_1,pcf_2)) -> 0.10691822 | K21: =IF(G21=1,J21,1-J21) -> 0.89308178 | L21: =LN(K21) -> -0.11307713 | M21: =IF(AND(G21=1,J21>=p_thresh),1,0) -> 0 | N21: =IF(AND(G21=0,J21<p_thresh),1,0) -> 1 | P21: =P20+0.01 -> 0.04 | Q21: =COUNTIFS($G$18:$G$188,"1",$J$18:$J$188,">+"&$P21)/CFT -> 1 | R21: =COUNTIFS($G$18:$G$188,"0",$J$18:$J$188,">+"&$P21)/CONTT -> 1 | S21: =(Q21+Q22)/2 -> 1 | T21: =-(R22-R21) -> 0
D22: =D21+1 -> 5 | E22: ='Data 1'!C14 -> 9 | F22: ='Data 1'!D14 -> CFNR | G22: =IF(F22="CF",1,0) -> 0 | H22: 0 | I22: =IF(AND(G22=1,H22=1),1,0) -> 0 | J22: =IF(H22=0,pcf_0,IF(H22=1,pcf_1,pcf_2)) -> 0.10691822 | K22: =IF(G22=1,J22,1-J22) -> 0.89308178 | L22: =LN(K22) -> -0.11307713 | M22: =IF(AND(G22=1,J22>=p_thresh),1,0) -> 0 | N22: =IF(AND(G22=0,J22<p_thresh),1,0) -> 1 | P22: =P21+0.01 -> 0.05 | Q22: =COUNTIFS($G$18:$G$188,"1",$J$18:$J$188,">+"&$P22)/CFT -> 1 | R22: =COUNTIFS($G$18:$G$188,"0",$J$18:$J$188,">+"&$P22)/CONTT -> 1 | S22: =(Q22+Q23)/2 -> 1 | T22: =-(R23-R22) -> 0
D23: =D22+1 -> 6 | E23: ='Data 1'!C15 -> 12 | F23: ='Data 1'!D15 -> CF | G23: =IF(F23="CF",1,0) -> 1 | H23: 0 | I23: =IF(AND(G23=1,H23=1),1,0) -> 0 | J23: =IF(H23=0,pcf_0,IF(H23=1,pcf_1,pcf_2)) -> 0.10691822 | K23: =IF(G23=1,J23,1-J23) -> 0.10691822 | L23: =LN(K23) -> -2.235691 | M23: =IF(AND(G23=1,J23>=p_thresh),1,0) -> 0 | N23: =IF(AND(G23=0,J23<p_thresh),1,0) -> 0 | P23: =P22+0.01 -> 0.06 | Q23: =COUNTIFS($G$18:$G$188,"1",$J$18:$J$188,">+"&$P23)/CFT -> 1 | R23: =COUNTIFS($G$18:$G$188,"0",$J$18:$J$188,">+"&$P23)/CONTT -> 1 | S23: =(Q23+Q24)/2 -> 1 | T23: =-(R24-R23) -> 0
D24: =D23+1 -> 7 | E24: ='Data 1'!C16 -> 14 | F24: ='Data 1'!D16 -> CFNR | G24: =IF(F24="CF",1,0) -> 0 | H24: 0 | I24: =IF(AND(G24=1,H24=1),1,0) -> 0 | J24: =IF(H24=0,pcf_0,IF(H24=1,pcf_1,pcf_2)) -> 0.10691822 | K24: =IF(G24=1,J24,1-J24) -> 0.89308178 | L24: =LN(K24) -> -0.11307713 | M24: =IF(AND(G24=1,J24>=p_thresh),1,0) -> 0 | N24: =IF(AND(G24=0,J24<p_thresh),1,0) -> 1 | P24: =P23+0.01 -> 0.07 | Q24: =COUNTIFS($G$18:$G$188,"1",$J$18:$J$188,">+"&$P24)/CFT -> 1 | R24: =COUNTIFS($G$18:$G$188,"0",$J$18:$J$188,">+"&$P24)/CONTT -> 1 | S24: =(Q24+Q25)/2 -> 1 | T24: =-(R25-R24) -> 0
D25: =D24+1 -> 8 | E25: ='Data 1'!C17 -> 15 | F25: ='Data 1'!D17 -> CFNR | G25: =IF(F25="CF",1,0) -> 0 | H25: 0 | I25: =IF(AND(G25=1,H25=1),1,0) -> 0 | J25: =IF(H25=0,pcf_0,IF(H25=1,pcf_1,pcf_2)) -> 0.10691822 | K25: =IF(G25=1,J25,1-J25) -> 0.89308178 | L25: =LN(K25) -> -0.11307713 | M25: =IF(AND(G25=1,J25>=p_thresh),1,0) -> 0 | N25: =IF(AND(G25=0,J25<p_thresh),1,0) -> 1 | P25: =P24+0.01 -> 0.08 | Q25: =COUNTIFS($G$18:$G$188,"1",$J$18:$J$188,">+"&$P25)/CFT -> 1 | R25: =COUNTIFS($G$18:$G$188,"0",$J$18:$J$188,">+"&$P25)/CONTT -> 1 | S25: =(Q25+Q26)/2 -> 1 | T25: =-(R26-R25) -> 0
D26: =D25+1 -> 9 | E26: ='Data 1'!C18 -> 16 | F26: ='Data 1'!D18 -> CFNR | G26: =IF(F26="CF",1,0) -> 0 | H26: 0 | I26: =IF(AND(G26=1,H26=1),1,0) -> 0 | J26: =IF(H26=0,pcf_0,IF(H26=1,pcf_1,pcf_2)) -> 0.10691822 | K26: =IF(G26=1,J26,1-J26) -> 0.89308178 | L26: =LN(K26) -> -0.11307713 | M26: =IF(AND(G26=1,J26>=p_thresh),1,0) -> 0 | N26: =IF(AND(G26=0,J26<p_thresh),1,0) -> 1 | P26: =P25+0.01 -> 0.09 | Q26: =COUNTIFS($G$18:$G$188,"1",$J$18:$J$188,">+"&$P26)/CFT -> 1 | R26: =COUNTIFS($G$18:$G$188,"0",$J$18:$J$188,">+"&$P26)/CONTT -> 1 | S26: =(Q26+Q27)/2 -> 1 | T26: =-(R27-R26) -> 0
D27: =D26+1 -> 10 | E27: ='Data 1'!C19 -> 17 | F27: ='Data 1'!D19 -> CF | G27: =IF(F27="CF",1,0) -> 1 | H27: 1 | I27: =IF(AND(G27=1,H27=1),1,0) -> 1 | J27: =IF(H27=0,pcf_0,IF(H27=1,pcf_1,pcf_2)) -> 0.66666678 | K27: =IF(G27=1,J27,1-J27) -> 0.66666678 | L27: =LN(K27) -> -0.40546494 | M27: =IF(AND(G27=1,J27>=p_thresh),1,0) -> 1 | N27: =IF(AND(G27=0,J27<p_thresh),1,0) -> 0 | P27: =P26+0.01 -> 0.1 | Q27: =COUNTIFS($G$18:$G$188,"1",$J$18:$J$188,">+"&$P27)/CFT -> 1 | R27: =COUNTIFS($G$18:$G$188,"0",$J$18:$J$188,">+"&$P27)/CONTT -> 1 | S27: =(Q27+Q28)/2 -> 0.66 | T27: =-(R28-R27) -> 0.97260274
D28: =D27+1 -> 11 | E28: ='Data 1'!C20 -> 24 | F28: ='Data 1'!D20 -> CFNR | G28: =IF(F28="CF",1,0) -> 0 | H28: 0 | I28: =IF(AND(G28=1,H28=1),1,0) -> 0 | J28: =IF(H28=0,pcf_0,IF(H28=1,pcf_1,pcf_2)) -> 0.10691822 | K28: =IF(G28=1,J28,1-J28) -> 0.89308178 | L28: =LN(K28) -> -0.11307713 | M28: =IF(AND(G28=1,J28>=p_thresh),1,0) -> 0 | N28: =IF(AND(G28=0,J28<p_thresh),1,0) -> 1 | P28: =P27+0.01 -> 0.11 | Q28: =COUNTIFS($G$18:$G$188,"1",$J$18:$J$188,">+"&$P28)/CFT -> 0.32 | R28: =COUNTIFS($G$18:$G$188,"0",$J$18:$J$188,">+"&$P28)/CONTT -> 0.02739726 | S28: =(Q28+Q29)/2 -> 0.32 | T28: =-(R29-R28) -> 0
D29: =D28+1 -> 12 | E29: ='Data 1'!C21 -> 25 | F29: ='Data 1'!D21 -> CONT | G29: =IF(F29="CF",1,0) -> 0 | H29: 0 | I29: =IF(AND(G29=1,H29=1),1,0) -> 0 | J29: =IF(H29=0,pcf_0,IF(H29=1,pcf_1,pcf_2)) -> 0.10691822 | K29: =IF(G29=1,J29,1-J29) -> 0.89308178 | L29: =LN(K29) -> -0.11307713 | M29: =IF(AND(G29=1,J29>=p_thresh),1,0) -> 0 | N29: =IF(AND(G29=0,J29<p_thresh),1,0) -> 1 | P29: =P28+0.01 -> 0.12 | Q29: =COUNTIFS($G$18:$G$188,"1",$J$18:$J$188,">+"&$P29)/CFT -> 0.32 | R29: =COUNTIFS($G$18:$G$188,"0",$J$18:$J$188,">+"&$P29)/CONTT -> 0.02739726 | S29: =(Q29+Q30)/2 -> 0.32 | T29: =-(R30-R29) -> 0
D30: =D29+1 -> 13 | E30: ='Data 1'!C22 -> 27 | F30: ='Data 1'!D22 -> CONT | G30: =IF(F30="CF",1,0) -> 0 | H30: 0 | I30: =IF(AND(G30=1,H30=1),1,0) -> 0 | J30: =IF(H30=0,pcf_0,IF(H30=1,pcf_1,pcf_2)) -> 0.10691822 | K30: =IF(G30=1,J30,1-J30) -> 0.89308178 | L30: =LN(K30) -> -0.11307713 | M30: =IF(AND(G30=1,J30>=p_thresh),1,0) -> 0 | N30: =IF(AND(G30=0,J30<p_thresh),1,0) -> 1 | P30: =P29+0.01 -> 0.13 | Q30: =COUNTIFS($G$18:$G$188,"1",$J$18:$J$188,">+"&$P30)/CFT -> 0.32 | R30: =COUNTIFS($G$18:$G$188,"0",$J$18:$J$188,">+"&$P30)/CONTT -> 0.02739726 | S30: =(Q30+Q31)/2 -> 0.32 | T30: =-(R31-R30) -> 0
... D117: =D116+1 -> 100 | E117: ='Data 1'!C109 -> 49 | F117: ='Data 1'!D109 -> CONT | G117: =IF(F117="CF",1,0) -> 0 | H117: 0 | I117: =IF(AND(G117=1,H117=1),1,0) -> 0 | J117: =IF(H117=0,pcf_0,IF(H117=1,pcf_1,pcf_2)) -> 0.10691822 | K117: =IF(G117=1,J117,1-J117) -> 0.89308178 | L117: =LN(K117) -> -0.11307713 | M117: =IF(AND(G117=1,J117>=p_thresh),1,0) -> 0 | N117: =IF(AND(G117=0,J117<p_thresh),1,0) -> 1 | P117: =P116+0.01 -> 1 | Q117: =COUNTIFS($G$18:$G$188,"1",$J$18:$J$188,">+"&$P117)/CFT -> 0 | R117: =COUNTIFS($G$18:$G$188,"0",$J$18:$J$188,">+"&$P117)/CONTT -> 0 | S117: =(Q117+Q118)/2 -> 0 | T117: =-(R118-R117) -> 0
D118: =D117+1 -> 101 | E118: ='Data 1'!C110 -> 62 | F118: ='Data 1'!D110 -> CF | G118: =IF(F118="CF",1,0) -> 1 | H118: 0 | I118: =IF(AND(G118=1,H118=1),1,0) -> 0 | J118: =IF(H118=0,pcf_0,IF(H118=1,pcf_1,pcf_2)) -> 0.10691822 | K118: =IF(G118=1,J118,1-J118) -> 0.10691822 | L118: =LN(K118) -> -2.235691 | M118: =IF(AND(G118=1,J118>=p_thresh),1,0) -> 0 | N118: =IF(AND(G118=0,J118<p_thresh),1,0) -> 0
D119: =D118+1 -> 102 | E119: ='Data 1'!C111 -> 63 | F119: ='Data 1'!D111 -> CFNR | G119: =IF(F119="CF",1,0) -> 0 | H119: 0 | I119: =IF(AND(G119=1,H119=1),1,0) -> 0 | J119: =IF(H119=0,pcf_0,IF(H119=1,pcf_1,pcf_2)) -> 0.10691822 | K119: =IF(G119=1,J119,1-J119) -> 0.89308178 | L119: =LN(K119) -> -0.11307713 | M119: =IF(AND(G119=1,J119>=p_thresh),1,0) -> 0 | N119: =IF(AND(G119=0,J119<p_thresh),1,0) -> 1
D120: =D119+1 -> 103 | E120: ='Data 1'!C112 -> 71 | F120: ='Data 1'!D112 -> CONT | G120: =IF(F120="CF",1,0) -> 0 | H120: 0 | I120: =IF(AND(G120=1,H120=1),1,0) -> 0 | J120: =IF(H120=0,pcf_0,IF(H120=1,pcf_1,pcf_2)) -> 0.10691822 | K120: =IF(G120=1,J120,1-J120) -> 0.89308178 | L120: =LN(K120) -> -0.11307713 | M120: =IF(AND(G120=1,J120>=p_thresh),1,0) -> 0 | N120: =IF(AND(G120=0,J120<p_thresh),1,0) -> 1
D121: =D120+1 -> 104 | E121: ='Data 1'!C113 -> 72 | F121: ='Data 1'!D113 -> CONT | G121: =IF(F121="CF",1,0) -> 0 | H121: 0 | I121: =IF(AND(G121=1,H121=1),1,0) -> 0 | J121: =IF(H121=0,pcf_0,IF(H121=1,pcf_1,pcf_2)) -> 0.10691822 | K121: =IF(G121=1,J121,1-J121) -> 0.89308178 | L121: =LN(K121) -> -0.11307713 | M121: =IF(AND(G121=1,J121>=p_thresh),1,0) -> 0 | N121: =IF(AND(G121=0,J121<p_thresh),1,0) -> 1
D122: =D121+1 -> 105 | E122: ='Data 1'!C114 -> 74 | F122: ='Data 1'!D114 -> CONT | G122: =IF(F122="CF",1,0) -> 0 | H122: 0 | I122: =IF(AND(G122=1,H122=1),1,0) -> 0 | J122: =IF(H122=0,pcf_0,IF(H122=1,pcf_1,pcf_2)) -> 0.10691822 | K122: =IF(G122=1,J122,1-J122) -> 0.89308178 | L122: =LN(K122) -> -0.11307713 | M122: =IF(AND(G122=1,J122>=p_thresh),1,0) -> 0 | N122: =IF(AND(G122=0,J122<p_thresh),1,0) -> 1
D123: =D122+1 -> 106 | E123: ='Data 1'!C115 -> 77 | F123: ='Data 1'!D115 -> CONT | G123: =IF(F123="CF",1,0) -> 0 | H123: 0 | I123: =IF(AND(G123=1,H123=1),1,0) -> 0 | J123: =IF(H123=0,pcf_0,IF(H123=1,pcf_1,pcf_2)) -> 0.10691822 | K123: =IF(G123=1,J123,1-J123) -> 0.89308178 | L123: =LN(K123) -> -0.11307713 | M123: =IF(AND(G123=1,J123>=p_thresh),1,0) -> 0 | N123: =IF(AND(G123=0,J123<p_thresh),1,0) -> 1
D124: =D123+1 -> 107 | E124: ='Data 1'!C116 -> 78 | F124: ='Data 1'!D116 -> CONT | G124: =IF(F124="CF",1,0) -> 0 | H124: 0 | I124: =IF(AND(G124=1,H124=1),1,0) -> 0 | J124: =IF(H124=0,pcf_0,IF(H124=1,pcf_1,pcf_2)) -> 0.10691822 | K124: =IF(G124=1,J124,1-J124) -> 0.89308178 | L124: =LN(K124) -> -0.11307713 | M124: =IF(AND(G124=1,J124>=p_thresh),1,0) -> 0 | N124: =IF(AND(G124=0,J124<p_thresh),1,0) -> 1
D125: =D124+1 -> 108 | E125: ='Data 1'!C117 -> 91 | F125: ='Data 1'!D117 -> CONT | G125: =IF(F125="CF",1,0) -> 0 | H125: 0 | I125: =IF(AND(G125=1,H125=1),1,0) -> 0 | J125: =IF(H125=0,pcf_0,IF(H125=1,pcf_1,pcf_2)) -> 0.10691822 | K125: =IF(G125=1,J125,1-J125) -> 0.89308178 | L125: =LN(K125) -> -0.11307713 | M125: =IF(AND(G125=1,J125>=p_thresh),1,0) -> 0 | N125: =IF(AND(G125=0,J125<p_thresh),1,0) -> 1
D126: =D125+1 -> 109 | E126: ='Data 1'!C118 -> 109 | F126: ='Data 1'!D118 -> CFNR | G126: =IF(F126="CF",1,0) -> 0 | H126: 0 | I126: =IF(AND(G126=1,H126=1),1,0) -> 0 | J126: =IF(H126=0,pcf_0,IF(H126=1,pcf_1,pcf_2)) -> 0.10691822 | K126: =IF(G126=1,J126,1-J126) -> 0.89308178 | L126: =LN(K126) -> -0.11307713 | M126: =IF(AND(G126=1,J126>=p_thresh),1,0) -> 0 | N126: =IF(AND(G126=0,J126<p_thresh),1,0) -> 1
D127: =D126+1 -> 110 | E127: ='Data 1'!C119 -> 113 | F127: ='Data 1'!D119 -> CONT | G127: =IF(F127="CF",1,0) -> 0 | H127: 0 | I127: =IF(AND(G127=1,H127=1),1,0) -> 0 | J127: =IF(H127=0,pcf_0,IF(H127=1,pcf_1,pcf_2)) -> 0.10691822 | K127: =IF(G127=1,J127,1-J127) -> 0.89308178 | L127: =LN(K127) -> -0.11307713 | M127: =IF(AND(G127=1,J127>=p_thresh),1,0) -> 0 | N127: =IF(AND(G127=0,J127<p_thresh),1,0) -> 1
D128: =D127+1 -> 111 | E128: ='Data 1'!C120 -> 115 | F128: ='Data 1'!D120 -> CFNR | G128: =IF(F128="CF",1,0) -> 0 | H128: 0 | I128: =IF(AND(G128=1,H128=1),1,0) -> 0 | J128: =IF(H128=0,pcf_0,IF(H128=1,pcf_1,pcf_2)) -> 0.10691822 | K128: =IF(G128=1,J128,1-J128) -> 0.89308178 | L128: =LN(K128) -> -0.11307713 | M128: =IF(AND(G128=1,J128>=p_thresh),1,0) -> 0 | N128: =IF(AND(G128=0,J128<p_thresh),1,0) -> 1
D129: =D128+1 -> 112 | E129: ='Data 1'!C121 -> 116 | F129: ='Data 1'!D121 -> CONT | G129: =IF(F129="CF",1,0) -> 0 | H129: 0 | I129: =IF(AND(G129=1,H129=1),1,0) -> 0 | J129: =IF(H129=0,pcf_0,IF(H129=1,pcf_1,pcf_2)) -> 0.10691822 | K129: =IF(G129=1,J129,1-J129) -> 0.89308178 | L129: =LN(K129) -> -0.11307713 | M129: =IF(AND(G129=1,J129>=p_thresh),1,0) -> 0 | N129: =IF(AND(G129=0,J129<p_thresh),1,0) -> 1
... D188: =D187+1 -> 171 | E188: ='Data 1'!C180 -> 253 | F188: ='Data 1'!D180 -> CONT | G188: =IF(F188="CF",1,0) -> 0 | H188: 0 | I188: =IF(AND(G188=1,H188=1),1,0) -> 0 | J188: =IF(H188=0,pcf_0,IF(H188=1,pcf_1,pcf_2)) -> 0.10691822 | K188: =IF(G188=1,J188,1-J188) -> 0.89308178 | L188: =LN(K188) -> -0.11307713 | M188: =IF(AND(G188=1,J188>=p_thresh),1,0) -> 0 | N188: =IF(AND(G188=0,J188<p_thresh),1,0) -> 1
F191: 171 | G191: =SUMIF($F18:$F188,"CF",G18:G188) -> 25 | H191: =COUNTIF(H18:H188,"1") -> 12 | I191: =SUM(I18:I188) -> 8 | L191: =SUM(L18:L188) -> -61.701869 | M191: =SUM(M18:M188) -> 8 | N191: =SUM(N18:N188) -> 142
G192: =CFT/TP -> 0.14619883 | I192: =I191/CFT -> 0.32
G193: =TP-CFT -> 146 | I193: =EPIT-I191 -> 4
G194: =CONTT/TP -> 0.85380117 | I194: =I193/CONTT -> 0.02739726

Sheet A2
A1: Values Calculated From Study Data | I1: Numerical Optimization
A2: fraction of patients testing positive for CF | B2: =fcf -> 0.14450867 | I2: slope | J2: 0
A3: fraction of CF patients diagnosed positive for A1 | B3: =fepi -> 0.64 | I3: intercept | J3: -1.7647314
A4: fraction of CFNR/Control patients diagnosed positive for A1 | B4: =I194 -> 0.69594595 | I4: obj. fcn. | J4: =SUMLNPOS -> -71.146006
A6: Maximum likelihood methods are applied to Dataset 1 to estimate the parameter values for the univariate LR model with A2 as the predictor | I6: CF Threshold Probability | J6: 0.2
D8: A1 value | E8: log-odds ratio | I8: sensitivity | J8: specificity | Q8: AUC
D9: 0 | E9: =b_est+a_est*D9 -> -1.7647314 | I9: =NCP/CFT -> 0 | J9: =NCN/CONTT -> 0.98648649 | Q9: =SUMPRODUCT(S18:S114,T18:T114) -> 0.49324324
D10: 1 | E10: =b_est+a_est*D10 -> -1.7647314 | L10: =NCN -> 146
L11: =CONTT -> 148
D12: Logistic Regression Results
D13: P[CF=1|A2=0] | E13: =EXP(lor_0)/(EXP(lor_0)+1) -> 0.14619875
D14: P[CF=1|A2=1] | E14: =EXP(lor_1)/(EXP(lor_1)+1) -> 0.14619875
D15: P[CF=1|A2=2] | E15: =fp_1*pcf_1+(1-fp_1)*pcf_0 -> 0.14619875
D17: Index | E17: Subject | F17: Category | G17: CF State | H17: A2 State | I17: Positive for Both CF and A2 | J17: Logistic Regression Estimate of P[CF=1|A2] | K17: Logistic Regression Estimate for P[Actual CF State] | L17: Logistic Regression Estimate for LN(P[Actual CF State]) | M17: True Positives | N17: True Negatives | P17: CF Threshold Probability | Q17: True Positive Rate | R17: False Positive Rate | S17: y | T17: delx
D18: 1 | E18: 1 | F18: CF | G18: =IF(F18="CF",1,0) -> 1 | H18: ='Data 1'!H10 -> 1 | I18: =IF(AND(G18=1,H18=1),1,0) -> 1 | J18: =IF(H18=0,pcf_0,IF(H18=1,pcf_1,pcf_2)) -> 0.14619875 | K18: =IF(G18=1,J18,1-J18) -> 0.14619875 | L18: =LN(K18) -> -1.9227883 | M18: =IF(AND(G18=1,J18>=p_thresh),1,0) -> 0 | N18: =IF(AND(G18=0,J18<p_thresh),1,0) -> 0 | P18: 0.01 | Q18: =COUNTIFS($G$18:$G$188,"1",$J$18:$J$188,">+"&$P18)/CFT -> 1 | R18: =COUNTIFS($G$18:$G$188,"0",$J$18:$J$188,">+"&$P18)/CONTT -> 0.98648649 | S18: =(Q18+Q19)/2 -> 1 | T18: =-(R19-R18) -> 0
D19: =D18+1 -> 2 | E19: 2 | F19: CF | G19: =IF(F19="CF",1,0) -> 1 | H19: ='Data 1'!H11 -> 1 | I19: =IF(AND(G19=1,H19=1),1,0) -> 1 | J19: =IF(H19=0,pcf_0,IF(H19=1,pcf_1,pcf_2)) -> 0.14619875 | K19: =IF(G19=1,J19,1-J19) -> 0.14619875 | L19: =LN(K19) -> -1.9227883 | M19: =IF(AND(G19=1,J19>=p_thresh),1,0) -> 0 | N19: =IF(AND(G19=0,J19<p_thresh),1,0) -> 0 | P19: =P18+0.01 -> 0.02 | Q19: =COUNTIFS($G$18:$G$188,"1",$J$18:$J$188,">+"&$P19)/CFT -> 1 | R19: =COUNTIFS($G$18:$G$188,"0",$J$18:$J$188,">+"&$P19)/CONTT -> 0.98648649 | S19: =(Q19+Q20)/2 -> 1 | T19: =-(R20-R19) -> 0
D20: =D19+1 -> 3 | E20: 4 | F20: CFNR | G20: =IF(F20="CF",1,0) -> 0 | H20: ='Data 1'!H12 -> 1 | I20: =IF(AND(G20=1,H20=1),1,0) -> 0 | J20: =IF(H20=0,pcf_0,IF(H20=1,pcf_1,pcf_2)) -> 0.14619875 | K20: =IF(G20=1,J20,1-J20) -> 0.85380125 | L20: =LN(K20) -> -0.15805684 | M20: =IF(AND(G20=1,J20>=p_thresh),1,0) -> 0 | N20: =IF(AND(G20=0,J20<p_thresh),1,0) -> 1 | P20: =P19+0.01 -> 0.03 | Q20: =COUNTIFS($G$18:$G$188,"1",$J$18:$J$188,">+"&$P20)/CFT -> 1 | R20: =COUNTIFS($G$18:$G$188,"0",$J$18:$J$188,">+"&$P20)/CONTT -> 0.98648649 | S20: =(Q20+Q21)/2 -> 1 | T20: =-(R21-R20) -> 0
D21: =D20+1 -> 4 | E21: 5 | F21: CFNR | G21: =IF(F21="CF",1,0) -> 0 | H21: ='Data 1'!H13 -> 1 | I21: =IF(AND(G21=1,H21=1),1,0) -> 0 | J21: =IF(H21=0,pcf_0,IF(H21=1,pcf_1,pcf_2)) -> 0.14619875 | K21: =IF(G21=1,J21,1-J21) -> 0.85380125 | L21: =LN(K21) -> -0.15805684 | M21: =IF(AND(G21=1,J21>=p_thresh),1,0) -> 0 | N21: =IF(AND(G21=0,J21<p_thresh),1,0) -> 1 | P21: =P20+0.01 -> 0.04 | Q21: =COUNTIFS($G$18:$G$188,"1",$J$18:$J$188,">+"&$P21)/CFT -> 1 | R21: =COUNTIFS($G$18:$G$188,"0",$J$18:$J$188,">+"&$P21)/CONTT -> 0.98648649 | S21: =(Q21+Q22)/2 -> 1 | T21: =-(R22-R21) -> 0
D22: =D21+1 -> 5 | E22: 9 | F22: CFNR | G22: =IF(F22="CF",1,0) -> 0 | H22: ='Data 1'!H14 -> 1 | I22: =IF(AND(G22=1,H22=1),1,0) -> 0 | J22: =IF(H22=0,pcf_0,IF(H22=1,pcf_1,pcf_2)) -> 0.14619875 | K22: =IF(G22=1,J22,1-J22) -> 0.85380125 | L22: =LN(K22) -> -0.15805684 | M22: =IF(AND(G22=1,J22>=p_thresh),1,0) -> 0 | N22: =IF(AND(G22=0,J22<p_thresh),1,0) -> 1 | P22: =P21+0.01 -> 0.05 | Q22: =COUNTIFS($G$18:$G$188,"1",$J$18:$J$188,">+"&$P22)/CFT -> 1 | R22: =COUNTIFS($G$18:$G$188,"0",$J$18:$J$188,">+"&$P22)/CONTT -> 0.98648649 | S22: =(Q22+Q23)/2 -> 1 | T22: =-(R23-R22) -> 0
D23: =D22+1 -> 6 | E23: 12 | F23: CF | G23: =IF(F23="CF",1,0) -> 1 | H23: ='Data 1'!H15 -> 1 | I23: =IF(AND(G23=1,H23=1),1,0) -> 1 | J23: =IF(H23=0,pcf_0,IF(H23=1,pcf_1,pcf_2)) -> 0.14619875 | K23: =IF(G23=1,J23,1-J23) -> 0.14619875 | L23: =LN(K23) -> -1.9227883 | M23: =IF(AND(G23=1,J23>=p_thresh),1,0) -> 0 | N23: =IF(AND(G23=0,J23<p_thresh),1,0) -> 0 | P23: =P22+0.01 -> 0.06 | Q23: =COUNTIFS($G$18:$G$188,"1",$J$18:$J$188,">+"&$P23)/CFT -> 1 | R23: =COUNTIFS($G$18:$G$188,"0",$J$18:$J$188,">+"&$P23)/CONTT -> 0.98648649 | S23: =(Q23+Q24)/2 -> 1 | T23: =-(R24-R23) -> 0
D24: =D23+1 -> 7 | E24: 14 | F24: CFNR | G24: =IF(F24="CF",1,0) -> 0 | H24: ='Data 1'!H16 -> 1 | I24: =IF(AND(G24=1,H24=1),1,0) -> 0 | J24: =IF(H24=0,pcf_0,IF(H24=1,pcf_1,pcf_2)) -> 0.14619875 | K24: =IF(G24=1,J24,1-J24) -> 0.85380125 | L24: =LN(K24) -> -0.15805684 | M24: =IF(AND(G24=1,J24>=p_thresh),1,0) -> 0 | N24: =IF(AND(G24=0,J24<p_thresh),1,0) -> 1 | P24: =P23+0.01 -> 0.07 | Q24: =COUNTIFS($G$18:$G$188,"1",$J$18:$J$188,">+"&$P24)/CFT -> 1 | R24: =COUNTIFS($G$18:$G$188,"0",$J$18:$J$188,">+"&$P24)/CONTT -> 0.98648649 | S24: =(Q24+Q25)/2 -> 1 | T24: =-(R25-R24) -> 0
D25: =D24+1 -> 8 | E25: 15 | F25: CFNR | G25: =IF(F25="CF",1,0) -> 0 | H25: ='Data 1'!H17 -> 1 | I25: =IF(AND(G25=1,H25=1),1,0) -> 0 | J25: =IF(H25=0,pcf_0,IF(H25=1,pcf_1,pcf_2)) -> 0.14619875 | K25: =IF(G25=1,J25,1-J25) -> 0.85380125 | L25: =LN(K25) -> -0.15805684 | M25: =IF(AND(G25=1,J25>=p_thresh),1,0) -> 0 | N25: =IF(AND(G25=0,J25<p_thresh),1,0) -> 1 | P25: =P24+0.01 -> 0.08 | Q25: =COUNTIFS($G$18:$G$188,"1",$J$18:$J$188,">+"&$P25)/CFT -> 1 | R25: =COUNTIFS($G$18:$G$188,"0",$J$18:$J$188,">+"&$P25)/CONTT -> 0.98648649 | S25: =(Q25+Q26)/2 -> 1 | T25: =-(R26-R25) -> 0
D26: =D25+1 -> 9 | E26: 16 | F26: CFNR | G26: =IF(F26="CF",1,0) -> 0 | H26: ='Data 1'!H18 -> 1 | I26: =IF(AND(G26=1,H26=1),1,0) -> 0 | J26: =IF(H26=0,pcf_0,IF(H26=1,pcf_1,pcf_2)) -> 0.14619875 | K26: =IF(G26=1,J26,1-J26) -> 0.85380125 | L26: =LN(K26) -> -0.15805684 | M26: =IF(AND(G26=1,J26>=p_thresh),1,0) -> 0 | N26: =IF(AND(G26=0,J26<p_thresh),1,0) -> 1 | P26: =P25+0.01 -> 0.09 | Q26: =COUNTIFS($G$18:$G$188,"1",$J$18:$J$188,">+"&$P26)/CFT -> 1 | R26: =COUNTIFS($G$18:$G$188,"0",$J$18:$J$188,">+"&$P26)/CONTT -> 0.98648649 | S26: =(Q26+Q27)/2 -> 1 | T26: =-(R27-R26) -> 0
D27: =D26+1 -> 10 | E27: 17 | F27: CF | G27: =IF(F27="CF",1,0) -> 1 | H27: ='Data 1'!H19 -> 1 | I27: =IF(AND(G27=1,H27=1),1,0) -> 1 | J27: =IF(H27=0,pcf_0,IF(H27=1,pcf_1,pcf_2)) -> 0.14619875 | K27: =IF(G27=1,J27,1-J27) -> 0.14619875 | L27: =LN(K27) -> -1.9227883 | M27: =IF(AND(G27=1,J27>=p_thresh),1,0) -> 0 | N27: =IF(AND(G27=0,J27<p_thresh),1,0) -> 0 | P27: =P26+0.01 -> 0.1 | Q27: =COUNTIFS($G$18:$G$188,"1",$J$18:$J$188,">+"&$P27)/CFT -> 1 | R27: =COUNTIFS($G$18:$G$188,"0",$J$18:$J$188,">+"&$P27)/CONTT -> 0.98648649 | S27: =(Q27+Q28)/2 -> 1 | T27: =-(R28-R27) -> 0
D28: =D27+1 -> 11 | E28: 24 | F28: CFNR | G28: =IF(F28="CF",1,0) -> 0 | H28: ='Data 1'!H20 -> 1 | I28: =IF(AND(G28=1,H28=1),1,0) -> 0 | J28: =IF(H28=0,pcf_0,IF(H28=1,pcf_1,pcf_2)) -> 0.14619875 | K28: =IF(G28=1,J28,1-J28) -> 0.85380125 | L28: =LN(K28) -> -0.15805684 | M28: =IF(AND(G28=1,J28>=p_thresh),1,0) -> 0 | N28: =IF(AND(G28=0,J28<p_thresh),1,0) -> 1 | P28: =P27+0.01 -> 0.11 | Q28: =COUNTIFS($G$18:$G$188,"1",$J$18:$J$188,">+"&$P28)/CFT -> 1 | R28: =COUNTIFS($G$18:$G$188,"0",$J$18:$J$188,">+"&$P28)/CONTT -> 0.98648649 | S28: =(Q28+Q29)/2 -> 1 | T28: =-(R29-R28) -> 0
D29: =D28+1 -> 12 | E29: 25 | F29: CONT | G29: =IF(F29="CF",1,0) -> 0 | H29: ='Data 1'!H21 -> 1 | I29: =IF(AND(G29=1,H29=1),1,0) -> 0 | J29: =IF(H29=0,pcf_0,IF(H29=1,pcf_1,pcf_2)) -> 0.14619875 | K29: =IF(G29=1,J29,1-J29) -> 0.85380125 | L29: =LN(K29) -> -0.15805684 | M29: =IF(AND(G29=1,J29>=p_thresh),1,0) -> 0 | N29: =IF(AND(G29=0,J29<p_thresh),1,0) -> 1 | P29: =P28+0.01 -> 0.12 | Q29: =COUNTIFS($G$18:$G$188,"1",$J$18:$J$188,">+"&$P29)/CFT -> 1 | R29: =COUNTIFS($G$18:$G$188,"0",$J$18:$J$188,">+"&$P29)/CONTT -> 0.98648649 | S29: =(Q29+Q30)/2 -> 1 | T29: =-(R30-R29) -> 0
D30: =D29+1 -> 13 | E30: 27 | F30: CONT | G30: =IF(F30="CF",1,0) -> 0 | H30: ='Data 1'!H22 -> 1 | I30: =IF(AND(G30=1,H30=1),1,0) -> 0 | J30: =IF(H30=0,pcf_0,IF(H30=1,pcf_1,pcf_2)) -> 0.14619875 | K30: =IF(G30=1,J30,1-J30) -> 0.85380125 | L30: =LN(K30) -> -0.15805684 | M30: =IF(AND(G30=1,J30>=p_thresh),1,0) -> 0 | N30: =IF(AND(G30=0,J30<p_thresh),1,0) -> 1 | P30: =P29+0.01 -> 0.13 | Q30: =COUNTIFS($G$18:$G$188,"1",$J$18:$J$188,">+"&$P30)/CFT -> 1 | R30: =COUNTIFS($G$18:$G$188,"0",$J$18:$J$188,">+"&$P30)/CONTT -> 0.98648649 | S30: =(Q30+Q31)/2 -> 1 | T30: =-(R31-R30) -> 0
... D117: =D116+1 -> 100 | E117: 49 | F117: CONT | G117: =IF(F117="CF",1,0) -> 0 | H117: ='Data 1'!H109 -> 1 | I117: =IF(AND(G117=1,H117=1),1,0) -> 0 | J117: =IF(H117=0,pcf_0,IF(H117=1,pcf_1,pcf_2)) -> 0.14619875 | K117: =IF(G117=1,J117,1-J117) -> 0.85380125 | L117: =LN(K117) -> -0.15805684 | M117: =IF(AND(G117=1,J117>=p_thresh),1,0) -> 0 | N117: =IF(AND(G117=0,J117<p_thresh),1,0) -> 1 | P117: =P116+0.01 -> 1 | Q117: =COUNTIFS($G$18:$G$188,"1",$J$18:$J$188,">+"&$P117)/CFT -> 0 | R117: =COUNTIFS($G$18:$G$188,"0",$J$18:$J$188,">+"&$P117)/CONTT -> 0 | S117: =(Q117+Q118)/2 -> 0 | T117: =-(R118-R117) -> 0
D118: =D117+1 -> 101 | E118: 62 | F118: CF | G118: =IF(F118="CF",1,0) -> 1 | H118: ='Data 1'!H110 -> 1 | I118: =IF(AND(G118=1,H118=1),1,0) -> 1 | J118: =IF(H118=0,pcf_0,IF(H118=1,pcf_1,pcf_2)) -> 0.14619875 | K118: =IF(G118=1,J118,1-J118) -> 0.14619875 | L118: =LN(K118) -> -1.9227883 | M118: =IF(AND(G118=1,J118>=p_thresh),1,0) -> 0 | N118: =IF(AND(G118=0,J118<p_thresh),1,0) -> 0
D119: =D118+1 -> 102 | E119: 63 | F119: CFNR | G119: =IF(F119="CF",1,0) -> 0 | H119: ='Data 1'!H111 -> 1 | I119: =IF(AND(G119=1,H119=1),1,0) -> 0 | J119: =IF(H119=0,pcf_0,IF(H119=1,pcf_1,pcf_2)) -> 0.14619875 | K119: =IF(G119=1,J119,1-J119) -> 0.85380125 | L119: =LN(K119) -> -0.15805684 | M119: =IF(AND(G119=1,J119>=p_thresh),1,0) -> 0 | N119: =IF(AND(G119=0,J119<p_thresh),1,0) -> 1
D120: =D119+1 -> 103 | E120: 71 | F120: CONT | G120: =IF(F120="CF",1,0) -> 0 | H120: ='Data 1'!H112 -> 1 | I120: =IF(AND(G120=1,H120=1),1,0) -> 0 | J120: =IF(H120=0,pcf_0,IF(H120=1,pcf_1,pcf_2)) -> 0.14619875 | K120: =IF(G120=1,J120,1-J120) -> 0.85380125 | L120: =LN(K120) -> -0.15805684 | M120: =IF(AND(G120=1,J120>=p_thresh),1,0) -> 0 | N120: =IF(AND(G120=0,J120<p_thresh),1,0) -> 1
D121: =D120+1 -> 104 | E121: 72 | F121: CONT | G121: =IF(F121="CF",1,0) -> 0 | H121: ='Data 1'!H113 -> 1 | I121: =IF(AND(G121=1,H121=1),1,0) -> 0 | J121: =IF(H121=0,pcf_0,IF(H121=1,pcf_1,pcf_2)) -> 0.14619875 | K121: =IF(G121=1,J121,1-J121) -> 0.85380125 | L121: =LN(K121) -> -0.15805684 | M121: =IF(AND(G121=1,J121>=p_thresh),1,0) -> 0 | N121: =IF(AND(G121=0,J121<p_thresh),1,0) -> 1
D122: =D121+1 -> 105 | E122: 74 | F122: CONT | G122: =IF(F122="CF",1,0) -> 0 | H122: ='Data 1'!H114 -> 1 | I122: =IF(AND(G122=1,H122=1),1,0) -> 0 | J122: =IF(H122=0,pcf_0,IF(H122=1,pcf_1,pcf_2)) -> 0.14619875 | K122: =IF(G122=1,J122,1-J122) -> 0.85380125 | L122: =LN(K122) -> -0.15805684 | M122: =IF(AND(G122=1,J122>=p_thresh),1,0) -> 0 | N122: =IF(AND(G122=0,J122<p_thresh),1,0) -> 1
D123: =D122+1 -> 106 | E123: 77 | F123: CONT | G123: =IF(F123="CF",1,0) -> 0 | H123: ='Data 1'!H115 -> 1 | I123: =IF(AND(G123=1,H123=1),1,0) -> 0 | J123: =IF(H123=0,pcf_0,IF(H123=1,pcf_1,pcf_2)) -> 0.14619875 | K123: =IF(G123=1,J123,1-J123) -> 0.85380125 | L123: =LN(K123) -> -0.15805684 | M123: =IF(AND(G123=1,J123>=p_thresh),1,0) -> 0 | N123: =IF(AND(G123=0,J123<p_thresh),1,0) -> 1
D124: =D123+1 -> 107 | E124: 78 | F124: CONT | G124: =IF(F124="CF",1,0) -> 0 | H124: ='Data 1'!H116 -> 1 | I124: =IF(AND(G124=1,H124=1),1,0) -> 0 | J124: =IF(H124=0,pcf_0,IF(H124=1,pcf_1,pcf_2)) -> 0.14619875 | K124: =IF(G124=1,J124,1-J124) -> 0.85380125 | L124: =LN(K124) -> -0.15805684 | M124: =IF(AND(G124=1,J124>=p_thresh),1,0) -> 0 | N124: =IF(AND(G124=0,J124<p_thresh),1,0) -> 1
D125: =D124+1 -> 108 | E125: 91 | F125: CONT | G125: =IF(F125="CF",1,0) -> 0 | H125: ='Data 1'!H117 -> 1 | I125: =IF(AND(G125=1,H125=1),1,0) -> 0 | J125: =IF(H125=0,pcf_0,IF(H125=1,pcf_1,pcf_2)) -> 0.14619875 | K125: =IF(G125=1,J125,1-J125) -> 0.85380125 | L125: =LN(K125) -> -0.15805684 | M125: =IF(AND(G125=1,J125>=p_thresh),1,0) -> 0 | N125: =IF(AND(G125=0,J125<p_thresh),1,0) -> 1
D126: =D125+1 -> 109 | E126: 109 | F126: CFNR | G126: =IF(F126="CF",1,0) -> 0 | H126: ='Data 1'!H118 -> 1 | I126: =IF(AND(G126=1,H126=1),1,0) -> 0 | J126: =IF(H126=0,pcf_0,IF(H126=1,pcf_1,pcf_2)) -> 0.14619875 | K126: =IF(G126=1,J126,1-J126) -> 0.85380125 | L126: =LN(K126) -> -0.15805684 | M126: =IF(AND(G126=1,J126>=p_thresh),1,0) -> 0 | N126: =IF(AND(G126=0,J126<p_thresh),1,0) -> 1
D127: =D126+1 -> 110 | E127: 113 | F127: CONT | G127: =IF(F127="CF",1,0) -> 0 | H127: ='Data 1'!H119 -> 0 | I127: =IF(AND(G127=1,H127=1),1,0) -> 0 | J127: =IF(H127=0,pcf_0,IF(H127=1,pcf_1,pcf_2)) -> 0.14619875 | K127: =IF(G127=1,J127,1-J127) -> 0.85380125 | L127: =LN(K127) -> -0.15805684 | M127: =IF(AND(G127=1,J127>=p_thresh),1,0) -> 0 | N127: =IF(AND(G127=0,J127<p_thresh),1,0) -> 1
D128: =D127+1 -> 111 | E128: 115 | F128: CFNR | G128: =IF(F128="CF",1,0) -> 0 | H128: ='Data 1'!H120 -> 0 | I128: =IF(AND(G128=1,H128=1),1,0) -> 0 | J128: =IF(H128=0,pcf_0,IF(H128=1,pcf_1,pcf_2)) -> 0.14619875 | K128: =IF(G128=1,J128,1-J128) -> 0.85380125 | L128: =LN(K128) -> -0.15805684 | M128: =IF(AND(G128=1,J128>=p_thresh),1,0) -> 0 | N128: =IF(AND(G128=0,J128<p_thresh),1,0) -> 1
D129: =D128+1 -> 112 | E129: 116 | F129: CONT | G129: =IF(F129="CF",1,0) -> 0 | H129: ='Data 1'!H121 -> 1 | I129: =IF(AND(G129=1,H129=1),1,0) -> 0 | J129: =IF(H129=0,pcf_0,IF(H129=1,pcf_1,pcf_2)) -> 0.14619875 | K129: =IF(G129=1,J129,1-J129) -> 0.85380125 | L129: =LN(K129) -> -0.15805684 | M129: =IF(AND(G129=1,J129>=p_thresh),1,0) -> 0 | N129: =IF(AND(G129=0,J129<p_thresh),1,0) -> 1
... D188: =D187+1 -> 171 | E188: 253 | F188: CONT | G188: =IF(F188="CF",1,0) -> 0 | H188: ='Data 1'!H180 -> 1 | I188: =IF(AND(G188=1,H188=1),1,0) -> 0 | J188: =IF(H188=0,pcf_0,IF(H188=1,pcf_1,pcf_2)) -> 0.14619875 | K188: =IF(G188=1,J188,1-J188) -> 0.85380125 | L188: =LN(K188) -> -0.15805684 | M188: =IF(AND(G188=1,J188>=p_thresh),1,0) -> 0 | N188: =IF(AND(G188=0,J188<p_thresh),1,0) -> 1
F191: 173 | G191: =SUMIF($F18:$F188,"CF",G18:G188) -> 25 | H191: =COUNTIF(H18:H188,"1") -> 119 | I191: =SUM(I18:I188) -> 16 | L191: =SUM(L18:L188) -> -71.146006 | M191: =SUM(M18:M188) -> 0 | N191: =SUM(N18:N188) -> 146
G192: =CFT/TP -> 0.14450867 | I192: =I191/CFT -> 0.64
G193: =TP-CFT -> 148 | I193: =EPIT-I191 -> 103
G194: =CONTT/TP -> 0.85549133 | I194: =I193/CONTT -> 0.69594595

Sheet A3
A1: Values Calculated From Study Data | I1: Numerical Optimization
A2: fraction of patients testing positive for CF | B2: =fcf -> 0.14450867 | I2: slope | J2: 0.057106522
A3: fraction of CF patients diagnosed positive for A1 | B3: =fepi -> 0.6 | I3: intercept | J3: -1.7943568
A4: fraction of CFNR/Control patients diagnosed positive for A1 | B4: =I194 -> 0.56081081 | I4: obj. fcn. | J4: =SUMLNPOS -> -71.116221
I6: CF Threshold Probability | J6: 0.2 | L6: Maximum likelihood methods are applied to Dataset 1 to estimate the parameter values for the univariate LR model with A3 as the predictor
D8: A1 value | E8: log-odds ratio | I8: sensitivity | J8: specificity | Q8: AUC
D9: 0 | E9: =b_est+a_est*D9 -> -1.7943568 | I9: =NCP/CFT -> 0 | J9: =NCN/CONTT -> 0.98648649 | Q9: =SUMPRODUCT(S18:S114,T18:T114) -> 0.49324324
D10: 1 | E10: =b_est+a_est*D10 -> -1.7372503 | L10: =NCN -> 146
L11: =CONTT -> 148
D12: Logistic Regression Results
D13: P[CF=1|A3=0] | E13: =EXP(lor_0)/(EXP(lor_0)+1) -> 0.1425394
D14: P[CF=1|A3=1] | E14: =EXP(lor_1)/(EXP(lor_1)+1) -> 0.14966254
D15: P[CF=1|A3=2] | E15: =fp_1*pcf_1+(1-fp_1)*pcf_0 -> 0.14278934
D17: Index | E17: Subject | F17: Category | G17: CF State | H17: A3 State | I17: Positive for Both CF and A3 | J17: Logistic Regression Estimate of P[CF=1|A3] | K17: Logistic Regression Estimate for P[Actual CF State] | L17: Logistic Regression Estimate for LN(P[Actual CF State]) | M17: True Positives | N17: True Negatives | P17: CF Threshold Probability | Q17: True Positive Rate | R17: False Positive Rate | S17: y | T17: delx
D18: 1 | E18: ='Data 1'!C10 -> 1 | F18: ='Data 1'!D10 -> CF | G18: =IF(F18="CF",1,0) -> 1 | H18: ='Data 1'!J10 -> 1 | I18: =IF(AND(G18=1,H18=1),1,0) -> 1 | J18: =IF(H18=0,pcf_0,IF(H18=1,pcf_1,pcf_2)) -> 0.14966254 | K18: =IF(G18=1,J18,1-J18) -> 0.14966254 | L18: =LN(K18) -> -1.8993722 | M18: =IF(AND(G18=1,J18>=p_thresh),1,0) -> 0 | N18: =IF(AND(G18=0,J18<p_thresh),1,0) -> 0 | P18: 0.01 | Q18: =COUNTIFS($G$18:$G$188,"1",$J$18:$J$188,">+"&$P18)/CFT -> 1 | R18: =COUNTIFS($G$18:$G$188,"0",$J$18:$J$188,">+"&$P18)/CONTT -> 0.98648649 | S18: =(Q18+Q19)/2 -> 1 | T18: =-(R19-R18) -> 0
D19: =D18+1 -> 2 | E19: ='Data 1'!C11 -> 2 | F19: ='Data 1'!D11 -> CF | G19: =IF(F19="CF",1,0) -> 1 | H19: ='Data 1'!J11 -> 1 | I19: =IF(AND(G19=1,H19=1),1,0) -> 1 | J19: =IF(H19=0,pcf_0,IF(H19=1,pcf_1,pcf_2)) -> 0.14966254 | K19: =IF(G19=1,J19,1-J19) -> 0.14966254 | L19: =LN(K19) -> -1.8993722 | M19: =IF(AND(G19=1,J19>=p_thresh),1,0) -> 0 | N19: =IF(AND(G19=0,J19<p_thresh),1,0) -> 0 | P19: =P18+0.01 -> 0.02 | Q19: =COUNTIFS($G$18:$G$188,"1",$J$18:$J$188,">+"&$P19)/CFT -> 1 | R19: =COUNTIFS($G$18:$G$188,"0",$J$18:$J$188,">+"&$P19)/CONTT -> 0.98648649 | S19: =(Q19+Q20)/2 -> 1 | T19: =-(R20-R19) -> 0
D20: =D19+1 -> 3 | E20: ='Data 1'!C12 -> 4 | F20: ='Data 1'!D12 -> CFNR | G20: =IF(F20="CF",1,0) -> 0 | H20: ='Data 1'!J12 -> 0 | I20: =IF(AND(G20=1,H20=1),1,0) -> 0 | J20: =IF(H20=0,pcf_0,IF(H20=1,pcf_1,pcf_2)) -> 0.1425394 | K20: =IF(G20=1,J20,1-J20) -> 0.8574606 | L20: =LN(K20) -> -0.15378005 | M20: =IF(AND(G20=1,J20>=p_thresh),1,0) -> 0 | N20: =IF(AND(G20=0,J20<p_thresh),1,0) -> 1 | P20: =P19+0.01 -> 0.03 | Q20: =COUNTIFS($G$18:$G$188,"1",$J$18:$J$188,">+"&$P20)/CFT -> 1 | R20: =COUNTIFS($G$18:$G$188,"0",$J$18:$J$188,">+"&$P20)/CONTT -> 0.98648649 | S20: =(Q20+Q21)/2 -> 1 | T20: =-(R21-R20) -> 0
D21: =D20+1 -> 4 | E21: ='Data 1'!C13 -> 5 | F21: ='Data 1'!D13 -> CFNR | G21: =IF(F21="CF",1,0) -> 0 | H21: ='Data 1'!J13 -> 0 | I21: =IF(AND(G21=1,H21=1),1,0) -> 0 | J21: =IF(H21=0,pcf_0,IF(H21=1,pcf_1,pcf_2)) -> 0.1425394 | K21: =IF(G21=1,J21,1-J21) -> 0.8574606 | L21: =LN(K21) -> -0.15378005 | M21: =IF(AND(G21=1,J21>=p_thresh),1,0) -> 0 | N21: =IF(AND(G21=0,J21<p_thresh),1,0) -> 1 | P21: =P20+0.01 -> 0.04 | Q21: =COUNTIFS($G$18:$G$188,"1",$J$18:$J$188,">+"&$P21)/CFT -> 1 | R21: =COUNTIFS($G$18:$G$188,"0",$J$18:$J$188,">+"&$P21)/CONTT -> 0.98648649 | S21: =(Q21+Q22)/2 -> 1 | T21: =-(R22-R21) -> 0
D22: =D21+1 -> 5 | E22: ='Data 1'!C14 -> 9 | F22: ='Data 1'!D14 -> CFNR | G22: =IF(F22="CF",1,0) -> 0 | H22: ='Data 1'!J14 -> 1 | I22: =IF(AND(G22=1,H22=1),1,0) -> 0 | J22: =IF(H22=0,pcf_0,IF(H22=1,pcf_1,pcf_2)) -> 0.14966254 | K22: =IF(G22=1,J22,1-J22) -> 0.85033746 | L22: =LN(K22) -> -0.162122 | M22: =IF(AND(G22=1,J22>=p_thresh),1,0) -> 0 | N22: =IF(AND(G22=0,J22<p_thresh),1,0) -> 1 | P22: =P21+0.01 -> 0.05 | Q22: =COUNTIFS($G$18:$G$188,"1",$J$18:$J$188,">+"&$P22)/CFT -> 1 | R22: =COUNTIFS($G$18:$G$188,"0",$J$18:$J$188,">+"&$P22)/CONTT -> 0.98648649 | S22: =(Q22+Q23)/2 -> 1 | T22: =-(R23-R22) -> 0
D23: =D22+1 -> 6 | E23: ='Data 1'!C15 -> 12 | F23: ='Data 1'!D15 -> CF | G23: =IF(F23="CF",1,0) -> 1 | H23: ='Data 1'!J15 -> 0 | I23: =IF(AND(G23=1,H23=1),1,0) -> 0 | J23: =IF(H23=0,pcf_0,IF(H23=1,pcf_1,pcf_2)) -> 0.1425394 | K23: =IF(G23=1,J23,1-J23) -> 0.1425394 | L23: =LN(K23) -> -1.9481368 | M23: =IF(AND(G23=1,J23>=p_thresh),1,0) -> 0 | N23: =IF(AND(G23=0,J23<p_thresh),1,0) -> 0 | P23: =P22+0.01 -> 0.06 | Q23: =COUNTIFS($G$18:$G$188,"1",$J$18:$J$188,">+"&$P23)/CFT -> 1 | R23: =COUNTIFS($G$18:$G$188,"0",$J$18:$J$188,">+"&$P23)/CONTT -> 0.98648649 | S23: =(Q23+Q24)/2 -> 1 | T23: =-(R24-R23) -> 0
D24: =D23+1 -> 7 | E24: ='Data 1'!C16 -> 14 | F24: ='Data 1'!D16 -> CFNR | G24: =IF(F24="CF",1,0) -> 0 | H24: ='Data 1'!J16 -> 1 | I24: =IF(AND(G24=1,H24=1),1,0) -> 0 | J24: =IF(H24=0,pcf_0,IF(H24=1,pcf_1,pcf_2)) -> 0.14966254 | K24: =IF(G24=1,J24,1-J24) -> 0.85033746 | L24: =LN(K24) -> -0.162122 | M24: =IF(AND(G24=1,J24>=p_thresh),1,0) -> 0 | N24: =IF(AND(G24=0,J24<p_thresh),1,0) -> 1 | P24: =P23+0.01 -> 0.07 | Q24: =COUNTIFS($G$18:$G$188,"1",$J$18:$J$188,">+"&$P24)/CFT -> 1 | R24: =COUNTIFS($G$18:$G$188,"0",$J$18:$J$188,">+"&$P24)/CONTT -> 0.98648649 | S24: =(Q24+Q25)/2 -> 1 | T24: =-(R25-R24) -> 0
D25: =D24+1 -> 8 | E25: ='Data 1'!C17 -> 15 | F25: ='Data 1'!D17 -> CFNR | G25: =IF(F25="CF",1,0) -> 0 | H25: ='Data 1'!J17 -> 1 | I25: =IF(AND(G25=1,H25=1),1,0) -> 0 | J25: =IF(H25=0,pcf_0,IF(H25=1,pcf_1,pcf_2)) -> 0.14966254 | K25: =IF(G25=1,J25,1-J25) -> 0.85033746 | L25: =LN(K25) -> -0.162122 | M25: =IF(AND(G25=1,J25>=p_thresh),1,0) -> 0 | N25: =IF(AND(G25=0,J25<p_thresh),1,0) -> 1 | P25: =P24+0.01 -> 0.08 | Q25: =COUNTIFS($G$18:$G$188,"1",$J$18:$J$188,">+"&$P25)/CFT -> 1 | R25: =COUNTIFS($G$18:$G$188,"0",$J$18:$J$188,">+"&$P25)/CONTT -> 0.98648649 | S25: =(Q25+Q26)/2 -> 1 | T25: =-(R26-R25) -> 0
D26: =D25+1 -> 9 | E26: ='Data 1'!C18 -> 16 | F26: ='Data 1'!D18 -> CFNR | G26: =IF(F26="CF",1,0) -> 0 | H26: ='Data 1'!J18 -> 0 | I26: =IF(AND(G26=1,H26=1),1,0) -> 0 | J26: =IF(H26=0,pcf_0,IF(H26=1,pcf_1,pcf_2)) -> 0.1425394 | K26: =IF(G26=1,J26,1-J26) -> 0.8574606 | L26: =LN(K26) -> -0.15378005 | M26: =IF(AND(G26=1,J26>=p_thresh),1,0) -> 0 | N26: =IF(AND(G26=0,J26<p_thresh),1,0) -> 1 | P26: =P25+0.01 -> 0.09 | Q26: =COUNTIFS($G$18:$G$188,"1",$J$18:$J$188,">+"&$P26)/CFT -> 1 | R26: =COUNTIFS($G$18:$G$188,"0",$J$18:$J$188,">+"&$P26)/CONTT -> 0.98648649 | S26: =(Q26+Q27)/2 -> 1 | T26: =-(R27-R26) -> 0
D27: =D26+1 -> 10 | E27: ='Data 1'!C19 -> 17 | F27: ='Data 1'!D19 -> CF | G27: =IF(F27="CF",1,0) -> 1 | H27: ='Data 1'!J19 -> 1 | I27: =IF(AND(G27=1,H27=1),1,0) -> 1 | J27: =IF(H27=0,pcf_0,IF(H27=1,pcf_1,pcf_2)) -> 0.14966254 | K27: =IF(G27=1,J27,1-J27) -> 0.14966254 | L27: =LN(K27) -> -1.8993722 | M27: =IF(AND(G27=1,J27>=p_thresh),1,0) -> 0 | N27: =IF(AND(G27=0,J27<p_thresh),1,0) -> 0 | P27: =P26+0.01 -> 0.1 | Q27: =COUNTIFS($G$18:$G$188,"1",$J$18:$J$188,">+"&$P27)/CFT -> 1 | R27: =COUNTIFS($G$18:$G$188,"0",$J$18:$J$188,">+"&$P27)/CONTT -> 0.98648649 | S27: =(Q27+Q28)/2 -> 1 | T27: =-(R28-R27) -> 0
D28: =D27+1 -> 11 | E28: ='Data 1'!C20 -> 24 | F28: ='Data 1'!D20 -> CFNR | G28: =IF(F28="CF",1,0) -> 0 | H28: ='Data 1'!J20 -> 1 | I28: =IF(AND(G28=1,H28=1),1,0) -> 0 | J28: =IF(H28=0,pcf_0,IF(H28=1,pcf_1,pcf_2)) -> 0.14966254 | K28: =IF(G28=1,J28,1-J28) -> 0.85033746 | L28: =LN(K28) -> -0.162122 | M28: =IF(AND(G28=1,J28>=p_thresh),1,0) -> 0 | N28: =IF(AND(G28=0,J28<p_thresh),1,0) -> 1 | P28: =P27+0.01 -> 0.11 | Q28: =COUNTIFS($G$18:$G$188,"1",$J$18:$J$188,">+"&$P28)/CFT -> 1 | R28: =COUNTIFS($G$18:$G$188,"0",$J$18:$J$188,">+"&$P28)/CONTT -> 0.98648649 | S28: =(Q28+Q29)/2 -> 1 | T28: =-(R29-R28) -> 0
D29: =D28+1 -> 12 | E29: ='Data 1'!C21 -> 25 | F29: ='Data 1'!D21 -> CONT | G29: =IF(F29="CF",1,0) -> 0 | H29: ='Data 1'!J21 -> 0 | I29: =IF(AND(G29=1,H29=1),1,0) -> 0 | J29: =IF(H29=0,pcf_0,IF(H29=1,pcf_1,pcf_2)) -> 0.1425394 | K29: =IF(G29=1,J29,1-J29) -> 0.8574606 | L29: =LN(K29) -> -0.15378005 | M29: =IF(AND(G29=1,J29>=p_thresh),1,0) -> 0 | N29: =IF(AND(G29=0,J29<p_thresh),1,0) -> 1 | P29: =P28+0.01 -> 0.12 | Q29: =COUNTIFS($G$18:$G$188,"1",$J$18:$J$188,">+"&$P29)/CFT -> 1 | R29: =COUNTIFS($G$18:$G$188,"0",$J$18:$J$188,">+"&$P29)/CONTT -> 0.98648649 | S29: =(Q29+Q30)/2 -> 1 | T29: =-(R30-R29) -> 0
D30: =D29+1 -> 13 | E30: ='Data 1'!C22 -> 27 | F30: ='Data 1'!D22 -> CONT | G30: =IF(F30="CF",1,0) -> 0 | H30: ='Data 1'!J22 -> 0 | I30: =IF(AND(G30=1,H30=1),1,0) -> 0 | J30: =IF(H30=0,pcf_0,IF(H30=1,pcf_1,pcf_2)) -> 0.1425394 | K30: =IF(G30=1,J30,1-J30) -> 0.8574606 | L30: =LN(K30) -> -0.15378005 | M30: =IF(AND(G30=1,J30>=p_thresh),1,0) -> 0 | N30: =IF(AND(G30=0,J30<p_thresh),1,0) -> 1 | P30: =P29+0.01 -> 0.13 | Q30: =COUNTIFS($G$18:$G$188,"1",$J$18:$J$188,">+"&$P30)/CFT -> 1 | R30: =COUNTIFS($G$18:$G$188,"0",$J$18:$J$188,">+"&$P30)/CONTT -> 0.98648649 | S30: =(Q30+Q31)/2 -> 1 | T30: =-(R31-R30) -> 0
... D101: =D100+1 -> 84 | E101: ='Data 1'!C93 -> 255 | F101: ='Data 1'!D93 -> CONT | G101: =IF(F101="CF",1,0) -> 0 | H101: ='Data 1'!J93 -> 1 | I101: =IF(AND(G101=1,H101=1),1,0) -> 0 | J101: =IF(H101=0,pcf_0,IF(H101=1,pcf_1,pcf_2)) -> 0.14966254 | K101: =IF(G101=1,J101,1-J101) -> 0.85033746 | L101: =LN(K101) -> -0.162122 | M101: =IF(AND(G101=1,J101>=p_thresh),1,0) -> 0 | N101: =IF(AND(G101=0,J101<p_thresh),1,0) -> 1 | P101: =P100+0.01 -> 0.84 | Q101: =COUNTIFS($G$18:$G$188,"1",$J$18:$J$188,">+"&$P101)/CFT -> 0 | R101: =COUNTIFS($G$18:$G$188,"0",$J$18:$J$188,">+"&$P101)/CONTT -> 0 | S101: =(Q101+Q102)/2 -> 0 | T101: =-(R102-R101) -> 0
D102: =D101+1 -> 85 | E102: 3 | F102: CFNR | G102: =IF(F102="CF",1,0) -> 0 | H102: ='Data 1'!J94 -> 1 | I102: =IF(AND(G102=1,H102=1),1,0) -> 0 | J102: =IF(H102=0,pcf_0,IF(H102=1,pcf_1,pcf_2)) -> 0.14966254 | K102: =IF(G102=1,J102,1-J102) -> 0.85033746 | L102: =LN(K102) -> -0.162122 | M102: =IF(AND(G102=1,J102>=p_thresh),1,0) -> 0 | N102: =IF(AND(G102=0,J102<p_thresh),1,0) -> 1 | P102: =P101+0.01 -> 0.85 | Q102: =COUNTIFS($G$18:$G$188,"1",$J$18:$J$188,">+"&$P102)/CFT -> 0 | R102: =COUNTIFS($G$18:$G$188,"0",$J$18:$J$188,">+"&$P102)/CONTT -> 0 | S102: =(Q102+Q103)/2 -> 0 | T102: =-(R103-R102) -> 0
D103: =D102+1 -> 86 | E103: 6 | F103: CFNR | G103: =IF(F103="CF",1,0) -> 0 | H103: ='Data 1'!J95 -> 1 | I103: =IF(AND(G103=1,H103=1),1,0) -> 0 | J103: =IF(H103=0,pcf_0,IF(H103=1,pcf_1,pcf_2)) -> 0.14966254 | K103: =IF(G103=1,J103,1-J103) -> 0.85033746 | L103: =LN(K103) -> -0.162122 | M103: =IF(AND(G103=1,J103>=p_thresh),1,0) -> 0 | N103: =IF(AND(G103=0,J103<p_thresh),1,0) -> 1 | P103: =P102+0.01 -> 0.86 | Q103: =COUNTIFS($G$18:$G$188,"1",$J$18:$J$188,">+"&$P103)/CFT -> 0 | R103: =COUNTIFS($G$18:$G$188,"0",$J$18:$J$188,">+"&$P103)/CONTT -> 0 | S103: =(Q103+Q104)/2 -> 0 | T103: =-(R104-R103) -> 0
D104: =D103+1 -> 87 | E104: 8 | F104: CFNR | G104: =IF(F104="CF",1,0) -> 0 | H104: ='Data 1'!J96 -> 0 | I104: =IF(AND(G104=1,H104=1),1,0) -> 0 | J104: =IF(H104=0,pcf_0,IF(H104=1,pcf_1,pcf_2)) -> 0.1425394 | K104: =IF(G104=1,J104,1-J104) -> 0.8574606 | L104: =LN(K104) -> -0.15378005 | M104: =IF(AND(G104=1,J104>=p_thresh),1,0) -> 0 | N104: =IF(AND(G104=0,J104<p_thresh),1,0) -> 1 | P104: =P103+0.01 -> 0.87 | Q104: =COUNTIFS($G$18:$G$188,"1",$J$18:$J$188,">+"&$P104)/CFT -> 0 | R104: =COUNTIFS($G$18:$G$188,"0",$J$18:$J$188,">+"&$P104)/CONTT -> 0 | S104: =(Q104+Q105)/2 -> 0 | T104: =-(R105-R104) -> 0
D105: =D104+1 -> 88 | E105: 10 | F105: CFNR | G105: =IF(F105="CF",1,0) -> 0 | H105: ='Data 1'!J97 -> 1 | I105: =IF(AND(G105=1,H105=1),1,0) -> 0 | J105: =IF(H105=0,pcf_0,IF(H105=1,pcf_1,pcf_2)) -> 0.14966254 | K105: =IF(G105=1,J105,1-J105) -> 0.85033746 | L105: =LN(K105) -> -0.162122 | M105: =IF(AND(G105=1,J105>=p_thresh),1,0) -> 0 | N105: =IF(AND(G105=0,J105<p_thresh),1,0) -> 1 | P105: =P104+0.01 -> 0.88 | Q105: =COUNTIFS($G$18:$G$188,"1",$J$18:$J$188,">+"&$P105)/CFT -> 0 | R105: =COUNTIFS($G$18:$G$188,"0",$J$18:$J$188,">+"&$P105)/CONTT -> 0 | S105: =(Q105+Q106)/2 -> 0 | T105: =-(R106-R105) -> 0
D106: =D105+1 -> 89 | E106: 11 | F106: CF | G106: =IF(F106="CF",1,0) -> 1 | H106: ='Data 1'!J98 -> 1 | I106: =IF(AND(G106=1,H106=1),1,0) -> 1 | J106: =IF(H106=0,pcf_0,IF(H106=1,pcf_1,pcf_2)) -> 0.14966254 | K106: =IF(G106=1,J106,1-J106) -> 0.14966254 | L106: =LN(K106) -> -1.8993722 | M106: =IF(AND(G106=1,J106>=p_thresh),1,0) -> 0 | N106: =IF(AND(G106=0,J106<p_thresh),1,0) -> 0 | P106: =P105+0.01 -> 0.89 | Q106: =COUNTIFS($G$18:$G$188,"1",$J$18:$J$188,">+"&$P106)/CFT -> 0 | R106: =COUNTIFS($G$18:$G$188,"0",$J$18:$J$188,">+"&$P106)/CONTT -> 0 | S106: =(Q106+Q107)/2 -> 0 | T106: =-(R107-R106) -> 0
D107: =D106+1 -> 90 | E107: 13 | F107: CFNR | G107: =IF(F107="CF",1,0) -> 0 | H107: ='Data 1'!J99 -> 1 | I107: =IF(AND(G107=1,H107=1),1,0) -> 0 | J107: =IF(H107=0,pcf_0,IF(H107=1,pcf_1,pcf_2)) -> 0.14966254 | K107: =IF(G107=1,J107,1-J107) -> 0.85033746 | L107: =LN(K107) -> -0.162122 | M107: =IF(AND(G107=1,J107>=p_thresh),1,0) -> 0 | N107: =IF(AND(G107=0,J107<p_thresh),1,0) -> 1 | P107: =P106+0.01 -> 0.9 | Q107: =COUNTIFS($G$18:$G$188,"1",$J$18:$J$188,">+"&$P107)/CFT -> 0 | R107: =COUNTIFS($G$18:$G$188,"0",$J$18:$J$188,">+"&$P107)/CONTT -> 0 | S107: =(Q107+Q108)/2 -> 0 | T107: =-(R108-R107) -> 0
D108: =D107+1 -> 91 | E108: 19 | F108: CFNR | G108: =IF(F108="CF",1,0) -> 0 | H108: ='Data 1'!J100 -> 0 | I108: =IF(AND(G108=1,H108=1),1,0) -> 0 | J108: =IF(H108=0,pcf_0,IF(H108=1,pcf_1,pcf_2)) -> 0.1425394 | K108: =IF(G108=1,J108,1-J108) -> 0.8574606 | L108: =LN(K108) -> -0.15378005 | M108: =IF(AND(G108=1,J108>=p_thresh),1,0) -> 0 | N108: =IF(AND(G108=0,J108<p_thresh),1,0) -> 1 | P108: =P107+0.01 -> 0.91 | Q108: =COUNTIFS($G$18:$G$188,"1",$J$18:$J$188,">+"&$P108)/CFT -> 0 | R108: =COUNTIFS($G$18:$G$188,"0",$J$18:$J$188,">+"&$P108)/CONTT -> 0 | S108: =(Q108+Q109)/2 -> 0 | T108: =-(R109-R108) -> 0
D109: =D108+1 -> 92 | E109: 20 | F109: CFNR | G109: =IF(F109="CF",1,0) -> 0 | H109: ='Data 1'!J101 -> 0 | I109: =IF(AND(G109=1,H109=1),1,0) -> 0 | J109: =IF(H109=0,pcf_0,IF(H109=1,pcf_1,pcf_2)) -> 0.1425394 | K109: =IF(G109=1,J109,1-J109) -> 0.8574606 | L109: =LN(K109) -> -0.15378005 | M109: =IF(AND(G109=1,J109>=p_thresh),1,0) -> 0 | N109: =IF(AND(G109=0,J109<p_thresh),1,0) -> 1 | P109: =P108+0.01 -> 0.92 | Q109: =COUNTIFS($G$18:$G$188,"1",$J$18:$J$188,">+"&$P109)/CFT -> 0 | R109: =COUNTIFS($G$18:$G$188,"0",$J$18:$J$188,">+"&$P109)/CONTT -> 0 | S109: =(Q109+Q110)/2 -> 0 | T109: =-(R110-R109) -> 0
D110: =D109+1 -> 93 | E110: 21 | F110: CF | G110: =IF(F110="CF",1,0) -> 1 | H110: ='Data 1'!J102 -> 1 | I110: =IF(AND(G110=1,H110=1),1,0) -> 1 | J110: =IF(H110=0,pcf_0,IF(H110=1,pcf_1,pcf_2)) -> 0.14966254 | K110: =IF(G110=1,J110,1-J110) -> 0.14966254 | L110: =LN(K110) -> -1.8993722 | M110: =IF(AND(G110=1,J110>=p_thresh),1,0) -> 0 | N110: =IF(AND(G110=0,J110<p_thresh),1,0) -> 0 | P110: =P109+0.01 -> 0.93 | Q110: =COUNTIFS($G$18:$G$188,"1",$J$18:$J$188,">+"&$P110)/CFT -> 0 | R110: =COUNTIFS($G$18:$G$188,"0",$J$18:$J$188,">+"&$P110)/CONTT -> 0 | S110: =(Q110+Q111)/2 -> 0 | T110: =-(R111-R110) -> 0
D111: =D110+1 -> 94 | E111: 23 | F111: CF | G111: =IF(F111="CF",1,0) -> 1 | H111: ='Data 1'!J103 -> 1 | I111: =IF(AND(G111=1,H111=1),1,0) -> 1 | J111: =IF(H111=0,pcf_0,IF(H111=1,pcf_1,pcf_2)) -> 0.14966254 | K111: =IF(G111=1,J111,1-J111) -> 0.14966254 | L111: =LN(K111) -> -1.8993722 | M111: =IF(AND(G111=1,J111>=p_thresh),1,0) -> 0 | N111: =IF(AND(G111=0,J111<p_thresh),1,0) -> 0 | P111: =P110+0.01 -> 0.94 | Q111: =COUNTIFS($G$18:$G$188,"1",$J$18:$J$188,">+"&$P111)/CFT -> 0 | R111: =COUNTIFS($G$18:$G$188,"0",$J$18:$J$188,">+"&$P111)/CONTT -> 0 | S111: =(Q111+Q112)/2 -> 0 | T111: =-(R112-R111) -> 0
D112: =D111+1 -> 95 | E112: 28 | F112: CONT | G112: =IF(F112="CF",1,0) -> 0 | H112: ='Data 1'!J104 -> 1 | I112: =IF(AND(G112=1,H112=1),1,0) -> 0 | J112: =IF(H112=0,pcf_0,IF(H112=1,pcf_1,pcf_2)) -> 0.14966254 | K112: =IF(G112=1,J112,1-J112) -> 0.85033746 | L112: =LN(K112) -> -0.162122 | M112: =IF(AND(G112=1,J112>=p_thresh),1,0) -> 0 | N112: =IF(AND(G112=0,J112<p_thresh),1,0) -> 1 | P112: =P111+0.01 -> 0.95 | Q112: =COUNTIFS($G$18:$G$188,"1",$J$18:$J$188,">+"&$P112)/CFT -> 0 | R112: =COUNTIFS($G$18:$G$188,"0",$J$18:$J$188,">+"&$P112)/CONTT -> 0 | S112: =(Q112+Q113)/2 -> 0 | T112: =-(R113-R112) -> 0
D113: =D112+1 -> 96 | E113: 31 | F113: CONT | G113: =IF(F113="CF",1,0) -> 0 | H113: ='Data 1'!J105 -> 1 | I113: =IF(AND(G113=1,H113=1),1,0) -> 0 | J113: =IF(H113=0,pcf_0,IF(H113=1,pcf_1,pcf_2)) -> 0.14966254 | K113: =IF(G113=1,J113,1-J113) -> 0.85033746 | L113: =LN(K113) -> -0.162122 | M113: =IF(AND(G113=1,J113>=p_thresh),1,0) -> 0 | N113: =IF(AND(G113=0,J113<p_thresh),1,0) -> 1 | P113: =P112+0.01 -> 0.96 | Q113: =COUNTIFS($G$18:$G$188,"1",$J$18:$J$188,">+"&$P113)/CFT -> 0 | R113: =COUNTIFS($G$18:$G$188,"0",$J$18:$J$188,">+"&$P113)/CONTT -> 0 | S113: =(Q113+Q114)/2 -> 0 | T113: =-(R114-R113) -> 0
... D117: =D116+1 -> 100 | E117: 49 | F117: CONT | G117: =IF(F117="CF",1,0) -> 0 | H117: ='Data 1'!J109 -> 0 | I117: =IF(AND(G117=1,H117=1),1,0) -> 0 | J117: =IF(H117=0,pcf_0,IF(H117=1,pcf_1,pcf_2)) -> 0.1425394 | K117: =IF(G117=1,J117,1-J117) -> 0.8574606 | L117: =LN(K117) -> -0.15378005 | M117: =IF(AND(G117=1,J117>=p_thresh),1,0) -> 0 | N117: =IF(AND(G117=0,J117<p_thresh),1,0) -> 1 | P117: =P116+0.01 -> 1 | Q117: =COUNTIFS($G$18:$G$188,"1",$J$18:$J$188,">+"&$P117)/CFT -> 0 | R117: =COUNTIFS($G$18:$G$188,"0",$J$18:$J$188,">+"&$P117)/CONTT -> 0 | S117: =(Q117+Q118)/2 -> 0 | T117: =-(R118-R117) -> 0
D118: =D117+1 -> 101 | E118: 62 | F118: CF | G118: =IF(F118="CF",1,0) -> 1 | H118: ='Data 1'!J110 -> 1 | I118: =IF(AND(G118=1,H118=1),1,0) -> 1 | J118: =IF(H118=0,pcf_0,IF(H118=1,pcf_1,pcf_2)) -> 0.14966254 | K118: =IF(G118=1,J118,1-J118) -> 0.14966254 | L118: =LN(K118) -> -1.8993722 | M118: =IF(AND(G118=1,J118>=p_thresh),1,0) -> 0 | N118: =IF(AND(G118=0,J118<p_thresh),1,0) -> 0
D119: =D118+1 -> 102 | E119: 63 | F119: CFNR | G119: =IF(F119="CF",1,0) -> 0 | H119: ='Data 1'!J111 -> 0 | I119: =IF(AND(G119=1,H119=1),1,0) -> 0 | J119: =IF(H119=0,pcf_0,IF(H119=1,pcf_1,pcf_2)) -> 0.1425394 | K119: =IF(G119=1,J119,1-J119) -> 0.8574606 | L119: =LN(K119) -> -0.15378005 | M119: =IF(AND(G119=1,J119>=p_thresh),1,0) -> 0 | N119: =IF(AND(G119=0,J119<p_thresh),1,0) -> 1
D120: =D119+1 -> 103 | E120: 71 | F120: CONT | G120: =IF(F120="CF",1,0) -> 0 | H120: ='Data 1'!J112 -> 1 | I120: =IF(AND(G120=1,H120=1),1,0) -> 0 | J120: =IF(H120=0,pcf_0,IF(H120=1,pcf_1,pcf_2)) -> 0.14966254 | K120: =IF(G120=1,J120,1-J120) -> 0.85033746 | L120: =LN(K120) -> -0.162122 | M120: =IF(AND(G120=1,J120>=p_thresh),1,0) -> 0 | N120: =IF(AND(G120=0,J120<p_thresh),1,0) -> 1
D121: =D120+1 -> 104 | E121: 72 | F121: CONT | G121: =IF(F121="CF",1,0) -> 0 | H121: ='Data 1'!J113 -> 0 | I121: =IF(AND(G121=1,H121=1),1,0) -> 0 | J121: =IF(H121=0,pcf_0,IF(H121=1,pcf_1,pcf_2)) -> 0.1425394 | K121: =IF(G121=1,J121,1-J121) -> 0.8574606 | L121: =LN(K121) -> -0.15378005 | M121: =IF(AND(G121=1,J121>=p_thresh),1,0) -> 0 | N121: =IF(AND(G121=0,J121<p_thresh),1,0) -> 1
D122: =D121+1 -> 105 | E122: 74 | F122: CONT | G122: =IF(F122="CF",1,0) -> 0 | H122: ='Data 1'!J114 -> 1 | I122: =IF(AND(G122=1,H122=1),1,0) -> 0 | J122: =IF(H122=0,pcf_0,IF(H122=1,pcf_1,pcf_2)) -> 0.14966254 | K122: =IF(G122=1,J122,1-J122) -> 0.85033746 | L122: =LN(K122) -> -0.162122 | M122: =IF(AND(G122=1,J122>=p_thresh),1,0) -> 0 | N122: =IF(AND(G122=0,J122<p_thresh),1,0) -> 1
D123: =D122+1 -> 106 | E123: 77 | F123: CONT | G123: =IF(F123="CF",1,0) -> 0 | H123: ='Data 1'!J115 -> 1 | I123: =IF(AND(G123=1,H123=1),1,0) -> 0 | J123: =IF(H123=0,pcf_0,IF(H123=1,pcf_1,pcf_2)) -> 0.14966254 | K123: =IF(G123=1,J123,1-J123) -> 0.85033746 | L123: =LN(K123) -> -0.162122 | M123: =IF(AND(G123=1,J123>=p_thresh),1,0) -> 0 | N123: =IF(AND(G123=0,J123<p_thresh),1,0) -> 1
D124: =D123+1 -> 107 | E124: 78 | F124: CONT | G124: =IF(F124="CF",1,0) -> 0 | H124: ='Data 1'!J116 -> 1 | I124: =IF(AND(G124=1,H124=1),1,0) -> 0 | J124: =IF(H124=0,pcf_0,IF(H124=1,pcf_1,pcf_2)) -> 0.14966254 | K124: =IF(G124=1,J124,1-J124) -> 0.85033746 | L124: =LN(K124) -> -0.162122 | M124: =IF(AND(G124=1,J124>=p_thresh),1,0) -> 0 | N124: =IF(AND(G124=0,J124<p_thresh),1,0) -> 1
D125: =D124+1 -> 108 | E125: 91 | F125: CONT | G125: =IF(F125="CF",1,0) -> 0 | H125: ='Data 1'!J117 -> 0 | I125: =IF(AND(G125=1,H125=1),1,0) -> 0 | J125: =IF(H125=0,pcf_0,IF(H125=1,pcf_1,pcf_2)) -> 0.1425394 | K125: =IF(G125=1,J125,1-J125) -> 0.8574606 | L125: =LN(K125) -> -0.15378005 | M125: =IF(AND(G125=1,J125>=p_thresh),1,0) -> 0 | N125: =IF(AND(G125=0,J125<p_thresh),1,0) -> 1
D126: =D125+1 -> 109 | E126: 109 | F126: CFNR | G126: =IF(F126="CF",1,0) -> 0 | H126: ='Data 1'!J118 -> 1 | I126: =IF(AND(G126=1,H126=1),1,0) -> 0 | J126: =IF(H126=0,pcf_0,IF(H126=1,pcf_1,pcf_2)) -> 0.14966254 | K126: =IF(G126=1,J126,1-J126) -> 0.85033746 | L126: =LN(K126) -> -0.162122 | M126: =IF(AND(G126=1,J126>=p_thresh),1,0) -> 0 | N126: =IF(AND(G126=0,J126<p_thresh),1,0) -> 1
D127: =D126+1 -> 110 | E127: 113 | F127: CONT | G127: =IF(F127="CF",1,0) -> 0 | H127: ='Data 1'!J119 -> 0 | I127: =IF(AND(G127=1,H127=1),1,0) -> 0 | J127: =IF(H127=0,pcf_0,IF(H127=1,pcf_1,pcf_2)) -> 0.1425394 | K127: =IF(G127=1,J127,1-J127) -> 0.8574606 | L127: =LN(K127) -> -0.15378005 | M127: =IF(AND(G127=1,J127>=p_thresh),1,0) -> 0 | N127: =IF(AND(G127=0,J127<p_thresh),1,0) -> 1
D128: =D127+1 -> 111 | E128: 115 | F128: CFNR | G128: =IF(F128="CF",1,0) -> 0 | H128: ='Data 1'!J120 -> 1 | I128: =IF(AND(G128=1,H128=1),1,0) -> 0 | J128: =IF(H128=0,pcf_0,IF(H128=1,pcf_1,pcf_2)) -> 0.14966254 | K128: =IF(G128=1,J128,1-J128) -> 0.85033746 | L128: =LN(K128) -> -0.162122 | M128: =IF(AND(G128=1,J128>=p_thresh),1,0) -> 0 | N128: =IF(AND(G128=0,J128<p_thresh),1,0) -> 1
D129: =D128+1 -> 112 | E129: 116 | F129: CONT | G129: =IF(F129="CF",1,0) -> 0 | H129: ='Data 1'!J121 -> 1 | I129: =IF(AND(G129=1,H129=1),1,0) -> 0 | J129: =IF(H129=0,pcf_0,IF(H129=1,pcf_1,pcf_2)) -> 0.14966254 | K129: =IF(G129=1,J129,1-J129) -> 0.85033746 | L129: =LN(K129) -> -0.162122 | M129: =IF(AND(G129=1,J129>=p_thresh),1,0) -> 0 | N129: =IF(AND(G129=0,J129<p_thresh),1,0) -> 1
... D188: =D187+1 -> 171 | E188: 253 | F188: CONT | G188: =IF(F188="CF",1,0) -> 0 | H188: ='Data 1'!J180 -> 0 | I188: =IF(AND(G188=1,H188=1),1,0) -> 0 | J188: =IF(H188=0,pcf_0,IF(H188=1,pcf_1,pcf_2)) -> 0.1425394 | K188: =IF(G188=1,J188,1-J188) -> 0.8574606 | L188: =LN(K188) -> -0.15378005 | M188: =IF(AND(G188=1,J188>=p_thresh),1,0) -> 0 | N188: =IF(AND(G188=0,J188<p_thresh),1,0) -> 1
F191: 173 | G191: =SUMIF($F18:$F188,"CF",G18:G188) -> 25 | H191: =COUNTIF(H18:H188,"1") -> 98 | I191: =SUM(I18:I188) -> 15 | L191: =SUM(L18:L188) -> -71.116221 | M191: =SUM(M18:M188) -> 0 | N191: =SUM(N18:N188) -> 146
G192: =CFT/TP -> 0.14450867 | I192: =I191/CFT -> 0.6
G193: =TP-CFT -> 148 | I193: =EPIT-I191 -> 83
G194: =CONTT/TP -> 0.85549133 | I194: =I193/CONTT -> 0.56081081

Sheet (A1,A2)
E2: (A1,A2) | F2: Log-Odds Ratio | G2: P[CF=1|(A1,A2)] | I2: Numerical Optimization | L2: CF Threshold Probability | M2: 0.2
E3: (0,0) | F3: =a_0+a_1*0+a_2*0 -> -2.1226163 | G3: =EXP(F3)/(1+EXP(F3)) -> 0.10691799 | I3: coefficient 1 (A1) | J3: 2.8157587
E4: (0,1) | F4: =a_0+a_1*0+a_2*1 -> -2.1226163 | G4: =EXP(F4)/(1+EXP(F4)) -> 0.10691799 | I4: coefficient 2 (A2) | J4: 0
E5: (1,0) | F5: =a_0+a_1*1+a_2*0 -> 0.69314243 | G5: =EXP(F5)/(1+EXP(F5)) -> 0.66666561 | I5: intercept | J5: -2.1226163 | L5: sensitivity | M5: specificity | Q5: AUC
E6: (1,1) | F6: =a_0+a_1*1+a_2*1 -> 0.69314243 | G6: =EXP(F6)/(1+EXP(F6)) -> 0.66666561 | I6: obj. fcn. | J6: =NCN -> -61.701869 | L6: =sens -> 0.32 | M6: =spec -> 0.95945946 | Q6: =SUMPRODUCT(S15:S111,T15:T111) -> 0.63756757
E7: (2,0) | G7: =p_0_0*(1-f_20)+p_1_0*f_20 -> 0.1499755
E8: (2,1) | G8: =p_0_1*(1-f_21)+p_1_1*f_21 -> 0.14454808 | I8: Maximum likelihood methods are applied to Dataset 1 to estimate the parameter values for the bivariate LR model with A1 and A2 as the predictors
E9: (0,2) | G9: =p_0_0*(1-f_10)+p_0_1*f_10 -> 0.10691799
E10: (1,2) | G10: =p_1_0*(1-f_11)+p_1_1*f_11 -> 0.66666561 | Q10: =CFT_1 -> 25 | R10: =NCFT -> 148
E11: (2,2) | G11: =q_00*p_0_0+q_01*p_0_1+q_10*p_1_0+q_11*p_1_1 -> 0.14619853
D14: Index | E14: Subject | F14: Category | G14: CF State | H14: A1 State | I14: A2 State | J14: Logistic Regression Estimate of P[CF=1|(A1,A2)] | K14: Estimate for Probability of Actual CF State | L14: Logarithm of Estimate for Probability of Actual CF State | M14: True Positives | N14: True Negatives | P14: CF Threshold Probability | Q14: True Positive Rate | R14: False Positive Rate | S14: y | T14: delx
D15: 1 | E15: 1 | F15: CF | G15: 1 | H15: ='A1'!H18 -> 1 | I15: ='A2'!H18 -> 1 | J15: =IF(H15=0,IF(I15=0,p_0_0,IF(I15=1,p_0_1,p_0_2)),IF(H15=1,IF(I15=0,p_1_0,IF(I15=1,p_1_1,p_1_2)),IF(I15=0,p_2_0,IF(I15=1,p_2_1,p_2_2)))) -> 0.66666561 | K15: =IF(G15=1,J15,1-J15) -> 0.66666561 | L15: =LN(K15) -> -0.40546669 | M15: =IF(AND(G15=1,K15>=thresh),1,0) -> 1 | N15: =+IF(AND(G15=0,J15<thresh),1,0) -> 0 | P15: 0.01 | Q15: =COUNTIFS($G$15:$G$185,"1",$J$15:$J$185,">="&$P15)/CFT_1 -> 1 | R15: =COUNTIFS($G$15:$G$185,"0",$J$15:$J$185,">="&$P15)/NCFT -> 0.98648649 | S15: =(Q15+Q16)/2 -> 1 | T15: =-(R16-R15) -> 0
D16: =D15+1 -> 2 | E16: 2 | F16: CF | G16: 1 | H16: ='A1'!H19 -> 0 | I16: ='A2'!H19 -> 1 | J16: =IF(H16=0,IF(I16=0,p_0_0,IF(I16=1,p_0_1,p_0_2)),IF(H16=1,IF(I16=0,p_1_0,IF(I16=1,p_1_1,p_1_2)),IF(I16=0,p_2_0,IF(I16=1,p_2_1,p_2_2)))) -> 0.10691799 | K16: =IF(G16=1,J16,1-J16) -> 0.10691799 | L16: =LN(K16) -> -2.2356932 | M16: =IF(AND(G16=1,K16>=thresh),1,0) -> 0 | N16: =+IF(AND(G16=0,J16<thresh),1,0) -> 0 | P16: =P15+0.01 -> 0.02 | Q16: =COUNTIFS($G$15:$G$185,"1",$J$15:$J$185,">="&$P16)/CFT_1 -> 1 | R16: =COUNTIFS($G$15:$G$185,"0",$J$15:$J$185,">="&$P16)/NCFT -> 0.98648649 | S16: =(Q16+Q17)/2 -> 1 | T16: =-(R17-R16) -> 0
D17: =D16+1 -> 3 | E17: 4 | F17: CFNR | G17: 0 | H17: ='A1'!H20 -> 0 | I17: ='A2'!H20 -> 1 | J17: =IF(H17=0,IF(I17=0,p_0_0,IF(I17=1,p_0_1,p_0_2)),IF(H17=1,IF(I17=0,p_1_0,IF(I17=1,p_1_1,p_1_2)),IF(I17=0,p_2_0,IF(I17=1,p_2_1,p_2_2)))) -> 0.10691799 | K17: =IF(G17=1,J17,1-J17) -> 0.89308201 | L17: =LN(K17) -> -0.11307687 | M17: =IF(AND(G17=1,K17>=thresh),1,0) -> 0 | N17: =+IF(AND(G17=0,J17<thresh),1,0) -> 1 | P17: =P16+0.01 -> 0.03 | Q17: =COUNTIFS($G$15:$G$185,"1",$J$15:$J$185,">="&$P17)/CFT_1 -> 1 | R17: =COUNTIFS($G$15:$G$185,"0",$J$15:$J$185,">="&$P17)/NCFT -> 0.98648649 | S17: =(Q17+Q18)/2 -> 1 | T17: =-(R18-R17) -> 0
D18: =D17+1 -> 4 | E18: 5 | F18: CFNR | G18: 0 | H18: ='A1'!H21 -> 0 | I18: ='A2'!H21 -> 1 | J18: =IF(H18=0,IF(I18=0,p_0_0,IF(I18=1,p_0_1,p_0_2)),IF(H18=1,IF(I18=0,p_1_0,IF(I18=1,p_1_1,p_1_2)),IF(I18=0,p_2_0,IF(I18=1,p_2_1,p_2_2)))) -> 0.10691799 | K18: =IF(G18=1,J18,1-J18) -> 0.89308201 | L18: =LN(K18) -> -0.11307687 | M18: =IF(AND(G18=1,K18>=thresh),1,0) -> 0 | N18: =+IF(AND(G18=0,J18<thresh),1,0) -> 1 | P18: =P17+0.01 -> 0.04 | Q18: =COUNTIFS($G$15:$G$185,"1",$J$15:$J$185,">="&$P18)/CFT_1 -> 1 | R18: =COUNTIFS($G$15:$G$185,"0",$J$15:$J$185,">="&$P18)/NCFT -> 0.98648649 | S18: =(Q18+Q19)/2 -> 1 | T18: =-(R19-R18) -> 0
D19: =D18+1 -> 5 | E19: 9 | F19: CFNR | G19: 0 | H19: ='A1'!H22 -> 0 | I19: ='A2'!H22 -> 1 | J19: =IF(H19=0,IF(I19=0,p_0_0,IF(I19=1,p_0_1,p_0_2)),IF(H19=1,IF(I19=0,p_1_0,IF(I19=1,p_1_1,p_1_2)),IF(I19=0,p_2_0,IF(I19=1,p_2_1,p_2_2)))) -> 0.10691799 | K19: =IF(G19=1,J19,1-J19) -> 0.89308201 | L19: =LN(K19) -> -0.11307687 | M19: =IF(AND(G19=1,K19>=thresh),1,0) -> 0 | N19: =+IF(AND(G19=0,J19<thresh),1,0) -> 1 | P19: =P18+0.01 -> 0.05 | Q19: =COUNTIFS($G$15:$G$185,"1",$J$15:$J$185,">="&$P19)/CFT_1 -> 1 | R19: =COUNTIFS($G$15:$G$185,"0",$J$15:$J$185,">="&$P19)/NCFT -> 0.98648649 | S19: =(Q19+Q20)/2 -> 1 | T19: =-(R20-R19) -> 0
D20: =D19+1 -> 6 | E20: 12 | F20: CF | G20: 1 | H20: ='A1'!H23 -> 0 | I20: ='A2'!H23 -> 1 | J20: =IF(H20=0,IF(I20=0,p_0_0,IF(I20=1,p_0_1,p_0_2)),IF(H20=1,IF(I20=0,p_1_0,IF(I20=1,p_1_1,p_1_2)),IF(I20=0,p_2_0,IF(I20=1,p_2_1,p_2_2)))) -> 0.10691799 | K20: =IF(G20=1,J20,1-J20) -> 0.10691799 | L20: =LN(K20) -> -2.2356932 | M20: =IF(AND(G20=1,K20>=thresh),1,0) -> 0 | N20: =+IF(AND(G20=0,J20<thresh),1,0) -> 0 | P20: =P19+0.01 -> 0.06 | Q20: =COUNTIFS($G$15:$G$185,"1",$J$15:$J$185,">="&$P20)/CFT_1 -> 1 | R20: =COUNTIFS($G$15:$G$185,"0",$J$15:$J$185,">="&$P20)/NCFT -> 0.98648649 | S20: =(Q20+Q21)/2 -> 1 | T20: =-(R21-R20) -> 0
D21: =D20+1 -> 7 | E21: 14 | F21: CFNR | G21: 0 | H21: ='A1'!H24 -> 0 | I21: ='A2'!H24 -> 1 | J21: =IF(H21=0,IF(I21=0,p_0_0,IF(I21=1,p_0_1,p_0_2)),IF(H21=1,IF(I21=0,p_1_0,IF(I21=1,p_1_1,p_1_2)),IF(I21=0,p_2_0,IF(I21=1,p_2_1,p_2_2)))) -> 0.10691799 | K21: =IF(G21=1,J21,1-J21) -> 0.89308201 | L21: =LN(K21) -> -0.11307687 | M21: =IF(AND(G21=1,K21>=thresh),1,0) -> 0 | N21: =+IF(AND(G21=0,J21<thresh),1,0) -> 1 | P21: =P20+0.01 -> 0.07 | Q21: =COUNTIFS($G$15:$G$185,"1",$J$15:$J$185,">="&$P21)/CFT_1 -> 1 | R21: =COUNTIFS($G$15:$G$185,"0",$J$15:$J$185,">="&$P21)/NCFT -> 0.98648649 | S21: =(Q21+Q22)/2 -> 1 | T21: =-(R22-R21) -> 0
D22: =D21+1 -> 8 | E22: 15 | F22: CFNR | G22: 0 | H22: ='A1'!H25 -> 0 | I22: ='A2'!H25 -> 1 | J22: =IF(H22=0,IF(I22=0,p_0_0,IF(I22=1,p_0_1,p_0_2)),IF(H22=1,IF(I22=0,p_1_0,IF(I22=1,p_1_1,p_1_2)),IF(I22=0,p_2_0,IF(I22=1,p_2_1,p_2_2)))) -> 0.10691799 | K22: =IF(G22=1,J22,1-J22) -> 0.89308201 | L22: =LN(K22) -> -0.11307687 | M22: =IF(AND(G22=1,K22>=thresh),1,0) -> 0 | N22: =+IF(AND(G22=0,J22<thresh),1,0) -> 1 | P22: =P21+0.01 -> 0.08 | Q22: =COUNTIFS($G$15:$G$185,"1",$J$15:$J$185,">="&$P22)/CFT_1 -> 1 | R22: =COUNTIFS($G$15:$G$185,"0",$J$15:$J$185,">="&$P22)/NCFT -> 0.98648649 | S22: =(Q22+Q23)/2 -> 1 | T22: =-(R23-R22) -> 0
D23: =D22+1 -> 9 | E23: 16 | F23: CFNR | G23: 0 | H23: ='A1'!H26 -> 0 | I23: ='A2'!H26 -> 1 | J23: =IF(H23=0,IF(I23=0,p_0_0,IF(I23=1,p_0_1,p_0_2)),IF(H23=1,IF(I23=0,p_1_0,IF(I23=1,p_1_1,p_1_2)),IF(I23=0,p_2_0,IF(I23=1,p_2_1,p_2_2)))) -> 0.10691799 | K23: =IF(G23=1,J23,1-J23) -> 0.89308201 | L23: =LN(K23) -> -0.11307687 | M23: =IF(AND(G23=1,K23>=thresh),1,0) -> 0 | N23: =+IF(AND(G23=0,J23<thresh),1,0) -> 1 | P23: =P22+0.01 -> 0.09 | Q23: =COUNTIFS($G$15:$G$185,"1",$J$15:$J$185,">="&$P23)/CFT_1 -> 1 | R23: =COUNTIFS($G$15:$G$185,"0",$J$15:$J$185,">="&$P23)/NCFT -> 0.98648649 | S23: =(Q23+Q24)/2 -> 1 | T23: =-(R24-R23) -> 0
D24: =D23+1 -> 10 | E24: 17 | F24: CF | G24: 1 | H24: ='A1'!H27 -> 1 | I24: ='A2'!H27 -> 1 | J24: =IF(H24=0,IF(I24=0,p_0_0,IF(I24=1,p_0_1,p_0_2)),IF(H24=1,IF(I24=0,p_1_0,IF(I24=1,p_1_1,p_1_2)),IF(I24=0,p_2_0,IF(I24=1,p_2_1,p_2_2)))) -> 0.66666561 | K24: =IF(G24=1,J24,1-J24) -> 0.66666561 | L24: =LN(K24) -> -0.40546669 | M24: =IF(AND(G24=1,K24>=thresh),1,0) -> 1 | N24: =+IF(AND(G24=0,J24<thresh),1,0) -> 0 | P24: =P23+0.01 -> 0.1 | Q24: =COUNTIFS($G$15:$G$185,"1",$J$15:$J$185,">="&$P24)/CFT_1 -> 1 | R24: =COUNTIFS($G$15:$G$185,"0",$J$15:$J$185,">="&$P24)/NCFT -> 0.98648649 | S24: =(Q24+Q25)/2 -> 0.66 | T24: =-(R25-R24) -> 0.95945946
D25: =D24+1 -> 11 | E25: 24 | F25: CFNR | G25: 0 | H25: ='A1'!H28 -> 0 | I25: ='A2'!H28 -> 1 | J25: =IF(H25=0,IF(I25=0,p_0_0,IF(I25=1,p_0_1,p_0_2)),IF(H25=1,IF(I25=0,p_1_0,IF(I25=1,p_1_1,p_1_2)),IF(I25=0,p_2_0,IF(I25=1,p_2_1,p_2_2)))) -> 0.10691799 | K25: =IF(G25=1,J25,1-J25) -> 0.89308201 | L25: =LN(K25) -> -0.11307687 | M25: =IF(AND(G25=1,K25>=thresh),1,0) -> 0 | N25: =+IF(AND(G25=0,J25<thresh),1,0) -> 1 | P25: =P24+0.01 -> 0.11 | Q25: =COUNTIFS($G$15:$G$185,"1",$J$15:$J$185,">="&$P25)/CFT_1 -> 0.32 | R25: =COUNTIFS($G$15:$G$185,"0",$J$15:$J$185,">="&$P25)/NCFT -> 0.027027027 | S25: =(Q25+Q26)/2 -> 0.32 | T25: =-(R26-R25) -> 0
D26: =D25+1 -> 12 | E26: 25 | F26: CONT | G26: 0 | H26: ='A1'!H29 -> 0 | I26: ='A2'!H29 -> 1 | J26: =IF(H26=0,IF(I26=0,p_0_0,IF(I26=1,p_0_1,p_0_2)),IF(H26=1,IF(I26=0,p_1_0,IF(I26=1,p_1_1,p_1_2)),IF(I26=0,p_2_0,IF(I26=1,p_2_1,p_2_2)))) -> 0.10691799 | K26: =IF(G26=1,J26,1-J26) -> 0.89308201 | L26: =LN(K26) -> -0.11307687 | M26: =IF(AND(G26=1,K26>=thresh),1,0) -> 0 | N26: =+IF(AND(G26=0,J26<thresh),1,0) -> 1 | P26: =P25+0.01 -> 0.12 | Q26: =COUNTIFS($G$15:$G$185,"1",$J$15:$J$185,">="&$P26)/CFT_1 -> 0.32 | R26: =COUNTIFS($G$15:$G$185,"0",$J$15:$J$185,">="&$P26)/NCFT -> 0.027027027 | S26: =(Q26+Q27)/2 -> 0.32 | T26: =-(R27-R26) -> 0
D27: =D26+1 -> 13 | E27: 27 | F27: CONT | G27: 0 | H27: ='A1'!H30 -> 0 | I27: ='A2'!H30 -> 1 | J27: =IF(H27=0,IF(I27=0,p_0_0,IF(I27=1,p_0_1,p_0_2)),IF(H27=1,IF(I27=0,p_1_0,IF(I27=1,p_1_1,p_1_2)),IF(I27=0,p_2_0,IF(I27=1,p_2_1,p_2_2)))) -> 0.10691799 | K27: =IF(G27=1,J27,1-J27) -> 0.89308201 | L27: =LN(K27) -> -0.11307687 | M27: =IF(AND(G27=1,K27>=thresh),1,0) -> 0 | N27: =+IF(AND(G27=0,J27<thresh),1,0) -> 1 | P27: =P26+0.01 -> 0.13 | Q27: =COUNTIFS($G$15:$G$185,"1",$J$15:$J$185,">="&$P27)/CFT_1 -> 0.32 | R27: =COUNTIFS($G$15:$G$185,"0",$J$15:$J$185,">="&$P27)/NCFT -> 0.027027027 | S27: =(Q27+Q28)/2 -> 0.32 | T27: =-(R28-R27) -> 0
... D114: =D113+1 -> 100 | E114: 49 | F114: CONT | G114: 0 | H114: ='A1'!H117 -> 0 | I114: ='A2'!H117 -> 1 | J114: =IF(H114=0,IF(I114=0,p_0_0,IF(I114=1,p_0_1,p_0_2)),IF(H114=1,IF(I114=0,p_1_0,IF(I114=1,p_1_1,p_1_2)),IF(I114=0,p_2_0,IF(I114=1,p_2_1,p_2_2)))) -> 0.10691799 | K114: =IF(G114=1,J114,1-J114) -> 0.89308201 | L114: =LN(K114) -> -0.11307687 | M114: =IF(AND(G114=1,K114>=thresh),1,0) -> 0 | N114: =+IF(AND(G114=0,J114<thresh),1,0) -> 1 | P114: =P113+0.01 -> 1 | Q114: =COUNTIFS($G$15:$G$185,"1",$J$15:$J$185,">="&$P114)/CFT_1 -> 0 | R114: =COUNTIFS($G$15:$G$185,"0",$J$15:$J$185,">="&$P114)/NCFT -> 0 | S114: =(Q114+Q115)/2 -> 0 | T114: =-(R115-R114) -> 0
D115: =D114+1 -> 101 | E115: 62 | F115: CF | G115: 1 | H115: ='A1'!H118 -> 0 | I115: ='A2'!H118 -> 1 | J115: =IF(H115=0,IF(I115=0,p_0_0,IF(I115=1,p_0_1,p_0_2)),IF(H115=1,IF(I115=0,p_1_0,IF(I115=1,p_1_1,p_1_2)),IF(I115=0,p_2_0,IF(I115=1,p_2_1,p_2_2)))) -> 0.10691799 | K115: =IF(G115=1,J115,1-J115) -> 0.10691799 | L115: =LN(K115) -> -2.2356932 | M115: =IF(AND(G115=1,K115>=thresh),1,0) -> 0 | N115: =+IF(AND(G115=0,J115<thresh),1,0) -> 0
D116: =D115+1 -> 102 | E116: 63 | F116: CFNR | G116: 0 | H116: ='A1'!H119 -> 0 | I116: ='A2'!H119 -> 1 | J116: =IF(H116=0,IF(I116=0,p_0_0,IF(I116=1,p_0_1,p_0_2)),IF(H116=1,IF(I116=0,p_1_0,IF(I116=1,p_1_1,p_1_2)),IF(I116=0,p_2_0,IF(I116=1,p_2_1,p_2_2)))) -> 0.10691799 | K116: =IF(G116=1,J116,1-J116) -> 0.89308201 | L116: =LN(K116) -> -0.11307687 | M116: =IF(AND(G116=1,K116>=thresh),1,0) -> 0 | N116: =+IF(AND(G116=0,J116<thresh),1,0) -> 1
D117: =D116+1 -> 103 | E117: 71 | F117: CONT | G117: 0 | H117: ='A1'!H120 -> 0 | I117: ='A2'!H120 -> 1 | J117: =IF(H117=0,IF(I117=0,p_0_0,IF(I117=1,p_0_1,p_0_2)),IF(H117=1,IF(I117=0,p_1_0,IF(I117=1,p_1_1,p_1_2)),IF(I117=0,p_2_0,IF(I117=1,p_2_1,p_2_2)))) -> 0.10691799 | K117: =IF(G117=1,J117,1-J117) -> 0.89308201 | L117: =LN(K117) -> -0.11307687 | M117: =IF(AND(G117=1,K117>=thresh),1,0) -> 0 | N117: =+IF(AND(G117=0,J117<thresh),1,0) -> 1
D118: =D117+1 -> 104 | E118: 72 | F118: CONT | G118: 0 | H118: ='A1'!H121 -> 0 | I118: ='A2'!H121 -> 1 | J118: =IF(H118=0,IF(I118=0,p_0_0,IF(I118=1,p_0_1,p_0_2)),IF(H118=1,IF(I118=0,p_1_0,IF(I118=1,p_1_1,p_1_2)),IF(I118=0,p_2_0,IF(I118=1,p_2_1,p_2_2)))) -> 0.10691799 | K118: =IF(G118=1,J118,1-J118) -> 0.89308201 | L118: =LN(K118) -> -0.11307687 | M118: =IF(AND(G118=1,K118>=thresh),1,0) -> 0 | N118: =+IF(AND(G118=0,J118<thresh),1,0) -> 1
D119: =D118+1 -> 105 | E119: 74 | F119: CONT | G119: 0 | H119: ='A1'!H122 -> 0 | I119: ='A2'!H122 -> 1 | J119: =IF(H119=0,IF(I119=0,p_0_0,IF(I119=1,p_0_1,p_0_2)),IF(H119=1,IF(I119=0,p_1_0,IF(I119=1,p_1_1,p_1_2)),IF(I119=0,p_2_0,IF(I119=1,p_2_1,p_2_2)))) -> 0.10691799 | K119: =IF(G119=1,J119,1-J119) -> 0.89308201 | L119: =LN(K119) -> -0.11307687 | M119: =IF(AND(G119=1,K119>=thresh),1,0) -> 0 | N119: =+IF(AND(G119=0,J119<thresh),1,0) -> 1
D120: =D119+1 -> 106 | E120: 77 | F120: CONT | G120: 0 | H120: ='A1'!H123 -> 0 | I120: ='A2'!H123 -> 1 | J120: =IF(H120=0,IF(I120=0,p_0_0,IF(I120=1,p_0_1,p_0_2)),IF(H120=1,IF(I120=0,p_1_0,IF(I120=1,p_1_1,p_1_2)),IF(I120=0,p_2_0,IF(I120=1,p_2_1,p_2_2)))) -> 0.10691799 | K120: =IF(G120=1,J120,1-J120) -> 0.89308201 | L120: =LN(K120) -> -0.11307687 | M120: =IF(AND(G120=1,K120>=thresh),1,0) -> 0 | N120: =+IF(AND(G120=0,J120<thresh),1,0) -> 1
D121: =D120+1 -> 107 | E121: 78 | F121: CONT | G121: 0 | H121: ='A1'!H124 -> 0 | I121: ='A2'!H124 -> 1 | J121: =IF(H121=0,IF(I121=0,p_0_0,IF(I121=1,p_0_1,p_0_2)),IF(H121=1,IF(I121=0,p_1_0,IF(I121=1,p_1_1,p_1_2)),IF(I121=0,p_2_0,IF(I121=1,p_2_1,p_2_2)))) -> 0.10691799 | K121: =IF(G121=1,J121,1-J121) -> 0.89308201 | L121: =LN(K121) -> -0.11307687 | M121: =IF(AND(G121=1,K121>=thresh),1,0) -> 0 | N121: =+IF(AND(G121=0,J121<thresh),1,0) -> 1
D122: =D121+1 -> 108 | E122: 91 | F122: CONT | G122: 0 | H122: ='A1'!H125 -> 0 | I122: ='A2'!H125 -> 1 | J122: =IF(H122=0,IF(I122=0,p_0_0,IF(I122=1,p_0_1,p_0_2)),IF(H122=1,IF(I122=0,p_1_0,IF(I122=1,p_1_1,p_1_2)),IF(I122=0,p_2_0,IF(I122=1,p_2_1,p_2_2)))) -> 0.10691799 | K122: =IF(G122=1,J122,1-J122) -> 0.89308201 | L122: =LN(K122) -> -0.11307687 | M122: =IF(AND(G122=1,K122>=thresh),1,0) -> 0 | N122: =+IF(AND(G122=0,J122<thresh),1,0) -> 1
D123: =D122+1 -> 109 | E123: 109 | F123: CFNR | G123: 0 | H123: ='A1'!H126 -> 0 | I123: ='A2'!H126 -> 1 | J123: =IF(H123=0,IF(I123=0,p_0_0,IF(I123=1,p_0_1,p_0_2)),IF(H123=1,IF(I123=0,p_1_0,IF(I123=1,p_1_1,p_1_2)),IF(I123=0,p_2_0,IF(I123=1,p_2_1,p_2_2)))) -> 0.10691799 | K123: =IF(G123=1,J123,1-J123) -> 0.89308201 | L123: =LN(K123) -> -0.11307687 | M123: =IF(AND(G123=1,K123>=thresh),1,0) -> 0 | N123: =+IF(AND(G123=0,J123<thresh),1,0) -> 1
D124: =D123+1 -> 110 | E124: 113 | F124: CONT | G124: 0 | H124: ='A1'!H127 -> 0 | I124: ='A2'!H127 -> 0 | J124: =IF(H124=0,IF(I124=0,p_0_0,IF(I124=1,p_0_1,p_0_2)),IF(H124=1,IF(I124=0,p_1_0,IF(I124=1,p_1_1,p_1_2)),IF(I124=0,p_2_0,IF(I124=1,p_2_1,p_2_2)))) -> 0.10691799 | K124: =IF(G124=1,J124,1-J124) -> 0.89308201 | L124: =LN(K124) -> -0.11307687 | M124: =IF(AND(G124=1,K124>=thresh),1,0) -> 0 | N124: =+IF(AND(G124=0,J124<thresh),1,0) -> 1
D125: =D124+1 -> 111 | E125: 115 | F125: CFNR | G125: 0 | H125: ='A1'!H128 -> 0 | I125: ='A2'!H128 -> 0 | J125: =IF(H125=0,IF(I125=0,p_0_0,IF(I125=1,p_0_1,p_0_2)),IF(H125=1,IF(I125=0,p_1_0,IF(I125=1,p_1_1,p_1_2)),IF(I125=0,p_2_0,IF(I125=1,p_2_1,p_2_2)))) -> 0.10691799 | K125: =IF(G125=1,J125,1-J125) -> 0.89308201 | L125: =LN(K125) -> -0.11307687 | M125: =IF(AND(G125=1,K125>=thresh),1,0) -> 0 | N125: =+IF(AND(G125=0,J125<thresh),1,0) -> 1
D126: =D125+1 -> 112 | E126: 116 | F126: CONT | G126: 0 | H126: ='A1'!H129 -> 0 | I126: ='A2'!H129 -> 1 | J126: =IF(H126=0,IF(I126=0,p_0_0,IF(I126=1,p_0_1,p_0_2)),IF(H126=1,IF(I126=0,p_1_0,IF(I126=1,p_1_1,p_1_2)),IF(I126=0,p_2_0,IF(I126=1,p_2_1,p_2_2)))) -> 0.10691799 | K126: =IF(G126=1,J126,1-J126) -> 0.89308201 | L126: =LN(K126) -> -0.11307687 | M126: =IF(AND(G126=1,K126>=thresh),1,0) -> 0 | N126: =+IF(AND(G126=0,J126<thresh),1,0) -> 1
... D185: =D184+1 -> 171 | E185: 253 | F185: CONT | G185: 0 | H185: ='A1'!H188 -> 0 | I185: ='A2'!H188 -> 1 | J185: =IF(H185=0,IF(I185=0,p_0_0,IF(I185=1,p_0_1,p_0_2)),IF(H185=1,IF(I185=0,p_1_0,IF(I185=1,p_1_1,p_1_2)),IF(I185=0,p_2_0,IF(I185=1,p_2_1,p_2_2)))) -> 0.10691799 | K185: =IF(G185=1,J185,1-J185) -> 0.89308201 | L185: =LN(K185) -> -0.11307687 | M185: =IF(AND(G185=1,K185>=thresh),1,0) -> 0 | N185: =+IF(AND(G185=0,J185<thresh),1,0) -> 1
F188: 173 | G188: =SUM(G15:G185) -> 25 | H188: =COUNTIFS(H$15:H$185,"0",I$15:I$185,"1")/COUNTIFS(H$15:H$185,"0") -> 0.69811321 | I188: =COUNTIFS(I$15:I$185,"0",H$15:H$185,"1")/COUNTIFS(I$15:I$185,"0") -> 0.076923077 | L188: =SUM(L15:L185) -> -61.701869 | M188: =SUM(M15:M185) -> 8 | N188: =SUM(N15:N185) -> 142
G189: =TN-CFT_1 -> 148 | H189: =COUNTIFS(H$15:H$185,"1",I$15:I$185,"1")/COUNTIFS(H$15:H$185,"1") -> 0.66666667 | I189: =COUNTIFS(I$15:I$185,"1",H$15:H$185,"1")/COUNTIFS(I$15:I$185,"1") -> 0.067226891 | M189: =npos/CFT_1 -> 0.32 | N189: =nneg/NCFT -> 0.95945946
H190: =COUNTIFS(H$15:H$185,"<>"&2,I$15:I$185,"<>"&2) -> 171
H191: =COUNTIFS(H$15:H$185,"0",I$15:I$185,"0")/norm1 -> 0.28070175 | I191: =COUNTIFS(I$15:I$185,"0",H$15:H$185,"1")/norm1 -> 0.023391813
H192: =COUNTIFS(H$15:H$185,"0",I$15:I$185,"1")/norm1 -> 0.64912281 | I192: =COUNTIFS(I$15:I$185,"1",H$15:H$185,"1")/norm1 -> 0.046783626

Sheet (A1,A3)
E2: (A1,A3) | F2: Log-Odds Ratio | G2: P[CF=1|(A1,A3)] | I2: Numerical Optimization | L2: CF Threshold Probability | M2: 0.14
E3: (0,0) | F3: =a_0+a_1*0+a_2*0 -> -2.4197317 | G3: =EXP(F3)/(1+EXP(F3)) -> 0.08168038 | I3: coefficient 1 (A1) | J3: 2.9594116
E4: (0,1) | F4: =a_0+a_1*0+a_2*1 -> -1.9314476 | G4: =EXP(F4)/(1+EXP(F4)) -> 0.12659044 | I4: coefficient 2 (A3) | J4: 0.48828409
E5: (1,0) | F5: =a_0+a_1*1+a_2*0 -> 0.53967995 | G5: =EXP(F5)/(1+EXP(F5)) -> 0.63173796 | I5: intercept | J5: -2.4197317 | L5: sensitivity | M5: specificity | Q5: AUC
E6: (1,1) | F6: =a_0+a_1*1+a_2*1 -> 1.027964 | G6: =EXP(F6)/(1+EXP(F6)) -> 0.73652099 | I6: obj. fcn. | J6: =NCN -> -61.651509 | L6: =sens -> 0.32 | M6: =spec -> 0.95945946 | Q6: =SUMPRODUCT(S15:S111,T15:T111) -> 0.6427027
E7: (2,0) | G7: =p_0_0*(1-f_20)+p_1_0*f_20 -> 0.12689059
E8: (2,1) | G8: =p_0_1*(1-f_21)+p_1_1*f_21 -> 0.16393313
E9: (0,2) | G9: =p_0_0*(1-f_10)+p_0_1*f_10 -> 0.10766608 | I9: Maximum likelihood methods are applied to Dataset 1 to estimate the parameter values for the biivariate LR model with A1 and A2 as the predictors
E10: (1,2) | G10: =p_1_0*(1-f_11)+p_1_1*f_11 -> 0.68412948 | Q10: =CFT_1 -> 25 | R10: =NCFT -> 148
E11: (2,2) | G11: =q_00*p_0_0+q_01*p_0_1+q_10*p_1_0+q_11*p_1_1 -> 0.14811965
D14: Index | E14: Subject | F14: Category | G14: CF State | H14: A1 State | I14: A3 State | J14: Logistic Regression Estimate of P[CF=1|(A1,A3)] | K14: Estimate for Probability of Actual CF State | L14: Logarithm of Estimate for Probability of Actual CF State | M14: True Positives | N14: True Negatives | P14: CF Threshold Probability | Q14: True Positive Rate | R14: False Positive Rate | S14: y | T14: delx
D15: 1 | E15: ='A3'!E18 -> 1 | F15: ='A3'!F18 -> CF | G15: ='A3'!G18 -> 1 | H15: ='A1'!H18 -> 1 | I15: ='A3'!H18 -> 1 | J15: =IF(H15=0,IF(I15=0,p_0_0,IF(I15=1,p_0_1,p_0_2)),IF(H15=1,IF(I15=0,p_1_0,IF(I15=1,p_1_1,p_1_2)),IF(I15=0,p_2_0,IF(I15=1,p_2_1,p_2_2)))) -> 0.73652099 | K15: =IF(G15=1,J15,1-J15) -> 0.73652099 | L15: =LN(K15) -> -0.30581754 | M15: =IF(AND(G15=1,K15>=thresh),1,0) -> 1 | N15: =+IF(AND(G15=0,J15<thresh),1,0) -> 0 | P15: 0.01 | Q15: =COUNTIFS($G$15:$G$185,"1",$J$15:$J$185,">="&$P15)/CFT_1 -> 1 | R15: =COUNTIFS($G$15:$G$185,"0",$J$15:$J$185,">="&$P15)/NCFT -> 0.98648649 | S15: =(Q15+Q16)/2 -> 1 | T15: =-(R16-R15) -> 0
D16: =D15+1 -> 2 | E16: ='A3'!E19 -> 2 | F16: ='A3'!F19 -> CF | G16: ='A3'!G19 -> 1 | H16: ='A1'!H19 -> 0 | I16: ='A3'!H19 -> 1 | J16: =IF(H16=0,IF(I16=0,p_0_0,IF(I16=1,p_0_1,p_0_2)),IF(H16=1,IF(I16=0,p_1_0,IF(I16=1,p_1_1,p_1_2)),IF(I16=0,p_2_0,IF(I16=1,p_2_1,p_2_2)))) -> 0.12659044 | K16: =IF(G16=1,J16,1-J16) -> 0.12659044 | L16: =LN(K16) -> -2.0667983 | M16: =IF(AND(G16=1,K16>=thresh),1,0) -> 0 | N16: =+IF(AND(G16=0,J16<thresh),1,0) -> 0 | P16: =P15+0.01 -> 0.02 | Q16: =COUNTIFS($G$15:$G$185,"1",$J$15:$J$185,">="&$P16)/CFT_1 -> 1 | R16: =COUNTIFS($G$15:$G$185,"0",$J$15:$J$185,">="&$P16)/NCFT -> 0.98648649 | S16: =(Q16+Q17)/2 -> 1 | T16: =-(R17-R16) -> 0
D17: =D16+1 -> 3 | E17: ='A3'!E20 -> 4 | F17: ='A3'!F20 -> CFNR | G17: ='A3'!G20 -> 0 | H17: ='A1'!H20 -> 0 | I17: ='A3'!H20 -> 0 | J17: =IF(H17=0,IF(I17=0,p_0_0,IF(I17=1,p_0_1,p_0_2)),IF(H17=1,IF(I17=0,p_1_0,IF(I17=1,p_1_1,p_1_2)),IF(I17=0,p_2_0,IF(I17=1,p_2_1,p_2_2)))) -> 0.08168038 | K17: =IF(G17=1,J17,1-J17) -> 0.91831962 | L17: =LN(K17) -> -0.085209779 | M17: =IF(AND(G17=1,K17>=thresh),1,0) -> 0 | N17: =+IF(AND(G17=0,J17<thresh),1,0) -> 1 | P17: =P16+0.01 -> 0.03 | Q17: =COUNTIFS($G$15:$G$185,"1",$J$15:$J$185,">="&$P17)/CFT_1 -> 1 | R17: =COUNTIFS($G$15:$G$185,"0",$J$15:$J$185,">="&$P17)/NCFT -> 0.98648649 | S17: =(Q17+Q18)/2 -> 1 | T17: =-(R18-R17) -> 0
D18: =D17+1 -> 4 | E18: ='A3'!E21 -> 5 | F18: ='A3'!F21 -> CFNR | G18: ='A3'!G21 -> 0 | H18: ='A1'!H21 -> 0 | I18: ='A3'!H21 -> 0 | J18: =IF(H18=0,IF(I18=0,p_0_0,IF(I18=1,p_0_1,p_0_2)),IF(H18=1,IF(I18=0,p_1_0,IF(I18=1,p_1_1,p_1_2)),IF(I18=0,p_2_0,IF(I18=1,p_2_1,p_2_2)))) -> 0.08168038 | K18: =IF(G18=1,J18,1-J18) -> 0.91831962 | L18: =LN(K18) -> -0.085209779 | M18: =IF(AND(G18=1,K18>=thresh),1,0) -> 0 | N18: =+IF(AND(G18=0,J18<thresh),1,0) -> 1 | P18: =P17+0.01 -> 0.04 | Q18: =COUNTIFS($G$15:$G$185,"1",$J$15:$J$185,">="&$P18)/CFT_1 -> 1 | R18: =COUNTIFS($G$15:$G$185,"0",$J$15:$J$185,">="&$P18)/NCFT -> 0.98648649 | S18: =(Q18+Q19)/2 -> 1 | T18: =-(R19-R18) -> 0
D19: =D18+1 -> 5 | E19: ='A3'!E22 -> 9 | F19: ='A3'!F22 -> CFNR | G19: ='A3'!G22 -> 0 | H19: ='A1'!H22 -> 0 | I19: ='A3'!H22 -> 1 | J19: =IF(H19=0,IF(I19=0,p_0_0,IF(I19=1,p_0_1,p_0_2)),IF(H19=1,IF(I19=0,p_1_0,IF(I19=1,p_1_1,p_1_2)),IF(I19=0,p_2_0,IF(I19=1,p_2_1,p_2_2)))) -> 0.12659044 | K19: =IF(G19=1,J19,1-J19) -> 0.87340956 | L19: =LN(K19) -> -0.13535069 | M19: =IF(AND(G19=1,K19>=thresh),1,0) -> 0 | N19: =+IF(AND(G19=0,J19<thresh),1,0) -> 1 | P19: =P18+0.01 -> 0.05 | Q19: =COUNTIFS($G$15:$G$185,"1",$J$15:$J$185,">="&$P19)/CFT_1 -> 1 | R19: =COUNTIFS($G$15:$G$185,"0",$J$15:$J$185,">="&$P19)/NCFT -> 0.98648649 | S19: =(Q19+Q20)/2 -> 1 | T19: =-(R20-R19) -> 0
D20: =D19+1 -> 6 | E20: ='A3'!E23 -> 12 | F20: ='A3'!F23 -> CF | G20: ='A3'!G23 -> 1 | H20: ='A1'!H23 -> 0 | I20: ='A3'!H23 -> 0 | J20: =IF(H20=0,IF(I20=0,p_0_0,IF(I20=1,p_0_1,p_0_2)),IF(H20=1,IF(I20=0,p_1_0,IF(I20=1,p_1_1,p_1_2)),IF(I20=0,p_2_0,IF(I20=1,p_2_1,p_2_2)))) -> 0.08168038 | K20: =IF(G20=1,J20,1-J20) -> 0.08168038 | L20: =LN(K20) -> -2.5049414 | M20: =IF(AND(G20=1,K20>=thresh),1,0) -> 0 | N20: =+IF(AND(G20=0,J20<thresh),1,0) -> 0 | P20: =P19+0.01 -> 0.06 | Q20: =COUNTIFS($G$15:$G$185,"1",$J$15:$J$185,">="&$P20)/CFT_1 -> 1 | R20: =COUNTIFS($G$15:$G$185,"0",$J$15:$J$185,">="&$P20)/NCFT -> 0.98648649 | S20: =(Q20+Q21)/2 -> 1 | T20: =-(R21-R20) -> 0
D21: =D20+1 -> 7 | E21: ='A3'!E24 -> 14 | F21: ='A3'!F24 -> CFNR | G21: ='A3'!G24 -> 0 | H21: ='A1'!H24 -> 0 | I21: ='A3'!H24 -> 1 | J21: =IF(H21=0,IF(I21=0,p_0_0,IF(I21=1,p_0_1,p_0_2)),IF(H21=1,IF(I21=0,p_1_0,IF(I21=1,p_1_1,p_1_2)),IF(I21=0,p_2_0,IF(I21=1,p_2_1,p_2_2)))) -> 0.12659044 | K21: =IF(G21=1,J21,1-J21) -> 0.87340956 | L21: =LN(K21) -> -0.13535069 | M21: =IF(AND(G21=1,K21>=thresh),1,0) -> 0 | N21: =+IF(AND(G21=0,J21<thresh),1,0) -> 1 | P21: =P20+0.01 -> 0.07 | Q21: =COUNTIFS($G$15:$G$185,"1",$J$15:$J$185,">="&$P21)/CFT_1 -> 1 | R21: =COUNTIFS($G$15:$G$185,"0",$J$15:$J$185,">="&$P21)/NCFT -> 0.98648649 | S21: =(Q21+Q22)/2 -> 1 | T21: =-(R22-R21) -> 0
D22: =D21+1 -> 8 | E22: ='A3'!E25 -> 15 | F22: ='A3'!F25 -> CFNR | G22: ='A3'!G25 -> 0 | H22: ='A1'!H25 -> 0 | I22: ='A3'!H25 -> 1 | J22: =IF(H22=0,IF(I22=0,p_0_0,IF(I22=1,p_0_1,p_0_2)),IF(H22=1,IF(I22=0,p_1_0,IF(I22=1,p_1_1,p_1_2)),IF(I22=0,p_2_0,IF(I22=1,p_2_1,p_2_2)))) -> 0.12659044 | K22: =IF(G22=1,J22,1-J22) -> 0.87340956 | L22: =LN(K22) -> -0.13535069 | M22: =IF(AND(G22=1,K22>=thresh),1,0) -> 0 | N22: =+IF(AND(G22=0,J22<thresh),1,0) -> 1 | P22: =P21+0.01 -> 0.08 | Q22: =COUNTIFS($G$15:$G$185,"1",$J$15:$J$185,">="&$P22)/CFT_1 -> 1 | R22: =COUNTIFS($G$15:$G$185,"0",$J$15:$J$185,">="&$P22)/NCFT -> 0.98648649 | S22: =(Q22+Q23)/2 -> 0.86 | T22: =-(R23-R22) -> 0.40540541
D23: =D22+1 -> 9 | E23: ='A3'!E26 -> 16 | F23: ='A3'!F26 -> CFNR | G23: ='A3'!G26 -> 0 | H23: ='A1'!H26 -> 0 | I23: ='A3'!H26 -> 0 | J23: =IF(H23=0,IF(I23=0,p_0_0,IF(I23=1,p_0_1,p_0_2)),IF(H23=1,IF(I23=0,p_1_0,IF(I23=1,p_1_1,p_1_2)),IF(I23=0,p_2_0,IF(I23=1,p_2_1,p_2_2)))) -> 0.08168038 | K23: =IF(G23=1,J23,1-J23) -> 0.91831962 | L23: =LN(K23) -> -0.085209779 | M23: =IF(AND(G23=1,K23>=thresh),1,0) -> 0 | N23: =+IF(AND(G23=0,J23<thresh),1,0) -> 1 | P23: =P22+0.01 -> 0.09 | Q23: =COUNTIFS($G$15:$G$185,"1",$J$15:$J$185,">="&$P23)/CFT_1 -> 0.72 | R23: =COUNTIFS($G$15:$G$185,"0",$J$15:$J$185,">="&$P23)/NCFT -> 0.58108108 | S23: =(Q23+Q24)/2 -> 0.72 | T23: =-(R24-R23) -> 0
D24: =D23+1 -> 10 | E24: ='A3'!E27 -> 17 | F24: ='A3'!F27 -> CF | G24: ='A3'!G27 -> 1 | H24: ='A1'!H27 -> 1 | I24: ='A3'!H27 -> 1 | J24: =IF(H24=0,IF(I24=0,p_0_0,IF(I24=1,p_0_1,p_0_2)),IF(H24=1,IF(I24=0,p_1_0,IF(I24=1,p_1_1,p_1_2)),IF(I24=0,p_2_0,IF(I24=1,p_2_1,p_2_2)))) -> 0.73652099 | K24: =IF(G24=1,J24,1-J24) -> 0.73652099 | L24: =LN(K24) -> -0.30581754 | M24: =IF(AND(G24=1,K24>=thresh),1,0) -> 1 | N24: =+IF(AND(G24=0,J24<thresh),1,0) -> 0 | P24: =P23+0.01 -> 0.1 | Q24: =COUNTIFS($G$15:$G$185,"1",$J$15:$J$185,">="&$P24)/CFT_1 -> 0.72 | R24: =COUNTIFS($G$15:$G$185,"0",$J$15:$J$185,">="&$P24)/NCFT -> 0.58108108 | S24: =(Q24+Q25)/2 -> 0.72 | T24: =-(R25-R24) -> 0
D25: =D24+1 -> 11 | E25: ='A3'!E28 -> 24 | F25: ='A3'!F28 -> CFNR | G25: ='A3'!G28 -> 0 | H25: ='A1'!H28 -> 0 | I25: ='A3'!H28 -> 1 | J25: =IF(H25=0,IF(I25=0,p_0_0,IF(I25=1,p_0_1,p_0_2)),IF(H25=1,IF(I25=0,p_1_0,IF(I25=1,p_1_1,p_1_2)),IF(I25=0,p_2_0,IF(I25=1,p_2_1,p_2_2)))) -> 0.12659044 | K25: =IF(G25=1,J25,1-J25) -> 0.87340956 | L25: =LN(K25) -> -0.13535069 | M25: =IF(AND(G25=1,K25>=thresh),1,0) -> 0 | N25: =+IF(AND(G25=0,J25<thresh),1,0) -> 1 | P25: =P24+0.01 -> 0.11 | Q25: =COUNTIFS($G$15:$G$185,"1",$J$15:$J$185,">="&$P25)/CFT_1 -> 0.72 | R25: =COUNTIFS($G$15:$G$185,"0",$J$15:$J$185,">="&$P25)/NCFT -> 0.58108108 | S25: =(Q25+Q26)/2 -> 0.72 | T25: =-(R26-R25) -> 0
D26: =D25+1 -> 12 | E26: ='A3'!E29 -> 25 | F26: ='A3'!F29 -> CONT | G26: ='A3'!G29 -> 0 | H26: ='A1'!H29 -> 0 | I26: ='A3'!H29 -> 0 | J26: =IF(H26=0,IF(I26=0,p_0_0,IF(I26=1,p_0_1,p_0_2)),IF(H26=1,IF(I26=0,p_1_0,IF(I26=1,p_1_1,p_1_2)),IF(I26=0,p_2_0,IF(I26=1,p_2_1,p_2_2)))) -> 0.08168038 | K26: =IF(G26=1,J26,1-J26) -> 0.91831962 | L26: =LN(K26) -> -0.085209779 | M26: =IF(AND(G26=1,K26>=thresh),1,0) -> 0 | N26: =+IF(AND(G26=0,J26<thresh),1,0) -> 1 | P26: =P25+0.01 -> 0.12 | Q26: =COUNTIFS($G$15:$G$185,"1",$J$15:$J$185,">="&$P26)/CFT_1 -> 0.72 | R26: =COUNTIFS($G$15:$G$185,"0",$J$15:$J$185,">="&$P26)/NCFT -> 0.58108108 | S26: =(Q26+Q27)/2 -> 0.52 | T26: =-(R27-R26) -> 0.55405405
D27: =D26+1 -> 13 | E27: ='A3'!E30 -> 27 | F27: ='A3'!F30 -> CONT | G27: ='A3'!G30 -> 0 | H27: ='A1'!H30 -> 0 | I27: ='A3'!H30 -> 0 | J27: =IF(H27=0,IF(I27=0,p_0_0,IF(I27=1,p_0_1,p_0_2)),IF(H27=1,IF(I27=0,p_1_0,IF(I27=1,p_1_1,p_1_2)),IF(I27=0,p_2_0,IF(I27=1,p_2_1,p_2_2)))) -> 0.08168038 | K27: =IF(G27=1,J27,1-J27) -> 0.91831962 | L27: =LN(K27) -> -0.085209779 | M27: =IF(AND(G27=1,K27>=thresh),1,0) -> 0 | N27: =+IF(AND(G27=0,J27<thresh),1,0) -> 1 | P27: =P26+0.01 -> 0.13 | Q27: =COUNTIFS($G$15:$G$185,"1",$J$15:$J$185,">="&$P27)/CFT_1 -> 0.32 | R27: =COUNTIFS($G$15:$G$185,"0",$J$15:$J$185,">="&$P27)/NCFT -> 0.027027027 | S27: =(Q27+Q28)/2 -> 0.32 | T27: =-(R28-R27) -> 0
