Workbook
Name a_0: #REF!
Name a_1: #REF!
Name a_2: #REF!
Name a_est: #REF!
Name b_est: #REF!
Name c_0: #REF!
Name c_1: #REF!
Name c_2: #REF!
Name c_3: #REF!
Name case: 'Data 2'!$B$1
Name case: #REF!
Name CF_D: 'Composite Resampling'!$F$93
Name CF_D: 'LR Results_2B_Composite'!$D$91
Name CF_D: 'LR Results_2B_Composite (2)'!$D$52
Name CF_D: #REF!
Name CF_V: 'Composite Resampling'!$F$99
Name CF_V: 'LR Results_2B_Composite'!$D$97
Name CF_V: 'LR Results_2B_Composite (2)'!$D$58
Name CF_V: #REF!
Name CFEPIT: #REF!
Name CFN_V: 'Composite Resampling'!$F$101
Name CFN_V: 'LR Results_2B_Composite'!$D$99
Name CFN_V: 'LR Results_2B_Composite (2)'!$D$60
Name CFN_V: #REF!
Name CFNR_D: 'Composite Resampling'!$F$94
Name CFNR_D: 'LR Results_2B_Composite'!$D$92
Name CFNR_D: 'LR Results_2B_Composite (2)'!$D$53
Name CFNR_D: #REF!
Name CFNR_V: 'Composite Resampling'!$F$100
Name CFNR_V: 'LR Results_2B_Composite'!$D$98
Name CFNR_V: 'LR Results_2B_Composite (2)'!$D$59
Name CFNR_V: #REF!
Name CFNRT: #REF!
Name CFNRT_V: #REF!
Name CFNT: #REF!
Name CFNT_D: 'Composite Resampling'!$F$95
Name CFNT_D: 'LR Results_2B_Composite'!$D$93
Name CFNT_D: 'LR Results_2B_Composite (2)'!$D$54
Name CFNT_D: #REF!
Name CFNT_V: #REF!
Name CFPERTT: #REF!
Name CFT: #REF!
Name CFT_1: #REF!
Name CFT_MC: #REF!
Name CFT_V: #REF!
Name col_1: 'Data 2'!$B$3
Name col_1: #REF!
Name col_2: 'Data 2'!$B$4
Name col_2: #REF!
Name col_3: 'Data 2'!$B$5
Name col_3: #REF!
Name colmn_1: 'Data 2'!$E$2
Name colmn_2: 'Data 2'!$F$2
Name colmn_3: 'Data 2'!$G$2
Name colmn_4: 'Data 2'!$H$2
Name colmn_5: 'Data 2'!$I$2
Name colmn_6: 'Data 2'!$J$2
Name colmn_7: 'Data 2'!$K$2
Name CONTT: #REF!
Name CONTT_1: #REF!

Sheet Data 2
D1: index | E1: 1 | F1: 2 | G1: 3 | H1: 4 | I1: 5 | J1: 6 | K1: 7
D2: column | E2: =Setup!AI2 -> 4 | F2: =Setup!AJ2 -> 5 | G2: =Setup!AK2 -> 15 | H2: =Setup!AL2 -> 24 | I2: =Setup!AM2 -> 33 | J2: =Setup!AN2 -> 34 | K2: =Setup!AO2 -> 44
E3: Pancreatic Insufficiency | F3: Pancreatitis | G3: family history | H3: bronchiectasis/ tree in bud | I3: Gram negative bacterial infection | J3: Gram positive bacterial infection | K3: NTM (MAC or non-Mac) | M3: The table records for each Dataset 1 patient the value of each of the 7 CF-related predictors used in the LR analysis
Z8: Ave. # Symptoms for Each CF Type
A9: Offset | B9: Index | C9: Subject | D9: Category | E9: Pancreatic Insufficiency | F9: =E1 -> 1 | G9: Pancreatitis | H9: =F1 -> 2 | I9: family history | J9: =G1 -> 3 | K9: bronchiectasis/ tree in bud | L9: =H1 -> 4 | M9: Gram negative bacterial infection | N9: =I1 -> 5 | O9: Gram positive bacterial infection | P9: =J1 -> 6 | Q9: NTM (MAC or non-Mac) | R9: =K1 -> 7 | S9: LR Symptom Count | T9: Criterion 2 Satisfied | U9: Criterion 1 Recommended CF Testing | V9: Additional C Patients Tested | W9: # Symptoms per Patient CF | X9: # Symptoms per Patient CFNR | Y9: # Symptoms per Patient CONT | Z9: # Symptoms | AA9: # Symptoms Frequency | AB9: Average # Symptoms per Patient for Each CF Type
A10: =1 -> 1 | B10: =1 -> 1 | C10: 1 | D10: CONT | E10: - | F10: =IF(E10=1,1,0) -> 0 | G10: 2 | H10: =IF(G10=1,1,0) -> 0 | I10: 2 | J10: =IF(I10=1,1,0) -> 0 | K10: 2 | L10: =IF(K10=1,1,0) -> 0 | M10: - | N10: =IF(M10=1,1,0) -> 0 | O10: - | P10: =IF(O10=1,1,0) -> 0 | Q10: - | R10: =IF(Q10=1,1,0) -> 0 | S10: =COUNTIFS($D10:$R10,"1")/2 -> 0 | T10: =IF(AND(K10=1,E10<>1,G10<>1,I10<>1,M10<>1,O10<>1,Q10<>1),1,0) -> 0 | U10: ='LR Results_2B_Composite'!H6 -> 1 | V10: =IF(AND(D10="CONT",T10=1,U10=0),1,0) -> 0 | W10: =IF($D10="CF",COUNTIFS($D10:$R10,"1")/2,"") | X10: =IF($D10="CFNR",COUNTIFS($D10:$R10,"1")/2,"") | Y10: =IF($D10="CONT",COUNTIFS($D10:$R10,"1")/2,"") -> 0 | Z10: 0 | AA10: =COUNTIF($S$10:S$178,"0") -> 13 | AB10: =(SUMIF($D$10:$D$91,"CF",$S$10:$S$91)+SUMIF($D$92:$D$178,"CF",$S$92:$S$178))/(COUNTIF($D$10:$D$91,"CF")+COUNTIF($D$92:$D$178,"CF")) -> 3.75
A11: =A10+1 -> 2 | B11: =B10+1 -> 2 | C11: =B11 -> 2 | D11: CONT | E11: - | F11: =IF(E11=1,1,0) -> 0 | G11: 2 | H11: =IF(G11=1,1,0) -> 0 | I11: 2 | J11: =IF(I11=1,1,0) -> 0 | K11: 2 | L11: =IF(K11=1,1,0) -> 0 | M11: - | N11: =IF(M11=1,1,0) -> 0 | O11: - | P11: =IF(O11=1,1,0) -> 0 | Q11: - | R11: =IF(Q11=1,1,0) -> 0 | S11: =COUNTIFS($D11:$R11,"1")/2 -> 0 | T11: =IF(AND(K11=1,E11<>1,G11<>1,I11<>1,M11<>1,O11<>1,Q11<>1),1,0) -> 0 | U11: ='LR Results_2B_Composite'!H7 -> 1 | V11: =IF(AND(D11="CONT",T11=1,U11=0),1,0) -> 0 | W11: =IF($D11="CF",COUNTIFS($D11:$R11,"1")/2,"") | X11: =IF($D11="CFNR",COUNTIFS($D11:$R11,"1")/2,"") | Y11: =IF($D11="CONT",COUNTIFS($D11:$R11,"1")/2,"") -> 0 | Z11: 1 | AA11: =COUNTIF($S$10:S$178,"1") -> 28 | AB11: =(SUMIF($D$10:$D$91,"CFNR",$S$10:$S$91)+SUMIF($D$92:$D$178,"CFNR",$S$92:$S$178))/(COUNTIF($D$10:$D$91,"CFNR")+COUNTIF($D$92:$D$178,"CFNR")) -> 2
A12: =A11+1 -> 3 | B12: =B11+1 -> 3 | C12: =B12 -> 3 | D12: CONT | E12: - | F12: =IF(E12=1,1,0) -> 0 | G12: 2 | H12: =IF(G12=1,1,0) -> 0 | I12: 2 | J12: =IF(I12=1,1,0) -> 0 | K12: 1 | L12: =IF(K12=1,1,0) -> 1 | M12: 1 | N12: =IF(M12=1,1,0) -> 1 | O12: 2 | P12: =IF(O12=1,1,0) -> 0 | Q12: 2 | R12: =IF(Q12=1,1,0) -> 0 | S12: =COUNTIFS($D12:$R12,"1")/2 -> 2 | T12: =IF(AND(K12=1,E12<>1,G12<>1,I12<>1,M12<>1,O12<>1,Q12<>1),1,0) -> 0 | U12: ='LR Results_2B_Composite'!H8 -> 1 | V12: =IF(AND(D12="CONT",T12=1,U12=0),1,0) -> 0 | W12: =IF($D12="CF",COUNTIFS($D12:$R12,"1")/2,"") | X12: =IF($D12="CFNR",COUNTIFS($D12:$R12,"1")/2,"") | Y12: =IF($D12="CONT",COUNTIFS($D12:$R12,"1")/2,"") -> 2 | Z12: 2 | AA12: =COUNTIF($S$10:S$178,"2") -> 18 | AB12: =(SUMIF($D$10:$D$91,"CONT",$S$10:$S$91)+SUMIF($D$92:$D$178,"CONT",$S$92:$S$178))/(COUNTIF($D$10:$D$91,"CONT")+COUNTIF($D$92:$D$178,"CONT")) -> 1.6666667
A13: =A12+1 -> 4 | B13: =B12+1 -> 4 | C13: =B13 -> 4 | D13: CONT | E13: - | F13: =IF(E13=1,1,0) -> 0 | G13: 2 | H13: =IF(G13=1,1,0) -> 0 | I13: 2 | J13: =IF(I13=1,1,0) -> 0 | K13: 1 | L13: =IF(K13=1,1,0) -> 1 | M13: 2 | N13: =IF(M13=1,1,0) -> 0 | O13: 2 | P13: =IF(O13=1,1,0) -> 0 | Q13: 2 | R13: =IF(Q13=1,1,0) -> 0 | S13: =COUNTIFS($D13:$R13,"1")/2 -> 1 | T13: =IF(AND(K13=1,E13<>1,G13<>1,I13<>1,M13<>1,O13<>1,Q13<>1),1,0) -> 1 | U13: ='LR Results_2B_Composite'!H9 -> 0 | V13: =IF(AND(D13="CONT",T13=1,U13=0),1,0) -> 1 | W13: =IF($D13="CF",COUNTIFS($D13:$R13,"1")/2,"") | X13: =IF($D13="CFNR",COUNTIFS($D13:$R13,"1")/2,"") | Y13: =IF($D13="CONT",COUNTIFS($D13:$R13,"1")/2,"") -> 1 | Z13: 3 | AA13: =COUNTIF($S$10:S$178,"3") -> 18
A14: =A13+1 -> 5 | B14: =B13+1 -> 5 | C14: =B14 -> 5 | D14: CONT | E14: - | F14: =IF(E14=1,1,0) -> 0 | G14: 2 | H14: =IF(G14=1,1,0) -> 0 | I14: 2 | J14: =IF(I14=1,1,0) -> 0 | K14: 1 | L14: =IF(K14=1,1,0) -> 1 | M14: 1 | N14: =IF(M14=1,1,0) -> 1 | O14: 2 | P14: =IF(O14=1,1,0) -> 0 | Q14: 1 | R14: =IF(Q14=1,1,0) -> 1 | S14: =COUNTIFS($D14:$R14,"1")/2 -> 3 | T14: =IF(AND(K14=1,E14<>1,G14<>1,I14<>1,M14<>1,O14<>1,Q14<>1),1,0) -> 0 | U14: ='LR Results_2B_Composite'!H10 -> 1 | V14: =IF(AND(D14="CONT",T14=1,U14=0),1,0) -> 0 | W14: =IF($D14="CF",COUNTIFS($D14:$R14,"1")/2,"") | X14: =IF($D14="CFNR",COUNTIFS($D14:$R14,"1")/2,"") | Y14: =IF($D14="CONT",COUNTIFS($D14:$R14,"1")/2,"") -> 3 | Z14: 4 | AA14: =COUNTIF($S$10:S$178,"4") -> 6
A15: =A14+1 -> 6 | B15: =B14+1 -> 6 | C15: =B15 -> 6 | D15: CFNR | E15: - | F15: =IF(E15=1,1,0) -> 0 | G15: 1 | H15: =IF(G15=1,1,0) -> 1 | I15: 2 | J15: =IF(I15=1,1,0) -> 0 | K15: 1 | L15: =IF(K15=1,1,0) -> 1 | M15: 1 | N15: =IF(M15=1,1,0) -> 1 | O15: 2 | P15: =IF(O15=1,1,0) -> 0 | Q15: 2 | R15: =IF(Q15=1,1,0) -> 0 | S15: =COUNTIFS($D15:$R15,"1")/2 -> 3 | T15: =IF(AND(K15=1,E15<>1,G15<>1,I15<>1,M15<>1,O15<>1,Q15<>1),1,0) -> 0 | U15: ='LR Results_2B_Composite'!H11 -> 1 | V15: =IF(AND(D15="CONT",T15=1,U15=0),1,0) -> 0 | W15: =IF($D15="CF",COUNTIFS($D15:$R15,"1")/2,"") | X15: =IF($D15="CFNR",COUNTIFS($D15:$R15,"1")/2,"") -> 3 | Y15: =IF($D15="CONT",COUNTIFS($D15:$R15,"1")/2,"") | Z15: 5 | AA15: =COUNTIF($S$10:S$178,"5") -> 4
A16: =A15+1 -> 7 | B16: =B15+1 -> 7 | C16: =B16 -> 7 | D16: CFNR | E16: - | F16: =IF(E16=1,1,0) -> 0 | G16: 2 | H16: =IF(G16=1,1,0) -> 0 | I16: 2 | J16: =IF(I16=1,1,0) -> 0 | K16: 1 | L16: =IF(K16=1,1,0) -> 1 | M16: 2 | N16: =IF(M16=1,1,0) -> 0 | O16: 2 | P16: =IF(O16=1,1,0) -> 0 | Q16: 2 | R16: =IF(Q16=1,1,0) -> 0 | S16: =COUNTIFS($D16:$R16,"1")/2 -> 1 | T16: =IF(AND(K16=1,E16<>1,G16<>1,I16<>1,M16<>1,O16<>1,Q16<>1),1,0) -> 1 | U16: ='LR Results_2B_Composite'!H12 -> 0 | V16: =IF(AND(D16="CONT",T16=1,U16=0),1,0) -> 0 | W16: =IF($D16="CF",COUNTIFS($D16:$R16,"1")/2,"") | X16: =IF($D16="CFNR",COUNTIFS($D16:$R16,"1")/2,"") -> 1 | Y16: =IF($D16="CONT",COUNTIFS($D16:$R16,"1")/2,"") | Z16: 6 | AA16: =COUNTIF($S$10:S$178,"6") -> 0
A17: =A16+1 -> 8 | B17: =B16+1 -> 8 | C17: =B17 -> 8 | D17: CONT | E17: - | F17: =IF(E17=1,1,0) -> 0 | G17: 2 | H17: =IF(G17=1,1,0) -> 0 | I17: 2 | J17: =IF(I17=1,1,0) -> 0 | K17: 1 | L17: =IF(K17=1,1,0) -> 1 | M17: 1 | N17: =IF(M17=1,1,0) -> 1 | O17: 2 | P17: =IF(O17=1,1,0) -> 0 | Q17: 1 | R17: =IF(Q17=1,1,0) -> 1 | S17: =COUNTIFS($D17:$R17,"1")/2 -> 3 | T17: =IF(AND(K17=1,E17<>1,G17<>1,I17<>1,M17<>1,O17<>1,Q17<>1),1,0) -> 0 | U17: ='LR Results_2B_Composite'!H13 -> 1 | V17: =IF(AND(D17="CONT",T17=1,U17=0),1,0) -> 0 | W17: =IF($D17="CF",COUNTIFS($D17:$R17,"1")/2,"") | X17: =IF($D17="CFNR",COUNTIFS($D17:$R17,"1")/2,"") | Y17: =IF($D17="CONT",COUNTIFS($D17:$R17,"1")/2,"") -> 3 | AA17: =(AA14+AA15+AA16)/(AA10+AA11+AA12+AA13+AA14+AA15+AA16) -> 0.11494253
A18: =A17+1 -> 9 | B18: =B17+1 -> 9 | C18: =B18 -> 9 | D18: CONT | E18: - | F18: =IF(E18=1,1,0) -> 0 | G18: 2 | H18: =IF(G18=1,1,0) -> 0 | I18: 2 | J18: =IF(I18=1,1,0) -> 0 | K18: 2 | L18: =IF(K18=1,1,0) -> 0 | M18: - | N18: =IF(M18=1,1,0) -> 0 | O18: - | P18: =IF(O18=1,1,0) -> 0 | Q18: - | R18: =IF(Q18=1,1,0) -> 0 | S18: =COUNTIFS($D18:$R18,"1")/2 -> 0 | T18: =IF(AND(K18=1,E18<>1,G18<>1,I18<>1,M18<>1,O18<>1,Q18<>1),1,0) -> 0 | U18: ='LR Results_2B_Composite'!H14 -> 1 | V18: =IF(AND(D18="CONT",T18=1,U18=0),1,0) -> 0 | W18: =IF($D18="CF",COUNTIFS($D18:$R18,"1")/2,"") | X18: =IF($D18="CFNR",COUNTIFS($D18:$R18,"1")/2,"") | Y18: =IF($D18="CONT",COUNTIFS($D18:$R18,"1")/2,"") -> 0 | AA18: =SUM(AA10:AA16) -> 87
A19: =A18+1 -> 10 | B19: =B18+1 -> 10 | C19: =B19 -> 10 | D19: CONT | E19: 2 | F19: =IF(E19=1,1,0) -> 0 | G19: 2 | H19: =IF(G19=1,1,0) -> 0 | I19: 1 | J19: =IF(I19=1,1,0) -> 1 | K19: 1 | L19: =IF(K19=1,1,0) -> 1 | M19: 1 | N19: =IF(M19=1,1,0) -> 1 | O19: 2 | P19: =IF(O19=1,1,0) -> 0 | Q19: 1 | R19: =IF(Q19=1,1,0) -> 1 | S19: =COUNTIFS($D19:$R19,"1")/2 -> 4 | T19: =IF(AND(K19=1,E19<>1,G19<>1,I19<>1,M19<>1,O19<>1,Q19<>1),1,0) -> 0 | U19: ='LR Results_2B_Composite'!H15 -> 1 | V19: =IF(AND(D19="CONT",T19=1,U19=0),1,0) -> 0 | W19: =IF($D19="CF",COUNTIFS($D19:$R19,"1")/2,"") | X19: =IF($D19="CFNR",COUNTIFS($D19:$R19,"1")/2,"") | Y19: =IF($D19="CONT",COUNTIFS($D19:$R19,"1")/2,"") -> 4
A20: =A19+1 -> 11 | B20: =B19+1 -> 11 | C20: 12 | D20: CONT | E20: - | F20: =IF(E20=1,1,0) -> 0 | G20: 2 | H20: =IF(G20=1,1,0) -> 0 | I20: 2 | J20: =IF(I20=1,1,0) -> 0 | K20: 2 | L20: =IF(K20=1,1,0) -> 0 | M20: - | N20: =IF(M20=1,1,0) -> 0 | O20: - | P20: =IF(O20=1,1,0) -> 0 | Q20: - | R20: =IF(Q20=1,1,0) -> 0 | S20: =COUNTIFS($D20:$R20,"1")/2 -> 0 | T20: =IF(AND(K20=1,E20<>1,G20<>1,I20<>1,M20<>1,O20<>1,Q20<>1),1,0) -> 0 | U20: ='LR Results_2B_Composite'!H16 -> 0 | V20: =IF(AND(D20="CONT",T20=1,U20=0),1,0) -> 0 | W20: =IF($D20="CF",COUNTIFS($D20:$R20,"1")/2,"") | X20: =IF($D20="CFNR",COUNTIFS($D20:$R20,"1")/2,"") | Y20: =IF($D20="CONT",COUNTIFS($D20:$R20,"1")/2,"") -> 0
A21: =A20+1 -> 12 | B21: =B20+1 -> 12 | C21: =C20+1 -> 13 | D21: CONT | E21: 2 | F21: =IF(E21=1,1,0) -> 0 | G21: 2 | H21: =IF(G21=1,1,0) -> 0 | I21: 2 | J21: =IF(I21=1,1,0) -> 0 | K21: 1 | L21: =IF(K21=1,1,0) -> 1 | M21: 1 | N21: =IF(M21=1,1,0) -> 1 | O21: 2 | P21: =IF(O21=1,1,0) -> 0 | Q21: 1 | R21: =IF(Q21=1,1,0) -> 1 | S21: =COUNTIFS($D21:$R21,"1")/2 -> 3 | T21: =IF(AND(K21=1,E21<>1,G21<>1,I21<>1,M21<>1,O21<>1,Q21<>1),1,0) -> 0 | U21: ='LR Results_2B_Composite'!H17 -> 1 | V21: =IF(AND(D21="CONT",T21=1,U21=0),1,0) -> 0 | W21: =IF($D21="CF",COUNTIFS($D21:$R21,"1")/2,"") | X21: =IF($D21="CFNR",COUNTIFS($D21:$R21,"1")/2,"") | Y21: =IF($D21="CONT",COUNTIFS($D21:$R21,"1")/2,"") -> 3
A22: =A21+1 -> 13 | B22: =B21+1 -> 13 | C22: =C21+1 -> 14 | D22: CONT | E22: - | F22: =IF(E22=1,1,0) -> 0 | G22: 2 | H22: =IF(G22=1,1,0) -> 0 | I22: 2 | J22: =IF(I22=1,1,0) -> 0 | K22: 1 | L22: =IF(K22=1,1,0) -> 1 | M22: 1 | N22: =IF(M22=1,1,0) -> 1 | O22: 2 | P22: =IF(O22=1,1,0) -> 0 | Q22: 1 | R22: =IF(Q22=1,1,0) -> 1 | S22: =COUNTIFS($D22:$R22,"1")/2 -> 3 | T22: =IF(AND(K22=1,E22<>1,G22<>1,I22<>1,M22<>1,O22<>1,Q22<>1),1,0) -> 0 | U22: ='LR Results_2B_Composite'!H18 -> 1 | V22: =IF(AND(D22="CONT",T22=1,U22=0),1,0) -> 0 | W22: =IF($D22="CF",COUNTIFS($D22:$R22,"1")/2,"") | X22: =IF($D22="CFNR",COUNTIFS($D22:$R22,"1")/2,"") | Y22: =IF($D22="CONT",COUNTIFS($D22:$R22,"1")/2,"") -> 3
A23: =A22+1 -> 14 | B23: =B22+1 -> 14 | C23: =C22+1 -> 15 | D23: CONT | E23: - | F23: =IF(E23=1,1,0) -> 0 | G23: 2 | H23: =IF(G23=1,1,0) -> 0 | I23: 2 | J23: =IF(I23=1,1,0) -> 0 | K23: 1 | L23: =IF(K23=1,1,0) -> 1 | M23: 2 | N23: =IF(M23=1,1,0) -> 0 | O23: 2 | P23: =IF(O23=1,1,0) -> 0 | Q23: 2 | R23: =IF(Q23=1,1,0) -> 0 | S23: =COUNTIFS($D23:$R23,"1")/2 -> 1 | T23: =IF(AND(K23=1,E23<>1,G23<>1,I23<>1,M23<>1,O23<>1,Q23<>1),1,0) -> 1 | U23: ='LR Results_2B_Composite'!H19 -> 0 | V23: =IF(AND(D23="CONT",T23=1,U23=0),1,0) -> 1 | W23: =IF($D23="CF",COUNTIFS($D23:$R23,"1")/2,"") | X23: =IF($D23="CFNR",COUNTIFS($D23:$R23,"1")/2,"") | Y23: =IF($D23="CONT",COUNTIFS($D23:$R23,"1")/2,"") -> 1
A24: =A23+1 -> 15 | B24: =B23+1 -> 15 | C24: =C23+1 -> 16 | D24: CFNR | E24: - | F24: =IF(E24=1,1,0) -> 0 | G24: 2 | H24: =IF(G24=1,1,0) -> 0 | I24: 2 | J24: =IF(I24=1,1,0) -> 0 | K24: 1 | L24: =IF(K24=1,1,0) -> 1 | M24: 1 | N24: =IF(M24=1,1,0) -> 1 | O24: 1 | P24: =IF(O24=1,1,0) -> 1 | Q24: 2 | R24: =IF(Q24=1,1,0) -> 0 | S24: =COUNTIFS($D24:$R24,"1")/2 -> 3 | T24: =IF(AND(K24=1,E24<>1,G24<>1,I24<>1,M24<>1,O24<>1,Q24<>1),1,0) -> 0 | U24: ='LR Results_2B_Composite'!H20 -> 1 | V24: =IF(AND(D24="CONT",T24=1,U24=0),1,0) -> 0 | W24: =IF($D24="CF",COUNTIFS($D24:$R24,"1")/2,"") | X24: =IF($D24="CFNR",COUNTIFS($D24:$R24,"1")/2,"") -> 3 | Y24: =IF($D24="CONT",COUNTIFS($D24:$R24,"1")/2,"")
A25: =A24+1 -> 16 | B25: =B24+1 -> 16 | C25: =C24+1 -> 17 | D25: CONT | E25: - | F25: =IF(E25=1,1,0) -> 0 | G25: 2 | H25: =IF(G25=1,1,0) -> 0 | I25: 2 | J25: =IF(I25=1,1,0) -> 0 | K25: 1 | L25: =IF(K25=1,1,0) -> 1 | M25: 1 | N25: =IF(M25=1,1,0) -> 1 | O25: 2 | P25: =IF(O25=1,1,0) -> 0 | Q25: - | R25: =IF(Q25=1,1,0) -> 0 | S25: =COUNTIFS($D25:$R25,"1")/2 -> 2 | T25: =IF(AND(K25=1,E25<>1,G25<>1,I25<>1,M25<>1,O25<>1,Q25<>1),1,0) -> 0 | U25: ='LR Results_2B_Composite'!H21 -> 1 | V25: =IF(AND(D25="CONT",T25=1,U25=0),1,0) -> 0 | W25: =IF($D25="CF",COUNTIFS($D25:$R25,"1")/2,"") | X25: =IF($D25="CFNR",COUNTIFS($D25:$R25,"1")/2,"") | Y25: =IF($D25="CONT",COUNTIFS($D25:$R25,"1")/2,"") -> 2
A26: =A25+1 -> 17 | B26: =B25+1 -> 17 | C26: =C25+1 -> 18 | D26: CONT | E26: - | F26: =IF(E26=1,1,0) -> 0 | G26: 2 | H26: =IF(G26=1,1,0) -> 0 | I26: 2 | J26: =IF(I26=1,1,0) -> 0 | K26: 2 | L26: =IF(K26=1,1,0) -> 0 | M26: 1 | N26: =IF(M26=1,1,0) -> 1 | O26: 2 | P26: =IF(O26=1,1,0) -> 0 | Q26: - | R26: =IF(Q26=1,1,0) -> 0 | S26: =COUNTIFS($D26:$R26,"1")/2 -> 1 | T26: =IF(AND(K26=1,E26<>1,G26<>1,I26<>1,M26<>1,O26<>1,Q26<>1),1,0) -> 0 | U26: ='LR Results_2B_Composite'!H22 -> 1 | V26: =IF(AND(D26="CONT",T26=1,U26=0),1,0) -> 0 | W26: =IF($D26="CF",COUNTIFS($D26:$R26,"1")/2,"") | X26: =IF($D26="CFNR",COUNTIFS($D26:$R26,"1")/2,"") | Y26: =IF($D26="CONT",COUNTIFS($D26:$R26,"1")/2,"") -> 1
A27: =A26+1 -> 18 | B27: =B26+1 -> 18 | C27: =C26+1 -> 19 | D27: CONT | E27: - | F27: =IF(E27=1,1,0) -> 0 | G27: 2 | H27: =IF(G27=1,1,0) -> 0 | I27: 2 | J27: =IF(I27=1,1,0) -> 0 | K27: 1 | L27: =IF(K27=1,1,0) -> 1 | M27: 1 | N27: =IF(M27=1,1,0) -> 1 | O27: 1 | P27: =IF(O27=1,1,0) -> 1 | Q27: 99 | R27: =IF(Q27=1,1,0) -> 0 | S27: =COUNTIFS($D27:$R27,"1")/2 -> 3 | T27: =IF(AND(K27=1,E27<>1,G27<>1,I27<>1,M27<>1,O27<>1,Q27<>1),1,0) -> 0 | U27: ='LR Results_2B_Composite'!H23 -> 1 | V27: =IF(AND(D27="CONT",T27=1,U27=0),1,0) -> 0 | W27: =IF($D27="CF",COUNTIFS($D27:$R27,"1")/2,"") | X27: =IF($D27="CFNR",COUNTIFS($D27:$R27,"1")/2,"") | Y27: =IF($D27="CONT",COUNTIFS($D27:$R27,"1")/2,"") -> 3
A28: =A27+1 -> 19 | B28: =B27+1 -> 19 | C28: =C27+1 -> 20 | D28: CONT | E28: - | F28: =IF(E28=1,1,0) -> 0 | G28: 2 | H28: =IF(G28=1,1,0) -> 0 | I28: 2 | J28: =IF(I28=1,1,0) -> 0 | K28: 1 | L28: =IF(K28=1,1,0) -> 1 | M28: 99 | N28: =IF(M28=1,1,0) -> 0 | O28: 99 | P28: =IF(O28=1,1,0) -> 0 | Q28: 99 | R28: =IF(Q28=1,1,0) -> 0 | S28: =COUNTIFS($D28:$R28,"1")/2 -> 1 | T28: =IF(AND(K28=1,E28<>1,G28<>1,I28<>1,M28<>1,O28<>1,Q28<>1),1,0) -> 1 | U28: ='LR Results_2B_Composite'!H24 -> 0 | V28: =IF(AND(D28="CONT",T28=1,U28=0),1,0) -> 1 | W28: =IF($D28="CF",COUNTIFS($D28:$R28,"1")/2,"") | X28: =IF($D28="CFNR",COUNTIFS($D28:$R28,"1")/2,"") | Y28: =IF($D28="CONT",COUNTIFS($D28:$R28,"1")/2,"") -> 1
A29: =A28+1 -> 20 | B29: =B28+1 -> 20 | C29: =C28+1 -> 21 | D29: CFNR | E29: - | F29: =IF(E29=1,1,0) -> 0 | G29: 1 | H29: =IF(G29=1,1,0) -> 1 | I29: 2 | J29: =IF(I29=1,1,0) -> 0 | K29: 2 | L29: =IF(K29=1,1,0) -> 0 | M29: - | N29: =IF(M29=1,1,0) -> 0 | O29: - | P29: =IF(O29=1,1,0) -> 0 | Q29: - | R29: =IF(Q29=1,1,0) -> 0 | S29: =COUNTIFS($D29:$R29,"1")/2 -> 1 | T29: =IF(AND(K29=1,E29<>1,G29<>1,I29<>1,M29<>1,O29<>1,Q29<>1),1,0) -> 0 | U29: ='LR Results_2B_Composite'!H25 -> 1 | V29: =IF(AND(D29="CONT",T29=1,U29=0),1,0) -> 0 | W29: =IF($D29="CF",COUNTIFS($D29:$R29,"1")/2,"") | X29: =IF($D29="CFNR",COUNTIFS($D29:$R29,"1")/2,"") -> 1 | Y29: =IF($D29="CONT",COUNTIFS($D29:$R29,"1")/2,"")
A30: =A29+1 -> 21 | B30: =B29+1 -> 21 | C30: =C29+1 -> 22 | D30: CONT | E30: - | F30: =IF(E30=1,1,0) -> 0 | G30: 1 | H30: =IF(G30=1,1,0) -> 1 | I30: 2 | J30: =IF(I30=1,1,0) -> 0 | K30: 1 | L30: =IF(K30=1,1,0) -> 1 | M30: 1 | N30: =IF(M30=1,1,0) -> 1 | O30: 1 | P30: =IF(O30=1,1,0) -> 1 | Q30: 2 | R30: =IF(Q30=1,1,0) -> 0 | S30: =COUNTIFS($D30:$R30,"1")/2 -> 4 | T30: =IF(AND(K30=1,E30<>1,G30<>1,I30<>1,M30<>1,O30<>1,Q30<>1),1,0) -> 0 | U30: ='LR Results_2B_Composite'!H26 -> 1 | V30: =IF(AND(D30="CONT",T30=1,U30=0),1,0) -> 0 | W30: =IF($D30="CF",COUNTIFS($D30:$R30,"1")/2,"") | X30: =IF($D30="CFNR",COUNTIFS($D30:$R30,"1")/2,"") | Y30: =IF($D30="CONT",COUNTIFS($D30:$R30,"1")/2,"") -> 4
A31: =A30+1 -> 22 | B31: =B30+1 -> 22 | C31: =C30+1 -> 23 | D31: CONT | E31: - | F31: =IF(E31=1,1,0) -> 0 | G31: 2 | H31: =IF(G31=1,1,0) -> 0 | I31: 2 | J31: =IF(I31=1,1,0) -> 0 | K31: 2 | L31: =IF(K31=1,1,0) -> 0 | M31: - | N31: =IF(M31=1,1,0) -> 0 | O31: - | P31: =IF(O31=1,1,0) -> 0 | Q31: - | R31: =IF(Q31=1,1,0) -> 0 | S31: =COUNTIFS($D31:$R31,"1")/2 -> 0 | T31: =IF(AND(K31=1,E31<>1,G31<>1,I31<>1,M31<>1,O31<>1,Q31<>1),1,0) -> 0 | U31: ='LR Results_2B_Composite'!H27 -> 1 | V31: =IF(AND(D31="CONT",T31=1,U31=0),1,0) -> 0 | W31: =IF($D31="CF",COUNTIFS($D31:$R31,"1")/2,"") | X31: =IF($D31="CFNR",COUNTIFS($D31:$R31,"1")/2,"") | Y31: =IF($D31="CONT",COUNTIFS($D31:$R31,"1")/2,"") -> 0
A32: =A31+1 -> 23 | B32: =B31+1 -> 23 | C32: =C31+1 -> 24 | D32: CONT | E32: - | F32: =IF(E32=1,1,0) -> 0 | G32: 2 | H32: =IF(G32=1,1,0) -> 0 | I32: 2 | J32: =IF(I32=1,1,0) -> 0 | K32: 2 | L32: =IF(K32=1,1,0) -> 0 | M32: - | N32: =IF(M32=1,1,0) -> 0 | O32: - | P32: =IF(O32=1,1,0) -> 0 | Q32: - | R32: =IF(Q32=1,1,0) -> 0 | S32: =COUNTIFS($D32:$R32,"1")/2 -> 0 | T32: =IF(AND(K32=1,E32<>1,G32<>1,I32<>1,M32<>1,O32<>1,Q32<>1),1,0) -> 0 | U32: ='LR Results_2B_Composite'!H28 -> 1 | V32: =IF(AND(D32="CONT",T32=1,U32=0),1,0) -> 0 | W32: =IF($D32="CF",COUNTIFS($D32:$R32,"1")/2,"") | X32: =IF($D32="CFNR",COUNTIFS($D32:$R32,"1")/2,"") | Y32: =IF($D32="CONT",COUNTIFS($D32:$R32,"1")/2,"") -> 0
A33: =A32+1 -> 24 | B33: =B32+1 -> 24 | C33: =C32+1 -> 25 | D33: CONT | E33: - | F33: =IF(E33=1,1,0) -> 0 | G33: 2 | H33: =IF(G33=1,1,0) -> 0 | I33: 2 | J33: =IF(I33=1,1,0) -> 0 | K33: 2 | L33: =IF(K33=1,1,0) -> 0 | M33: - | N33: =IF(M33=1,1,0) -> 0 | O33: - | P33: =IF(O33=1,1,0) -> 0 | Q33: - | R33: =IF(Q33=1,1,0) -> 0 | S33: =COUNTIFS($D33:$R33,"1")/2 -> 0 | T33: =IF(AND(K33=1,E33<>1,G33<>1,I33<>1,M33<>1,O33<>1,Q33<>1),1,0) -> 0 | U33: ='LR Results_2B_Composite'!H29 -> 1 | V33: =IF(AND(D33="CONT",T33=1,U33=0),1,0) -> 0 | W33: =IF($D33="CF",COUNTIFS($D33:$R33,"1")/2,"") | X33: =IF($D33="CFNR",COUNTIFS($D33:$R33,"1")/2,"") | Y33: =IF($D33="CONT",COUNTIFS($D33:$R33,"1")/2,"") -> 0
A34: =A33+1 -> 25 | B34: =B33+1 -> 25 | C34: =C33+1 -> 26 | D34: CONT | E34: 2 | F34: =IF(E34=1,1,0) -> 0 | G34: 1 | H34: =IF(G34=1,1,0) -> 1 | I34: 2 | J34: =IF(I34=1,1,0) -> 0 | K34: 2 | L34: =IF(K34=1,1,0) -> 0 | M34: 1 | N34: =IF(M34=1,1,0) -> 1 | O34: 2 | P34: =IF(O34=1,1,0) -> 0 | Q34: 2 | R34: =IF(Q34=1,1,0) -> 0 | S34: =COUNTIFS($D34:$R34,"1")/2 -> 2 | T34: =IF(AND(K34=1,E34<>1,G34<>1,I34<>1,M34<>1,O34<>1,Q34<>1),1,0) -> 0 | U34: ='LR Results_2B_Composite'!H30 -> 1 | V34: =IF(AND(D34="CONT",T34=1,U34=0),1,0) -> 0 | W34: =IF($D34="CF",COUNTIFS($D34:$R34,"1")/2,"") | X34: =IF($D34="CFNR",COUNTIFS($D34:$R34,"1")/2,"") | Y34: =IF($D34="CONT",COUNTIFS($D34:$R34,"1")/2,"") -> 2
A35: =A34+1 -> 26 | B35: =B34+1 -> 26 | C35: =C34+1 -> 27 | D35: CFNR | E35: 1 | F35: =IF(E35=1,1,0) -> 1 | G35: 2 | H35: =IF(G35=1,1,0) -> 0 | I35: 2 | J35: =IF(I35=1,1,0) -> 0 | K35: 2 | L35: =IF(K35=1,1,0) -> 0 | M35: 2 | N35: =IF(M35=1,1,0) -> 0 | O35: 2 | P35: =IF(O35=1,1,0) -> 0 | Q35: 99 | R35: =IF(Q35=1,1,0) -> 0 | S35: =COUNTIFS($D35:$R35,"1")/2 -> 1 | T35: =IF(AND(K35=1,E35<>1,G35<>1,I35<>1,M35<>1,O35<>1,Q35<>1),1,0) -> 0 | U35: ='LR Results_2B_Composite'!H31 -> 1 | V35: =IF(AND(D35="CONT",T35=1,U35=0),1,0) -> 0 | W35: =IF($D35="CF",COUNTIFS($D35:$R35,"1")/2,"") | X35: =IF($D35="CFNR",COUNTIFS($D35:$R35,"1")/2,"") -> 1 | Y35: =IF($D35="CONT",COUNTIFS($D35:$R35,"1")/2,"")
A36: =A35+1 -> 27 | B36: =B35+1 -> 27 | C36: =C35+1 -> 28 | D36: CONT | E36: - | F36: =IF(E36=1,1,0) -> 0 | G36: 2 | H36: =IF(G36=1,1,0) -> 0 | I36: 2 | J36: =IF(I36=1,1,0) -> 0 | K36: 2 | L36: =IF(K36=1,1,0) -> 0 | M36: 1 | N36: =IF(M36=1,1,0) -> 1 | O36: 2 | P36: =IF(O36=1,1,0) -> 0 | Q36: - | R36: =IF(Q36=1,1,0) -> 0 | S36: =COUNTIFS($D36:$R36,"1")/2 -> 1 | T36: =IF(AND(K36=1,E36<>1,G36<>1,I36<>1,M36<>1,O36<>1,Q36<>1),1,0) -> 0 | U36: ='LR Results_2B_Composite'!H32 -> 1 | V36: =IF(AND(D36="CONT",T36=1,U36=0),1,0) -> 0 | W36: =IF($D36="CF",COUNTIFS($D36:$R36,"1")/2,"") | X36: =IF($D36="CFNR",COUNTIFS($D36:$R36,"1")/2,"") | Y36: =IF($D36="CONT",COUNTIFS($D36:$R36,"1")/2,"") -> 1
A37: =A36+1 -> 28 | B37: =B36+1 -> 28 | C37: =C36+1 -> 29 | D37: CONT | E37: - | F37: =IF(E37=1,1,0) -> 0 | G37: 2 | H37: =IF(G37=1,1,0) -> 0 | I37: 2 | J37: =IF(I37=1,1,0) -> 0 | K37: 1 | L37: =IF(K37=1,1,0) -> 1 | M37: 2 | N37: =IF(M37=1,1,0) -> 0 | O37: 2 | P37: =IF(O37=1,1,0) -> 0 | Q37: 1 | R37: =IF(Q37=1,1,0) -> 1 | S37: =COUNTIFS($D37:$R37,"1")/2 -> 2 | T37: =IF(AND(K37=1,E37<>1,G37<>1,I37<>1,M37<>1,O37<>1,Q37<>1),1,0) -> 0 | U37: ='LR Results_2B_Composite'!H33 -> 0 | V37: =IF(AND(D37="CONT",T37=1,U37=0),1,0) -> 0 | W37: =IF($D37="CF",COUNTIFS($D37:$R37,"1")/2,"") | X37: =IF($D37="CFNR",COUNTIFS($D37:$R37,"1")/2,"") | Y37: =IF($D37="CONT",COUNTIFS($D37:$R37,"1")/2,"") -> 2
A38: =A37+1 -> 29 | B38: =B37+1 -> 29 | C38: =C37+1 -> 30 | D38: CONT | E38: - | F38: =IF(E38=1,1,0) -> 0 | G38: 2 | H38: =IF(G38=1,1,0) -> 0 | I38: 2 | J38: =IF(I38=1,1,0) -> 0 | K38: 2 | L38: =IF(K38=1,1,0) -> 0 | M38: - | N38: =IF(M38=1,1,0) -> 0 | O38: - | P38: =IF(O38=1,1,0) -> 0 | Q38: - | R38: =IF(Q38=1,1,0) -> 0 | S38: =COUNTIFS($D38:$R38,"1")/2 -> 0 | T38: =IF(AND(K38=1,E38<>1,G38<>1,I38<>1,M38<>1,O38<>1,Q38<>1),1,0) -> 0 | U38: ='LR Results_2B_Composite'!H34 -> 0 | V38: =IF(AND(D38="CONT",T38=1,U38=0),1,0) -> 0 | W38: =IF($D38="CF",COUNTIFS($D38:$R38,"1")/2,"") | X38: =IF($D38="CFNR",COUNTIFS($D38:$R38,"1")/2,"") | Y38: =IF($D38="CONT",COUNTIFS($D38:$R38,"1")/2,"") -> 0
A39: =A38+1 -> 30 | B39: =B38+1 -> 30 | C39: =C38+1 -> 31 | D39: CONT | E39: - | F39: =IF(E39=1,1,0) -> 0 | G39: 2 | H39: =IF(G39=1,1,0) -> 0 | I39: 2 | J39: =IF(I39=1,1,0) -> 0 | K39: 2 | L39: =IF(K39=1,1,0) -> 0 | M39: - | N39: =IF(M39=1,1,0) -> 0 | O39: - | P39: =IF(O39=1,1,0) -> 0 | Q39: - | R39: =IF(Q39=1,1,0) -> 0 | S39: =COUNTIFS($D39:$R39,"1")/2 -> 0 | T39: =IF(AND(K39=1,E39<>1,G39<>1,I39<>1,M39<>1,O39<>1,Q39<>1),1,0) -> 0 | U39: ='LR Results_2B_Composite'!H35 -> 1 | V39: =IF(AND(D39="CONT",T39=1,U39=0),1,0) -> 0 | W39: =IF($D39="CF",COUNTIFS($D39:$R39,"1")/2,"") | X39: =IF($D39="CFNR",COUNTIFS($D39:$R39,"1")/2,"") | Y39: =IF($D39="CONT",COUNTIFS($D39:$R39,"1")/2,"") -> 0
A40: =A39+1 -> 31 | B40: =B39+1 -> 31 | C40: =C39+1 -> 32 | D40: CONT | E40: - | F40: =IF(E40=1,1,0) -> 0 | G40: 2 | H40: =IF(G40=1,1,0) -> 0 | I40: 2 | J40: =IF(I40=1,1,0) -> 0 | K40: 1 | L40: =IF(K40=1,1,0) -> 1 | M40: 2 | N40: =IF(M40=1,1,0) -> 0 | O40: 2 | P40: =IF(O40=1,1,0) -> 0 | Q40: 2 | R40: =IF(Q40=1,1,0) -> 0 | S40: =COUNTIFS($D40:$R40,"1")/2 -> 1 | T40: =IF(AND(K40=1,E40<>1,G40<>1,I40<>1,M40<>1,O40<>1,Q40<>1),1,0) -> 1 | U40: ='LR Results_2B_Composite'!H36 -> 0 | V40: =IF(AND(D40="CONT",T40=1,U40=0),1,0) -> 1 | W40: =IF($D40="CF",COUNTIFS($D40:$R40,"1")/2,"") | X40: =IF($D40="CFNR",COUNTIFS($D40:$R40,"1")/2,"") | Y40: =IF($D40="CONT",COUNTIFS($D40:$R40,"1")/2,"") -> 1
A41: =A40+1 -> 32 | B41: =B40+1 -> 32 | C41: =C40+1 -> 33 | D41: CONT | E41: - | F41: =IF(E41=1,1,0) -> 0 | G41: 2 | H41: =IF(G41=1,1,0) -> 0 | I41: 2 | J41: =IF(I41=1,1,0) -> 0 | K41: 1 | L41: =IF(K41=1,1,0) -> 1 | M41: 1 | N41: =IF(M41=1,1,0) -> 1 | O41: 2 | P41: =IF(O41=1,1,0) -> 0 | Q41: 1 | R41: =IF(Q41=1,1,0) -> 1 | S41: =COUNTIFS($D41:$R41,"1")/2 -> 3 | T41: =IF(AND(K41=1,E41<>1,G41<>1,I41<>1,M41<>1,O41<>1,Q41<>1),1,0) -> 0 | U41: ='LR Results_2B_Composite'!H37 -> 1 | V41: =IF(AND(D41="CONT",T41=1,U41=0),1,0) -> 0 | W41: =IF($D41="CF",COUNTIFS($D41:$R41,"1")/2,"") | X41: =IF($D41="CFNR",COUNTIFS($D41:$R41,"1")/2,"") | Y41: =IF($D41="CONT",COUNTIFS($D41:$R41,"1")/2,"") -> 3
A42: =A41+1 -> 33 | B42: =B41+1 -> 33 | C42: =C41+1 -> 34 | D42: CONT | E42: 1 | F42: =IF(E42=1,1,0) -> 1 | G42: 2 | H42: =IF(G42=1,1,0) -> 0 | I42: 2 | J42: =IF(I42=1,1,0) -> 0 | K42: 2 | L42: =IF(K42=1,1,0) -> 0 | M42: - | N42: =IF(M42=1,1,0) -> 0 | O42: - | P42: =IF(O42=1,1,0) -> 0 | Q42: - | R42: =IF(Q42=1,1,0) -> 0 | S42: =COUNTIFS($D42:$R42,"1")/2 -> 1 | T42: =IF(AND(K42=1,E42<>1,G42<>1,I42<>1,M42<>1,O42<>1,Q42<>1),1,0) -> 0 | U42: ='LR Results_2B_Composite'!H38 -> 1 | V42: =IF(AND(D42="CONT",T42=1,U42=0),1,0) -> 0 | W42: =IF($D42="CF",COUNTIFS($D42:$R42,"1")/2,"") | X42: =IF($D42="CFNR",COUNTIFS($D42:$R42,"1")/2,"") | Y42: =IF($D42="CONT",COUNTIFS($D42:$R42,"1")/2,"") -> 1
A43: =A42+1 -> 34 | B43: =B42+1 -> 34 | C43: =C42+1 -> 35 | D43: CONT | E43: 99 | F43: =IF(E43=1,1,0) -> 0 | G43: 2 | H43: =IF(G43=1,1,0) -> 0 | I43: 2 | J43: =IF(I43=1,1,0) -> 0 | K43: 2 | L43: =IF(K43=1,1,0) -> 0 | M43: 1 | N43: =IF(M43=1,1,0) -> 1 | O43: 1 | P43: =IF(O43=1,1,0) -> 1 | Q43: 99 | R43: =IF(Q43=1,1,0) -> 0 | S43: =COUNTIFS($D43:$R43,"1")/2 -> 2 | T43: =IF(AND(K43=1,E43<>1,G43<>1,I43<>1,M43<>1,O43<>1,Q43<>1),1,0) -> 0 | U43: ='LR Results_2B_Composite'!H39 -> 1 | V43: =IF(AND(D43="CONT",T43=1,U43=0),1,0) -> 0 | W43: =IF($D43="CF",COUNTIFS($D43:$R43,"1")/2,"") | X43: =IF($D43="CFNR",COUNTIFS($D43:$R43,"1")/2,"") | Y43: =IF($D43="CONT",COUNTIFS($D43:$R43,"1")/2,"") -> 2
A44: =A43+1 -> 35 | B44: =B43+1 -> 35 | C44: =C43+1 -> 36 | D44: CONT | E44: - | F44: =IF(E44=1,1,0) -> 0 | G44: 2 | H44: =IF(G44=1,1,0) -> 0 | I44: 2 | J44: =IF(I44=1,1,0) -> 0 | K44: 1 | L44: =IF(K44=1,1,0) -> 1 | M44: 1 | N44: =IF(M44=1,1,0) -> 1 | O44: 2 | P44: =IF(O44=1,1,0) -> 0 | Q44: 1 | R44: =IF(Q44=1,1,0) -> 1 | S44: =COUNTIFS($D44:$R44,"1")/2 -> 3 | T44: =IF(AND(K44=1,E44<>1,G44<>1,I44<>1,M44<>1,O44<>1,Q44<>1),1,0) -> 0 | U44: ='LR Results_2B_Composite'!H40 -> 1 | V44: =IF(AND(D44="CONT",T44=1,U44=0),1,0) -> 0 | W44: =IF($D44="CF",COUNTIFS($D44:$R44,"1")/2,"") | X44: =IF($D44="CFNR",COUNTIFS($D44:$R44,"1")/2,"") | Y44: =IF($D44="CONT",COUNTIFS($D44:$R44,"1")/2,"") -> 3
...

Sheet Setup
AH1: index | AI1: 1 | AJ1: 2 | AK1: 3 | AL1: 4 | AM1: 5 | AN1: 6 | AO1: 7
AH2: column | AI2: 4 | AJ2: 5 | AK2: 15 | AL2: 24 | AM2: 33 | AN2: 34 | AO2: 44
T3: Determination of the specific CF-related conditions associated with each of the 35 three -variate LR models and the assignment of a case # to each model | AI3: Pancreatic Insufficiency | AJ3: Pancreatitis | AK3: family history | AL3: bronchiectasis/ tree in bud | AM3: Gram negative bacterial infection | AN3: Gram positive bacterial infection | AO3: NTM (MAC or non-Mac)
AJ5: Database Column
B6: Binary | C6: 1 | D6: =C6+1 -> 2 | E6: =D6+1 -> 3 | F6: =E6+1 -> 4 | G6: =F6+1 -> 5 | H6: =G6+1 -> 6 | I6: =H6+1 -> 7 | J6: # 1's = 3 | K6: Index | L6: A1 | M6: A2 | N6: A3 | O6: A4 | P6: A5 | Q6: A6 | R6: A7 | U6: 1 | V6: =U6+1 -> 2 | W6: =V6+1 -> 3 | X6: =W6+1 -> 4 | Y6: =X6+1 -> 5 | Z6: =Y6+1 -> 6 | AA6: =Z6+1 -> 7 | AC6: Case | AD6: A1 | AE6: A2 | AF6: A3 | AI6: Case | AJ6: A1 | AK6: A2 | AL6: A3
A7: 1 | B7: =DEC2BIN(A7,7) -> 0000001 | C7: =MID($B7,COLUMN()-(COLUMN($C7)-1),1) -> 0 | D7: =MID($B7,COLUMN()-(COLUMN($C7)-1),1) -> 0 | E7: =MID($B7,COLUMN()-(COLUMN($C7)-1),1) -> 0 | F7: =MID($B7,COLUMN()-(COLUMN($C7)-1),1) -> 0 | G7: =MID($B7,COLUMN()-(COLUMN($C7)-1),1) -> 0 | H7: =MID($B7,COLUMN()-(COLUMN($C7)-1),1) -> 0 | I7: =MID($B7,COLUMN()-(COLUMN($C7)-1),1) -> 1 | J7: =IF(C7+D7+E7+F7+G7+H7+I7=3,"Y","") | K7: 1 | L7: =IF($J13="Y",C13*1,"") -> 0 | M7: =IF($J13="Y",D13*1,"") -> 0 | N7: =IF($J13="Y",E13*1,"") -> 0 | O7: =IF($J13="Y",F13*1,"") -> 0 | P7: =IF($J13="Y",G13*1,"") -> 1 | Q7: =IF($J13="Y",H13*1,"") -> 1 | R7: =IF($J13="Y",I13*1,"") -> 1 | T7: 1 | U7: =IF(L7=1,U$6,"") | V7: =IF(M7=1,V$6,"") | W7: =IF(N7=1,W$6,"") | X7: =IF(O7=1,X$6,"") | Y7: =IF(P7=1,Y$6,"") -> 5 | Z7: =IF(Q7=1,Z$6,"") -> 6 | AA7: =IF(R7=1,AA$6,"") -> 7 | AC7: 1 | AD7: 5 | AE7: 6 | AF7: 7 | AI7: 1 | AJ7: =OFFSET($AI$1,1,AD7-1) -> 33 | AK7: =OFFSET($AI$1,1,AE7-1) -> 34 | AL7: =OFFSET($AI$1,1,AO1-1) -> 44
A8: =A7+1 -> 2 | B8: =DEC2BIN(A8,7) -> 0000010 | C8: =MID($B8,COLUMN()-(COLUMN($C8)-1),1) -> 0 | D8: =MID($B8,COLUMN()-(COLUMN($C8)-1),1) -> 0 | E8: =MID($B8,COLUMN()-(COLUMN($C8)-1),1) -> 0 | F8: =MID($B8,COLUMN()-(COLUMN($C8)-1),1) -> 0 | G8: =MID($B8,COLUMN()-(COLUMN($C8)-1),1) -> 0 | H8: =MID($B8,COLUMN()-(COLUMN($C8)-1),1) -> 1 | I8: =MID($B8,COLUMN()-(COLUMN($C8)-1),1) -> 0 | J8: =IF(C8+D8+E8+F8+G8+H8+I8=3,"Y","") | K8: 2 | L8: =IF($J17="Y",C17*1,"") -> 0 | M8: =IF($J17="Y",D17*1,"") -> 0 | N8: =IF($J17="Y",E17*1,"") -> 0 | O8: =IF($J17="Y",F17*1,"") -> 1 | P8: =IF($J17="Y",G17*1,"") -> 0 | Q8: =IF($J17="Y",H17*1,"") -> 1 | R8: =IF($J17="Y",I17*1,"") -> 1 | T8: 2 | U8: =IF(L8=1,U$6,"") | V8: =IF(M8=1,V$6,"") | W8: =IF(N8=1,W$6,"") | X8: =IF(O8=1,X$6,"") -> 4 | Y8: =IF(P8=1,Y$6,"") | Z8: =IF(Q8=1,Z$6,"") -> 6 | AA8: =IF(R8=1,AA$6,"") -> 7 | AC8: 2 | AD8: 4 | AE8: 6 | AF8: 7 | AI8: 2 | AJ8: =OFFSET($AI$1,1,AD8-1) -> 24 | AK8: =OFFSET($AI$1,1,AE8-1) -> 34 | AL8: =OFFSET($AI$1,1,AF8-1) -> 44
A9: =A8+1 -> 3 | B9: =DEC2BIN(A9,7) -> 0000011 | C9: =MID($B9,COLUMN()-(COLUMN($C9)-1),1) -> 0 | D9: =MID($B9,COLUMN()-(COLUMN($C9)-1),1) -> 0 | E9: =MID($B9,COLUMN()-(COLUMN($C9)-1),1) -> 0 | F9: =MID($B9,COLUMN()-(COLUMN($C9)-1),1) -> 0 | G9: =MID($B9,COLUMN()-(COLUMN($C9)-1),1) -> 0 | H9: =MID($B9,COLUMN()-(COLUMN($C9)-1),1) -> 1 | I9: =MID($B9,COLUMN()-(COLUMN($C9)-1),1) -> 1 | J9: =IF(C9+D9+E9+F9+G9+H9+I9=3,"Y","") | K9: 3 | L9: =IF($J19="Y",C19*1,"") -> 0 | M9: =IF($J19="Y",D19*1,"") -> 0 | N9: =IF($J19="Y",E19*1,"") -> 0 | O9: =IF($J19="Y",F19*1,"") -> 1 | P9: =IF($J19="Y",G19*1,"") -> 1 | Q9: =IF($J19="Y",H19*1,"") -> 0 | R9: =IF($J19="Y",I19*1,"") -> 1 | T9: 3 | U9: =IF(L9=1,U$6,"") | V9: =IF(M9=1,V$6,"") | W9: =IF(N9=1,W$6,"") | X9: =IF(O9=1,X$6,"") -> 4 | Y9: =IF(P9=1,Y$6,"") -> 5 | Z9: =IF(Q9=1,Z$6,"") | AA9: =IF(R9=1,AA$6,"") -> 7 | AC9: 3 | AD9: 4 | AE9: 5 | AF9: 7 | AI9: 3 | AJ9: =OFFSET($AI$1,1,AD9-1) -> 24 | AK9: =OFFSET($AI$1,1,AE9-1) -> 33 | AL9: =OFFSET($AI$1,1,AF9-1) -> 44
A10: =A9+1 -> 4 | B10: =DEC2BIN(A10,7) -> 0000100 | C10: =MID($B10,COLUMN()-(COLUMN($C10)-1),1) -> 0 | D10: =MID($B10,COLUMN()-(COLUMN($C10)-1),1) -> 0 | E10: =MID($B10,COLUMN()-(COLUMN($C10)-1),1) -> 0 | F10: =MID($B10,COLUMN()-(COLUMN($C10)-1),1) -> 0 | G10: =MID($B10,COLUMN()-(COLUMN($C10)-1),1) -> 1 | H10: =MID($B10,COLUMN()-(COLUMN($C10)-1),1) -> 0 | I10: =MID($B10,COLUMN()-(COLUMN($C10)-1),1) -> 0 | J10: =IF(C10+D10+E10+F10+G10+H10+I10=3,"Y","") | K10: 4 | L10: =IF($J20="Y",C20*1,"") -> 0 | M10: =IF($J20="Y",D20*1,"") -> 0 | N10: =IF($J20="Y",E20*1,"") -> 0 | O10: =IF($J20="Y",F20*1,"") -> 1 | P10: =IF($J20="Y",G20*1,"") -> 1 | Q10: =IF($J20="Y",H20*1,"") -> 1 | R10: =IF($J20="Y",I20*1,"") -> 0 | T10: 4 | U10: =IF(L10=1,U$6,"") | V10: =IF(M10=1,V$6,"") | W10: =IF(N10=1,W$6,"") | X10: =IF(O10=1,X$6,"") -> 4 | Y10: =IF(P10=1,Y$6,"") -> 5 | Z10: =IF(Q10=1,Z$6,"") -> 6 | AA10: =IF(R10=1,AA$6,"") | AC10: 4 | AD10: 4 | AE10: 5 | AF10: 6 | AI10: 4 | AJ10: =OFFSET($AI$1,1,AD10-1) -> 24 | AK10: =OFFSET($AI$1,1,AE10-1) -> 33 | AL10: =OFFSET($AI$1,1,AF10-1) -> 34
A11: =A10+1 -> 5 | B11: =DEC2BIN(A11,7) -> 0000101 | C11: =MID($B11,COLUMN()-(COLUMN($C11)-1),1) -> 0 | D11: =MID($B11,COLUMN()-(COLUMN($C11)-1),1) -> 0 | E11: =MID($B11,COLUMN()-(COLUMN($C11)-1),1) -> 0 | F11: =MID($B11,COLUMN()-(COLUMN($C11)-1),1) -> 0 | G11: =MID($B11,COLUMN()-(COLUMN($C11)-1),1) -> 1 | H11: =MID($B11,COLUMN()-(COLUMN($C11)-1),1) -> 0 | I11: =MID($B11,COLUMN()-(COLUMN($C11)-1),1) -> 1 | J11: =IF(C11+D11+E11+F11+G11+H11+I11=3,"Y","") | K11: 5 | L11: =IF($J25="Y",C25*1,"") -> 0 | M11: =IF($J25="Y",D25*1,"") -> 0 | N11: =IF($J25="Y",E25*1,"") -> 1 | O11: =IF($J25="Y",F25*1,"") -> 0 | P11: =IF($J25="Y",G25*1,"") -> 0 | Q11: =IF($J25="Y",H25*1,"") -> 1 | R11: =IF($J25="Y",I25*1,"") -> 1 | T11: 5 | U11: =IF(L11=1,U$6,"") | V11: =IF(M11=1,V$6,"") | W11: =IF(N11=1,W$6,"") -> 3 | X11: =IF(O11=1,X$6,"") | Y11: =IF(P11=1,Y$6,"") | Z11: =IF(Q11=1,Z$6,"") -> 6 | AA11: =IF(R11=1,AA$6,"") -> 7 | AC11: 5 | AD11: 3 | AE11: 6 | AF11: 7 | AI11: 5 | AJ11: =OFFSET($AI$1,1,AD11-1) -> 15 | AK11: =OFFSET($AI$1,1,AE11-1) -> 34 | AL11: =OFFSET($AI$1,1,AF11-1) -> 44
A12: =A11+1 -> 6 | B12: =DEC2BIN(A12,7) -> 0000110 | C12: =MID($B12,COLUMN()-(COLUMN($C12)-1),1) -> 0 | D12: =MID($B12,COLUMN()-(COLUMN($C12)-1),1) -> 0 | E12: =MID($B12,COLUMN()-(COLUMN($C12)-1),1) -> 0 | F12: =MID($B12,COLUMN()-(COLUMN($C12)-1),1) -> 0 | G12: =MID($B12,COLUMN()-(COLUMN($C12)-1),1) -> 1 | H12: =MID($B12,COLUMN()-(COLUMN($C12)-1),1) -> 1 | I12: =MID($B12,COLUMN()-(COLUMN($C12)-1),1) -> 0 | J12: =IF(C12+D12+E12+F12+G12+H12+I12=3,"Y","") | K12: 6 | L12: =IF($J27="Y",C27*1,"") -> 0 | M12: =IF($J27="Y",D27*1,"") -> 0 | N12: =IF($J27="Y",E27*1,"") -> 1 | O12: =IF($J27="Y",F27*1,"") -> 0 | P12: =IF($J27="Y",G27*1,"") -> 1 | Q12: =IF($J27="Y",H27*1,"") -> 0 | R12: =IF($J27="Y",I27*1,"") -> 1 | T12: 6 | U12: =IF(L12=1,U$6,"") | V12: =IF(M12=1,V$6,"") | W12: =IF(N12=1,W$6,"") -> 3 | X12: =IF(O12=1,X$6,"") | Y12: =IF(P12=1,Y$6,"") -> 5 | Z12: =IF(Q12=1,Z$6,"") | AA12: =IF(R12=1,AA$6,"") -> 7 | AC12: 6 | AD12: 3 | AE12: 5 | AF12: 7 | AI12: 6 | AJ12: =OFFSET($AI$1,1,AD12-1) -> 15 | AK12: =OFFSET($AI$1,1,AE12-1) -> 33 | AL12: =OFFSET($AI$1,1,AF12-1) -> 44
A13: =A12+1 -> 7 | B13: =DEC2BIN(A13,7) -> 0000111 | C13: =MID($B13,COLUMN()-(COLUMN($C13)-1),1) -> 0 | D13: =MID($B13,COLUMN()-(COLUMN($C13)-1),1) -> 0 | E13: =MID($B13,COLUMN()-(COLUMN($C13)-1),1) -> 0 | F13: =MID($B13,COLUMN()-(COLUMN($C13)-1),1) -> 0 | G13: =MID($B13,COLUMN()-(COLUMN($C13)-1),1) -> 1 | H13: =MID($B13,COLUMN()-(COLUMN($C13)-1),1) -> 1 | I13: =MID($B13,COLUMN()-(COLUMN($C13)-1),1) -> 1 | J13: =IF(C13+D13+E13+F13+G13+H13+I13=3,"Y","") -> Y | K13: 7 | L13: =IF($J28="Y",C28*1,"") -> 0 | M13: =IF($J28="Y",D28*1,"") -> 0 | N13: =IF($J28="Y",E28*1,"") -> 1 | O13: =IF($J28="Y",F28*1,"") -> 0 | P13: =IF($J28="Y",G28*1,"") -> 1 | Q13: =IF($J28="Y",H28*1,"") -> 1 | R13: =IF($J28="Y",I28*1,"") -> 0 | T13: 7 | U13: =IF(L13=1,U$6,"") | V13: =IF(M13=1,V$6,"") | W13: =IF(N13=1,W$6,"") -> 3 | X13: =IF(O13=1,X$6,"") | Y13: =IF(P13=1,Y$6,"") -> 5 | Z13: =IF(Q13=1,Z$6,"") -> 6 | AA13: =IF(R13=1,AA$6,"") | AC13: 7 | AD13: 3 | AE13: 5 | AF13: 6 | AI13: 7 | AJ13: =OFFSET($AI$1,1,AD13-1) -> 15 | AK13: =OFFSET($AI$1,1,AE13-1) -> 33 | AL13: =OFFSET($AI$1,1,AF13-1) -> 34
A14: =A13+1 -> 8 | B14: =DEC2BIN(A14,7) -> 0001000 | C14: =MID($B14,COLUMN()-(COLUMN($C14)-1),1) -> 0 | D14: =MID($B14,COLUMN()-(COLUMN($C14)-1),1) -> 0 | E14: =MID($B14,COLUMN()-(COLUMN($C14)-1),1) -> 0 | F14: =MID($B14,COLUMN()-(COLUMN($C14)-1),1) -> 1 | G14: =MID($B14,COLUMN()-(COLUMN($C14)-1),1) -> 0 | H14: =MID($B14,COLUMN()-(COLUMN($C14)-1),1) -> 0 | I14: =MID($B14,COLUMN()-(COLUMN($C14)-1),1) -> 0 | J14: =IF(C14+D14+E14+F14+G14+H14+I14=3,"Y","") | K14: 8 | L14: =IF($J31="Y",C31*1,"") -> 0 | M14: =IF($J31="Y",D31*1,"") -> 0 | N14: =IF($J31="Y",E31*1,"") -> 1 | O14: =IF($J31="Y",F31*1,"") -> 1 | P14: =IF($J31="Y",G31*1,"") -> 0 | Q14: =IF($J31="Y",H31*1,"") -> 0 | R14: =IF($J31="Y",I31*1,"") -> 1 | T14: 8 | U14: =IF(L14=1,U$6,"") | V14: =IF(M14=1,V$6,"") | W14: =IF(N14=1,W$6,"") -> 3 | X14: =IF(O14=1,X$6,"") -> 4 | Y14: =IF(P14=1,Y$6,"") | Z14: =IF(Q14=1,Z$6,"") | AA14: =IF(R14=1,AA$6,"") -> 7 | AC14: 8 | AD14: 3 | AE14: 4 | AF14: 7 | AI14: 8 | AJ14: =OFFSET($AI$1,1,AD14-1) -> 15 | AK14: =OFFSET($AI$1,1,AE14-1) -> 24 | AL14: =OFFSET($AI$1,1,AF14-1) -> 44
A15: =A14+1 -> 9 | B15: =DEC2BIN(A15,7) -> 0001001 | C15: =MID($B15,COLUMN()-(COLUMN($C15)-1),1) -> 0 | D15: =MID($B15,COLUMN()-(COLUMN($C15)-1),1) -> 0 | E15: =MID($B15,COLUMN()-(COLUMN($C15)-1),1) -> 0 | F15: =MID($B15,COLUMN()-(COLUMN($C15)-1),1) -> 1 | G15: =MID($B15,COLUMN()-(COLUMN($C15)-1),1) -> 0 | H15: =MID($B15,COLUMN()-(COLUMN($C15)-1),1) -> 0 | I15: =MID($B15,COLUMN()-(COLUMN($C15)-1),1) -> 1 | J15: =IF(C15+D15+E15+F15+G15+H15+I15=3,"Y","") | K15: 9 | L15: =IF($J32="Y",C32*1,"") -> 0 | M15: =IF($J32="Y",D32*1,"") -> 0 | N15: =IF($J32="Y",E32*1,"") -> 1 | O15: =IF($J32="Y",F32*1,"") -> 1 | P15: =IF($J32="Y",G32*1,"") -> 0 | Q15: =IF($J32="Y",H32*1,"") -> 1 | R15: =IF($J32="Y",I32*1,"") -> 0 | T15: 9 | U15: =IF(L15=1,U$6,"") | V15: =IF(M15=1,V$6,"") | W15: =IF(N15=1,W$6,"") -> 3 | X15: =IF(O15=1,X$6,"") -> 4 | Y15: =IF(P15=1,Y$6,"") | Z15: =IF(Q15=1,Z$6,"") -> 6 | AA15: =IF(R15=1,AA$6,"") | AC15: 9 | AD15: 3 | AE15: 4 | AF15: 6 | AI15: 9 | AJ15: =OFFSET($AI$1,1,AD15-1) -> 15 | AK15: =OFFSET($AI$1,1,AE15-1) -> 24 | AL15: =OFFSET($AI$1,1,AF15-1) -> 34
A16: =A15+1 -> 10 | B16: =DEC2BIN(A16,7) -> 0001010 | C16: =MID($B16,COLUMN()-(COLUMN($C16)-1),1) -> 0 | D16: =MID($B16,COLUMN()-(COLUMN($C16)-1),1) -> 0 | E16: =MID($B16,COLUMN()-(COLUMN($C16)-1),1) -> 0 | F16: =MID($B16,COLUMN()-(COLUMN($C16)-1),1) -> 1 | G16: =MID($B16,COLUMN()-(COLUMN($C16)-1),1) -> 0 | H16: =MID($B16,COLUMN()-(COLUMN($C16)-1),1) -> 1 | I16: =MID($B16,COLUMN()-(COLUMN($C16)-1),1) -> 0 | J16: =IF(C16+D16+E16+F16+G16+H16+I16=3,"Y","") | K16: 10 | L16: =IF($J34="Y",C34*1,"") -> 0 | M16: =IF($J34="Y",D34*1,"") -> 0 | N16: =IF($J34="Y",E34*1,"") -> 1 | O16: =IF($J34="Y",F34*1,"") -> 1 | P16: =IF($J34="Y",G34*1,"") -> 1 | Q16: =IF($J34="Y",H34*1,"") -> 0 | R16: =IF($J34="Y",I34*1,"") -> 0 | T16: 10 | U16: =IF(L16=1,U$6,"") | V16: =IF(M16=1,V$6,"") | W16: =IF(N16=1,W$6,"") -> 3 | X16: =IF(O16=1,X$6,"") -> 4 | Y16: =IF(P16=1,Y$6,"") -> 5 | Z16: =IF(Q16=1,Z$6,"") | AA16: =IF(R16=1,AA$6,"") | AC16: 10 | AD16: 3 | AE16: 4 | AF16: 5 | AI16: 10 | AJ16: =OFFSET($AI$1,1,AD16-1) -> 15 | AK16: =OFFSET($AI$1,1,AE16-1) -> 24 | AL16: =OFFSET($AI$1,1,AF16-1) -> 33
A17: =A16+1 -> 11 | B17: =DEC2BIN(A17,7) -> 0001011 | C17: =MID($B17,COLUMN()-(COLUMN($C17)-1),1) -> 0 | D17: =MID($B17,COLUMN()-(COLUMN($C17)-1),1) -> 0 | E17: =MID($B17,COLUMN()-(COLUMN($C17)-1),1) -> 0 | F17: =MID($B17,COLUMN()-(COLUMN($C17)-1),1) -> 1 | G17: =MID($B17,COLUMN()-(COLUMN($C17)-1),1) -> 0 | H17: =MID($B17,COLUMN()-(COLUMN($C17)-1),1) -> 1 | I17: =MID($B17,COLUMN()-(COLUMN($C17)-1),1) -> 1 | J17: =IF(C17+D17+E17+F17+G17+H17+I17=3,"Y","") -> Y | K17: 11 | L17: =IF($J41="Y",C41*1,"") -> 0 | M17: =IF($J41="Y",D41*1,"") -> 1 | N17: =IF($J41="Y",E41*1,"") -> 0 | O17: =IF($J41="Y",F41*1,"") -> 0 | P17: =IF($J41="Y",G41*1,"") -> 0 | Q17: =IF($J41="Y",H41*1,"") -> 1 | R17: =IF($J41="Y",I41*1,"") -> 1 | T17: 11 | U17: =IF(L17=1,U$6,"") | V17: =IF(M17=1,V$6,"") -> 2 | W17: =IF(N17=1,W$6,"") | X17: =IF(O17=1,X$6,"") | Y17: =IF(P17=1,Y$6,"") | Z17: =IF(Q17=1,Z$6,"") -> 6 | AA17: =IF(R17=1,AA$6,"") -> 7 | AC17: 11 | AD17: 2 | AE17: 6 | AF17: 7 | AI17: 11 | AJ17: =OFFSET($AI$1,1,AD17-1) -> 5 | AK17: =OFFSET($AI$1,1,AE17-1) -> 34 | AL17: =OFFSET($AI$1,1,AF17-1) -> 44
A18: =A17+1 -> 12 | B18: =DEC2BIN(A18,7) -> 0001100 | C18: =MID($B18,COLUMN()-(COLUMN($C18)-1),1) -> 0 | D18: =MID($B18,COLUMN()-(COLUMN($C18)-1),1) -> 0 | E18: =MID($B18,COLUMN()-(COLUMN($C18)-1),1) -> 0 | F18: =MID($B18,COLUMN()-(COLUMN($C18)-1),1) -> 1 | G18: =MID($B18,COLUMN()-(COLUMN($C18)-1),1) -> 1 | H18: =MID($B18,COLUMN()-(COLUMN($C18)-1),1) -> 0 | I18: =MID($B18,COLUMN()-(COLUMN($C18)-1),1) -> 0 | J18: =IF(C18+D18+E18+F18+G18+H18+I18=3,"Y","") | K18: 12 | L18: =IF($J43="Y",C43*1,"") -> 0 | M18: =IF($J43="Y",D43*1,"") -> 1 | N18: =IF($J43="Y",E43*1,"") -> 0 | O18: =IF($J43="Y",F43*1,"") -> 0 | P18: =IF($J43="Y",G43*1,"") -> 1 | Q18: =IF($J43="Y",H43*1,"") -> 0 | R18: =IF($J43="Y",I43*1,"") -> 1 | T18: 12 | U18: =IF(L18=1,U$6,"") | V18: =IF(M18=1,V$6,"") -> 2 | W18: =IF(N18=1,W$6,"") | X18: =IF(O18=1,X$6,"") | Y18: =IF(P18=1,Y$6,"") -> 5 | Z18: =IF(Q18=1,Z$6,"") | AA18: =IF(R18=1,AA$6,"") -> 7 | AC18: 12 | AD18: 2 | AE18: 5 | AF18: 7 | AI18: 12 | AJ18: =OFFSET($AI$1,1,AD18-1) -> 5 | AK18: =OFFSET($AI$1,1,AE18-1) -> 33 | AL18: =OFFSET($AI$1,1,AF18-1) -> 44
A19: =A18+1 -> 13 | B19: =DEC2BIN(A19,7) -> 0001101 | C19: =MID($B19,COLUMN()-(COLUMN($C19)-1),1) -> 0 | D19: =MID($B19,COLUMN()-(COLUMN($C19)-1),1) -> 0 | E19: =MID($B19,COLUMN()-(COLUMN($C19)-1),1) -> 0 | F19: =MID($B19,COLUMN()-(COLUMN($C19)-1),1) -> 1 | G19: =MID($B19,COLUMN()-(COLUMN($C19)-1),1) -> 1 | H19: =MID($B19,COLUMN()-(COLUMN($C19)-1),1) -> 0 | I19: =MID($B19,COLUMN()-(COLUMN($C19)-1),1) -> 1 | J19: =IF(C19+D19+E19+F19+G19+H19+I19=3,"Y","") -> Y | K19: 13 | L19: =IF($J44="Y",C44*1,"") -> 0 | M19: =IF($J44="Y",D44*1,"") -> 1 | N19: =IF($J44="Y",E44*1,"") -> 0 | O19: =IF($J44="Y",F44*1,"") -> 0 | P19: =IF($J44="Y",G44*1,"") -> 1 | Q19: =IF($J44="Y",H44*1,"") -> 1 | R19: =IF($J44="Y",I44*1,"") -> 0 | T19: 13 | U19: =IF(L19=1,U$6,"") | V19: =IF(M19=1,V$6,"") -> 2 | W19: =IF(N19=1,W$6,"") | X19: =IF(O19=1,X$6,"") | Y19: =IF(P19=1,Y$6,"") -> 5 | Z19: =IF(Q19=1,Z$6,"") -> 6 | AA19: =IF(R19=1,AA$6,"") | AC19: 13 | AD19: 2 | AE19: 5 | AF19: 6 | AI19: 13 | AJ19: =OFFSET($AI$1,1,AD19-1) -> 5 | AK19: =OFFSET($AI$1,1,AE19-1) -> 33 | AL19: =OFFSET($AI$1,1,AF19-1) -> 34
A20: =A19+1 -> 14 | B20: =DEC2BIN(A20,7) -> 0001110 | C20: =MID($B20,COLUMN()-(COLUMN($C20)-1),1) -> 0 | D20: =MID($B20,COLUMN()-(COLUMN($C20)-1),1) -> 0 | E20: =MID($B20,COLUMN()-(COLUMN($C20)-1),1) -> 0 | F20: =MID($B20,COLUMN()-(COLUMN($C20)-1),1) -> 1 | G20: =MID($B20,COLUMN()-(COLUMN($C20)-1),1) -> 1 | H20: =MID($B20,COLUMN()-(COLUMN($C20)-1),1) -> 1 | I20: =MID($B20,COLUMN()-(COLUMN($C20)-1),1) -> 0 | J20: =IF(C20+D20+E20+F20+G20+H20+I20=3,"Y","") -> Y | K20: 14 | L20: =IF($J47="Y",C47*1,"") -> 0 | M20: =IF($J47="Y",D47*1,"") -> 1 | N20: =IF($J47="Y",E47*1,"") -> 0 | O20: =IF($J47="Y",F47*1,"") -> 1 | P20: =IF($J47="Y",G47*1,"") -> 0 | Q20: =IF($J47="Y",H47*1,"") -> 0 | R20: =IF($J47="Y",I47*1,"") -> 1 | T20: 14 | U20: =IF(L20=1,U$6,"") | V20: =IF(M20=1,V$6,"") -> 2 | W20: =IF(N20=1,W$6,"") | X20: =IF(O20=1,X$6,"") -> 4 | Y20: =IF(P20=1,Y$6,"") | Z20: =IF(Q20=1,Z$6,"") | AA20: =IF(R20=1,AA$6,"") -> 7 | AC20: 14 | AD20: 2 | AE20: 4 | AF20: 7 | AI20: 14 | AJ20: =OFFSET($AI$1,1,AD20-1) -> 5 | AK20: =OFFSET($AI$1,1,AE20-1) -> 24 | AL20: =OFFSET($AI$1,1,AF20-1) -> 44
A21: =A20+1 -> 15 | B21: =DEC2BIN(A21,7) -> 0001111 | C21: =MID($B21,COLUMN()-(COLUMN($C21)-1),1) -> 0 | D21: =MID($B21,COLUMN()-(COLUMN($C21)-1),1) -> 0 | E21: =MID($B21,COLUMN()-(COLUMN($C21)-1),1) -> 0 | F21: =MID($B21,COLUMN()-(COLUMN($C21)-1),1) -> 1 | G21: =MID($B21,COLUMN()-(COLUMN($C21)-1),1) -> 1 | H21: =MID($B21,COLUMN()-(COLUMN($C21)-1),1) -> 1 | I21: =MID($B21,COLUMN()-(COLUMN($C21)-1),1) -> 1 | J21: =IF(C21+D21+E21+F21+G21+H21+I21=3,"Y","") | K21: 15 | L21: =IF($J48="Y",C48*1,"") -> 0 | M21: =IF($J48="Y",D48*1,"") -> 1 | N21: =IF($J48="Y",E48*1,"") -> 0 | O21: =IF($J48="Y",F48*1,"") -> 1 | P21: =IF($J48="Y",G48*1,"") -> 0 | Q21: =IF($J48="Y",H48*1,"") -> 1 | R21: =IF($J48="Y",I48*1,"") -> 0 | T21: 15 | U21: =IF(L21=1,U$6,"") | V21: =IF(M21=1,V$6,"") -> 2 | W21: =IF(N21=1,W$6,"") | X21: =IF(O21=1,X$6,"") -> 4 | Y21: =IF(P21=1,Y$6,"") | Z21: =IF(Q21=1,Z$6,"") -> 6 | AA21: =IF(R21=1,AA$6,"") | AC21: 15 | AD21: 2 | AE21: 4 | AF21: 6 | AI21: 15 | AJ21: =OFFSET($AI$1,1,AD21-1) -> 5 | AK21: =OFFSET($AI$1,1,AE21-1) -> 24 | AL21: =OFFSET($AI$1,1,AF21-1) -> 34
A22: =A21+1 -> 16 | B22: =DEC2BIN(A22,7) -> 0010000 | C22: =MID($B22,COLUMN()-(COLUMN($C22)-1),1) -> 0 | D22: =MID($B22,COLUMN()-(COLUMN($C22)-1),1) -> 0 | E22: =MID($B22,COLUMN()-(COLUMN($C22)-1),1) -> 1 | F22: =MID($B22,COLUMN()-(COLUMN($C22)-1),1) -> 0 | G22: =MID($B22,COLUMN()-(COLUMN($C22)-1),1) -> 0 | H22: =MID($B22,COLUMN()-(COLUMN($C22)-1),1) -> 0 | I22: =MID($B22,COLUMN()-(COLUMN($C22)-1),1) -> 0 | J22: =IF(C22+D22+E22+F22+G22+H22+I22=3,"Y","") | K22: 16 | L22: =IF($J50="Y",C50*1,"") -> 0 | M22: =IF($J50="Y",D50*1,"") -> 1 | N22: =IF($J50="Y",E50*1,"") -> 0 | O22: =IF($J50="Y",F50*1,"") -> 1 | P22: =IF($J50="Y",G50*1,"") -> 1 | Q22: =IF($J50="Y",H50*1,"") -> 0 | R22: =IF($J50="Y",I50*1,"") -> 0 | T22: 16 | U22: =IF(L22=1,U$6,"") | V22: =IF(M22=1,V$6,"") -> 2 | W22: =IF(N22=1,W$6,"") | X22: =IF(O22=1,X$6,"") -> 4 | Y22: =IF(P22=1,Y$6,"") -> 5 | Z22: =IF(Q22=1,Z$6,"") | AA22: =IF(R22=1,AA$6,"") | AC22: 16 | AD22: 2 | AE22: 4 | AF22: 5 | AI22: 16 | AJ22: =OFFSET($AI$1,1,AD22-1) -> 5 | AK22: =OFFSET($AI$1,1,AE22-1) -> 24 | AL22: =OFFSET($AI$1,1,AF22-1) -> 33
A23: =A22+1 -> 17 | B23: =DEC2BIN(A23,7) -> 0010001 | C23: =MID($B23,COLUMN()-(COLUMN($C23)-1),1) -> 0 | D23: =MID($B23,COLUMN()-(COLUMN($C23)-1),1) -> 0 | E23: =MID($B23,COLUMN()-(COLUMN($C23)-1),1) -> 1 | F23: =MID($B23,COLUMN()-(COLUMN($C23)-1),1) -> 0 | G23: =MID($B23,COLUMN()-(COLUMN($C23)-1),1) -> 0 | H23: =MID($B23,COLUMN()-(COLUMN($C23)-1),1) -> 0 | I23: =MID($B23,COLUMN()-(COLUMN($C23)-1),1) -> 1 | J23: =IF(C23+D23+E23+F23+G23+H23+I23=3,"Y","") | K23: 17 | L23: =IF($J55="Y",C55*1,"") -> 0 | M23: =IF($J55="Y",D55*1,"") -> 1 | N23: =IF($J55="Y",E55*1,"") -> 1 | O23: =IF($J55="Y",F55*1,"") -> 0 | P23: =IF($J55="Y",G55*1,"") -> 0 | Q23: =IF($J55="Y",H55*1,"") -> 0 | R23: =IF($J55="Y",I55*1,"") -> 1 | T23: 17 | U23: =IF(L23=1,U$6,"") | V23: =IF(M23=1,V$6,"") -> 2 | W23: =IF(N23=1,W$6,"") -> 3 | X23: =IF(O23=1,X$6,"") | Y23: =IF(P23=1,Y$6,"") | Z23: =IF(Q23=1,Z$6,"") | AA23: =IF(R23=1,AA$6,"") -> 7 | AC23: 17 | AD23: 2 | AE23: 3 | AF23: 7 | AI23: 17 | AJ23: =OFFSET($AI$1,1,AD23-1) -> 5 | AK23: =OFFSET($AI$1,1,AE23-1) -> 15 | AL23: =OFFSET($AI$1,1,AF23-1) -> 44
A24: =A23+1 -> 18 | B24: =DEC2BIN(A24,7) -> 0010010 | C24: =MID($B24,COLUMN()-(COLUMN($C24)-1),1) -> 0 | D24: =MID($B24,COLUMN()-(COLUMN($C24)-1),1) -> 0 | E24: =MID($B24,COLUMN()-(COLUMN($C24)-1),1) -> 1 | F24: =MID($B24,COLUMN()-(COLUMN($C24)-1),1) -> 0 | G24: =MID($B24,COLUMN()-(COLUMN($C24)-1),1) -> 0 | H24: =MID($B24,COLUMN()-(COLUMN($C24)-1),1) -> 1 | I24: =MID($B24,COLUMN()-(COLUMN($C24)-1),1) -> 0 | J24: =IF(C24+D24+E24+F24+G24+H24+I24=3,"Y","") | K24: 18 | L24: =IF($J56="Y",C56*1,"") -> 0 | M24: =IF($J56="Y",D56*1,"") -> 1 | N24: =IF($J56="Y",E56*1,"") -> 1 | O24: =IF($J56="Y",F56*1,"") -> 0 | P24: =IF($J56="Y",G56*1,"") -> 0 | Q24: =IF($J56="Y",H56*1,"") -> 1 | R24: =IF($J56="Y",I56*1,"") -> 0 | T24: 18 | U24: =IF(L24=1,U$6,"") | V24: =IF(M24=1,V$6,"") -> 2 | W24: =IF(N24=1,W$6,"") -> 3 | X24: =IF(O24=1,X$6,"") | Y24: =IF(P24=1,Y$6,"") | Z24: =IF(Q24=1,Z$6,"") -> 6 | AA24: =IF(R24=1,AA$6,"") | AC24: 18 | AD24: 2 | AE24: 3 | AF24: 6 | AI24: 18 | AJ24: =OFFSET($AI$1,1,AD24-1) -> 5 | AK24: =OFFSET($AI$1,1,AE24-1) -> 15 | AL24: =OFFSET($AI$1,1,AF24-1) -> 34
A25: =A24+1 -> 19 | B25: =DEC2BIN(A25,7) -> 0010011 | C25: =MID($B25,COLUMN()-(COLUMN($C25)-1),1) -> 0 | D25: =MID($B25,COLUMN()-(COLUMN($C25)-1),1) -> 0 | E25: =MID($B25,COLUMN()-(COLUMN($C25)-1),1) -> 1 | F25: =MID($B25,COLUMN()-(COLUMN($C25)-1),1) -> 0 | G25: =MID($B25,COLUMN()-(COLUMN($C25)-1),1) -> 0 | H25: =MID($B25,COLUMN()-(COLUMN($C25)-1),1) -> 1 | I25: =MID($B25,COLUMN()-(COLUMN($C25)-1),1) -> 1 | J25: =IF(C25+D25+E25+F25+G25+H25+I25=3,"Y","") -> Y | K25: 19 | L25: =IF($J58="Y",C58*1,"") -> 0 | M25: =IF($J58="Y",D58*1,"") -> 1 | N25: =IF($J58="Y",E58*1,"") -> 1 | O25: =IF($J58="Y",F58*1,"") -> 0 | P25: =IF($J58="Y",G58*1,"") -> 1 | Q25: =IF($J58="Y",H58*1,"") -> 0 | R25: =IF($J58="Y",I58*1,"") -> 0 | T25: 19 | U25: =IF(L25=1,U$6,"") | V25: =IF(M25=1,V$6,"") -> 2 | W25: =IF(N25=1,W$6,"") -> 3 | X25: =IF(O25=1,X$6,"") | Y25: =IF(P25=1,Y$6,"") -> 5 | Z25: =IF(Q25=1,Z$6,"") | AA25: =IF(R25=1,AA$6,"") | AC25: 19 | AD25: 2 | AE25: 3 | AF25: 5 | AI25: 19 | AJ25: =OFFSET($AI$1,1,AD25-1) -> 5 | AK25: =OFFSET($AI$1,1,AE25-1) -> 15 | AL25: =OFFSET($AI$1,1,AF25-1) -> 33
A26: =A25+1 -> 20 | B26: =DEC2BIN(A26,7) -> 0010100 | C26: =MID($B26,COLUMN()-(COLUMN($C26)-1),1) -> 0 | D26: =MID($B26,COLUMN()-(COLUMN($C26)-1),1) -> 0 | E26: =MID($B26,COLUMN()-(COLUMN($C26)-1),1) -> 1 | F26: =MID($B26,COLUMN()-(COLUMN($C26)-1),1) -> 0 | G26: =MID($B26,COLUMN()-(COLUMN($C26)-1),1) -> 1 | H26: =MID($B26,COLUMN()-(COLUMN($C26)-1),1) -> 0 | I26: =MID($B26,COLUMN()-(COLUMN($C26)-1),1) -> 0 | J26: =IF(C26+D26+E26+F26+G26+H26+I26=3,"Y","") | K26: 20 | L26: =IF($J62="Y",C62*1,"") -> 0 | M26: =IF($J62="Y",D62*1,"") -> 1 | N26: =IF($J62="Y",E62*1,"") -> 1 | O26: =IF($J62="Y",F62*1,"") -> 1 | P26: =IF($J62="Y",G62*1,"") -> 0 | Q26: =IF($J62="Y",H62*1,"") -> 0 | R26: =IF($J62="Y",I62*1,"") -> 0 | T26: 20 | U26: =IF(L26=1,U$6,"") | V26: =IF(M26=1,V$6,"") -> 2 | W26: =IF(N26=1,W$6,"") -> 3 | X26: =IF(O26=1,X$6,"") -> 4 | Y26: =IF(P26=1,Y$6,"") | Z26: =IF(Q26=1,Z$6,"") | AA26: =IF(R26=1,AA$6,"") | AC26: 20 | AD26: 2 | AE26: 3 | AF26: 4 | AI26: 20 | AJ26: =OFFSET($AI$1,1,AD26-1) -> 5 | AK26: =OFFSET($AI$1,1,AE26-1) -> 15 | AL26: =OFFSET($AI$1,1,AF26-1) -> 24
A27: =A26+1 -> 21 | B27: =DEC2BIN(A27,7) -> 0010101 | C27: =MID($B27,COLUMN()-(COLUMN($C27)-1),1) -> 0 | D27: =MID($B27,COLUMN()-(COLUMN($C27)-1),1) -> 0 | E27: =MID($B27,COLUMN()-(COLUMN($C27)-1),1) -> 1 | F27: =MID($B27,COLUMN()-(COLUMN($C27)-1),1) -> 0 | G27: =MID($B27,COLUMN()-(COLUMN($C27)-1),1) -> 1 | H27: =MID($B27,COLUMN()-(COLUMN($C27)-1),1) -> 0 | I27: =MID($B27,COLUMN()-(COLUMN($C27)-1),1) -> 1 | J27: =IF(C27+D27+E27+F27+G27+H27+I27=3,"Y","") -> Y | K27: 21 | L27: =IF($J73="Y",C73*1,"") -> 1 | M27: =IF($J73="Y",D73*1,"") -> 0 | N27: =IF($J73="Y",E73*1,"") -> 0 | O27: =IF($J73="Y",F73*1,"") -> 0 | P27: =IF($J73="Y",G73*1,"") -> 0 | Q27: =IF($J73="Y",H73*1,"") -> 1 | R27: =IF($J73="Y",I73*1,"") -> 1 | T27: 21 | U27: =IF(L27=1,U$6,"") -> 1 | V27: =IF(M27=1,V$6,"") | W27: =IF(N27=1,W$6,"") | X27: =IF(O27=1,X$6,"") | Y27: =IF(P27=1,Y$6,"") | Z27: =IF(Q27=1,Z$6,"") -> 6 | AA27: =IF(R27=1,AA$6,"") -> 7 | AC27: 21 | AD27: 1 | AE27: 6 | AF27: 7 | AI27: 21 | AJ27: =OFFSET($AI$1,1,AD27-1) -> 4 | AK27: =OFFSET($AI$1,1,AE27-1) -> 34 | AL27: =OFFSET($AI$1,1,AF27-1) -> 44
A28: =A27+1 -> 22 | B28: =DEC2BIN(A28,7) -> 0010110 | C28: =MID($B28,COLUMN()-(COLUMN($C28)-1),1) -> 0 | D28: =MID($B28,COLUMN()-(COLUMN($C28)-1),1) -> 0 | E28: =MID($B28,COLUMN()-(COLUMN($C28)-1),1) -> 1 | F28: =MID($B28,COLUMN()-(COLUMN($C28)-1),1) -> 0 | G28: =MID($B28,COLUMN()-(COLUMN($C28)-1),1) -> 1 | H28: =MID($B28,COLUMN()-(COLUMN($C28)-1),1) -> 1 | I28: =MID($B28,COLUMN()-(COLUMN($C28)-1),1) -> 0 | J28: =IF(C28+D28+E28+F28+G28+H28+I28=3,"Y","") -> Y | K28: 22 | L28: =IF($J75="Y",C75*1,"") -> 1 | M28: =IF($J75="Y",D75*1,"") -> 0 | N28: =IF($J75="Y",E75*1,"") -> 0 | O28: =IF($J75="Y",F75*1,"") -> 0 | P28: =IF($J75="Y",G75*1,"") -> 1 | Q28: =IF($J75="Y",H75*1,"") -> 0 | R28: =IF($J75="Y",I75*1,"") -> 1 | T28: 22 | U28: =IF(L28=1,U$6,"") -> 1 | V28: =IF(M28=1,V$6,"") | W28: =IF(N28=1,W$6,"") | X28: =IF(O28=1,X$6,"") | Y28: =IF(P28=1,Y$6,"") -> 5 | Z28: =IF(Q28=1,Z$6,"") | AA28: =IF(R28=1,AA$6,"") -> 7 | AC28: 22 | AD28: 1 | AE28: 5 | AF28: 7 | AI28: 22 | AJ28: =OFFSET($AI$1,1,AD28-1) -> 4 | AK28: =OFFSET($AI$1,1,AE28-1) -> 33 | AL28: =OFFSET($AI$1,1,AF28-1) -> 44
A29: =A28+1 -> 23 | B29: =DEC2BIN(A29,7) -> 0010111 | C29: =MID($B29,COLUMN()-(COLUMN($C29)-1),1) -> 0 | D29: =MID($B29,COLUMN()-(COLUMN($C29)-1),1) -> 0 | E29: =MID($B29,COLUMN()-(COLUMN($C29)-1),1) -> 1 | F29: =MID($B29,COLUMN()-(COLUMN($C29)-1),1) -> 0 | G29: =MID($B29,COLUMN()-(COLUMN($C29)-1),1) -> 1 | H29: =MID($B29,COLUMN()-(COLUMN($C29)-1),1) -> 1 | I29: =MID($B29,COLUMN()-(COLUMN($C29)-1),1) -> 1 | J29: =IF(C29+D29+E29+F29+G29+H29+I29=3,"Y","") | K29: 23 | L29: =IF($J76="Y",C76*1,"") -> 1 | M29: =IF($J76="Y",D76*1,"") -> 0 | N29: =IF($J76="Y",E76*1,"") -> 0 | O29: =IF($J76="Y",F76*1,"") -> 0 | P29: =IF($J76="Y",G76*1,"") -> 1 | Q29: =IF($J76="Y",H76*1,"") -> 1 | R29: =IF($J76="Y",I76*1,"") -> 0 | T29: 23 | U29: =IF(L29=1,U$6,"") -> 1 | V29: =IF(M29=1,V$6,"") | W29: =IF(N29=1,W$6,"") | X29: =IF(O29=1,X$6,"") | Y29: =IF(P29=1,Y$6,"") -> 5 | Z29: =IF(Q29=1,Z$6,"") -> 6 | AA29: =IF(R29=1,AA$6,"") | AC29: 23 | AD29: 1 | AE29: 5 | AF29: 6 | AI29: 23 | AJ29: =OFFSET($AI$1,1,AD29-1) -> 4 | AK29: =OFFSET($AI$1,1,AE29-1) -> 33 | AL29: =OFFSET($AI$1,1,AF29-1) -> 34
A30: =A29+1 -> 24 | B30: =DEC2BIN(A30,7) -> 0011000 | C30: =MID($B30,COLUMN()-(COLUMN($C30)-1),1) -> 0 | D30: =MID($B30,COLUMN()-(COLUMN($C30)-1),1) -> 0 | E30: =MID($B30,COLUMN()-(COLUMN($C30)-1),1) -> 1 | F30: =MID($B30,COLUMN()-(COLUMN($C30)-1),1) -> 1 | G30: =MID($B30,COLUMN()-(COLUMN($C30)-1),1) -> 0 | H30: =MID($B30,COLUMN()-(COLUMN($C30)-1),1) -> 0 | I30: =MID($B30,COLUMN()-(COLUMN($C30)-1),1) -> 0 | J30: =IF(C30+D30+E30+F30+G30+H30+I30=3,"Y","") | K30: 24 | L30: =IF($J79="Y",C79*1,"") -> 1 | M30: =IF($J79="Y",D79*1,"") -> 0 | N30: =IF($J79="Y",E79*1,"") -> 0 | O30: =IF($J79="Y",F79*1,"") -> 1 | P30: =IF($J79="Y",G79*1,"") -> 0 | Q30: =IF($J79="Y",H79*1,"") -> 0 | R30: =IF($J79="Y",I79*1,"") -> 1 | T30: 24 | U30: =IF(L30=1,U$6,"") -> 1 | V30: =IF(M30=1,V$6,"") | W30: =IF(N30=1,W$6,"") | X30: =IF(O30=1,X$6,"") -> 4 | Y30: =IF(P30=1,Y$6,"") | Z30: =IF(Q30=1,Z$6,"") | AA30: =IF(R30=1,AA$6,"") -> 7 | AC30: 24 | AD30: 1 | AE30: 4 | AF30: 7 | AI30: 24 | AJ30: =OFFSET($AI$1,1,AD30-1) -> 4 | AK30: =OFFSET($AI$1,1,AE30-1) -> 24 | AL30: =OFFSET($AI$1,1,AF30-1) -> 44
A31: =A30+1 -> 25 | B31: =DEC2BIN(A31,7) -> 0011001 | C31: =MID($B31,COLUMN()-(COLUMN($C31)-1),1) -> 0 | D31: =MID($B31,COLUMN()-(COLUMN($C31)-1),1) -> 0 | E31: =MID($B31,COLUMN()-(COLUMN($C31)-1),1) -> 1 | F31: =MID($B31,COLUMN()-(COLUMN($C31)-1),1) -> 1 | G31: =MID($B31,COLUMN()-(COLUMN($C31)-1),1) -> 0 | H31: =MID($B31,COLUMN()-(COLUMN($C31)-1),1) -> 0 | I31: =MID($B31,COLUMN()-(COLUMN($C31)-1),1) -> 1 | J31: =IF(C31+D31+E31+F31+G31+H31+I31=3,"Y","") -> Y | K31: 25 | L31: =IF($J80="Y",C80*1,"") -> 1 | M31: =IF($J80="Y",D80*1,"") -> 0 | N31: =IF($J80="Y",E80*1,"") -> 0 | O31: =IF($J80="Y",F80*1,"") -> 1 | P31: =IF($J80="Y",G80*1,"") -> 0 | Q31: =IF($J80="Y",H80*1,"") -> 1 | R31: =IF($J80="Y",I80*1,"") -> 0 | T31: 25 | U31: =IF(L31=1,U$6,"") -> 1 | V31: =IF(M31=1,V$6,"") | W31: =IF(N31=1,W$6,"") | X31: =IF(O31=1,X$6,"") -> 4 | Y31: =IF(P31=1,Y$6,"") | Z31: =IF(Q31=1,Z$6,"") -> 6 | AA31: =IF(R31=1,AA$6,"") | AC31: 25 | AD31: 1 | AE31: 4 | AF31: 6 | AI31: 25 | AJ31: =OFFSET($AI$1,1,AD31-1) -> 4 | AK31: =OFFSET($AI$1,1,AE31-1) -> 24 | AL31: =OFFSET($AI$1,1,AF31-1) -> 34
A32: =A31+1 -> 26 | B32: =DEC2BIN(A32,7) -> 0011010 | C32: =MID($B32,COLUMN()-(COLUMN($C32)-1),1) -> 0 | D32: =MID($B32,COLUMN()-(COLUMN($C32)-1),1) -> 0 | E32: =MID($B32,COLUMN()-(COLUMN($C32)-1),1) -> 1 | F32: =MID($B32,COLUMN()-(COLUMN($C32)-1),1) -> 1 | G32: =MID($B32,COLUMN()-(COLUMN($C32)-1),1) -> 0 | H32: =MID($B32,COLUMN()-(COLUMN($C32)-1),1) -> 1 | I32: =MID($B32,COLUMN()-(COLUMN($C32)-1),1) -> 0 | J32: =IF(C32+D32+E32+F32+G32+H32+I32=3,"Y","") -> Y | K32: 26 | L32: =IF($J82="Y",C82*1,"") -> 1 | M32: =IF($J82="Y",D82*1,"") -> 0 | N32: =IF($J82="Y",E82*1,"") -> 0 | O32: =IF($J82="Y",F82*1,"") -> 1 | P32: =IF($J82="Y",G82*1,"") -> 1 | Q32: =IF($J82="Y",H82*1,"") -> 0 | R32: =IF($J82="Y",I82*1,"") -> 0 | T32: 26 | U32: =IF(L32=1,U$6,"") -> 1 | V32: =IF(M32=1,V$6,"") | W32: =IF(N32=1,W$6,"") | X32: =IF(O32=1,X$6,"") -> 4 | Y32: =IF(P32=1,Y$6,"") -> 5 | Z32: =IF(Q32=1,Z$6,"") | AA32: =IF(R32=1,AA$6,"") | AC32: 26 | AD32: 1 | AE32: 4 | AF32: 5 | AI32: 26 | AJ32: =OFFSET($AI$1,1,AD32-1) -> 4 | AK32: =OFFSET($AI$1,1,AE32-1) -> 24 | AL32: =OFFSET($AI$1,1,AF32-1) -> 33
A33: =A32+1 -> 27 | B33: =DEC2BIN(A33,7) -> 0011011 | C33: =MID($B33,COLUMN()-(COLUMN($C33)-1),1) -> 0 | D33: =MID($B33,COLUMN()-(COLUMN($C33)-1),1) -> 0 | E33: =MID($B33,COLUMN()-(COLUMN($C33)-1),1) -> 1 | F33: =MID($B33,COLUMN()-(COLUMN($C33)-1),1) -> 1 | G33: =MID($B33,COLUMN()-(COLUMN($C33)-1),1) -> 0 | H33: =MID($B33,COLUMN()-(COLUMN($C33)-1),1) -> 1 | I33: =MID($B33,COLUMN()-(COLUMN($C33)-1),1) -> 1 | J33: =IF(C33+D33+E33+F33+G33+H33+I33=3,"Y","") | K33: 27 | L33: =IF($J87="Y",C87*1,"") -> 1 | M33: =IF($J87="Y",D87*1,"") -> 0 | N33: =IF($J87="Y",E87*1,"") -> 1 | O33: =IF($J87="Y",F87*1,"") -> 0 | P33: =IF($J87="Y",G87*1,"") -> 0 | Q33: =IF($J87="Y",H87*1,"") -> 0 | R33: =IF($J87="Y",I87*1,"") -> 1 | T33: 27 | U33: =IF(L33=1,U$6,"") -> 1 | V33: =IF(M33=1,V$6,"") | W33: =IF(N33=1,W$6,"") -> 3 | X33: =IF(O33=1,X$6,"") | Y33: =IF(P33=1,Y$6,"") | Z33: =IF(Q33=1,Z$6,"") | AA33: =IF(R33=1,AA$6,"") -> 7 | AC33: 27 | AD33: 1 | AE33: 3 | AF33: 7 | AI33: 27 | AJ33: =OFFSET($AI$1,1,AD33-1) -> 4 | AK33: =OFFSET($AI$1,1,AE33-1) -> 15 | AL33: =OFFSET($AI$1,1,AF33-1) -> 44
A34: =A33+1 -> 28 | B34: =DEC2BIN(A34,7) -> 0011100 | C34: =MID($B34,COLUMN()-(COLUMN($C34)-1),1) -> 0 | D34: =MID($B34,COLUMN()-(COLUMN($C34)-1),1) -> 0 | E34: =MID($B34,COLUMN()-(COLUMN($C34)-1),1) -> 1 | F34: =MID($B34,COLUMN()-(COLUMN($C34)-1),1) -> 1 | G34: =MID($B34,COLUMN()-(COLUMN($C34)-1),1) -> 1 | H34: =MID($B34,COLUMN()-(COLUMN($C34)-1),1) -> 0 | I34: =MID($B34,COLUMN()-(COLUMN($C34)-1),1) -> 0 | J34: =IF(C34+D34+E34+F34+G34+H34+I34=3,"Y","") -> Y | K34: 28 | L34: =IF($J88="Y",C88*1,"") -> 1 | M34: =IF($J88="Y",D88*1,"") -> 0 | N34: =IF($J88="Y",E88*1,"") -> 1 | O34: =IF($J88="Y",F88*1,"") -> 0 | P34: =IF($J88="Y",G88*1,"") -> 0 | Q34: =IF($J88="Y",H88*1,"") -> 1 | R34: =IF($J88="Y",I88*1,"") -> 0 | T34: 28 | U34: =IF(L34=1,U$6,"") -> 1 | V34: =IF(M34=1,V$6,"") | W34: =IF(N34=1,W$6,"") -> 3 | X34: =IF(O34=1,X$6,"") | Y34: =IF(P34=1,Y$6,"") | Z34: =IF(Q34=1,Z$6,"") -> 6 | AA34: =IF(R34=1,AA$6,"") | AC34: 28 | AD34: 1 | AE34: 3 | AF34: 6 | AI34: 28 | AJ34: =OFFSET($AI$1,1,AD34-1) -> 4 | AK34: =OFFSET($AI$1,1,AE34-1) -> 15 | AL34: =OFFSET($AI$1,1,AF34-1) -> 34
