Workbook
Name a_0: #REF!
Name a_1: #REF!
Name a_2: #REF!
Name a_est: #REF!
Name b_est: #REF!
Name c_0: #REF!
Name c_1: #REF!
Name c_2: #REF!
Name c_3: #REF!
Name case: 'Data 2'!$B$1
Name case: #REF!
Name CF_D: 'Composite Resampling'!$F$93
Name CF_D: 'LR Results_2B_Composite'!$D$91
Name CF_D: 'LR Results_2B_Composite (2)'!$D$52
Name CF_D: #REF!
Name CF_V: 'Composite Resampling'!$F$99
Name CF_V: 'LR Results_2B_Composite'!$D$97
Name CF_V: 'LR Results_2B_Composite (2)'!$D$58
Name CF_V: #REF!
Name CFEPIT: #REF!
Name CFN_V: 'Composite Resampling'!$F$101
Name CFN_V: 'LR Results_2B_Composite'!$D$99
Name CFN_V: 'LR Results_2B_Composite (2)'!$D$60
Name CFN_V: #REF!
Name CFNR_D: 'Composite Resampling'!$F$94
Name CFNR_D: 'LR Results_2B_Composite'!$D$92
Name CFNR_D: 'LR Results_2B_Composite (2)'!$D$53
Name CFNR_D: #REF!
Name CFNR_V: 'Composite Resampling'!$F$100
Name CFNR_V: 'LR Results_2B_Composite'!$D$98
Name CFNR_V: 'LR Results_2B_Composite (2)'!$D$59
Name CFNR_V: #REF!
Name CFNRT: #REF!
Name CFNRT_V: #REF!
Name CFNT: #REF!
Name CFNT_D: 'Composite Resampling'!$F$95
Name CFNT_D: 'LR Results_2B_Composite'!$D$93
Name CFNT_D: 'LR Results_2B_Composite (2)'!$D$54
Name CFNT_D: #REF!
Name CFNT_V: #REF!
Name CFPERTT: #REF!
Name CFT: #REF!
Name CFT_1: #REF!
Name CFT_MC: #REF!
Name CFT_V: #REF!
Name col_1: 'Data 2'!$B$3
Name col_1: #REF!
Name col_2: 'Data 2'!$B$4
Name col_2: #REF!
Name col_3: 'Data 2'!$B$5
Name col_3: #REF!
Name colmn_1: 'Data 2'!$E$2
Name colmn_2: 'Data 2'!$F$2
Name colmn_3: 'Data 2'!$G$2
Name colmn_4: 'Data 2'!$H$2
Name colmn_5: 'Data 2'!$I$2
Name colmn_6: 'Data 2'!$J$2
Name colmn_7: 'Data 2'!$K$2
Name CONTT: #REF!
Name CONTT_1: #REF!

Sheet Data 2
D1: index | E1: 1 | F1: 2 | G1: 3 | H1: 4 | I1: 5 | J1: 6 | K1: 7
D2: column | E2: =Setup!AI2 -> 4 | F2: =Setup!AJ2 -> 5 | G2: =Setup!AK2 -> 15 | H2: =Setup!AL2 -> 24 | I2: =Setup!AM2 -> 33 | J2: =Setup!AN2 -> 34 | K2: =Setup!AO2 -> 44
E3: Pancreatic Insufficiency | F3: Pancreatitis | G3: family history | H3: bronchiectasis/ tree in bud | I3: Gram negative bacterial infection | J3: Gram positive bacterial infection | K3: NTM (MAC or non-Mac) | M3: The table records for each Dataset 1 patient the value of each of the 7 CF-related predictors used in the LR analysis
Z8: Ave. # Symptoms for Each CF Type
A9: Offset | B9: Index | C9: Subject | D9: Category | E9: Pancreatic Insufficiency | F9: =E1 -> 1 | G9: Pancreatitis | H9: =F1 -> 2 | I9: family history | J9: =G1 -> 3 | K9: bronchiectasis/ tree in bud | L9: =H1 -> 4 | M9: Gram negative bacterial infection | N9: =I1 -> 5 | O9: Gram positive bacterial infection | P9: =J1 -> 6 | Q9: NTM (MAC or non-Mac) | R9: =K1 -> 7 | S9: LR Symptom Count | T9: Criterion 2 Satisfied | U9: Criterion 1 Recommended CF Testing | V9: Additional C Patients Tested | W9: # Symptoms per Patient CF | X9: # Symptoms per Patient CFNR | Y9: # Symptoms per Patient CONT | Z9: # Symptoms | AA9: # Symptoms Frequency | AB9: Average # Symptoms per Patient for Each CF Type
A10: =1 -> 1 | B10: =1 -> 1 | C10: 1 | D10: CONT | E10: - | F10: =IF(E10=1,1,0) -> 0 | G10: 2 | H10: =IF(G10=1,1,0) -> 0 | I10: 2 | J10: =IF(I10=1,1,0) -> 0 | K10: 2 | L10: =IF(K10=1,1,0) -> 0 | M10: - | N10: =IF(M10=1,1,0) -> 0 | O10: - | P10: =IF(O10=1,1,0) -> 0 | Q10: - | R10: =IF(Q10=1,1,0) -> 0 | S10: =COUNTIFS($D10:$R10,"1")/2 -> 0 | T10: =IF(AND(K10=1,E10<>1,G10<>1,I10<>1,M10<>1,O10<>1,Q10<>1),1,0) -> 0 | U10: ='LR Results_2B_Composite'!H6 -> 1 | V10: =IF(AND(D10="CONT",T10=1,U10=0),1,0) -> 0 | W10: =IF($D10="CF",COUNTIFS($D10:$R10,"1")/2,"") | X10: =IF($D10="CFNR",COUNTIFS($D10:$R10,"1")/2,"") | Y10: =IF($D10="CONT",COUNTIFS($D10:$R10,"1")/2,"") -> 0 | Z10: 0 | AA10: =COUNTIF($S$10:S$178,"0") -> 13 | AB10: =(SUMIF($D$10:$D$91,"CF",$S$10:$S$91)+SUMIF($D$92:$D$178,"CF",$S$92:$S$178))/(COUNTIF($D$10:$D$91,"CF")+COUNTIF($D$92:$D$178,"CF")) -> 3.75
A11: =A10+1 -> 2 | B11: =B10+1 -> 2 | C11: =B11 -> 2 | D11: CONT | E11: - | F11: =IF(E11=1,1,0) -> 0 | G11: 2 | H11: =IF(G11=1,1,0) -> 0 | I11: 2 | J11: =IF(I11=1,1,0) -> 0 | K11: 2 | L11: =IF(K11=1,1,0) -> 0 | M11: - | N11: =IF(M11=1,1,0) -> 0 | O11: - | P11: =IF(O11=1,1,0) -> 0 | Q11: - | R11: =IF(Q11=1,1,0) -> 0 | S11: =COUNTIFS($D11:$R11,"1")/2 -> 0 | T11: =IF(AND(K11=1,E11<>1,G11<>1,I11<>1,M11<>1,O11<>1,Q11<>1),1,0) -> 0 | U11: ='LR Results_2B_Composite'!H7 -> 1 | V11: =IF(AND(D11="CONT",T11=1,U11=0),1,0) -> 0 | W11: =IF($D11="CF",COUNTIFS($D11:$R11,"1")/2,"") | X11: =IF($D11="CFNR",COUNTIFS($D11:$R11,"1")/2,"") | Y11: =IF($D11="CONT",COUNTIFS($D11:$R11,"1")/2,"") -> 0 | Z11: 1 | AA11: =COUNTIF($S$10:S$178,"1") -> 28 | AB11: =(SUMIF($D$10:$D$91,"CFNR",$S$10:$S$91)+SUMIF($D$92:$D$178,"CFNR",$S$92:$S$178))/(COUNTIF($D$10:$D$91,"CFNR")+COUNTIF($D$92:$D$178,"CFNR")) -> 2
A12: =A11+1 -> 3 | B12: =B11+1 -> 3 | C12: =B12 -> 3 | D12: CONT | E12: - | F12: =IF(E12=1,1,0) -> 0 | G12: 2 | H12: =IF(G12=1,1,0) -> 0 | I12: 2 | J12: =IF(I12=1,1,0) -> 0 | K12: 1 | L12: =IF(K12=1,1,0) -> 1 | M12: 1 | N12: =IF(M12=1,1,0) -> 1 | O12: 2 | P12: =IF(O12=1,1,0) -> 0 | Q12: 2 | R12: =IF(Q12=1,1,0) -> 0 | S12: =COUNTIFS($D12:$R12,"1")/2 -> 2 | T12: =IF(AND(K12=1,E12<>1,G12<>1,I12<>1,M12<>1,O12<>1,Q12<>1),1,0) -> 0 | U12: ='LR Results_2B_Composite'!H8 -> 1 | V12: =IF(AND(D12="CONT",T12=1,U12=0),1,0) -> 0 | W12: =IF($D12="CF",COUNTIFS($D12:$R12,"1")/2,"") | X12: =IF($D12="CFNR",COUNTIFS($D12:$R12,"1")/2,"") | Y12: =IF($D12="CONT",COUNTIFS($D12:$R12,"1")/2,"") -> 2 | Z12: 2 | AA12: =COUNTIF($S$10:S$178,"2") -> 18 | AB12: =(SUMIF($D$10:$D$91,"CONT",$S$10:$S$91)+SUMIF($D$92:$D$178,"CONT",$S$92:$S$178))/(COUNTIF($D$10:$D$91,"CONT")+COUNTIF($D$92:$D$178,"CONT")) -> 1.6666667
A13: =A12+1 -> 4 | B13: =B12+1 -> 4 | C13: =B13 -> 4 | D13: CONT | E13: - | F13: =IF(E13=1,1,0) -> 0 | G13: 2 | H13: =IF(G13=1,1,0) -> 0 | I13: 2 | J13: =IF(I13=1,1,0) -> 0 | K13: 1 | L13: =IF(K13=1,1,0) -> 1 | M13: 2 | N13: =IF(M13=1,1,0) -> 0 | O13: 2 | P13: =IF(O13=1,1,0) -> 0 | Q13: 2 | R13: =IF(Q13=1,1,0) -> 0 | S13: =COUNTIFS($D13:$R13,"1")/2 -> 1 | T13: =IF(AND(K13=1,E13<>1,G13<>1,I13<>1,M13<>1,O13<>1,Q13<>1),1,0) -> 1 | U13: ='LR Results_2B_Composite'!H9 -> 0 | V13: =IF(AND(D13="CONT",T13=1,U13=0),1,0) -> 1 | W13: =IF($D13="CF",COUNTIFS($D13:$R13,"1")/2,"") | X13: =IF($D13="CFNR",COUNTIFS($D13:$R13,"1")/2,"") | Y13: =IF($D13="CONT",COUNTIFS($D13:$R13,"1")/2,"") -> 1 | Z13: 3 | AA13: =COUNTIF($S$10:S$178,"3") -> 18
A14: =A13+1 -> 5 | B14: =B13+1 -> 5 | C14: =B14 -> 5 | D14: CONT | E14: - | F14: =IF(E14=1,1,0) -> 0 | G14: 2 | H14: =IF(G14=1,1,0) -> 0 | I14: 2 | J14: =IF(I14=1,1,0) -> 0 | K14: 1 | L14: =IF(K14=1,1,0) -> 1 | M14: 1 | N14: =IF(M14=1,1,0) -> 1 | O14: 2 | P14: =IF(O14=1,1,0) -> 0 | Q14: 1 | R14: =IF(Q14=1,1,0) -> 1 | S14: =COUNTIFS($D14:$R14,"1")/2 -> 3 | T14: =IF(AND(K14=1,E14<>1,G14<>1,I14<>1,M14<>1,O14<>1,Q14<>1),1,0) -> 0 | U14: ='LR Results_2B_Composite'!H10 -> 1 | V14: =IF(AND(D14="CONT",T14=1,U14=0),1,0) -> 0 | W14: =IF($D14="CF",COUNTIFS($D14:$R14,"1")/2,"") | X14: =IF($D14="CFNR",COUNTIFS($D14:$R14,"1")/2,"") | Y14: =IF($D14="CONT",COUNTIFS($D14:$R14,"1")/2,"") -> 3 | Z14: 4 | AA14: =COUNTIF($S$10:S$178,"4") -> 6
A15: =A14+1 -> 6 | B15: =B14+1 -> 6 | C15: =B15 -> 6 | D15: CFNR | E15: - | F15: =IF(E15=1,1,0) -> 0 | G15: 1 | H15: =IF(G15=1,1,0) -> 1 | I15: 2 | J15: =IF(I15=1,1,0) -> 0 | K15: 1 | L15: =IF(K15=1,1,0) -> 1 | M15: 1 | N15: =IF(M15=1,1,0) -> 1 | O15: 2 | P15: =IF(O15=1,1,0) -> 0 | Q15: 2 | R15: =IF(Q15=1,1,0) -> 0 | S15: =COUNTIFS($D15:$R15,"1")/2 -> 3 | T15: =IF(AND(K15=1,E15<>1,G15<>1,I15<>1,M15<>1,O15<>1,Q15<>1),1,0) -> 0 | U15: ='LR Results_2B_Composite'!H11 -> 1 | V15: =IF(AND(D15="CONT",T15=1,U15=0),1,0) -> 0 | W15: =IF($D15="CF",COUNTIFS($D15:$R15,"1")/2,"") | X15: =IF($D15="CFNR",COUNTIFS($D15:$R15,"1")/2,"") -> 3 | Y15: =IF($D15="CONT",COUNTIFS($D15:$R15,"1")/2,"") | Z15: 5 | AA15: =COUNTIF($S$10:S$178,"5") -> 4
A16: =A15+1 -> 7 | B16: =B15+1 -> 7 | C16: =B16 -> 7 | D16: CFNR | E16: - | F16: =IF(E16=1,1,0) -> 0 | G16: 2 | H16: =IF(G16=1,1,0) -> 0 | I16: 2 | J16: =IF(I16=1,1,0) -> 0 | K16: 1 | L16: =IF(K16=1,1,0) -> 1 | M16: 2 | N16: =IF(M16=1,1,0) -> 0 | O16: 2 | P16: =IF(O16=1,1,0) -> 0 | Q16: 2 | R16: =IF(Q16=1,1,0) -> 0 | S16: =COUNTIFS($D16:$R16,"1")/2 -> 1 | T16: =IF(AND(K16=1,E16<>1,G16<>1,I16<>1,M16<>1,O16<>1,Q16<>1),1,0) -> 1 | U16: ='LR Results_2B_Composite'!H12 -> 0 | V16: =IF(AND(D16="CONT",T16=1,U16=0),1,0) -> 0 | W16: =IF($D16="CF",COUNTIFS($D16:$R16,"1")/2,"") | X16: =IF($D16="CFNR",COUNTIFS($D16:$R16,"1")/2,"") -> 1 | Y16: =IF($D16="CONT",COUNTIFS($D16:$R16,"1")/2,"") | Z16: 6 | AA16: =COUNTIF($S$10:S$178,"6") -> 0
A17: =A16+1 -> 8 | B17: =B16+1 -> 8 | C17: =B17 -> 8 | D17: CONT | E17: - | F17: =IF(E17=1,1,0) -> 0 | G17: 2 | H17: =IF(G17=1,1,0) -> 0 | I17: 2 | J17: =IF(I17=1,1,0) -> 0 | K17: 1 | L17: =IF(K17=1,1,0) -> 1 | M17: 1 | N17: =IF(M17=1,1,0) -> 1 | O17: 2 | P17: =IF(O17=1,1,0) -> 0 | Q17: 1 | R17: =IF(Q17=1,1,0) -> 1 | S17: =COUNTIFS($D17:$R17,"1")/2 -> 3 | T17: =IF(AND(K17=1,E17<>1,G17<>1,I17<>1,M17<>1,O17<>1,Q17<>1),1,0) -> 0 | U17: ='LR Results_2B_Composite'!H13 -> 1 | V17: =IF(AND(D17="CONT",T17=1,U17=0),1,0) -> 0 | W17: =IF($D17="CF",COUNTIFS($D17:$R17,"1")/2,"") | X17: =IF($D17="CFNR",COUNTIFS($D17:$R17,"1")/2,"") | Y17: =IF($D17="CONT",COUNTIFS($D17:$R17,"1")/2,"") -> 3 | AA17: =(AA14+AA15+AA16)/(AA10+AA11+AA12+AA13+AA14+AA15+AA16) -> 0.11494253
A18: =A17+1 -> 9 | B18: =B17+1 -> 9 | C18: =B18 -> 9 | D18: CONT | E18: - | F18: =IF(E18=1,1,0) -> 0 | G18: 2 | H18: =IF(G18=1,1,0) -> 0 | I18: 2 | J18: =IF(I18=1,1,0) -> 0 | K18: 2 | L18: =IF(K18=1,1,0) -> 0 | M18: - | N18: =IF(M18=1,1,0) -> 0 | O18: - | P18: =IF(O18=1,1,0) -> 0 | Q18: - | R18: =IF(Q18=1,1,0) -> 0 | S18: =COUNTIFS($D18:$R18,"1")/2 -> 0 | T18: =IF(AND(K18=1,E18<>1,G18<>1,I18<>1,M18<>1,O18<>1,Q18<>1),1,0) -> 0 | U18: ='LR Results_2B_Composite'!H14 -> 1 | V18: =IF(AND(D18="CONT",T18=1,U18=0),1,0) -> 0 | W18: =IF($D18="CF",COUNTIFS($D18:$R18,"1")/2,"") | X18: =IF($D18="CFNR",COUNTIFS($D18:$R18,"1")/2,"") | Y18: =IF($D18="CONT",COUNTIFS($D18:$R18,"1")/2,"") -> 0 | AA18: =SUM(AA10:AA16) -> 87
A19: =A18+1 -> 10 | B19: =B18+1 -> 10 | C19: =B19 -> 10 | D19: CONT | E19: 2 | F19: =IF(E19=1,1,0) -> 0 | G19: 2 | H19: =IF(G19=1,1,0) -> 0 | I19: 1 | J19: =IF(I19=1,1,0) -> 1 | K19: 1 | L19: =IF(K19=1,1,0) -> 1 | M19: 1 | N19: =IF(M19=1,1,0) -> 1 | O19: 2 | P19: =IF(O19=1,1,0) -> 0 | Q19: 1 | R19: =IF(Q19=1,1,0) -> 1 | S19: =COUNTIFS($D19:$R19,"1")/2 -> 4 | T19: =IF(AND(K19=1,E19<>1,G19<>1,I19<>1,M19<>1,O19<>1,Q19<>1),1,0) -> 0 | U19: ='LR Results_2B_Composite'!H15 -> 1 | V19: =IF(AND(D19="CONT",T19=1,U19=0),1,0) -> 0 | W19: =IF($D19="CF",COUNTIFS($D19:$R19,"1")/2,"") | X19: =IF($D19="CFNR",COUNTIFS($D19:$R19,"1")/2,"") | Y19: =IF($D19="CONT",COUNTIFS($D19:$R19,"1")/2,"") -> 4
A20: =A19+1 -> 11 | B20: =B19+1 -> 11 | C20: 12 | D20: CONT | E20: - | F20: =IF(E20=1,1,0) -> 0 | G20: 2 | H20: =IF(G20=1,1,0) -> 0 | I20: 2 | J20: =IF(I20=1,1,0) -> 0 | K20: 2 | L20: =IF(K20=1,1,0) -> 0 | M20: - | N20: =IF(M20=1,1,0) -> 0 | O20: - | P20: =IF(O20=1,1,0) -> 0 | Q20: - | R20: =IF(Q20=1,1,0) -> 0 | S20: =COUNTIFS($D20:$R20,"1")/2 -> 0 | T20: =IF(AND(K20=1,E20<>1,G20<>1,I20<>1,M20<>1,O20<>1,Q20<>1),1,0) -> 0 | U20: ='LR Results_2B_Composite'!H16 -> 0 | V20: =IF(AND(D20="CONT",T20=1,U20=0),1,0) -> 0 | W20: =IF($D20="CF",COUNTIFS($D20:$R20,"1")/2,"") | X20: =IF($D20="CFNR",COUNTIFS($D20:$R20,"1")/2,"") | Y20: =IF($D20="CONT",COUNTIFS($D20:$R20,"1")/2,"") -> 0
A21: =A20+1 -> 12 | B21: =B20+1 -> 12 | C21: =C20+1 -> 13 | D21: CONT | E21: 2 | F21: =IF(E21=1,1,0) -> 0 | G21: 2 | H21: =IF(G21=1,1,0) -> 0 | I21: 2 | J21: =IF(I21=1,1,0) -> 0 | K21: 1 | L21: =IF(K21=1,1,0) -> 1 | M21: 1 | N21: =IF(M21=1,1,0) -> 1 | O21: 2 | P21: =IF(O21=1,1,0) -> 0 | Q21: 1 | R21: =IF(Q21=1,1,0) -> 1 | S21: =COUNTIFS($D21:$R21,"1")/2 -> 3 | T21: =IF(AND(K21=1,E21<>1,G21<>1,I21<>1,M21<>1,O21<>1,Q21<>1),1,0) -> 0 | U21: ='LR Results_2B_Composite'!H17 -> 1 | V21: =IF(AND(D21="CONT",T21=1,U21=0),1,0) -> 0 | W21: =IF($D21="CF",COUNTIFS($D21:$R21,"1")/2,"") | X21: =IF($D21="CFNR",COUNTIFS($D21:$R21,"1")/2,"") | Y21: =IF($D21="CONT",COUNTIFS($D21:$R21,"1")/2,"") -> 3
A22: =A21+1 -> 13 | B22: =B21+1 -> 13 | C22: =C21+1 -> 14 | D22: CONT | E22: - | F22: =IF(E22=1,1,0) -> 0 | G22: 2 | H22: =IF(G22=1,1,0) -> 0 | I22: 2 | J22: =IF(I22=1,1,0) -> 0 | K22: 1 | L22: =IF(K22=1,1,0) -> 1 | M22: 1 | N22: =IF(M22=1,1,0) -> 1 | O22: 2 | P22: =IF(O22=1,1,0) -> 0 | Q22: 1 | R22: =IF(Q22=1,1,0) -> 1 | S22: =COUNTIFS($D22:$R22,"1")/2 -> 3 | T22: =IF(AND(K22=1,E22<>1,G22<>1,I22<>1,M22<>1,O22<>1,Q22<>1),1,0) -> 0 | U22: ='LR Results_2B_Composite'!H18 -> 1 | V22: =IF(AND(D22="CONT",T22=1,U22=0),1,0) -> 0 | W22: =IF($D22="CF",COUNTIFS($D22:$R22,"1")/2,"") | X22: =IF($D22="CFNR",COUNTIFS($D22:$R22,"1")/2,"") | Y22: =IF($D22="CONT",COUNTIFS($D22:$R22,"1")/2,"") -> 3
A23: =A22+1 -> 14 | B23: =B22+1 -> 14 | C23: =C22+1 -> 15 | D23: CONT | E23: - | F23: =IF(E23=1,1,0) -> 0 | G23: 2 | H23: =IF(G23=1,1,0) -> 0 | I23: 2 | J23: =IF(I23=1,1,0) -> 0 | K23: 1 | L23: =IF(K23=1,1,0) -> 1 | M23: 2 | N23: =IF(M23=1,1,0) -> 0 | O23: 2 | P23: =IF(O23=1,1,0) -> 0 | Q23: 2 | R23: =IF(Q23=1,1,0) -> 0 | S23: =COUNTIFS($D23:$R23,"1")/2 -> 1 | T23: =IF(AND(K23=1,E23<>1,G23<>1,I23<>1,M23<>1,O23<>1,Q23<>1),1,0) -> 1 | U23: ='LR Results_2B_Composite'!H19 -> 0 | V23: =IF(AND(D23="CONT",T23=1,U23=0),1,0) -> 1 | W23: =IF($D23="CF",COUNTIFS($D23:$R23,"1")/2,"") | X23: =IF($D23="CFNR",COUNTIFS($D23:$R23,"1")/2,"") | Y23: =IF($D23="CONT",COUNTIFS($D23:$R23,"1")/2,"") -> 1
A24: =A23+1 -> 15 | B24: =B23+1 -> 15 | C24: =C23+1 -> 16 | D24: CFNR | E24: - | F24: =IF(E24=1,1,0) -> 0 | G24: 2 | H24: =IF(G24=1,1,0) -> 0 | I24: 2 | J24: =IF(I24=1,1,0) -> 0 | K24: 1 | L24: =IF(K24=1,1,0) -> 1 | M24: 1 | N24: =IF(M24=1,1,0) -> 1 | O24: 1 | P24: =IF(O24=1,1,0) -> 1 | Q24: 2 | R24: =IF(Q24=1,1,0) -> 0 | S24: =COUNTIFS($D24:$R24,"1")/2 -> 3 | T24: =IF(AND(K24=1,E24<>1,G24<>1,I24<>1,M24<>1,O24<>1,Q24<>1),1,0) -> 0 | U24: ='LR Results_2B_Composite'!H20 -> 1 | V24: =IF(AND(D24="CONT",T24=1,U24=0),1,0) -> 0 | W24: =IF($D24="CF",COUNTIFS($D24:$R24,"1")/2,"") | X24: =IF($D24="CFNR",COUNTIFS($D24:$R24,"1")/2,"") -> 3 | Y24: =IF($D24="CONT",COUNTIFS($D24:$R24,"1")/2,"")
A25: =A24+1 -> 16 | B25: =B24+1 -> 16 | C25: =C24+1 -> 17 | D25: CONT | E25: - | F25: =IF(E25=1,1,0) -> 0 | G25: 2 | H25: =IF(G25=1,1,0) -> 0 | I25: 2 | J25: =IF(I25=1,1,0) -> 0 | K25: 1 | L25: =IF(K25=1,1,0) -> 1 | M25: 1 | N25: =IF(M25=1,1,0) -> 1 | O25: 2 | P25: =IF(O25=1,1,0) -> 0 | Q25: - | R25: =IF(Q25=1,1,0) -> 0 | S25: =COUNTIFS($D25:$R25,"1")/2 -> 2 | T25: =IF(AND(K25=1,E25<>1,G25<>1,I25<>1,M25<>1,O25<>1,Q25<>1),1,0) -> 0 | U25: ='LR Results_2B_Composite'!H21 -> 1 | V25: =IF(AND(D25="CONT",T25=1,U25=0),1,0) -> 0 | W25: =IF($D25="CF",COUNTIFS($D25:$R25,"1")/2,"") | X25: =IF($D25="CFNR",COUNTIFS($D25:$R25,"1")/2,"") | Y25: =IF($D25="CONT",COUNTIFS($D25:$R25,"1")/2,"") -> 2
A26: =A25+1 -> 17 | B26: =B25+1 -> 17 | C26: =C25+1 -> 18 | D26: CONT | E26: - | F26: =IF(E26=1,1,0) -> 0 | G26: 2 | H26: =IF(G26=1,1,0) -> 0 | I26: 2 | J26: =IF(I26=1,1,0) -> 0 | K26: 2 | L26: =IF(K26=1,1,0) -> 0 | M26: 1 | N26: =IF(M26=1,1,0) -> 1 | O26: 2 | P26: =IF(O26=1,1,0) -> 0 | Q26: - | R26: =IF(Q26=1,1,0) -> 0 | S26: =COUNTIFS($D26:$R26,"1")/2 -> 1 | T26: =IF(AND(K26=1,E26<>1,G26<>1,I26<>1,M26<>1,O26<>1,Q26<>1),1,0) -> 0 | U26: ='LR Results_2B_Composite'!H22 -> 1 | V26: =IF(AND(D26="CONT",T26=1,U26=0),1,0) -> 0 | W26: =IF($D26="CF",COUNTIFS($D26:$R26,"1")/2,"") | X26: =IF($D26="CFNR",COUNTIFS($D26:$R26,"1")/2,"") | Y26: =IF($D26="CONT",COUNTIFS($D26:$R26,"1")/2,"") -> 1
A27: =A26+1 -> 18 | B27: =B26+1 -> 18 | C27: =C26+1 -> 19 | D27: CONT | E27: - | F27: =IF(E27=1,1,0) -> 0 | G27: 2 | H27: =IF(G27=1,1,0) -> 0 | I27: 2 | J27: =IF(I27=1,1,0) -> 0 | K27: 1 | L27: =IF(K27=1,1,0) -> 1 | M27: 1 | N27: =IF(M27=1,1,0) -> 1 | O27: 1 | P27: =IF(O27=1,1,0) -> 1 | Q27: 99 | R27: =IF(Q27=1,1,0) -> 0 | S27: =COUNTIFS($D27:$R27,"1")/2 -> 3 | T27: =IF(AND(K27=1,E27<>1,G27<>1,I27<>1,M27<>1,O27<>1,Q27<>1),1,0) -> 0 | U27: ='LR Results_2B_Composite'!H23 -> 1 | V27: =IF(AND(D27="CONT",T27=1,U27=0),1,0) -> 0 | W27: =IF($D27="CF",COUNTIFS($D27:$R27,"1")/2,"") | X27: =IF($D27="CFNR",COUNTIFS($D27:$R27,"1")/2,"") | Y27: =IF($D27="CONT",COUNTIFS($D27:$R27,"1")/2,"") -> 3
A28: =A27+1 -> 19 | B28: =B27+1 -> 19 | C28: =C27+1 -> 20 | D28: CONT | E28: - | F28: =IF(E28=1,1,0) -> 0 | G28: 2 | H28: =IF(G28=1,1,0) -> 0 | I28: 2 | J28: =IF(I28=1,1,0) -> 0 | K28: 1 | L28: =IF(K28=1,1,0) -> 1 | M28: 99 | N28: =IF(M28=1,1,0) -> 0 | O28: 99 | P28: =IF(O28=1,1,0) -> 0 | Q28: 99 | R28: =IF(Q28=1,1,0) -> 0 | S28: =COUNTIFS($D28:$R28,"1")/2 -> 1 | T28: =IF(AND(K28=1,E28<>1,G28<>1,I28<>1,M28<>1,O28<>1,Q28<>1),1,0) -> 1 | U28: ='LR Results_2B_Composite'!H24 -> 0 | V28: =IF(AND(D28="CONT",T28=1,U28=0),1,0) -> 1 | W28: =IF($D28="CF",COUNTIFS($D28:$R28,"1")/2,"") | X28: =IF($D28="CFNR",COUNTIFS($D28:$R28,"1")/2,"") | Y28: =IF($D28="CONT",COUNTIFS($D28:$R28,"1")/2,"") -> 1
A29: =A28+1 -> 20 | B29: =B28+1 -> 20 | C29: =C28+1 -> 21 | D29: CFNR | E29: - | F29: =IF(E29=1,1,0) -> 0 | G29: 1 | H29: =IF(G29=1,1,0) -> 1 | I29: 2 | J29: =IF(I29=1,1,0) -> 0 | K29: 2 | L29: =IF(K29=1,1,0) -> 0 | M29: - | N29: =IF(M29=1,1,0) -> 0 | O29: - | P29: =IF(O29=1,1,0) -> 0 | Q29: - | R29: =IF(Q29=1,1,0) -> 0 | S29: =COUNTIFS($D29:$R29,"1")/2 -> 1 | T29: =IF(AND(K29=1,E29<>1,G29<>1,I29<>1,M29<>1,O29<>1,Q29<>1),1,0) -> 0 | U29: ='LR Results_2B_Composite'!H25 -> 1 | V29: =IF(AND(D29="CONT",T29=1,U29=0),1,0) -> 0 | W29: =IF($D29="CF",COUNTIFS($D29:$R29,"1")/2,"") | X29: =IF($D29="CFNR",COUNTIFS($D29:$R29,"1")/2,"") -> 1 | Y29: =IF($D29="CONT",COUNTIFS($D29:$R29,"1")/2,"")
A30: =A29+1 -> 21 | B30: =B29+1 -> 21 | C30: =C29+1 -> 22 | D30: CONT | E30: - | F30: =IF(E30=1,1,0) -> 0 | G30: 1 | H30: =IF(G30=1,1,0) -> 1 | I30: 2 | J30: =IF(I30=1,1,0) -> 0 | K30: 1 | L30: =IF(K30=1,1,0) -> 1 | M30: 1 | N30: =IF(M30=1,1,0) -> 1 | O30: 1 | P30: =IF(O30=1,1,0) -> 1 | Q30: 2 | R30: =IF(Q30=1,1,0) -> 0 | S30: =COUNTIFS($D30:$R30,"1")/2 -> 4 | T30: =IF(AND(K30=1,E30<>1,G30<>1,I30<>1,M30<>1,O30<>1,Q30<>1),1,0) -> 0 | U30: ='LR Results_2B_Composite'!H26 -> 1 | V30: =IF(AND(D30="CONT",T30=1,U30=0),1,0) -> 0 | W30: =IF($D30="CF",COUNTIFS($D30:$R30,"1")/2,"") | X30: =IF($D30="CFNR",COUNTIFS($D30:$R30,"1")/2,"") | Y30: =IF($D30="CONT",COUNTIFS($D30:$R30,"1")/2,"") -> 4
A31: =A30+1 -> 22 | B31: =B30+1 -> 22 | C31: =C30+1 -> 23 | D31: CONT | E31: - | F31: =IF(E31=1,1,0) -> 0 | G31: 2 | H31: =IF(G31=1,1,0) -> 0 | I31: 2 | J31: =IF(I31=1,1,0) -> 0 | K31: 2 | L31: =IF(K31=1,1,0) -> 0 | M31: - | N31: =IF(M31=1,1,0) -> 0 | O31: - | P31: =IF(O31=1,1,0) -> 0 | Q31: - | R31: =IF(Q31=1,1,0) -> 0 | S31: =COUNTIFS($D31:$R31,"1")/2 -> 0 | T31: =IF(AND(K31=1,E31<>1,G31<>1,I31<>1,M31<>1,O31<>1,Q31<>1),1,0) -> 0 | U31: ='LR Results_2B_Composite'!H27 -> 1 | V31: =IF(AND(D31="CONT",T31=1,U31=0),1,0) -> 0 | W31: =IF($D31="CF",COUNTIFS($D31:$R31,"1")/2,"") | X31: =IF($D31="CFNR",COUNTIFS($D31:$R31,"1")/2,"") | Y31: =IF($D31="CONT",COUNTIFS($D31:$R31,"1")/2,"") -> 0
A32: =A31+1 -> 23 | B32: =B31+1 -> 23 | C32: =C31+1 -> 24 | D32: CONT | E32: - | F32: =IF(E32=1,1,0) -> 0 | G32: 2 | H32: =IF(G32=1,1,0) -> 0 | I32: 2 | J32: =IF(I32=1,1,0) -> 0 | K32: 2 | L32: =IF(K32=1,1,0) -> 0 | M32: - | N32: =IF(M32=1,1,0) -> 0 | O32: - | P32: =IF(O32=1,1,0) -> 0 | Q32: - | R32: =IF(Q32=1,1,0) -> 0 | S32: =COUNTIFS($D32:$R32,"1")/2 -> 0 | T32: =IF(AND(K32=1,E32<>1,G32<>1,I32<>1,M32<>1,O32<>1,Q32<>1),1,0) -> 0 | U32: ='LR Results_2B_Composite'!H28 -> 1 | V32: =IF(AND(D32="CONT",T32=1,U32=0),1,0) -> 0 | W32: =IF($D32="CF",COUNTIFS($D32:$R32,"1")/2,"") | X32: =IF($D32="CFNR",COUNTIFS($D32:$R32,"1")/2,"") | Y32: =IF($D32="CONT",COUNTIFS($D32:$R32,"1")/2,"") -> 0
A33: =A32+1 -> 24 | B33: =B32+1 -> 24 | C33: =C32+1 -> 25 | D33: CONT | E33: - | F33: =IF(E33=1,1,0) -> 0 | G33: 2 | H33: =IF(G33=1,1,0) -> 0 | I33: 2 | J33: =IF(I33=1,1,0) -> 0 | K33: 2 | L33: =IF(K33=1,1,0) -> 0 | M33: - | N33: =IF(M33=1,1,0) -> 0 | O33: - | P33: =IF(O33=1,1,0) -> 0 | Q33: - | R33: =IF(Q33=1,1,0) -> 0 | S33: =COUNTIFS($D33:$R33,"1")/2 -> 0 | T33: =IF(AND(K33=1,E33<>1,G33<>1,I33<>1,M33<>1,O33<>1,Q33<>1),1,0) -> 0 | U33: ='LR Results_2B_Composite'!H29 -> 1 | V33: =IF(AND(D33="CONT",T33=1,U33=0),1,0) -> 0 | W33: =IF($D33="CF",COUNTIFS($D33:$R33,"1")/2,"") | X33: =IF($D33="CFNR",COUNTIFS($D33:$R33,"1")/2,"") | Y33: =IF($D33="CONT",COUNTIFS($D33:$R33,"1")/2,"") -> 0
A34: =A33+1 -> 25 | B34: =B33+1 -> 25 | C34: =C33+1 -> 26 | D34: CONT | E34: 2 | F34: =IF(E34=1,1,0) -> 0 | G34: 1 | H34: =IF(G34=1,1,0) -> 1 | I34: 2 | J34: =IF(I34=1,1,0) -> 0 | K34: 2 | L34: =IF(K34=1,1,0) -> 0 | M34: 1 | N34: =IF(M34=1,1,0) -> 1 | O34: 2 | P34: =IF(O34=1,1,0) -> 0 | Q34: 2 | R34: =IF(Q34=1,1,0) -> 0 | S34: =COUNTIFS($D34:$R34,"1")/2 -> 2 | T34: =IF(AND(K34=1,E34<>1,G34<>1,I34<>1,M34<>1,O34<>1,Q34<>1),1,0) -> 0 | U34: ='LR Results_2B_Composite'!H30 -> 1 | V34: =IF(AND(D34="CONT",T34=1,U34=0),1,0) -> 0 | W34: =IF($D34="CF",COUNTIFS($D34:$R34,"1")/2,"") | X34: =IF($D34="CFNR",COUNTIFS($D34:$R34,"1")/2,"") | Y34: =IF($D34="CONT",COUNTIFS($D34:$R34,"1")/2,"") -> 2
A35: =A34+1 -> 26 | B35: =B34+1 -> 26 | C35: =C34+1 -> 27 | D35: CFNR | E35: 1 | F35: =IF(E35=1,1,0) -> 1 | G35: 2 | H35: =IF(G35=1,1,0) -> 0 | I35: 2 | J35: =IF(I35=1,1,0) -> 0 | K35: 2 | L35: =IF(K35=1,1,0) -> 0 | M35: 2 | N35: =IF(M35=1,1,0) -> 0 | O35: 2 | P35: =IF(O35=1,1,0) -> 0 | Q35: 99 | R35: =IF(Q35=1,1,0) -> 0 | S35: =COUNTIFS($D35:$R35,"1")/2 -> 1 | T35: =IF(AND(K35=1,E35<>1,G35<>1,I35<>1,M35<>1,O35<>1,Q35<>1),1,0) -> 0 | U35: ='LR Results_2B_Composite'!H31 -> 1 | V35: =IF(AND(D35="CONT",T35=1,U35=0),1,0) -> 0 | W35: =IF($D35="CF",COUNTIFS($D35:$R35,"1")/2,"") | X35: =IF($D35="CFNR",COUNTIFS($D35:$R35,"1")/2,"") -> 1 | Y35: =IF($D35="CONT",COUNTIFS($D35:$R35,"1")/2,"")
A36: =A35+1 -> 27 | B36: =B35+1 -> 27 | C36: =C35+1 -> 28 | D36: CONT | E36: - | F36: =IF(E36=1,1,0) -> 0 | G36: 2 | H36: =IF(G36=1,1,0) -> 0 | I36: 2 | J36: =IF(I36=1,1,0) -> 0 | K36: 2 | L36: =IF(K36=1,1,0) -> 0 | M36: 1 | N36: =IF(M36=1,1,0) -> 1 | O36: 2 | P36: =IF(O36=1,1,0) -> 0 | Q36: - | R36: =IF(Q36=1,1,0) -> 0 | S36: =COUNTIFS($D36:$R36,"1")/2 -> 1 | T36: =IF(AND(K36=1,E36<>1,G36<>1,I36<>1,M36<>1,O36<>1,Q36<>1),1,0) -> 0 | U36: ='LR Results_2B_Composite'!H32 -> 1 | V36: =IF(AND(D36="CONT",T36=1,U36=0),1,0) -> 0 | W36: =IF($D36="CF",COUNTIFS($D36:$R36,"1")/2,"") | X36: =IF($D36="CFNR",COUNTIFS($D36:$R36,"1")/2,"") | Y36: =IF($D36="CONT",COUNTIFS($D36:$R36,"1")/2,"") -> 1
A37: =A36+1 -> 28 | B37: =B36+1 -> 28 | C37: =C36+1 -> 29 | D37: CONT | E37: - | F37: =IF(E37=1,1,0) -> 0 | G37: 2 | H37: =IF(G37=1,1,0) -> 0 | I37: 2 | J37: =IF(I37=1,1,0) -> 0 | K37: 1 | L37: =IF(K37=1,1,0) -> 1 | M37: 2 | N37: =IF(M37=1,1,0) -> 0 | O37: 2 | P37: =IF(O37=1,1,0) -> 0 | Q37: 1 | R37: =IF(Q37=1,1,0) -> 1 | S37: =COUNTIFS($D37:$R37,"1")/2 -> 2 | T37: =IF(AND(K37=1,E37<>1,G37<>1,I37<>1,M37<>1,O37<>1,Q37<>1),1,0) -> 0 | U37: ='LR Results_2B_Composite'!H33 -> 0 | V37: =IF(AND(D37="CONT",T37=1,U37=0),1,0) -> 0 | W37: =IF($D37="CF",COUNTIFS($D37:$R37,"1")/2,"") | X37: =IF($D37="CFNR",COUNTIFS($D37:$R37,"1")/2,"") | Y37: =IF($D37="CONT",COUNTIFS($D37:$R37,"1")/2,"") -> 2
A38: =A37+1 -> 29 | B38: =B37+1 -> 29 | C38: =C37+1 -> 30 | D38: CONT | E38: - | F38: =IF(E38=1,1,0) -> 0 | G38: 2 | H38: =IF(G38=1,1,0) -> 0 | I38: 2 | J38: =IF(I38=1,1,0) -> 0 | K38: 2 | L38: =IF(K38=1,1,0) -> 0 | M38: - | N38: =IF(M38=1,1,0) -> 0 | O38: - | P38: =IF(O38=1,1,0) -> 0 | Q38: - | R38: =IF(Q38=1,1,0) -> 0 | S38: =COUNTIFS($D38:$R38,"1")/2 -> 0 | T38: =IF(AND(K38=1,E38<>1,G38<>1,I38<>1,M38<>1,O38<>1,Q38<>1),1,0) -> 0 | U38: ='LR Results_2B_Composite'!H34 -> 0 | V38: =IF(AND(D38="CONT",T38=1,U38=0),1,0) -> 0 | W38: =IF($D38="CF",COUNTIFS($D38:$R38,"1")/2,"") | X38: =IF($D38="CFNR",COUNTIFS($D38:$R38,"1")/2,"") | Y38: =IF($D38="CONT",COUNTIFS($D38:$R38,"1")/2,"") -> 0
A39: =A38+1 -> 30 | B39: =B38+1 -> 30 | C39: =C38+1 -> 31 | D39: CONT | E39: - | F39: =IF(E39=1,1,0) -> 0 | G39: 2 | H39: =IF(G39=1,1,0) -> 0 | I39: 2 | J39: =IF(I39=1,1,0) -> 0 | K39: 2 | L39: =IF(K39=1,1,0) -> 0 | M39: - | N39: =IF(M39=1,1,0) -> 0 | O39: - | P39: =IF(O39=1,1,0) -> 0 | Q39: - | R39: =IF(Q39=1,1,0) -> 0 | S39: =COUNTIFS($D39:$R39,"1")/2 -> 0 | T39: =IF(AND(K39=1,E39<>1,G39<>1,I39<>1,M39<>1,O39<>1,Q39<>1),1,0) -> 0 | U39: ='LR Results_2B_Composite'!H35 -> 1 | V39: =IF(AND(D39="CONT",T39=1,U39=0),1,0) -> 0 | W39: =IF($D39="CF",COUNTIFS($D39:$R39,"1")/2,"") | X39: =IF($D39="CFNR",COUNTIFS($D39:$R39,"1")/2,"") | Y39: =IF($D39="CONT",COUNTIFS($D39:$R39,"1")/2,"") -> 0
A40: =A39+1 -> 31 | B40: =B39+1 -> 31 | C40: =C39+1 -> 32 | D40: CONT | E40: - | F40: =IF(E40=1,1,0) -> 0 | G40: 2 | H40: =IF(G40=1,1,0) -> 0 | I40: 2 | J40: =IF(I40=1,1,0) -> 0 | K40: 1 | L40: =IF(K40=1,1,0) -> 1 | M40: 2 | N40: =IF(M40=1,1,0) -> 0 | O40: 2 | P40: =IF(O40=1,1,0) -> 0 | Q40: 2 | R40: =IF(Q40=1,1,0) -> 0 | S40: =COUNTIFS($D40:$R40,"1")/2 -> 1 | T40: =IF(AND(K40=1,E40<>1,G40<>1,I40<>1,M40<>1,O40<>1,Q40<>1),1,0) -> 1 | U40: ='LR Results_2B_Composite'!H36 -> 0 | V40: =IF(AND(D40="CONT",T40=1,U40=0),1,0) -> 1 | W40: =IF($D40="CF",COUNTIFS($D40:$R40,"1")/2,"") | X40: =IF($D40="CFNR",COUNTIFS($D40:$R40,"1")/2,"") | Y40: =IF($D40="CONT",COUNTIFS($D40:$R40,"1")/2,"") -> 1
A41: =A40+1 -> 32 | B41: =B40+1 -> 32 | C41: =C40+1 -> 33 | D41: CONT | E41: - | F41: =IF(E41=1,1,0) -> 0 | G41: 2 | H41: =IF(G41=1,1,0) -> 0 | I41: 2 | J41: =IF(I41=1,1,0) -> 0 | K41: 1 | L41: =IF(K41=1,1,0) -> 1 | M41: 1 | N41: =IF(M41=1,1,0) -> 1 | O41: 2 | P41: =IF(O41=1,1,0) -> 0 | Q41: 1 | R41: =IF(Q41=1,1,0) -> 1 | S41: =COUNTIFS($D41:$R41,"1")/2 -> 3 | T41: =IF(AND(K41=1,E41<>1,G41<>1,I41<>1,M41<>1,O41<>1,Q41<>1),1,0) -> 0 | U41: ='LR Results_2B_Composite'!H37 -> 1 | V41: =IF(AND(D41="CONT",T41=1,U41=0),1,0) -> 0 | W41: =IF($D41="CF",COUNTIFS($D41:$R41,"1")/2,"") | X41: =IF($D41="CFNR",COUNTIFS($D41:$R41,"1")/2,"") | Y41: =IF($D41="CONT",COUNTIFS($D41:$R41,"1")/2,"") -> 3
A42: =A41+1 -> 33 | B42: =B41+1 -> 33 | C42: =C41+1 -> 34 | D42: CONT | E42: 1 | F42: =IF(E42=1,1,0) -> 1 | G42: 2 | H42: =IF(G42=1,1,0) -> 0 | I42: 2 | J42: =IF(I42=1,1,0) -> 0 | K42: 2 | L42: =IF(K42=1,1,0) -> 0 | M42: - | N42: =IF(M42=1,1,0) -> 0 | O42: - | P42: =IF(O42=1,1,0) -> 0 | Q42: - | R42: =IF(Q42=1,1,0) -> 0 | S42: =COUNTIFS($D42:$R42,"1")/2 -> 1 | T42: =IF(AND(K42=1,E42<>1,G42<>1,I42<>1,M42<>1,O42<>1,Q42<>1),1,0) -> 0 | U42: ='LR Results_2B_Composite'!H38 -> 1 | V42: =IF(AND(D42="CONT",T42=1,U42=0),1,0) -> 0 | W42: =IF($D42="CF",COUNTIFS($D42:$R42,"1")/2,"") | X42: =IF($D42="CFNR",COUNTIFS($D42:$R42,"1")/2,"") | Y42: =IF($D42="CONT",COUNTIFS($D42:$R42,"1")/2,"") -> 1
A43: =A42+1 -> 34 | B43: =B42+1 -> 34 | C43: =C42+1 -> 35 | D43: CONT | E43: 99 | F43: =IF(E43=1,1,0) -> 0 | G43: 2 | H43: =IF(G43=1,1,0) -> 0 | I43: 2 | J43: =IF(I43=1,1,0) -> 0 | K43: 2 | L43: =IF(K43=1,1,0) -> 0 | M43: 1 | N43: =IF(M43=1,1,0) -> 1 | O43: 1 | P43: =IF(O43=1,1,0) -> 1 | Q43: 99 | R43: =IF(Q43=1,1,0) -> 0 | S43: =COUNTIFS($D43:$R43,"1")/2 -> 2 | T43: =IF(AND(K43=1,E43<>1,G43<>1,I43<>1,M43<>1,O43<>1,Q43<>1),1,0) -> 0 | U43: ='LR Results_2B_Composite'!H39 -> 1 | V43: =IF(AND(D43="CONT",T43=1,U43=0),1,0) -> 0 | W43: =IF($D43="CF",COUNTIFS($D43:$R43,"1")/2,"") | X43: =IF($D43="CFNR",COUNTIFS($D43:$R43,"1")/2,"") | Y43: =IF($D43="CONT",COUNTIFS($D43:$R43,"1")/2,"") -> 2
A44: =A43+1 -> 35 | B44: =B43+1 -> 35 | C44: =C43+1 -> 36 | D44: CONT | E44: - | F44: =IF(E44=1,1,0) -> 0 | G44: 2 | H44: =IF(G44=1,1,0) -> 0 | I44: 2 | J44: =IF(I44=1,1,0) -> 0 | K44: 1 | L44: =IF(K44=1,1,0) -> 1 | M44: 1 | N44: =IF(M44=1,1,0) -> 1 | O44: 2 | P44: =IF(O44=1,1,0) -> 0 | Q44: 1 | R44: =IF(Q44=1,1,0) -> 1 | S44: =COUNTIFS($D44:$R44,"1")/2 -> 3 | T44: =IF(AND(K44=1,E44<>1,G44<>1,I44<>1,M44<>1,O44<>1,Q44<>1),1,0) -> 0 | U44: ='LR Results_2B_Composite'!H40 -> 1 | V44: =IF(AND(D44="CONT",T44=1,U44=0),1,0) -> 0 | W44: =IF($D44="CF",COUNTIFS($D44:$R44,"1")/2,"") | X44: =IF($D44="CFNR",COUNTIFS($D44:$R44,"1")/2,"") | Y44: =IF($D44="CONT",COUNTIFS($D44:$R44,"1")/2,"") -> 3
A45: =A44+1 -> 36 | B45: =B44+1 -> 36 | C45: =C44+1 -> 37 | D45: CONT | E45: - | F45: =IF(E45=1,1,0) -> 0 | G45: 2 | H45: =IF(G45=1,1,0) -> 0 | I45: 2 | J45: =IF(I45=1,1,0) -> 0 | K45: 2 | L45: =IF(K45=1,1,0) -> 0 | M45: 1 | N45: =IF(M45=1,1,0) -> 1 | O45: 1 | P45: =IF(O45=1,1,0) -> 1 | Q45: - | R45: =IF(Q45=1,1,0) -> 0 | S45: =COUNTIFS($D45:$R45,"1")/2 -> 2 | T45: =IF(AND(K45=1,E45<>1,G45<>1,I45<>1,M45<>1,O45<>1,Q45<>1),1,0) -> 0 | U45: ='LR Results_2B_Composite'!H41 -> 1 | V45: =IF(AND(D45="CONT",T45=1,U45=0),1,0) -> 0 | W45: =IF($D45="CF",COUNTIFS($D45:$R45,"1")/2,"") | X45: =IF($D45="CFNR",COUNTIFS($D45:$R45,"1")/2,"") | Y45: =IF($D45="CONT",COUNTIFS($D45:$R45,"1")/2,"") -> 2
A46: =A45+1 -> 37 | B46: =B45+1 -> 37 | C46: =C45+1 -> 38 | D46: CONT | E46: - | F46: =IF(E46=1,1,0) -> 0 | G46: 2 | H46: =IF(G46=1,1,0) -> 0 | I46: 2 | J46: =IF(I46=1,1,0) -> 0 | K46: 2 | L46: =IF(K46=1,1,0) -> 0 | M46: - | N46: =IF(M46=1,1,0) -> 0 | O46: - | P46: =IF(O46=1,1,0) -> 0 | Q46: - | R46: =IF(Q46=1,1,0) -> 0 | S46: =COUNTIFS($D46:$R46,"1")/2 -> 0 | T46: =IF(AND(K46=1,E46<>1,G46<>1,I46<>1,M46<>1,O46<>1,Q46<>1),1,0) -> 0 | U46: ='LR Results_2B_Composite'!H42 -> 1 | V46: =IF(AND(D46="CONT",T46=1,U46=0),1,0) -> 0 | W46: =IF($D46="CF",COUNTIFS($D46:$R46,"1")/2,"") | X46: =IF($D46="CFNR",COUNTIFS($D46:$R46,"1")/2,"") | Y46: =IF($D46="CONT",COUNTIFS($D46:$R46,"1")/2,"") -> 0
A47: =A46+1 -> 38 | B47: =B46+1 -> 38 | C47: =C46+1 -> 39 | D47: CONT | E47: - | F47: =IF(E47=1,1,0) -> 0 | G47: 2 | H47: =IF(G47=1,1,0) -> 0 | I47: 2 | J47: =IF(I47=1,1,0) -> 0 | K47: 1 | L47: =IF(K47=1,1,0) -> 1 | M47: - | N47: =IF(M47=1,1,0) -> 0 | O47: - | P47: =IF(O47=1,1,0) -> 0 | Q47: - | R47: =IF(Q47=1,1,0) -> 0 | S47: =COUNTIFS($D47:$R47,"1")/2 -> 1 | T47: =IF(AND(K47=1,E47<>1,G47<>1,I47<>1,M47<>1,O47<>1,Q47<>1),1,0) -> 1 | U47: ='LR Results_2B_Composite'!H43 -> 0 | V47: =IF(AND(D47="CONT",T47=1,U47=0),1,0) -> 1 | W47: =IF($D47="CF",COUNTIFS($D47:$R47,"1")/2,"") | X47: =IF($D47="CFNR",COUNTIFS($D47:$R47,"1")/2,"") | Y47: =IF($D47="CONT",COUNTIFS($D47:$R47,"1")/2,"") -> 1
A48: =A47+1 -> 39 | B48: =B47+1 -> 39 | C48: =C47+1 -> 40 | D48: CONT | E48: - | F48: =IF(E48=1,1,0) -> 0 | G48: 2 | H48: =IF(G48=1,1,0) -> 0 | I48: 2 | J48: =IF(I48=1,1,0) -> 0 | K48: 1 | L48: =IF(K48=1,1,0) -> 1 | M48: 1 | N48: =IF(M48=1,1,0) -> 1 | O48: 2 | P48: =IF(O48=1,1,0) -> 0 | Q48: 1 | R48: =IF(Q48=1,1,0) -> 1 | S48: =COUNTIFS($D48:$R48,"1")/2 -> 3 | T48: =IF(AND(K48=1,E48<>1,G48<>1,I48<>1,M48<>1,O48<>1,Q48<>1),1,0) -> 0 | U48: ='LR Results_2B_Composite'!H44 -> 1 | V48: =IF(AND(D48="CONT",T48=1,U48=0),1,0) -> 0 | W48: =IF($D48="CF",COUNTIFS($D48:$R48,"1")/2,"") | X48: =IF($D48="CFNR",COUNTIFS($D48:$R48,"1")/2,"") | Y48: =IF($D48="CONT",COUNTIFS($D48:$R48,"1")/2,"") -> 3
A49: =A48+1 -> 40 | B49: =B48+1 -> 40 | C49: =C48+1 -> 41 | D49: CONT | E49: - | F49: =IF(E49=1,1,0) -> 0 | G49: 2 | H49: =IF(G49=1,1,0) -> 0 | I49: 2 | J49: =IF(I49=1,1,0) -> 0 | K49: 2 | L49: =IF(K49=1,1,0) -> 0 | M49: 99 | N49: =IF(M49=1,1,0) -> 0 | O49: 99 | P49: =IF(O49=1,1,0) -> 0 | Q49: - | R49: =IF(Q49=1,1,0) -> 0 | S49: =COUNTIFS($D49:$R49,"1")/2 -> 0 | T49: =IF(AND(K49=1,E49<>1,G49<>1,I49<>1,M49<>1,O49<>1,Q49<>1),1,0) -> 0 | U49: ='LR Results_2B_Composite'!H45 -> 1 | V49: =IF(AND(D49="CONT",T49=1,U49=0),1,0) -> 0 | W49: =IF($D49="CF",COUNTIFS($D49:$R49,"1")/2,"") | X49: =IF($D49="CFNR",COUNTIFS($D49:$R49,"1")/2,"") | Y49: =IF($D49="CONT",COUNTIFS($D49:$R49,"1")/2,"") -> 0
A50: =A49+1 -> 41 | B50: =B49+1 -> 41 | C50: =C49+1 -> 42 | D50: CONT | E50: - | F50: =IF(E50=1,1,0) -> 0 | G50: 2 | H50: =IF(G50=1,1,0) -> 0 | I50: 2 | J50: =IF(I50=1,1,0) -> 0 | K50: 1 | L50: =IF(K50=1,1,0) -> 1 | M50: 2 | N50: =IF(M50=1,1,0) -> 0 | O50: 2 | P50: =IF(O50=1,1,0) -> 0 | Q50: 2 | R50: =IF(Q50=1,1,0) -> 0 | S50: =COUNTIFS($D50:$R50,"1")/2 -> 1 | T50: =IF(AND(K50=1,E50<>1,G50<>1,I50<>1,M50<>1,O50<>1,Q50<>1),1,0) -> 1 | U50: ='LR Results_2B_Composite'!H46 -> 0 | V50: =IF(AND(D50="CONT",T50=1,U50=0),1,0) -> 1 | W50: =IF($D50="CF",COUNTIFS($D50:$R50,"1")/2,"") | X50: =IF($D50="CFNR",COUNTIFS($D50:$R50,"1")/2,"") | Y50: =IF($D50="CONT",COUNTIFS($D50:$R50,"1")/2,"") -> 1
A51: =A50+1 -> 42 | B51: =B50+1 -> 42 | C51: =C50+1 -> 43 | D51: CONT | E51: - | F51: =IF(E51=1,1,0) -> 0 | G51: 1 | H51: =IF(G51=1,1,0) -> 1 | I51: 2 | J51: =IF(I51=1,1,0) -> 0 | K51: 1 | L51: =IF(K51=1,1,0) -> 1 | M51: 1 | N51: =IF(M51=1,1,0) -> 1 | O51: 2 | P51: =IF(O51=1,1,0) -> 0 | Q51: 1 | R51: =IF(Q51=1,1,0) -> 1 | S51: =COUNTIFS($D51:$R51,"1")/2 -> 4 | T51: =IF(AND(K51=1,E51<>1,G51<>1,I51<>1,M51<>1,O51<>1,Q51<>1),1,0) -> 0 | U51: ='LR Results_2B_Composite'!H47 -> 1 | V51: =IF(AND(D51="CONT",T51=1,U51=0),1,0) -> 0 | W51: =IF($D51="CF",COUNTIFS($D51:$R51,"1")/2,"") | X51: =IF($D51="CFNR",COUNTIFS($D51:$R51,"1")/2,"") | Y51: =IF($D51="CONT",COUNTIFS($D51:$R51,"1")/2,"") -> 4
A52: =A51+1 -> 43 | B52: =B51+1 -> 43 | C52: =C51+1 -> 44 | D52: CONT | E52: - | F52: =IF(E52=1,1,0) -> 0 | G52: 2 | H52: =IF(G52=1,1,0) -> 0 | I52: 2 | J52: =IF(I52=1,1,0) -> 0 | K52: 2 | L52: =IF(K52=1,1,0) -> 0 | M52: 2 | N52: =IF(M52=1,1,0) -> 0 | O52: 1 | P52: =IF(O52=1,1,0) -> 1 | Q52: - | R52: =IF(Q52=1,1,0) -> 0 | S52: =COUNTIFS($D52:$R52,"1")/2 -> 1 | T52: =IF(AND(K52=1,E52<>1,G52<>1,I52<>1,M52<>1,O52<>1,Q52<>1),1,0) -> 0 | U52: ='LR Results_2B_Composite'!H48 -> 1 | V52: =IF(AND(D52="CONT",T52=1,U52=0),1,0) -> 0 | W52: =IF($D52="CF",COUNTIFS($D52:$R52,"1")/2,"") | X52: =IF($D52="CFNR",COUNTIFS($D52:$R52,"1")/2,"") | Y52: =IF($D52="CONT",COUNTIFS($D52:$R52,"1")/2,"") -> 1
A53: =A52+1 -> 44 | B53: =B52+1 -> 44 | C53: =C52+1 -> 45 | D53: CONT | E53: - | F53: =IF(E53=1,1,0) -> 0 | G53: 2 | H53: =IF(G53=1,1,0) -> 0 | I53: 2 | J53: =IF(I53=1,1,0) -> 0 | K53: 1 | L53: =IF(K53=1,1,0) -> 1 | M53: 2 | N53: =IF(M53=1,1,0) -> 0 | O53: 2 | P53: =IF(O53=1,1,0) -> 0 | Q53: 2 | R53: =IF(Q53=1,1,0) -> 0 | S53: =COUNTIFS($D53:$R53,"1")/2 -> 1 | T53: =IF(AND(K53=1,E53<>1,G53<>1,I53<>1,M53<>1,O53<>1,Q53<>1),1,0) -> 1 | U53: ='LR Results_2B_Composite'!H49 -> 0 | V53: =IF(AND(D53="CONT",T53=1,U53=0),1,0) -> 1 | W53: =IF($D53="CF",COUNTIFS($D53:$R53,"1")/2,"") | X53: =IF($D53="CFNR",COUNTIFS($D53:$R53,"1")/2,"") | Y53: =IF($D53="CONT",COUNTIFS($D53:$R53,"1")/2,"") -> 1
A54: =A53+1 -> 45 | B54: =B53+1 -> 45 | C54: =C53+1 -> 46 | D54: CONT | E54: - | F54: =IF(E54=1,1,0) -> 0 | G54: 2 | H54: =IF(G54=1,1,0) -> 0 | I54: 2 | J54: =IF(I54=1,1,0) -> 0 | K54: 1 | L54: =IF(K54=1,1,0) -> 1 | M54: 1 | N54: =IF(M54=1,1,0) -> 1 | O54: 2 | P54: =IF(O54=1,1,0) -> 0 | Q54: 1 | R54: =IF(Q54=1,1,0) -> 1 | S54: =COUNTIFS($D54:$R54,"1")/2 -> 3 | T54: =IF(AND(K54=1,E54<>1,G54<>1,I54<>1,M54<>1,O54<>1,Q54<>1),1,0) -> 0 | U54: ='LR Results_2B_Composite'!H50 -> 1 | V54: =IF(AND(D54="CONT",T54=1,U54=0),1,0) -> 0 | W54: =IF($D54="CF",COUNTIFS($D54:$R54,"1")/2,"") | X54: =IF($D54="CFNR",COUNTIFS($D54:$R54,"1")/2,"") | Y54: =IF($D54="CONT",COUNTIFS($D54:$R54,"1")/2,"") -> 3
A55: =A54+1 -> 46 | B55: =B54+1 -> 46 | C55: =C54+1 -> 47 | D55: CONT | E55: - | F55: =IF(E55=1,1,0) -> 0 | G55: 2 | H55: =IF(G55=1,1,0) -> 0 | I55: 2 | J55: =IF(I55=1,1,0) -> 0 | K55: 1 | L55: =IF(K55=1,1,0) -> 1 | M55: 2 | N55: =IF(M55=1,1,0) -> 0 | O55: 2 | P55: =IF(O55=1,1,0) -> 0 | Q55: 1 | R55: =IF(Q55=1,1,0) -> 1 | S55: =COUNTIFS($D55:$R55,"1")/2 -> 2 | T55: =IF(AND(K55=1,E55<>1,G55<>1,I55<>1,M55<>1,O55<>1,Q55<>1),1,0) -> 0 | U55: ='LR Results_2B_Composite'!H51 -> 1 | V55: =IF(AND(D55="CONT",T55=1,U55=0),1,0) -> 0 | W55: =IF($D55="CF",COUNTIFS($D55:$R55,"1")/2,"") | X55: =IF($D55="CFNR",COUNTIFS($D55:$R55,"1")/2,"") | Y55: =IF($D55="CONT",COUNTIFS($D55:$R55,"1")/2,"") -> 2
A56: =A55+1 -> 47 | B56: =B55+1 -> 47 | C56: =C55+1 -> 48 | D56: CONT | E56: - | F56: =IF(E56=1,1,0) -> 0 | G56: 2 | H56: =IF(G56=1,1,0) -> 0 | I56: 2 | J56: =IF(I56=1,1,0) -> 0 | K56: 1 | L56: =IF(K56=1,1,0) -> 1 | M56: 1 | N56: =IF(M56=1,1,0) -> 1 | O56: 2 | P56: =IF(O56=1,1,0) -> 0 | Q56: 2 | R56: =IF(Q56=1,1,0) -> 0 | S56: =COUNTIFS($D56:$R56,"1")/2 -> 2 | T56: =IF(AND(K56=1,E56<>1,G56<>1,I56<>1,M56<>1,O56<>1,Q56<>1),1,0) -> 0 | U56: ='LR Results_2B_Composite'!H52 -> 1 | V56: =IF(AND(D56="CONT",T56=1,U56=0),1,0) -> 0 | W56: =IF($D56="CF",COUNTIFS($D56:$R56,"1")/2,"") | X56: =IF($D56="CFNR",COUNTIFS($D56:$R56,"1")/2,"") | Y56: =IF($D56="CONT",COUNTIFS($D56:$R56,"1")/2,"") -> 2
A57: =A56+1 -> 48 | B57: =B56+1 -> 48 | C57: =C56+1 -> 49 | D57: CONT | E57: - | F57: =IF(E57=1,1,0) -> 0 | G57: 2 | H57: =IF(G57=1,1,0) -> 0 | I57: 2 | J57: =IF(I57=1,1,0) -> 0 | K57: 1 | L57: =IF(K57=1,1,0) -> 1 | M57: 1 | N57: =IF(M57=1,1,0) -> 1 | O57: 2 | P57: =IF(O57=1,1,0) -> 0 | Q57: 2 | R57: =IF(Q57=1,1,0) -> 0 | S57: =COUNTIFS($D57:$R57,"1")/2 -> 2 | T57: =IF(AND(K57=1,E57<>1,G57<>1,I57<>1,M57<>1,O57<>1,Q57<>1),1,0) -> 0 | U57: ='LR Results_2B_Composite'!H53 -> 1 | V57: =IF(AND(D57="CONT",T57=1,U57=0),1,0) -> 0 | W57: =IF($D57="CF",COUNTIFS($D57:$R57,"1")/2,"") | X57: =IF($D57="CFNR",COUNTIFS($D57:$R57,"1")/2,"") | Y57: =IF($D57="CONT",COUNTIFS($D57:$R57,"1")/2,"") -> 2
A58: =A57+1 -> 49 | B58: =B57+1 -> 49 | C58: =C57+1 -> 50 | D58: CONT | E58: - | F58: =IF(E58=1,1,0) -> 0 | G58: 2 | H58: =IF(G58=1,1,0) -> 0 | I58: 2 | J58: =IF(I58=1,1,0) -> 0 | K58: 1 | L58: =IF(K58=1,1,0) -> 1 | M58: 2 | N58: =IF(M58=1,1,0) -> 0 | O58: 2 | P58: =IF(O58=1,1,0) -> 0 | Q58: 1 | R58: =IF(Q58=1,1,0) -> 1 | S58: =COUNTIFS($D58:$R58,"1")/2 -> 2 | T58: =IF(AND(K58=1,E58<>1,G58<>1,I58<>1,M58<>1,O58<>1,Q58<>1),1,0) -> 0 | U58: ='LR Results_2B_Composite'!H54 -> 1 | V58: =IF(AND(D58="CONT",T58=1,U58=0),1,0) -> 0 | W58: =IF($D58="CF",COUNTIFS($D58:$R58,"1")/2,"") | X58: =IF($D58="CFNR",COUNTIFS($D58:$R58,"1")/2,"") | Y58: =IF($D58="CONT",COUNTIFS($D58:$R58,"1")/2,"") -> 2
A59: =A58+1 -> 50 | B59: =B58+1 -> 50 | C59: =C58+1 -> 51 | D59: CONT | E59: - | F59: =IF(E59=1,1,0) -> 0 | G59: 2 | H59: =IF(G59=1,1,0) -> 0 | I59: 2 | J59: =IF(I59=1,1,0) -> 0 | K59: 1 | L59: =IF(K59=1,1,0) -> 1 | M59: 1 | N59: =IF(M59=1,1,0) -> 1 | O59: 2 | P59: =IF(O59=1,1,0) -> 0 | Q59: 1 | R59: =IF(Q59=1,1,0) -> 1 | S59: =COUNTIFS($D59:$R59,"1")/2 -> 3 | T59: =IF(AND(K59=1,E59<>1,G59<>1,I59<>1,M59<>1,O59<>1,Q59<>1),1,0) -> 0 | U59: ='LR Results_2B_Composite'!H55 -> 1 | V59: =IF(AND(D59="CONT",T59=1,U59=0),1,0) -> 0 | W59: =IF($D59="CF",COUNTIFS($D59:$R59,"1")/2,"") | X59: =IF($D59="CFNR",COUNTIFS($D59:$R59,"1")/2,"") | Y59: =IF($D59="CONT",COUNTIFS($D59:$R59,"1")/2,"") -> 3
A60: =A59+1 -> 51 | B60: =B59+1 -> 51 | C60: =C59+1 -> 52 | D60: CONT | E60: - | F60: =IF(E60=1,1,0) -> 0 | G60: 2 | H60: =IF(G60=1,1,0) -> 0 | I60: 2 | J60: =IF(I60=1,1,0) -> 0 | K60: 2 | L60: =IF(K60=1,1,0) -> 0 | M60: 1 | N60: =IF(M60=1,1,0) -> 1 | O60: 1 | P60: =IF(O60=1,1,0) -> 1 | Q60: 1 | R60: =IF(Q60=1,1,0) -> 1 | S60: =COUNTIFS($D60:$R60,"1")/2 -> 3 | T60: =IF(AND(K60=1,E60<>1,G60<>1,I60<>1,M60<>1,O60<>1,Q60<>1),1,0) -> 0 | U60: ='LR Results_2B_Composite'!H56 -> 1 | V60: =IF(AND(D60="CONT",T60=1,U60=0),1,0) -> 0 | W60: =IF($D60="CF",COUNTIFS($D60:$R60,"1")/2,"") | X60: =IF($D60="CFNR",COUNTIFS($D60:$R60,"1")/2,"") | Y60: =IF($D60="CONT",COUNTIFS($D60:$R60,"1")/2,"") -> 3
A61: =A60+1 -> 52 | B61: =B60+1 -> 52 | C61: =C60+2 -> 54 | D61: CONT | E61: - | F61: =IF(E61=1,1,0) -> 0 | G61: 2 | H61: =IF(G61=1,1,0) -> 0 | I61: 2 | J61: =IF(I61=1,1,0) -> 0 | K61: 1 | L61: =IF(K61=1,1,0) -> 1 | M61: 2 | N61: =IF(M61=1,1,0) -> 0 | O61: 2 | P61: =IF(O61=1,1,0) -> 0 | Q61: 2 | R61: =IF(Q61=1,1,0) -> 0 | S61: =COUNTIFS($D61:$R61,"1")/2 -> 1 | T61: =IF(AND(K61=1,E61<>1,G61<>1,I61<>1,M61<>1,O61<>1,Q61<>1),1,0) -> 1 | U61: ='LR Results_2B_Composite'!H57 -> 0 | V61: =IF(AND(D61="CONT",T61=1,U61=0),1,0) -> 1 | W61: =IF($D61="CF",COUNTIFS($D61:$R61,"1")/2,"") | X61: =IF($D61="CFNR",COUNTIFS($D61:$R61,"1")/2,"") | Y61: =IF($D61="CONT",COUNTIFS($D61:$R61,"1")/2,"") -> 1
A62: =A61+1 -> 53 | B62: =B61+1 -> 53 | C62: =C61+1 -> 55 | D62: CFNR | E62: - | F62: =IF(E62=1,1,0) -> 0 | G62: 2 | H62: =IF(G62=1,1,0) -> 0 | I62: 2 | J62: =IF(I62=1,1,0) -> 0 | K62: 1 | L62: =IF(K62=1,1,0) -> 1 | M62: 1 | N62: =IF(M62=1,1,0) -> 1 | O62: 1 | P62: =IF(O62=1,1,0) -> 1 | Q62: 1 | R62: =IF(Q62=1,1,0) -> 1 | S62: =COUNTIFS($D62:$R62,"1")/2 -> 4 | T62: =IF(AND(K62=1,E62<>1,G62<>1,I62<>1,M62<>1,O62<>1,Q62<>1),1,0) -> 0 | U62: ='LR Results_2B_Composite'!H58 -> 1 | V62: =IF(AND(D62="CONT",T62=1,U62=0),1,0) -> 0 | W62: =IF($D62="CF",COUNTIFS($D62:$R62,"1")/2,"") | X62: =IF($D62="CFNR",COUNTIFS($D62:$R62,"1")/2,"") -> 4 | Y62: =IF($D62="CONT",COUNTIFS($D62:$R62,"1")/2,"")
A63: =A62+1 -> 54 | B63: =B62+1 -> 54 | C63: =C62+1 -> 56 | D63: CONT | E63: - | F63: =IF(E63=1,1,0) -> 0 | G63: 2 | H63: =IF(G63=1,1,0) -> 0 | I63: 2 | J63: =IF(I63=1,1,0) -> 0 | K63: 1 | L63: =IF(K63=1,1,0) -> 1 | M63: 2 | N63: =IF(M63=1,1,0) -> 0 | O63: 2 | P63: =IF(O63=1,1,0) -> 0 | Q63: 1 | R63: =IF(Q63=1,1,0) -> 1 | S63: =COUNTIFS($D63:$R63,"1")/2 -> 2 | T63: =IF(AND(K63=1,E63<>1,G63<>1,I63<>1,M63<>1,O63<>1,Q63<>1),1,0) -> 0 | U63: ='LR Results_2B_Composite'!H59 -> 1 | V63: =IF(AND(D63="CONT",T63=1,U63=0),1,0) -> 0 | W63: =IF($D63="CF",COUNTIFS($D63:$R63,"1")/2,"") | X63: =IF($D63="CFNR",COUNTIFS($D63:$R63,"1")/2,"") | Y63: =IF($D63="CONT",COUNTIFS($D63:$R63,"1")/2,"") -> 2
A64: =A63+1 -> 55 | B64: =B63+1 -> 55 | C64: =C63+1 -> 57 | D64: CFNR | E64: 1 | F64: =IF(E64=1,1,0) -> 1 | G64: 1 | H64: =IF(G64=1,1,0) -> 1 | I64: 2 | J64: =IF(I64=1,1,0) -> 0 | K64: 1 | L64: =IF(K64=1,1,0) -> 1 | M64: 99 | N64: =IF(M64=1,1,0) -> 0 | O64: 99 | P64: =IF(O64=1,1,0) -> 0 | Q64: 99 | R64: =IF(Q64=1,1,0) -> 0 | S64: =COUNTIFS($D64:$R64,"1")/2 -> 3 | T64: =IF(AND(K64=1,E64<>1,G64<>1,I64<>1,M64<>1,O64<>1,Q64<>1),1,0) -> 0 | U64: ='LR Results_2B_Composite'!H60 -> 1 | V64: =IF(AND(D64="CONT",T64=1,U64=0),1,0) -> 0 | W64: =IF($D64="CF",COUNTIFS($D64:$R64,"1")/2,"") | X64: =IF($D64="CFNR",COUNTIFS($D64:$R64,"1")/2,"") -> 3 | Y64: =IF($D64="CONT",COUNTIFS($D64:$R64,"1")/2,"")
A65: =A64+1 -> 56 | B65: =B64+1 -> 56 | C65: =C64+1 -> 58 | D65: CONT | E65: - | F65: =IF(E65=1,1,0) -> 0 | G65: 2 | H65: =IF(G65=1,1,0) -> 0 | I65: 2 | J65: =IF(I65=1,1,0) -> 0 | K65: 2 | L65: =IF(K65=1,1,0) -> 0 | M65: 2 | N65: =IF(M65=1,1,0) -> 0 | O65: 2 | P65: =IF(O65=1,1,0) -> 0 | Q65: - | R65: =IF(Q65=1,1,0) -> 0 | S65: =COUNTIFS($D65:$R65,"1")/2 -> 0 | T65: =IF(AND(K65=1,E65<>1,G65<>1,I65<>1,M65<>1,O65<>1,Q65<>1),1,0) -> 0 | U65: ='LR Results_2B_Composite'!H61 -> 1 | V65: =IF(AND(D65="CONT",T65=1,U65=0),1,0) -> 0 | W65: =IF($D65="CF",COUNTIFS($D65:$R65,"1")/2,"") | X65: =IF($D65="CFNR",COUNTIFS($D65:$R65,"1")/2,"") | Y65: =IF($D65="CONT",COUNTIFS($D65:$R65,"1")/2,"") -> 0
A66: =A65+1 -> 57 | B66: =B65+1 -> 57 | C66: =C65+1 -> 59 | D66: CFNR | E66: - | F66: =IF(E66=1,1,0) -> 0 | G66: 1 | H66: =IF(G66=1,1,0) -> 1 | I66: 2 | J66: =IF(I66=1,1,0) -> 0 | K66: 2 | L66: =IF(K66=1,1,0) -> 0 | M66: - | N66: =IF(M66=1,1,0) -> 0 | O66: - | P66: =IF(O66=1,1,0) -> 0 | Q66: - | R66: =IF(Q66=1,1,0) -> 0 | S66: =COUNTIFS($D66:$R66,"1")/2 -> 1 | T66: =IF(AND(K66=1,E66<>1,G66<>1,I66<>1,M66<>1,O66<>1,Q66<>1),1,0) -> 0 | U66: ='LR Results_2B_Composite'!H62 -> 1 | V66: =IF(AND(D66="CONT",T66=1,U66=0),1,0) -> 0 | W66: =IF($D66="CF",COUNTIFS($D66:$R66,"1")/2,"") | X66: =IF($D66="CFNR",COUNTIFS($D66:$R66,"1")/2,"") -> 1 | Y66: =IF($D66="CONT",COUNTIFS($D66:$R66,"1")/2,"")
A67: =A66+1 -> 58 | B67: =B66+1 -> 58 | C67: =C66+1 -> 60 | D67: CONT | E67: 2 | F67: =IF(E67=1,1,0) -> 0 | G67: 2 | H67: =IF(G67=1,1,0) -> 0 | I67: 2 | J67: =IF(I67=1,1,0) -> 0 | K67: 1 | L67: =IF(K67=1,1,0) -> 1 | M67: 1 | N67: =IF(M67=1,1,0) -> 1 | O67: 1 | P67: =IF(O67=1,1,0) -> 1 | Q67: 1 | R67: =IF(Q67=1,1,0) -> 1 | S67: =COUNTIFS($D67:$R67,"1")/2 -> 4 | T67: =IF(AND(K67=1,E67<>1,G67<>1,I67<>1,M67<>1,O67<>1,Q67<>1),1,0) -> 0 | U67: ='LR Results_2B_Composite'!H63 -> 1 | V67: =IF(AND(D67="CONT",T67=1,U67=0),1,0) -> 0 | W67: =IF($D67="CF",COUNTIFS($D67:$R67,"1")/2,"") | X67: =IF($D67="CFNR",COUNTIFS($D67:$R67,"1")/2,"") | Y67: =IF($D67="CONT",COUNTIFS($D67:$R67,"1")/2,"") -> 4
A68: =A67+1 -> 59 | B68: =B67+1 -> 59 | C68: =C67+1 -> 61 | D68: CF | E68: 2 | F68: =IF(E68=1,1,0) -> 0 | G68: 2 | H68: =IF(G68=1,1,0) -> 0 | I68: 2 | J68: =IF(I68=1,1,0) -> 0 | K68: 1 | L68: =IF(K68=1,1,0) -> 1 | M68: 2 | N68: =IF(M68=1,1,0) -> 0 | O68: 2 | P68: =IF(O68=1,1,0) -> 0 | Q68: 0 | R68: =IF(Q68=1,1,0) -> 0 | S68: =COUNTIFS($D68:$R68,"1")/2 -> 1 | T68: =IF(AND(K68=1,E68<>1,G68<>1,I68<>1,M68<>1,O68<>1,Q68<>1),1,0) -> 1 | U68: ='LR Results_2B_Composite'!H64 -> 1 | V68: =IF(AND(D68="CONT",T68=1,U68=0),1,0) -> 0 | W68: =IF($D68="CF",COUNTIFS($D68:$R68,"1")/2,"") -> 1 | X68: =IF($D68="CFNR",COUNTIFS($D68:$R68,"1")/2,"") | Y68: =IF($D68="CONT",COUNTIFS($D68:$R68,"1")/2,"")
A69: =A68+1 -> 60 | B69: =B68+1 -> 60 | C69: =C68+1 -> 62 | D69: CONT | E69: - | F69: =IF(E69=1,1,0) -> 0 | G69: 2 | H69: =IF(G69=1,1,0) -> 0 | I69: 2 | J69: =IF(I69=1,1,0) -> 0 | K69: 2 | L69: =IF(K69=1,1,0) -> 0 | M69: 1 | N69: =IF(M69=1,1,0) -> 1 | O69: 2 | P69: =IF(O69=1,1,0) -> 0 | Q69: - | R69: =IF(Q69=1,1,0) -> 0 | S69: =COUNTIFS($D69:$R69,"1")/2 -> 1 | T69: =IF(AND(K69=1,E69<>1,G69<>1,I69<>1,M69<>1,O69<>1,Q69<>1),1,0) -> 0 | U69: ='LR Results_2B_Composite'!H65 -> 1 | V69: =IF(AND(D69="CONT",T69=1,U69=0),1,0) -> 0 | W69: =IF($D69="CF",COUNTIFS($D69:$R69,"1")/2,"") | X69: =IF($D69="CFNR",COUNTIFS($D69:$R69,"1")/2,"") | Y69: =IF($D69="CONT",COUNTIFS($D69:$R69,"1")/2,"") -> 1
A70: =A69+1 -> 61 | B70: =B69+1 -> 61 | C70: =C69+1 -> 63 | D70: CFNR | E70: 99 | F70: =IF(E70=1,1,0) -> 0 | G70: 2 | H70: =IF(G70=1,1,0) -> 0 | I70: 2 | J70: =IF(I70=1,1,0) -> 0 | K70: 2 | L70: =IF(K70=1,1,0) -> 0 | M70: 2 | N70: =IF(M70=1,1,0) -> 0 | O70: 1 | P70: =IF(O70=1,1,0) -> 1 | Q70: 99 | R70: =IF(Q70=1,1,0) -> 0 | S70: =COUNTIFS($D70:$R70,"1")/2 -> 1 | T70: =IF(AND(K70=1,E70<>1,G70<>1,I70<>1,M70<>1,O70<>1,Q70<>1),1,0) -> 0 | U70: ='LR Results_2B_Composite'!H66 -> 1 | V70: =IF(AND(D70="CONT",T70=1,U70=0),1,0) -> 0 | W70: =IF($D70="CF",COUNTIFS($D70:$R70,"1")/2,"") | X70: =IF($D70="CFNR",COUNTIFS($D70:$R70,"1")/2,"") -> 1 | Y70: =IF($D70="CONT",COUNTIFS($D70:$R70,"1")/2,"")
A71: =A70+1 -> 62 | B71: =B70+1 -> 62 | C71: =C70+1 -> 64 | D71: CONT | E71: 2 | F71: =IF(E71=1,1,0) -> 0 | G71: 2 | H71: =IF(G71=1,1,0) -> 0 | I71: 2 | J71: =IF(I71=1,1,0) -> 0 | K71: 1 | L71: =IF(K71=1,1,0) -> 1 | M71: 1 | N71: =IF(M71=1,1,0) -> 1 | O71: 2 | P71: =IF(O71=1,1,0) -> 0 | Q71: 2 | R71: =IF(Q71=1,1,0) -> 0 | S71: =COUNTIFS($D71:$R71,"1")/2 -> 2 | T71: =IF(AND(K71=1,E71<>1,G71<>1,I71<>1,M71<>1,O71<>1,Q71<>1),1,0) -> 0 | U71: ='LR Results_2B_Composite'!H67 -> 1 | V71: =IF(AND(D71="CONT",T71=1,U71=0),1,0) -> 0 | W71: =IF($D71="CF",COUNTIFS($D71:$R71,"1")/2,"") | X71: =IF($D71="CFNR",COUNTIFS($D71:$R71,"1")/2,"") | Y71: =IF($D71="CONT",COUNTIFS($D71:$R71,"1")/2,"") -> 2
A72: =A71+1 -> 63 | B72: =B71+1 -> 63 | C72: =C71+1 -> 65 | D72: CFNR | E72: - | F72: =IF(E72=1,1,0) -> 0 | G72: 2 | H72: =IF(G72=1,1,0) -> 0 | I72: 2 | J72: =IF(I72=1,1,0) -> 0 | K72: 1 | L72: =IF(K72=1,1,0) -> 1 | M72: 1 | N72: =IF(M72=1,1,0) -> 1 | O72: 2 | P72: =IF(O72=1,1,0) -> 0 | Q72: 1 | R72: =IF(Q72=1,1,0) -> 1 | S72: =COUNTIFS($D72:$R72,"1")/2 -> 3 | T72: =IF(AND(K72=1,E72<>1,G72<>1,I72<>1,M72<>1,O72<>1,Q72<>1),1,0) -> 0 | U72: ='LR Results_2B_Composite'!H68 -> 1 | V72: =IF(AND(D72="CONT",T72=1,U72=0),1,0) -> 0 | W72: =IF($D72="CF",COUNTIFS($D72:$R72,"1")/2,"") | X72: =IF($D72="CFNR",COUNTIFS($D72:$R72,"1")/2,"") -> 3 | Y72: =IF($D72="CONT",COUNTIFS($D72:$R72,"1")/2,"")
A73: =A72+1 -> 64 | B73: =B72+1 -> 64 | C73: =C72+1 -> 66 | D73: CONT | E73: - | F73: =IF(E73=1,1,0) -> 0 | G73: 2 | H73: =IF(G73=1,1,0) -> 0 | I73: 2 | J73: =IF(I73=1,1,0) -> 0 | K73: 2 | L73: =IF(K73=1,1,0) -> 0 | M73: 2 | N73: =IF(M73=1,1,0) -> 0 | O73: 1 | P73: =IF(O73=1,1,0) -> 1 | Q73: - | R73: =IF(Q73=1,1,0) -> 0 | S73: =COUNTIFS($D73:$R73,"1")/2 -> 1 | T73: =IF(AND(K73=1,E73<>1,G73<>1,I73<>1,M73<>1,O73<>1,Q73<>1),1,0) -> 0 | U73: ='LR Results_2B_Composite'!H69 -> 1 | V73: =IF(AND(D73="CONT",T73=1,U73=0),1,0) -> 0 | W73: =IF($D73="CF",COUNTIFS($D73:$R73,"1")/2,"") | X73: =IF($D73="CFNR",COUNTIFS($D73:$R73,"1")/2,"") | Y73: =IF($D73="CONT",COUNTIFS($D73:$R73,"1")/2,"") -> 1
A74: =A73+1 -> 65 | B74: =B73+1 -> 65 | C74: =C73+1 -> 67 | D74: CFNR | E74: - | F74: =IF(E74=1,1,0) -> 0 | G74: 2 | H74: =IF(G74=1,1,0) -> 0 | I74: 1 | J74: =IF(I74=1,1,0) -> 1 | K74: 1 | L74: =IF(K74=1,1,0) -> 1 | M74: - | N74: =IF(M74=1,1,0) -> 0 | O74: - | P74: =IF(O74=1,1,0) -> 0 | Q74: - | R74: =IF(Q74=1,1,0) -> 0 | S74: =COUNTIFS($D74:$R74,"1")/2 -> 2 | T74: =IF(AND(K74=1,E74<>1,G74<>1,I74<>1,M74<>1,O74<>1,Q74<>1),1,0) -> 0 | U74: ='LR Results_2B_Composite'!H70 -> 1 | V74: =IF(AND(D74="CONT",T74=1,U74=0),1,0) -> 0 | W74: =IF($D74="CF",COUNTIFS($D74:$R74,"1")/2,"") | X74: =IF($D74="CFNR",COUNTIFS($D74:$R74,"1")/2,"") -> 2 | Y74: =IF($D74="CONT",COUNTIFS($D74:$R74,"1")/2,"")
A75: =A74+1 -> 66 | B75: =B74+1 -> 66 | C75: =C74+1 -> 68 | D75: CONT | E75: - | F75: =IF(E75=1,1,0) -> 0 | G75: 2 | H75: =IF(G75=1,1,0) -> 0 | I75: 2 | J75: =IF(I75=1,1,0) -> 0 | K75: 1 | L75: =IF(K75=1,1,0) -> 1 | M75: 1 | N75: =IF(M75=1,1,0) -> 1 | O75: 2 | P75: =IF(O75=1,1,0) -> 0 | Q75: 1 | R75: =IF(Q75=1,1,0) -> 1 | S75: =COUNTIFS($D75:$R75,"1")/2 -> 3 | T75: =IF(AND(K75=1,E75<>1,G75<>1,I75<>1,M75<>1,O75<>1,Q75<>1),1,0) -> 0 | U75: ='LR Results_2B_Composite'!H71 -> 1 | V75: =IF(AND(D75="CONT",T75=1,U75=0),1,0) -> 0 | W75: =IF($D75="CF",COUNTIFS($D75:$R75,"1")/2,"") | X75: =IF($D75="CFNR",COUNTIFS($D75:$R75,"1")/2,"") | Y75: =IF($D75="CONT",COUNTIFS($D75:$R75,"1")/2,"") -> 3
A76: =A75+1 -> 67 | B76: =B75+1 -> 67 | C76: =C75+1 -> 69 | D76: CFNR | E76: - | F76: =IF(E76=1,1,0) -> 0 | G76: 2 | H76: =IF(G76=1,1,0) -> 0 | I76: 2 | J76: =IF(I76=1,1,0) -> 0 | K76: 1 | L76: =IF(K76=1,1,0) -> 1 | M76: 1 | N76: =IF(M76=1,1,0) -> 1 | O76: 2 | P76: =IF(O76=1,1,0) -> 0 | Q76: 2 | R76: =IF(Q76=1,1,0) -> 0 | S76: =COUNTIFS($D76:$R76,"1")/2 -> 2 | T76: =IF(AND(K76=1,E76<>1,G76<>1,I76<>1,M76<>1,O76<>1,Q76<>1),1,0) -> 0 | U76: ='LR Results_2B_Composite'!H72 -> 1 | V76: =IF(AND(D76="CONT",T76=1,U76=0),1,0) -> 0 | W76: =IF($D76="CF",COUNTIFS($D76:$R76,"1")/2,"") | X76: =IF($D76="CFNR",COUNTIFS($D76:$R76,"1")/2,"") -> 2 | Y76: =IF($D76="CONT",COUNTIFS($D76:$R76,"1")/2,"")
A77: =A76+1 -> 68 | B77: =B76+1 -> 68 | C77: =C76+1 -> 70 | D77: CFNR | E77: - | F77: =IF(E77=1,1,0) -> 0 | G77: 2 | H77: =IF(G77=1,1,0) -> 0 | I77: 2 | J77: =IF(I77=1,1,0) -> 0 | K77: 1 | L77: =IF(K77=1,1,0) -> 1 | M77: - | N77: =IF(M77=1,1,0) -> 0 | O77: - | P77: =IF(O77=1,1,0) -> 0 | Q77: - | R77: =IF(Q77=1,1,0) -> 0 | S77: =COUNTIFS($D77:$R77,"1")/2 -> 1 | T77: =IF(AND(K77=1,E77<>1,G77<>1,I77<>1,M77<>1,O77<>1,Q77<>1),1,0) -> 1 | U77: ='LR Results_2B_Composite'!H73 -> 0 | V77: =IF(AND(D77="CONT",T77=1,U77=0),1,0) -> 0 | W77: =IF($D77="CF",COUNTIFS($D77:$R77,"1")/2,"") | X77: =IF($D77="CFNR",COUNTIFS($D77:$R77,"1")/2,"") -> 1 | Y77: =IF($D77="CONT",COUNTIFS($D77:$R77,"1")/2,"")
A78: =A77+1 -> 69 | B78: =B77+1 -> 69 | C78: =C77+1 -> 71 | D78: CFNR | E78: 2 | F78: =IF(E78=1,1,0) -> 0 | G78: 2 | H78: =IF(G78=1,1,0) -> 0 | I78: 2 | J78: =IF(I78=1,1,0) -> 0 | K78: 2 | L78: =IF(K78=1,1,0) -> 0 | M78: 2 | N78: =IF(M78=1,1,0) -> 0 | O78: 1 | P78: =IF(O78=1,1,0) -> 1 | Q78: - | R78: =IF(Q78=1,1,0) -> 0 | S78: =COUNTIFS($D78:$R78,"1")/2 -> 1 | T78: =IF(AND(K78=1,E78<>1,G78<>1,I78<>1,M78<>1,O78<>1,Q78<>1),1,0) -> 0 | U78: ='LR Results_2B_Composite'!H74 -> 1 | V78: =IF(AND(D78="CONT",T78=1,U78=0),1,0) -> 0 | W78: =IF($D78="CF",COUNTIFS($D78:$R78,"1")/2,"") | X78: =IF($D78="CFNR",COUNTIFS($D78:$R78,"1")/2,"") -> 1 | Y78: =IF($D78="CONT",COUNTIFS($D78:$R78,"1")/2,"")
A79: =A78+1 -> 70 | B79: =B78+1 -> 70 | C79: =C78+1 -> 72 | D79: CFNR | E79: - | F79: =IF(E79=1,1,0) -> 0 | G79: 2 | H79: =IF(G79=1,1,0) -> 0 | I79: 2 | J79: =IF(I79=1,1,0) -> 0 | K79: 2 | L79: =IF(K79=1,1,0) -> 0 | M79: 1 | N79: =IF(M79=1,1,0) -> 1 | O79: 1 | P79: =IF(O79=1,1,0) -> 1 | Q79: - | R79: =IF(Q79=1,1,0) -> 0 | S79: =COUNTIFS($D79:$R79,"1")/2 -> 2 | T79: =IF(AND(K79=1,E79<>1,G79<>1,I79<>1,M79<>1,O79<>1,Q79<>1),1,0) -> 0 | U79: ='LR Results_2B_Composite'!H75 -> 1 | V79: =IF(AND(D79="CONT",T79=1,U79=0),1,0) -> 0 | W79: =IF($D79="CF",COUNTIFS($D79:$R79,"1")/2,"") | X79: =IF($D79="CFNR",COUNTIFS($D79:$R79,"1")/2,"") -> 2 | Y79: =IF($D79="CONT",COUNTIFS($D79:$R79,"1")/2,"")
A80: =A79+1 -> 71 | B80: =B79+1 -> 71 | C80: =C79+1 -> 73 | D80: CFNR | E80: - | F80: =IF(E80=1,1,0) -> 0 | G80: 2 | H80: =IF(G80=1,1,0) -> 0 | I80: 2 | J80: =IF(I80=1,1,0) -> 0 | K80: 1 | L80: =IF(K80=1,1,0) -> 1 | M80: 2 | N80: =IF(M80=1,1,0) -> 0 | O80: 2 | P80: =IF(O80=1,1,0) -> 0 | Q80: 1 | R80: =IF(Q80=1,1,0) -> 1 | S80: =COUNTIFS($D80:$R80,"1")/2 -> 2 | T80: =IF(AND(K80=1,E80<>1,G80<>1,I80<>1,M80<>1,O80<>1,Q80<>1),1,0) -> 0 | U80: ='LR Results_2B_Composite'!H76 -> 1 | V80: =IF(AND(D80="CONT",T80=1,U80=0),1,0) -> 0 | W80: =IF($D80="CF",COUNTIFS($D80:$R80,"1")/2,"") | X80: =IF($D80="CFNR",COUNTIFS($D80:$R80,"1")/2,"") -> 2 | Y80: =IF($D80="CONT",COUNTIFS($D80:$R80,"1")/2,"")
A81: =A80+1 -> 72 | B81: =B80+1 -> 72 | C81: =C80+1 -> 74 | D81: CFNR | E81: - | F81: =IF(E81=1,1,0) -> 0 | G81: 2 | H81: =IF(G81=1,1,0) -> 0 | I81: 2 | J81: =IF(I81=1,1,0) -> 0 | K81: 2 | L81: =IF(K81=1,1,0) -> 0 | M81: 2 | N81: =IF(M81=1,1,0) -> 0 | O81: 1 | P81: =IF(O81=1,1,0) -> 1 | Q81: - | R81: =IF(Q81=1,1,0) -> 0 | S81: =COUNTIFS($D81:$R81,"1")/2 -> 1 | T81: =IF(AND(K81=1,E81<>1,G81<>1,I81<>1,M81<>1,O81<>1,Q81<>1),1,0) -> 0 | U81: ='LR Results_2B_Composite'!H77 -> 1 | V81: =IF(AND(D81="CONT",T81=1,U81=0),1,0) -> 0 | W81: =IF($D81="CF",COUNTIFS($D81:$R81,"1")/2,"") | X81: =IF($D81="CFNR",COUNTIFS($D81:$R81,"1")/2,"") -> 1 | Y81: =IF($D81="CONT",COUNTIFS($D81:$R81,"1")/2,"")
A82: =A81+1 -> 73 | B82: =B81+1 -> 73 | C82: =C81+1 -> 75 | D82: CFNR | E82: - | F82: =IF(E82=1,1,0) -> 0 | G82: 2 | H82: =IF(G82=1,1,0) -> 0 | I82: 2 | J82: =IF(I82=1,1,0) -> 0 | K82: 1 | L82: =IF(K82=1,1,0) -> 1 | M82: 1 | N82: =IF(M82=1,1,0) -> 1 | O82: 2 | P82: =IF(O82=1,1,0) -> 0 | Q82: 2 | R82: =IF(Q82=1,1,0) -> 0 | S82: =COUNTIFS($D82:$R82,"1")/2 -> 2 | T82: =IF(AND(K82=1,E82<>1,G82<>1,I82<>1,M82<>1,O82<>1,Q82<>1),1,0) -> 0 | U82: ='LR Results_2B_Composite'!H78 -> 1 | V82: =IF(AND(D82="CONT",T82=1,U82=0),1,0) -> 0 | W82: =IF($D82="CF",COUNTIFS($D82:$R82,"1")/2,"") | X82: =IF($D82="CFNR",COUNTIFS($D82:$R82,"1")/2,"") -> 2 | Y82: =IF($D82="CONT",COUNTIFS($D82:$R82,"1")/2,"")
A83: =A82+1 -> 74 | B83: =B82+1 -> 74 | C83: =C82+1 -> 76 | D83: CFNR | E83: 1 | F83: =IF(E83=1,1,0) -> 1 | G83: 2 | H83: =IF(G83=1,1,0) -> 0 | I83: 2 | J83: =IF(I83=1,1,0) -> 0 | K83: 2 | L83: =IF(K83=1,1,0) -> 0 | M83: - | N83: =IF(M83=1,1,0) -> 0 | O83: - | P83: =IF(O83=1,1,0) -> 0 | Q83: - | R83: =IF(Q83=1,1,0) -> 0 | S83: =COUNTIFS($D83:$R83,"1")/2 -> 1 | T83: =IF(AND(K83=1,E83<>1,G83<>1,I83<>1,M83<>1,O83<>1,Q83<>1),1,0) -> 0 | U83: ='LR Results_2B_Composite'!H79 -> 1 | V83: =IF(AND(D83="CONT",T83=1,U83=0),1,0) -> 0 | W83: =IF($D83="CF",COUNTIFS($D83:$R83,"1")/2,"") | X83: =IF($D83="CFNR",COUNTIFS($D83:$R83,"1")/2,"") -> 1 | Y83: =IF($D83="CONT",COUNTIFS($D83:$R83,"1")/2,"")
A84: =A83+1 -> 75 | B84: =B83+1 -> 75 | C84: =C83+1 -> 77 | D84: CFNR | E84: - | F84: =IF(E84=1,1,0) -> 0 | G84: 2 | H84: =IF(G84=1,1,0) -> 0 | I84: 2 | J84: =IF(I84=1,1,0) -> 0 | K84: 2 | L84: =IF(K84=1,1,0) -> 0 | M84: - | N84: =IF(M84=1,1,0) -> 0 | O84: - | P84: =IF(O84=1,1,0) -> 0 | Q84: - | R84: =IF(Q84=1,1,0) -> 0 | S84: =COUNTIFS($D84:$R84,"1")/2 -> 0 | T84: =IF(AND(K84=1,E84<>1,G84<>1,I84<>1,M84<>1,O84<>1,Q84<>1),1,0) -> 0 | U84: ='LR Results_2B_Composite'!H80 -> 1 | V84: =IF(AND(D84="CONT",T84=1,U84=0),1,0) -> 0 | W84: =IF($D84="CF",COUNTIFS($D84:$R84,"1")/2,"") | X84: =IF($D84="CFNR",COUNTIFS($D84:$R84,"1")/2,"") -> 0 | Y84: =IF($D84="CONT",COUNTIFS($D84:$R84,"1")/2,"")
A85: =A84+1 -> 76 | B85: =B84+1 -> 76 | C85: =C84+1 -> 78 | D85: CFNR | E85: - | F85: =IF(E85=1,1,0) -> 0 | G85: 2 | H85: =IF(G85=1,1,0) -> 0 | I85: 1 | J85: =IF(I85=1,1,0) -> 1 | K85: 1 | L85: =IF(K85=1,1,0) -> 1 | M85: 2 | N85: =IF(M85=1,1,0) -> 0 | O85: 1 | P85: =IF(O85=1,1,0) -> 1 | Q85: 99 | R85: =IF(Q85=1,1,0) -> 0 | S85: =COUNTIFS($D85:$R85,"1")/2 -> 3 | T85: =IF(AND(K85=1,E85<>1,G85<>1,I85<>1,M85<>1,O85<>1,Q85<>1),1,0) -> 0 | U85: ='LR Results_2B_Composite'!H81 -> 1 | V85: =IF(AND(D85="CONT",T85=1,U85=0),1,0) -> 0 | W85: =IF($D85="CF",COUNTIFS($D85:$R85,"1")/2,"") | X85: =IF($D85="CFNR",COUNTIFS($D85:$R85,"1")/2,"") -> 3 | Y85: =IF($D85="CONT",COUNTIFS($D85:$R85,"1")/2,"")
A86: =A85+1 -> 77 | B86: =B85+1 -> 77 | C86: =C85+1 -> 79 | D86: CFNR | E86: 2 | F86: =IF(E86=1,1,0) -> 0 | G86: 2 | H86: =IF(G86=1,1,0) -> 0 | I86: 2 | J86: =IF(I86=1,1,0) -> 0 | K86: 1 | L86: =IF(K86=1,1,0) -> 1 | M86: 1 | N86: =IF(M86=1,1,0) -> 1 | O86: 1 | P86: =IF(O86=1,1,0) -> 1 | Q86: 2 | R86: =IF(Q86=1,1,0) -> 0 | S86: =COUNTIFS($D86:$R86,"1")/2 -> 3 | T86: =IF(AND(K86=1,E86<>1,G86<>1,I86<>1,M86<>1,O86<>1,Q86<>1),1,0) -> 0 | U86: ='LR Results_2B_Composite'!H82 -> 1 | V86: =IF(AND(D86="CONT",T86=1,U86=0),1,0) -> 0 | W86: =IF($D86="CF",COUNTIFS($D86:$R86,"1")/2,"") | X86: =IF($D86="CFNR",COUNTIFS($D86:$R86,"1")/2,"") -> 3 | Y86: =IF($D86="CONT",COUNTIFS($D86:$R86,"1")/2,"")
A87: =A86+1 -> 78 | B87: =B86+1 -> 78 | C87: =C86+1 -> 80 | D87: CFNR | E87: - | F87: =IF(E87=1,1,0) -> 0 | G87: 1 | H87: =IF(G87=1,1,0) -> 1 | I87: 2 | J87: =IF(I87=1,1,0) -> 0 | K87: 2 | L87: =IF(K87=1,1,0) -> 0 | M87: 2 | N87: =IF(M87=1,1,0) -> 0 | O87: 2 | P87: =IF(O87=1,1,0) -> 0 | Q87: 2 | R87: =IF(Q87=1,1,0) -> 0 | S87: =COUNTIFS($D87:$R87,"1")/2 -> 1 | T87: =IF(AND(K87=1,E87<>1,G87<>1,I87<>1,M87<>1,O87<>1,Q87<>1),1,0) -> 0 | U87: ='LR Results_2B_Composite'!H83 -> 1 | V87: =IF(AND(D87="CONT",T87=1,U87=0),1,0) -> 0 | W87: =IF($D87="CF",COUNTIFS($D87:$R87,"1")/2,"") | X87: =IF($D87="CFNR",COUNTIFS($D87:$R87,"1")/2,"") -> 1 | Y87: =IF($D87="CONT",COUNTIFS($D87:$R87,"1")/2,"")
A88: =A87+1 -> 79 | B88: =B87+1 -> 79 | C88: =C87+1 -> 81 | D88: CFNR | E88: - | F88: =IF(E88=1,1,0) -> 0 | G88: 2 | H88: =IF(G88=1,1,0) -> 0 | I88: 2 | J88: =IF(I88=1,1,0) -> 0 | K88: 1 | L88: =IF(K88=1,1,0) -> 1 | M88: 2 | N88: =IF(M88=1,1,0) -> 0 | O88: 2 | P88: =IF(O88=1,1,0) -> 0 | Q88: 2 | R88: =IF(Q88=1,1,0) -> 0 | S88: =COUNTIFS($D88:$R88,"1")/2 -> 1 | T88: =IF(AND(K88=1,E88<>1,G88<>1,I88<>1,M88<>1,O88<>1,Q88<>1),1,0) -> 1 | U88: ='LR Results_2B_Composite'!H84 -> 0 | V88: =IF(AND(D88="CONT",T88=1,U88=0),1,0) -> 0 | W88: =IF($D88="CF",COUNTIFS($D88:$R88,"1")/2,"") | X88: =IF($D88="CFNR",COUNTIFS($D88:$R88,"1")/2,"") -> 1 | Y88: =IF($D88="CONT",COUNTIFS($D88:$R88,"1")/2,"")
A89: =A88+1 -> 80 | B89: =B88+1 -> 80 | C89: =C88+1 -> 82 | D89: CFNR | E89: 1 | F89: =IF(E89=1,1,0) -> 1 | G89: 1 | H89: =IF(G89=1,1,0) -> 1 | I89: 2 | J89: =IF(I89=1,1,0) -> 0 | K89: 1 | L89: =IF(K89=1,1,0) -> 1 | M89: 1 | N89: =IF(M89=1,1,0) -> 1 | O89: 1 | P89: =IF(O89=1,1,0) -> 1 | Q89: 2 | R89: =IF(Q89=1,1,0) -> 0 | S89: =COUNTIFS($D89:$R89,"1")/2 -> 5 | T89: =IF(AND(K89=1,E89<>1,G89<>1,I89<>1,M89<>1,O89<>1,Q89<>1),1,0) -> 0 | U89: ='LR Results_2B_Composite'!H85 -> 1 | V89: =IF(AND(D89="CONT",T89=1,U89=0),1,0) -> 0 | W89: =IF($D89="CF",COUNTIFS($D89:$R89,"1")/2,"") | X89: =IF($D89="CFNR",COUNTIFS($D89:$R89,"1")/2,"") -> 5 | Y89: =IF($D89="CONT",COUNTIFS($D89:$R89,"1")/2,"")
A90: =A89+1 -> 81 | B90: =B89+1 -> 81 | C90: =C89+1 -> 83 | D90: CFNR | E90: - | F90: =IF(E90=1,1,0) -> 0 | G90: 2 | H90: =IF(G90=1,1,0) -> 0 | I90: 2 | J90: =IF(I90=1,1,0) -> 0 | K90: 1 | L90: =IF(K90=1,1,0) -> 1 | M90: 2 | N90: =IF(M90=1,1,0) -> 0 | O90: 2 | P90: =IF(O90=1,1,0) -> 0 | Q90: 2 | R90: =IF(Q90=1,1,0) -> 0 | S90: =COUNTIFS($D90:$R90,"1")/2 -> 1 | T90: =IF(AND(K90=1,E90<>1,G90<>1,I90<>1,M90<>1,O90<>1,Q90<>1),1,0) -> 1 | U90: ='LR Results_2B_Composite'!H86 -> 0 | V90: =IF(AND(D90="CONT",T90=1,U90=0),1,0) -> 0 | W90: =IF($D90="CF",COUNTIFS($D90:$R90,"1")/2,"") | X90: =IF($D90="CFNR",COUNTIFS($D90:$R90,"1")/2,"") -> 1 | Y90: =IF($D90="CONT",COUNTIFS($D90:$R90,"1")/2,"")
A91: =A90+1 -> 82 | B91: =B90+1 -> 82 | C91: =C90+1 -> 84 | D91: CFNR | E91: - | F91: =IF(E91=1,1,0) -> 0 | G91: 2 | H91: =IF(G91=1,1,0) -> 0 | I91: 1 | J91: =IF(I91=1,1,0) -> 1 | K91: 1 | L91: =IF(K91=1,1,0) -> 1 | M91: 1 | N91: =IF(M91=1,1,0) -> 1 | O91: 1 | P91: =IF(O91=1,1,0) -> 1 | Q91: 1 | R91: =IF(Q91=1,1,0) -> 1 | S91: =COUNTIFS($D91:$R91,"1")/2 -> 5 | T91: =IF(AND(K91=1,E91<>1,G91<>1,I91<>1,M91<>1,O91<>1,Q91<>1),1,0) -> 0 | U91: ='LR Results_2B_Composite'!H87 -> 1 | V91: =IF(AND(D91="CONT",T91=1,U91=0),1,0) -> 0 | W91: =IF($D91="CF",COUNTIFS($D91:$R91,"1")/2,"") | X91: =IF($D91="CFNR",COUNTIFS($D91:$R91,"1")/2,"") -> 5 | Y91: =IF($D91="CONT",COUNTIFS($D91:$R91,"1")/2,"")
A92: =A91+1 -> 83 | B92: =B91+1 -> 83 | C92: =C91+1 -> 85 | D92: CF | E92: 1 | F92: =IF(E92=1,1,0) -> 1 | G92: 2 | H92: =IF(G92=1,1,0) -> 0 | I92: 2 | J92: =IF(I92=1,1,0) -> 0 | K92: 1 | L92: =IF(K92=1,1,0) -> 1 | M92: 1 | N92: =IF(M92=1,1,0) -> 1 | O92: 1 | P92: =IF(O92=1,1,0) -> 1 | Q92: 1 | R92: =IF(Q92=1,1,0) -> 1 | S92: =COUNTIFS($D92:$R92,"1")/2 -> 5 | T92: =IF(AND(K92=1,E92<>1,G92<>1,I92<>1,M92<>1,O92<>1,Q92<>1),1,0) -> 0 | U92: ='LR Results_2B_Composite'!H88 -> 1 | V92: =IF(AND(D92="CONT",T92=1,U92=0),1,0) -> 0 | W92: =IF($D92="CF",COUNTIFS($D92:$R92,"1")/2,"") -> 5 | X92: =IF($D92="CFNR",COUNTIFS($D92:$R92,"1")/2,"") | Y92: =IF($D92="CONT",COUNTIFS($D92:$R92,"1")/2,"")
A93: =A92+1 -> 84 | B93: =B92+1 -> 84 | C93: =C92+1 -> 86 | D93: CF | E93: - | F93: =IF(E93=1,1,0) -> 0 | G93: 2 | H93: =IF(G93=1,1,0) -> 0 | I93: 2 | J93: =IF(I93=1,1,0) -> 0 | K93: 1 | L93: =IF(K93=1,1,0) -> 1 | M93: 1 | N93: =IF(M93=1,1,0) -> 1 | O93: 1 | P93: =IF(O93=1,1,0) -> 1 | Q93: 1 | R93: =IF(Q93=1,1,0) -> 1 | S93: =COUNTIFS($D93:$R93,"1")/2 -> 4 | T93: =IF(AND(K93=1,E93<>1,G93<>1,I93<>1,M93<>1,O93<>1,Q93<>1),1,0) -> 0 | U93: ='LR Results_2B_Composite'!H89 -> 1 | V93: =IF(AND(D93="CONT",T93=1,U93=0),1,0) -> 0 | W93: =IF($D93="CF",COUNTIFS($D93:$R93,"1")/2,"") -> 4 | X93: =IF($D93="CFNR",COUNTIFS($D93:$R93,"1")/2,"") | Y93: =IF($D93="CONT",COUNTIFS($D93:$R93,"1")/2,"")
A94: =A93+1 -> 85 | B94: =B93+1 -> 85 | C94: =C93+1 -> 87 | D94: CF | E94: 1 | F94: =IF(E94=1,1,0) -> 1 | G94: 2 | H94: =IF(G94=1,1,0) -> 0 | I94: 2 | J94: =IF(I94=1,1,0) -> 0 | K94: 1 | L94: =IF(K94=1,1,0) -> 1 | M94: 1 | N94: =IF(M94=1,1,0) -> 1 | O94: 1 | P94: =IF(O94=1,1,0) -> 1 | Q94: 1 | R94: =IF(Q94=1,1,0) -> 1 | S94: =COUNTIFS($D94:$R94,"1")/2 -> 5 | T94: =IF(AND(K94=1,E94<>1,G94<>1,I94<>1,M94<>1,O94<>1,Q94<>1),1,0) -> 0 | U94: ='LR Results_2B_Composite'!H90 -> 1 | V94: =IF(AND(D94="CONT",T94=1,U94=0),1,0) -> 0 | W94: =IF($D94="CF",COUNTIFS($D94:$R94,"1")/2,"") -> 5 | X94: =IF($D94="CFNR",COUNTIFS($D94:$R94,"1")/2,"") | Y94: =IF($D94="CONT",COUNTIFS($D94:$R94,"1")/2,"")
A95: =A94+1 -> 86 | C95: CF | D95: =COUNTIF(D$10:D$94,"CF") -> 4 | V95: =SUM(V10:V94) -> 8 | W95: =SUM(W10:W94) -> 15 | X95: =SUM(X10:X94) -> 54 | Y95: =SUM(Y10:Y94) -> 90 | Z95: =W95+X95+Y95 -> 159
A96: =A95+1 -> 87 | C96: CFNR | D96: =COUNTIF(D$10:D$94,"CFNR") -> 27 | W96: =W95/D95 -> 3.75 | X96: =X95/D96 -> 2 | Y96: =Y95/D97 -> 1.6666667 | Z96: =Z95/D98 -> 1.8705882
A97: =A96+1 -> 88 | C97: CONT | D97: =COUNTIF(D$10:D$94,"CONT") -> 54 | W97: =COUNTIFS(W10:W94,1,$K10:$K94,1) -> 1 | X97: =COUNTIFS(X10:X94,1,$K10:$K94,1) -> 4 | Y97: =COUNTIFS(Y10:Y94,1,$K10:$K94,1) -> 8
A98: =A97+1 -> 89 | D98: =SUM(D95:D97) -> 85 | W98: =W97/D95 -> 0.25 | X98: =X97/D96 -> 0.14814815 | Y98: =Y97/D97 -> 0.14814815
A99: =A98+1 -> 90 | B99: 20 | C99: 0.40710177 | D99: Yes | E99: 0 | F99: =IF(E99=1,1,IF(E99=2,0,2)) -> 2 | G99: 2 | H99: =IF(G99=1,1,IF(G99=2,0,2)) -> 0 | I99: 2 | J99: =IF(I99=1,1,IF(I99=2,0,2)) -> 0 | K99: 1 | L99: =IF(K99=1,1,IF(K99=2,0,2)) -> 1 | M99: 2 | N99: =IF(M99=1,1,IF(M99=2,0,2)) -> 0 | O99: 1 | P99: =IF(O99=1,1,IF(O99=2,0,2)) -> 1 | Q99: 2 | R99: =IF(Q99=1,1,IF(Q99=2,0,2)) -> 0 | S99: =COUNTIFS($D99:$R99,"1")/2 -> 2 | X99: =X97-1 -> 3
A100: =A99+1 -> 91 | B100: 17 | C100: 0.11596241 | D100: No | E100: 2 | F100: =IF(E100=1,1,IF(E100=2,0,2)) -> 0 | G100: 2 | H100: =IF(G100=1,1,IF(G100=2,0,2)) -> 0 | I100: 2 | J100: =IF(I100=1,1,IF(I100=2,0,2)) -> 0 | K100: 1 | L100: =IF(K100=1,1,IF(K100=2,0,2)) -> 1 | M100: 2 | N100: =IF(M100=1,1,IF(M100=2,0,2)) -> 0 | O100: 2 | P100: =IF(O100=1,1,IF(O100=2,0,2)) -> 0 | Q100: 2 | R100: =IF(Q100=1,1,IF(Q100=2,0,2)) -> 0 | S100: =COUNTIFS($D100:$R100,"1")/2 -> 1
A101: =A100+1 -> 92
A102: =A101+1 -> 93 | E102: Pancreatic Insufficiency | G102: Pancreatitis | I102: Family History | K102: Bronchiectasis/Tree-in-Bud | M102: Gram Negative Bacteria Inf. | O102: Gram Positive Bacteria Inf. | Q102: NTM
D179: =COUNTIF(D$10:D$178,"CF")/171 -> 0.023391813 | L179: =COUNTIF(L10:L178,"1") -> 55 | S179: =AVERAGE(S10:S178) -> 1.862069 | W179: =IF($D178="CF",COUNTIFS($D178:$R178,"1")/2,"") | X179: =IF($D178="CFNR",COUNTIFS($D178:$R178,"1")/2,"")
D180: =COUNTIF(D$10:D$178,"CFNR")/171 -> 0.15789474 | S180: =COUNTIF(S10:S178,0)/171 -> 0.076023392
...

Sheet Setup
AH1: index | AI1: 1 | AJ1: 2 | AK1: 3 | AL1: 4 | AM1: 5 | AN1: 6 | AO1: 7
AH2: column | AI2: 4 | AJ2: 5 | AK2: 15 | AL2: 24 | AM2: 33 | AN2: 34 | AO2: 44
T3: Determination of the specific CF-related conditions associated with each of the 35 three -variate LR models and the assignment of a case # to each model | AI3: Pancreatic Insufficiency | AJ3: Pancreatitis | AK3: family history | AL3: bronchiectasis/ tree in bud | AM3: Gram negative bacterial infection | AN3: Gram positive bacterial infection | AO3: NTM (MAC or non-Mac)
AJ5: Database Column
B6: Binary | C6: 1 | D6: =C6+1 -> 2 | E6: =D6+1 -> 3 | F6: =E6+1 -> 4 | G6: =F6+1 -> 5 | H6: =G6+1 -> 6 | I6: =H6+1 -> 7 | J6: # 1's = 3 | K6: Index | L6: A1 | M6: A2 | N6: A3 | O6: A4 | P6: A5 | Q6: A6 | R6: A7 | U6: 1 | V6: =U6+1 -> 2 | W6: =V6+1 -> 3 | X6: =W6+1 -> 4 | Y6: =X6+1 -> 5 | Z6: =Y6+1 -> 6 | AA6: =Z6+1 -> 7 | AC6: Case | AD6: A1 | AE6: A2 | AF6: A3 | AI6: Case | AJ6: A1 | AK6: A2 | AL6: A3
A7: 1 | B7: =DEC2BIN(A7,7) -> 0000001 | C7: =MID($B7,COLUMN()-(COLUMN($C7)-1),1) -> 0 | D7: =MID($B7,COLUMN()-(COLUMN($C7)-1),1) -> 0 | E7: =MID($B7,COLUMN()-(COLUMN($C7)-1),1) -> 0 | F7: =MID($B7,COLUMN()-(COLUMN($C7)-1),1) -> 0 | G7: =MID($B7,COLUMN()-(COLUMN($C7)-1),1) -> 0 | H7: =MID($B7,COLUMN()-(COLUMN($C7)-1),1) -> 0 | I7: =MID($B7,COLUMN()-(COLUMN($C7)-1),1) -> 1 | J7: =IF(C7+D7+E7+F7+G7+H7+I7=3,"Y","") | K7: 1 | L7: =IF($J13="Y",C13*1,"") -> 0 | M7: =IF($J13="Y",D13*1,"") -> 0 | N7: =IF($J13="Y",E13*1,"") -> 0 | O7: =IF($J13="Y",F13*1,"") -> 0 | P7: =IF($J13="Y",G13*1,"") -> 1 | Q7: =IF($J13="Y",H13*1,"") -> 1 | R7: =IF($J13="Y",I13*1,"") -> 1 | T7: 1 | U7: =IF(L7=1,U$6,"") | V7: =IF(M7=1,V$6,"") | W7: =IF(N7=1,W$6,"") | X7: =IF(O7=1,X$6,"") | Y7: =IF(P7=1,Y$6,"") -> 5 | Z7: =IF(Q7=1,Z$6,"") -> 6 | AA7: =IF(R7=1,AA$6,"") -> 7 | AC7: 1 | AD7: 5 | AE7: 6 | AF7: 7 | AI7: 1 | AJ7: =OFFSET($AI$1,1,AD7-1) -> 33 | AK7: =OFFSET($AI$1,1,AE7-1) -> 34 | AL7: =OFFSET($AI$1,1,AO1-1) -> 44
A8: =A7+1 -> 2 | B8: =DEC2BIN(A8,7) -> 0000010 | C8: =MID($B8,COLUMN()-(COLUMN($C8)-1),1) -> 0 | D8: =MID($B8,COLUMN()-(COLUMN($C8)-1),1) -> 0 | E8: =MID($B8,COLUMN()-(COLUMN($C8)-1),1) -> 0 | F8: =MID($B8,COLUMN()-(COLUMN($C8)-1),1) -> 0 | G8: =MID($B8,COLUMN()-(COLUMN($C8)-1),1) -> 0 | H8: =MID($B8,COLUMN()-(COLUMN($C8)-1),1) -> 1 | I8: =MID($B8,COLUMN()-(COLUMN($C8)-1),1) -> 0 | J8: =IF(C8+D8+E8+F8+G8+H8+I8=3,"Y","") | K8: 2 | L8: =IF($J17="Y",C17*1,"") -> 0 | M8: =IF($J17="Y",D17*1,"") -> 0 | N8: =IF($J17="Y",E17*1,"") -> 0 | O8: =IF($J17="Y",F17*1,"") -> 1 | P8: =IF($J17="Y",G17*1,"") -> 0 | Q8: =IF($J17="Y",H17*1,"") -> 1 | R8: =IF($J17="Y",I17*1,"") -> 1 | T8: 2 | U8: =IF(L8=1,U$6,"") | V8: =IF(M8=1,V$6,"") | W8: =IF(N8=1,W$6,"") | X8: =IF(O8=1,X$6,"") -> 4 | Y8: =IF(P8=1,Y$6,"") | Z8: =IF(Q8=1,Z$6,"") -> 6 | AA8: =IF(R8=1,AA$6,"") -> 7 | AC8: 2 | AD8: 4 | AE8: 6 | AF8: 7 | AI8: 2 | AJ8: =OFFSET($AI$1,1,AD8-1) -> 24 | AK8: =OFFSET($AI$1,1,AE8-1) -> 34 | AL8: =OFFSET($AI$1,1,AF8-1) -> 44
A9: =A8+1 -> 3 | B9: =DEC2BIN(A9,7) -> 0000011 | C9: =MID($B9,COLUMN()-(COLUMN($C9)-1),1) -> 0 | D9: =MID($B9,COLUMN()-(COLUMN($C9)-1),1) -> 0 | E9: =MID($B9,COLUMN()-(COLUMN($C9)-1),1) -> 0 | F9: =MID($B9,COLUMN()-(COLUMN($C9)-1),1) -> 0 | G9: =MID($B9,COLUMN()-(COLUMN($C9)-1),1) -> 0 | H9: =MID($B9,COLUMN()-(COLUMN($C9)-1),1) -> 1 | I9: =MID($B9,COLUMN()-(COLUMN($C9)-1),1) -> 1 | J9: =IF(C9+D9+E9+F9+G9+H9+I9=3,"Y","") | K9: 3 | L9: =IF($J19="Y",C19*1,"") -> 0 | M9: =IF($J19="Y",D19*1,"") -> 0 | N9: =IF($J19="Y",E19*1,"") -> 0 | O9: =IF($J19="Y",F19*1,"") -> 1 | P9: =IF($J19="Y",G19*1,"") -> 1 | Q9: =IF($J19="Y",H19*1,"") -> 0 | R9: =IF($J19="Y",I19*1,"") -> 1 | T9: 3 | U9: =IF(L9=1,U$6,"") | V9: =IF(M9=1,V$6,"") | W9: =IF(N9=1,W$6,"") | X9: =IF(O9=1,X$6,"") -> 4 | Y9: =IF(P9=1,Y$6,"") -> 5 | Z9: =IF(Q9=1,Z$6,"") | AA9: =IF(R9=1,AA$6,"") -> 7 | AC9: 3 | AD9: 4 | AE9: 5 | AF9: 7 | AI9: 3 | AJ9: =OFFSET($AI$1,1,AD9-1) -> 24 | AK9: =OFFSET($AI$1,1,AE9-1) -> 33 | AL9: =OFFSET($AI$1,1,AF9-1) -> 44
A10: =A9+1 -> 4 | B10: =DEC2BIN(A10,7) -> 0000100 | C10: =MID($B10,COLUMN()-(COLUMN($C10)-1),1) -> 0 | D10: =MID($B10,COLUMN()-(COLUMN($C10)-1),1) -> 0 | E10: =MID($B10,COLUMN()-(COLUMN($C10)-1),1) -> 0 | F10: =MID($B10,COLUMN()-(COLUMN($C10)-1),1) -> 0 | G10: =MID($B10,COLUMN()-(COLUMN($C10)-1),1) -> 1 | H10: =MID($B10,COLUMN()-(COLUMN($C10)-1),1) -> 0 | I10: =MID($B10,COLUMN()-(COLUMN($C10)-1),1) -> 0 | J10: =IF(C10+D10+E10+F10+G10+H10+I10=3,"Y","") | K10: 4 | L10: =IF($J20="Y",C20*1,"") -> 0 | M10: =IF($J20="Y",D20*1,"") -> 0 | N10: =IF($J20="Y",E20*1,"") -> 0 | O10: =IF($J20="Y",F20*1,"") -> 1 | P10: =IF($J20="Y",G20*1,"") -> 1 | Q10: =IF($J20="Y",H20*1,"") -> 1 | R10: =IF($J20="Y",I20*1,"") -> 0 | T10: 4 | U10: =IF(L10=1,U$6,"") | V10: =IF(M10=1,V$6,"") | W10: =IF(N10=1,W$6,"") | X10: =IF(O10=1,X$6,"") -> 4 | Y10: =IF(P10=1,Y$6,"") -> 5 | Z10: =IF(Q10=1,Z$6,"") -> 6 | AA10: =IF(R10=1,AA$6,"") | AC10: 4 | AD10: 4 | AE10: 5 | AF10: 6 | AI10: 4 | AJ10: =OFFSET($AI$1,1,AD10-1) -> 24 | AK10: =OFFSET($AI$1,1,AE10-1) -> 33 | AL10: =OFFSET($AI$1,1,AF10-1) -> 34
A11: =A10+1 -> 5 | B11: =DEC2BIN(A11,7) -> 0000101 | C11: =MID($B11,COLUMN()-(COLUMN($C11)-1),1) -> 0 | D11: =MID($B11,COLUMN()-(COLUMN($C11)-1),1) -> 0 | E11: =MID($B11,COLUMN()-(COLUMN($C11)-1),1) -> 0 | F11: =MID($B11,COLUMN()-(COLUMN($C11)-1),1) -> 0 | G11: =MID($B11,COLUMN()-(COLUMN($C11)-1),1) -> 1 | H11: =MID($B11,COLUMN()-(COLUMN($C11)-1),1) -> 0 | I11: =MID($B11,COLUMN()-(COLUMN($C11)-1),1) -> 1 | J11: =IF(C11+D11+E11+F11+G11+H11+I11=3,"Y","") | K11: 5 | L11: =IF($J25="Y",C25*1,"") -> 0 | M11: =IF($J25="Y",D25*1,"") -> 0 | N11: =IF($J25="Y",E25*1,"") -> 1 | O11: =IF($J25="Y",F25*1,"") -> 0 | P11: =IF($J25="Y",G25*1,"") -> 0 | Q11: =IF($J25="Y",H25*1,"") -> 1 | R11: =IF($J25="Y",I25*1,"") -> 1 | T11: 5 | U11: =IF(L11=1,U$6,"") | V11: =IF(M11=1,V$6,"") | W11: =IF(N11=1,W$6,"") -> 3 | X11: =IF(O11=1,X$6,"") | Y11: =IF(P11=1,Y$6,"") | Z11: =IF(Q11=1,Z$6,"") -> 6 | AA11: =IF(R11=1,AA$6,"") -> 7 | AC11: 5 | AD11: 3 | AE11: 6 | AF11: 7 | AI11: 5 | AJ11: =OFFSET($AI$1,1,AD11-1) -> 15 | AK11: =OFFSET($AI$1,1,AE11-1) -> 34 | AL11: =OFFSET($AI$1,1,AF11-1) -> 44
A12: =A11+1 -> 6 | B12: =DEC2BIN(A12,7) -> 0000110 | C12: =MID($B12,COLUMN()-(COLUMN($C12)-1),1) -> 0 | D12: =MID($B12,COLUMN()-(COLUMN($C12)-1),1) -> 0 | E12: =MID($B12,COLUMN()-(COLUMN($C12)-1),1) -> 0 | F12: =MID($B12,COLUMN()-(COLUMN($C12)-1),1) -> 0 | G12: =MID($B12,COLUMN()-(COLUMN($C12)-1),1) -> 1 | H12: =MID($B12,COLUMN()-(COLUMN($C12)-1),1) -> 1 | I12: =MID($B12,COLUMN()-(COLUMN($C12)-1),1) -> 0 | J12: =IF(C12+D12+E12+F12+G12+H12+I12=3,"Y","") | K12: 6 | L12: =IF($J27="Y",C27*1,"") -> 0 | M12: =IF($J27="Y",D27*1,"") -> 0 | N12: =IF($J27="Y",E27*1,"") -> 1 | O12: =IF($J27="Y",F27*1,"") -> 0 | P12: =IF($J27="Y",G27*1,"") -> 1 | Q12: =IF($J27="Y",H27*1,"") -> 0 | R12: =IF($J27="Y",I27*1,"") -> 1 | T12: 6 | U12: =IF(L12=1,U$6,"") | V12: =IF(M12=1,V$6,"") | W12: =IF(N12=1,W$6,"") -> 3 | X12: =IF(O12=1,X$6,"") | Y12: =IF(P12=1,Y$6,"") -> 5 | Z12: =IF(Q12=1,Z$6,"") | AA12: =IF(R12=1,AA$6,"") -> 7 | AC12: 6 | AD12: 3 | AE12: 5 | AF12: 7 | AI12: 6 | AJ12: =OFFSET($AI$1,1,AD12-1) -> 15 | AK12: =OFFSET($AI$1,1,AE12-1) -> 33 | AL12: =OFFSET($AI$1,1,AF12-1) -> 44
A13: =A12+1 -> 7 | B13: =DEC2BIN(A13,7) -> 0000111 | C13: =MID($B13,COLUMN()-(COLUMN($C13)-1),1) -> 0 | D13: =MID($B13,COLUMN()-(COLUMN($C13)-1),1) -> 0 | E13: =MID($B13,COLUMN()-(COLUMN($C13)-1),1) -> 0 | F13: =MID($B13,COLUMN()-(COLUMN($C13)-1),1) -> 0 | G13: =MID($B13,COLUMN()-(COLUMN($C13)-1),1) -> 1 | H13: =MID($B13,COLUMN()-(COLUMN($C13)-1),1) -> 1 | I13: =MID($B13,COLUMN()-(COLUMN($C13)-1),1) -> 1 | J13: =IF(C13+D13+E13+F13+G13+H13+I13=3,"Y","") -> Y | K13: 7 | L13: =IF($J28="Y",C28*1,"") -> 0 | M13: =IF($J28="Y",D28*1,"") -> 0 | N13: =IF($J28="Y",E28*1,"") -> 1 | O13: =IF($J28="Y",F28*1,"") -> 0 | P13: =IF($J28="Y",G28*1,"") -> 1 | Q13: =IF($J28="Y",H28*1,"") -> 1 | R13: =IF($J28="Y",I28*1,"") -> 0 | T13: 7 | U13: =IF(L13=1,U$6,"") | V13: =IF(M13=1,V$6,"") | W13: =IF(N13=1,W$6,"") -> 3 | X13: =IF(O13=1,X$6,"") | Y13: =IF(P13=1,Y$6,"") -> 5 | Z13: =IF(Q13=1,Z$6,"") -> 6 | AA13: =IF(R13=1,AA$6,"") | AC13: 7 | AD13: 3 | AE13: 5 | AF13: 6 | AI13: 7 | AJ13: =OFFSET($AI$1,1,AD13-1) -> 15 | AK13: =OFFSET($AI$1,1,AE13-1) -> 33 | AL13: =OFFSET($AI$1,1,AF13-1) -> 34
A14: =A13+1 -> 8 | B14: =DEC2BIN(A14,7) -> 0001000 | C14: =MID($B14,COLUMN()-(COLUMN($C14)-1),1) -> 0 | D14: =MID($B14,COLUMN()-(COLUMN($C14)-1),1) -> 0 | E14: =MID($B14,COLUMN()-(COLUMN($C14)-1),1) -> 0 | F14: =MID($B14,COLUMN()-(COLUMN($C14)-1),1) -> 1 | G14: =MID($B14,COLUMN()-(COLUMN($C14)-1),1) -> 0 | H14: =MID($B14,COLUMN()-(COLUMN($C14)-1),1) -> 0 | I14: =MID($B14,COLUMN()-(COLUMN($C14)-1),1) -> 0 | J14: =IF(C14+D14+E14+F14+G14+H14+I14=3,"Y","") | K14: 8 | L14: =IF($J31="Y",C31*1,"") -> 0 | M14: =IF($J31="Y",D31*1,"") -> 0 | N14: =IF($J31="Y",E31*1,"") -> 1 | O14: =IF($J31="Y",F31*1,"") -> 1 | P14: =IF($J31="Y",G31*1,"") -> 0 | Q14: =IF($J31="Y",H31*1,"") -> 0 | R14: =IF($J31="Y",I31*1,"") -> 1 | T14: 8 | U14: =IF(L14=1,U$6,"") | V14: =IF(M14=1,V$6,"") | W14: =IF(N14=1,W$6,"") -> 3 | X14: =IF(O14=1,X$6,"") -> 4 | Y14: =IF(P14=1,Y$6,"") | Z14: =IF(Q14=1,Z$6,"") | AA14: =IF(R14=1,AA$6,"") -> 7 | AC14: 8 | AD14: 3 | AE14: 4 | AF14: 7 | AI14: 8 | AJ14: =OFFSET($AI$1,1,AD14-1) -> 15 | AK14: =OFFSET($AI$1,1,AE14-1) -> 24 | AL14: =OFFSET($AI$1,1,AF14-1) -> 44
A15: =A14+1 -> 9 | B15: =DEC2BIN(A15,7) -> 0001001 | C15: =MID($B15,COLUMN()-(COLUMN($C15)-1),1) -> 0 | D15: =MID($B15,COLUMN()-(COLUMN($C15)-1),1) -> 0 | E15: =MID($B15,COLUMN()-(COLUMN($C15)-1),1) -> 0 | F15: =MID($B15,COLUMN()-(COLUMN($C15)-1),1) -> 1 | G15: =MID($B15,COLUMN()-(COLUMN($C15)-1),1) -> 0 | H15: =MID($B15,COLUMN()-(COLUMN($C15)-1),1) -> 0 | I15: =MID($B15,COLUMN()-(COLUMN($C15)-1),1) -> 1 | J15: =IF(C15+D15+E15+F15+G15+H15+I15=3,"Y","") | K15: 9 | L15: =IF($J32="Y",C32*1,"") -> 0 | M15: =IF($J32="Y",D32*1,"") -> 0 | N15: =IF($J32="Y",E32*1,"") -> 1 | O15: =IF($J32="Y",F32*1,"") -> 1 | P15: =IF($J32="Y",G32*1,"") -> 0 | Q15: =IF($J32="Y",H32*1,"") -> 1 | R15: =IF($J32="Y",I32*1,"") -> 0 | T15: 9 | U15: =IF(L15=1,U$6,"") | V15: =IF(M15=1,V$6,"") | W15: =IF(N15=1,W$6,"") -> 3 | X15: =IF(O15=1,X$6,"") -> 4 | Y15: =IF(P15=1,Y$6,"") | Z15: =IF(Q15=1,Z$6,"") -> 6 | AA15: =IF(R15=1,AA$6,"") | AC15: 9 | AD15: 3 | AE15: 4 | AF15: 6 | AI15: 9 | AJ15: =OFFSET($AI$1,1,AD15-1) -> 15 | AK15: =OFFSET($AI$1,1,AE15-1) -> 24 | AL15: =OFFSET($AI$1,1,AF15-1) -> 34
A16: =A15+1 -> 10 | B16: =DEC2BIN(A16,7) -> 0001010 | C16: =MID($B16,COLUMN()-(COLUMN($C16)-1),1) -> 0 | D16: =MID($B16,COLUMN()-(COLUMN($C16)-1),1) -> 0 | E16: =MID($B16,COLUMN()-(COLUMN($C16)-1),1) -> 0 | F16: =MID($B16,COLUMN()-(COLUMN($C16)-1),1) -> 1 | G16: =MID($B16,COLUMN()-(COLUMN($C16)-1),1) -> 0 | H16: =MID($B16,COLUMN()-(COLUMN($C16)-1),1) -> 1 | I16: =MID($B16,COLUMN()-(COLUMN($C16)-1),1) -> 0 | J16: =IF(C16+D16+E16+F16+G16+H16+I16=3,"Y","") | K16: 10 | L16: =IF($J34="Y",C34*1,"") -> 0 | M16: =IF($J34="Y",D34*1,"") -> 0 | N16: =IF($J34="Y",E34*1,"") -> 1 | O16: =IF($J34="Y",F34*1,"") -> 1 | P16: =IF($J34="Y",G34*1,"") -> 1 | Q16: =IF($J34="Y",H34*1,"") -> 0 | R16: =IF($J34="Y",I34*1,"") -> 0 | T16: 10 | U16: =IF(L16=1,U$6,"") | V16: =IF(M16=1,V$6,"") | W16: =IF(N16=1,W$6,"") -> 3 | X16: =IF(O16=1,X$6,"") -> 4 | Y16: =IF(P16=1,Y$6,"") -> 5 | Z16: =IF(Q16=1,Z$6,"") | AA16: =IF(R16=1,AA$6,"") | AC16: 10 | AD16: 3 | AE16: 4 | AF16: 5 | AI16: 10 | AJ16: =OFFSET($AI$1,1,AD16-1) -> 15 | AK16: =OFFSET($AI$1,1,AE16-1) -> 24 | AL16: =OFFSET($AI$1,1,AF16-1) -> 33
A17: =A16+1 -> 11 | B17: =DEC2BIN(A17,7) -> 0001011 | C17: =MID($B17,COLUMN()-(COLUMN($C17)-1),1) -> 0 | D17: =MID($B17,COLUMN()-(COLUMN($C17)-1),1) -> 0 | E17: =MID($B17,COLUMN()-(COLUMN($C17)-1),1) -> 0 | F17: =MID($B17,COLUMN()-(COLUMN($C17)-1),1) -> 1 | G17: =MID($B17,COLUMN()-(COLUMN($C17)-1),1) -> 0 | H17: =MID($B17,COLUMN()-(COLUMN($C17)-1),1) -> 1 | I17: =MID($B17,COLUMN()-(COLUMN($C17)-1),1) -> 1 | J17: =IF(C17+D17+E17+F17+G17+H17+I17=3,"Y","") -> Y | K17: 11 | L17: =IF($J41="Y",C41*1,"") -> 0 | M17: =IF($J41="Y",D41*1,"") -> 1 | N17: =IF($J41="Y",E41*1,"") -> 0 | O17: =IF($J41="Y",F41*1,"") -> 0 | P17: =IF($J41="Y",G41*1,"") -> 0 | Q17: =IF($J41="Y",H41*1,"") -> 1 | R17: =IF($J41="Y",I41*1,"") -> 1 | T17: 11 | U17: =IF(L17=1,U$6,"") | V17: =IF(M17=1,V$6,"") -> 2 | W17: =IF(N17=1,W$6,"") | X17: =IF(O17=1,X$6,"") | Y17: =IF(P17=1,Y$6,"") | Z17: =IF(Q17=1,Z$6,"") -> 6 | AA17: =IF(R17=1,AA$6,"") -> 7 | AC17: 11 | AD17: 2 | AE17: 6 | AF17: 7 | AI17: 11 | AJ17: =OFFSET($AI$1,1,AD17-1) -> 5 | AK17: =OFFSET($AI$1,1,AE17-1) -> 34 | AL17: =OFFSET($AI$1,1,AF17-1) -> 44
A18: =A17+1 -> 12 | B18: =DEC2BIN(A18,7) -> 0001100 | C18: =MID($B18,COLUMN()-(COLUMN($C18)-1),1) -> 0 | D18: =MID($B18,COLUMN()-(COLUMN($C18)-1),1) -> 0 | E18: =MID($B18,COLUMN()-(COLUMN($C18)-1),1) -> 0 | F18: =MID($B18,COLUMN()-(COLUMN($C18)-1),1) -> 1 | G18: =MID($B18,COLUMN()-(COLUMN($C18)-1),1) -> 1 | H18: =MID($B18,COLUMN()-(COLUMN($C18)-1),1) -> 0 | I18: =MID($B18,COLUMN()-(COLUMN($C18)-1),1) -> 0 | J18: =IF(C18+D18+E18+F18+G18+H18+I18=3,"Y","") | K18: 12 | L18: =IF($J43="Y",C43*1,"") -> 0 | M18: =IF($J43="Y",D43*1,"") -> 1 | N18: =IF($J43="Y",E43*1,"") -> 0 | O18: =IF($J43="Y",F43*1,"") -> 0 | P18: =IF($J43="Y",G43*1,"") -> 1 | Q18: =IF($J43="Y",H43*1,"") -> 0 | R18: =IF($J43="Y",I43*1,"") -> 1 | T18: 12 | U18: =IF(L18=1,U$6,"") | V18: =IF(M18=1,V$6,"") -> 2 | W18: =IF(N18=1,W$6,"") | X18: =IF(O18=1,X$6,"") | Y18: =IF(P18=1,Y$6,"") -> 5 | Z18: =IF(Q18=1,Z$6,"") | AA18: =IF(R18=1,AA$6,"") -> 7 | AC18: 12 | AD18: 2 | AE18: 5 | AF18: 7 | AI18: 12 | AJ18: =OFFSET($AI$1,1,AD18-1) -> 5 | AK18: =OFFSET($AI$1,1,AE18-1) -> 33 | AL18: =OFFSET($AI$1,1,AF18-1) -> 44
A19: =A18+1 -> 13 | B19: =DEC2BIN(A19,7) -> 0001101 | C19: =MID($B19,COLUMN()-(COLUMN($C19)-1),1) -> 0 | D19: =MID($B19,COLUMN()-(COLUMN($C19)-1),1) -> 0 | E19: =MID($B19,COLUMN()-(COLUMN($C19)-1),1) -> 0 | F19: =MID($B19,COLUMN()-(COLUMN($C19)-1),1) -> 1 | G19: =MID($B19,COLUMN()-(COLUMN($C19)-1),1) -> 1 | H19: =MID($B19,COLUMN()-(COLUMN($C19)-1),1) -> 0 | I19: =MID($B19,COLUMN()-(COLUMN($C19)-1),1) -> 1 | J19: =IF(C19+D19+E19+F19+G19+H19+I19=3,"Y","") -> Y | K19: 13 | L19: =IF($J44="Y",C44*1,"") -> 0 | M19: =IF($J44="Y",D44*1,"") -> 1 | N19: =IF($J44="Y",E44*1,"") -> 0 | O19: =IF($J44="Y",F44*1,"") -> 0 | P19: =IF($J44="Y",G44*1,"") -> 1 | Q19: =IF($J44="Y",H44*1,"") -> 1 | R19: =IF($J44="Y",I44*1,"") -> 0 | T19: 13 | U19: =IF(L19=1,U$6,"") | V19: =IF(M19=1,V$6,"") -> 2 | W19: =IF(N19=1,W$6,"") | X19: =IF(O19=1,X$6,"") | Y19: =IF(P19=1,Y$6,"") -> 5 | Z19: =IF(Q19=1,Z$6,"") -> 6 | AA19: =IF(R19=1,AA$6,"") | AC19: 13 | AD19: 2 | AE19: 5 | AF19: 6 | AI19: 13 | AJ19: =OFFSET($AI$1,1,AD19-1) -> 5 | AK19: =OFFSET($AI$1,1,AE19-1) -> 33 | AL19: =OFFSET($AI$1,1,AF19-1) -> 34
A20: =A19+1 -> 14 | B20: =DEC2BIN(A20,7) -> 0001110 | C20: =MID($B20,COLUMN()-(COLUMN($C20)-1),1) -> 0 | D20: =MID($B20,COLUMN()-(COLUMN($C20)-1),1) -> 0 | E20: =MID($B20,COLUMN()-(COLUMN($C20)-1),1) -> 0 | F20: =MID($B20,COLUMN()-(COLUMN($C20)-1),1) -> 1 | G20: =MID($B20,COLUMN()-(COLUMN($C20)-1),1) -> 1 | H20: =MID($B20,COLUMN()-(COLUMN($C20)-1),1) -> 1 | I20: =MID($B20,COLUMN()-(COLUMN($C20)-1),1) -> 0 | J20: =IF(C20+D20+E20+F20+G20+H20+I20=3,"Y","") -> Y | K20: 14 | L20: =IF($J47="Y",C47*1,"") -> 0 | M20: =IF($J47="Y",D47*1,"") -> 1 | N20: =IF($J47="Y",E47*1,"") -> 0 | O20: =IF($J47="Y",F47*1,"") -> 1 | P20: =IF($J47="Y",G47*1,"") -> 0 | Q20: =IF($J47="Y",H47*1,"") -> 0 | R20: =IF($J47="Y",I47*1,"") -> 1 | T20: 14 | U20: =IF(L20=1,U$6,"") | V20: =IF(M20=1,V$6,"") -> 2 | W20: =IF(N20=1,W$6,"") | X20: =IF(O20=1,X$6,"") -> 4 | Y20: =IF(P20=1,Y$6,"") | Z20: =IF(Q20=1,Z$6,"") | AA20: =IF(R20=1,AA$6,"") -> 7 | AC20: 14 | AD20: 2 | AE20: 4 | AF20: 7 | AI20: 14 | AJ20: =OFFSET($AI$1,1,AD20-1) -> 5 | AK20: =OFFSET($AI$1,1,AE20-1) -> 24 | AL20: =OFFSET($AI$1,1,AF20-1) -> 44
A21: =A20+1 -> 15 | B21: =DEC2BIN(A21,7) -> 0001111 | C21: =MID($B21,COLUMN()-(COLUMN($C21)-1),1) -> 0 | D21: =MID($B21,COLUMN()-(COLUMN($C21)-1),1) -> 0 | E21: =MID($B21,COLUMN()-(COLUMN($C21)-1),1) -> 0 | F21: =MID($B21,COLUMN()-(COLUMN($C21)-1),1) -> 1 | G21: =MID($B21,COLUMN()-(COLUMN($C21)-1),1) -> 1 | H21: =MID($B21,COLUMN()-(COLUMN($C21)-1),1) -> 1 | I21: =MID($B21,COLUMN()-(COLUMN($C21)-1),1) -> 1 | J21: =IF(C21+D21+E21+F21+G21+H21+I21=3,"Y","") | K21: 15 | L21: =IF($J48="Y",C48*1,"") -> 0 | M21: =IF($J48="Y",D48*1,"") -> 1 | N21: =IF($J48="Y",E48*1,"") -> 0 | O21: =IF($J48="Y",F48*1,"") -> 1 | P21: =IF($J48="Y",G48*1,"") -> 0 | Q21: =IF($J48="Y",H48*1,"") -> 1 | R21: =IF($J48="Y",I48*1,"") -> 0 | T21: 15 | U21: =IF(L21=1,U$6,"") | V21: =IF(M21=1,V$6,"") -> 2 | W21: =IF(N21=1,W$6,"") | X21: =IF(O21=1,X$6,"") -> 4 | Y21: =IF(P21=1,Y$6,"") | Z21: =IF(Q21=1,Z$6,"") -> 6 | AA21: =IF(R21=1,AA$6,"") | AC21: 15 | AD21: 2 | AE21: 4 | AF21: 6 | AI21: 15 | AJ21: =OFFSET($AI$1,1,AD21-1) -> 5 | AK21: =OFFSET($AI$1,1,AE21-1) -> 24 | AL21: =OFFSET($AI$1,1,AF21-1) -> 34
A22: =A21+1 -> 16 | B22: =DEC2BIN(A22,7) -> 0010000 | C22: =MID($B22,COLUMN()-(COLUMN($C22)-1),1) -> 0 | D22: =MID($B22,COLUMN()-(COLUMN($C22)-1),1) -> 0 | E22: =MID($B22,COLUMN()-(COLUMN($C22)-1),1) -> 1 | F22: =MID($B22,COLUMN()-(COLUMN($C22)-1),1) -> 0 | G22: =MID($B22,COLUMN()-(COLUMN($C22)-1),1) -> 0 | H22: =MID($B22,COLUMN()-(COLUMN($C22)-1),1) -> 0 | I22: =MID($B22,COLUMN()-(COLUMN($C22)-1),1) -> 0 | J22: =IF(C22+D22+E22+F22+G22+H22+I22=3,"Y","") | K22: 16 | L22: =IF($J50="Y",C50*1,"") -> 0 | M22: =IF($J50="Y",D50*1,"") -> 1 | N22: =IF($J50="Y",E50*1,"") -> 0 | O22: =IF($J50="Y",F50*1,"") -> 1 | P22: =IF($J50="Y",G50*1,"") -> 1 | Q22: =IF($J50="Y",H50*1,"") -> 0 | R22: =IF($J50="Y",I50*1,"") -> 0 | T22: 16 | U22: =IF(L22=1,U$6,"") | V22: =IF(M22=1,V$6,"") -> 2 | W22: =IF(N22=1,W$6,"") | X22: =IF(O22=1,X$6,"") -> 4 | Y22: =IF(P22=1,Y$6,"") -> 5 | Z22: =IF(Q22=1,Z$6,"") | AA22: =IF(R22=1,AA$6,"") | AC22: 16 | AD22: 2 | AE22: 4 | AF22: 5 | AI22: 16 | AJ22: =OFFSET($AI$1,1,AD22-1) -> 5 | AK22: =OFFSET($AI$1,1,AE22-1) -> 24 | AL22: =OFFSET($AI$1,1,AF22-1) -> 33
A23: =A22+1 -> 17 | B23: =DEC2BIN(A23,7) -> 0010001 | C23: =MID($B23,COLUMN()-(COLUMN($C23)-1),1) -> 0 | D23: =MID($B23,COLUMN()-(COLUMN($C23)-1),1) -> 0 | E23: =MID($B23,COLUMN()-(COLUMN($C23)-1),1) -> 1 | F23: =MID($B23,COLUMN()-(COLUMN($C23)-1),1) -> 0 | G23: =MID($B23,COLUMN()-(COLUMN($C23)-1),1) -> 0 | H23: =MID($B23,COLUMN()-(COLUMN($C23)-1),1) -> 0 | I23: =MID($B23,COLUMN()-(COLUMN($C23)-1),1) -> 1 | J23: =IF(C23+D23+E23+F23+G23+H23+I23=3,"Y","") | K23: 17 | L23: =IF($J55="Y",C55*1,"") -> 0 | M23: =IF($J55="Y",D55*1,"") -> 1 | N23: =IF($J55="Y",E55*1,"") -> 1 | O23: =IF($J55="Y",F55*1,"") -> 0 | P23: =IF($J55="Y",G55*1,"") -> 0 | Q23: =IF($J55="Y",H55*1,"") -> 0 | R23: =IF($J55="Y",I55*1,"") -> 1 | T23: 17 | U23: =IF(L23=1,U$6,"") | V23: =IF(M23=1,V$6,"") -> 2 | W23: =IF(N23=1,W$6,"") -> 3 | X23: =IF(O23=1,X$6,"") | Y23: =IF(P23=1,Y$6,"") | Z23: =IF(Q23=1,Z$6,"") | AA23: =IF(R23=1,AA$6,"") -> 7 | AC23: 17 | AD23: 2 | AE23: 3 | AF23: 7 | AI23: 17 | AJ23: =OFFSET($AI$1,1,AD23-1) -> 5 | AK23: =OFFSET($AI$1,1,AE23-1) -> 15 | AL23: =OFFSET($AI$1,1,AF23-1) -> 44
A24: =A23+1 -> 18 | B24: =DEC2BIN(A24,7) -> 0010010 | C24: =MID($B24,COLUMN()-(COLUMN($C24)-1),1) -> 0 | D24: =MID($B24,COLUMN()-(COLUMN($C24)-1),1) -> 0 | E24: =MID($B24,COLUMN()-(COLUMN($C24)-1),1) -> 1 | F24: =MID($B24,COLUMN()-(COLUMN($C24)-1),1) -> 0 | G24: =MID($B24,COLUMN()-(COLUMN($C24)-1),1) -> 0 | H24: =MID($B24,COLUMN()-(COLUMN($C24)-1),1) -> 1 | I24: =MID($B24,COLUMN()-(COLUMN($C24)-1),1) -> 0 | J24: =IF(C24+D24+E24+F24+G24+H24+I24=3,"Y","") | K24: 18 | L24: =IF($J56="Y",C56*1,"") -> 0 | M24: =IF($J56="Y",D56*1,"") -> 1 | N24: =IF($J56="Y",E56*1,"") -> 1 | O24: =IF($J56="Y",F56*1,"") -> 0 | P24: =IF($J56="Y",G56*1,"") -> 0 | Q24: =IF($J56="Y",H56*1,"") -> 1 | R24: =IF($J56="Y",I56*1,"") -> 0 | T24: 18 | U24: =IF(L24=1,U$6,"") | V24: =IF(M24=1,V$6,"") -> 2 | W24: =IF(N24=1,W$6,"") -> 3 | X24: =IF(O24=1,X$6,"") | Y24: =IF(P24=1,Y$6,"") | Z24: =IF(Q24=1,Z$6,"") -> 6 | AA24: =IF(R24=1,AA$6,"") | AC24: 18 | AD24: 2 | AE24: 3 | AF24: 6 | AI24: 18 | AJ24: =OFFSET($AI$1,1,AD24-1) -> 5 | AK24: =OFFSET($AI$1,1,AE24-1) -> 15 | AL24: =OFFSET($AI$1,1,AF24-1) -> 34
A25: =A24+1 -> 19 | B25: =DEC2BIN(A25,7) -> 0010011 | C25: =MID($B25,COLUMN()-(COLUMN($C25)-1),1) -> 0 | D25: =MID($B25,COLUMN()-(COLUMN($C25)-1),1) -> 0 | E25: =MID($B25,COLUMN()-(COLUMN($C25)-1),1) -> 1 | F25: =MID($B25,COLUMN()-(COLUMN($C25)-1),1) -> 0 | G25: =MID($B25,COLUMN()-(COLUMN($C25)-1),1) -> 0 | H25: =MID($B25,COLUMN()-(COLUMN($C25)-1),1) -> 1 | I25: =MID($B25,COLUMN()-(COLUMN($C25)-1),1) -> 1 | J25: =IF(C25+D25+E25+F25+G25+H25+I25=3,"Y","") -> Y | K25: 19 | L25: =IF($J58="Y",C58*1,"") -> 0 | M25: =IF($J58="Y",D58*1,"") -> 1 | N25: =IF($J58="Y",E58*1,"") -> 1 | O25: =IF($J58="Y",F58*1,"") -> 0 | P25: =IF($J58="Y",G58*1,"") -> 1 | Q25: =IF($J58="Y",H58*1,"") -> 0 | R25: =IF($J58="Y",I58*1,"") -> 0 | T25: 19 | U25: =IF(L25=1,U$6,"") | V25: =IF(M25=1,V$6,"") -> 2 | W25: =IF(N25=1,W$6,"") -> 3 | X25: =IF(O25=1,X$6,"") | Y25: =IF(P25=1,Y$6,"") -> 5 | Z25: =IF(Q25=1,Z$6,"") | AA25: =IF(R25=1,AA$6,"") | AC25: 19 | AD25: 2 | AE25: 3 | AF25: 5 | AI25: 19 | AJ25: =OFFSET($AI$1,1,AD25-1) -> 5 | AK25: =OFFSET($AI$1,1,AE25-1) -> 15 | AL25: =OFFSET($AI$1,1,AF25-1) -> 33
A26: =A25+1 -> 20 | B26: =DEC2BIN(A26,7) -> 0010100 | C26: =MID($B26,COLUMN()-(COLUMN($C26)-1),1) -> 0 | D26: =MID($B26,COLUMN()-(COLUMN($C26)-1),1) -> 0 | E26: =MID($B26,COLUMN()-(COLUMN($C26)-1),1) -> 1 | F26: =MID($B26,COLUMN()-(COLUMN($C26)-1),1) -> 0 | G26: =MID($B26,COLUMN()-(COLUMN($C26)-1),1) -> 1 | H26: =MID($B26,COLUMN()-(COLUMN($C26)-1),1) -> 0 | I26: =MID($B26,COLUMN()-(COLUMN($C26)-1),1) -> 0 | J26: =IF(C26+D26+E26+F26+G26+H26+I26=3,"Y","") | K26: 20 | L26: =IF($J62="Y",C62*1,"") -> 0 | M26: =IF($J62="Y",D62*1,"") -> 1 | N26: =IF($J62="Y",E62*1,"") -> 1 | O26: =IF($J62="Y",F62*1,"") -> 1 | P26: =IF($J62="Y",G62*1,"") -> 0 | Q26: =IF($J62="Y",H62*1,"") -> 0 | R26: =IF($J62="Y",I62*1,"") -> 0 | T26: 20 | U26: =IF(L26=1,U$6,"") | V26: =IF(M26=1,V$6,"") -> 2 | W26: =IF(N26=1,W$6,"") -> 3 | X26: =IF(O26=1,X$6,"") -> 4 | Y26: =IF(P26=1,Y$6,"") | Z26: =IF(Q26=1,Z$6,"") | AA26: =IF(R26=1,AA$6,"") | AC26: 20 | AD26: 2 | AE26: 3 | AF26: 4 | AI26: 20 | AJ26: =OFFSET($AI$1,1,AD26-1) -> 5 | AK26: =OFFSET($AI$1,1,AE26-1) -> 15 | AL26: =OFFSET($AI$1,1,AF26-1) -> 24
A27: =A26+1 -> 21 | B27: =DEC2BIN(A27,7) -> 0010101 | C27: =MID($B27,COLUMN()-(COLUMN($C27)-1),1) -> 0 | D27: =MID($B27,COLUMN()-(COLUMN($C27)-1),1) -> 0 | E27: =MID($B27,COLUMN()-(COLUMN($C27)-1),1) -> 1 | F27: =MID($B27,COLUMN()-(COLUMN($C27)-1),1) -> 0 | G27: =MID($B27,COLUMN()-(COLUMN($C27)-1),1) -> 1 | H27: =MID($B27,COLUMN()-(COLUMN($C27)-1),1) -> 0 | I27: =MID($B27,COLUMN()-(COLUMN($C27)-1),1) -> 1 | J27: =IF(C27+D27+E27+F27+G27+H27+I27=3,"Y","") -> Y | K27: 21 | L27: =IF($J73="Y",C73*1,"") -> 1 | M27: =IF($J73="Y",D73*1,"") -> 0 | N27: =IF($J73="Y",E73*1,"") -> 0 | O27: =IF($J73="Y",F73*1,"") -> 0 | P27: =IF($J73="Y",G73*1,"") -> 0 | Q27: =IF($J73="Y",H73*1,"") -> 1 | R27: =IF($J73="Y",I73*1,"") -> 1 | T27: 21 | U27: =IF(L27=1,U$6,"") -> 1 | V27: =IF(M27=1,V$6,"") | W27: =IF(N27=1,W$6,"") | X27: =IF(O27=1,X$6,"") | Y27: =IF(P27=1,Y$6,"") | Z27: =IF(Q27=1,Z$6,"") -> 6 | AA27: =IF(R27=1,AA$6,"") -> 7 | AC27: 21 | AD27: 1 | AE27: 6 | AF27: 7 | AI27: 21 | AJ27: =OFFSET($AI$1,1,AD27-1) -> 4 | AK27: =OFFSET($AI$1,1,AE27-1) -> 34 | AL27: =OFFSET($AI$1,1,AF27-1) -> 44
A28: =A27+1 -> 22 | B28: =DEC2BIN(A28,7) -> 0010110 | C28: =MID($B28,COLUMN()-(COLUMN($C28)-1),1) -> 0 | D28: =MID($B28,COLUMN()-(COLUMN($C28)-1),1) -> 0 | E28: =MID($B28,COLUMN()-(COLUMN($C28)-1),1) -> 1 | F28: =MID($B28,COLUMN()-(COLUMN($C28)-1),1) -> 0 | G28: =MID($B28,COLUMN()-(COLUMN($C28)-1),1) -> 1 | H28: =MID($B28,COLUMN()-(COLUMN($C28)-1),1) -> 1 | I28: =MID($B28,COLUMN()-(COLUMN($C28)-1),1) -> 0 | J28: =IF(C28+D28+E28+F28+G28+H28+I28=3,"Y","") -> Y | K28: 22 | L28: =IF($J75="Y",C75*1,"") -> 1 | M28: =IF($J75="Y",D75*1,"") -> 0 | N28: =IF($J75="Y",E75*1,"") -> 0 | O28: =IF($J75="Y",F75*1,"") -> 0 | P28: =IF($J75="Y",G75*1,"") -> 1 | Q28: =IF($J75="Y",H75*1,"") -> 0 | R28: =IF($J75="Y",I75*1,"") -> 1 | T28: 22 | U28: =IF(L28=1,U$6,"") -> 1 | V28: =IF(M28=1,V$6,"") | W28: =IF(N28=1,W$6,"") | X28: =IF(O28=1,X$6,"") | Y28: =IF(P28=1,Y$6,"") -> 5 | Z28: =IF(Q28=1,Z$6,"") | AA28: =IF(R28=1,AA$6,"") -> 7 | AC28: 22 | AD28: 1 | AE28: 5 | AF28: 7 | AI28: 22 | AJ28: =OFFSET($AI$1,1,AD28-1) -> 4 | AK28: =OFFSET($AI$1,1,AE28-1) -> 33 | AL28: =OFFSET($AI$1,1,AF28-1) -> 44
A29: =A28+1 -> 23 | B29: =DEC2BIN(A29,7) -> 0010111 | C29: =MID($B29,COLUMN()-(COLUMN($C29)-1),1) -> 0 | D29: =MID($B29,COLUMN()-(COLUMN($C29)-1),1) -> 0 | E29: =MID($B29,COLUMN()-(COLUMN($C29)-1),1) -> 1 | F29: =MID($B29,COLUMN()-(COLUMN($C29)-1),1) -> 0 | G29: =MID($B29,COLUMN()-(COLUMN($C29)-1),1) -> 1 | H29: =MID($B29,COLUMN()-(COLUMN($C29)-1),1) -> 1 | I29: =MID($B29,COLUMN()-(COLUMN($C29)-1),1) -> 1 | J29: =IF(C29+D29+E29+F29+G29+H29+I29=3,"Y","") | K29: 23 | L29: =IF($J76="Y",C76*1,"") -> 1 | M29: =IF($J76="Y",D76*1,"") -> 0 | N29: =IF($J76="Y",E76*1,"") -> 0 | O29: =IF($J76="Y",F76*1,"") -> 0 | P29: =IF($J76="Y",G76*1,"") -> 1 | Q29: =IF($J76="Y",H76*1,"") -> 1 | R29: =IF($J76="Y",I76*1,"") -> 0 | T29: 23 | U29: =IF(L29=1,U$6,"") -> 1 | V29: =IF(M29=1,V$6,"") | W29: =IF(N29=1,W$6,"") | X29: =IF(O29=1,X$6,"") | Y29: =IF(P29=1,Y$6,"") -> 5 | Z29: =IF(Q29=1,Z$6,"") -> 6 | AA29: =IF(R29=1,AA$6,"") | AC29: 23 | AD29: 1 | AE29: 5 | AF29: 6 | AI29: 23 | AJ29: =OFFSET($AI$1,1,AD29-1) -> 4 | AK29: =OFFSET($AI$1,1,AE29-1) -> 33 | AL29: =OFFSET($AI$1,1,AF29-1) -> 34
A30: =A29+1 -> 24 | B30: =DEC2BIN(A30,7) -> 0011000 | C30: =MID($B30,COLUMN()-(COLUMN($C30)-1),1) -> 0 | D30: =MID($B30,COLUMN()-(COLUMN($C30)-1),1) -> 0 | E30: =MID($B30,COLUMN()-(COLUMN($C30)-1),1) -> 1 | F30: =MID($B30,COLUMN()-(COLUMN($C30)-1),1) -> 1 | G30: =MID($B30,COLUMN()-(COLUMN($C30)-1),1) -> 0 | H30: =MID($B30,COLUMN()-(COLUMN($C30)-1),1) -> 0 | I30: =MID($B30,COLUMN()-(COLUMN($C30)-1),1) -> 0 | J30: =IF(C30+D30+E30+F30+G30+H30+I30=3,"Y","") | K30: 24 | L30: =IF($J79="Y",C79*1,"") -> 1 | M30: =IF($J79="Y",D79*1,"") -> 0 | N30: =IF($J79="Y",E79*1,"") -> 0 | O30: =IF($J79="Y",F79*1,"") -> 1 | P30: =IF($J79="Y",G79*1,"") -> 0 | Q30: =IF($J79="Y",H79*1,"") -> 0 | R30: =IF($J79="Y",I79*1,"") -> 1 | T30: 24 | U30: =IF(L30=1,U$6,"") -> 1 | V30: =IF(M30=1,V$6,"") | W30: =IF(N30=1,W$6,"") | X30: =IF(O30=1,X$6,"") -> 4 | Y30: =IF(P30=1,Y$6,"") | Z30: =IF(Q30=1,Z$6,"") | AA30: =IF(R30=1,AA$6,"") -> 7 | AC30: 24 | AD30: 1 | AE30: 4 | AF30: 7 | AI30: 24 | AJ30: =OFFSET($AI$1,1,AD30-1) -> 4 | AK30: =OFFSET($AI$1,1,AE30-1) -> 24 | AL30: =OFFSET($AI$1,1,AF30-1) -> 44
A31: =A30+1 -> 25 | B31: =DEC2BIN(A31,7) -> 0011001 | C31: =MID($B31,COLUMN()-(COLUMN($C31)-1),1) -> 0 | D31: =MID($B31,COLUMN()-(COLUMN($C31)-1),1) -> 0 | E31: =MID($B31,COLUMN()-(COLUMN($C31)-1),1) -> 1 | F31: =MID($B31,COLUMN()-(COLUMN($C31)-1),1) -> 1 | G31: =MID($B31,COLUMN()-(COLUMN($C31)-1),1) -> 0 | H31: =MID($B31,COLUMN()-(COLUMN($C31)-1),1) -> 0 | I31: =MID($B31,COLUMN()-(COLUMN($C31)-1),1) -> 1 | J31: =IF(C31+D31+E31+F31+G31+H31+I31=3,"Y","") -> Y | K31: 25 | L31: =IF($J80="Y",C80*1,"") -> 1 | M31: =IF($J80="Y",D80*1,"") -> 0 | N31: =IF($J80="Y",E80*1,"") -> 0 | O31: =IF($J80="Y",F80*1,"") -> 1 | P31: =IF($J80="Y",G80*1,"") -> 0 | Q31: =IF($J80="Y",H80*1,"") -> 1 | R31: =IF($J80="Y",I80*1,"") -> 0 | T31: 25 | U31: =IF(L31=1,U$6,"") -> 1 | V31: =IF(M31=1,V$6,"") | W31: =IF(N31=1,W$6,"") | X31: =IF(O31=1,X$6,"") -> 4 | Y31: =IF(P31=1,Y$6,"") | Z31: =IF(Q31=1,Z$6,"") -> 6 | AA31: =IF(R31=1,AA$6,"") | AC31: 25 | AD31: 1 | AE31: 4 | AF31: 6 | AI31: 25 | AJ31: =OFFSET($AI$1,1,AD31-1) -> 4 | AK31: =OFFSET($AI$1,1,AE31-1) -> 24 | AL31: =OFFSET($AI$1,1,AF31-1) -> 34
A32: =A31+1 -> 26 | B32: =DEC2BIN(A32,7) -> 0011010 | C32: =MID($B32,COLUMN()-(COLUMN($C32)-1),1) -> 0 | D32: =MID($B32,COLUMN()-(COLUMN($C32)-1),1) -> 0 | E32: =MID($B32,COLUMN()-(COLUMN($C32)-1),1) -> 1 | F32: =MID($B32,COLUMN()-(COLUMN($C32)-1),1) -> 1 | G32: =MID($B32,COLUMN()-(COLUMN($C32)-1),1) -> 0 | H32: =MID($B32,COLUMN()-(COLUMN($C32)-1),1) -> 1 | I32: =MID($B32,COLUMN()-(COLUMN($C32)-1),1) -> 0 | J32: =IF(C32+D32+E32+F32+G32+H32+I32=3,"Y","") -> Y | K32: 26 | L32: =IF($J82="Y",C82*1,"") -> 1 | M32: =IF($J82="Y",D82*1,"") -> 0 | N32: =IF($J82="Y",E82*1,"") -> 0 | O32: =IF($J82="Y",F82*1,"") -> 1 | P32: =IF($J82="Y",G82*1,"") -> 1 | Q32: =IF($J82="Y",H82*1,"") -> 0 | R32: =IF($J82="Y",I82*1,"") -> 0 | T32: 26 | U32: =IF(L32=1,U$6,"") -> 1 | V32: =IF(M32=1,V$6,"") | W32: =IF(N32=1,W$6,"") | X32: =IF(O32=1,X$6,"") -> 4 | Y32: =IF(P32=1,Y$6,"") -> 5 | Z32: =IF(Q32=1,Z$6,"") | AA32: =IF(R32=1,AA$6,"") | AC32: 26 | AD32: 1 | AE32: 4 | AF32: 5 | AI32: 26 | AJ32: =OFFSET($AI$1,1,AD32-1) -> 4 | AK32: =OFFSET($AI$1,1,AE32-1) -> 24 | AL32: =OFFSET($AI$1,1,AF32-1) -> 33
A33: =A32+1 -> 27 | B33: =DEC2BIN(A33,7) -> 0011011 | C33: =MID($B33,COLUMN()-(COLUMN($C33)-1),1) -> 0 | D33: =MID($B33,COLUMN()-(COLUMN($C33)-1),1) -> 0 | E33: =MID($B33,COLUMN()-(COLUMN($C33)-1),1) -> 1 | F33: =MID($B33,COLUMN()-(COLUMN($C33)-1),1) -> 1 | G33: =MID($B33,COLUMN()-(COLUMN($C33)-1),1) -> 0 | H33: =MID($B33,COLUMN()-(COLUMN($C33)-1),1) -> 1 | I33: =MID($B33,COLUMN()-(COLUMN($C33)-1),1) -> 1 | J33: =IF(C33+D33+E33+F33+G33+H33+I33=3,"Y","") | K33: 27 | L33: =IF($J87="Y",C87*1,"") -> 1 | M33: =IF($J87="Y",D87*1,"") -> 0 | N33: =IF($J87="Y",E87*1,"") -> 1 | O33: =IF($J87="Y",F87*1,"") -> 0 | P33: =IF($J87="Y",G87*1,"") -> 0 | Q33: =IF($J87="Y",H87*1,"") -> 0 | R33: =IF($J87="Y",I87*1,"") -> 1 | T33: 27 | U33: =IF(L33=1,U$6,"") -> 1 | V33: =IF(M33=1,V$6,"") | W33: =IF(N33=1,W$6,"") -> 3 | X33: =IF(O33=1,X$6,"") | Y33: =IF(P33=1,Y$6,"") | Z33: =IF(Q33=1,Z$6,"") | AA33: =IF(R33=1,AA$6,"") -> 7 | AC33: 27 | AD33: 1 | AE33: 3 | AF33: 7 | AI33: 27 | AJ33: =OFFSET($AI$1,1,AD33-1) -> 4 | AK33: =OFFSET($AI$1,1,AE33-1) -> 15 | AL33: =OFFSET($AI$1,1,AF33-1) -> 44
A34: =A33+1 -> 28 | B34: =DEC2BIN(A34,7) -> 0011100 | C34: =MID($B34,COLUMN()-(COLUMN($C34)-1),1) -> 0 | D34: =MID($B34,COLUMN()-(COLUMN($C34)-1),1) -> 0 | E34: =MID($B34,COLUMN()-(COLUMN($C34)-1),1) -> 1 | F34: =MID($B34,COLUMN()-(COLUMN($C34)-1),1) -> 1 | G34: =MID($B34,COLUMN()-(COLUMN($C34)-1),1) -> 1 | H34: =MID($B34,COLUMN()-(COLUMN($C34)-1),1) -> 0 | I34: =MID($B34,COLUMN()-(COLUMN($C34)-1),1) -> 0 | J34: =IF(C34+D34+E34+F34+G34+H34+I34=3,"Y","") -> Y | K34: 28 | L34: =IF($J88="Y",C88*1,"") -> 1 | M34: =IF($J88="Y",D88*1,"") -> 0 | N34: =IF($J88="Y",E88*1,"") -> 1 | O34: =IF($J88="Y",F88*1,"") -> 0 | P34: =IF($J88="Y",G88*1,"") -> 0 | Q34: =IF($J88="Y",H88*1,"") -> 1 | R34: =IF($J88="Y",I88*1,"") -> 0 | T34: 28 | U34: =IF(L34=1,U$6,"") -> 1 | V34: =IF(M34=1,V$6,"") | W34: =IF(N34=1,W$6,"") -> 3 | X34: =IF(O34=1,X$6,"") | Y34: =IF(P34=1,Y$6,"") | Z34: =IF(Q34=1,Z$6,"") -> 6 | AA34: =IF(R34=1,AA$6,"") | AC34: 28 | AD34: 1 | AE34: 3 | AF34: 6 | AI34: 28 | AJ34: =OFFSET($AI$1,1,AD34-1) -> 4 | AK34: =OFFSET($AI$1,1,AE34-1) -> 15 | AL34: =OFFSET($AI$1,1,AF34-1) -> 34
A35: =A34+1 -> 29 | B35: =DEC2BIN(A35,7) -> 0011101 | C35: =MID($B35,COLUMN()-(COLUMN($C35)-1),1) -> 0 | D35: =MID($B35,COLUMN()-(COLUMN($C35)-1),1) -> 0 | E35: =MID($B35,COLUMN()-(COLUMN($C35)-1),1) -> 1 | F35: =MID($B35,COLUMN()-(COLUMN($C35)-1),1) -> 1 | G35: =MID($B35,COLUMN()-(COLUMN($C35)-1),1) -> 1 | H35: =MID($B35,COLUMN()-(COLUMN($C35)-1),1) -> 0 | I35: =MID($B35,COLUMN()-(COLUMN($C35)-1),1) -> 1 | J35: =IF(C35+D35+E35+F35+G35+H35+I35=3,"Y","") | K35: 29 | L35: =IF($J90="Y",C90*1,"") -> 1 | M35: =IF($J90="Y",D90*1,"") -> 0 | N35: =IF($J90="Y",E90*1,"") -> 1 | O35: =IF($J90="Y",F90*1,"") -> 0 | P35: =IF($J90="Y",G90*1,"") -> 1 | Q35: =IF($J90="Y",H90*1,"") -> 0 | R35: =IF($J90="Y",I90*1,"") -> 0 | T35: 29 | U35: =IF(L35=1,U$6,"") -> 1 | V35: =IF(M35=1,V$6,"") | W35: =IF(N35=1,W$6,"") -> 3 | X35: =IF(O35=1,X$6,"") | Y35: =IF(P35=1,Y$6,"") -> 5 | Z35: =IF(Q35=1,Z$6,"") | AA35: =IF(R35=1,AA$6,"") | AC35: 29 | AD35: 1 | AE35: 3 | AF35: 5 | AI35: 29 | AJ35: =OFFSET($AI$1,1,AD35-1) -> 4 | AK35: =OFFSET($AI$1,1,AE35-1) -> 15 | AL35: =OFFSET($AI$1,1,AF35-1) -> 33
A36: =A35+1 -> 30 | B36: =DEC2BIN(A36,7) -> 0011110 | C36: =MID($B36,COLUMN()-(COLUMN($C36)-1),1) -> 0 | D36: =MID($B36,COLUMN()-(COLUMN($C36)-1),1) -> 0 | E36: =MID($B36,COLUMN()-(COLUMN($C36)-1),1) -> 1 | F36: =MID($B36,COLUMN()-(COLUMN($C36)-1),1) -> 1 | G36: =MID($B36,COLUMN()-(COLUMN($C36)-1),1) -> 1 | H36: =MID($B36,COLUMN()-(COLUMN($C36)-1),1) -> 1 | I36: =MID($B36,COLUMN()-(COLUMN($C36)-1),1) -> 0 | J36: =IF(C36+D36+E36+F36+G36+H36+I36=3,"Y","") | K36: 30 | L36: =IF($J94="Y",C94*1,"") -> 1 | M36: =IF($J94="Y",D94*1,"") -> 0 | N36: =IF($J94="Y",E94*1,"") -> 1 | O36: =IF($J94="Y",F94*1,"") -> 1 | P36: =IF($J94="Y",G94*1,"") -> 0 | Q36: =IF($J94="Y",H94*1,"") -> 0 | R36: =IF($J94="Y",I94*1,"") -> 0 | T36: 30 | U36: =IF(L36=1,U$6,"") -> 1 | V36: =IF(M36=1,V$6,"") | W36: =IF(N36=1,W$6,"") -> 3 | X36: =IF(O36=1,X$6,"") -> 4 | Y36: =IF(P36=1,Y$6,"") | Z36: =IF(Q36=1,Z$6,"") | AA36: =IF(R36=1,AA$6,"") | AC36: 30 | AD36: 1 | AE36: 3 | AF36: 4 | AI36: 30 | AJ36: =OFFSET($AI$1,1,AD36-1) -> 4 | AK36: =OFFSET($AI$1,1,AE36-1) -> 15 | AL36: =OFFSET($AI$1,1,AF36-1) -> 24
A37: =A36+1 -> 31 | B37: =DEC2BIN(A37,7) -> 0011111 | C37: =MID($B37,COLUMN()-(COLUMN($C37)-1),1) -> 0 | D37: =MID($B37,COLUMN()-(COLUMN($C37)-1),1) -> 0 | E37: =MID($B37,COLUMN()-(COLUMN($C37)-1),1) -> 1 | F37: =MID($B37,COLUMN()-(COLUMN($C37)-1),1) -> 1 | G37: =MID($B37,COLUMN()-(COLUMN($C37)-1),1) -> 1 | H37: =MID($B37,COLUMN()-(COLUMN($C37)-1),1) -> 1 | I37: =MID($B37,COLUMN()-(COLUMN($C37)-1),1) -> 1 | J37: =IF(C37+D37+E37+F37+G37+H37+I37=3,"Y","") | K37: 31 | L37: =IF($J103="Y",C103*1,"") -> 1 | M37: =IF($J103="Y",D103*1,"") -> 1 | N37: =IF($J103="Y",E103*1,"") -> 0 | O37: =IF($J103="Y",F103*1,"") -> 0 | P37: =IF($J103="Y",G103*1,"") -> 0 | Q37: =IF($J103="Y",H103*1,"") -> 0 | R37: =IF($J103="Y",I103*1,"") -> 1 | T37: 31 | U37: =IF(L37=1,U$6,"") -> 1 | V37: =IF(M37=1,V$6,"") -> 2 | W37: =IF(N37=1,W$6,"") | X37: =IF(O37=1,X$6,"") | Y37: =IF(P37=1,Y$6,"") | Z37: =IF(Q37=1,Z$6,"") | AA37: =IF(R37=1,AA$6,"") -> 7 | AC37: 31 | AD37: 1 | AE37: 2 | AF37: 7 | AI37: 31 | AJ37: =OFFSET($AI$1,1,AD37-1) -> 4 | AK37: =OFFSET($AI$1,1,AE37-1) -> 5 | AL37: =OFFSET($AI$1,1,AF37-1) -> 44
A38: =A37+1 -> 32 | B38: =DEC2BIN(A38,7) -> 0100000 | C38: =MID($B38,COLUMN()-(COLUMN($C38)-1),1) -> 0 | D38: =MID($B38,COLUMN()-(COLUMN($C38)-1),1) -> 1 | E38: =MID($B38,COLUMN()-(COLUMN($C38)-1),1) -> 0 | F38: =MID($B38,COLUMN()-(COLUMN($C38)-1),1) -> 0 | G38: =MID($B38,COLUMN()-(COLUMN($C38)-1),1) -> 0 | H38: =MID($B38,COLUMN()-(COLUMN($C38)-1),1) -> 0 | I38: =MID($B38,COLUMN()-(COLUMN($C38)-1),1) -> 0 | J38: =IF(C38+D38+E38+F38+G38+H38+I38=3,"Y","") | K38: 32 | L38: =IF($J104="Y",C104*1,"") -> 1 | M38: =IF($J104="Y",D104*1,"") -> 1 | N38: =IF($J104="Y",E104*1,"") -> 0 | O38: =IF($J104="Y",F104*1,"") -> 0 | P38: =IF($J104="Y",G104*1,"") -> 0 | Q38: =IF($J104="Y",H104*1,"") -> 1 | R38: =IF($J104="Y",I104*1,"") -> 0 | T38: 32 | U38: =IF(L38=1,U$6,"") -> 1 | V38: =IF(M38=1,V$6,"") -> 2 | W38: =IF(N38=1,W$6,"") | X38: =IF(O38=1,X$6,"") | Y38: =IF(P38=1,Y$6,"") | Z38: =IF(Q38=1,Z$6,"") -> 6 | AA38: =IF(R38=1,AA$6,"") | AC38: 32 | AD38: 1 | AE38: 2 | AF38: 6 | AI38: 32 | AJ38: =OFFSET($AI$1,1,AD38-1) -> 4 | AK38: =OFFSET($AI$1,1,AE38-1) -> 5 | AL38: =OFFSET($AI$1,1,AF38-1) -> 34
A39: =A38+1 -> 33 | B39: =DEC2BIN(A39,7) -> 0100001 | C39: =MID($B39,COLUMN()-(COLUMN($C39)-1),1) -> 0 | D39: =MID($B39,COLUMN()-(COLUMN($C39)-1),1) -> 1 | E39: =MID($B39,COLUMN()-(COLUMN($C39)-1),1) -> 0 | F39: =MID($B39,COLUMN()-(COLUMN($C39)-1),1) -> 0 | G39: =MID($B39,COLUMN()-(COLUMN($C39)-1),1) -> 0 | H39: =MID($B39,COLUMN()-(COLUMN($C39)-1),1) -> 0 | I39: =MID($B39,COLUMN()-(COLUMN($C39)-1),1) -> 1 | J39: =IF(C39+D39+E39+F39+G39+H39+I39=3,"Y","") | K39: 33 | L39: =IF($J106="Y",C106*1,"") -> 1 | M39: =IF($J106="Y",D106*1,"") -> 1 | N39: =IF($J106="Y",E106*1,"") -> 0 | O39: =IF($J106="Y",F106*1,"") -> 0 | P39: =IF($J106="Y",G106*1,"") -> 1 | Q39: =IF($J106="Y",H106*1,"") -> 0 | R39: =IF($J106="Y",I106*1,"") -> 0 | T39: 33 | U39: =IF(L39=1,U$6,"") -> 1 | V39: =IF(M39=1,V$6,"") -> 2 | W39: =IF(N39=1,W$6,"") | X39: =IF(O39=1,X$6,"") | Y39: =IF(P39=1,Y$6,"") -> 5 | Z39: =IF(Q39=1,Z$6,"") | AA39: =IF(R39=1,AA$6,"") | AC39: 33 | AD39: 1 | AE39: 2 | AF39: 5 | AI39: 33 | AJ39: =OFFSET($AI$1,1,AD39-1) -> 4 | AK39: =OFFSET($AI$1,1,AE39-1) -> 5 | AL39: =OFFSET($AI$1,1,AF39-1) -> 33
A40: =A39+1 -> 34 | B40: =DEC2BIN(A40,7) -> 0100010 | C40: =MID($B40,COLUMN()-(COLUMN($C40)-1),1) -> 0 | D40: =MID($B40,COLUMN()-(COLUMN($C40)-1),1) -> 1 | E40: =MID($B40,COLUMN()-(COLUMN($C40)-1),1) -> 0 | F40: =MID($B40,COLUMN()-(COLUMN($C40)-1),1) -> 0 | G40: =MID($B40,COLUMN()-(COLUMN($C40)-1),1) -> 0 | H40: =MID($B40,COLUMN()-(COLUMN($C40)-1),1) -> 1 | I40: =MID($B40,COLUMN()-(COLUMN($C40)-1),1) -> 0 | J40: =IF(C40+D40+E40+F40+G40+H40+I40=3,"Y","") | K40: 34 | L40: =IF($J110="Y",C110*1,"") -> 1 | M40: =IF($J110="Y",D110*1,"") -> 1 | N40: =IF($J110="Y",E110*1,"") -> 0 | O40: =IF($J110="Y",F110*1,"") -> 1 | P40: =IF($J110="Y",G110*1,"") -> 0 | Q40: =IF($J110="Y",H110*1,"") -> 0 | R40: =IF($J110="Y",I110*1,"") -> 0 | T40: 34 | U40: =IF(L40=1,U$6,"") -> 1 | V40: =IF(M40=1,V$6,"") -> 2 | W40: =IF(N40=1,W$6,"") | X40: =IF(O40=1,X$6,"") -> 4 | Y40: =IF(P40=1,Y$6,"") | Z40: =IF(Q40=1,Z$6,"") | AA40: =IF(R40=1,AA$6,"") | AC40: 34 | AD40: 1 | AE40: 2 | AF40: 4 | AI40: 34 | AJ40: =OFFSET($AI$1,1,AD40-1) -> 4 | AK40: =OFFSET($AI$1,1,AE40-1) -> 5 | AL40: =OFFSET($AI$1,1,AF40-1) -> 24
A41: =A40+1 -> 35 | B41: =DEC2BIN(A41,7) -> 0100011 | C41: =MID($B41,COLUMN()-(COLUMN($C41)-1),1) -> 0 | D41: =MID($B41,COLUMN()-(COLUMN($C41)-1),1) -> 1 | E41: =MID($B41,COLUMN()-(COLUMN($C41)-1),1) -> 0 | F41: =MID($B41,COLUMN()-(COLUMN($C41)-1),1) -> 0 | G41: =MID($B41,COLUMN()-(COLUMN($C41)-1),1) -> 0 | H41: =MID($B41,COLUMN()-(COLUMN($C41)-1),1) -> 1 | I41: =MID($B41,COLUMN()-(COLUMN($C41)-1),1) -> 1 | J41: =IF(C41+D41+E41+F41+G41+H41+I41=3,"Y","") -> Y | K41: 35 | L41: =IF($J118="Y",C118*1,"") -> 1 | M41: =IF($J118="Y",D118*1,"") -> 1 | N41: =IF($J118="Y",E118*1,"") -> 1 | O41: =IF($J118="Y",F118*1,"") -> 0 | P41: =IF($J118="Y",G118*1,"") -> 0 | Q41: =IF($J118="Y",H118*1,"") -> 0 | R41: =IF($J118="Y",I118*1,"") -> 0 | T41: 35 | U41: =IF(L41=1,U$6,"") -> 1 | V41: =IF(M41=1,V$6,"") -> 2 | W41: =IF(N41=1,W$6,"") -> 3 | X41: =IF(O41=1,X$6,"") | Y41: =IF(P41=1,Y$6,"") | Z41: =IF(Q41=1,Z$6,"") | AA41: =IF(R41=1,AA$6,"") | AC41: 35 | AD41: 1 | AE41: 2 | AF41: 3 | AI41: 35 | AJ41: =OFFSET($AI$1,1,AD41-1) -> 4 | AK41: =OFFSET($AI$1,1,AE41-1) -> 5 | AL41: =OFFSET($AI$1,1,AF41-1) -> 15
A42: =A41+1 -> 36 | B42: =DEC2BIN(A42,7) -> 0100100 | C42: =MID($B42,COLUMN()-(COLUMN($C42)-1),1) -> 0 | D42: =MID($B42,COLUMN()-(COLUMN($C42)-1),1) -> 1 | E42: =MID($B42,COLUMN()-(COLUMN($C42)-1),1) -> 0 | F42: =MID($B42,COLUMN()-(COLUMN($C42)-1),1) -> 0 | G42: =MID($B42,COLUMN()-(COLUMN($C42)-1),1) -> 1 | H42: =MID($B42,COLUMN()-(COLUMN($C42)-1),1) -> 0 | I42: =MID($B42,COLUMN()-(COLUMN($C42)-1),1) -> 0 | J42: =IF(C42+D42+E42+F42+G42+H42+I42=3,"Y","") | L42: =IF($J108="Y",C108*1,"") | M42: =IF($J108="Y",D108*1,"") | N42: =IF($J108="Y",E108*1,"") | O42: =IF($J108="Y",F108*1,"") | P42: =IF($J108="Y",G108*1,"") | Q42: =IF($J108="Y",H108*1,"") | R42: =IF($J108="Y",I108*1,"")
A43: =A42+1 -> 37 | B43: =DEC2BIN(A43,7) -> 0100101 | C43: =MID($B43,COLUMN()-(COLUMN($C43)-1),1) -> 0 | D43: =MID($B43,COLUMN()-(COLUMN($C43)-1),1) -> 1 | E43: =MID($B43,COLUMN()-(COLUMN($C43)-1),1) -> 0 | F43: =MID($B43,COLUMN()-(COLUMN($C43)-1),1) -> 0 | G43: =MID($B43,COLUMN()-(COLUMN($C43)-1),1) -> 1 | H43: =MID($B43,COLUMN()-(COLUMN($C43)-1),1) -> 0 | I43: =MID($B43,COLUMN()-(COLUMN($C43)-1),1) -> 1 | J43: =IF(C43+D43+E43+F43+G43+H43+I43=3,"Y","") -> Y | L43: =IF($J109="Y",C109*1,"") | M43: =IF($J109="Y",D109*1,"") | N43: =IF($J109="Y",E109*1,"") | O43: =IF($J109="Y",F109*1,"") | P43: =IF($J109="Y",G109*1,"") | Q43: =IF($J109="Y",H109*1,"") | R43: =IF($J109="Y",I109*1,"")
A44: =A43+1 -> 38 | B44: =DEC2BIN(A44,7) -> 0100110 | C44: =MID($B44,COLUMN()-(COLUMN($C44)-1),1) -> 0 | D44: =MID($B44,COLUMN()-(COLUMN($C44)-1),1) -> 1 | E44: =MID($B44,COLUMN()-(COLUMN($C44)-1),1) -> 0 | F44: =MID($B44,COLUMN()-(COLUMN($C44)-1),1) -> 0 | G44: =MID($B44,COLUMN()-(COLUMN($C44)-1),1) -> 1 | H44: =MID($B44,COLUMN()-(COLUMN($C44)-1),1) -> 1 | I44: =MID($B44,COLUMN()-(COLUMN($C44)-1),1) -> 0 | J44: =IF(C44+D44+E44+F44+G44+H44+I44=3,"Y","") -> Y
A45: =A44+1 -> 39 | B45: =DEC2BIN(A45,7) -> 0100111 | C45: =MID($B45,COLUMN()-(COLUMN($C45)-1),1) -> 0 | D45: =MID($B45,COLUMN()-(COLUMN($C45)-1),1) -> 1 | E45: =MID($B45,COLUMN()-(COLUMN($C45)-1),1) -> 0 | F45: =MID($B45,COLUMN()-(COLUMN($C45)-1),1) -> 0 | G45: =MID($B45,COLUMN()-(COLUMN($C45)-1),1) -> 1 | H45: =MID($B45,COLUMN()-(COLUMN($C45)-1),1) -> 1 | I45: =MID($B45,COLUMN()-(COLUMN($C45)-1),1) -> 1 | J45: =IF(C45+D45+E45+F45+G45+H45+I45=3,"Y","") | L45: =IF($J111="Y",C111*1,"") | M45: =IF($J111="Y",D111*1,"") | N45: =IF($J111="Y",E111*1,"") | O45: =IF($J111="Y",F111*1,"") | P45: =IF($J111="Y",G111*1,"") | Q45: =IF($J111="Y",H111*1,"") | R45: =IF($J111="Y",I111*1,"")
A46: =A45+1 -> 40 | B46: =DEC2BIN(A46,7) -> 0101000 | C46: =MID($B46,COLUMN()-(COLUMN($C46)-1),1) -> 0 | D46: =MID($B46,COLUMN()-(COLUMN($C46)-1),1) -> 1 | E46: =MID($B46,COLUMN()-(COLUMN($C46)-1),1) -> 0 | F46: =MID($B46,COLUMN()-(COLUMN($C46)-1),1) -> 1 | G46: =MID($B46,COLUMN()-(COLUMN($C46)-1),1) -> 0 | H46: =MID($B46,COLUMN()-(COLUMN($C46)-1),1) -> 0 | I46: =MID($B46,COLUMN()-(COLUMN($C46)-1),1) -> 0 | J46: =IF(C46+D46+E46+F46+G46+H46+I46=3,"Y","") | L46: =IF($J112="Y",C112*1,"") | M46: =IF($J112="Y",D112*1,"") | N46: =IF($J112="Y",E112*1,"") | O46: =IF($J112="Y",F112*1,"") | P46: =IF($J112="Y",G112*1,"") | Q46: =IF($J112="Y",H112*1,"") | R46: =IF($J112="Y",I112*1,"")
A47: =A46+1 -> 41 | B47: =DEC2BIN(A47,7) -> 0101001 | C47: =MID($B47,COLUMN()-(COLUMN($C47)-1),1) -> 0 | D47: =MID($B47,COLUMN()-(COLUMN($C47)-1),1) -> 1 | E47: =MID($B47,COLUMN()-(COLUMN($C47)-1),1) -> 0 | F47: =MID($B47,COLUMN()-(COLUMN($C47)-1),1) -> 1 | G47: =MID($B47,COLUMN()-(COLUMN($C47)-1),1) -> 0 | H47: =MID($B47,COLUMN()-(COLUMN($C47)-1),1) -> 0 | I47: =MID($B47,COLUMN()-(COLUMN($C47)-1),1) -> 1 | J47: =IF(C47+D47+E47+F47+G47+H47+I47=3,"Y","") -> Y | L47: =IF($J113="Y",C113*1,"") | M47: =IF($J113="Y",D113*1,"") | N47: =IF($J113="Y",E113*1,"") | O47: =IF($J113="Y",F113*1,"") | P47: =IF($J113="Y",G113*1,"") | Q47: =IF($J113="Y",H113*1,"") | R47: =IF($J113="Y",I113*1,"")
A48: =A47+1 -> 42 | B48: =DEC2BIN(A48,7) -> 0101010 | C48: =MID($B48,COLUMN()-(COLUMN($C48)-1),1) -> 0 | D48: =MID($B48,COLUMN()-(COLUMN($C48)-1),1) -> 1 | E48: =MID($B48,COLUMN()-(COLUMN($C48)-1),1) -> 0 | F48: =MID($B48,COLUMN()-(COLUMN($C48)-1),1) -> 1 | G48: =MID($B48,COLUMN()-(COLUMN($C48)-1),1) -> 0 | H48: =MID($B48,COLUMN()-(COLUMN($C48)-1),1) -> 1 | I48: =MID($B48,COLUMN()-(COLUMN($C48)-1),1) -> 0 | J48: =IF(C48+D48+E48+F48+G48+H48+I48=3,"Y","") -> Y | L48: =IF($J114="Y",C114*1,"") | M48: =IF($J114="Y",D114*1,"") | N48: =IF($J114="Y",E114*1,"") | O48: =IF($J114="Y",F114*1,"") | P48: =IF($J114="Y",G114*1,"") | Q48: =IF($J114="Y",H114*1,"") | R48: =IF($J114="Y",I114*1,"")
A49: =A48+1 -> 43 | B49: =DEC2BIN(A49,7) -> 0101011 | C49: =MID($B49,COLUMN()-(COLUMN($C49)-1),1) -> 0 | D49: =MID($B49,COLUMN()-(COLUMN($C49)-1),1) -> 1 | E49: =MID($B49,COLUMN()-(COLUMN($C49)-1),1) -> 0 | F49: =MID($B49,COLUMN()-(COLUMN($C49)-1),1) -> 1 | G49: =MID($B49,COLUMN()-(COLUMN($C49)-1),1) -> 0 | H49: =MID($B49,COLUMN()-(COLUMN($C49)-1),1) -> 1 | I49: =MID($B49,COLUMN()-(COLUMN($C49)-1),1) -> 1 | J49: =IF(C49+D49+E49+F49+G49+H49+I49=3,"Y","") | L49: =IF($J115="Y",C115*1,"") | M49: =IF($J115="Y",D115*1,"") | N49: =IF($J115="Y",E115*1,"") | O49: =IF($J115="Y",F115*1,"") | P49: =IF($J115="Y",G115*1,"") | Q49: =IF($J115="Y",H115*1,"") | R49: =IF($J115="Y",I115*1,"")
A50: =A49+1 -> 44 | B50: =DEC2BIN(A50,7) -> 0101100 | C50: =MID($B50,COLUMN()-(COLUMN($C50)-1),1) -> 0 | D50: =MID($B50,COLUMN()-(COLUMN($C50)-1),1) -> 1 | E50: =MID($B50,COLUMN()-(COLUMN($C50)-1),1) -> 0 | F50: =MID($B50,COLUMN()-(COLUMN($C50)-1),1) -> 1 | G50: =MID($B50,COLUMN()-(COLUMN($C50)-1),1) -> 1 | H50: =MID($B50,COLUMN()-(COLUMN($C50)-1),1) -> 0 | I50: =MID($B50,COLUMN()-(COLUMN($C50)-1),1) -> 0 | J50: =IF(C50+D50+E50+F50+G50+H50+I50=3,"Y","") -> Y | L50: =IF($J116="Y",C116*1,"") | M50: =IF($J116="Y",D116*1,"") | N50: =IF($J116="Y",E116*1,"") | O50: =IF($J116="Y",F116*1,"") | P50: =IF($J116="Y",G116*1,"") | Q50: =IF($J116="Y",H116*1,"") | R50: =IF($J116="Y",I116*1,"")
A51: =A50+1 -> 45 | B51: =DEC2BIN(A51,7) -> 0101101 | C51: =MID($B51,COLUMN()-(COLUMN($C51)-1),1) -> 0 | D51: =MID($B51,COLUMN()-(COLUMN($C51)-1),1) -> 1 | E51: =MID($B51,COLUMN()-(COLUMN($C51)-1),1) -> 0 | F51: =MID($B51,COLUMN()-(COLUMN($C51)-1),1) -> 1 | G51: =MID($B51,COLUMN()-(COLUMN($C51)-1),1) -> 1 | H51: =MID($B51,COLUMN()-(COLUMN($C51)-1),1) -> 0 | I51: =MID($B51,COLUMN()-(COLUMN($C51)-1),1) -> 1 | J51: =IF(C51+D51+E51+F51+G51+H51+I51=3,"Y","") | L51: =IF($J117="Y",C117*1,"") | M51: =IF($J117="Y",D117*1,"") | N51: =IF($J117="Y",E117*1,"") | O51: =IF($J117="Y",F117*1,"") | P51: =IF($J117="Y",G117*1,"") | Q51: =IF($J117="Y",H117*1,"") | R51: =IF($J117="Y",I117*1,"")
A52: =A51+1 -> 46 | B52: =DEC2BIN(A52,7) -> 0101110 | C52: =MID($B52,COLUMN()-(COLUMN($C52)-1),1) -> 0 | D52: =MID($B52,COLUMN()-(COLUMN($C52)-1),1) -> 1 | E52: =MID($B52,COLUMN()-(COLUMN($C52)-1),1) -> 0 | F52: =MID($B52,COLUMN()-(COLUMN($C52)-1),1) -> 1 | G52: =MID($B52,COLUMN()-(COLUMN($C52)-1),1) -> 1 | H52: =MID($B52,COLUMN()-(COLUMN($C52)-1),1) -> 1 | I52: =MID($B52,COLUMN()-(COLUMN($C52)-1),1) -> 0 | J52: =IF(C52+D52+E52+F52+G52+H52+I52=3,"Y","")
A53: =A52+1 -> 47 | B53: =DEC2BIN(A53,7) -> 0101111 | C53: =MID($B53,COLUMN()-(COLUMN($C53)-1),1) -> 0 | D53: =MID($B53,COLUMN()-(COLUMN($C53)-1),1) -> 1 | E53: =MID($B53,COLUMN()-(COLUMN($C53)-1),1) -> 0 | F53: =MID($B53,COLUMN()-(COLUMN($C53)-1),1) -> 1 | G53: =MID($B53,COLUMN()-(COLUMN($C53)-1),1) -> 1 | H53: =MID($B53,COLUMN()-(COLUMN($C53)-1),1) -> 1 | I53: =MID($B53,COLUMN()-(COLUMN($C53)-1),1) -> 1 | J53: =IF(C53+D53+E53+F53+G53+H53+I53=3,"Y","") | L53: =IF($J53="Y",C53*1,"") | M53: =IF($J53="Y",D53*1,"") | N53: =IF($J53="Y",E53*1,"") | O53: =IF($J53="Y",F53*1,"") | P53: =IF($J53="Y",G53*1,"") | Q53: =IF($J53="Y",H53*1,"") | R53: =IF($J53="Y",I53*1,"")
A54: =A53+1 -> 48 | B54: =DEC2BIN(A54,7) -> 0110000 | C54: =MID($B54,COLUMN()-(COLUMN($C54)-1),1) -> 0 | D54: =MID($B54,COLUMN()-(COLUMN($C54)-1),1) -> 1 | E54: =MID($B54,COLUMN()-(COLUMN($C54)-1),1) -> 1 | F54: =MID($B54,COLUMN()-(COLUMN($C54)-1),1) -> 0 | G54: =MID($B54,COLUMN()-(COLUMN($C54)-1),1) -> 0 | H54: =MID($B54,COLUMN()-(COLUMN($C54)-1),1) -> 0 | I54: =MID($B54,COLUMN()-(COLUMN($C54)-1),1) -> 0 | J54: =IF(C54+D54+E54+F54+G54+H54+I54=3,"Y","") | L54: =IF($J54="Y",C54*1,"") | M54: =IF($J54="Y",D54*1,"") | N54: =IF($J54="Y",E54*1,"") | O54: =IF($J54="Y",F54*1,"") | P54: =IF($J54="Y",G54*1,"") | Q54: =IF($J54="Y",H54*1,"") | R54: =IF($J54="Y",I54*1,"")
A55: =A54+1 -> 49 | B55: =DEC2BIN(A55,7) -> 0110001 | C55: =MID($B55,COLUMN()-(COLUMN($C55)-1),1) -> 0 | D55: =MID($B55,COLUMN()-(COLUMN($C55)-1),1) -> 1 | E55: =MID($B55,COLUMN()-(COLUMN($C55)-1),1) -> 1 | F55: =MID($B55,COLUMN()-(COLUMN($C55)-1),1) -> 0 | G55: =MID($B55,COLUMN()-(COLUMN($C55)-1),1) -> 0 | H55: =MID($B55,COLUMN()-(COLUMN($C55)-1),1) -> 0 | I55: =MID($B55,COLUMN()-(COLUMN($C55)-1),1) -> 1 | J55: =IF(C55+D55+E55+F55+G55+H55+I55=3,"Y","") -> Y
A56: =A55+1 -> 50 | B56: =DEC2BIN(A56,7) -> 0110010 | C56: =MID($B56,COLUMN()-(COLUMN($C56)-1),1) -> 0 | D56: =MID($B56,COLUMN()-(COLUMN($C56)-1),1) -> 1 | E56: =MID($B56,COLUMN()-(COLUMN($C56)-1),1) -> 1 | F56: =MID($B56,COLUMN()-(COLUMN($C56)-1),1) -> 0 | G56: =MID($B56,COLUMN()-(COLUMN($C56)-1),1) -> 0 | H56: =MID($B56,COLUMN()-(COLUMN($C56)-1),1) -> 1 | I56: =MID($B56,COLUMN()-(COLUMN($C56)-1),1) -> 0 | J56: =IF(C56+D56+E56+F56+G56+H56+I56=3,"Y","") -> Y
A57: =A56+1 -> 51 | B57: =DEC2BIN(A57,7) -> 0110011 | C57: =MID($B57,COLUMN()-(COLUMN($C57)-1),1) -> 0 | D57: =MID($B57,COLUMN()-(COLUMN($C57)-1),1) -> 1 | E57: =MID($B57,COLUMN()-(COLUMN($C57)-1),1) -> 1 | F57: =MID($B57,COLUMN()-(COLUMN($C57)-1),1) -> 0 | G57: =MID($B57,COLUMN()-(COLUMN($C57)-1),1) -> 0 | H57: =MID($B57,COLUMN()-(COLUMN($C57)-1),1) -> 1 | I57: =MID($B57,COLUMN()-(COLUMN($C57)-1),1) -> 1 | J57: =IF(C57+D57+E57+F57+G57+H57+I57=3,"Y","") | L57: =IF($J57="Y",C57*1,"") | M57: =IF($J57="Y",D57*1,"") | N57: =IF($J57="Y",E57*1,"") | O57: =IF($J57="Y",F57*1,"") | P57: =IF($J57="Y",G57*1,"") | Q57: =IF($J57="Y",H57*1,"") | R57: =IF($J57="Y",I57*1,"")
A58: =A57+1 -> 52 | B58: =DEC2BIN(A58,7) -> 0110100 | C58: =MID($B58,COLUMN()-(COLUMN($C58)-1),1) -> 0 | D58: =MID($B58,COLUMN()-(COLUMN($C58)-1),1) -> 1 | E58: =MID($B58,COLUMN()-(COLUMN($C58)-1),1) -> 1 | F58: =MID($B58,COLUMN()-(COLUMN($C58)-1),1) -> 0 | G58: =MID($B58,COLUMN()-(COLUMN($C58)-1),1) -> 1 | H58: =MID($B58,COLUMN()-(COLUMN($C58)-1),1) -> 0 | I58: =MID($B58,COLUMN()-(COLUMN($C58)-1),1) -> 0 | J58: =IF(C58+D58+E58+F58+G58+H58+I58=3,"Y","") -> Y
A59: =A58+1 -> 53 | B59: =DEC2BIN(A59,7) -> 0110101 | C59: =MID($B59,COLUMN()-(COLUMN($C59)-1),1) -> 0 | D59: =MID($B59,COLUMN()-(COLUMN($C59)-1),1) -> 1 | E59: =MID($B59,COLUMN()-(COLUMN($C59)-1),1) -> 1 | F59: =MID($B59,COLUMN()-(COLUMN($C59)-1),1) -> 0 | G59: =MID($B59,COLUMN()-(COLUMN($C59)-1),1) -> 1 | H59: =MID($B59,COLUMN()-(COLUMN($C59)-1),1) -> 0 | I59: =MID($B59,COLUMN()-(COLUMN($C59)-1),1) -> 1 | J59: =IF(C59+D59+E59+F59+G59+H59+I59=3,"Y","") | L59: =IF($J59="Y",C59*1,"") | M59: =IF($J59="Y",D59*1,"") | N59: =IF($J59="Y",E59*1,"") | O59: =IF($J59="Y",F59*1,"") | P59: =IF($J59="Y",G59*1,"") | Q59: =IF($J59="Y",H59*1,"") | R59: =IF($J59="Y",I59*1,"")
A60: =A59+1 -> 54 | B60: =DEC2BIN(A60,7) -> 0110110 | C60: =MID($B60,COLUMN()-(COLUMN($C60)-1),1) -> 0 | D60: =MID($B60,COLUMN()-(COLUMN($C60)-1),1) -> 1 | E60: =MID($B60,COLUMN()-(COLUMN($C60)-1),1) -> 1 | F60: =MID($B60,COLUMN()-(COLUMN($C60)-1),1) -> 0 | G60: =MID($B60,COLUMN()-(COLUMN($C60)-1),1) -> 1 | H60: =MID($B60,COLUMN()-(COLUMN($C60)-1),1) -> 1 | I60: =MID($B60,COLUMN()-(COLUMN($C60)-1),1) -> 0 | J60: =IF(C60+D60+E60+F60+G60+H60+I60=3,"Y","") | L60: =IF($J60="Y",C60*1,"") | M60: =IF($J60="Y",D60*1,"") | N60: =IF($J60="Y",E60*1,"") | O60: =IF($J60="Y",F60*1,"") | P60: =IF($J60="Y",G60*1,"") | Q60: =IF($J60="Y",H60*1,"") | R60: =IF($J60="Y",I60*1,"")
A61: =A60+1 -> 55 | B61: =DEC2BIN(A61,7) -> 0110111 | C61: =MID($B61,COLUMN()-(COLUMN($C61)-1),1) -> 0 | D61: =MID($B61,COLUMN()-(COLUMN($C61)-1),1) -> 1 | E61: =MID($B61,COLUMN()-(COLUMN($C61)-1),1) -> 1 | F61: =MID($B61,COLUMN()-(COLUMN($C61)-1),1) -> 0 | G61: =MID($B61,COLUMN()-(COLUMN($C61)-1),1) -> 1 | H61: =MID($B61,COLUMN()-(COLUMN($C61)-1),1) -> 1 | I61: =MID($B61,COLUMN()-(COLUMN($C61)-1),1) -> 1 | J61: =IF(C61+D61+E61+F61+G61+H61+I61=3,"Y","") | L61: =IF($J61="Y",C61*1,"") | M61: =IF($J61="Y",D61*1,"") | N61: =IF($J61="Y",E61*1,"") | O61: =IF($J61="Y",F61*1,"") | P61: =IF($J61="Y",G61*1,"") | Q61: =IF($J61="Y",H61*1,"") | R61: =IF($J61="Y",I61*1,"")
A62: =A61+1 -> 56 | B62: =DEC2BIN(A62,7) -> 0111000 | C62: =MID($B62,COLUMN()-(COLUMN($C62)-1),1) -> 0 | D62: =MID($B62,COLUMN()-(COLUMN($C62)-1),1) -> 1 | E62: =MID($B62,COLUMN()-(COLUMN($C62)-1),1) -> 1 | F62: =MID($B62,COLUMN()-(COLUMN($C62)-1),1) -> 1 | G62: =MID($B62,COLUMN()-(COLUMN($C62)-1),1) -> 0 | H62: =MID($B62,COLUMN()-(COLUMN($C62)-1),1) -> 0 | I62: =MID($B62,COLUMN()-(COLUMN($C62)-1),1) -> 0 | J62: =IF(C62+D62+E62+F62+G62+H62+I62=3,"Y","") -> Y
A63: =A62+1 -> 57 | B63: =DEC2BIN(A63,7) -> 0111001 | C63: =MID($B63,COLUMN()-(COLUMN($C63)-1),1) -> 0 | D63: =MID($B63,COLUMN()-(COLUMN($C63)-1),1) -> 1 | E63: =MID($B63,COLUMN()-(COLUMN($C63)-1),1) -> 1 | F63: =MID($B63,COLUMN()-(COLUMN($C63)-1),1) -> 1 | G63: =MID($B63,COLUMN()-(COLUMN($C63)-1),1) -> 0 | H63: =MID($B63,COLUMN()-(COLUMN($C63)-1),1) -> 0 | I63: =MID($B63,COLUMN()-(COLUMN($C63)-1),1) -> 1 | J63: =IF(C63+D63+E63+F63+G63+H63+I63=3,"Y","") | L63: =IF($J63="Y",C63*1,"") | M63: =IF($J63="Y",D63*1,"") | N63: =IF($J63="Y",E63*1,"") | O63: =IF($J63="Y",F63*1,"") | P63: =IF($J63="Y",G63*1,"") | Q63: =IF($J63="Y",H63*1,"") | R63: =IF($J63="Y",I63*1,"")
A64: =A63+1 -> 58 | B64: =DEC2BIN(A64,7) -> 0111010 | C64: =MID($B64,COLUMN()-(COLUMN($C64)-1),1) -> 0 | D64: =MID($B64,COLUMN()-(COLUMN($C64)-1),1) -> 1 | E64: =MID($B64,COLUMN()-(COLUMN($C64)-1),1) -> 1 | F64: =MID($B64,COLUMN()-(COLUMN($C64)-1),1) -> 1 | G64: =MID($B64,COLUMN()-(COLUMN($C64)-1),1) -> 0 | H64: =MID($B64,COLUMN()-(COLUMN($C64)-1),1) -> 1 | I64: =MID($B64,COLUMN()-(COLUMN($C64)-1),1) -> 0 | J64: =IF(C64+D64+E64+F64+G64+H64+I64=3,"Y","") | L64: =IF($J64="Y",C64*1,"") | M64: =IF($J64="Y",D64*1,"") | N64: =IF($J64="Y",E64*1,"") | O64: =IF($J64="Y",F64*1,"") | P64: =IF($J64="Y",G64*1,"") | Q64: =IF($J64="Y",H64*1,"") | R64: =IF($J64="Y",I64*1,"")
A65: =A64+1 -> 59 | B65: =DEC2BIN(A65,7) -> 0111011 | C65: =MID($B65,COLUMN()-(COLUMN($C65)-1),1) -> 0 | D65: =MID($B65,COLUMN()-(COLUMN($C65)-1),1) -> 1 | E65: =MID($B65,COLUMN()-(COLUMN($C65)-1),1) -> 1 | F65: =MID($B65,COLUMN()-(COLUMN($C65)-1),1) -> 1 | G65: =MID($B65,COLUMN()-(COLUMN($C65)-1),1) -> 0 | H65: =MID($B65,COLUMN()-(COLUMN($C65)-1),1) -> 1 | I65: =MID($B65,COLUMN()-(COLUMN($C65)-1),1) -> 1 | J65: =IF(C65+D65+E65+F65+G65+H65+I65=3,"Y","") | L65: =IF($J65="Y",C65*1,"") | M65: =IF($J65="Y",D65*1,"") | N65: =IF($J65="Y",E65*1,"") | O65: =IF($J65="Y",F65*1,"") | P65: =IF($J65="Y",G65*1,"") | Q65: =IF($J65="Y",H65*1,"") | R65: =IF($J65="Y",I65*1,"")
A66: =A65+1 -> 60 | B66: =DEC2BIN(A66,7) -> 0111100 | C66: =MID($B66,COLUMN()-(COLUMN($C66)-1),1) -> 0 | D66: =MID($B66,COLUMN()-(COLUMN($C66)-1),1) -> 1 | E66: =MID($B66,COLUMN()-(COLUMN($C66)-1),1) -> 1 | F66: =MID($B66,COLUMN()-(COLUMN($C66)-1),1) -> 1 | G66: =MID($B66,COLUMN()-(COLUMN($C66)-1),1) -> 1 | H66: =MID($B66,COLUMN()-(COLUMN($C66)-1),1) -> 0 | I66: =MID($B66,COLUMN()-(COLUMN($C66)-1),1) -> 0 | J66: =IF(C66+D66+E66+F66+G66+H66+I66=3,"Y","") | L66: =IF($J66="Y",C66*1,"") | M66: =IF($J66="Y",D66*1,"") | N66: =IF($J66="Y",E66*1,"") | O66: =IF($J66="Y",F66*1,"") | P66: =IF($J66="Y",G66*1,"") | Q66: =IF($J66="Y",H66*1,"") | R66: =IF($J66="Y",I66*1,"")
A67: =A66+1 -> 61 | B67: =DEC2BIN(A67,7) -> 0111101 | C67: =MID($B67,COLUMN()-(COLUMN($C67)-1),1) -> 0 | D67: =MID($B67,COLUMN()-(COLUMN($C67)-1),1) -> 1 | E67: =MID($B67,COLUMN()-(COLUMN($C67)-1),1) -> 1 | F67: =MID($B67,COLUMN()-(COLUMN($C67)-1),1) -> 1 | G67: =MID($B67,COLUMN()-(COLUMN($C67)-1),1) -> 1 | H67: =MID($B67,COLUMN()-(COLUMN($C67)-1),1) -> 0 | I67: =MID($B67,COLUMN()-(COLUMN($C67)-1),1) -> 1 | J67: =IF(C67+D67+E67+F67+G67+H67+I67=3,"Y","") | L67: =IF($J67="Y",C67*1,"") | M67: =IF($J67="Y",D67*1,"") | N67: =IF($J67="Y",E67*1,"") | O67: =IF($J67="Y",F67*1,"") | P67: =IF($J67="Y",G67*1,"") | Q67: =IF($J67="Y",H67*1,"") | R67: =IF($J67="Y",I67*1,"")
A68: =A67+1 -> 62 | B68: =DEC2BIN(A68,7) -> 0111110 | C68: =MID($B68,COLUMN()-(COLUMN($C68)-1),1) -> 0 | D68: =MID($B68,COLUMN()-(COLUMN($C68)-1),1) -> 1 | E68: =MID($B68,COLUMN()-(COLUMN($C68)-1),1) -> 1 | F68: =MID($B68,COLUMN()-(COLUMN($C68)-1),1) -> 1 | G68: =MID($B68,COLUMN()-(COLUMN($C68)-1),1) -> 1 | H68: =MID($B68,COLUMN()-(COLUMN($C68)-1),1) -> 1 | I68: =MID($B68,COLUMN()-(COLUMN($C68)-1),1) -> 0 | J68: =IF(C68+D68+E68+F68+G68+H68+I68=3,"Y","") | L68: =IF($J68="Y",C68*1,"") | M68: =IF($J68="Y",D68*1,"") | N68: =IF($J68="Y",E68*1,"") | O68: =IF($J68="Y",F68*1,"") | P68: =IF($J68="Y",G68*1,"") | Q68: =IF($J68="Y",H68*1,"") | R68: =IF($J68="Y",I68*1,"")
A69: =A68+1 -> 63 | B69: =DEC2BIN(A69,7) -> 0111111 | C69: =MID($B69,COLUMN()-(COLUMN($C69)-1),1) -> 0 | D69: =MID($B69,COLUMN()-(COLUMN($C69)-1),1) -> 1 | E69: =MID($B69,COLUMN()-(COLUMN($C69)-1),1) -> 1 | F69: =MID($B69,COLUMN()-(COLUMN($C69)-1),1) -> 1 | G69: =MID($B69,COLUMN()-(COLUMN($C69)-1),1) -> 1 | H69: =MID($B69,COLUMN()-(COLUMN($C69)-1),1) -> 1 | I69: =MID($B69,COLUMN()-(COLUMN($C69)-1),1) -> 1 | J69: =IF(C69+D69+E69+F69+G69+H69+I69=3,"Y","") | L69: =IF($J69="Y",C69*1,"") | M69: =IF($J69="Y",D69*1,"") | N69: =IF($J69="Y",E69*1,"") | O69: =IF($J69="Y",F69*1,"") | P69: =IF($J69="Y",G69*1,"") | Q69: =IF($J69="Y",H69*1,"") | R69: =IF($J69="Y",I69*1,"")
A70: =A69+1 -> 64 | B70: =DEC2BIN(A70,7) -> 1000000 | C70: =MID($B70,COLUMN()-(COLUMN($C70)-1),1) -> 1 | D70: =MID($B70,COLUMN()-(COLUMN($C70)-1),1) -> 0 | E70: =MID($B70,COLUMN()-(COLUMN($C70)-1),1) -> 0 | F70: =MID($B70,COLUMN()-(COLUMN($C70)-1),1) -> 0 | G70: =MID($B70,COLUMN()-(COLUMN($C70)-1),1) -> 0 | H70: =MID($B70,COLUMN()-(COLUMN($C70)-1),1) -> 0 | I70: =MID($B70,COLUMN()-(COLUMN($C70)-1),1) -> 0 | J70: =IF(C70+D70+E70+F70+G70+H70+I70=3,"Y","") | L70: =IF($J70="Y",C70*1,"") | M70: =IF($J70="Y",D70*1,"") | N70: =IF($J70="Y",E70*1,"") | O70: =IF($J70="Y",F70*1,"") | P70: =IF($J70="Y",G70*1,"") | Q70: =IF($J70="Y",H70*1,"") | R70: =IF($J70="Y",I70*1,"")
A71: =A70+1 -> 65 | B71: =DEC2BIN(A71,7) -> 1000001 | C71: =MID($B71,COLUMN()-(COLUMN($C71)-1),1) -> 1 | D71: =MID($B71,COLUMN()-(COLUMN($C71)-1),1) -> 0 | E71: =MID($B71,COLUMN()-(COLUMN($C71)-1),1) -> 0 | F71: =MID($B71,COLUMN()-(COLUMN($C71)-1),1) -> 0 | G71: =MID($B71,COLUMN()-(COLUMN($C71)-1),1) -> 0 | H71: =MID($B71,COLUMN()-(COLUMN($C71)-1),1) -> 0 | I71: =MID($B71,COLUMN()-(COLUMN($C71)-1),1) -> 1 | J71: =IF(C71+D71+E71+F71+G71+H71+I71=3,"Y","") | L71: =IF($J71="Y",C71*1,"") | M71: =IF($J71="Y",D71*1,"") | N71: =IF($J71="Y",E71*1,"") | O71: =IF($J71="Y",F71*1,"") | P71: =IF($J71="Y",G71*1,"") | Q71: =IF($J71="Y",H71*1,"") | R71: =IF($J71="Y",I71*1,"")
A72: =A71+1 -> 66 | B72: =DEC2BIN(A72,7) -> 1000010 | C72: =MID($B72,COLUMN()-(COLUMN($C72)-1),1) -> 1 | D72: =MID($B72,COLUMN()-(COLUMN($C72)-1),1) -> 0 | E72: =MID($B72,COLUMN()-(COLUMN($C72)-1),1) -> 0 | F72: =MID($B72,COLUMN()-(COLUMN($C72)-1),1) -> 0 | G72: =MID($B72,COLUMN()-(COLUMN($C72)-1),1) -> 0 | H72: =MID($B72,COLUMN()-(COLUMN($C72)-1),1) -> 1 | I72: =MID($B72,COLUMN()-(COLUMN($C72)-1),1) -> 0 | J72: =IF(C72+D72+E72+F72+G72+H72+I72=3,"Y","") | L72: =IF($J72="Y",C72*1,"") | M72: =IF($J72="Y",D72*1,"") | N72: =IF($J72="Y",E72*1,"") | O72: =IF($J72="Y",F72*1,"") | P72: =IF($J72="Y",G72*1,"") | Q72: =IF($J72="Y",H72*1,"") | R72: =IF($J72="Y",I72*1,"")
A73: =A72+1 -> 67 | B73: =DEC2BIN(A73,7) -> 1000011 | C73: =MID($B73,COLUMN()-(COLUMN($C73)-1),1) -> 1 | D73: =MID($B73,COLUMN()-(COLUMN($C73)-1),1) -> 0 | E73: =MID($B73,COLUMN()-(COLUMN($C73)-1),1) -> 0 | F73: =MID($B73,COLUMN()-(COLUMN($C73)-1),1) -> 0 | G73: =MID($B73,COLUMN()-(COLUMN($C73)-1),1) -> 0 | H73: =MID($B73,COLUMN()-(COLUMN($C73)-1),1) -> 1 | I73: =MID($B73,COLUMN()-(COLUMN($C73)-1),1) -> 1 | J73: =IF(C73+D73+E73+F73+G73+H73+I73=3,"Y","") -> Y
A74: =A73+1 -> 68 | B74: =DEC2BIN(A74,7) -> 1000100 | C74: =MID($B74,COLUMN()-(COLUMN($C74)-1),1) -> 1 | D74: =MID($B74,COLUMN()-(COLUMN($C74)-1),1) -> 0 | E74: =MID($B74,COLUMN()-(COLUMN($C74)-1),1) -> 0 | F74: =MID($B74,COLUMN()-(COLUMN($C74)-1),1) -> 0 | G74: =MID($B74,COLUMN()-(COLUMN($C74)-1),1) -> 1 | H74: =MID($B74,COLUMN()-(COLUMN($C74)-1),1) -> 0 | I74: =MID($B74,COLUMN()-(COLUMN($C74)-1),1) -> 0 | J74: =IF(C74+D74+E74+F74+G74+H74+I74=3,"Y","") | L74: =IF($J74="Y",C74*1,"") | M74: =IF($J74="Y",D74*1,"") | N74: =IF($J74="Y",E74*1,"") | O74: =IF($J74="Y",F74*1,"") | P74: =IF($J74="Y",G74*1,"") | Q74: =IF($J74="Y",H74*1,"") | R74: =IF($J74="Y",I74*1,"")
A75: =A74+1 -> 69 | B75: =DEC2BIN(A75,7) -> 1000101 | C75: =MID($B75,COLUMN()-(COLUMN($C75)-1),1) -> 1 | D75: =MID($B75,COLUMN()-(COLUMN($C75)-1),1) -> 0 | E75: =MID($B75,COLUMN()-(COLUMN($C75)-1),1) -> 0 | F75: =MID($B75,COLUMN()-(COLUMN($C75)-1),1) -> 0 | G75: =MID($B75,COLUMN()-(COLUMN($C75)-1),1) -> 1 | H75: =MID($B75,COLUMN()-(COLUMN($C75)-1),1) -> 0 | I75: =MID($B75,COLUMN()-(COLUMN($C75)-1),1) -> 1 | J75: =IF(C75+D75+E75+F75+G75+H75+I75=3,"Y","") -> Y
A76: =A75+1 -> 70 | B76: =DEC2BIN(A76,7) -> 1000110 | C76: =MID($B76,COLUMN()-(COLUMN($C76)-1),1) -> 1 | D76: =MID($B76,COLUMN()-(COLUMN($C76)-1),1) -> 0 | E76: =MID($B76,COLUMN()-(COLUMN($C76)-1),1) -> 0 | F76: =MID($B76,COLUMN()-(COLUMN($C76)-1),1) -> 0 | G76: =MID($B76,COLUMN()-(COLUMN($C76)-1),1) -> 1 | H76: =MID($B76,COLUMN()-(COLUMN($C76)-1),1) -> 1 | I76: =MID($B76,COLUMN()-(COLUMN($C76)-1),1) -> 0 | J76: =IF(C76+D76+E76+F76+G76+H76+I76=3,"Y","") -> Y
A77: =A76+1 -> 71 | B77: =DEC2BIN(A77,7) -> 1000111 | C77: =MID($B77,COLUMN()-(COLUMN($C77)-1),1) -> 1 | D77: =MID($B77,COLUMN()-(COLUMN($C77)-1),1) -> 0 | E77: =MID($B77,COLUMN()-(COLUMN($C77)-1),1) -> 0 | F77: =MID($B77,COLUMN()-(COLUMN($C77)-1),1) -> 0 | G77: =MID($B77,COLUMN()-(COLUMN($C77)-1),1) -> 1 | H77: =MID($B77,COLUMN()-(COLUMN($C77)-1),1) -> 1 | I77: =MID($B77,COLUMN()-(COLUMN($C77)-1),1) -> 1 | J77: =IF(C77+D77+E77+F77+G77+H77+I77=3,"Y","") | L77: =IF($J77="Y",C77*1,"") | M77: =IF($J77="Y",D77*1,"") | N77: =IF($J77="Y",E77*1,"") | O77: =IF($J77="Y",F77*1,"") | P77: =IF($J77="Y",G77*1,"") | Q77: =IF($J77="Y",H77*1,"") | R77: =IF($J77="Y",I77*1,"")
A78: =A77+1 -> 72 | B78: =DEC2BIN(A78,7) -> 1001000 | C78: =MID($B78,COLUMN()-(COLUMN($C78)-1),1) -> 1 | D78: =MID($B78,COLUMN()-(COLUMN($C78)-1),1) -> 0 | E78: =MID($B78,COLUMN()-(COLUMN($C78)-1),1) -> 0 | F78: =MID($B78,COLUMN()-(COLUMN($C78)-1),1) -> 1 | G78: =MID($B78,COLUMN()-(COLUMN($C78)-1),1) -> 0 | H78: =MID($B78,COLUMN()-(COLUMN($C78)-1),1) -> 0 | I78: =MID($B78,COLUMN()-(COLUMN($C78)-1),1) -> 0 | J78: =IF(C78+D78+E78+F78+G78+H78+I78=3,"Y","") | L78: =IF($J78="Y",C78*1,"") | M78: =IF($J78="Y",D78*1,"") | N78: =IF($J78="Y",E78*1,"") | O78: =IF($J78="Y",F78*1,"") | P78: =IF($J78="Y",G78*1,"") | Q78: =IF($J78="Y",H78*1,"") | R78: =IF($J78="Y",I78*1,"")
A79: =A78+1 -> 73 | B79: =DEC2BIN(A79,7) -> 1001001 | C79: =MID($B79,COLUMN()-(COLUMN($C79)-1),1) -> 1 | D79: =MID($B79,COLUMN()-(COLUMN($C79)-1),1) -> 0 | E79: =MID($B79,COLUMN()-(COLUMN($C79)-1),1) -> 0 | F79: =MID($B79,COLUMN()-(COLUMN($C79)-1),1) -> 1 | G79: =MID($B79,COLUMN()-(COLUMN($C79)-1),1) -> 0 | H79: =MID($B79,COLUMN()-(COLUMN($C79)-1),1) -> 0 | I79: =MID($B79,COLUMN()-(COLUMN($C79)-1),1) -> 1 | J79: =IF(C79+D79+E79+F79+G79+H79+I79=3,"Y","") -> Y
A80: =A79+1 -> 74 | B80: =DEC2BIN(A80,7) -> 1001010 | C80: =MID($B80,COLUMN()-(COLUMN($C80)-1),1) -> 1 | D80: =MID($B80,COLUMN()-(COLUMN($C80)-1),1) -> 0 | E80: =MID($B80,COLUMN()-(COLUMN($C80)-1),1) -> 0 | F80: =MID($B80,COLUMN()-(COLUMN($C80)-1),1) -> 1 | G80: =MID($B80,COLUMN()-(COLUMN($C80)-1),1) -> 0 | H80: =MID($B80,COLUMN()-(COLUMN($C80)-1),1) -> 1 | I80: =MID($B80,COLUMN()-(COLUMN($C80)-1),1) -> 0 | J80: =IF(C80+D80+E80+F80+G80+H80+I80=3,"Y","") -> Y
A81: =A80+1 -> 75 | B81: =DEC2BIN(A81,7) -> 1001011 | C81: =MID($B81,COLUMN()-(COLUMN($C81)-1),1) -> 1 | D81: =MID($B81,COLUMN()-(COLUMN($C81)-1),1) -> 0 | E81: =MID($B81,COLUMN()-(COLUMN($C81)-1),1) -> 0 | F81: =MID($B81,COLUMN()-(COLUMN($C81)-1),1) -> 1 | G81: =MID($B81,COLUMN()-(COLUMN($C81)-1),1) -> 0 | H81: =MID($B81,COLUMN()-(COLUMN($C81)-1),1) -> 1 | I81: =MID($B81,COLUMN()-(COLUMN($C81)-1),1) -> 1 | J81: =IF(C81+D81+E81+F81+G81+H81+I81=3,"Y","")
A82: =A81+1 -> 76 | B82: =DEC2BIN(A82,7) -> 1001100 | C82: =MID($B82,COLUMN()-(COLUMN($C82)-1),1) -> 1 | D82: =MID($B82,COLUMN()-(COLUMN($C82)-1),1) -> 0 | E82: =MID($B82,COLUMN()-(COLUMN($C82)-1),1) -> 0 | F82: =MID($B82,COLUMN()-(COLUMN($C82)-1),1) -> 1 | G82: =MID($B82,COLUMN()-(COLUMN($C82)-1),1) -> 1 | H82: =MID($B82,COLUMN()-(COLUMN($C82)-1),1) -> 0 | I82: =MID($B82,COLUMN()-(COLUMN($C82)-1),1) -> 0 | J82: =IF(C82+D82+E82+F82+G82+H82+I82=3,"Y","") -> Y
A83: =A82+1 -> 77 | B83: =DEC2BIN(A83,7) -> 1001101 | C83: =MID($B83,COLUMN()-(COLUMN($C83)-1),1) -> 1 | D83: =MID($B83,COLUMN()-(COLUMN($C83)-1),1) -> 0 | E83: =MID($B83,COLUMN()-(COLUMN($C83)-1),1) -> 0 | F83: =MID($B83,COLUMN()-(COLUMN($C83)-1),1) -> 1 | G83: =MID($B83,COLUMN()-(COLUMN($C83)-1),1) -> 1 | H83: =MID($B83,COLUMN()-(COLUMN($C83)-1),1) -> 0 | I83: =MID($B83,COLUMN()-(COLUMN($C83)-1),1) -> 1 | J83: =IF(C83+D83+E83+F83+G83+H83+I83=3,"Y","")
A84: =A83+1 -> 78 | B84: =DEC2BIN(A84,7) -> 1001110 | C84: =MID($B84,COLUMN()-(COLUMN($C84)-1),1) -> 1 | D84: =MID($B84,COLUMN()-(COLUMN($C84)-1),1) -> 0 | E84: =MID($B84,COLUMN()-(COLUMN($C84)-1),1) -> 0 | F84: =MID($B84,COLUMN()-(COLUMN($C84)-1),1) -> 1 | G84: =MID($B84,COLUMN()-(COLUMN($C84)-1),1) -> 1 | H84: =MID($B84,COLUMN()-(COLUMN($C84)-1),1) -> 1 | I84: =MID($B84,COLUMN()-(COLUMN($C84)-1),1) -> 0 | J84: =IF(C84+D84+E84+F84+G84+H84+I84=3,"Y","")
A85: =A84+1 -> 79 | B85: =DEC2BIN(A85,7) -> 1001111 | C85: =MID($B85,COLUMN()-(COLUMN($C85)-1),1) -> 1 | D85: =MID($B85,COLUMN()-(COLUMN($C85)-1),1) -> 0 | E85: =MID($B85,COLUMN()-(COLUMN($C85)-1),1) -> 0 | F85: =MID($B85,COLUMN()-(COLUMN($C85)-1),1) -> 1 | G85: =MID($B85,COLUMN()-(COLUMN($C85)-1),1) -> 1 | H85: =MID($B85,COLUMN()-(COLUMN($C85)-1),1) -> 1 | I85: =MID($B85,COLUMN()-(COLUMN($C85)-1),1) -> 1 | J85: =IF(C85+D85+E85+F85+G85+H85+I85=3,"Y","")
A86: =A85+1 -> 80 | B86: =DEC2BIN(A86,7) -> 1010000 | C86: =MID($B86,COLUMN()-(COLUMN($C86)-1),1) -> 1 | D86: =MID($B86,COLUMN()-(COLUMN($C86)-1),1) -> 0 | E86: =MID($B86,COLUMN()-(COLUMN($C86)-1),1) -> 1 | F86: =MID($B86,COLUMN()-(COLUMN($C86)-1),1) -> 0 | G86: =MID($B86,COLUMN()-(COLUMN($C86)-1),1) -> 0 | H86: =MID($B86,COLUMN()-(COLUMN($C86)-1),1) -> 0 | I86: =MID($B86,COLUMN()-(COLUMN($C86)-1),1) -> 0 | J86: =IF(C86+D86+E86+F86+G86+H86+I86=3,"Y","")
A87: =A86+1 -> 81 | B87: =DEC2BIN(A87,7) -> 1010001 | C87: =MID($B87,COLUMN()-(COLUMN($C87)-1),1) -> 1 | D87: =MID($B87,COLUMN()-(COLUMN($C87)-1),1) -> 0 | E87: =MID($B87,COLUMN()-(COLUMN($C87)-1),1) -> 1 | F87: =MID($B87,COLUMN()-(COLUMN($C87)-1),1) -> 0 | G87: =MID($B87,COLUMN()-(COLUMN($C87)-1),1) -> 0 | H87: =MID($B87,COLUMN()-(COLUMN($C87)-1),1) -> 0 | I87: =MID($B87,COLUMN()-(COLUMN($C87)-1),1) -> 1 | J87: =IF(C87+D87+E87+F87+G87+H87+I87=3,"Y","") -> Y
A88: =A87+1 -> 82 | B88: =DEC2BIN(A88,7) -> 1010010 | C88: =MID($B88,COLUMN()-(COLUMN($C88)-1),1) -> 1 | D88: =MID($B88,COLUMN()-(COLUMN($C88)-1),1) -> 0 | E88: =MID($B88,COLUMN()-(COLUMN($C88)-1),1) -> 1 | F88: =MID($B88,COLUMN()-(COLUMN($C88)-1),1) -> 0 | G88: =MID($B88,COLUMN()-(COLUMN($C88)-1),1) -> 0 | H88: =MID($B88,COLUMN()-(COLUMN($C88)-1),1) -> 1 | I88: =MID($B88,COLUMN()-(COLUMN($C88)-1),1) -> 0 | J88: =IF(C88+D88+E88+F88+G88+H88+I88=3,"Y","") -> Y
A89: =A88+1 -> 83 | B89: =DEC2BIN(A89,7) -> 1010011 | C89: =MID($B89,COLUMN()-(COLUMN($C89)-1),1) -> 1 | D89: =MID($B89,COLUMN()-(COLUMN($C89)-1),1) -> 0 | E89: =MID($B89,COLUMN()-(COLUMN($C89)-1),1) -> 1 | F89: =MID($B89,COLUMN()-(COLUMN($C89)-1),1) -> 0 | G89: =MID($B89,COLUMN()-(COLUMN($C89)-1),1) -> 0 | H89: =MID($B89,COLUMN()-(COLUMN($C89)-1),1) -> 1 | I89: =MID($B89,COLUMN()-(COLUMN($C89)-1),1) -> 1 | J89: =IF(C89+D89+E89+F89+G89+H89+I89=3,"Y","")
A90: =A89+1 -> 84 | B90: =DEC2BIN(A90,7) -> 1010100 | C90: =MID($B90,COLUMN()-(COLUMN($C90)-1),1) -> 1 | D90: =MID($B90,COLUMN()-(COLUMN($C90)-1),1) -> 0 | E90: =MID($B90,COLUMN()-(COLUMN($C90)-1),1) -> 1 | F90: =MID($B90,COLUMN()-(COLUMN($C90)-1),1) -> 0 | G90: =MID($B90,COLUMN()-(COLUMN($C90)-1),1) -> 1 | H90: =MID($B90,COLUMN()-(COLUMN($C90)-1),1) -> 0 | I90: =MID($B90,COLUMN()-(COLUMN($C90)-1),1) -> 0 | J90: =IF(C90+D90+E90+F90+G90+H90+I90=3,"Y","") -> Y
... A94: =A93+1 -> 88 | B94: =DEC2BIN(A94,7) -> 1011000 | C94: =MID($B94,COLUMN()-(COLUMN($C94)-1),1) -> 1 | D94: =MID($B94,COLUMN()-(COLUMN($C94)-1),1) -> 0 | E94: =MID($B94,COLUMN()-(COLUMN($C94)-1),1) -> 1 | F94: =MID($B94,COLUMN()-(COLUMN($C94)-1),1) -> 1 | G94: =MID($B94,COLUMN()-(COLUMN($C94)-1),1) -> 0 | H94: =MID($B94,COLUMN()-(COLUMN($C94)-1),1) -> 0 | I94: =MID($B94,COLUMN()-(COLUMN($C94)-1),1) -> 0 | J94: =IF(C94+D94+E94+F94+G94+H94+I94=3,"Y","") -> Y
A95: =A94+1 -> 89 | B95: =DEC2BIN(A95,7) -> 1011001 | C95: =MID($B95,COLUMN()-(COLUMN($C95)-1),1) -> 1 | D95: =MID($B95,COLUMN()-(COLUMN($C95)-1),1) -> 0 | E95: =MID($B95,COLUMN()-(COLUMN($C95)-1),1) -> 1 | F95: =MID($B95,COLUMN()-(COLUMN($C95)-1),1) -> 1 | G95: =MID($B95,COLUMN()-(COLUMN($C95)-1),1) -> 0 | H95: =MID($B95,COLUMN()-(COLUMN($C95)-1),1) -> 0 | I95: =MID($B95,COLUMN()-(COLUMN($C95)-1),1) -> 1 | J95: =IF(C95+D95+E95+F95+G95+H95+I95=3,"Y","") | L95: =IF($J95="Y",C95*1,"") | M95: =IF($J95="Y",D95*1,"") | N95: =IF($J95="Y",E95*1,"") | O95: =IF($J95="Y",F95*1,"") | P95: =IF($J95="Y",G95*1,"") | Q95: =IF($J95="Y",H95*1,"") | R95: =IF($J95="Y",I95*1,"")
A96: =A95+1 -> 90 | B96: =DEC2BIN(A96,7) -> 1011010 | C96: =MID($B96,COLUMN()-(COLUMN($C96)-1),1) -> 1 | D96: =MID($B96,COLUMN()-(COLUMN($C96)-1),1) -> 0 | E96: =MID($B96,COLUMN()-(COLUMN($C96)-1),1) -> 1 | F96: =MID($B96,COLUMN()-(COLUMN($C96)-1),1) -> 1 | G96: =MID($B96,COLUMN()-(COLUMN($C96)-1),1) -> 0 | H96: =MID($B96,COLUMN()-(COLUMN($C96)-1),1) -> 1 | I96: =MID($B96,COLUMN()-(COLUMN($C96)-1),1) -> 0 | J96: =IF(C96+D96+E96+F96+G96+H96+I96=3,"Y","") | L96: =IF($J96="Y",C96*1,"") | M96: =IF($J96="Y",D96*1,"") | N96: =IF($J96="Y",E96*1,"") | O96: =IF($J96="Y",F96*1,"") | P96: =IF($J96="Y",G96*1,"") | Q96: =IF($J96="Y",H96*1,"") | R96: =IF($J96="Y",I96*1,"")
A97: =A96+1 -> 91 | B97: =DEC2BIN(A97,7) -> 1011011 | C97: =MID($B97,COLUMN()-(COLUMN($C97)-1),1) -> 1 | D97: =MID($B97,COLUMN()-(COLUMN($C97)-1),1) -> 0 | E97: =MID($B97,COLUMN()-(COLUMN($C97)-1),1) -> 1 | F97: =MID($B97,COLUMN()-(COLUMN($C97)-1),1) -> 1 | G97: =MID($B97,COLUMN()-(COLUMN($C97)-1),1) -> 0 | H97: =MID($B97,COLUMN()-(COLUMN($C97)-1),1) -> 1 | I97: =MID($B97,COLUMN()-(COLUMN($C97)-1),1) -> 1 | J97: =IF(C97+D97+E97+F97+G97+H97+I97=3,"Y","") | L97: =IF($J97="Y",C97*1,"") | M97: =IF($J97="Y",D97*1,"") | N97: =IF($J97="Y",E97*1,"") | O97: =IF($J97="Y",F97*1,"") | P97: =IF($J97="Y",G97*1,"") | Q97: =IF($J97="Y",H97*1,"") | R97: =IF($J97="Y",I97*1,"")
A98: =A97+1 -> 92 | B98: =DEC2BIN(A98,7) -> 1011100 | C98: =MID($B98,COLUMN()-(COLUMN($C98)-1),1) -> 1 | D98: =MID($B98,COLUMN()-(COLUMN($C98)-1),1) -> 0 | E98: =MID($B98,COLUMN()-(COLUMN($C98)-1),1) -> 1 | F98: =MID($B98,COLUMN()-(COLUMN($C98)-1),1) -> 1 | G98: =MID($B98,COLUMN()-(COLUMN($C98)-1),1) -> 1 | H98: =MID($B98,COLUMN()-(COLUMN($C98)-1),1) -> 0 | I98: =MID($B98,COLUMN()-(COLUMN($C98)-1),1) -> 0 | J98: =IF(C98+D98+E98+F98+G98+H98+I98=3,"Y","") | L98: =IF($J98="Y",C98*1,"") | M98: =IF($J98="Y",D98*1,"") | N98: =IF($J98="Y",E98*1,"") | O98: =IF($J98="Y",F98*1,"") | P98: =IF($J98="Y",G98*1,"") | Q98: =IF($J98="Y",H98*1,"") | R98: =IF($J98="Y",I98*1,"")
A99: =A98+1 -> 93 | B99: =DEC2BIN(A99,7) -> 1011101 | C99: =MID($B99,COLUMN()-(COLUMN($C99)-1),1) -> 1 | D99: =MID($B99,COLUMN()-(COLUMN($C99)-1),1) -> 0 | E99: =MID($B99,COLUMN()-(COLUMN($C99)-1),1) -> 1 | F99: =MID($B99,COLUMN()-(COLUMN($C99)-1),1) -> 1 | G99: =MID($B99,COLUMN()-(COLUMN($C99)-1),1) -> 1 | H99: =MID($B99,COLUMN()-(COLUMN($C99)-1),1) -> 0 | I99: =MID($B99,COLUMN()-(COLUMN($C99)-1),1) -> 1 | J99: =IF(C99+D99+E99+F99+G99+H99+I99=3,"Y","") | L99: =IF($J99="Y",C99*1,"") | M99: =IF($J99="Y",D99*1,"") | N99: =IF($J99="Y",E99*1,"") | O99: =IF($J99="Y",F99*1,"") | P99: =IF($J99="Y",G99*1,"") | Q99: =IF($J99="Y",H99*1,"") | R99: =IF($J99="Y",I99*1,"")
A100: =A99+1 -> 94 | B100: =DEC2BIN(A100,7) -> 1011110 | C100: =MID($B100,COLUMN()-(COLUMN($C100)-1),1) -> 1 | D100: =MID($B100,COLUMN()-(COLUMN($C100)-1),1) -> 0 | E100: =MID($B100,COLUMN()-(COLUMN($C100)-1),1) -> 1 | F100: =MID($B100,COLUMN()-(COLUMN($C100)-1),1) -> 1 | G100: =MID($B100,COLUMN()-(COLUMN($C100)-1),1) -> 1 | H100: =MID($B100,COLUMN()-(COLUMN($C100)-1),1) -> 1 | I100: =MID($B100,COLUMN()-(COLUMN($C100)-1),1) -> 0 | J100: =IF(C100+D100+E100+F100+G100+H100+I100=3,"Y","") | L100: =IF($J100="Y",C100*1,"") | M100: =IF($J100="Y",D100*1,"") | N100: =IF($J100="Y",E100*1,"") | O100: =IF($J100="Y",F100*1,"") | P100: =IF($J100="Y",G100*1,"") | Q100: =IF($J100="Y",H100*1,"") | R100: =IF($J100="Y",I100*1,"")
A101: =A100+1 -> 95 | B101: =DEC2BIN(A101,7) -> 1011111 | C101: =MID($B101,COLUMN()-(COLUMN($C101)-1),1) -> 1 | D101: =MID($B101,COLUMN()-(COLUMN($C101)-1),1) -> 0 | E101: =MID($B101,COLUMN()-(COLUMN($C101)-1),1) -> 1 | F101: =MID($B101,COLUMN()-(COLUMN($C101)-1),1) -> 1 | G101: =MID($B101,COLUMN()-(COLUMN($C101)-1),1) -> 1 | H101: =MID($B101,COLUMN()-(COLUMN($C101)-1),1) -> 1 | I101: =MID($B101,COLUMN()-(COLUMN($C101)-1),1) -> 1 | J101: =IF(C101+D101+E101+F101+G101+H101+I101=3,"Y","") | L101: =IF($J101="Y",C101*1,"") | M101: =IF($J101="Y",D101*1,"") | N101: =IF($J101="Y",E101*1,"") | O101: =IF($J101="Y",F101*1,"") | P101: =IF($J101="Y",G101*1,"") | Q101: =IF($J101="Y",H101*1,"") | R101: =IF($J101="Y",I101*1,"")
A102: =A101+1 -> 96 | B102: =DEC2BIN(A102,7) -> 1100000 | C102: =MID($B102,COLUMN()-(COLUMN($C102)-1),1) -> 1 | D102: =MID($B102,COLUMN()-(COLUMN($C102)-1),1) -> 1 | E102: =MID($B102,COLUMN()-(COLUMN($C102)-1),1) -> 0 | F102: =MID($B102,COLUMN()-(COLUMN($C102)-1),1) -> 0 | G102: =MID($B102,COLUMN()-(COLUMN($C102)-1),1) -> 0 | H102: =MID($B102,COLUMN()-(COLUMN($C102)-1),1) -> 0 | I102: =MID($B102,COLUMN()-(COLUMN($C102)-1),1) -> 0 | J102: =IF(C102+D102+E102+F102+G102+H102+I102=3,"Y","") | L102: =IF($J102="Y",C102*1,"") | M102: =IF($J102="Y",D102*1,"") | N102: =IF($J102="Y",E102*1,"") | O102: =IF($J102="Y",F102*1,"") | P102: =IF($J102="Y",G102*1,"") | Q102: =IF($J102="Y",H102*1,"") | R102: =IF($J102="Y",I102*1,"")
A103: =A102+1 -> 97 | B103: =DEC2BIN(A103,7) -> 1100001 | C103: =MID($B103,COLUMN()-(COLUMN($C103)-1),1) -> 1 | D103: =MID($B103,COLUMN()-(COLUMN($C103)-1),1) -> 1 | E103: =MID($B103,COLUMN()-(COLUMN($C103)-1),1) -> 0 | F103: =MID($B103,COLUMN()-(COLUMN($C103)-1),1) -> 0 | G103: =MID($B103,COLUMN()-(COLUMN($C103)-1),1) -> 0 | H103: =MID($B103,COLUMN()-(COLUMN($C103)-1),1) -> 0 | I103: =MID($B103,COLUMN()-(COLUMN($C103)-1),1) -> 1 | J103: =IF(C103+D103+E103+F103+G103+H103+I103=3,"Y","") -> Y
A104: =A103+1 -> 98 | B104: =DEC2BIN(A104,7) -> 1100010 | C104: =MID($B104,COLUMN()-(COLUMN($C104)-1),1) -> 1 | D104: =MID($B104,COLUMN()-(COLUMN($C104)-1),1) -> 1 | E104: =MID($B104,COLUMN()-(COLUMN($C104)-1),1) -> 0 | F104: =MID($B104,COLUMN()-(COLUMN($C104)-1),1) -> 0 | G104: =MID($B104,COLUMN()-(COLUMN($C104)-1),1) -> 0 | H104: =MID($B104,COLUMN()-(COLUMN($C104)-1),1) -> 1 | I104: =MID($B104,COLUMN()-(COLUMN($C104)-1),1) -> 0 | J104: =IF(C104+D104+E104+F104+G104+H104+I104=3,"Y","") -> Y
...

Sheet LR Results_2A
A2: Patient Offset | C2: LR Case # | D2: Max P[CF|A] | E2: A1 | F2: A2 | G2: A3 | H2: Ave P[CF|A] | L2: AUC | M2: LR Case #
A3: 61 | C3: =VLOOKUP($D3,$M12:$Q557,5,FALSE) -> 2 | D3: =MAX(M13:M557) -> 0.33359641 | E3: =VLOOKUP($D3,$M12:$Q557,2,FALSE) -> 4 | F3: =VLOOKUP($D3,$M12:$Q557,3,FALSE) -> 6 | G3: =VLOOKUP($D3,$M12:$Q557,4,FALSE) -> 7 | H3: =AVERAGE(M13,M557) -> 0.14358798 | K3: Max | L3: =MAX(L13:L557) -> 0.77002653 | M3: =VLOOKUP($L3,$L$13:$Q$558,6,FALSE) -> 26
A4: =A3 -> 61 | C4: =C3 -> 2 | D4: =D3 -> 0.33359641 | K4: Min | L4: =MIN(L13:L557) -> 0.58713528 | M4: =VLOOKUP($L4,$L$13:$Q$558,6,FALSE) -> 20
J6: The LR parameter estimates from the tables stored by the Development workbook
A7: Case # | D7: A1 | E7: A2 | F7: A3
A8: 1 | C8: column | D8: =OFFSET(Setup!$AI$6,$A8,1) -> 33 | E8: =OFFSET(Setup!$AI$6,$A8,2) -> 34 | F8: =OFFSET(Setup!$AI$6,$A8,3) -> 44
C9: index | D9: =OFFSET(Setup!$AC$6,$A8,1) -> 5 | E9: =OFFSET(Setup!$AC$6,$A8,2) -> 6 | F9: =OFFSET(Setup!$AC$6,$A8,3) -> 7
C10: state | D10: =OFFSET('Data 2'!$B$9,$A$3,2*(D9+1)) -> 0 | E10: =OFFSET('Data 2'!$B$9,$A$3,2*(E9+1)) -> 1 | F10: =OFFSET('Data 2'!$B$9,$A$3,2*(F9+1)) -> 0
C12: (A1,A2,A3) | D12: Log-Odds Ratio | E12: P[CF=1|(A1,A2,A3)] | F12: (A1,A2,A3) | G12: Log-Odds Ratio | H12: P[CF=1|(A1,A2,A3)] | I12: (A1,A2,A3) | J12: Log-Odds Ratio | K12: P[CF=1|(A1,A2,A3)] | L12: AUC | M12: P[CF=1|(A1,A2,A3)] | N12: A1 | O12: A2 | P12: A3 | Q12: Case #
C13: (0,0,0) | D13: -2.3033352 | E13: 0.090847121 | F13: (1,0,0) | G13: -2.1559046 | H13: 0.10378075 | I13: (2,0,0) | J13: -2.1570323 | K13: 0.1036759 | L13: 0.65238727 | M13: =OFFSET($E13,3*E10+F10,3*D10) -> 0.19103679 | N13: =D9 -> 5 | O13: =E9 -> 6 | P13: =F9 -> 7 | Q13: =A8 -> 1
C14: (0,0,1) | D14: -1.9303628 | E14: 0.12671043 | F14: (1,0,1) | G14: -1.7829323 | H14: 0.14394143 | I14: (2,0,1) | J14: -2.0175253 | K14: 0.11737512 | N14: =D10 -> 0 | O14: =E10 -> 1 | P14: =F10 -> 0
C15: (0,0,2) | D15: -2.067976 | E15: 0.11224857 | F15: (1,0,2) | G15: -1.9585926 | H15: 0.12361944 | I15: (2,0,2) | J15: -1.8106929 | K15: 0.1405544
C16: (0,1,0) | D16: -1.4432874 | E16: 0.19103679 | F16: (1,1,0) | G16: -1.2958569 | H16: 0.21486313 | I16: (2,1,0) | J16: -1.3000475 | K16: 0.21415702
C17: (0,1,1) | D17: -1.070315 | E17: 0.25534318 | F17: (1,1,1) | G17: -0.92288451 | H17: 0.28437052 | I17: (2,1,1) | J17: -1.1605404 | K17: 0.2385691
C18: (0,1,2) | D18: -1.279526 | E18: 0.21763092 | F18: (1,1,2) | G18: -1.1701426 | H18: 0.2368292 | I18: (2,1,2) | J18: -1.7273723 | K18: 0.15092401
C19: (0,2,0) | D19: -1.8617228 | E19: 0.13450238 | F19: (1,2,0) | G19: -1.6805835 | H19: 0.15701822 | I19: (2,2,0) | J19: -1.8106929 | K19: 0.1405544
C20: (0,2,1) | D20: -1.6772209 | E20: 0.15746382 | F20: (1,2,1) | G20: -1.4960817 | H20: 0.18301066 | I20: (2,2,1) | J20: -1.7273723 | K20: 0.15092401
C21: (0,2,2) | D21: -1.8106929 | E21: 0.1405544 | F21: (1,2,2) | G21: -1.7273723 | H21: 0.15092401 | I21: (2,2,2) | J21: -1.7186372 | K21: 0.15204678
A23: Case # | D23: A1 | E23: A2 | F23: A3
A24: =A8+1 -> 2 | C24: column | D24: =OFFSET(Setup!$AI$6,$A24,1) -> 24 | E24: =OFFSET(Setup!$AI$6,$A24,2) -> 34 | F24: =OFFSET(Setup!$AI$6,$A24,3) -> 44
C25: index | D25: =OFFSET(Setup!$AC$6,$A24,1) -> 4 | E25: =OFFSET(Setup!$AC$6,$A24,2) -> 6 | F25: =OFFSET(Setup!$AC$6,$A24,3) -> 7
C26: state | D26: =OFFSET('Data 2'!$B$9,$A$3,2*(D25+1)) -> 0 | E26: =OFFSET('Data 2'!$B$9,$A$3,2*(E25+1)) -> 1 | F26: =OFFSET('Data 2'!$B$9,$A$3,2*(F25+1)) -> 0
C28: (A1,A2,A3) | D28: Log-Odds Ratio | E28: P[CF=1|(A1,A2,A3)] | F28: (A1,A2,A3) | G28: Log-Odds Ratio | H28: P[CF=1|(A1,A2,A3)] | I28: (A1,A2,A3) | J28: Log-Odds Ratio | K28: P[CF=1|(A1,A2,A3)] | L28: AUC | M28: P[CF=1|(A1,A2,A3)] | N28: A1 | O28: A2 | P28: A3 | Q28: Case #
C29: (0,0,0) | D29: -1.6175781 | E29: 0.16553915 | F29: (1,0,0) | G29: -2.451585 | H29: 0.079322715 | I29: (2,0,0) | J29: -1.6501143 | K29: 0.16109351 | L29: 0.65862069 | M29: =OFFSET($E29,3*E26+F26,3*D26) -> 0.33359641 | N29: =D25 -> 4 | O29: =E25 -> 6 | P29: =F25 -> 7 | Q29: =A24 -> 2
C30: (0,0,1) | D30: -1.4167074 | E30: 0.19517828 | F30: (1,0,1) | G30: -2.2507143 | H30: 0.095287866 | I30: (2,0,1) | J30: -1.399645 | K30: 0.19787245 | N30: =D26 -> 0 | O30: =E26 -> 1 | P30: =F26 -> 0
C31: (0,0,2) | D31: -1.561419 | E31: 0.17344313 | F31: (1,0,2) | G31: -2.3580212 | H31: 0.086430311 | I31: (2,0,2) | J31: -1.3934719 | K31: 0.19885407
C32: (0,1,0) | D32: -0.69196359 | E32: 0.33359641 | F32: (1,1,0) | G32: -1.5259705 | H32: 0.17858401 | I32: (2,1,0) | J32: -1.9280129 | K32: 0.12697069
C33: (0,1,1) | D33: -0.49109288 | E33: 0.37963615 | F33: (1,1,1) | G33: -1.3250998 | H33: 0.20997106 | I33: (2,1,1) | J33: -1.6775436 | K33: 0.15742101
C34: (0,1,2) | D34: -0.64808386 | E34: 0.34342146 | F34: (1,1,2) | G34: -1.4446861 | H34: 0.19082073 | I34: (2,1,2) | J34: -1.9828045 | K34: 0.1210202
C35: (0,2,0) | D35: -1.3553595 | E35: 0.20499554 | F35: (1,2,0) | G35: -2.0272559 | H35: 0.1163708 | I35: (2,2,0) | J35: -1.3934719 | K35: 0.19885407
C36: (0,2,1) | D36: -1.1285057 | E36: 0.24443697 | F36: (1,2,1) | G36: -1.8004021 | H36: 0.14180213 | I36: (2,2,1) | J36: -1.9828045 | K36: 0.1210202
C37: (0,2,2) | D37: -1.3934719 | E37: 0.19885407 | F37: (1,2,2) | G37: -1.9828045 | H37: 0.1210202 | I37: (2,2,2) | J37: -1.7186372 | K37: 0.15204678
A39: Case # | D39: A1 | E39: A2 | F39: A3
A40: =A24+1 -> 3 | C40: column | D40: =OFFSET(Setup!$AI$6,$A40,1) -> 24 | E40: =OFFSET(Setup!$AI$6,$A40,2) -> 33 | F40: =OFFSET(Setup!$AI$6,$A40,3) -> 44
C41: index | D41: =OFFSET(Setup!$AC$6,$A40,1) -> 4 | E41: =OFFSET(Setup!$AC$6,$A40,2) -> 5 | F41: =OFFSET(Setup!$AC$6,$A40,3) -> 7
C42: state | D42: =OFFSET('Data 2'!$B$9,$A$3,2*(D41+1)) -> 0 | E42: =OFFSET('Data 2'!$B$9,$A$3,2*(E41+1)) -> 0 | F42: =OFFSET('Data 2'!$B$9,$A$3,2*(F41+1)) -> 0
C44: (A1,A2,A3) | D44: Log-Odds Ratio | E44: P[CF=1|(A1,A2,A3)] | F44: (A1,A2,A3) | G44: Log-Odds Ratio | H44: P[CF=1|(A1,A2,A3)] | I44: (A1,A2,A3) | J44: Log-Odds Ratio | K44: P[CF=1|(A1,A2,A3)] | L44: AUC | M44: P[CF=1|(A1,A2,A3)] | N44: A1 | O44: A2 | P44: A3 | Q44: Case #
C45: (0,0,0) | D45: -1.5961183 | E45: 0.16852483 | F45: (1,0,0) | G45: -2.261565 | H45: 0.094356552 | I45: (2,0,0) | J45: -1.2762786 | K45: 0.21818436 | L45: 0.6035809 | M45: =OFFSET($E45,3*E42+F42,3*D42) -> 0.16852483 | N45: =D41 -> 4 | O45: =E41 -> 5 | P45: =F41 -> 7 | Q45: =A40 -> 3
C46: (0,0,1) | D46: -1.227698 | E46: 0.22658459 | F46: (1,0,1) | G46: -1.8931446 | H46: 0.13088634 | I46: (2,0,1) | J46: -0.89787005 | K46: 0.2894884 | N46: =D42 -> 0 | O46: =E42 -> 0 | P46: =F42 -> 0
C47: (0,0,2) | D47: -1.4409668 | E47: 0.19139568 | F47: (1,0,2) | G47: -2.1668812 | H47: 0.10276425 | I47: (2,0,2) | J47: -1.3934719 | K47: 0.19885407
C48: (0,1,0) | D48: -1.307499 | E48: 0.21290566 | F48: (1,1,0) | G48: -1.9729456 | H48: 0.12207285 | I48: (2,1,0) | J48: -2.2597411 | K48: 0.09451252
C49: (0,1,1) | D49: -0.93907857 | E49: 0.2810865 | F49: (1,1,1) | G49: -1.6045252 | H49: 0.16735011 | I49: (2,1,1) | J49: -1.8813326 | K49: 0.13223588
C50: (0,1,2) | D50: -1.1292353 | E50: 0.24430226 | F50: (1,1,2) | G50: -1.8551497 | H50: 0.1352694 | I50: (2,1,2) | J50: -1.9828045 | K50: 0.1210202
C51: (0,2,0) | D51: -1.3553595 | E51: 0.20499554 | F51: (1,2,0) | G51: -2.0272559 | H51: 0.1163708 | I51: (2,2,0) | J51: -1.3934719 | K51: 0.19885407
C52: (0,2,1) | D52: -1.1285057 | E52: 0.24443697 | F52: (1,2,1) | G52: -1.8004021 | H52: 0.14180213 | I52: (2,2,1) | J52: -1.9828045 | K52: 0.1210202
C53: (0,2,2) | D53: -1.3934719 | E53: 0.19885407 | F53: (1,2,2) | G53: -1.9828045 | H53: 0.1210202 | I53: (2,2,2) | J53: -1.7186372 | K53: 0.15204678
A55: Case # | D55: A1 | E55: A2 | F55: A3
A56: =A40+1 -> 4 | C56: column | D56: =OFFSET(Setup!$AI$6,$A56,1) -> 24 | E56: =OFFSET(Setup!$AI$6,$A56,2) -> 33 | F56: =OFFSET(Setup!$AI$6,$A56,3) -> 34
C57: index | D57: =OFFSET(Setup!$AC$6,$A56,1) -> 4 | E57: =OFFSET(Setup!$AC$6,$A56,2) -> 5 | F57: =OFFSET(Setup!$AC$6,$A56,3) -> 6
C58: state | D58: =OFFSET('Data 2'!$B$9,$A$3,2*(D57+1)) -> 0 | E58: =OFFSET('Data 2'!$B$9,$A$3,2*(E57+1)) -> 0 | F58: =OFFSET('Data 2'!$B$9,$A$3,2*(F57+1)) -> 1
C60: (A1,A2,A3) | D60: Log-Odds Ratio | E60: P[CF=1|(A1,A2,A3)] | F60: (A1,A2,A3) | G60: Log-Odds Ratio | H60: P[CF=1|(A1,A2,A3)] | I60: (A1,A2,A3) | J60: Log-Odds Ratio | K60: P[CF=1|(A1,A2,A3)] | L60: AUC | M60: P[CF=1|(A1,A2,A3)] | N60: A1 | O60: A2 | P60: A3 | Q60: Case #
C61: (0,0,0) | D61: -1.6891284 | E61: 0.1558905 | F61: (1,0,0) | G61: -2.3874099 | H61: 0.084137803 | I61: (2,0,0) | J61: -1.4433015 | K61: 0.19103461 | L61: 0.64509284 | M61: =OFFSET($E61,3*E58+F58,3*D58) -> 0.2878661 | N61: =D57 -> 4 | O61: =E57 -> 5 | P61: =F57 -> 6 | Q61: =A56 -> 4
C62: (0,0,1) | D62: -0.90577051 | E62: 0.2878661 | F62: (1,0,1) | G62: -1.6040521 | H62: 0.16741604 | I62: (2,0,1) | J62: -0.81222598 | K62: 0.30741636 | N62: =D58 -> 0 | O62: =E58 -> 0 | P62: =F58 -> 1
C63: (0,0,2) | D63: -1.4409668 | E63: 0.19139568 | F63: (1,0,2) | G63: -2.1668812 | H63: 0.10276425 | I63: (2,0,2) | J63: -1.3934719 | K63: 0.19885407
C64: (0,1,0) | D64: -1.4437488 | E64: 0.1909655 | F64: (1,1,0) | G64: -2.1420303 | H64: 0.10507831 | I64: (2,1,0) | J64: -2.3614151 | K64: 0.086162709
C65: (0,1,1) | D65: -0.66039089 | E65: 0.34065181 | F65: (1,1,1) | G65: -1.3586725 | H65: 0.20445615 | I65: (2,1,1) | J65: -1.7303395 | K65: 0.15054416
C66: (0,1,2) | D66: -1.1292353 | E66: 0.24430226 | F66: (1,1,2) | G66: -1.8551497 | H66: 0.1352694 | I66: (2,1,2) | J66: -1.9828045 | K66: 0.1210202
C67: (0,2,0) | D67: -1.5321713 | E67: 0.17767621 | F67: (1,2,0) | G67: -2.2046147 | H67: 0.09933685 | I67: (2,2,0) | J67: -1.3934719 | K67: 0.19885407
C68: (0,2,1) | D68: -0.87111755 | E68: 0.29502182 | F68: (1,2,1) | G68: -1.5435609 | H68: 0.17601822 | I68: (2,2,1) | J68: -1.9828045 | K68: 0.1210202
C69: (0,2,2) | D69: -1.3934719 | E69: 0.19885407 | F69: (1,2,2) | G69: -1.9828045 | H69: 0.1210202 | I69: (2,2,2) | J69: -1.7186372 | K69: 0.15204678
A71: Case # | D71: A1 | E71: A2 | F71: A3
A72: =A56+1 -> 5 | C72: column | D72: =OFFSET(Setup!$AI$6,$A72,1) -> 15 | E72: =OFFSET(Setup!$AI$6,$A72,2) -> 34 | F72: =OFFSET(Setup!$AI$6,$A72,3) -> 44
C73: index | D73: =OFFSET(Setup!$AC$6,$A72,1) -> 3 | E73: =OFFSET(Setup!$AC$6,$A72,2) -> 6 | F73: =OFFSET(Setup!$AC$6,$A72,3) -> 7
C74: state | D74: =OFFSET('Data 2'!$B$9,$A$3,2*(D73+1)) -> 0 | E74: =OFFSET('Data 2'!$B$9,$A$3,2*(E73+1)) -> 1 | F74: =OFFSET('Data 2'!$B$9,$A$3,2*(F73+1)) -> 0
C76: (A1,A2,A3) | D76: Log-Odds Ratio | E76: P[CF=1|(A1,A2,A3)] | F76: (A1,A2,A3) | G76: Log-Odds Ratio | H76: P[CF=1|(A1,A2,A3)] | I76: (A1,A2,A3) | J76: Log-Odds Ratio | K76: P[CF=1|(A1,A2,A3)] | L76: AUC | M76: P[CF=1|(A1,A2,A3)] | N76: A1 | O76: A2 | P76: A3 | Q76: Case #
C77: (0,0,0) | D77: -2.2745271 | E77: 0.0932547 | F77: (1,0,0) | G77: -0.99005151 | H77: 0.2709019 | I77: (2,0,0) | J77: -1.9664108 | K77: 0.12277492 | L77: 0.65132626 | M77: =OFFSET($E77,3*E74+F74,3*D74) -> 0.20331953 | N77: =D73 -> 3 | O77: =E73 -> 6 | P77: =F73 -> 7 | Q77: =A72 -> 5
C78: (0,0,1) | D78: -2.4089228 | E78: 0.082494812 | F78: (1,0,1) | G78: -1.1244472 | H78: 0.2451873 | I78: (2,0,1) | J78: -1.766821 | K78: 0.14593812 | N78: =D74 -> 0 | O78: =E74 -> 1 | P78: =F74 -> 0
C79: (0,0,2) | D79: -2.2387765 | E79: 0.096321984 | F79: (1,0,2) | G79: -0.84665264 | H79: 0.30013551 | I79: (2,0,2) | J79: -1.984817 | K79: 0.12080628
C80: (0,1,0) | D80: -1.3656749 | E80: 0.20331953 | F80: (1,1,0) | G80: -0.081199294 | H80: 0.47971132 | I80: (2,1,0) | J80: -1.2153395 | K80: 0.22875766
C81: (0,1,1) | D81: -1.5000706 | E81: 0.18241499 | F81: (1,1,1) | G81: -0.21559499 | H81: 0.44630906 | I81: (2,1,1) | J81: -1.0157496 | K81: 0.26585615
C82: (0,1,2) | D82: -1.3952597 | E82: 0.1985694 | F82: (1,1,2) | G82: -0.0031358394 | H82: 0.49921604 | I82: (2,1,2) | J82: -0.57860345 | K82: 0.359254
C83: (0,2,0) | D83: -1.9351227 | E83: 0.12618466 | F83: (1,2,0) | G83: -0.58415066 | H83: 0.35797809 | I83: (2,2,0) | J83: -1.984817 | K83: 0.12080628
C84: (0,2,1) | D84: -1.8893756 | E84: 0.13131568 | F84: (1,2,1) | G84: -0.5384036 | H84: 0.36855902 | I84: (2,2,1) | J84: -0.57860345 | K84: 0.359254
C85: (0,2,2) | D85: -1.984817 | E85: 0.12080628 | F85: (1,2,2) | G85: -0.57860345 | H85: 0.359254 | I85: (2,2,2) | J85: -1.7186372 | K85: 0.15204678
A87: Case # | D87: A1 | E87: A2 | F87: A3
A88: =A72+1 -> 6 | C88: column | D88: =OFFSET(Setup!$AI$6,$A88,1) -> 15 | E88: =OFFSET(Setup!$AI$6,$A88,2) -> 33 | F88: =OFFSET(Setup!$AI$6,$A88,3) -> 44
C89: index | D89: =OFFSET(Setup!$AC$6,$A88,1) -> 3 | E89: =OFFSET(Setup!$AC$6,$A88,2) -> 5 | F89: =OFFSET(Setup!$AC$6,$A88,3) -> 7
C90: state | D90: =OFFSET('Data 2'!$B$9,$A$3,2*(D89+1)) -> 0 | E90: =OFFSET('Data 2'!$B$9,$A$3,2*(E89+1)) -> 0 | F90: =OFFSET('Data 2'!$B$9,$A$3,2*(F89+1)) -> 0
C92: (A1,A2,A3) | D92: Log-Odds Ratio | E92: P[CF=1|(A1,A2,A3)] | F92: (A1,A2,A3) | G92: Log-Odds Ratio | H92: P[CF=1|(A1,A2,A3)] | I92: (A1,A2,A3) | J92: Log-Odds Ratio | K92: P[CF=1|(A1,A2,A3)] | L92: AUC | M92: P[CF=1|(A1,A2,A3)] | N92: A1 | O92: A2 | P92: A3 | Q92: Case #
C93: (0,0,0) | D93: -2.4156 | E93: 0.081990831 | F93: (1,0,0) | G93: -1.2287078 | H93: 0.22640768 | I93: (2,0,0) | J93: -1.7506051 | K93: 0.14797089 | L93: 0.65941645 | M93: =OFFSET($E93,3*E90+F90,3*D90) -> 0.081990831 | N93: =D89 -> 3 | O93: =E89 -> 5 | P93: =F89 -> 7 | Q93: =A88 -> 6
C94: (0,0,1) | D94: -2.3154132 | E94: 0.089854465 | F94: (1,0,1) | G94: -1.128521 | H94: 0.24443414 | I94: (2,0,1) | J94: -1.5439245 | K94: 0.17596549 | N94: =D90 -> 0 | O94: =E90 -> 0 | P94: =F90 -> 0
C95: (0,0,2) | D95: -2.1185906 | E95: 0.107303 | F95: (1,0,2) | G95: -0.66815943 | H95: 0.3389091 | I95: (2,0,2) | J95: -1.984817 | K95: 0.12080628
C96: (0,1,0) | D96: -1.7097965 | E96: 0.15319012 | F96: (1,1,0) | G96: -0.52290427 | H96: 0.37217337 | I96: (2,1,0) | J96: -1.7951783 | K96: 0.14243903
C97: (0,1,1) | D97: -1.6096097 | E97: 0.16664281 | F97: (1,1,1) | G97: -0.42271753 | H97: 0.39586665 | I97: (2,1,1) | J97: -1.5884977 | K97: 0.16959537
C98: (0,1,2) | D98: -1.7965897 | E98: 0.14226671 | F98: (1,1,2) | G98: -0.34615848 | H98: 0.41431429 | I98: (2,1,2) | J98: -0.57860345 | K98: 0.359254
C99: (0,2,0) | D99: -1.9351227 | E99: 0.12618466 | F99: (1,2,0) | G99: -0.58415066 | H99: 0.35797809 | I99: (2,2,0) | J99: -1.984817 | K99: 0.12080628
C100: (0,2,1) | D100: -1.8893756 | E100: 0.13131568 | F100: (1,2,1) | G100: -0.5384036 | H100: 0.36855902 | I100: (2,2,1) | J100: -0.57860345 | K100: 0.359254
C101: (0,2,2) | D101: -1.984817 | E101: 0.12080628 | F101: (1,2,2) | G101: -0.57860345 | H101: 0.359254 | I101: (2,2,2) | J101: -1.7186372 | K101: 0.15204678
A103: Case # | D103: A1 | E103: A2 | F103: A3
A104: =A88+1 -> 7 | C104: column | D104: =OFFSET(Setup!$AI$6,$A104,1) -> 15 | E104: =OFFSET(Setup!$AI$6,$A104,2) -> 33 | F104: =OFFSET(Setup!$AI$6,$A104,3) -> 34
C105: index | D105: =OFFSET(Setup!$AC$6,$A104,1) -> 3 | E105: =OFFSET(Setup!$AC$6,$A104,2) -> 5 | F105: =OFFSET(Setup!$AC$6,$A104,3) -> 6
C106: state | D106: =OFFSET('Data 2'!$B$9,$A$3,2*(D105+1)) -> 0 | E106: =OFFSET('Data 2'!$B$9,$A$3,2*(E105+1)) -> 0 | F106: =OFFSET('Data 2'!$B$9,$A$3,2*(F105+1)) -> 1
C108: (A1,A2,A3) | D108: Log-Odds Ratio | E108: P[CF=1|(A1,A2,A3)] | F108: (A1,A2,A3) | G108: Log-Odds Ratio | H108: P[CF=1|(A1,A2,A3)] | I108: (A1,A2,A3) | J108: Log-Odds Ratio | K108: P[CF=1|(A1,A2,A3)] | L108: AUC | M108: P[CF=1|(A1,A2,A3)] | N108: A1 | O108: A2 | P108: A3 | Q108: Case #
C109: (0,0,0) | D109: -2.5754756 | E109: 0.070733546 | F109: (1,0,0) | G109: -1.2203718 | H109: 0.22787102 | I109: (2,0,0) | J109: -1.9430317 | K109: 0.12531517 | L109: 0.69244032 | M109: =OFFSET($E109,3*E106+F106,3*D106) -> 0.13921053 | N109: =D105 -> 3 | O109: =E105 -> 5 | P109: =F105 -> 6 | Q109: =A104 -> 7
C110: (0,0,1) | D110: -1.8218625 | E110: 0.13921053 | F110: (1,0,1) | G110: -0.46675879 | H110: 0.38538368 | I110: (2,0,1) | J110: -1.2885217 | K110: 0.21610313 | N110: =D106 -> 0 | O110: =E106 -> 0 | P110: =F106 -> 1
C111: (0,0,2) | D111: -2.1185906 | E111: 0.107303 | F111: (1,0,2) | G111: -0.66815943 | H111: 0.3389091 | I111: (2,0,2) | J111: -1.984817 | K111: 0.12080628
C112: (0,1,0) | D112: -1.9674447 | E112: 0.12266361 | F112: (1,1,0) | G112: -0.61234097 | H112: 0.35152538 | I112: (2,1,0) | J112: -1.9508226 | K112: 0.12446369
C113: (0,1,1) | D113: -1.2138317 | E113: 0.22902378 | F113: (1,1,1) | G113: 0.14127205 | H113: 0.53525939 | I113: (2,1,1) | J113: -1.2963127 | K113: 0.21478624
C114: (0,1,2) | D114: -1.7965897 | E114: 0.14226671 | F114: (1,1,2) | G114: -0.34615848 | H114: 0.41431429 | I114: (2,1,2) | J114: -0.57860345 | K114: 0.359254
C115: (0,2,0) | D115: -2.1393188 | E115: 0.10533357 | F115: (1,2,0) | G115: -0.81051089 | H115: 0.30778164 | I115: (2,2,0) | J115: -1.984817 | K115: 0.12080628
...

Sheet LR Results_2B_Composite
C1: Application of LR Analysis to Dataset 2 | P1: Total Population Data
P2: Threshold
P3: 0.176
P4: 0.182
A5: Offset | B5: Subject Index | C5: Subject | D5: Actual Category | E5: Actual CF State | F5: LR Case # | G5: CF Type A Score | H5: Recommend CF Testing (yes=1, no=0) | I5: Type A True Positives | J5: Type C True Negatives | K5: ='Data 2'!S9 -> LR Symptom Count | L5: Patient is B1 | M5: Patient is B1 and is Recommended for CF Testing (yes=1, no=0) | N5: Patient is B0 | O5: Patient is B0 and is Recommended for CF Testing (yes=1, no=0) | V5: Threshold c0 | W5: CF Type A Sensitivity | X5: CF Type B1 Sensitivity | Y5: CF Type B0 Sensitivity | Z5: CF Type C Specificity
A6: =1 -> 1 | B6: ='Data 2'!B10 -> 1 | C6: ='Data 2'!C10 -> 1 | D6: ='Data 2'!D10 -> CONT | E6: =IF(D6="CF",1,0) -> 0 | F6: 2 | G6: 0.19885407 | H6: =IF(G6>=$P$3,1,0) -> 1 | I6: =IF(AND(D6="CF",H6=1),1,0) -> 0 | J6: =IF(AND(D6="CONT",H6=0),1,0) -> 0 | K6: ='Data 2'!S10 -> 0 | M6: =IF(AND(L6=1,H6=1),1,0) -> 0 | O6: =IF(AND(N6=1,H6=1),1,0) -> 0 | V6: 0.176 | W6: 1 | X6: =M92 -> 0.81818182 | Y6: =O92 -> 0.875 | Z6: =J92 -> 0.2037037
A7: =A6+1 -> 2 | B7: ='Data 2'!B11 -> 2 | C7: ='Data 2'!C11 -> 2 | D7: ='Data 2'!D11 -> CONT | E7: =IF(D7="CF",1,0) -> 0 | F7: 2 | G7: 0.19885407 | H7: =IF(G7>=$P$3,1,0) -> 1 | I7: =IF(AND(D7="CF",H7=1),1,0) -> 0 | J7: =IF(AND(D7="CONT",H7=0),1,0) -> 0 | K7: ='Data 2'!S11 -> 0 | M7: =IF(AND(L7=1,H7=1),1,0) -> 0 | O7: =IF(AND(N7=1,H7=1),1,0) -> 0
A8: =A7+1 -> 3 | B8: ='Data 2'!B12 -> 3 | C8: ='Data 2'!C12 -> 3 | D8: ='Data 2'!D12 -> CONT | E8: =IF(D8="CF",1,0) -> 0 | F8: 19 | G8: 0.17627105 | H8: =IF(G8>=$P$3,1,0) -> 1 | I8: =IF(AND(D8="CF",H8=1),1,0) -> 0 | J8: =IF(AND(D8="CONT",H8=0),1,0) -> 0 | K8: ='Data 2'!S12 -> 2 | M8: =IF(AND(L8=1,H8=1),1,0) -> 0 | O8: =IF(AND(N8=1,H8=1),1,0) -> 0
A9: =A8+1 -> 4 | B9: ='Data 2'!B13 -> 4 | C9: ='Data 2'!C13 -> 4 | D9: ='Data 2'!D13 -> CONT | E9: =IF(D9="CF",1,0) -> 0 | F9: 12 | G9: 0.11925969 | H9: =IF(G9>=$P$3,1,0) -> 0 | I9: =IF(AND(D9="CF",H9=1),1,0) -> 0 | J9: =IF(AND(D9="CONT",H9=0),1,0) -> 1 | K9: ='Data 2'!S13 -> 1 | L9: 1 | M9: =IF(AND(L9=1,H9=1),1,0) -> 0 | O9: =IF(AND(N9=1,H9=1),1,0) -> 0
A10: =A9+1 -> 5 | B10: ='Data 2'!B14 -> 5 | C10: ='Data 2'!C14 -> 5 | D10: ='Data 2'!D14 -> CONT | E10: =IF(D10="CF",1,0) -> 0 | F10: 21 | G10: 0.38056497 | H10: =IF(G10>=$P$3,1,0) -> 1 | I10: =IF(AND(D10="CF",H10=1),1,0) -> 0 | J10: =IF(AND(D10="CONT",H10=0),1,0) -> 0 | K10: ='Data 2'!S14 -> 3 | M10: =IF(AND(L10=1,H10=1),1,0) -> 0 | O10: =IF(AND(N10=1,H10=1),1,0) -> 0
A11: =A10+1 -> 6 | B11: ='Data 2'!B15 -> 6 | C11: ='Data 2'!C15 -> 6 | D11: ='Data 2'!D15 -> CFNR | E11: =IF(D11="CF",1,0) -> 0 | F11: 33 | G11: 0.40437397 | H11: =IF(G11>=$P$3,1,0) -> 1 | I11: =IF(AND(D11="CF",H11=1),1,0) -> 0 | J11: =IF(AND(D11="CONT",H11=0),1,0) -> 0 | K11: ='Data 2'!S15 -> 3 | L11: 1 | M11: =IF(AND(L11=1,H11=1),1,0) -> 1 | O11: =IF(AND(N11=1,H11=1),1,0) -> 0
A12: =A11+1 -> 7 | B12: ='Data 2'!B16 -> 7 | C12: ='Data 2'!C16 -> 7 | D12: ='Data 2'!D16 -> CFNR | E12: =IF(D12="CF",1,0) -> 0 | F12: 17 | G12: 0.11596241 | H12: =IF(G12>=$P$3,1,0) -> 0 | I12: =IF(AND(D12="CF",H12=1),1,0) -> 0 | J12: =IF(AND(D12="CONT",H12=0),1,0) -> 0 | K12: ='Data 2'!S16 -> 1 | L12: 1 | M12: =IF(AND(L12=1,H12=1),1,0) -> 0 | O12: =IF(AND(N12=1,H12=1),1,0) -> 0
A13: =A12+1 -> 8 | B13: ='Data 2'!B17 -> 8 | C13: ='Data 2'!C17 -> 8 | D13: ='Data 2'!D17 -> CONT | E13: =IF(D13="CF",1,0) -> 0 | F13: 19 | G13: 0.17627105 | H13: =IF(G13>=$P$3,1,0) -> 1 | I13: =IF(AND(D13="CF",H13=1),1,0) -> 0 | J13: =IF(AND(D13="CONT",H13=0),1,0) -> 0 | K13: ='Data 2'!S17 -> 3 | M13: =IF(AND(L13=1,H13=1),1,0) -> 0 | O13: =IF(AND(N13=1,H13=1),1,0) -> 0
A14: =A13+1 -> 9 | B14: ='Data 2'!B18 -> 9 | C14: ='Data 2'!C18 -> 9 | D14: ='Data 2'!D18 -> CONT | E14: =IF(D14="CF",1,0) -> 0 | F14: 14 | G14: 0.18934718 | H14: =IF(G14>=$P$3,1,0) -> 1 | I14: =IF(AND(D14="CF",H14=1),1,0) -> 0 | J14: =IF(AND(D14="CONT",H14=0),1,0) -> 0 | K14: ='Data 2'!S18 -> 0 | M14: =IF(AND(L14=1,H14=1),1,0) -> 0 | O14: =IF(AND(N14=1,H14=1),1,0) -> 0
A15: =A14+1 -> 10 | B15: ='Data 2'!B19 -> 10 | C15: ='Data 2'!C19 -> 10 | D15: ='Data 2'!D19 -> CONT | E15: =IF(D15="CF",1,0) -> 0 | F15: 6 | G15: 0.39586665 | H15: =IF(G15>=$P$3,1,0) -> 1 | I15: =IF(AND(D15="CF",H15=1),1,0) -> 0 | J15: =IF(AND(D15="CONT",H15=0),1,0) -> 0 | K15: ='Data 2'!S19 -> 4 | M15: =IF(AND(L15=1,H15=1),1,0) -> 0 | O15: =IF(AND(N15=1,H15=1),1,0) -> 0
A16: =A15+1 -> 11 | B16: ='Data 2'!B20 -> 11 | C16: ='Data 2'!C20 -> 12 | D16: ='Data 2'!D20 -> CONT | E16: =IF(D16="CF",1,0) -> 0 | F16: 1 | G16: 0.15204678 | H16: =IF(G16>=$P$3,1,0) -> 0 | I16: =IF(AND(D16="CF",H16=1),1,0) -> 0 | J16: =IF(AND(D16="CONT",H16=0),1,0) -> 1 | K16: ='Data 2'!S20 -> 0 | M16: =IF(AND(L16=1,H16=1),1,0) -> 0 | O16: =IF(AND(N16=1,H16=1),1,0) -> 0
A17: =A16+1 -> 12 | B17: ='Data 2'!B21 -> 12 | C17: ='Data 2'!C21 -> 13 | D17: ='Data 2'!D21 -> CONT | E17: =IF(D17="CF",1,0) -> 0 | F17: 21 | G17: 0.38056497 | H17: =IF(G17>=$P$3,1,0) -> 1 | I17: =IF(AND(D17="CF",H17=1),1,0) -> 0 | J17: =IF(AND(D17="CONT",H17=0),1,0) -> 0 | K17: ='Data 2'!S21 -> 3 | M17: =IF(AND(L17=1,H17=1),1,0) -> 0 | O17: =IF(AND(N17=1,H17=1),1,0) -> 0
A18: =A17+1 -> 13 | B18: ='Data 2'!B22 -> 13 | C18: ='Data 2'!C22 -> 14 | D18: ='Data 2'!D22 -> CONT | E18: =IF(D18="CF",1,0) -> 0 | F18: 21 | G18: 0.38056497 | H18: =IF(G18>=$P$3,1,0) -> 1 | I18: =IF(AND(D18="CF",H18=1),1,0) -> 0 | J18: =IF(AND(D18="CONT",H18=0),1,0) -> 0 | K18: ='Data 2'!S22 -> 3 | M18: =IF(AND(L18=1,H18=1),1,0) -> 0 | O18: =IF(AND(N18=1,H18=1),1,0) -> 0
A19: =A18+1 -> 14 | B19: ='Data 2'!B23 -> 14 | C19: ='Data 2'!C23 -> 15 | D19: ='Data 2'!D23 -> CONT | E19: =IF(D19="CF",1,0) -> 0 | F19: 17 | G19: 0.11596241 | H19: =IF(G19>=$P$3,1,0) -> 0 | I19: =IF(AND(D19="CF",H19=1),1,0) -> 0 | J19: =IF(AND(D19="CONT",H19=0),1,0) -> 1 | K19: ='Data 2'!S23 -> 1 | M19: =IF(AND(L19=1,H19=1),1,0) -> 0 | O19: =IF(AND(N19=1,H19=1),1,0) -> 0
A20: =A19+1 -> 15 | B20: ='Data 2'!B24 -> 15 | C20: ='Data 2'!C24 -> 16 | D20: ='Data 2'!D24 -> CFNR | E20: =IF(D20="CF",1,0) -> 0 | F20: 7 | G20: 0.22902378 | H20: =IF(G20>=$P$3,1,0) -> 1 | I20: =IF(AND(D20="CF",H20=1),1,0) -> 0 | J20: =IF(AND(D20="CONT",H20=0),1,0) -> 0 | K20: ='Data 2'!S24 -> 3 | L20: 1 | M20: =IF(AND(L20=1,H20=1),1,0) -> 1 | O20: =IF(AND(N20=1,H20=1),1,0) -> 0
A21: =A20+1 -> 16 | B21: ='Data 2'!B25 -> 16 | C21: ='Data 2'!C25 -> 17 | D21: ='Data 2'!D25 -> CONT | E21: =IF(D21="CF",1,0) -> 0 | F21: 16 | G21: 0.25928812 | H21: =IF(G21>=$P$3,1,0) -> 1 | I21: =IF(AND(D21="CF",H21=1),1,0) -> 0 | J21: =IF(AND(D21="CONT",H21=0),1,0) -> 0 | K21: ='Data 2'!S25 -> 2 | M21: =IF(AND(L21=1,H21=1),1,0) -> 0 | O21: =IF(AND(N21=1,H21=1),1,0) -> 0
A22: =A21+1 -> 17 | B22: ='Data 2'!B26 -> 17 | C22: ='Data 2'!C26 -> 18 | D22: ='Data 2'!D26 -> CONT | E22: =IF(D22="CF",1,0) -> 0 | F22: 16 | G22: 0.25928812 | H22: =IF(G22>=$P$3,1,0) -> 1 | I22: =IF(AND(D22="CF",H22=1),1,0) -> 0 | J22: =IF(AND(D22="CONT",H22=0),1,0) -> 0 | K22: ='Data 2'!S26 -> 1 | M22: =IF(AND(L22=1,H22=1),1,0) -> 0 | O22: =IF(AND(N22=1,H22=1),1,0) -> 0
A23: =A22+1 -> 18 | B23: ='Data 2'!B27 -> 18 | C23: ='Data 2'!C27 -> 19 | D23: ='Data 2'!D27 -> CONT | E23: =IF(D23="CF",1,0) -> 0 | F23: 7 | G23: 0.22902378 | H23: =IF(G23>=$P$3,1,0) -> 1 | I23: =IF(AND(D23="CF",H23=1),1,0) -> 0 | J23: =IF(AND(D23="CONT",H23=0),1,0) -> 0 | K23: ='Data 2'!S27 -> 3 | M23: =IF(AND(L23=1,H23=1),1,0) -> 0 | O23: =IF(AND(N23=1,H23=1),1,0) -> 0
A24: =A23+1 -> 19 | B24: ='Data 2'!B28 -> 19 | C24: ='Data 2'!C28 -> 20 | D24: ='Data 2'!D28 -> CONT | E24: =IF(D24="CF",1,0) -> 0 | F24: 17 | G24: 0.11596241 | H24: =IF(G24>=$P$3,1,0) -> 0 | I24: =IF(AND(D24="CF",H24=1),1,0) -> 0 | J24: =IF(AND(D24="CONT",H24=0),1,0) -> 1 | K24: ='Data 2'!S28 -> 1 | M24: =IF(AND(L24=1,H24=1),1,0) -> 0 | O24: =IF(AND(N24=1,H24=1),1,0) -> 0
A25: =A24+1 -> 20 | B25: ='Data 2'!B29 -> 20 | C25: ='Data 2'!C29 -> 21 | D25: ='Data 2'!D29 -> CFNR | E25: =IF(D25="CF",1,0) -> 0 | F25: 31 | G25: 0.66666693 | H25: =IF(G25>=$P$3,1,0) -> 1 | I25: =IF(AND(D25="CF",H25=1),1,0) -> 0 | J25: =IF(AND(D25="CONT",H25=0),1,0) -> 0 | K25: ='Data 2'!S29 -> 1 | M25: =IF(AND(L25=1,H25=1),1,0) -> 0 | N25: 1 | O25: =IF(AND(N25=1,H25=1),1,0) -> 1
A26: =A25+1 -> 21 | B26: ='Data 2'!B30 -> 21 | C26: ='Data 2'!C30 -> 22 | D26: ='Data 2'!D30 -> CONT | E26: =IF(D26="CF",1,0) -> 0 | F26: 7 | G26: 0.22902378 | H26: =IF(G26>=$P$3,1,0) -> 1 | I26: =IF(AND(D26="CF",H26=1),1,0) -> 0 | J26: =IF(AND(D26="CONT",H26=0),1,0) -> 0 | K26: ='Data 2'!S30 -> 4 | M26: =IF(AND(L26=1,H26=1),1,0) -> 0 | O26: =IF(AND(N26=1,H26=1),1,0) -> 0
A27: =A26+1 -> 22 | B27: ='Data 2'!B31 -> 22 | C27: ='Data 2'!C31 -> 23 | D27: ='Data 2'!D31 -> CONT | E27: =IF(D27="CF",1,0) -> 0 | F27: 14 | G27: 0.18934718 | H27: =IF(G27>=$P$3,1,0) -> 1 | I27: =IF(AND(D27="CF",H27=1),1,0) -> 0 | J27: =IF(AND(D27="CONT",H27=0),1,0) -> 0 | K27: ='Data 2'!S31 -> 0 | M27: =IF(AND(L27=1,H27=1),1,0) -> 0 | O27: =IF(AND(N27=1,H27=1),1,0) -> 0
A28: =A27+1 -> 23 | B28: ='Data 2'!B32 -> 23 | C28: ='Data 2'!C32 -> 24 | D28: ='Data 2'!D32 -> CONT | E28: =IF(D28="CF",1,0) -> 0 | F28: 14 | G28: 0.18934718 | H28: =IF(G28>=$P$3,1,0) -> 1 | I28: =IF(AND(D28="CF",H28=1),1,0) -> 0 | J28: =IF(AND(D28="CONT",H28=0),1,0) -> 0 | K28: ='Data 2'!S32 -> 0 | M28: =IF(AND(L28=1,H28=1),1,0) -> 0 | O28: =IF(AND(N28=1,H28=1),1,0) -> 0
A29: =A28+1 -> 24 | B29: ='Data 2'!B33 -> 24 | C29: ='Data 2'!C33 -> 25 | D29: ='Data 2'!D33 -> CONT | E29: =IF(D29="CF",1,0) -> 0 | F29: 2 | G29: 0.19885407 | H29: =IF(G29>=$P$3,1,0) -> 1 | I29: =IF(AND(D29="CF",H29=1),1,0) -> 0 | J29: =IF(AND(D29="CONT",H29=0),1,0) -> 0 | K29: ='Data 2'!S33 -> 0 | M29: =IF(AND(L29=1,H29=1),1,0) -> 0 | O29: =IF(AND(N29=1,H29=1),1,0) -> 0
A30: =A29+1 -> 25 | B30: ='Data 2'!B34 -> 25 | C30: ='Data 2'!C34 -> 26 | D30: ='Data 2'!D34 -> CONT | E30: =IF(D30="CF",1,0) -> 0 | F30: 16 | G30: 0.48472136 | H30: =IF(G30>=$P$3,1,0) -> 1 | I30: =IF(AND(D30="CF",H30=1),1,0) -> 0 | J30: =IF(AND(D30="CONT",H30=0),1,0) -> 0 | K30: ='Data 2'!S34 -> 2 | M30: =IF(AND(L30=1,H30=1),1,0) -> 0 | O30: =IF(AND(N30=1,H30=1),1,0) -> 0
A31: =A30+1 -> 26 | B31: ='Data 2'!B35 -> 26 | C31: ='Data 2'!C35 -> 27 | D31: ='Data 2'!D35 -> CFNR | E31: =IF(D31="CF",1,0) -> 0 | F31: 14 | G31: 0.18934718 | H31: =IF(G31>=$P$3,1,0) -> 1 | I31: =IF(AND(D31="CF",H31=1),1,0) -> 0 | J31: =IF(AND(D31="CONT",H31=0),1,0) -> 0 | K31: ='Data 2'!S35 -> 1 | M31: =IF(AND(L31=1,H31=1),1,0) -> 0 | N31: 1 | O31: =IF(AND(N31=1,H31=1),1,0) -> 1
A32: =A31+1 -> 27 | B32: ='Data 2'!B36 -> 27 | C32: ='Data 2'!C36 -> 28 | D32: ='Data 2'!D36 -> CONT | E32: =IF(D32="CF",1,0) -> 0 | F32: 16 | G32: 0.25928812 | H32: =IF(G32>=$P$3,1,0) -> 1 | I32: =IF(AND(D32="CF",H32=1),1,0) -> 0 | J32: =IF(AND(D32="CONT",H32=0),1,0) -> 0 | K32: ='Data 2'!S36 -> 1 | M32: =IF(AND(L32=1,H32=1),1,0) -> 0 | O32: =IF(AND(N32=1,H32=1),1,0) -> 0
A33: =A32+1 -> 28 | B33: ='Data 2'!B37 -> 28 | C33: ='Data 2'!C37 -> 29 | D33: ='Data 2'!D37 -> CONT | E33: =IF(D33="CF",1,0) -> 0 | F33: 17 | G33: 0.11596241 | H33: =IF(G33>=$P$3,1,0) -> 0 | I33: =IF(AND(D33="CF",H33=1),1,0) -> 0 | J33: =IF(AND(D33="CONT",H33=0),1,0) -> 1 | K33: ='Data 2'!S37 -> 2 | M33: =IF(AND(L33=1,H33=1),1,0) -> 0 | O33: =IF(AND(N33=1,H33=1),1,0) -> 0
A34: =A33+1 -> 29 | B34: ='Data 2'!B38 -> 29 | C34: ='Data 2'!C38 -> 30 | D34: ='Data 2'!D38 -> CONT | E34: =IF(D34="CF",1,0) -> 0 | F34: 1 | G34: 0.15204678 | H34: =IF(G34>=$P$3,1,0) -> 0 | I34: =IF(AND(D34="CF",H34=1),1,0) -> 0 | J34: =IF(AND(D34="CONT",H34=0),1,0) -> 1 | K34: ='Data 2'!S38 -> 0 | M34: =IF(AND(L34=1,H34=1),1,0) -> 0 | O34: =IF(AND(N34=1,H34=1),1,0) -> 0
A35: =A34+1 -> 30 | B35: ='Data 2'!B39 -> 30 | C35: ='Data 2'!C39 -> 31 | D35: ='Data 2'!D39 -> CONT | E35: =IF(D35="CF",1,0) -> 0 | F35: 2 | G35: 0.19885407 | H35: =IF(G35>=$P$3,1,0) -> 1 | I35: =IF(AND(D35="CF",H35=1),1,0) -> 0 | J35: =IF(AND(D35="CONT",H35=0),1,0) -> 0 | K35: ='Data 2'!S39 -> 0 | M35: =IF(AND(L35=1,H35=1),1,0) -> 0 | O35: =IF(AND(N35=1,H35=1),1,0) -> 0
A36: =A35+1 -> 31 | B36: ='Data 2'!B40 -> 31 | C36: ='Data 2'!C40 -> 32 | D36: ='Data 2'!D40 -> CONT | E36: =IF(D36="CF",1,0) -> 0 | F36: 17 | G36: 0.11596241 | H36: =IF(G36>=$P$3,1,0) -> 0 | I36: =IF(AND(D36="CF",H36=1),1,0) -> 0 | J36: =IF(AND(D36="CONT",H36=0),1,0) -> 1 | K36: ='Data 2'!S40 -> 1 | M36: =IF(AND(L36=1,H36=1),1,0) -> 0 | O36: =IF(AND(N36=1,H36=1),1,0) -> 0
A37: =A36+1 -> 32 | B37: ='Data 2'!B41 -> 32 | C37: ='Data 2'!C41 -> 33 | D37: ='Data 2'!D41 -> CONT | E37: =IF(D37="CF",1,0) -> 0 | F37: 21 | G37: 0.38056497 | H37: =IF(G37>=$P$3,1,0) -> 1 | I37: =IF(AND(D37="CF",H37=1),1,0) -> 0 | J37: =IF(AND(D37="CONT",H37=0),1,0) -> 0 | K37: ='Data 2'!S41 -> 3 | M37: =IF(AND(L37=1,H37=1),1,0) -> 0 | O37: =IF(AND(N37=1,H37=1),1,0) -> 0
A38: =A37+1 -> 33 | B38: ='Data 2'!B42 -> 33 | C38: ='Data 2'!C42 -> 34 | D38: ='Data 2'!D42 -> CONT | E38: =IF(D38="CF",1,0) -> 0 | F38: 24 | G38: 0.77601321 | H38: =IF(G38>=$P$3,1,0) -> 1 | I38: =IF(AND(D38="CF",H38=1),1,0) -> 0 | J38: =IF(AND(D38="CONT",H38=0),1,0) -> 0 | K38: ='Data 2'!S42 -> 1 | M38: =IF(AND(L38=1,H38=1),1,0) -> 0 | O38: =IF(AND(N38=1,H38=1),1,0) -> 0
A39: =A38+1 -> 34 | B39: ='Data 2'!B43 -> 34 | C39: ='Data 2'!C43 -> 35 | D39: ='Data 2'!D43 -> CONT | E39: =IF(D39="CF",1,0) -> 0 | F39: 16 | G39: 0.25928812 | H39: =IF(G39>=$P$3,1,0) -> 1 | I39: =IF(AND(D39="CF",H39=1),1,0) -> 0 | J39: =IF(AND(D39="CONT",H39=0),1,0) -> 0 | K39: ='Data 2'!S43 -> 2 | M39: =IF(AND(L39=1,H39=1),1,0) -> 0 | O39: =IF(AND(N39=1,H39=1),1,0) -> 0
A40: =A39+1 -> 35 | B40: ='Data 2'!B44 -> 35 | C40: ='Data 2'!C44 -> 36 | D40: ='Data 2'!D44 -> CONT | E40: =IF(D40="CF",1,0) -> 0 | F40: 21 | G40: 0.38056497 | H40: =IF(G40>=$P$3,1,0) -> 1 | I40: =IF(AND(D40="CF",H40=1),1,0) -> 0 | J40: =IF(AND(D40="CONT",H40=0),1,0) -> 0 | K40: ='Data 2'!S44 -> 3 | M40: =IF(AND(L40=1,H40=1),1,0) -> 0 | O40: =IF(AND(N40=1,H40=1),1,0) -> 0
A41: =A40+1 -> 36 | B41: ='Data 2'!B45 -> 36 | C41: ='Data 2'!C45 -> 37 | D41: ='Data 2'!D45 -> CONT | E41: =IF(D41="CF",1,0) -> 0 | F41: 14 | G41: 0.18934718 | H41: =IF(G41>=$P$3,1,0) -> 1 | I41: =IF(AND(D41="CF",H41=1),1,0) -> 0 | J41: =IF(AND(D41="CONT",H41=0),1,0) -> 0 | K41: ='Data 2'!S45 -> 2 | M41: =IF(AND(L41=1,H41=1),1,0) -> 0 | O41: =IF(AND(N41=1,H41=1),1,0) -> 0
A42: =A41+1 -> 37 | B42: ='Data 2'!B46 -> 37 | C42: ='Data 2'!C46 -> 38 | D42: ='Data 2'!D46 -> CONT | E42: =IF(D42="CF",1,0) -> 0 | F42: 14 | G42: 0.18934718 | H42: =IF(G42>=$P$3,1,0) -> 1 | I42: =IF(AND(D42="CF",H42=1),1,0) -> 0 | J42: =IF(AND(D42="CONT",H42=0),1,0) -> 0 | K42: ='Data 2'!S46 -> 0 | M42: =IF(AND(L42=1,H42=1),1,0) -> 0 | O42: =IF(AND(N42=1,H42=1),1,0) -> 0
A43: =A42+1 -> 38 | B43: ='Data 2'!B47 -> 38 | C43: ='Data 2'!C47 -> 39 | D43: ='Data 2'!D47 -> CONT | E43: =IF(D43="CF",1,0) -> 0 | F43: 1 | G43: 0.15204678 | H43: =IF(G43>=$P$3,1,0) -> 0 | I43: =IF(AND(D43="CF",H43=1),1,0) -> 0 | J43: =IF(AND(D43="CONT",H43=0),1,0) -> 1 | K43: ='Data 2'!S47 -> 1 | M43: =IF(AND(L43=1,H43=1),1,0) -> 0 | O43: =IF(AND(N43=1,H43=1),1,0) -> 0
... A57: =A56+1 -> 52 | B57: ='Data 2'!B61 -> 52 | C57: ='Data 2'!C61 -> 54 | D57: ='Data 2'!D61 -> CONT | E57: =IF(D57="CF",1,0) -> 0 | F57: 17 | G57: 0.11596241 | H57: =IF(G57>=$P$3,1,0) -> 0 | I57: =IF(AND(D57="CF",H57=1),1,0) -> 0 | J57: =IF(AND(D57="CONT",H57=0),1,0) -> 1 | K57: ='Data 2'!S61 -> 1 | M57: =IF(AND(L57=1,H57=1),1,0) -> 0 | O57: =IF(AND(N57=1,H57=1),1,0) -> 0
A58: =A57+1 -> 53 | B58: ='Data 2'!B62 -> 53 | C58: ='Data 2'!C62 -> 55 | D58: ='Data 2'!D62 -> CFNR | E58: =IF(D58="CF",1,0) -> 0 | F58: 10 | G58: 0.26596305 | H58: =IF(G58>=$P$3,1,0) -> 1 | I58: =IF(AND(D58="CF",H58=1),1,0) -> 0 | J58: =IF(AND(D58="CONT",H58=0),1,0) -> 0 | K58: ='Data 2'!S62 -> 4 | M58: =IF(AND(L58=1,H58=1),1,0) -> 0 | N58: 1 | O58: =IF(AND(N58=1,H58=1),1,0) -> 1
A59: =A58+1 -> 54 | B59: ='Data 2'!B63 -> 54 | C59: ='Data 2'!C63 -> 56 | D59: ='Data 2'!D63 -> CONT | E59: =IF(D59="CF",1,0) -> 0 | F59: 20 | G59: 0.17627105 | H59: =IF(G59>=$P$3,1,0) -> 1 | I59: =IF(AND(D59="CF",H59=1),1,0) -> 0 | J59: =IF(AND(D59="CONT",H59=0),1,0) -> 0 | K59: ='Data 2'!S63 -> 2 | M59: =IF(AND(L59=1,H59=1),1,0) -> 0 | O59: =IF(AND(N59=1,H59=1),1,0) -> 0
A60: =A59+1 -> 55 | B60: ='Data 2'!B64 -> 55 | C60: ='Data 2'!C64 -> 57 | D60: ='Data 2'!D64 -> CFNR | E60: =IF(D60="CF",1,0) -> 0 | F60: 34 | G60: 0.84931285 | H60: =IF(G60>=$P$3,1,0) -> 1 | I60: =IF(AND(D60="CF",H60=1),1,0) -> 0 | J60: =IF(AND(D60="CONT",H60=0),1,0) -> 0 | K60: ='Data 2'!S64 -> 3 | M60: =IF(AND(L60=1,H60=1),1,0) -> 0 | N60: 1 | O60: =IF(AND(N60=1,H60=1),1,0) -> 1
A61: =A60+1 -> 56 | B61: ='Data 2'!B65 -> 56 | C61: ='Data 2'!C65 -> 58 | D61: ='Data 2'!D65 -> CONT | E61: =IF(D61="CF",1,0) -> 0 | F61: 3 | G61: 0.19885407 | H61: =IF(G61>=$P$3,1,0) -> 1 | I61: =IF(AND(D61="CF",H61=1),1,0) -> 0 | J61: =IF(AND(D61="CONT",H61=0),1,0) -> 0 | K61: ='Data 2'!S65 -> 0 | M61: =IF(AND(L61=1,H61=1),1,0) -> 0 | O61: =IF(AND(N61=1,H61=1),1,0) -> 0
A62: =A61+1 -> 57 | B62: ='Data 2'!B66 -> 57 | C62: ='Data 2'!C66 -> 59 | D62: ='Data 2'!D66 -> CFNR | E62: =IF(D62="CF",1,0) -> 0 | F62: 34 | G62: 0.48714322 | H62: =IF(G62>=$P$3,1,0) -> 1 | I62: =IF(AND(D62="CF",H62=1),1,0) -> 0 | J62: =IF(AND(D62="CONT",H62=0),1,0) -> 0 | K62: ='Data 2'!S66 -> 1 | M62: =IF(AND(L62=1,H62=1),1,0) -> 0 | N62: 1 | O62: =IF(AND(N62=1,H62=1),1,0) -> 1
A63: =A62+1 -> 58 | B63: ='Data 2'!B67 -> 58 | C63: ='Data 2'!C67 -> 60 | D63: ='Data 2'!D67 -> CONT | E63: =IF(D63="CF",1,0) -> 0 | F63: 20 | G63: 0.38056497 | H63: =IF(G63>=$P$3,1,0) -> 1 | I63: =IF(AND(D63="CF",H63=1),1,0) -> 0 | J63: =IF(AND(D63="CONT",H63=0),1,0) -> 0 | K63: ='Data 2'!S67 -> 4 | M63: =IF(AND(L63=1,H63=1),1,0) -> 0 | O63: =IF(AND(N63=1,H63=1),1,0) -> 0
A64: =A63+1 -> 59 | B64: ='Data 2'!B68 -> 59 | C64: ='Data 2'!C68 -> 61 | D64: ='Data 2'!D68 -> CF | E64: =IF(D64="CF",1,0) -> 1 | F64: 24 | G64: 0.66666693 | H64: =IF(G64>=$P$3,1,0) -> 1 | I64: =IF(AND(D64="CF",H64=1),1,0) -> 1 | J64: =IF(AND(D64="CONT",H64=0),1,0) -> 0 | K64: ='Data 2'!S68 -> 1 | M64: =IF(AND(L64=1,H64=1),1,0) -> 0 | O64: =IF(AND(N64=1,H64=1),1,0) -> 0
A65: =A64+1 -> 60 | B65: ='Data 2'!B69 -> 60 | C65: ='Data 2'!C69 -> 62 | D65: ='Data 2'!D69 -> CONT | E65: =IF(D65="CF",1,0) -> 0 | F65: 16 | G65: 0.25928812 | H65: =IF(G65>=$P$3,1,0) -> 1 | I65: =IF(AND(D65="CF",H65=1),1,0) -> 0 | J65: =IF(AND(D65="CONT",H65=0),1,0) -> 0 | K65: ='Data 2'!S69 -> 1 | M65: =IF(AND(L65=1,H65=1),1,0) -> 0 | O65: =IF(AND(N65=1,H65=1),1,0) -> 0
A66: =A65+1 -> 61 | B66: ='Data 2'!B70 -> 61 | C66: ='Data 2'!C70 -> 63 | D66: ='Data 2'!D70 -> CFNR | E66: =IF(D66="CF",1,0) -> 0 | F66: 20 | G66: 0.40710177 | H66: =IF(G66>=$P$3,1,0) -> 1 | I66: =IF(AND(D66="CF",H66=1),1,0) -> 0 | J66: =IF(AND(D66="CONT",H66=0),1,0) -> 0 | K66: ='Data 2'!S70 -> 1 | M66: =IF(AND(L66=1,H66=1),1,0) -> 0 | N66: 1 | O66: =IF(AND(N66=1,H66=1),1,0) -> 1
A67: =A66+1 -> 62 | B67: ='Data 2'!B71 -> 62 | C67: ='Data 2'!C71 -> 64 | D67: ='Data 2'!D71 -> CONT | E67: =IF(D67="CF",1,0) -> 0 | F67: 19 | G67: 0.17627105 | H67: =IF(G67>=$P$3,1,0) -> 1 | I67: =IF(AND(D67="CF",H67=1),1,0) -> 0 | J67: =IF(AND(D67="CONT",H67=0),1,0) -> 0 | K67: ='Data 2'!S71 -> 2 | M67: =IF(AND(L67=1,H67=1),1,0) -> 0 | O67: =IF(AND(N67=1,H67=1),1,0) -> 0
A68: =A67+1 -> 63 | B68: ='Data 2'!B72 -> 63 | C68: ='Data 2'!C72 -> 65 | D68: ='Data 2'!D72 -> CFNR | E68: =IF(D68="CF",1,0) -> 0 | F68: 21 | G68: 0.38056497 | H68: =IF(G68>=$P$3,1,0) -> 1 | I68: =IF(AND(D68="CF",H68=1),1,0) -> 0 | J68: =IF(AND(D68="CONT",H68=0),1,0) -> 0 | K68: ='Data 2'!S72 -> 3 | L68: 1 | M68: =IF(AND(L68=1,H68=1),1,0) -> 1 | O68: =IF(AND(N68=1,H68=1),1,0) -> 0
A69: =A68+1 -> 64 | B69: ='Data 2'!B73 -> 64 | C69: ='Data 2'!C73 -> 66 | D69: ='Data 2'!D73 -> CONT | E69: =IF(D69="CF",1,0) -> 0 | F69: 2 | G69: 0.33359641 | H69: =IF(G69>=$P$3,1,0) -> 1 | I69: =IF(AND(D69="CF",H69=1),1,0) -> 0 | J69: =IF(AND(D69="CONT",H69=0),1,0) -> 0 | K69: ='Data 2'!S73 -> 1 | M69: =IF(AND(L69=1,H69=1),1,0) -> 0 | O69: =IF(AND(N69=1,H69=1),1,0) -> 0
A70: =A69+1 -> 65 | B70: ='Data 2'!B74 -> 65 | C70: ='Data 2'!C74 -> 67 | D70: ='Data 2'!D74 -> CFNR | E70: =IF(D70="CF",1,0) -> 0 | F70: 5 | G70: 0.359254 | H70: =IF(G70>=$P$3,1,0) -> 1 | I70: =IF(AND(D70="CF",H70=1),1,0) -> 0 | J70: =IF(AND(D70="CONT",H70=0),1,0) -> 0 | K70: ='Data 2'!S74 -> 2 | L70: 1 | M70: =IF(AND(L70=1,H70=1),1,0) -> 1 | O70: =IF(AND(N70=1,H70=1),1,0) -> 0
A71: =A70+1 -> 66 | B71: ='Data 2'!B75 -> 66 | C71: ='Data 2'!C75 -> 68 | D71: ='Data 2'!D75 -> CONT | E71: =IF(D71="CF",1,0) -> 0 | F71: 19 | G71: 0.17627105 | H71: =IF(G71>=$P$3,1,0) -> 1 | I71: =IF(AND(D71="CF",H71=1),1,0) -> 0 | J71: =IF(AND(D71="CONT",H71=0),1,0) -> 0 | K71: ='Data 2'!S75 -> 3 | M71: =IF(AND(L71=1,H71=1),1,0) -> 0 | O71: =IF(AND(N71=1,H71=1),1,0) -> 0
A72: =A71+1 -> 67 | B72: ='Data 2'!B76 -> 67 | C72: ='Data 2'!C76 -> 69 | D72: ='Data 2'!D76 -> CFNR | E72: =IF(D72="CF",1,0) -> 0 | F72: 26 | G72: 0.29282658 | H72: =IF(G72>=$P$3,1,0) -> 1 | I72: =IF(AND(D72="CF",H72=1),1,0) -> 0 | J72: =IF(AND(D72="CONT",H72=0),1,0) -> 0 | K72: ='Data 2'!S76 -> 2 | M72: =IF(AND(L72=1,H72=1),1,0) -> 0 | N72: 1 | O72: =IF(AND(N72=1,H72=1),1,0) -> 1
A73: =A72+1 -> 68 | B73: ='Data 2'!B77 -> 68 | C73: ='Data 2'!C77 -> 70 | D73: ='Data 2'!D77 -> CFNR | E73: =IF(D73="CF",1,0) -> 0 | F73: 1 | G73: 0.15204678 | H73: =IF(G73>=$P$3,1,0) -> 0 | I73: =IF(AND(D73="CF",H73=1),1,0) -> 0 | J73: =IF(AND(D73="CONT",H73=0),1,0) -> 0 | K73: ='Data 2'!S77 -> 1 | M73: =IF(AND(L73=1,H73=1),1,0) -> 0 | N73: 1 | O73: =IF(AND(N73=1,H73=1),1,0) -> 0
A74: =A73+1 -> 69 | B74: ='Data 2'!B78 -> 69 | C74: ='Data 2'!C78 -> 71 | D74: ='Data 2'!D78 -> CFNR | E74: =IF(D74="CF",1,0) -> 0 | F74: 2 | G74: 0.33359641 | H74: =IF(G74>=$P$3,1,0) -> 1 | I74: =IF(AND(D74="CF",H74=1),1,0) -> 0 | J74: =IF(AND(D74="CONT",H74=0),1,0) -> 0 | K74: ='Data 2'!S78 -> 1 | L74: 1 | M74: =IF(AND(L74=1,H74=1),1,0) -> 1 | O74: =IF(AND(N74=1,H74=1),1,0) -> 0
A75: =A74+1 -> 70 | B75: ='Data 2'!B79 -> 70 | C75: ='Data 2'!C79 -> 72 | D75: ='Data 2'!D79 -> CFNR | E75: =IF(D75="CF",1,0) -> 0 | F75: 4 | G75: 0.34065181 | H75: =IF(G75>=$P$3,1,0) -> 1 | I75: =IF(AND(D75="CF",H75=1),1,0) -> 0 | J75: =IF(AND(D75="CONT",H75=0),1,0) -> 0 | K75: ='Data 2'!S79 -> 2 | M75: =IF(AND(L75=1,H75=1),1,0) -> 0 | N75: 1 | O75: =IF(AND(N75=1,H75=1),1,0) -> 1
A76: =A75+1 -> 71 | B76: ='Data 2'!B80 -> 71 | C76: ='Data 2'!C80 -> 73 | D76: ='Data 2'!D80 -> CFNR | E76: =IF(D76="CF",1,0) -> 0 | F76: 20 | G76: 0.17627105 | H76: =IF(G76>=$P$3,1,0) -> 1 | I76: =IF(AND(D76="CF",H76=1),1,0) -> 0 | J76: =IF(AND(D76="CONT",H76=0),1,0) -> 0 | K76: ='Data 2'!S80 -> 2 | M76: =IF(AND(L76=1,H76=1),1,0) -> 0 | N76: 1 | O76: =IF(AND(N76=1,H76=1),1,0) -> 1
A77: =A76+1 -> 72 | B77: ='Data 2'!B81 -> 72 | C77: ='Data 2'!C81 -> 74 | D77: ='Data 2'!D81 -> CFNR | E77: =IF(D77="CF",1,0) -> 0 | F77: 2 | G77: 0.33359641 | H77: =IF(G77>=$P$3,1,0) -> 1 | I77: =IF(AND(D77="CF",H77=1),1,0) -> 0 | J77: =IF(AND(D77="CONT",H77=0),1,0) -> 0 | K77: ='Data 2'!S81 -> 1 | L77: 1 | M77: =IF(AND(L77=1,H77=1),1,0) -> 1 | O77: =IF(AND(N77=1,H77=1),1,0) -> 0
A78: =A77+1 -> 73 | B78: ='Data 2'!B82 -> 73 | C78: ='Data 2'!C82 -> 75 | D78: ='Data 2'!D82 -> CFNR | E78: =IF(D78="CF",1,0) -> 0 | F78: 19 | G78: 0.17627105 | H78: =IF(G78>=$P$3,1,0) -> 1 | I78: =IF(AND(D78="CF",H78=1),1,0) -> 0 | J78: =IF(AND(D78="CONT",H78=0),1,0) -> 0 | K78: ='Data 2'!S82 -> 2 | M78: =IF(AND(L78=1,H78=1),1,0) -> 0 | N78: 1 | O78: =IF(AND(N78=1,H78=1),1,0) -> 1
A79: =A78+1 -> 74 | B79: ='Data 2'!B83 -> 74 | C79: ='Data 2'!C83 -> 76 | D79: ='Data 2'!D83 -> CFNR | E79: =IF(D79="CF",1,0) -> 0 | F79: 24 | G79: 0.77601321 | H79: =IF(G79>=$P$3,1,0) -> 1 | I79: =IF(AND(D79="CF",H79=1),1,0) -> 0 | J79: =IF(AND(D79="CONT",H79=0),1,0) -> 0 | K79: ='Data 2'!S83 -> 1 | M79: =IF(AND(L79=1,H79=1),1,0) -> 0 | N79: 1 | O79: =IF(AND(N79=1,H79=1),1,0) -> 1
A80: =A79+1 -> 75 | B80: ='Data 2'!B84 -> 75 | C80: ='Data 2'!C84 -> 77 | D80: ='Data 2'!D84 -> CFNR | E80: =IF(D80="CF",1,0) -> 0 | F80: 2 | G80: 0.19885407 | H80: =IF(G80>=$P$3,1,0) -> 1 | I80: =IF(AND(D80="CF",H80=1),1,0) -> 0 | J80: =IF(AND(D80="CONT",H80=0),1,0) -> 0 | K80: ='Data 2'!S84 -> 0 | M80: =IF(AND(L80=1,H80=1),1,0) -> 0 | N80: 1 | O80: =IF(AND(N80=1,H80=1),1,0) -> 1
A81: =A80+1 -> 76 | B81: ='Data 2'!B85 -> 76 | C81: ='Data 2'!C85 -> 78 | D81: ='Data 2'!D85 -> CFNR | E81: =IF(D81="CF",1,0) -> 0 | F81: 5 | G81: 0.47971132 | H81: =IF(G81>=$P$3,1,0) -> 1 | I81: =IF(AND(D81="CF",H81=1),1,0) -> 0 | J81: =IF(AND(D81="CONT",H81=0),1,0) -> 0 | K81: ='Data 2'!S85 -> 3 | L81: 1 | M81: =IF(AND(L81=1,H81=1),1,0) -> 1 | O81: =IF(AND(N81=1,H81=1),1,0) -> 0
A82: =A81+1 -> 77 | B82: ='Data 2'!B86 -> 77 | C82: ='Data 2'!C86 -> 79 | D82: ='Data 2'!D86 -> CFNR | E82: =IF(D82="CF",1,0) -> 0 | F82: 7 | G82: 0.22902378 | H82: =IF(G82>=$P$3,1,0) -> 1 | I82: =IF(AND(D82="CF",H82=1),1,0) -> 0 | J82: =IF(AND(D82="CONT",H82=0),1,0) -> 0 | K82: ='Data 2'!S86 -> 3 | L82: 1 | M82: =IF(AND(L82=1,H82=1),1,0) -> 1 | O82: =IF(AND(N82=1,H82=1),1,0) -> 0
A83: =A82+1 -> 78 | B83: ='Data 2'!B87 -> 78 | C83: ='Data 2'!C87 -> 80 | D83: ='Data 2'!D87 -> CFNR | E83: =IF(D83="CF",1,0) -> 0 | F83: 34 | G83: 0.48714322 | H83: =IF(G83>=$P$3,1,0) -> 1 | I83: =IF(AND(D83="CF",H83=1),1,0) -> 0 | J83: =IF(AND(D83="CONT",H83=0),1,0) -> 0 | K83: ='Data 2'!S87 -> 1 | L83: 1 | M83: =IF(AND(L83=1,H83=1),1,0) -> 1 | O83: =IF(AND(N83=1,H83=1),1,0) -> 0
A84: =A83+1 -> 79 | B84: ='Data 2'!B88 -> 79 | C84: ='Data 2'!C88 -> 81 | D84: ='Data 2'!D88 -> CFNR | E84: =IF(D84="CF",1,0) -> 0 | F84: 17 | G84: 0.11596241 | H84: =IF(G84>=$P$3,1,0) -> 0 | I84: =IF(AND(D84="CF",H84=1),1,0) -> 0 | J84: =IF(AND(D84="CONT",H84=0),1,0) -> 0 | K84: ='Data 2'!S88 -> 1 | M84: =IF(AND(L84=1,H84=1),1,0) -> 0 | N84: 1 | O84: =IF(AND(N84=1,H84=1),1,0) -> 0
A85: =A84+1 -> 80 | B85: ='Data 2'!B89 -> 80 | C85: ='Data 2'!C89 -> 82 | D85: ='Data 2'!D89 -> CFNR | E85: =IF(D85="CF",1,0) -> 0 | F85: 32 | G85: 0.90595615 | H85: =IF(G85>=$P$3,1,0) -> 1 | I85: =IF(AND(D85="CF",H85=1),1,0) -> 0 | J85: =IF(AND(D85="CONT",H85=0),1,0) -> 0 | K85: ='Data 2'!S89 -> 5 | M85: =IF(AND(L85=1,H85=1),1,0) -> 0 | N85: 1 | O85: =IF(AND(N85=1,H85=1),1,0) -> 1
A86: =A85+1 -> 81 | B86: ='Data 2'!B90 -> 81 | C86: ='Data 2'!C90 -> 83 | D86: ='Data 2'!D90 -> CFNR | E86: =IF(D86="CF",1,0) -> 0 | F86: 17 | G86: 0.11596241 | H86: =IF(G86>=$P$3,1,0) -> 0 | I86: =IF(AND(D86="CF",H86=1),1,0) -> 0 | J86: =IF(AND(D86="CONT",H86=0),1,0) -> 0 | K86: ='Data 2'!S90 -> 1 | M86: =IF(AND(L86=1,H86=1),1,0) -> 0 | O86: =IF(AND(N86=1,H86=1),1,0) -> 0
A87: =A86+1 -> 82 | B87: ='Data 2'!B91 -> 82 | C87: ='Data 2'!C91 -> 84 | D87: ='Data 2'!D91 -> CFNR | E87: =IF(D87="CF",1,0) -> 0 | F87: 7 | G87: 0.53525939 | H87: =IF(G87>=$P$3,1,0) -> 1 | I87: =IF(AND(D87="CF",H87=1),1,0) -> 0 | J87: =IF(AND(D87="CONT",H87=0),1,0) -> 0 | K87: ='Data 2'!S91 -> 5 | M87: =IF(AND(L87=1,H87=1),1,0) -> 0 | N87: 1 | O87: =IF(AND(N87=1,H87=1),1,0) -> 1
A88: ='Data 2'!A92 -> 83 | B88: ='Data 2'!B92 -> 83 | C88: ='Data 2'!C92 -> 85 | D88: ='Data 2'!D92 -> CF | E88: =IF(D88="CF",1,0) -> 1 | F88: 23 | G88: 0.82451421 | H88: =IF(G88>=$P$3,1,0) -> 1 | I88: =IF(AND(D88="CF",H88=1),1,0) -> 1 | J88: =IF(AND(D88="CONT",H88=0),1,0) -> 0 | K88: ='Data 2'!S92 -> 5 | M88: =IF(AND(L88=1,H88=1),1,0) -> 0 | O88: =IF(AND(N88=1,H88=1),1,0) -> 0
A89: ='Data 2'!A93 -> 84 | B89: ='Data 2'!B93 -> 84 | C89: ='Data 2'!C93 -> 86 | D89: ='Data 2'!D93 -> CF | E89: =IF(D89="CF",1,0) -> 1 | F89: 20 | G89: 0.17627105 | H89: =IF(G89>=$P$3,1,0) -> 1 | I89: =IF(AND(D89="CF",H89=1),1,0) -> 1 | J89: =IF(AND(D89="CONT",H89=0),1,0) -> 0 | K89: ='Data 2'!S93 -> 4 | M89: =IF(AND(L89=1,H89=1),1,0) -> 0 | O89: =IF(AND(N89=1,H89=1),1,0) -> 0
A90: ='Data 2'!A94 -> 85 | B90: ='Data 2'!B94 -> 85 | C90: ='Data 2'!C94 -> 87 | D90: ='Data 2'!D94 -> CF | E90: =IF(D90="CF",1,0) -> 1 | F90: 23 | G90: 0.82451421 | H90: =IF(G90>=$P$3,1,0) -> 1 | I90: =IF(AND(D90="CF",H90=1),1,0) -> 1 | J90: =IF(AND(D90="CONT",H90=0),1,0) -> 0 | K90: ='Data 2'!S94 -> 5 | M90: =IF(AND(L90=1,H90=1),1,0) -> 0 | O90: =IF(AND(N90=1,H90=1),1,0) -> 0
D91: =COUNTIF(D$6:D$90,"CF") -> 4 | H91: =COUNTIFS(D6:D90,"CFNR",H6:H90,"1") -> 23 | I91: =SUM(I6:I90) -> 4 | J91: =SUM(J6:J90) -> 11 | K91: =SUMIF($D$6:$D$90,"CF",K6:$K$87)/CF_D -> 3.75 | L91: =SUM(L6:L90) -> 11 | M91: =SUM(M6:M90) -> 9 | N91: =SUM(N6:N90) -> 16 | O91: =SUM(O6:O90) -> 14
D92: =COUNTIF(D$6:D$90,"CFNR") -> 27 | H92: =H91/CFNR_D -> 0.85185185 | I92: =I91/(CF_D) -> 1 | J92: =J91/CFNT_D -> 0.2037037 | K92: =SUMIF($D$6:$D$90,"CFNR",K6:$K$90)/CFNR_D -> 2 | M92: =M91/L91 -> 0.81818182 | O92: =O91/N91 -> 0.875
D93: =COUNTIF(D$6:D$90,"CONT") -> 54 | K93: =SUMIF($D$6:$D$90,"CONT",$K$6:$K$90)/CFNT_D -> 1.6666667
D94: =CF_D+CFNR_D+CFNT_D -> 85
D95: =SUMIF(D6:D87,"CFNR",G6:G90)/CFNT_D -> 0.18525667
G97: Average Score
E98: D2 B1 | G98: =AVERAGEIFS(G6:G90, D6:D90,"CFNR",M6:M90,"1") -> 0.35958754
G101: Average Score
E102: D2 B0 | G102: =AVERAGEIFS(G6:G90,D6:D90,"CFNR",M6:M90,"0") -> 0.37597624

Sheet LR Results_2B_Composite (2)
E1: LR results with patients not tested for CF-related genetic mutations excluded
C2: Subject | D2: Actual Category | E2: Actual CF State | F2: LR Case # | G2: CF Type A Score | H2: Recommend CF Testing (yes=1, no=0) | I2: Type A True Positives | J2: Type C True Negatives | K2: ='LR Results_2B_Composite'!K5 -> LR Symptom Count | L2: Patient is B1 | M2: Patient is B1 and is Recommended for CF Testing (yes=1, no=0) | N2: Patient is B0 | O2: Patient is B0 and is Recommended for CF Testing (yes=1, no=0) | P2: Threshold
P3: 0.176
P4: 0.176
B6: Composite
B7: ='Data 2'!B14 -> 5 | C7: ='Data 2'!C14 -> 5 | D7: ='Data 2'!D14 -> CONT | E7: =IF(D7="CF",1,0) -> 0 | F7: 21 | G7: 0.38056497 | H7: =IF(G7>=$P$3,1,0) -> 1 | I7: =IF(AND(D7="CF",H7=1),1,0) -> 0 | J7: =IF(AND(D7="CONT",H7=0),1,0) -> 0 | K7: ='Data 2'!S14 -> 3 | M7: =IF(AND(L7=1,H7=1),1,0) -> 0 | O7: =IF(AND(N7=1,H7=1),1,0) -> 0
B8: ='Data 2'!B15 -> 6 | C8: ='Data 2'!C15 -> 6 | D8: ='Data 2'!D15 -> CFNR | E8: =IF(D8="CF",1,0) -> 0 | F8: 33 | G8: 0.40437397 | H8: =IF(G8>=$P$3,1,0) -> 1 | I8: =IF(AND(D8="CF",H8=1),1,0) -> 0 | J8: =IF(AND(D8="CONT",H8=0),1,0) -> 0 | K8: ='Data 2'!S15 -> 3 | L8: 1 | M8: =IF(AND(L8=1,H8=1),1,0) -> 1 | O8: =IF(AND(N8=1,H8=1),1,0) -> 0
B9: ='Data 2'!B16 -> 7 | C9: ='Data 2'!C16 -> 7 | D9: ='Data 2'!D16 -> CFNR | E9: =IF(D9="CF",1,0) -> 0 | F9: 17 | G9: 0.11596241 | H9: =IF(G9>=$P$3,1,0) -> 0 | I9: =IF(AND(D9="CF",H9=1),1,0) -> 0 | J9: =IF(AND(D9="CONT",H9=0),1,0) -> 0 | K9: ='Data 2'!S16 -> 1 | L9: 1 | M9: =IF(AND(L9=1,H9=1),1,0) -> 0 | O9: =IF(AND(N9=1,H9=1),1,0) -> 0
B10: ='Data 2'!B19 -> 10 | C10: ='Data 2'!C19 -> 10 | D10: ='Data 2'!D19 -> CONT | E10: =IF(D10="CF",1,0) -> 0 | F10: 6 | G10: 0.39586665 | H10: =IF(G10>=$P$3,1,0) -> 1 | I10: =IF(AND(D10="CF",H10=1),1,0) -> 0 | J10: =IF(AND(D10="CONT",H10=0),1,0) -> 0 | K10: ='Data 2'!S19 -> 4 | M10: =IF(AND(L10=1,H10=1),1,0) -> 0 | O10: =IF(AND(N10=1,H10=1),1,0) -> 0
B11: ='Data 2'!B24 -> 15 | C11: ='Data 2'!C24 -> 16 | D11: ='Data 2'!D24 -> CFNR | E11: =IF(D11="CF",1,0) -> 0 | F11: 7 | G11: 0.22902378 | H11: =IF(G11>=$P$3,1,0) -> 1 | I11: =IF(AND(D11="CF",H11=1),1,0) -> 0 | J11: =IF(AND(D11="CONT",H11=0),1,0) -> 0 | K11: ='Data 2'!S24 -> 3 | L11: 1 | M11: =IF(AND(L11=1,H11=1),1,0) -> 1 | O11: =IF(AND(N11=1,H11=1),1,0) -> 0
B12: ='Data 2'!B25 -> 16 | C12: ='Data 2'!C25 -> 17 | D12: ='Data 2'!D25 -> CONT | E12: =IF(D12="CF",1,0) -> 0 | F12: 16 | G12: 0.25928812 | H12: =IF(G12>=$P$3,1,0) -> 1 | I12: =IF(AND(D12="CF",H12=1),1,0) -> 0 | J12: =IF(AND(D12="CONT",H12=0),1,0) -> 0 | K12: ='Data 2'!S25 -> 2 | M12: =IF(AND(L12=1,H12=1),1,0) -> 0 | O12: =IF(AND(N12=1,H12=1),1,0) -> 0
B13: ='Data 2'!B29 -> 20 | C13: ='Data 2'!C29 -> 21 | D13: ='Data 2'!D29 -> CFNR | E13: =IF(D13="CF",1,0) -> 0 | F13: 31 | G13: 0.66666693 | H13: =IF(G13>=$P$3,1,0) -> 1 | I13: =IF(AND(D13="CF",H13=1),1,0) -> 0 | J13: =IF(AND(D13="CONT",H13=0),1,0) -> 0 | K13: ='Data 2'!S29 -> 1 | M13: =IF(AND(L13=1,H13=1),1,0) -> 0 | N13: 1 | O13: =IF(AND(N13=1,H13=1),1,0) -> 1
B14: ='Data 2'!B30 -> 21 | C14: ='Data 2'!C30 -> 22 | D14: ='Data 2'!D30 -> CONT | E14: =IF(D14="CF",1,0) -> 0 | F14: 7 | G14: 0.22902378 | H14: =IF(G14>=$P$3,1,0) -> 1 | I14: =IF(AND(D14="CF",H14=1),1,0) -> 0 | J14: =IF(AND(D14="CONT",H14=0),1,0) -> 0 | K14: ='Data 2'!S30 -> 4 | M14: =IF(AND(L14=1,H14=1),1,0) -> 0 | O14: =IF(AND(N14=1,H14=1),1,0) -> 0
B15: ='Data 2'!B32 -> 23 | C15: ='Data 2'!C32 -> 24 | D15: ='Data 2'!D32 -> CONT | E15: =IF(D15="CF",1,0) -> 0 | F15: 14 | G15: 0.18934718 | H15: =IF(G15>=$P$3,1,0) -> 1 | I15: =IF(AND(D15="CF",H15=1),1,0) -> 0 | J15: =IF(AND(D15="CONT",H15=0),1,0) -> 0 | K15: ='Data 2'!S32 -> 0 | M15: =IF(AND(L15=1,H15=1),1,0) -> 0 | O15: =IF(AND(N15=1,H15=1),1,0) -> 0
B16: ='Data 2'!B33 -> 24 | C16: ='Data 2'!C33 -> 25 | D16: ='Data 2'!D33 -> CONT | E16: =IF(D16="CF",1,0) -> 0 | F16: 2 | G16: 0.19885407 | H16: =IF(G16>=$P$3,1,0) -> 1 | I16: =IF(AND(D16="CF",H16=1),1,0) -> 0 | J16: =IF(AND(D16="CONT",H16=0),1,0) -> 0 | K16: ='Data 2'!S33 -> 0 | M16: =IF(AND(L16=1,H16=1),1,0) -> 0 | O16: =IF(AND(N16=1,H16=1),1,0) -> 0
B17: ='Data 2'!B35 -> 26 | C17: ='Data 2'!C35 -> 27 | D17: ='Data 2'!D35 -> CFNR | E17: =IF(D17="CF",1,0) -> 0 | F17: 14 | G17: 0.18934718 | H17: =IF(G17>=$P$3,1,0) -> 1 | I17: =IF(AND(D17="CF",H17=1),1,0) -> 0 | J17: =IF(AND(D17="CONT",H17=0),1,0) -> 0 | K17: ='Data 2'!S35 -> 1 | M17: =IF(AND(L17=1,H17=1),1,0) -> 0 | N17: 1 | O17: =IF(AND(N17=1,H17=1),1,0) -> 1
B18: ='Data 2'!B40 -> 31 | C18: ='Data 2'!C40 -> 32 | D18: ='Data 2'!D40 -> CONT | E18: =IF(D18="CF",1,0) -> 0 | F18: 17 | G18: 0.11596241 | H18: =IF(G18>=$P$3,1,0) -> 0 | I18: =IF(AND(D18="CF",H18=1),1,0) -> 0 | J18: =IF(AND(D18="CONT",H18=0),1,0) -> 1 | K18: ='Data 2'!S40 -> 1 | M18: =IF(AND(L18=1,H18=1),1,0) -> 0 | O18: =IF(AND(N18=1,H18=1),1,0) -> 0
B19: ='Data 2'!B41 -> 32 | C19: ='Data 2'!C41 -> 33 | D19: ='Data 2'!D41 -> CONT | E19: =IF(D19="CF",1,0) -> 0 | F19: 21 | G19: 0.38056497 | H19: =IF(G19>=$P$3,1,0) -> 1 | I19: =IF(AND(D19="CF",H19=1),1,0) -> 0 | J19: =IF(AND(D19="CONT",H19=0),1,0) -> 0 | K19: ='Data 2'!S41 -> 3 | M19: =IF(AND(L19=1,H19=1),1,0) -> 0 | O19: =IF(AND(N19=1,H19=1),1,0) -> 0
B20: ='Data 2'!B43 -> 34 | C20: ='Data 2'!C43 -> 35 | D20: ='Data 2'!D43 -> CONT | E20: =IF(D20="CF",1,0) -> 0 | F20: 16 | G20: 0.25928812 | H20: =IF(G20>=$P$3,1,0) -> 1 | I20: =IF(AND(D20="CF",H20=1),1,0) -> 0 | J20: =IF(AND(D20="CONT",H20=0),1,0) -> 0 | K20: ='Data 2'!S43 -> 2 | M20: =IF(AND(L20=1,H20=1),1,0) -> 0 | O20: =IF(AND(N20=1,H20=1),1,0) -> 0
B21: ='Data 2'!B48 -> 39 | C21: ='Data 2'!C48 -> 40 | D21: ='Data 2'!D48 -> CONT | E21: =IF(D21="CF",1,0) -> 0 | F21: 21 | G21: 0.38056497 | H21: =IF(G21>=$P$3,1,0) -> 1 | I21: =IF(AND(D21="CF",H21=1),1,0) -> 0 | J21: =IF(AND(D21="CONT",H21=0),1,0) -> 0 | K21: ='Data 2'!S48 -> 3 | M21: =IF(AND(L21=1,H21=1),1,0) -> 0 | O21: =IF(AND(N21=1,H21=1),1,0) -> 0
B22: ='Data 2'!B49 -> 40 | C22: ='Data 2'!C49 -> 41 | D22: ='Data 2'!D49 -> CONT | E22: =IF(D22="CF",1,0) -> 0 | F22: 14 | G22: 0.18934718 | H22: =IF(G22>=$P$3,1,0) -> 1 | I22: =IF(AND(D22="CF",H22=1),1,0) -> 0 | J22: =IF(AND(D22="CONT",H22=0),1,0) -> 0 | K22: ='Data 2'!S49 -> 0 | M22: =IF(AND(L22=1,H22=1),1,0) -> 0 | O22: =IF(AND(N22=1,H22=1),1,0) -> 0
B23: ='Data 2'!B52 -> 43 | C23: ='Data 2'!C52 -> 44 | D23: ='Data 2'!D52 -> CONT | E23: =IF(D23="CF",1,0) -> 0 | F23: 2 | G23: 0.33359641 | H23: =IF(G23>=$P$3,1,0) -> 1 | I23: =IF(AND(D23="CF",H23=1),1,0) -> 0 | J23: =IF(AND(D23="CONT",H23=0),1,0) -> 0 | K23: ='Data 2'!S52 -> 1 | M23: =IF(AND(L23=1,H23=1),1,0) -> 0 | O23: =IF(AND(N23=1,H23=1),1,0) -> 0
B24: ='Data 2'!B53 -> 44 | C24: ='Data 2'!C53 -> 45 | D24: ='Data 2'!D53 -> CONT | E24: =IF(D24="CF",1,0) -> 0 | F24: 17 | G24: 0.11596241 | H24: =IF(G24>=$P$3,1,0) -> 0 | I24: =IF(AND(D24="CF",H24=1),1,0) -> 0 | J24: =IF(AND(D24="CONT",H24=0),1,0) -> 1 | K24: ='Data 2'!S53 -> 1 | M24: =IF(AND(L24=1,H24=1),1,0) -> 0 | O24: =IF(AND(N24=1,H24=1),1,0) -> 0
B25: ='Data 2'!B56 -> 47 | C25: ='Data 2'!C56 -> 48 | D25: ='Data 2'!D56 -> CONT | E25: =IF(D25="CF",1,0) -> 0 | F25: 21 | G25: 0.18299102 | H25: =IF(G25>=$P$3,1,0) -> 1 | I25: =IF(AND(D25="CF",H25=1),1,0) -> 0 | J25: =IF(AND(D25="CONT",H25=0),1,0) -> 0 | K25: ='Data 2'!S56 -> 2 | M25: =IF(AND(L25=1,H25=1),1,0) -> 0 | O25: =IF(AND(N25=1,H25=1),1,0) -> 0
B26: ='Data 2'!B62 -> 53 | C26: ='Data 2'!C62 -> 55 | D26: ='Data 2'!D62 -> CFNR | E26: =IF(D26="CF",1,0) -> 0 | F26: 10 | G26: 0.26596305 | H26: =IF(G26>=$P$3,1,0) -> 1 | I26: =IF(AND(D26="CF",H26=1),1,0) -> 0 | J26: =IF(AND(D26="CONT",H26=0),1,0) -> 0 | K26: ='Data 2'!S62 -> 4 | M26: =IF(AND(L26=1,H26=1),1,0) -> 0 | N26: 1 | O26: =IF(AND(N26=1,H26=1),1,0) -> 1
B27: ='Data 2'!B64 -> 55 | C27: ='Data 2'!C64 -> 57 | D27: ='Data 2'!D64 -> CFNR | E27: =IF(D27="CF",1,0) -> 0 | F27: 34 | G27: 0.84931285 | H27: =IF(G27>=$P$3,1,0) -> 1 | I27: =IF(AND(D27="CF",H27=1),1,0) -> 0 | J27: =IF(AND(D27="CONT",H27=0),1,0) -> 0 | K27: ='Data 2'!S64 -> 3 | L27: 1 | M27: =IF(AND(L27=1,H27=1),1,0) -> 1 | O27: =IF(AND(N27=1,H27=1),1,0) -> 0
B28: ='Data 2'!B65 -> 56 | C28: ='Data 2'!C65 -> 58 | D28: ='Data 2'!D65 -> CONT | E28: =IF(D28="CF",1,0) -> 0 | F28: 3 | G28: 0.19885407 | H28: =IF(G28>=$P$3,1,0) -> 1 | I28: =IF(AND(D28="CF",H28=1),1,0) -> 0 | J28: =IF(AND(D28="CONT",H28=0),1,0) -> 0 | K28: ='Data 2'!S65 -> 0 | M28: =IF(AND(L28=1,H28=1),1,0) -> 0 | O28: =IF(AND(N28=1,H28=1),1,0) -> 0
B29: ='Data 2'!B66 -> 57 | C29: ='Data 2'!C66 -> 59 | D29: ='Data 2'!D66 -> CFNR | E29: =IF(D29="CF",1,0) -> 0 | F29: 34 | G29: 0.48714322 | H29: =IF(G29>=$P$3,1,0) -> 1 | I29: =IF(AND(D29="CF",H29=1),1,0) -> 0 | J29: =IF(AND(D29="CONT",H29=0),1,0) -> 0 | K29: ='Data 2'!S66 -> 1 | M29: =IF(AND(L29=1,H29=1),1,0) -> 0 | N29: 1 | O29: =IF(AND(N29=1,H29=1),1,0) -> 1
B30: ='Data 2'!B67 -> 58 | C30: ='Data 2'!C67 -> 60 | D30: ='Data 2'!D67 -> CONT | E30: =IF(D30="CF",1,0) -> 0 | F30: 20 | G30: 0.38056497 | H30: =IF(G30>=$P$3,1,0) -> 1 | I30: =IF(AND(D30="CF",H30=1),1,0) -> 0 | J30: =IF(AND(D30="CONT",H30=0),1,0) -> 0 | K30: ='Data 2'!S67 -> 4 | M30: =IF(AND(L30=1,H30=1),1,0) -> 0 | O30: =IF(AND(N30=1,H30=1),1,0) -> 0
B31: ='Data 2'!B68 -> 59 | C31: ='Data 2'!C68 -> 61 | D31: ='Data 2'!D68 -> CF | E31: =IF(D31="CF",1,0) -> 1 | F31: 24 | G31: 0.66666693 | H31: =IF(G31>=$P$3,1,0) -> 1 | I31: =IF(AND(D31="CF",H31=1),1,0) -> 1 | J31: =IF(AND(D31="CONT",H31=0),1,0) -> 0 | K31: ='Data 2'!S68 -> 1 | M31: =IF(AND(L31=1,H31=1),1,0) -> 0 | O31: =IF(AND(N31=1,H31=1),1,0) -> 0
B32: ='Data 2'!B70 -> 61 | C32: ='Data 2'!C70 -> 63 | D32: ='Data 2'!D70 -> CFNR | E32: =IF(D32="CF",1,0) -> 0 | F32: 20 | G32: 0.40710177 | H32: =IF(G32>=$P$3,1,0) -> 1 | I32: =IF(AND(D32="CF",H32=1),1,0) -> 0 | J32: =IF(AND(D32="CONT",H32=0),1,0) -> 0 | K32: ='Data 2'!S70 -> 1 | M32: =IF(AND(L32=1,H32=1),1,0) -> 0 | N32: 1 | O32: =IF(AND(N32=1,H32=1),1,0) -> 1
B33: ='Data 2'!B71 -> 62 | C33: ='Data 2'!C71 -> 64 | D33: ='Data 2'!D71 -> CONT | E33: =IF(D33="CF",1,0) -> 0 | F33: 19 | G33: 0.17627105 | H33: =IF(G33>=$P$3,1,0) -> 1 | I33: =IF(AND(D33="CF",H33=1),1,0) -> 0 | J33: =IF(AND(D33="CONT",H33=0),1,0) -> 0 | K33: ='Data 2'!S71 -> 2 | M33: =IF(AND(L33=1,H33=1),1,0) -> 0 | O33: =IF(AND(N33=1,H33=1),1,0) -> 0
B34: ='Data 2'!B72 -> 63 | C34: ='Data 2'!C72 -> 65 | D34: ='Data 2'!D72 -> CFNR | E34: =IF(D34="CF",1,0) -> 0 | F34: 21 | G34: 0.38056497 | H34: =IF(G34>=$P$3,1,0) -> 1 | I34: =IF(AND(D34="CF",H34=1),1,0) -> 0 | J34: =IF(AND(D34="CONT",H34=0),1,0) -> 0 | K34: ='Data 2'!S72 -> 3 | L34: 1 | M34: =IF(AND(L34=1,H34=1),1,0) -> 1 | O34: =IF(AND(N34=1,H34=1),1,0) -> 0
B35: ='Data 2'!B74 -> 65 | C35: ='Data 2'!C74 -> 67 | D35: ='Data 2'!D74 -> CFNR | E35: =IF(D35="CF",1,0) -> 0 | F35: 5 | G35: 0.359254 | H35: =IF(G35>=$P$3,1,0) -> 1 | I35: =IF(AND(D35="CF",H35=1),1,0) -> 0 | J35: =IF(AND(D35="CONT",H35=0),1,0) -> 0 | K35: ='Data 2'!S74 -> 2 | L35: 1 | M35: =IF(AND(L35=1,H35=1),1,0) -> 1 | O35: =IF(AND(N35=1,H35=1),1,0) -> 0
B36: ='Data 2'!B78 -> 69 | C36: ='Data 2'!C78 -> 71 | D36: ='Data 2'!D78 -> CFNR | E36: =IF(D36="CF",1,0) -> 0 | F36: 2 | G36: 0.33359641 | H36: =IF(G36>=$P$3,1,0) -> 1 | I36: =IF(AND(D36="CF",H36=1),1,0) -> 0 | J36: =IF(AND(D36="CONT",H36=0),1,0) -> 0 | K36: ='Data 2'!S78 -> 1 | L36: 1 | M36: =IF(AND(L36=1,H36=1),1,0) -> 1 | O36: =IF(AND(N36=1,H36=1),1,0) -> 0
B37: ='Data 2'!B79 -> 70 | C37: ='Data 2'!C79 -> 72 | D37: ='Data 2'!D79 -> CFNR | E37: =IF(D37="CF",1,0) -> 0 | F37: 4 | G37: 0.34065181 | H37: =IF(G37>=$P$3,1,0) -> 1 | I37: =IF(AND(D37="CF",H37=1),1,0) -> 0 | J37: =IF(AND(D37="CONT",H37=0),1,0) -> 0 | K37: ='Data 2'!S79 -> 2 | M37: =IF(AND(L37=1,H37=1),1,0) -> 0 | N37: 1 | O37: =IF(AND(N37=1,H37=1),1,0) -> 1
B38: ='Data 2'!B80 -> 71 | C38: ='Data 2'!C80 -> 73 | D38: ='Data 2'!D80 -> CFNR | E38: =IF(D38="CF",1,0) -> 0 | F38: 20 | G38: 0.17627105 | H38: =IF(G38>=$P$3,1,0) -> 1 | I38: =IF(AND(D38="CF",H38=1),1,0) -> 0 | J38: =IF(AND(D38="CONT",H38=0),1,0) -> 0 | K38: ='Data 2'!S80 -> 2 | M38: =IF(AND(L38=1,H38=1),1,0) -> 0 | N38: 1 | O38: =IF(AND(N38=1,H38=1),1,0) -> 1
B39: ='Data 2'!B81 -> 72 | C39: ='Data 2'!C81 -> 74 | D39: ='Data 2'!D81 -> CFNR | E39: =IF(D39="CF",1,0) -> 0 | F39: 2 | G39: 0.33359641 | H39: =IF(G39>=$P$3,1,0) -> 1 | I39: =IF(AND(D39="CF",H39=1),1,0) -> 0 | J39: =IF(AND(D39="CONT",H39=0),1,0) -> 0 | K39: ='Data 2'!S81 -> 1 | L39: 1 | M39: =IF(AND(L39=1,H39=1),1,0) -> 1 | O39: =IF(AND(N39=1,H39=1),1,0) -> 0
B40: ='Data 2'!B82 -> 73 | C40: ='Data 2'!C82 -> 75 | D40: ='Data 2'!D82 -> CFNR | E40: =IF(D40="CF",1,0) -> 0 | F40: 19 | G40: 0.17627105 | H40: =IF(G40>=$P$3,1,0) -> 1 | I40: =IF(AND(D40="CF",H40=1),1,0) -> 0 | J40: =IF(AND(D40="CONT",H40=0),1,0) -> 0 | K40: ='Data 2'!S82 -> 2 | M40: =IF(AND(L40=1,H40=1),1,0) -> 0 | N40: 1 | O40: =IF(AND(N40=1,H40=1),1,0) -> 1
B41: ='Data 2'!B83 -> 74 | C41: ='Data 2'!C83 -> 76 | D41: ='Data 2'!D83 -> CFNR | E41: =IF(D41="CF",1,0) -> 0 | F41: 24 | G41: 0.77601321 | H41: =IF(G41>=$P$3,1,0) -> 1 | I41: =IF(AND(D41="CF",H41=1),1,0) -> 0 | J41: =IF(AND(D41="CONT",H41=0),1,0) -> 0 | K41: ='Data 2'!S83 -> 1 | M41: =IF(AND(L41=1,H41=1),1,0) -> 0 | N41: 1 | O41: =IF(AND(N41=1,H41=1),1,0) -> 1
B42: ='Data 2'!B84 -> 75 | C42: ='Data 2'!C84 -> 77 | D42: ='Data 2'!D84 -> CFNR | E42: =IF(D42="CF",1,0) -> 0 | F42: 2 | G42: 0.19885407 | H42: =IF(G42>=$P$3,1,0) -> 1 | I42: =IF(AND(D42="CF",H42=1),1,0) -> 0 | J42: =IF(AND(D42="CONT",H42=0),1,0) -> 0 | K42: ='Data 2'!S84 -> 0 | M42: =IF(AND(L42=1,H42=1),1,0) -> 0 | N42: 1 | O42: =IF(AND(N42=1,H42=1),1,0) -> 1
B43: ='Data 2'!B85 -> 76 | C43: ='Data 2'!C85 -> 78 | D43: ='Data 2'!D85 -> CFNR | E43: =IF(D43="CF",1,0) -> 0 | F43: 5 | G43: 0.47971132 | H43: =IF(G43>=$P$3,1,0) -> 1 | I43: =IF(AND(D43="CF",H43=1),1,0) -> 0 | J43: =IF(AND(D43="CONT",H43=0),1,0) -> 0 | K43: ='Data 2'!S85 -> 3 | L43: 1 | M43: =IF(AND(L43=1,H43=1),1,0) -> 1 | O43: =IF(AND(N43=1,H43=1),1,0) -> 0
B44: ='Data 2'!B86 -> 77 | C44: ='Data 2'!C86 -> 79 | D44: ='Data 2'!D86 -> CFNR | E44: =IF(D44="CF",1,0) -> 0 | F44: 7 | G44: 0.22902378 | H44: =IF(G44>=$P$3,1,0) -> 1 | I44: =IF(AND(D44="CF",H44=1),1,0) -> 0 | J44: =IF(AND(D44="CONT",H44=0),1,0) -> 0 | K44: ='Data 2'!S86 -> 3 | L44: 1 | M44: =IF(AND(L44=1,H44=1),1,0) -> 1 | O44: =IF(AND(N44=1,H44=1),1,0) -> 0
B45: ='Data 2'!B87 -> 78 | C45: ='Data 2'!C87 -> 80 | D45: ='Data 2'!D87 -> CFNR | E45: =IF(D45="CF",1,0) -> 0 | F45: 34 | G45: 0.48714322 | H45: =IF(G45>=$P$3,1,0) -> 1 | I45: =IF(AND(D45="CF",H45=1),1,0) -> 0 | J45: =IF(AND(D45="CONT",H45=0),1,0) -> 0 | K45: ='Data 2'!S87 -> 1 | L45: 1 | M45: =IF(AND(L45=1,H45=1),1,0) -> 1 | O45: =IF(AND(N45=1,H45=1),1,0) -> 0
B46: ='Data 2'!B88 -> 79 | C46: ='Data 2'!C88 -> 81 | D46: ='Data 2'!D88 -> CFNR | E46: =IF(D46="CF",1,0) -> 0 | F46: 17 | G46: 0.11596241 | H46: =IF(G46>=$P$3,1,0) -> 0 | I46: =IF(AND(D46="CF",H46=1),1,0) -> 0 | J46: =IF(AND(D46="CONT",H46=0),1,0) -> 0 | K46: ='Data 2'!S88 -> 1 | M46: =IF(AND(L46=1,H46=1),1,0) -> 0 | N46: 1 | O46: =IF(AND(N46=1,H46=1),1,0) -> 0
B47: ='Data 2'!B89 -> 80 | C47: ='Data 2'!C89 -> 82 | D47: ='Data 2'!D89 -> CFNR | E47: =IF(D47="CF",1,0) -> 0 | F47: 32 | G47: 0.90595615 | H47: =IF(G47>=$P$3,1,0) -> 1 | I47: =IF(AND(D47="CF",H47=1),1,0) -> 0 | J47: =IF(AND(D47="CONT",H47=0),1,0) -> 0 | K47: ='Data 2'!S89 -> 5 | M47: =IF(AND(L47=1,H47=1),1,0) -> 0 | N47: 1 | O47: =IF(AND(N47=1,H47=1),1,0) -> 1
B48: ='Data 2'!B91 -> 82 | C48: ='Data 2'!C91 -> 84 | D48: ='Data 2'!D91 -> CFNR | E48: =IF(D48="CF",1,0) -> 0 | F48: 7 | G48: 0.53525939 | H48: =IF(G48>=$P$3,1,0) -> 1 | I48: =IF(AND(D48="CF",H48=1),1,0) -> 0 | J48: =IF(AND(D48="CONT",H48=0),1,0) -> 0 | K48: ='Data 2'!S91 -> 5 | M48: =IF(AND(L48=1,H48=1),1,0) -> 0 | N48: 1 | O48: =IF(AND(N48=1,H48=1),1,0) -> 1
