Workbook

Sheet The Legend
A1: This "Supplementary TableS1.xlsx" demonsrates drawing the phase boundaries on Figs. 1 and 3 and the calculation of the diamond’s melting point. The sheets “AC Curve” and “BC Line” plot from the initial and fitted quantities the lines AC and BC on the Fig. 1. The sheet “AB Hysteresis” presents the explanation of the zero-field hysteresis. The sheet “Tc(P)” fits the TC(P) diagram on the Fig. 3 only with fitting the prefactor and power in the pressure-depended Young’s modulus E(P) = 325P1/3 + E0. The sheet “Diamond’s Melting Point” calculates the melting point of diamond. The sheet “Magnetic moments” calculates the magnetic moments of the cations Mn3+ and Mn4+. The sheet “Fundamental constants” provides the rest sheets with the values of the necessary fundamental constants.

Sheet AC Curve
A1: AC FIT: | C1: h=hA+a(gJmJmBB/(2VabcE))1/2, Å | I1: E= | J1: =N3/10+O3/100 -> 25.31 | K1: GPa | L1: =1000000000*J1 -> 2.531e+10 | M1: H/m2 | N1: =L1/10^20 -> 2.531e-10 | O1: H/Å2
C2: V(h)=2ph2(R-h/3), Å3 | F2: DTC=gJmJmBBcosq/kB | I2: a= | J2: 5.424 | K2: Å | L2: =J2*$L$11 -> 5.424e-10 | M2: м
A3: B, T= | B3: 0 | C3: 0.6 | D3: 1.3 | E3: 2.6 | F3: 3.5 | G3: 4 | I3: b= | J3: 7.678 | K3: Å | L3: =J3*$L$11 -> 7.678e-10 | M3: м | N3: 253 | O3: 1
A4: TCEXP, K= | B4: 113.3 | C4: 128.906 | D4: 138.647 | E4: 152.4 | F4: 161.82 | G4: 166.87 | I4: c= | J4: 5.434 | K4: Å | L4: =J4*$L$11 -> 5.434e-10 | M4: м
A5: TCCALC, K= | B5: =G13 -> 113.06417 | C5: =G39 -> 129.47466 | D5: =G46 -> 139.15155 | E5: =G59 -> 153.49374 | F5: =G68 -> 162.22232 | G5: =G73 -> 166.82091 | I5: Vabc= | J5: =J2*J3*J4 -> 226.30149 | K5: Å3 | L5: =J5*$L$11^3 -> 2.2630149e-28 | M5: м3
A6: DTC= | B6: =B5-B4 -> -0.23583284 | C6: =C5-C4 -> 0.56865944 | D6: =D5-D4 -> 0.5045498 | E6: =E5-E4 -> 1.0937449 | F6: =F5-F4 -> 0.40231585 | G6: =G5-G4 -> -0.049085579 | I6: Mn–O21= | J6: 1.955 | K6: Å | L6: =J6*$L$11 -> 1.955e-10 | M6: м
A7: DTC2= | B7: =B6^2 -> 0.055617129 | C7: =C6^2 -> 0.32337356 | D7: =D6^2 -> 0.2545705 | E7: =E6^2 -> 1.196278 | F7: =F6^2 -> 0.16185804 | G7: =G6^2 -> 0.0024093941 | I7: Mn–O22= | J7: 1.931 | K7: Å | L7: =J7*$L$11 -> 1.931e-10 | M7: м
A8: Root-mean-square error RMSE=(1/n)[S(Ypredicted-Yreal)2]1/2= | G8: =SQRT((B7+C7+D7+E7+F7+G7)/6) -> 0.576499 | I8: Mn–O1= | J8: 1.953 | K8: Å | L8: =J8*$L$11 -> 1.953e-10 | M8: м
I9: R= | J9: ='AB Hysteresis'!B4 -> 0.244375 | K9: Å | L9: =J9*$L$11 -> 2.44375e-11 | M9: м
B10: qA = | C10: ='AB Hysteresis'!B5 -> 9.85 | E10: qB = | F10: 8.5 | I10: hA, Å= | J10: =0.027147 -> 0.027147 | K10: Å | L10: =J10*L11 -> 2.7147e-12 | M10: м
B11: cosqA = | C11: =COS(RADIANS(C10)) -> 0.98525899 | E11: cosqB = | F11: =COS(RADIANS(F10)) -> 0.98901586 | J11: 1 A0 | K11: = | L11: 1e-10 | M11: м
A12: B, T | B12: h | C12: V(h) | D12: TC, K | E12: cosq | F12: DTC | G12: TC, K
A13: 0 | B13: =$J$10+'AB Hysteresis'!$B$6*('Magnetic moments'!$C$17*'Fundamental constants'!$F$24*$A13/(2*$L$1*$L$5))^(1/2) -> 0.027147 | C13: =2*PI()*B13^2*($J$9-B13/3) -> 0.0010896662 | D13: ='BC Line'!$J$1*C13 -> 113.06417 | E13: =$C$11+A13*($F$11-$C$11)/($A$73-$A$13) -> 0.98525899 | F13: ='Magnetic moments'!$C$17*'Fundamental constants'!$F$24*A13*E13/'Fundamental constants'!$F$18 -> 0 | G13: =D13+F13 -> 113.06417
A14: =A13+0.02 -> 0.02 | B14: =$J$10+'AB Hysteresis'!$B$6*('Magnetic moments'!$C$17*'Fundamental constants'!$F$24*$A14/(2*$L$1*$L$5))^(1/2) -> 0.027451675 | C14: =2*PI()*B14^2*($J$9-B14/3) -> 0.0011137815 | D14: ='BC Line'!$J$1*C14 -> 115.56638 | E14: =$C$11+A14*($F$11-$C$11)/($A$73-$A$13) -> 0.98527777 | F14: ='Magnetic moments'!$C$17*'Fundamental constants'!$F$24*A14*E14/'Fundamental constants'!$F$18 -> 0.079418872 | G14: =D14+F14 -> 115.6458
A15: =A14+0.02 -> 0.04 | B15: =$J$10+'AB Hysteresis'!$B$6*('Magnetic moments'!$C$17*'Fundamental constants'!$F$24*$A15/(2*$L$1*$L$5))^(1/2) -> 0.027577875 | C15: =2*PI()*B15^2*($J$9-B15/3) -> 0.0011238445 | D15: ='BC Line'!$J$1*C15 -> 116.61053 | E15: =$C$11+A15*($F$11-$C$11)/($A$73-$A$13) -> 0.98529656 | F15: ='Magnetic moments'!$C$17*'Fundamental constants'!$F$24*A15*E15/'Fundamental constants'!$F$18 -> 0.15884077 | G15: =D15+F15 -> 116.76937
A16: =A15+0.02 -> 0.06 | B16: =$J$10+'AB Hysteresis'!$B$6*('Magnetic moments'!$C$17*'Fundamental constants'!$F$24*$A16/(2*$L$1*$L$5))^(1/2) -> 0.027674712 | C16: =2*PI()*B16^2*($J$9-B16/3) -> 0.0011315956 | D16: ='BC Line'!$J$1*C16 -> 117.41478 | E16: =$C$11+A16*($F$11-$C$11)/($A$73-$A$13) -> 0.98531534 | F16: ='Magnetic moments'!$C$17*'Fundamental constants'!$F$24*A16*E16/'Fundamental constants'!$F$18 -> 0.2382657 | G16: =D16+F16 -> 117.65305
A17: =A16+0.02 -> 0.08 | B17: =$J$10+'AB Hysteresis'!$B$6*('Magnetic moments'!$C$17*'Fundamental constants'!$F$24*$A17/(2*$L$1*$L$5))^(1/2) -> 0.027756349 | C17: =2*PI()*B17^2*($J$9-B17/3) -> 0.0011381499 | D17: ='BC Line'!$J$1*C17 -> 118.09486 | E17: =$C$11+A17*($F$11-$C$11)/($A$73-$A$13) -> 0.98533412 | F17: ='Magnetic moments'!$C$17*'Fundamental constants'!$F$24*A17*E17/'Fundamental constants'!$F$18 -> 0.31769366 | G17: =D17+F17 -> 118.41255
A18: =A17+0.02 -> 0.1 | B18: =$J$10+'AB Hysteresis'!$B$6*('Magnetic moments'!$C$17*'Fundamental constants'!$F$24*$A18/(2*$L$1*$L$5))^(1/2) -> 0.027828273 | C18: =2*PI()*B18^2*($J$9-B18/3) -> 0.0011439394 | D18: ='BC Line'!$J$1*C18 -> 118.69557 | E18: =$C$11+A18*($F$11-$C$11)/($A$73-$A$13) -> 0.98535291 | F18: ='Magnetic moments'!$C$17*'Fundamental constants'!$F$24*A18*E18/'Fundamental constants'!$F$18 -> 0.39712464 | G18: =D18+F18 -> 119.0927
A19: =A18+0.02 -> 0.12 | B19: =$J$10+'AB Hysteresis'!$B$6*('Magnetic moments'!$C$17*'Fundamental constants'!$F$24*$A19/(2*$L$1*$L$5))^(1/2) -> 0.027893298 | C19: =2*PI()*B19^2*($J$9-B19/3) -> 0.0011491856 | D19: ='BC Line'!$J$1*C19 -> 119.23992 | E19: =$C$11+A19*($F$11-$C$11)/($A$73-$A$13) -> 0.98537169 | F19: ='Magnetic moments'!$C$17*'Fundamental constants'!$F$24*A19*E19/'Fundamental constants'!$F$18 -> 0.47655865 | G19: =D19+F19 -> 119.71648
A20: =A19+0.02 -> 0.14 | B20: =$J$10+'AB Hysteresis'!$B$6*('Magnetic moments'!$C$17*'Fundamental constants'!$F$24*$A20/(2*$L$1*$L$5))^(1/2) -> 0.027953093 | C20: =2*PI()*B20^2*($J$9-B20/3) -> 0.0011540201 | D20: ='BC Line'!$J$1*C20 -> 119.74155 | E20: =$C$11+A20*($F$11-$C$11)/($A$73-$A$13) -> 0.98539048 | F20: ='Magnetic moments'!$C$17*'Fundamental constants'!$F$24*A20*E20/'Fundamental constants'!$F$18 -> 0.55599569 | G20: =D20+F20 -> 120.29755
A21: =A20+0.02 -> 0.16 | B21: =$J$10+'AB Hysteresis'!$B$6*('Magnetic moments'!$C$17*'Fundamental constants'!$F$24*$A21/(2*$L$1*$L$5))^(1/2) -> 0.02800875 | C21: =2*PI()*B21^2*($J$9-B21/3) -> 0.0011585287 | D21: ='BC Line'!$J$1*C21 -> 120.20937 | E21: =$C$11+A21*($F$11-$C$11)/($A$73-$A$13) -> 0.98540926 | F21: ='Magnetic moments'!$C$17*'Fundamental constants'!$F$24*A21*E21/'Fundamental constants'!$F$18 -> 0.63543576 | G21: =D21+F21 -> 120.8448
A22: =A21+0.02 -> 0.18 | B22: =$J$10+'AB Hysteresis'!$B$6*('Magnetic moments'!$C$17*'Fundamental constants'!$F$24*$A22/(2*$L$1*$L$5))^(1/2) -> 0.028061024 | C22: =2*PI()*B22^2*($J$9-B22/3) -> 0.0011627709 | D22: ='BC Line'!$J$1*C22 -> 120.64955 | E22: =$C$11+A22*($F$11-$C$11)/($A$73-$A$13) -> 0.98542805 | F22: ='Magnetic moments'!$C$17*'Fundamental constants'!$F$24*A22*E22/'Fundamental constants'!$F$18 -> 0.71487886 | G22: =D22+F22 -> 121.36443
A23: =A22+0.02 -> 0.2 | B23: =$J$10+'AB Hysteresis'!$B$6*('Magnetic moments'!$C$17*'Fundamental constants'!$F$24*$A23/(2*$L$1*$L$5))^(1/2) -> 0.028110466 | C23: =2*PI()*B23^2*($J$9-B23/3) -> 0.0011667902 | D23: ='BC Line'!$J$1*C23 -> 121.06659 | E23: =$C$11+A23*($F$11-$C$11)/($A$73-$A$13) -> 0.98544683 | F23: ='Magnetic moments'!$C$17*'Fundamental constants'!$F$24*A23*E23/'Fundamental constants'!$F$18 -> 0.79432499 | G23: =D23+F23 -> 121.86091
A24: =A23+0.02 -> 0.22 | B24: =$J$10+'AB Hysteresis'!$B$6*('Magnetic moments'!$C$17*'Fundamental constants'!$F$24*$A24/(2*$L$1*$L$5))^(1/2) -> 0.028157492 | C24: =2*PI()*B24^2*($J$9-B24/3) -> 0.0011706192 | D24: ='BC Line'!$J$1*C24 -> 121.46388 | E24: =$C$11+A24*($F$11-$C$11)/($A$73-$A$13) -> 0.98546562 | F24: ='Magnetic moments'!$C$17*'Fundamental constants'!$F$24*A24*E24/'Fundamental constants'!$F$18 -> 0.87377414 | G24: =D24+F24 -> 122.33766
A25: =A24+0.02 -> 0.24 | B25: =$J$10+'AB Hysteresis'!$B$6*('Magnetic moments'!$C$17*'Fundamental constants'!$F$24*$A25/(2*$L$1*$L$5))^(1/2) -> 0.028202424 | C25: =2*PI()*B25^2*($J$9-B25/3) -> 0.0011742834 | D25: ='BC Line'!$J$1*C25 -> 121.84408 | E25: =$C$11+A25*($F$11-$C$11)/($A$73-$A$13) -> 0.9854844 | F25: ='Magnetic moments'!$C$17*'Fundamental constants'!$F$24*A25*E25/'Fundamental constants'!$F$18 -> 0.95322632 | G25: =D25+F25 -> 122.79731
... A38: =A37+0.02 -> 0.5 | B38: =$J$10+'AB Hysteresis'!$B$6*('Magnetic moments'!$C$17*'Fundamental constants'!$F$24*$A38/(2*$L$1*$L$5))^(1/2) -> 0.028670373 | C38: =2*PI()*B38^2*($J$9-B38/3) -> 0.0012127697 | D38: ='BC Line'!$J$1*C38 -> 125.83744 | E38: =$C$11+A38*($F$11-$C$11)/($A$73-$A$13) -> 0.9857286 | F38: ='Magnetic moments'!$C$17*'Fundamental constants'!$F$24*A38*E38/'Fundamental constants'!$F$18 -> 1.9863803 | G38: =D38+F38 -> 127.82382
A39: =A38+0.1 -> 0.6 | B39: =$J$10+'AB Hysteresis'!$B$6*('Magnetic moments'!$C$17*'Fundamental constants'!$F$24*$A39/(2*$L$1*$L$5))^(1/2) -> 0.028815772 | C39: =2*PI()*B39^2*($J$9-B39/3) -> 0.0012248489 | D39: ='BC Line'!$J$1*C39 -> 127.09078 | E39: =$C$11+A39*($F$11-$C$11)/($A$73-$A$13) -> 0.98582252 | F39: ='Magnetic moments'!$C$17*'Fundamental constants'!$F$24*A39*E39/'Fundamental constants'!$F$18 -> 2.3838834 | G39: =D39+F39 -> 129.47466
A40: =A39+0.1 -> 0.7 | B40: =$J$10+'AB Hysteresis'!$B$6*('Magnetic moments'!$C$17*'Fundamental constants'!$F$24*$A40/(2*$L$1*$L$5))^(1/2) -> 0.02894948 | C40: =2*PI()*B40^2*($J$9-B40/3) -> 0.0012360074 | D40: ='BC Line'!$J$1*C40 -> 128.24859 | E40: =$C$11+A40*($F$11-$C$11)/($A$73-$A$13) -> 0.98591644 | F40: ='Magnetic moments'!$C$17*'Fundamental constants'!$F$24*A40*E40/'Fundamental constants'!$F$18 -> 2.7814623 | G40: =D40+F40 -> 131.03005
A41: =A40+0.1 -> 0.8 | B41: =$J$10+'AB Hysteresis'!$B$6*('Magnetic moments'!$C$17*'Fundamental constants'!$F$24*$A41/(2*$L$1*$L$5))^(1/2) -> 0.029073932 | C41: =2*PI()*B41^2*($J$9-B41/3) -> 0.0012464369 | D41: ='BC Line'!$J$1*C41 -> 129.33076 | E41: =$C$11+A41*($F$11-$C$11)/($A$73-$A$13) -> 0.98601036 | F41: ='Magnetic moments'!$C$17*'Fundamental constants'!$F$24*A41*E41/'Fundamental constants'!$F$18 -> 3.1791169 | G41: =D41+F41 -> 132.50988
A42: =A41+0.1 -> 0.9 | B42: =$J$10+'AB Hysteresis'!$B$6*('Magnetic moments'!$C$17*'Fundamental constants'!$F$24*$A42/(2*$L$1*$L$5))^(1/2) -> 0.02919082 | C42: =2*PI()*B42^2*($J$9-B42/3) -> 0.0012562708 | D42: ='BC Line'!$J$1*C42 -> 130.35112 | E42: =$C$11+A42*($F$11-$C$11)/($A$73-$A$13) -> 0.98610428 | F42: ='Magnetic moments'!$C$17*'Fundamental constants'!$F$24*A42*E42/'Fundamental constants'!$F$18 -> 3.5768472 | G42: =D42+F42 -> 133.92797
A43: =A42+0.1 -> 1 | B43: =$J$10+'AB Hysteresis'!$B$6*('Magnetic moments'!$C$17*'Fundamental constants'!$F$24*$A43/(2*$L$1*$L$5))^(1/2) -> 0.029301375 | C43: =2*PI()*B43^2*($J$9-B43/3) -> 0.0012656058 | D43: ='BC Line'!$J$1*C43 -> 131.31973 | E43: =$C$11+A43*($F$11-$C$11)/($A$73-$A$13) -> 0.98619821 | F43: ='Magnetic moments'!$C$17*'Fundamental constants'!$F$24*A43*E43/'Fundamental constants'!$F$18 -> 3.9746532 | G43: =D43+F43 -> 135.29439
A44: =A43+0.1 -> 1.1 | B44: =$J$10+'AB Hysteresis'!$B$6*('Magnetic moments'!$C$17*'Fundamental constants'!$F$24*$A44/(2*$L$1*$L$5))^(1/2) -> 0.029406528 | C44: =2*PI()*B44^2*($J$9-B44/3) -> 0.0012745153 | D44: ='BC Line'!$J$1*C44 -> 132.24419 | E44: =$C$11+A44*($F$11-$C$11)/($A$73-$A$13) -> 0.98629213 | F44: ='Magnetic moments'!$C$17*'Fundamental constants'!$F$24*A44*E44/'Fundamental constants'!$F$18 -> 4.3725349 | G44: =D44+F44 -> 136.61672
A45: =A44+0.1 -> 1.2 | B45: =$J$10+'AB Hysteresis'!$B$6*('Magnetic moments'!$C$17*'Fundamental constants'!$F$24*$A45/(2*$L$1*$L$5))^(1/2) -> 0.029507 | C45: =2*PI()*B45^2*($J$9-B45/3) -> 0.0012830562 | D45: ='BC Line'!$J$1*C45 -> 133.13039 | E45: =$C$11+A45*($F$11-$C$11)/($A$73-$A$13) -> 0.98638605 | F45: ='Magnetic moments'!$C$17*'Fundamental constants'!$F$24*A45*E45/'Fundamental constants'!$F$18 -> 4.7704923 | G45: =D45+F45 -> 137.90088
A46: =A45+0.1 -> 1.3 | B46: =$J$10+'AB Hysteresis'!$B$6*('Magnetic moments'!$C$17*'Fundamental constants'!$F$24*$A46/(2*$L$1*$L$5))^(1/2) -> 0.029603366 | C46: =2*PI()*B46^2*($J$9-B46/3) -> 0.0012912736 | D46: ='BC Line'!$J$1*C46 -> 133.98302 | E46: =$C$11+A46*($F$11-$C$11)/($A$73-$A$13) -> 0.98647997 | F46: ='Magnetic moments'!$C$17*'Fundamental constants'!$F$24*A46*E46/'Fundamental constants'!$F$18 -> 5.1685254 | G46: =D46+F46 -> 139.15155
A47: =A46+0.1 -> 1.4 | B47: =$J$10+'AB Hysteresis'!$B$6*('Magnetic moments'!$C$17*'Fundamental constants'!$F$24*$A47/(2*$L$1*$L$5))^(1/2) -> 0.029696091 | C47: =2*PI()*B47^2*($J$9-B47/3) -> 0.0012992042 | D47: ='BC Line'!$J$1*C47 -> 134.80591 | E47: =$C$11+A47*($F$11-$C$11)/($A$73-$A$13) -> 0.98657389 | F47: ='Magnetic moments'!$C$17*'Fundamental constants'!$F$24*A47*E47/'Fundamental constants'!$F$18 -> 5.5666342 | G47: =D47+F47 -> 140.37254
A48: =A47+0.1 -> 1.5 | B48: =$J$10+'AB Hysteresis'!$B$6*('Magnetic moments'!$C$17*'Fundamental constants'!$F$24*$A48/(2*$L$1*$L$5))^(1/2) -> 0.02978556 | C48: =2*PI()*B48^2*($J$9-B48/3) -> 0.0013068782 | D48: ='BC Line'!$J$1*C48 -> 135.60217 | E48: =$C$11+A48*($F$11-$C$11)/($A$73-$A$13) -> 0.98666782 | F48: ='Magnetic moments'!$C$17*'Fundamental constants'!$F$24*A48*E48/'Fundamental constants'!$F$18 -> 5.9648188 | G48: =D48+F48 -> 141.56699
A49: =A48+0.1 -> 1.6 | B49: =$J$10+'AB Hysteresis'!$B$6*('Magnetic moments'!$C$17*'Fundamental constants'!$F$24*$A49/(2*$L$1*$L$5))^(1/2) -> 0.029872093 | C49: =2*PI()*B49^2*($J$9-B49/3) -> 0.001314321 | D49: ='BC Line'!$J$1*C49 -> 136.37444 | E49: =$C$11+A49*($F$11-$C$11)/($A$73-$A$13) -> 0.98676174 | F49: ='Magnetic moments'!$C$17*'Fundamental constants'!$F$24*A49*E49/'Fundamental constants'!$F$18 -> 6.363079 | G49: =D49+F49 -> 142.73752
A50: =A49+0.1 -> 1.7 | B50: =$J$10+'AB Hysteresis'!$B$6*('Magnetic moments'!$C$17*'Fundamental constants'!$F$24*$A50/(2*$L$1*$L$5))^(1/2) -> 0.029955962 | C50: =2*PI()*B50^2*($J$9-B50/3) -> 0.0013215539 | D50: ='BC Line'!$J$1*C50 -> 137.12493 | E50: =$C$11+A50*($F$11-$C$11)/($A$73-$A$13) -> 0.98685566 | F50: ='Magnetic moments'!$C$17*'Fundamental constants'!$F$24*A50*E50/'Fundamental constants'!$F$18 -> 6.7614149 | G50: =D50+F50 -> 143.88634
... A72: =A71+0.1 -> 3.9 | B72: =$J$10+'AB Hysteresis'!$B$6*('Magnetic moments'!$C$17*'Fundamental constants'!$F$24*$A72/(2*$L$1*$L$5))^(1/2) -> 0.03140155 | C72: =2*PI()*B72^2*($J$9-B72/3) -> 0.0014491949 | D72: ='BC Line'!$J$1*C72 -> 150.369 | E72: =$C$11+A72*($F$11-$C$11)/($A$73-$A$13) -> 0.98892194 | F72: ='Magnetic moments'!$C$17*'Fundamental constants'!$F$24*A72*E72/'Fundamental constants'!$F$18 -> 15.543959 | G72: =D72+F72 -> 165.91296
A73: =A72+0.1 -> 4 | B73: =$J$10+'AB Hysteresis'!$B$6*('Magnetic moments'!$C$17*'Fundamental constants'!$F$24*$A73/(2*$L$1*$L$5))^(1/2) -> 0.031455751 | C73: =2*PI()*B73^2*($J$9-B73/3) -> 0.0014540896 | D73: ='BC Line'!$J$1*C73 -> 150.87688 | E73: =$C$11+A73*($F$11-$C$11)/($A$73-$A$13) -> 0.98901586 | F73: ='Magnetic moments'!$C$17*'Fundamental constants'!$F$24*A73*E73/'Fundamental constants'!$F$18 -> 15.944037 | G73: =D73+F73 -> 166.82091 | M73: © Sh.B. Abdulvagidov (2021)

Sheet BC Line
A1: BC FIT: | C1: h= aB[cosq(B)/cosqB - 1 ]+ hB, Å | J1: 103760.37 | K1: K/Å3 | L1: =J1*10^30 -> 1.0376037e+35 | M1: K/m3 | N1: ='Fundamental constants'!$F$18*J1 -> 1.4325681e-18 | O1: J/Å3 | P1: =N1/'Fundamental constants'!F23 -> 8.9413874 | Q1: eV/Å3
C2: V(h)=2ph2(R-h/3), Å3 | G2: DTC=gJmJmBBcosq/kB | J2: =1/J1 -> 9.6375907e-06 | K2: Å3/K | L2: =1/L1 -> 9.6375907e-36 | M2: m3/K | N2: =1/N1 -> 6.980471e+17 | O2: Å3/J | P2: =N2*'Fundamental constants'!F23 -> 0.11183947 | Q2: Å3/eV
A4: B, T = | C4: 0 | D4: 0.6 | E4: 1.3 | F4: 2.6 | G4: 3.5 | H4: 4
A5: TCEXP, K = | C5: 128.6 | D5: 135.337 | E5: 141.399 | F5: 153.5 | G5: 161.82 | H5: 166.87
A6: TCCALC, K = | C6: =H13 -> 130.07458 | D6: =H19 -> 135.73094 | E6: =H26 -> 142.38136 | F6: =H39 -> 154.87839 | G6: =H48 -> 163.64127 | H6: =H53 -> 168.54871
A7: DTC = | C7: =C6-C5 -> 1.4745774 | D7: =D6-D5 -> 0.39394491 | E7: =E6-E5 -> 0.98235653 | F7: =F6-F5 -> 1.3783884 | G7: =G6-G5 -> 1.8212704 | H7: =H6-H5 -> 1.6787146
A8: DTC2 = | C8: =C7^2 -> 2.1743787 | D8: =D7^2 -> 0.15519259 | E8: =E7^2 -> 0.96502435 | F8: =F7^2 -> 1.8999546 | G8: =G7^2 -> 3.3170257 | H8: =H7^2 -> 2.8180828
A9: Root-mean-square error RMSE=(1/n)[S(Ypredicted-Yreal)2]1/2= | H9: =SQRT((C8+D8+E8+F8+G8+H8)/6) -> 1.3741457
A11: qB0= | B11: 9.5 | C11: cosqB = | D11: =COS(RADIANS(B11)) -> 0.9862856 | E11: qC0 = | F11: 8.58645 | G11: cosqC = | H11: =COS(RADIANS(F11)) -> 0.98879172
A12: B,T | B12: cosq(B) | D12: h | E12: V(h) | F12: TC(V) | G12: DTC | H12: TC
A13: 0 | B13: =$D$11+A13*($H$11-$D$11)/($A$53-$A$13) -> 0.9862856 | C13: =DEGREES(ACOS(B13)) -> 9.5 | D13: ='AB Hysteresis'!$F$6*(B13/$D$11-1)+'AB Hysteresis'!$B$8 -> 0.029159184 | E13: =2*PI()*D13^2*('AB Hysteresis'!$B$4-D13/3) -> 0.0012536055 | F13: =$J$1*E13 -> 130.07458 | G13: ='Magnetic moments'!$C$17*'Fundamental constants'!$F$24*A13*B13/'Fundamental constants'!$F$18 -> 0 | H13: =F13+G13 -> 130.07458
A14: =A13+0.1 -> 0.1 | B14: =$D$11+A14*($H$11-$D$11)/($A$53-$A$13) -> 0.98634825 | C14: =DEGREES(ACOS(B14)) -> 9.4782255 | D14: ='AB Hysteresis'!$F$6*(B14/$D$11-1)+'AB Hysteresis'!$B$8 -> 0.029221201 | E14: =2*PI()*D14^2*('AB Hysteresis'!$B$4-D14/3) -> 0.0012588328 | F14: =$J$1*E14 -> 130.61696 | G14: ='Magnetic moments'!$C$17*'Fundamental constants'!$F$24*A14*B14/'Fundamental constants'!$F$18 -> 0.39752579 | H14: =F14+G14 -> 131.01448
A15: =A14+0.1 -> 0.2 | B15: =$D$11+A15*($H$11-$D$11)/($A$53-$A$13) -> 0.98641091 | C15: =DEGREES(ACOS(B15)) -> 9.4564013 | D15: ='AB Hysteresis'!$F$6*(B15/$D$11-1)+'AB Hysteresis'!$B$8 -> 0.029283218 | E15: =2*PI()*D15^2*('AB Hysteresis'!$B$4-D15/3) -> 0.0012640704 | F15: =$J$1*E15 -> 131.16042 | G15: ='Magnetic moments'!$C$17*'Fundamental constants'!$F$24*A15*B15/'Fundamental constants'!$F$18 -> 0.79510209 | H15: =F15+G15 -> 131.95552
A16: =A15+0.1 -> 0.3 | B16: =$D$11+A16*($H$11-$D$11)/($A$53-$A$13) -> 0.98647356 | C16: =DEGREES(ACOS(B16)) -> 9.4345272 | D16: ='AB Hysteresis'!$F$6*(B16/$D$11-1)+'AB Hysteresis'!$B$8 -> 0.029345235 | E16: =2*PI()*D16^2*('AB Hysteresis'!$B$4-D16/3) -> 0.0012693184 | F16: =$J$1*E16 -> 131.70495 | G16: ='Magnetic moments'!$C$17*'Fundamental constants'!$F$24*A16*B16/'Fundamental constants'!$F$18 -> 1.1927289 | H16: =F16+G16 -> 132.89768
A17: =A16+0.1 -> 0.4 | B17: =$D$11+A17*($H$11-$D$11)/($A$53-$A$13) -> 0.98653621 | C17: =DEGREES(ACOS(B17)) -> 9.4126026 | D17: ='AB Hysteresis'!$F$6*(B17/$D$11-1)+'AB Hysteresis'!$B$8 -> 0.029407253 | E17: =2*PI()*D17^2*('AB Hysteresis'!$B$4-D17/3) -> 0.0012745768 | F17: =$J$1*E17 -> 132.25057 | G17: ='Magnetic moments'!$C$17*'Fundamental constants'!$F$24*A17*B17/'Fundamental constants'!$F$18 -> 1.5904062 | H17: =F17+G17 -> 133.84097
A18: =A17+0.1 -> 0.5 | B18: =$D$11+A18*($H$11-$D$11)/($A$53-$A$13) -> 0.98659887 | C18: =DEGREES(ACOS(B18)) -> 9.3906273 | D18: ='AB Hysteresis'!$F$6*(B18/$D$11-1)+'AB Hysteresis'!$B$8 -> 0.02946927 | E18: =2*PI()*D18^2*('AB Hysteresis'!$B$4-D18/3) -> 0.0012798457 | F18: =$J$1*E18 -> 132.79726 | G18: ='Magnetic moments'!$C$17*'Fundamental constants'!$F$24*A18*B18/'Fundamental constants'!$F$18 -> 1.988134 | H18: =F18+G18 -> 134.7854
A19: =A18+0.1 -> 0.6 | B19: =$D$11+A19*($H$11-$D$11)/($A$53-$A$13) -> 0.98666152 | C19: =DEGREES(ACOS(B19)) -> 9.3686009 | D19: ='AB Hysteresis'!$F$6*(B19/$D$11-1)+'AB Hysteresis'!$B$8 -> 0.029531287 | E19: =2*PI()*D19^2*('AB Hysteresis'!$B$4-D19/3) -> 0.0012851248 | F19: =$J$1*E19 -> 133.34503 | G19: ='Magnetic moments'!$C$17*'Fundamental constants'!$F$24*A19*B19/'Fundamental constants'!$F$18 -> 2.3859123 | H19: =F19+G19 -> 135.73094
A20: =A19+0.1 -> 0.7 | B20: =$D$11+A20*($H$11-$D$11)/($A$53-$A$13) -> 0.98672417 | C20: =DEGREES(ACOS(B20)) -> 9.3465231 | D20: ='AB Hysteresis'!$F$6*(B20/$D$11-1)+'AB Hysteresis'!$B$8 -> 0.029593305 | E20: =2*PI()*D20^2*('AB Hysteresis'!$B$4-D20/3) -> 0.0012904144 | F20: =$J$1*E20 -> 133.89388 | G20: ='Magnetic moments'!$C$17*'Fundamental constants'!$F$24*A20*B20/'Fundamental constants'!$F$18 -> 2.7837411 | H20: =F20+G20 -> 136.67762
A21: =A20+0.1 -> 0.8 | B21: =$D$11+A21*($H$11-$D$11)/($A$53-$A$13) -> 0.98678682 | C21: =DEGREES(ACOS(B21)) -> 9.3243935 | D21: ='AB Hysteresis'!$F$6*(B21/$D$11-1)+'AB Hysteresis'!$B$8 -> 0.029655322 | E21: =2*PI()*D21^2*('AB Hysteresis'!$B$4-D21/3) -> 0.0012957144 | F21: =$J$1*E21 -> 134.44381 | G21: ='Magnetic moments'!$C$17*'Fundamental constants'!$F$24*A21*B21/'Fundamental constants'!$F$18 -> 3.1816204 | H21: =F21+G21 -> 137.62543
A22: =A21+0.1 -> 0.9 | B22: =$D$11+A22*($H$11-$D$11)/($A$53-$A$13) -> 0.98684948 | C22: =DEGREES(ACOS(B22)) -> 9.3022117 | D22: ='AB Hysteresis'!$F$6*(B22/$D$11-1)+'AB Hysteresis'!$B$8 -> 0.029717339 | E22: =2*PI()*D22^2*('AB Hysteresis'!$B$4-D22/3) -> 0.0013010247 | F22: =$J$1*E22 -> 134.99481 | G22: ='Magnetic moments'!$C$17*'Fundamental constants'!$F$24*A22*B22/'Fundamental constants'!$F$18 -> 3.5795502 | H22: =F22+G22 -> 138.57436
A23: =A22+0.1 -> 1 | B23: =$D$11+A23*($H$11-$D$11)/($A$53-$A$13) -> 0.98691213 | C23: =DEGREES(ACOS(B23)) -> 9.2799773 | D23: ='AB Hysteresis'!$F$6*(B23/$D$11-1)+'AB Hysteresis'!$B$8 -> 0.029779356 | E23: =2*PI()*D23^2*('AB Hysteresis'!$B$4-D23/3) -> 0.0013063454 | F23: =$J$1*E23 -> 135.54689 | G23: ='Magnetic moments'!$C$17*'Fundamental constants'!$F$24*A23*B23/'Fundamental constants'!$F$18 -> 3.9775305 | H23: =F23+G23 -> 139.52442
A24: =A23+0.1 -> 1.1 | B24: =$D$11+A24*($H$11-$D$11)/($A$53-$A$13) -> 0.98697478 | C24: =DEGREES(ACOS(B24)) -> 9.25769 | D24: ='AB Hysteresis'!$F$6*(B24/$D$11-1)+'AB Hysteresis'!$B$8 -> 0.029841374 | E24: =2*PI()*D24^2*('AB Hysteresis'!$B$4-D24/3) -> 0.0013116765 | F24: =$J$1*E24 -> 136.10004 | G24: ='Magnetic moments'!$C$17*'Fundamental constants'!$F$24*A24*B24/'Fundamental constants'!$F$18 -> 4.3755613 | H24: =F24+G24 -> 140.47561
A25: =A24+0.1 -> 1.2 | B25: =$D$11+A25*($H$11-$D$11)/($A$53-$A$13) -> 0.98703744 | C25: =DEGREES(ACOS(B25)) -> 9.2353494 | D25: ='AB Hysteresis'!$F$6*(B25/$D$11-1)+'AB Hysteresis'!$B$8 -> 0.029903391 | E25: =2*PI()*D25^2*('AB Hysteresis'!$B$4-D25/3) -> 0.001317018 | F25: =$J$1*E25 -> 136.65428 | G25: ='Magnetic moments'!$C$17*'Fundamental constants'!$F$24*A25*B25/'Fundamental constants'!$F$18 -> 4.7736426 | H25: =F25+G25 -> 141.42792
... A52: =A51+0.1 -> 3.9 | B52: =$D$11+A52*($H$11-$D$11)/($A$53-$A$13) -> 0.98872906 | C52: =DEGREES(ACOS(B52)) -> 8.6104603 | D52: ='AB Hysteresis'!$F$6*(B52/$D$11-1)+'AB Hysteresis'!$B$8 -> 0.031577858 | E52: =2*PI()*D52^2*('AB Hysteresis'!$B$4-D52/3) -> 0.0014651457 | F52: =$J$1*E52 -> 152.02406 | G52: ='Magnetic moments'!$C$17*'Fundamental constants'!$F$24*A52*B52/'Fundamental constants'!$F$18 -> 15.540928 | H52: =F52+G52 -> 167.56499
A53: =A52+0.1 -> 4 | B53: =$D$11+A53*($H$11-$D$11)/($A$53-$A$13) -> 0.98879172 | C53: =DEGREES(ACOS(B53)) -> 8.58645 | D53: ='AB Hysteresis'!$F$6*(B53/$D$11-1)+'AB Hysteresis'!$B$8 -> 0.031639875 | E53: =2*PI()*D53^2*('AB Hysteresis'!$B$4-D53/3) -> 0.0014707763 | F53: =$J$1*E53 -> 152.60829 | G53: ='Magnetic moments'!$C$17*'Fundamental constants'!$F$24*A53*B53/'Fundamental constants'!$F$18 -> 15.940423 | H53: =F53+G53 -> 168.54871 | N53: © Sh.B. Abdulvagidov (2021)

Sheet AB Hysteresis
A1: AB Hysteresis: | E1: V(h)=2ph2(R-h/3)
D2: r =(a-R +hA)/cosqA
D3: hB =(a-R +hA)cosqB/cosqA - aB+R
A4: R=a/4 = | B4: =B6/4 -> 0.244375 | C4: Å | E4: r = | F4: =(B6-B4+B7)/D5 -> 0.77164686 | I4: Å
A5: qA0 = | B5: 9.85 | C5: cos(qA)= | D5: =COS(RADIANS(B5)) -> 0.98525899 | E5: qB0 = | F5: 9.5 | G5: cos(qB)= | H5: =COS(RADIANS(F5)) -> 0.9862856
A6: a= | B6: 0.9775 | C6: Å | E6: aB= | F6: 0.97628 | G6: Å
A7: hA = | B7: ='AC Curve'!J10 -> 0.027147 | C7: Å | D7: V(hA) = | E7: =2*PI()*B7^2*($B$4-B7/3) -> 0.0010896662 | F7: Å3 | G7: TCA= | H7: ='BC Line'!$J$1*E7 -> 113.06417 | I7: K
A8: hB = | B8: =F4*H5-F6+B4 -> 0.029159184 | C8: Å | D8: V(hB) = | E8: =2*PI()*B8^2*($B$4-B8/3) -> 0.0012536055 | F8: Å3 | G8: TCB= | H8: ='BC Line'!$J$1*E8 -> 130.07458 | I8: K
A9: The hysteresis width: | E9: DTC = | F9: TCB- | G9: TCA = | H9: =H8-H7 -> 17.01041 | I9: K
G10: © Sh.B. Abdulvagidov (2021)

Sheet Tc(P)
A1: TEMPERATURE PRESSIRE CHART FIT: | F1: h=hB+rP/E(P), Å
F2: V(h)=2ph2(R-h/3), Å3
A3: P, kbar | B3: 0.1 | C3: 6 | D3: 9 | E3: 12 | F3: 15 | G3: 21 | H3: 24 | I3: 30
A4: P, Pa | B4: =B3*10^8 -> 10000000 | C4: =C3*10^8 -> 600000000 | D4: =D3*10^8 -> 900000000 | E4: =E3*10^8 -> 1200000000 | F4: =F3*10^8 -> 1500000000 | G4: =G3*10^8 -> 2100000000 | H4: =H3*10^8 -> 2400000000 | I4: =I3*10^8 -> 3000000000
A5: P, GPa | B5: =B4/10^9 -> 0.01 | C5: =C4/10^9 -> 0.6 | D5: =D4/10^9 -> 0.9 | E5: =E4/10^9 -> 1.2 | F5: =F4/10^9 -> 1.5 | G5: =G4/10^9 -> 2.1 | H5: =H4/10^9 -> 2.4 | I5: =I4/10^9 -> 3
A9: P, GPa | B9: E(P), GPa | C9: h, Å | D9: V(h), Å3 | E9: TC, K
A10: =B5 -> 0.01 | B10: =$I$11*A10^$I$12+$I$13 -> 95.329127 | C10: ='AB Hysteresis'!$B$8+'AB Hysteresis'!$B$6*A10/B10 -> 0.029261723 | D10: =2*PI()*C10^2*('AB Hysteresis'!$B$4-C10/3) -> 0.0012622539 | E10: ='BC Line'!$J$1*D10 -> 130.97193 | I10: E(P)=k*Pa+E0, GPa
A11: =0.1 -> 0.1 | B11: =$I$11*A11^$I$12+$I$13 -> 176.16164 | C11: ='AB Hysteresis'!$B$8+'AB Hysteresis'!$B$6*A11/B11 -> 0.029714072 | D11: =2*PI()*C11^2*('AB Hysteresis'!$B$4-C11/3) -> 0.0013007447 | E11: ='BC Line'!$J$1*D11 -> 134.96575 | H11: k= | I11: 325
A12: =A11+0.1 -> 0.2 | B12: =$I$11*A12^$I$12+$I$13 -> 215.37115 | C12: ='AB Hysteresis'!$B$8+'AB Hysteresis'!$B$6*A12/B12 -> 0.030066919 | D12: =2*PI()*C12^2*('AB Hysteresis'!$B$4-C12/3) -> 0.0013311521 | E12: ='BC Line'!$J$1*D12 -> 138.12083 | H12: a= | I12: 0.33333333
A13: =A12+0.1 -> 0.3 | B13: =$I$11*A13^$I$12+$I$13 -> 242.87571 | C13: ='AB Hysteresis'!$B$8+'AB Hysteresis'!$B$6*A13/B13 -> 0.030366591 | D13: =2*PI()*C13^2*('AB Hysteresis'!$B$4-C13/3) -> 0.0013572403 | E13: ='BC Line'!$J$1*D13 -> 140.82776 | H13: E0 = | I13: ='AC Curve'!J1 -> 25.31
A14: =A13+0.1 -> 0.4 | B14: =$I$11*A14^$I$12+$I$13 -> 264.77205 | C14: ='AB Hysteresis'!$B$8+'AB Hysteresis'!$B$6*A14/B14 -> 0.030635926 | D14: =2*PI()*C14^2*('AB Hysteresis'!$B$4-C14/3) -> 0.0013808935 | E14: ='BC Line'!$J$1*D14 -> 143.28203
A15: =A14+0.1 -> 0.5 | B15: =$I$11*A15^$I$12+$I$13 -> 283.26267 | C15: ='AB Hysteresis'!$B$8+'AB Hysteresis'!$B$6*A15/B15 -> 0.030884614 | D15: =2*PI()*C15^2*('AB Hysteresis'!$B$4-C15/3) -> 0.0014029066 | E15: ='BC Line'!$J$1*D15 -> 145.56611
A16: =A15+0.1 -> 0.6 | B16: =$I$11*A16^$I$12+$I$13 -> 299.42562 | C16: ='AB Hysteresis'!$B$8+'AB Hysteresis'!$B$6*A16/B16 -> 0.031117934 | D16: =2*PI()*C16^2*('AB Hysteresis'!$B$4-C16/3) -> 0.0014237102 | E16: ='BC Line'!$J$1*D16 -> 147.7247
A17: =A16+0.1 -> 0.7 | B17: =$I$11*A17^$I$12+$I$13 -> 313.8788 | C17: ='AB Hysteresis'!$B$8+'AB Hysteresis'!$B$6*A17/B17 -> 0.031339165 | D17: =2*PI()*C17^2*('AB Hysteresis'!$B$4-C17/3) -> 0.0014435707 | E17: ='BC Line'!$J$1*D17 -> 149.78543
A18: =A17+0.1 -> 0.8 | B18: =$I$11*A18^$I$12+$I$13 -> 327.01327 | C18: ='AB Hysteresis'!$B$8+'AB Hysteresis'!$B$6*A18/B18 -> 0.031550524 | D18: =2*PI()*C18^2*('AB Hysteresis'!$B$4-C18/3) -> 0.0014626673 | E18: ='BC Line'!$J$1*D18 -> 151.7669
A19: =A18+0.1 -> 0.9 | B19: =$I$11*A19^$I$12+$I$13 -> 339.09405 | C19: ='AB Hysteresis'!$B$8+'AB Hysteresis'!$B$6*A19/B19 -> 0.031753596 | D19: =2*PI()*C19^2*('AB Hysteresis'!$B$4-C19/3) -> 0.0014811277 | E19: ='BC Line'!$J$1*D19 -> 153.68236
A20: =A19+0.1 -> 1 | B20: =$I$11*A20^$I$12+$I$13 -> 350.31 | C20: ='AB Hysteresis'!$B$8+'AB Hysteresis'!$B$6*A20/B20 -> 0.031949569 | D20: =2*PI()*C20^2*('AB Hysteresis'!$B$4-C20/3) -> 0.0014990472 | E20: ='BC Line'!$J$1*D20 -> 155.5417
A21: =A20+0.1 -> 1.1 | B21: =$I$11*A21^$I$12+$I$13 -> 360.80104 | C21: ='AB Hysteresis'!$B$8+'AB Hysteresis'!$B$6*A21/B21 -> 0.032139358 | D21: =2*PI()*C21^2*('AB Hysteresis'!$B$4-C21/3) -> 0.001516499 | E21: ='BC Line'!$J$1*D21 -> 157.3525
A22: =A21+0.1 -> 1.2 | B22: =$I$11*A22^$I$12+$I$13 -> 370.67403 | C22: ='AB Hysteresis'!$B$8+'AB Hysteresis'!$B$6*A22/B22 -> 0.032323689 | D22: =2*PI()*C22^2*('AB Hysteresis'!$B$4-C22/3) -> 0.0015335409 | E22: ='BC Line'!$J$1*D22 -> 159.12077
A23: =A22+0.1 -> 1.3 | B23: =$I$11*A23^$I$12+$I$13 -> 380.01269 | C23: ='AB Hysteresis'!$B$8+'AB Hysteresis'!$B$6*A23/B23 -> 0.032503151 | D23: =2*PI()*C23^2*('AB Hysteresis'!$B$4-C23/3) -> 0.0015502196 | E23: ='BC Line'!$J$1*D23 -> 160.85136
A24: =A23+0.1 -> 1.4 | B24: =$I$11*A24^$I$12+$I$13 -> 388.88391 | C24: ='AB Hysteresis'!$B$8+'AB Hysteresis'!$B$6*A24/B24 -> 0.032678229 | D24: =2*PI()*C24^2*('AB Hysteresis'!$B$4-C24/3) -> 0.0015665735 | E24: ='BC Line'!$J$1*D24 -> 162.54825
A25: =A24+0.1 -> 1.5 | B25: =$I$11*A25^$I$12+$I$13 -> 397.34213 | C25: ='AB Hysteresis'!$B$8+'AB Hysteresis'!$B$6*A25/B25 -> 0.032849328 | D25: =2*PI()*C25^2*('AB Hysteresis'!$B$4-C25/3) -> 0.0015826345 | E25: ='BC Line'!$J$1*D25 -> 164.21475
... A41: =A40+0.1 -> 3.1 | B41: =$I$11*A41^$I$12+$I$13 -> 499.19241 | C41: ='AB Hysteresis'!$B$8+'AB Hysteresis'!$B$6*A41/B41 -> 0.035229488 | D41: =2*PI()*C41^2*('AB Hysteresis'!$B$4-C41/3) -> 0.0018141019 | E41: ='BC Line'!$J$1*D41 -> 188.23189
A42: =A41+0.1 -> 3.2 | B42: =$I$11*A42^$I$12+$I$13 -> 504.23409 | C42: ='AB Hysteresis'!$B$8+'AB Hysteresis'!$B$6*A42/B42 -> 0.035362651 | D42: =2*PI()*C42^2*('AB Hysteresis'!$B$4-C42/3) -> 0.0018274933 | E42: ='BC Line'!$J$1*D42 -> 189.62138 | P42: © Sh.B. Abdulvagidov (2021)
A43: =A42+0.1 -> 3.3 | B43: =$I$11*A43^$I$12+$I$13 -> 509.1718 | C43: ='AB Hysteresis'!$B$8+'AB Hysteresis'!$B$6*A43/B43 -> 0.035494471 | D43: =2*PI()*C43^2*('AB Hysteresis'!$B$4-C43/3) -> 0.0018407954 | E43: ='BC Line'!$J$1*D43 -> 191.00161
A44: =A43+0.1 -> 3.4 | B44: =$I$11*A44^$I$12+$I$13 -> 514.01074 | C44: ='AB Hysteresis'!$B$8+'AB Hysteresis'!$B$6*A44/B44 -> 0.035625002 | D44: =2*PI()*C44^2*('AB Hysteresis'!$B$4-C44/3) -> 0.0018540123 | E44: ='BC Line'!$J$1*D44 -> 192.37301
A45: =A44+0.1 -> 3.5 | B45: =$I$11*A45^$I$12+$I$13 -> 518.75571 | C45: ='AB Hysteresis'!$B$8+'AB Hysteresis'!$B$6*A45/B45 -> 0.035754292 | D45: =2*PI()*C45^2*('AB Hysteresis'!$B$4-C45/3) -> 0.0018671477 | E45: ='BC Line'!$J$1*D45 -> 193.73594
A46: =A45+0.1 -> 3.6 | B46: =$I$11*A46^$I$12+$I$13 -> 523.41113 | C46: ='AB Hysteresis'!$B$8+'AB Hysteresis'!$B$6*A46/B46 -> 0.035882388 | D46: =2*PI()*C46^2*('AB Hysteresis'!$B$4-C46/3) -> 0.001880205 | E46: ='BC Line'!$J$1*D46 -> 195.09077
A47: =A46+0.1 -> 3.7 | B47: =$I$11*A47^$I$12+$I$13 -> 527.98112 | C47: ='AB Hysteresis'!$B$8+'AB Hysteresis'!$B$6*A47/B47 -> 0.036009334 | D47: =2*PI()*C47^2*('AB Hysteresis'!$B$4-C47/3) -> 0.0018931875 | E47: ='BC Line'!$J$1*D47 -> 196.43784
A48: =A47+0.1 -> 3.8 | B48: =$I$11*A48^$I$12+$I$13 -> 532.46949 | C48: ='AB Hysteresis'!$B$8+'AB Hysteresis'!$B$6*A48/B48 -> 0.03613517 | D48: =2*PI()*C48^2*('AB Hysteresis'!$B$4-C48/3) -> 0.0019060981 | E48: ='BC Line'!$J$1*D48 -> 197.77745
A49: =A48+0.1 -> 3.9 | B49: =$I$11*A49^$I$12+$I$13 -> 536.8798 | C49: ='AB Hysteresis'!$B$8+'AB Hysteresis'!$B$6*A49/B49 -> 0.036259935 | D49: =2*PI()*C49^2*('AB Hysteresis'!$B$4-C49/3) -> 0.0019189398 | E49: ='BC Line'!$J$1*D49 -> 199.10991
A50: =A49+0.1 -> 4 | B50: =$I$11*A50^$I$12+$I$13 -> 541.21534 | C50: ='AB Hysteresis'!$B$8+'AB Hysteresis'!$B$6*A50/B50 -> 0.036383665 | D50: =2*PI()*C50^2*('AB Hysteresis'!$B$4-C50/3) -> 0.0019317151 | E50: ='BC Line'!$J$1*D50 -> 200.43548
A51: =A50+0.1 -> 4.1 | B51: =$I$11*A51^$I$12+$I$13 -> 545.47922 | C51: ='AB Hysteresis'!$B$8+'AB Hysteresis'!$B$6*A51/B51 -> 0.036506393 | D51: =2*PI()*C51^2*('AB Hysteresis'!$B$4-C51/3) -> 0.0019444265 | E51: ='BC Line'!$J$1*D51 -> 201.75442
A52: =A51+0.1 -> 4.2 | B52: =$I$11*A52^$I$12+$I$13 -> 549.67431 | C52: ='AB Hysteresis'!$B$8+'AB Hysteresis'!$B$6*A52/B52 -> 0.036628152 | D52: =2*PI()*C52^2*('AB Hysteresis'!$B$4-C52/3) -> 0.0019570764 | E52: ='BC Line'!$J$1*D52 -> 203.06698
A53: =A52+0.1 -> 4.3 | B53: =$I$11*A53^$I$12+$I$13 -> 553.80333 | C53: ='AB Hysteresis'!$B$8+'AB Hysteresis'!$B$6*A53/B53 -> 0.036748972 | D53: =2*PI()*C53^2*('AB Hysteresis'!$B$4-C53/3) -> 0.001969667 | E53: ='BC Line'!$J$1*D53 -> 204.37338
A54: =A53+0.1 -> 4.4 | B54: =$I$11*A54^$I$12+$I$13 -> 557.86883 | C54: ='AB Hysteresis'!$B$8+'AB Hysteresis'!$B$6*A54/B54 -> 0.036868881 | D54: =2*PI()*C54^2*('AB Hysteresis'!$B$4-C54/3) -> 0.0019822004 | E54: ='BC Line'!$J$1*D54 -> 205.67385
... A70: =A69+0.1 -> 6 | B70: =$I$11*A70^$I$12+$I$13 -> 615.87419 | C70: ='AB Hysteresis'!$B$8+'AB Hysteresis'!$B$6*A70/B70 -> 0.038682232 | D70: =2*PI()*C70^2*('AB Hysteresis'!$B$4-C70/3) -> 0.0021762968 | E70: ='BC Line'!$J$1*D70 -> 225.81337

Sheet Diamond Melting Point
A1: DIAMOND'S MELTING-POINT CALCULATION
A2: INITIAL DATA: | G2: V(h)=2ph2(R-h/3)
A3: diamond atomic spacing | D3: rC-C = | E3: 1.544 | F3: Å
A4: methane's spacing | D4: rCH4 = | E4: 1.087 | F4: Å
A5: Bohr radius | D5: rB = | E5: 0.52917721 | I5: Å
A6: Hydrogen's covalent radius | D6: rHcov = | E6: 0.31 | F6: Å
A8: CALCULATION:
A9: Carbon's covalent radius in diamond | D9: rC-Ccov=rC-C/2 = | E9: =E3/2 -> 0.772 | F9: Å
A10: Carbon's p-orbital radius | D10: rp = rCH4 + rHcov-rB = | E10: =$E$4+$E$6-$E$5 -> 0.86782279 | F10: Å
A11: p-orbirals overlapping in diamond | D11: h=rp - rC-Ccov= | E11: =E10-E9 -> 0.095822789 | F11: Å
D12: R = rp/4 = | E12: =E10/4 -> 0.2169557 | F12: Å
A13: V(h) | B13: Eon a bond, eV | C13: Tmelt, 0C | D13: EXPERIMENT | H13: DIFFERENCE
A14: =2*PI()*E11^2*($E$12-E11/3) -> 0.010673918 | B14: =A14*'BC Line'!P1 -> 0.095439639 | C14: =B14*'Fundamental constants'!F23/'Fundamental constants'!F18*4-273.15 -> 4156.969 | D14: 3550 | E14: - | F14: 4000 | G14: 0C | H14: =C14-F14 -> 156.96898 | I14: 0C or | J14: =H14/C14 -> 0.037760441
A15: Overlapping in Hydrogen's molecule | D15: hH2= rH cov - rH-H /2 = | E15: =E6-E5/2 -> 0.045411395 | F15: Å
A16: Carbon's p-orbital radius | C16: rp =rC-H-rH cov+2*hH2= | E16: =$E$4-$E$6+2*$E$15 -> 0.86782279 | F16: Å
F17: © Sh.B. Abdulvagidov (2021)

Sheet Magnetic moments
A1: Landé factor gJ=1+(J(J+1)+S(S+1)-L(L+1))/(2J(J+1))
A2: Magnetic moment µ=gJ*mJ | D2: (mB)
A3: Mn3+ | B3: S= | C3: 2
B4: L= | C4: 2
B5: J= | C5: =C3+C4 -> 4
B6: gJ= | C6: =1+(C5*(C5+1)+C3*(C3+1)-C4*(C4+1))/(2*C5*(C5+1)) -> 1.5
B7: mJ= | C7: =C5 -> 4
B8: µ(Mn3+ )= | C8: =C6*C7 -> 6 | D8: (mB)
A10: Mn4+ | B10: S= | C10: 1.5
B11: L= | C11: 3
B12: J= | C12: =C10+C11 -> 4.5
B13: gJ= | C13: =1+(C12*(C12+1)+C10*(C10+1)-C11*(C11+1))/(2*C12*(C12+1)) -> 1.3333333
B14: mJ= | C14: =C12 -> 4.5
B15: µ(Mn4+)= | C15: =C13*C14 -> 6 | D15: (mB)
A17: µ(Mn4+ or Mn3+)= | C17: 6 | D17: (mB)

Sheet Fundamental constants
A1: Fundamental physical constants | E1: From: http://physics.nist.gov/constants
A3: Quantity | D3: Symbol | E3: Value* | G3: Unit 1
A4: speed of light in a vacuum | D4: c | E4: 299 792 458 | F4: =E4 -> 299 792 458 | G4: m - s-1
A5: magnetic constant | D5: m0 | E5: 4p x 10-7 = 12.566 370 614... x 10-7 | F5: 1.2566371e-06 | G5: N - A-2
A6: electric constant 1/[0c2 | D6: E0 | E6: 8.854 187 817... x 10-12 | G6: F - m-1
A7: characteristic impedance of vacuum 7^ = [^c | D7: Z0 | E7: 376.730 313 461... | G7: Q
A8: Planck constant | D8: h | E8: 6.626 0693(11) x 10-34 | F8: 6.6260693e-34 | G8: J - s
A9: in eV - s | E9: 4.135 667 43(35) x 10-15 | G9: eV - s
A10: h/2n | D10: h | E10: 1.054 571 68(18) x 10-34 | F10: 1.0545717e-34 | G10: J - s
A11: in eV - s | E11: 6.582 119 15(56) x 10-16 | G11: eV - s
A12: elementary charge | D12: e | E12: 1.602 176 53(14) x 10-19 | G12: C
A13: magnetic flux quantum h/2e | D13: ®0 | E13: 2.067 833 72(18) x 10-15 | G13: Wb
A14: Avogadro constant | D14: NA | E14: 6.022 1 415(10) x 1023 | F14: 6.0221415e+23 | G14: mol-1
A15: atomic mass constant mu = Vi2m(l2C) = 1 u | D15: m u | E15: 1.660 538 86(28) x 10-27 | G15: g k
A16: Faraday constant NA e | D16: F | E16: 96 485.3383(83) | G16: C - mol-1
A17: molar gas constant | D17: R | E17: 8.314 472(15) | G17: J - mol-1 - K-1
A18: Boltzmann constant R/N, | D18: k | E18: 1.380 650 5(24) x 10-23 | F18: 1.3806505e-23 | G18: J - K-1
A19: molar volume of ideal gas RT / p
A20: T = 273.15 K, p = 101.325 kPa | D20: V m | E20: 22.413 996(39) x 10-3 | G20: m3 - mol-1
A21: T = 273.15 K, p = 100 kPa | D21: V m | E21: 22.710 981(40) x 10-3 | G21: m3 - mol-1
A22: Stefan-Boltzmann constant (n2/60)k4/h3c2 | D22: O | E22: 5.670 400(40) x 10-8 | G22: W - m-2 - K-4
A23: electron volt: (e/C) J | D23: eV | E23: 1.602 176 53(14) x 10-19 | F23: 1.6021765e-19 | G23: J
A24: Bohr magneton eh/2me | D24: mB | E24: 927.400 949(80) x 10-26 | F24: 9.2740095e-24 | G24: J * T-1
A25: in eV - T-1 [[B/(J - T-1)](e/C) | E25: 5.788 381 804(39) x 10-5 | F25: 5.7883818e-05 | G25: eV * T-1
