Workbook

Sheet S1 - content
A3: SUPPORTING INFORMATION FOR:
A5: Ghirlandi, S., Hoff, T., Böcher, C., Sprecher, B., Pohya, A. & Peck, D. Material Flow Analysis of Titanium Metal in European Aviation: Circular Economy Strategies for reduced import dependence. Journal of Industrial Ecology.
A8: This supporting information provides a spreadsheet with background data and calculations on Eurostat and DLR fleet composition data, with characterisation of the 61 aircraft models in exam.
A13: Table of content
A14: S1.1 EU fleet | B14: This sheet contains the annual EU passenger fleet stock from 2000 to 2023 sourced from Eurostat, extended to 2040 using a 0.5% annual growth rate derived from Eurocontrol forecasts and calibrated against DLR global projections.
A15: S1.2 Models specifications | B15: This sheet contains the characterisation of 61 aircraft models across 12 seating classes by OEW and titanium intensity
A16: S1.3. DLR fleet composition | B16: This sheet contains DLR global fleet composition at discrete forecast years, used to derive EU model-level stock distributions through piecewise linear interpolation.
A17: S1.4. Percentage of models per year | B17: This sheet contains the annual distribution of fleet stock across 61 models from 2000 to 2040, combining Cirium observed data for historical years and DLR projections for the forecast period.
A18: S1.5. Number of models per year | B18: This sheet contains annual aircraft counts by model, obtained by multiplying total fleet stock by the yearly model distribution from S1.4.
A19: S1.6. Ti by model per year | B19: This sheet contains annual titanium stock by model, obtained by multiplying S1.5 counts by model-specific intensities; row sums yield total annual titanium in-use stock.
A20: S1.7. Ti by model per yar (reduction) | B20: This sheet contains the titanium intensity reduction scenario, lowering DLR flagship model intensity from 17% to 14% of OEW
A21: S1.8. Stock input | B21: This sheet contains the input stock of planes and titanium tonnage for the dMFA
A24: References
A25: DLR (2026). Cleanliest. German Aerospace Center. https://www.dlr.de/en/research-and-transfer/projects-and-missions/cleanliest
A26: Eurostat. (2024, November 15). Commercial aircraft fleet by aircraft category and country of registration. Air Transport Equipment. https://ec.europa.eu/eurostat/databrowser/view/avia_eq_arc_typreg/default/table?lang=en&category=avia.avia_eq
A27: Cirium. (2025). Cirium – The world’s most trusted source of aviation analytics. https://www.cirium.com/
A28: Eurocontrol. (2021). EUROPEAN AVIATION IN 2040 Annex1 Flight Forecast to 2040.
A29: Buesa, A., Georgitzikis, A., Jakimów, K., Piñero, M., Maury, P., Latunussa, T., Pedauga, C., Samokhalov, L., Baldassarre, V., Mathieux, B., Rueda-Cantuche, F., Manuel Stijepic, J., Reys, D., Bilous, A., Notom, A., & Tercero, P. (2025). Titanium metal in the EU: Strategic relevance and circularity potential. https://doi.org/10.2760/5871804
A30: Hoff, T., Sprecher, B., Pohya, A. A., Wende, G., & Peck, D. (2025). The impact of circular strategies on titanium supply and demand in the aviation industry. Resources, Conservation and Recycling, 222, 108476. https://doi.org/10.1016/J.RESCONREC.2025.108476

Sheet S1.1 - EU fleet
A2: EUROSTAT | F2: Hypothesis | H2: Source
A3: Year | B3: Stock (nº of planes) | C3: Planes excluding cargo | F3: 0.019 | G3: Avg annual growth in flights | H3: Eurocontrol
A4: 2000 | B4: 4274 | C4: 3691 | F4: 0.005 | G4: Assumed growth of fleet | H4: Expert assumption
A5: 2001 | B5: 4200 | C5: 3568
A6: 2002 | B6: 4336 | C6: 3721 | F6: Forecast
A7: 2003 | B7: 4420 | C7: 3778 | F7: Global (DLR) | G7: EU | H7: EU share of global
A8: 2004 | B8: 4561 | C8: 3910 | E8: 2024 | F8: 33708 | G8: 5157 | H8: =G8/F8 -> 0.15299039
A9: 2005 | B9: 4776 | C9: 4075 | E9: 2025 | F9: 33985.593 | G9: 5165 | H9: =G9/F9 -> 0.15197616
A10: 2006 | B10: 5069 | C10: 4259 | E10: 2030 | F10: 35292 | G10: =C27*(1+F$4)^5 -> 5252.3622 | H10: =G10/F10 -> 0.14882586
A11: 2007 | B11: 5398 | C11: 4577 | E11: 2035 | F11: 36743.193 | G11: =G10*(1+F$4)^5 -> 5384.9909 | H11: =G11/F11 -> 0.14655751
A12: 2008 | B12: 5474 | C12: 4549 | E12: 2040 | F12: 38291.784 | G12: =G11*(1+F$4)^5 -> 5520.9687 | H12: =G12/F12 -> 0.14418155
A13: 2009 | B13: 5460 | C13: 4526
A14: 2010 | B14: 5465 | C14: 4513 | F14: CIRIUM (2024)
A15: 2011 | B15: 5505 | C15: 4544 | F15: Total | G15: EU | H15: EU %
A16: 2012 | B16: 5377 | C16: 4393 | E16: Number of registered Aircraft | F16: 27903 | G16: 4350 | H16: 0.15589722
A17: 2013 | B17: 5241 | C17: 4256 | E17: Number of based Aircraft | F17: 27548 | G17: 3888 | H17: 0.14113547
A18: 2014 | B18: 5270 | C18: 4290
A19: 2015 | B19: 5219 | C19: 4211
A20: 2016 | B20: 5389 | C20: 4397
A21: 2017 | B21: 5566 | C21: 4581
A22: 2018 | B22: 5865 | C22: 4895
A23: 2019 | B23: 5958 | C23: 4959
A24: 2020 | B24: 4638 | C24: 3617
A25: 2021 | B25: 5473 | C25: 4410
A26: 2022 | B26: 5723 | C26: 4706
A27: 2023 | B27: 6196 | C27: 5123

Sheet S1.2 - Models specifications
A1: Aircraft model | B1: Seat Category | C1: Date of rollout | D1: OEW (kg) | E1: OEW Source | F1: % of Ti | G1: Ti Source | H1: 2nd Ti Source | I1: Ti Ton per aircraft
A2: SA227 Metro | B2: SC01 | C2: 1981 | D2: 3935 | E2: FAIRCHILD MODEL SA227-DC METRO 23, SA227-AC METRO III and EXPEDITER I | F2: 0.02 | G2: Assumed | I2: =(D2/1000)*F2 -> 0.0787
A3: Jetstream 31 | B3: SC01 | C3: 1982 | D3: 4360 | E3: Wikipedia Taylor, JWR, ed. (1988). Jane's All the World's Aircraft, 1988–1989. Jane's Information Group. ISBN 978-0-7106-0867-3 . | F3: 0.02 | G3: Assumed | I3: =(D3/1000)*F3 -> 0.0872
A4: Beech 1900 D | B4: SC01 | C4: 1991 | D4: 4932 | E4: Wikipedia Raython | F4: 0.02 | G4: Assumed | I4: =(D4/1000)*F4 -> 0.09864 | K4: Seat Category | L4: Passengers
A5: DHC-6-300 | B5: SC01 | C5: 1969 | D5: 3363 | E5: Airliners.net | F5: 0.02 | G5: Assumed | I5: =(D5/1000)*F5 -> 0.06726 | K5: SC01 | L5: 1-19
A6: DHC-6-400 | B6: SC01 | C6: 2010 | D6: 3221 | E6: Twin Otter Series 400 Multi-Page Brochure.pdf | F6: 0.04 | G6: Assumed | I6: =(D6/1000)*F6 -> 0.12884 | K6: SC02 | L6: 20-50
A7: Do 228NG | B7: SC01 | C7: 2010 | D7: 3379 | E7: RUAG Holding | F7: 0.02 | G7: Assumed | I7: =(D7/1000)*F7 -> 0.06758 | K7: SC03 | L7: 51-70
A8: Do228NG_neu | B8: SC01 | C8: 2035 | D8: 8920 | E8: LCA - CH | F8: 0.03 | G8: Assumed | I8: =(D8/1000)*F8 -> 0.2676 | K8: SC04 | L8: 71-85
A9: Cessna 408 SkyCourier | B9: SC01 | C9: 2022 | D9: 5772 | E9: skycourier_passenger_product_card.pdf | F9: 0.02 | G9: Assumed | I9: =(D9/1000)*F9 -> 0.11544 | K9: SC05 | L9: 86-100
A10: DHC-8-300 | B10: SC02 | C10: 1984 | D10: 11793 | E10: Wayback Machine | F10: 0.03 | G10: Assumed | I10: =(D10/1000)*F10 -> 0.35379 | K10: SC06 | L10: 101-125
A11: CRJ200 | B11: SC02 | C11: 1996 | D11: 13835 | E11: Airport Planning Manual | F11: 0.04 | G11: Assumed | I11: =(D11/1000)*F11 -> 0.5534 | K11: SC07 | L11: 126-150
A12: DHC-8-100 | B12: SC02 | C12: 1984 | D12: 10477 | E12: Airport Planning Manual | F12: 0.03 | G12: Assumed | I12: =(D12/1000)*F12 -> 0.31431 | K12: SC08 | L12: 126-150
A13: Saab 340 B | B13: SC02 | C13: 1989 | D13: 8620 | E13: Wayback Machine | F13: 0.02 | G13: Assumed | I13: =(D13/1000)*F13 -> 0.1724 | K13: SC09 | L13: 176-235
A14: ERJ-145 | B14: SC02 | C14: 1997 | D14: 12591 | E14: Wayback Machine | F14: 0.04 | G14: Assumed | I14: =(D14/1000)*F14 -> 0.50364 | K14: SC10 | L14: 236-300
A15: ATR 42 500 | B15: SC02 | C15: 1995 | D15: 11250 | E15: 19T0916_BROCHURE_BOOKLET_ATR_FAMILY_105X200_V7.indd | F15: 0.02 | G15: Assumed | I15: =(D15/1000)*F15 -> 0.225 | K15: SC11 | L15: 301-400
A16: ATR 42 600 | B16: SC02 | C16: 2012 | D16: 11750 | E16: ATR_Fiche42-600-3.pdf | F16: 0.02 | G16: Assumed | I16: =(D16/1000)*F16 -> 0.235 | K16: SC12 | L16: 401+
A17: E175 | B17: SC03 | C17: 2005 | D17: 21886 | E17: Embraer Spec E175_210x297mm R | F17: 0.04 | G17: Assumed | I17: =(D17/1000)*F17 -> 0.87544
A18: E170 | B18: SC03 | C18: 2004 | D18: 20700 | E18: APM-1346 - AIRPORT PLANNING MANUAL | F18: 0.04 | G18: Assumed | I18: =(D18/1000)*F18 -> 0.828
A19: ATR 72 500 | B19: SC03 | C19: 1997 | D19: 12950 | E19: 19T0916_BROCHURE_BOOKLET_ATR_FAMILY_105X200_V7.indd | F19: 0.02 | G19: Assumed | I19: =(D19/1000)*F19 -> 0.259
A20: ATR 72 600 | B20: SC03 | C20: 2011 | D20: 13600 | E20: ATR_Fiche72-600-3.pdf | F20: 0.02 | G20: Assumed | I20: =(D20/1000)*F20 -> 0.272
A21: CRJ700 | B21: SC03 | C21: 2001 | D21: 20069 | E21: mhirj-preview-files.s3-us-west-2.amazonaws.com/mhirj/2020-12/MHIRJ_CRJ700_Factsheet_En_V1_web.pdf | F21: 0.04 | G21: Assumed | I21: =(D21/1000)*F21 -> 0.80276
A22: MA60 | B22: SC03 | C22: 2000 | D22: 13700 | E22: Wikipedia Taylor, JWR, ed. (1988). Jane's All the World's Aircraft, 1988–1989. Jane's Information Group. ISBN 978-0-7106-0867-3 . | F22: 0.02 | G22: Assumed | I22: =(D22/1000)*F22 -> 0.274
A23: DHC-8-400 (Q400) | B23: SC04 | C23: 2000 | D23: 17885 | E23: Dash8_Spec_Sheet_web.pdf | F23: 0.02 | G23: Assumed | I23: =(D23/1000)*F23 -> 0.3577
A24: CRJ900 | B24: SC04 | C24: 2003 | D24: 21845 | E24: mhirj-preview-files.s3-us-west-2.amazonaws.com/mhirj/2020-12/MHIRJ_CRJ900_Factsheet_En_V1_web.pdf | F24: 0.045 | G24: Assumed | I24: =(D24/1000)*F24 -> 0.983025
A25: DashQ8-400_neu | B25: SC04 | C25: 2035 | D25: 24272 | E25: FOKKER 100 GENERAL. | F25: 0.02 | G25: Assumed | I25: =(D25/1000)*F25 -> 0.48544
A26: Fokker 100 | B26: SC05 | C26: 1988 | D26: 27900 | E26: APM-1901 - AIRPORT PLANNING MANUAL | F26: 0.04 | G26: Assumed | I26: =(D26/1000)*F26 -> 1.116
A27: E190 | B27: SC05 | C27: 2005 | D27: 24955 | E27: acap_en.pdf | F27: 0.04 | G27: Assumed | I27: =(D27/1000)*F27 -> 0.9982
A28: C909 | B28: SC05 | C28: 2016 | D28: 25100 | E28: Airliners.net | F28: 0.04 | G28: Assumed | I28: =(D28/1000)*F28 -> 1.004
... A32: 717-200 | B32: SC06 | C32: 1999 | D32: 31674 | E32: LCA - CH | F32: 0.076 | G32: LCA - CH | I32: =(D32/1000)*F32 -> 2.407224
A33: A220-100 | B33: SC06 | C33: 2016 | D33: 35220 | E33: Bombardier | F33: 0.08 | G33: Hoff | H33: Buesa | I33: =(D33/1000)*F33 -> 2.8176
A34: A319 | B34: SC06 | C34: 1996 | D34: 39330.654 | E34: Cirium | F34: 0.042 | G34: Hoff | H34: Nyamekye | I34: =(D34/1000)*F34 -> 1.6518875
A35: A320 | B35: SC07 | C35: 1988 | D35: 87173.667 | E35: Cirium | F35: 0.042 | G35: Hoff | H35: Nyamekye | I35: =(D35/1000)*F35 -> 3.661294
A36: E195 E2 | B36: SC07 | C36: 2019 | D36: =D31+(D31*0.4) -> 40558 | E36: Wikipedia and own calculation | F36: 0.062 | G36: Assumed | I36: =(D36/1000)*F36 -> 2.514596
A37: A220-300 | B37: SC07 | C37: 2016 | D37: 37080 | E37: Bombardier | F37: 0.08 | G37: Hoff | H37: Buesa | I37: =(D37/1000)*F37 -> 2.9664
A38: 737-700 | B38: SC07 | C38: 1997 | D38: 37648.136 | E38: Cirium | F38: 0.062 | G38: Hoff | H38: Nyamekye | I38: =(D38/1000)*F38 -> 2.3341844
A39: A319neo | B39: SC08 | C39: 2018 | D39: 40390.718 | E39: Cirium | F39: 0.12 | G39: Hoff | H39: Buesa | I39: =(D39/1000)*F39 -> 4.8468862
A40: A320neo | B40: SC08 | C40: 2016 | D40: 44647.401 | E40: Cirium | F40: 0.12 | G40: Hoff | H40: Buesa | I40: =(D40/1000)*F40 -> 5.3576881
A41: 737-800 | B41: SC08 | C41: 1998 | D41: 41312.315 | E41: Cirium | F41: 0.062 | G41: Hoff | H41: Nyamekye | I41: =(D41/1000)*F41 -> 2.5613635
A42: 737 Max 8 | B42: SC08 | C42: 2017 | D42: 45068.901 | E42: Cirium | F42: 0.12 | G42: Hoff | H42: Buesa | I42: =(D42/1000)*F42 -> 5.4082681
A43: 737 Max 9 | B43: SC08 | C43: 2018 | D43: 47168.817 | E43: Cirium | F43: 0.12 | G43: Hoff | H43: Buesa | I43: =(D43/1000)*F43 -> 5.660258
...

Sheet S.1.3 - DLR fleet composit
A1: Models | B1: Seat category | C1: 2024 | D1: 2025 | E1: 2030 | F1: 2035 | G1: 2040
A2: Beech 1900 D | B2: SC01 | C2: 165 | D2: 155 | E2: 110 | F2: 76 | G2: 49 | I2: Seat category | J2: Passengers | K2: Class | L2: Representative | O2: 2024 | P2: 2025 | Q2: 2030 | R2: 2035 | S2: 2040
A3: Cessna 408 SkyCourier | B3: SC01 | C3: 0 | D3: 0 | E3: 0 | F3: 0 | G3: 0 | I3: SC01 | J3: 1-19 | K3: P-aircraft (1 - 50 seats) | N3: P-aircraft (1 - 50 seats) | O3: =SUM(C2:C16) -> 1800 | P3: =SUM(D2:D16) -> 1760 | Q3: =SUM(E2:E16) -> 1552 | R3: =SUM(F2:F16) -> 1402 | S3: =SUM(G2:G16) -> 1294
A4: DHC-6-300 | B4: SC01 | C4: 195 | D4: 167 | E4: 73 | F4: 0 | G4: 0 | I4: SC02 | J4: 20-50 | K4: P-aircraft (1 - 50 seats) | N4: P-aircraft (51 - 150 seats) | O4: =SUM(C17:C35) -> 8186 | P4: =SUM(D17:D35) -> 7947 | Q4: =SUM(E17:E35) -> 6271 | R4: =SUM(F17:F35) -> 5248 | S4: =SUM(G17:G35) -> 4520
A5: DHC-6-400 | B5: SC01 | C5: 69 | D5: 67 | E5: 58 | F5: 50 | G5: 40 | I5: SC03 | J5: 51-70 | K5: P-aircraft (51 - 150 seats) | N5: P-aircraft (151 - 250 seats) | O5: =SUM(C36:C49) -> 19810 | P5: =SUM(D36:D49) -> 20257 | Q5: =SUM(E36:E49) -> 22861 | R5: =SUM(F36:F49) -> 24793 | S5: =SUM(G36:G49) -> 26075
A6: Do 228NG | B6: SC01 | C6: 0 | D6: 89 | E6: 238 | F6: 328 | G6: 291 | I6: SC04 | J6: 71-85 | K6: P-aircraft (51 - 150 seats) | N6: P-aircraft (250+ seats) | O6: =SUM(C50:C63) -> 3912 | P6: =SUM(D50:D63) -> 4019 | Q6: =SUM(E50:E63) -> 4608 | R6: =SUM(F50:F63) -> 5302 | S6: =SUM(G50:G63) -> 6400
A7: Do228NG_neu | B7: SC01 | C7: 0 | D7: 0 | E7: 0 | F7: 28 | G7: 103 | I7: SC05 | J7: 86-100 | K7: P-aircraft (51 - 150 seats)
A8: Jetstream 31 | B8: SC01 | C8: 63 | D8: 58 | E8: 38 | F8: 25 | G8: 15 | I8: SC06 | J8: 101-125 | K8: P-aircraft (51 - 150 seats)
A9: SA227 Metro | B9: SC01 | C9: 50 | D9: 0 | E9: 0 | F9: 0 | G9: 0 | I9: SC07 | J9: 126-150 | K9: P-aircraft (151 - 250 seats) | O9: 2024 | P9: 2025 | Q9: 2030 | R9: 2035 | S9: 2040
A10: ATR 42 500 | B10: SC02 | C10: 0 | D10: 193 | E10: 493 | F10: 603 | G10: 624 | I10: SC08 | J10: 151-175 | K10: P-aircraft (151 - 250 seats) | N10: P-aircraft (1 - 50 seats) | O10: =O3/SUM(O$3:O$6) -> 0.053399786 | P10: =P3/SUM(P$3:P$6) -> 0.051790601 | Q10: =Q3/SUM(Q$3:Q$6) -> 0.043975972 | R10: =R3/SUM(R$3:R$6) -> 0.038154851 | S10: =S3/SUM(S$3:S$6) -> 0.033795607
A11: ATR 42 600 | B11: SC02 | C11: 0 | D11: 0 | E11: 0 | F11: 61 | G11: 48 | I11: SC09 | J11: 176-235 | K11: P-aircraft (151 - 250 seats) | N11: P-aircraft (51 - 150 seats) | O11: =O4/SUM(O$3:O$6) -> 0.24285036 | P11: =P4/SUM(P$3:P$6) -> 0.23385222 | Q11: =Q4/SUM(Q$3:Q$6) -> 0.17768899 | R11: =R4/SUM(R$3:R$6) -> 0.14282215 | S11: =S4/SUM(S$3:S$6) -> 0.11804957
A12: CRJ200 | B12: SC02 | C12: 286 | D12: 256 | E12: 119 | F12: 0 | G12: 0 | I12: SC10 | J12: 236-300 | K12: P-aircraft (250+ seats) | N12: P-aircraft (151 - 250 seats) | O12: =O5/SUM(O$3:O$6) -> 0.58769432 | P12: =P5/SUM(P$3:P$6) -> 0.59609216 | Q12: =Q5/SUM(Q$3:Q$6) -> 0.6477672 | R12: =R5/SUM(R$3:R$6) -> 0.67473126 | S12: =S5/SUM(S$3:S$6) -> 0.68100499
A13: DHC-8-100 | B13: SC02 | C13: 195 | D13: 181 | E13: 109 | F13: 66 | G13: 38 | I13: SC11 | J13: 301-400 | K13: P-aircraft (250+ seats) | N13: P-aircraft (250+ seats) | O13: =O6/SUM(O$3:O$6) -> 0.11605554 | P13: =P6/SUM(P$3:P$6) -> 0.11826501 | Q13: =Q6/SUM(Q$3:Q$6) -> 0.13056783 | R13: =R6/SUM(R$3:R$6) -> 0.14429174 | S13: =S6/SUM(S$3:S$6) -> 0.16714983
A14: DHC-8-300 | B14: SC02 | C14: 185 | D14: 175 | E14: 116 | F14: 78 | G14: 50 | I14: SC12 | J14: 401+ | K14: P-aircraft (250+ seats)
A15: ERJ-145 | B15: SC02 | C15: 467 | D15: 419 | E15: 198 | F15: 87 | G15: 36
A16: Saab 340 B | B16: SC02 | C16: 125 | D16: 0 | E16: 0 | F16: 0 | G16: 0
A17: ATR 72 500 | B17: SC03 | C17: 252 | D17: 246 | E17: 215 | F17: 181 | G17: 144
A18: ATR 72 600 | B18: SC03 | C18: 602 | D18: 649 | E18: 813 | F18: 884 | G18: 881 | I18: shifting by one position the class to seat category correspondence has a big effect on historical accuracy
A19: CRJ700 | B19: SC03 | C19: 370 | D19: 344 | E19: 221 | F19: 124 | G19: 62
A20: D70 FC-LH2 | B20: SC03 | C20: 0 | D20: 0 | E20: 0 | F20: 0 | G20: 0
A21: E170 | B21: SC03 | C21: 212 | D21: 196 | E21: 123 | F21: 50 | G21: 0
A22: E175 | B22: SC03 | C22: 846 | D22: 826 | E22: 704 | F22: 548 | G22: 368
A23: MA60 | B23: SC03 | C23: 0 | D23: 0 | E23: 0 | F23: 0 | G23: 38
A24: CRJ900 | B24: SC04 | C24: 419 | D24: 408 | E24: 314 | F24: 210 | G24: 120
A25: DHC-8-400 (Q400) | B25: SC04 | C25: 248 | D25: 291 | E25: 535 | F25: 743 | G25: 667
A26: DashQ8-400_neu | B26: SC04 | C26: 0 | D26: 0 | E26: 0 | F26: 67 | G26: 329
A27: C909 | B27: SC05 | C27: 308 | D27: 312 | E27: 287 | F27: 239 | G27: 178
A28: E190 | B28: SC05 | C28: 1053 | D28: 1026 | E28: 731 | F28: 429 | G28: 223
A29: E190 E2 | B29: SC05 | C29: 0 | D29: 0 | E29: 275 | F29: 572 | G29: 888
A30: Fokker 100 | B30: SC05 | C30: 116 | D30: 101 | E30: 0 | F30: 0 | G30: 0
... A63: 747-400 | B63: SC13 | C63: 0 | D63: 0 | E63: 0 | F63: 0 | G63: 0

Sheet S.1.4 - % models per year
B1: 717-200 | C1: 737 Max 8 | D1: 737 Max 9 | E1: 737-700 | F1: 737-800 | G1: 747-400 | H1: 777-200 | I1: 777-300 | J1: 777-9 | K1: 787-10 | L1: 787-8 | M1: 787-9 | N1: A220-100 | O1: A220-300 | P1: A319 | Q1: A319neo | R1: A320 | S1: A320neo | T1: A321 | U1: A321neo | V1: A330-200 | W1: A330-300 | X1: A330-900neo | Y1: A350-900 | Z1: A380-800 | AA1: ATR 42 500 | AB1: ATR 42 600 | AC1: ATR 72 500 | AD1: ATR 72 600 | AE1: Beech 1900 D | AF1: C909 | AG1: CRJ200 | AH1: CRJ700 | AI1: CRJ900 | AJ1: Cessna 408 SkyCourier | AK1: DHC-6-300 | AL1: DHC-6-400 | AM1: DHC-8-100 | AN1: DHC-8-300 | AO1: DHC-8-400 (Q400) | AP1: Do 228NG | AQ1: E170 | AR1: E175 | AS1: E190 | AT1: E190 E2 | AU1: E195 | AV1: E195 E2 | AW1: ERJ-145 | AX1: Fokker 100 | AY1: Jetstream 31 | AZ1: MA60 | BA1: SA227 Metro | BB1: Saab 340 B | BC1: Superjet 100 95 | BD1: D239+M | BE1: D239+S | BF1: D300+M | BG1: D315+M | BH1: D70 FC-LH2 | BI1: DashQ8-400_neu | BJ1: Do228NG_neu
A2: 2000 | B2: 0.0078305748 | C2: 0 | D2: 0 | E2: 0.044847838 | F2: 0.06478021 | G2: 0.089161773 | H2: 0.043958 | I2: 0.0042712226 | J2: 0 | K2: 0 | L2: 0 | M2: 0 | N2: 0 | O2: 0 | P2: 0.051788574 | Q2: 0 | R2: 0.14682328 | S2: 0 | T2: 0.026695141 | U2: 0 | V2: 0.013169603 | W2: 0.01566115 | X2: 0 | Y2: 0 | Z2: 0 | AA2: 0.010500089 | AB2: 0 | AC2: 0.010500089 | AD2: 0.00017796761 | AE2: 0.06478021 | AF2: 0 | AG2: 0.038974907 | AH2: 0.00035593522 | AI2: 0 | AJ2: 0 | AK2: 0.074390461 | AL2: 0 | AM2: 0.043958 | AN2: 0.021890016 | AO2: 0.0035593522 | AP2: 0.00088983805 | AQ2: 0 | AR2: 0 | AS2: 0 | AT2: 0 | AU2: 0 | AV2: 0 | AW2: 0.038441004 | AX2: 0.043068162 | AY2: 0.053034348 | AZ2: 0.00071187044 | BA2: 0.047873287 | BB2: 0.037907101 | BC2: 0 | BD2: 0 | BE2: 0 | BF2: 0 | BG2: 0 | BH2: 0 | BI2: 0 | BJ2: 0
A3: 2001 | B3: 0.013800589 | C3: 0 | D3: 0 | E3: 0.051790975 | F3: 0.080167468 | G3: 0.081718096 | H3: 0.044968212 | I3: 0.00387657 | J3: 0 | K3: 0 | L3: 0 | M3: 0 | N3: 0 | O3: 0 | P3: 0.057063111 | Q3: 0 | R3: 0.14451853 | S3: 0 | T3: 0.02992712 | U3: 0 | V3: 0.013645526 | W3: 0.016436657 | X3: 0 | Y3: 0 | Z3: 0 | AA3: 0.0096138936 | AB3: 0 | AC3: 0.010854396 | AD3: 0.0001550628 | AE3: 0.057528299 | AF3: 0 | AG3: 0.044968212 | AH3: 0.003101256 | AI3: 0.0001550628 | AJ3: 0 | AK3: 0.064351062 | AL3: 0 | AM3: 0.038145449 | AN3: 0.020933478 | AO3: 0.0071328888 | AP3: 0.000775314 | AQ3: 0 | AR3: 0 | AS3: 0 | AT3: 0 | AU3: 0 | AV3: 0 | AW3: 0.045278338 | AX3: 0.037370135 | AY3: 0.046053652 | AZ3: 0.000775314 | BA3: 0.042022019 | BB3: 0.032873314 | BC3: 0 | BD3: 0 | BE3: 0 | BF3: 0 | BG3: 0 | BH3: 0 | BI3: 0 | BJ3: 0
A4: 2002 | B4: 0.01493579 | C4: 0 | D4: 0 | E4: 0.055695142 | F4: 0.087800112 | G4: 0.0773311 | H4: 0.045086544 | I4: 0.0040480179 | J4: 0 | K4: 0 | L4: 0 | M4: 0 | N4: 0 | O4: 0 | P4: 0.062534897 | Q4: 0 | R4: 0.14600782 | S4: 0 | T4: 0.02987158 | U4: 0 | V4: 0.016331658 | W4: 0.015633724 | X4: 0 | Y4: 0 | Z4: 0 | AA4: 0.0087939698 | AB4: 0 | AC4: 0.011166946 | AD4: 0.00013958682 | AE4: 0.05360134 | AF4: 0 | AG4: 0.051088777 | AH4: 0.0080960357 | AI4: 0.00013958682 | AJ4: 0 | AK4: 0.057649358 | AL4: 0 | AM4: 0.033640424 | AN4: 0.019542155 | AO4: 0.008654383 | AP4: 0.00069793412 | AQ4: 0.00069793412 | AR4: 0 | AS4: 0 | AT4: 0 | AU4: 0 | AV4: 0 | AW4: 0.048715801 | AX4: 0.033640424 | AY4: 0.040898939 | AZ4: 0.0011166946 | BA4: 0.036990508 | BB4: 0.02945282 | BC4: 0 | BD4: 0 | BE4: 0 | BF4: 0 | BG4: 0 | BH4: 0 | BI4: 0 | BJ4: 0
A5: 2003 | B5: 0.01465059 | C5: 0 | D5: 0 | E5: 0.061065733 | F5: 0.089070401 | G5: 0.074160508 | H5: 0.044600026 | I5: 0.0049267471 | J5: 0 | K5: 0 | L5: 0 | M5: 0 | N5: 0 | O5: 0 | P5: 0.06599248 | Q5: 0 | R5: 0.14832102 | S5: 0 | T5: 0.031245948 | U5: 0 | V5: 0.017243615 | W5: 0.016076754 | X5: 0 | Y5: 0 | Z5: 0 | AA5: 0.0082976792 | AB5: 0 | AC5: 0.010631402 | AD5: 0.00012965124 | AE5: 0.049656424 | AF5: 0 | AG5: 0.056009335 | AH5: 0.013354078 | AI5: 0.00064825619 | AJ5: 0 | AK5: 0.052897705 | AL5: 0 | AM5: 0.030856995 | AN5: 0.018669778 | AO5: 0.0089459354 | AP5: 0.00064825619 | AQ5: 0.00077790743 | AR5: 0.00025930248 | AS5: 0 | AT5: 0 | AU5: 0 | AV5: 0 | AW5: 0.050823285 | AX5: 0.030986646 | AY5: 0.037080254 | AZ5: 0.0010372099 | BA5: 0.033709322 | BB5: 0.02722676 | BC5: 0 | BD5: 0 | BE5: 0 | BF5: 0 | BG5: 0 | BH5: 0 | BI5: 0 | BJ5: 0
A6: 2004 | B6: 0.014927155 | C6: 0 | D6: 0 | E6: 0.068784332 | F6: 0.090637688 | G6: 0.069859088 | H6: 0.042751373 | I6: 0.0056126105 | J6: 0 | K6: 0 | L6: 0 | M6: 0 | N6: 0 | O6: 0 | P6: 0.069500836 | Q6: 0 | R6: 0.14688321 | S6: 0 | T6: 0.031764987 | U6: 0 | V6: 0.018748507 | W6: 0.0173155 | X6: 0 | Y6: 0 | Z6: 0 | AA6: 0.0082397898 | AB6: 0 | AC6: 0.010150466 | AD6: 0.00011941724 | AE6: 0.045259135 | AF6: 0 | AG6: 0.056603774 | AH6: 0.018390256 | AI6: 0.0010747552 | AJ6: 0 | AK6: 0.048363984 | AL6: 0 | AM6: 0.027943635 | AN6: 0.017076666 | AO6: 0.010150466 | AP6: 0.00059708622 | AQ6: 0.0058514449 | AR6: 0.00023883449 | AS6: 0.00035825173 | AT6: 0 | AU6: 0.00011941724 | AV6: 0 | AW6: 0.054931932 | AX6: 0.028421304 | AY6: 0.032839742 | AZ6: 0.00095533795 | BA6: 0.030451397 | BB6: 0.025077621 | BC6: 0 | BD6: 0 | BE6: 0 | BF6: 0 | BG6: 0 | BH6: 0 | BI6: 0 | BJ6: 0
A7: 2005 | B7: 0.015051637 | C7: 0 | D7: 0 | E7: 0.072731268 | F7: 0.094155131 | G7: 0.065699846 | H7: 0.040430675 | I7: 0.0072511536 | J7: 0 | K7: 0 | L7: 0 | M7: 0 | N7: 0 | O7: 0 | P7: 0.077125906 | Q7: 0 | R7: 0.14744012 | S7: 0 | T7: 0.030872336 | U7: 0 | V7: 0.019885739 | W7: 0.018896946 | X7: 0 | Y7: 0 | Z7: 0.00032959789 | AA7: 0.0079103494 | AB7: 0 | AC7: 0.010107669 | AD7: 0.00010986596 | AE7: 0.041309602 | AF7: 0 | AG7: 0.053834322 | AH7: 0.021753461 | AI7: 0.0032959789 | AJ7: 0 | AK7: 0.044166117 | AL7: 0 | AM7: 0.024939574 | AN7: 0.01658976 | AO7: 0.010437267 | AP7: 0.00054932982 | AQ7: 0.010217535 | AR7: 0.0017578554 | AS7: 0.0012085256 | AT7: 0 | AU7: 0.00010986596 | AV7: 0 | AW7: 0.054932982 | AX7: 0.025488904 | AY7: 0.029553944 | AZ7: 0.0010986596 | BA7: 0.027686223 | BB7: 0.023071852 | BC7: 0 | BD7: 0 | BE7: 0 | BF7: 0 | BG7: 0 | BH7: 0 | BI7: 0 | BJ7: 0
A8: 2006 | B8: 0.014206549 | C8: 0 | D8: 0 | E8: 0.076070529 | F8: 0.10236776 | G8: 0.061561713 | H8: 0.038690176 | I8: 0.0098740554 | J8: 0 | K8: 0 | L8: 0 | M8: 0 | N8: 0 | O8: 0 | P8: 0.082821159 | Q8: 0 | R8: 0.14962217 | S8: 0 | T8: 0.030025189 | U8: 0 | V8: 0.021360202 | W8: 0.019345088 | X8: 0 | Y8: 0 | Z8: 0.00060453401 | AA8: 0.0080604534 | AB8: 0 | AC8: 0.010579345 | AD8: 0.00010075567 | AE8: 0.037783375 | AF8: 0 | AG8: 0.0497733 | AH8: 0.022367758 | AI8: 0.0058438287 | AJ8: 0 | AK8: 0.040100756 | AL8: 0 | AM8: 0.022267003 | AN8: 0.016322418 | AO8: 0.011989924 | AP8: 0.00050377834 | AQ8: 0.012695214 | AR8: 0.0026196474 | AS8: 0.0047355164 | AT8: 0 | AU8: 0.000302267 | AV8: 0 | AW8: 0.05138539 | AX8: 0.022871537 | AY8: 0.026196474 | AZ8: 0.0014105793 | BA8: 0.024685139 | BB8: 0.020856423 | BC8: 0 | BD8: 0 | BE8: 0 | BF8: 0 | BG8: 0 | BH8: 0 | BI8: 0 | BJ8: 0
A9: 2007 | B9: 0.013039859 | C9: 0 | D9: 0 | E9: 0.077961713 | F9: 0.11190234 | G9: 0.057800795 | H9: 0.037917322 | I9: 0.012947378 | J9: 0 | K9: 0 | L9: 0 | M9: 0 | N9: 0 | O9: 0 | P9: 0.084157958 | Q9: 0 | R9: 0.15157681 | S9: 0 | T9: 0.031721076 | U9: 0 | V9: 0.022935356 | W9: 0.020068436 | X9: 0 | Y9: 0 | Z9: 0.00064736891 | AA9: 0.0078609082 | AB9: 0 | AC9: 0.012022565 | AD9: 9.2481273e-05 | AE9: 0.034587996 | AF9: 0 | AG9: 0.045685749 | AH9: 0.020715805 | AI9: 0.0088782022 | AJ9: 0 | AK9: 0.036530103 | AL9: 0 | AM9: 0.019513549 | AN9: 0.015721816 | AO9: 0.013317303 | AP9: 0.00046240636 | AQ9: 0.012207528 | AR9: 0.0055488764 | AS9: 0.0095255711 | AT9: 0 | AU9: 0.00083233145 | AV9: 0 | AW9: 0.047627855 | AX9: 0.020715805 | AY9: 0.022935356 | AZ9: 0.0017571442 | BA9: 0.022195505 | BB9: 0.018588736 | BC9: 0 | BD9: 0 | BE9: 0 | BF9: 0 | BG9: 0 | BH9: 0 | BI9: 0 | BJ9: 0
A10: 2008 | B10: 0.011983682 | C10: 0 | D10: 0 | E10: 0.076576577 | F10: 0.118137 | G10: 0.054224035 | H10: 0.035611083 | I10: 0.015468298 | J10: 0 | K10: 0 | L10: 0 | M10: 0 | N10: 0 | O10: 0 | P10: 0.084395716 | Q10: 0 | R10: 0.15434302 | S10: 0 | T10: 0.034591195 | U10: 0 | V10: 0.024392317 | W10: 0.020397756 | X10: 0 | Y10: 0 | Z10: 0.0011898691 | AA10: 0.0074791773 | AB10: 0 | AC10: 0.014533401 | AD10: 8.4990651e-05 | AE10: 0.031616522 | AF10: 8.4990651e-05 | AG10: 0.041985382 | AH10: 0.019292878 | AI10: 0.012748598 | AJ10: 0 | AK10: 0.033061363 | AL10: 0 | AM10: 0.017593065 | AN10: 0.014533401 | AO10: 0.015128336 | AP10: 0.00042495326 | AQ10: 0.011898691 | AR10: 0.0096889342 | AS10: 0.014533401 | AT10: 0 | AU10: 0.0018697943 | AV10: 0 | AW10: 0.044195139 | AX10: 0.018782934 | AY10: 0.019717831 | AZ10: 0.0021247663 | BA10: 0.020227775 | BB10: 0.01699813 | BC10: 8.4990651e-05 | BD10: 0 | BE10: 0 | BF10: 0 | BG10: 0 | BH10: 0 | BI10: 0 | BJ10: 0
A11: 2009 | B11: 0.011014764 | C11: 0 | D11: 0 | E11: 0.07436919 | F11: 0.12920866 | G11: 0.05030857 | H11: 0.034841028 | I11: 0.017967346 | J11: 0 | K11: 0 | L11: 0.00015623779 | M11: 0 | N11: 0 | O11: 0 | P11: 0.083196625 | Q11: 0 | R11: 0.15701898 | S11: 0 | T11: 0.038434497 | U11: 0 | V11: 0.024138739 | W11: 0.021326459 | X11: 0 | Y11: 0 | Z11: 0.0019529724 | AA11: 0.0070307007 | AB11: 0 | AC11: 0.016248731 | AD11: 7.8118897e-05 | AE11: 0.028591516 | AF11: 0.00023435669 | AG11: 0.038590735 | AH11: 0.019685962 | AI11: 0.014061401 | AJ11: 0 | AK11: 0.029841419 | AL11: 0 | AM11: 0.016092493 | AN11: 0.013670807 | AO11: 0.017342395 | AP11: 0.00039059448 | AQ11: 0.012264667 | AR11: 0.0097648621 | AS11: 0.01773299 | AT11: 0 | AU11: 0.0031247559 | AV11: 0 | AW11: 0.040856183 | AX11: 0.01702992 | AY11: 0.017576752 | AZ11: 0.0017967346 | BA11: 0.018279822 | BB11: 0.015623779 | BC11: 0.00015623779 | BD11: 0 | BE11: 0 | BF11: 0 | BG11: 0 | BH11: 0 | BI11: 0 | BJ11: 0
A12: 2010 | B12: 0.010250818 | C12: 0 | D12: 0 | E12: 0.070810614 | F12: 0.14307525 | G12: 0.046601236 | H12: 0.034605598 | I12: 0.019483824 | J12: 0 | K12: 0 | L12: 0.00043620502 | M12: 0 | N12: 0 | O12: 0 | P12: 0.080116321 | Q12: 0 | R12: 0.16401309 | S12: 0 | T12: 0.039403853 | U12: 0 | V12: 0.024427481 | W12: 0.023118866 | X12: 0 | Y12: 0 | Z12: 0.0028353326 | AA12: 0.0067611778 | AB12: 7.2700836e-05 | AC12: 0.017448201 | AD12: 7.2700836e-05 | AE12: 0.0260996 | AF12: 0.00021810251 | AG12: 0.034969102 | AH12: 0.019629226 | AI12: 0.013667757 | AJ12: 0 | AK12: 0.027553617 | AL12: 7.2700836e-05 | AM12: 0.014540167 | AN12: 0.012722646 | AO12: 0.019483824 | AP12: 0.00043620502 | AQ12: 0.012359142 | AR12: 0.0096692112 | AS12: 0.019701927 | AT12: 0 | AU12: 0.003562341 | AV12: 0 | AW12: 0.038095238 | AX12: 0.015121774 | AY12: 0.01475827 | AZ12: 0.0024718284 | BA12: 0.016648491 | BB12: 0.014467466 | BC12: 0.00021810251 | BD12: 0 | BE12: 0 | BF12: 0 | BG12: 0 | BH12: 0 | BI12: 0 | BJ12: 0
A13: 2011 | B13: 0.0095645096 | C13: 0 | D13: 0 | E13: 0.068715235 | F13: 0.15296432 | G13: 0.042531543 | H13: 0.033645367 | I13: 0.021638855 | J13: 0 | K13: 0 | L13: 0.00074616741 | M13: 0 | N13: 0 | O13: 0 | P13: 0.077330077 | Q13: 0 | R13: 0.17026184 | S13: 0 | T13: 0.041174875 | U13: 0 | V13: 0.025301859 | W13: 0.024148691 | X13: 0 | Y13: 0 | Z13: 0.0040021707 | AA13: 0.0066476733 | AB13: 6.7833401e-05 | AC13: 0.018518519 | AD13: 0.00074616741 | AE13: 0.024148691 | AF13: 0.0002035002 | AG13: 0.031949532 | AH13: 0.019061186 | AI13: 0.013498847 | AJ13: 0 | AK13: 0.025573192 | AL13: 0.00040700041 | AM13: 0.013295347 | AN13: 0.011803012 | AO13: 0.020757021 | AP13: 0.00047483381 | AQ13: 0.011599512 | AR13: 0.0095645096 | AS13: 0.022317189 | AT13: 0 | AU13: 0.0048161715 | AV13: 0 | AW13: 0.035476869 | AX13: 0.013227513 | AY13: 0.012752679 | AZ13: 0.0024420024 | BA13: 0.014923348 | BB13: 0.013295347 | BC13: 0.00040700041 | BD13: 0 | BE13: 0 | BF13: 0 | BG13: 0 | BH13: 0 | BI13: 0 | BJ13: 0
... A21: 2019 | B21: 0.0055342172 | C21: 0.014165944 | D21: 0.0011151035 | E21: 0.040185025 | F21: 0.19551481 | G21: 0.014661545 | H21: 0.023128072 | I21: 0.033577004 | J21: 0 | K21: 0.001941106 | L21: 0.014661545 | M21: 0.020939165 | N21: 0.0016520051 | O21: 0.0021063065 | P21: 0.049807954 | Q21: 0 | R21: 0.16445711 | S21: 0.027051584 | T21: 0.065915004 | U21: 0.0087969273 | V21: 0.021310866 | W21: 0.028497088 | X21: 0.0016520051 | Y21: 0.012720439 | Z21: 0.0088795275 | AA21: 0.0034692108 | AB21: 0.0016933052 | AC21: 0.010201132 | AD21: 0.016561351 | AE21: 0.013752943 | AF21: 0.00070210218 | AG21: 0.014248544 | AH21: 0.011109734 | AI21: 0.015611448 | AJ21: 0 | AK21: 0.014455045 | AL21: 0.0047495147 | AM21: 0.0068145211 | AN21: 0.0064015198 | AO21: 0.018502457 | AP21: 0.0007434023 | AQ21: 0.0065254202 | AR21: 0.02581258 | AS21: 0.018089456 | AT21: 0.00033040102 | AU21: 0.0053277165 | AV21: 0.00033040102 | AW21: 0.018172056 | AX21: 0.0041300128 | AY21: 0.0047082146 | AZ21: 0.0011977037 | BA21: 0.0072688225 | BB21: 0.0059472184 | BC21: 0.0048734151 | BD21: 0 | BE21: 0 | BF21: 0 | BG21: 0 | BH21: 0 | BI21: 0 | BJ21: 0
A22: 2020 | B22: =B$21 + ($A22 - $A$21) * ((B$26 - B$21) / ($A$26 - $A$21)) -> 0.0058276348 | C22: =C$21 + ($A22 - $A$21) * ((C$26 - C$21) / ($A$26 - $A$21)) -> 0.022522977 | D22: =D$21 + ($A22 - $A$21) * ((D$26 - D$21) / ($A$26 - $A$21)) -> 0.00089208277 | E22: =E$21 + ($A22 - $A$21) * ((E$26 - E$21) / ($A$26 - $A$21)) -> 0.044216371 | F22: =F$21 + ($A22 - $A$21) * ((F$26 - F$21) / ($A$26 - $A$21)) -> 0.19257537 | G22: =G$21 + ($A22 - $A$21) * ((G$26 - G$21) / ($A$26 - $A$21)) -> 0.011729236 | H22: =H$21 + ($A22 - $A$21) * ((H$26 - H$21) / ($A$26 - $A$21)) -> 0.018994922 | I22: =I$21 + ($A22 - $A$21) * ((I$26 - I$21) / ($A$26 - $A$21)) -> 0.029306127 | ... BJ22: =BJ$21 + ($A22 - $A$21) * ((BJ$26 - BJ$21) / ($A$26 - $A$21)) -> 0
A23: 2021 | B23: =B$21 + ($A23 - $A$21) * ((B$26 - B$21) / ($A$26 - $A$21)) -> 0.0061210524 | C23: =C$21 + ($A23 - $A$21) * ((C$26 - C$21) / ($A$26 - $A$21)) -> 0.03088001 | D23: =D$21 + ($A23 - $A$21) * ((D$26 - D$21) / ($A$26 - $A$21)) -> 0.00066906207 | E23: =E$21 + ($A23 - $A$21) * ((E$26 - E$21) / ($A$26 - $A$21)) -> 0.048247718 | F23: =F$21 + ($A23 - $A$21) * ((F$26 - F$21) / ($A$26 - $A$21)) -> 0.18963593 | G23: =G$21 + ($A23 - $A$21) * ((G$26 - G$21) / ($A$26 - $A$21)) -> 0.0087969273 | H23: =H$21 + ($A23 - $A$21) * ((H$26 - H$21) / ($A$26 - $A$21)) -> 0.014861772 | I23: =I$21 + ($A23 - $A$21) * ((I$26 - I$21) / ($A$26 - $A$21)) -> 0.02503525 | ... BJ23: =BJ$21 + ($A23 - $A$21) * ((BJ$26 - BJ$21) / ($A$26 - $A$21)) -> 0
A24: 2022 | B24: =B$21 + ($A24 - $A$21) * ((B$26 - B$21) / ($A$26 - $A$21)) -> 0.0064144701 | C24: =C$21 + ($A24 - $A$21) * ((C$26 - C$21) / ($A$26 - $A$21)) -> 0.039237043 | D24: =D$21 + ($A24 - $A$21) * ((D$26 - D$21) / ($A$26 - $A$21)) -> 0.00044604138 | E24: =E$21 + ($A24 - $A$21) * ((E$26 - E$21) / ($A$26 - $A$21)) -> 0.052279065 | F24: =F$21 + ($A24 - $A$21) * ((F$26 - F$21) / ($A$26 - $A$21)) -> 0.18669649 | G24: =G$21 + ($A24 - $A$21) * ((G$26 - G$21) / ($A$26 - $A$21)) -> 0.0058646182 | H24: =H$21 + ($A24 - $A$21) * ((H$26 - H$21) / ($A$26 - $A$21)) -> 0.010728623 | I24: =I$21 + ($A24 - $A$21) * ((I$26 - I$21) / ($A$26 - $A$21)) -> 0.020764372 | ... BJ24: =BJ$21 + ($A24 - $A$21) * ((BJ$26 - BJ$21) / ($A$26 - $A$21)) -> 0
A25: 2023 | B25: =B$21 + ($A25 - $A$21) * ((B$26 - B$21) / ($A$26 - $A$21)) -> 0.0067078877 | C25: =C$21 + ($A25 - $A$21) * ((C$26 - C$21) / ($A$26 - $A$21)) -> 0.047594076 | D25: =D$21 + ($A25 - $A$21) * ((D$26 - D$21) / ($A$26 - $A$21)) -> 0.00022302069 | E25: =E$21 + ($A25 - $A$21) * ((E$26 - E$21) / ($A$26 - $A$21)) -> 0.056310412 | F25: =F$21 + ($A25 - $A$21) * ((F$26 - F$21) / ($A$26 - $A$21)) -> 0.18375705 | G25: =G$21 + ($A25 - $A$21) * ((G$26 - G$21) / ($A$26 - $A$21)) -> 0.0029323091 | H25: =H$21 + ($A25 - $A$21) * ((H$26 - H$21) / ($A$26 - $A$21)) -> 0.0065954731 | I25: =I$21 + ($A25 - $A$21) * ((I$26 - I$21) / ($A$26 - $A$21)) -> 0.016493495 | ... BJ25: =BJ$21 + ($A25 - $A$21) * ((BJ$26 - BJ$21) / ($A$26 - $A$21)) -> 0
A26: 2024 | B26: 0.0070013053 | C26: 0.05595111 | D26: 0 | E26: 0.060341759 | F26: 0.18081761 | G26: 0 | H26: 0.0024623235 | I26: 0.012222618 | J26: 0 | K26: 0 | L26: 0.016168269 | M26: 0.031832206 | N26: 0.0052213124 | O26: 0.022398244 | P26: 0.077815355 | Q26: 0 | R26: 0.16011036 | S26: 0.052984455 | T26: 0.013468613 | U26: 0.03257387 | V26: 0.014981607 | W26: 0.029547882 | X26: 0.00029666548 | Y26: 0.0065563071 | Z26: 0.0019876587 | AA26: 0 | AB26: 0 | AC26: 0.0074759701 | AD26: 0.017859262 | AE26: 0.0048949804 | AF26: 0.0091372968 | AG26: 0.0084846327 | AH26: 0.010976623 | AI26: 0.012430284 | AJ26: 0 | AK26: 0.0057849769 | AL26: 0.0020469918 | AM26: 0.0057849769 | AN26: 0.0054883114 | AO26: 0.0073573039 | AP26: 0 | AQ26: 0.0062893082 | AR26: 0.0250979 | AS26: 0.031238875 | AT26: 0 | AU26: 0.013438946 | AV26: 0.0090482971 | AW26: 0.013854278 | AX26: 0.0034413196 | AY26: 0.0018689925 | AZ26: 0 | BA26: 0.0014833274 | BB26: 0.0037083185 | BC26: 0.0080693011 | BD26: 0 | BE26: 0 | BF26: 0 | BG26: 0 | BH26: 0 | BI26: 0 | BJ26: 0
A27: 2025 | B27: 0.0062972663 | C27: 0.055086367 | D27: 0 | E27: 0.056322279 | F27: 0.17364565 | G27: 0 | H27: 0.0021775594 | I27: 0.011770591 | J27: 0.00038254421 | K27: 0 | L27: 0.020981079 | M27: 0.030574111 | N27: 0.0052084866 | O27: 0.024247418 | P27: 0.071918312 | Q27: 0 | R27: 0.15201719 | S27: 0.073654474 | T27: 0.012800518 | U27: 0.039490333 | V27: 0.013948151 | W27: 0.027602036 | X27: 0.00029426478 | Y27: 0.0085336786 | Z27: 0.0020010005 | AA27: 0.0056793102 | AB27: 0 | AC27: 0.0072389136 | AD27: 0.019097784 | AE27: 0.0045611041 | AF27: 0.0091810611 | AG27: 0.0075331784 | AH27: 0.010122708 | AI27: 0.012006003 | AJ27: 0 | AK27: 0.0049142218 | AL27: 0.001971574 | AM27: 0.0053261925 | AN27: 0.0051496336 | AO27: 0.0085631051 | AP27: 0.0026189565 | AQ27: 0.0057675897 | AR27: 0.024306271 | AS27: 0.030191566 | AT27: 0 | AU27: 0.01294765 | AV27: 0.0088279434 | AW27: 0.012329694 | AX27: 0.0029720743 | AY27: 0.0017067357 | AZ27: 0 | BA27: 0 | BB27: 0 | BC27: 0.0080334285 | BD27: 0 | BE27: 0 | BF27: 0 | BG27: 0 | BH27: 0 | BI27: 0 | BJ27: 0
A28: 2026 | B28: 0.005037813 | C28: 0.05450772 | D28: 0 | E28: 0.05212458 | F28: 0.1669682 | G28: 0 | H28: 0.0017420475 | I28: 0.011161911 | J28: 0.00094640713 | K28: 0.00028901734 | L28: 0.024730006 | M28: 0.029417919 | N28: 0.0050905114 | O28: 0.025614641 | P28: 0.065122772 | Q28: 0 | R28: 0.14467847 | S28: 0.085099483 | T28: 0.012365542 | U28: 0.048400609 | V28: 0.01115852 | W28: 0.025765183 | X28: 0.00028641488 | Y28: 0.013298665 | Z28: 0.0019294868 | AA28: 0.0073372825 | AB28: 0 | AC28: 0.0070095373 | AD28: 0.019885504 | AE28: 0.004272254 | AF28: 0.0089712798 | AG28: 0.0067009165 | AH28: 0.0093505752 | AI28: 0.011384243 | AJ28: 0 | AK28: 0.0043450689 | AL28: 0.0019059456 | AM28: 0.0048786577 | AN28: 0.0047770797 | AO28: 0.0098823326 | AP28: 0.0034439128 | AQ28: 0.0053111136 | AR28: 0.023434589 | AS28: 0.028295835 | AT28: 0.0015584268 | AU28: 0.012148894 | AV28: 0.010286882 | AW28: 0.010985823 | AX28: 0.0023776594 | AY28: 0.0015807348 | AZ28: 0 | BA28: 0 | BB28: 0 | BC28: 0.0077584894 | BD28: 0.002533152 | BE28: 0.0038478975 | BF28: 0 | BG28: 0 | BH28: 0 | BI28: 0 | BJ28: 0
A29: 2027 | B29: 0.0037783598 | C29: 0.053929073 | D29: 0 | E29: 0.047926882 | F29: 0.16029075 | G29: 0 | H29: 0.0013065356 | I29: 0.010553231 | J29: 0.00151027 | K29: 0.00057803468 | L29: 0.028478934 | M29: 0.028261728 | N29: 0.0049725361 | O29: 0.026981863 | P29: 0.058327231 | Q29: 0 | R29: 0.13733975 | S29: 0.096544492 | T29: 0.011930566 | U29: 0.057310884 | V29: 0.0083688903 | W29: 0.02392833 | X29: 0.00027856499 | Y29: 0.01806365 | Z29: 0.0018579731 | AA29: 0.0089952547 | AB29: 0 | AC29: 0.006780161 | AD29: 0.020673223 | AE29: 0.0039834039 | AF29: 0.0087614985 | AG29: 0.0058686546 | AH29: 0.008578442 | AI29: 0.010762482 | AJ29: 0 | AK29: 0.0037759161 | AL29: 0.0018403172 | AM29: 0.004431123 | AN29: 0.0044045257 | AO29: 0.01120156 | AP29: 0.0042688691 | AQ29: 0.0048546375 | AR29: 0.022562908 | AS29: 0.026400104 | AT29: 0.0031168537 | AU29: 0.011350138 | AV29: 0.01174582 | AW29: 0.0096419512 | AX29: 0.0017832446 | AY29: 0.0014547339 | AZ29: 0 | BA29: 0 | BB29: 0 | BC29: 0.0074835502 | BD29: 0.005066304 | BE29: 0.0076957951 | BF29: 0 | BG29: 0 | BH29: 0 | BI29: 0 | BJ29: 0
A30: 2028 | B30: 0.0025189065 | C30: 0.053350426 | D30: 0 | E30: 0.043729184 | F30: 0.15361331 | G30: 0 | H30: 0.00087102375 | I30: 0.0099445507 | J30: 0.002074133 | K30: 0.00086705202 | L30: 0.032227862 | M30: 0.027105537 | N30: 0.0048545609 | O30: 0.028349086 | P30: 0.051531691 | Q30: 0 | R30: 0.13000103 | S30: 0.1079895 | T30: 0.01149559 | U30: 0.066221159 | V30: 0.0055792602 | W30: 0.022091478 | X30: 0.00027071509 | Y30: 0.022828636 | Z30: 0.0017864594 | AA30: 0.010653227 | AB30: 0 | AC30: 0.0065507847 | AD30: 0.021460943 | AE30: 0.0036945538 | AF30: 0.0085517172 | AG30: 0.0050363927 | AH30: 0.0078063088 | AI30: 0.010140721 | AJ30: 0 | AK30: 0.0032067632 | AL30: 0.0017746888 | AM30: 0.0039835882 | AN30: 0.0040319718 | AO30: 0.012520788 | AP30: 0.0050938254 | AQ30: 0.0043981613 | AR30: 0.021691226 | AS30: 0.024504372 | AT30: 0.0046752805 | AU30: 0.010551382 | AV30: 0.013204758 | AW30: 0.0082980797 | AX30: 0.0011888297 | AY30: 0.0013287331 | AZ30: 0 | BA30: 0 | BB30: 0 | BC30: 0.0072086111 | BD30: 0.007599456 | BE30: 0.011543693 | BF30: 0 | BG30: 0 | BH30: 0 | BI30: 0 | BJ30: 0
A31: 2029 | B31: 0.0012594533 | C31: 0.052771779 | D31: 0 | E31: 0.039531485 | F31: 0.14693586 | G31: 0 | H31: 0.00043551187 | I31: 0.0093358705 | J31: 0.0026379959 | K31: 0.0011560694 | L31: 0.035976789 | M31: 0.025949346 | N31: 0.0047365857 | O31: 0.029716309 | P31: 0.04473615 | Q31: 0 | R31: 0.12266231 | S31: 0.11943451 | T31: 0.011060614 | U31: 0.075131434 | V31: 0.0027896301 | W31: 0.020254625 | X31: 0.0002628652 | Y31: 0.027593622 | Z31: 0.0017149457 | AA31: 0.012311199 | AB31: 0 | AC31: 0.0063214085 | AD31: 0.022248663 | AE31: 0.0034057038 | AF31: 0.0083419359 | AG31: 0.0042041309 | AH31: 0.0070341756 | AI31: 0.009518961 | AJ31: 0 | AK31: 0.0026376103 | AL31: 0.0017090604 | AM31: 0.0035360534 | AN31: 0.0036594178 | AO31: 0.013840015 | AP31: 0.0059187817 | AQ31: 0.0039416852 | AR31: 0.020819545 | AS31: 0.022608641 | AT31: 0.0062337074 | AU31: 0.0097526265 | AV31: 0.014663696 | AW31: 0.0069542081 | AX31: 0.00059441485 | AY31: 0.0012027322 | AZ31: 0 | BA31: 0 | BB31: 0 | BC31: 0.006933672 | BD31: 0.010132608 | BE31: 0.01539159 | BF31: 0 | BG31: 0 | BH31: 0 | BI31: 0 | BJ31: 0
A32: 2030 | B32: 0 | C32: 0.052193132 | D32: 0 | E32: 0.035333787 | F32: 0.14025842 | G32: 0 | H32: 0 | I32: 0.0087271903 | J32: 0.0032018588 | K32: 0.0014450867 | L32: 0.039725717 | M32: 0.024793154 | N32: 0.0046186104 | O32: 0.031083532 | P32: 0.03794061 | Q32: 0 | R32: 0.11532359 | S32: 0.13087952 | T32: 0.010625638 | U32: 0.084041709 | V32: 0 | W32: 0.018417772 | X32: 0.0002550153 | Y32: 0.032358608 | Z32: 0.0016434319 | AA32: 0.013969171 | AB32: 0 | AC32: 0.0060920322 | AD32: 0.023036382 | AE32: 0.0031168537 | AF32: 0.0081321546 | AG32: 0.003371869 | AH32: 0.0062620424 | AI32: 0.0088972005 | AJ32: 0 | AK32: 0.0020684574 | AL32: 0.0016434319 | AM32: 0.0030885186 | AN32: 0.0032868639 | AO32: 0.015159243 | AP32: 0.006743738 | AQ32: 0.0034852091 | AR32: 0.019947864 | AS32: 0.020712909 | AT32: 0.0077921342 | AU32: 0.0089538706 | AV32: 0.016122634 | AW32: 0.0056103366 | AX32: 0 | AY32: 0.0010767313 | AZ32: 0 | BA32: 0 | BB32: 0 | BC32: 0.0066587329 | BD32: 0.01266576 | BE32: 0.019239488 | BF32: 0 | BG32: 0 | BH32: 0 | BI32: 0 | BJ32: 0
A33: 2031 | B33: 0 | C33: 0.051170752 | D33: 0 | E33: 0.031614424 | F33: 0.13145289 | G33: 0 | H33: 0 | I33: 0.0080866645 | J33: 0.0040310747 | K33: 0.0013955577 | L33: 0.04233439 | M33: 0.023731652 | N33: 0.0044351251 | O33: 0.034713063 | P33: 0.034195188 | Q33: 0 | R33: 0.10702006 | S33: 0.13050304 | T33: 0.00850051 | U33: 0.081951016 | V33: 0 | W33: 0.01692227 | X33: 0.00024755558 | Y33: 0.035025545 | Z33: 0.0015379052 | AA33: 0.014457416 | AB33: 0.00033201796 | AC33: 0.0058587938 | AD33: 0.023240645 | AE33: 0.0029071447 | AF33: 0.0078065809 | AG33: 0.0026974952 | AH33: 0.0056845557 | AI33: 0.0082607731 | AJ33: 0 | AK33: 0.001654766 | AL33: 0.0015868914 | AM33: 0.0028300475 | AN33: 0.0030540387 | AO33: 0.016171482 | AP33: 0.0071802673 | AQ33: 0.0030603132 | AR33: 0.01894101 | AS33: 0.018905339 | AT33: 0.0093470561 | AU33: 0.0081645933 | AV33: 0.017246998 | AW33: 0.0049618031 | AX33: 0 | AY33: 0.00099745795 | AZ33: 0 | BA33: 0 | BB33: 0 | BC33: 0.0062794968 | BD33: 0.029623695 | BE33: 0.029363559 | BF33: 0 | BG33: 0 | BH33: 0 | BI33: 0.00036467547 | BJ33: 0.00015240169
A34: 2032 | B34: 0 | C34: 0.050148373 | D34: 0 | E34: 0.02789506 | F34: 0.12264736 | G34: 0 | H34: 0 | I34: 0.0074461386 | J34: 0.0048602907 | K34: 0.0013460288 | L34: 0.044943064 | M34: 0.02267015 | N34: 0.0042516398 | O34: 0.038342594 | P34: 0.030449765 | Q34: 0 | R34: 0.098716536 | S34: 0.13012657 | T34: 0.0063753825 | U34: 0.079860323 | V34: 0 | W34: 0.015426769 | X34: 0.00024009586 | Y34: 0.037692482 | Z34: 0.0014323784 | AA34: 0.014945661 | AB34: 0.00066403592 | AC34: 0.0056255554 | AD34: 0.023444907 | AE34: 0.0026974357 | AF34: 0.0074810073 | AG34: 0.0020231214 | AH34: 0.0051070689 | AI34: 0.0076243456 | AJ34: 0 | AK34: 0.0012410745 | AL34: 0.0015303509 | AM34: 0.0025715763 | AN34: 0.0028212134 | AO34: 0.017183721 | AP34: 0.0076167966 | AQ34: 0.0026354172 | AR34: 0.017934156 | AS34: 0.017097769 | AT34: 0.010901978 | AU34: 0.0073753159 | AV34: 0.018371362 | AW34: 0.0043132696 | AX34: 0 | AY34: 0.00091818463 | AZ34: 0 | BA34: 0 | BB34: 0 | BC34: 0.0059002608 | BD34: 0.04658163 | BE34: 0.039487631 | BF34: 0 | BG34: 0 | BH34: 0 | BI34: 0.00072935093 | BJ34: 0.00030480337
A35: 2033 | B35: 0 | C35: 0.049125994 | D35: 0 | E35: 0.024175697 | F35: 0.11384183 | G35: 0 | H35: 0 | I35: 0.0068056128 | J35: 0.0056895066 | K35: 0.0012964998 | L35: 0.047551737 | M35: 0.021608648 | N35: 0.0040681545 | O35: 0.041972125 | P35: 0.026704343 | Q35: 0 | R35: 0.09041301 | S35: 0.12975009 | T35: 0.004250255 | U35: 0.07776963 | V35: 0 | W35: 0.013931267 | X35: 0.00023263614 | Y35: 0.040359418 | Z35: 0.0013268516 | AA35: 0.015433906 | AB35: 0.00099605388 | AC35: 0.005392317 | AD35: 0.02364917 | AE35: 0.0024877266 | AF35: 0.0071554336 | AG35: 0.0013487476 | AH35: 0.0045295822 | AI35: 0.0069879182 | AJ35: 0 | AK35: 0.00082738298 | AL35: 0.0014738104 | AM35: 0.0023131051 | AN35: 0.0025883882 | AO35: 0.01819596 | AP35: 0.0080533259 | AQ35: 0.0022105213 | AR35: 0.016927302 | AS35: 0.015290198 | AT35: 0.0124569 | AU35: 0.0065860386 | AV35: 0.019495727 | AW35: 0.0036647361 | AX35: 0 | AY35: 0.00083891131 | AZ35: 0 | BA35: 0 | BB35: 0 | BC35: 0.0055210248 | BD35: 0.063539566 | BE35: 0.049611702 | BF35: 0 | BG35: 0 | BH35: 0 | BI35: 0.0010940264 | BJ35: 0.00045720506
A36: 2034 | B36: 0 | C36: 0.048103615 | D36: 0 | E36: 0.020456334 | F36: 0.10503631 | G36: 0 | H36: 0 | I36: 0.006165087 | J36: 0.0065187226 | K36: 0.0012469708 | L36: 0.050160411 | M36: 0.020547146 | N36: 0.0038846692 | O36: 0.045601657 | P36: 0.022958921 | Q36: 0 | R36: 0.082109485 | S36: 0.12937362 | T36: 0.0021251275 | U36: 0.075678936 | V36: 0 | W36: 0.012435766 | X36: 0.00022517642 | Y36: 0.043026355 | Z36: 0.0012213248 | AA36: 0.015922151 | AB36: 0.0013280718 | AC36: 0.0051590786 | AD36: 0.023853432 | AE36: 0.0022780176 | AF36: 0.00682986 | AG36: 0.0006743738 | AH36: 0.0039520955 | AI36: 0.0063514907 | AJ36: 0 | AK36: 0.00041369149 | AL36: 0.0014172699 | AM36: 0.0020546339 | AN36: 0.002355563 | AO36: 0.019208199 | AP36: 0.0084898552 | AQ36: 0.0017856253 | AR36: 0.015920448 | AS36: 0.013482628 | AT36: 0.014011822 | AU36: 0.0057967613 | AV36: 0.020620091 | AW36: 0.0030162026 | AX36: 0 | AY36: 0.00075963799 | AZ36: 0 | BA36: 0 | BB36: 0 | BC36: 0.0051417888 | BD36: 0.080497501 | BE36: 0.059735773 | BF36: 0 | BG36: 0 | BH36: 0 | BI36: 0.0014587019 | BJ36: 0.00060960675
A37: 2035 | B37: 0 | C37: 0.047081236 | D37: 0 | E37: 0.016736971 | F37: 0.09623078 | G37: 0 | H37: 0 | I37: 0.0055245612 | J37: 0.0073479385 | K37: 0.0011974418 | L37: 0.052769084 | M37: 0.019485644 | N37: 0.0037011838 | O37: 0.049231188 | P37: 0.019213498 | Q37: 0 | R37: 0.07380596 | S37: 0.12899714 | T37: 0 | U37: 0.073588243 | V37: 0 | W37: 0.010940264 | X37: 0.0002177167 | Y37: 0.045693292 | Z37: 0.0011157981 | AA37: 0.016410396 | AB37: 0.0016600898 | AC37: 0.0049258403 | AD37: 0.024057695 | AE37: 0.0020683086 | AF37: 0.0065042863 | AG37: 0 | AH37: 0.0033746088 | AI37: 0.0057150633 | AJ37: 0 | AK37: 0 | AL37: 0.0013607294 | AM37: 0.0017961627 | AN37: 0.0021227378 | AO37: 0.020220438 | AP37: 0.0089263845 | AQ37: 0.0013607294 | AR37: 0.014913594 | AS37: 0.011675058 | AT37: 0.015566744 | AU37: 0.005007484 | AV37: 0.021744455 | AW37: 0.0023676691 | AX37: 0 | AY37: 0.00068036468 | AZ37: 0 | BA37: 0 | BB37: 0 | BC37: 0.0047625527 | BD37: 0.097455436 | BE37: 0.069859845 | BF37: 0 | BG37: 0 | BH37: 0 | BI37: 0.0018233773 | BJ37: 0.00076200844
... A42: 2040 | B42: 0 | C42: 0.038209407 | D42: 0 | E42: 0.0060852986 | F42: 0.050850114 | G42: 0 | H42: 0 | I42: 0.0027161848 | J42: 0.013554807 | K42: 0 | L42: 0.04204863 | M42: 0.011700488 | N42: 0.002742302 | O42: 0.062576719 | P42: 0.0080440858 | Q42: 0 | R42: 0.036537909 | S42: 0.1132179 | T42: 0 | U42: 0.063281883 | V42: 0 | W42: 0.00094021782 | X42: 0.00015670297 | Y42: 0.055472851 | Z42: 0.00057457755 | AA42: 0.016297109 | AB42: 0.0012536238 | AC42: 0.0037608713 | AD42: 0.023009219 | AE42: 0.0012797409 | AF42: 0.0046488548 | AG42: 0 | AH42: 0.001619264 | AI42: 0.0031340594 | AJ42: 0 | AK42: 0 | AL42: 0.0010446865 | AM42: 0.00099245214 | AN42: 0.0013058581 | AO42: 0.017420147 | AP42: 0.007600094 | AQ42: 0 | AR42: 0.0096111155 | AS42: 0.005824127 | AT42: 0.023192039 | AU42: 0.0025072475 | AV42: 0.024811304 | AW42: 0.00094021782 | AX42: 0 | AY42: 0.00039175742 | AZ42: 0.00099245214 | BA42: 0 | BB42: 0 | BC42: 0.0029512393 | BD42: 0.18052182 | BE42: 0.10491264 | BF42: 0.035597691 | BG42: 0.0043876831 | BH42: 0 | BI42: 0.0085925462 | BJ42: 0.0026900676

Sheet S1.5 - N models per year
B1: 717-200 | C1: 737 Max 8 | D1: 737 Max 9 | E1: 737-700 | F1: 737-800 | G1: 747-400 | H1: 777-200 | I1: 777-300 | J1: 777-9 | K1: 787-10 | L1: 787-8 | M1: 787-9 | N1: A220-100 | O1: A220-300 | P1: A319 | Q1: A319neo | R1: A320 | S1: A320neo | T1: A321 | U1: A321neo | V1: A330-200 | W1: A330-300 | X1: A330-900neo | Y1: A350-900 | Z1: A380-800 | AA1: ATR 42 500 | AB1: ATR 42 600 | AC1: ATR 72 500 | AD1: ATR 72 600 | AE1: Beech 1900 D | AF1: C909 | AG1: CRJ200 | AH1: CRJ700 | AI1: CRJ900 | AJ1: Cessna 408 SkyCourier | AK1: DHC-6-300 | AL1: DHC-6-400 | AM1: DHC-8-100 | AN1: DHC-8-300 | AO1: DHC-8-400 (Q400) | AP1: Do 228NG | AQ1: E170 | AR1: E175 | AS1: E190 | AT1: E190 E2 | AU1: E195 | AV1: E195 E2 | AW1: ERJ-145 | AX1: Fokker 100 | AY1: Jetstream 31 | AZ1: MA60 | BA1: SA227 Metro | BB1: Saab 340 B | BC1: Superjet 100 95 | BD1: D239+M | BE1: D239+S | BF1: D300+M | BG1: D315+M | BH1: D70 FC-LH2 | BI1: DashQ8-400_neu | BJ1: Do228NG_neu | BL1: S1.8 - Stock input
A2: 2000 | B2: ='S.1.4 - % models per year'!B2*$BL2 -> 28.902652 | C2: ='S.1.4 - % models per year'!C2*$BL2 -> 0 | D2: ='S.1.4 - % models per year'!D2*$BL2 -> 0 | E2: ='S.1.4 - % models per year'!E2*$BL2 -> 165.53337 | F2: ='S.1.4 - % models per year'!F2*$BL2 -> 239.10376 | G2: ='S.1.4 - % models per year'!G2*$BL2 -> 329.0961 | H2: ='S.1.4 - % models per year'!H2*$BL2 -> 162.24898 | I2: ='S.1.4 - % models per year'!I2*$BL2 -> 15.765083 | ... BJ2: ='S.1.4 - % models per year'!BJ2*$BL2 -> 0 | BL2: 3691
A3: 2001 | B3: ='S.1.4 - % models per year'!B3*$BL3 -> 49.240502 | C3: ='S.1.4 - % models per year'!C3*$BL3 -> 0 | D3: ='S.1.4 - % models per year'!D3*$BL3 -> 0 | E3: ='S.1.4 - % models per year'!E3*$BL3 -> 184.7902 | F3: ='S.1.4 - % models per year'!F3*$BL3 -> 286.03753 | G3: ='S.1.4 - % models per year'!G3*$BL3 -> 291.57017 | H3: ='S.1.4 - % models per year'!H3*$BL3 -> 160.44658 | I3: ='S.1.4 - % models per year'!I3*$BL3 -> 13.831602 | ... BJ3: ='S.1.4 - % models per year'!BJ3*$BL3 -> 0 | BL3: 3568
A4: 2002 | B4: ='S.1.4 - % models per year'!B4*$BL4 -> 55.576075 | C4: ='S.1.4 - % models per year'!C4*$BL4 -> 0 | D4: ='S.1.4 - % models per year'!D4*$BL4 -> 0 | E4: ='S.1.4 - % models per year'!E4*$BL4 -> 207.24162 | F4: ='S.1.4 - % models per year'!F4*$BL4 -> 326.70422 | G4: ='S.1.4 - % models per year'!G4*$BL4 -> 287.74902 | H4: ='S.1.4 - % models per year'!H4*$BL4 -> 167.76703 | I4: ='S.1.4 - % models per year'!I4*$BL4 -> 15.062674 | ... BJ4: ='S.1.4 - % models per year'!BJ4*$BL4 -> 0 | BL4: 3721
A5: 2003 | B5: ='S.1.4 - % models per year'!B5*$BL5 -> 55.349929 | C5: ='S.1.4 - % models per year'!C5*$BL5 -> 0 | D5: ='S.1.4 - % models per year'!D5*$BL5 -> 0 | E5: ='S.1.4 - % models per year'!E5*$BL5 -> 230.70634 | F5: ='S.1.4 - % models per year'!F5*$BL5 -> 336.50797 | G5: ='S.1.4 - % models per year'!G5*$BL5 -> 280.1784 | H5: ='S.1.4 - % models per year'!H5*$BL5 -> 168.4989 | I5: ='S.1.4 - % models per year'!I5*$BL5 -> 18.61325 | ... BJ5: ='S.1.4 - % models per year'!BJ5*$BL5 -> 0 | BL5: 3778
A6: 2004 | B6: ='S.1.4 - % models per year'!B6*$BL6 -> 58.365178 | C6: ='S.1.4 - % models per year'!C6*$BL6 -> 0 | D6: ='S.1.4 - % models per year'!D6*$BL6 -> 0 | E6: ='S.1.4 - % models per year'!E6*$BL6 -> 268.94674 | F6: ='S.1.4 - % models per year'!F6*$BL6 -> 354.39336 | G6: ='S.1.4 - % models per year'!G6*$BL6 -> 273.14903 | H6: ='S.1.4 - % models per year'!H6*$BL6 -> 167.15787 | I6: ='S.1.4 - % models per year'!I6*$BL6 -> 21.945307 | ... BJ6: ='S.1.4 - % models per year'!BJ6*$BL6 -> 0 | BL6: 3910
A7: 2005 | B7: ='S.1.4 - % models per year'!B7*$BL7 -> 61.335421 | C7: ='S.1.4 - % models per year'!C7*$BL7 -> 0 | D7: ='S.1.4 - % models per year'!D7*$BL7 -> 0 | E7: ='S.1.4 - % models per year'!E7*$BL7 -> 296.37992 | F7: ='S.1.4 - % models per year'!F7*$BL7 -> 383.68216 | G7: ='S.1.4 - % models per year'!G7*$BL7 -> 267.72687 | H7: ='S.1.4 - % models per year'!H7*$BL7 -> 164.755 | I7: ='S.1.4 - % models per year'!I7*$BL7 -> 29.548451 | ... BJ7: ='S.1.4 - % models per year'!BJ7*$BL7 -> 0 | BL7: 4075
A8: 2006 | B8: ='S.1.4 - % models per year'!B8*$BL8 -> 60.505693 | C8: ='S.1.4 - % models per year'!C8*$BL8 -> 0 | D8: ='S.1.4 - % models per year'!D8*$BL8 -> 0 | E8: ='S.1.4 - % models per year'!E8*$BL8 -> 323.98438 | F8: ='S.1.4 - % models per year'!F8*$BL8 -> 435.98428 | G8: ='S.1.4 - % models per year'!G8*$BL8 -> 262.19133 | H8: ='S.1.4 - % models per year'!H8*$BL8 -> 164.78146 | I8: ='S.1.4 - % models per year'!I8*$BL8 -> 42.053602 | ... BJ8: ='S.1.4 - % models per year'!BJ8*$BL8 -> 0 | BL8: 4259
A9: 2007 | B9: ='S.1.4 - % models per year'!B9*$BL9 -> 59.683437 | C9: ='S.1.4 - % models per year'!C9*$BL9 -> 0 | D9: ='S.1.4 - % models per year'!D9*$BL9 -> 0 | E9: ='S.1.4 - % models per year'!E9*$BL9 -> 356.83076 | F9: ='S.1.4 - % models per year'!F9*$BL9 -> 512.17701 | G9: ='S.1.4 - % models per year'!G9*$BL9 -> 264.55424 | H9: ='S.1.4 - % models per year'!H9*$BL9 -> 173.54758 | I9: ='S.1.4 - % models per year'!I9*$BL9 -> 59.26015 | ... BJ9: ='S.1.4 - % models per year'!BJ9*$BL9 -> 0 | BL9: 4577
A10: 2008 | B10: ='S.1.4 - % models per year'!B10*$BL10 -> 54.513768 | C10: ='S.1.4 - % models per year'!C10*$BL10 -> 0 | D10: ='S.1.4 - % models per year'!D10*$BL10 -> 0 | E10: ='S.1.4 - % models per year'!E10*$BL10 -> 348.34685 | F10: ='S.1.4 - % models per year'!F10*$BL10 -> 537.40524 | G10: ='S.1.4 - % models per year'!G10*$BL10 -> 246.66514 | H10: ='S.1.4 - % models per year'!H10*$BL10 -> 161.99482 | I10: ='S.1.4 - % models per year'!I10*$BL10 -> 70.36529 | ... BJ10: ='S.1.4 - % models per year'!BJ10*$BL10 -> 0 | BL10: 4549
A11: 2009 | B11: ='S.1.4 - % models per year'!B11*$BL11 -> 49.852824 | C11: ='S.1.4 - % models per year'!C11*$BL11 -> 0 | D11: ='S.1.4 - % models per year'!D11*$BL11 -> 0 | E11: ='S.1.4 - % models per year'!E11*$BL11 -> 336.59495 | F11: ='S.1.4 - % models per year'!F11*$BL11 -> 584.79838 | G11: ='S.1.4 - % models per year'!G11*$BL11 -> 227.69659 | H11: ='S.1.4 - % models per year'!H11*$BL11 -> 157.69049 | I11: ='S.1.4 - % models per year'!I11*$BL11 -> 81.320209 | ... BJ11: ='S.1.4 - % models per year'!BJ11*$BL11 -> 0 | BL11: 4526
A12: 2010 | B12: ='S.1.4 - % models per year'!B12*$BL12 -> 46.261941 | C12: ='S.1.4 - % models per year'!C12*$BL12 -> 0 | D12: ='S.1.4 - % models per year'!D12*$BL12 -> 0 | E12: ='S.1.4 - % models per year'!E12*$BL12 -> 319.5683 | F12: ='S.1.4 - % models per year'!F12*$BL12 -> 645.69858 | G12: ='S.1.4 - % models per year'!G12*$BL12 -> 210.31138 | H12: ='S.1.4 - % models per year'!H12*$BL12 -> 156.17506 | I12: ='S.1.4 - % models per year'!I12*$BL12 -> 87.930498 | ... BJ12: ='S.1.4 - % models per year'!BJ12*$BL12 -> 0 | BL12: 4513
A13: 2011 | B13: ='S.1.4 - % models per year'!B13*$BL13 -> 43.461131 | C13: ='S.1.4 - % models per year'!C13*$BL13 -> 0 | D13: ='S.1.4 - % models per year'!D13*$BL13 -> 0 | E13: ='S.1.4 - % models per year'!E13*$BL13 -> 312.24203 | F13: ='S.1.4 - % models per year'!F13*$BL13 -> 695.06987 | G13: ='S.1.4 - % models per year'!G13*$BL13 -> 193.26333 | H13: ='S.1.4 - % models per year'!H13*$BL13 -> 152.88455 | I13: ='S.1.4 - % models per year'!I13*$BL13 -> 98.326957 | ... BJ13: ='S.1.4 - % models per year'!BJ13*$BL13 -> 0 | BL13: 4544
... A42: 2040 | B42: ='S.1.4 - % models per year'!B42*$BL42 -> 0 | C42: ='S.1.4 - % models per year'!C42*$BL42 -> 210.91593 | D42: ='S.1.4 - % models per year'!D42*$BL42 -> 0 | E42: ='S.1.4 - % models per year'!E42*$BL42 -> 33.590849 | F42: ='S.1.4 - % models per year'!F42*$BL42 -> 280.69263 | G42: ='S.1.4 - % models per year'!G42*$BL42 -> 0 | H42: ='S.1.4 - % models per year'!H42*$BL42 -> 0 | I42: ='S.1.4 - % models per year'!I42*$BL42 -> 14.99334 | ... BJ42: ='S.1.4 - % models per year'!BJ42*$BL42 -> 14.849173 | BL42: 5520

Sheet S1.6 - Ti by model per year
B1: 717-200 | C1: 737 Max 8 | D1: 737 Max 9 | E1: 737-700 | F1: 737-800 | G1: 747-400 | H1: 777-200 | I1: 777-300 | J1: 777-9 | K1: 787-10 | L1: 787-8 | M1: 787-9 | N1: A220-100 | O1: A220-300 | P1: A319 | Q1: A319neo | R1: A320 | S1: A320neo | T1: A321 | U1: A321neo | V1: A330-200 | W1: A330-300 | X1: A330-900neo | Y1: A350-900 | Z1: A380-800 | AA1: ATR 42 500 | AB1: ATR 42 600 | AC1: ATR 72 500 | AD1: ATR 72 600 | AE1: Beech 1900 D | AF1: C909 | AG1: CRJ200 | AH1: CRJ700 | AI1: CRJ900 | AJ1: Cessna 408 SkyCourier | AK1: DHC-6-300 | AL1: DHC-6-400 | AM1: DHC-8-100 | AN1: DHC-8-300 | AO1: DHC-8-400 (Q400) | AP1: Do 228NG | AQ1: E170 | AR1: E175 | AS1: E190 | AT1: E190 E2 | AU1: E195 | AV1: E195 E2 | AW1: ERJ-145 | AX1: Fokker 100 | AY1: Jetstream 31 | AZ1: MA60 | BA1: SA227 Metro | BB1: Saab 340 B | BC1: Superjet 100 95 | BD1: D239+M | BE1: D239+S | BF1: D300+M | BG1: D315+M | BH1: D70 FC-LH2 | BI1: DashQ8-400_neu | BJ1: Do228NG_neu
A2: Titanium (ton) | B2: 2.407224 | C2: 5.4082681 | D2: 5.660258 | E2: 2.6353695 | F2: 2.8918621 | G2: 9.1080815 | H2: 10.026541 | I2: 11.901128 | J2: 21.817775 | K2: 16.149558 | L2: 16.043632 | M2: 16.126288 | N2: 2.8176 | O2: 2.9664 | P2: 1.9665327 | Q2: 4.8468862 | R2: 6.1021567 | S2: 5.3576881 | T2: 3.3755285 | U2: 5.9725931 | V2: 4.0662164 | W2: 4.1800136 | X2: 14.615082 | Y2: 16.769385 | Z2: 29.723127 | AA2: 0.3375 | AB2: 0.3525 | AC2: 0.3885 | AD2: 0.408 | AE2: 0.14796 | AF2: 1.004 | AG2: 0.5534 | AH2: 0.80276 | AI2: 0.983025 | AJ2: 0.17316 | AK2: 0.10089 | AL2: 0.12884 | AM2: 0.31431 | AN2: 0.35379 | AO2: 0.53655 | AP2: 0.10137 | AQ2: 0.828 | AR2: 0.87544 | AS2: 0.9982 | AT2: 1.6495 | AU2: 1.21674 | AV2: 2.83906 | AW2: 0.50364 | AX2: 1.116 | AY2: 0.1308 | AZ2: 0.411 | BA2: 0.11805 | BB2: 0.2586 | BC2: 1.32 | BD2: 7.77002 | BE2: 5.16936 | BF2: 22.0779 | BG2: 19.610177 | BH2: 0.548 | BI2: 0.72816 | BJ2: 0.2676
A3: 2000 | B3: =B$2*'S1.5 - N models per year'!B2 -> 69.575157 | C3: =C$2*'S1.5 - N models per year'!C2 -> 0 | D3: =D$2*'S1.5 - N models per year'!D2 -> 0 | E3: =E$2*'S1.5 - N models per year'!E2 -> 436.2416 | F3: =F$2*'S1.5 - N models per year'!F2 -> 691.45508 | G3: =G$2*'S1.5 - N models per year'!G2 -> 2997.4341 | H3: =H$2*'S1.5 - N models per year'!H2 -> 1626.796 | I3: =I$2*'S1.5 - N models per year'!I2 -> 187.62227 | ... BJ3: =BJ$2*'S1.5 - N models per year'!BJ2 -> 0 | BK3: =SUM(B3:BJ3) -> 11055.52 | BL3: 11055.52
A4: 2001 | B4: =B$2*'S1.5 - N models per year'!B3 -> 118.53292 | C4: =C$2*'S1.5 - N models per year'!C3 -> 0 | D4: =D$2*'S1.5 - N models per year'!D3 -> 0 | E4: =E$2*'S1.5 - N models per year'!E3 -> 486.99046 | F4: =F$2*'S1.5 - N models per year'!F3 -> 827.18106 | G4: =G$2*'S1.5 - N models per year'!G3 -> 2655.6448 | H4: =H$2*'S1.5 - N models per year'!H3 -> 1608.7243 | I4: =I$2*'S1.5 - N models per year'!I3 -> 164.61166 | ... BJ4: =BJ$2*'S1.5 - N models per year'!BJ3 -> 0 | BK4: =SUM(B4:BJ4) -> 10774.726 | BL4: 10774.726
A5: 2002 | B5: =B$2*'S1.5 - N models per year'!B4 -> 133.78406 | C5: =C$2*'S1.5 - N models per year'!C4 -> 0 | D5: =D$2*'S1.5 - N models per year'!D4 -> 0 | E5: =E$2*'S1.5 - N models per year'!E4 -> 546.15826 | F5: =F$2*'S1.5 - N models per year'!F4 -> 944.78352 | G5: =G$2*'S1.5 - N models per year'!G4 -> 2620.8416 | H5: =H$2*'S1.5 - N models per year'!H4 -> 1682.123 | I5: =I$2*'S1.5 - N models per year'!I4 -> 179.26282 | ... BJ5: =BJ$2*'S1.5 - N models per year'!BJ4 -> 0 | BK5: =SUM(B5:BJ5) -> 11335.693 | BL5: 11335.693
A6: 2003 | B6: =B$2*'S1.5 - N models per year'!B5 -> 133.23968 | C6: =C$2*'S1.5 - N models per year'!C5 -> 0 | D6: =D$2*'S1.5 - N models per year'!D5 -> 0 | E6: =E$2*'S1.5 - N models per year'!E5 -> 607.99646 | F6: =F$2*'S1.5 - N models per year'!F5 -> 973.13464 | G6: =G$2*'S1.5 - N models per year'!G5 -> 2551.8877 | H6: =H$2*'S1.5 - N models per year'!H5 -> 1689.4611 | I6: =I$2*'S1.5 - N models per year'!I5 -> 221.51868 | ... BJ6: =BJ$2*'S1.5 - N models per year'!BJ5 -> 0 | BK6: =SUM(B6:BJ6) -> 11610.678 | BL6: 11610.678
A7: 2004 | B7: =B$2*'S1.5 - N models per year'!B6 -> 140.49806 | C7: =C$2*'S1.5 - N models per year'!C6 -> 0 | D7: =D$2*'S1.5 - N models per year'!D6 -> 0 | E7: =E$2*'S1.5 - N models per year'!E6 -> 708.77404 | F7: =F$2*'S1.5 - N models per year'!F6 -> 1024.8567 | G7: =G$2*'S1.5 - N models per year'!G6 -> 2487.8637 | H7: =H$2*'S1.5 - N models per year'!H6 -> 1676.0153 | I7: =I$2*'S1.5 - N models per year'!I6 -> 261.17391 | ... BJ7: =BJ$2*'S1.5 - N models per year'!BJ6 -> 0 | BK7: =SUM(B7:BJ7) -> 11985.696 | BL7: 11985.696
A8: 2005 | B8: =B$2*'S1.5 - N models per year'!B7 -> 147.6481 | C8: =C$2*'S1.5 - N models per year'!C7 -> 0 | D8: =D$2*'S1.5 - N models per year'!D7 -> 0 | E8: =E$2*'S1.5 - N models per year'!E7 -> 781.0706 | F8: =F$2*'S1.5 - N models per year'!F7 -> 1109.5559 | G8: =G$2*'S1.5 - N models per year'!G7 -> 2438.4782 | H8: =H$2*'S1.5 - N models per year'!H7 -> 1651.9228 | I8: =I$2*'S1.5 - N models per year'!I7 -> 351.6599 | ... BJ8: =BJ$2*'S1.5 - N models per year'!BJ7 -> 0 | BK8: =SUM(B8:BJ8) -> 12565.536 | BL8: 12565.536
A9: 2006 | B9: =B$2*'S1.5 - N models per year'!B8 -> 145.65076 | C9: =C$2*'S1.5 - N models per year'!C8 -> 0 | D9: =D$2*'S1.5 - N models per year'!D8 -> 0 | E9: =E$2*'S1.5 - N models per year'!E8 -> 853.81857 | F9: =F$2*'S1.5 - N models per year'!F8 -> 1260.8064 | G9: =G$2*'S1.5 - N models per year'!G8 -> 2388.06 | H9: =H$2*'S1.5 - N models per year'!H8 -> 1652.1881 | I9: =I$2*'S1.5 - N models per year'!I8 -> 500.4853 | ... BJ9: =BJ$2*'S1.5 - N models per year'!BJ8 -> 0 | BK9: =SUM(B9:BJ9) -> 13323.899 | BL9: 13323.899
